[general]
creator=R package 'raster'
created=2023-06-14 15:27:07
[georeference]
nrows=3191
ncols=1964
xmin=-76.1994944017473
ymin=-12.5881237757479
xmax=-75.6397544017473
ymax=-11.6946437757479
projection=+proj=longlat +datum=WGS84 +no_defs
[data]
datatype=FLT4S
byteorder=little
nbands=26
bandorder=BIL
minvalue=0:-0.198542505502701:-0.188587501645088:-0.163479998707771:-0.0752874985337257:-0.0325249992311001:-0.00389749999158084:-2065.76489257812:-195.035263061523:-1436.68273925781:-263.422271728516:-395.633422851562:-46991.20703125:-1180.67602539062:-3.22383689880371:-815.839782714844:-1.19623923301697:0.0450376011431217:-0.0150494920089841:1892.09484863281:-0.0173336416482925:-0.00806198921054602:-0.0174077469855547:-1.55240261554718:-0.0146651621907949:0
maxvalue=1:1.35801482200623:1.36795687675476:1.45562160015106:1.39699220657349:0.677670955657959:0.736253619194031:1195.2685546875:1637.17956542969:1177.00927734375:1285.17687988281:1927.26525878906:3139.74682617188:688.58837890625:2.42022466659546:644.589111328125:0.302559733390808:359.919403076172:0.0143802156671882:5864.8232421875:0.0190654844045639:0.019253658130765:0.00886853039264679:3.0930962562561:0.0141064422205091:64.2039642333984
nodatavalue=-3.4e+38
[legend]
legendtype=
values=
color=
[description]
layername=CLASS:BLUE:GREEN:RED:NIR:SWIR1:SWIR2:NDFI:ndsi:ndvi:NDWI:NDWIns:NDSInw:nbr2:VNSIR:NDMI:TCG:ASPECT:CROSC:DEM:LONGC:MAXIC:MINIC:PLANC:PROFC:SLOPE
