Workbook

Sheet raw
A1: Number | B1: Date | C1: day | D1: wetweek | E1: ID | F1: Slopeppm_s | G1: R2 | H1: Intercep | I1: CO2FLUX_micromoles | J1: Basalt | K1: Endogeics | L1: Anecics | M1: treatment | N1: time | O1: µmol/m2/s
A2: 1 | B2: 44181 | C2: =B2-[1]Blad1!$C$4 -> 6 | D2: 1 | E2: BE1 | F2: 0.1249 | I2: =F2*1.84*[1]Blad1!$C$6/[1]Blad1!$C$5/44 -> 0.62721586 | J2: 1 | K2: 1 | L2: 0 | M2: BE | N2: =B2-[1]a!$S$8 -> 5 | O2: =I2 -> 0.62721586
A3: 2 | B3: 44181 | C3: =B3-[1]Blad1!$C$4 -> 6 | D3: 1 | E3: S1 | F3: 0.0837 | I3: =F3*1.84*[1]Blad1!$C$6/[1]Blad1!$C$5/44 -> 0.42031999 | J3: 0 | K3: 0 | L3: 0 | M3: S | N3: =B3-[1]a!$S$8 -> 5 | O3: =I3 -> 0.42031999
A4: 3 | B4: 44181 | C4: =B4-[1]Blad1!$C$4 -> 6 | D4: 1 | E4: S2 | F4: 0.0943 | I4: =F4*1.84*[1]Blad1!$C$6/[1]Blad1!$C$5/44 -> 0.47355048 | J4: 0 | K4: 0 | L4: 0 | M4: S | N4: =B4-[1]a!$S$8 -> 5 | O4: =I4 -> 0.47355048
A5: 4 | B5: 44181 | C5: =B5-[1]Blad1!$C$4 -> 6 | D5: 1 | E5: BA3 | F5: 0.0683 | I5: =F5*1.84*[1]Blad1!$C$6/[1]Blad1!$C$5/44 -> 0.34298513 | J5: 1 | K5: 0 | L5: 1 | M5: BA | N5: =B5-[1]a!$S$8 -> 5 | O5: =I5 -> 0.34298513
A6: 5 | B6: 44181 | C6: =B6-[1]Blad1!$C$4 -> 6 | D6: 1 | E6: S3 | F6: 0.0268 | I6: =F6*1.84*[1]Blad1!$C$6/[1]Blad1!$C$5/44 -> 0.13458275 | J6: 0 | K6: 0 | L6: 0 | M6: S | N6: =B6-[1]a!$S$8 -> 5 | O6: =I6 -> 0.13458275
A7: 6 | B7: 44181 | C7: =B7-[1]Blad1!$C$4 -> 6 | D7: 1 | E7: BA4 | F7: 0.0259 | I7: =F7*1.84*[1]Blad1!$C$6/[1]Blad1!$C$5/44 -> 0.13006318 | J7: 1 | K7: 0 | L7: 1 | M7: BA | N7: =B7-[1]a!$S$8 -> 5 | O7: =I7 -> 0.13006318
A8: 7 | B8: 44181 | C8: =B8-[1]Blad1!$C$4 -> 6 | D8: 1 | E8: B3 | F8: 0.0277 | I8: =F8*1.84*[1]Blad1!$C$6/[1]Blad1!$C$5/44 -> 0.13910232 | J8: 1 | K8: 0 | L8: 0 | M8: B | N8: =B8-[1]a!$S$8 -> 5 | O8: =I8 -> 0.13910232
A9: 8 | B9: 44181 | C9: =B9-[1]Blad1!$C$4 -> 6 | D9: 1 | E9: BA1 | F9: 0.0713 | I9: =F9*1.84*[1]Blad1!$C$6/[1]Blad1!$C$5/44 -> 0.35805037 | J9: 1 | K9: 0 | L9: 1 | M9: BA | N9: =B9-[1]a!$S$8 -> 5 | O9: =I9 -> 0.35805037
A10: 9 | B10: 44181 | C10: =B10-[1]Blad1!$C$4 -> 6 | D10: 1 | E10: B2 | F10: 0.025 | I10: =F10*1.84*[1]Blad1!$C$6/[1]Blad1!$C$5/44 -> 0.12554361 | J10: 1 | K10: 0 | L10: 0 | M10: B | N10: =B10-[1]a!$S$8 -> 5 | O10: =I10 -> 0.12554361
A11: 10 | B11: 44181 | C11: =B11-[1]Blad1!$C$4 -> 6 | D11: 1 | E11: B5 | F11: 0.0395 | I11: =F11*1.84*[1]Blad1!$C$6/[1]Blad1!$C$5/44 -> 0.1983589 | J11: 1 | K11: 0 | L11: 0 | M11: B | N11: =B11-[1]a!$S$8 -> 5 | O11: =I11 -> 0.1983589
A12: 11 | B12: 44181 | C12: =B12-[1]Blad1!$C$4 -> 6 | D12: 1 | E12: BE2 | F12: 0.1101 | I12: =F12*1.84*[1]Blad1!$C$6/[1]Blad1!$C$5/44 -> 0.55289404 | J12: 1 | K12: 1 | L12: 0 | M12: BE | N12: =B12-[1]a!$S$8 -> 5 | O12: =I12 -> 0.55289404
A13: 12 | B13: 44181 | C13: =B13-[1]Blad1!$C$4 -> 6 | D13: 1 | E13: BEA4 | F13: 0.0168 | I13: =F13*1.84*[1]Blad1!$C$6/[1]Blad1!$C$5/44 -> 0.084365303 | J13: 1 | K13: 1 | L13: 1 | M13: BEA | N13: =B13-[1]a!$S$8 -> 5 | O13: =I13 -> 0.084365303
... A29: 28 | B29: 44181 | C29: =B29-[1]Blad1!$C$4 -> 6 | D29: 1 | E29: B1 | F29: -0.007 | I29: =F29*1.84*[1]Blad1!$C$6/[1]Blad1!$C$5/44 -> -0.03515221 | J29: 1 | K29: 0 | L29: 0 | M29: B | N29: =B29-[1]a!$S$8 -> 5 | O29: =I29 -> -0.03515221
A30: 1 | B30: 44216 | C30: =B30-[1]Blad1!$C$4 -> 41 | D30: 1 | E30: BE1 | F30: 0.2105 | G30: 0.9959 | H30: 505.7 | I30: =F30*1.84*[1]Blad1!$C$6/[1]Blad1!$C$5/44 -> 1.0570772 | J30: 1 | K30: 1 | L30: 0 | M30: BE | N30: =B30-[1]a!$S$8 -> 40 | O30: =I30 -> 1.0570772
A31: 2 | B31: 44216 | C31: =B31-[1]Blad1!$C$4 -> 41 | D31: 1 | E31: S1 | F31: 0.1636 | G31: 0.9902 | H31: 521.69 | I31: =F31*1.84*[1]Blad1!$C$6/[1]Blad1!$C$5/44 -> 0.82155736 | J31: 0 | K31: 0 | L31: 0 | M31: S | N31: =B31-[1]a!$S$8 -> 40 | O31: =I31 -> 0.82155736
A32: 7 | B32: 44216 | C32: =B32-[1]Blad1!$C$4 -> 41 | D32: 1 | E32: BA1 | F32: 0.1015 | G32: 0.9641 | H32: 524.96 | I32: =F32*1.84*[1]Blad1!$C$6/[1]Blad1!$C$5/44 -> 0.50970704 | J32: 1 | K32: 0 | L32: 1 | M32: BA | N32: =B32-[1]a!$S$8 -> 40 | O32: =I32 -> 0.50970704
A33: 8 | B33: 44216 | C33: =B33-[1]Blad1!$C$4 -> 41 | D33: 1 | E33: B2 | F33: 0.0648 | G33: 0.8914 | H33: 536.3 | I33: =F33*1.84*[1]Blad1!$C$6/[1]Blad1!$C$5/44 -> 0.32540903 | J33: 1 | K33: 0 | L33: 0 | M33: B | N33: =B33-[1]a!$S$8 -> 40 | O33: =I33 -> 0.32540903
A34: 9 | B34: 44216 | C34: =B34-[1]Blad1!$C$4 -> 41 | D34: 1 | E34: BE2 | F34: 0.2761 | G34: 0.9881 | H34: 556.85 | I34: =F34*1.84*[1]Blad1!$C$6/[1]Blad1!$C$5/44 -> 1.3865036 | J34: 1 | K34: 1 | L34: 0 | M34: BE | N34: =B34-[1]a!$S$8 -> 40 | O34: =I34 -> 1.3865036
A35: 32 | B35: 44216 | C35: =B35-[1]Blad1!$C$4 -> 41 | D35: 1 | E35: BEA4 | F35: 0.0794 | I35: =F35*1.84*[1]Blad1!$C$6/[1]Blad1!$C$5/44 -> 0.39872649 | J35: 1 | K35: 1 | L35: 1 | M35: BEA | N35: =B35-[1]a!$S$8 -> 40 | O35: =I35 -> 0.39872649
A36: 10 | B36: 44216 | C36: =B36-[1]Blad1!$C$4 -> 41 | D36: 1 | E36: SEA3 | F36: 0.4328 | I36: =F36*1.84*[1]Blad1!$C$6/[1]Blad1!$C$5/44 -> 2.1734109 | J36: 0 | K36: 1 | L36: 1 | M36: SEA | N36: =B36-[1]a!$S$8 -> 40 | O36: =I36 -> 2.1734109
A37: 11 | B37: 44216 | C37: =B37-[1]Blad1!$C$4 -> 41 | D37: 1 | E37: BE4 | F37: 0.2353 | I37: =F37*1.84*[1]Blad1!$C$6/[1]Blad1!$C$5/44 -> 1.1816164 | J37: 1 | K37: 1 | L37: 0 | M37: BE | N37: =B37-[1]a!$S$8 -> 40 | O37: =I37 -> 1.1816164
A38: 12 | B38: 44216 | C38: =B38-[1]Blad1!$C$4 -> 41 | D38: 1 | E38: BEA2 | F38: 0.1167 | I38: =F38*1.84*[1]Blad1!$C$6/[1]Blad1!$C$5/44 -> 0.58603755 | J38: 1 | K38: 1 | L38: 1 | M38: BEA | N38: =B38-[1]a!$S$8 -> 40 | O38: =I38 -> 0.58603755
A39: 13 | B39: 44216 | C39: =B39-[1]Blad1!$C$4 -> 41 | D39: 1 | E39: BEA1 | F39: 0.1561 | I39: =F39*1.84*[1]Blad1!$C$6/[1]Blad1!$C$5/44 -> 0.78389428 | J39: 1 | K39: 1 | L39: 1 | M39: BEA | N39: =B39-[1]a!$S$8 -> 40 | O39: =I39 -> 0.78389428
A40: 14 | B40: 44216 | C40: =B40-[1]Blad1!$C$4 -> 41 | D40: 1 | E40: BA5 | F40: 0.2158 | I40: =F40*1.84*[1]Blad1!$C$6/[1]Blad1!$C$5/44 -> 1.0836924 | J40: 1 | K40: 0 | L40: 1 | M40: BA | N40: =B40-[1]a!$S$8 -> 40 | O40: =I40 -> 1.0836924
A41: 15 | B41: 44216 | C41: =B41-[1]Blad1!$C$4 -> 41 | D41: 1 | E41: BEA5 | F41: 0.347 | I41: =F41*1.84*[1]Blad1!$C$6/[1]Blad1!$C$5/44 -> 1.7425453 | J41: 1 | K41: 1 | L41: 1 | M41: BEA | N41: =B41-[1]a!$S$8 -> 40 | O41: =I41 -> 1.7425453
A42: 16 | B42: 44216 | C42: =B42-[1]Blad1!$C$4 -> 41 | D42: 1 | E42: S4 | F42: 0.2917 | I42: =F42*1.84*[1]Blad1!$C$6/[1]Blad1!$C$5/44 -> 1.4648428 | J42: 0 | K42: 0 | L42: 0 | M42: S | N42: =B42-[1]a!$S$8 -> 40 | O42: =I42 -> 1.4648428
A43: 17 | B43: 44216 | C43: =B43-[1]Blad1!$C$4 -> 41 | D43: 1 | E43: SEA4 | F43: 0.4876 | I43: =F43*1.84*[1]Blad1!$C$6/[1]Blad1!$C$5/44 -> 2.4486025 | J43: 0 | K43: 1 | L43: 1 | M43: SEA | N43: =B43-[1]a!$S$8 -> 40 | O43: =I43 -> 2.4486025
A44: 18 | B44: 44216 | C44: =B44-[1]Blad1!$C$4 -> 41 | D44: 1 | E44: SEA1 | F44: 0.3436 | I44: =F44*1.84*[1]Blad1!$C$6/[1]Blad1!$C$5/44 -> 1.7254713 | J44: 0 | K44: 1 | L44: 1 | M44: SEA | N44: =B44-[1]a!$S$8 -> 40 | O44: =I44 -> 1.7254713
A45: 19 | B45: 44216 | C45: =B45-[1]Blad1!$C$4 -> 41 | D45: 1 | E45: SEA2 | F45: 0.2323 | I45: =F45*1.84*[1]Blad1!$C$6/[1]Blad1!$C$5/44 -> 1.1665512 | J45: 0 | K45: 1 | L45: 1 | M45: SEA | N45: =B45-[1]a!$S$8 -> 40 | O45: =I45 -> 1.1665512
A46: 20 | B46: 44216 | C46: =B46-[1]Blad1!$C$4 -> 41 | D46: 1 | E46: BA2 | F46: 0.2563 | I46: =F46*1.84*[1]Blad1!$C$6/[1]Blad1!$C$5/44 -> 1.2870731 | J46: 1 | K46: 0 | L46: 1 | M46: BA | N46: =B46-[1]a!$S$8 -> 40 | O46: =I46 -> 1.2870731
... A141: 28 | B141: 44236 | C141: =B141-[1]Blad1!$C$4 -> 61 | D141: 1 | E141: B1 | F141: 0.13333333 | I141: =F141*1.84*[1]Blad1!$C$6/[1]Blad1!$C$5/44 -> 0.6695659 | J141: 1 | K141: 0 | L141: 0 | M141: B | N141: =B141-[1]a!$S$8 -> 60 | O141: =I141 -> 0.6695659
A142: 1 | B142: 44244 | C142: =B142-[1]Blad1!$C$4 -> 69 | D142: 0 | E142: BE1 | J142: 1 | K142: 1 | L142: 0 | M142: BE | N142: =B142-[1]a!$S$8 -> 68 | O142: =I142 -> 0
A143: 2 | B143: 44244 | C143: =B143-[1]Blad1!$C$4 -> 69 | D143: 0 | E143: S1 | F143: 0.21666667 | I143: =F143*1.98*[1]Blad1!$C$6/[1]Blad1!$C$5/44 -> 1.1708306 | J143: 0 | K143: 0 | L143: 0 | M143: S | N143: =B143-[1]a!$S$8 -> 68 | O143: =I143 -> 1.1708306
A144: 3 | B144: 44244 | C144: =B144-[1]Blad1!$C$4 -> 69 | D144: 0 | E144: S2 | F144: 0.4 | I144: =F144*1.98*[1]Blad1!$C$6/[1]Blad1!$C$5/44 -> 2.1615334 | J144: 0 | K144: 0 | L144: 0 | M144: S | N144: =B144-[1]a!$S$8 -> 68 | O144: =I144 -> 2.1615334
A145: 4 | B145: 44244 | C145: =B145-[1]Blad1!$C$4 -> 69 | D145: 0 | E145: BA3 | F145: 0.14166667 | I145: =F145*1.98*[1]Blad1!$C$6/[1]Blad1!$C$5/44 -> 0.76554308 | J145: 1 | K145: 0 | L145: 1 | M145: BA | N145: =B145-[1]a!$S$8 -> 68 | O145: =I145 -> 0.76554308
A146: 5 | B146: 44244 | C146: =B146-[1]Blad1!$C$4 -> 69 | D146: 0 | E146: S3 | F146: 0.091666667 | I146: =F146*1.98*[1]Blad1!$C$6/[1]Blad1!$C$5/44 -> 0.4953514 | J146: 0 | K146: 0 | L146: 0 | M146: S | N146: =B146-[1]a!$S$8 -> 68 | O146: =I146 -> 0.4953514
A147: 6 | B147: 44244 | C147: =B147-[1]Blad1!$C$4 -> 69 | D147: 0 | E147: BA4 | F147: 0.0083333333 | I147: =F147*1.98*[1]Blad1!$C$6/[1]Blad1!$C$5/44 -> 0.045031946 | J147: 1 | K147: 0 | L147: 1 | M147: BA | N147: =B147-[1]a!$S$8 -> 68 | O147: =I147 -> 0.045031946
A148: 7 | B148: 44244 | C148: =B148-[1]Blad1!$C$4 -> 69 | D148: 0 | E148: B3 | F148: 0.066666667 | I148: =F148*1.98*[1]Blad1!$C$6/[1]Blad1!$C$5/44 -> 0.36025557 | J148: 1 | K148: 0 | L148: 0 | M148: B | N148: =B148-[1]a!$S$8 -> 68 | O148: =I148 -> 0.36025557
A149: 8 | B149: 44244 | C149: =B149-[1]Blad1!$C$4 -> 69 | D149: 0 | E149: BA1 | F149: 0.15 | I149: =F149*1.98*[1]Blad1!$C$6/[1]Blad1!$C$5/44 -> 0.81057502 | J149: 1 | K149: 0 | L149: 1 | M149: BA | N149: =B149-[1]a!$S$8 -> 68 | O149: =I149 -> 0.81057502
...

Sheet CO2cumul
A1: day | B1: ID | C1: CO2FLUX_micromoles | D1: AverageCO2_µmolCO2_m2_s_intime_interval | E1: µmolCO2_m2 | F1: Cumulative µmolCO2/m2 | G1: cumulgCO2_m2 | H1: TonCO2_ha | I1: treatment | J1: cumulTonCO2_ha_131d | K1: AverageCO2_µmolCO2_m2_s_intime_interval_rightCO2density1_84_16graden | L1: tussenstap | M1: densitycorrection1.84Vsearlier | N1: Basalt | O1: Anecic | P1: endogeic
A2: 6 | B2: B1 | C2: -0.037826834 | D2: =C2 -> -0.037826834 | E2: =K2*(A2)*(24*3600) -> -18222.906 | F2: =E2 -> -18222.906 | G2: =F2*44/10^(6) -> -0.80180784 | H2: =G2*10000/1000/1000 -> -0.0080180784 | I2: B | K2: =D2/$M$2 -> -0.03515221 | L2: -0.03515221 | M2: =C2/L2 -> 1.076087 | N2: 1 | O2: 0 | P2: 0
A3: 41 | B3: B1 | C3: 0.23290522 | D3: =AVERAGE(C2:C3) -> 0.097539195 | E3: =K3*(A3-A2)*(24*3600) -> 274102.87 | F3: =E3+F2 -> 255879.97 | G3: =F3*44/10^(6) -> 11.258718 | H3: =G3*10000/1000/1000 -> 0.11258718 | I3: B | K3: =D3/$M$2 -> 0.090642484 | N3: =N2 -> 1 | O3: =O2 -> 0 | P3: =P2 -> 0
A4: 49 | B4: B1 | C4: 0.80463081 | D4: =AVERAGE(C3:C4) -> 0.51876802 | E4: =K4*(A4-A3)*(24*3600) -> 333218.84 | F4: =E4+F3 -> 589098.81 | G4: =F4*44/10^(6) -> 25.920348 | H4: =G4*10000/1000/1000 -> 0.25920348 | I4: B | K4: =D4/$M$2 -> 0.48208745 | N4: =N3 -> 1 | O4: =O3 -> 0 | P4: =P3 -> 0
A5: 56 | B5: B1 | C5: 0.72051113 | D5: =AVERAGE(C4:C5) -> 0.76257097 | E5: =K5*(A5-A4)*(24*3600) -> 428592.61 | F5: =E5+F4 -> 1017691.4 | G5: =F5*44/10^(6) -> 44.778423 | H5: =G5*10000/1000/1000 -> 0.44778423 | I5: B | K5: =D5/$M$2 -> 0.70865181 | N5: =N4 -> 1 | O5: =O4 -> 0 | P5: =P4 -> 0
A6: 61 | B6: B1 | C6: 0.72051113 | D6: =AVERAGE(C5:C6) -> 0.72051113 | E6: =K6*(A6-A5)*(24*3600) -> 289252.47 | F6: =E6+F5 -> 1306943.9 | G6: =F6*44/10^(6) -> 57.505531 | H6: =G6*10000/1000/1000 -> 0.57505531 | I6: B | K6: =D6/$M$2 -> 0.6695659 | N6: =N5 -> 1 | O6: =O5 -> 0 | P6: =P5 -> 0
A7: 69 | B7: B1 | C7: 0.45031946 | D7: =AVERAGE(C6:C7) -> 0.58541529 | E7: =K7*(A7-A6)*(24*3600) -> 376028.21 | F7: =E7+F6 -> 1682972.1 | G7: =F7*44/10^(6) -> 74.050773 | H7: =G7*10000/1000/1000 -> 0.74050773 | I7: B | K7: =D7/$M$2 -> 0.54402229 | N7: =N6 -> 1 | O7: =O6 -> 0 | P7: =P6 -> 0
A8: 75 | B8: B1 | C8: 0.40528751 | D8: =AVERAGE(C7:C8) -> 0.42780348 | E8: =K8*(A8-A7)*(24*3600) -> 206092.38 | F8: =E8+F7 -> 1889064.5 | G8: =F8*44/10^(6) -> 83.118837 | H8: =G8*10000/1000/1000 -> 0.83118837 | I8: B | K8: =D8/$M$2 -> 0.39755475 | N8: =N7 -> 1 | O8: =O7 -> 0 | P8: =P7 -> 0
A9: 82 | B9: B1 | C9: 0.18012778 | D9: =AVERAGE(C8:C9) -> 0.29270765 | E9: =K9*(A9-A8)*(24*3600) -> 164512.34 | F9: =E9+F8 -> 2053576.8 | G9: =F9*44/10^(6) -> 90.35738 | H9: =G9*10000/1000/1000 -> 0.9035738 | I9: B | K9: =D9/$M$2 -> 0.27201115 | N9: =N8 -> 1 | O9: =O8 -> 0 | P9: =P8 -> 0
A10: 92 | B10: B1 | C10: 0.67547919 | D10: =AVERAGE(C9:C10) -> 0.42780348 | E10: =K10*(A10-A9)*(24*3600) -> 343487.31 | F10: =E10+F9 -> 2397064.1 | G10: =F10*44/10^(6) -> 105.47082 | H10: =G10*10000/1000/1000 -> 1.0547082 | I10: B | K10: =D10/$M$2 -> 0.39755475 | N10: =N9 -> 1 | O10: =O9 -> 0 | P10: =P9 -> 0
A11: 95 | B11: B1 | C11: 0.4953514 | D11: =AVERAGE(C10:C11) -> 0.58541529 | E11: =K11*(A11-A10)*(24*3600) -> 141010.58 | F11: =E11+F10 -> 2538074.7 | G11: =F11*44/10^(6) -> 111.67529 | H11: =G11*10000/1000/1000 -> 1.1167529 | I11: B | K11: =D11/$M$2 -> 0.54402229 | N11: =N10 -> 1 | O11: =O10 -> 0 | P11: =P10 -> 0
A12: 103 | B12: B1 | C12: 0.090063892 | D12: =AVERAGE(C11:C12) -> 0.29270765 | E12: =K12*(A12-A11)*(24*3600) -> 188014.1 | F12: =E12+F11 -> 2726088.8 | G12: =F12*44/10^(6) -> 119.94791 | H12: =G12*10000/1000/1000 -> 1.1994791 | I12: B | K12: =D12/$M$2 -> 0.27201115 | N12: =N11 -> 1 | O12: =O11 -> 0 | P12: =P11 -> 0
A13: 113 | B13: B1 | C13: 0.54038335 | D13: =AVERAGE(C12:C13) -> 0.31522362 | E13: =K13*(A13-A12)*(24*3600) -> 253095.91 | F13: =E13+F12 -> 2979184.7 | G13: =F13*44/10^(6) -> 131.08413 | H13: =G13*10000/1000/1000 -> 1.3108413 | I13: B | K13: =D13/$M$2 -> 0.29293508 | N13: =N12 -> 1 | O13: =O12 -> 0 | P13: =P12 -> 0
A14: 119 | B14: B1 | C14: 0.4953514 | D14: =AVERAGE(C13:C14) -> 0.51786738 | E14: =K14*(A14-A13)*(24*3600) -> 249480.25 | F14: =E14+F13 -> 3228665 | G14: =F14*44/10^(6) -> 142.06126 | H14: =G14*10000/1000/1000 -> 1.4206126 | I14: B | K14: =D14/$M$2 -> 0.48125049 | N14: =N13 -> 1 | O14: =O13 -> 0 | P14: =P13 -> 0
... A16: 131 | B16: B1 | C16: 0.72051113 | D16: =AVERAGE(C15:C16) -> 0.38277154 | E16: =K16*(A16-A15)*(24*3600) -> 122932.3 | F16: =E16+F15 -> 3525148.8 | G16: =F16*44/10^(6) -> 155.10655 | H16: =G16*10000/1000/1000 -> 1.5510655 | I16: B | K16: =D16/$M$2 -> 0.35570688 | N16: =N15 -> 1 | O16: =O15 -> 0 | P16: =P15 -> 0
A17: 6 | B17: B2 | C17: 0.13509584 | D17: =C17 -> 0.13509584 | E17: =K17*(A17)*(24*3600) -> 65081.806 | F17: =E17 -> 65081.806 | G17: =F17*44/10^(6) -> 2.8635994 | H17: =G17*10000/1000/1000 -> 0.028635994 | I17: B | K17: =D17/$M$2 -> 0.12554361 | N17: =N16 -> 1 | O17: =O16 -> 0 | P17: =P16 -> 0
A18: 41 | B18: B2 | C18: 0.35016841 | D18: =AVERAGE(C17:C18) -> 0.24263212 | E18: =K18*(A18-A17)*(24*3600) -> 681840.38 | F18: =E18+F17 -> 746922.19 | G18: =F18*44/10^(6) -> 32.864576 | H18: =G18*10000/1000/1000 -> 0.32864576 | I18: B | K18: =D18/$M$2 -> 0.22547632 | N18: =N17 -> 1 | O18: =O17 -> 0 | P18: =P17 -> 0
A19: 49 | B19: B2 | C19: 1.3012431 | D19: =AVERAGE(C18:C19) -> 0.82570576 | E19: =K19*(A19-A18)*(24*3600) -> 530373.33 | F19: =E19+F18 -> 1277295.5 | G19: =F19*44/10^(6) -> 56.201003 | H19: =G19*10000/1000/1000 -> 0.56201003 | I19: B | K19: =D19/$M$2 -> 0.76732252 | N19: =N18 -> 1 | O19: =O18 -> 0 | P19: =P18 -> 0
A20: 56 | B20: B2 | C20: 1.7112139 | D20: =AVERAGE(C19:C20) -> 1.5062285 | E20: =K20*(A20-A19)*(24*3600) -> 846555.2 | F20: =E20+F19 -> 2123850.7 | G20: =F20*44/10^(6) -> 93.449432 | H20: =G20*10000/1000/1000 -> 0.93449432 | I20: B | K20: =D20/$M$2 -> 1.3997275 | N20: =N19 -> 1 | O20: =O19 -> 0 | P20: =P19 -> 0
A21: 61 | B21: B2 | C21: 1.7112139 | D21: =AVERAGE(C20:C21) -> 1.7112139 | E21: =K21*(A21-A20)*(24*3600) -> 686974.61 | F21: =E21+F20 -> 2810825.3 | G21: =F21*44/10^(6) -> 123.67631 | H21: =G21*10000/1000/1000 -> 1.2367631 | I21: B | K21: =D21/$M$2 -> 1.590219 | N21: =N20 -> 1 | O21: =O20 -> 0 | P21: =P20 -> 0
A22: 69 | B22: B2 | C22: 0.54038335 | D22: =AVERAGE(C21:C22) -> 1.1257986 | E22: =K22*(A22-A21)*(24*3600) -> 723131.17 | F22: =E22+F21 -> 3533956.5 | G22: =F22*44/10^(6) -> 155.49409 | H22: =G22*10000/1000/1000 -> 1.5549409 | I22: B | K22: =D22/$M$2 -> 1.0461967 | N22: =N21 -> 1 | O22: =O21 -> 0 | P22: =P21 -> 0
A23: 75 | B23: B2 | C23: 0.72051113 | D23: =AVERAGE(C22:C23) -> 0.63044724 | E23: =K23*(A23-A22)*(24*3600) -> 303715.09 | F23: =E23+F22 -> 3837671.6 | G23: =F23*44/10^(6) -> 168.85755 | H23: =G23*10000/1000/1000 -> 1.6885755 | I23: B | K23: =D23/$M$2 -> 0.58587016 | N23: =N22 -> 1 | O23: =O22 -> 0 | P23: =P22 -> 0
A24: 82 | B24: B2 | C24: 0.67547919 | D24: =AVERAGE(C23:C24) -> 0.69799516 | E24: =K24*(A24-A23)*(24*3600) -> 392298.66 | F24: =E24+F23 -> 4229970.3 | G24: =F24*44/10^(6) -> 186.11869 | H24: =G24*10000/1000/1000 -> 1.8611869 | I24: B | K24: =D24/$M$2 -> 0.64864197 | N24: =N23 -> 1 | O24: =O23 -> 0 | P24: =P23 -> 0
A25: 92 | B25: B2 | C25: 1.1708306 | D25: =AVERAGE(C24:C25) -> 0.92315489 | E25: =K25*(A25-A24)*(24*3600) -> 741209.45 | F25: =E25+F24 -> 4971179.7 | G25: =F25*44/10^(6) -> 218.73191 | H25: =G25*10000/1000/1000 -> 2.1873191 | I25: B | K25: =D25/$M$2 -> 0.85788131 | N25: =N24 -> 1 | O25: =O24 -> 0 | P25: =P24 -> 0
A26: 95 | B26: B2 | C26: 1.2158625 | D26: =AVERAGE(C25:C26) -> 1.1933466 | E26: =K26*(A26-A25)*(24*3600) -> 287444.64 | F26: =E26+F25 -> 5258624.4 | G26: =F26*44/10^(6) -> 231.37947 | H26: =G26*10000/1000/1000 -> 2.3137947 | I26: B | K26: =D26/$M$2 -> 1.1089685 | N26: =N25 -> 1 | O26: =O25 -> 0 | P26: =P25 -> 0
A27: 103 | B27: B2 | C27: 0.36025557 | D27: =AVERAGE(C26:C27) -> 0.78805905 | E27: =K27*(A27-A26)*(24*3600) -> 506191.82 | F27: =E27+F26 -> 5764816.2 | G27: =F27*44/10^(6) -> 253.65191 | H27: =G27*10000/1000/1000 -> 2.5365191 | I27: B | K27: =D27/$M$2 -> 0.7323377 | N27: =N26 -> 1 | O27: =O26 -> 0 | P27: =P26 -> 0
A28: 113 | B28: B2 | C28: 0.81057502 | D28: =AVERAGE(C27:C28) -> 0.58541529 | E28: =K28*(A28-A27)*(24*3600) -> 470035.26 | F28: =E28+F27 -> 6234851.4 | G28: =F28*44/10^(6) -> 274.33346 | H28: =G28*10000/1000/1000 -> 2.7433346 | I28: B | K28: =D28/$M$2 -> 0.54402229 | N28: =N27 -> 1 | O28: =O27 -> 0 | P28: =P27 -> 0
A29: 119 | B29: B2 | C29: 1.1257986 | D29: =AVERAGE(C28:C29) -> 0.96818683 | E29: =K29*(A29-A28)*(24*3600) -> 466419.61 | F29: =E29+F28 -> 6701271 | G29: =F29*44/10^(6) -> 294.85593 | H29: =G29*10000/1000/1000 -> 2.9485593 | I29: B | K29: =D29/$M$2 -> 0.89972918 | N29: =N28 -> 1 | O29: =O28 -> 0 | P29: =P28 -> 0
A30: 127 | B30: B2 | C30: 0.67547919 | D30: =AVERAGE(C29:C30) -> 0.90063892 | E30: =K30*(A30-A29)*(24*3600) -> 578504.94 | F30: =E30+F29 -> 7279776 | G30: =F30*44/10^(6) -> 320.31014 | H30: =G30*10000/1000/1000 -> 3.2031014 | I30: B | K30: =D30/$M$2 -> 0.83695738 | N30: =N29 -> 1 | O30: =O29 -> 0 | P30: =P29 -> 0
A31: 131 | B31: B2 | C31: 1.5310862 | D31: =AVERAGE(C30:C31) -> 1.1032827 | E31: =K31*(A31-A30)*(24*3600) -> 354334.27 | F31: =E31+F30 -> 7634110.3 | G31: =F31*44/10^(6) -> 335.90085 | H31: =G31*10000/1000/1000 -> 3.3590085 | I31: B | J31: =H31 -> 3.3590085 | K31: =D31/$M$2 -> 1.0252728 | N31: =N30 -> 1 | O31: =O30 -> 0 | P31: =P30 -> 0
A32: 6 | B32: B3 | C32: 0.14968619 | D32: =C32 -> 0.14968619 | E32: =K32*(A32)*(24*3600) -> 72110.641 | F32: =E32 -> 72110.641 | G32: =F32*44/10^(6) -> 3.1728682 | H32: =G32*10000/1000/1000 -> 0.031728682 | I32: B | K32: =D32/$M$2 -> 0.13910232 | N32: =N31 -> 1 | O32: =O31 -> 0 | P32: =P31 -> 0
A33: 41 | B33: B3 | C33: 0.27127244 | D33: =AVERAGE(C32:C33) -> 0.21047931 | E33: =K33*(A33-A32)*(24*3600) -> 591485.14 | F33: =E33+F32 -> 663595.78 | G33: =F33*44/10^(6) -> 29.198214 | H33: =G33*10000/1000/1000 -> 0.29198214 | I33: B | K33: =D33/$M$2 -> 0.19559694 | N33: =N32 -> 1 | O33: =O32 -> 0 | P33: =P32 -> 0
A34: 49 | B34: B3 | C34: 0.5873967 | D34: =AVERAGE(C33:C34) -> 0.42933457 | E34: =K34*(A34-A33)*(24*3600) -> 275773.3 | F34: =E34+F33 -> 939369.09 | G34: =F34*44/10^(6) -> 41.33224 | H34: =G34*10000/1000/1000 -> 0.4133224 | I34: B | K34: =D34/$M$2 -> 0.39897758 | N34: =N33 -> 1 | O34: =O33 -> 0 | P34: =P33 -> 0
A35: 56 | B35: B3 | C35: 1.0357348 | D35: =AVERAGE(C34:C35) -> 0.81156573 | E35: =K35*(A35-A34)*(24*3600) -> 456129.45 | F35: =E35+F34 -> 1395498.5 | G35: =F35*44/10^(6) -> 61.401936 | H35: =G35*10000/1000/1000 -> 0.61401936 | I35: B | K35: =D35/$M$2 -> 0.75418229 | N35: =N34 -> 1 | O35: =O34 -> 0 | P35: =P34 -> 0
A36: 61 | B36: B3 | C36: 1.0357348 | D36: =AVERAGE(C35:C36) -> 1.0357348 | E36: =K36*(A36-A35)*(24*3600) -> 415800.42 | F36: =E36+F35 -> 1811299 | G36: =F36*44/10^(6) -> 79.697154 | H36: =G36*10000/1000/1000 -> 0.79697154 | I36: B | K36: =D36/$M$2 -> 0.96250098 | N36: =N35 -> 1 | O36: =O35 -> 0 | P36: =P35 -> 0
A37: 69 | B37: B3 | C37: 0.36025557 | D37: =AVERAGE(C36:C37) -> 0.69799516 | E37: =K37*(A37-A36)*(24*3600) -> 448341.33 | F37: =E37+F36 -> 2259640.3 | G37: =F37*44/10^(6) -> 99.424173 | H37: =G37*10000/1000/1000 -> 0.99424173 | I37: B | K37: =D37/$M$2 -> 0.64864197 | N37: =N36 -> 1 | O37: =O36 -> 0 | P37: =P36 -> 0
A38: 75 | B38: B3 | C38: 0.31522362 | D38: =AVERAGE(C37:C38) -> 0.33773959 | E38: =K38*(A38-A37)*(24*3600) -> 162704.51 | F38: =E38+F37 -> 2422344.8 | G38: =F38*44/10^(6) -> 106.58317 | H38: =G38*10000/1000/1000 -> 1.0658317 | I38: B | K38: =D38/$M$2 -> 0.31385902 | N38: =N37 -> 1 | O38: =O37 -> 0 | P38: =P37 -> 0
A39: 82 | B39: B3 | C39: 0.63044724 | D39: =AVERAGE(C38:C39) -> 0.47283543 | E39: =K39*(A39-A38)*(24*3600) -> 265750.71 | F39: =E39+F38 -> 2688095.5 | G39: =F39*44/10^(6) -> 118.2762 | H39: =G39*10000/1000/1000 -> 1.182762 | I39: B | K39: =D39/$M$2 -> 0.43940262 | N39: =N38 -> 1 | O39: =O38 -> 0 | P39: =P38 -> 0
A40: 92 | B40: B3 | C40: 0.36025557 | D40: =AVERAGE(C39:C40) -> 0.4953514 | E40: =K40*(A40-A39)*(24*3600) -> 397722.14 | F40: =E40+F39 -> 3085817.7 | G40: =F40*44/10^(6) -> 135.77598 | H40: =G40*10000/1000/1000 -> 1.3577598 | I40: B | K40: =D40/$M$2 -> 0.46032656 | N40: =N39 -> 1 | O40: =O39 -> 0 | P40: =P39 -> 0
A41: 95 | B41: B3 | C41: 0.4953514 | D41: =AVERAGE(C40:C41) -> 0.42780348 | E41: =K41*(A41-A40)*(24*3600) -> 103046.19 | F41: =E41+F40 -> 3188863.8 | G41: =F41*44/10^(6) -> 140.31001 | H41: =G41*10000/1000/1000 -> 1.4031001 | I41: B | K41: =D41/$M$2 -> 0.39755475 | N41: =N40 -> 1 | O41: =O40 -> 0 | P41: =P40 -> 0
...

Sheet CO2cumultonha_densityTcorrected
A1: day | B1: ID | C1: CO2FLUX_micromoles | D1: tonCO2_ha_a | E1: AverageCO2_µmolCO2_m2_s_intime_interval | F1: µmolCO2_m2 | G1: Cumulative µmolCO2/m2 | H1: cumulgCO2_m2 | I1: TonCO2_ha | J1: treatment | K1: Basalt | L1: Anecic | M1: endogeic | N1: cumulTonCO2_ha_131d
A2: 6 | B2: B1 | C2: -0.037826834 | D2: =C2*10^(-6)*(3600*24*365)*44*10000/10^(6) -> -0.5248791 | E2: =C2/CO2cumul!$M$2 -> -0.03515221 | F2: =E2*(A2)*(24*3600) -> -18222.906 | G2: =F2 -> -18222.906 | H2: =G2*44/10^(6) -> -0.80180784 | I2: =H2*10000/1000/1000 -> -0.0080180784 | J2: B | K2: 1 | L2: 0 | M2: 0
A3: 41 | B3: B1 | C3: 0.23290522 | D3: =C3*10^(-6)*(3600*24*365)*44*10000/10^(6) -> 3.2317556 | E3: =AVERAGE(C2:C3)/CO2cumul!$M$2 -> 0.090642484 | F3: =E3*(A3-A2)*(24*3600) -> 274102.87 | G3: =F3+G2 -> 255879.97 | H3: =G3*44/10^(6) -> 11.258718 | I3: =H3*10000/1000/1000 -> 0.11258718 | J3: B | K3: 1 | L3: 0 | M3: 0
A4: 49 | B4: B1 | C4: 0.80463081 | D4: =C4*10^(-6)*(3600*24*365)*44*10000/10^(6) -> 11.164928 | E4: =AVERAGE(C3:C4)/CO2cumul!$M$2 -> 0.48208745 | F4: =E4*(A4-A3)*(24*3600) -> 333218.84 | G4: =F4+G3 -> 589098.81 | H4: =G4*44/10^(6) -> 25.920348 | I4: =H4*10000/1000/1000 -> 0.25920348 | J4: B | K4: 1 | L4: 0 | M4: 0
A5: 56 | B5: B1 | C5: 0.72051113 | D5: =C5*10^(-6)*(3600*24*365)*44*10000/10^(6) -> 9.9976972 | E5: =AVERAGE(C4:C5)/CO2cumul!$M$2 -> 0.70865181 | F5: =E5*(A5-A4)*(24*3600) -> 428592.61 | G5: =F5+G4 -> 1017691.4 | H5: =G5*44/10^(6) -> 44.778423 | I5: =H5*10000/1000/1000 -> 0.44778423 | J5: B | K5: 1 | L5: 0 | M5: 0
A6: 61 | B6: B1 | C6: 0.72051113 | D6: =C6*10^(-6)*(3600*24*365)*44*10000/10^(6) -> 9.9976972 | E6: =AVERAGE(C5:C6)/CO2cumul!$M$2 -> 0.6695659 | F6: =E6*(A6-A5)*(24*3600) -> 289252.47 | G6: =F6+G5 -> 1306943.9 | H6: =G6*44/10^(6) -> 57.505531 | I6: =H6*10000/1000/1000 -> 0.57505531 | J6: B | K6: 1 | L6: 0 | M6: 0
A7: 69 | B7: B1 | C7: 0.45031946 | D7: =C7*10^(-6)*(3600*24*365)*44*10000/10^(6) -> 6.2485607 | E7: =AVERAGE(C6:C7)/CO2cumul!$M$2 -> 0.54402229 | F7: =E7*(A7-A6)*(24*3600) -> 376028.21 | G7: =F7+G6 -> 1682972.1 | H7: =G7*44/10^(6) -> 74.050773 | I7: =H7*10000/1000/1000 -> 0.74050773 | J7: B | K7: 1 | L7: 0 | M7: 0
A8: 75 | B8: B1 | C8: 0.40528751 | D8: =C8*10^(-6)*(3600*24*365)*44*10000/10^(6) -> 5.6237047 | E8: =AVERAGE(C7:C8)/CO2cumul!$M$2 -> 0.39755475 | F8: =E8*(A8-A7)*(24*3600) -> 206092.38 | G8: =F8+G7 -> 1889064.5 | H8: =G8*44/10^(6) -> 83.118837 | I8: =H8*10000/1000/1000 -> 0.83118837 | J8: B | K8: 1 | L8: 0 | M8: 0
A9: 82 | B9: B1 | C9: 0.18012778 | D9: =C9*10^(-6)*(3600*24*365)*44*10000/10^(6) -> 2.4994243 | E9: =AVERAGE(C8:C9)/CO2cumul!$M$2 -> 0.27201115 | F9: =E9*(A9-A8)*(24*3600) -> 164512.34 | G9: =F9+G8 -> 2053576.8 | H9: =G9*44/10^(6) -> 90.35738 | I9: =H9*10000/1000/1000 -> 0.9035738 | J9: B | K9: 1 | L9: 0 | M9: 0
A10: 92 | B10: B1 | C10: 0.67547919 | D10: =C10*10^(-6)*(3600*24*365)*44*10000/10^(6) -> 9.3728411 | E10: =AVERAGE(C9:C10)/CO2cumul!$M$2 -> 0.39755475 | F10: =E10*(A10-A9)*(24*3600) -> 343487.31 | G10: =F10+G9 -> 2397064.1 | H10: =G10*44/10^(6) -> 105.47082 | I10: =H10*10000/1000/1000 -> 1.0547082 | J10: B | K10: 1 | L10: 0 | M10: 0
A11: 95 | B11: B1 | C11: 0.4953514 | D11: =C11*10^(-6)*(3600*24*365)*44*10000/10^(6) -> 6.8734168 | E11: =AVERAGE(C10:C11)/CO2cumul!$M$2 -> 0.54402229 | F11: =E11*(A11-A10)*(24*3600) -> 141010.58 | G11: =F11+G10 -> 2538074.7 | H11: =G11*44/10^(6) -> 111.67529 | I11: =H11*10000/1000/1000 -> 1.1167529 | J11: B | K11: 1 | L11: 0 | M11: 0
A12: 103 | B12: B1 | C12: 0.090063892 | D12: =C12*10^(-6)*(3600*24*365)*44*10000/10^(6) -> 1.2497121 | E12: =AVERAGE(C11:C12)/CO2cumul!$M$2 -> 0.27201115 | F12: =E12*(A12-A11)*(24*3600) -> 188014.1 | G12: =F12+G11 -> 2726088.8 | H12: =G12*44/10^(6) -> 119.94791 | I12: =H12*10000/1000/1000 -> 1.1994791 | J12: B | K12: 1 | L12: 0 | M12: 0
A13: 113 | B13: B1 | C13: 0.54038335 | D13: =C13*10^(-6)*(3600*24*365)*44*10000/10^(6) -> 7.4982729 | E13: =AVERAGE(C12:C13)/CO2cumul!$M$2 -> 0.29293508 | F13: =E13*(A13-A12)*(24*3600) -> 253095.91 | G13: =F13+G12 -> 2979184.7 | H13: =G13*44/10^(6) -> 131.08413 | I13: =H13*10000/1000/1000 -> 1.3108413 | J13: B | K13: 1 | L13: 0 | M13: 0
A14: 119 | B14: B1 | C14: 0.4953514 | D14: =C14*10^(-6)*(3600*24*365)*44*10000/10^(6) -> 6.8734168 | E14: =AVERAGE(C13:C14)/CO2cumul!$M$2 -> 0.48125049 | F14: =E14*(A14-A13)*(24*3600) -> 249480.25 | G14: =F14+G13 -> 3228665 | H14: =G14*44/10^(6) -> 142.06126 | I14: =H14*10000/1000/1000 -> 1.4206126 | J14: B | K14: 1 | L14: 0 | M14: 0
A15: 127 | B15: B1 | C15: 0.045031946 | D15: =C15*10^(-6)*(3600*24*365)*44*10000/10^(6) -> 0.62485607 | E15: =AVERAGE(C14:C15)/CO2cumul!$M$2 -> 0.25108721 | F15: =E15*(A15-A14)*(24*3600) -> 173551.48 | G15: =F15+G14 -> 3402216.5 | H15: =G15*44/10^(6) -> 149.69752 | I15: =H15*10000/1000/1000 -> 1.4969752 | J15: B | K15: 1 | L15: 0 | M15: 0
A16: 131 | B16: B1 | C16: 0.72051113 | D16: =C16*10^(-6)*(3600*24*365)*44*10000/10^(6) -> 9.9976972 | E16: =AVERAGE(C15:C16)/CO2cumul!$M$2 -> 0.35570688 | F16: =E16*(A16-A15)*(24*3600) -> 122932.3 | G16: =F16+G15 -> 3525148.8 | H16: =G16*44/10^(6) -> 155.10655 | I16: =H16*10000/1000/1000 -> 1.5510655 | J16: B | K16: 1 | L16: 0 | M16: 0 | N16: =I16 -> 1.5510655
A17: 144 | B17: B1 | C17: 0.045031946 | D17: =C17*10^(-6)*(3600*24*365)*44*10000/10^(6) -> 0.62485607 | E17: =AVERAGE(C16:C17)/CO2cumul!$M$2 -> 0.35570688 | F17: =E17*(A17-A16)*(24*3600) -> 399529.97 | G17: =F17+G16 -> 3924678.7 | H17: =G17*44/10^(6) -> 172.68586 | I17: =H17*10000/1000/1000 -> 1.7268586 | J17: B | K17: 1 | L17: 0 | M17: 0
A18: 145 | B18: B1 | C18: -0.31522362 | D18: =C18*10^(-6)*(3600*24*365)*44*10000/10^(6) -> -4.3739925 | E18: =AVERAGE(C17:C18)/CO2cumul!$M$2 -> -0.12554361 | F18: =E18*(A18-A17)*(24*3600) -> -10846.968 | G18: =F18+G17 -> 3913831.8 | H18: =G18*44/10^(6) -> 172.2086 | I18: =H18*10000/1000/1000 -> 1.722086 | J18: B | K18: 1 | L18: 0 | M18: 0
A19: 285 | B19: B1 | C19: 0.15010649 | D19: =C19*10^(-6)*(3600*24*365)*44*10000/10^(6) -> 2.0828536 | E19: =AVERAGE(C18:C19)/CO2cumul!$M$2 -> -0.076721093 | F19: =E19*(A19-A18)*(24*3600) -> -928018.34 | G19: =F19+G18 -> 2985813.4 | H19: =G19*44/10^(6) -> 131.37579 | I19: =H19*10000/1000/1000 -> 1.3137579 | J19: B | K19: 1 | L19: 0 | M19: 0
A20: 316 | B20: B1 | C20: -0.31522362 | D20: =C20*10^(-6)*(3600*24*365)*44*10000/10^(6) -> -4.3739925 | E20: =AVERAGE(C19:C20)/CO2cumul!$M$2 -> -0.076721093 | F20: =E20*(A20-A19)*(24*3600) -> -205489.77 | G20: =F20+G19 -> 2780323.7 | H20: =G20*44/10^(6) -> 122.33424 | I20: =H20*10000/1000/1000 -> 1.2233424 | J20: B | K20: 1 | L20: 0 | M20: 0
A21: 445 | B21: B1 | C21: 0.12608945 | D21: =C21*10^(-6)*(3600*24*365)*44*10000/10^(6) -> 1.749597 | E21: =AVERAGE(C20:C21)/CO2cumul!$M$2 -> -0.087880524 | F21: =E21*(A21-A20)*(24*3600) -> -979481.17 | G21: =F21+G20 -> 1800842.5 | H21: =G21*44/10^(6) -> 79.237069 | I21: =H21*10000/1000/1000 -> 0.79237069 | J21: B | K21: 1 | L21: 0 | M21: 0
A22: 452 | B22: B1 | C22: -0.018012778 | D22: =C22*10^(-6)*(3600*24*365)*44*10000/10^(6) -> -0.24994243 | E22: =AVERAGE(C21:C22)/CO2cumul!$M$2 -> 0.050217443 | F22: =E22*(A22-A21)*(24*3600) -> 30371.509 | G22: =F22+G21 -> 1831214 | H22: =G22*44/10^(6) -> 80.573416 | I22: =H22*10000/1000/1000 -> 0.80573416 | J22: B | K22: 1 | L22: 0 | M22: 0
A23: 490 | B23: B1 | C23: 0.46833224 | D23: =C23*10^(-6)*(3600*24*365)*44*10000/10^(6) -> 6.4985032 | E23: =AVERAGE(C22:C23)/CO2cumul!$M$2 -> 0.20923934 | F23: =E23*(A23-A22)*(24*3600) -> 686974.61 | G23: =F23+G22 -> 2518188.6 | H23: =G23*44/10^(6) -> 110.8003 | I23: =H23*10000/1000/1000 -> 1.108003 | J23: B | K23: 1 | L23: 0 | M23: 0
A24: 6 | B24: B2 | C24: 0.13509584 | D24: =C24*10^(-6)*(3600*24*365)*44*10000/10^(6) -> 1.8745682 | E24: =AVERAGE(C23:C24)/CO2cumul!$M$2 -> 0.28038072 | F24: =E24*(A24)*(24*3600) -> 145349.37 | G24: =F24 -> 145349.37 | H24: =G24*44/10^(6) -> 6.3953721 | I24: =H24*10000/1000/1000 -> 0.063953721 | J24: B | K24: 1 | L24: 0 | M24: 0
A25: 41 | B25: B2 | C25: 0.35016841 | D25: =C25*10^(-6)*(3600*24*365)*44*10000/10^(6) -> 4.8588808 | E25: =AVERAGE(C24:C25)/CO2cumul!$M$2 -> 0.22547632 | F25: =E25*(A25-A24)*(24*3600) -> 681840.38 | G25: =F25+G24 -> 827189.75 | H25: =G25*44/10^(6) -> 36.396349 | I25: =H25*10000/1000/1000 -> 0.36396349 | J25: B | K25: 1 | L25: 0 | M25: 0
A26: 49 | B26: B2 | C26: 1.3012431 | D26: =C26*10^(-6)*(3600*24*365)*44*10000/10^(6) -> 18.055841 | E26: =AVERAGE(C25:C26)/CO2cumul!$M$2 -> 0.76732252 | F26: =E26*(A26-A25)*(24*3600) -> 530373.33 | G26: =F26+G25 -> 1357563.1 | H26: =G26*44/10^(6) -> 59.732775 | I26: =H26*10000/1000/1000 -> 0.59732775 | J26: B | K26: 1 | L26: 0 | M26: 0
A27: 56 | B27: B2 | C27: 1.7112139 | D27: =C27*10^(-6)*(3600*24*365)*44*10000/10^(6) -> 23.744531 | E27: =AVERAGE(C26:C27)/CO2cumul!$M$2 -> 1.3997275 | F27: =E27*(A27-A26)*(24*3600) -> 846555.2 | G27: =F27+G26 -> 2204118.3 | H27: =G27*44/10^(6) -> 96.981204 | I27: =H27*10000/1000/1000 -> 0.96981204 | J27: B | K27: 1 | L27: 0 | M27: 0
A28: 61 | B28: B2 | C28: 1.7112139 | D28: =C28*10^(-6)*(3600*24*365)*44*10000/10^(6) -> 23.744531 | E28: =AVERAGE(C27:C28)/CO2cumul!$M$2 -> 1.590219 | F28: =E28*(A28-A27)*(24*3600) -> 686974.61 | G28: =F28+G27 -> 2891092.9 | H28: =G28*44/10^(6) -> 127.20809 | I28: =H28*10000/1000/1000 -> 1.2720809 | J28: B | K28: 1 | L28: 0 | M28: 0
A29: 69 | B29: B2 | C29: 0.54038335 | D29: =C29*10^(-6)*(3600*24*365)*44*10000/10^(6) -> 7.4982729 | E29: =AVERAGE(C28:C29)/CO2cumul!$M$2 -> 1.0461967 | F29: =E29*(A29-A28)*(24*3600) -> 723131.17 | G29: =F29+G28 -> 3614224.1 | H29: =G29*44/10^(6) -> 159.02586 | I29: =H29*10000/1000/1000 -> 1.5902586 | J29: B | K29: 1 | L29: 0 | M29: 0
A30: 75 | B30: B2 | C30: 0.72051113 | D30: =C30*10^(-6)*(3600*24*365)*44*10000/10^(6) -> 9.9976972 | E30: =AVERAGE(C29:C30)/CO2cumul!$M$2 -> 0.58587016 | F30: =E30*(A30-A29)*(24*3600) -> 303715.09 | G30: =F30+G29 -> 3917939.2 | H30: =G30*44/10^(6) -> 172.38932 | I30: =H30*10000/1000/1000 -> 1.7238932 | J30: B | K30: 1 | L30: 0 | M30: 0
A31: 82 | B31: B2 | C31: 0.67547919 | D31: =C31*10^(-6)*(3600*24*365)*44*10000/10^(6) -> 9.3728411 | E31: =AVERAGE(C30:C31)/CO2cumul!$M$2 -> 0.64864197 | F31: =E31*(A31-A30)*(24*3600) -> 392298.66 | G31: =F31+G30 -> 4310237.8 | H31: =G31*44/10^(6) -> 189.65046 | I31: =H31*10000/1000/1000 -> 1.8965046 | J31: B | K31: 1 | L31: 0 | M31: 0
A32: 92 | B32: B2 | C32: 1.1708306 | D32: =C32*10^(-6)*(3600*24*365)*44*10000/10^(6) -> 16.246258 | E32: =AVERAGE(C31:C32)/CO2cumul!$M$2 -> 0.85788131 | F32: =E32*(A32-A31)*(24*3600) -> 741209.45 | G32: =F32+G31 -> 5051447.3 | H32: =G32*44/10^(6) -> 222.26368 | I32: =H32*10000/1000/1000 -> 2.2226368 | J32: B | K32: 1 | L32: 0 | M32: 0
A33: 95 | B33: B2 | C33: 1.2158625 | D33: =C33*10^(-6)*(3600*24*365)*44*10000/10^(6) -> 16.871114 | E33: =AVERAGE(C32:C33)/CO2cumul!$M$2 -> 1.1089685 | F33: =E33*(A33-A32)*(24*3600) -> 287444.64 | G33: =F33+G32 -> 5338891.9 | H33: =G33*44/10^(6) -> 234.91124 | I33: =H33*10000/1000/1000 -> 2.3491124 | J33: B | K33: 1 | L33: 0 | M33: 0
A34: 103 | B34: B2 | C34: 0.36025557 | D34: =C34*10^(-6)*(3600*24*365)*44*10000/10^(6) -> 4.9988486 | E34: =AVERAGE(C33:C34)/CO2cumul!$M$2 -> 0.7323377 | F34: =E34*(A34-A33)*(24*3600) -> 506191.82 | G34: =F34+G33 -> 5845083.7 | H34: =G34*44/10^(6) -> 257.18368 | I34: =H34*10000/1000/1000 -> 2.5718368 | J34: B | K34: 1 | L34: 0 | M34: 0
A35: 113 | B35: B2 | C35: 0.81057502 | D35: =C35*10^(-6)*(3600*24*365)*44*10000/10^(6) -> 11.247409 | E35: =AVERAGE(C34:C35)/CO2cumul!$M$2 -> 0.54402229 | F35: =E35*(A35-A34)*(24*3600) -> 470035.26 | G35: =F35+G34 -> 6315119 | H35: =G35*44/10^(6) -> 277.86524 | I35: =H35*10000/1000/1000 -> 2.7786524 | J35: B | K35: 1 | L35: 0 | M35: 0
A36: 119 | B36: B2 | C36: 1.1257986 | D36: =C36*10^(-6)*(3600*24*365)*44*10000/10^(6) -> 15.621402 | E36: =AVERAGE(C35:C36)/CO2cumul!$M$2 -> 0.89972918 | F36: =E36*(A36-A35)*(24*3600) -> 466419.61 | G36: =F36+G35 -> 6781538.6 | H36: =G36*44/10^(6) -> 298.3877 | I36: =H36*10000/1000/1000 -> 2.983877 | J36: B | K36: 1 | L36: 0 | M36: 0
A37: 127 | B37: B2 | C37: 0.67547919 | D37: =C37*10^(-6)*(3600*24*365)*44*10000/10^(6) -> 9.3728411 | E37: =AVERAGE(C36:C37)/CO2cumul!$M$2 -> 0.83695738 | F37: =E37*(A37-A36)*(24*3600) -> 578504.94 | G37: =F37+G36 -> 7360043.5 | H37: =G37*44/10^(6) -> 323.84192 | I37: =H37*10000/1000/1000 -> 3.2384192 | J37: B | K37: 1 | L37: 0 | M37: 0
A38: 131 | B38: B2 | C38: 1.5310862 | D38: =C38*10^(-6)*(3600*24*365)*44*10000/10^(6) -> 21.245107 | E38: =AVERAGE(C37:C38)/CO2cumul!$M$2 -> 1.0252728 | F38: =E38*(A38-A37)*(24*3600) -> 354334.27 | G38: =F38+G37 -> 7714377.8 | H38: =G38*44/10^(6) -> 339.43262 | I38: =H38*10000/1000/1000 -> 3.3943262 | J38: B | K38: 1 | L38: 0 | M38: 0 | N38: =I38 -> 3.3943262
A39: 144 | B39: B2 | C39: -0.022515973 | D39: =C39*10^(-6)*(3600*24*365)*44*10000/10^(6) -> -0.31242804 | E39: =AVERAGE(C38:C39)/CO2cumul!$M$2 -> 0.7009518 | F39: =E39*(A39-A38)*(24*3600) -> 787309.06 | G39: =F39+G38 -> 8501686.9 | H39: =G39*44/10^(6) -> 374.07422 | I39: =H39*10000/1000/1000 -> 3.7407422 | J39: B | K39: 1 | L39: 0 | M39: 0
A40: 145 | B40: B2 | C40: -0.27019167 | D40: =C40*10^(-6)*(3600*24*365)*44*10000/10^(6) -> -3.7491364 | E40: =AVERAGE(C39:C40)/CO2cumul!$M$2 -> -0.13600557 | F40: =E40*(A40-A39)*(24*3600) -> -11750.882 | G40: =F40+G39 -> 8489936 | H40: =G40*44/10^(6) -> 373.55718 | I40: =H40*10000/1000/1000 -> 3.7355718 | J40: B | K40: 1 | L40: 0 | M40: 0
...
