Workbook

Sheet raw
A1: Number | B1: Date | C1: day | D1: wetweek | E1: ID | F1: Slopeppm_s | G1: R2 | H1: Intercep | I1: CO2FLUX_micromoles | J1: Basalt | K1: Endogeics | L1: Anecics | M1: treatment | N1: time | O1: µmol/m2/s
A2: 1 | B2: 44181 | C2: =B2-[1]Blad1!$C$4 -> 6 | D2: 1 | E2: BE1 | F2: 0.1249 | I2: =F2*1.84*[1]Blad1!$C$6/[1]Blad1!$C$5/44 -> 0.62721586 | J2: 1 | K2: 1 | L2: 0 | M2: BE | N2: =B2-[1]a!$S$8 -> 5 | O2: =I2 -> 0.62721586
A3: 2 | B3: 44181 | C3: =B3-[1]Blad1!$C$4 -> 6 | D3: 1 | E3: S1 | F3: 0.0837 | I3: =F3*1.84*[1]Blad1!$C$6/[1]Blad1!$C$5/44 -> 0.42031999 | J3: 0 | K3: 0 | L3: 0 | M3: S | N3: =B3-[1]a!$S$8 -> 5 | O3: =I3 -> 0.42031999
A4: 3 | B4: 44181 | C4: =B4-[1]Blad1!$C$4 -> 6 | D4: 1 | E4: S2 | F4: 0.0943 | I4: =F4*1.84*[1]Blad1!$C$6/[1]Blad1!$C$5/44 -> 0.47355048 | J4: 0 | K4: 0 | L4: 0 | M4: S | N4: =B4-[1]a!$S$8 -> 5 | O4: =I4 -> 0.47355048
A5: 4 | B5: 44181 | C5: =B5-[1]Blad1!$C$4 -> 6 | D5: 1 | E5: BA3 | F5: 0.0683 | I5: =F5*1.84*[1]Blad1!$C$6/[1]Blad1!$C$5/44 -> 0.34298513 | J5: 1 | K5: 0 | L5: 1 | M5: BA | N5: =B5-[1]a!$S$8 -> 5 | O5: =I5 -> 0.34298513
A6: 5 | B6: 44181 | C6: =B6-[1]Blad1!$C$4 -> 6 | D6: 1 | E6: S3 | F6: 0.0268 | I6: =F6*1.84*[1]Blad1!$C$6/[1]Blad1!$C$5/44 -> 0.13458275 | J6: 0 | K6: 0 | L6: 0 | M6: S | N6: =B6-[1]a!$S$8 -> 5 | O6: =I6 -> 0.13458275
A7: 6 | B7: 44181 | C7: =B7-[1]Blad1!$C$4 -> 6 | D7: 1 | E7: BA4 | F7: 0.0259 | I7: =F7*1.84*[1]Blad1!$C$6/[1]Blad1!$C$5/44 -> 0.13006318 | J7: 1 | K7: 0 | L7: 1 | M7: BA | N7: =B7-[1]a!$S$8 -> 5 | O7: =I7 -> 0.13006318
A8: 7 | B8: 44181 | C8: =B8-[1]Blad1!$C$4 -> 6 | D8: 1 | E8: B3 | F8: 0.0277 | I8: =F8*1.84*[1]Blad1!$C$6/[1]Blad1!$C$5/44 -> 0.13910232 | J8: 1 | K8: 0 | L8: 0 | M8: B | N8: =B8-[1]a!$S$8 -> 5 | O8: =I8 -> 0.13910232
A9: 8 | B9: 44181 | C9: =B9-[1]Blad1!$C$4 -> 6 | D9: 1 | E9: BA1 | F9: 0.0713 | I9: =F9*1.84*[1]Blad1!$C$6/[1]Blad1!$C$5/44 -> 0.35805037 | J9: 1 | K9: 0 | L9: 1 | M9: BA | N9: =B9-[1]a!$S$8 -> 5 | O9: =I9 -> 0.35805037
A10: 9 | B10: 44181 | C10: =B10-[1]Blad1!$C$4 -> 6 | D10: 1 | E10: B2 | F10: 0.025 | I10: =F10*1.84*[1]Blad1!$C$6/[1]Blad1!$C$5/44 -> 0.12554361 | J10: 1 | K10: 0 | L10: 0 | M10: B | N10: =B10-[1]a!$S$8 -> 5 | O10: =I10 -> 0.12554361
A11: 10 | B11: 44181 | C11: =B11-[1]Blad1!$C$4 -> 6 | D11: 1 | E11: B5 | F11: 0.0395 | I11: =F11*1.84*[1]Blad1!$C$6/[1]Blad1!$C$5/44 -> 0.1983589 | J11: 1 | K11: 0 | L11: 0 | M11: B | N11: =B11-[1]a!$S$8 -> 5 | O11: =I11 -> 0.1983589
A12: 11 | B12: 44181 | C12: =B12-[1]Blad1!$C$4 -> 6 | D12: 1 | E12: BE2 | F12: 0.1101 | I12: =F12*1.84*[1]Blad1!$C$6/[1]Blad1!$C$5/44 -> 0.55289404 | J12: 1 | K12: 1 | L12: 0 | M12: BE | N12: =B12-[1]a!$S$8 -> 5 | O12: =I12 -> 0.55289404
A13: 12 | B13: 44181 | C13: =B13-[1]Blad1!$C$4 -> 6 | D13: 1 | E13: BEA4 | F13: 0.0168 | I13: =F13*1.84*[1]Blad1!$C$6/[1]Blad1!$C$5/44 -> 0.084365303 | J13: 1 | K13: 1 | L13: 1 | M13: BEA | N13: =B13-[1]a!$S$8 -> 5 | O13: =I13 -> 0.084365303
... A29: 28 | B29: 44181 | C29: =B29-[1]Blad1!$C$4 -> 6 | D29: 1 | E29: B1 | F29: -0.007 | I29: =F29*1.84*[1]Blad1!$C$6/[1]Blad1!$C$5/44 -> -0.03515221 | J29: 1 | K29: 0 | L29: 0 | M29: B | N29: =B29-[1]a!$S$8 -> 5 | O29: =I29 -> -0.03515221
A30: 1 | B30: 44216 | C30: =B30-[1]Blad1!$C$4 -> 41 | D30: 1 | E30: BE1 | F30: 0.2105 | G30: 0.9959 | H30: 505.7 | I30: =F30*1.84*[1]Blad1!$C$6/[1]Blad1!$C$5/44 -> 1.0570772 | J30: 1 | K30: 1 | L30: 0 | M30: BE | N30: =B30-[1]a!$S$8 -> 40 | O30: =I30 -> 1.0570772
A31: 2 | B31: 44216 | C31: =B31-[1]Blad1!$C$4 -> 41 | D31: 1 | E31: S1 | F31: 0.1636 | G31: 0.9902 | H31: 521.69 | I31: =F31*1.84*[1]Blad1!$C$6/[1]Blad1!$C$5/44 -> 0.82155736 | J31: 0 | K31: 0 | L31: 0 | M31: S | N31: =B31-[1]a!$S$8 -> 40 | O31: =I31 -> 0.82155736
A32: 7 | B32: 44216 | C32: =B32-[1]Blad1!$C$4 -> 41 | D32: 1 | E32: BA1 | F32: 0.1015 | G32: 0.9641 | H32: 524.96 | I32: =F32*1.84*[1]Blad1!$C$6/[1]Blad1!$C$5/44 -> 0.50970704 | J32: 1 | K32: 0 | L32: 1 | M32: BA | N32: =B32-[1]a!$S$8 -> 40 | O32: =I32 -> 0.50970704
A33: 8 | B33: 44216 | C33: =B33-[1]Blad1!$C$4 -> 41 | D33: 1 | E33: B2 | F33: 0.0648 | G33: 0.8914 | H33: 536.3 | I33: =F33*1.84*[1]Blad1!$C$6/[1]Blad1!$C$5/44 -> 0.32540903 | J33: 1 | K33: 0 | L33: 0 | M33: B | N33: =B33-[1]a!$S$8 -> 40 | O33: =I33 -> 0.32540903
A34: 9 | B34: 44216 | C34: =B34-[1]Blad1!$C$4 -> 41 | D34: 1 | E34: BE2 | F34: 0.2761 | G34: 0.9881 | H34: 556.85 | I34: =F34*1.84*[1]Blad1!$C$6/[1]Blad1!$C$5/44 -> 1.3865036 | J34: 1 | K34: 1 | L34: 0 | M34: BE | N34: =B34-[1]a!$S$8 -> 40 | O34: =I34 -> 1.3865036
A35: 32 | B35: 44216 | C35: =B35-[1]Blad1!$C$4 -> 41 | D35: 1 | E35: BEA4 | F35: 0.0794 | I35: =F35*1.84*[1]Blad1!$C$6/[1]Blad1!$C$5/44 -> 0.39872649 | J35: 1 | K35: 1 | L35: 1 | M35: BEA | N35: =B35-[1]a!$S$8 -> 40 | O35: =I35 -> 0.39872649
A36: 10 | B36: 44216 | C36: =B36-[1]Blad1!$C$4 -> 41 | D36: 1 | E36: SEA3 | F36: 0.4328 | I36: =F36*1.84*[1]Blad1!$C$6/[1]Blad1!$C$5/44 -> 2.1734109 | J36: 0 | K36: 1 | L36: 1 | M36: SEA | N36: =B36-[1]a!$S$8 -> 40 | O36: =I36 -> 2.1734109
A37: 11 | B37: 44216 | C37: =B37-[1]Blad1!$C$4 -> 41 | D37: 1 | E37: BE4 | F37: 0.2353 | I37: =F37*1.84*[1]Blad1!$C$6/[1]Blad1!$C$5/44 -> 1.1816164 | J37: 1 | K37: 1 | L37: 0 | M37: BE | N37: =B37-[1]a!$S$8 -> 40 | O37: =I37 -> 1.1816164
A38: 12 | B38: 44216 | C38: =B38-[1]Blad1!$C$4 -> 41 | D38: 1 | E38: BEA2 | F38: 0.1167 | I38: =F38*1.84*[1]Blad1!$C$6/[1]Blad1!$C$5/44 -> 0.58603755 | J38: 1 | K38: 1 | L38: 1 | M38: BEA | N38: =B38-[1]a!$S$8 -> 40 | O38: =I38 -> 0.58603755
A39: 13 | B39: 44216 | C39: =B39-[1]Blad1!$C$4 -> 41 | D39: 1 | E39: BEA1 | F39: 0.1561 | I39: =F39*1.84*[1]Blad1!$C$6/[1]Blad1!$C$5/44 -> 0.78389428 | J39: 1 | K39: 1 | L39: 1 | M39: BEA | N39: =B39-[1]a!$S$8 -> 40 | O39: =I39 -> 0.78389428
A40: 14 | B40: 44216 | C40: =B40-[1]Blad1!$C$4 -> 41 | D40: 1 | E40: BA5 | F40: 0.2158 | I40: =F40*1.84*[1]Blad1!$C$6/[1]Blad1!$C$5/44 -> 1.0836924 | J40: 1 | K40: 0 | L40: 1 | M40: BA | N40: =B40-[1]a!$S$8 -> 40 | O40: =I40 -> 1.0836924
A41: 15 | B41: 44216 | C41: =B41-[1]Blad1!$C$4 -> 41 | D41: 1 | E41: BEA5 | F41: 0.347 | I41: =F41*1.84*[1]Blad1!$C$6/[1]Blad1!$C$5/44 -> 1.7425453 | J41: 1 | K41: 1 | L41: 1 | M41: BEA | N41: =B41-[1]a!$S$8 -> 40 | O41: =I41 -> 1.7425453
A42: 16 | B42: 44216 | C42: =B42-[1]Blad1!$C$4 -> 41 | D42: 1 | E42: S4 | F42: 0.2917 | I42: =F42*1.84*[1]Blad1!$C$6/[1]Blad1!$C$5/44 -> 1.4648428 | J42: 0 | K42: 0 | L42: 0 | M42: S | N42: =B42-[1]a!$S$8 -> 40 | O42: =I42 -> 1.4648428
A43: 17 | B43: 44216 | C43: =B43-[1]Blad1!$C$4 -> 41 | D43: 1 | E43: SEA4 | F43: 0.4876 | I43: =F43*1.84*[1]Blad1!$C$6/[1]Blad1!$C$5/44 -> 2.4486025 | J43: 0 | K43: 1 | L43: 1 | M43: SEA | N43: =B43-[1]a!$S$8 -> 40 | O43: =I43 -> 2.4486025
A44: 18 | B44: 44216 | C44: =B44-[1]Blad1!$C$4 -> 41 | D44: 1 | E44: SEA1 | F44: 0.3436 | I44: =F44*1.84*[1]Blad1!$C$6/[1]Blad1!$C$5/44 -> 1.7254713 | J44: 0 | K44: 1 | L44: 1 | M44: SEA | N44: =B44-[1]a!$S$8 -> 40 | O44: =I44 -> 1.7254713
A45: 19 | B45: 44216 | C45: =B45-[1]Blad1!$C$4 -> 41 | D45: 1 | E45: SEA2 | F45: 0.2323 | I45: =F45*1.84*[1]Blad1!$C$6/[1]Blad1!$C$5/44 -> 1.1665512 | J45: 0 | K45: 1 | L45: 1 | M45: SEA | N45: =B45-[1]a!$S$8 -> 40 | O45: =I45 -> 1.1665512
A46: 20 | B46: 44216 | C46: =B46-[1]Blad1!$C$4 -> 41 | D46: 1 | E46: BA2 | F46: 0.2563 | I46: =F46*1.84*[1]Blad1!$C$6/[1]Blad1!$C$5/44 -> 1.2870731 | J46: 1 | K46: 0 | L46: 1 | M46: BA | N46: =B46-[1]a!$S$8 -> 40 | O46: =I46 -> 1.2870731
... A141: 28 | B141: 44236 | C141: =B141-[1]Blad1!$C$4 -> 61 | D141: 1 | E141: B1 | F141: 0.13333333 | I141: =F141*1.84*[1]Blad1!$C$6/[1]Blad1!$C$5/44 -> 0.6695659 | J141: 1 | K141: 0 | L141: 0 | M141: B | N141: =B141-[1]a!$S$8 -> 60 | O141: =I141 -> 0.6695659
A142: 1 | B142: 44244 | C142: =B142-[1]Blad1!$C$4 -> 69 | D142: 0 | E142: BE1 | J142: 1 | K142: 1 | L142: 0 | M142: BE | N142: =B142-[1]a!$S$8 -> 68 | O142: =I142 -> 0
A143: 2 | B143: 44244 | C143: =B143-[1]Blad1!$C$4 -> 69 | D143: 0 | E143: S1 | F143: 0.21666667 | I143: =F143*1.98*[1]Blad1!$C$6/[1]Blad1!$C$5/44 -> 1.1708306 | J143: 0 | K143: 0 | L143: 0 | M143: S | N143: =B143-[1]a!$S$8 -> 68 | O143: =I143 -> 1.1708306
A144: 3 | B144: 44244 | C144: =B144-[1]Blad1!$C$4 -> 69 | D144: 0 | E144: S2 | F144: 0.4 | I144: =F144*1.98*[1]Blad1!$C$6/[1]Blad1!$C$5/44 -> 2.1615334 | J144: 0 | K144: 0 | L144: 0 | M144: S | N144: =B144-[1]a!$S$8 -> 68 | O144: =I144 -> 2.1615334
A145: 4 | B145: 44244 | C145: =B145-[1]Blad1!$C$4 -> 69 | D145: 0 | E145: BA3 | F145: 0.14166667 | I145: =F145*1.98*[1]Blad1!$C$6/[1]Blad1!$C$5/44 -> 0.76554308 | J145: 1 | K145: 0 | L145: 1 | M145: BA | N145: =B145-[1]a!$S$8 -> 68 | O145: =I145 -> 0.76554308
A146: 5 | B146: 44244 | C146: =B146-[1]Blad1!$C$4 -> 69 | D146: 0 | E146: S3 | F146: 0.091666667 | I146: =F146*1.98*[1]Blad1!$C$6/[1]Blad1!$C$5/44 -> 0.4953514 | J146: 0 | K146: 0 | L146: 0 | M146: S | N146: =B146-[1]a!$S$8 -> 68 | O146: =I146 -> 0.4953514
A147: 6 | B147: 44244 | C147: =B147-[1]Blad1!$C$4 -> 69 | D147: 0 | E147: BA4 | F147: 0.0083333333 | I147: =F147*1.98*[1]Blad1!$C$6/[1]Blad1!$C$5/44 -> 0.045031946 | J147: 1 | K147: 0 | L147: 1 | M147: BA | N147: =B147-[1]a!$S$8 -> 68 | O147: =I147 -> 0.045031946
A148: 7 | B148: 44244 | C148: =B148-[1]Blad1!$C$4 -> 69 | D148: 0 | E148: B3 | F148: 0.066666667 | I148: =F148*1.98*[1]Blad1!$C$6/[1]Blad1!$C$5/44 -> 0.36025557 | J148: 1 | K148: 0 | L148: 0 | M148: B | N148: =B148-[1]a!$S$8 -> 68 | O148: =I148 -> 0.36025557
A149: 8 | B149: 44244 | C149: =B149-[1]Blad1!$C$4 -> 69 | D149: 0 | E149: BA1 | F149: 0.15 | I149: =F149*1.98*[1]Blad1!$C$6/[1]Blad1!$C$5/44 -> 0.81057502 | J149: 1 | K149: 0 | L149: 1 | M149: BA | N149: =B149-[1]a!$S$8 -> 68 | O149: =I149 -> 0.81057502
A150: 9 | B150: 44244 | C150: =B150-[1]Blad1!$C$4 -> 69 | D150: 0 | E150: B2 | F150: 0.1 | I150: =F150*1.98*[1]Blad1!$C$6/[1]Blad1!$C$5/44 -> 0.54038335 | J150: 1 | K150: 0 | L150: 0 | M150: B | N150: =B150-[1]a!$S$8 -> 68 | O150: =I150 -> 0.54038335
A151: 10 | B151: 44244 | C151: =B151-[1]Blad1!$C$4 -> 69 | D151: 0 | E151: B5 | F151: 0.016666667 | I151: =F151*1.98*[1]Blad1!$C$6/[1]Blad1!$C$5/44 -> 0.090063892 | J151: 1 | K151: 0 | L151: 0 | M151: B | N151: =B151-[1]a!$S$8 -> 68 | O151: =I151 -> 0.090063892
A152: 11 | B152: 44244 | C152: =B152-[1]Blad1!$C$4 -> 69 | D152: 0 | E152: BE2 | F152: 0.2 | I152: =F152*1.98*[1]Blad1!$C$6/[1]Blad1!$C$5/44 -> 1.0807667 | J152: 1 | K152: 1 | L152: 0 | M152: BE | N152: =B152-[1]a!$S$8 -> 68 | O152: =I152 -> 1.0807667
A153: 12 | B153: 44244 | C153: =B153-[1]Blad1!$C$4 -> 69 | D153: 0 | E153: BEA4 | F153: 0.14166667 | I153: =F153*1.98*[1]Blad1!$C$6/[1]Blad1!$C$5/44 -> 0.76554308 | J153: 1 | K153: 1 | L153: 1 | M153: BEA | N153: =B153-[1]a!$S$8 -> 68 | O153: =I153 -> 0.76554308
A154: 13 | B154: 44244 | C154: =B154-[1]Blad1!$C$4 -> 69 | D154: 0 | E154: SEA3 | F154: 0.083333333 | I154: =F154*1.98*[1]Blad1!$C$6/[1]Blad1!$C$5/44 -> 0.45031946 | J154: 0 | K154: 1 | L154: 1 | M154: SEA | N154: =B154-[1]a!$S$8 -> 68 | O154: =I154 -> 0.45031946
... A167: 26 | B167: 44244 | C167: =B167-[1]Blad1!$C$4 -> 69 | D167: 0 | E167: BEA3 | F167: 0.23333333 | I167: =F167*1.98*[1]Blad1!$C$6/[1]Blad1!$C$5/44 -> 1.2608945 | J167: 1 | K167: 1 | L167: 1 | M167: BEA | N167: =B167-[1]a!$S$8 -> 68 | O167: =I167 -> 1.2608945
A168: 27 | B168: 44244 | C168: =B168-[1]Blad1!$C$4 -> 69 | D168: 0 | E168: BE5 | J168: 1 | K168: 1 | L168: 0 | M168: BE | N168: =B168-[1]a!$S$8 -> 68 | O168: =I168 -> 0
A169: 28 | B169: 44244 | C169: =B169-[1]Blad1!$C$4 -> 69 | D169: 0 | E169: B1 | F169: 0.083333333 | I169: =F169*1.98*[1]Blad1!$C$6/[1]Blad1!$C$5/44 -> 0.45031946 | J169: 1 | K169: 0 | L169: 0 | M169: B | N169: =B169-[1]a!$S$8 -> 68 | O169: =I169 -> 0.45031946
A170: 1 | B170: 44250 | C170: =B170-[1]Blad1!$C$4 -> 75 | D170: 0 | E170: BE1 | F170: 0.25 | I170: =F170*1.98*[1]Blad1!$C$6/[1]Blad1!$C$5/44 -> 1.3509584 | J170: 1 | K170: 1 | L170: 0 | M170: BE | N170: =B170-[1]a!$S$8 -> 74 | O170: =I170 -> 1.3509584
A171: 2 | B171: 44250 | C171: =B171-[1]Blad1!$C$4 -> 75 | D171: 0 | E171: S1 | F171: 0.28333333 | I171: =F171*1.98*[1]Blad1!$C$6/[1]Blad1!$C$5/44 -> 1.5310862 | J171: 0 | K171: 0 | L171: 0 | M171: S | N171: =B171-[1]a!$S$8 -> 74 | O171: =I171 -> 1.5310862
A172: 3 | B172: 44250 | C172: =B172-[1]Blad1!$C$4 -> 75 | D172: 0 | E172: S2 | F172: 0.3 | I172: =F172*1.98*[1]Blad1!$C$6/[1]Blad1!$C$5/44 -> 1.62115 | J172: 0 | K172: 0 | L172: 0 | M172: S | N172: =B172-[1]a!$S$8 -> 74 | O172: =I172 -> 1.62115
A173: 4 | B173: 44250 | C173: =B173-[1]Blad1!$C$4 -> 75 | D173: 0 | E173: BA3 | F173: 0.225 | I173: =F173*1.98*[1]Blad1!$C$6/[1]Blad1!$C$5/44 -> 1.2158625 | J173: 1 | K173: 0 | L173: 1 | M173: BA | N173: =B173-[1]a!$S$8 -> 74 | O173: =I173 -> 1.2158625
A174: 5 | B174: 44250 | C174: =B174-[1]Blad1!$C$4 -> 75 | D174: 0 | E174: S3 | F174: 0.075 | I174: =F174*1.98*[1]Blad1!$C$6/[1]Blad1!$C$5/44 -> 0.40528751 | J174: 0 | K174: 0 | L174: 0 | M174: S | N174: =B174-[1]a!$S$8 -> 74 | O174: =I174 -> 0.40528751
A175: 6 | B175: 44250 | C175: =B175-[1]Blad1!$C$4 -> 75 | D175: 0 | E175: BA4 | F175: 0.05 | I175: =F175*1.98*[1]Blad1!$C$6/[1]Blad1!$C$5/44 -> 0.27019167 | J175: 1 | K175: 0 | L175: 1 | M175: BA | N175: =B175-[1]a!$S$8 -> 74 | O175: =I175 -> 0.27019167
A176: 7 | B176: 44250 | C176: =B176-[1]Blad1!$C$4 -> 75 | D176: 0 | E176: B3 | F176: 0.058333333 | I176: =F176*1.98*[1]Blad1!$C$6/[1]Blad1!$C$5/44 -> 0.31522362 | J176: 1 | K176: 0 | L176: 0 | M176: B | N176: =B176-[1]a!$S$8 -> 74 | O176: =I176 -> 0.31522362
A177: 8 | B177: 44250 | C177: =B177-[1]Blad1!$C$4 -> 75 | D177: 0 | E177: BA1 | F177: 0.60833333 | I177: =F177*1.98*[1]Blad1!$C$6/[1]Blad1!$C$5/44 -> 3.287332 | J177: 1 | K177: 0 | L177: 1 | M177: BA | N177: =B177-[1]a!$S$8 -> 74 | O177: =I177 -> 3.287332
A178: 9 | B178: 44250 | C178: =B178-[1]Blad1!$C$4 -> 75 | D178: 0 | E178: B2 | F178: 0.13333333 | I178: =F178*1.98*[1]Blad1!$C$6/[1]Blad1!$C$5/44 -> 0.72051113 | J178: 1 | K178: 0 | L178: 0 | M178: B | N178: =B178-[1]a!$S$8 -> 74 | O178: =I178 -> 0.72051113
A179: 10 | B179: 44250 | C179: =B179-[1]Blad1!$C$4 -> 75 | D179: 0 | E179: B5 | F179: 0.025 | I179: =F179*1.98*[1]Blad1!$C$6/[1]Blad1!$C$5/44 -> 0.13509584 | J179: 1 | K179: 0 | L179: 0 | M179: B | N179: =B179-[1]a!$S$8 -> 74 | O179: =I179 -> 0.13509584
A180: 11 | B180: 44250 | C180: =B180-[1]Blad1!$C$4 -> 75 | D180: 0 | E180: BE2 | F180: 0.016666667 | I180: =F180*1.98*[1]Blad1!$C$6/[1]Blad1!$C$5/44 -> 0.090063892 | J180: 1 | K180: 1 | L180: 0 | M180: BE | N180: =B180-[1]a!$S$8 -> 74 | O180: =I180 -> 0.090063892
... A206: 9 | B206: 44257 | C206: =B206-[1]Blad1!$C$4 -> 82 | D206: 1 | E206: B2 | F206: 0.125 | I206: =F206*1.98*[1]Blad1!$C$6/[1]Blad1!$C$5/44 -> 0.67547919 | J206: 1 | K206: 0 | L206: 0 | M206: B | N206: =B206-[1]a!$S$8 -> 81 | O206: =I206 -> 0.67547919
A207: 10 | B207: 44257 | C207: =B207-[1]Blad1!$C$4 -> 82 | D207: 1 | E207: B5 | F207: 0 | J207: 1 | K207: 0 | L207: 0 | M207: B | N207: =B207-[1]a!$S$8 -> 81 | O207: =I207 -> 0
A208: 11 | B208: 44257 | C208: =B208-[1]Blad1!$C$4 -> 82 | D208: 1 | E208: BE2 | F208: 0.125 | I208: =F208*1.98*[1]Blad1!$C$6/[1]Blad1!$C$5/44 -> 0.67547919 | J208: 1 | K208: 1 | L208: 0 | M208: BE | N208: =B208-[1]a!$S$8 -> 81 | O208: =I208 -> 0.67547919
A209: 12 | B209: 44257 | C209: =B209-[1]Blad1!$C$4 -> 82 | D209: 1 | E209: BEA4 | F209: 0.13333333 | I209: =F209*1.98*[1]Blad1!$C$6/[1]Blad1!$C$5/44 -> 0.72051113 | J209: 1 | K209: 1 | L209: 1 | M209: BEA | N209: =B209-[1]a!$S$8 -> 81 | O209: =I209 -> 0.72051113
A210: 13 | B210: 44257 | C210: =B210-[1]Blad1!$C$4 -> 82 | D210: 1 | E210: SEA3 | F210: 0.14166667 | I210: =F210*1.98*[1]Blad1!$C$6/[1]Blad1!$C$5/44 -> 0.76554308 | J210: 0 | K210: 1 | L210: 1 | M210: SEA | N210: =B210-[1]a!$S$8 -> 81 | O210: =I210 -> 0.76554308
A211: 14 | B211: 44257 | C211: =B211-[1]Blad1!$C$4 -> 82 | D211: 1 | E211: BE4 | F211: 0.10833333 | I211: =F211*1.98*[1]Blad1!$C$6/[1]Blad1!$C$5/44 -> 0.58541529 | J211: 1 | K211: 1 | L211: 0 | M211: BE | N211: =B211-[1]a!$S$8 -> 81 | O211: =I211 -> 0.58541529
A212: 15 | B212: 44257 | C212: =B212-[1]Blad1!$C$4 -> 82 | D212: 1 | E212: BEA2 | F212: 0.066666667 | I212: =F212*1.98*[1]Blad1!$C$6/[1]Blad1!$C$5/44 -> 0.36025557 | J212: 1 | K212: 1 | L212: 1 | M212: BEA | N212: =B212-[1]a!$S$8 -> 81 | O212: =I212 -> 0.36025557
A213: 16 | B213: 44257 | C213: =B213-[1]Blad1!$C$4 -> 82 | D213: 1 | E213: BEA1 | F213: 0.26666667 | I213: =F213*1.98*[1]Blad1!$C$6/[1]Blad1!$C$5/44 -> 1.4410223 | J213: 1 | K213: 1 | L213: 1 | M213: BEA | N213: =B213-[1]a!$S$8 -> 81 | O213: =I213 -> 1.4410223
A214: 17 | B214: 44257 | C214: =B214-[1]Blad1!$C$4 -> 82 | D214: 1 | E214: B1 | F214: 0.033333333 | I214: =F214*1.98*[1]Blad1!$C$6/[1]Blad1!$C$5/44 -> 0.18012778 | J214: 1 | K214: 0 | L214: 0 | M214: B | N214: =B214-[1]a!$S$8 -> 81 | O214: =I214 -> 0.18012778
A215: 18 | B215: 44257 | C215: =B215-[1]Blad1!$C$4 -> 82 | D215: 1 | E215: BE5 | F215: 0.20833333 | I215: =F215*1.98*[1]Blad1!$C$6/[1]Blad1!$C$5/44 -> 1.1257986 | J215: 1 | K215: 1 | L215: 0 | M215: BE | N215: =B215-[1]a!$S$8 -> 81 | O215: =I215 -> 1.1257986
A216: 19 | B216: 44257 | C216: =B216-[1]Blad1!$C$4 -> 82 | D216: 1 | E216: BEA3 | F216: 0.525 | I216: =F216*1.98*[1]Blad1!$C$6/[1]Blad1!$C$5/44 -> 2.8370126 | J216: 1 | K216: 1 | L216: 1 | M216: BEA | N216: =B216-[1]a!$S$8 -> 81 | O216: =I216 -> 2.8370126
A217: 20 | B217: 44257 | C217: =B217-[1]Blad1!$C$4 -> 82 | D217: 1 | E217: BE3 | F217: 0.10833333 | I217: =F217*1.98*[1]Blad1!$C$6/[1]Blad1!$C$5/44 -> 0.58541529 | J217: 1 | K217: 1 | L217: 0 | M217: BE | N217: =B217-[1]a!$S$8 -> 81 | O217: =I217 -> 0.58541529
A218: 21 | B218: 44257 | C218: =B218-[1]Blad1!$C$4 -> 82 | D218: 1 | E218: B4 | F218: 0.016666667 | I218: =F218*1.98*[1]Blad1!$C$6/[1]Blad1!$C$5/44 -> 0.090063892 | J218: 1 | K218: 0 | L218: 0 | M218: B | N218: =B218-[1]a!$S$8 -> 81 | O218: =I218 -> 0.090063892
A219: 22 | B219: 44257 | C219: =B219-[1]Blad1!$C$4 -> 82 | D219: 1 | E219: BA2 | F219: 0.21666667 | I219: =F219*1.98*[1]Blad1!$C$6/[1]Blad1!$C$5/44 -> 1.1708306 | J219: 1 | K219: 0 | L219: 1 | M219: BA | N219: =B219-[1]a!$S$8 -> 81 | O219: =I219 -> 1.1708306
... A359: 22 | B359: 44294 | C359: =B359-[1]Blad1!$C$4 -> 119 | D359: 0 | E359: BA2 | F359: 0.11666667 | I359: =F359*1.98*[1]Blad1!$C$6/[1]Blad1!$C$5/44 -> 0.63044724 | J359: 1 | K359: 0 | L359: 1 | M359: BA | N359: =B359-[1]a!$S$8 -> 118 | O359: =I359 -> 0.63044724
A360: 23 | B360: 44294 | C360: =B360-[1]Blad1!$C$4 -> 119 | D360: 0 | E360: SEA2 | J360: 0 | K360: 1 | L360: 1 | M360: SEA | N360: =B360-[1]a!$S$8 -> 118 | O360: =I360 -> 0
A361: 24 | B361: 44294 | C361: =B361-[1]Blad1!$C$4 -> 119 | D361: 0 | E361: SEA1 | J361: 0 | K361: 1 | L361: 1 | M361: SEA | N361: =B361-[1]a!$S$8 -> 118 | O361: =I361 -> 0
A362: 25 | B362: 44294 | C362: =B362-[1]Blad1!$C$4 -> 119 | D362: 0 | E362: SEA4 | F362: 0.075 | I362: =F362*1.98*[1]Blad1!$C$6/[1]Blad1!$C$5/44 -> 0.40528751 | J362: 0 | K362: 1 | L362: 1 | M362: SEA | N362: =B362-[1]a!$S$8 -> 118 | O362: =I362 -> 0.40528751
A363: 26 | B363: 44294 | C363: =B363-[1]Blad1!$C$4 -> 119 | D363: 0 | E363: S4 | F363: 0.091666667 | I363: =F363*1.98*[1]Blad1!$C$6/[1]Blad1!$C$5/44 -> 0.4953514 | J363: 0 | K363: 0 | L363: 0 | M363: S | N363: =B363-[1]a!$S$8 -> 118 | O363: =I363 -> 0.4953514
A364: 27 | B364: 44294 | C364: =B364-[1]Blad1!$C$4 -> 119 | D364: 0 | E364: BEA5 | F364: 0.25 | I364: =F364*1.98*[1]Blad1!$C$6/[1]Blad1!$C$5/44 -> 1.3509584 | J364: 1 | K364: 1 | L364: 1 | M364: BEA | N364: =B364-[1]a!$S$8 -> 118 | O364: =I364 -> 1.3509584
A365: 28 | B365: 44294 | C365: =B365-[1]Blad1!$C$4 -> 119 | D365: 0 | E365: BA5 | F365: 0.15 | I365: =F365*1.98*[1]Blad1!$C$6/[1]Blad1!$C$5/44 -> 0.81057502 | J365: 1 | K365: 0 | L365: 1 | M365: BA | N365: =B365-[1]a!$S$8 -> 118 | O365: =I365 -> 0.81057502
A366: 1 | B366: 44302 | C366: =B366-[1]Blad1!$C$4 -> 127 | D366: 1 | E366: BE1 | F366: 0.14166667 | I366: =F366*1.98*[1]Blad1!$C$6/[1]Blad1!$C$5/44 -> 0.76554308 | J366: 1 | K366: 1 | L366: 0 | M366: BE | N366: =B366-[1]a!$S$8 -> 126 | O366: =I366 -> 0.76554308
A367: 2 | B367: 44302 | C367: =B367-[1]Blad1!$C$4 -> 127 | D367: 1 | E367: S1 | F367: 0.125 | I367: =F367*1.98*[1]Blad1!$C$6/[1]Blad1!$C$5/44 -> 0.67547919 | J367: 0 | K367: 0 | L367: 0 | M367: S | N367: =B367-[1]a!$S$8 -> 126 | O367: =I367 -> 0.67547919
A368: 3 | B368: 44302 | C368: =B368-[1]Blad1!$C$4 -> 127 | D368: 1 | E368: S2 | F368: 0.18333333 | I368: =F368*1.98*[1]Blad1!$C$6/[1]Blad1!$C$5/44 -> 0.99070281 | J368: 0 | K368: 0 | L368: 0 | M368: S | N368: =B368-[1]a!$S$8 -> 126 | O368: =I368 -> 0.99070281
A369: 4 | B369: 44302 | C369: =B369-[1]Blad1!$C$4 -> 127 | D369: 1 | E369: BA3 | F369: 0.075 | I369: =F369*1.98*[1]Blad1!$C$6/[1]Blad1!$C$5/44 -> 0.40528751 | J369: 1 | K369: 0 | L369: 1 | M369: BA | N369: =B369-[1]a!$S$8 -> 126 | O369: =I369 -> 0.40528751
A370: 5 | B370: 44302 | C370: =B370-[1]Blad1!$C$4 -> 127 | D370: 1 | E370: S3 | F370: 0.066666667 | I370: =F370*1.98*[1]Blad1!$C$6/[1]Blad1!$C$5/44 -> 0.36025557 | J370: 0 | K370: 0 | L370: 0 | M370: S | N370: =B370-[1]a!$S$8 -> 126 | O370: =I370 -> 0.36025557
A371: 6 | B371: 44302 | C371: =B371-[1]Blad1!$C$4 -> 127 | D371: 1 | E371: BA4 | F371: 0.041666667 | I371: =F371*1.98*[1]Blad1!$C$6/[1]Blad1!$C$5/44 -> 0.22515973 | J371: 1 | K371: 0 | L371: 1 | M371: BA | N371: =B371-[1]a!$S$8 -> 126 | O371: =I371 -> 0.22515973
A372: 7 | B372: 44302 | C372: =B372-[1]Blad1!$C$4 -> 127 | D372: 1 | E372: B3 | F372: 0.0083333333 | I372: =F372*1.98*[1]Blad1!$C$6/[1]Blad1!$C$5/44 -> 0.045031946 | J372: 1 | K372: 0 | L372: 0 | M372: B | N372: =B372-[1]a!$S$8 -> 126 | O372: =I372 -> 0.045031946
A373: 8 | B373: 44302 | C373: =B373-[1]Blad1!$C$4 -> 127 | D373: 1 | E373: BA1 | F373: 0.18333333 | I373: =F373*1.98*[1]Blad1!$C$6/[1]Blad1!$C$5/44 -> 0.99070281 | J373: 1 | K373: 0 | L373: 1 | M373: BA | N373: =B373-[1]a!$S$8 -> 126 | O373: =I373 -> 0.99070281
... A394: 1 | B394: 44306 | C394: =B394-[1]Blad1!$C$4 -> 131 | D394: 0 | E394: BE1 | F394: 0.10833333 | I394: =F394*1.98*[1]Blad1!$C$6/[1]Blad1!$C$5/44 -> 0.58541529 | J394: 0 | K394: 0 | L394: 0 | M394: BE | N394: =B394-[1]a!$S$8 -> 130 | O394: =I394 -> 0.58541529
A395: 2 | B395: 44306 | C395: =B395-[1]Blad1!$C$4 -> 131 | D395: 0 | E395: S1 | F395: 0 | J395: 0 | K395: 0 | L395: 0 | M395: S | N395: =B395-[1]a!$S$8 -> 130 | O395: =I395 -> 0
A396: 3 | B396: 44306 | C396: =B396-[1]Blad1!$C$4 -> 131 | D396: 0 | E396: S2 | F396: 0.033333333 | I396: =F396*1.98*[1]Blad1!$C$6/[1]Blad1!$C$5/44 -> 0.18012778 | J396: 1 | K396: 0 | L396: 1 | M396: S | N396: =B396-[1]a!$S$8 -> 130 | O396: =I396 -> 0.18012778
A397: 4 | B397: 44306 | C397: =B397-[1]Blad1!$C$4 -> 131 | D397: 0 | E397: BA3 | J397: 0 | K397: 0 | L397: 0 | M397: BA | N397: =B397-[1]a!$S$8 -> 130 | O397: =I397 -> 0
A398: 5 | B398: 44306 | C398: =B398-[1]Blad1!$C$4 -> 131 | D398: 0 | E398: S3 | F398: 0.16666667 | I398: =F398*1.98*[1]Blad1!$C$6/[1]Blad1!$C$5/44 -> 0.90063892 | J398: 1 | K398: 0 | L398: 1 | M398: S | N398: =B398-[1]a!$S$8 -> 130 | O398: =I398 -> 0.90063892
A399: 6 | B399: 44306 | C399: =B399-[1]Blad1!$C$4 -> 131 | D399: 0 | E399: BA4 | F399: 0.016666667 | I399: =F399*1.98*[1]Blad1!$C$6/[1]Blad1!$C$5/44 -> 0.090063892 | J399: 1 | K399: 0 | L399: 0 | M399: BA | N399: =B399-[1]a!$S$8 -> 130 | O399: =I399 -> 0.090063892
A400: 7 | B400: 44306 | C400: =B400-[1]Blad1!$C$4 -> 131 | D400: 0 | E400: B3 | F400: 0.125 | I400: =F400*1.98*[1]Blad1!$C$6/[1]Blad1!$C$5/44 -> 0.67547919 | J400: 1 | K400: 0 | L400: 1 | M400: B | N400: =B400-[1]a!$S$8 -> 130 | O400: =I400 -> 0.67547919
A401: 8 | B401: 44306 | C401: =B401-[1]Blad1!$C$4 -> 131 | D401: 0 | E401: BA1 | F401: 0.25 | I401: =F401*1.98*[1]Blad1!$C$6/[1]Blad1!$C$5/44 -> 1.3509584 | J401: 1 | K401: 0 | L401: 0 | M401: BA | N401: =B401-[1]a!$S$8 -> 130 | O401: =I401 -> 1.3509584
A402: 9 | B402: 44306 | C402: =B402-[1]Blad1!$C$4 -> 131 | D402: 0 | E402: B2 | F402: 0.28333333 | I402: =F402*1.98*[1]Blad1!$C$6/[1]Blad1!$C$5/44 -> 1.5310862 | J402: 1 | K402: 0 | L402: 0 | M402: B | N402: =B402-[1]a!$S$8 -> 130 | O402: =I402 -> 1.5310862
A403: 10 | B403: 44306 | C403: =B403-[1]Blad1!$C$4 -> 131 | D403: 0 | E403: B5 | F403: 0 | J403: 1 | K403: 1 | L403: 0 | M403: B | N403: =B403-[1]a!$S$8 -> 130 | O403: =I403 -> 0
A404: 11 | B404: 44306 | C404: =B404-[1]Blad1!$C$4 -> 131 | D404: 0 | E404: BE2 | F404: 0.1 | I404: =F404*1.98*[1]Blad1!$C$6/[1]Blad1!$C$5/44 -> 0.54038335 | J404: 1 | K404: 1 | L404: 1 | M404: BE | N404: =B404-[1]a!$S$8 -> 130 | O404: =I404 -> 0.54038335
A405: 12 | B405: 44306 | C405: =B405-[1]Blad1!$C$4 -> 131 | D405: 0 | E405: BEA4 | F405: 0.21666667 | I405: =F405*1.98*[1]Blad1!$C$6/[1]Blad1!$C$5/44 -> 1.1708306 | J405: 0 | K405: 1 | L405: 1 | M405: BEA | N405: =B405-[1]a!$S$8 -> 130 | O405: =I405 -> 1.1708306
...

Sheet CO2cumul
A1: day | B1: ID | C1: CO2FLUX_micromoles | D1: AverageCO2_µmolCO2_m2_s_intime_interval | E1: µmolCO2_m2 | F1: Cumulative µmolCO2/m2 | G1: cumulgCO2_m2 | H1: TonCO2_ha | I1: treatment | J1: cumulTonCO2_ha_131d | K1: AverageCO2_µmolCO2_m2_s_intime_interval_rightCO2density1_84_16graden | L1: tussenstap | M1: densitycorrection1.84Vsearlier | N1: Basalt | O1: Anecic | P1: endogeic
A2: 6 | B2: B1 | C2: -0.037826834 | D2: =C2 -> -0.037826834 | E2: =K2*(A2)*(24*3600) -> -18222.906 | F2: =E2 -> -18222.906 | G2: =F2*44/10^(6) -> -0.80180784 | H2: =G2*10000/1000/1000 -> -0.0080180784 | I2: B | K2: =D2/$M$2 -> -0.03515221 | L2: -0.03515221 | M2: =C2/L2 -> 1.076087 | N2: 1 | O2: 0 | P2: 0
A3: 41 | B3: B1 | C3: 0.23290522 | D3: =AVERAGE(C2:C3) -> 0.097539195 | E3: =K3*(A3-A2)*(24*3600) -> 274102.87 | F3: =E3+F2 -> 255879.97 | G3: =F3*44/10^(6) -> 11.258718 | H3: =G3*10000/1000/1000 -> 0.11258718 | I3: B | K3: =D3/$M$2 -> 0.090642484 | N3: =N2 -> 1 | O3: =O2 -> 0 | P3: =P2 -> 0
A4: 49 | B4: B1 | C4: 0.80463081 | D4: =AVERAGE(C3:C4) -> 0.51876802 | E4: =K4*(A4-A3)*(24*3600) -> 333218.84 | F4: =E4+F3 -> 589098.81 | G4: =F4*44/10^(6) -> 25.920348 | H4: =G4*10000/1000/1000 -> 0.25920348 | I4: B | K4: =D4/$M$2 -> 0.48208745 | N4: =N3 -> 1 | O4: =O3 -> 0 | P4: =P3 -> 0
A5: 56 | B5: B1 | C5: 0.72051113 | D5: =AVERAGE(C4:C5) -> 0.76257097 | E5: =K5*(A5-A4)*(24*3600) -> 428592.61 | F5: =E5+F4 -> 1017691.4 | G5: =F5*44/10^(6) -> 44.778423 | H5: =G5*10000/1000/1000 -> 0.44778423 | I5: B | K5: =D5/$M$2 -> 0.70865181 | N5: =N4 -> 1 | O5: =O4 -> 0 | P5: =P4 -> 0
A6: 61 | B6: B1 | C6: 0.72051113 | D6: =AVERAGE(C5:C6) -> 0.72051113 | E6: =K6*(A6-A5)*(24*3600) -> 289252.47 | F6: =E6+F5 -> 1306943.9 | G6: =F6*44/10^(6) -> 57.505531 | H6: =G6*10000/1000/1000 -> 0.57505531 | I6: B | K6: =D6/$M$2 -> 0.6695659 | N6: =N5 -> 1 | O6: =O5 -> 0 | P6: =P5 -> 0
A7: 69 | B7: B1 | C7: 0.45031946 | D7: =AVERAGE(C6:C7) -> 0.58541529 | E7: =K7*(A7-A6)*(24*3600) -> 376028.21 | F7: =E7+F6 -> 1682972.1 | G7: =F7*44/10^(6) -> 74.050773 | H7: =G7*10000/1000/1000 -> 0.74050773 | I7: B | K7: =D7/$M$2 -> 0.54402229 | N7: =N6 -> 1 | O7: =O6 -> 0 | P7: =P6 -> 0
A8: 75 | B8: B1 | C8: 0.40528751 | D8: =AVERAGE(C7:C8) -> 0.42780348 | E8: =K8*(A8-A7)*(24*3600) -> 206092.38 | F8: =E8+F7 -> 1889064.5 | G8: =F8*44/10^(6) -> 83.118837 | H8: =G8*10000/1000/1000 -> 0.83118837 | I8: B | K8: =D8/$M$2 -> 0.39755475 | N8: =N7 -> 1 | O8: =O7 -> 0 | P8: =P7 -> 0
A9: 82 | B9: B1 | C9: 0.18012778 | D9: =AVERAGE(C8:C9) -> 0.29270765 | E9: =K9*(A9-A8)*(24*3600) -> 164512.34 | F9: =E9+F8 -> 2053576.8 | G9: =F9*44/10^(6) -> 90.35738 | H9: =G9*10000/1000/1000 -> 0.9035738 | I9: B | K9: =D9/$M$2 -> 0.27201115 | N9: =N8 -> 1 | O9: =O8 -> 0 | P9: =P8 -> 0
A10: 92 | B10: B1 | C10: 0.67547919 | D10: =AVERAGE(C9:C10) -> 0.42780348 | E10: =K10*(A10-A9)*(24*3600) -> 343487.31 | F10: =E10+F9 -> 2397064.1 | G10: =F10*44/10^(6) -> 105.47082 | H10: =G10*10000/1000/1000 -> 1.0547082 | I10: B | K10: =D10/$M$2 -> 0.39755475 | N10: =N9 -> 1 | O10: =O9 -> 0 | P10: =P9 -> 0
A11: 95 | B11: B1 | C11: 0.4953514 | D11: =AVERAGE(C10:C11) -> 0.58541529 | E11: =K11*(A11-A10)*(24*3600) -> 141010.58 | F11: =E11+F10 -> 2538074.7 | G11: =F11*44/10^(6) -> 111.67529 | H11: =G11*10000/1000/1000 -> 1.1167529 | I11: B | K11: =D11/$M$2 -> 0.54402229 | N11: =N10 -> 1 | O11: =O10 -> 0 | P11: =P10 -> 0
A12: 103 | B12: B1 | C12: 0.090063892 | D12: =AVERAGE(C11:C12) -> 0.29270765 | E12: =K12*(A12-A11)*(24*3600) -> 188014.1 | F12: =E12+F11 -> 2726088.8 | G12: =F12*44/10^(6) -> 119.94791 | H12: =G12*10000/1000/1000 -> 1.1994791 | I12: B | K12: =D12/$M$2 -> 0.27201115 | N12: =N11 -> 1 | O12: =O11 -> 0 | P12: =P11 -> 0
A13: 113 | B13: B1 | C13: 0.54038335 | D13: =AVERAGE(C12:C13) -> 0.31522362 | E13: =K13*(A13-A12)*(24*3600) -> 253095.91 | F13: =E13+F12 -> 2979184.7 | G13: =F13*44/10^(6) -> 131.08413 | H13: =G13*10000/1000/1000 -> 1.3108413 | I13: B | K13: =D13/$M$2 -> 0.29293508 | N13: =N12 -> 1 | O13: =O12 -> 0 | P13: =P12 -> 0
A14: 119 | B14: B1 | C14: 0.4953514 | D14: =AVERAGE(C13:C14) -> 0.51786738 | E14: =K14*(A14-A13)*(24*3600) -> 249480.25 | F14: =E14+F13 -> 3228665 | G14: =F14*44/10^(6) -> 142.06126 | H14: =G14*10000/1000/1000 -> 1.4206126 | I14: B | K14: =D14/$M$2 -> 0.48125049 | N14: =N13 -> 1 | O14: =O13 -> 0 | P14: =P13 -> 0
... A16: 131 | B16: B1 | C16: 0.72051113 | D16: =AVERAGE(C15:C16) -> 0.38277154 | E16: =K16*(A16-A15)*(24*3600) -> 122932.3 | F16: =E16+F15 -> 3525148.8 | G16: =F16*44/10^(6) -> 155.10655 | H16: =G16*10000/1000/1000 -> 1.5510655 | I16: B | K16: =D16/$M$2 -> 0.35570688 | N16: =N15 -> 1 | O16: =O15 -> 0 | P16: =P15 -> 0
A17: 6 | B17: B2 | C17: 0.13509584 | D17: =C17 -> 0.13509584 | E17: =K17*(A17)*(24*3600) -> 65081.806 | F17: =E17 -> 65081.806 | G17: =F17*44/10^(6) -> 2.8635994 | H17: =G17*10000/1000/1000 -> 0.028635994 | I17: B | K17: =D17/$M$2 -> 0.12554361 | N17: =N16 -> 1 | O17: =O16 -> 0 | P17: =P16 -> 0
A18: 41 | B18: B2 | C18: 0.35016841 | D18: =AVERAGE(C17:C18) -> 0.24263212 | E18: =K18*(A18-A17)*(24*3600) -> 681840.38 | F18: =E18+F17 -> 746922.19 | G18: =F18*44/10^(6) -> 32.864576 | H18: =G18*10000/1000/1000 -> 0.32864576 | I18: B | K18: =D18/$M$2 -> 0.22547632 | N18: =N17 -> 1 | O18: =O17 -> 0 | P18: =P17 -> 0
A19: 49 | B19: B2 | C19: 1.3012431 | D19: =AVERAGE(C18:C19) -> 0.82570576 | E19: =K19*(A19-A18)*(24*3600) -> 530373.33 | F19: =E19+F18 -> 1277295.5 | G19: =F19*44/10^(6) -> 56.201003 | H19: =G19*10000/1000/1000 -> 0.56201003 | I19: B | K19: =D19/$M$2 -> 0.76732252 | N19: =N18 -> 1 | O19: =O18 -> 0 | P19: =P18 -> 0
A20: 56 | B20: B2 | C20: 1.7112139 | D20: =AVERAGE(C19:C20) -> 1.5062285 | E20: =K20*(A20-A19)*(24*3600) -> 846555.2 | F20: =E20+F19 -> 2123850.7 | G20: =F20*44/10^(6) -> 93.449432 | H20: =G20*10000/1000/1000 -> 0.93449432 | I20: B | K20: =D20/$M$2 -> 1.3997275 | N20: =N19 -> 1 | O20: =O19 -> 0 | P20: =P19 -> 0
A21: 61 | B21: B2 | C21: 1.7112139 | D21: =AVERAGE(C20:C21) -> 1.7112139 | E21: =K21*(A21-A20)*(24*3600) -> 686974.61 | F21: =E21+F20 -> 2810825.3 | G21: =F21*44/10^(6) -> 123.67631 | H21: =G21*10000/1000/1000 -> 1.2367631 | I21: B | K21: =D21/$M$2 -> 1.590219 | N21: =N20 -> 1 | O21: =O20 -> 0 | P21: =P20 -> 0
A22: 69 | B22: B2 | C22: 0.54038335 | D22: =AVERAGE(C21:C22) -> 1.1257986 | E22: =K22*(A22-A21)*(24*3600) -> 723131.17 | F22: =E22+F21 -> 3533956.5 | G22: =F22*44/10^(6) -> 155.49409 | H22: =G22*10000/1000/1000 -> 1.5549409 | I22: B | K22: =D22/$M$2 -> 1.0461967 | N22: =N21 -> 1 | O22: =O21 -> 0 | P22: =P21 -> 0
A23: 75 | B23: B2 | C23: 0.72051113 | D23: =AVERAGE(C22:C23) -> 0.63044724 | E23: =K23*(A23-A22)*(24*3600) -> 303715.09 | F23: =E23+F22 -> 3837671.6 | G23: =F23*44/10^(6) -> 168.85755 | H23: =G23*10000/1000/1000 -> 1.6885755 | I23: B | K23: =D23/$M$2 -> 0.58587016 | N23: =N22 -> 1 | O23: =O22 -> 0 | P23: =P22 -> 0
A24: 82 | B24: B2 | C24: 0.67547919 | D24: =AVERAGE(C23:C24) -> 0.69799516 | E24: =K24*(A24-A23)*(24*3600) -> 392298.66 | F24: =E24+F23 -> 4229970.3 | G24: =F24*44/10^(6) -> 186.11869 | H24: =G24*10000/1000/1000 -> 1.8611869 | I24: B | K24: =D24/$M$2 -> 0.64864197 | N24: =N23 -> 1 | O24: =O23 -> 0 | P24: =P23 -> 0
A25: 92 | B25: B2 | C25: 1.1708306 | D25: =AVERAGE(C24:C25) -> 0.92315489 | E25: =K25*(A25-A24)*(24*3600) -> 741209.45 | F25: =E25+F24 -> 4971179.7 | G25: =F25*44/10^(6) -> 218.73191 | H25: =G25*10000/1000/1000 -> 2.1873191 | I25: B | K25: =D25/$M$2 -> 0.85788131 | N25: =N24 -> 1 | O25: =O24 -> 0 | P25: =P24 -> 0
A26: 95 | B26: B2 | C26: 1.2158625 | D26: =AVERAGE(C25:C26) -> 1.1933466 | E26: =K26*(A26-A25)*(24*3600) -> 287444.64 | F26: =E26+F25 -> 5258624.4 | G26: =F26*44/10^(6) -> 231.37947 | H26: =G26*10000/1000/1000 -> 2.3137947 | I26: B | K26: =D26/$M$2 -> 1.1089685 | N26: =N25 -> 1 | O26: =O25 -> 0 | P26: =P25 -> 0
A27: 103 | B27: B2 | C27: 0.36025557 | D27: =AVERAGE(C26:C27) -> 0.78805905 | E27: =K27*(A27-A26)*(24*3600) -> 506191.82 | F27: =E27+F26 -> 5764816.2 | G27: =F27*44/10^(6) -> 253.65191 | H27: =G27*10000/1000/1000 -> 2.5365191 | I27: B | K27: =D27/$M$2 -> 0.7323377 | N27: =N26 -> 1 | O27: =O26 -> 0 | P27: =P26 -> 0
A28: 113 | B28: B2 | C28: 0.81057502 | D28: =AVERAGE(C27:C28) -> 0.58541529 | E28: =K28*(A28-A27)*(24*3600) -> 470035.26 | F28: =E28+F27 -> 6234851.4 | G28: =F28*44/10^(6) -> 274.33346 | H28: =G28*10000/1000/1000 -> 2.7433346 | I28: B | K28: =D28/$M$2 -> 0.54402229 | N28: =N27 -> 1 | O28: =O27 -> 0 | P28: =P27 -> 0
A29: 119 | B29: B2 | C29: 1.1257986 | D29: =AVERAGE(C28:C29) -> 0.96818683 | E29: =K29*(A29-A28)*(24*3600) -> 466419.61 | F29: =E29+F28 -> 6701271 | G29: =F29*44/10^(6) -> 294.85593 | H29: =G29*10000/1000/1000 -> 2.9485593 | I29: B | K29: =D29/$M$2 -> 0.89972918 | N29: =N28 -> 1 | O29: =O28 -> 0 | P29: =P28 -> 0
A30: 127 | B30: B2 | C30: 0.67547919 | D30: =AVERAGE(C29:C30) -> 0.90063892 | E30: =K30*(A30-A29)*(24*3600) -> 578504.94 | F30: =E30+F29 -> 7279776 | G30: =F30*44/10^(6) -> 320.31014 | H30: =G30*10000/1000/1000 -> 3.2031014 | I30: B | K30: =D30/$M$2 -> 0.83695738 | N30: =N29 -> 1 | O30: =O29 -> 0 | P30: =P29 -> 0
A31: 131 | B31: B2 | C31: 1.5310862 | D31: =AVERAGE(C30:C31) -> 1.1032827 | E31: =K31*(A31-A30)*(24*3600) -> 354334.27 | F31: =E31+F30 -> 7634110.3 | G31: =F31*44/10^(6) -> 335.90085 | H31: =G31*10000/1000/1000 -> 3.3590085 | I31: B | J31: =H31 -> 3.3590085 | K31: =D31/$M$2 -> 1.0252728 | N31: =N30 -> 1 | O31: =O30 -> 0 | P31: =P30 -> 0
A32: 6 | B32: B3 | C32: 0.14968619 | D32: =C32 -> 0.14968619 | E32: =K32*(A32)*(24*3600) -> 72110.641 | F32: =E32 -> 72110.641 | G32: =F32*44/10^(6) -> 3.1728682 | H32: =G32*10000/1000/1000 -> 0.031728682 | I32: B | K32: =D32/$M$2 -> 0.13910232 | N32: =N31 -> 1 | O32: =O31 -> 0 | P32: =P31 -> 0
A33: 41 | B33: B3 | C33: 0.27127244 | D33: =AVERAGE(C32:C33) -> 0.21047931 | E33: =K33*(A33-A32)*(24*3600) -> 591485.14 | F33: =E33+F32 -> 663595.78 | G33: =F33*44/10^(6) -> 29.198214 | H33: =G33*10000/1000/1000 -> 0.29198214 | I33: B | K33: =D33/$M$2 -> 0.19559694 | N33: =N32 -> 1 | O33: =O32 -> 0 | P33: =P32 -> 0
A34: 49 | B34: B3 | C34: 0.5873967 | D34: =AVERAGE(C33:C34) -> 0.42933457 | E34: =K34*(A34-A33)*(24*3600) -> 275773.3 | F34: =E34+F33 -> 939369.09 | G34: =F34*44/10^(6) -> 41.33224 | H34: =G34*10000/1000/1000 -> 0.4133224 | I34: B | K34: =D34/$M$2 -> 0.39897758 | N34: =N33 -> 1 | O34: =O33 -> 0 | P34: =P33 -> 0
A35: 56 | B35: B3 | C35: 1.0357348 | D35: =AVERAGE(C34:C35) -> 0.81156573 | E35: =K35*(A35-A34)*(24*3600) -> 456129.45 | F35: =E35+F34 -> 1395498.5 | G35: =F35*44/10^(6) -> 61.401936 | H35: =G35*10000/1000/1000 -> 0.61401936 | I35: B | K35: =D35/$M$2 -> 0.75418229 | N35: =N34 -> 1 | O35: =O34 -> 0 | P35: =P34 -> 0
A36: 61 | B36: B3 | C36: 1.0357348 | D36: =AVERAGE(C35:C36) -> 1.0357348 | E36: =K36*(A36-A35)*(24*3600) -> 415800.42 | F36: =E36+F35 -> 1811299 | G36: =F36*44/10^(6) -> 79.697154 | H36: =G36*10000/1000/1000 -> 0.79697154 | I36: B | K36: =D36/$M$2 -> 0.96250098 | N36: =N35 -> 1 | O36: =O35 -> 0 | P36: =P35 -> 0
A37: 69 | B37: B3 | C37: 0.36025557 | D37: =AVERAGE(C36:C37) -> 0.69799516 | E37: =K37*(A37-A36)*(24*3600) -> 448341.33 | F37: =E37+F36 -> 2259640.3 | G37: =F37*44/10^(6) -> 99.424173 | H37: =G37*10000/1000/1000 -> 0.99424173 | I37: B | K37: =D37/$M$2 -> 0.64864197 | N37: =N36 -> 1 | O37: =O36 -> 0 | P37: =P36 -> 0
A38: 75 | B38: B3 | C38: 0.31522362 | D38: =AVERAGE(C37:C38) -> 0.33773959 | E38: =K38*(A38-A37)*(24*3600) -> 162704.51 | F38: =E38+F37 -> 2422344.8 | G38: =F38*44/10^(6) -> 106.58317 | H38: =G38*10000/1000/1000 -> 1.0658317 | I38: B | K38: =D38/$M$2 -> 0.31385902 | N38: =N37 -> 1 | O38: =O37 -> 0 | P38: =P37 -> 0
A39: 82 | B39: B3 | C39: 0.63044724 | D39: =AVERAGE(C38:C39) -> 0.47283543 | E39: =K39*(A39-A38)*(24*3600) -> 265750.71 | F39: =E39+F38 -> 2688095.5 | G39: =F39*44/10^(6) -> 118.2762 | H39: =G39*10000/1000/1000 -> 1.182762 | I39: B | K39: =D39/$M$2 -> 0.43940262 | N39: =N38 -> 1 | O39: =O38 -> 0 | P39: =P38 -> 0
A40: 92 | B40: B3 | C40: 0.36025557 | D40: =AVERAGE(C39:C40) -> 0.4953514 | E40: =K40*(A40-A39)*(24*3600) -> 397722.14 | F40: =E40+F39 -> 3085817.7 | G40: =F40*44/10^(6) -> 135.77598 | H40: =G40*10000/1000/1000 -> 1.3577598 | I40: B | K40: =D40/$M$2 -> 0.46032656 | N40: =N39 -> 1 | O40: =O39 -> 0 | P40: =P39 -> 0
A41: 95 | B41: B3 | C41: 0.4953514 | D41: =AVERAGE(C40:C41) -> 0.42780348 | E41: =K41*(A41-A40)*(24*3600) -> 103046.19 | F41: =E41+F40 -> 3188863.8 | G41: =F41*44/10^(6) -> 140.31001 | H41: =G41*10000/1000/1000 -> 1.4031001 | I41: B | K41: =D41/$M$2 -> 0.39755475 | N41: =N40 -> 1 | O41: =O40 -> 0 | P41: =P40 -> 0
A42: 103 | B42: B3 | C42: 0.18012778 | D42: =AVERAGE(C41:C42) -> 0.33773959 | E42: =K42*(A42-A41)*(24*3600) -> 216939.35 | F42: =E42+F41 -> 3405803.2 | G42: =F42*44/10^(6) -> 149.85534 | H42: =G42*10000/1000/1000 -> 1.4985534 | I42: B | K42: =D42/$M$2 -> 0.31385902 | N42: =N41 -> 1 | O42: =O41 -> 0 | P42: =P41 -> 0
A43: 113 | B43: B3 | C43: 1.62115 | D43: =AVERAGE(C42:C43) -> 0.90063892 | E43: =K43*(A43-A42)*(24*3600) -> 723131.17 | F43: =E43+F42 -> 4128934.4 | G43: =F43*44/10^(6) -> 181.67311 | H43: =G43*10000/1000/1000 -> 1.8167311 | I43: B | K43: =D43/$M$2 -> 0.83695738 | N43: =N42 -> 1 | O43: =O42 -> 0 | P43: =P42 -> 0
A44: 119 | B44: B3 | C44: 0.76554308 | D44: =AVERAGE(C43:C44) -> 1.1933466 | E44: =K44*(A44-A43)*(24*3600) -> 574889.28 | F44: =E44+F43 -> 4703823.7 | G44: =F44*44/10^(6) -> 206.96824 | H44: =G44*10000/1000/1000 -> 2.0696824 | I44: B | K44: =D44/$M$2 -> 1.1089685 | N44: =N43 -> 1 | O44: =O43 -> 0 | P44: =P43 -> 0
... A46: 131 | B46: B3 | C46: 0.67547919 | D46: =AVERAGE(C45:C46) -> 0.36025557 | E46: =K46*(A46-A45)*(24*3600) -> 115700.99 | F46: =E46+F45 -> 5079851.9 | G46: =F46*44/10^(6) -> 223.51348 | H46: =G46*10000/1000/1000 -> 2.2351348 | I46: B | K46: =D46/$M$2 -> 0.33478295 | N46: =N45 -> 1 | O46: =O45 -> 0 | P46: =P45 -> 0
A47: 6 | B47: B4 | C47: 0.022155717 | D47: =C47 -> 0.022155717 | E47: =K47*(A47)*(24*3600) -> 10673.416 | F47: =E47 -> 10673.416 | G47: =F47*44/10^(6) -> 0.46963031 | H47: =G47*10000/1000/1000 -> 0.0046963031 | I47: B | K47: =D47/$M$2 -> 0.020589151 | N47: =N46 -> 1 | O47: =O46 -> 0 | P47: =P46 -> 0
A48: 41 | B48: B4 | C48: 0.33611844 | D48: =AVERAGE(C47:C48) -> 0.17913708 | E48: =K48*(A48-A47)*(24*3600) -> 503407.77 | F48: =E48+F47 -> 514081.18 | G48: =F48*44/10^(6) -> 22.619572 | H48: =G48*10000/1000/1000 -> 0.22619572 | I48: B | K48: =D48/$M$2 -> 0.16647082 | N48: =N47 -> 1 | O48: =O47 -> 0 | P48: =P47 -> 0
A49: 49 | B49: B4 | C49: 0.44851818 | D49: =AVERAGE(C48:C49) -> 0.39231831 | E49: =K49*(A49-A48)*(24*3600) -> 251996.75 | F49: =E49+F48 -> 766077.93 | G49: =F49*44/10^(6) -> 33.707429 | H49: =G49*10000/1000/1000 -> 0.33707429 | I49: B | K49: =D49/$M$2 -> 0.36457863 | N49: =N48 -> 1 | O49: =O48 -> 0 | P49: =P48 -> 0
A50: 56 | B50: B4 | C50: 0.85560697 | D50: =AVERAGE(C49:C50) -> 0.65206257 | E50: =K50*(A50-A49)*(24*3600) -> 366482.88 | F50: =E50+F49 -> 1132560.8 | G50: =F50*44/10^(6) -> 49.832676 | H50: =G50*10000/1000/1000 -> 0.49832676 | I50: B | K50: =D50/$M$2 -> 0.60595714 | N50: =N49 -> 1 | O50: =O49 -> 0 | P50: =P49 -> 0
A51: 61 | B51: B4 | C51: 0.85560697 | D51: =AVERAGE(C50:C51) -> 0.85560697 | E51: =K51*(A51-A50)*(24*3600) -> 343487.31 | F51: =E51+F50 -> 1476048.1 | G51: =F51*44/10^(6) -> 64.946117 | H51: =G51*10000/1000/1000 -> 0.64946117 | I51: B | K51: =D51/$M$2 -> 0.79510951 | N51: =N50 -> 1 | O51: =O50 -> 0 | P51: =P50 -> 0
A52: 69 | B52: B4 | C52: 0.45031946 | D52: =AVERAGE(C51:C52) -> 0.65296321 | E52: =K52*(A52-A51)*(24*3600) -> 419416.08 | F52: =E52+F51 -> 1895464.2 | G52: =F52*44/10^(6) -> 83.400425 | H52: =G52*10000/1000/1000 -> 0.83400425 | I52: B | K52: =D52/$M$2 -> 0.6067941 | N52: =N51 -> 1 | O52: =O51 -> 0 | P52: =P51 -> 0
A53: 75 | B53: B4 | C53: 0.27019167 | D53: =AVERAGE(C52:C53) -> 0.36025557 | E53: =K53*(A53-A52)*(24*3600) -> 173551.48 | F53: =E53+F52 -> 2069015.7 | G53: =F53*44/10^(6) -> 91.03669 | H53: =G53*10000/1000/1000 -> 0.9103669 | I53: B | K53: =D53/$M$2 -> 0.33478295 | N53: =N52 -> 1 | O53: =O52 -> 0 | P53: =P52 -> 0
A54: 82 | B54: B4 | C54: 0.090063892 | D54: =AVERAGE(C53:C54) -> 0.18012778 | E54: =K54*(A54-A53)*(24*3600) -> 101238.36 | F54: =E54+F53 -> 2170254 | G54: =F54*44/10^(6) -> 95.491178 | H54: =G54*10000/1000/1000 -> 0.95491178 | I54: B | K54: =D54/$M$2 -> 0.16739148 | N54: =N53 -> 1 | O54: =O53 -> 0 | P54: =P53 -> 0
A55: 92 | B55: B4 | C55: 0.81057502 | D55: =AVERAGE(C54:C55) -> 0.45031946 | E55: =K55*(A55-A54)*(24*3600) -> 361565.59 | F55: =E55+F54 -> 2531819.6 | G55: =F55*44/10^(6) -> 111.40006 | H55: =G55*10000/1000/1000 -> 1.1140006 | I55: B | K55: =D55/$M$2 -> 0.41847869 | N55: =N54 -> 1 | O55: =O54 -> 0 | P55: =P54 -> 0
A56: 95 | B56: B4 | C56: 0.40528751 | D56: =AVERAGE(C55:C56) -> 0.60793127 | E56: =K56*(A56-A55)*(24*3600) -> 146434.06 | F56: =E56+F55 -> 2678253.7 | G56: =F56*44/10^(6) -> 117.84316 | H56: =G56*10000/1000/1000 -> 1.1784316 | I56: B | K56: =D56/$M$2 -> 0.56494623 | N56: =N55 -> 1 | O56: =O55 -> 0 | P56: =P55 -> 0
A57: 103 | B57: B4 | C57: 0.36025557 | D57: =AVERAGE(C56:C57) -> 0.38277154 | E57: =K57*(A57-A56)*(24*3600) -> 245864.6 | F57: =E57+F56 -> 2924118.3 | G57: =F57*44/10^(6) -> 128.6612 | H57: =G57*10000/1000/1000 -> 1.286612 | I57: B | K57: =D57/$M$2 -> 0.35570688 | N57: =N56 -> 1 | O57: =O56 -> 0 | P57: =P56 -> 0
A58: 113 | B58: B4 | C58: 0.81057502 | D58: =AVERAGE(C57:C58) -> 0.58541529 | E58: =K58*(A58-A57)*(24*3600) -> 470035.26 | F58: =E58+F57 -> 3394153.6 | G58: =F58*44/10^(6) -> 149.34276 | H58: =G58*10000/1000/1000 -> 1.4934276 | I58: B | K58: =D58/$M$2 -> 0.54402229 | N58: =N57 -> 1 | O58: =O57 -> 0 | P58: =P57 -> 0
A59: 119 | B59: B4 | C59: 0.22515973 | D59: =AVERAGE(C58:C59) -> 0.51786738 | E59: =K59*(A59-A58)*(24*3600) -> 249480.25 | F59: =E59+F58 -> 3643633.8 | G59: =F59*44/10^(6) -> 160.31989 | H59: =G59*10000/1000/1000 -> 1.6031989 | I59: B | K59: =D59/$M$2 -> 0.48125049 | N59: =N58 -> 1 | O59: =O58 -> 0 | P59: =P58 -> 0
A60: 127 | B60: B4 | C60: 0.63044724 | D60: =AVERAGE(C59:C60) -> 0.42780348 | E60: =K60*(A60-A59)*(24*3600) -> 274789.85 | F60: =E60+F59 -> 3918423.7 | G60: =F60*44/10^(6) -> 172.41064 | H60: =G60*10000/1000/1000 -> 1.7241064 | I60: B | K60: =D60/$M$2 -> 0.39755475 | N60: =N59 -> 1 | O60: =O59 -> 0 | P60: =P59 -> 0
A61: 131 | B61: B4 | C61: 0.45031946 | D61: =AVERAGE(C60:C61) -> 0.54038335 | E61: =K61*(A61-A60)*(24*3600) -> 173551.48 | F61: =E61+F60 -> 4091975.1 | G61: =F61*44/10^(6) -> 180.04691 | H61: =G61*10000/1000/1000 -> 1.8004691 | I61: B | J61: =H61 -> 1.8004691 | K61: =D61/$M$2 -> 0.50217443 | N61: =N60 -> 1 | O61: =O60 -> 0 | P61: =P60 -> 0
A62: 6 | B62: B5 | C62: 0.21345142 | D62: =C62 -> 0.21345142 | E62: =K62*(A62)*(24*3600) -> 102829.25 | F62: =E62 -> 102829.25 | G62: =F62*44/10^(6) -> 4.5244871 | H62: =G62*10000/1000/1000 -> 0.045244871 | I62: B | K62: =D62/$M$2 -> 0.1983589 | N62: =N61 -> 1 | O62: =O61 -> 0 | P62: =P61 -> 0
A63: 41 | B63: B5 | C63: 0.4479778 | D63: =AVERAGE(C62:C63) -> 0.33071461 | E63: =K63*(A63-A62)*(24*3600) -> 929368.18 | F63: =E63+F62 -> 1032197.4 | G63: =F63*44/10^(6) -> 45.416687 | H63: =G63*10000/1000/1000 -> 0.45416687 | I63: B | K63: =D63/$M$2 -> 0.30733075 | N63: =N62 -> 1 | O63: =O62 -> 0 | P63: =P62 -> 0
A64: 49 | B64: B5 | C64: 1.5614377 | D64: =AVERAGE(C63:C64) -> 1.0047077 | E64: =K64*(A64-A63)*(24*3600) -> 645351.18 | F64: =E64+F63 -> 1677548.6 | G64: =F64*44/10^(6) -> 73.812139 | H64: =G64*10000/1000/1000 -> 0.73812139 | I64: B | K64: =D64/$M$2 -> 0.9336678 | N64: =N63 -> 1 | O64: =O63 -> 0 | P64: =P63 -> 0
A65: 56 | B65: B5 | C65: 0.045031946 | D65: =AVERAGE(C64:C65) -> 0.80323482 | E65: =K65*(A65-A64)*(24*3600) -> 451447.18 | F65: =E65+F64 -> 2128995.8 | G65: =F65*44/10^(6) -> 93.675815 | H65: =G65*10000/1000/1000 -> 0.93675815 | I65: B | K65: =D65/$M$2 -> 0.74644044 | N65: =N64 -> 1 | O65: =O64 -> 0 | P65: =P64 -> 0
A66: 61 | B66: B5 | C66: 0.045031946 | D66: =AVERAGE(C65:C66) -> 0.045031946 | E66: =K66*(A66-A65)*(24*3600) -> 18078.279 | F66: =E66+F65 -> 2147074.1 | G66: =F66*44/10^(6) -> 94.471259 | H66: =G66*10000/1000/1000 -> 0.94471259 | I66: B | K66: =D66/$M$2 -> 0.041847869 | N66: =N65 -> 1 | O66: =O65 -> 0 | P66: =P65 -> 0
A67: 69 | B67: B5 | C67: 0.090063892 | D67: =AVERAGE(C66:C67) -> 0.067547919 | E67: =K67*(A67-A66)*(24*3600) -> 43387.87 | F67: =E67+F66 -> 2190461.9 | G67: =F67*44/10^(6) -> 96.380326 | H67: =G67*10000/1000/1000 -> 0.96380326 | I67: B | K67: =D67/$M$2 -> 0.062771803 | N67: =N66 -> 1 | O67: =O66 -> 0 | P67: =P66 -> 0
A68: 75 | B68: B5 | C68: 0.13509584 | D68: =AVERAGE(C67:C68) -> 0.11257986 | E68: =K68*(A68-A67)*(24*3600) -> 54234.838 | F68: =E68+F67 -> 2244696.8 | G68: =F68*44/10^(6) -> 98.766658 | H68: =G68*10000/1000/1000 -> 0.98766658 | I68: B | K68: =D68/$M$2 -> 0.10461967 | N68: =N67 -> 1 | O68: =O67 -> 0 | P68: =P67 -> 0
A69: 82 | B69: B5 | D69: =AVERAGE(C68:C69) -> 0.13509584 | E69: =K69*(A69-A68)*(24*3600) -> 75928.773 | F69: =E69+F68 -> 2320625.6 | G69: =F69*44/10^(6) -> 102.10752 | H69: =G69*10000/1000/1000 -> 1.0210752 | I69: B | K69: =D69/$M$2 -> 0.12554361 | N69: =N68 -> 1 | O69: =O68 -> 0 | P69: =P68 -> 0
A70: 92 | B70: B5 | C70: 0.4953514 | D70: =AVERAGE(C69:C70) -> 0.4953514 | E70: =K70*(A70-A69)*(24*3600) -> 397722.14 | F70: =E70+F69 -> 2718347.7 | G70: =F70*44/10^(6) -> 119.6073 | H70: =G70*10000/1000/1000 -> 1.196073 | I70: B | K70: =D70/$M$2 -> 0.46032656 | N70: =N69 -> 1 | O70: =O69 -> 0 | P70: =P69 -> 0
A71: 95 | B71: B5 | C71: 0.40528751 | D71: =AVERAGE(C70:C71) -> 0.45031946 | E71: =K71*(A71-A70)*(24*3600) -> 108469.68 | F71: =E71+F70 -> 2826817.4 | G71: =F71*44/10^(6) -> 124.37996 | H71: =G71*10000/1000/1000 -> 1.2437996 | I71: B | K71: =D71/$M$2 -> 0.41847869 | N71: =N70 -> 1 | O71: =O70 -> 0 | P71: =P70 -> 0
A72: 103 | B72: B5 | C72: -0.13509584 | D72: =AVERAGE(C71:C72) -> 0.13509584 | E72: =K72*(A72-A71)*(24*3600) -> 86775.741 | F72: =E72+F71 -> 2913593.1 | G72: =F72*44/10^(6) -> 128.1981 | H72: =G72*10000/1000/1000 -> 1.281981 | I72: B | K72: =D72/$M$2 -> 0.12554361 | N72: =N71 -> 1 | O72: =O71 -> 0 | P72: =P71 -> 0
A73: 113 | B73: B5 | C73: 0.36025557 | D73: =AVERAGE(C72:C73) -> 0.11257986 | E73: =K73*(A73-A72)*(24*3600) -> 90391.397 | F73: =E73+F72 -> 3003984.5 | G73: =F73*44/10^(6) -> 132.17532 | H73: =G73*10000/1000/1000 -> 1.3217532 | I73: B | K73: =D73/$M$2 -> 0.10461967 | N73: =N72 -> 1 | O73: =O72 -> 0 | P73: =P72 -> 0
A74: 119 | B74: B5 | C74: 0.45031946 | D74: =AVERAGE(C73:C74) -> 0.40528751 | E74: =K74*(A74-A73)*(24*3600) -> 195245.42 | F74: =E74+F73 -> 3199229.9 | G74: =F74*44/10^(6) -> 140.76612 | H74: =G74*10000/1000/1000 -> 1.4076612 | I74: B | K74: =D74/$M$2 -> 0.37663082 | N74: =N73 -> 1 | O74: =O73 -> 0 | P74: =P73 -> 0
A75: 127 | B75: B5 | C75: -0.13509584 | D75: =AVERAGE(C74:C75) -> 0.15761181 | E75: =K75*(A75-A74)*(24*3600) -> 101238.36 | F75: =E75+F74 -> 3300468.3 | G75: =F75*44/10^(6) -> 145.2206 | H75: =G75*10000/1000/1000 -> 1.452206 | I75: B | K75: =D75/$M$2 -> 0.14646754 | N75: =N74 -> 1 | O75: =O74 -> 0 | P75: =P74 -> 0
A76: 131 | B76: B5 | D76: =AVERAGE(C75:C76) -> -0.13509584 | E76: =K76*(A76-A75)*(24*3600) -> -43387.87 | F76: =E76+F75 -> 3257080.4 | G76: =F76*44/10^(6) -> 143.31154 | H76: =G76*10000/1000/1000 -> 1.4331154 | I76: B | K76: =D76/$M$2 -> -0.12554361 | N76: =N75 -> 1 | O76: =O75 -> 0 | P76: =P75 -> 0
A77: 6 | B77: BA1 | C77: 0.38529333 | D77: =C77 -> 0.38529333 | E77: =K77*(A77)*(24*3600) -> 185613.31 | F77: =E77 -> 185613.31 | G77: =F77*44/10^(6) -> 8.1669856 | H77: =G77*10000/1000/1000 -> 0.081669856 | I77: BA | K77: =D77/$M$2 -> 0.35805037 | N77: =N76 -> 1 | O77: 1 | P77: =P76 -> 0
A78: 41 | B78: BA1 | C78: 0.5484891 | D78: =AVERAGE(C77:C78) -> 0.46689121 | E78: =K78*(A78-A77)*(24*3600) -> 1312049.2 | F78: =E78+F77 -> 1497662.5 | G78: =F78*44/10^(6) -> 65.89715 | H78: =G78*10000/1000/1000 -> 0.6589715 | I78: BA | K78: =D78/$M$2 -> 0.4338787 | N78: =N77 -> 1 | O78: =O77 -> 1 | P78: =P77 -> 0
A79: 49 | B79: BA1 | C79: 3.154758 | D79: =AVERAGE(C78:C79) -> 1.8516235 | E79: =K79*(A79-A78)*(24*3600) -> 1189348.3 | F79: =E79+F78 -> 2687010.8 | G79: =F79*44/10^(6) -> 118.22848 | H79: =G79*10000/1000/1000 -> 1.1822848 | I79: BA | K79: =D79/$M$2 -> 1.7207007 | N79: =N78 -> 1 | O79: =O78 -> 1 | P79: =P78 -> 0
A80: 56 | B80: BA1 | C80: 3.0171404 | D80: =AVERAGE(C79:C80) -> 3.0859492 | E80: =K80*(A80-A79)*(24*3600) -> 1734415.7 | F80: =E80+F79 -> 4421426.5 | G80: =F80*44/10^(6) -> 194.54276 | H80: =G80*10000/1000/1000 -> 1.9454276 | I80: BA | K80: =D80/$M$2 -> 2.8677508 | N80: =N79 -> 1 | O80: =O79 -> 1 | P80: =P79 -> 0
A81: 61 | B81: BA1 | C81: 3.0171404 | D81: =AVERAGE(C80:C81) -> 3.0171404 | E81: =K81*(A81-A80)*(24*3600) -> 1211244.7 | F81: =E81+F80 -> 5632671.2 | G81: =F81*44/10^(6) -> 247.83753 | H81: =G81*10000/1000/1000 -> 2.4783753 | I81: BA | K81: =D81/$M$2 -> 2.8038072 | N81: =N80 -> 1 | O81: =O80 -> 1 | P81: =P80 -> 0
A82: 69 | B82: BA1 | C82: 0.81057502 | D82: =AVERAGE(C81:C82) -> 1.9138577 | E82: =K82*(A82-A81)*(24*3600) -> 1229323 | F82: =E82+F81 -> 6861994.2 | G82: =F82*44/10^(6) -> 301.92774 | H82: =G82*10000/1000/1000 -> 3.0192774 | I82: BA | K82: =D82/$M$2 -> 1.7785344 | N82: =N81 -> 1 | O82: =O81 -> 1 | P82: =P81 -> 0
A83: 75 | B83: BA1 | C83: 3.287332 | D83: =AVERAGE(C82:C83) -> 2.0489535 | E83: =K83*(A83-A82)*(24*3600) -> 987074.05 | F83: =E83+F82 -> 7849068.2 | G83: =F83*44/10^(6) -> 345.359 | H83: =G83*10000/1000/1000 -> 3.45359 | I83: BA | K83: =D83/$M$2 -> 1.904078 | N83: =N82 -> 1 | O83: =O82 -> 1 | P83: =P82 -> 0
A84: 82 | B84: BA1 | C84: 1.5761181 | D84: =AVERAGE(C83:C84) -> 2.4317251 | E84: =K84*(A84-A83)*(24*3600) -> 1366717.9 | F84: =E84+F83 -> 9215786.1 | G84: =F84*44/10^(6) -> 405.49459 | H84: =G84*10000/1000/1000 -> 4.0549459 | I84: BA | K84: =D84/$M$2 -> 2.2597849 | N84: =N83 -> 1 | O84: =O83 -> 1 | P84: =P83 -> 0
A85: 92 | B85: BA1 | C85: 2.0264376 | D85: =AVERAGE(C84:C85) -> 1.8012778 | E85: =K85*(A85-A84)*(24*3600) -> 1446262.3 | F85: =E85+F84 -> 10662048 | G85: =F85*44/10^(6) -> 469.13013 | H85: =G85*10000/1000/1000 -> 4.6913013 | I85: BA | K85: =D85/$M$2 -> 1.6739148 | N85: =N84 -> 1 | O85: =O84 -> 1 | P85: =P84 -> 0
A86: 95 | B86: BA1 | C86: 6.3495044 | D86: =AVERAGE(C85:C86) -> 4.187971 | E86: =K86*(A86-A85)*(24*3600) -> 1008768 | F86: =E86+F85 -> 11670816 | G86: =F86*44/10^(6) -> 513.51592 | H86: =G86*10000/1000/1000 -> 5.1351592 | I86: BA | K86: =D86/$M$2 -> 3.8918518 | N86: =N85 -> 1 | O86: =O85 -> 1 | P86: =P85 -> 0
A87: 103 | B87: BA1 | C87: 5.4038335 | D87: =AVERAGE(C86:C87) -> 5.8766689 | E87: =K87*(A87-A86)*(24*3600) -> 3774744.7 | F87: =E87+F86 -> 15445561 | G87: =F87*44/10^(6) -> 679.60469 | H87: =G87*10000/1000/1000 -> 6.7960469 | I87: BA | K87: =D87/$M$2 -> 5.4611469 | N87: =N86 -> 1 | O87: =O86 -> 1 | P87: =P86 -> 0
A88: 113 | B88: BA1 | C88: 1.4860542 | D88: =AVERAGE(C87:C88) -> 3.4449439 | E88: =K88*(A88-A87)*(24*3600) -> 2765976.7 | F88: =E88+F87 -> 18211538 | G88: =F88*44/10^(6) -> 801.30767 | H88: =G88*10000/1000/1000 -> 8.0130767 | I88: BA | K88: =D88/$M$2 -> 3.201362 | N88: =N87 -> 1 | O88: =O87 -> 1 | P88: =P87 -> 0
A89: 119 | B89: BA1 | C89: 1.2608945 | D89: =AVERAGE(C88:C89) -> 1.3734743 | E89: =K89*(A89-A88)*(24*3600) -> 661665.02 | F89: =E89+F88 -> 18873203 | G89: =F89*44/10^(6) -> 830.42093 | H89: =G89*10000/1000/1000 -> 8.3042093 | I89: BA | K89: =D89/$M$2 -> 1.27636 | N89: =N88 -> 1 | O89: =O88 -> 1 | P89: =P88 -> 0
A90: 127 | B90: BA1 | C90: 0.99070281 | D90: =AVERAGE(C89:C90) -> 1.1257986 | E90: =K90*(A90-A89)*(24*3600) -> 723131.17 | F90: =E90+F89 -> 19596334 | G90: =F90*44/10^(6) -> 862.2387 | H90: =G90*10000/1000/1000 -> 8.622387 | I90: BA | K90: =D90/$M$2 -> 1.0461967 | N90: =N89 -> 1 | O90: =O89 -> 1 | P90: =P89 -> 0
A91: 131 | B91: BA1 | C91: 1.3509584 | D91: =AVERAGE(C90:C91) -> 1.1708306 | E91: =K91*(A91-A90)*(24*3600) -> 376028.21 | F91: =E91+F90 -> 19972362 | G91: =F91*44/10^(6) -> 878.78394 | H91: =G91*10000/1000/1000 -> 8.7878394 | I91: BA | J91: =H91 -> 8.7878394 | K91: =D91/$M$2 -> 1.0880446 | N91: =N90 -> 1 | O91: =O90 -> 1 | P91: =P90 -> 0
A92: 6 | B92: BA2 | C92: 0.64305619 | D92: =C92 -> 0.64305619 | E92: =K92*(A92)*(24*3600) -> 309789.39 | F92: =E92 -> 309789.39 | G92: =F92*44/10^(6) -> 13.630733 | H92: =G92*10000/1000/1000 -> 0.13630733 | I92: BA | K92: =D92/$M$2 -> 0.59758757 | N92: =N91 -> 1 | O92: =O91 -> 1 | P92: =P91 -> 0
A93: 41 | B93: BA2 | C93: 1.3850025 | D93: =AVERAGE(C92:C93) -> 1.0140294 | E93: =K93*(A93-A92)*(24*3600) -> 2849606.9 | F93: =E93+F92 -> 3159396.3 | G93: =F93*44/10^(6) -> 139.01344 | H93: =G93*10000/1000/1000 -> 1.3901344 | I93: BA | K93: =D93/$M$2 -> 0.94233031 | N93: =N92 -> 1 | O93: =O92 -> 1 | P93: =P92 -> 0
A94: 49 | B94: BA2 | C94: 4.0388252 | D94: =AVERAGE(C93:C94) -> 2.7119138 | E94: =K94*(A94-A93)*(24*3600) -> 1741936.2 | F94: =E94+F93 -> 4901332.5 | G94: =F94*44/10^(6) -> 215.65863 | H94: =G94*10000/1000/1000 -> 2.1565863 | I94: BA | K94: =D94/$M$2 -> 2.5201624 | N94: =N93 -> 1 | O94: =O93 -> 1 | P94: =P93 -> 0
A95: 56 | B95: BA2 | C95: 0.85560697 | D95: =AVERAGE(C94:C95) -> 2.4472161 | E95: =K95*(A95-A94)*(24*3600) -> 1375424.4 | F95: =E95+F94 -> 6276756.9 | G95: =F95*44/10^(6) -> 276.1773 | H95: =G95*10000/1000/1000 -> 2.761773 | I95: BA | K95: =D95/$M$2 -> 2.2741806 | N95: =N94 -> 1 | O95: =O94 -> 1 | P95: =P94 -> 0
A96: 61 | B96: BA2 | C96: 0.85560697 | D96: =AVERAGE(C95:C96) -> 0.85560697 | E96: =K96*(A96-A95)*(24*3600) -> 343487.31 | F96: =E96+F95 -> 6620244.2 | G96: =F96*44/10^(6) -> 291.29074 | H96: =G96*10000/1000/1000 -> 2.9129074 | I96: BA | K96: =D96/$M$2 -> 0.79510951 | N96: =N95 -> 1 | O96: =O95 -> 1 | P96: =P95 -> 0
A97: 69 | B97: BA2 | C97: 1.3059264 | D97: =AVERAGE(C96:C97) -> 1.0807667 | E97: =K97*(A97-A96)*(24*3600) -> 694205.93 | F97: =E97+F96 -> 7314450.1 | G97: =F97*44/10^(6) -> 321.83581 | H97: =G97*10000/1000/1000 -> 3.2183581 | I97: BA | K97: =D97/$M$2 -> 1.0043489 | N97: =N96 -> 1 | O97: =O96 -> 1 | P97: =P96 -> 0
A98: 75 | B98: BA2 | C98: 0.94567086 | D98: =AVERAGE(C97:C98) -> 1.1257986 | E98: =K98*(A98-A97)*(24*3600) -> 542348.38 | F98: =E98+F97 -> 7856798.5 | G98: =F98*44/10^(6) -> 345.69913 | H98: =G98*10000/1000/1000 -> 3.4569913 | I98: BA | K98: =D98/$M$2 -> 1.0461967 | N98: =N97 -> 1 | O98: =O97 -> 1 | P98: =P97 -> 0
A99: 82 | B99: BA2 | C99: 1.1708306 | D99: =AVERAGE(C98:C99) -> 1.0582507 | E99: =K99*(A99-A98)*(24*3600) -> 594775.39 | F99: =E99+F98 -> 8451573.9 | G99: =F99*44/10^(6) -> 371.86925 | H99: =G99*10000/1000/1000 -> 3.7186925 | I99: BA | K99: =D99/$M$2 -> 0.98342492 | N99: =N98 -> 1 | O99: =O98 -> 1 | P99: =P98 -> 0
A100: 92 | B100: BA2 | C100: 3.2423001 | D100: =AVERAGE(C99:C100) -> 2.2065653 | E100: =K100*(A100-A99)*(24*3600) -> 1771671.4 | F100: =E100+F99 -> 10223245 | G100: =F100*44/10^(6) -> 449.82279 | H100: =G100*10000/1000/1000 -> 4.4982279 | I100: BA | K100: =D100/$M$2 -> 2.0505456 | N100: =N99 -> 1 | O100: =O99 -> 1 | P100: =P99 -> 0
A101: 95 | B101: BA2 | C101: 0.72051113 | D101: =AVERAGE(C100:C101) -> 1.9814056 | E101: =K101*(A101-A100)*(24*3600) -> 477266.57 | F101: =E101+F100 -> 10700512 | G101: =F101*44/10^(6) -> 470.82252 | H101: =G101*10000/1000/1000 -> 4.7082252 | I101: BA | K101: =D101/$M$2 -> 1.8413062 | N101: =N100 -> 1 | O101: =O100 -> 1 | P101: =P100 -> 0
A102: 103 | B102: BA2 | C102: 0.58541529 | D102: =AVERAGE(C101:C102) -> 0.65296321 | E102: =K102*(A102-A101)*(24*3600) -> 419416.08 | F102: =E102+F101 -> 11119928 | G102: =F102*44/10^(6) -> 489.27683 | H102: =G102*10000/1000/1000 -> 4.8927683 | I102: BA | K102: =D102/$M$2 -> 0.6067941 | N102: =N101 -> 1 | O102: =O101 -> 1 | P102: =P101 -> 0
...

Sheet CO2cumultonha_densityTcorrected
A1: day | B1: ID | C1: CO2FLUX_micromoles | D1: tonCO2_ha_a | E1: AverageCO2_µmolCO2_m2_s_intime_interval | F1: µmolCO2_m2 | G1: Cumulative µmolCO2/m2 | H1: cumulgCO2_m2 | I1: TonCO2_ha | J1: treatment | K1: Basalt | L1: Anecic | M1: endogeic | N1: cumulTonCO2_ha_131d
A2: 6 | B2: B1 | C2: -0.037826834 | D2: =C2*10^(-6)*(3600*24*365)*44*10000/10^(6) -> -0.5248791 | E2: =C2/CO2cumul!$M$2 -> -0.03515221 | F2: =E2*(A2)*(24*3600) -> -18222.906 | G2: =F2 -> -18222.906 | H2: =G2*44/10^(6) -> -0.80180784 | I2: =H2*10000/1000/1000 -> -0.0080180784 | J2: B | K2: 1 | L2: 0 | M2: 0
A3: 41 | B3: B1 | C3: 0.23290522 | D3: =C3*10^(-6)*(3600*24*365)*44*10000/10^(6) -> 3.2317556 | E3: =AVERAGE(C2:C3)/CO2cumul!$M$2 -> 0.090642484 | F3: =E3*(A3-A2)*(24*3600) -> 274102.87 | G3: =F3+G2 -> 255879.97 | H3: =G3*44/10^(6) -> 11.258718 | I3: =H3*10000/1000/1000 -> 0.11258718 | J3: B | K3: 1 | L3: 0 | M3: 0
A4: 49 | B4: B1 | C4: 0.80463081 | D4: =C4*10^(-6)*(3600*24*365)*44*10000/10^(6) -> 11.164928 | E4: =AVERAGE(C3:C4)/CO2cumul!$M$2 -> 0.48208745 | F4: =E4*(A4-A3)*(24*3600) -> 333218.84 | G4: =F4+G3 -> 589098.81 | H4: =G4*44/10^(6) -> 25.920348 | I4: =H4*10000/1000/1000 -> 0.25920348 | J4: B | K4: 1 | L4: 0 | M4: 0
A5: 56 | B5: B1 | C5: 0.72051113 | D5: =C5*10^(-6)*(3600*24*365)*44*10000/10^(6) -> 9.9976972 | E5: =AVERAGE(C4:C5)/CO2cumul!$M$2 -> 0.70865181 | F5: =E5*(A5-A4)*(24*3600) -> 428592.61 | G5: =F5+G4 -> 1017691.4 | H5: =G5*44/10^(6) -> 44.778423 | I5: =H5*10000/1000/1000 -> 0.44778423 | J5: B | K5: 1 | L5: 0 | M5: 0
A6: 61 | B6: B1 | C6: 0.72051113 | D6: =C6*10^(-6)*(3600*24*365)*44*10000/10^(6) -> 9.9976972 | E6: =AVERAGE(C5:C6)/CO2cumul!$M$2 -> 0.6695659 | F6: =E6*(A6-A5)*(24*3600) -> 289252.47 | G6: =F6+G5 -> 1306943.9 | H6: =G6*44/10^(6) -> 57.505531 | I6: =H6*10000/1000/1000 -> 0.57505531 | J6: B | K6: 1 | L6: 0 | M6: 0
A7: 69 | B7: B1 | C7: 0.45031946 | D7: =C7*10^(-6)*(3600*24*365)*44*10000/10^(6) -> 6.2485607 | E7: =AVERAGE(C6:C7)/CO2cumul!$M$2 -> 0.54402229 | F7: =E7*(A7-A6)*(24*3600) -> 376028.21 | G7: =F7+G6 -> 1682972.1 | H7: =G7*44/10^(6) -> 74.050773 | I7: =H7*10000/1000/1000 -> 0.74050773 | J7: B | K7: 1 | L7: 0 | M7: 0
A8: 75 | B8: B1 | C8: 0.40528751 | D8: =C8*10^(-6)*(3600*24*365)*44*10000/10^(6) -> 5.6237047 | E8: =AVERAGE(C7:C8)/CO2cumul!$M$2 -> 0.39755475 | F8: =E8*(A8-A7)*(24*3600) -> 206092.38 | G8: =F8+G7 -> 1889064.5 | H8: =G8*44/10^(6) -> 83.118837 | I8: =H8*10000/1000/1000 -> 0.83118837 | J8: B | K8: 1 | L8: 0 | M8: 0
A9: 82 | B9: B1 | C9: 0.18012778 | D9: =C9*10^(-6)*(3600*24*365)*44*10000/10^(6) -> 2.4994243 | E9: =AVERAGE(C8:C9)/CO2cumul!$M$2 -> 0.27201115 | F9: =E9*(A9-A8)*(24*3600) -> 164512.34 | G9: =F9+G8 -> 2053576.8 | H9: =G9*44/10^(6) -> 90.35738 | I9: =H9*10000/1000/1000 -> 0.9035738 | J9: B | K9: 1 | L9: 0 | M9: 0
A10: 92 | B10: B1 | C10: 0.67547919 | D10: =C10*10^(-6)*(3600*24*365)*44*10000/10^(6) -> 9.3728411 | E10: =AVERAGE(C9:C10)/CO2cumul!$M$2 -> 0.39755475 | F10: =E10*(A10-A9)*(24*3600) -> 343487.31 | G10: =F10+G9 -> 2397064.1 | H10: =G10*44/10^(6) -> 105.47082 | I10: =H10*10000/1000/1000 -> 1.0547082 | J10: B | K10: 1 | L10: 0 | M10: 0
A11: 95 | B11: B1 | C11: 0.4953514 | D11: =C11*10^(-6)*(3600*24*365)*44*10000/10^(6) -> 6.8734168 | E11: =AVERAGE(C10:C11)/CO2cumul!$M$2 -> 0.54402229 | F11: =E11*(A11-A10)*(24*3600) -> 141010.58 | G11: =F11+G10 -> 2538074.7 | H11: =G11*44/10^(6) -> 111.67529 | I11: =H11*10000/1000/1000 -> 1.1167529 | J11: B | K11: 1 | L11: 0 | M11: 0
A12: 103 | B12: B1 | C12: 0.090063892 | D12: =C12*10^(-6)*(3600*24*365)*44*10000/10^(6) -> 1.2497121 | E12: =AVERAGE(C11:C12)/CO2cumul!$M$2 -> 0.27201115 | F12: =E12*(A12-A11)*(24*3600) -> 188014.1 | G12: =F12+G11 -> 2726088.8 | H12: =G12*44/10^(6) -> 119.94791 | I12: =H12*10000/1000/1000 -> 1.1994791 | J12: B | K12: 1 | L12: 0 | M12: 0
A13: 113 | B13: B1 | C13: 0.54038335 | D13: =C13*10^(-6)*(3600*24*365)*44*10000/10^(6) -> 7.4982729 | E13: =AVERAGE(C12:C13)/CO2cumul!$M$2 -> 0.29293508 | F13: =E13*(A13-A12)*(24*3600) -> 253095.91 | G13: =F13+G12 -> 2979184.7 | H13: =G13*44/10^(6) -> 131.08413 | I13: =H13*10000/1000/1000 -> 1.3108413 | J13: B | K13: 1 | L13: 0 | M13: 0
A14: 119 | B14: B1 | C14: 0.4953514 | D14: =C14*10^(-6)*(3600*24*365)*44*10000/10^(6) -> 6.8734168 | E14: =AVERAGE(C13:C14)/CO2cumul!$M$2 -> 0.48125049 | F14: =E14*(A14-A13)*(24*3600) -> 249480.25 | G14: =F14+G13 -> 3228665 | H14: =G14*44/10^(6) -> 142.06126 | I14: =H14*10000/1000/1000 -> 1.4206126 | J14: B | K14: 1 | L14: 0 | M14: 0
A15: 127 | B15: B1 | C15: 0.045031946 | D15: =C15*10^(-6)*(3600*24*365)*44*10000/10^(6) -> 0.62485607 | E15: =AVERAGE(C14:C15)/CO2cumul!$M$2 -> 0.25108721 | F15: =E15*(A15-A14)*(24*3600) -> 173551.48 | G15: =F15+G14 -> 3402216.5 | H15: =G15*44/10^(6) -> 149.69752 | I15: =H15*10000/1000/1000 -> 1.4969752 | J15: B | K15: 1 | L15: 0 | M15: 0
A16: 131 | B16: B1 | C16: 0.72051113 | D16: =C16*10^(-6)*(3600*24*365)*44*10000/10^(6) -> 9.9976972 | E16: =AVERAGE(C15:C16)/CO2cumul!$M$2 -> 0.35570688 | F16: =E16*(A16-A15)*(24*3600) -> 122932.3 | G16: =F16+G15 -> 3525148.8 | H16: =G16*44/10^(6) -> 155.10655 | I16: =H16*10000/1000/1000 -> 1.5510655 | J16: B | K16: 1 | L16: 0 | M16: 0 | N16: =I16 -> 1.5510655
A17: 144 | B17: B1 | C17: 0.045031946 | D17: =C17*10^(-6)*(3600*24*365)*44*10000/10^(6) -> 0.62485607 | E17: =AVERAGE(C16:C17)/CO2cumul!$M$2 -> 0.35570688 | F17: =E17*(A17-A16)*(24*3600) -> 399529.97 | G17: =F17+G16 -> 3924678.7 | H17: =G17*44/10^(6) -> 172.68586 | I17: =H17*10000/1000/1000 -> 1.7268586 | J17: B | K17: 1 | L17: 0 | M17: 0
A18: 145 | B18: B1 | C18: -0.31522362 | D18: =C18*10^(-6)*(3600*24*365)*44*10000/10^(6) -> -4.3739925 | E18: =AVERAGE(C17:C18)/CO2cumul!$M$2 -> -0.12554361 | F18: =E18*(A18-A17)*(24*3600) -> -10846.968 | G18: =F18+G17 -> 3913831.8 | H18: =G18*44/10^(6) -> 172.2086 | I18: =H18*10000/1000/1000 -> 1.722086 | J18: B | K18: 1 | L18: 0 | M18: 0
A19: 285 | B19: B1 | C19: 0.15010649 | D19: =C19*10^(-6)*(3600*24*365)*44*10000/10^(6) -> 2.0828536 | E19: =AVERAGE(C18:C19)/CO2cumul!$M$2 -> -0.076721093 | F19: =E19*(A19-A18)*(24*3600) -> -928018.34 | G19: =F19+G18 -> 2985813.4 | H19: =G19*44/10^(6) -> 131.37579 | I19: =H19*10000/1000/1000 -> 1.3137579 | J19: B | K19: 1 | L19: 0 | M19: 0
A20: 316 | B20: B1 | C20: -0.31522362 | D20: =C20*10^(-6)*(3600*24*365)*44*10000/10^(6) -> -4.3739925 | E20: =AVERAGE(C19:C20)/CO2cumul!$M$2 -> -0.076721093 | F20: =E20*(A20-A19)*(24*3600) -> -205489.77 | G20: =F20+G19 -> 2780323.7 | H20: =G20*44/10^(6) -> 122.33424 | I20: =H20*10000/1000/1000 -> 1.2233424 | J20: B | K20: 1 | L20: 0 | M20: 0
A21: 445 | B21: B1 | C21: 0.12608945 | D21: =C21*10^(-6)*(3600*24*365)*44*10000/10^(6) -> 1.749597 | E21: =AVERAGE(C20:C21)/CO2cumul!$M$2 -> -0.087880524 | F21: =E21*(A21-A20)*(24*3600) -> -979481.17 | G21: =F21+G20 -> 1800842.5 | H21: =G21*44/10^(6) -> 79.237069 | I21: =H21*10000/1000/1000 -> 0.79237069 | J21: B | K21: 1 | L21: 0 | M21: 0
A22: 452 | B22: B1 | C22: -0.018012778 | D22: =C22*10^(-6)*(3600*24*365)*44*10000/10^(6) -> -0.24994243 | E22: =AVERAGE(C21:C22)/CO2cumul!$M$2 -> 0.050217443 | F22: =E22*(A22-A21)*(24*3600) -> 30371.509 | G22: =F22+G21 -> 1831214 | H22: =G22*44/10^(6) -> 80.573416 | I22: =H22*10000/1000/1000 -> 0.80573416 | J22: B | K22: 1 | L22: 0 | M22: 0
A23: 490 | B23: B1 | C23: 0.46833224 | D23: =C23*10^(-6)*(3600*24*365)*44*10000/10^(6) -> 6.4985032 | E23: =AVERAGE(C22:C23)/CO2cumul!$M$2 -> 0.20923934 | F23: =E23*(A23-A22)*(24*3600) -> 686974.61 | G23: =F23+G22 -> 2518188.6 | H23: =G23*44/10^(6) -> 110.8003 | I23: =H23*10000/1000/1000 -> 1.108003 | J23: B | K23: 1 | L23: 0 | M23: 0
A24: 6 | B24: B2 | C24: 0.13509584 | D24: =C24*10^(-6)*(3600*24*365)*44*10000/10^(6) -> 1.8745682 | E24: =AVERAGE(C23:C24)/CO2cumul!$M$2 -> 0.28038072 | F24: =E24*(A24)*(24*3600) -> 145349.37 | G24: =F24 -> 145349.37 | H24: =G24*44/10^(6) -> 6.3953721 | I24: =H24*10000/1000/1000 -> 0.063953721 | J24: B | K24: 1 | L24: 0 | M24: 0
A25: 41 | B25: B2 | C25: 0.35016841 | D25: =C25*10^(-6)*(3600*24*365)*44*10000/10^(6) -> 4.8588808 | E25: =AVERAGE(C24:C25)/CO2cumul!$M$2 -> 0.22547632 | F25: =E25*(A25-A24)*(24*3600) -> 681840.38 | G25: =F25+G24 -> 827189.75 | H25: =G25*44/10^(6) -> 36.396349 | I25: =H25*10000/1000/1000 -> 0.36396349 | J25: B | K25: 1 | L25: 0 | M25: 0
A26: 49 | B26: B2 | C26: 1.3012431 | D26: =C26*10^(-6)*(3600*24*365)*44*10000/10^(6) -> 18.055841 | E26: =AVERAGE(C25:C26)/CO2cumul!$M$2 -> 0.76732252 | F26: =E26*(A26-A25)*(24*3600) -> 530373.33 | G26: =F26+G25 -> 1357563.1 | H26: =G26*44/10^(6) -> 59.732775 | I26: =H26*10000/1000/1000 -> 0.59732775 | J26: B | K26: 1 | L26: 0 | M26: 0
A27: 56 | B27: B2 | C27: 1.7112139 | D27: =C27*10^(-6)*(3600*24*365)*44*10000/10^(6) -> 23.744531 | E27: =AVERAGE(C26:C27)/CO2cumul!$M$2 -> 1.3997275 | F27: =E27*(A27-A26)*(24*3600) -> 846555.2 | G27: =F27+G26 -> 2204118.3 | H27: =G27*44/10^(6) -> 96.981204 | I27: =H27*10000/1000/1000 -> 0.96981204 | J27: B | K27: 1 | L27: 0 | M27: 0
A28: 61 | B28: B2 | C28: 1.7112139 | D28: =C28*10^(-6)*(3600*24*365)*44*10000/10^(6) -> 23.744531 | E28: =AVERAGE(C27:C28)/CO2cumul!$M$2 -> 1.590219 | F28: =E28*(A28-A27)*(24*3600) -> 686974.61 | G28: =F28+G27 -> 2891092.9 | H28: =G28*44/10^(6) -> 127.20809 | I28: =H28*10000/1000/1000 -> 1.2720809 | J28: B | K28: 1 | L28: 0 | M28: 0
A29: 69 | B29: B2 | C29: 0.54038335 | D29: =C29*10^(-6)*(3600*24*365)*44*10000/10^(6) -> 7.4982729 | E29: =AVERAGE(C28:C29)/CO2cumul!$M$2 -> 1.0461967 | F29: =E29*(A29-A28)*(24*3600) -> 723131.17 | G29: =F29+G28 -> 3614224.1 | H29: =G29*44/10^(6) -> 159.02586 | I29: =H29*10000/1000/1000 -> 1.5902586 | J29: B | K29: 1 | L29: 0 | M29: 0
A30: 75 | B30: B2 | C30: 0.72051113 | D30: =C30*10^(-6)*(3600*24*365)*44*10000/10^(6) -> 9.9976972 | E30: =AVERAGE(C29:C30)/CO2cumul!$M$2 -> 0.58587016 | F30: =E30*(A30-A29)*(24*3600) -> 303715.09 | G30: =F30+G29 -> 3917939.2 | H30: =G30*44/10^(6) -> 172.38932 | I30: =H30*10000/1000/1000 -> 1.7238932 | J30: B | K30: 1 | L30: 0 | M30: 0
A31: 82 | B31: B2 | C31: 0.67547919 | D31: =C31*10^(-6)*(3600*24*365)*44*10000/10^(6) -> 9.3728411 | E31: =AVERAGE(C30:C31)/CO2cumul!$M$2 -> 0.64864197 | F31: =E31*(A31-A30)*(24*3600) -> 392298.66 | G31: =F31+G30 -> 4310237.8 | H31: =G31*44/10^(6) -> 189.65046 | I31: =H31*10000/1000/1000 -> 1.8965046 | J31: B | K31: 1 | L31: 0 | M31: 0
A32: 92 | B32: B2 | C32: 1.1708306 | D32: =C32*10^(-6)*(3600*24*365)*44*10000/10^(6) -> 16.246258 | E32: =AVERAGE(C31:C32)/CO2cumul!$M$2 -> 0.85788131 | F32: =E32*(A32-A31)*(24*3600) -> 741209.45 | G32: =F32+G31 -> 5051447.3 | H32: =G32*44/10^(6) -> 222.26368 | I32: =H32*10000/1000/1000 -> 2.2226368 | J32: B | K32: 1 | L32: 0 | M32: 0
A33: 95 | B33: B2 | C33: 1.2158625 | D33: =C33*10^(-6)*(3600*24*365)*44*10000/10^(6) -> 16.871114 | E33: =AVERAGE(C32:C33)/CO2cumul!$M$2 -> 1.1089685 | F33: =E33*(A33-A32)*(24*3600) -> 287444.64 | G33: =F33+G32 -> 5338891.9 | H33: =G33*44/10^(6) -> 234.91124 | I33: =H33*10000/1000/1000 -> 2.3491124 | J33: B | K33: 1 | L33: 0 | M33: 0
A34: 103 | B34: B2 | C34: 0.36025557 | D34: =C34*10^(-6)*(3600*24*365)*44*10000/10^(6) -> 4.9988486 | E34: =AVERAGE(C33:C34)/CO2cumul!$M$2 -> 0.7323377 | F34: =E34*(A34-A33)*(24*3600) -> 506191.82 | G34: =F34+G33 -> 5845083.7 | H34: =G34*44/10^(6) -> 257.18368 | I34: =H34*10000/1000/1000 -> 2.5718368 | J34: B | K34: 1 | L34: 0 | M34: 0
A35: 113 | B35: B2 | C35: 0.81057502 | D35: =C35*10^(-6)*(3600*24*365)*44*10000/10^(6) -> 11.247409 | E35: =AVERAGE(C34:C35)/CO2cumul!$M$2 -> 0.54402229 | F35: =E35*(A35-A34)*(24*3600) -> 470035.26 | G35: =F35+G34 -> 6315119 | H35: =G35*44/10^(6) -> 277.86524 | I35: =H35*10000/1000/1000 -> 2.7786524 | J35: B | K35: 1 | L35: 0 | M35: 0
A36: 119 | B36: B2 | C36: 1.1257986 | D36: =C36*10^(-6)*(3600*24*365)*44*10000/10^(6) -> 15.621402 | E36: =AVERAGE(C35:C36)/CO2cumul!$M$2 -> 0.89972918 | F36: =E36*(A36-A35)*(24*3600) -> 466419.61 | G36: =F36+G35 -> 6781538.6 | H36: =G36*44/10^(6) -> 298.3877 | I36: =H36*10000/1000/1000 -> 2.983877 | J36: B | K36: 1 | L36: 0 | M36: 0
A37: 127 | B37: B2 | C37: 0.67547919 | D37: =C37*10^(-6)*(3600*24*365)*44*10000/10^(6) -> 9.3728411 | E37: =AVERAGE(C36:C37)/CO2cumul!$M$2 -> 0.83695738 | F37: =E37*(A37-A36)*(24*3600) -> 578504.94 | G37: =F37+G36 -> 7360043.5 | H37: =G37*44/10^(6) -> 323.84192 | I37: =H37*10000/1000/1000 -> 3.2384192 | J37: B | K37: 1 | L37: 0 | M37: 0
A38: 131 | B38: B2 | C38: 1.5310862 | D38: =C38*10^(-6)*(3600*24*365)*44*10000/10^(6) -> 21.245107 | E38: =AVERAGE(C37:C38)/CO2cumul!$M$2 -> 1.0252728 | F38: =E38*(A38-A37)*(24*3600) -> 354334.27 | G38: =F38+G37 -> 7714377.8 | H38: =G38*44/10^(6) -> 339.43262 | I38: =H38*10000/1000/1000 -> 3.3943262 | J38: B | K38: 1 | L38: 0 | M38: 0 | N38: =I38 -> 3.3943262
A39: 144 | B39: B2 | C39: -0.022515973 | D39: =C39*10^(-6)*(3600*24*365)*44*10000/10^(6) -> -0.31242804 | E39: =AVERAGE(C38:C39)/CO2cumul!$M$2 -> 0.7009518 | F39: =E39*(A39-A38)*(24*3600) -> 787309.06 | G39: =F39+G38 -> 8501686.9 | H39: =G39*44/10^(6) -> 374.07422 | I39: =H39*10000/1000/1000 -> 3.7407422 | J39: B | K39: 1 | L39: 0 | M39: 0
A40: 145 | B40: B2 | C40: -0.27019167 | D40: =C40*10^(-6)*(3600*24*365)*44*10000/10^(6) -> -3.7491364 | E40: =AVERAGE(C39:C40)/CO2cumul!$M$2 -> -0.13600557 | F40: =E40*(A40-A39)*(24*3600) -> -11750.882 | G40: =F40+G39 -> 8489936 | H40: =G40*44/10^(6) -> 373.55718 | I40: =H40*10000/1000/1000 -> 3.7355718 | J40: B | K40: 1 | L40: 0 | M40: 0
A41: 285 | B41: B2 | C41: 0.21014908 | D41: =C41*10^(-6)*(3600*24*365)*44*10000/10^(6) -> 2.915995 | E41: =AVERAGE(C40:C41)/CO2cumul!$M$2 -> -0.027898579 | F41: =E41*(A41-A40)*(24*3600) -> -337461.21 | G41: =F41+G40 -> 8152474.8 | H41: =G41*44/10^(6) -> 358.70889 | I41: =H41*10000/1000/1000 -> 3.5870889 | J41: B | K41: 1 | L41: 0 | M41: 0
A42: 316 | B42: B2 | C42: -0.76554308 | D42: =C42*10^(-6)*(3600*24*365)*44*10000/10^(6) -> -10.622553 | E42: =AVERAGE(C41:C42)/CO2cumul!$M$2 -> -0.25806186 | F42: =E42*(A42-A41)*(24*3600) -> -691192.88 | G42: =F42+G41 -> 7461281.9 | H42: =G42*44/10^(6) -> 328.2964 | I42: =H42*10000/1000/1000 -> 3.282964 | J42: B | K42: 1 | L42: 0 | M42: 0
A43: 445 | B43: B2 | C43: 0.18012778 | D43: =C43*10^(-6)*(3600*24*365)*44*10000/10^(6) -> 2.4994243 | E43: =AVERAGE(C42:C43)/CO2cumul!$M$2 -> -0.27201115 | F43: =E43*(A43-A42)*(24*3600) -> -3031727.4 | G43: =F43+G42 -> 4429554.5 | H43: =G43*44/10^(6) -> 194.9004 | I43: =H43*10000/1000/1000 -> 1.949004 | J43: B | K43: 1 | L43: 0 | M43: 0
A44: 452 | B44: B2 | C44: 0.19814056 | D44: =C44*10^(-6)*(3600*24*365)*44*10000/10^(6) -> 2.7493667 | E44: =AVERAGE(C43:C44)/CO2cumul!$M$2 -> 0.17576105 | F44: =E44*(A44-A43)*(24*3600) -> 106300.28 | G44: =F44+G43 -> 4535854.7 | H44: =G44*44/10^(6) -> 199.57761 | I44: =H44*10000/1000/1000 -> 1.9957761 | J44: B | K44: 1 | L44: 0 | M44: 0
A45: 490 | B45: B2 | C45: 0.36025557 | D45: =C45*10^(-6)*(3600*24*365)*44*10000/10^(6) -> 4.9988486 | E45: =AVERAGE(C44:C45)/CO2cumul!$M$2 -> 0.25945679 | F45: =E45*(A45-A44)*(24*3600) -> 851848.52 | G45: =F45+G44 -> 5387703.3 | H45: =G45*44/10^(6) -> 237.05894 | I45: =H45*10000/1000/1000 -> 2.3705894 | J45: B | K45: 1 | L45: 0 | M45: 0
A46: 6 | B46: B3 | C46: 0.14968619 | D46: =C46*10^(-6)*(3600*24*365)*44*10000/10^(6) -> 2.0770216 | E46: =AVERAGE(C45:C46)/CO2cumul!$M$2 -> 0.23694263 | F46: =E46*(A46)*(24*3600) -> 122831.06 | G46: =F46 -> 122831.06 | H46: =G46*44/10^(6) -> 5.4045667 | I46: =H46*10000/1000/1000 -> 0.054045667 | J46: B | K46: 1 | L46: 0 | M46: 0
A47: 41 | B47: B3 | C47: 0.27127244 | D47: =C47*10^(-6)*(3600*24*365)*44*10000/10^(6) -> 3.764133 | E47: =AVERAGE(C46:C47)/CO2cumul!$M$2 -> 0.19559694 | F47: =E47*(A47-A46)*(24*3600) -> 591485.14 | G47: =F47+G46 -> 714316.2 | H47: =G47*44/10^(6) -> 31.429913 | I47: =H47*10000/1000/1000 -> 0.31429913 | J47: B | K47: 1 | L47: 0 | M47: 0
A48: 49 | B48: B3 | C48: 0.5873967 | D48: =C48*10^(-6)*(3600*24*365)*44*10000/10^(6) -> 8.1506226 | E48: =AVERAGE(C47:C48)/CO2cumul!$M$2 -> 0.39897758 | F48: =E48*(A48-A47)*(24*3600) -> 275773.3 | G48: =F48+G47 -> 990089.51 | H48: =G48*44/10^(6) -> 43.563938 | I48: =H48*10000/1000/1000 -> 0.43563938 | J48: B | K48: 1 | L48: 0 | M48: 0
A49: 56 | B49: B3 | C49: 1.0357348 | D49: =C49*10^(-6)*(3600*24*365)*44*10000/10^(6) -> 14.37169 | E49: =AVERAGE(C48:C49)/CO2cumul!$M$2 -> 0.75418229 | F49: =E49*(A49-A48)*(24*3600) -> 456129.45 | G49: =F49+G48 -> 1446219 | H49: =G49*44/10^(6) -> 63.633634 | I49: =H49*10000/1000/1000 -> 0.63633634 | J49: B | K49: 1 | L49: 0 | M49: 0
A50: 61 | B50: B3 | C50: 1.0357348 | D50: =C50*10^(-6)*(3600*24*365)*44*10000/10^(6) -> 14.37169 | E50: =AVERAGE(C49:C50)/CO2cumul!$M$2 -> 0.96250098 | F50: =E50*(A50-A49)*(24*3600) -> 415800.42 | G50: =F50+G49 -> 1862019.4 | H50: =G50*44/10^(6) -> 81.928853 | I50: =H50*10000/1000/1000 -> 0.81928853 | J50: B | K50: 1 | L50: 0 | M50: 0
A51: 69 | B51: B3 | C51: 0.36025557 | D51: =C51*10^(-6)*(3600*24*365)*44*10000/10^(6) -> 4.9988486 | E51: =AVERAGE(C50:C51)/CO2cumul!$M$2 -> 0.64864197 | F51: =E51*(A51-A50)*(24*3600) -> 448341.33 | G51: =F51+G50 -> 2310360.7 | H51: =G51*44/10^(6) -> 101.65587 | I51: =H51*10000/1000/1000 -> 1.0165587 | J51: B | K51: 1 | L51: 0 | M51: 0
A52: 75 | B52: B3 | C52: 0.31522362 | D52: =C52*10^(-6)*(3600*24*365)*44*10000/10^(6) -> 4.3739925 | E52: =AVERAGE(C51:C52)/CO2cumul!$M$2 -> 0.31385902 | F52: =E52*(A52-A51)*(24*3600) -> 162704.51 | G52: =F52+G51 -> 2473065.2 | H52: =G52*44/10^(6) -> 108.81487 | I52: =H52*10000/1000/1000 -> 1.0881487 | J52: B | K52: 1 | L52: 0 | M52: 0
A53: 82 | B53: B3 | C53: 0.63044724 | D53: =C53*10^(-6)*(3600*24*365)*44*10000/10^(6) -> 8.747985 | E53: =AVERAGE(C52:C53)/CO2cumul!$M$2 -> 0.43940262 | F53: =E53*(A53-A52)*(24*3600) -> 265750.71 | G53: =F53+G52 -> 2738815.9 | H53: =G53*44/10^(6) -> 120.5079 | I53: =H53*10000/1000/1000 -> 1.205079 | J53: B | K53: 1 | L53: 0 | M53: 0
A54: 92 | B54: B3 | C54: 0.36025557 | D54: =C54*10^(-6)*(3600*24*365)*44*10000/10^(6) -> 4.9988486 | E54: =AVERAGE(C53:C54)/CO2cumul!$M$2 -> 0.46032656 | F54: =E54*(A54-A53)*(24*3600) -> 397722.14 | G54: =F54+G53 -> 3136538.1 | H54: =G54*44/10^(6) -> 138.00768 | I54: =H54*10000/1000/1000 -> 1.3800768 | J54: B | K54: 1 | L54: 0 | M54: 0
A55: 95 | B55: B3 | C55: 0.4953514 | D55: =C55*10^(-6)*(3600*24*365)*44*10000/10^(6) -> 6.8734168 | E55: =AVERAGE(C54:C55)/CO2cumul!$M$2 -> 0.39755475 | F55: =E55*(A55-A54)*(24*3600) -> 103046.19 | G55: =F55+G54 -> 3239584.3 | H55: =G55*44/10^(6) -> 142.54171 | I55: =H55*10000/1000/1000 -> 1.4254171 | J55: B | K55: 1 | L55: 0 | M55: 0
A56: 103 | B56: B3 | C56: 0.18012778 | D56: =C56*10^(-6)*(3600*24*365)*44*10000/10^(6) -> 2.4994243 | E56: =AVERAGE(C55:C56)/CO2cumul!$M$2 -> 0.31385902 | F56: =E56*(A56-A55)*(24*3600) -> 216939.35 | G56: =F56+G55 -> 3456523.6 | H56: =G56*44/10^(6) -> 152.08704 | I56: =H56*10000/1000/1000 -> 1.5208704 | J56: B | K56: 1 | L56: 0 | M56: 0
A57: 113 | B57: B3 | C57: 1.62115 | D57: =C57*10^(-6)*(3600*24*365)*44*10000/10^(6) -> 22.494819 | E57: =AVERAGE(C56:C57)/CO2cumul!$M$2 -> 0.83695738 | F57: =E57*(A57-A56)*(24*3600) -> 723131.17 | G57: =F57+G56 -> 4179654.8 | H57: =G57*44/10^(6) -> 183.90481 | I57: =H57*10000/1000/1000 -> 1.8390481 | J57: B | K57: 1 | L57: 0 | M57: 0
A58: 119 | B58: B3 | C58: 0.76554308 | D58: =C58*10^(-6)*(3600*24*365)*44*10000/10^(6) -> 10.622553 | E58: =AVERAGE(C57:C58)/CO2cumul!$M$2 -> 1.1089685 | F58: =E58*(A58-A57)*(24*3600) -> 574889.28 | G58: =F58+G57 -> 4754544.1 | H58: =G58*44/10^(6) -> 209.19994 | I58: =H58*10000/1000/1000 -> 2.0919994 | J58: B | K58: 1 | L58: 0 | M58: 0
... A66: 490 | B66: B3 | C66: 0.28820445 | D66: =C66*10^(-6)*(3600*24*365)*44*10000/10^(6) -> 3.9990789 | E66: =AVERAGE(C65:C66)/CO2cumul!$M$2 -> 0.16739148 | F66: =E66*(A66-A65)*(24*3600) -> 549579.69 | G66: =F66+G65 -> 5137080.5 | H66: =G66*44/10^(6) -> 226.03154 | I66: =H66*10000/1000/1000 -> 2.2603154 | J66: B | K66: 1 | L66: 0 | M66: 0
A67: 6 | B67: B4 | C67: 0.022155717 | D67: =C67*10^(-6)*(3600*24*365)*44*10000/10^(6) -> 0.30742919 | E67: =AVERAGE(C66:C67)/CO2cumul!$M$2 -> 0.14420776 | F67: =E67*(A67)*(24*3600) -> 74757.301 | G67: =F67 -> 74757.301 | H67: =G67*44/10^(6) -> 3.2893212 | I67: =H67*10000/1000/1000 -> 0.032893212 | J67: B | K67: 1 | L67: 0 | M67: 0
A68: 41 | B68: B4 | C68: 0.33611844 | D68: =C68*10^(-6)*(3600*24*365)*44*10000/10^(6) -> 4.6639257 | E68: =AVERAGE(C67:C68)/CO2cumul!$M$2 -> 0.16647082 | F68: =E68*(A68-A67)*(24*3600) -> 503407.77 | G68: =F68+G67 -> 578165.07 | H68: =G68*44/10^(6) -> 25.439263 | I68: =H68*10000/1000/1000 -> 0.25439263 | J68: B | K68: 1 | L68: 0 | M68: 0
A69: 49 | B69: B4 | C69: 0.44851818 | D69: =C69*10^(-6)*(3600*24*365)*44*10000/10^(6) -> 6.2235665 | E69: =AVERAGE(C68:C69)/CO2cumul!$M$2 -> 0.36457863 | F69: =E69*(A69-A68)*(24*3600) -> 251996.75 | G69: =F69+G68 -> 830161.82 | H69: =G69*44/10^(6) -> 36.52712 | I69: =H69*10000/1000/1000 -> 0.3652712 | J69: B | K69: 1 | L69: 0 | M69: 0
A70: 56 | B70: B4 | C70: 0.85560697 | D70: =C70*10^(-6)*(3600*24*365)*44*10000/10^(6) -> 11.872265 | E70: =AVERAGE(C69:C70)/CO2cumul!$M$2 -> 0.60595714 | F70: =E70*(A70-A69)*(24*3600) -> 366482.88 | G70: =F70+G69 -> 1196644.7 | H70: =G70*44/10^(6) -> 52.652367 | I70: =H70*10000/1000/1000 -> 0.52652367 | J70: B | K70: 1 | L70: 0 | M70: 0
A71: 61 | B71: B4 | C71: 0.85560697 | D71: =C71*10^(-6)*(3600*24*365)*44*10000/10^(6) -> 11.872265 | E71: =AVERAGE(C70:C71)/CO2cumul!$M$2 -> 0.79510951 | F71: =E71*(A71-A70)*(24*3600) -> 343487.31 | G71: =F71+G70 -> 1540132 | H71: =G71*44/10^(6) -> 67.765808 | I71: =H71*10000/1000/1000 -> 0.67765808 | J71: B | K71: 1 | L71: 0 | M71: 0
A72: 69 | B72: B4 | C72: 0.45031946 | D72: =C72*10^(-6)*(3600*24*365)*44*10000/10^(6) -> 6.2485607 | E72: =AVERAGE(C71:C72)/CO2cumul!$M$2 -> 0.6067941 | F72: =E72*(A72-A71)*(24*3600) -> 419416.08 | G72: =F72+G71 -> 1959548.1 | H72: =G72*44/10^(6) -> 86.220116 | I72: =H72*10000/1000/1000 -> 0.86220116 | J72: B | K72: 1 | L72: 0 | M72: 0
A73: 75 | B73: B4 | C73: 0.27019167 | D73: =C73*10^(-6)*(3600*24*365)*44*10000/10^(6) -> 3.7491364 | E73: =AVERAGE(C72:C73)/CO2cumul!$M$2 -> 0.33478295 | F73: =E73*(A73-A72)*(24*3600) -> 173551.48 | G73: =F73+G72 -> 2133099.6 | H73: =G73*44/10^(6) -> 93.856381 | I73: =H73*10000/1000/1000 -> 0.93856381 | J73: B | K73: 1 | L73: 0 | M73: 0
A74: 82 | B74: B4 | C74: 0.090063892 | D74: =C74*10^(-6)*(3600*24*365)*44*10000/10^(6) -> 1.2497121 | E74: =AVERAGE(C73:C74)/CO2cumul!$M$2 -> 0.16739148 | F74: =E74*(A74-A73)*(24*3600) -> 101238.36 | G74: =F74+G73 -> 2234337.9 | H74: =G74*44/10^(6) -> 98.310869 | I74: =H74*10000/1000/1000 -> 0.98310869 | J74: B | K74: 1 | L74: 0 | M74: 0
A75: 92 | B75: B4 | C75: 0.81057502 | D75: =C75*10^(-6)*(3600*24*365)*44*10000/10^(6) -> 11.247409 | E75: =AVERAGE(C74:C75)/CO2cumul!$M$2 -> 0.41847869 | F75: =E75*(A75-A74)*(24*3600) -> 361565.59 | G75: =F75+G74 -> 2595903.5 | H75: =G75*44/10^(6) -> 114.21975 | I75: =H75*10000/1000/1000 -> 1.1421975 | J75: B | K75: 1 | L75: 0 | M75: 0
A76: 95 | B76: B4 | C76: 0.40528751 | D76: =C76*10^(-6)*(3600*24*365)*44*10000/10^(6) -> 5.6237047 | E76: =AVERAGE(C75:C76)/CO2cumul!$M$2 -> 0.56494623 | F76: =E76*(A76-A75)*(24*3600) -> 146434.06 | G76: =F76+G75 -> 2742337.6 | H76: =G76*44/10^(6) -> 120.66285 | I76: =H76*10000/1000/1000 -> 1.2066285 | J76: B | K76: 1 | L76: 0 | M76: 0
A77: 103 | B77: B4 | C77: 0.36025557 | D77: =C77*10^(-6)*(3600*24*365)*44*10000/10^(6) -> 4.9988486 | E77: =AVERAGE(C76:C77)/CO2cumul!$M$2 -> 0.35570688 | F77: =E77*(A77-A76)*(24*3600) -> 245864.6 | G77: =F77+G76 -> 2988202.2 | H77: =G77*44/10^(6) -> 131.4809 | I77: =H77*10000/1000/1000 -> 1.314809 | J77: B | K77: 1 | L77: 0 | M77: 0
A78: 113 | B78: B4 | C78: 0.81057502 | D78: =C78*10^(-6)*(3600*24*365)*44*10000/10^(6) -> 11.247409 | E78: =AVERAGE(C77:C78)/CO2cumul!$M$2 -> 0.54402229 | F78: =E78*(A78-A77)*(24*3600) -> 470035.26 | G78: =F78+G77 -> 3458237.4 | H78: =G78*44/10^(6) -> 152.16245 | I78: =H78*10000/1000/1000 -> 1.5216245 | J78: B | K78: 1 | L78: 0 | M78: 0
A79: 119 | B79: B4 | C79: 0.22515973 | D79: =C79*10^(-6)*(3600*24*365)*44*10000/10^(6) -> 3.1242804 | E79: =AVERAGE(C78:C79)/CO2cumul!$M$2 -> 0.48125049 | F79: =E79*(A79-A78)*(24*3600) -> 249480.25 | G79: =F79+G78 -> 3707717.7 | H79: =G79*44/10^(6) -> 163.13958 | I79: =H79*10000/1000/1000 -> 1.6313958 | J79: B | K79: 1 | L79: 0 | M79: 0
A80: 127 | B80: B4 | C80: 0.63044724 | D80: =C80*10^(-6)*(3600*24*365)*44*10000/10^(6) -> 8.747985 | E80: =AVERAGE(C79:C80)/CO2cumul!$M$2 -> 0.39755475 | F80: =E80*(A80-A79)*(24*3600) -> 274789.85 | G80: =F80+G79 -> 3982507.5 | H80: =G80*44/10^(6) -> 175.23033 | I80: =H80*10000/1000/1000 -> 1.7523033 | J80: B | K80: 1 | L80: 0 | M80: 0
A81: 131 | B81: B4 | C81: 0.45031946 | D81: =C81*10^(-6)*(3600*24*365)*44*10000/10^(6) -> 6.2485607 | E81: =AVERAGE(C80:C81)/CO2cumul!$M$2 -> 0.50217443 | F81: =E81*(A81-A80)*(24*3600) -> 173551.48 | G81: =F81+G80 -> 4156059 | H81: =G81*44/10^(6) -> 182.8666 | I81: =H81*10000/1000/1000 -> 1.828666 | J81: B | K81: 1 | L81: 0 | M81: 0 | N81: =I81 -> 1.828666
A82: 144 | B82: B4 | C82: -0.067547919 | D82: =C82*10^(-6)*(3600*24*365)*44*10000/10^(6) -> -0.93728411 | E82: =AVERAGE(C81:C82)/CO2cumul!$M$2 -> 0.17785344 | F82: =E82*(A82-A81)*(24*3600) -> 199764.99 | G82: =F82+G81 -> 4355824 | H82: =G82*44/10^(6) -> 191.65626 | I82: =H82*10000/1000/1000 -> 1.9165626 | J82: B | K82: 1 | L82: 0 | M82: 0
A83: 145 | B83: B4 | C83: 0.045031946 | D83: =C83*10^(-6)*(3600*24*365)*44*10000/10^(6) -> 0.62485607 | E83: =AVERAGE(C82:C83)/CO2cumul!$M$2 -> -0.010461967 | F83: =E83*(A83-A82)*(24*3600) -> -903.91397 | G83: =F83+G82 -> 4354920.1 | H83: =G83*44/10^(6) -> 191.61648 | I83: =H83*10000/1000/1000 -> 1.9161648 | J83: B | K83: 1 | L83: 0 | M83: 0
A84: 285 | B84: B4 | C84: 0.33023427 | D84: =C84*10^(-6)*(3600*24*365)*44*10000/10^(6) -> 4.5822779 | E84: =AVERAGE(C83:C84)/CO2cumul!$M$2 -> 0.17436612 | F84: =E84*(A84-A83)*(24*3600) -> 2109132.6 | G84: =F84+G83 -> 6464052.7 | H84: =G84*44/10^(6) -> 284.41832 | I84: =H84*10000/1000/1000 -> 2.8441832 | J84: B | K84: 1 | L84: 0 | M84: 0
A85: 316 | B85: B4 | C85: -0.090063892 | D85: =C85*10^(-6)*(3600*24*365)*44*10000/10^(6) -> -1.2497121 | E85: =AVERAGE(C84:C85)/CO2cumul!$M$2 -> 0.11159432 | F85: =E85*(A85-A84)*(24*3600) -> 298894.22 | G85: =F85+G84 -> 6762946.9 | H85: =G85*44/10^(6) -> 297.56966 | I85: =H85*10000/1000/1000 -> 2.9756966 | J85: B | K85: 1 | L85: 0 | M85: 0
A86: 445 | B86: B4 | C86: 0.12608945 | D86: =C86*10^(-6)*(3600*24*365)*44*10000/10^(6) -> 1.749597 | E86: =AVERAGE(C85:C86)/CO2cumul!$M$2 -> 0.016739148 | F86: =E86*(A86-A85)*(24*3600) -> 186567.84 | G86: =F86+G85 -> 6949514.7 | H86: =G86*44/10^(6) -> 305.77865 | I86: =H86*10000/1000/1000 -> 3.0577865 | J86: B | K86: 1 | L86: 0 | M86: 0
A87: 452 | B87: B4 | C87: 0.23416612 | D87: =C87*10^(-6)*(3600*24*365)*44*10000/10^(6) -> 3.2492516 | E87: =AVERAGE(C86:C87)/CO2cumul!$M$2 -> 0.16739148 | F87: =E87*(A87-A86)*(24*3600) -> 101238.36 | G87: =F87+G86 -> 7050753.1 | H87: =G87*44/10^(6) -> 310.23314 | I87: =H87*10000/1000/1000 -> 3.1023314 | J87: B | K87: 1 | L87: 0 | M87: 0
A88: 490 | B88: B4 | C88: 0.39628112 | D88: =C88*10^(-6)*(3600*24*365)*44*10000/10^(6) -> 5.4987335 | E88: =AVERAGE(C87:C88)/CO2cumul!$M$2 -> 0.29293508 | F88: =E88*(A88-A87)*(24*3600) -> 961764.46 | G88: =F88+G87 -> 8012517.6 | H88: =G88*44/10^(6) -> 352.55077 | I88: =H88*10000/1000/1000 -> 3.5255077 | J88: B | K88: 1 | L88: 0 | M88: 0
A89: 6 | B89: B5 | C89: 0.21345142 | D89: =C89*10^(-6)*(3600*24*365)*44*10000/10^(6) -> 2.9618178 | E89: =AVERAGE(C88:C89)/CO2cumul!$M$2 -> 0.28331007 | F89: =E89*(A89)*(24*3600) -> 146867.94 | G89: =F89 -> 146867.94 | H89: =G89*44/10^(6) -> 6.4621894 | I89: =H89*10000/1000/1000 -> 0.064621894 | J89: B | K89: 1 | L89: 0 | M89: 0
A90: 41 | B90: B5 | C90: 0.4479778 | D90: =C90*10^(-6)*(3600*24*365)*44*10000/10^(6) -> 6.2160682 | E90: =AVERAGE(C89:C90)/CO2cumul!$M$2 -> 0.30733075 | F90: =E90*(A90-A89)*(24*3600) -> 929368.18 | G90: =F90+G89 -> 1076236.1 | H90: =G90*44/10^(6) -> 47.354389 | I90: =H90*10000/1000/1000 -> 0.47354389 | J90: B | K90: 1 | L90: 0 | M90: 0
A91: 49 | B91: B5 | C91: 1.5614377 | D91: =C91*10^(-6)*(3600*24*365)*44*10000/10^(6) -> 21.66626 | E91: =AVERAGE(C90:C91)/CO2cumul!$M$2 -> 0.9336678 | F91: =E91*(A91-A90)*(24*3600) -> 645351.18 | G91: =F91+G90 -> 1721587.3 | H91: =G91*44/10^(6) -> 75.749842 | I91: =H91*10000/1000/1000 -> 0.75749842 | J91: B | K91: 1 | L91: 0 | M91: 0
A92: 56 | B92: B5 | C92: 0.045031946 | D92: =C92*10^(-6)*(3600*24*365)*44*10000/10^(6) -> 0.62485607 | E92: =AVERAGE(C91:C92)/CO2cumul!$M$2 -> 0.74644044 | F92: =E92*(A92-A91)*(24*3600) -> 451447.18 | G92: =F92+G91 -> 2173034.5 | H92: =G92*44/10^(6) -> 95.613517 | I92: =H92*10000/1000/1000 -> 0.95613517 | J92: B | K92: 1 | L92: 0 | M92: 0
A93: 61 | B93: B5 | C93: 0.045031946 | D93: =C93*10^(-6)*(3600*24*365)*44*10000/10^(6) -> 0.62485607 | E93: =AVERAGE(C92:C93)/CO2cumul!$M$2 -> 0.041847869 | F93: =E93*(A93-A92)*(24*3600) -> 18078.279 | G93: =F93+G92 -> 2191112.8 | H93: =G93*44/10^(6) -> 96.408962 | I93: =H93*10000/1000/1000 -> 0.96408962 | J93: B | K93: 1 | L93: 0 | M93: 0
A94: 69 | B94: B5 | C94: 0.090063892 | D94: =C94*10^(-6)*(3600*24*365)*44*10000/10^(6) -> 1.2497121 | E94: =AVERAGE(C93:C94)/CO2cumul!$M$2 -> 0.062771803 | F94: =E94*(A94-A93)*(24*3600) -> 43387.87 | G94: =F94+G93 -> 2234500.6 | H94: =G94*44/10^(6) -> 98.318028 | I94: =H94*10000/1000/1000 -> 0.98318028 | J94: B | K94: 1 | L94: 0 | M94: 0
A95: 75 | B95: B5 | C95: 0.13509584 | D95: =C95*10^(-6)*(3600*24*365)*44*10000/10^(6) -> 1.8745682 | E95: =AVERAGE(C94:C95)/CO2cumul!$M$2 -> 0.10461967 | F95: =E95*(A95-A94)*(24*3600) -> 54234.838 | G95: =F95+G94 -> 2288735.5 | H95: =G95*44/10^(6) -> 100.70436 | I95: =H95*10000/1000/1000 -> 1.0070436 | J95: B | K95: 1 | L95: 0 | M95: 0
A96: 82 | B96: B5 | D96: =C96*10^(-6)*(3600*24*365)*44*10000/10^(6) -> 0 | E96: =AVERAGE(C95:C96)/CO2cumul!$M$2 -> 0.12554361 | F96: =E96*(A96-A95)*(24*3600) -> 75928.773 | G96: =F96+G95 -> 2364664.2 | H96: =G96*44/10^(6) -> 104.04523 | I96: =H96*10000/1000/1000 -> 1.0404523 | J96: B | K96: 1 | L96: 0 | M96: 0
A97: 92 | B97: B5 | C97: 0.4953514 | D97: =C97*10^(-6)*(3600*24*365)*44*10000/10^(6) -> 6.8734168 | E97: =AVERAGE(C96:C97)/CO2cumul!$M$2 -> 0.46032656 | F97: =E97*(A97-A96)*(24*3600) -> 397722.14 | G97: =F97+G96 -> 2762386.4 | H97: =G97*44/10^(6) -> 121.545 | I97: =H97*10000/1000/1000 -> 1.21545 | J97: B | K97: 1 | L97: 0 | M97: 0
A98: 95 | B98: B5 | C98: 0.40528751 | D98: =C98*10^(-6)*(3600*24*365)*44*10000/10^(6) -> 5.6237047 | E98: =AVERAGE(C97:C98)/CO2cumul!$M$2 -> 0.41847869 | F98: =E98*(A98-A97)*(24*3600) -> 108469.68 | G98: =F98+G97 -> 2870856.1 | H98: =G98*44/10^(6) -> 126.31767 | I98: =H98*10000/1000/1000 -> 1.2631767 | J98: B | K98: 1 | L98: 0 | M98: 0
A99: 103 | B99: B5 | C99: -0.13509584 | D99: =C99*10^(-6)*(3600*24*365)*44*10000/10^(6) -> -1.8745682 | E99: =AVERAGE(C98:C99)/CO2cumul!$M$2 -> 0.12554361 | F99: =E99*(A99-A98)*(24*3600) -> 86775.741 | G99: =F99+G98 -> 2957631.8 | H99: =G99*44/10^(6) -> 130.1358 | I99: =H99*10000/1000/1000 -> 1.301358 | J99: B | K99: 1 | L99: 0 | M99: 0
A100: 113 | B100: B5 | C100: 0.36025557 | D100: =C100*10^(-6)*(3600*24*365)*44*10000/10^(6) -> 4.9988486 | E100: =AVERAGE(C99:C100)/CO2cumul!$M$2 -> 0.10461967 | F100: =E100*(A100-A99)*(24*3600) -> 90391.397 | G100: =F100+G99 -> 3048023.2 | H100: =G100*44/10^(6) -> 134.11302 | I100: =H100*10000/1000/1000 -> 1.3411302 | J100: B | K100: 1 | L100: 0 | M100: 0
A101: 119 | B101: B5 | C101: 0.45031946 | D101: =C101*10^(-6)*(3600*24*365)*44*10000/10^(6) -> 6.2485607 | E101: =AVERAGE(C100:C101)/CO2cumul!$M$2 -> 0.37663082 | F101: =E101*(A101-A100)*(24*3600) -> 195245.42 | G101: =F101+G100 -> 3243268.6 | H101: =G101*44/10^(6) -> 142.70382 | I101: =H101*10000/1000/1000 -> 1.4270382 | J101: B | K101: 1 | L101: 0 | M101: 0
A102: 127 | B102: B5 | C102: -0.13509584 | D102: =C102*10^(-6)*(3600*24*365)*44*10000/10^(6) -> -1.8745682 | E102: =AVERAGE(C101:C102)/CO2cumul!$M$2 -> 0.14646754 | F102: =E102*(A102-A101)*(24*3600) -> 101238.36 | G102: =F102+G101 -> 3344507 | H102: =G102*44/10^(6) -> 147.15831 | I102: =H102*10000/1000/1000 -> 1.4715831 | J102: B | K102: 1 | L102: 0 | M102: 0
A103: 131 | B103: B5 | D103: =C103*10^(-6)*(3600*24*365)*44*10000/10^(6) -> 0 | E103: =AVERAGE(C102:C103)/CO2cumul!$M$2 -> -0.12554361 | F103: =E103*(A103-A102)*(24*3600) -> -43387.87 | G103: =F103+G102 -> 3301119.1 | H103: =G103*44/10^(6) -> 145.24924 | I103: =H103*10000/1000/1000 -> 1.4524924 | J103: B | K103: 1 | L103: 0 | M103: 0
A104: 144 | B104: B5 | C104: 0 | D104: =C104*10^(-6)*(3600*24*365)*44*10000/10^(6) -> 0 | E104: =AVERAGE(C103:C104)/CO2cumul!$M$2 -> 0 | F104: =E104*(A104-A103)*(24*3600) -> 0 | G104: =F104+G103 -> 3301119.1 | H104: =G104*44/10^(6) -> 145.24924 | I104: =H104*10000/1000/1000 -> 1.4524924 | J104: B | K104: 1 | L104: 0 | M104: 0
A105: 145 | B105: B5 | C105: -0.045031946 | D105: =C105*10^(-6)*(3600*24*365)*44*10000/10^(6) -> -0.62485607 | E105: =AVERAGE(C104:C105)/CO2cumul!$M$2 -> -0.020923934 | F105: =E105*(A105-A104)*(24*3600) -> -1807.8279 | G105: =F105+G104 -> 3299311.3 | H105: =G105*44/10^(6) -> 145.1697 | I105: =H105*10000/1000/1000 -> 1.451697 | J105: B | K105: 1 | L105: 0 | M105: 0
A106: 285 | B106: B5 | C106: 0.15010649 | D106: =C106*10^(-6)*(3600*24*365)*44*10000/10^(6) -> 2.0828536 | E106: =AVERAGE(C105:C106)/CO2cumul!$M$2 -> 0.048822514 | F106: =E106*(A106-A105)*(24*3600) -> 590557.12 | G106: =F106+G105 -> 3889868.4 | H106: =G106*44/10^(6) -> 171.15421 | I106: =H106*10000/1000/1000 -> 1.7115421 | J106: B | K106: 1 | L106: 0 | M106: 0
A107: 316 | B107: B5 | C107: -0.090063892 | D107: =C107*10^(-6)*(3600*24*365)*44*10000/10^(6) -> -1.2497121 | E107: =AVERAGE(C106:C107)/CO2cumul!$M$2 -> 0.027898579 | F107: =E107*(A107-A106)*(24*3600) -> 74723.555 | G107: =F107+G106 -> 3964592 | H107: =G107*44/10^(6) -> 174.44205 | I107: =H107*10000/1000/1000 -> 1.7444205 | J107: B | K107: 1 | L107: 0 | M107: 0
...
