Workbook

Sheet REGISTRO IDENTIFICADOS ENLAS BD
A1: Key | B1: Item Type | C1: Publication Year | D1: Author | E1: Title | F1: Publication Title | G1: ISBN | H1: ISSN | I1: DOI | J1: Url | K1: Abstract Note | L1: Date | M1: Pages | N1: Num Pages | O1: Issue | P1: Volume | Q1: Number Of Volumes | R1: Journal Abbreviation | S1: Short Title | T1: Series | U1: Series Number | V1: Series Text | W1: Series Title | X1: Publisher | Y1: Place | Z1: Language | AA1: Rights | AB1: Type | AC1: Archive | AD1: Archive Location | AE1: Library Catalog | AF1: Call Number | AG1: Extra | AH1: Notes | AI1: File Attachments | AJ1: Link Attachments | AK1: Manual Tags | AL1: Automatic Tags | AM1: Editor | AN1: Series Editor | AO1: Translator | AP1: Contributor | AQ1: Attorney Agent | AR1: Book Author | AS1: Cast Member | AT1: Commenter | AU1: Composer | AV1: Cosponsor | AW1: Counsel
A2: VL53FN34 | B2: conferencePaper | C2: 2016 | D2: Díaz, Verónica Marín; González, Juan Manuel Muñoz; Gea, Esther María Vega | E2: La Realidad Aumentada como herramienta de aprendizaje en Educación Infantil | F2: Tecnología, innovación e investigación en los procesos de enseñanza-aprendizaje, 2016, ISBN 978-84-9921-848-9, págs. 833-841 | G2: 978-84-9921-848-9 | J2: https://dialnet.unirioja.es/servlet/articulo?codigo=6031650 | K2: Autorías: Verónica Marín Díaz, Juan Manuel Muñoz González, Esther María Vega Gea. Localización: Tecnología, innovación e investigación en los procesos de enseñanza-aprendizaje, 2016. Artículo de Libro en Dialnet. | L2: 2016 | M2: 833-841 | X2: Octaedro | Z2: spa | AE2: dialnet.unirioja.es | AG2: Section: Tecnología, innovación e investigación en los procesos de enseñanza-aprendizaje | AI2: C:\Users\dell i7\Zotero\storage\QKY5SRD7\articulo.html
A3: ZQUQCAHN | B3: book | C3: 2016 | D3: Vila, Rosabel Roig | E3: Tecnología, innovación e investigación en los procesos de enseñanza-aprendizaje | G3: 978-84-9921-848-9 | J3: https://dialnet.unirioja.es/servlet/libro?codigo=674488 | K3: Autoría: Rosabel Roig Vila. Editor: Octaedro. Año de publicación: 2016. Libro en Dialnet. | L3: 2016 | X3: Octaedro | Z3: spa | AE3: dialnet.unirioja.es | AI3: C:\Users\dell i7\Zotero\storage\9KN68RSE\libro.html
A4: 3F6WAMC9 | B4: conferencePaper | C4: 2018 | D4: Díaz, Verónica Marín | E4: La realidad aumentada para el desarrollo curricular de Educación Infantil y Primaria | F4: La realidad aumentada como herramienta educativa: aplicación a la Educación Infantil, Primaria, Secundaria y Bachillerato, 2018, ISBN 978-84-283-4070-0, págs. 125-138 | G4: 978-84-283-4070-0 | J4: https://dialnet.unirioja.es/servlet/articulo?codigo=7794609 | K4: Autoría: Verónica Marín Díaz. Localización: La realidad aumentada como herramienta educativa: aplicación a la Educación Infantil, Primaria, Secundaria y Bachillerato, 2018. Artículo de Libro en Dialnet. | L4: 2018 | M4: 125-138 | X4: Paraninfo | Z4: spa | AE4: dialnet.unirioja.es | AG4: Section: La realidad aumentada como herramienta educativa: aplicación a la Educación Infantil, Primaria, Secundaria y Bachillerato | AI4: C:\Users\dell i7\Zotero\storage\BCIN9ILD\articulo.html
A5: 223JT38M | B5: book | C5: 2018 | D5: Almenara, Julio Cabero; Villacé, Ibán de la Horra; Bolado, Javier Sánchez | E5: La realidad aumentada como herramienta educativa: aplicación a la Educación Infantil, Primaria, Secundaria y Bachillerato | G5: 978-84-283-4070-0 | J5: https://dialnet.unirioja.es/servlet/libro?codigo=788238 | K5: Autorías: Julio Cabero Almenara, Ibán de la Horra Villacé, Javier Sánchez Bolado. Editor: Paraninfo. Año de publicación: 2018. Libro en Dialnet. | L5: 2018 | S5: La realidad aumentada como herramienta educativa | X5: Paraninfo | Z5: spa | AE5: dialnet.unirioja.es | AI5: C:\Users\dell i7\Zotero\storage\KKJW7VYF\libro.html
A6: ZQGUEQD9 | B6: thesis | C6: 2015 | D6: Martínez, Antonia Cascales | E6: Realidad aumentada y educación infantil: implementación y evaluación | J6: https://dialnet.unirioja.es/servlet/tesis?codigo=155219 | K6: Autoría: Antonia Cascales Martínez. Dirección de la Tesis: María José Martínez Segura. Lectura: Universidad de Murcia en 2015. Tesis doctoral en Dialnet. | L6: 2015 | S6: Realidad aumentada y educación infantil | X6: Universidad de Murcia | Z6: es | AB6: http://purl.org/dc/dcmitype/Text | AE6: dialnet.unirioja.es | AI6: C:\Users\dell i7\Zotero\storage\CV7VZHYS\tesis.html
A7: GYY4JFC2 | B7: conferencePaper | C7: 2022 | D7: Gavira, Sonia Aguilar; Martín-Gutiérrez, Ángela; Gavira, Remedios Benítez | E7: La incidencia de la realidad aumentada en Educación infantil: un desafío docente | F7: La tecnología educativa como eje vertebrador de la innovación, 2022, ISBN 978-84-19023-79-7, págs. 185-198 | G7: 978-84-19023-79-7 | J7: https://dialnet.unirioja.es/servlet/articulo?codigo=8368619 | K7: Autorías: Sonia Aguilar Gavira, Ángela Martín-Gutiérrez, Remedios Benítez Gavira. Localización: La tecnología educativa como eje vertebrador de la innovación, 2022. Artículo de Libro en Dialnet. | L7: 2022 | M7: 185-198 | S7: La incidencia de la realidad aumentada en Educación infantil | X7: Octaedro | Z7: spa | AE7: dialnet.unirioja.es | AG7: Section: La tecnología educativa como eje vertebrador de la innovación | AI7: C:\Users\dell i7\Zotero\storage\G7WUAGGH\articulo.html
A8: 9YCQVLW2 | B8: book | C8: 2022 | D8: Rivas, Enrique Sánchez; Magaña, Ernesto Colomo; Palmero, Julio Ruiz; García, Melchor Gómez | E8: La tecnología educativa como eje vertebrador de la innovación | G8: 978-84-19023-79-7 | J8: https://dialnet.unirioja.es/servlet/libro?codigo=858498 | K8: Autorías: Enrique Sánchez Rivas, Ernesto Colomo Magaña, Julio Ruiz Palmero, Melchor Gómez García. Editor: Octaedro. Año de publicación: 2022. Libro en Dialnet. | L8: 2022 | X8: Octaedro | Z8: spa | AE8: dialnet.unirioja.es | AI8: C:\Users\dell i7\Zotero\storage\E579H66N\libro.html
A9: SJGBSFQH | B9: conferencePaper | C9: 2016 | D9: Martínez, Amaia Aguirregoitia; Benito, Jorge R. López; López, Iñigo Allende; González, Enara Artetxe | E9: Leihoa: Una ventana a la realidad aumentada en Educación Infantil | F9: XVIII Simposio Internacional de Informática Educativa, SIIE 2016, 2016, ISBN 978-84-9012-630-1, págs. 283-288 | G9: 978-84-9012-630-1 | J9: https://dialnet.unirioja.es/servlet/articulo?codigo=7522987 | K9: Autorías: Amaia Aguirregoitia Martínez, Jorge R. López Benito, Iñigo Allende López, Enara Artetxe González. Localización: XVIII Simposio Internacional de Informática Educativa, SIIE 2016, 2016. Artículo de Libro en Dialnet. | L9: 2016 | M9: 283-288 | S9: Leihoa | X9: Ediciones Universidad de Salamanca | Z9: spa | AE9: dialnet.unirioja.es | AG9: Section: XVIII Simposio Internacional de Informática Educativa, SIIE 2016 | AI9: C:\Users\dell i7\Zotero\storage\GH57GXK3\articulo.html
A10: 7H6XQEH7 | B10: book | C10: 2016 | D10: Peñalvo, Francisco José García; Mendes, António José | E10: XVIII Simposio Internacional de Informática Educativa, SIIE 2016 | G10: 978-84-9012-630-1 | J10: https://dialnet.unirioja.es/servlet/libro?codigo=770834 | K10: Autorías: Francisco José García Peñalvo, António José Mendes. Editor: Ediciones Universidad de Salamanca. Año de publicación: 2016. Libro en Dialnet. | L10: 2016 | X10: Ediciones Universidad de Salamanca | Z10: spa | AE10: dialnet.unirioja.es | AI10: C:\Users\dell i7\Zotero\storage\J5375RXB\libro.html
A11: KMEGSTI6 | B11: conferencePaper | C11: 2014 | D11: Machado, Eduardo Rodríguez; Río, Emilio J. Veiga | E11: La realidad aumentada en la Educación Infantil: propuestas de actividades en psicomotricidad | F11: Innovando a través de proyectos: organización, liderazgo y compromiso, 2014, ISBN 978-84-16046-37-9, págs. 214-219 | G11: 978-84-16046-37-9 | J11: https://dialnet.unirioja.es/servlet/articulo?codigo=6378930 | K11: Autorías: Eduardo Rodríguez Machado, Emilio J. Veiga Río. Localización: Innovando a través de proyectos: organización, liderazgo y compromiso, 2014. Artículo de Libro en Dialnet. | L11: 2014 | M11: 214-219 | S11: La realidad aumentada en la Educación Infantil | Z11: spa | AE11: dialnet.unirioja.es | AG11: Section: Innovando a través de proyectos: organización, liderazgo y compromiso | AI11: C:\Users\dell i7\Zotero\storage\EFNVQ2KM\articulo.html
A12: TAZHEN2N | B12: book | C12: 2014 | D12: Arregui, Emilio Álvarez; Martín, Alejandro Rodríguez | E12: Innovando a través de proyectos: organización, liderazgo y compromiso | G12: 978-84-16046-37-9 | J12: https://dialnet.unirioja.es/servlet/libro?codigo=703452 | K12: Autorías: Emilio Álvarez Arregui, Alejandro Rodríguez Martín. Año de publicación: 2014. Libro en Dialnet. | L12: 2014 | S12: Innovando a través de proyectos | Z12: spa | AE12: dialnet.unirioja.es | AI12: C:\Users\dell i7\Zotero\storage\MMN6H9WJ\libro.html
A13: SQUJD65T | B13: conferencePaper | C13: 2018 | D13: Piñeiro, María del Rosario Neira; Coto, Inés Fombella; Pérez, María Esther del Moral | E13: Álbum ilustrado y realidad aumentada: Expandiendo la experiencia lectora en educación infantil | F13: EDUcación con TECnología: un compromiso social. Aproximaciones desde la investigación y la innovación, 2018, ISBN 978-84-9144-126-7, págs. 882-887 | G13: 978-84-9144-126-7 | J13: https://dialnet.unirioja.es/servlet/articulo?codigo=8278619 | K13: Autorías: María del Rosario Neira Piñeiro, Inés Fombella Coto, María Esther del Moral Pérez. Localización: EDUcación con TECnología: un compromiso social. Aproximaciones desde la investigación y la innovación, 2018. Artículo de Libro en Dialnet. | L13: 2018 | M13: 882-887 | S13: Álbum ilustrado y realidad aumentada | X13: Edicions de la Universitat de Lleida | Z13: spa | AE13: dialnet.unirioja.es | AG13: Section: EDUcación con TECnología: un compromiso social. Aproximaciones desde la investigación y la innovación | AI13: C:\Users\dell i7\Zotero\storage\EU37ZRTD\articulo.html
A14: XWSIVNRU | B14: book | C14: 2018 | D14: Farran, Francesc Xavier Carrera; Sánchez, Francisco Martínez; Rodríguez, Jordi Lluís Coiduras; Baiges, Enric Brescó; Tió, Eduard Vaquero | E14: EDUcación con TECnología: un compromiso social. Aproximaciones desde la investigación y la innovación | G14: 978-84-9144-126-7 | J14: https://dialnet.unirioja.es/servlet/libro?codigo=745930 | K14: Autorías: Francesc Xavier Carrera Farran, Francisco Martínez Sánchez, Jordi Lluís Coiduras Rodríguez, Enric Brescó Baiges, Eduard Vaquero Tió. Editor: Edicions de la Universitat de Lleida. Año de publicación: 2018. Libro en Dialnet. | L14: 2018 | S14: EDUcación con TECnología | X14: Edicions de la Universitat de Lleida | Z14: spa | AE14: dialnet.unirioja.es | AI14: C:\Users\dell i7\Zotero\storage\EX3KJA4E\libro.html
A15: 39BUFESD | B15: conferencePaper | C15: 2019 | D15: Belmonte, Jesús López; Guerrero, Antonio José Moreno; Rodríguez, José María Romero; García, Gerardo Gómez | E15: Nuevos entornos de aprendizaje en cooperativas de enseñanza: El uso de la realidad aumentada en Educación Infantil | F15: Edunovatic 2018. Conference Proceedings: 3rd Virtual International Conference on Education, Innovation and ICT. 17-19 December, 2018, 2019, ISBN 978-94-92805-08-9, pág. 214 | G15: 978-94-92805-08-9 | J15: https://dialnet.unirioja.es/servlet/articulo?codigo=7359953 | K15: Autorías: Jesús López Belmonte, Antonio José Moreno Guerrero, José María Romero Rodríguez, Gerardo Gómez García. Localización: Edunovatic 2018. Conference Proceedings: 3rd Virtual International Conference on Education, Innovation and ICT. 17-19 December, 2018, 2019. Artículo de Libro en Dialnet. | L15: 2019 | M15: 214 | S15: Nuevos entornos de aprendizaje en cooperativas de enseñanza | X15: Adaya Press | Z15: spa | AE15: dialnet.unirioja.es | AG15: Section: Edunovatic 2018. Conference Proceedings: 3rd Virtual International Conference on Education, Innovation and ICT. 17-19 December, 2018 | AI15: C:\Users\dell i7\Zotero\storage\I7K2LAKW\articulo.html
A16: M8SKZHQQ | B16: book | C16: 2019 | E16: Edunovatic 2018. Conference Proceedings: 3rd Virtual International Conference on Education, Innovation and ICT. 17-19 December, 2018 | G16: 978-94-92805-08-9 | J16: https://dialnet.unirioja.es/servlet/libro?codigo=763725 | K16: Editores: Adaya Press : REDINE (Red de Investigación e Innovación Educativa). Año de publicación: 2019. Libro en Dialnet. | L16: 2019 | S16: Edunovatic 2018. Conference Proceedings | X16: Adaya Press | Z16: eng | AE16: dialnet.unirioja.es | AI16: C:\Users\dell i7\Zotero\storage\JJQ5MG2K\libro.html
A17: V7SSEKX8 | B17: conferencePaper | C17: 2020 | D17: Garrido, Diego Calderón; Clares, Francisca Núñez | E17: Diseño de una propuesta didáctica basada en la robótica educativa y la realidad aumentada en educación infantil | F17: La tecnología como eje del cambio metodológico, 2020, ISBN 978-84-1335-052-3, págs. 1731-1733 | G17: 978-84-13-35052-3 | J17: https://dialnet.unirioja.es/servlet/articulo?codigo=7832937 | K17: Autorías: Diego Calderón Garrido, Francisca Núñez Clares. Localización: La tecnología como eje del cambio metodológico, 2020. Artículo de Libro en Dialnet. | L17: 2020 | M17: 1731-1733 | X17: UMA Editorial | Z17: spa | AE17: dialnet.unirioja.es | AG17: Section: La tecnología como eje del cambio metodológico | AI17: C:\Users\dell i7\Zotero\storage\5G6CFSXF\articulo.html
A18: ALFWAWYM | B18: book | C18: 2020 | D18: Magaña, Ernesto Colomo; Rivas, Enrique Sánchez; Palmero, Julio Ruiz; Rodríguez, José Sánchez | E18: La tecnología como eje del cambio metodológico | G18: 978-84-13-35052-3 | J18: https://dialnet.unirioja.es/servlet/libro?codigo=790613 | K18: Autorías: Ernesto Colomo Magaña, Enrique Sánchez Rivas, Julio Ruiz Palmero, José Sánchez Rodríguez. Editor: UMA Editorial. Año de publicación: 2020. Libro en Dialnet. | L18: 2020 | X18: UMA Editorial | Z18: spa | AE18: dialnet.unirioja.es | AI18: C:\Users\dell i7\Zotero\storage\WDMHX73S\libro.html
A19: NIQABMAD | B19: journalArticle | C19: 2019 | D19: Vila, Rosabel Roig; Lledó, Alejandro Lorenzo; Andrés, Santiago Mengual | E19: Utilidad percibida de la realidad aumentada como recurso didáctico en Educación Infantil | F19: Campus Virtuales | H19: 2255-1514 | J19: https://dialnet.unirioja.es/servlet/articulo?codigo=6886799 | K19: Autorías: Rosabel Roig Vila, Alejandro Lorenzo Lledó, Santiago Mengual Andrés. Localización: Campus Virtuales. Nº. 1, 2019. Artículo de Revista en Dialnet. | L19: 2019 | M19: 19-35 | O19: 1 (Marzo/March) | P19: 8 | Z19: spa | AE19: dialnet.unirioja.es | AG19: Publisher: Campus Virtuales Section: Campus Virtuales | AI19: C:\Users\dell i7\Zotero\storage\ESXSFSCS\Vila et al. - 2019 - Utilidad percibida de la realidad aumentada como r.pdf; C:\Users\dell i7\Zotero\storage\3NLC87JX\articulo.html
A20: DAAICJ2K | B20: journalArticle | C20: 2021 | D20: Fuentes, Elena Moreno; Navarrete, José Hidalgo; Bolós, Consuelo Burgos; Paz, Soledad de la Blanca de la | E20: Aprendizaje integrado y colaborativo de ciencias a través de las realidad aumentada en educación infantil | F20: Etic@net: Revista científica electrónica de Educación y Comunicación en la Sociedad del Conocimiento | H20: 1695-324X | J20: https://dialnet.unirioja.es/servlet/articulo?codigo=8039067 | K20: Autorías: Elena Moreno Fuentes, José Hidalgo Navarrete, Consuelo Burgos Bolós, Soledad de la Blanca de la Paz. Localización: Etic@net: Revista científica electrónica de Educación y Comunicación en la Sociedad del Conocimiento. Nº. 1, 2021. Artículo de Revista en Dialnet. | L20: 2021 | M20: 214-229 | O20: 1 | P20: 21 | Z20: spa | AE20: dialnet.unirioja.es | AG20: Publisher: Universidad de Granada Section: Etic@net: Revista científica electrónica de Educación y Comunicación en la Sociedad del Conocimiento | AI20: C:\Users\dell i7\Zotero\storage\KDN4BB66\Fuentes et al. - 2021 - Aprendizaje integrado y colaborativo de ciencias a.pdf; C:\Users\dell i7\Zotero\storage\ADMU4VSJ\articulo.html
A21: 9AD44A9M | B21: book | C21: 2018 | D21: Almenara, Julio Cabero; Villacé, Ibán de la Horra; Bolado, Javier Sánchez | E21: La realidad aumentada como herramienta educativa: aplicación a la Educación Infantil, Primaria, Secundaria y Bachillerato | G21: 978-84-283-4070-0 | J21: https://dialnet.unirioja.es/servlet/libro?codigo=788238 | K21: Autorías: Julio Cabero Almenara, Ibán de la Horra Villacé, Javier Sánchez Bolado. Editor: Paraninfo. Año de publicación: 2018. Libro en Dialnet. | L21: 2018 | S21: La realidad aumentada como herramienta educativa | X21: Paraninfo | Z21: spa | AE21: dialnet.unirioja.es | AI21: C:\Users\dell i7\Zotero\storage\6YBQVSV3\libro.html
A22: B6TWB72R | B22: journalArticle | C22: 2021 | D22: García, María Cristina Moral; Fuentes, Elena Moreno | E22: Robótica, realidad aumentada y TAC como herramientas clave en la metodología CLIL en Educación Infantil | F22: Márgenes: Revista de Educación de la Universidad de Málaga | H22: 2695-2769 | J22: https://dialnet.unirioja.es/servlet/articulo?codigo=8049661 | K22: Autorías: María Cristina Moral García, Elena Moreno Fuentes. Localización: Márgenes: Revista de Educación de la Universidad de Málaga. Nº. 2, 2021. Artículo de Revista en Dialnet. | L22: 2021 | M22: 116-129 | O22: 2 | P22: 2 | Z22: spa | AE22: dialnet.unirioja.es | AG22: Publisher: Universidad de Málaga (UMA) Section: Márgenes: Revista de Educación de la Universidad de Málaga | AI22: C:\Users\dell i7\Zotero\storage\D7HIN66Q\García y Fuentes - 2021 - Robótica, realidad aumentada y TAC como herramient.pdf; C:\Users\dell i7\Zotero\storage\MH2QW4R6\articulo.html
A23: VIEFVDQA | B23: conferencePaper | C23: 2016 | D23: Gil, Blanca Mirete | E23: La realidad aumentada y los códigos QR en educación infantil: un estudio de caso | F23: Propuestas de intervención en Educación Infantil, 2016, ISBN 978-84-61785-16-2, págs. 1-24 | G23: 978-84-617-8516-2 | J23: https://dialnet.unirioja.es/servlet/articulo?codigo=8304115 | K23: Autoría: Blanca Mirete Gil. Localización: Propuestas de intervención en Educación Infantil, 2016. Artículo de Libro en Dialnet. | L23: 2016 | M23: 44585 | S23: La realidad aumentada y los códigos QR en educación infantil | X23: Servicio de Publicaciones | Z23: spa | AE23: dialnet.unirioja.es | AG23: Section: Propuestas de intervención en Educación Infantil | AI23: C:\Users\dell i7\Zotero\storage\IH2A3B9M\articulo.html
A24: V6Q4BJET | B24: book | C24: 2016 | D24: Ruiz, Ana Belén Mirete; Allah, Mohamed Chamseddine Habib; Cantero, Mari Carmen Hernández | E24: Propuestas de intervención en Educación Infantil | G24: 978-84-617-8516-2 | J24: https://dialnet.unirioja.es/servlet/libro?codigo=855328 | K24: Autorías: Ana Belén Mirete Ruiz, Mohamed Chamseddine Habib Allah, Mari Carmen Hernández Cantero. Editor: Servicio de Publicaciones. Año de publicación: 2016. Libro en Dialnet. | L24: 2016 | X24: Servicio de Publicaciones | Z24: spa | AE24: dialnet.unirioja.es | AI24: C:\Users\dell i7\Zotero\storage\XJLU7IFJ\libro.html
A25: LB6RJTFD | B25: conferencePaper | C25: 2017 | D25: Martínez, Amaia Aguirregoitia; Benito, Jorge R. López; González, Enara Artetxe; Ajuria, Estibaliz Bilbao | E25: Una experiencia de aplicación de Realidad Aumentada para el Aprendizaje del Inglés en Educación Infantil | F25: Atas do XIX Simpósio Internacional de Informática Educativa e VIII Encontro do CIED: III Encontro Internacional, 2017, ISBN 978-989-95733-9-0, págs. 194-199 | G25: 978-989-95733-9-0 | J25: https://dialnet.unirioja.es/servlet/articulo?codigo=7242146 | K25: Autorías: Amaia Aguirregoitia Martínez, Jorge R. López Benito, Enara Artetxe González, Estibaliz Bilbao Ajuria. Localización: Atas do XIX Simpósio Internacional de Informática Educativa e VIII Encontro do CIED: III Encontro Internacional, 2017. Artículo de Libro en Dialnet. | L25: 2017 | M25: 194-199 | X25: CIED - Centro Interdisciplinar de Estudos Educacionais | Z25: spa | AE25: dialnet.unirioja.es | AG25: Section: Atas do XIX Simpósio Internacional de Informática Educativa e VIII Encontro do CIED: III Encontro Internacional | AI25: C:\Users\dell i7\Zotero\storage\GJXJSXBL\articulo.html
A26: 9L3FWII4 | B26: book | C26: 2017 | E26: Atas do XIX Simpósio Internacional de Informática Educativa e VIII Encontro do CIED: III Encontro Internacional | G26: 978-989-95733-9-0 | J26: https://dialnet.unirioja.es/servlet/libro?codigo=744256 | K26: Editor: CIED - Centro Interdisciplinar de Estudos Educacionais. Año de publicación: 2017. Libro en Dialnet. | L26: 2017 | S26: Atas do XIX Simpósio Internacional de Informática Educativa e VIII Encontro do CIED | X26: CIED - Centro Interdisciplinar de Estudos Educacionais | Z26: por | AE26: dialnet.unirioja.es | AI26: C:\Users\dell i7\Zotero\storage\VFL5PVIL\libro.html
A27: EG9YYZDM | B27: conferencePaper | C27: 2017 | D27: Martínez, Lourdes Villalustre; Pérez, María Esther del Moral; Vázquez, Mónica Herrero | E27: Aprendiendo y Enseñando Ciencias Naturales con Realidad Aumentada en aulas de Educación Infantil y Primaria | F27: Investigación, innovación y tecnologías: la triada para transformar los procesos formativos, 2017, págs. 233-241 | J27: https://dialnet.unirioja.es/servlet/articulo?codigo=7737453 | K27: Autorías: Lourdes Villalustre Martínez, María Esther del Moral Pérez, Mónica Herrero Vázquez. Localización: Investigación, innovación y tecnologías: la triada para transformar los procesos formativos, 2017. Artículo de Libro en Dialnet. | L27: 2017 | M27: 233-241 | X27: Universidad de Santiago de Chile (USACH) | Z27: spa | AE27: dialnet.unirioja.es | AG27: Section: Investigación, innovación y tecnologías: la triada para transformar los procesos formativos | AI27: C:\Users\dell i7\Zotero\storage\HDXTM56X\articulo.html
A28: QIEQ8G6Q | B28: book | C28: 2017 | D28: Quiroz, Juan Eusebio Silva | E28: Investigación, innovación y tecnologías: la triada para transformar los procesos formativos | J28: https://dialnet.unirioja.es/servlet/libro?codigo=784236 | K28: Autoría: Juan Eusebio Silva Quiroz. Editor: Universidad de Santiago de Chile (USACH). Año de publicación: 2017. Libro en Dialnet. | L28: 2017 | S28: Investigación, innovación y tecnologías | X28: Universidad de Santiago de Chile (USACH) | Z28: spa | AE28: dialnet.unirioja.es | AI28: C:\Users\dell i7\Zotero\storage\6ETERMGS\libro.html
A29: 4DSQEK8S | B29: conferencePaper | C29: 2020 | D29: Ferrandini, Griselda | E29: La narrativa digital y la realidad aumentada como estrategias educativas en Educación Infantil | F29: Conference proceedings CIVINEDU 2020: 4th International Virtual Conference on Educational Research and Innovation September 23-24, 2020, 2020, ISBN 978-84-09-22966-6, págs. 658-659 | G29: 978-84-09-22966-6 | J29: https://dialnet.unirioja.es/servlet/articulo?codigo=7859265 | K29: Autoría: Griselda Ferrandini. Localización: Conference proceedings CIVINEDU 2020: 4th International Virtual Conference on Educational Research and Innovation September 23-24, 2020, 2020. Artículo de Libro en Dialnet. | L29: 2020 | M29: 658-659 | X29: REDINE (Red de Investigación e Innovación Educativa) | Z29: spa | AE29: dialnet.unirioja.es | AG29: Section: Conference proceedings CIVINEDU 2020: 4th International Virtual Conference on Educational Research and Innovation September 23-24, 2020 | AI29: C:\Users\dell i7\Zotero\storage\P5NBZR6S\articulo.html
A30: 9SHT49J6 | B30: book | C30: 2020 | E30: Conference proceedings CIVINEDU 2020: 4th International Virtual Conference on Educational Research and Innovation September 23-24, 2020 | G30: 978-84-09-22966-6 | J30: https://dialnet.unirioja.es/servlet/libro?codigo=779629 | K30: Editor: REDINE (Red de Investigación e Innovación Educativa). Año de publicación: 2020. Libro en Dialnet. | L30: 2020 | S30: Conference proceedings CIVINEDU 2020 | X30: REDINE (Red de Investigación e Innovación Educativa) | Z30: spa | AE30: dialnet.unirioja.es | AI30: C:\Users\dell i7\Zotero\storage\J8CCI73Z\libro.html
A31: H9PLUH3E | B31: conferencePaper | C31: 2018 | D31: Villacé, Ibán de la Horra | E31: Creación de materiales con realidad aumentada | F31: La realidad aumentada como herramienta educativa: aplicación a la Educación Infantil, Primaria, Secundaria y Bachillerato, 2018, ISBN 978-84-283-4070-0, págs. 75-122 | G31: 978-84-283-4070-0 | J31: https://dialnet.unirioja.es/servlet/articulo?codigo=7794605 | K31: Autoría: Ibán de la Horra Villacé. Localización: La realidad aumentada como herramienta educativa: aplicación a la Educación Infantil, Primaria, Secundaria y Bachillerato, 2018. Artículo de Libro en Dialnet. | L31: 2018 | M31: 75-122 | X31: Paraninfo | Z31: spa | AE31: dialnet.unirioja.es | AG31: Section: La realidad aumentada como herramienta educativa: aplicación a la Educación Infantil, Primaria, Secundaria y Bachillerato | AI31: C:\Users\dell i7\Zotero\storage\5H8AIIR5\articulo.html
A32: LLV6V8GQ | B32: journalArticle | C32: 2021 | D32: Rebaque, Begoña Rivas; Barrio, Felipe Gértrudix; Barrio, Manuel Gértrudix | E32: Análisis sistemático sobre el uso de la Realidad Aumentada en Educación Infantil. | F32: Edutec: Revista electrónica de tecnología educativa | H32: 1135-9250 | J32: https://dialnet.unirioja.es/servlet/articulo?codigo=7993716 | K32: Autorías: Begoña Rivas Rebaque, Felipe Gértrudix Barrio, Manuel Gértrudix Barrio. Localización: Edutec: Revista electrónica de tecnología educativa. Nº. 76, 2021. Artículo de Revista en Dialnet. | L32: 2021 | M32: 53-73 | O32: 76 (Número especial) | Z32: spa | AE32: dialnet.unirioja.es | AG32: Publisher: Edutec. Asociación para el Desarrollo de la Tecnología Educativa Section: Edutec: Revista electrónica de tecnología educativa | AI32: C:\Users\dell i7\Zotero\storage\HYIFYNUD\articulo.html
A33: UYB3GZKQ | B33: conferencePaper | C33: 2019 | D33: Herrero, Juan Francisco Álvarez | E33: Grado de aceptación de la Realidad Aumentada como complemento de la enseñanza de las ciencias por el futuro profesorado de Educación Infantil | F33: Investigación e innovación en la Enseñanza Superior: Nuevos contextos, nuevas ideas, 2019, ISBN 978-84-17667-23-8, págs. 1045-1052 | G33: 978-84-17667-23-8 | J33: https://dialnet.unirioja.es/servlet/articulo?codigo=7161735 | K33: Autoría: Juan Francisco Álvarez Herrero. Localización: Investigación e innovación en la Enseñanza Superior: Nuevos contextos, nuevas ideas, 2019. Artículo de Libro en Dialnet. | L33: 2019 | M33: 1045-1052 | X33: Octaedro | Z33: spa | AE33: dialnet.unirioja.es | AG33: Section: Investigación e innovación en la Enseñanza Superior: Nuevos contextos, nuevas ideas | AI33: C:\Users\dell i7\Zotero\storage\N574K9BU\articulo.html
A34: X7MX9W7L | B34: book | C34: 2019 | D34: Vila, Rosabel Roig | E34: Investigación e innovación en la Enseñanza Superior: Nuevos contextos, nuevas ideas | G34: 978-84-17667-23-8 | J34: https://dialnet.unirioja.es/servlet/libro?codigo=739906 | K34: Autoría: Rosabel Roig Vila. Editor: Octaedro. Año de publicación: 2019. Libro en Dialnet. | L34: 2019 | S34: Investigación e innovación en la Enseñanza Superior | X34: Octaedro | Z34: spa | AE34: dialnet.unirioja.es | AI34: C:\Users\dell i7\Zotero\storage\X4TETZAT\libro.html
A35: T7U3FHE6 | B35: conferencePaper | C35: 2019 | D35: Pérez, María Esther del Moral; Piñeiro, María del Rosario Neira | E35: Augmented reality game-based Learning en Educación infantil: propuestas lúdicas con realidad aumentada partiendo de textos literarios | F35: Investigación e innovación en la Enseñanza Superior: Nuevos contextos, nuevas ideas, 2019, ISBN 978-84-17667-23-8, págs. 1096-1106 | G35: 978-84-17667-23-8 | J35: https://dialnet.unirioja.es/servlet/articulo?codigo=7161730 | K35: Autorías: María Esther del Moral Pérez, María del Rosario Neira Piñeiro. Localización: Investigación e innovación en la Enseñanza Superior: Nuevos contextos, nuevas ideas, 2019. Artículo de Libro en Dialnet. | L35: 2019 | M35: 1096-1106 | S35: Augmented reality game-based Learning en Educación infantil | X35: Octaedro | Z35: spa | AE35: dialnet.unirioja.es | AG35: Section: Investigación e innovación en la Enseñanza Superior: Nuevos contextos, nuevas ideas | AI35: C:\Users\dell i7\Zotero\storage\M6H88LWN\articulo.html
A36: 9QKFXLXT | B36: book | C36: 2019 | D36: Vila, Rosabel Roig | E36: Investigación e innovación en la Enseñanza Superior: Nuevos contextos, nuevas ideas | G36: 978-84-17667-23-8 | J36: https://dialnet.unirioja.es/servlet/libro?codigo=739906 | K36: Autoría: Rosabel Roig Vila. Editor: Octaedro. Año de publicación: 2019. Libro en Dialnet. | L36: 2019 | S36: Investigación e innovación en la Enseñanza Superior | X36: Octaedro | Z36: spa | AE36: dialnet.unirioja.es | AI36: C:\Users\dell i7\Zotero\storage\AET57R56\libro.html
A37: SV4URX7J | B37: journalArticle | C37: 2018 | D37: Díaz, Verónica Marín; Asencio, Victoria Paula Muñoz | E37: Trabajar el cuerpo humano con realidad aumentada en educación infantil | F37: Revista Tecnología, Ciencia y Educación | H37: 2444-250X, 2444-2887 | J37: https://dialnet.unirioja.es/servlet/articulo?codigo=6247301 | K37: Autorías: Verónica Marín Díaz, Victoria Paula Muñoz Asencio. Localización: Revista Tecnología, Ciencia y Educación. Nº. 9, 2018. Artículo de Revista en Dialnet. | L37: 2018 | M37: 148-158 | O37: 9 | Z37: spa | AE37: dialnet.unirioja.es | AG37: Publisher: Centro de Estudios Financieros - CEF Section: Revista Tecnología, Ciencia y Educación | AI37: C:\Users\dell i7\Zotero\storage\BTKFZC5Y\Díaz y Asencio - 2018 - Trabajar el cuerpo humano con realidad aumentada e.pdf; C:\Users\dell i7\Zotero\storage\AIF9VCSN\articulo.html
A38: 368F96ZV | B38: conferencePaper | C38: 2016 | D38: Martínez, Lourdes Villalustre; Pérez, María Esther del Moral | E38: Itinerarios interactivos con geolocalización y realidad aumentada para un aprendizaje ubicuo en la formación inicial de docentes de Educación Infantil | F38: Experiencias interactivas con realidad aumentada en las aulas, 2016, ISBN 978-84-9921-867-0, págs. 81-100 | G38: 978-84-9921-867-0 | J38: https://dialnet.unirioja.es/servlet/articulo?codigo=5838598 | K38: Autorías: Lourdes Villalustre Martínez, María Esther del Moral Pérez. Localización: Experiencias interactivas con realidad aumentada en las aulas, 2016. Artículo de Libro en Dialnet. | L38: 2016 | M38: 81-100 | X38: Octaedro | Z38: spa | AE38: dialnet.unirioja.es | AG38: Section: Experiencias interactivas con realidad aumentada en las aulas | AI38: C:\Users\dell i7\Zotero\storage\YEXGUJN3\articulo.html
A39: EMF2GPRB | B39: book | C39: 2016 | D39: Martínez, Lourdes Villalustre; Pérez, María Esther del Moral | E39: Experiencias interactivas con realidad aumentada en las aulas | G39: 978-84-9921-867-0 | J39: https://dialnet.unirioja.es/servlet/libro?codigo=677534 | K39: Autorías: Lourdes Villalustre Martínez, María Esther del Moral Pérez. Editor: Octaedro. Año de publicación: 2016. Libro en Dialnet. | L39: 2016 | X39: Octaedro | Z39: spa | AE39: dialnet.unirioja.es | AI39: C:\Users\dell i7\Zotero\storage\CSNXU9Q7\libro.html
A40: YL9H6GBN | B40: conferencePaper | C40: 2018 | D40: Bolado, Javier Sánchez | E40: La realidad aumentada como nuevo ecosistema de aprendizaje | F40: La realidad aumentada como herramienta educativa: aplicación a la Educación Infantil, Primaria, Secundaria y Bachillerato, 2018, ISBN 978-84-283-4070-0, págs. 21-30 | G40: 978-84-283-4070-0 | J40: https://dialnet.unirioja.es/servlet/articulo?codigo=7794603 | K40: Autoría: Javier Sánchez Bolado. Localización: La realidad aumentada como herramienta educativa: aplicación a la Educación Infantil, Primaria, Secundaria y Bachillerato, 2018. Artículo de Libro en Dialnet. | L40: 2018 | M40: 21-30 | X40: Paraninfo | Z40: spa | AE40: dialnet.unirioja.es | AG40: Section: La realidad aumentada como herramienta educativa: aplicación a la Educación Infantil, Primaria, Secundaria y Bachillerato | AI40: C:\Users\dell i7\Zotero\storage\RKYX266W\articulo.html
...

Sheet REGISTROS DUPLICADOS ELIMINADOS
A1: Key | B1: Item Type | C1: Publication Year | D1: Author | E1: Title | F1: Publication Title | G1: ISBN | H1: ISSN | I1: DOI | J1: Url | K1: Abstract Note | L1: Date | M1: Date Added | N1: Date Modified | O1: Access Date | P1: Pages | Q1: Num Pages | R1: Issue | S1: Volume | T1: Number Of Volumes | U1: Journal Abbreviation | V1: Short Title | W1: Series | X1: Series Number | Y1: Series Text | Z1: Series Title | AA1: Publisher | AB1: Place | AC1: Language | AD1: Rights | AE1: Type | AF1: Archive | AG1: Archive Location | AH1: Library Catalog | AI1: Call Number | AJ1: Extra | AK1: Notes | AL1: File Attachments | AM1: Link Attachments | AN1: Manual Tags | AO1: Automatic Tags | AP1: Editor | AQ1: Series Editor | AR1: Translator | AS1: Contributor | AT1: Attorney Agent | AU1: Book Author | AV1: Cast Member | AW1: Commenter | AX1: Composer | AY1: Cosponsor | AZ1: Counsel
A2: VL53FN34 | B2: conferencePaper | C2: 2016 | D2: Díaz, Verónica Marín; González, Juan Manuel Muñoz; Gea, Esther María Vega | E2: La Realidad Aumentada como herramienta de aprendizaje en Educación Infantil | F2: Tecnología, innovación e investigación en los procesos de enseñanza-aprendizaje, 2016, ISBN 978-84-9921-848-9, págs. 833-841 | G2: 978-84-9921-848-9 | J2: https://dialnet.unirioja.es/servlet/articulo?codigo=6031650 | K2: Autorías: Verónica Marín Díaz, Juan Manuel Muñoz González, Esther María Vega Gea. Localización: Tecnología, innovación e investigación en los procesos de enseñanza-aprendizaje, 2016. Artículo de Libro en Dialnet. | L2: 2016 | M2: 44826.418 | N2: 44826.418 | O2: 44826.418 | P2: 833-841 | AA2: Octaedro | AC2: spa | AH2: dialnet.unirioja.es | AJ2: Section: Tecnología, innovación e investigación en los procesos de enseñanza-aprendizaje | AL2: C:\Users\dell i7\Zotero\storage\QKY5SRD7\articulo.html
A3: ZQUQCAHN | B3: book | C3: 2016 | D3: Vila, Rosabel Roig | E3: Tecnología, innovación e investigación en los procesos de enseñanza-aprendizaje | G3: 978-84-9921-848-9 | J3: https://dialnet.unirioja.es/servlet/libro?codigo=674488 | K3: Autoría: Rosabel Roig Vila. Editor: Octaedro. Año de publicación: 2016. Libro en Dialnet. | L3: 2016 | M3: 44826.418 | N3: 44826.418 | O3: 44826.418 | AA3: Octaedro | AC3: spa | AH3: dialnet.unirioja.es | AL3: C:\Users\dell i7\Zotero\storage\9KN68RSE\libro.html
A4: 3F6WAMC9 | B4: conferencePaper | C4: 2018 | D4: Díaz, Verónica Marín | E4: La realidad aumentada para el desarrollo curricular de Educación Infantil y Primaria | F4: La realidad aumentada como herramienta educativa: aplicación a la Educación Infantil, Primaria, Secundaria y Bachillerato, 2018, ISBN 978-84-283-4070-0, págs. 125-138 | G4: 978-84-283-4070-0 | J4: https://dialnet.unirioja.es/servlet/articulo?codigo=7794609 | K4: Autoría: Verónica Marín Díaz. Localización: La realidad aumentada como herramienta educativa: aplicación a la Educación Infantil, Primaria, Secundaria y Bachillerato, 2018. Artículo de Libro en Dialnet. | L4: 2018 | M4: 44826.418 | N4: 44826.418 | O4: 44826.418 | P4: 125-138 | AA4: Paraninfo | AC4: spa | AH4: dialnet.unirioja.es | AJ4: Section: La realidad aumentada como herramienta educativa: aplicación a la Educación Infantil, Primaria, Secundaria y Bachillerato | AL4: C:\Users\dell i7\Zotero\storage\BCIN9ILD\articulo.html
A5: 223JT38M | B5: book | C5: 2018 | D5: Almenara, Julio Cabero; Villacé, Ibán de la Horra; Bolado, Javier Sánchez | E5: La realidad aumentada como herramienta educativa: aplicación a la Educación Infantil, Primaria, Secundaria y Bachillerato | G5: 978-84-283-4070-0 | J5: https://dialnet.unirioja.es/servlet/libro?codigo=788238 | K5: Autorías: Julio Cabero Almenara, Ibán de la Horra Villacé, Javier Sánchez Bolado. Editor: Paraninfo. Año de publicación: 2018. Libro en Dialnet. | L5: 2018 | M5: 44826.418 | N5: 44826.418 | O5: 44826.418 | V5: La realidad aumentada como herramienta educativa | AA5: Paraninfo | AC5: spa | AH5: dialnet.unirioja.es | AL5: C:\Users\dell i7\Zotero\storage\KKJW7VYF\libro.html
A6: ZQGUEQD9 | B6: thesis | C6: 2015 | D6: Martínez, Antonia Cascales | E6: Realidad aumentada y educación infantil: implementación y evaluación | J6: https://dialnet.unirioja.es/servlet/tesis?codigo=155219 | K6: Autoría: Antonia Cascales Martínez. Dirección de la Tesis: María José Martínez Segura. Lectura: Universidad de Murcia en 2015. Tesis doctoral en Dialnet. | L6: 2015 | M6: 44826.418 | N6: 44826.418 | O6: 44826.418 | V6: Realidad aumentada y educación infantil | AA6: Universidad de Murcia | AC6: es | AE6: http://purl.org/dc/dcmitype/Text | AH6: dialnet.unirioja.es | AL6: C:\Users\dell i7\Zotero\storage\CV7VZHYS\tesis.html
A7: GYY4JFC2 | B7: conferencePaper | C7: 2022 | D7: Gavira, Sonia Aguilar; Martín-Gutiérrez, Ángela; Gavira, Remedios Benítez | E7: La incidencia de la realidad aumentada en Educación infantil: un desafío docente | F7: La tecnología educativa como eje vertebrador de la innovación, 2022, ISBN 978-84-19023-79-7, págs. 185-198 | G7: 978-84-19023-79-7 | J7: https://dialnet.unirioja.es/servlet/articulo?codigo=8368619 | K7: Autorías: Sonia Aguilar Gavira, Ángela Martín-Gutiérrez, Remedios Benítez Gavira. Localización: La tecnología educativa como eje vertebrador de la innovación, 2022. Artículo de Libro en Dialnet. | L7: 2022 | M7: 44826.418 | N7: 44826.418 | O7: 44826.418 | P7: 185-198 | V7: La incidencia de la realidad aumentada en Educación infantil | AA7: Octaedro | AC7: spa | AH7: dialnet.unirioja.es | AJ7: Section: La tecnología educativa como eje vertebrador de la innovación | AL7: C:\Users\dell i7\Zotero\storage\G7WUAGGH\articulo.html
A8: 9YCQVLW2 | B8: book | C8: 2022 | D8: Rivas, Enrique Sánchez; Magaña, Ernesto Colomo; Palmero, Julio Ruiz; García, Melchor Gómez | E8: La tecnología educativa como eje vertebrador de la innovación | G8: 978-84-19023-79-7 | J8: https://dialnet.unirioja.es/servlet/libro?codigo=858498 | K8: Autorías: Enrique Sánchez Rivas, Ernesto Colomo Magaña, Julio Ruiz Palmero, Melchor Gómez García. Editor: Octaedro. Año de publicación: 2022. Libro en Dialnet. | L8: 2022 | M8: 44826.418 | N8: 44826.418 | O8: 44826.418 | AA8: Octaedro | AC8: spa | AH8: dialnet.unirioja.es | AL8: C:\Users\dell i7\Zotero\storage\E579H66N\libro.html
A9: SJGBSFQH | B9: conferencePaper | C9: 2016 | D9: Martínez, Amaia Aguirregoitia; Benito, Jorge R. López; López, Iñigo Allende; González, Enara Artetxe | E9: Leihoa: Una ventana a la realidad aumentada en Educación Infantil | F9: XVIII Simposio Internacional de Informática Educativa, SIIE 2016, 2016, ISBN 978-84-9012-630-1, págs. 283-288 | G9: 978-84-9012-630-1 | J9: https://dialnet.unirioja.es/servlet/articulo?codigo=7522987 | K9: Autorías: Amaia Aguirregoitia Martínez, Jorge R. López Benito, Iñigo Allende López, Enara Artetxe González. Localización: XVIII Simposio Internacional de Informática Educativa, SIIE 2016, 2016. Artículo de Libro en Dialnet. | L9: 2016 | M9: 44826.418 | N9: 44826.418 | O9: 44826.418 | P9: 283-288 | V9: Leihoa | AA9: Ediciones Universidad de Salamanca | AC9: spa | AH9: dialnet.unirioja.es | AJ9: Section: XVIII Simposio Internacional de Informática Educativa, SIIE 2016 | AL9: C:\Users\dell i7\Zotero\storage\GH57GXK3\articulo.html
A10: 7H6XQEH7 | B10: book | C10: 2016 | D10: Peñalvo, Francisco José García; Mendes, António José | E10: XVIII Simposio Internacional de Informática Educativa, SIIE 2016 | G10: 978-84-9012-630-1 | J10: https://dialnet.unirioja.es/servlet/libro?codigo=770834 | K10: Autorías: Francisco José García Peñalvo, António José Mendes. Editor: Ediciones Universidad de Salamanca. Año de publicación: 2016. Libro en Dialnet. | L10: 2016 | M10: 44826.418 | N10: 44826.418 | O10: 44826.418 | AA10: Ediciones Universidad de Salamanca | AC10: spa | AH10: dialnet.unirioja.es | AL10: C:\Users\dell i7\Zotero\storage\J5375RXB\libro.html
A11: KMEGSTI6 | B11: conferencePaper | C11: 2014 | D11: Machado, Eduardo Rodríguez; Río, Emilio J. Veiga | E11: La realidad aumentada en la Educación Infantil: propuestas de actividades en psicomotricidad | F11: Innovando a través de proyectos: organización, liderazgo y compromiso, 2014, ISBN 978-84-16046-37-9, págs. 214-219 | G11: 978-84-16046-37-9 | J11: https://dialnet.unirioja.es/servlet/articulo?codigo=6378930 | K11: Autorías: Eduardo Rodríguez Machado, Emilio J. Veiga Río. Localización: Innovando a través de proyectos: organización, liderazgo y compromiso, 2014. Artículo de Libro en Dialnet. | L11: 2014 | M11: 44826.418 | N11: 44826.418 | O11: 44826.418 | P11: 214-219 | V11: La realidad aumentada en la Educación Infantil | AC11: spa | AH11: dialnet.unirioja.es | AJ11: Section: Innovando a través de proyectos: organización, liderazgo y compromiso | AL11: C:\Users\dell i7\Zotero\storage\EFNVQ2KM\articulo.html
A12: TAZHEN2N | B12: book | C12: 2014 | D12: Arregui, Emilio Álvarez; Martín, Alejandro Rodríguez | E12: Innovando a través de proyectos: organización, liderazgo y compromiso | G12: 978-84-16046-37-9 | J12: https://dialnet.unirioja.es/servlet/libro?codigo=703452 | K12: Autorías: Emilio Álvarez Arregui, Alejandro Rodríguez Martín. Año de publicación: 2014. Libro en Dialnet. | L12: 2014 | M12: 44826.418 | N12: 44826.418 | O12: 44826.418 | V12: Innovando a través de proyectos | AC12: spa | AH12: dialnet.unirioja.es | AL12: C:\Users\dell i7\Zotero\storage\MMN6H9WJ\libro.html
A13: SQUJD65T | B13: conferencePaper | C13: 2018 | D13: Piñeiro, María del Rosario Neira; Coto, Inés Fombella; Pérez, María Esther del Moral | E13: Álbum ilustrado y realidad aumentada: Expandiendo la experiencia lectora en educación infantil | F13: EDUcación con TECnología: un compromiso social. Aproximaciones desde la investigación y la innovación, 2018, ISBN 978-84-9144-126-7, págs. 882-887 | G13: 978-84-9144-126-7 | J13: https://dialnet.unirioja.es/servlet/articulo?codigo=8278619 | K13: Autorías: María del Rosario Neira Piñeiro, Inés Fombella Coto, María Esther del Moral Pérez. Localización: EDUcación con TECnología: un compromiso social. Aproximaciones desde la investigación y la innovación, 2018. Artículo de Libro en Dialnet. | L13: 2018 | M13: 44826.418 | N13: 44826.418 | O13: 44826.418 | P13: 882-887 | V13: Álbum ilustrado y realidad aumentada | AA13: Edicions de la Universitat de Lleida | AC13: spa | AH13: dialnet.unirioja.es | AJ13: Section: EDUcación con TECnología: un compromiso social. Aproximaciones desde la investigación y la innovación | AL13: C:\Users\dell i7\Zotero\storage\EU37ZRTD\articulo.html
A14: XWSIVNRU | B14: book | C14: 2018 | D14: Farran, Francesc Xavier Carrera; Sánchez, Francisco Martínez; Rodríguez, Jordi Lluís Coiduras; Baiges, Enric Brescó; Tió, Eduard Vaquero | E14: EDUcación con TECnología: un compromiso social. Aproximaciones desde la investigación y la innovación | G14: 978-84-9144-126-7 | J14: https://dialnet.unirioja.es/servlet/libro?codigo=745930 | K14: Autorías: Francesc Xavier Carrera Farran, Francisco Martínez Sánchez, Jordi Lluís Coiduras Rodríguez, Enric Brescó Baiges, Eduard Vaquero Tió. Editor: Edicions de la Universitat de Lleida. Año de publicación: 2018. Libro en Dialnet. | L14: 2018 | M14: 44826.418 | N14: 44826.418 | O14: 44826.418 | V14: EDUcación con TECnología | AA14: Edicions de la Universitat de Lleida | AC14: spa | AH14: dialnet.unirioja.es | AL14: C:\Users\dell i7\Zotero\storage\EX3KJA4E\libro.html
A15: 39BUFESD | B15: conferencePaper | C15: 2019 | D15: Belmonte, Jesús López; Guerrero, Antonio José Moreno; Rodríguez, José María Romero; García, Gerardo Gómez | E15: Nuevos entornos de aprendizaje en cooperativas de enseñanza: El uso de la realidad aumentada en Educación Infantil | F15: Edunovatic 2018. Conference Proceedings: 3rd Virtual International Conference on Education, Innovation and ICT. 17-19 December, 2018, 2019, ISBN 978-94-92805-08-9, pág. 214 | G15: 978-94-92805-08-9 | J15: https://dialnet.unirioja.es/servlet/articulo?codigo=7359953 | K15: Autorías: Jesús López Belmonte, Antonio José Moreno Guerrero, José María Romero Rodríguez, Gerardo Gómez García. Localización: Edunovatic 2018. Conference Proceedings: 3rd Virtual International Conference on Education, Innovation and ICT. 17-19 December, 2018, 2019. Artículo de Libro en Dialnet. | L15: 2019 | M15: 44826.418 | N15: 44826.418 | O15: 44826.419 | P15: 214 | V15: Nuevos entornos de aprendizaje en cooperativas de enseñanza | AA15: Adaya Press | AC15: spa | AH15: dialnet.unirioja.es | AJ15: Section: Edunovatic 2018. Conference Proceedings: 3rd Virtual International Conference on Education, Innovation and ICT. 17-19 December, 2018 | AL15: C:\Users\dell i7\Zotero\storage\I7K2LAKW\articulo.html
A16: M8SKZHQQ | B16: book | C16: 2019 | E16: Edunovatic 2018. Conference Proceedings: 3rd Virtual International Conference on Education, Innovation and ICT. 17-19 December, 2018 | G16: 978-94-92805-08-9 | J16: https://dialnet.unirioja.es/servlet/libro?codigo=763725 | K16: Editores: Adaya Press : REDINE (Red de Investigación e Innovación Educativa). Año de publicación: 2019. Libro en Dialnet. | L16: 2019 | M16: 44826.418 | N16: 44826.418 | O16: 44826.419 | V16: Edunovatic 2018. Conference Proceedings | AA16: Adaya Press | AC16: eng | AH16: dialnet.unirioja.es | AL16: C:\Users\dell i7\Zotero\storage\JJQ5MG2K\libro.html
A17: V7SSEKX8 | B17: conferencePaper | C17: 2020 | D17: Garrido, Diego Calderón; Clares, Francisca Núñez | E17: Diseño de una propuesta didáctica basada en la robótica educativa y la realidad aumentada en educación infantil | F17: La tecnología como eje del cambio metodológico, 2020, ISBN 978-84-1335-052-3, págs. 1731-1733 | G17: 978-84-13-35052-3 | J17: https://dialnet.unirioja.es/servlet/articulo?codigo=7832937 | K17: Autorías: Diego Calderón Garrido, Francisca Núñez Clares. Localización: La tecnología como eje del cambio metodológico, 2020. Artículo de Libro en Dialnet. | L17: 2020 | M17: 44826.418 | N17: 44826.418 | O17: 44826.419 | P17: 1731-1733 | AA17: UMA Editorial | AC17: spa | AH17: dialnet.unirioja.es | AJ17: Section: La tecnología como eje del cambio metodológico | AL17: C:\Users\dell i7\Zotero\storage\5G6CFSXF\articulo.html
A18: ALFWAWYM | B18: book | C18: 2020 | D18: Magaña, Ernesto Colomo; Rivas, Enrique Sánchez; Palmero, Julio Ruiz; Rodríguez, José Sánchez | E18: La tecnología como eje del cambio metodológico | G18: 978-84-13-35052-3 | J18: https://dialnet.unirioja.es/servlet/libro?codigo=790613 | K18: Autorías: Ernesto Colomo Magaña, Enrique Sánchez Rivas, Julio Ruiz Palmero, José Sánchez Rodríguez. Editor: UMA Editorial. Año de publicación: 2020. Libro en Dialnet. | L18: 2020 | M18: 44826.418 | N18: 44826.418 | O18: 44826.419 | AA18: UMA Editorial | AC18: spa | AH18: dialnet.unirioja.es | AL18: C:\Users\dell i7\Zotero\storage\WDMHX73S\libro.html
A19: NIQABMAD | B19: journalArticle | C19: 2019 | D19: Vila, Rosabel Roig; Lledó, Alejandro Lorenzo; Andrés, Santiago Mengual | E19: Utilidad percibida de la realidad aumentada como recurso didáctico en Educación Infantil | F19: Campus Virtuales | H19: 2255-1514 | J19: https://dialnet.unirioja.es/servlet/articulo?codigo=6886799 | K19: Autorías: Rosabel Roig Vila, Alejandro Lorenzo Lledó, Santiago Mengual Andrés. Localización: Campus Virtuales. Nº. 1, 2019. Artículo de Revista en Dialnet. | L19: 2019 | M19: 44826.418 | N19: 44826.418 | O19: 44826.419 | P19: 19-35 | R19: 1 (Marzo/March) | S19: 8 | AC19: spa | AH19: dialnet.unirioja.es | AJ19: Publisher: Campus Virtuales Section: Campus Virtuales | AL19: C:\Users\dell i7\Zotero\storage\ESXSFSCS\Vila et al. - 2019 - Utilidad percibida de la realidad aumentada como r.pdf; C:\Users\dell i7\Zotero\storage\3NLC87JX\articulo.html
A20: DAAICJ2K | B20: journalArticle | C20: 2021 | D20: Fuentes, Elena Moreno; Navarrete, José Hidalgo; Bolós, Consuelo Burgos; Paz, Soledad de la Blanca de la | E20: Aprendizaje integrado y colaborativo de ciencias a través de las realidad aumentada en educación infantil | F20: Etic@net: Revista científica electrónica de Educación y Comunicación en la Sociedad del Conocimiento | H20: 1695-324X | J20: https://dialnet.unirioja.es/servlet/articulo?codigo=8039067 | K20: Autorías: Elena Moreno Fuentes, José Hidalgo Navarrete, Consuelo Burgos Bolós, Soledad de la Blanca de la Paz. Localización: Etic@net: Revista científica electrónica de Educación y Comunicación en la Sociedad del Conocimiento. Nº. 1, 2021. Artículo de Revista en Dialnet. | L20: 2021 | M20: 44826.421 | N20: 44826.421 | O20: 44826.421 | P20: 214-229 | R20: 1 | S20: 21 | AC20: spa | AH20: dialnet.unirioja.es | AJ20: Publisher: Universidad de Granada Section: Etic@net: Revista científica electrónica de Educación y Comunicación en la Sociedad del Conocimiento | AL20: C:\Users\dell i7\Zotero\storage\KDN4BB66\Fuentes et al. - 2021 - Aprendizaje integrado y colaborativo de ciencias a.pdf; C:\Users\dell i7\Zotero\storage\ADMU4VSJ\articulo.html
A21: B6TWB72R | B21: journalArticle | C21: 2021 | D21: García, María Cristina Moral; Fuentes, Elena Moreno | E21: Robótica, realidad aumentada y TAC como herramientas clave en la metodología CLIL en Educación Infantil | F21: Márgenes: Revista de Educación de la Universidad de Málaga | H21: 2695-2769 | J21: https://dialnet.unirioja.es/servlet/articulo?codigo=8049661 | K21: Autorías: María Cristina Moral García, Elena Moreno Fuentes. Localización: Márgenes: Revista de Educación de la Universidad de Málaga. Nº. 2, 2021. Artículo de Revista en Dialnet. | L21: 2021 | M21: 44826.421 | N21: 44826.421 | O21: 44826.421 | P21: 116-129 | R21: 2 | S21: 2 | AC21: spa | AH21: dialnet.unirioja.es | AJ21: Publisher: Universidad de Málaga (UMA) Section: Márgenes: Revista de Educación de la Universidad de Málaga | AL21: C:\Users\dell i7\Zotero\storage\D7HIN66Q\García y Fuentes - 2021 - Robótica, realidad aumentada y TAC como herramient.pdf; C:\Users\dell i7\Zotero\storage\MH2QW4R6\articulo.html
A22: VIEFVDQA | B22: conferencePaper | C22: 2016 | D22: Gil, Blanca Mirete | E22: La realidad aumentada y los códigos QR en educación infantil: un estudio de caso | F22: Propuestas de intervención en Educación Infantil, 2016, ISBN 978-84-61785-16-2, págs. 1-24 | G22: 978-84-617-8516-2 | J22: https://dialnet.unirioja.es/servlet/articulo?codigo=8304115 | K22: Autoría: Blanca Mirete Gil. Localización: Propuestas de intervención en Educación Infantil, 2016. Artículo de Libro en Dialnet. | L22: 2016 | M22: 44826.421 | N22: 44826.421 | O22: 44826.421 | P22: 44585 | V22: La realidad aumentada y los códigos QR en educación infantil | AA22: Servicio de Publicaciones | AC22: spa | AH22: dialnet.unirioja.es | AJ22: Section: Propuestas de intervención en Educación Infantil | AL22: C:\Users\dell i7\Zotero\storage\IH2A3B9M\articulo.html
A23: V6Q4BJET | B23: book | C23: 2016 | D23: Ruiz, Ana Belén Mirete; Allah, Mohamed Chamseddine Habib; Cantero, Mari Carmen Hernández | E23: Propuestas de intervención en Educación Infantil | G23: 978-84-617-8516-2 | J23: https://dialnet.unirioja.es/servlet/libro?codigo=855328 | K23: Autorías: Ana Belén Mirete Ruiz, Mohamed Chamseddine Habib Allah, Mari Carmen Hernández Cantero. Editor: Servicio de Publicaciones. Año de publicación: 2016. Libro en Dialnet. | L23: 2016 | M23: 44826.421 | N23: 44826.421 | O23: 44826.421 | AA23: Servicio de Publicaciones | AC23: spa | AH23: dialnet.unirioja.es | AL23: C:\Users\dell i7\Zotero\storage\XJLU7IFJ\libro.html
A24: LB6RJTFD | B24: conferencePaper | C24: 2017 | D24: Martínez, Amaia Aguirregoitia; Benito, Jorge R. López; González, Enara Artetxe; Ajuria, Estibaliz Bilbao | E24: Una experiencia de aplicación de Realidad Aumentada para el Aprendizaje del Inglés en Educación Infantil | F24: Atas do XIX Simpósio Internacional de Informática Educativa e VIII Encontro do CIED: III Encontro Internacional, 2017, ISBN 978-989-95733-9-0, págs. 194-199 | G24: 978-989-95733-9-0 | J24: https://dialnet.unirioja.es/servlet/articulo?codigo=7242146 | K24: Autorías: Amaia Aguirregoitia Martínez, Jorge R. López Benito, Enara Artetxe González, Estibaliz Bilbao Ajuria. Localización: Atas do XIX Simpósio Internacional de Informática Educativa e VIII Encontro do CIED: III Encontro Internacional, 2017. Artículo de Libro en Dialnet. | L24: 2017 | M24: 44826.421 | N24: 44826.421 | O24: 44826.421 | P24: 194-199 | AA24: CIED - Centro Interdisciplinar de Estudos Educacionais | AC24: spa | AH24: dialnet.unirioja.es | AJ24: Section: Atas do XIX Simpósio Internacional de Informática Educativa e VIII Encontro do CIED: III Encontro Internacional | AL24: C:\Users\dell i7\Zotero\storage\GJXJSXBL\articulo.html
A25: 9L3FWII4 | B25: book | C25: 2017 | E25: Atas do XIX Simpósio Internacional de Informática Educativa e VIII Encontro do CIED: III Encontro Internacional | G25: 978-989-95733-9-0 | J25: https://dialnet.unirioja.es/servlet/libro?codigo=744256 | K25: Editor: CIED - Centro Interdisciplinar de Estudos Educacionais. Año de publicación: 2017. Libro en Dialnet. | L25: 2017 | M25: 44826.421 | N25: 44826.421 | O25: 44826.421 | V25: Atas do XIX Simpósio Internacional de Informática Educativa e VIII Encontro do CIED | AA25: CIED - Centro Interdisciplinar de Estudos Educacionais | AC25: por | AH25: dialnet.unirioja.es | AL25: C:\Users\dell i7\Zotero\storage\VFL5PVIL\libro.html
A26: EG9YYZDM | B26: conferencePaper | C26: 2017 | D26: Martínez, Lourdes Villalustre; Pérez, María Esther del Moral; Vázquez, Mónica Herrero | E26: Aprendiendo y Enseñando Ciencias Naturales con Realidad Aumentada en aulas de Educación Infantil y Primaria | F26: Investigación, innovación y tecnologías: la triada para transformar los procesos formativos, 2017, págs. 233-241 | J26: https://dialnet.unirioja.es/servlet/articulo?codigo=7737453 | K26: Autorías: Lourdes Villalustre Martínez, María Esther del Moral Pérez, Mónica Herrero Vázquez. Localización: Investigación, innovación y tecnologías: la triada para transformar los procesos formativos, 2017. Artículo de Libro en Dialnet. | L26: 2017 | M26: 44826.421 | N26: 44826.421 | O26: 44826.421 | P26: 233-241 | AA26: Universidad de Santiago de Chile (USACH) | AC26: spa | AH26: dialnet.unirioja.es | AJ26: Section: Investigación, innovación y tecnologías: la triada para transformar los procesos formativos | AL26: C:\Users\dell i7\Zotero\storage\HDXTM56X\articulo.html
A27: QIEQ8G6Q | B27: book | C27: 2017 | D27: Quiroz, Juan Eusebio Silva | E27: Investigación, innovación y tecnologías: la triada para transformar los procesos formativos | J27: https://dialnet.unirioja.es/servlet/libro?codigo=784236 | K27: Autoría: Juan Eusebio Silva Quiroz. Editor: Universidad de Santiago de Chile (USACH). Año de publicación: 2017. Libro en Dialnet. | L27: 2017 | M27: 44826.421 | N27: 44826.421 | O27: 44826.421 | V27: Investigación, innovación y tecnologías | AA27: Universidad de Santiago de Chile (USACH) | AC27: spa | AH27: dialnet.unirioja.es | AL27: C:\Users\dell i7\Zotero\storage\6ETERMGS\libro.html
A28: 4DSQEK8S | B28: conferencePaper | C28: 2020 | D28: Ferrandini, Griselda | E28: La narrativa digital y la realidad aumentada como estrategias educativas en Educación Infantil | F28: Conference proceedings CIVINEDU 2020: 4th International Virtual Conference on Educational Research and Innovation September 23-24, 2020, 2020, ISBN 978-84-09-22966-6, págs. 658-659 | G28: 978-84-09-22966-6 | J28: https://dialnet.unirioja.es/servlet/articulo?codigo=7859265 | K28: Autoría: Griselda Ferrandini. Localización: Conference proceedings CIVINEDU 2020: 4th International Virtual Conference on Educational Research and Innovation September 23-24, 2020, 2020. Artículo de Libro en Dialnet. | L28: 2020 | M28: 44826.421 | N28: 44826.421 | O28: 44826.421 | P28: 658-659 | AA28: REDINE (Red de Investigación e Innovación Educativa) | AC28: spa | AH28: dialnet.unirioja.es | AJ28: Section: Conference proceedings CIVINEDU 2020: 4th International Virtual Conference on Educational Research and Innovation September 23-24, 2020 | AL28: C:\Users\dell i7\Zotero\storage\P5NBZR6S\articulo.html
A29: 9SHT49J6 | B29: book | C29: 2020 | E29: Conference proceedings CIVINEDU 2020: 4th International Virtual Conference on Educational Research and Innovation September 23-24, 2020 | G29: 978-84-09-22966-6 | J29: https://dialnet.unirioja.es/servlet/libro?codigo=779629 | K29: Editor: REDINE (Red de Investigación e Innovación Educativa). Año de publicación: 2020. Libro en Dialnet. | L29: 2020 | M29: 44826.421 | N29: 44826.421 | O29: 44826.421 | V29: Conference proceedings CIVINEDU 2020 | AA29: REDINE (Red de Investigación e Innovación Educativa) | AC29: spa | AH29: dialnet.unirioja.es | AL29: C:\Users\dell i7\Zotero\storage\J8CCI73Z\libro.html
A30: H9PLUH3E | B30: conferencePaper | C30: 2018 | D30: Villacé, Ibán de la Horra | E30: Creación de materiales con realidad aumentada | F30: La realidad aumentada como herramienta educativa: aplicación a la Educación Infantil, Primaria, Secundaria y Bachillerato, 2018, ISBN 978-84-283-4070-0, págs. 75-122 | G30: 978-84-283-4070-0 | J30: https://dialnet.unirioja.es/servlet/articulo?codigo=7794605 | K30: Autoría: Ibán de la Horra Villacé. Localización: La realidad aumentada como herramienta educativa: aplicación a la Educación Infantil, Primaria, Secundaria y Bachillerato, 2018. Artículo de Libro en Dialnet. | L30: 2018 | M30: 44826.421 | N30: 44826.421 | O30: 44826.421 | P30: 75-122 | AA30: Paraninfo | AC30: spa | AH30: dialnet.unirioja.es | AJ30: Section: La realidad aumentada como herramienta educativa: aplicación a la Educación Infantil, Primaria, Secundaria y Bachillerato | AL30: C:\Users\dell i7\Zotero\storage\5H8AIIR5\articulo.html
A31: LLV6V8GQ | B31: journalArticle | C31: 2021 | D31: Rebaque, Begoña Rivas; Barrio, Felipe Gértrudix; Barrio, Manuel Gértrudix | E31: Análisis sistemático sobre el uso de la Realidad Aumentada en Educación Infantil. | F31: Edutec: Revista electrónica de tecnología educativa | H31: 1135-9250 | J31: https://dialnet.unirioja.es/servlet/articulo?codigo=7993716 | K31: Autorías: Begoña Rivas Rebaque, Felipe Gértrudix Barrio, Manuel Gértrudix Barrio. Localización: Edutec: Revista electrónica de tecnología educativa. Nº. 76, 2021. Artículo de Revista en Dialnet. | L31: 2021 | M31: 44826.421 | N31: 44826.421 | O31: 44826.421 | P31: 53-73 | R31: 76 (Número especial) | AC31: spa | AH31: dialnet.unirioja.es | AJ31: Publisher: Edutec. Asociación para el Desarrollo de la Tecnología Educativa Section: Edutec: Revista electrónica de tecnología educativa | AL31: C:\Users\dell i7\Zotero\storage\HYIFYNUD\articulo.html
A32: UYB3GZKQ | B32: conferencePaper | C32: 2019 | D32: Herrero, Juan Francisco Álvarez | E32: Grado de aceptación de la Realidad Aumentada como complemento de la enseñanza de las ciencias por el futuro profesorado de Educación Infantil | F32: Investigación e innovación en la Enseñanza Superior: Nuevos contextos, nuevas ideas, 2019, ISBN 978-84-17667-23-8, págs. 1045-1052 | G32: 978-84-17667-23-8 | J32: https://dialnet.unirioja.es/servlet/articulo?codigo=7161735 | K32: Autoría: Juan Francisco Álvarez Herrero. Localización: Investigación e innovación en la Enseñanza Superior: Nuevos contextos, nuevas ideas, 2019. Artículo de Libro en Dialnet. | L32: 2019 | M32: 44826.421 | N32: 44826.421 | O32: 44826.421 | P32: 1045-1052 | AA32: Octaedro | AC32: spa | AH32: dialnet.unirioja.es | AJ32: Section: Investigación e innovación en la Enseñanza Superior: Nuevos contextos, nuevas ideas | AL32: C:\Users\dell i7\Zotero\storage\N574K9BU\articulo.html
A33: X7MX9W7L | B33: book | C33: 2019 | D33: Vila, Rosabel Roig | E33: Investigación e innovación en la Enseñanza Superior: Nuevos contextos, nuevas ideas | G33: 978-84-17667-23-8 | J33: https://dialnet.unirioja.es/servlet/libro?codigo=739906 | K33: Autoría: Rosabel Roig Vila. Editor: Octaedro. Año de publicación: 2019. Libro en Dialnet. | L33: 2019 | M33: 44826.421 | N33: 44826.421 | O33: 44826.421 | V33: Investigación e innovación en la Enseñanza Superior | AA33: Octaedro | AC33: spa | AH33: dialnet.unirioja.es | AL33: C:\Users\dell i7\Zotero\storage\X4TETZAT\libro.html
