Workbook
Name citations?hl_fr_user_1_VX71QAAAAJ: S.Bouaziz!$A$1:$C$67
Name citations?hl_fr_user_AZK1D5QAAAAJ: M.Jmaiel!$A$1:$C$66
Name citations?hl_fr_user_besBlwUAAAAJ: R.Chtourou!$A$1:$C$67
Name citations?hl_fr_user_CBSAHC8AAAAJ: M.A.Zaouali!$A$1:$C$67
Name citations?hl_fr_user_FQBMQBkAAAAJ: 'H.Ben-Abdallah'!$A$1:$C$64
Name citations?hl_fr_user_gQ_7Js8AAAAJ: 'A.Hannachi Salhi'!$A$1:$C$67
Name citations?hl_fr_user_Hf2h_BYAAAAJ: 'K.Horchani-Naifer'!$A$1:$C$67
Name citations?hl_fr_user_IAT__3sAAAAJ: M.Hamdi!$A$1:$C$67
Name citations?hl_fr_user_J8bq1m4AAAAJ: M.F.Mhenni!$A$1:$C$67
Name citations?hl_fr_user_KLtgEk4AAAAJ: 'K.Ben Rhouma'!$A$1:$C$67
Name citations?hl_fr_user_LQPH_jIAAAAJ: S.Ammar!$A$1:$C$67
Name citations?hl_fr_user_LSq6jg4AAAAJ: H.Aydi!$A$1:$C$67
Name citations?hl_fr_user_mCphvfQAAAAJ: N.Nasri!$A$1:$C$67
Name citations?hl_fr_user_mon1FdMAAAAJ: M.Romdhane!$A$1:$C$67
Name citations?hl_fr_user_mzkbM3sAAAAJ: N.Boudriga!$A$1:$C$67
Name citations?hl_fr_user_oBIvsH0AAAAJ: N.Adhoum!$A$1:$C$67
Name citations?hl_fr_user_RH5ZJbEAAAAJ: H.I.Ouzari!$A$1:$C$67
Name citations?hl_fr_user_Srxz61MAAAAJ: M.Chaïeb!#REF!
Name citations?hl_fr_user_Srxz61MAAAAJ_1: M.Chaïeb!$A$1:$C$67
Name citations?hl_fr_user_TOsgaKcAAAAJ: S.Dabbou!$A$1:$C$67
Name citations?hl_fr_user_TShyISgAAAAJ: H.Maaref!$A$1:$C$67
Name citations?hl_fr_user_v_dlwLgAAAAJ: A.Hafiane!$A$1:$C$67
Name citations?hl_fr_user_VvsKpRgAAAAJ: H.Fathallah!$A$1:$C$67
Name citations?hl_fr_user_wE8NifcAAAAJ: M.S.Romdhane!$A$1:$C$67
Name citations?hl_fr_user_X2jnwlAAAAAJ: M.Béjaoui!$A$1:$C$67
Name citations?hl_fr_user_zRn8LfYAAAAJ: 'W. Almawi'!$A$1:$C$67
Name citations?user__62kqDAAAAAJ_hl_fr: C.Abdelly!$A$1:$C$67
Name citations?user__H8dgVwAAAAJ_hl_fr: A.Bouhoula!$A$1:$C$67
Name citations?user__jYvMvUAAAAJ_hl_fr: A.Trabelsi!$A$1:$C$66
Name citations?user_01YLWGIAAAAJ_hl_fr: M.Borjini!$A$1:$C$67
Name citations?user_08vOoDcAAAAJ_hl_fr: S.Belgacem!$A$1:$C$67
Name citations?user_0Cz4fmcAAAAJ_hl_fr: 'R.Gargouri Bouzid'!$A$1:$C$67
Name citations?user_0gb6YAYAAAAJ_hl_fr: M.Amlouk!$A$1:$C$67
Name citations?user_0oGkmjcAAAAJ_hl_fr: 'H.Ben Romdhane'!$A$1:$C$67
Name citations?user_0Qo2daIAAAAJ_hl_fr: M.Mokni!$A$1:$C$67
Name citations?user_0zjyTYoAAAAJ_hl_fr_1: S.Sayadi!$A$1:$C$67
Name citations?user_1g45JHwAAAAJ_hl_fr: M.Nasri!$A$1:$C$67
Name citations?user_2oRyj9QAAAAJ_hl_fr: B.Hnich!$A$1:$C$67
Name citations?user_2QlvdQEAAAAJ_hl_fr: Y.Gargouri!$A$1:$C$67
Name citations?user_2SD3YI0AAAAJ_hl_fr: A.Chaouachi!$A$1:$C$67
Name citations?user_2v62vWAAAAAJ_hl_fr: N.Miled!$A$1:$C$67
Name citations?user_3Lz_u1EAAAAJ_hl_fr: F.Fnaïech!$A$1:$C$67
Name citations?user_41s0iQgAAAAJ_hl_fr: S.Besbes!$A$1:$C$67
Name citations?user_46KbKNgAAAAJ_hl_fr: M.Snoussi!$A$1:$C$67
Name citations?user_5_2mljQAAAAJ_hl_fr: A.Saad!$A$1:$C$67
Name citations?user_5Nomek8AAAAJ_hl_fr: S.Elatrous!$A$1:$C$67
Name citations?user_612h9AQAAAAJ_hl_fr: M.Kraïem!$A$1:$C$67
Name citations?user_6CmTTIgAAAAJ_hl_fr: H.Elhouichet!$A$1:$C$67
Name citations?user_6CmTTIgAAAAJ_hl_fr: K.Hamden!$A$1:$C$67
Name citations?user_6JKSlcgAAAAJ_hl_fr: N.Kallel!$A$1:$C$66
Name citations?user_6KPNqo8AAAAJ_hl_fr: 'M.Ben Hamida'!$A$1:$C$67
Name citations?user_6Nw7AYsAAAAJ_hl_fr: A.Chaoui!$A$1:$C$67
Name citations?user_7HoV4VkAAAAJ_hl_fr: H.Ghannem!$A$1:$C$66
Name citations?user_8Jq_5EcAAAAJ_hl_fr: 'W.Cheikhrouhou-Koubaa'!$A$1:$C$67
Name citations?user_9E41jUhfroMC_hl_fr: M.Kanzari!$A$1:$C$67
Name citations?user_9ony4m4AAAAJ_hl_fr: Z.Mighri!$A$1:$C$67
Name citations?user_AfblpW0AAAAJ_hl_fr: A.Gargouri!$A$1:$C$67
Name citations?user_AxhLZw8AAAAJ_hl_fr: H.Bouchriha!$A$1:$C$67
Name citations?user_bgBDeK0AAAAJ_hl_fr: K.Zouari!$A$1:$C$66
Name citations?user_BKZwXZgAAAAJ_hl_fr: T.Mabrouki!$A$1:$C$67

Sheet TunSci_Local
A1: Scientist | B1: Current Affiliation | C1: Birth | D1: h-index | E1: Citations | F1: A1 | G1: A2 | H1: A3 | I1: A4 | J1: A5 | K1: B | L1: C | M1: D | N1: E1 | O1: E2 | P1: E3 | Q1: E4 | R1: E5 | S1: F | T1: G | U1: WikipediaFR
A2: Adel Trabelsi | B2: Université de Tunis El Manar (Tunisia) | D2: =A.Trabelsi!B3 -> 81 | E2: =A.Trabelsi!B2 -> 22240 | M2: X
A3: Sami Sayadi | B3: Université de Sfax (Tunisia) | C3: 1960 | D3: =S.Sayadi!B3 -> 61 | E3: =S.Sayadi!B2 -> 11538 | R3: X
A4: Chedly Abdelly | B4: Université de Carthage (Tunisia) | C4: 1957 | D4: =C.Abdelly!B3 -> 54 | E4: =C.Abdelly!B2 -> 11480 | O4: X | R4: X
A5: Moncef Nasri | B5: Université de Sfax (Tunisia) | D5: =M.Nasri!B3 -> 52 | E5: =M.Nasri!B2 -> 9847 | L5: X | R5: X
A6: Anis Chaouachi | B6: Université de Tunis El Manar (Tunisia) | D6: =A.Chaouachi!B3 -> 52 | E6: =A.Chaouachi!B2 -> 7722 | Q6: X
A7: Faycal Hentati | B7: Université de Tunis El Manar (Tunisia) | D7: =F.Hentati!B3 -> 51 | E7: =F.Hentati!B2 -> 12571 | N7: X
A8: Youssef Gargouri | B8: Université de Sfax (Tunisia) | D8: =Y.Gargouri!B3 -> 45 | E8: =Y.Gargouri!B2 -> 6043 | L8: X | N8: X | P8: X | R8: X
A9: Sami Boufi | B9: Université de Sfax (Tunisia) | D9: =S.Boufi!B3 -> 44 | E9: =S.Boufi!B2 -> 6773 | L9: X | M9: X
A10: Fekri Abroug | B10: Université de Monastir (Tunisia) | D10: =F.Abroug!B3 -> 42 | E10: =F.Abroug!B2 -> 7548 | N10: X
A11: Wassim Y. Almawi (Lebanese) | B11: Université de Tunis El Manar (Tunisia) | D11: ='W. Almawi'!B3 -> 41 | E11: ='W. Almawi'!B2 -> 7115 | L11: X | N11: X
A12: Sassi Ben Nasrallah (d. 2017) | B12: Université de Monastir (Tunisia) | C12: 1955 | D12: ='S.Ben Nasrallah'!B3 -> 41 | E12: ='S.Ben Nasrallah'!B2 -> 6335 | M12: X
A13: Hassen Aydi | B13: Université de Sousse (Tunisia) | D13: =H.Aydi!B3 -> 40 | E13: =H.Aydi!B2 -> 5044 | H13: X
A14: Mongi Ben Hamida (d. 2003) | B14: Université de Tunis El Manar (Tunisia) | C14: 1928 | D14: ='M.Ben Hamida'!B3 -> 39 | E14: ='M.Ben Hamida'!B2 -> 8620 | N14: X | U14: link
A15: Adel M. Alimi | B15: Université de Sfax (Tunisia) | C15: 1966 | D15: =A.Alimi!B3 -> 39 | E15: =A.Alimi!B2 -> 8090 | I15: X
A16: Ahmed Rebai | B16: Université de Sfax (Tunisia) | C16: 1967 | D16: =A.Rebaï!B3 -> 38 | E16: =A.Rebaï!B2 -> 4587 | F16: X | N16: X | O16: X | R16: X
A17: Abdelfattah Elfeki | B17: Université de Sfax (Tunisia) | D17: =A.Feki!B3 -> 37 | E17: =A.Feki!B2 -> 5383 | P17: X | R17: X
A18: Ali Bougatef | B18: Université de Sfax (Tunisia) | D18: =A.Bougatef!B3 -> 35 | E18: =A.Bougatef!B2 -> 4017 | L18: X | R18: X
A19: Nizar Souissi | B19: Université de la Manouba (Tunisia) | D19: =N.Souissi!B3 -> 35 | E19: =N.Souissi!B2 -> 3547 | Q19: X
A20: Kamel Hamzaoui | B20: Université de Tunis El Manar (Tunisia) | D20: =K.Hamzaoui!B3 -> 34 | E20: =K.Hamzaoui!B2 -> 3515 | N20: X
A21: Souhail Besbes | B21: Université de Sfax (Tunisia) | D21: =S.Besbes!B3 -> 33 | E21: =S.Besbes!B2 -> 5026 | R21: X
A22: Ferid Limam | B22: Université de Carthage (Tunisia) | D22: =F.Limam!B3 -> 33 | E22: =F.Limam!B2 -> 3313 | O22: X | R22: X
A23: Ali Gargouri | B23: Université de Sfax (Tunisia) | D23: =A.Gargouri!B3 -> 33 | E23: =A.Gargouri!B2 -> 3066 | R23: X
A24: Mohamed Amri | B24: Université de Tunis El Manar (Tunisia) | D24: =M.Amri!B3 -> 32 | E24: =M.Amri!B2 -> 3520 | N24: X | P24: X
A25: Essebti Dhahri | B25: Université de Sfax (Tunisia) | D25: =E.Dhahri!B3 -> 32 | E25: =E.Dhahri!B2 -> 3371 | L25: X | M25: X
A26: Hamdi Chtourou | B26: Université de Sfax (Tunisia) | D26: =H.Chtourou!B3 -> 32 | E26: =H.Chtourou!B2 -> 2912 | Q26: X
A27: Ali Ferchichi | B27: Université de Carthage (Tunisia) | D27: =A.Ferchichi!B3 -> 31 | E27: =A.Ferchichi!B2 -> 4149 | L27: X | O27: X | R27: X
A28: Farhat Fnaiech | B28: Université de Tunis (Tunisia) | D28: =F.Fnaïech!B3 -> 31 | E28: =F.Fnaïech!B2 -> 4025 | I28: X
A29: Hafedh Ben Ouada | B29: Université de Monastir (Tunisia) | D29: ='H.Ben Ouada'!B3 -> 31 | E29: ='H.Ben Ouada'!B2 -> 3653 | L29: X | M29: X
A30: Ali Saad | B30: Université de Sousse (Tunisia) | D30: =A.Saad!B3 -> 31 | E30: =A.Saad!B2 -> 3240 | N30: X
A31: Mosbah Amlouk | B31: Université de Tunis El Manar (Tunisia) | D31: =M.Amlouk!B3 -> 31 | E31: =M.Amlouk!B2 -> 3138 | L31: X | M31: X
A32: Lassaad El Mir | B32: Université de Gabès (Tunisia) | D32: ='L.El Mir'!B3 -> 31 | E32: ='L.El Mir'!B2 -> 3131 | L32: X | M32: X
A33: Chedly Souga | B33: Université de Carthage (Tunisia) | D33: =C.Souga!B3 -> 30 | E33: =C.Souga!B2 -> 4488 | M33: X
A34: Brahim Hnich | B34: Université de Monastir (Tunisia) | D34: =B.Hnich!B3 -> 30 | E34: =B.Hnich!B2 -> 2851 | F34: X
A35: Ameur Cherif | B35: Université de la Manouba (Tunisia) | D35: =A.Cherif!B3 -> 29 | E35: =A.Cherif!B2 -> 3355 | R35: X
A36: Karem Boubaker (d. 2016) | B36: Université de Tunis (Tunisia) | D36: =K.Boubaker!B3 -> 29 | E36: =K.Boubaker!B2 -> 2514 | L36: X | M36: X
A37: Chokri Ben Amar | B37: Université de Sfax (Tunisia) | D37: ='C.Ben Amar'!B3 -> 28 | E37: ='C.Ben Amar'!B2 -> 2837 | F37: X
A38: Tahar Mechichi | B38: Université de Sfax (Tunisia) | D38: =T.Mechichi!B3 -> 28 | E38: =T.Mechichi!B2 -> 2578 | L38: X | R38: X
A39: Khaled Said | B39: Université de Monastir (Tunisia) | D39: =K.Said!B3 -> 28 | E39: =K.Said!B2 -> 2479 | R39: X
A40: Nabil Kechaou | B40: Université de Sfax (Tunisia) | D40: =N.Kechaou!B3 -> 28 | E40: =N.Kechaou!B2 -> 2323 | L40: X | R40: X
...

Sheet Data_Explanation
A1: Category | B1: Specialization
A2: A | B2: Mathematics, Computer Science, or Engineering
A3: A1 | B3: Computer Science and Automation
A4: A2 | B4: Telecommunications
A5: A3 | B5: Mathematics
A6: A4 | B6: Electrical Engineering
A7: A5 | B7: Operational Science and other aspects of Engineering
A8: B | B8: Social Sciences, Arts, or Humanities
A9: C | B9: Chemistry or Materials Science
A10: D | B10: Physics or Astronomy
A11: E | B11: Medicine, Pharmacology, Biology, Animal Science, Plant Science, Forestry, Dentistry, or Environmental Science
A12: E1 | B12: Linked to humans
... A18: G | B18: Economics, Management, Finance, Marketing, Banking, Accounting, Commerce, or Business

Sheet S.Boukhchina
B1: Toutes | C1: Depuis 2014
A2: Citations | B2: 1452 | C2: 1047
A3: indice h | B3: 21 | C3: 17
A4: indice i10 | B4: 43 | C4: 34
A7: Titre | B7: Citée par | C7: Année
A8: Heating effects on physicochemical characteristics and antioxidant activity of flaxseed hull oil (Linum usitatissimum L) | B8: 212 | C8: 2016
A9: W Herchi, KBEN AMMAR, I Bouali, IB Abdallah, A Guetet, S Boukhchina
A10: Food Science and Technology 36 (1), 97-102, 2016
A11: α-Tocopherol and fatty acids contents of some Tunisian table olives (Olea europea L.): Changes in their composition during ripening and processing | B11: 92 | C11: 2008
A12: F Sakouhi, S Harrabi, C Absalon, K Sbei, S Boukhchina, H Kallel
A13: Food Chemistry 108 (3), 833-839, 2008
A14: Essential oils of Origanum vulgare L. subsp. glandulosum (Desf.) Ietswaart from Tunisia: chemical composition and antioxidant activity | B14: 66 | C14: 2010
A15: K Mechergui, JA Coelho, MC Serra, SB Lamine, S Boukhchina, ...
A16: Journal of the Science of Food and Agriculture 90 (10), 1745-1749, 2010
A17: Total lipid content, fatty acids and 4-desmethylsterols accumulation in developing fruit of Pistacia lentiscus L. growing wild in Tunisia | B17: 65 | C17: 2012
A18: H Trabelsi, OA Cherif, F Sakouhi, P Villeneuve, J Renaud, N Barouh, ...
A19: Food chemistry 131 (2), 434-440, 2012
A20: Content of carotenoids, tocopherols, sterols, triterpenic and aliphatic alcohols, and volatile compounds in six walnuts (Juglans regia L.) varieties | B20: 62 | C20: 2015
A21: IB Abdallah, N Tlili, E Martinez-Force, AGP Rubio, MC Perez-Camino, ...
A22: Food chemistry 173, 972-978, 2015
A23: Chemical composition and antibacterial activities of seven Eucalyptus species essential oils leaves | B23: 50 | C23: 2015
A24: K Sebei, F Sakouhi, W Herchi, ML Khouja, S Boukhchina
A25: Biological research 48 (1), 7, 2015
A26: Kernel fatty acid and triacylglycerol composition for three almond cultivars during maturation | B26: 50 | C26: 2004
A27: A Cherif, K Sebei, S Boukhchina, H Kallel, K Belkacemi, J Arul
A28: Journal of the American Oil Chemists' Society 81 (10), 901-905, 2004
A29: Identification of glycerophospholipids in rapeseed, olive, almond, and sunflower oils by LC MS and LC MS MS | B29: 45 | C29: 2004
A30: S Boukhchina, K Sebai, A Cherif, H Kallel, PM Mayer
A31: Canadian Journal of Chemistry 82 (7), 1210-1215, 2004
A32: Liquid chromatographic–mass spectrometric analysis of glycerophospholipids in corn oil | B32: 41 | C32: 2009
A33: S Harrabi, W Herchi, H Kallel, PM Mayer, S Boukhchina
A34: Food Chemistry 114 (2), 712-716, 2009
A35: Phytosterols accumulation in the seeds of Linum usitatissimum L. | B35: 38 | C35: 2009
A36: W Herchi, S Harrabi, K Sebei, S Rochut, S Boukhchina, C Pepe, H Kallel
A37: Plant Physiology and Biochemistry 47 (10), 880-885, 2009
A38: Determination of phenolic and other polar compounds in flaxseed oil using liquid chromatography coupled with time-of-flight mass spectrometry | B38: 36 | C38: 2011
A39: W Herchi, S Sawalha, D Arráez-Román, S Boukhchina, ...
A40: Food chemistry 126 (1), 332-338, 2011
A41: Phytostanols and phytosterols distributions in corn kernel | B41: 34 | C41: 2008
A42: S Harrabi, A St-Amand, F Sakouhi, K Sebei, H Kallel, PM Mayer, ...
...

Sheet K.Ben Slama
B1: Toutes | C1: Depuis 2014
A2: Citations | B2: 1539 | C2: 1162
A3: indice h | B3: 24 | C3: 22
A4: indice i10 | B4: 38 | C4: 36
A7: Titre | B7: Citée par | C7: Année
A8: Thuricin 7: a novel bacteriocin produced by Bacillus thuringiensis BMG1. 7, a new strain isolated from soil | B8: 179 | C8: 2001
A9: A Cherif, H Ouzari, D Daffonchio, H Cherif, K Ben Slama, A Hassen, ...
A10: Letters in Applied Microbiology 32 (4), 243-247, 2001
A11: Characterization of CTX-M and SHV extended-spectrum β-lactamases and associated resistance genes in Escherichia coli strains of food samples in … | B11: 153 | C11: 2007
A12: A Jouini, L Vinué, KB Slama, Y Saenz, N Klibi, S Hammami, A Boudabous, ...
A13: Journal of antimicrobial chemotherapy 60 (5), 1137-1141, 2007
A14: Prevalence and characterisation of extended-spectrum beta-lactamase (ESBL)-producing Escherichia coli isolates in healthy volunteers in Tunisia | B14: 79 | C14: 2012
A15: RB Sallem, KB Slama, V Estepa, A Jouini, H Gharsa, N Klibi, Y Sáenz, ...
A16: European journal of clinical microbiology & infectious diseases 31 (7), 1511 …, 2012
A17: Prevalence of broad-spectrum cephalosporin-resistant Escherichia coli isolates in food samples in Tunisia, and characterization of integrons and antimicrobial resistance … | B17: 67 | C17: 2010
A18: KB Slama, A Jouini, RB Sallem, S Somalo, Y Sáenz, V Estepa, ...
A19: International journal of food microbiology 137 (2-3), 281-286, 2010
A20: Prevalence, antibiotic resistance, virulence traits and genetic lineages of Staphylococcus aureus in healthy sheep in Tunisia | B20: 60 | C20: 2012
A21: H Gharsa, KB Slama, C Lozano, E Gómez-Sanz, N Klibi, RB Sallem, ...
A22: Veterinary microbiology 156 (3-4), 367-373, 2012
A23: Prevalence and Characterization of Extended-Spectrum Beta-Lactamase (ESBL)– and CMY-2–Producing Escherichia coli Isolates from Healthy Food-Producing … | B23: 52 | C23: 2012
A24: R Ben Sallem, K Ben Slama, Y Sáenz, B Rojo-Bezares, V Estepa, ...
A25: Foodborne pathogens and disease 9 (12), 1137-1142, 2012
A26: Detection of extended-spectrum beta-lactamase (ESBL)-producing Enterobacteriaceae in vegetables, soil and water of the farm environment in Tunisia | B26: 46 | C26: 2015
A27: LB Said, A Jouini, N Klibi, R Dziri, CA Alonso, A Boudabous, KB Slama, ...
A28: International journal of food microbiology 203, 86-92, 2015
A29: Detection of virulence factors in high-level gentamicin-resistant Enterococcus faecalis and Enterococcus faecium isolates from a Tunisian hospital | B29: 45 | C29: 2007
A30: N Klibi, K Ben Slama, Y Sáenz, A Masmoudi, S Zanetti, LA Sechi, ...
A31: Canadian journal of microbiology 53 (3), 372-379, 2007
A32: IncI1 Plasmids Carrying blaCTX-M-1 or blaCMY-2 Genes in Escherichia coli from Healthy Humans and Animals in Tunisia | B32: 44 | C32: 2014
A33: R Ben Sallem, K Ben Slama, B Rojo-Bezares, N Porres-Osante, A Jouini, ...
A34: Microbial Drug Resistance 20 (5), 495-500, 2014
A35: Species distribution, antibiotic resistance and virulence traits in enterococci from meat in Tunisia | B35: 43 | C35: 2013
A36: N Klibi, LB Said, A Jouini, KB Slama, M López, RB Sallem, A Boudabous, ...
A37: Meat science 93 (3), 675-680, 2013
A38: Diversity of Genetic Lineages Among CTX-M-15 and CTX-M-14 Producing Escherichiacoli Strains in a Tunisian Hospital | B38: 39 | C38: 2011
A39: KB Slama, RB Sallem, A Jouini, S Rachid, L Moussa, Y Sáenz, V Estepa, ...
A40: Current microbiology 62 (6), 1794, 2011
A41: Detection of multiple-antimicrobial resistance and characterization of the implicated genes in Escherichia coli isolates from foods of animal origin in Tunis | B41: 36 | C41: 2009
A42: A Jouini, K Ben Slama, Y Saenz, N Klibi, D Costa, L Vinué, M Zarazaga, ...
...

Sheet H.Ben Romdhane
B1: Toutes | C1: Depuis 2014
A2: Citations | B2: 4679 | C2: 4337
A3: indice h | B3: 23 | C3: 21
A4: indice i10 | B4: 39 | C4: 36
A7: Titre | B7: Citée par | C7: Année
A8: Trends in adult body-mass index in 200 countries from 1975 to 2014: a pooled analysis of 1698 population-based measurement studies with 19· 2 million participants | B8: 1713 | C8: 2016
A9: NCD Risk Factor Collaboration
A10: The Lancet 387 (10026), 1377-1396, 2016
A11: Worldwide trends in body-mass index, underweight, overweight, and obesity from 1975 to 2016: a pooled analysis of 2416 population-based measurement studies in 128· 9 million … | B11: 909 | C11: 2017
A12: L Abarca-Gómez, ZA Abdeen, ZA Hamid, NM Abu-Rmeileh, ...
A13: The Lancet 390 (10113), 2627-2642, 2017
A14: Worldwide trends in blood pressure from 1975 to 2015: a pooled analysis of 1479 population-based measurement studies with 19· 1 million participants | B14: 502 | C14: 2017
A15: B Zhou, J Bentham, M Di Cesare, H Bixby, G Danaei, MJ Cowan, ...
A16: The Lancet 389 (10064), 37-55, 2017
A17: A century of trends in adult human height | B17: 146 | C17: 2016
A18: NCD Risk Factor Collaboration
A19: Elife 5, e13410, 2016
A20: Nutrition transition among adolescents of a south-Mediterranean country: dietary patterns, association with socio-economic factors, overweight and blood pressure. A cross … | B20: 91 | C20: 2011
A21: H Aounallah-Skhiri, P Traissac, J El Ati, S Eymard-Duvernay, E Landais, ...
A22: Nutrition journal 10 (1), 38, 2011
A23: Blood pressure and associated factors in a North African adolescent population. a national cross-sectional study in Tunisia | B23: 85 | C23: 2012
A24: H Aounallah-Skhiri, J El Ati, P Traissac, HB Romdhane, ...
A25: BMC Public Health 12 (1), 98, 2012
A26: Nutritional status of Tunisian adolescents: associated gender, environmental and socio-economic factors | B26: 71 | C26: 2008
A27: H Aounallah-Skhiri, HB Romdhane, P Traissac, S Eymard-Duvernay, ...
A28: Public health nutrition 11 (12), 1306-1317, 2008
A29: Association of MICA-129 polymorphism with nasopharyngeal cancer risk in a Tunisian population | B29: 64 | C29: 2009
A30: H Douik, AB Chaaben, NA Romdhane, HB Romdhane, T Mamoghli, ...
A31: Human immunology 70 (1), 45-48, 2009
A32: A cost effectiveness analysis of salt reduction policies to reduce coronary heart disease in four Eastern Mediterranean countries | B32: 59 | C32: 2014
A33: H Mason, A Shoaibi, R Ghandour, M O'Flaherty, S Capewell, R Khatib, ...
A34: PloS one 9 (1), e84445, 2014
A35: Establishing international blood pressure references among nonoverweight children and adolescents aged 6 to 17 years | B35: 53 | C35: 2016
A36: B Xi, X Zong, R Kelishadi, YM Hong, A Khadilkar, LM Steffen, T Nawarycz, ...
A37: Circulation 133 (4), 398-408, 2016
A38: Prevalence and determinants of the metabolic syndrome among Tunisian adults: results of the Transition and Health Impact in North Africa (TAHINA) project | B38: 52 | C38: 2013
A39: H Belfki, SB Ali, H Aounallah-Skhiri, P Traissac, S Bougatef, B Maire, ...
A40: Public health nutrition 16 (4), 582-590, 2013
A41: Transition épidémiologique et transition alimentaire et nutritionnelle en Tunisie | B41: 52 | C41: 2002
A42: HB Romdhane, R Khaldi, A Oueslati, H Skhiri
...

Sheet S.Ben Yahia
B1: Toutes | C1: Depuis 2014
A2: Citations | B2: 2090 | C2: 1284
A3: indice h | B3: 25 | C3: 18
A4: indice i10 | B4: 57 | C4: 42
A7: Titre | B7: Citée par | C7: Année
A8: Discovering knowledge from fuzzy concept lattice | B8: 139 | C8: 2001
A9: SB Yahia, A Jaoua
A10: Data mining and computational intelligence, 167-190, 2001
A11: Frequent closed itemset based algorithms: a thorough structural and analytical survey | B11: 105 | C11: 2006
A12: SB Yahia, T Hamrouni, EM Nguifo
A13: ACM sIGKDD Explorations Newsletter 8 (1), 93-104, 2006
A14: : A New Informative Generic Base of Association Rules | B14: 44 | C14: 2005
A15: G Gasmi, SB Yahia, EM Nguifo, Y Slimani
A16: Pacific-Asia Conference on Knowledge Discovery and Data Mining, 81-90, 2005
A17: Approches d'extraction de règles d'association basées sur la correspondance de galois | B17: 36 | C17: 2004
A18: S BEN YAHIA, E MEPHU NGUIFO
A19: Ingénierie des systèmes d'information 9 (3-4), 23-55, 2004
A20: A personalized recommender system based on users' information in folksonomies | B20: 35 | C20: 2013
A21: MN Jelassi, S Ben Yahia, E Mephu Nguifo
A22: Proceedings of the 22nd International Conference on World Wide Web, 1215-1224, 2013
A23: Prince: An algorithm for generating rule bases without closure computations | B23: 35 | C23: 2005
A24: T Hamrouni, SB Yahia, Y Slimani
A25: International Conference on Data Warehousing and Knowledge Discovery, 346-355, 2005
A26: Scalable mining of frequent tri-concepts from folksonomies | B26: 34 | C26: 2012
A27: C Trabelsi, N Jelassi, SB Yahia
A28: Pacific-Asia Conference on Knowledge Discovery and Data Mining, 231-242, 2012
A29: Application of Multi-SOM clustering approach to macrophage gene expression analysis | B29: 34 | C29: 2009
A30: A Ghouila, SB Yahia, D Malouche, H Jmel, D Laouini, FZ Guerfali, ...
A31: Infection, Genetics and Evolution 9 (3), 328-336, 2009
A32: Sweeping the disjunctive search space towards mining new exact concise representations of frequent itemsets | B32: 33 | C32: 2009
A33: T Hamrouni, SB Yahia, EM Nguifo
A34: Data & Knowledge Engineering 68 (10), 1091-1111, 2009
A35: An extension of classical functional dependency: dynamic fuzzy functional dependency | B35: 33 | C35: 1999
A36: SB Yahia, H Ounalli, A Jaoua
A37: Information Sciences 119 (3-4), 219-234, 1999
A38: A new generic basis of" factual" and" implicative" association rules | B38: 31 | C38: 2009
A39: SB Yahia, G Gasmi, EM Nguifo
A40: Intelligent Data Analysis 13 (4), 633, 2009
A41: Mining undominated association rules through interestingness measures | B41: 30 | C41: 2014
A42: S Bouker, R Saidi, S Ben Yahia, E Mephu Nguifo
...

Sheet M.Amri
B1: Toutes | C1: Depuis 2014
A2: Citations | B2: 3520 | C2: 2111
A3: indice h | B3: 32 | C3: 25
A4: indice i10 | B4: 75 | C4: 57
A7: Titre | B7: Citée par | C7: Année
A8: Effects of intra-session concurrent endurance and strength training sequence on aerobic performance and capacity | B8: 251 | C8: 2005
A9: M Chtara, K Chamari, M Chaouachi, A Chaouachi, D Koubaa, Y Feki, ...
A10: British journal of sports medicine 39 (8), 555-560, 2005
A11: Effect of resveratrol on antioxidant enzyme activities in the brain of healthy rat | B11: 196 | C11: 2007
A12: M Mokni, S Elkahoui, F Limam, M Amri, E Aouani
A13: Neurochemical research 32 (6), 981-987, 2007
A14: Effect of concurrent endurance and circuit resistance training sequence on muscular strength and power development | B14: 184 | C14: 2008
A15: M Chtara, A Chaouachi, GT Levin, M Chaouachi, K Chamari, M Amri, ...
A16: The Journal of Strength & Conditioning Research 22 (4), 1037-1045, 2008
A17: Effects of high vs. moderate exercise intensity during interval training on lipids and adiponectin levels in obese young females | B17: 145 | C17: 2013
A18: G Racil, OB Ounis, O Hammouda, A Kallel, H Zouhal, K Chamari, M Amri
A19: European journal of applied physiology 113 (10), 2531-2540, 2013
A20: Strong cardioprotective effect of resveratrol, a red wine polyphenol, on isolated rat hearts after ischemia/reperfusion injury | B20: 114 | C20: 2007
A21: M Mokni, F Limam, S Elkahoui, M Amri, E Aouani
A22: Archives of Biochemistry and Biophysics 457 (1), 1-6, 2007
A23: Effect of Ramadan intermittent fasting on aerobic and anaerobic performance and perception of fatigue in male elite judo athletes | B23: 105 | C23: 2009
A24: A Chaouachi, AJ Coutts, K Chamari, P Wong, M Chaouachi, M Chtara, ...
A25: The Journal of Strength & Conditioning Research 23 (9), 2702-2709, 2009
A26: Alteration of ganglioside biosynthesis responsible for complex hereditary spastic paraplegia | B26: 98 | C26: 2013
A27: A Boukhris, R Schule, JL Loureiro, CM Lourenço, E Mundwiller, ...
A28: The American Journal of Human Genetics 93 (1), 118-123, 2013
A29: Axonal branching of medullary swallowing neurons projecting on the trigeminal and hypoglossal motor nuclei: demonstration by electrophysiological and fluorescent double … | B29: 92 | C29: 1990
A30: M Amri, A Car, C Roman
A31: Experimental Brain Research 81 (2), 384-390, 1990
A32: Lipid profiles of judo athletes during Ramadan | B32: 85 | C32: 2008
A33: A Chaouachi, K Chamari, R Roky, P Wong, A Mbazaa, Z Bartagi, M Amri
A34: International journal of sports medicine 29 (04), 282-288, 2008
A35: Ten minutes of dynamic stretching is sufficient to potentiate vertical jump performance characteristics | B35: 82 | C35: 2011
A36: O Turki, A Chaouachi, EJ Drinkwater, M Chtara, K Chamari, M Amri, ...
A37: The Journal of Strength & Conditioning Research 25 (9), 2453-2463, 2011
A38: Medullary control of the pontine swallowing neurones in sheep | B38: 79 | C38: 1984
A39: M Amri, A Car, A Jean
A40: Experimental brain research 55 (1), 105-110, 1984
A41: Effects of two-month physical-endurance and diet-restriction programmes on lipid profiles and insulin resistance in obese adolescent boys | B41: 69 | C41: 2008
A42: OB Ounis, M Elloumi, IB Chiekh, A Zbidi, M Amri, G Lac, Z Tabka
...

Sheet A.Bahri
B1: Toutes | C1: Depuis 2014
A2: Citations | B2: 2866 | C2: 1444
A3: indice h | B3: 26 | C3: 16
A4: indice i10 | B4: 53 | C4: 27
A7: Titre | B7: Citée par | C7: Année
A8: The challenges of wastewater irrigation in developing countries | B8: 459 | C8: 2010
A9: M Qadir, D Wichelns, L Raschid-Sally, PG McCornick, P Drechsel, A Bahri, ...
A10: Agricultural Water Management 97 (4), 561-568, 2010
A11: Wastewater irrigation and health: assessing and mitigating risk in low-income countries | B11: 196* | C11: 2010
A12: P Drechsel, CA Scott, L Raschid-Sally, M Redwood, A Bahri
A13: IWMI, 2010
A14: Water reuse for irrigation: agriculture, landscapes, and turf grass | B14: 189 | C14: 2004
A15: V Lazarova, A Bahri
A16: CRC press, 2004
A17: Wastewater production, treatment, and irrigation in Middle East and North Africa | B17: 111 | C17: 2010
A18: M Qadir, A Bahri, T Sato, E Al-Karadsheh
A19: Irrigation and Drainage Systems 24 (1-2), 37-51, 2010
A20: Agricultural use of marginal-quality water: Opportunities and challenges | B20: 102 | C20: 2007
A21: M Qadir, D Wichelns, L Raschid-Sally, PS Minhas, P Drechsel, A Bahri, ...
A22: Agricultural reuse of wastewater and global water management | B22: 102 | C22: 1999
A23: A Bahri
A24: Water Science and Technology 40 (4-5), 339-346, 1999
A25: Wastewater reuse in Tunisia: assessing a national policy | B25: 76 | C25: 1996
A26: A Bahri, F Brissaud
A27: Water Science and Technology 33 (10-11), 87-94, 1996
A28: Integrated urban water management | B28: 71 | C28: 2012
A29: A Bahri
A30: TEC Background Papers 16, 2012
A31: Wastewater, sludge and excreta use in developing countries: an overview | B31: 69 | C31: 2009
A32: B Jiménez, P Drechsel, D Koné, A Bahri
A33: Wastewater irrigation and health, 29-54, 2009
A34: Reducing health risks from wastewater use in urban and peri-urban sub-Saharan Africa: applying the 2006 WHO guidelines | B34: 63 | C34: 2008
A35: P Drechsel, B Keraita, P Amoah, RC Abaidoo, L Raschid-Sally, A Bahri
A36: Water Science and Technology 57 (9), 1461-1466, 2008
A37: Milestones in water reuse | B37: 61 | C37: 2013
A38: V Lazarova, T Asano, A Bahri, J Anderson
A39: IWA publishing, 2013
A40: Spatial dependence of geochemical elements in a semiarid agricultural field: II. Geostatistical properties | B40: 60 | C40: 1993
A41: R Berndtsson, A Bahri, K Jinno
A42: Soil Science Society of America Journal 57 (5), 1323-1329, 1993
...

Sheet M.R.Barbouche
B1: Toutes | C1: Depuis 2014
A2: Citations | B2: 2406 | C2: 1490
A3: indice h | B3: 22 | C3: 17
A4: indice i10 | B4: 44 | C4: 30
A7: Titre | B7: Citée par | C7: Année
A8: Revisiting human IL-12Rβ1 deficiency: a survey of 141 patients from 30 countries | B8: 289 | C8: 2010
A9: L De Beaucoudrey, A Samarina, J Bustamante, A Cobat, ...
A10: Medicine 89 (6), 381, 2010
A11: Toll-like receptor 2 Arg677Trp polymorphism is associated with susceptibility to tuberculosis in Tunisian patients | B11: 253 | C11: 2004
A12: M Ben-Ali, MR Barbouche, S Bousnina, A Chabbou, K Dellagi
A13: Clin. Diagn. Lab. Immunol. 11 (3), 625-626, 2004
A14: X-linked susceptibility to mycobacteria is caused by mutations in NEMO impairing CD40-dependent IL-12 production | B14: 227 | C14: 2006
A15: O Filipe-Santos, J Bustamante, MH Haverkamp, E Vinolo, CL Ku, A Puel, ...
A16: Journal of Experimental Medicine 203 (7), 1745-1759, 2006
A17: Heterozygous STAT1 gain-of-function mutations underlie an unexpectedly broad clinical phenotype | B17: 134 | C17: 2016
A18: J Toubiana, S Okada, J Hiller, M Oleastro, ML Gomez, JCA Becerra, ...
A19: Blood 127 (25), 3154-3164, 2016
A20: Inherited IL-12p40 deficiency: genetic, immunologic, and clinical features of 49 patients from 30 kindreds | B20: 106 | C20: 2013
A21: C Prando, A Samarina, J Bustamante, S Boisson-Dupuis, A Cobat, ...
A22: Medicine 92 (2), 109, 2013
A23: Hypomorphic homozygous mutations in phosphoglucomutase 3 (PGM3) impair immunity and increase serum IgE levels | B23: 101 | C23: 2014
A24: A Sassi, S Lazaroski, G Wu, SM Haslam, M Fliegauf, F Mellouli, ...
A25: Journal of Allergy and Clinical Immunology 133 (5), 1410-1419. e13, 2014
A26: Characterization of Greater Middle Eastern genetic variation for enhanced disease gene discovery. | B26: 89 | C26: 2016
A27: CAG Scott EM, Halees A, Itan Y, Spencer EG, He Y, Azab MA, Gabriel SB ...
A28: Nat Genet. 48 ((9)), 1071-6, 2016
A29: Clinical and Genetic Heterogeneity of Inherited Autosomal Recessive Susceptibility to Disseminated Mycobacterium bovis Bacille Calmette-Guérin Infection | B29: 89 | C29: 2002
A30: H Elloumi-Zghal, MR Barbouche, J Chemli, M Béjaoui, A Harbi, N Snoussi, ...
A31: Journal of Infectious Diseases 185 (10), 1468-1475, 2002
A32: The extended clinical phenotype of 64 patients with dedicator of cytokinesis 8 deficiency | B32: 86 | C32: 2015
A33: KR Engelhardt, ME Gertz, S Keles, AA Schäffer, EC Sigmund, C Glocker, ...
A34: Journal of Allergy and Clinical Immunology 136 (2), 402-412, 2015
A35: Clinical features of Candidiasis in patients with inherited interleukin 12 receptor β1 deficiency | B35: 72 | C35: 2013
A36: M Ouederni, O Sanal, A Ikincioğullari, I Tezcan, F Dogu, I Sologuren, ...
A37: Clinical infectious diseases 58 (2), 204-213, 2013
A38: Primary immunodeficiencies in highly consanguineous North African populations | B38: 55 | C38: 2011
A39: MR Barbouche, N Galal, I Ben‐Mustapha, L Jeddane, F Mellouli, F Ailal, ...
A40: Annals of the New York Academy of Sciences 1238 (1), 42-52, 2011
A41: Promoter and neck region length variation of DC-SIGN is not associated with susceptibility to tuberculosis in Tunisian patients | B41: 54 | C41: 2007
A42: M Ben-Ali, LB Barreiro, A Chabbou, R Haltiti, E Braham, O Neyrolles, ...
...

Sheet H.Ghannem
B1: Toutes | C1: Depuis 2014
A2: Citations | B2: 1551 | C2: 706
A3: indice h | B3: 21 | C3: 14
A4: indice i10 | B4: 39 | C4: 19
A7: Titre | B7: Citée par | C7: Année
A8: WHO study on Prevention of REcurrences of Myocardial Infarction and StrokE (WHO-PREMISE) | B8: 288 | C8: 2005
A9: S Mendis, D Abegunde, S Yusuf, S Ebrahim, G Shaper, H Ghannem, ...
A10: Bulletin of the World Health Organization 83, 820-829, 2005
A11: Age-specific seroprevalence of hepatitis a among school children in central Tunisia | B11: 63 | C11: 2005
A12: A Letaief, N Kaabia, R Gaha, A Bousaadia, F Lazrag, H Trabelsi, ...
A13: The American journal of tropical medicine and hygiene 73 (1), 40-43, 2005
A14: Celiac disease in Tunisia: serological screening in healthy blood donors | B14: 51 | C14: 2006
A15: A Mankai, H Landolsi, A Chahed, L Gueddah, M Limem, MB Abdessalem, ...
A16: Pathologie Biologie 54 (1), 10-13, 2006
A17: Prevalence of cardiovascular risk factors in the urban population of Soussa in Tunisia | B17: 47 | C17: 1997
A18: H Ghannem, AH Fredj
A19: Journal of Public Health 19 (4), 392-396, 1997
A20: Mental health reform in the Russian Federation: an integrated approach to achieve social inclusion and recovery | B20: 46 | C20: 2007
A21: R Jenkins, S Lancashire, D McDaid, Y Samyshkin, S Green, J Watkins, ...
A22: Bulletin of the World Health Organization 85, 858-866, 2007
A23: Africa’s neglected area of human resources for health research–the way forward | B23: 44 | C23: 2012
A24: C IJsselmuiden, DL Marais, F Becerra-Posada, H Ghannem
A25: South African Medical Journal 102 (4), 2012
A26: Management of NCD in low-and middle-income countries | B26: 42 | C26: 2014
A27: W Checkley, H Ghannem, V Irazola, S Kimaiyo, NS Levitt, JJ Miranda, ...
A28: Global heart 9 (4), 431-443, 2014
A29: National health research system mapping in 10 Eastern Mediterranean countries | B29: 42 | C29: 2008
A30: A Kennedy, TAM Khoja, AH Abou Zeid, H Ghannem, C IJsselmuiden
A31: EMHJ-Eastern Mediterranean Health Journal, 14 (3), 502-517, 2008, 2008
A32: Epidemiology of hypertension among a population of school children in Sousse, Tunisia | B32: 40 | C32: 2006
A33: I Harrabi, A Belarbia, R Gaha, AS Essoussi, H Ghannem
A34: Canadian journal of cardiology 22 (3), 212-216, 2006
A35: Seroprevalence of rubella virus, varicella zoster virus, cytomegalovirus and parvovirus B19 among pregnant women in the Sousse region, Tunisia | B35: 37 | C35: 2011
A36: N Hannachi, M Marzouk, I Harrabi, A Ferjani, Z Ksouri, H Ghannem, ...
A37: Bulletin de la Societe de pathologie exotique (1990) 104 (1), 62-67, 2011
A38: Epidemiology of cardiovascular risk factors among schoolchildren in Sousse, Tunisia | B38: 37 | C38: 2001
A39: H Ghannem, R Darioli, K Limam, I Harrabi, R Gaha, L Trabelsi, AH Fredj, ...
A40: Journal of Cardiovascular Risk 8 (2), 87-91, 2001
A41: Transition épidémiologique et facteurs de risque cardiovasculaire en Tunisie | B41: 35 | C41: 1997
A42: H Ghannem, A Hadj Fredj
...

Sheet H.Masmoudi
B1: Toutes | C1: Depuis 2014
A2: Citations | B2: 1509 | C2: 768
A3: indice h | B3: 20 | C3: 15
A4: indice i10 | B4: 43 | C4: 26
A7: Titre | B7: Citée par | C7: Année
A8: All T15 Id-positive antibodies (but not the majority of VHT15+ antibodies) are produced by peritoneal CD5+ B lymphocytes | B8: 203 | C8: 1990
A9: H Masmoudi, T Mota-Santos, F Huetz, A Coutinho, PA Cazenave
A10: International immunology 2 (6), 515-520, 1990
A11: Genetic factors in pemphigus | B11: 78 | C11: 2005
A12: F Tron, D Gilbert, H Mouquet, P Joly, L Drouot, S Makni, H Masmoudi, ...
A13: Journal of autoimmunity 24 (4), 319-328, 2005
A14: Combined vitamins (C and E) and insulin improve oxidative stress and pancreatic and hepatic injury in alloxan diabetic rats | B14: 75 | C14: 2009
A15: K Hamden, MA Boujbiha, H Masmoudi, FM Ayadi, K Jamoussi, A Elfeki
A16: Biomedicine & Pharmacotherapy 63 (2), 95-99, 2009
A17: A comparative study of the oxidative profile in Graves’ disease, Hashimoto’s thyroiditis, and papillary thyroid cancer | B17: 55 | C17: 2010
A18: S Lassoued, M Mseddi, F Mnif, M Abid, F Guermazi, H Masmoudi, ...
A19: Biological trace element research 138 (1-3), 107-115, 2010
A20: Clinical and diagnostic value of ribosomal P autoantibodies in systemic lupus erythematosus | B20: 51 | C20: 2009
A21: S Haddouk, S Marzouk, M Jallouli, H Fourati, M Frigui, YBH Hmida, ...
A22: Rheumatology 48 (8), 953-957, 2009
A23: Enhanced reactivity to malondialdehyde-modified proteins by systemic lupus erythematosus autoantibodies | B23: 49 | C23: 2010
A24: R Ben Mansour, S Lassoued, A Elgaied, S Haddouk, S Marzouk, ...
A25: Scandinavian journal of rheumatology 39 (3), 247-253, 2010
A26: Therapeutic effect of phytoecdysteroids rich extract from Ajuga iva on alloxan induced diabetic rats liver, kidney and pancreas | B26: 42 | C26: 2008
A27: K Hamden, F Ayadi, K Jamoussi, H Masmoudi, A Elfeki
A28: Biofactors 33 (3), 165-175, 2008
A29: Anti‐desmoglein 1 antibodies in Tunisian healthy subjects: arguments for the role of environmental factors in the occurrence of Tunisian pemphigus foliaceus | B29: 42 | C29: 2004
A30: M Kallel Sellami, M Ben Ayed, H Mouquet, L Drouot, M Zitouni, M Mokni, ...
A31: Clinical & Experimental Immunology 137 (1), 195-200, 2004
A32: Immunomodulatory, β-cell, and neuroprotective actions of fenugreek oil from alloxan-induced diabetes | B32: 41 | C32: 2010
A33: K Hamden, H Masmoudi, S Carreau, A Elfeki
A34: Immunopharmacology and Immunotoxicology 32 (3), 437-445, 2010
A35: Inhibitory effect of estrogens, phytoestrogens, and caloric restriction on oxidative stress and hepato-toxicity in aged rats | B35: 35 | C35: 2009
A36: K Hamden, S Carreau, F Ayadi, H Masmoudi, EL Abdelfattah
A37: Biomedical and Environmental Sciences 22 (5), 381-387, 2009
A38: Protective effects of Peganum harmala extracts on thiourea-induced diseases in adult male rat | B38: 32 | C38: 2007
A39: K Hamden, H Masmoudi, F Ellouz, A ElFeki, S Carreau
A40: Journal of environmental biology 29 (1), 73, 2007
A41: Tunisian endemic pemphigus foliaceus is associated with the HLA‐DR3 gene: anti‐desmoglein 1 antibody‐positive healthy subjects bear protective alleles | B41: 29 | C41: 2009
A42: O Abida, M Zitouni, M Kallel‐Sellami, N Mahfoudh, A Kammoun, ...
...

Sheet S.Sayadi
B1: Toutes | C1: Depuis 2014
A2: Citations | B2: 11538 | C2: 6967
A3: indice h | B3: 61 | C3: 43
A4: indice i10 | B4: 209 | C4: 188
A7: Titre | B7: Citée par | C7: Année
A8: Antidiabetic and antioxidant effects of hydroxytyrosol and oleuropein from olive leaves in alloxan-diabetic rats | B8: 300 | C8: 2009
A9: H Jemai, A El Feki, S Sayadi
A10: Journal of agricultural and food chemistry 57 (19), 8798-8804, 2009
A11: Low cost biosorbent “banana peel” for the removal of phenolic compounds from olive mill wastewater: Kinetic and equilibrium studies | B11: 257 | C11: 2009
A12: M Achak, A Hafidi, N Ouazzani, S Sayadi, L Mandi
A13: Journal of hazardous materials 166 (1), 117-125, 2009
A14: Treatment of olive oil mill wastewater by combined process electro-Fenton reaction and anaerobic digestion | B14: 240 | C14: 2006
A15: S Khoufi, F Aloui, S Sayadi
A16: water research 40 (10), 2007-2016, 2006
A17: Laccase purification and characterization from Trametes trogii isolated in Tunisia: decolorization of textile dyes by the purified enzyme | B17: 237 | C17: 2006
A18: H Zouari-Mechichi, T Mechichi, A Dhouib, S Sayadi, AT Martínez, ...
A19: Enzyme and Microbial Technology 39 (1), 141-148, 2006
A20: Detrimental effects of high molecular-mass polyphenols on olive mill wastewater biotreatment | B20: 235 | C20: 2000
A21: S Sayadi, N Allouche, M Jaoua, F Aloui
A22: Process Biochemistry 35 (7), 725-735, 2000
A23: Roles of lignin peroxidase and manganese peroxidase from phanerochaete chrysosporium in the decolorization of olive mill wastewaters. | B23: 209 | C23: 1995
A24: S Sayadi, R Ellouz
A25: Appl. Environ. Microbiol. 61 (3), 1098-1103, 1995
A26: Anaerobic membrane reactor with phase separation for the treatment of cheese whey | B26: 195 | C26: 2007
A27: A Saddoud, I Hassaïri, S Sayadi
A28: Bioresource technology 98 (11), 2102-2108, 2007
A29: Hypolipidimic and antioxidant activities of oleuropein and its hydrolysis derivative-rich extracts from Chemlali olive leaves | B29: 194 | C29: 2008
A30: H Jemai, M Bouaziz, I Fki, A El Feki, S Sayadi
A31: Chemico-Biological Interactions 176 (2-3), 88-98, 2008
A32: Toward a high yield recovery of antioxidants and purified hydroxytyrosol from olive mill wastewaters | B32: 192 | C32: 2004
A33: N Allouche, I Fki, S Sayadi
A34: Journal of Agricultural and Food Chemistry 52 (2), 267-273, 2004
A35: Effect of storage on refined and husk olive oils composition: Stabilization by addition of natural antioxidants from Chemlali olive leaves | B35: 167 | C35: 2008
A36: M Bouaziz, I Fki, H Jemai, M Ayadi, S Sayadi
A37: Food Chemistry 108 (1), 253-262, 2008
A38: Changes in microbial and soil properties following amendment with treated and untreated olive mill wastewater | B38: 165 | C38: 2006
A39: A Mekki, A Dhouib, S Sayadi
A40: Microbiological Research 161 (2), 93-101, 2006
A41: Isolation and evaluation of antioxidants from leaves of a Tunisian cultivar olive tree | B41: 162 | C41: 2005
A42: M Bouaziz, S Sayadi
...

Sheet F.Hentati
B1: Toutes | C1: Depuis 2014
A2: Citations | B2: 12571 | C2: 3756
A3: indice h | B3: 51 | C3: 29
A4: indice i10 | B4: 139 | C4: 70
A7: Titre | B7: Citée par | C7: Année
A8: Dysferlin, a novel skeletal muscle gene, is mutated in Miyoshi myopathy and limb girdle muscular dystrophy | B8: 850 | C8: 1998
A9: J Liu, M Aoki, I Illa, C Wu, M Fardeau, C Angelini, C Serrano, ...
A10: Nature genetics 20 (1), 31, 1998
A11: The gene encoding alsin, a protein with three guanine-nucleotide exchange factor domains, is mutated in a form of recessive amyotrophic lateral sclerosis | B11: 780 | C11: 2001
A12: Y Yang, A Hentati, HX Deng, O Dabbagh, T Sasaki, M Hirano, WY Hung, ...
A13: Nature genetics 29 (2), 160, 2001
A14: VPS35 mutations in Parkinson disease | B14: 585 | C14: 2011
A15: C Vilariño-Güell, C Wider, OA Ross, JC Dachsel, JM Kachergus, ...
A16: The American Journal of Human Genetics 89 (1), 162-167, 2011
A17: Mutations in the dystrophin-associated protein γ-sarcoglycan in chromosome 13 muscular dystrophy | B17: 569 | C17: 1995
A18: S Noguchi, EM McNally, KB Othmane, Y Hagiwara, Y Mizuno, M Yoshida, ...
A19: Science 270 (5237), 819-822, 1995
A20: Ataxia with isolated vitamin E deficiency is caused by mutations in the α–tocopherol transfer protein | B20: 560 | C20: 1995
A21: K Ouahchi, M Arita, H Kayden, F Hentati, MB Hamida, R Sokol, H Arai, ...
A22: Nature genetics 9 (2), 141, 1995
A23: Ganglioside-induced differentiation-associated protein-1 is mutant in Charcot-Marie-Tooth disease type 4A/8q21 | B23: 426* | C23: 2002
A24: RV Baxter, KB Othmane, JM Rochelle, JE Stajich, C Hulette, ...
A25: Nature genetics 30 (1), 21, 2002
A26: The gene encoding gigaxonin, a new member of the cytoskeletal BTB/kelch repeat family, is mutated in giant axonal neuropathy | B26: 339 | C26: 2000
A27: P Bomont, L Cavalier, F Blondeau, CB Hamida, S Belal, M Tazir, E Demir, ...
A28: Nature genetics 26 (3), 370, 2000
A29: Molecular and Clinical Correlations in Autosomal Dominant Cerebellar Ataxia with Progressive Macular Dystrophy (SCA7) | B29: 276 | C29: 1998
A30: G David, A Dürr, G Stevanin, G Cancel, N Abbas, A Benomar, S Belal, ...
A31: Human molecular genetics 7 (2), 165-170, 1998
A32: Perlecan, the major proteoglycan of basement membranes, is altered in patients with Schwartz-Jampel syndrome (chondrodystrophic myotonia) | B32: 262 | C32: 2000
A33: S Nicole, CS Davoine, H Topaloglu, L Cattolico, D Barral, P Beighton, ...
A34: Nature genetics 26 (4), 480, 2000
A35: Translation initiator EIF4G1 mutations in familial Parkinson disease | B35: 253 | C35: 2011
A36: MC Chartier-Harlin, JC Dachsel, C Vilariño-Güell, SJ Lincoln, F Leprêtre, ...
A37: The American Journal of Human Genetics 89 (3), 398-406, 2011
A38: Inhibition of LRRK2 kinase activity leads to dephosphorylation of Ser910/Ser935, disruption of 14-3-3 binding and altered cytoplasmic localization | B38: 245 | C38: 2010
A39: N Dzamko, M Deak, F Hentati, AD Reith, AR Prescott, DR Alessi, ...
A40: Biochemical Journal 430 (3), 405-413, 2010
A41: Localization of Friedreich ataxia phenotype with selective vitamin E deficiency to chromosome 8q by homozygosity mapping | B41: 241 | C41: 1993
A42: CB Hamida, N Doerflinger, S Belal, C Linder, L Reutenauer, C Dib, ...
...

Sheet C.Abdelly
B1: Toutes | C1: Depuis 2014
A2: Citations | B2: 11480 | C2: 7871
A3: indice h | B3: 54 | C3: 45
A4: indice i10 | B4: 237 | C4: 205
A7: Titre | B7: Citée par | C7: Année
A8: Salinity effects on polyphenol content and antioxidant activities in leaves of the halophyte Cakile maritima | B8: 312 | C8: 2007
A9: R Ksouri, W Megdiche, A Debez, H Falleh, C Grignon, C Abdelly
A10: Plant Physiology and Biochemistry 45 (3-4), 244-249, 2007
A11: Physiological and antioxidant responses of the perennial halophyte Crithmummaritimum to salinity | B11: 292 | C11: 2005
A12: NB Amor, KB Hamed, A Debez, C Grignon, C Abdelly
A13: Plant Science 168 (4), 889-899, 2005
A14: Phenolic composition of Cynara cardunculus L. organs, and their biological activities | B14: 290 | C14: 2008
A15: H Falleh, R Ksouri, K Chaieb, N Karray-Bouraoui, N Trabelsi, M Boulaaba, ...
A16: Comptes Rendus Biologies 331 (5), 372-379, 2008
A17: Antioxidant and antimicrobial activities of the edible medicinal halophyte Tamarix gallica L. and related polyphenolic constituents | B17: 261 | C17: 2009
A18: R Ksouri, H Falleh, W Megdiche, N Trabelsi, B Mhamdi, K Chaieb, ...
A19: Food and Chemical toxicology 47 (8), 2083-2091, 2009
A20: Salinity effects on germination, growth, and seed production of the halophyte Cakile maritima | B20: 237 | C20: 2004
A21: A Debez, KB Hamed, C Grignon, C Abdelly
A22: Plant and soil 262 (1-2), 179-189, 2004
A23: Influence of biological, environmental and technical factors on phenolic content and antioxidant activities of Tunisian halophytes | B23: 233 | C23: 2008
A24: R Ksouri, W Megdiche, H Falleh, N Trabelsi, M Boulaaba, A Smaoui, ...
A25: Comptes Rendus Biologies 331 (11), 865-873, 2008
A26: How reactive oxygen species and proline face stress together | B26: 217 | C26: 2014
A27: KB Rejeb, C Abdelly, A Savouré
A28: Plant Physiology and Biochemistry 80, 278-284, 2014
A29: Diversity, distribution and roles of osmoprotective compounds accumulated in halophytes under abiotic stress | B29: 180 | C29: 2015
A30: I Slama, C Abdelly, A Bouchereau, T Flowers, A Savoure
A31: Annals of Botany 115 (3), 433-447, 2015
A32: Medicinal halophytes: potent source of health promoting biomolecules with medical, nutraceutical and food applications | B32: 178 | C32: 2012
A33: R Ksouri, WM Ksouri, I Jallali, A Debez, C Magné, I Hiroko, C Abdelly
A34: Critical reviews in biotechnology 32 (4), 289-326, 2012
A35: Effectiveness of compost use in salt-affected soil | B35: 174 | C35: 2009
A36: A Lakhdar, M Rabhi, T Ghnaya, F Montemurro, N Jedidi, C Abdelly
A37: Journal of hazardous materials 171 (1-3), 29-37, 2009
A38: Cadmium effects on growth and mineral nutrition of two halophytes: Sesuvium portulacastrum and Mesembryanthemum crystallinum | B38: 174 | C38: 2005
A39: T Ghnaya, I Nouairi, I Slama, D Messedi, C Grignon, C Abdelly, ...
A40: Journal of Plant Physiology 162 (10), 1133-1140, 2005
A41: Response of antioxidant systems to NaCl stress in the halophyte Cakile maritima | B41: 157 | C41: 2006
A42: NB Amor, A Jiménez, W Megdiche, M Lundqvist, F Sevilla, C Abdelly
...

Sheet A.Chaouachi
B1: Toutes | C1: Depuis 2014
A2: Citations | B2: 7722 | C2: 5948
A3: indice h | B3: 52 | C3: 44
A4: indice i10 | B4: 117 | C4: 114
A7: Titre | B7: Citée par | C7: Année
A8: A review of the acute effects of static and dynamic stretching on performance | B8: 534 | C8: 2011
A9: DG Behm, A Chaouachi
A10: European journal of applied physiology 111 (11), 2633-2651, 2011
A11: Understanding change of direction ability in sport | B11: 366 | C11: 2008
A12: M Brughelli, J Cronin, G Levin, A Chaouachi
A13: Sports medicine 38 (12), 1045-1063, 2008
A14: Effects of intra-session concurrent endurance and strength training sequence on aerobic performance and capacity | B14: 251 | C14: 2005
A15: M Chtara, K Chamari, M Chaouachi, A Chaouachi, D Koubaa, Y Feki, ...
A16: British journal of sports medicine 39 (8), 555-560, 2005
A17: Profile of weekly training load in elite male professional basketball players | B17: 209 | C17: 2010
A18: V Manzi, S D'ottavio, FM Impellizzeri, A Chaouachi, K Chamari, ...
A19: The Journal of Strength & Conditioning Research 24 (5), 1399-1406, 2010
A20: Anthropometric, physiological and performance characteristics of elite team-handball players | B20: 190 | C20: 2009
A21: A Chaouachi, M Brughelli, G Levin, NBB Boudhina, J Cronin, K Chamari
A22: Journal of sports sciences 27 (2), 151-157, 2009
A23: Effect of warm-ups involving static or dynamic stretching on agility, sprinting, and jumping performance in trained individuals | B23: 186 | C23: 2010
A24: A Chaouachi, C Castagna, M Chtara, M Brughelli, O Turki, O Galy, ...
A25: The Journal of Strength & Conditioning Research 24 (8), 2001-2011, 2010
A26: Effect of concurrent endurance and circuit resistance training sequence on muscular strength and power development | B26: 184 | C26: 2008
A27: M Chtara, A Chaouachi, GT Levin, M Chaouachi, K Chamari, M Amri, ...
A28: The Journal of Strength & Conditioning Research 22 (4), 1037-1045, 2008
A29: Effects of dynamic and static stretching within general and activity specific warm-up protocols | B29: 165* | C29: 2012
A30: M Samson, DC Button, A Chaouachi, DG Behm
A31: Journal of sports science & medicine 11 (2), 279, 2012
A32: Positional role and competitive-level differences in elite-level men's basketball players | B32: 162 | C32: 2010
A33: NB Abdelkrim, A Chaouachi, K Chamari, M Chtara, C Castagna
A34: The Journal of Strength & Conditioning Research 24 (5), 1346-1355, 2010
A35: Lower limb maximal dynamic strength and agility determinants in elite basketball players | B35: 160 | C35: 2009
A36: A Chaouachi, M Brughelli, K Chamari, GT Levin, NB Abdelkrim, ...
A37: The Journal of Strength & Conditioning Research 23 (5), 1570-1577, 2009
A38: Effect of preseason concurrent muscular strength and high-intensity interval training in professional soccer players | B38: 158 | C38: 2010
A39: P Wong, A Chaouachi, K Chamari, A Dellal, U Wisloff
A40: The Journal of Strength & Conditioning Research 24 (3), 653-660, 2010
A41: Physiologic effects of directional changes in intermittent exercise in soccer players | B41: 154 | C41: 2010
A42: A Dellal, D Keller, C Carling, A Chaouachi, P Wong, K Chamari
...

Sheet F.Abroug
B1: Toutes | C1: Depuis 2014
A2: Citations | B2: 7548 | C2: 3931
A3: indice h | B3: 42 | C3: 29
A4: indice i10 | B4: 78 | C4: 61
A7: Titre | B7: Citée par | C7: Année
A8: Evolution of mechanical ventilation in response to clinical research | B8: 667 | C8: 2008
A9: A Esteban, ND Ferguson, MO Meade, F Frutos-Vivar, C Apezteguia, ...
A10: American journal of respiratory and critical care medicine 177 (2), 170-177, 2008
A11: Effects of fluid resuscitation with colloids vs crystalloids on mortality in critically ill patients presenting with hypovolemic shock: the CRISTAL randomized trial | B11: 521 | C11: 2013
A12: D Annane, S Siami, S Jaber, C Martin, S Elatrous, AD Declère, JC Preiser, ...
A13: Jama 310 (17), 1809-1817, 2013
A14: Treatment of acute hypoxemic nonhypercapnic respiratory insufficiency with continuous positive airway pressure delivered by a face mask: a randomized controlled trial | B14: 465 | C14: 2000
A15: C Delclaux, E L'Her, C Alberti, J Mancebo, F Abroug, G Conti, C Guérin, ...
A16: Jama 284 (18), 2352-2360, 2000
A17: Prevalence and factors of intensive care unit conflicts: the conflicus study | B17: 410 | C17: 2009
A18: E Azoulay, JF Timsit, CL Sprung, M Soares, K Rusinova, A Lafabrie, ...
A19: American journal of respiratory and critical care medicine 180 (9), 853-860, 2009
A20: Evolution of mortality over time in patients receiving mechanical ventilation | B20: 378 | C20: 2013
A21: A Esteban, F Frutos-Vivar, A Muriel, ND Ferguson, O Peñuelas, V Abraira, ...
A22: American journal of respiratory and critical care medicine 188 (2), 220-230, 2013
A23: Once daily oral ofloxacin in chronic obstructive pulmonary disease exacerbation requiring mechanical ventilation: a randomised placebo-controlled trial | B23: 311 | C23: 2001
A24: S Nouira, S Marghli, M Belghith, L Besbes, S Elatrous, F Abroug
A25: The Lancet 358 (9298), 2020-2025, 2001
A26: Incidence, risk factors, and outcome of ventilator-associated pneumonia | B26: 264 | C26: 2006
A27: E Tejerina, F Frutos-Vivar, MI Restrepo, A Anzueto, F Abroug, F Palizas, ...
A28: Journal of critical care 21 (1), 56-65, 2006
A29: An official ATS/ERS/ESICM/SCCM/SRLF statement: prevention and management of acute renal failure in the ICU patient: an international consensus conference in intensive care medicine | B29: 250 | C29: 2010
A30: L Brochard, F Abroug, M Brenner, AF Broccard, RL Danner, M Ferrer, ...
A31: American Journal of Respiratory and Critical Care Medicine 181 (10), 1128-1155, 2010
A32: Serotherapy in scorpion envenomation: a randomised controlled trial | B32: 201 | C32: 1999
A33: F Abroug, S ElAtrous, S Nouria, H Haguiga, N Touzi, S Bouchoucha
A34: The Lancet 354 (9182), 906-909, 1999
A35: The world's major religions' points of viewon end-of-life decisionsin the intensive care unit | B35: 193 | C35: 2008
A36: HH Bülow, CL Sprung, K Reinhart, S Prayag, B Du, A Armaganidis, ...
A37: Intensive care medicine 34 (3), 423-430, 2008
A38: Airway pressures, tidal volumes, and mortality in patients with acute respiratory distress syndrome | B38: 171 | C38: 2005
A39: ND Ferguson, F Frutos-Vivar, A Esteban, A Anzueto, I Alía, RG Brower, ...
A40: Critical care medicine 33 (1), 21-30, 2005
A41: Determinants of procedural pain intensity in the intensive care unit. The Europain® study | B41: 155 | C41: 2014
A42: KA Puntillo, A Max, JF Timsit, L Vignoud, G Chanques, G Robleda, ...
...

Sheet S.Ben Nasrallah
B1: Toutes | C1: Depuis 2014
A2: Citations | B2: 6335 | C2: 3437
A3: indice h | B3: 41 | C3: 31
A4: indice i10 | B4: 141 | C4: 106
A7: Titre | B7: Citée par | C7: Année
A8: Study of two-dimensional heat and mass transfer during absorption in a metal-hydrogen reactor | B8: 268 | C8: 1995
A9: A Jemni, SB Nasrallah
A10: International Journal of Hydrogen Energy 20 (1), 43-52, 1995
A11: Experimental and theoretical study of ametal–hydrogen reactor | B11: 233 | C11: 1999
A12: A Jemni, SB Nasrallah, J Lamloumi
A13: International Journal of Hydrogen Energy 24 (7), 631-644, 1999
A14: Detailed study of a model of heat and mass transfer during convective drying of porous media | B14: 229 | C14: 1988
A15: SB Nasrallah, P Perre
A16: International journal of heat and mass transfer 31 (5), 957-967, 1988
A17: Design and performance optimization of GPU-3 Stirling engines | B17: 149 | C17: 2008
A18: Y Timoumi, I Tlili, SB Nasrallah
A19: Energy 33 (7), 1100-1114, 2008
A20: Heat and mass transfer models in metal-hydrogen reactor | B20: 141 | C20: 1997
A21: SB Nasrallah, A Jemni
A22: International Journal of Hydrogen Energy 22 (1), 67-76, 1997
A23: Study of two-dimensional heat and mass transfer during desorption in a metal-hydrogen reactor | B23: 139 | C23: 1995
A24: A Jemni, SB Nasrallah
A25: International Journal of Hydrogen Energy 20 (11), 881-891, 1995
A26: Analysis and design consideration of mean temperature differential Stirling engine for solar application | B26: 128 | C26: 2008
A27: I Tlili, Y Timoumi, SB Nasrallah
A28: Renewable Energy 33 (8), 1911-1921, 2008
A29: Two-dimensional laminar fluid flow and heat transfer in a channel with a built-in heated square cylinder | B29: 127 | C29: 2003
A30: S Turki, H Abbassi, SB Nasrallah
A31: International journal of thermal sciences 42 (12), 1105-1113, 2003
A32: Study of two-dimensional and dynamic heat and mass transfer in a metal–hydrogen reactor | B32: 125 | C32: 2003
A33: F Askri, A Jemni, SB Nasrallah
A34: International Journal of Hydrogen Energy 28 (5), 537-557, 2003
A35: Numerical investigation of forced convection in a plane channel with a built-in triangular prism | B35: 121 | C35: 2001
A36: H Abbassi, S Turki, SB Nasrallah
A37: International Journal of Thermal Sciences 40 (7), 649-658, 2001
A38: Optimization of hydrogen storage in metal-hydride tanks | B38: 114 | C38: 2009
A39: F Askri, MB Salah, A Jemni, SB Nasrallah
A40: International journal of hydrogen Energy 34 (2), 897-905, 2009
A41: Measurement and modelling of kinetics of hydrogen sorption by LaNi5 and two related pseudobinary compounds | B41: 113 | C41: 2007
A42: H Dhaou, F Askri, MB Salah, A Jemni, SB Nasrallah, J Lamloumi
...

Sheet M.Ben Hamida
B1: Toutes | C1: Depuis 2014
A2: Citations | B2: 8620 | C2: 1572
A3: indice h | B3: 39 | C3: 17
A4: indice i10 | B4: 72 | C4: 26
A7: Titre | B7: Citée par | C7: Année
A8: International Cooperative Ataxia Rating Scale for pharmacological assessment of the cerebellar syndrome | B8: 1022 | C8: 1997
A9: P Trouillas, T Takayanagi, M Hallett, RD Currier, SH Subramony, ...
A10: Journal of the neurological sciences 145 (2), 205-211, 1997
A11: Dysferlin, a novel skeletal muscle gene, is mutated in Miyoshi myopathy and limb girdle muscular dystrophy | B11: 850 | C11: 1998
A12: J Liu, M Aoki, I Illa, C Wu, M Fardeau, C Angelini, C Serrano, ...
A13: Nature genetics 20 (1), 31, 1998
A14: The gene encoding alsin, a protein with three guanine-nucleotide exchange factor domains, is mutated in a form of recessive amyotrophic lateral sclerosis | B14: 780 | C14: 2001
A15: Y Yang, A Hentati, HX Deng, O Dabbagh, T Sasaki, M Hirano, WY Hung, ...
A16: Nature genetics 29 (2), 160, 2001
A17: Mutations in the dystrophin-associated protein γ-sarcoglycan in chromosome 13 muscular dystrophy | B17: 569 | C17: 1995
A18: S Noguchi, EM McNally, KB Othmane, Y Hagiwara, Y Mizuno, M Yoshida, ...
A19: Science 270 (5237), 819-822, 1995
A20: Ataxia with isolated vitamin E deficiency is caused by mutations in the α–tocopherol transfer protein | B20: 560 | C20: 1995
A21: K Ouahchi, M Arita, H Kayden, F Hentati, MB Hamida, R Sokol, H Arai, ...
A22: Nature genetics 9 (2), 141, 1995
A23: The gene encoding ganglioside-induced differentiation-associated protein 1 is mutated in axonal Charcot-Marie-Tooth type 4A disease | B23: 426* | C23: 2001
A24: A Cuesta, L Pedrola, T Sevilla, J García-Planells, MJ Chumillas, ...
A25: Nature genetics 30 (1), 22, 2001
A26: Localization of Friedreich ataxia phenotype with selective vitamin E deficiency to chromosome 8q by homozygosity mapping | B26: 241 | C26: 1993
A27: CB Hamida, N Doerflinger, S Belal, C Linder, L Reutenauer, C Dib, ...
A28: Nature genetics 5 (2), 195, 1993
A29: Linkage of a commoner form of recessive amyotrophic lateral sclerosis to chromosome 15q15-q22 markers | B29: 236 | C29: 1998
A30: A Hentati, K Ouahchi, MA Pericak-Vance, D Nijhawan, A Ahmad, Y Yang, ...
A31: Neurogenetics 2 (1), 55-60, 1998
A32: Linkage of recessive familial amyotrophic lateral sclerosis to chromosome 2q33–q35 | B32: 231 | C32: 1994
A33: A Hentati, K Bejaoui, MA Pericak-Vance, F Hentati, MC Speer, WY Hung, ...
A34: Nature genetics 7 (3), 425, 1994
A35: Linkage of Tunisian autosomal recessive Duchenne–like muscular dystrophy to the pericentromeric region of chromosome 13q | B35: 225 | C35: 1992
A36: KB Othmane, MB Hamida, MA Pericak-Vance, CB Hamida, S Blel, ...
A37: Nature genetics 2 (4), 315, 1992
A38: Linkage of a locus (CMT4A) for autosomal recessive Charcot-Marie-Tooth disease to chromosome 8q | B38: 217 | C38: 1993
A39: KB Othmane, F Hentatl, F Lennon, CB Hamida, S Blel, AD Roses, ...
A40: Human molecular genetics 2 (10), 1625-1628, 1993
A41: Severe childhood muscular dystrophy affecting both sexes and frequent in Tunisia | B41: 203 | C41: 1983
A42: M Ben Hamida, M Fardeau, N Attia
...

Sheet S.Boufi
B1: Toutes | C1: Depuis 2014
A2: Citations | B2: 6773 | C2: 4728
A3: indice h | B3: 44 | C3: 35
A4: indice i10 | B4: 114 | C4: 103
A7: Titre | B7: Citée par | C7: Année
