Workbook

Sheet Fragecodes
A1: Fragengruppe | B1: Fragencode | C1: Frage | E1: Fragentyp | F1: Antwortcodes
A2: Dienste FDM | B2: GQ01 | C2: In welcher Einrichtung an der Hochschule sind Sie beschäftigt? | E2: Multiple Choice | F2: GQ101 Bibliothek | G2: GQ102 Graduiertenzentrum | H2: GQ103 Institut / Fachbereich | I2: GQ104 Rechenzentrum | J2: GQ105 Servicebereich Forschung / Forschungsförderung | K2: GQ106 Spezielles Zentrum, FDM-Büro, Exzellenzinitiativen | L2: GQ107 Universitätsverwaltung
B3: DQ01 | C3: Welche Arten von FDM-Diensten werden an Ihrer Einrichtung angeboten? Es gibt Angebote zur ... | E3: Array | F3: DQ101 Einführung ins Forschungsdatenmanagement | G3: DQ102 Organisation von Forschungdaten | H3: DQ103 Dokumentation von Forschungsdaten | I3: DQ104 Analyse und Visualisierung von Forschungsdaten | J3: DQ105 Kuratierung von Forschungsdaten | K3: DQ106 (Nach-)Nutzung vorhandener und neu generierter Forschungsdaten | L3: DQ107 Archivierung | M3: DQ108 Datenpublikation | N3: DQ109 Rechtsberatung
B4: DQ02 | C4: Bieten externe Partner FDM-Dienstleistungen an Ihrer Hochschule an? | E4: Liste (Einfachantwort) | F4: Ja | G4: Nein
B5: DQ03 | C5: Welche externen Partner gibt es bzw. wie sind diese organisiert? | E5: Multiple Choice & Comment | F5: DQ301 Einrichtungen anderer Hochschulen | G5: DQ302 Regionale FDM-Verbände | H5: DQ303 Nationale FDM-Verbände | I5: DQ304 Internaionale FDM-Verbände | J5: DQ305 Dienstleister der (IT-)Wirtschaft | K5: DQ306 Andere
B6: DQ04 | C6: Welche FDM-Dienste werden extern angeboten? | E6: Comment | F6: *Freitextantwort*
B7: DQ05 | C7: Welche Informationsmaterialien stehen den Forschenden und Mitarbeitenden zu den FDM-Diensten zur Verfügung? | E7: Multiple Choice | F7: DQ501 E-Tutorials | G7: DQ502 FAQs und Schlagwortlisten | H7: DQ503 FDM-Webseite | I7: DQ504 Handouts und Leitfäden | J7: DQ505 Newsletter und Mailinglisten | K7: DQ506 Links zu externen Ressourcen | L7: DQ507 User-Dokumentation der technischen Dienste
B8: DQ06 | C8: Warum werden FDM-Dienste nicht angeboten? | E8: Ranking, Platz 1 bis 8 | F8: DQ601 Fehlendes Personal | G8: DQ602 Fehlende Zeit | H8: DQ603 Unzureichende finanzielle Mittel | I8: DQ604 Unzureichende Fachkenntnisse und Kompetenzen | J8: DQ605 Keine Nachfrage von Forschenden | K8: DQ606 Nicht Teil der Strategie und daher keine Zustimmung der Einrichtungsleitung | L8: DQ607 Fehlende technische Infrastruktur | M8: DQ608 Andere Gründe (bitte nachfolgend konkretisieren)
B9: DQ07 | C9: Optional: Welche weiteren Gründe sehen Sie für fehlende FDM-Dienste? | E9: Comment | F9: *Freitextantwort*
A10: Verantwortlichkeiten | B10: EQ01 | C10: Seit wann werden an Ihrer Hochschule FDM-Dienste angeboten? | E10: Liste (Einfachantwort) | F10: 1: < 1 Jahr | G10: 5: 1 - 5 Jahre | H10: 6: 6 - 10 Jahre | I10: 10: > 10 Jahre
B11: EQ02 | C11: Welche Einrichtung(en) innerhalb Ihrer Hochschule bieten FDM-Dienstleistungen an? | E11: Multiple Choice | F11: EQ201 Bibliothek | G11: EQ202 IT-Zentrum / Rechenzentrum | H11: EQ203 Medienzentrum | I11: EQ204 Universitätsverwaltung | J11: EQ205 Institut / Fachbereich | K11: EQ206 Servicebereich Forschung / Forschungsförderung | L11: EQ207 Graduiertenzentrum | M11: EQ208 Spezielles Zentrum, FDM-Büros, Exzellenzinitiativen
B12: EQ03 | C12: Wie werden FDM-Veranstaltungen an Ihrer Hochschule geplant? | E12: Multiple Choice | F12: EQ301 Auf Anfrage | G12: EQ302 Entsprechend den Entscheidungen und Kapazitäten der FDM-Verantwortlichen | H12: EQ303 In einem festen Rhythmus | I12: EQ304 In Verbindung mit anderen Ereignissen | J12: EQ305 Nach dem akademischen Kalender
B13: EQ04 | C13: Welche Arten der Kooperationen zwischen den FDM-dienstanbietenden Einrichtungen innerhalb Ihrer Hochschule gibt es? | E13: Multiple Choice | F13: EQ401 Regelmäßiger Austausch | G13: EQ402 Bedarfsgerechter Austausch (Ad-hoc) | H13: EQ403 Gemeinsame Organisation und Durchführung von Veranstaltungen | I13: EQ404 Kooperationen in Verbänden | J13: EQ405 Kooperationen in einer Landesinitiative | K13: EQ406 Keine Kooperation
B14: EQ05 | C14: Wovon ist die strategische Entscheidung der anzubietenden Dienstleistungen abhängig? | E14: Ranking, Platz 1 bis 7 | F14: EQ501 Bottom-Up-Antworten auf Anfragen von Forschenden | G14: EQ502 Einzelne Initiativen als Teil des FDM-Dienstleistungsauftrags | H14: EQ503 Externe Rahmenbedingungen der Forschungsförderer | I14: EQ504 Initiativen der Bundesländer | J14: EQ505 Institutionelle Top-Down-Strategie | K14: EQ506 Rechtliche Rahmenbedingungen | L14: EQ507 Andere Abhängigkeiten
B15: EQ06 | C15: Welche externen Bestimmungen hatten einen Einfluss auf angebotene FDM-Dienstleistungen Ihrer Einrichtung? | E15: Multiple Choice | F15: EQ601 Datenschutz-Grundverordnung (DSGVO) | G15: EQ602 Leitlinien zur Sicherung guter wissenschaftlicher Praxis der Forschungsförderer | H15: EQ603 Nationale oder internationale Empfehlungen | I15: EQ604 Digitalisierung institutioneller Dienste
B16: EQ07 | C16: Welchen Einfluss auf strategische Entscheidungen hat bzw. erwarten Sie von einer Richtlinie oder Policy Ihrer Institution? | E16: Likert-Skala (Einfachantwort) | F16: 1: kein Einfluss | G16: 2 | H16: 3 | I16: 4 | J16: 5: sehr starken Einfluss
B17: EQ08 | C17: Gibt es an Ihrer Hochschule eine eigene, institutionelle Richtlinie oder Policy zum Forschungsdatenmanagement? | E17: Liste (Einfachantwort) | F17: 1: Ja | G17: 2: Nein | H17: 3: Ist in der Entwicklung | I17: 4: FDM wird in einer oder mehreren anderen Richtlinien behandelt | J17: 5: Es gibt eine über-institutionelle (Förder-)Richtlinie
A18: Bewertung | B18: BQ01 | C18: Werden FDM-Angebote Ihrer Hochschule evaluiert? | E18: Liste (Einfachantwort) | F18: 0: keine Antwort | G18: 1: Ja, alle FDM-Angebote werden evaluiert | H18: 2: Ja, einige FDM-Angebote werden evaluiert | I18: 3: Nein, FDM-Angebote werden nicht evaluiert
B19: BQ02 | C19: Wann werden FDM-Angebote evaluiert? | E19: Liste (Einfachantwort) | F19: 0: keine Antwort | G19: 1: Vor der Inbetriebnahme | H19: 2: Regelmäßig während des Betriebs | I19: 3: Sowohl vor als auch regelmäßig während des Betriebs | J19: 4: Nur bei bestimmten Ereignissen
B20: BQ03 | C20: Durch wen werden die FDM-Angebote evaluiert? | E20: Multiple Choice & Comment | F20: BQ301 Alle Nutzende | G20: BQ302 Forschende | H20: BQ303 FDM-Team der Hochschule oder Einrichtung | I20: BQ304 Mitarbeitende der FDM-Dienstanbietenden Einrichtung | J20: BQ305 FDM-Mitarbeitende der Institute / Fachbereiche | K20: BQ306 IT-Mitarbeitende | L20: BQ307 Beta-Anwendende | M20: BQ308 Andere
B21: BQ04 | C21: Wie werden die FDM-Dienstleistungen Ihrer Hochschule bewertet? | E21: Multiple Choice | F21: BQ401 Zufriedenheitsumfrage bei Nutzenden | G21: BQ402 Service-Level-Vereinbarung | H21: BQ403 Strategische Kennzahlen | I21: BQ404 Fokusgruppen, verbales Feedback von Stakeholdern | J21: BQ405 Persönliche Einschätzung von Mitarbeitenden in dienstanbietenden Einrichtungen | K21: BQ406 Leistungsüberprüfung von dienstanbietenden Einrichtungen | L21: BQ407 Anwendung eines Evaluationsmodells
B22: BQ05 | C22: Wie werden Angehörige der dienstleistenden Einrichtung(en) professionell für das Forschungsdatenmanagement geschult? | E22: Multiple Choice | F22: BQ501 Externe Schulungen MIT Zertifikat | G22: BQ502 Externe Schulungen OHNE Zertifikat | H22: BQ503 Interne Schulungen MIT Zertifikat | I22: BQ504 Interne Schulung OHNE Zertifikat | J22: BQ505 Mentoring | K22: BQ506 Gar nicht
A23: Anfragen | B23: AQ01 | C23: Für wen sind die angebotenen FDM-Dienste verfügbar? | E23: Multiple Choice & Comment | F23: AQ101 Für die ganze Hochschule | G23: AQ102 Forschungsunterstützendes Personal (Mitarbeitende in Technik, Service und Verwaltung) | H23: AQ103 Postdocs und Nachwuchswissenschaftler*innen | I23: AQ104 Professor*innen und Dozent*innen | J23: AQ105 Promovierende | K23: AQ106 Studierende | L23: AQ107 Externes Forschungsunterstützendes Personal | M23: AQ108 Externe Studierende und Forschende | N23: AQ109 Offen für andere Hochschulen im gleichen Bundesland | O23: AQ110 Offen für alle | P23: AQ111 Andere Nutzer*innengruppen
B24: AQ02 | C24: Wie werden die FDM-Dienste beworben und kommuniziert? | E24: Multiple Choice & Comment | F24: AQ201 Abteilungs- oder Gruppenwebseiten | G24: AQ202 Direkter Austausch | H24: AQ203 Mailinglisten, Newsletter und Blogs | I24: AQ204 Fachpublikationen | J24: AQ205 Interne Datenbanken | K24: AQ206 Printmedien | L24: AQ207 Soziale Medien | M24: AQ208 Vorträge auf Disziplinspezifischer Konferenz | N24: AQ209 Andere Kommunikationswege
B25: AQ03 | C25: Welche Möglichkeiten der Kommunikation zwischen Nutzenden und Mitarbeitenden der Einrichtungen werden hauptsächlich genutzt? | E25: Array (Einfachantwort pro Szenario) | F25: AQ301 Anfragen für neue FDM-Dienste | G25: AQ302 Änderungswünsche bestehender Dienste | H25: AQ303 Meldung von Problemen bei bestehenden Diensten | I25: 0: keine Antwort | J25: 1: Ad-Hoc | K25: 2: Direkte Kommunikation an Einrichtungsleitung | L25: 3: Direkte Kommunikation an Mitarbeitende | M25: 4: Informelle Kommunikation | N25: 5: Hotline oder Support
B26: AQ04 | C26: Werden Anfragen zu FDM-Diensten systematisch erfasst und bearbeitet? | E26: Multiple Choice | F26: AQ401 Ja, immer | G26: AQ402 Ja, wenn neue Dienste angefragt werden | H26: AQ403 Ja, wenn Änderungswünsche kommuniziert werden | I26: AQ404 Ja, wenn Probleme gemeldet werden | J26: AQ405 Es ist geplant | K26: AQ406 Es wäre wünschenswert, ist aber (noch) nicht in Planung | L26: AQ407 Nein
B27: AQ05 | C27: Wie hoch schätzen Sie den Einfluss der Anfragen auf die Gestaltung der FDM-Dienste? | E27: Likert-Skala (Einfachantwort) | F27: 1: kein Einfluss | G27: 2 | H27: 3 | I27: 4 | J27: 5: sehr starken Einfluss
B28: AQ06 | C28: Wie hoch schätzen Sie den Einfluss der Anfragen auf die strategische Ausrichtung des Forschungsdatenmanagements? | E28: Likert-Skala (Einfachantwort) | F28: 1: kein Einfluss | G28: 2 | H28: 3 | I28: 4 | J28: 5: sehr starken Einfluss
A29: Generisch | B29: GQ02 | C29: In welchem Land sind Sie beschäftigt? | E29: Liste (Einfachantwort) | F29: 0: keine Antwort | G29: 1: Deutschland | H29: 2: Österreich | I29: 3: Schweiz
B30: GQ03 | C30: In welchem Bundesland befindet sich die Hochschule, an der Sie beschäftigt sind? | E30: Liste (Einfachantwort) | F30: 0: keine Antwort | G30: *Freitextantwort*
B31: GQ04 | C31: Haben Sie Anmerkungen oder Rückmeldungen, die Sie gerne teilen möchten? | E31: Comment | F31: *Freitextantwort*

Sheet 0 - Rohdaten
A1: id | B1: lastpage | C1: seed | D1: GQ01[GQ101] | E1: GQ01[GQ102] | F1: GQ01[GQ103] | G1: GQ01[GQ104] | H1: GQ01[GQ105] | I1: GQ01[GQ106] | J1: GQ01[GQ107] | K1: GQ01[other] | L1: DQ01[DQ101] | M1: DQ01[DQ102] | N1: DQ01[DQ103] | O1: DQ01[DQ104] | P1: DQ01[DQ105] | Q1: DQ01[DQ106] | R1: DQ01[DQ107] | S1: DQ01[DQ108] | T1: DQ01[DQ109] | U1: DQ02 | V1: DQ03[DQ301] | W1: DQ03[DQ301comment] | X1: DQ03[DQ302] | Y1: DQ03[DQ302comment] | Z1: DQ03[DQ303] | AA1: DQ03[DQ303comment] | AB1: DQ03[DQ304] | AC1: DQ03[DQ304comment] | AD1: DQ03[DQ305] | AE1: DQ03[DQ305comment] | AF1: DQ03[DQ306] | AG1: DQ03[DQ306comment] | AH1: DQ04 | AI1: DQ05[DQ501] | AJ1: DQ05[DQ502] | AK1: DQ05[DQ503] | AL1: DQ05[DQ504] | AM1: DQ05[DQ505] | AN1: DQ05[DQ506] | AO1: DQ05[DQ507] | AP1: DQ05[other] | AQ1: DQ06[DQ601] | AR1: DQ06[DQ602] | AS1: DQ06[DQ603] | AT1: DQ06[DQ604] | AU1: DQ06[DQ605] | AV1: DQ06[DQ606] | AW1: DQ06[DQ607] | AX1: DQ06[DQ608] | AY1: DQ07 | AZ1: EQ01 | BA1: EQ02[EQ201] | BB1: EQ02[EQ202] | BC1: EQ02[EQ203] | BD1: EQ02[EQ204] | BE1: EQ02[EQ205] | BF1: EQ02[EQ206] | BG1: EQ02[EQ207] | BH1: EQ02[EQ208] | BI1: EQ02[other] | BJ1: EQ03[EQ301] | BK1: EQ03[EQ302] | BL1: EQ03[EQ303] | BM1: EQ03[EQ304] | BN1: EQ03[EQ305] | BO1: EQ03[other] | BP1: EQ04[EQ401] | BQ1: EQ04[EQ402] | BR1: EQ04[EQ403] | BS1: EQ04[EQ404] | BT1: EQ04[EQ405] | BU1: EQ04[EQ406] | BV1: EQ04[other] | BW1: EQ06[EQ601] | BX1: EQ06[EQ602] | BY1: EQ06[EQ603] | BZ1: EQ06[EQ604] | CA1: EQ06[other] | CB1: EQ05[DQ501] | CC1: EQ05[DQ502] | CD1: EQ05[DQ503] | CE1: EQ05[DQ504] | CF1: EQ05[DQ505] | CG1: EQ05[DQ506] | CH1: EQ08 | CI1: EQ07 | CJ1: BQ01 | CK1: BQ02 | CL1: BQ03[BQ301] | CM1: BQ03[BQ301comment] | CN1: BQ03[BQ302] | CO1: BQ03[BQ302comment] | CP1: BQ03[BQ303] | CQ1: BQ03[BQ303comment] | CR1: BQ03[BQ304] | CS1: BQ03[BQ304comment] | CT1: BQ03[BQ305] | CU1: BQ03[BQ305comment] | CV1: BQ03[BQ306] | CW1: BQ03[BQ306comment] | CX1: BQ03[BQ307] | CY1: BQ03[BQ307comment] | CZ1: BQ03[BQ308] | DA1: BQ03[BQ308comment] | DB1: BQ04[BQ401] | DC1: BQ04[BQ402] | DD1: BQ04[BQ403] | DE1: BQ04[BQ404] | DF1: BQ04[BQ405] | DG1: BQ04[BQ406] | DH1: BQ04[BQ407] | DI1: BQ04[other] | DJ1: BQ05[BQ501] | DK1: BQ05[BQ502] | DL1: BQ05[BQ503] | DM1: BQ05[BQ504] | DN1: BQ05[BQ505] | DO1: BQ05[BQ506] | DP1: BQ05[other] | DQ1: AQ01[AQ101] | DR1: AQ01[AQ102] | DS1: AQ01[AQ103] | DT1: AQ01[AQ104] | DU1: AQ01[AQ105] | DV1: AQ01[AQ106] | DW1: AQ01[AQ107] | DX1: AQ01[AQ108] | DY1: AQ01[AQ109] | DZ1: AQ01[AQ110] | EA1: AQ01[AQ111] | EB1: AQ01[AQ111comment] | EC1: AQ02[AQ201] | ED1: AQ02[AQ202] | EE1: AQ02[AQ203] | EF1: AQ02[AQ204] | EG1: AQ02[AQ205] | EH1: AQ02[AQ206] | EI1: AQ02[AQ207] | EJ1: AQ02[AQ208] | EK1: AQ02[AQ209] | EL1: AQ02[AQ209comment] | EM1: AQ03[AQ301] | EN1: AQ03[AQ302] | EO1: AQ03[AQ303] | EP1: AQ04[AQ401] | EQ1: AQ04[AQ402] | ER1: AQ04[AQ403] | ES1: AQ04[AQ404] | ET1: AQ04[AQ405] | EU1: AQ04[AQ406] | EV1: AQ04[AQ407] | EW1: AQ05 | EX1: AQ06 | EY1: GQ02 | EZ1: GQ03 | FA1: GQ04
A2: 10 | B2: 5 | C2: 1037977275 | D2: Ja | E2: Nein | F2: Nein | G2: Nein | H2: Nein | I2: Ja | J2: Nein | L2: Beratung oder Schulung | M2: Beratung oder Schulung | N2: Dienstangebot | O2: Noch nicht geplant | P2: Dienstangebot | Q2: Beratung oder Schulung | R2: In Planung | S2: Dienstangebot | T2: Beratung oder Schulung | U2: Nein | V2: N/A | X2: N/A | Z2: N/A | AB2: N/A | AD2: N/A | AF2: N/A | AI2: Nein | AJ2: Ja | AK2: Ja | AL2: Nein | AM2: Ja | AN2: Ja | AO2: Ja | AQ2: 2 | AR2: 1 | AS2: 5 | AT2: 7 | AU2: 4 | AZ2: 5 | BA2: Ja | BB2: Ja | BC2: Nein | BD2: Nein | BE2: Nein | BF2: Nein | BG2: Nein | BH2: Ja | BJ2: Ja | BK2: Ja | BL2: Nein | BM2: Nein | BN2: Ja | BP2: Ja | BQ2: Nein | BR2: Ja | BS2: Nein | BT2: Ja | BU2: Nein | BW2: Ja | BX2: Ja | BY2: Ja | BZ2: Ja | CB2: 1 | CC2: 3 | CD2: 6 | CH2: 1 | CI2: 3 | CJ2: 2 | CK2: 4 | CL2: Nein | CN2: Nein | CP2: Ja | CR2: Nein | CT2: Nein | CV2: Nein | CX2: Nein | CZ2: Nein | DB2: Nein | DC2: Nein | DD2: Nein | DE2: Nein | DF2: Ja | DG2: Nein | DH2: Ja | DJ2: Nein | DK2: Ja | DL2: Nein | DM2: Nein | DN2: Nein | DO2: Nein | DQ2: Ja | DR2: Nein | DS2: Ja | DT2: Ja | DU2: Ja | DV2: Ja | DW2: Nein | DX2: Ja | DY2: Nein | DZ2: Nein | EA2: Ja | EB2: Projektpartner der Forschenden weltweit | EC2: Ja | ED2: Ja | EE2: Ja | EF2: Ja | EG2: Nein | EH2: Ja | EI2: Nein | EJ2: Ja | EK2: Nein | EM2: 1 | EN2: 1 | EO2: 5 | EP2: Nein | EQ2: Nein | ER2: Nein | ES2: Ja | ET2: Nein | EU2: Nein | EV2: Nein | EW2: 4 | EX2: 4 | EY2: 1 | EZ2: Baden-Württemberg
A3: 11 | B3: 5 | C3: 1636709128 | D3: Ja | E3: Nein | F3: Nein | G3: Nein | H3: Nein | I3: Nein | J3: Nein | L3: Beratung oder Schulung | M3: Dienstangebot | N3: Beratung oder Schulung | O3: Noch nicht geplant | P3: Dienstangebot | Q3: Beratung oder Schulung | R3: Dienstangebot | S3: Dienstangebot | T3: Beratung oder Schulung | U3: Nein | V3: N/A | X3: N/A | Z3: N/A | AB3: N/A | AD3: N/A | AF3: N/A | AI3: Ja | AJ3: Nein | AK3: Ja | AL3: Nein | AM3: Nein | AN3: Ja | AO3: Nein | AQ3: 5 | AZ3: 5 | BA3: Ja | BB3: Ja | BC3: Nein | BD3: Nein | BE3: Nein | BF3: Nein | BG3: Nein | BH3: Nein | BI3: Kommunikations- und Informationszentrum (Bibliothek, IT, Medien) | BJ3: Ja | BK3: Ja | BL3: Nein | BM3: Ja | BN3: Ja | BP3: Nein | BQ3: Ja | BR3: Nein | BS3: Nein | BT3: Nein | BU3: Nein | BW3: Ja | BX3: Ja | BY3: Ja | BZ3: Ja | CB3: 3 | CC3: 2 | CD3: 1 | CH3: 3 | CI3: 2 | CJ3: 1 | CK3: 2 | CL3: Nein | CN3: Nein | CP3: Nein | CR3: Nein | CT3: Nein | CV3: Nein | CX3: Nein | CZ3: Ja | DA3: Service-Owner | DB3: Nein | DC3: Nein | DD3: Ja | DE3: Nein | DF3: Nein | DG3: Nein | DH3: Nein | DJ3: Ja | DK3: Ja | DL3: Nein | DM3: Ja | DN3: Ja | DO3: Nein | DQ3: Ja | DR3: Ja | DS3: Ja | DT3: Ja | DU3: Ja | DV3: Ja | DW3: Nein | DX3: Nein | DY3: Nein | DZ3: Nein | EA3: Ja | EB3: Projektpartner | EC3: Nein | ED3: Nein | EE3: Ja | EF3: Nein | EG3: Nein | EH3: Ja | EI3: Ja | EJ3: Ja | EK3: Nein | EM3: 0 | EN3: 0 | EO3: 0 | EP3: Ja | EQ3: Nein | ER3: Nein | ES3: Nein | ET3: Nein | EU3: Nein | EV3: Nein | EW3: 4 | EX3: 3 | EY3: 1 | EZ3: Baden-Württemberg
A4: 12 | B4: 4 | C4: 1657377983 | D4: Nein | E4: Nein | F4: Nein | G4: Nein | H4: Nein | I4: Ja | J4: Nein | L4: Dienstangebot | M4: Beratung oder Schulung | N4: Beratung oder Schulung | O4: Kein Angebot | P4: Kein Angebot | Q4: Beratung oder Schulung | R4: Beratung oder Schulung | S4: Beratung oder Schulung | T4: Beratung oder Schulung | U4: Nein | V4: N/A | X4: N/A | Z4: N/A | AB4: N/A | AD4: N/A | AF4: N/A | AI4: Nein | AJ4: Nein | AK4: Ja | AL4: Ja | AM4: Ja | AN4: Ja | AO4: Ja | AQ4: 6 | AR4: 2 | AS4: 1 | BA4: Nein | BB4: Nein | BC4: Nein | BD4: Nein | BE4: Nein | BF4: Nein | BG4: Nein | BH4: Nein | BJ4: Nein | BK4: Nein | BL4: Nein | BM4: Nein | BN4: Nein | BP4: Nein | BQ4: Nein | BR4: Nein | BS4: Nein | BT4: Nein | BU4: Nein | BW4: Nein | BX4: Nein | BY4: Nein | BZ4: Nein | CJ4: 0 | CK4: 0 | CL4: Nein | CN4: Nein | CP4: Nein | CR4: Nein | CT4: Nein | CV4: Nein | CX4: Nein | CZ4: Nein | DB4: Nein | DC4: Nein | DD4: Nein | DE4: Nein | DF4: Nein | DG4: Nein | DH4: Nein | DJ4: Nein | DK4: Nein | DL4: Nein | DM4: Nein | DN4: Nein | DO4: Nein | DQ4: Nein | DR4: Nein | DS4: Nein | DT4: Nein | DU4: Nein | DV4: Nein | DW4: Nein | DX4: Nein | DY4: Nein | DZ4: Nein | EA4: Nein | EC4: Nein | ED4: Nein | EE4: Nein | EF4: Nein | EG4: Nein | EH4: Nein | EI4: Nein | EJ4: Nein | EK4: Nein | EM4: 0 | EN4: 0 | EO4: 0 | EP4: Nein | EQ4: Nein | ER4: Nein | ES4: Nein | ET4: Nein | EU4: Nein | EV4: Nein | EY4: 0 | EZ4: 0
A5: 14 | B5: 5 | C5: 558653614 | D5: Nein | E5: Nein | F5: Nein | G5: Nein | H5: Nein | I5: Ja | J5: Nein | L5: Dienstangebot | M5: Beratung oder Schulung | N5: Beratung oder Schulung | O5: Noch nicht geplant | P5: Beratung oder Schulung | Q5: Beratung oder Schulung | R5: Beratung oder Schulung | S5: Beratung oder Schulung | T5: Beratung oder Schulung | U5: Nein | V5: N/A | X5: N/A | Z5: N/A | AB5: N/A | AD5: N/A | AF5: N/A | AI5: Nein | AJ5: Nein | AK5: Ja | AL5: Nein | AM5: Nein | AN5: Nein | AO5: Nein | AQ5: 6 | AZ5: 6 | BA5: Ja | BB5: Ja | BC5: Nein | BD5: Nein | BE5: Ja | BF5: Nein | BG5: Nein | BH5: Ja | BJ5: Ja | BK5: Nein | BL5: Ja | BM5: Nein | BN5: Ja | BP5: Ja | BQ5: Nein | BR5: Ja | BS5: Ja | BT5: Ja | BU5: Nein | BW5: Ja | BX5: Ja | BY5: Ja | BZ5: Nein | CH5: 1 | CI5: 3 | CJ5: 2 | CK5: 4 | CL5: Ja | CN5: Nein | CP5: Nein | CR5: Nein | CT5: Nein | CV5: Nein | CX5: Nein | CZ5: Ja | DA5: Experten bei Zertifizierungsprozessen | DB5: Ja | DC5: Nein | DD5: Nein | DE5: Nein | DF5: Nein | DG5: Nein | DH5: Nein | DJ5: Nein | DK5: Ja | DL5: Nein | DM5: Ja | DN5: Ja | DO5: Nein | DQ5: Nein | DR5: Nein | DS5: Nein | DT5: Nein | DU5: Nein | DV5: Nein | DW5: Nein | DX5: Nein | DY5: Nein | DZ5: Nein | EA5: Ja | EB5: Angehörige der Fakultät | EC5: Ja | ED5: Ja | EE5: Nein | EF5: Nein | EG5: Nein | EH5: Nein | EI5: Ja | EJ5: Ja | EK5: Nein | EM5: 1 | EN5: 3 | EO5: 1 | EP5: Ja | EQ5: Nein | ER5: Nein | ES5: Nein | ET5: Nein | EU5: Nein | EV5: Nein | EW5: 4 | EX5: 2 | EY5: 1 | EZ5: Nordrhein Westfalen
A6: 15 | B6: 5 | C6: 1058701001 | D6: Nein | E6: Nein | F6: Nein | G6: Ja | H6: Nein | I6: Nein | J6: Nein | L6: Dienstangebot | M6: In Planung | N6: In Planung | O6: In Planung | P6: In Planung | Q6: In Planung | R6: In Planung | S6: In Planung | T6: In Planung | U6: Nein | V6: N/A | X6: N/A | Z6: N/A | AB6: N/A | AD6: N/A | AF6: N/A | AI6: Nein | AJ6: Nein | AK6: Ja | AL6: Nein | AM6: Nein | AN6: Ja | AO6: Nein | AQ6: 1 | AR6: 2 | AS6: 3 | AZ6: 6 | BA6: Ja | BB6: Ja | BC6: Nein | BD6: Nein | BE6: Nein | BF6: Nein | BG6: Nein | BH6: Ja | BJ6: Ja | BK6: Ja | BL6: Ja | BM6: Nein | BN6: Nein | BP6: Ja | BQ6: Ja | BR6: Ja | BS6: Ja | BT6: Nein | BU6: Nein | BW6: Ja | BX6: Ja | BY6: Nein | BZ6: Nein | CB6: 3 | CC6: 6 | CD6: 4 | CE6: 5 | CF6: 1 | CG6: 2 | CH6: 1 | CI6: 1 | CJ6: 2 | CK6: 2 | CL6: Nein | CN6: Nein | CP6: Ja | CR6: Nein | CT6: Nein | CV6: Nein | CX6: Nein | CZ6: Nein | DB6: Ja | DC6: Nein | DD6: Ja | DE6: Ja | DF6: Nein | DG6: Nein | DH6: Nein | DJ6: Nein | DK6: Nein | DL6: Nein | DM6: Ja | DN6: Ja | DO6: Nein | DQ6: Ja | DR6: Nein | DS6: Nein | DT6: Nein | DU6: Nein | DV6: Nein | DW6: Nein | DX6: Nein | DY6: Nein | DZ6: Nein | EA6: Nein | EC6: Ja | ED6: Ja | EE6: Nein | EF6: Nein | EG6: Nein | EH6: Nein | EI6: Nein | EJ6: Nein | EK6: Nein | EM6: 3 | EN6: 3 | EO6: 3 | EP6: Nein | EQ6: Nein | ER6: Nein | ES6: Nein | ET6: Nein | EU6: Ja | EV6: Nein | EW6: 5 | EX6: 5 | EY6: 1 | EZ6: Schleswig-Holstein
A7: 18 | B7: 5 | C7: 311941437 | D7: Ja | E7: Nein | F7: Nein | G7: Ja | H7: Nein | I7: Ja | J7: Nein | L7: Beratung oder Schulung | M7: In Planung | N7: In Planung | O7: Noch nicht geplant | P7: In Planung | Q7: Beratung oder Schulung | R7: Beratung oder Schulung | S7: Dienstangebot | T7: In Planung | U7: Nein | V7: N/A | X7: N/A | Z7: N/A | AB7: N/A | AD7: N/A | AF7: N/A | AI7: Nein | AJ7: Ja | AK7: Ja | AL7: Ja | AM7: Nein | AN7: Ja | AO7: Ja | AQ7: 1 | AR7: 3 | AS7: 2 | AT7: 6 | AU7: 4 | AV7: 8 | AW7: 7 | AX7: 5 | AZ7: 5 | BA7: Ja | BB7: Ja | BC7: Nein | BD7: Nein | BE7: Nein | BF7: Nein | BG7: Ja | BH7: Ja | BJ7: Ja | BK7: Ja | BL7: Nein | BM7: Ja | BN7: Ja | BP7: Ja | BQ7: Ja | BR7: Ja | BS7: Nein | BT7: Nein | BU7: Nein | BW7: Ja | BX7: Ja | BY7: Ja | BZ7: Nein | CB7: 5 | CC7: 3 | CD7: 2 | CH7: 3 | CI7: 4 | CJ7: 3 | CK7: 0 | CL7: N/A | CN7: N/A | CP7: N/A | CR7: N/A | CT7: N/A | CV7: N/A | CX7: N/A | CZ7: N/A | DB7: Ja | DC7: Nein | DD7: Nein | DE7: Ja | DF7: Ja | DG7: Nein | DH7: Nein | DJ7: Nein | DK7: Ja | DL7: Nein | DM7: Ja | DN7: Nein | DO7: Ja | DQ7: Ja | DR7: Nein | DS7: Nein | DT7: Nein | DU7: Nein | DV7: Nein | DW7: Nein | DX7: Nein | DY7: Nein | DZ7: Nein | EA7: Nein | EC7: Ja | ED7: Ja | EE7: Nein | EF7: Ja | EG7: Nein | EH7: Nein | EI7: Nein | EJ7: Ja | EK7: Nein | EM7: 2 | EN7: 2 | EO7: 3 | EP7: Nein | EQ7: Nein | ER7: Nein | ES7: Nein | ET7: Ja | EU7: Nein | EV7: Nein | EW7: 1 | EX7: 1 | EY7: 1 | EZ7: Baden-Württemberg
A8: 20 | B8: 5 | C8: 1979760959 | D8: Nein | E8: Nein | F8: Nein | G8: Nein | H8: Nein | I8: Ja | J8: Nein | L8: Beratung oder Schulung | M8: Dienstangebot | N8: Beratung oder Schulung | O8: In Planung | P8: Beratung oder Schulung | Q8: Beratung oder Schulung | R8: Dienstangebot | S8: Dienstangebot | T8: Beratung oder Schulung | U8: Nein | V8: N/A | X8: N/A | Z8: N/A | AB8: N/A | AD8: N/A | AF8: N/A | AI8: Nein | AJ8: Ja | AK8: Ja | AL8: Ja | AM8: Nein | AN8: Ja | AO8: Ja | AQ8: 1 | AZ8: 5 | BA8: Nein | BB8: Nein | BC8: Nein | BD8: Nein | BE8: Nein | BF8: Nein | BG8: Nein | BH8: Ja | BJ8: Ja | BK8: Ja | BL8: Nein | BM8: Nein | BN8: Nein | BP8: Nein | BQ8: Ja | BR8: Nein | BS8: Nein | BT8: Ja | BU8: Nein | BW8: Ja | BX8: Ja | BY8: Ja | BZ8: Nein | CB8: 5 | CC8: 1 | CH8: 4 | CI8: 2 | CJ8: 2 | CK8: 3 | CL8: Nein | CN8: Ja | CO8: ausgewählte Forschende | CP8: Ja | CR8: Nein | CT8: Nein | CV8: Nein | CX8: Nein | CZ8: Nein | DB8: Ja | DC8: Nein | DD8: Nein | DE8: Ja | DF8: Ja | DG8: Nein | DH8: Nein | DJ8: Nein | DK8: Ja | DL8: Nein | DM8: Nein | DN8: Nein | DO8: Nein | DQ8: Ja | DR8: Nein | DS8: Ja | DT8: Ja | DU8: Ja | DV8: Nein | DW8: Nein | DX8: Nein | DY8: Nein | DZ8: Nein | EA8: Nein | EC8: Ja | ED8: Ja | EE8: Ja | EF8: Nein | EG8: Nein | EH8: Ja | EI8: Nein | EJ8: Nein | EK8: Nein | EM8: 3 | EN8: 3 | EO8: 3 | EP8: Ja | EQ8: Nein | ER8: Nein | ES8: Nein | ET8: Nein | EU8: Nein | EV8: Nein | EW8: 4 | EX8: 3 | EY8: 1 | EZ8: Hamburg
A9: 21 | B9: 5 | C9: 148638111 | D9: Ja | E9: Nein | F9: Nein | G9: Nein | H9: Nein | I9: Nein | J9: Nein | L9: Beratung oder Schulung | M9: Dienstangebot | N9: Beratung oder Schulung | O9: In Planung | P9: In Planung | Q9: Beratung oder Schulung | R9: Beratung oder Schulung | S9: Dienstangebot | T9: Beratung oder Schulung | U9: Nein | V9: N/A | X9: N/A | Z9: N/A | AB9: N/A | AD9: N/A | AF9: N/A | AI9: Nein | AJ9: Ja | AK9: Ja | AL9: Ja | AM9: Ja | AN9: Ja | AO9: Ja | AZ9: 5 | BA9: Ja | BB9: Ja | BC9: Nein | BD9: Nein | BE9: Nein | BF9: Nein | BG9: Nein | BH9: Nein | BJ9: Nein | BK9: Nein | BL9: Ja | BM9: Ja | BN9: Ja | BP9: Nein | BQ9: Ja | BR9: Nein | BS9: Nein | BT9: Nein | BU9: Nein | BW9: Nein | BX9: Ja | BY9: Ja | BZ9: Ja | CB9: 2 | CC9: 3 | CD9: 1 | CE9: 6 | CF9: 5 | CG9: 4 | CH9: 1 | CI9: 4 | CJ9: 3 | CK9: 0 | CL9: N/A | CN9: N/A | CP9: N/A | CR9: N/A | CT9: N/A | CV9: N/A | CX9: N/A | CZ9: N/A | DB9: Ja | DC9: Nein | DD9: Nein | DE9: Ja | DF9: Nein | DG9: Nein | DH9: Ja | DJ9: Nein | DK9: Nein | DL9: Nein | DM9: Ja | DN9: Nein | DO9: Nein | DP9: Zertifikatsausstellung bei Nachfrage | DQ9: Ja | DR9: Nein | DS9: Nein | DT9: Nein | DU9: Nein | DV9: Nein | DW9: Nein | DX9: Nein | DY9: Nein | DZ9: Nein | EA9: Nein | EC9: Nein | ED9: Ja | EE9: Ja | EF9: Nein | EG9: Nein | EH9: Nein | EI9: Nein | EJ9: Nein | EK9: Nein | EM9: 5 | EN9: 3 | EO9: 3 | EP9: Nein | EQ9: Nein | ER9: Ja | ES9: Ja | ET9: Nein | EU9: Nein | EV9: Nein | EW9: 4 | EX9: 2 | EY9: 1 | EZ9: Niedersachsen
A10: 23 | B10: 1 | C10: 1022401630 | D10: Nein | E10: Nein | F10: Nein | G10: Nein | H10: Ja | I10: Nein | J10: Nein | L10: In Planung | M10: Noch nicht geplant | N10: In Planung | O10: In Planung | P10: Noch nicht geplant | Q10: In Planung | R10: In Planung | S10: In Planung | T10: Noch nicht geplant | U10: Nein | V10: N/A | X10: N/A | Z10: N/A | AB10: N/A | AD10: N/A | AF10: N/A | AI10: Nein | AJ10: Nein | AK10: Nein | AL10: Nein | AM10: Ja | AN10: Ja | AO10: Nein | AQ10: 1 | AR10: 3 | AS10: 7 | AY10: keine weiteren als die oben genannten Gründe; wir haben uns aber in einem regionalen Netzwerk zusammen geschlossen, um am Know-How und perspektivisch am Service von Partneruniversitäten partizipieren zu können. | BA10: N/A | BB10: N/A | BC10: N/A | BD10: N/A | BE10: N/A | BF10: N/A | BG10: N/A | BH10: N/A | BJ10: N/A | BK10: N/A | BL10: N/A | BM10: N/A | BN10: N/A | BP10: N/A | BQ10: N/A | BR10: N/A | BS10: N/A | BT10: N/A | BU10: N/A | BW10: N/A | BX10: N/A | BY10: N/A | BZ10: N/A | CJ10: 0 | CK10: 0 | CL10: N/A | CN10: N/A | CP10: N/A | CR10: N/A | CT10: N/A | CV10: N/A | CX10: N/A | CZ10: N/A | DB10: N/A | DC10: N/A | DD10: N/A | DE10: N/A | DF10: N/A | DG10: N/A | DH10: N/A | DJ10: N/A | DK10: N/A | DL10: N/A | DM10: N/A | DN10: N/A | DO10: N/A | DQ10: N/A | DR10: N/A | DS10: N/A | DT10: N/A | DU10: N/A | DV10: N/A | DW10: N/A | DX10: N/A | DY10: N/A | DZ10: N/A | EA10: N/A | EC10: N/A | ED10: N/A | EE10: N/A | EF10: N/A | EG10: N/A | EH10: N/A | EI10: N/A | EJ10: N/A | EK10: N/A | EM10: 0 | EN10: 0 | EO10: 0 | EP10: N/A | EQ10: N/A | ER10: N/A | ES10: N/A | ET10: N/A | EU10: N/A | EV10: N/A | EY10: 0 | EZ10: 0
A11: 25 | B11: 5 | C11: 841840369 | D11: Ja | E11: Nein | F11: Nein | G11: Nein | H11: Nein | I11: Nein | J11: Nein | L11: Beratung oder Schulung | N11: Dienstangebot | O11: Beratung oder Schulung | P11: Dienstangebot | Q11: Dienstangebot | R11: In Planung | S11: Dienstangebot | V11: N/A | X11: N/A | Z11: N/A | AB11: N/A | AD11: N/A | AF11: N/A | AI11: Nein | AJ11: Ja | AK11: Ja | AL11: Nein | AM11: Ja | AN11: Nein | AO11: Nein | BA11: Ja | BB11: Ja | BC11: Nein | BD11: Nein | BE11: Ja | BF11: Nein | BG11: Nein | BH11: Ja | BJ11: Nein | BK11: Ja | BL11: Nein | BM11: Ja | BN11: Nein | BP11: Ja | BQ11: Nein | BR11: Ja | BS11: Nein | BT11: Nein | BU11: Nein | BW11: Nein | BX11: Ja | BY11: Ja | BZ11: Nein | CJ11: 0 | CK11: 0 | CL11: Nein | CN11: Nein | CP11: Nein | CR11: Nein | CT11: Nein | CV11: Nein | CX11: Nein | CZ11: Nein | DB11: Nein | DC11: Nein | DD11: Nein | DE11: Nein | DF11: Nein | DG11: Nein | DH11: Nein | DJ11: Nein | DK11: Nein | DL11: Nein | DM11: Nein | DN11: Nein | DO11: Ja | DQ11: Ja | DR11: Nein | DS11: Ja | DT11: Ja | DU11: Ja | DV11: Ja | DW11: Ja | DX11: Nein | DY11: Nein | DZ11: Nein | EA11: Nein | EC11: Nein | ED11: Ja | EE11: Ja | EF11: Nein | EG11: Nein | EH11: Nein | EI11: Nein | EJ11: Ja | EK11: Nein | EM11: 0 | EN11: 0 | EO11: 0 | EP11: Ja | EQ11: Ja | ER11: Ja | ES11: Ja | ET11: Nein | EU11: Nein | EV11: Nein | EY11: 1 | EZ11: Baden-Württemberg
A12: 27 | B12: 5 | C12: 1331083349 | D12: Ja | E12: Nein | F12: Nein | G12: Nein | H12: Nein | I12: Nein | J12: Nein | L12: Beratung oder Schulung | M12: Dienstangebot | N12: Noch nicht geplant | O12: Beratung oder Schulung | P12: Dienstangebot | Q12: Dienstangebot | R12: Dienstangebot | S12: Dienstangebot | T12: Beratung oder Schulung | U12: Nein | V12: N/A | X12: N/A | Z12: N/A | AB12: N/A | AD12: N/A | AF12: N/A | AI12: Ja | AJ12: Ja | AK12: Ja | AL12: Ja | AM12: Ja | AN12: Ja | AO12: Ja | AP12: Kontakt, Beteiligung an NFDI Konsortien und ERIC: DARIAH | AQ12: 3 | AR12: 1 | AS12: 7 | AY12: Diziplinäre Ausrichtung, FDM muss eine Balance zwischen fachspez. Beratung und generischen Angeboten finden. Aktuell sind wir nicht spezifisch genug - und gehen damit oft an den Bedürfnissen vorbei - Spezifik kostet aber Geld und Personal. | AZ12: 6 | BA12: Ja | BB12: Ja | BC12: Nein | BD12: Nein | BE12: Nein | BF12: Nein | BG12: Nein | BH12: Ja | BI12: Überregionale Konsortien wie NFDI und DARIAH, CLARIAH | BJ12: Ja | BK12: Ja | BL12: Ja | BM12: Ja | BN12: Nein | BO12: Im Partner-Netzwerk | BP12: Nein | BQ12: Ja | BR12: Ja | BS12: Ja | BT12: Nein | BU12: Nein | BW12: Ja | BX12: Ja | BY12: Ja | BZ12: Ja | CA12: EOSC, ERICs | CB12: 3 | CC12: 1 | CH12: 1 | CI12: 3 | CJ12: 2 | CK12: 3 | CL12: Ja | CM12: Monitoring der Dienste und Webseiten | CN12: Ja | CO12: durch Befragungsaktionen | CP12: Ja | CQ12: Selbst-Assessment | CR12: Nein | CT12: Nein | CV12: Ja | CW12: Service Life Cycle | CX12: Nein | CZ12: Ja | DA12: Externe Gutachter bei Drittmittelanwerbung | DB12: Ja | DC12: Nein | DD12: Ja | DE12: Nein | DF12: Nein | DG12: Ja | DH12: Nein | DJ12: Nein | DK12: Nein | DL12: Nein | DM12: Ja | DN12: Ja | DO12: Nein | DQ12: Ja | DR12: Nein | DS12: Nein | DT12: Nein | DU12: Nein | DV12: Nein | DW12: Nein | DX12: Nein | DY12: Nein | DZ12: Ja | EA12: Ja | EB12: z.T. im Kontext des ERICs DARIAH auf europäischer Ebene, nur teilweise | EC12: Nein | ED12: Ja | EE12: Ja | EF12: Ja | EG12: Ja | EH12: Ja | EI12: Ja | EJ12: Ja | EK12: Nein | EM12: 1 | EN12: 3 | EO12: 5 | EP12: Ja | EQ12: Nein | ER12: Nein | ES12: Nein | ET12: Nein | EU12: Nein | EV12: Nein | EW12: 5 | EX12: 4 | EY12: 1 | EZ12: Niedersachsen
A13: 34 | B13: 5 | C13: 162279579 | D13: Ja | E13: Nein | F13: Nein | G13: Nein | H13: Nein | I13: Nein | J13: Nein | L13: Beratung oder Schulung | M13: Kein Angebot | N13: Kein Angebot | O13: Kein Angebot | P13: Kein Angebot | Q13: Kein Angebot | R13: Kein Angebot | S13: Kein Angebot | T13: Kein Angebot | U13: Nein | V13: N/A | X13: N/A | Z13: N/A | AB13: N/A | AD13: N/A | AF13: N/A | AI13: Ja | AJ13: Nein | AK13: Ja | AL13: Nein | AM13: Nein | AN13: Ja | AO13: Nein | AQ13: 1 | AR13: 2 | AS13: 5 | AZ13: 6 | BA13: Ja | BB13: Nein | BC13: Nein | BD13: Nein | BE13: Nein | BF13: Nein | BG13: Nein | BH13: Nein | BJ13: Ja | BK13: Nein | BL13: Nein | BM13: Nein | BN13: Nein | BP13: Nein | BQ13: Nein | BR13: Nein | BS13: Nein | BT13: Nein | BU13: Ja | BW13: Nein | BX13: Ja | BY13: Nein | BZ13: Nein | CB13: 1 | CH13: 3 | CI13: 4 | CJ13: 3 | CK13: 0 | CL13: N/A | CN13: N/A | CP13: N/A | CR13: N/A | CT13: N/A | CV13: N/A | CX13: N/A | CZ13: N/A | DB13: Nein | DC13: Nein | DD13: Nein | DE13: Nein | DF13: Ja | DG13: Nein | DH13: Nein | DJ13: Nein | DK13: Ja | DL13: Nein | DM13: Nein | DN13: Nein | DO13: Nein | DQ13: Ja | DR13: Nein | DS13: Nein | DT13: Nein | DU13: Nein | DV13: Nein | DW13: Nein | DX13: Nein | DY13: Nein | DZ13: Ja | EA13: Nein | EC13: Nein | ED13: Ja | EE13: Nein | EF13: Nein | EG13: Nein | EH13: Ja | EI13: Nein | EJ13: Nein | EK13: Nein | EM13: 2 | EN13: 2 | EO13: 3 | EP13: Nein | EQ13: Nein | ER13: Nein | ES13: Nein | ET13: Nein | EU13: Nein | EV13: Ja | EW13: 5 | EX13: 5 | EY13: 1 | EZ13: Bayern
A14: 35 | B14: 5 | C14: 870732017 | D14: Nein | E14: Nein | F14: Ja | G14: Nein | H14: Nein | I14: Nein | J14: Nein | L14: Beratung oder Schulung | M14: Beratung oder Schulung | V14: N/A | X14: N/A | Z14: N/A | AB14: N/A | AD14: N/A | AF14: N/A | AI14: Nein | AJ14: Nein | AK14: Nein | AL14: Ja | AM14: Nein | AN14: Ja | AO14: Nein | AQ14: 8 | AY14: Unsere Fachhochschule vereint einerseits Richtungen wie Pflege, die eigene, fachspezifische FDM-Strukturen bereits kennen und anwenden, andererseits Fachbereiche wie Theater und Musik, für die FDM noch ein neues Thema ist. | AZ14: 1 | BA14: Nein | BB14: Nein | BC14: Nein | BD14: Nein | BE14: Nein | BF14: Ja | BG14: Nein | BH14: Nein | BJ14: Nein | BK14: Ja | BL14: Nein | BM14: Nein | BN14: Nein | BP14: Nein | BQ14: Ja | BR14: Nein | BS14: Nein | BT14: Nein | BU14: Nein | BW14: Nein | BX14: Ja | BY14: Ja | BZ14: Nein | CB14: 3 | CC14: 6 | CD14: 5 | CH14: 5 | CI14: 4 | CJ14: 0 | CK14: 0 | CL14: Nein | CN14: Nein | CP14: Nein | CR14: Nein | CT14: Nein | CV14: Nein | CX14: Nein | CZ14: Nein | DB14: Nein | DC14: Nein | DD14: Nein | DE14: Nein | DF14: Nein | DG14: Nein | DH14: Nein | DJ14: Nein | DK14: Nein | DL14: Nein | DM14: Nein | DN14: Ja | DO14: Nein | DQ14: Nein | DR14: Ja | DS14: Ja | DT14: Ja | DU14: Nein | DV14: Nein | DW14: Nein | DX14: Nein | DY14: Nein | DZ14: Nein | EA14: Nein | EC14: Nein | ED14: Ja | EE14: Ja | EF14: Nein | EG14: Nein | EH14: Nein | EI14: Nein | EJ14: Nein | EK14: Nein | EM14: 0 | EN14: 0 | EO14: 0 | EP14: Nein | EQ14: Nein | ER14: Nein | ES14: Nein | ET14: Nein | EU14: Ja | EV14: Nein | EW14: 3 | EX14: 2 | EY14: 3 | EZ14: 0
A15: 36 | B15: 5 | C15: 1103865131 | D15: Ja | E15: Nein | F15: Nein | G15: Nein | H15: Nein | I15: Nein | J15: Nein | L15: Beratung oder Schulung | M15: Beratung oder Schulung | N15: Beratung oder Schulung | O15: Kein Angebot | P15: Kein Angebot | Q15: Beratung oder Schulung | R15: Dienstangebot | S15: Dienstangebot | T15: Beratung oder Schulung | U15: Nein | V15: N/A | X15: N/A | Z15: N/A | AB15: N/A | AD15: N/A | AF15: N/A | AI15: Nein | AJ15: Nein | AK15: Ja | AL15: Ja | AM15: Nein | AN15: Nein | AO15: Nein | AQ15: 4 | AR15: 7 | AS15: 5 | AT15: 1 | AU15: 3 | AZ15: 5 | BA15: Ja | BB15: Ja | BC15: Nein | BD15: Nein | BE15: Nein | BF15: Nein | BG15: Nein | BH15: Nein | BJ15: Ja | BK15: Nein | BL15: Ja | BM15: Nein | BN15: Nein | BP15: Ja | BQ15: Nein | BR15: Nein | BS15: Nein | BT15: Nein | BU15: Nein | BW15: Nein | BX15: Ja | BY15: Ja | BZ15: Ja | CB15: 1 | CC15: 3 | CD15: 2 | CH15: 1 | CI15: 4 | CJ15: 2 | CK15: 2 | CL15: Ja | CN15: Nein | CP15: Nein | CR15: Nein | CT15: Nein | CV15: Nein | CX15: Nein | CZ15: Nein | DB15: Ja | DC15: Nein | DD15: Nein | DE15: Nein | DF15: Nein | DG15: Nein | DH15: Nein | DJ15: Nein | DK15: Nein | DL15: Nein | DM15: Nein | DN15: Ja | DO15: Ja | DQ15: Ja | DR15: Nein | DS15: Nein | DT15: Nein | DU15: Nein | DV15: Nein | DW15: Nein | DX15: Nein | DY15: Nein | DZ15: Nein | EA15: Nein | EC15: Nein | ED15: Ja | EE15: Ja | EF15: Nein | EG15: Nein | EH15: Nein | EI15: Ja | EJ15: Nein | EK15: Nein | EM15: 5 | EN15: 3 | EO15: 3 | EP15: Nein | EQ15: Nein | ER15: Nein | ES15: Nein | ET15: Nein | EU15: Ja | EV15: Nein | EW15: 5 | EX15: 4 | EY15: 1 | EZ15: Niedersachsen
A16: 38 | B16: 5 | C16: 1526928340 | D16: Ja | E16: Nein | F16: Nein | G16: Nein | H16: Nein | I16: Nein | J16: Nein | L16: Dienstangebot | M16: Beratung oder Schulung | N16: Beratung oder Schulung | O16: Dienstangebot | P16: Beratung oder Schulung | Q16: Dienstangebot | R16: Dienstangebot | S16: Dienstangebot | T16: Beratung oder Schulung | U16: Nein | V16: N/A | X16: N/A | Z16: N/A | AB16: N/A | AD16: N/A | AF16: N/A | AI16: Ja | AJ16: Ja | AK16: Ja | AL16: Ja | AM16: Nein | AN16: Ja | AO16: Nein | AQ16: 3 | AR16: 1 | AS16: 4 | AT16: 5 | AU16: 7 | AY16: Lange Prozesse (meist beginnend mit einer Bedarfserhebung) mit Hinblick auf die Einigung auf bestimmte Dienste (z. B. welches ELN angeboten werden soll); vll. ist das Forschungsdatenreferat auch noch nicht so prominent, dass tatsächlich von Forschenden Bedarfe herangetragen werden | AZ16: 5 | BA16: Ja | BB16: Nein | BC16: Nein | BD16: Nein | BE16: Nein | BF16: Nein | BG16: Nein | BH16: Nein | BJ16: Ja | BK16: Nein | BL16: Nein | BM16: Ja | BN16: Nein | BP16: Ja | BQ16: Ja | BR16: Nein | BS16: Nein | BT16: Ja | BU16: Nein | BW16: Nein | BX16: Ja | BY16: Ja | BZ16: Nein | CB16: 3 | CC16: 6 | CD16: 4 | CE16: 1 | CH16: 1 | CI16: 2 | CJ16: 3 | CK16: 0 | CL16: N/A | CN16: N/A | CP16: N/A | CR16: N/A | CT16: N/A | CV16: N/A | CX16: N/A | CZ16: N/A | DB16: Ja | DC16: Nein | DD16: Nein | DE16: Ja | DF16: Ja | DG16: Nein | DH16: Nein | DJ16: Nein | DK16: Nein | DL16: Nein | DM16: Ja | DN16: Nein | DO16: Nein | DQ16: Ja | DR16: Ja | DS16: Ja | DT16: Ja | DU16: Ja | DV16: Ja | DW16: Nein | DX16: Nein | DY16: Ja | DZ16: Nein | EA16: Nein | EC16: Ja | ED16: Ja | EE16: Nein | EF16: Nein | EG16: Nein | EH16: Ja | EI16: Ja | EJ16: Nein | EK16: Nein | EM16: 1 | EN16: 5 | EO16: 5 | EP16: Nein | EQ16: Nein | ER16: Ja | ES16: Ja | ET16: Nein | EU16: Nein | EV16: Nein | EW16: 4 | EX16: 4 | EY16: 1 | EZ16: Hessen
A17: 40 | B17: 4 | C17: 402621011 | D17: Ja | E17: Nein | F17: Nein | G17: Nein | H17: Nein | I17: Nein | J17: Nein | L17: Beratung oder Schulung | M17: Dienstangebot | N17: Beratung oder Schulung | O17: Noch nicht geplant | P17: Dienstangebot | Q17: Beratung oder Schulung | R17: Dienstangebot | S17: Dienstangebot | T17: Beratung oder Schulung | U17: Nein | V17: N/A | X17: N/A | Z17: N/A | AB17: N/A | AD17: N/A | AF17: N/A | AI17: Ja | AJ17: Nein | AK17: Ja | AL17: Nein | AM17: Nein | AN17: Ja | AO17: Nein | AQ17: 5 | BA17: Ja | BB17: Ja | BC17: Nein | BD17: Nein | BE17: Nein | BF17: Nein | BG17: Nein | BH17: Nein | BJ17: Nein | BK17: Ja | BL17: Nein | BM17: Ja | BN17: Ja | BP17: Nein | BQ17: Ja | BR17: Nein | BS17: Nein | BT17: Nein | BU17: Nein | BW17: Ja | BX17: Ja | BY17: Ja | BZ17: Nein | CJ17: 0 | CK17: 0 | CL17: Nein | CN17: Nein | CP17: Nein | CR17: Nein | CT17: Nein | CV17: Nein | CX17: Nein | CZ17: Nein | DB17: Nein | DC17: Nein | DD17: Nein | DE17: Nein | DF17: Nein | DG17: Nein | DH17: Nein | DJ17: Nein | DK17: Nein | DL17: Nein | DM17: Nein | DN17: Nein | DO17: Nein | DQ17: Nein | DR17: Nein | DS17: Nein | DT17: Nein | DU17: Nein | DV17: Nein | DW17: Nein | DX17: Nein | DY17: Nein | DZ17: Nein | EA17: Nein | EC17: Nein | ED17: Nein | EE17: Nein | EF17: Nein | EG17: Nein | EH17: Nein | EI17: Nein | EJ17: Nein | EK17: Nein | EM17: 0 | EN17: 0 | EO17: 0 | EP17: Nein | EQ17: Nein | ER17: Nein | ES17: Nein | ET17: Nein | EU17: Nein | EV17: Nein | EY17: 0 | EZ17: 0
A18: 41 | B18: 5 | C18: 873886053 | D18: Nein | E18: Nein | F18: Nein | G18: Nein | H18: Nein | I18: Ja | J18: Nein | L18: Dienstangebot | M18: Beratung oder Schulung | N18: Beratung oder Schulung | O18: Dienstangebot | P18: Dienstangebot | Q18: Beratung oder Schulung | R18: Beratung oder Schulung | S18: Dienstangebot | T18: Beratung oder Schulung | U18: Ja | V18: Ja | W18: Bereitstellung von Softwarediensten | X18: Ja | Y18: Rechenzentrumsalliance der Hochschulen v.a. für Cloud-Speicher und HPC | Z18: Ja | AA18: Archivierungsinfrastruktur | AB18: Ja | AC18: Publikationsplattformen | AD18: Ja | AE18: spezielle Software-Dienstleistungen | AF18: Nein | AH18: Software-Bereitstellung, Beratung, Schulung | AI18: Ja | AJ18: Ja | AK18: Ja | AL18: Ja | AM18: Nein | AN18: Ja | AO18: Ja | AQ18: 3 | AR18: 1 | AS18: 2 | AT18: 7 | AU18: 4 | AV18: 5 | AW18: 6 | AZ18: 6 | BA18: Ja | BB18: Ja | BC18: Ja | BD18: Nein | BE18: Nein | BF18: Nein | BG18: Nein | BH18: Ja | BI18: zentrale wissenschaftliche Einrichtungen | BJ18: Ja | BK18: Ja | BL18: Nein | BM18: Nein | BN18: Nein | BP18: Ja | BQ18: Ja | BR18: Ja | BS18: Nein | BT18: Nein | BU18: Nein | BW18: Ja | BX18: Ja | BY18: Ja | BZ18: Ja | CA18: Förderbedingungen der Nachhaltigkeit von Projektergebnissen | CB18: 1 | CC18: 2 | CD18: 5 | CE18: 3 | CF18: 7 | CH18: 1 | CI18: 2 | CJ18: 2 | CK18: 3 | CL18: Nein | CN18: Ja | CP18: Ja | CR18: Ja | CT18: Nein | CV18: Ja | CX18: Ja | CZ18: Nein | DB18: Ja | DC18: Ja | DD18: Nein | DE18: Ja | DF18: Ja | DG18: Nein | DH18: Nein | DJ18: Nein | DK18: Ja | DL18: Nein | DM18: Ja | DN18: Ja | DO18: Ja | DQ18: Ja | DR18: Ja | DS18: Ja | DT18: Ja | DU18: Ja | DV18: Nein | DW18: Ja | DX18: Ja | DY18: Ja | DZ18: Ja | EA18: Nein | EC18: Ja | ED18: Ja | EE18: Ja | EF18: Ja | EG18: Nein | EH18: Nein | EI18: Ja | EJ18: Ja | EK18: Nein | EM18: 3 | EN18: 1 | EO18: 1 | EP18: Ja | EQ18: Nein | ER18: Nein | ES18: Nein | ET18: Nein | EU18: Nein | EV18: Nein | EW18: 3 | EX18: 2 | EY18: 1 | EZ18: Rheinland-Pfalz
A19: 42 | B19: 5 | C19: 503797165 | D19: Nein | E19: Nein | F19: Nein | G19: Nein | H19: Ja | I19: Ja | J19: Nein | L19: In Planung | M19: Beratung oder Schulung | N19: Dienstangebot | O19: Noch nicht geplant | P19: In Planung | Q19: In Planung | R19: In Planung | S19: Kein Angebot | T19: Kein Angebot | U19: Nein | V19: N/A | X19: N/A | Z19: N/A | AB19: N/A | AD19: N/A | AF19: N/A | AI19: Nein | AJ19: Ja | AK19: Ja | AL19: Ja | AM19: Nein | AN19: Ja | AO19: Ja | AQ19: 5 | AR19: 6 | AS19: 2 | AT19: 3 | AU19: 1 | AV19: 4 | AW19: 7 | AZ19: 5 | BA19: Ja | BB19: Ja | BC19: Nein | BD19: Nein | BE19: Nein | BF19: Ja | BG19: Nein | BH19: Ja | BJ19: Ja | BK19: Ja | BL19: Nein | BM19: Nein | BN19: Nein | BP19: Ja | BQ19: Ja | BR19: Ja | BS19: Nein | BT19: Nein | BU19: Nein | BW19: Ja | BX19: Ja | BY19: Ja | BZ19: Ja | CB19: 3 | CC19: 1 | CD19: 5 | CE19: 6 | CF19: 2 | CG19: 7 | CH19: 1 | CI19: 1 | CJ19: 3 | CK19: 0 | CL19: N/A | CN19: N/A | CP19: N/A | CR19: N/A | CT19: N/A | CV19: N/A | CX19: N/A | CZ19: N/A | DB19: Nein | DC19: Nein | DD19: Nein | DE19: Nein | DF19: Ja | DG19: Nein | DH19: Nein | DJ19: Nein | DK19: Ja | DL19: Nein | DM19: Ja | DN19: Nein | DO19: Nein | DQ19: Ja | DR19: Nein | DS19: Nein | DT19: Nein | DU19: Nein | DV19: Nein | DW19: Ja | DX19: Nein | DY19: Nein | DZ19: Nein | EA19: Ja | EB19: Fakultätsspezifische Angebote (primär Forschende, weniger Studierende) | EC19: Ja | ED19: Ja | EE19: Nein | EF19: Nein | EG19: Nein | EH19: Nein | EI19: Nein | EJ19: Nein | EK19: Nein | EM19: 5 | EN19: 1 | EO19: 5 | EP19: Ja | EQ19: Nein | ER19: Nein | ES19: Nein | ET19: Nein | EU19: Nein | EV19: Nein | EW19: 4 | EX19: 3 | EY19: 1 | EZ19: Niedersachsen
A20: 45 | B20: 5 | C20: 1717747045 | D20: Ja | E20: Nein | F20: Nein | G20: Nein | H20: Nein | I20: Ja | J20: Nein | L20: Dienstangebot | M20: Beratung oder Schulung | N20: Beratung oder Schulung | O20: Beratung oder Schulung | P20: Dienstangebot | Q20: Dienstangebot | R20: In Planung | S20: Dienstangebot | T20: Beratung oder Schulung | U20: Nein | V20: N/A | X20: N/A | Z20: N/A | AB20: N/A | AD20: N/A | AF20: N/A | AI20: Nein | AJ20: Ja | AK20: Ja | AL20: Ja | AM20: Ja | AN20: Ja | AO20: Nein | AQ20: 1 | AR20: 2 | AS20: 3 | AT20: 4 | AU20: 6 | AV20: 7 | AW20: 5 | AY20: keine Dauerstellen, bisher nur (kleine) Stellenanteile bestehender Stellen; | AZ20: 6 | BA20: Ja | BB20: Ja | BC20: Nein | BD20: Nein | BE20: Nein | BF20: Nein | BG20: Nein | BH20: Ja | BJ20: Ja | BK20: Ja | BL20: Ja | BM20: Nein | BN20: Nein | BP20: Ja | BQ20: Ja | BR20: Ja | BS20: Nein | BT20: Ja | BU20: Nein | BW20: Ja | BX20: Ja | BY20: Ja | BZ20: Ja | CB20: 1 | CC20: 5 | CD20: 3 | CE20: 4 | CF20: 2 | CG20: 6 | CH20: 1 | CI20: 2 | CJ20: 3 | CK20: 0 | CL20: N/A | CN20: N/A | CP20: N/A | CR20: N/A | CT20: N/A | CV20: N/A | CX20: N/A | CZ20: N/A | DB20: Ja | DC20: Nein | DD20: Nein | DE20: Ja | DF20: Ja | DG20: Nein | DH20: Nein | DJ20: Nein | DK20: Ja | DL20: Nein | DM20: Ja | DN20: Ja | DO20: Nein | DQ20: Ja | DR20: Ja | DS20: Ja | DT20: Ja | DU20: Ja | DV20: Nein | DW20: Ja | DX20: Ja | DY20: Nein | DZ20: Nein | EA20: Nein | EC20: Ja | ED20: Ja | EE20: Ja | EF20: Ja | EG20: Nein | EH20: Ja | EI20: Ja | EJ20: Ja | EK20: Nein | EM20: 1 | EN20: 3 | EO20: 3 | EP20: Nein | EQ20: Nein | ER20: Nein | ES20: Nein | ET20: Nein | EU20: Ja | EV20: Nein | EW20: 4 | EX20: 5 | EY20: 1 | EZ20: Baden-Württemberg
A21: 48 | B21: 5 | C21: 1429567836 | D21: Ja | E21: Nein | F21: Nein | G21: Nein | H21: Nein | I21: Nein | J21: Nein | L21: Dienstangebot | M21: Dienstangebot | N21: Beratung oder Schulung | O21: In Planung | P21: Beratung oder Schulung | Q21: Beratung oder Schulung | R21: Noch nicht geplant | S21: Beratung oder Schulung | T21: In Planung | U21: Nein | V21: N/A | X21: N/A | Z21: N/A | AB21: N/A | AD21: N/A | AF21: N/A | AI21: Nein | AJ21: Nein | AK21: Ja | AL21: Ja | AM21: Ja | AN21: Ja | AO21: Nein | AQ21: 1 | AR21: 3 | AS21: 2 | AT21: 7 | AZ21: 5 | BA21: Ja | BB21: Nein | BC21: Nein | BD21: Nein | BE21: Nein | BF21: Ja | BG21: Ja | BH21: Nein | BJ21: Ja | BK21: Nein | BL21: Ja | BM21: Ja | BN21: Ja | BP21: Ja | BQ21: Nein | BR21: Ja | BS21: Nein | BT21: Ja | BU21: Nein | BW21: Ja | BX21: Ja | BY21: Ja | BZ21: Nein | CB21: 3 | CC21: 5 | CD21: 4 | CE21: 6 | CF21: 1 | CH21: 1 | CI21: 5 | CJ21: 2 | CK21: 2 | CL21: Nein | CN21: Ja | CO21: während der Workshops (Beobachtung) und danach (Umfrage) | CP21: Ja | CQ21: regelmäßige Treffen und Berichterstattung | CR21: Nein | CT21: Nein | CV21: Nein | CX21: Nein | CZ21: Nein | DB21: Ja | DC21: Nein | DD21: Nein | DE21: Nein | DF21: Ja | DG21: Nein | DH21: Nein | DJ21: Nein | DK21: Ja | DL21: Nein | DM21: Nein | DN21: Nein | DO21: Nein | DQ21: Ja | DR21: Nein | DS21: Nein | DT21: Nein | DU21: Nein | DV21: Nein | DW21: Nein | DX21: Nein | DY21: Nein | DZ21: Nein | EA21: Nein | EC21: Ja | ED21: Ja | EE21: Ja | EF21: Nein | EG21: Nein | EH21: Ja | EI21: Ja | EJ21: Nein | EK21: Nein | EM21: 0 | EN21: 0 | EO21: 0 | EP21: Ja | EQ21: Nein | ER21: Nein | ES21: Nein | ET21: Nein | EU21: Nein | EV21: Nein | EW21: 4 | EX21: 3 | EY21: 1 | EZ21: Thüringen | FA21: Ein paar Fragen haben zu genaue/spezielle Antworten bzw. Abstufugen, als das man sie so beantworten könnte. Die Antworten müssten mehr aufgeteilt werden mit Folgeantworten, im Sinne: Wenn A zutrifft, gibt es Aa, Ab, Ac, ansonsten wenn B zutrifft, gibt es Ba, Bb, Bc...
A22: 49 | B22: 5 | C22: 1896335103 | D22: Ja | E22: Nein | F22: Nein | G22: Nein | H22: Nein | I22: Nein | J22: Nein | L22: Beratung oder Schulung | M22: Beratung oder Schulung | N22: Beratung oder Schulung | O22: Kein Angebot | P22: Kein Angebot | Q22: Beratung oder Schulung | R22: Beratung oder Schulung | S22: Beratung oder Schulung | T22: Kein Angebot | U22: Nein | V22: N/A | X22: N/A | Z22: N/A | AB22: N/A | AD22: N/A | AF22: N/A | AI22: Nein | AJ22: Nein | AK22: Ja | AL22: Ja | AM22: Nein | AN22: Ja | AO22: Nein | AQ22: 2 | AR22: 1 | AS22: 3 | AT22: 7 | AU22: 5 | AZ22: 5 | BA22: Ja | BB22: Nein | BC22: Nein | BD22: Nein | BE22: Nein | BF22: Nein | BG22: Nein | BH22: Nein | BJ22: Ja | BK22: Ja | BL22: Nein | BM22: Nein | BN22: Ja | BP22: Ja | BQ22: Ja | BR22: Nein | BS22: Nein | BT22: Ja | BU22: Nein | BW22: Nein | BX22: Ja | BY22: Ja | BZ22: Nein | CB22: 4 | CC22: 5 | CD22: 3 | CE22: 1 | CH22: 1 | CI22: 2 | CJ22: 2 | CK22: 2 | CL22: Ja | CN22: Nein | CP22: Ja | CR22: Nein | CT22: Nein | CV22: Nein | CX22: Nein | CZ22: Nein | DB22: Ja | DC22: Nein | DD22: Ja | DE22: Nein | DF22: Nein | DG22: Nein | DH22: Nein | DJ22: Nein | DK22: Ja | DL22: Nein | DM22: Nein | DN22: Nein | DO22: Nein | DQ22: Ja | DR22: Nein | DS22: Nein | DT22: Nein | DU22: Nein | DV22: Nein | DW22: Nein | DX22: Nein | DY22: Ja | DZ22: Nein | EA22: Nein | EC22: Ja | ED22: Nein | EE22: Ja | EF22: Nein | EG22: Nein | EH22: Nein | EI22: Nein | EJ22: Nein | EK22: Nein | EM22: 4 | EN22: 4 | EO22: 3 | EP22: Ja | EQ22: Nein | ER22: Nein | ES22: Nein | ET22: Nein | EU22: Nein | EV22: Nein | EW22: 3 | EX22: 2 | EY22: 1 | EZ22: Thüringen
A23: 50 | B23: 5 | C23: 1451488408 | D23: Ja | E23: Nein | F23: Nein | G23: Ja | H23: Nein | I23: Ja | J23: Nein | L23: Beratung oder Schulung | M23: Dienstangebot | N23: Beratung oder Schulung | O23: Noch nicht geplant | P23: Beratung oder Schulung | Q23: Beratung oder Schulung | R23: Beratung oder Schulung | S23: Beratung oder Schulung | T23: In Planung | U23: Nein | V23: N/A | X23: N/A | Z23: N/A | AB23: N/A | AD23: N/A | AF23: N/A | AI23: Nein | AJ23: Nein | AK23: Ja | AL23: Ja | AM23: Ja | AN23: Ja | AO23: Ja | AQ23: 6 | AR23: 1 | AS23: 2 | AZ23: 5 | BA23: Ja | BB23: Ja | BC23: Nein | BD23: Nein | BE23: Nein | BF23: Nein | BG23: Nein | BH23: Ja | BJ23: Ja | BK23: Ja | BL23: Ja | BM23: Ja | BN23: Ja | BP23: Nein | BQ23: Ja | BR23: Ja | BS23: Nein | BT23: Ja | BU23: Nein | BW23: Ja | BX23: Ja | BY23: Ja | BZ23: Ja | CB23: 1 | CC23: 4 | CD23: 3 | CH23: 1 | CI23: 5 | CJ23: 1 | CK23: 3 | CL23: Nein | CN23: Nein | CP23: Ja | CR23: Ja | CT23: Ja | CV23: Ja | CX23: Ja | CZ23: Nein | DB23: Ja | DC23: Ja | DD23: Nein | DE23: Ja | DF23: Ja | DG23: Nein | DH23: Ja | DJ23: Nein | DK23: Ja | DL23: Nein | DM23: Ja | DN23: Nein | DO23: Nein | DQ23: Ja | DR23: Ja | DS23: Ja | DT23: Ja | DU23: Ja | DV23: Ja | DW23: Ja | DX23: Ja | DY23: Ja | DZ23: Ja | EA23: Nein | EC23: Ja | ED23: Ja | EE23: Ja | EF23: Ja | EG23: Nein | EH23: Ja | EI23: Nein | EJ23: Ja | EK23: Nein | EM23: 1 | EN23: 1 | EO23: 5 | EP23: Ja | EQ23: Nein | ER23: Nein | ES23: Nein | ET23: Nein | EU23: Nein | EV23: Nein | EW23: 3 | EX23: 3 | EY23: 1 | EZ23: Brandenburg
A24: 53 | B24: 5 | C24: 1214403871 | D24: Nein | E24: Nein | F24: Nein | G24: Nein | H24: Nein | I24: Ja | J24: Nein | L24: Beratung oder Schulung | M24: Dienstangebot | N24: Beratung oder Schulung | O24: Noch nicht geplant | P24: Dienstangebot | Q24: Dienstangebot | R24: Dienstangebot | S24: Dienstangebot | T24: Kein Angebot | U24: Nein | V24: N/A | X24: N/A | Z24: N/A | AB24: N/A | AD24: N/A | AF24: N/A | AI24: Ja | AJ24: Ja | AK24: Ja | AL24: Ja | AM24: Nein | AN24: Ja | AO24: Ja | AQ24: 4 | AR24: 1 | AZ24: 6 | BA24: Nein | BB24: Ja | BC24: Ja | BD24: Nein | BE24: Nein | BF24: Nein | BG24: Nein | BH24: Ja | BJ24: Ja | BK24: Ja | BL24: Ja | BM24: Ja | BN24: Nein | BP24: Ja | BQ24: Nein | BR24: Ja | BS24: Ja | BT24: Ja | BU24: Nein | BW24: Ja | BX24: Ja | BY24: Ja | BZ24: Ja | CB24: 1 | CC24: 2 | CD24: 3 | CH24: 1 | CI24: 2 | CJ24: 2 | CK24: 2 | CL24: Ja | CN24: Nein | CP24: Nein | CR24: Nein | CT24: Nein | CV24: Ja | CX24: Nein | CZ24: Nein | DB24: Ja | DC24: Nein | DD24: Ja | DE24: Ja | DF24: Ja | DG24: Nein | DH24: Ja | DJ24: Nein | DK24: Ja | DL24: Ja | DM24: Ja | DN24: Nein | DO24: Nein | DQ24: Ja | DR24: Nein | DS24: Nein | DT24: Nein | DU24: Nein | DV24: Nein | DW24: Nein | DX24: Nein | DY24: Nein | DZ24: Nein | EA24: Ja | EB24: z.T. Forschende anderer Hochschulen (international/eduGAIN) | EC24: Ja | ED24: Ja | EE24: Nein | EF24: Ja | EG24: Nein | EH24: Ja | EI24: Ja | EJ24: Ja | EK24: Nein | EM24: 1 | EN24: 1 | EO24: 5 | EP24: Ja | EQ24: Nein | ER24: Nein | ES24: Nein | ET24: Nein | EU24: Nein | EV24: Nein | EW24: 4 | EX24: 4 | EY24: 1 | EZ24: Hamburg
A25: 54 | B25: 5 | C25: 1206597244 | D25: Ja | E25: Nein | F25: Nein | G25: Nein | H25: Nein | I25: Nein | J25: Nein | L25: Beratung oder Schulung | M25: Dienstangebot | N25: Kein Angebot | O25: Kein Angebot | P25: Beratung oder Schulung | Q25: Kein Angebot | R25: Dienstangebot | S25: Dienstangebot | T25: Noch nicht geplant | V25: N/A | X25: N/A | Z25: N/A | AB25: N/A | AD25: N/A | AF25: N/A | AI25: Ja | AJ25: Ja | AK25: Ja | AL25: Nein | AM25: Nein | AN25: Ja | AO25: Ja | AQ25: 1 | AR25: 2 | AS25: 4 | AT25: 3 | AU25: 5 | AZ25: 5 | BA25: Ja | BB25: Ja | BC25: Nein | BD25: Nein | BE25: Nein | BF25: Nein | BG25: Nein | BH25: Nein | BJ25: Ja | BK25: Nein | BL25: Ja | BM25: Nein | BN25: Nein | BP25: Nein | BQ25: Ja | BR25: Nein | BS25: Nein | BT25: Ja | BU25: Nein | BW25: Ja | BX25: Ja | BY25: Ja | BZ25: Nein | CB25: 4 | CC25: 1 | CD25: 5 | CE25: 6 | CF25: 3 | CH25: 1 | CI25: 4 | CJ25: 2 | CK25: 4 | CL25: Nein | CN25: Nein | CP25: Nein | CR25: Nein | CT25: Nein | CV25: Nein | CX25: Ja | CY25: z.Z. werden nur unsere Schulungen evaluiert | CZ25: Nein | DB25: Ja | DC25: Nein | DD25: Nein | DE25: Nein | DF25: Nein | DG25: Nein | DH25: Nein | DJ25: Nein | DK25: Ja | DL25: Nein | DM25: Nein | DN25: Nein | DO25: Nein | DP25: durch Teilnahme am Verbundprojekt | DQ25: Ja | DR25: Nein | DS25: Nein | DT25: Nein | DU25: Nein | DV25: Nein | DW25: Nein | DX25: Nein | DY25: Nein | DZ25: Nein | EA25: Nein | EC25: Ja | ED25: Nein | EE25: Ja | EF25: Nein | EG25: Nein | EH25: Ja | EI25: Nein | EJ25: Nein | EK25: Nein | EM25: 5 | EN25: 5 | EO25: 5 | EP25: Nein | EQ25: Nein | ER25: Nein | ES25: Nein | ET25: Ja | EU25: Nein | EV25: Nein | EW25: 4 | EX25: 3 | EY25: 1 | EZ25: 0
A26: 55 | B26: 5 | C26: 2018991831 | D26: Nein | E26: Nein | F26: Nein | G26: Ja | H26: Nein | I26: Nein | J26: Nein | L26: Beratung oder Schulung | M26: Dienstangebot | N26: Beratung oder Schulung | O26: Kein Angebot | P26: Beratung oder Schulung | Q26: Beratung oder Schulung | R26: Dienstangebot | S26: In Planung | T26: Noch nicht geplant | U26: Nein | V26: N/A | X26: N/A | Z26: N/A | AB26: N/A | AD26: N/A | AF26: N/A | AI26: Nein | AJ26: Nein | AK26: Ja | AL26: Ja | AM26: Nein | AN26: Nein | AO26: Nein | AQ26: 6 | AR26: 3 | AS26: 5 | AT26: 1 | AY26: Es fehlt auf Seiten der Universität ein grundlegendes Commitment, das Management von Forschungsdaten als Element der Gedächtnisorganisation anzuerkennen. Auf Seiten den Forschenden wird in datengetriebenen Wissenschaftsfeldern FDM (oft in Eigenregie) praktiziert, die meisten Forschenden sehen dies als individuelle Aufgabe oder sehen sich selbst als solche, die das nicht betrifft. | AZ26: 5 | BA26: Ja | BB26: Ja | BC26: Nein | BD26: Nein | BE26: Ja | BF26: Ja | BG26: Ja | BH26: Nein | BJ26: Ja | BK26: Ja | BL26: Nein | BM26: Nein | BN26: Nein | BO26: Interne Weiterbildung | BP26: Nein | BQ26: Ja | BR26: Nein | BS26: Nein | BT26: Ja | BU26: Nein | BW26: Ja | BX26: Ja | BY26: Nein | BZ26: Ja | CB26: 2 | CC26: 3 | CD26: 1 | CE26: 6 | CH26: 1 | CI26: 3 | CJ26: 3 | CK26: 0 | CL26: N/A | CN26: N/A | CP26: N/A | CR26: N/A | CT26: N/A | CV26: N/A | CX26: N/A | CZ26: N/A | DB26: Nein | DC26: Nein | DD26: Nein | DE26: Ja | DF26: Ja | DG26: Nein | DH26: Nein | DJ26: Nein | DK26: Nein | DL26: Ja | DM26: Nein | DN26: Ja | DO26: Nein | DQ26: Ja | DR26: Nein | DS26: Nein | DT26: Nein | DU26: Nein | DV26: Nein | DW26: Nein | DX26: Nein | DY26: Nein | DZ26: Nein | EA26: Nein | EC26: Nein | ED26: Ja | EE26: Ja | EF26: Ja | EG26: Nein | EH26: Nein | EI26: Nein | EJ26: Nein | EK26: Nein | EM26: 3 | EN26: 3 | EO26: 4 | EP26: Ja | EQ26: Nein | ER26: Nein | ES26: Nein | ET26: Nein | EU26: Nein | EV26: Nein | EW26: 4 | EX26: 2 | EY26: 1 | EZ26: Baden-Württemberg
A27: 57 | B27: 5 | C27: 320882985 | D27: Ja | E27: Nein | F27: Nein | G27: Nein | H27: Nein | I27: Nein | J27: Nein | L27: Beratung oder Schulung | M27: Dienstangebot | N27: In Planung | O27: Kein Angebot | P27: Dienstangebot | Q27: Beratung oder Schulung | R27: Dienstangebot | S27: Beratung oder Schulung | T27: Beratung oder Schulung | U27: Nein | V27: N/A | X27: N/A | Z27: N/A | AB27: N/A | AD27: N/A | AF27: N/A | AI27: Nein | AJ27: Nein | AK27: Ja | AL27: Ja | AM27: Ja | AN27: Ja | AO27: Nein | AQ27: 6 | AR27: 7 | AS27: 5 | AT27: 4 | AU27: 2 | AV27: 1 | AW27: 3 | AY27: Schlechte organisationsübergreifende inneruniversitäre Kommunikation, keine klare Struktur hinsichtlich Strategie und Governance, fehlende Kompetenz an der Bibliothek | AZ27: 5 | BA27: Ja | BB27: Nein | BC27: Nein | BD27: Nein | BE27: Nein | BF27: Nein | BG27: Nein | BH27: Nein | BJ27: Ja | BK27: Ja | BL27: Nein | BM27: Nein | BN27: Ja | BP27: Nein | BQ27: Ja | BR27: Nein | BS27: Nein | BT27: Nein | BU27: Ja | BW27: Ja | BX27: Ja | BY27: Nein | BZ27: Ja | CB27: 5 | CC27: 2 | CD27: 1 | CE27: 3 | CH27: 3 | CI27: 4 | CJ27: 3 | CK27: 0 | CL27: N/A | CN27: N/A | CP27: N/A | CR27: N/A | CT27: N/A | CV27: N/A | CX27: N/A | CZ27: N/A | DB27: Nein | DC27: Nein | DD27: Nein | DE27: Nein | DF27: Ja | DG27: Nein | DH27: Nein | DJ27: Nein | DK27: Nein | DL27: Nein | DM27: Ja | DN27: Nein | DO27: Nein | DQ27: Nein | DR27: Ja | DS27: Ja | DT27: Ja | DU27: Ja | DV27: Nein | DW27: Nein | DX27: Nein | DY27: Nein | DZ27: Nein | EA27: Nein | EC27: Ja | ED27: Ja | EE27: Ja | EF27: Nein | EG27: Nein | EH27: Nein | EI27: Nein | EJ27: Nein | EK27: Nein | EM27: 1 | EN27: 1 | EO27: 0 | EP27: Nein | EQ27: Nein | ER27: Nein | ES27: Nein | ET27: Nein | EU27: Ja | EV27: Nein | EW27: 2 | EX27: 3 | EY27: 1 | EZ27: Niedersachsen | FA27: Es wäre schön, wenn nicht jede Einrichtung alles mit Schulungen flutet, sondern es zentrale Angebote, am besten fachspezifischer Natur gibt. Des Weiteren ist gerade an vielen Bibliotheken wenig bis gar kein Wissen bzgl. Projekt- und damit auch FD-Management vorhanden (bis auf die üblichen Player). Deshalb müssten eigentlich Aktivitäten gebündelt werden. Die NFDI ist Ausdruck dieser Erkenntnis. An den Hochschulen ist das allerdings nicht angekommen. Viele Services sind redundant.
A28: 58 | B28: 5 | C28: 571604986 | D28: Nein | E28: Nein | F28: Ja | G28: Nein | H28: Nein | I28: Nein | J28: Nein | L28: Beratung oder Schulung | M28: Beratung oder Schulung | N28: Beratung oder Schulung | O28: Beratung oder Schulung | P28: Kein Angebot | Q28: Kein Angebot | R28: Kein Angebot | S28: Beratung oder Schulung | T28: Kein Angebot | U28: Nein | V28: N/A | X28: N/A | Z28: N/A | AB28: N/A | AD28: N/A | AF28: N/A | AI28: Ja | AJ28: Ja | AK28: Ja | AL28: Ja | AM28: Nein | AN28: Nein | AO28: Nein | AQ28: 1 | AR28: 3 | AS28: 2 | AT28: 5 | AZ28: 6 | BA28: Ja | BB28: Ja | BC28: Ja | BD28: Nein | BE28: Nein | BF28: Nein | BG28: Nein | BH28: Ja | BJ28: Nein | BK28: Nein | BL28: Ja | BM28: Nein | BN28: Ja | BP28: Nein | BQ28: Ja | BR28: Nein | BS28: Nein | BT28: Nein | BU28: Nein | BW28: Ja | BX28: Ja | BY28: Ja | BZ28: Ja | CB28: 5 | CC28: 6 | CD28: 2 | CE28: 3 | CF28: 4 | CH28: 5 | CI28: 3 | CJ28: 3 | CK28: 0 | CL28: N/A | CN28: N/A | CP28: N/A | CR28: N/A | CT28: N/A | CV28: N/A | CX28: N/A | CZ28: N/A | DB28: Ja | DC28: Nein | DD28: Nein | DE28: Nein | DF28: Nein | DG28: Nein | DH28: Nein | DJ28: Nein | DK28: Ja | DL28: Nein | DM28: Nein | DN28: Nein | DO28: Nein | DQ28: Nein | DR28: Ja | DS28: Ja | DT28: Ja | DU28: Ja | DV28: Nein | DW28: Nein | DX28: Ja | DY28: Nein | DZ28: Nein | EA28: Nein | EC28: Ja | ED28: Nein | EE28: Ja | EF28: Nein | EG28: Nein | EH28: Ja | EI28: Nein | EJ28: Nein | EK28: Nein | EM28: 1 | EN28: 1 | EO28: 2 | EP28: Nein | EQ28: Nein | ER28: Ja | ES28: Ja | ET28: Nein | EU28: Nein | EV28: Nein | EW28: 3 | EX28: 2 | EY28: 1 | EZ28: Sachsen
