Workbook

Sheet Fragecodes
A1: Fragengruppe | B1: Fragencode | C1: Frage | E1: Fragentyp | F1: Antwortcodes
A2: Dienste FDM | B2: GQ01 | C2: In welcher Einrichtung an der Hochschule sind Sie beschäftigt? | E2: Multiple Choice | F2: GQ101 Bibliothek | G2: GQ102 Graduiertenzentrum | H2: GQ103 Institut / Fachbereich | I2: GQ104 Rechenzentrum | J2: GQ105 Servicebereich Forschung / Forschungsförderung | K2: GQ106 Spezielles Zentrum, FDM-Büro, Exzellenzinitiativen | L2: GQ107 Universitätsverwaltung
B3: DQ01 | C3: Welche Arten von FDM-Diensten werden an Ihrer Einrichtung angeboten? Es gibt Angebote zur ... | E3: Array | F3: DQ101 Einführung ins Forschungsdatenmanagement | G3: DQ102 Organisation von Forschungdaten | H3: DQ103 Dokumentation von Forschungsdaten | I3: DQ104 Analyse und Visualisierung von Forschungsdaten | J3: DQ105 Kuratierung von Forschungsdaten | K3: DQ106 (Nach-)Nutzung vorhandener und neu generierter Forschungsdaten | L3: DQ107 Archivierung | M3: DQ108 Datenpublikation | N3: DQ109 Rechtsberatung
B4: DQ02 | C4: Bieten externe Partner FDM-Dienstleistungen an Ihrer Hochschule an? | E4: Liste (Einfachantwort) | F4: Ja | G4: Nein
B5: DQ03 | C5: Welche externen Partner gibt es bzw. wie sind diese organisiert? | E5: Multiple Choice & Comment | F5: DQ301 Einrichtungen anderer Hochschulen | G5: DQ302 Regionale FDM-Verbände | H5: DQ303 Nationale FDM-Verbände | I5: DQ304 Internaionale FDM-Verbände | J5: DQ305 Dienstleister der (IT-)Wirtschaft | K5: DQ306 Andere
B6: DQ04 | C6: Welche FDM-Dienste werden extern angeboten? | E6: Comment | F6: *Freitextantwort*
B7: DQ05 | C7: Welche Informationsmaterialien stehen den Forschenden und Mitarbeitenden zu den FDM-Diensten zur Verfügung? | E7: Multiple Choice | F7: DQ501 E-Tutorials | G7: DQ502 FAQs und Schlagwortlisten | H7: DQ503 FDM-Webseite | I7: DQ504 Handouts und Leitfäden | J7: DQ505 Newsletter und Mailinglisten | K7: DQ506 Links zu externen Ressourcen | L7: DQ507 User-Dokumentation der technischen Dienste
B8: DQ06 | C8: Warum werden FDM-Dienste nicht angeboten? | E8: Ranking, Platz 1 bis 8 | F8: DQ601 Fehlendes Personal | G8: DQ602 Fehlende Zeit | H8: DQ603 Unzureichende finanzielle Mittel | I8: DQ604 Unzureichende Fachkenntnisse und Kompetenzen | J8: DQ605 Keine Nachfrage von Forschenden | K8: DQ606 Nicht Teil der Strategie und daher keine Zustimmung der Einrichtungsleitung | L8: DQ607 Fehlende technische Infrastruktur | M8: DQ608 Andere Gründe (bitte nachfolgend konkretisieren)
B9: DQ07 | C9: Optional: Welche weiteren Gründe sehen Sie für fehlende FDM-Dienste? | E9: Comment | F9: *Freitextantwort*
A10: Verantwortlichkeiten | B10: EQ01 | C10: Seit wann werden an Ihrer Hochschule FDM-Dienste angeboten? | E10: Liste (Einfachantwort) | F10: 1: < 1 Jahr | G10: 5: 1 - 5 Jahre | H10: 6: 6 - 10 Jahre | I10: 10: > 10 Jahre
B11: EQ02 | C11: Welche Einrichtung(en) innerhalb Ihrer Hochschule bieten FDM-Dienstleistungen an? | E11: Multiple Choice | F11: EQ201 Bibliothek | G11: EQ202 IT-Zentrum / Rechenzentrum | H11: EQ203 Medienzentrum | I11: EQ204 Universitätsverwaltung | J11: EQ205 Institut / Fachbereich | K11: EQ206 Servicebereich Forschung / Forschungsförderung | L11: EQ207 Graduiertenzentrum | M11: EQ208 Spezielles Zentrum, FDM-Büros, Exzellenzinitiativen
B12: EQ03 | C12: Wie werden FDM-Veranstaltungen an Ihrer Hochschule geplant? | E12: Multiple Choice | F12: EQ301 Auf Anfrage | G12: EQ302 Entsprechend den Entscheidungen und Kapazitäten der FDM-Verantwortlichen | H12: EQ303 In einem festen Rhythmus | I12: EQ304 In Verbindung mit anderen Ereignissen | J12: EQ305 Nach dem akademischen Kalender
B13: EQ04 | C13: Welche Arten der Kooperationen zwischen den FDM-dienstanbietenden Einrichtungen innerhalb Ihrer Hochschule gibt es? | E13: Multiple Choice | F13: EQ401 Regelmäßiger Austausch | G13: EQ402 Bedarfsgerechter Austausch (Ad-hoc) | H13: EQ403 Gemeinsame Organisation und Durchführung von Veranstaltungen | I13: EQ404 Kooperationen in Verbänden | J13: EQ405 Kooperationen in einer Landesinitiative | K13: EQ406 Keine Kooperation
B14: EQ05 | C14: Wovon ist die strategische Entscheidung der anzubietenden Dienstleistungen abhängig? | E14: Ranking, Platz 1 bis 7 | F14: EQ501 Bottom-Up-Antworten auf Anfragen von Forschenden | G14: EQ502 Einzelne Initiativen als Teil des FDM-Dienstleistungsauftrags | H14: EQ503 Externe Rahmenbedingungen der Forschungsförderer | I14: EQ504 Initiativen der Bundesländer | J14: EQ505 Institutionelle Top-Down-Strategie | K14: EQ506 Rechtliche Rahmenbedingungen | L14: EQ507 Andere Abhängigkeiten
B15: EQ06 | C15: Welche externen Bestimmungen hatten einen Einfluss auf angebotene FDM-Dienstleistungen Ihrer Einrichtung? | E15: Multiple Choice | F15: EQ601 Datenschutz-Grundverordnung (DSGVO) | G15: EQ602 Leitlinien zur Sicherung guter wissenschaftlicher Praxis der Forschungsförderer | H15: EQ603 Nationale oder internationale Empfehlungen | I15: EQ604 Digitalisierung institutioneller Dienste
B16: EQ07 | C16: Welchen Einfluss auf strategische Entscheidungen hat bzw. erwarten Sie von einer Richtlinie oder Policy Ihrer Institution? | E16: Likert-Skala (Einfachantwort) | F16: 1: kein Einfluss | G16: 2 | H16: 3 | I16: 4 | J16: 5: sehr starken Einfluss
B17: EQ08 | C17: Gibt es an Ihrer Hochschule eine eigene, institutionelle Richtlinie oder Policy zum Forschungsdatenmanagement? | E17: Liste (Einfachantwort) | F17: 1: Ja | G17: 2: Nein | H17: 3: Ist in der Entwicklung | I17: 4: FDM wird in einer oder mehreren anderen Richtlinien behandelt | J17: 5: Es gibt eine über-institutionelle (Förder-)Richtlinie
A18: Bewertung | B18: BQ01 | C18: Werden FDM-Angebote Ihrer Hochschule evaluiert? | E18: Liste (Einfachantwort) | F18: 0: keine Antwort | G18: 1: Ja, alle FDM-Angebote werden evaluiert | H18: 2: Ja, einige FDM-Angebote werden evaluiert | I18: 3: Nein, FDM-Angebote werden nicht evaluiert
B19: BQ02 | C19: Wann werden FDM-Angebote evaluiert? | E19: Liste (Einfachantwort) | F19: 0: keine Antwort | G19: 1: Vor der Inbetriebnahme | H19: 2: Regelmäßig während des Betriebs | I19: 3: Sowohl vor als auch regelmäßig während des Betriebs | J19: 4: Nur bei bestimmten Ereignissen
B20: BQ03 | C20: Durch wen werden die FDM-Angebote evaluiert? | E20: Multiple Choice & Comment | F20: BQ301 Alle Nutzende | G20: BQ302 Forschende | H20: BQ303 FDM-Team der Hochschule oder Einrichtung | I20: BQ304 Mitarbeitende der FDM-Dienstanbietenden Einrichtung | J20: BQ305 FDM-Mitarbeitende der Institute / Fachbereiche | K20: BQ306 IT-Mitarbeitende | L20: BQ307 Beta-Anwendende | M20: BQ308 Andere
B21: BQ04 | C21: Wie werden die FDM-Dienstleistungen Ihrer Hochschule bewertet? | E21: Multiple Choice | F21: BQ401 Zufriedenheitsumfrage bei Nutzenden | G21: BQ402 Service-Level-Vereinbarung | H21: BQ403 Strategische Kennzahlen | I21: BQ404 Fokusgruppen, verbales Feedback von Stakeholdern | J21: BQ405 Persönliche Einschätzung von Mitarbeitenden in dienstanbietenden Einrichtungen | K21: BQ406 Leistungsüberprüfung von dienstanbietenden Einrichtungen | L21: BQ407 Anwendung eines Evaluationsmodells
B22: BQ05 | C22: Wie werden Angehörige der dienstleistenden Einrichtung(en) professionell für das Forschungsdatenmanagement geschult? | E22: Multiple Choice | F22: BQ501 Externe Schulungen MIT Zertifikat | G22: BQ502 Externe Schulungen OHNE Zertifikat | H22: BQ503 Interne Schulungen MIT Zertifikat | I22: BQ504 Interne Schulung OHNE Zertifikat | J22: BQ505 Mentoring | K22: BQ506 Gar nicht
A23: Anfragen | B23: AQ01 | C23: Für wen sind die angebotenen FDM-Dienste verfügbar? | E23: Multiple Choice & Comment | F23: AQ101 Für die ganze Hochschule | G23: AQ102 Forschungsunterstützendes Personal (Mitarbeitende in Technik, Service und Verwaltung) | H23: AQ103 Postdocs und Nachwuchswissenschaftler*innen | I23: AQ104 Professor*innen und Dozent*innen | J23: AQ105 Promovierende | K23: AQ106 Studierende | L23: AQ107 Externes Forschungsunterstützendes Personal | M23: AQ108 Externe Studierende und Forschende | N23: AQ109 Offen für andere Hochschulen im gleichen Bundesland | O23: AQ110 Offen für alle | P23: AQ111 Andere Nutzer*innengruppen
B24: AQ02 | C24: Wie werden die FDM-Dienste beworben und kommuniziert? | E24: Multiple Choice & Comment | F24: AQ201 Abteilungs- oder Gruppenwebseiten | G24: AQ202 Direkter Austausch | H24: AQ203 Mailinglisten, Newsletter und Blogs | I24: AQ204 Fachpublikationen | J24: AQ205 Interne Datenbanken | K24: AQ206 Printmedien | L24: AQ207 Soziale Medien | M24: AQ208 Vorträge auf Disziplinspezifischer Konferenz | N24: AQ209 Andere Kommunikationswege
B25: AQ03 | C25: Welche Möglichkeiten der Kommunikation zwischen Nutzenden und Mitarbeitenden der Einrichtungen werden hauptsächlich genutzt? | E25: Array (Einfachantwort pro Szenario) | F25: AQ301 Anfragen für neue FDM-Dienste | G25: AQ302 Änderungswünsche bestehender Dienste | H25: AQ303 Meldung von Problemen bei bestehenden Diensten | I25: 0: keine Antwort | J25: 1: Ad-Hoc | K25: 2: Direkte Kommunikation an Einrichtungsleitung | L25: 3: Direkte Kommunikation an Mitarbeitende | M25: 4: Informelle Kommunikation | N25: 5: Hotline oder Support
B26: AQ04 | C26: Werden Anfragen zu FDM-Diensten systematisch erfasst und bearbeitet? | E26: Multiple Choice | F26: AQ401 Ja, immer | G26: AQ402 Ja, wenn neue Dienste angefragt werden | H26: AQ403 Ja, wenn Änderungswünsche kommuniziert werden | I26: AQ404 Ja, wenn Probleme gemeldet werden | J26: AQ405 Es ist geplant | K26: AQ406 Es wäre wünschenswert, ist aber (noch) nicht in Planung | L26: AQ407 Nein
B27: AQ05 | C27: Wie hoch schätzen Sie den Einfluss der Anfragen auf die Gestaltung der FDM-Dienste? | E27: Likert-Skala (Einfachantwort) | F27: 1: kein Einfluss | G27: 2 | H27: 3 | I27: 4 | J27: 5: sehr starken Einfluss
B28: AQ06 | C28: Wie hoch schätzen Sie den Einfluss der Anfragen auf die strategische Ausrichtung des Forschungsdatenmanagements? | E28: Likert-Skala (Einfachantwort) | F28: 1: kein Einfluss | G28: 2 | H28: 3 | I28: 4 | J28: 5: sehr starken Einfluss
A29: Generisch | B29: GQ02 | C29: In welchem Land sind Sie beschäftigt? | E29: Liste (Einfachantwort) | F29: 0: keine Antwort | G29: 1: Deutschland | H29: 2: Österreich | I29: 3: Schweiz
B30: GQ03 | C30: In welchem Bundesland befindet sich die Hochschule, an der Sie beschäftigt sind? | E30: Liste (Einfachantwort) | F30: 0: keine Antwort | G30: *Freitextantwort*
B31: GQ04 | C31: Haben Sie Anmerkungen oder Rückmeldungen, die Sie gerne teilen möchten? | E31: Comment | F31: *Freitextantwort*

Sheet 0 - Rohdaten
A1: id | B1: lastpage | C1: seed | D1: GQ01[GQ101] | E1: GQ01[GQ102] | F1: GQ01[GQ103] | G1: GQ01[GQ104] | H1: GQ01[GQ105] | I1: GQ01[GQ106] | J1: GQ01[GQ107] | K1: GQ01[other] | L1: DQ01[DQ101] | M1: DQ01[DQ102] | N1: DQ01[DQ103] | O1: DQ01[DQ104] | P1: DQ01[DQ105] | Q1: DQ01[DQ106] | R1: DQ01[DQ107] | S1: DQ01[DQ108] | T1: DQ01[DQ109] | U1: DQ02 | V1: DQ03[DQ301] | W1: DQ03[DQ301comment] | X1: DQ03[DQ302] | Y1: DQ03[DQ302comment] | Z1: DQ03[DQ303] | AA1: DQ03[DQ303comment] | AB1: DQ03[DQ304] | AC1: DQ03[DQ304comment] | AD1: DQ03[DQ305] | AE1: DQ03[DQ305comment] | AF1: DQ03[DQ306] | AG1: DQ03[DQ306comment] | AH1: DQ04 | AI1: DQ05[DQ501] | AJ1: DQ05[DQ502] | AK1: DQ05[DQ503] | AL1: DQ05[DQ504] | AM1: DQ05[DQ505] | AN1: DQ05[DQ506] | AO1: DQ05[DQ507] | AP1: DQ05[other] | AQ1: DQ06[DQ601] | AR1: DQ06[DQ602] | AS1: DQ06[DQ603] | AT1: DQ06[DQ604] | AU1: DQ06[DQ605] | AV1: DQ06[DQ606] | AW1: DQ06[DQ607] | AX1: DQ06[DQ608] | AY1: DQ07 | AZ1: EQ01 | BA1: EQ02[EQ201] | BB1: EQ02[EQ202] | BC1: EQ02[EQ203] | BD1: EQ02[EQ204] | BE1: EQ02[EQ205] | BF1: EQ02[EQ206] | BG1: EQ02[EQ207] | BH1: EQ02[EQ208] | BI1: EQ02[other] | BJ1: EQ03[EQ301] | BK1: EQ03[EQ302] | BL1: EQ03[EQ303] | BM1: EQ03[EQ304] | BN1: EQ03[EQ305] | BO1: EQ03[other] | BP1: EQ04[EQ401] | BQ1: EQ04[EQ402] | BR1: EQ04[EQ403] | BS1: EQ04[EQ404] | BT1: EQ04[EQ405] | BU1: EQ04[EQ406] | BV1: EQ04[other] | BW1: EQ06[EQ601] | BX1: EQ06[EQ602] | BY1: EQ06[EQ603] | BZ1: EQ06[EQ604] | CA1: EQ06[other] | CB1: EQ05[DQ501] | CC1: EQ05[DQ502] | CD1: EQ05[DQ503] | CE1: EQ05[DQ504] | CF1: EQ05[DQ505] | CG1: EQ05[DQ506] | CH1: EQ08 | CI1: EQ07 | CJ1: BQ01 | CK1: BQ02 | CL1: BQ03[BQ301] | CM1: BQ03[BQ301comment] | CN1: BQ03[BQ302] | CO1: BQ03[BQ302comment] | CP1: BQ03[BQ303] | CQ1: BQ03[BQ303comment] | CR1: BQ03[BQ304] | CS1: BQ03[BQ304comment] | CT1: BQ03[BQ305] | CU1: BQ03[BQ305comment] | CV1: BQ03[BQ306] | CW1: BQ03[BQ306comment] | CX1: BQ03[BQ307] | CY1: BQ03[BQ307comment] | CZ1: BQ03[BQ308] | DA1: BQ03[BQ308comment] | DB1: BQ04[BQ401] | DC1: BQ04[BQ402] | DD1: BQ04[BQ403] | DE1: BQ04[BQ404] | DF1: BQ04[BQ405] | DG1: BQ04[BQ406] | DH1: BQ04[BQ407] | DI1: BQ04[other] | DJ1: BQ05[BQ501] | DK1: BQ05[BQ502] | DL1: BQ05[BQ503] | DM1: BQ05[BQ504] | DN1: BQ05[BQ505] | DO1: BQ05[BQ506] | DP1: BQ05[other] | DQ1: AQ01[AQ101] | DR1: AQ01[AQ102] | DS1: AQ01[AQ103] | DT1: AQ01[AQ104] | DU1: AQ01[AQ105] | DV1: AQ01[AQ106] | DW1: AQ01[AQ107] | DX1: AQ01[AQ108] | DY1: AQ01[AQ109] | DZ1: AQ01[AQ110] | EA1: AQ01[AQ111] | EB1: AQ01[AQ111comment] | EC1: AQ02[AQ201] | ED1: AQ02[AQ202] | EE1: AQ02[AQ203] | EF1: AQ02[AQ204] | EG1: AQ02[AQ205] | EH1: AQ02[AQ206] | EI1: AQ02[AQ207] | EJ1: AQ02[AQ208] | EK1: AQ02[AQ209] | EL1: AQ02[AQ209comment] | EM1: AQ03[AQ301] | EN1: AQ03[AQ302] | EO1: AQ03[AQ303] | EP1: AQ04[AQ401] | EQ1: AQ04[AQ402] | ER1: AQ04[AQ403] | ES1: AQ04[AQ404] | ET1: AQ04[AQ405] | EU1: AQ04[AQ406] | EV1: AQ04[AQ407] | EW1: AQ05 | EX1: AQ06 | EY1: GQ02 | EZ1: GQ03 | FA1: GQ04
A2: 10 | B2: 5 | C2: 1037977275 | D2: Ja | E2: Nein | F2: Nein | G2: Nein | H2: Nein | I2: Ja | J2: Nein | L2: Beratung oder Schulung | M2: Beratung oder Schulung | N2: Dienstangebot | O2: Noch nicht geplant | P2: Dienstangebot | Q2: Beratung oder Schulung | R2: In Planung | S2: Dienstangebot | T2: Beratung oder Schulung | U2: Nein | V2: N/A | X2: N/A | Z2: N/A | AB2: N/A | AD2: N/A | AF2: N/A | AI2: Nein | AJ2: Ja | AK2: Ja | AL2: Nein | AM2: Ja | AN2: Ja | AO2: Ja | AQ2: 2 | AR2: 1 | AS2: 5 | AT2: 7 | AU2: 4 | AZ2: 5 | BA2: Ja | BB2: Ja | BC2: Nein | BD2: Nein | BE2: Nein | BF2: Nein | BG2: Nein | BH2: Ja | BJ2: Ja | BK2: Ja | BL2: Nein | BM2: Nein | BN2: Ja | BP2: Ja | BQ2: Nein | BR2: Ja | BS2: Nein | BT2: Ja | BU2: Nein | BW2: Ja | BX2: Ja | BY2: Ja | BZ2: Ja | CB2: 1 | CC2: 3 | CD2: 6 | CH2: 1 | CI2: 3 | CJ2: 2 | CK2: 4 | CL2: Nein | CN2: Nein | CP2: Ja | CR2: Nein | CT2: Nein | CV2: Nein | CX2: Nein | CZ2: Nein | DB2: Nein | DC2: Nein | DD2: Nein | DE2: Nein | DF2: Ja | DG2: Nein | DH2: Ja | DJ2: Nein | DK2: Ja | DL2: Nein | DM2: Nein | DN2: Nein | DO2: Nein | DQ2: Ja | DR2: Nein | DS2: Ja | DT2: Ja | DU2: Ja | DV2: Ja | DW2: Nein | DX2: Ja | DY2: Nein | DZ2: Nein | EA2: Ja | EB2: Projektpartner der Forschenden weltweit | EC2: Ja | ED2: Ja | EE2: Ja | EF2: Ja | EG2: Nein | EH2: Ja | EI2: Nein | EJ2: Ja | EK2: Nein | EM2: 1 | EN2: 1 | EO2: 5 | EP2: Nein | EQ2: Nein | ER2: Nein | ES2: Ja | ET2: Nein | EU2: Nein | EV2: Nein | EW2: 4 | EX2: 4 | EY2: 1 | EZ2: Baden-Württemberg
A3: 11 | B3: 5 | C3: 1636709128 | D3: Ja | E3: Nein | F3: Nein | G3: Nein | H3: Nein | I3: Nein | J3: Nein | L3: Beratung oder Schulung | M3: Dienstangebot | N3: Beratung oder Schulung | O3: Noch nicht geplant | P3: Dienstangebot | Q3: Beratung oder Schulung | R3: Dienstangebot | S3: Dienstangebot | T3: Beratung oder Schulung | U3: Nein | V3: N/A | X3: N/A | Z3: N/A | AB3: N/A | AD3: N/A | AF3: N/A | AI3: Ja | AJ3: Nein | AK3: Ja | AL3: Nein | AM3: Nein | AN3: Ja | AO3: Nein | AQ3: 5 | AZ3: 5 | BA3: Ja | BB3: Ja | BC3: Nein | BD3: Nein | BE3: Nein | BF3: Nein | BG3: Nein | BH3: Nein | BI3: Kommunikations- und Informationszentrum (Bibliothek, IT, Medien) | BJ3: Ja | BK3: Ja | BL3: Nein | BM3: Ja | BN3: Ja | BP3: Nein | BQ3: Ja | BR3: Nein | BS3: Nein | BT3: Nein | BU3: Nein | BW3: Ja | BX3: Ja | BY3: Ja | BZ3: Ja | CB3: 3 | CC3: 2 | CD3: 1 | CH3: 3 | CI3: 2 | CJ3: 1 | CK3: 2 | CL3: Nein | CN3: Nein | CP3: Nein | CR3: Nein | CT3: Nein | CV3: Nein | CX3: Nein | CZ3: Ja | DA3: Service-Owner | DB3: Nein | DC3: Nein | DD3: Ja | DE3: Nein | DF3: Nein | DG3: Nein | DH3: Nein | DJ3: Ja | DK3: Ja | DL3: Nein | DM3: Ja | DN3: Ja | DO3: Nein | DQ3: Ja | DR3: Ja | DS3: Ja | DT3: Ja | DU3: Ja | DV3: Ja | DW3: Nein | DX3: Nein | DY3: Nein | DZ3: Nein | EA3: Ja | EB3: Projektpartner | EC3: Nein | ED3: Nein | EE3: Ja | EF3: Nein | EG3: Nein | EH3: Ja | EI3: Ja | EJ3: Ja | EK3: Nein | EM3: 0 | EN3: 0 | EO3: 0 | EP3: Ja | EQ3: Nein | ER3: Nein | ES3: Nein | ET3: Nein | EU3: Nein | EV3: Nein | EW3: 4 | EX3: 3 | EY3: 1 | EZ3: Baden-Württemberg
A4: 12 | B4: 4 | C4: 1657377983 | D4: Nein | E4: Nein | F4: Nein | G4: Nein | H4: Nein | I4: Ja | J4: Nein | L4: Dienstangebot | M4: Beratung oder Schulung | N4: Beratung oder Schulung | O4: Kein Angebot | P4: Kein Angebot | Q4: Beratung oder Schulung | R4: Beratung oder Schulung | S4: Beratung oder Schulung | T4: Beratung oder Schulung | U4: Nein | V4: N/A | X4: N/A | Z4: N/A | AB4: N/A | AD4: N/A | AF4: N/A | AI4: Nein | AJ4: Nein | AK4: Ja | AL4: Ja | AM4: Ja | AN4: Ja | AO4: Ja | AQ4: 6 | AR4: 2 | AS4: 1 | BA4: Nein | BB4: Nein | BC4: Nein | BD4: Nein | BE4: Nein | BF4: Nein | BG4: Nein | BH4: Nein | BJ4: Nein | BK4: Nein | BL4: Nein | BM4: Nein | BN4: Nein | BP4: Nein | BQ4: Nein | BR4: Nein | BS4: Nein | BT4: Nein | BU4: Nein | BW4: Nein | BX4: Nein | BY4: Nein | BZ4: Nein | CJ4: 0 | CK4: 0 | CL4: Nein | CN4: Nein | CP4: Nein | CR4: Nein | CT4: Nein | CV4: Nein | CX4: Nein | CZ4: Nein | DB4: Nein | DC4: Nein | DD4: Nein | DE4: Nein | DF4: Nein | DG4: Nein | DH4: Nein | DJ4: Nein | DK4: Nein | DL4: Nein | DM4: Nein | DN4: Nein | DO4: Nein | DQ4: Nein | DR4: Nein | DS4: Nein | DT4: Nein | DU4: Nein | DV4: Nein | DW4: Nein | DX4: Nein | DY4: Nein | DZ4: Nein | EA4: Nein | EC4: Nein | ED4: Nein | EE4: Nein | EF4: Nein | EG4: Nein | EH4: Nein | EI4: Nein | EJ4: Nein | EK4: Nein | EM4: 0 | EN4: 0 | EO4: 0 | EP4: Nein | EQ4: Nein | ER4: Nein | ES4: Nein | ET4: Nein | EU4: Nein | EV4: Nein | EY4: 0 | EZ4: 0
A5: 14 | B5: 5 | C5: 558653614 | D5: Nein | E5: Nein | F5: Nein | G5: Nein | H5: Nein | I5: Ja | J5: Nein | L5: Dienstangebot | M5: Beratung oder Schulung | N5: Beratung oder Schulung | O5: Noch nicht geplant | P5: Beratung oder Schulung | Q5: Beratung oder Schulung | R5: Beratung oder Schulung | S5: Beratung oder Schulung | T5: Beratung oder Schulung | U5: Nein | V5: N/A | X5: N/A | Z5: N/A | AB5: N/A | AD5: N/A | AF5: N/A | AI5: Nein | AJ5: Nein | AK5: Ja | AL5: Nein | AM5: Nein | AN5: Nein | AO5: Nein | AQ5: 6 | AZ5: 6 | BA5: Ja | BB5: Ja | BC5: Nein | BD5: Nein | BE5: Ja | BF5: Nein | BG5: Nein | BH5: Ja | BJ5: Ja | BK5: Nein | BL5: Ja | BM5: Nein | BN5: Ja | BP5: Ja | BQ5: Nein | BR5: Ja | BS5: Ja | BT5: Ja | BU5: Nein | BW5: Ja | BX5: Ja | BY5: Ja | BZ5: Nein | CH5: 1 | CI5: 3 | CJ5: 2 | CK5: 4 | CL5: Ja | CN5: Nein | CP5: Nein | CR5: Nein | CT5: Nein | CV5: Nein | CX5: Nein | CZ5: Ja | DA5: Experten bei Zertifizierungsprozessen | DB5: Ja | DC5: Nein | DD5: Nein | DE5: Nein | DF5: Nein | DG5: Nein | DH5: Nein | DJ5: Nein | DK5: Ja | DL5: Nein | DM5: Ja | DN5: Ja | DO5: Nein | DQ5: Nein | DR5: Nein | DS5: Nein | DT5: Nein | DU5: Nein | DV5: Nein | DW5: Nein | DX5: Nein | DY5: Nein | DZ5: Nein | EA5: Ja | EB5: Angehörige der Fakultät | EC5: Ja | ED5: Ja | EE5: Nein | EF5: Nein | EG5: Nein | EH5: Nein | EI5: Ja | EJ5: Ja | EK5: Nein | EM5: 1 | EN5: 3 | EO5: 1 | EP5: Ja | EQ5: Nein | ER5: Nein | ES5: Nein | ET5: Nein | EU5: Nein | EV5: Nein | EW5: 4 | EX5: 2 | EY5: 1 | EZ5: Nordrhein Westfalen
A6: 15 | B6: 5 | C6: 1058701001 | D6: Nein | E6: Nein | F6: Nein | G6: Ja | H6: Nein | I6: Nein | J6: Nein | L6: Dienstangebot | M6: In Planung | N6: In Planung | O6: In Planung | P6: In Planung | Q6: In Planung | R6: In Planung | S6: In Planung | T6: In Planung | U6: Nein | V6: N/A | X6: N/A | Z6: N/A | AB6: N/A | AD6: N/A | AF6: N/A | AI6: Nein | AJ6: Nein | AK6: Ja | AL6: Nein | AM6: Nein | AN6: Ja | AO6: Nein | AQ6: 1 | AR6: 2 | AS6: 3 | AZ6: 6 | BA6: Ja | BB6: Ja | BC6: Nein | BD6: Nein | BE6: Nein | BF6: Nein | BG6: Nein | BH6: Ja | BJ6: Ja | BK6: Ja | BL6: Ja | BM6: Nein | BN6: Nein | BP6: Ja | BQ6: Ja | BR6: Ja | BS6: Ja | BT6: Nein | BU6: Nein | BW6: Ja | BX6: Ja | BY6: Nein | BZ6: Nein | CB6: 3 | CC6: 6 | CD6: 4 | CE6: 5 | CF6: 1 | CG6: 2 | CH6: 1 | CI6: 1 | CJ6: 2 | CK6: 2 | CL6: Nein | CN6: Nein | CP6: Ja | CR6: Nein | CT6: Nein | CV6: Nein | CX6: Nein | CZ6: Nein | DB6: Ja | DC6: Nein | DD6: Ja | DE6: Ja | DF6: Nein | DG6: Nein | DH6: Nein | DJ6: Nein | DK6: Nein | DL6: Nein | DM6: Ja | DN6: Ja | DO6: Nein | DQ6: Ja | DR6: Nein | DS6: Nein | DT6: Nein | DU6: Nein | DV6: Nein | DW6: Nein | DX6: Nein | DY6: Nein | DZ6: Nein | EA6: Nein | EC6: Ja | ED6: Ja | EE6: Nein | EF6: Nein | EG6: Nein | EH6: Nein | EI6: Nein | EJ6: Nein | EK6: Nein | EM6: 3 | EN6: 3 | EO6: 3 | EP6: Nein | EQ6: Nein | ER6: Nein | ES6: Nein | ET6: Nein | EU6: Ja | EV6: Nein | EW6: 5 | EX6: 5 | EY6: 1 | EZ6: Schleswig-Holstein
A7: 18 | B7: 5 | C7: 311941437 | D7: Ja | E7: Nein | F7: Nein | G7: Ja | H7: Nein | I7: Ja | J7: Nein | L7: Beratung oder Schulung | M7: In Planung | N7: In Planung | O7: Noch nicht geplant | P7: In Planung | Q7: Beratung oder Schulung | R7: Beratung oder Schulung | S7: Dienstangebot | T7: In Planung | U7: Nein | V7: N/A | X7: N/A | Z7: N/A | AB7: N/A | AD7: N/A | AF7: N/A | AI7: Nein | AJ7: Ja | AK7: Ja | AL7: Ja | AM7: Nein | AN7: Ja | AO7: Ja | AQ7: 1 | AR7: 3 | AS7: 2 | AT7: 6 | AU7: 4 | AV7: 8 | AW7: 7 | AX7: 5 | AZ7: 5 | BA7: Ja | BB7: Ja | BC7: Nein | BD7: Nein | BE7: Nein | BF7: Nein | BG7: Ja | BH7: Ja | BJ7: Ja | BK7: Ja | BL7: Nein | BM7: Ja | BN7: Ja | BP7: Ja | BQ7: Ja | BR7: Ja | BS7: Nein | BT7: Nein | BU7: Nein | BW7: Ja | BX7: Ja | BY7: Ja | BZ7: Nein | CB7: 5 | CC7: 3 | CD7: 2 | CH7: 3 | CI7: 4 | CJ7: 3 | CK7: 0 | CL7: N/A | CN7: N/A | CP7: N/A | CR7: N/A | CT7: N/A | CV7: N/A | CX7: N/A | CZ7: N/A | DB7: Ja | DC7: Nein | DD7: Nein | DE7: Ja | DF7: Ja | DG7: Nein | DH7: Nein | DJ7: Nein | DK7: Ja | DL7: Nein | DM7: Ja | DN7: Nein | DO7: Ja | DQ7: Ja | DR7: Nein | DS7: Nein | DT7: Nein | DU7: Nein | DV7: Nein | DW7: Nein | DX7: Nein | DY7: Nein | DZ7: Nein | EA7: Nein | EC7: Ja | ED7: Ja | EE7: Nein | EF7: Ja | EG7: Nein | EH7: Nein | EI7: Nein | EJ7: Ja | EK7: Nein | EM7: 2 | EN7: 2 | EO7: 3 | EP7: Nein | EQ7: Nein | ER7: Nein | ES7: Nein | ET7: Ja | EU7: Nein | EV7: Nein | EW7: 1 | EX7: 1 | EY7: 1 | EZ7: Baden-Württemberg
A8: 20 | B8: 5 | C8: 1979760959 | D8: Nein | E8: Nein | F8: Nein | G8: Nein | H8: Nein | I8: Ja | J8: Nein | L8: Beratung oder Schulung | M8: Dienstangebot | N8: Beratung oder Schulung | O8: In Planung | P8: Beratung oder Schulung | Q8: Beratung oder Schulung | R8: Dienstangebot | S8: Dienstangebot | T8: Beratung oder Schulung | U8: Nein | V8: N/A | X8: N/A | Z8: N/A | AB8: N/A | AD8: N/A | AF8: N/A | AI8: Nein | AJ8: Ja | AK8: Ja | AL8: Ja | AM8: Nein | AN8: Ja | AO8: Ja | AQ8: 1 | AZ8: 5 | BA8: Nein | BB8: Nein | BC8: Nein | BD8: Nein | BE8: Nein | BF8: Nein | BG8: Nein | BH8: Ja | BJ8: Ja | BK8: Ja | BL8: Nein | BM8: Nein | BN8: Nein | BP8: Nein | BQ8: Ja | BR8: Nein | BS8: Nein | BT8: Ja | BU8: Nein | BW8: Ja | BX8: Ja | BY8: Ja | BZ8: Nein | CB8: 5 | CC8: 1 | CH8: 4 | CI8: 2 | CJ8: 2 | CK8: 3 | CL8: Nein | CN8: Ja | CO8: ausgewählte Forschende | CP8: Ja | CR8: Nein | CT8: Nein | CV8: Nein | CX8: Nein | CZ8: Nein | DB8: Ja | DC8: Nein | DD8: Nein | DE8: Ja | DF8: Ja | DG8: Nein | DH8: Nein | DJ8: Nein | DK8: Ja | DL8: Nein | DM8: Nein | DN8: Nein | DO8: Nein | DQ8: Ja | DR8: Nein | DS8: Ja | DT8: Ja | DU8: Ja | DV8: Nein | DW8: Nein | DX8: Nein | DY8: Nein | DZ8: Nein | EA8: Nein | EC8: Ja | ED8: Ja | EE8: Ja | EF8: Nein | EG8: Nein | EH8: Ja | EI8: Nein | EJ8: Nein | EK8: Nein | EM8: 3 | EN8: 3 | EO8: 3 | EP8: Ja | EQ8: Nein | ER8: Nein | ES8: Nein | ET8: Nein | EU8: Nein | EV8: Nein | EW8: 4 | EX8: 3 | EY8: 1 | EZ8: Hamburg
A9: 21 | B9: 5 | C9: 148638111 | D9: Ja | E9: Nein | F9: Nein | G9: Nein | H9: Nein | I9: Nein | J9: Nein | L9: Beratung oder Schulung | M9: Dienstangebot | N9: Beratung oder Schulung | O9: In Planung | P9: In Planung | Q9: Beratung oder Schulung | R9: Beratung oder Schulung | S9: Dienstangebot | T9: Beratung oder Schulung | U9: Nein | V9: N/A | X9: N/A | Z9: N/A | AB9: N/A | AD9: N/A | AF9: N/A | AI9: Nein | AJ9: Ja | AK9: Ja | AL9: Ja | AM9: Ja | AN9: Ja | AO9: Ja | AZ9: 5 | BA9: Ja | BB9: Ja | BC9: Nein | BD9: Nein | BE9: Nein | BF9: Nein | BG9: Nein | BH9: Nein | BJ9: Nein | BK9: Nein | BL9: Ja | BM9: Ja | BN9: Ja | BP9: Nein | BQ9: Ja | BR9: Nein | BS9: Nein | BT9: Nein | BU9: Nein | BW9: Nein | BX9: Ja | BY9: Ja | BZ9: Ja | CB9: 2 | CC9: 3 | CD9: 1 | CE9: 6 | CF9: 5 | CG9: 4 | CH9: 1 | CI9: 4 | CJ9: 3 | CK9: 0 | CL9: N/A | CN9: N/A | CP9: N/A | CR9: N/A | CT9: N/A | CV9: N/A | CX9: N/A | CZ9: N/A | DB9: Ja | DC9: Nein | DD9: Nein | DE9: Ja | DF9: Nein | DG9: Nein | DH9: Ja | DJ9: Nein | DK9: Nein | DL9: Nein | DM9: Ja | DN9: Nein | DO9: Nein | DP9: Zertifikatsausstellung bei Nachfrage | DQ9: Ja | DR9: Nein | DS9: Nein | DT9: Nein | DU9: Nein | DV9: Nein | DW9: Nein | DX9: Nein | DY9: Nein | DZ9: Nein | EA9: Nein | EC9: Nein | ED9: Ja | EE9: Ja | EF9: Nein | EG9: Nein | EH9: Nein | EI9: Nein | EJ9: Nein | EK9: Nein | EM9: 5 | EN9: 3 | EO9: 3 | EP9: Nein | EQ9: Nein | ER9: Ja | ES9: Ja | ET9: Nein | EU9: Nein | EV9: Nein | EW9: 4 | EX9: 2 | EY9: 1 | EZ9: Niedersachsen
A10: 23 | B10: 1 | C10: 1022401630 | D10: Nein | E10: Nein | F10: Nein | G10: Nein | H10: Ja | I10: Nein | J10: Nein | L10: In Planung | M10: Noch nicht geplant | N10: In Planung | O10: In Planung | P10: Noch nicht geplant | Q10: In Planung | R10: In Planung | S10: In Planung | T10: Noch nicht geplant | U10: Nein | V10: N/A | X10: N/A | Z10: N/A | AB10: N/A | AD10: N/A | AF10: N/A | AI10: Nein | AJ10: Nein | AK10: Nein | AL10: Nein | AM10: Ja | AN10: Ja | AO10: Nein | AQ10: 1 | AR10: 3 | AS10: 7 | AY10: keine weiteren als die oben genannten Gründe; wir haben uns aber in einem regionalen Netzwerk zusammen geschlossen, um am Know-How und perspektivisch am Service von Partneruniversitäten partizipieren zu können. | BA10: N/A | BB10: N/A | BC10: N/A | BD10: N/A | BE10: N/A | BF10: N/A | BG10: N/A | BH10: N/A | BJ10: N/A | BK10: N/A | BL10: N/A | BM10: N/A | BN10: N/A | BP10: N/A | BQ10: N/A | BR10: N/A | BS10: N/A | BT10: N/A | BU10: N/A | BW10: N/A | BX10: N/A | BY10: N/A | BZ10: N/A | CJ10: 0 | CK10: 0 | CL10: N/A | CN10: N/A | CP10: N/A | CR10: N/A | CT10: N/A | CV10: N/A | CX10: N/A | CZ10: N/A | DB10: N/A | DC10: N/A | DD10: N/A | DE10: N/A | DF10: N/A | DG10: N/A | DH10: N/A | DJ10: N/A | DK10: N/A | DL10: N/A | DM10: N/A | DN10: N/A | DO10: N/A | DQ10: N/A | DR10: N/A | DS10: N/A | DT10: N/A | DU10: N/A | DV10: N/A | DW10: N/A | DX10: N/A | DY10: N/A | DZ10: N/A | EA10: N/A | EC10: N/A | ED10: N/A | EE10: N/A | EF10: N/A | EG10: N/A | EH10: N/A | EI10: N/A | EJ10: N/A | EK10: N/A | EM10: 0 | EN10: 0 | EO10: 0 | EP10: N/A | EQ10: N/A | ER10: N/A | ES10: N/A | ET10: N/A | EU10: N/A | EV10: N/A | EY10: 0 | EZ10: 0
A11: 25 | B11: 5 | C11: 841840369 | D11: Ja | E11: Nein | F11: Nein | G11: Nein | H11: Nein | I11: Nein | J11: Nein | L11: Beratung oder Schulung | N11: Dienstangebot | O11: Beratung oder Schulung | P11: Dienstangebot | Q11: Dienstangebot | R11: In Planung | S11: Dienstangebot | V11: N/A | X11: N/A | Z11: N/A | AB11: N/A | AD11: N/A | AF11: N/A | AI11: Nein | AJ11: Ja | AK11: Ja | AL11: Nein | AM11: Ja | AN11: Nein | AO11: Nein | BA11: Ja | BB11: Ja | BC11: Nein | BD11: Nein | BE11: Ja | BF11: Nein | BG11: Nein | BH11: Ja | BJ11: Nein | BK11: Ja | BL11: Nein | BM11: Ja | BN11: Nein | BP11: Ja | BQ11: Nein | BR11: Ja | BS11: Nein | BT11: Nein | BU11: Nein | BW11: Nein | BX11: Ja | BY11: Ja | BZ11: Nein | CJ11: 0 | CK11: 0 | CL11: Nein | CN11: Nein | CP11: Nein | CR11: Nein | CT11: Nein | CV11: Nein | CX11: Nein | CZ11: Nein | DB11: Nein | DC11: Nein | DD11: Nein | DE11: Nein | DF11: Nein | DG11: Nein | DH11: Nein | DJ11: Nein | DK11: Nein | DL11: Nein | DM11: Nein | DN11: Nein | DO11: Ja | DQ11: Ja | DR11: Nein | DS11: Ja | DT11: Ja | DU11: Ja | DV11: Ja | DW11: Ja | DX11: Nein | DY11: Nein | DZ11: Nein | EA11: Nein | EC11: Nein | ED11: Ja | EE11: Ja | EF11: Nein | EG11: Nein | EH11: Nein | EI11: Nein | EJ11: Ja | EK11: Nein | EM11: 0 | EN11: 0 | EO11: 0 | EP11: Ja | EQ11: Ja | ER11: Ja | ES11: Ja | ET11: Nein | EU11: Nein | EV11: Nein | EY11: 1 | EZ11: Baden-Württemberg
A12: 27 | B12: 5 | C12: 1331083349 | D12: Ja | E12: Nein | F12: Nein | G12: Nein | H12: Nein | I12: Nein | J12: Nein | L12: Beratung oder Schulung | M12: Dienstangebot | N12: Noch nicht geplant | O12: Beratung oder Schulung | P12: Dienstangebot | Q12: Dienstangebot | R12: Dienstangebot | S12: Dienstangebot | T12: Beratung oder Schulung | U12: Nein | V12: N/A | X12: N/A | Z12: N/A | AB12: N/A | AD12: N/A | AF12: N/A | AI12: Ja | AJ12: Ja | AK12: Ja | AL12: Ja | AM12: Ja | AN12: Ja | AO12: Ja | AP12: Kontakt, Beteiligung an NFDI Konsortien und ERIC: DARIAH | AQ12: 3 | AR12: 1 | AS12: 7 | AY12: Diziplinäre Ausrichtung, FDM muss eine Balance zwischen fachspez. Beratung und generischen Angeboten finden. Aktuell sind wir nicht spezifisch genug - und gehen damit oft an den Bedürfnissen vorbei - Spezifik kostet aber Geld und Personal. | AZ12: 6 | BA12: Ja | BB12: Ja | BC12: Nein | BD12: Nein | BE12: Nein | BF12: Nein | BG12: Nein | BH12: Ja | BI12: Überregionale Konsortien wie NFDI und DARIAH, CLARIAH | BJ12: Ja | BK12: Ja | BL12: Ja | BM12: Ja | BN12: Nein | BO12: Im Partner-Netzwerk | BP12: Nein | BQ12: Ja | BR12: Ja | BS12: Ja | BT12: Nein | BU12: Nein | BW12: Ja | BX12: Ja | BY12: Ja | BZ12: Ja | CA12: EOSC, ERICs | CB12: 3 | CC12: 1 | CH12: 1 | CI12: 3 | CJ12: 2 | CK12: 3 | CL12: Ja | CM12: Monitoring der Dienste und Webseiten | CN12: Ja | CO12: durch Befragungsaktionen | CP12: Ja | CQ12: Selbst-Assessment | CR12: Nein | CT12: Nein | CV12: Ja | CW12: Service Life Cycle | CX12: Nein | CZ12: Ja | DA12: Externe Gutachter bei Drittmittelanwerbung | DB12: Ja | DC12: Nein | DD12: Ja | DE12: Nein | DF12: Nein | DG12: Ja | DH12: Nein | DJ12: Nein | DK12: Nein | DL12: Nein | DM12: Ja | DN12: Ja | DO12: Nein | DQ12: Ja | DR12: Nein | DS12: Nein | DT12: Nein | DU12: Nein | DV12: Nein | DW12: Nein | DX12: Nein | DY12: Nein | DZ12: Ja | EA12: Ja | EB12: z.T. im Kontext des ERICs DARIAH auf europäischer Ebene, nur teilweise | EC12: Nein | ED12: Ja | EE12: Ja | EF12: Ja | EG12: Ja | EH12: Ja | EI12: Ja | EJ12: Ja | EK12: Nein | EM12: 1 | EN12: 3 | EO12: 5 | EP12: Ja | EQ12: Nein | ER12: Nein | ES12: Nein | ET12: Nein | EU12: Nein | EV12: Nein | EW12: 5 | EX12: 4 | EY12: 1 | EZ12: Niedersachsen
A13: 34 | B13: 5 | C13: 162279579 | D13: Ja | E13: Nein | F13: Nein | G13: Nein | H13: Nein | I13: Nein | J13: Nein | L13: Beratung oder Schulung | M13: Kein Angebot | N13: Kein Angebot | O13: Kein Angebot | P13: Kein Angebot | Q13: Kein Angebot | R13: Kein Angebot | S13: Kein Angebot | T13: Kein Angebot | U13: Nein | V13: N/A | X13: N/A | Z13: N/A | AB13: N/A | AD13: N/A | AF13: N/A | AI13: Ja | AJ13: Nein | AK13: Ja | AL13: Nein | AM13: Nein | AN13: Ja | AO13: Nein | AQ13: 1 | AR13: 2 | AS13: 5 | AZ13: 6 | BA13: Ja | BB13: Nein | BC13: Nein | BD13: Nein | BE13: Nein | BF13: Nein | BG13: Nein | BH13: Nein | BJ13: Ja | BK13: Nein | BL13: Nein | BM13: Nein | BN13: Nein | BP13: Nein | BQ13: Nein | BR13: Nein | BS13: Nein | BT13: Nein | BU13: Ja | BW13: Nein | BX13: Ja | BY13: Nein | BZ13: Nein | CB13: 1 | CH13: 3 | CI13: 4 | CJ13: 3 | CK13: 0 | CL13: N/A | CN13: N/A | CP13: N/A | CR13: N/A | CT13: N/A | CV13: N/A | CX13: N/A | CZ13: N/A | DB13: Nein | DC13: Nein | DD13: Nein | DE13: Nein | DF13: Ja | DG13: Nein | DH13: Nein | DJ13: Nein | DK13: Ja | DL13: Nein | DM13: Nein | DN13: Nein | DO13: Nein | DQ13: Ja | DR13: Nein | DS13: Nein | DT13: Nein | DU13: Nein | DV13: Nein | DW13: Nein | DX13: Nein | DY13: Nein | DZ13: Ja | EA13: Nein | EC13: Nein | ED13: Ja | EE13: Nein | EF13: Nein | EG13: Nein | EH13: Ja | EI13: Nein | EJ13: Nein | EK13: Nein | EM13: 2 | EN13: 2 | EO13: 3 | EP13: Nein | EQ13: Nein | ER13: Nein | ES13: Nein | ET13: Nein | EU13: Nein | EV13: Ja | EW13: 5 | EX13: 5 | EY13: 1 | EZ13: Bayern
A14: 35 | B14: 5 | C14: 870732017 | D14: Nein | E14: Nein | F14: Ja | G14: Nein | H14: Nein | I14: Nein | J14: Nein | L14: Beratung oder Schulung | M14: Beratung oder Schulung | V14: N/A | X14: N/A | Z14: N/A | AB14: N/A | AD14: N/A | AF14: N/A | AI14: Nein | AJ14: Nein | AK14: Nein | AL14: Ja | AM14: Nein | AN14: Ja | AO14: Nein | AQ14: 8 | AY14: Unsere Fachhochschule vereint einerseits Richtungen wie Pflege, die eigene, fachspezifische FDM-Strukturen bereits kennen und anwenden, andererseits Fachbereiche wie Theater und Musik, für die FDM noch ein neues Thema ist. | AZ14: 1 | BA14: Nein | BB14: Nein | BC14: Nein | BD14: Nein | BE14: Nein | BF14: Ja | BG14: Nein | BH14: Nein | BJ14: Nein | BK14: Ja | BL14: Nein | BM14: Nein | BN14: Nein | BP14: Nein | BQ14: Ja | BR14: Nein | BS14: Nein | BT14: Nein | BU14: Nein | BW14: Nein | BX14: Ja | BY14: Ja | BZ14: Nein | CB14: 3 | CC14: 6 | CD14: 5 | CH14: 5 | CI14: 4 | CJ14: 0 | CK14: 0 | CL14: Nein | CN14: Nein | CP14: Nein | CR14: Nein | CT14: Nein | CV14: Nein | CX14: Nein | CZ14: Nein | DB14: Nein | DC14: Nein | DD14: Nein | DE14: Nein | DF14: Nein | DG14: Nein | DH14: Nein | DJ14: Nein | DK14: Nein | DL14: Nein | DM14: Nein | DN14: Ja | DO14: Nein | DQ14: Nein | DR14: Ja | DS14: Ja | DT14: Ja | DU14: Nein | DV14: Nein | DW14: Nein | DX14: Nein | DY14: Nein | DZ14: Nein | EA14: Nein | EC14: Nein | ED14: Ja | EE14: Ja | EF14: Nein | EG14: Nein | EH14: Nein | EI14: Nein | EJ14: Nein | EK14: Nein | EM14: 0 | EN14: 0 | EO14: 0 | EP14: Nein | EQ14: Nein | ER14: Nein | ES14: Nein | ET14: Nein | EU14: Ja | EV14: Nein | EW14: 3 | EX14: 2 | EY14: 3 | EZ14: 0
A15: 36 | B15: 5 | C15: 1103865131 | D15: Ja | E15: Nein | F15: Nein | G15: Nein | H15: Nein | I15: Nein | J15: Nein | L15: Beratung oder Schulung | M15: Beratung oder Schulung | N15: Beratung oder Schulung | O15: Kein Angebot | P15: Kein Angebot | Q15: Beratung oder Schulung | R15: Dienstangebot | S15: Dienstangebot | T15: Beratung oder Schulung | U15: Nein | V15: N/A | X15: N/A | Z15: N/A | AB15: N/A | AD15: N/A | AF15: N/A | AI15: Nein | AJ15: Nein | AK15: Ja | AL15: Ja | AM15: Nein | AN15: Nein | AO15: Nein | AQ15: 4 | AR15: 7 | AS15: 5 | AT15: 1 | AU15: 3 | AZ15: 5 | BA15: Ja | BB15: Ja | BC15: Nein | BD15: Nein | BE15: Nein | BF15: Nein | BG15: Nein | BH15: Nein | BJ15: Ja | BK15: Nein | BL15: Ja | BM15: Nein | BN15: Nein | BP15: Ja | BQ15: Nein | BR15: Nein | BS15: Nein | BT15: Nein | BU15: Nein | BW15: Nein | BX15: Ja | BY15: Ja | BZ15: Ja | CB15: 1 | CC15: 3 | CD15: 2 | CH15: 1 | CI15: 4 | CJ15: 2 | CK15: 2 | CL15: Ja | CN15: Nein | CP15: Nein | CR15: Nein | CT15: Nein | CV15: Nein | CX15: Nein | CZ15: Nein | DB15: Ja | DC15: Nein | DD15: Nein | DE15: Nein | DF15: Nein | DG15: Nein | DH15: Nein | DJ15: Nein | DK15: Nein | DL15: Nein | DM15: Nein | DN15: Ja | DO15: Ja | DQ15: Ja | DR15: Nein | DS15: Nein | DT15: Nein | DU15: Nein | DV15: Nein | DW15: Nein | DX15: Nein | DY15: Nein | DZ15: Nein | EA15: Nein | EC15: Nein | ED15: Ja | EE15: Ja | EF15: Nein | EG15: Nein | EH15: Nein | EI15: Ja | EJ15: Nein | EK15: Nein | EM15: 5 | EN15: 3 | EO15: 3 | EP15: Nein | EQ15: Nein | ER15: Nein | ES15: Nein | ET15: Nein | EU15: Ja | EV15: Nein | EW15: 5 | EX15: 4 | EY15: 1 | EZ15: Niedersachsen
A16: 38 | B16: 5 | C16: 1526928340 | D16: Ja | E16: Nein | F16: Nein | G16: Nein | H16: Nein | I16: Nein | J16: Nein | L16: Dienstangebot | M16: Beratung oder Schulung | N16: Beratung oder Schulung | O16: Dienstangebot | P16: Beratung oder Schulung | Q16: Dienstangebot | R16: Dienstangebot | S16: Dienstangebot | T16: Beratung oder Schulung | U16: Nein | V16: N/A | X16: N/A | Z16: N/A | AB16: N/A | AD16: N/A | AF16: N/A | AI16: Ja | AJ16: Ja | AK16: Ja | AL16: Ja | AM16: Nein | AN16: Ja | AO16: Nein | AQ16: 3 | AR16: 1 | AS16: 4 | AT16: 5 | AU16: 7 | AY16: Lange Prozesse (meist beginnend mit einer Bedarfserhebung) mit Hinblick auf die Einigung auf bestimmte Dienste (z. B. welches ELN angeboten werden soll); vll. ist das Forschungsdatenreferat auch noch nicht so prominent, dass tatsächlich von Forschenden Bedarfe herangetragen werden | AZ16: 5 | BA16: Ja | BB16: Nein | BC16: Nein | BD16: Nein | BE16: Nein | BF16: Nein | BG16: Nein | BH16: Nein | BJ16: Ja | BK16: Nein | BL16: Nein | BM16: Ja | BN16: Nein | BP16: Ja | BQ16: Ja | BR16: Nein | BS16: Nein | BT16: Ja | BU16: Nein | BW16: Nein | BX16: Ja | BY16: Ja | BZ16: Nein | CB16: 3 | CC16: 6 | CD16: 4 | CE16: 1 | CH16: 1 | CI16: 2 | CJ16: 3 | CK16: 0 | CL16: N/A | CN16: N/A | CP16: N/A | CR16: N/A | CT16: N/A | CV16: N/A | CX16: N/A | CZ16: N/A | DB16: Ja | DC16: Nein | DD16: Nein | DE16: Ja | DF16: Ja | DG16: Nein | DH16: Nein | DJ16: Nein | DK16: Nein | DL16: Nein | DM16: Ja | DN16: Nein | DO16: Nein | DQ16: Ja | DR16: Ja | DS16: Ja | DT16: Ja | DU16: Ja | DV16: Ja | DW16: Nein | DX16: Nein | DY16: Ja | DZ16: Nein | EA16: Nein | EC16: Ja | ED16: Ja | EE16: Nein | EF16: Nein | EG16: Nein | EH16: Ja | EI16: Ja | EJ16: Nein | EK16: Nein | EM16: 1 | EN16: 5 | EO16: 5 | EP16: Nein | EQ16: Nein | ER16: Ja | ES16: Ja | ET16: Nein | EU16: Nein | EV16: Nein | EW16: 4 | EX16: 4 | EY16: 1 | EZ16: Hessen
A17: 40 | B17: 4 | C17: 402621011 | D17: Ja | E17: Nein | F17: Nein | G17: Nein | H17: Nein | I17: Nein | J17: Nein | L17: Beratung oder Schulung | M17: Dienstangebot | N17: Beratung oder Schulung | O17: Noch nicht geplant | P17: Dienstangebot | Q17: Beratung oder Schulung | R17: Dienstangebot | S17: Dienstangebot | T17: Beratung oder Schulung | U17: Nein | V17: N/A | X17: N/A | Z17: N/A | AB17: N/A | AD17: N/A | AF17: N/A | AI17: Ja | AJ17: Nein | AK17: Ja | AL17: Nein | AM17: Nein | AN17: Ja | AO17: Nein | AQ17: 5 | BA17: Ja | BB17: Ja | BC17: Nein | BD17: Nein | BE17: Nein | BF17: Nein | BG17: Nein | BH17: Nein | BJ17: Nein | BK17: Ja | BL17: Nein | BM17: Ja | BN17: Ja | BP17: Nein | BQ17: Ja | BR17: Nein | BS17: Nein | BT17: Nein | BU17: Nein | BW17: Ja | BX17: Ja | BY17: Ja | BZ17: Nein | CJ17: 0 | CK17: 0 | CL17: Nein | CN17: Nein | CP17: Nein | CR17: Nein | CT17: Nein | CV17: Nein | CX17: Nein | CZ17: Nein | DB17: Nein | DC17: Nein | DD17: Nein | DE17: Nein | DF17: Nein | DG17: Nein | DH17: Nein | DJ17: Nein | DK17: Nein | DL17: Nein | DM17: Nein | DN17: Nein | DO17: Nein | DQ17: Nein | DR17: Nein | DS17: Nein | DT17: Nein | DU17: Nein | DV17: Nein | DW17: Nein | DX17: Nein | DY17: Nein | DZ17: Nein | EA17: Nein | EC17: Nein | ED17: Nein | EE17: Nein | EF17: Nein | EG17: Nein | EH17: Nein | EI17: Nein | EJ17: Nein | EK17: Nein | EM17: 0 | EN17: 0 | EO17: 0 | EP17: Nein | EQ17: Nein | ER17: Nein | ES17: Nein | ET17: Nein | EU17: Nein | EV17: Nein | EY17: 0 | EZ17: 0
A18: 41 | B18: 5 | C18: 873886053 | D18: Nein | E18: Nein | F18: Nein | G18: Nein | H18: Nein | I18: Ja | J18: Nein | L18: Dienstangebot | M18: Beratung oder Schulung | N18: Beratung oder Schulung | O18: Dienstangebot | P18: Dienstangebot | Q18: Beratung oder Schulung | R18: Beratung oder Schulung | S18: Dienstangebot | T18: Beratung oder Schulung | U18: Ja | V18: Ja | W18: Bereitstellung von Softwarediensten | X18: Ja | Y18: Rechenzentrumsalliance der Hochschulen v.a. für Cloud-Speicher und HPC | Z18: Ja | AA18: Archivierungsinfrastruktur | AB18: Ja | AC18: Publikationsplattformen | AD18: Ja | AE18: spezielle Software-Dienstleistungen | AF18: Nein | AH18: Software-Bereitstellung, Beratung, Schulung | AI18: Ja | AJ18: Ja | AK18: Ja | AL18: Ja | AM18: Nein | AN18: Ja | AO18: Ja | AQ18: 3 | AR18: 1 | AS18: 2 | AT18: 7 | AU18: 4 | AV18: 5 | AW18: 6 | AZ18: 6 | BA18: Ja | BB18: Ja | BC18: Ja | BD18: Nein | BE18: Nein | BF18: Nein | BG18: Nein | BH18: Ja | BI18: zentrale wissenschaftliche Einrichtungen | BJ18: Ja | BK18: Ja | BL18: Nein | BM18: Nein | BN18: Nein | BP18: Ja | BQ18: Ja | BR18: Ja | BS18: Nein | BT18: Nein | BU18: Nein | BW18: Ja | BX18: Ja | BY18: Ja | BZ18: Ja | CA18: Förderbedingungen der Nachhaltigkeit von Projektergebnissen | CB18: 1 | CC18: 2 | CD18: 5 | CE18: 3 | CF18: 7 | CH18: 1 | CI18: 2 | CJ18: 2 | CK18: 3 | CL18: Nein | CN18: Ja | CP18: Ja | CR18: Ja | CT18: Nein | CV18: Ja | CX18: Ja | CZ18: Nein | DB18: Ja | DC18: Ja | DD18: Nein | DE18: Ja | DF18: Ja | DG18: Nein | DH18: Nein | DJ18: Nein | DK18: Ja | DL18: Nein | DM18: Ja | DN18: Ja | DO18: Ja | DQ18: Ja | DR18: Ja | DS18: Ja | DT18: Ja | DU18: Ja | DV18: Nein | DW18: Ja | DX18: Ja | DY18: Ja | DZ18: Ja | EA18: Nein | EC18: Ja | ED18: Ja | EE18: Ja | EF18: Ja | EG18: Nein | EH18: Nein | EI18: Ja | EJ18: Ja | EK18: Nein | EM18: 3 | EN18: 1 | EO18: 1 | EP18: Ja | EQ18: Nein | ER18: Nein | ES18: Nein | ET18: Nein | EU18: Nein | EV18: Nein | EW18: 3 | EX18: 2 | EY18: 1 | EZ18: Rheinland-Pfalz
A19: 42 | B19: 5 | C19: 503797165 | D19: Nein | E19: Nein | F19: Nein | G19: Nein | H19: Ja | I19: Ja | J19: Nein | L19: In Planung | M19: Beratung oder Schulung | N19: Dienstangebot | O19: Noch nicht geplant | P19: In Planung | Q19: In Planung | R19: In Planung | S19: Kein Angebot | T19: Kein Angebot | U19: Nein | V19: N/A | X19: N/A | Z19: N/A | AB19: N/A | AD19: N/A | AF19: N/A | AI19: Nein | AJ19: Ja | AK19: Ja | AL19: Ja | AM19: Nein | AN19: Ja | AO19: Ja | AQ19: 5 | AR19: 6 | AS19: 2 | AT19: 3 | AU19: 1 | AV19: 4 | AW19: 7 | AZ19: 5 | BA19: Ja | BB19: Ja | BC19: Nein | BD19: Nein | BE19: Nein | BF19: Ja | BG19: Nein | BH19: Ja | BJ19: Ja | BK19: Ja | BL19: Nein | BM19: Nein | BN19: Nein | BP19: Ja | BQ19: Ja | BR19: Ja | BS19: Nein | BT19: Nein | BU19: Nein | BW19: Ja | BX19: Ja | BY19: Ja | BZ19: Ja | CB19: 3 | CC19: 1 | CD19: 5 | CE19: 6 | CF19: 2 | CG19: 7 | CH19: 1 | CI19: 1 | CJ19: 3 | CK19: 0 | CL19: N/A | CN19: N/A | CP19: N/A | CR19: N/A | CT19: N/A | CV19: N/A | CX19: N/A | CZ19: N/A | DB19: Nein | DC19: Nein | DD19: Nein | DE19: Nein | DF19: Ja | DG19: Nein | DH19: Nein | DJ19: Nein | DK19: Ja | DL19: Nein | DM19: Ja | DN19: Nein | DO19: Nein | DQ19: Ja | DR19: Nein | DS19: Nein | DT19: Nein | DU19: Nein | DV19: Nein | DW19: Ja | DX19: Nein | DY19: Nein | DZ19: Nein | EA19: Ja | EB19: Fakultätsspezifische Angebote (primär Forschende, weniger Studierende) | EC19: Ja | ED19: Ja | EE19: Nein | EF19: Nein | EG19: Nein | EH19: Nein | EI19: Nein | EJ19: Nein | EK19: Nein | EM19: 5 | EN19: 1 | EO19: 5 | EP19: Ja | EQ19: Nein | ER19: Nein | ES19: Nein | ET19: Nein | EU19: Nein | EV19: Nein | EW19: 4 | EX19: 3 | EY19: 1 | EZ19: Niedersachsen
A20: 45 | B20: 5 | C20: 1717747045 | D20: Ja | E20: Nein | F20: Nein | G20: Nein | H20: Nein | I20: Ja | J20: Nein | L20: Dienstangebot | M20: Beratung oder Schulung | N20: Beratung oder Schulung | O20: Beratung oder Schulung | P20: Dienstangebot | Q20: Dienstangebot | R20: In Planung | S20: Dienstangebot | T20: Beratung oder Schulung | U20: Nein | V20: N/A | X20: N/A | Z20: N/A | AB20: N/A | AD20: N/A | AF20: N/A | AI20: Nein | AJ20: Ja | AK20: Ja | AL20: Ja | AM20: Ja | AN20: Ja | AO20: Nein | AQ20: 1 | AR20: 2 | AS20: 3 | AT20: 4 | AU20: 6 | AV20: 7 | AW20: 5 | AY20: keine Dauerstellen, bisher nur (kleine) Stellenanteile bestehender Stellen; | AZ20: 6 | BA20: Ja | BB20: Ja | BC20: Nein | BD20: Nein | BE20: Nein | BF20: Nein | BG20: Nein | BH20: Ja | BJ20: Ja | BK20: Ja | BL20: Ja | BM20: Nein | BN20: Nein | BP20: Ja | BQ20: Ja | BR20: Ja | BS20: Nein | BT20: Ja | BU20: Nein | BW20: Ja | BX20: Ja | BY20: Ja | BZ20: Ja | CB20: 1 | CC20: 5 | CD20: 3 | CE20: 4 | CF20: 2 | CG20: 6 | CH20: 1 | CI20: 2 | CJ20: 3 | CK20: 0 | CL20: N/A | CN20: N/A | CP20: N/A | CR20: N/A | CT20: N/A | CV20: N/A | CX20: N/A | CZ20: N/A | DB20: Ja | DC20: Nein | DD20: Nein | DE20: Ja | DF20: Ja | DG20: Nein | DH20: Nein | DJ20: Nein | DK20: Ja | DL20: Nein | DM20: Ja | DN20: Ja | DO20: Nein | DQ20: Ja | DR20: Ja | DS20: Ja | DT20: Ja | DU20: Ja | DV20: Nein | DW20: Ja | DX20: Ja | DY20: Nein | DZ20: Nein | EA20: Nein | EC20: Ja | ED20: Ja | EE20: Ja | EF20: Ja | EG20: Nein | EH20: Ja | EI20: Ja | EJ20: Ja | EK20: Nein | EM20: 1 | EN20: 3 | EO20: 3 | EP20: Nein | EQ20: Nein | ER20: Nein | ES20: Nein | ET20: Nein | EU20: Ja | EV20: Nein | EW20: 4 | EX20: 5 | EY20: 1 | EZ20: Baden-Württemberg
A21: 48 | B21: 5 | C21: 1429567836 | D21: Ja | E21: Nein | F21: Nein | G21: Nein | H21: Nein | I21: Nein | J21: Nein | L21: Dienstangebot | M21: Dienstangebot | N21: Beratung oder Schulung | O21: In Planung | P21: Beratung oder Schulung | Q21: Beratung oder Schulung | R21: Noch nicht geplant | S21: Beratung oder Schulung | T21: In Planung | U21: Nein | V21: N/A | X21: N/A | Z21: N/A | AB21: N/A | AD21: N/A | AF21: N/A | AI21: Nein | AJ21: Nein | AK21: Ja | AL21: Ja | AM21: Ja | AN21: Ja | AO21: Nein | AQ21: 1 | AR21: 3 | AS21: 2 | AT21: 7 | AZ21: 5 | BA21: Ja | BB21: Nein | BC21: Nein | BD21: Nein | BE21: Nein | BF21: Ja | BG21: Ja | BH21: Nein | BJ21: Ja | BK21: Nein | BL21: Ja | BM21: Ja | BN21: Ja | BP21: Ja | BQ21: Nein | BR21: Ja | BS21: Nein | BT21: Ja | BU21: Nein | BW21: Ja | BX21: Ja | BY21: Ja | BZ21: Nein | CB21: 3 | CC21: 5 | CD21: 4 | CE21: 6 | CF21: 1 | CH21: 1 | CI21: 5 | CJ21: 2 | CK21: 2 | CL21: Nein | CN21: Ja | CO21: während der Workshops (Beobachtung) und danach (Umfrage) | CP21: Ja | CQ21: regelmäßige Treffen und Berichterstattung | CR21: Nein | CT21: Nein | CV21: Nein | CX21: Nein | CZ21: Nein | DB21: Ja | DC21: Nein | DD21: Nein | DE21: Nein | DF21: Ja | DG21: Nein | DH21: Nein | DJ21: Nein | DK21: Ja | DL21: Nein | DM21: Nein | DN21: Nein | DO21: Nein | DQ21: Ja | DR21: Nein | DS21: Nein | DT21: Nein | DU21: Nein | DV21: Nein | DW21: Nein | DX21: Nein | DY21: Nein | DZ21: Nein | EA21: Nein | EC21: Ja | ED21: Ja | EE21: Ja | EF21: Nein | EG21: Nein | EH21: Ja | EI21: Ja | EJ21: Nein | EK21: Nein | EM21: 0 | EN21: 0 | EO21: 0 | EP21: Ja | EQ21: Nein | ER21: Nein | ES21: Nein | ET21: Nein | EU21: Nein | EV21: Nein | EW21: 4 | EX21: 3 | EY21: 1 | EZ21: Thüringen | FA21: Ein paar Fragen haben zu genaue/spezielle Antworten bzw. Abstufugen, als das man sie so beantworten könnte. Die Antworten müssten mehr aufgeteilt werden mit Folgeantworten, im Sinne: Wenn A zutrifft, gibt es Aa, Ab, Ac, ansonsten wenn B zutrifft, gibt es Ba, Bb, Bc...
A22: 49 | B22: 5 | C22: 1896335103 | D22: Ja | E22: Nein | F22: Nein | G22: Nein | H22: Nein | I22: Nein | J22: Nein | L22: Beratung oder Schulung | M22: Beratung oder Schulung | N22: Beratung oder Schulung | O22: Kein Angebot | P22: Kein Angebot | Q22: Beratung oder Schulung | R22: Beratung oder Schulung | S22: Beratung oder Schulung | T22: Kein Angebot | U22: Nein | V22: N/A | X22: N/A | Z22: N/A | AB22: N/A | AD22: N/A | AF22: N/A | AI22: Nein | AJ22: Nein | AK22: Ja | AL22: Ja | AM22: Nein | AN22: Ja | AO22: Nein | AQ22: 2 | AR22: 1 | AS22: 3 | AT22: 7 | AU22: 5 | AZ22: 5 | BA22: Ja | BB22: Nein | BC22: Nein | BD22: Nein | BE22: Nein | BF22: Nein | BG22: Nein | BH22: Nein | BJ22: Ja | BK22: Ja | BL22: Nein | BM22: Nein | BN22: Ja | BP22: Ja | BQ22: Ja | BR22: Nein | BS22: Nein | BT22: Ja | BU22: Nein | BW22: Nein | BX22: Ja | BY22: Ja | BZ22: Nein | CB22: 4 | CC22: 5 | CD22: 3 | CE22: 1 | CH22: 1 | CI22: 2 | CJ22: 2 | CK22: 2 | CL22: Ja | CN22: Nein | CP22: Ja | CR22: Nein | CT22: Nein | CV22: Nein | CX22: Nein | CZ22: Nein | DB22: Ja | DC22: Nein | DD22: Ja | DE22: Nein | DF22: Nein | DG22: Nein | DH22: Nein | DJ22: Nein | DK22: Ja | DL22: Nein | DM22: Nein | DN22: Nein | DO22: Nein | DQ22: Ja | DR22: Nein | DS22: Nein | DT22: Nein | DU22: Nein | DV22: Nein | DW22: Nein | DX22: Nein | DY22: Ja | DZ22: Nein | EA22: Nein | EC22: Ja | ED22: Nein | EE22: Ja | EF22: Nein | EG22: Nein | EH22: Nein | EI22: Nein | EJ22: Nein | EK22: Nein | EM22: 4 | EN22: 4 | EO22: 3 | EP22: Ja | EQ22: Nein | ER22: Nein | ES22: Nein | ET22: Nein | EU22: Nein | EV22: Nein | EW22: 3 | EX22: 2 | EY22: 1 | EZ22: Thüringen
A23: 50 | B23: 5 | C23: 1451488408 | D23: Ja | E23: Nein | F23: Nein | G23: Ja | H23: Nein | I23: Ja | J23: Nein | L23: Beratung oder Schulung | M23: Dienstangebot | N23: Beratung oder Schulung | O23: Noch nicht geplant | P23: Beratung oder Schulung | Q23: Beratung oder Schulung | R23: Beratung oder Schulung | S23: Beratung oder Schulung | T23: In Planung | U23: Nein | V23: N/A | X23: N/A | Z23: N/A | AB23: N/A | AD23: N/A | AF23: N/A | AI23: Nein | AJ23: Nein | AK23: Ja | AL23: Ja | AM23: Ja | AN23: Ja | AO23: Ja | AQ23: 6 | AR23: 1 | AS23: 2 | AZ23: 5 | BA23: Ja | BB23: Ja | BC23: Nein | BD23: Nein | BE23: Nein | BF23: Nein | BG23: Nein | BH23: Ja | BJ23: Ja | BK23: Ja | BL23: Ja | BM23: Ja | BN23: Ja | BP23: Nein | BQ23: Ja | BR23: Ja | BS23: Nein | BT23: Ja | BU23: Nein | BW23: Ja | BX23: Ja | BY23: Ja | BZ23: Ja | CB23: 1 | CC23: 4 | CD23: 3 | CH23: 1 | CI23: 5 | CJ23: 1 | CK23: 3 | CL23: Nein | CN23: Nein | CP23: Ja | CR23: Ja | CT23: Ja | CV23: Ja | CX23: Ja | CZ23: Nein | DB23: Ja | DC23: Ja | DD23: Nein | DE23: Ja | DF23: Ja | DG23: Nein | DH23: Ja | DJ23: Nein | DK23: Ja | DL23: Nein | DM23: Ja | DN23: Nein | DO23: Nein | DQ23: Ja | DR23: Ja | DS23: Ja | DT23: Ja | DU23: Ja | DV23: Ja | DW23: Ja | DX23: Ja | DY23: Ja | DZ23: Ja | EA23: Nein | EC23: Ja | ED23: Ja | EE23: Ja | EF23: Ja | EG23: Nein | EH23: Ja | EI23: Nein | EJ23: Ja | EK23: Nein | EM23: 1 | EN23: 1 | EO23: 5 | EP23: Ja | EQ23: Nein | ER23: Nein | ES23: Nein | ET23: Nein | EU23: Nein | EV23: Nein | EW23: 3 | EX23: 3 | EY23: 1 | EZ23: Brandenburg
A24: 53 | B24: 5 | C24: 1214403871 | D24: Nein | E24: Nein | F24: Nein | G24: Nein | H24: Nein | I24: Ja | J24: Nein | L24: Beratung oder Schulung | M24: Dienstangebot | N24: Beratung oder Schulung | O24: Noch nicht geplant | P24: Dienstangebot | Q24: Dienstangebot | R24: Dienstangebot | S24: Dienstangebot | T24: Kein Angebot | U24: Nein | V24: N/A | X24: N/A | Z24: N/A | AB24: N/A | AD24: N/A | AF24: N/A | AI24: Ja | AJ24: Ja | AK24: Ja | AL24: Ja | AM24: Nein | AN24: Ja | AO24: Ja | AQ24: 4 | AR24: 1 | AZ24: 6 | BA24: Nein | BB24: Ja | BC24: Ja | BD24: Nein | BE24: Nein | BF24: Nein | BG24: Nein | BH24: Ja | BJ24: Ja | BK24: Ja | BL24: Ja | BM24: Ja | BN24: Nein | BP24: Ja | BQ24: Nein | BR24: Ja | BS24: Ja | BT24: Ja | BU24: Nein | BW24: Ja | BX24: Ja | BY24: Ja | BZ24: Ja | CB24: 1 | CC24: 2 | CD24: 3 | CH24: 1 | CI24: 2 | CJ24: 2 | CK24: 2 | CL24: Ja | CN24: Nein | CP24: Nein | CR24: Nein | CT24: Nein | CV24: Ja | CX24: Nein | CZ24: Nein | DB24: Ja | DC24: Nein | DD24: Ja | DE24: Ja | DF24: Ja | DG24: Nein | DH24: Ja | DJ24: Nein | DK24: Ja | DL24: Ja | DM24: Ja | DN24: Nein | DO24: Nein | DQ24: Ja | DR24: Nein | DS24: Nein | DT24: Nein | DU24: Nein | DV24: Nein | DW24: Nein | DX24: Nein | DY24: Nein | DZ24: Nein | EA24: Ja | EB24: z.T. Forschende anderer Hochschulen (international/eduGAIN) | EC24: Ja | ED24: Ja | EE24: Nein | EF24: Ja | EG24: Nein | EH24: Ja | EI24: Ja | EJ24: Ja | EK24: Nein | EM24: 1 | EN24: 1 | EO24: 5 | EP24: Ja | EQ24: Nein | ER24: Nein | ES24: Nein | ET24: Nein | EU24: Nein | EV24: Nein | EW24: 4 | EX24: 4 | EY24: 1 | EZ24: Hamburg
A25: 54 | B25: 5 | C25: 1206597244 | D25: Ja | E25: Nein | F25: Nein | G25: Nein | H25: Nein | I25: Nein | J25: Nein | L25: Beratung oder Schulung | M25: Dienstangebot | N25: Kein Angebot | O25: Kein Angebot | P25: Beratung oder Schulung | Q25: Kein Angebot | R25: Dienstangebot | S25: Dienstangebot | T25: Noch nicht geplant | V25: N/A | X25: N/A | Z25: N/A | AB25: N/A | AD25: N/A | AF25: N/A | AI25: Ja | AJ25: Ja | AK25: Ja | AL25: Nein | AM25: Nein | AN25: Ja | AO25: Ja | AQ25: 1 | AR25: 2 | AS25: 4 | AT25: 3 | AU25: 5 | AZ25: 5 | BA25: Ja | BB25: Ja | BC25: Nein | BD25: Nein | BE25: Nein | BF25: Nein | BG25: Nein | BH25: Nein | BJ25: Ja | BK25: Nein | BL25: Ja | BM25: Nein | BN25: Nein | BP25: Nein | BQ25: Ja | BR25: Nein | BS25: Nein | BT25: Ja | BU25: Nein | BW25: Ja | BX25: Ja | BY25: Ja | BZ25: Nein | CB25: 4 | CC25: 1 | CD25: 5 | CE25: 6 | CF25: 3 | CH25: 1 | CI25: 4 | CJ25: 2 | CK25: 4 | CL25: Nein | CN25: Nein | CP25: Nein | CR25: Nein | CT25: Nein | CV25: Nein | CX25: Ja | CY25: z.Z. werden nur unsere Schulungen evaluiert | CZ25: Nein | DB25: Ja | DC25: Nein | DD25: Nein | DE25: Nein | DF25: Nein | DG25: Nein | DH25: Nein | DJ25: Nein | DK25: Ja | DL25: Nein | DM25: Nein | DN25: Nein | DO25: Nein | DP25: durch Teilnahme am Verbundprojekt | DQ25: Ja | DR25: Nein | DS25: Nein | DT25: Nein | DU25: Nein | DV25: Nein | DW25: Nein | DX25: Nein | DY25: Nein | DZ25: Nein | EA25: Nein | EC25: Ja | ED25: Nein | EE25: Ja | EF25: Nein | EG25: Nein | EH25: Ja | EI25: Nein | EJ25: Nein | EK25: Nein | EM25: 5 | EN25: 5 | EO25: 5 | EP25: Nein | EQ25: Nein | ER25: Nein | ES25: Nein | ET25: Ja | EU25: Nein | EV25: Nein | EW25: 4 | EX25: 3 | EY25: 1 | EZ25: 0
A26: 55 | B26: 5 | C26: 2018991831 | D26: Nein | E26: Nein | F26: Nein | G26: Ja | H26: Nein | I26: Nein | J26: Nein | L26: Beratung oder Schulung | M26: Dienstangebot | N26: Beratung oder Schulung | O26: Kein Angebot | P26: Beratung oder Schulung | Q26: Beratung oder Schulung | R26: Dienstangebot | S26: In Planung | T26: Noch nicht geplant | U26: Nein | V26: N/A | X26: N/A | Z26: N/A | AB26: N/A | AD26: N/A | AF26: N/A | AI26: Nein | AJ26: Nein | AK26: Ja | AL26: Ja | AM26: Nein | AN26: Nein | AO26: Nein | AQ26: 6 | AR26: 3 | AS26: 5 | AT26: 1 | AY26: Es fehlt auf Seiten der Universität ein grundlegendes Commitment, das Management von Forschungsdaten als Element der Gedächtnisorganisation anzuerkennen. Auf Seiten den Forschenden wird in datengetriebenen Wissenschaftsfeldern FDM (oft in Eigenregie) praktiziert, die meisten Forschenden sehen dies als individuelle Aufgabe oder sehen sich selbst als solche, die das nicht betrifft. | AZ26: 5 | BA26: Ja | BB26: Ja | BC26: Nein | BD26: Nein | BE26: Ja | BF26: Ja | BG26: Ja | BH26: Nein | BJ26: Ja | BK26: Ja | BL26: Nein | BM26: Nein | BN26: Nein | BO26: Interne Weiterbildung | BP26: Nein | BQ26: Ja | BR26: Nein | BS26: Nein | BT26: Ja | BU26: Nein | BW26: Ja | BX26: Ja | BY26: Nein | BZ26: Ja | CB26: 2 | CC26: 3 | CD26: 1 | CE26: 6 | CH26: 1 | CI26: 3 | CJ26: 3 | CK26: 0 | CL26: N/A | CN26: N/A | CP26: N/A | CR26: N/A | CT26: N/A | CV26: N/A | CX26: N/A | CZ26: N/A | DB26: Nein | DC26: Nein | DD26: Nein | DE26: Ja | DF26: Ja | DG26: Nein | DH26: Nein | DJ26: Nein | DK26: Nein | DL26: Ja | DM26: Nein | DN26: Ja | DO26: Nein | DQ26: Ja | DR26: Nein | DS26: Nein | DT26: Nein | DU26: Nein | DV26: Nein | DW26: Nein | DX26: Nein | DY26: Nein | DZ26: Nein | EA26: Nein | EC26: Nein | ED26: Ja | EE26: Ja | EF26: Ja | EG26: Nein | EH26: Nein | EI26: Nein | EJ26: Nein | EK26: Nein | EM26: 3 | EN26: 3 | EO26: 4 | EP26: Ja | EQ26: Nein | ER26: Nein | ES26: Nein | ET26: Nein | EU26: Nein | EV26: Nein | EW26: 4 | EX26: 2 | EY26: 1 | EZ26: Baden-Württemberg
A27: 57 | B27: 5 | C27: 320882985 | D27: Ja | E27: Nein | F27: Nein | G27: Nein | H27: Nein | I27: Nein | J27: Nein | L27: Beratung oder Schulung | M27: Dienstangebot | N27: In Planung | O27: Kein Angebot | P27: Dienstangebot | Q27: Beratung oder Schulung | R27: Dienstangebot | S27: Beratung oder Schulung | T27: Beratung oder Schulung | U27: Nein | V27: N/A | X27: N/A | Z27: N/A | AB27: N/A | AD27: N/A | AF27: N/A | AI27: Nein | AJ27: Nein | AK27: Ja | AL27: Ja | AM27: Ja | AN27: Ja | AO27: Nein | AQ27: 6 | AR27: 7 | AS27: 5 | AT27: 4 | AU27: 2 | AV27: 1 | AW27: 3 | AY27: Schlechte organisationsübergreifende inneruniversitäre Kommunikation, keine klare Struktur hinsichtlich Strategie und Governance, fehlende Kompetenz an der Bibliothek | AZ27: 5 | BA27: Ja | BB27: Nein | BC27: Nein | BD27: Nein | BE27: Nein | BF27: Nein | BG27: Nein | BH27: Nein | BJ27: Ja | BK27: Ja | BL27: Nein | BM27: Nein | BN27: Ja | BP27: Nein | BQ27: Ja | BR27: Nein | BS27: Nein | BT27: Nein | BU27: Ja | BW27: Ja | BX27: Ja | BY27: Nein | BZ27: Ja | CB27: 5 | CC27: 2 | CD27: 1 | CE27: 3 | CH27: 3 | CI27: 4 | CJ27: 3 | CK27: 0 | CL27: N/A | CN27: N/A | CP27: N/A | CR27: N/A | CT27: N/A | CV27: N/A | CX27: N/A | CZ27: N/A | DB27: Nein | DC27: Nein | DD27: Nein | DE27: Nein | DF27: Ja | DG27: Nein | DH27: Nein | DJ27: Nein | DK27: Nein | DL27: Nein | DM27: Ja | DN27: Nein | DO27: Nein | DQ27: Nein | DR27: Ja | DS27: Ja | DT27: Ja | DU27: Ja | DV27: Nein | DW27: Nein | DX27: Nein | DY27: Nein | DZ27: Nein | EA27: Nein | EC27: Ja | ED27: Ja | EE27: Ja | EF27: Nein | EG27: Nein | EH27: Nein | EI27: Nein | EJ27: Nein | EK27: Nein | EM27: 1 | EN27: 1 | EO27: 0 | EP27: Nein | EQ27: Nein | ER27: Nein | ES27: Nein | ET27: Nein | EU27: Ja | EV27: Nein | EW27: 2 | EX27: 3 | EY27: 1 | EZ27: Niedersachsen | FA27: Es wäre schön, wenn nicht jede Einrichtung alles mit Schulungen flutet, sondern es zentrale Angebote, am besten fachspezifischer Natur gibt. Des Weiteren ist gerade an vielen Bibliotheken wenig bis gar kein Wissen bzgl. Projekt- und damit auch FD-Management vorhanden (bis auf die üblichen Player). Deshalb müssten eigentlich Aktivitäten gebündelt werden. Die NFDI ist Ausdruck dieser Erkenntnis. An den Hochschulen ist das allerdings nicht angekommen. Viele Services sind redundant.
A28: 58 | B28: 5 | C28: 571604986 | D28: Nein | E28: Nein | F28: Ja | G28: Nein | H28: Nein | I28: Nein | J28: Nein | L28: Beratung oder Schulung | M28: Beratung oder Schulung | N28: Beratung oder Schulung | O28: Beratung oder Schulung | P28: Kein Angebot | Q28: Kein Angebot | R28: Kein Angebot | S28: Beratung oder Schulung | T28: Kein Angebot | U28: Nein | V28: N/A | X28: N/A | Z28: N/A | AB28: N/A | AD28: N/A | AF28: N/A | AI28: Ja | AJ28: Ja | AK28: Ja | AL28: Ja | AM28: Nein | AN28: Nein | AO28: Nein | AQ28: 1 | AR28: 3 | AS28: 2 | AT28: 5 | AZ28: 6 | BA28: Ja | BB28: Ja | BC28: Ja | BD28: Nein | BE28: Nein | BF28: Nein | BG28: Nein | BH28: Ja | BJ28: Nein | BK28: Nein | BL28: Ja | BM28: Nein | BN28: Ja | BP28: Nein | BQ28: Ja | BR28: Nein | BS28: Nein | BT28: Nein | BU28: Nein | BW28: Ja | BX28: Ja | BY28: Ja | BZ28: Ja | CB28: 5 | CC28: 6 | CD28: 2 | CE28: 3 | CF28: 4 | CH28: 5 | CI28: 3 | CJ28: 3 | CK28: 0 | CL28: N/A | CN28: N/A | CP28: N/A | CR28: N/A | CT28: N/A | CV28: N/A | CX28: N/A | CZ28: N/A | DB28: Ja | DC28: Nein | DD28: Nein | DE28: Nein | DF28: Nein | DG28: Nein | DH28: Nein | DJ28: Nein | DK28: Ja | DL28: Nein | DM28: Nein | DN28: Nein | DO28: Nein | DQ28: Nein | DR28: Ja | DS28: Ja | DT28: Ja | DU28: Ja | DV28: Nein | DW28: Nein | DX28: Ja | DY28: Nein | DZ28: Nein | EA28: Nein | EC28: Ja | ED28: Nein | EE28: Ja | EF28: Nein | EG28: Nein | EH28: Ja | EI28: Nein | EJ28: Nein | EK28: Nein | EM28: 1 | EN28: 1 | EO28: 2 | EP28: Nein | EQ28: Nein | ER28: Ja | ES28: Ja | ET28: Nein | EU28: Nein | EV28: Nein | EW28: 3 | EX28: 2 | EY28: 1 | EZ28: Sachsen
A29: 60 | B29: 5 | C29: 1863448062 | D29: Ja | E29: Nein | F29: Nein | G29: Nein | H29: Nein | I29: Nein | J29: Nein | L29: Beratung oder Schulung | M29: Beratung oder Schulung | N29: Beratung oder Schulung | O29: Beratung oder Schulung | P29: Beratung oder Schulung | Q29: Beratung oder Schulung | R29: Beratung oder Schulung | S29: Beratung oder Schulung | T29: In Planung | U29: Ja | V29: Nein | X29: Ja | Y29: Thüringer Kompetenznetzwerk FDM | Z29: Nein | AB29: Nein | AD29: Nein | AF29: Nein | AH29: Beratung, Schulung | AI29: Nein | AJ29: Nein | AK29: Ja | AL29: Ja | AM29: Nein | AN29: Ja | AO29: Nein | AZ29: 5 | BA29: Ja | BB29: Nein | BC29: Nein | BD29: Nein | BE29: Nein | BF29: Nein | BG29: Nein | BH29: Nein | BJ29: Ja | BK29: Nein | BL29: Nein | BM29: Ja | BN29: Nein | BP29: Ja | BQ29: Nein | BR29: Nein | BS29: Nein | BT29: Ja | BU29: Nein | BW29: Ja | BX29: Ja | BY29: Ja | BZ29: Nein | CB29: 3 | CC29: 6 | CH29: 1 | CI29: 4 | CJ29: 2 | CK29: 4 | CL29: Nein | CN29: Nein | CP29: Nein | CR29: Nein | CT29: Nein | CV29: Nein | CX29: Nein | CZ29: Ja | DA29: Teilnehmer*innen von Veranstaltungen | DB29: Ja | DC29: Nein | DD29: Nein | DE29: Nein | DF29: Nein | DG29: Nein | DH29: Nein | DJ29: Nein | DK29: Ja | DL29: Nein | DM29: Ja | DN29: Nein | DO29: Nein | DQ29: Ja | DR29: Nein | DS29: Nein | DT29: Nein | DU29: Nein | DV29: Nein | DW29: Nein | DX29: Nein | DY29: Nein | DZ29: Nein | EA29: Nein | EC29: Ja | ED29: Nein | EE29: Ja | EF29: Nein | EG29: Nein | EH29: Ja | EI29: Nein | EJ29: Nein | EK29: Nein | EM29: 3 | EN29: 3 | EO29: 3 | EP29: Ja | EQ29: Nein | ER29: Nein | ES29: Nein | ET29: Nein | EU29: Nein | EV29: Nein | EW29: 4 | EX29: 3 | EY29: 1 | EZ29: Thüringen
A30: 61 | B30: 5 | C30: 184237245 | D30: Nein | E30: Nein | F30: Nein | G30: Nein | H30: Nein | I30: Ja | J30: Nein | L30: Dienstangebot | M30: Dienstangebot | N30: Dienstangebot | O30: Beratung oder Schulung | P30: Beratung oder Schulung | Q30: Beratung oder Schulung | R30: Dienstangebot | S30: Dienstangebot | T30: Kein Angebot | U30: Nein | V30: N/A | X30: N/A | Z30: N/A | AB30: N/A | AD30: N/A | AF30: N/A | AI30: Nein | AJ30: Nein | AK30: Ja | AL30: Ja | AM30: Nein | AN30: Nein | AO30: Nein | AQ30: 3 | AR30: 2 | AS30: 1 | AT30: 7 | AU30: 4 | AV30: 6 | AW30: 5 | AZ30: 6 | BA30: Ja | BB30: Ja | BC30: Nein | BD30: Nein | BE30: Nein | BF30: Nein | BG30: Nein | BH30: Ja | BJ30: Ja | BK30: Nein | BL30: Ja | BM30: Nein | BN30: Ja | BP30: Ja | BQ30: Ja | BR30: Ja | BS30: Ja | BT30: Nein | BU30: Nein | BW30: Nein | BX30: Ja | BY30: Ja | BZ30: Nein | CA30: Bedarfe der Forschenden | CB30: 1 | CC30: 3 | CD30: 6 | CE30: 5 | CF30: 2 | CG30: 4 | CH30: 1 | CI30: 4 | CJ30: 2 | CK30: 3 | CL30: Nein | CN30: Ja | CP30: Nein | CR30: Ja | CT30: Nein | CV30: Nein | CX30: Nein | CZ30: Nein | DB30: Nein | DC30: Nein | DD30: Ja | DE30: Nein | DF30: Ja | DG30: Nein | DH30: Nein | DJ30: Nein | DK30: Nein | DL30: Nein | DM30: Nein | DN30: Ja | DO30: Nein | DQ30: Nein | DR30: Nein | DS30: Ja | DT30: Ja | DU30: Ja | DV30: Ja | DW30: Nein | DX30: Nein | DY30: Nein | DZ30: Nein | EA30: Nein | EC30: Ja | ED30: Ja | EE30: Ja | EF30: Ja | EG30: Nein | EH30: Ja | EI30: Ja | EJ30: Ja | EK30: Nein | EM30: 0 | EN30: 0 | EO30: 0 | EP30: Ja | EQ30: Nein | ER30: Nein | ES30: Nein | ET30: Nein | EU30: Nein | EV30: Nein | EW30: 5 | EX30: 5 | EY30: 1 | EZ30: Nordrhein Westfalen
A31: 62 | B31: 5 | C31: 578842037 | D31: Ja | E31: Nein | F31: Nein | G31: Nein | H31: Nein | I31: Nein | J31: Nein | L31: Beratung oder Schulung | M31: Beratung oder Schulung | N31: Beratung oder Schulung | O31: Noch nicht geplant | P31: In Planung | Q31: Noch nicht geplant | R31: Beratung oder Schulung | S31: Beratung oder Schulung | T31: Noch nicht geplant | U31: Nein | V31: N/A | X31: N/A | Z31: N/A | AB31: N/A | AD31: N/A | AF31: N/A | AI31: Nein | AJ31: Nein | AK31: Ja | AL31: Ja | AM31: Nein | AN31: Ja | AO31: Nein | AQ31: 1 | AR31: 4 | AS31: 3 | AT31: 2 | AZ31: 5 | BA31: Ja | BB31: Nein | BC31: Nein | BD31: Ja | BE31: Nein | BF31: Nein | BG31: Nein | BH31: Ja | BJ31: Ja | BK31: Ja | BL31: Nein | BM31: Nein | BN31: Nein | BP31: Ja | BQ31: Nein | BR31: Nein | BS31: Nein | BT31: Nein | BU31: Nein | BW31: Nein | BX31: Ja | BY31: Ja | BZ31: Ja | CB31: 5 | CC31: 3 | CD31: 1 | CH31: 1 | CI31: 4 | CJ31: 3 | CK31: 0 | CL31: N/A | CN31: N/A | CP31: N/A | CR31: N/A | CT31: N/A | CV31: N/A | CX31: N/A | CZ31: N/A | DB31: Nein | DC31: Nein | DD31: Nein | DE31: Nein | DF31: Ja | DG31: Nein | DH31: Nein | DJ31: Nein | DK31: Ja | DL31: Nein | DM31: Nein | DN31: Nein | DO31: Nein | DQ31: Ja | DR31: Nein | DS31: Nein | DT31: Nein | DU31: Nein | DV31: Nein | DW31: Nein | DX31: Nein | DY31: Nein | DZ31: Nein | EA31: Nein | EC31: Ja | ED31: Ja | EE31: Nein | EF31: Nein | EG31: Nein | EH31: Nein | EI31: Nein | EJ31: Ja | EK31: Nein | EM31: 3 | EN31: 0 | EO31: 0 | EP31: Nein | EQ31: Ja | ER31: Nein | ES31: Nein | ET31: Nein | EU31: Nein | EV31: Nein | EW31: 5 | EX31: 4 | EY31: 1 | EZ31: Bremen
A32: 63 | B32: 1 | C32: 1171033743 | D32: Nein | E32: Nein | F32: Nein | G32: Nein | H32: Nein | I32: Ja | J32: Nein | L32: Beratung oder Schulung | M32: Beratung oder Schulung | N32: Beratung oder Schulung | V32: N/A | X32: N/A | Z32: N/A | AB32: N/A | AD32: N/A | AF32: N/A | AI32: Nein | AJ32: Nein | AK32: Nein | AL32: Nein | AM32: Nein | AN32: Nein | AO32: Nein | BA32: N/A | BB32: N/A | BC32: N/A | BD32: N/A | BE32: N/A | BF32: N/A | BG32: N/A | BH32: N/A | BJ32: N/A | BK32: N/A | BL32: N/A | BM32: N/A | BN32: N/A | BP32: N/A | BQ32: N/A | BR32: N/A | BS32: N/A | BT32: N/A | BU32: N/A | BW32: N/A | BX32: N/A | BY32: N/A | BZ32: N/A | CJ32: 0 | CK32: 0 | CL32: N/A | CN32: N/A | CP32: N/A | CR32: N/A | CT32: N/A | CV32: N/A | CX32: N/A | CZ32: N/A | DB32: N/A | DC32: N/A | DD32: N/A | DE32: N/A | DF32: N/A | DG32: N/A | DH32: N/A | DJ32: N/A | DK32: N/A | DL32: N/A | DM32: N/A | DN32: N/A | DO32: N/A | DQ32: N/A | DR32: N/A | DS32: N/A | DT32: N/A | DU32: N/A | DV32: N/A | DW32: N/A | DX32: N/A | DY32: N/A | DZ32: N/A | EA32: N/A | EC32: N/A | ED32: N/A | EE32: N/A | EF32: N/A | EG32: N/A | EH32: N/A | EI32: N/A | EJ32: N/A | EK32: N/A | EM32: 0 | EN32: 0 | EO32: 0 | EP32: N/A | EQ32: N/A | ER32: N/A | ES32: N/A | ET32: N/A | EU32: N/A | EV32: N/A | EY32: 0 | EZ32: 0
A33: 65 | B33: 1 | C33: 1974180512 | D33: Nein | E33: Nein | F33: Ja | G33: Nein | H33: Nein | I33: Nein | J33: Nein | L33: Kein Angebot | M33: Kein Angebot | N33: Kein Angebot | O33: Kein Angebot | P33: Kein Angebot | Q33: Kein Angebot | R33: Kein Angebot | S33: Kein Angebot | T33: Kein Angebot | U33: Ja | V33: Nein | X33: Nein | Z33: Nein | AB33: Nein | AD33: Nein | AF33: Nein | AI33: Nein | AJ33: Nein | AK33: Nein | AL33: Nein | AM33: Nein | AN33: Nein | AO33: Nein | AQ33: 3 | AR33: 1 | AS33: 2 | AT33: 7 | BA33: N/A | BB33: N/A | BC33: N/A | BD33: N/A | BE33: N/A | BF33: N/A | BG33: N/A | BH33: N/A | BJ33: N/A | BK33: N/A | BL33: N/A | BM33: N/A | BN33: N/A | BP33: N/A | BQ33: N/A | BR33: N/A | BS33: N/A | BT33: N/A | BU33: N/A | BW33: N/A | BX33: N/A | BY33: N/A | BZ33: N/A | CJ33: 0 | CK33: 0 | CL33: N/A | CN33: N/A | CP33: N/A | CR33: N/A | CT33: N/A | CV33: N/A | CX33: N/A | CZ33: N/A | DB33: N/A | DC33: N/A | DD33: N/A | DE33: N/A | DF33: N/A | DG33: N/A | DH33: N/A | DJ33: N/A | DK33: N/A | DL33: N/A | DM33: N/A | DN33: N/A | DO33: N/A | DQ33: N/A | DR33: N/A | DS33: N/A | DT33: N/A | DU33: N/A | DV33: N/A | DW33: N/A | DX33: N/A | DY33: N/A | DZ33: N/A | EA33: N/A | EC33: N/A | ED33: N/A | EE33: N/A | EF33: N/A | EG33: N/A | EH33: N/A | EI33: N/A | EJ33: N/A | EK33: N/A | EM33: 0 | EN33: 0 | EO33: 0 | EP33: N/A | EQ33: N/A | ER33: N/A | ES33: N/A | ET33: N/A | EU33: N/A | EV33: N/A | EY33: 0 | EZ33: 0
A34: 69 | B34: 5 | C34: 1387458989 | D34: Ja | E34: Nein | F34: Nein | G34: Nein | H34: Nein | I34: Nein | J34: Nein | L34: Beratung oder Schulung | M34: Beratung oder Schulung | N34: Beratung oder Schulung | O34: Kein Angebot | P34: Kein Angebot | Q34: Beratung oder Schulung | R34: Dienstangebot | S34: Beratung oder Schulung | T34: Beratung oder Schulung | U34: Ja | V34: Ja | W34: Regionales Rechenzentrum | X34: Nein | Z34: Nein | AB34: Nein | AD34: Nein | AF34: Nein | AH34: Langzeitarchivierung | AI34: Ja | AJ34: Nein | AK34: Ja | AL34: Ja | AM34: Nein | AN34: Ja | AO34: Ja | AQ34: 2 | AR34: 1 | AZ34: 5 | BA34: Ja | BB34: Ja | BC34: Nein | BD34: Nein | BE34: Nein | BF34: Nein | BG34: Ja | BH34: Nein | BJ34: Ja | BK34: Ja | BL34: Ja | BM34: Nein | BN34: Nein | BP34: Nein | BQ34: Ja | BR34: Nein | BS34: Nein | BT34: Ja | BU34: Nein | BW34: Ja | BX34: Ja | BY34: Ja | BZ34: Ja | CB34: 4 | CC34: 3 | CD34: 1 | CE34: 2 | CH34: 1 | CI34: 2 | CJ34: 0 | CK34: 0 | CL34: Nein | CN34: Nein | CP34: Nein | CR34: Nein | CT34: Nein | CV34: Nein | CX34: Nein | CZ34: Nein | DB34: Nein | DC34: Nein | DD34: Nein | DE34: Nein | DF34: Nein | DG34: Nein | DH34: Nein | DJ34: Nein | DK34: Ja | DL34: Nein | DM34: Nein | DN34: Ja | DO34: Nein | DQ34: Ja | DR34: Nein | DS34: Nein | DT34: Nein | DU34: Nein | DV34: Nein | DW34: Nein | DX34: Nein | DY34: Nein | DZ34: Nein | EA34: Nein | EC34: Ja | ED34: Ja | EE34: Ja | EF34: Nein | EG34: Nein | EH34: Nein | EI34: Ja | EJ34: Nein | EK34: Nein | EM34: 5 | EN34: 5 | EO34: 5 | EP34: Ja | EQ34: Nein | ER34: Nein | ES34: Nein | ET34: Nein | EU34: Nein | EV34: Nein | EW34: 4 | EX34: 3 | EY34: 1 | EZ34: Hamburg
A35: 72 | B35: 5 | C35: 102613049 | D35: Nein | E35: Nein | F35: Ja | G35: Nein | H35: Nein | I35: Nein | J35: Nein | L35: Beratung oder Schulung | M35: Dienstangebot | P35: Kein Angebot | Q35: Kein Angebot | R35: Dienstangebot | S35: Dienstangebot | T35: Kein Angebot | U35: Nein | V35: N/A | X35: N/A | Z35: N/A | AB35: N/A | AD35: N/A | AF35: N/A | AI35: Nein | AJ35: Nein | AK35: Ja | AL35: Ja | AM35: Ja | AN35: Ja | AO35: Nein | AQ35: 1 | AR35: 3 | AS35: 2 | AZ35: 5 | BA35: Ja | BB35: Ja | BC35: Nein | BD35: Nein | BE35: Nein | BF35: Nein | BG35: Nein | BH35: Ja | BJ35: Nein | BK35: Ja | BL35: Nein | BM35: Nein | BN35: Nein | BP35: Nein | BQ35: Nein | BR35: Ja | BS35: Nein | BT35: Ja | BU35: Nein | BW35: Nein | BX35: Ja | BY35: Ja | BZ35: Nein | CH35: 1 | CI35: 4 | CJ35: 0 | CK35: 0 | CL35: Nein | CN35: Nein | CP35: Nein | CR35: Nein | CT35: Nein | CV35: Nein | CX35: Nein | CZ35: Nein | DB35: Nein | DC35: Nein | DD35: Nein | DE35: Nein | DF35: Nein | DG35: Nein | DH35: Nein | DJ35: Nein | DK35: Nein | DL35: Nein | DM35: Nein | DN35: Nein | DO35: Nein | DQ35: Ja | DR35: Nein | DS35: Nein | DT35: Nein | DU35: Nein | DV35: Nein | DW35: Nein | DX35: Nein | DY35: Ja | DZ35: Nein | EA35: Nein | EC35: Ja | ED35: Nein | EE35: Ja | EF35: Nein | EG35: Nein | EH35: Ja | EI35: Nein | EJ35: Nein | EK35: Nein | EM35: 0 | EN35: 0 | EO35: 0 | EP35: Nein | EQ35: Nein | ER35: Nein | ES35: Nein | ET35: Nein | EU35: Nein | EV35: Nein | EY35: 1 | EZ35: Hessen
A36: 74 | B36: 4 | C36: 1685930860 | D36: Nein | E36: Nein | F36: Nein | G36: Nein | H36: Nein | I36: Nein | J36: Nein | K36: Außeruniversitäres Forschungsinstitut, Bereich FDM | L36: Beratung oder Schulung | M36: Beratung oder Schulung | N36: Beratung oder Schulung | O36: Noch nicht geplant | P36: Dienstangebot | Q36: Noch nicht geplant | R36: Dienstangebot | S36: Dienstangebot | T36: In Planung | U36: Nein | V36: N/A | X36: N/A | Z36: N/A | AB36: N/A | AD36: N/A | AF36: N/A | AI36: Nein | AJ36: Nein | AK36: Nein | AL36: Ja | AM36: Nein | AN36: Nein | AO36: Nein | AQ36: 2 | AR36: 5 | AS36: 4 | AT36: 6 | AU36: 7 | AV36: 3 | AW36: 1 | AY36: Sukzessiver Aufbau, um Forschende nicht zu überfrachten | AZ36: 5 | BA36: Nein | BB36: Nein | BC36: Nein | BD36: Nein | BE36: Nein | BF36: Nein | BG36: Nein | BH36: Ja | BJ36: Nein | BK36: Nein | BL36: Nein | BM36: Ja | BN36: Nein | BP36: Nein | BQ36: Nein | BR36: Nein | BS36: Nein | BT36: Nein | BU36: Ja | BW36: Nein | BX36: Ja | BY36: Ja | BZ36: Nein | CH36: 1 | CI36: 3 | CJ36: 3 | CK36: 0 | CL36: N/A | CN36: N/A | CP36: N/A | CR36: N/A | CT36: N/A | CV36: N/A | CX36: N/A | CZ36: N/A | DB36: Nein | DC36: Nein | DD36: Nein | DE36: Nein | DF36: Ja | DG36: Nein | DH36: Nein | DJ36: Nein | DK36: Ja | DL36: Nein | DM36: Nein | DN36: Ja | DO36: Nein | DQ36: Ja | DR36: Nein | DS36: Nein | DT36: Nein | DU36: Nein | DV36: Nein | DW36: Nein | DX36: Nein | DY36: Nein | DZ36: Nein | EA36: Nein | EC36: Nein | ED36: Ja | EE36: Nein | EF36: Nein | EG36: Nein | EH36: Nein | EI36: Nein | EJ36: Nein | EK36: Nein | EM36: 1 | EN36: 4 | EO36: 4 | EP36: Nein | EQ36: Nein | ER36: Nein | ES36: Nein | ET36: Nein | EU36: Ja | EV36: Nein | EW36: 1 | EX36: 1 | EY36: 0 | EZ36: 0
A37: 77 | B37: 2 | C37: 351437338 | D37: Nein | E37: Nein | F37: Ja | G37: Nein | H37: Nein | I37: Nein | J37: Nein | L37: Beratung oder Schulung | M37: Beratung oder Schulung | N37: Dienstangebot | O37: Beratung oder Schulung | P37: Kein Angebot | Q37: Kein Angebot | R37: Dienstangebot | S37: Kein Angebot | T37: Kein Angebot | U37: Nein | V37: N/A | X37: N/A | Z37: N/A | AB37: N/A | AD37: N/A | AF37: N/A | AI37: Ja | AJ37: Ja | AK37: Ja | AL37: Ja | AM37: Nein | AN37: Ja | AO37: Nein | AZ37: 6 | BA37: Ja | BB37: Ja | BC37: Ja | BD37: Nein | BE37: Nein | BF37: Nein | BG37: Nein | BH37: Nein | BJ37: Ja | BK37: Ja | BL37: Ja | BM37: Ja | BN37: Nein | BP37: Ja | BQ37: Ja | BR37: Ja | BS37: Nein | BT37: Nein | BU37: Nein | BW37: Nein | BX37: Ja | BY37: Ja | BZ37: Ja | CB37: 5 | CC37: 3 | CD37: 1 | CH37: 1 | CI37: 5 | CJ37: 0 | CK37: 0 | CL37: N/A | CN37: N/A | CP37: N/A | CR37: N/A | CT37: N/A | CV37: N/A | CX37: N/A | CZ37: N/A | DB37: N/A | DC37: N/A | DD37: N/A | DE37: N/A | DF37: N/A | DG37: N/A | DH37: N/A | DJ37: N/A | DK37: N/A | DL37: N/A | DM37: N/A | DN37: N/A | DO37: N/A | DQ37: N/A | DR37: N/A | DS37: N/A | DT37: N/A | DU37: N/A | DV37: N/A | DW37: N/A | DX37: N/A | DY37: N/A | DZ37: N/A | EA37: N/A | EC37: N/A | ED37: N/A | EE37: N/A | EF37: N/A | EG37: N/A | EH37: N/A | EI37: N/A | EJ37: N/A | EK37: N/A | EM37: 0 | EN37: 0 | EO37: 0 | EP37: N/A | EQ37: N/A | ER37: N/A | ES37: N/A | ET37: N/A | EU37: N/A | EV37: N/A | EY37: 0 | EZ37: 0
A38: 78 | B38: 5 | C38: 80404861 | D38: Nein | E38: Nein | F38: Ja | G38: Nein | H38: Nein | I38: Nein | J38: Nein | L38: Kein Angebot | M38: Kein Angebot | N38: Dienstangebot | O38: Dienstangebot | P38: Dienstangebot | Q38: Dienstangebot | R38: In Planung | S38: In Planung | T38: Kein Angebot | V38: N/A | X38: N/A | Z38: N/A | AB38: N/A | AD38: N/A | AF38: N/A | AI38: Nein | AJ38: Nein | AK38: Nein | AL38: Nein | AM38: Nein | AN38: Nein | AO38: Nein | AQ38: 1 | AR38: 2 | AS38: 3 | BA38: Ja | BB38: Nein | BC38: Nein | BD38: Nein | BE38: Ja | BF38: Nein | BG38: Nein | BH38: Ja | BJ38: Nein | BK38: Ja | BL38: Ja | BM38: Nein | BN38: Nein | BP38: Nein | BQ38: Ja | BR38: Nein | BS38: Nein | BT38: Nein | BU38: Nein | BW38: Ja | BX38: Ja | BY38: Ja | BZ38: Ja | CB38: 3 | CC38: 6 | CI38: 1 | CJ38: 0 | CK38: 0 | CL38: Nein | CN38: Nein | CP38: Nein | CR38: Nein | CT38: Nein | CV38: Nein | CX38: Nein | CZ38: Nein | DB38: Nein | DC38: Nein | DD38: Nein | DE38: Nein | DF38: Nein | DG38: Nein | DH38: Nein | DJ38: Nein | DK38: Nein | DL38: Nein | DM38: Nein | DN38: Nein | DO38: Nein | DQ38: Nein | DR38: Nein | DS38: Nein | DT38: Nein | DU38: Nein | DV38: Nein | DW38: Nein | DX38: Nein | DY38: Nein | DZ38: Ja | EA38: Nein | EC38: Ja | ED38: Ja | EE38: Ja | EF38: Ja | EG38: Nein | EH38: Nein | EI38: Ja | EJ38: Ja | EK38: Nein | EM38: 5 | EN38: 5 | EO38: 5 | EP38: Nein | EQ38: Nein | ER38: Nein | ES38: Nein | ET38: Nein | EU38: Ja | EV38: Nein | EW38: 2 | EX38: 3 | EY38: 1 | EZ38: Hessen
A39: 79 | B39: 5 | C39: 1797593631 | D39: Nein | E39: Nein | F39: Nein | G39: Ja | H39: Nein | I39: Nein | J39: Nein | L39: Dienstangebot | M39: Dienstangebot | N39: Dienstangebot | O39: Dienstangebot | P39: Beratung oder Schulung | Q39: Dienstangebot | R39: Dienstangebot | S39: Dienstangebot | T39: In Planung | U39: Nein | V39: N/A | X39: N/A | Z39: N/A | AB39: N/A | AD39: N/A | AF39: N/A | AI39: Nein | AJ39: Ja | AK39: Ja | AL39: Nein | AM39: Nein | AN39: Ja | AO39: Ja | AQ39: 1 | AR39: 4 | AS39: 3 | AT39: 2 | AZ39: 10 | BA39: Ja | BB39: Ja | BC39: Nein | BD39: Ja | BE39: Ja | BF39: Ja | BG39: Nein | BH39: Ja | BJ39: Nein | BK39: Nein | BL39: Ja | BM39: Ja | BN39: Ja | BP39: Ja | BQ39: Ja | BR39: Nein | BS39: Nein | BT39: Nein | BU39: Nein | BW39: Ja | BX39: Ja | BY39: Nein | BZ39: Ja | CB39: 3 | CC39: 1 | CD39: 2 | CE39: 4 | CF39: 6 | CH39: 1 | CI39: 5 | CJ39: 2 | CK39: 3 | CL39: Nein | CN39: Nein | CP39: Ja | CR39: Ja | CT39: Nein | CV39: Ja | CX39: Nein | CZ39: Nein | DB39: Ja | DC39: Nein | DD39: Nein | DE39: Ja | DF39: Ja | DG39: Nein | DH39: Ja | DJ39: Ja | DK39: Nein | DL39: Nein | DM39: Ja | DN39: Nein | DO39: Nein | DQ39: Ja | DR39: Nein | DS39: Nein | DT39: Nein | DU39: Nein | DV39: Nein | DW39: Nein | DX39: Nein | DY39: Nein | DZ39: Nein | EA39: Nein | EC39: Ja | ED39: Ja | EE39: Nein | EF39: Nein | EG39: Nein | EH39: Nein | EI39: Ja | EJ39: Nein | EK39: Nein | EM39: 3 | EN39: 1 | EO39: 5 | EP39: Nein | EQ39: Nein | ER39: Nein | ES39: Nein | ET39: Nein | EU39: Ja | EV39: Nein | EW39: 4 | EX39: 2 | EY39: 1 | EZ39: Berlin
A40: 81 | B40: 5 | C40: 1107230496 | D40: Ja | E40: Nein | F40: Nein | G40: Nein | H40: Nein | I40: Nein | J40: Nein | L40: Beratung oder Schulung | M40: Beratung oder Schulung | N40: Kein Angebot | O40: Kein Angebot | P40: Kein Angebot | Q40: Kein Angebot | R40: Kein Angebot | S40: Beratung oder Schulung | T40: Beratung oder Schulung | U40: Nein | V40: N/A | X40: N/A | Z40: N/A | AB40: N/A | AD40: N/A | AF40: N/A | AI40: Ja | AJ40: Ja | AK40: Ja | AL40: Ja | AM40: Ja | AN40: Ja | AO40: Nein | AQ40: 7 | AR40: 3 | AS40: 1 | AT40: 5 | AU40: 2 | AV40: 6 | AW40: 4 | AX40: 8 | AY40: FDM-Dienste sollten bundesweit oder auch landesweit zentral, z.B. in zentralen Fachrepositorien oder Fachteams organisiert sein. Es ist nicht nützlich, an jedem Standort eigene FDM-Strukturen aufzubauen. Es braucht eine gemeinsame Policy und Community. | AZ40: 5 | BA40: Ja | BB40: Ja | BC40: Nein | BD40: Nein | BE40: Ja | BF40: Ja | BG40: Nein | BH40: Nein | BJ40: Nein | BK40: Ja | BL40: Ja | BM40: Ja | BN40: Nein | BP40: Ja | BQ40: Nein | BR40: Ja | BS40: Ja | BT40: Ja | BU40: Nein | BW40: Ja | BX40: Ja | BY40: Ja | BZ40: Ja | CB40: 3 | CC40: 4 | CD40: 6 | CE40: 5 | CF40: 2 | CG40: 1 | CH40: 1 | CI40: 5 | CJ40: 3 | CK40: 0 | CL40: N/A | CN40: N/A | CP40: N/A | CR40: N/A | CT40: N/A | CV40: N/A | CX40: N/A | CZ40: N/A | DB40: Nein | DC40: Nein | DD40: Nein | DE40: Nein | DF40: Ja | DG40: Nein | DH40: Nein | DJ40: Nein | DK40: Nein | DL40: Nein | DM40: Nein | DN40: Nein | DO40: Ja | DQ40: Ja | DR40: Nein | DS40: Nein | DT40: Nein | DU40: Nein | DV40: Nein | DW40: Nein | DX40: Nein | DY40: Nein | DZ40: Nein | EA40: Nein | EC40: Nein | ED40: Ja | EE40: Ja | EF40: Nein | EG40: Nein | EH40: Nein | EI40: Nein | EJ40: Nein | EK40: Nein | EM40: 1 | EN40: 4 | EO40: 4 | EP40: Nein | EQ40: Nein | ER40: Ja | ES40: Ja | ET40: Nein | EU40: Nein | EV40: Nein | EW40: 3 | EX40: 4 | EY40: 1 | EZ40: 0
A41: 82 | B41: 5 | C41: 1043833263 | D41: Ja | E41: Nein | F41: Nein | G41: Nein | H41: Nein | I41: Nein | J41: Nein | L41: Beratung oder Schulung | M41: Beratung oder Schulung | N41: Kein Angebot | O41: Kein Angebot | P41: Kein Angebot | Q41: Kein Angebot | R41: Kein Angebot | S41: Kein Angebot | T41: Beratung oder Schulung | U41: Nein | V41: N/A | X41: N/A | Z41: N/A | AB41: N/A | AD41: N/A | AF41: N/A | AI41: Nein | AJ41: Ja | AK41: Ja | AL41: Nein | AM41: Nein | AN41: Ja | AO41: Nein | AQ41: 6 | AR41: 1 | AS41: 2 | AT41: 5 | AU41: 8 | AY41: Organisationsstruktur innerhalb der Universität ist sehr heterogen mit unterschiedlichen Kompetenzen und Ressourcen; In der UB ist ein "Single point of contact" eingerichtet ist, der aber keine abteilungsübergreifenden Kompetenzen hat, und daher gibt es keine zentrale Schaltstelle, die die Kommunikation zwischen verschiedenen relevanten Dienstleistungseinrichtungen koordiniert (z.B. IT, Rechtsabteilung, Forschungsbüro etc.) | AZ41: 5 | BA41: Ja | BB41: Ja | BC41: Nein | BD41: Nein | BE41: Nein | BF41: Ja | BG41: Nein | BH41: Nein | BI41: Rechtsabteilung | BJ41: Nein | BK41: Nein | BL41: Nein | BM41: Nein | BN41: Nein | BO41: in Planung | BP41: Nein | BQ41: Nein | BR41: Nein | BS41: Nein | BT41: Nein | BU41: Ja | BW41: Ja | BX41: Ja | BY41: Nein | BZ41: Nein | CA41: FDM-Policy | CB41: 2 | CC41: 6 | CD41: 3 | CH41: 1 | CI41: 2 | CJ41: 3 | CK41: 0 | CL41: N/A | CN41: N/A | CP41: N/A | CR41: N/A | CT41: N/A | CV41: N/A | CX41: N/A | CZ41: N/A | DB41: Nein | DC41: Nein | DD41: Nein | DE41: Nein | DF41: Nein | DG41: Nein | DH41: Ja | DJ41: Nein | DK41: Ja | DL41: Nein | DM41: Nein | DN41: Nein | DO41: Nein | DQ41: Ja | DR41: Nein | DS41: Ja | DT41: Ja | DU41: Ja | DV41: Nein | DW41: Nein | DX41: Nein | DY41: Nein | DZ41: Nein | EA41: Nein | EC41: Ja | ED41: Nein | EE41: Ja | EF41: Nein | EG41: Nein | EH41: Ja | EI41: Nein | EJ41: Nein | EK41: Nein | EM41: 0 | EN41: 0 | EO41: 0 | EP41: Nein | EQ41: Nein | ER41: Nein | ES41: Nein | ET41: Nein | EU41: Nein | EV41: Ja | EW41: 3 | EX41: 2 | EY41: 0 | EZ41: 0
A42: 84 | B42: 5 | C42: 799077647 | D42: Nein | E42: Nein | F42: Nein | G42: Ja | H42: Nein | I42: Nein | J42: Nein | L42: Beratung oder Schulung | M42: Beratung oder Schulung | N42: Beratung oder Schulung | O42: Dienstangebot | P42: Beratung oder Schulung | Q42: Beratung oder Schulung | R42: Beratung oder Schulung | S42: Beratung oder Schulung | T42: Dienstangebot | U42: Nein | V42: N/A | X42: N/A | Z42: N/A | AB42: N/A | AD42: N/A | AF42: N/A | AI42: Nein | AJ42: Nein | AK42: Ja | AL42: Ja | AM42: Nein | AN42: Ja | AO42: Nein | AZ42: 5 | BA42: Ja | BB42: Ja | BC42: Nein | BD42: Nein | BE42: Nein | BF42: Nein | BG42: Nein | BH42: Ja | BJ42: Nein | BK42: Ja | BL42: Ja | BM42: Nein | BN42: Nein | BP42: Ja | BQ42: Ja | BR42: Nein | BS42: Nein | BT42: Nein | BU42: Nein | BW42: Ja | BX42: Ja | BY42: Ja | BZ42: Nein | CB42: 2 | CC42: 5 | CD42: 1 | CE42: 3 | CH42: 1 | CI42: 2 | CJ42: 3 | CK42: 0 | CL42: N/A | CN42: N/A | CP42: N/A | CR42: N/A | CT42: N/A | CV42: N/A | CX42: N/A | CZ42: N/A | DB42: Ja | DC42: Nein | DD42: Nein | DE42: Nein | DF42: Ja | DG42: Nein | DH42: Nein | DJ42: Nein | DK42: Nein | DL42: Nein | DM42: Nein | DN42: Nein | DO42: Nein | DP42: Bei Bedarf Besuch von externen Weiterbildungsveranstaltungen | DQ42: Ja | DR42: Ja | DS42: Ja | DT42: Ja | DU42: Ja | DV42: Ja | DW42: Nein | DX42: Nein | DY42: Nein | DZ42: Nein | EA42: Nein | EC42: Ja | ED42: Nein | EE42: Ja | EF42: Nein | EG42: Nein | EH42: Nein | EI42: Nein | EJ42: Nein | EK42: Nein | EM42: 2 | EN42: 3 | EO42: 5 | EP42: Nein | EQ42: Ja | ER42: Nein | ES42: Nein | ET42: Nein | EU42: Nein | EV42: Nein | EW42: 4 | EX42: 3 | EY42: 1 | EZ42: Bayern
A43: 85 | B43: 5 | C43: 2008170093 | D43: Ja | E43: Nein | F43: Nein | G43: Nein | H43: Nein | I43: Nein | J43: Nein | L43: Dienstangebot | M43: Beratung oder Schulung | N43: Beratung oder Schulung | O43: Beratung oder Schulung | P43: Dienstangebot | Q43: Beratung oder Schulung | R43: Beratung oder Schulung | S43: Dienstangebot | T43: Beratung oder Schulung | U43: Nein | V43: N/A | X43: N/A | Z43: N/A | AB43: N/A | AD43: N/A | AF43: N/A | AI43: Nein | AJ43: Nein | AK43: Ja | AL43: Ja | AM43: Ja | AN43: Ja | AO43: Nein | AQ43: 3 | AR43: 7 | AS43: 1 | AT43: 6 | AZ43: 5 | BA43: Ja | BB43: Ja | BC43: Nein | BD43: Nein | BE43: Nein | BF43: Ja | BG43: Ja | BH43: Nein | BJ43: Ja | BK43: Ja | BL43: Nein | BM43: Ja | BN43: Nein | BP43: Nein | BQ43: Ja | BR43: Ja | BS43: Nein | BT43: Nein | BU43: Nein | BW43: Nein | BX43: Ja | BY43: Ja | BZ43: Nein | CB43: 3 | CC43: 5 | CD43: 2 | CE43: 1 | CF43: 6 | CH43: 2 | CJ43: 2 | CK43: 4 | CL43: Nein | CN43: Ja | CP43: Ja | CR43: Ja | CT43: Ja | CV43: Nein | CX43: Nein | CZ43: Nein | DB43: Ja | DC43: Nein | DD43: Nein | DE43: Nein | DF43: Ja | DG43: Ja | DH43: Nein | DJ43: Nein | DK43: Ja | DL43: Nein | DM43: Ja | DN43: Nein | DO43: Nein | DQ43: Ja | DR43: Ja | DS43: Ja | DT43: Ja | DU43: Ja | DV43: Ja | DW43: Ja | DX43: Ja | DY43: Ja | DZ43: Ja | EA43: Nein | EC43: Ja | ED43: Ja | EE43: Ja | EF43: Nein | EG43: Nein | EH43: Nein | EI43: Nein | EJ43: Nein | EK43: Nein | EM43: 1 | EN43: 2 | EO43: 2 | EP43: Nein | EQ43: Nein | ER43: Nein | ES43: Nein | ET43: Nein | EU43: Ja | EV43: Nein | EW43: 4 | EX43: 3 | EY43: 3 | EZ43: 0
A44: 86 | B44: 5 | C44: 872666461 | D44: Ja | E44: Nein | F44: Nein | G44: Nein | H44: Nein | I44: Nein | J44: Nein | L44: In Planung | M44: In Planung | N44: Kein Angebot | O44: Kein Angebot | P44: Kein Angebot | Q44: Kein Angebot | R44: In Planung | S44: Kein Angebot | T44: Kein Angebot | U44: Nein | V44: N/A | X44: N/A | Z44: N/A | AB44: N/A | AD44: N/A | AF44: N/A | AI44: Nein | AJ44: Nein | AK44: Nein | AL44: Nein | AM44: Nein | AN44: Nein | AO44: Nein | AQ44: 1 | AR44: 2 | AS44: 5 | AT44: 4 | AU44: 3 | AV44: 7 | AW44: 6 | AZ44: 1 | BA44: Ja | BB44: Nein | BC44: Nein | BD44: Nein | BE44: Nein | BF44: Ja | BG44: Nein | BH44: Nein | BJ44: Ja | BK44: Nein | BL44: Nein | BM44: Nein | BN44: Nein | BP44: Nein | BQ44: Nein | BR44: Nein | BS44: Nein | BT44: Ja | BU44: Nein | BW44: Nein | BX44: Ja | BY44: Nein | BZ44: Ja | CH44: 1 | CI44: 1 | CJ44: 0 | CK44: 0 | CL44: Nein | CN44: Nein | CP44: Nein | CR44: Nein | CT44: Nein | CV44: Nein | CX44: Nein | CZ44: Nein | DB44: Nein | DC44: Nein | DD44: Nein | DE44: Nein | DF44: Nein | DG44: Nein | DH44: Nein | DJ44: Nein | DK44: Nein | DL44: Nein | DM44: Nein | DN44: Nein | DO44: Nein | DQ44: Nein | DR44: Nein | DS44: Nein | DT44: Nein | DU44: Nein | DV44: Nein | DW44: Nein | DX44: Nein | DY44: Nein | DZ44: Nein | EA44: Nein | EC44: Nein | ED44: Nein | EE44: Nein | EF44: Nein | EG44: Nein | EH44: Nein | EI44: Nein | EJ44: Nein | EK44: Nein | EM44: 0 | EN44: 0 | EO44: 0 | EP44: Nein | EQ44: Nein | ER44: Nein | ES44: Nein | ET44: Nein | EU44: Nein | EV44: Nein | EW44: 1 | EY44: 1 | EZ44: Brandenburg
A45: 87 | B45: 5 | C45: 119459370 | D45: Nein | E45: Nein | F45: Ja | G45: Nein | H45: Ja | I45: Ja | J45: Nein | L45: Beratung oder Schulung | M45: Dienstangebot | N45: Beratung oder Schulung | O45: Beratung oder Schulung | P45: Beratung oder Schulung | Q45: Beratung oder Schulung | R45: Beratung oder Schulung | S45: Beratung oder Schulung | T45: Noch nicht geplant | V45: N/A | X45: N/A | Z45: N/A | AB45: N/A | AD45: N/A | AF45: N/A | AI45: Ja | AJ45: Ja | AK45: Ja | AL45: Ja | AM45: Nein | AN45: Ja | AO45: Nein | AP45: FDM-Policy | AQ45: 3 | AR45: 1 | AS45: 2 | AT45: 7 | AU45: 5 | AV45: 6 | AW45: 4 | AX45: 8 | AZ45: 5 | BA45: Nein | BB45: Nein | BC45: Nein | BD45: Nein | BE45: Ja | BF45: Ja | BG45: Nein | BH45: Ja | BJ45: Ja | BK45: Ja | BL45: Ja | BM45: Ja | BN45: Nein | BP45: Nein | BQ45: Ja | BR45: Ja | BS45: Nein | BT45: Ja | BU45: Nein | BW45: Nein | BX45: Ja | BY45: Ja | BZ45: Ja | CB45: 3 | CC45: 4 | CD45: 5 | CE45: 1 | CH45: 1 | CI45: 1 | CJ45: 2 | CK45: 2 | CL45: Ja | CM45: Bei Veranstaltungen | CN45: Nein | CP45: Ja | CR45: Nein | CT45: Nein | CV45: Nein | CX45: Nein | CZ45: Nein | DB45: Ja | DC45: Nein | DD45: Nein | DE45: Nein | DF45: Nein | DG45: Nein | DH45: Nein | DJ45: Nein | DK45: Nein | DL45: Nein | DM45: Nein | DN45: Nein | DO45: Nein | DQ45: Nein | DR45: Ja | DS45: Ja | DT45: Ja | DU45: Ja | DV45: Nein | DW45: Nein | DX45: Nein | DY45: Ja | DZ45: Nein | EA45: Nein | EC45: Ja | ED45: Ja | EE45: Nein | EF45: Nein | EG45: Ja | EH45: Ja | EI45: Nein | EJ45: Ja | EK45: Nein | EM45: 4 | EN45: 0 | EO45: 0 | EP45: Ja | EQ45: Nein | ER45: Nein | ES45: Nein | ET45: Nein | EU45: Nein | EV45: Nein | EW45: 4 | EX45: 2 | EY45: 1 | EZ45: Hessen
A46: 89 | B46: 5 | C46: 1958151246 | D46: Nein | E46: Nein | F46: Ja | G46: Nein | H46: Nein | I46: Nein | J46: Nein | L46: Beratung oder Schulung | M46: Beratung oder Schulung | N46: In Planung | O46: Noch nicht geplant | P46: Noch nicht geplant | Q46: Noch nicht geplant | R46: Beratung oder Schulung | S46: Beratung oder Schulung | T46: Kein Angebot | U46: Ja | V46: Nein | X46: Ja | Y46: Zusammenarbeit in HeFDI-Landesinitiative | Z46: Nein | AB46: Nein | AD46: Nein | AF46: Nein | AH46: Repositorium, RDMO | AI46: Nein | AJ46: Nein | AK46: Ja | AL46: Nein | AM46: Nein | AN46: Nein | AO46: Nein | AQ46: 1 | AR46: 3 | AS46: 7 | AT46: 5 | AZ46: 5 | BA46: Ja | BB46: Nein | BC46: Nein | BD46: Nein | BE46: Ja | BF46: Nein | BG46: Nein | BH46: Nein | BJ46: Ja | BK46: Ja | BL46: Nein | BM46: Nein | BN46: Nein | BP46: Ja | BQ46: Nein | BR46: Nein | BS46: Ja | BT46: Ja | BU46: Nein | BW46: Ja | BX46: Nein | BY46: Ja | BZ46: Ja | CB46: 7 | CC46: 1 | CD46: 3 | CH46: 1 | CI46: 1 | CJ46: 3 | CK46: 0 | CL46: N/A | CN46: N/A | CP46: N/A | CR46: N/A | CT46: N/A | CV46: N/A | CX46: N/A | CZ46: N/A | DB46: Nein | DC46: Nein | DD46: Nein | DE46: Nein | DF46: Nein | DG46: Nein | DH46: Nein | DJ46: Nein | DK46: Nein | DL46: Nein | DM46: Nein | DN46: Nein | DO46: Nein | DQ46: Nein | DR46: Nein | DS46: Ja | DT46: Ja | DU46: Ja | DV46: Nein | DW46: Nein | DX46: Nein | DY46: Nein | DZ46: Nein | EA46: Nein | EC46: Nein | ED46: Ja | EE46: Nein | EF46: Nein | EG46: Nein | EH46: Nein | EI46: Nein | EJ46: Nein | EK46: Nein | EM46: 4 | EN46: 4 | EO46: 3 | EP46: Nein | EQ46: Nein | ER46: Nein | ES46: Nein | ET46: Nein | EU46: Ja | EV46: Nein | EX46: 3 | EY46: 1 | EZ46: Hessen
A47: 90 | B47: 5 | C47: 357722846 | D47: Ja | E47: Nein | F47: Nein | G47: Nein | H47: Nein | I47: Nein | J47: Nein | L47: Beratung oder Schulung | M47: Beratung oder Schulung | Q47: Beratung oder Schulung | S47: Dienstangebot | T47: Beratung oder Schulung | V47: N/A | X47: N/A | Z47: N/A | AB47: N/A | AD47: N/A | AF47: N/A | AI47: Nein | AJ47: Nein | AK47: Ja | AL47: Nein | AM47: Nein | AN47: Ja | AO47: Nein | AZ47: 5 | BA47: Ja | BB47: Ja | BC47: Nein | BD47: Nein | BE47: Nein | BF47: Ja | BG47: Nein | BH47: Nein | BJ47: Ja | BK47: Nein | BL47: Ja | BM47: Nein | BN47: Nein | BP47: Ja | BQ47: Nein | BR47: Nein | BS47: Nein | BT47: Nein | BU47: Nein | BW47: Nein | BX47: Ja | BY47: Ja | BZ47: Nein | CH47: 2 | CI47: 3 | CJ47: 2 | CK47: 4 | CL47: Nein | CN47: Ja | CP47: Nein | CR47: Nein | CT47: Nein | CV47: Nein | CX47: Nein | CZ47: Nein | DB47: Ja | DC47: Nein | DD47: Nein | DE47: Nein | DF47: Nein | DG47: Nein | DH47: Nein | DJ47: Nein | DK47: Ja | DL47: Nein | DM47: Nein | DN47: Nein | DO47: Nein | DQ47: Ja | DR47: Nein | DS47: Nein | DT47: Nein | DU47: Nein | DV47: Nein | DW47: Nein | DX47: Nein | DY47: Nein | DZ47: Nein | EA47: Nein | EC47: Ja | ED47: Nein | EE47: Ja | EF47: Nein | EG47: Nein | EH47: Nein | EI47: Nein | EJ47: Nein | EK47: Nein | EM47: 0 | EN47: 0 | EO47: 0 | EP47: Nein | EQ47: Nein | ER47: Nein | ES47: Nein | ET47: Nein | EU47: Nein | EV47: Ja | EW47: 3 | EX47: 3 | EY47: 3 | EZ47: 0
A48: 91 | B48: 5 | C48: 911847516 | D48: Ja | E48: Nein | F48: Nein | G48: Nein | H48: Nein | I48: Nein | J48: Nein | L48: In Planung | M48: In Planung | N48: In Planung | O48: Noch nicht geplant | P48: In Planung | Q48: Beratung oder Schulung | R48: In Planung | S48: In Planung | T48: Beratung oder Schulung | U48: Nein | V48: N/A | X48: N/A | Z48: N/A | AB48: N/A | AD48: N/A | AF48: N/A | AI48: Nein | AJ48: Nein | AK48: Ja | AL48: Nein | AM48: Nein | AN48: Ja | AO48: Nein | AQ48: 7 | AR48: 1 | AS48: 3 | AT48: 2 | AZ48: 5 | BA48: Ja | BB48: Ja | BC48: Nein | BD48: Nein | BE48: Nein | BF48: Nein | BG48: Nein | BH48: Nein | BJ48: Ja | BK48: Nein | BL48: Nein | BM48: Ja | BN48: Nein | BP48: Nein | BQ48: Ja | BR48: Nein | BS48: Nein | BT48: Nein | BU48: Nein | BW48: Ja | BX48: Ja | BY48: Ja | BZ48: Ja | CB48: 5 | CC48: 3 | CD48: 1 | CE48: 2 | CH48: 1 | CI48: 2 | CJ48: 3 | CK48: 0 | CL48: N/A | CN48: N/A | CP48: N/A | CR48: N/A | CT48: N/A | CV48: N/A | CX48: N/A | CZ48: N/A | DB48: Nein | DC48: Nein | DD48: Nein | DE48: Nein | DF48: Nein | DG48: Nein | DH48: Nein | DJ48: Nein | DK48: Nein | DL48: Nein | DM48: Ja | DN48: Nein | DO48: Nein | DQ48: Nein | DR48: Nein | DS48: Nein | DT48: Nein | DU48: Nein | DV48: Nein | DW48: Nein | DX48: Nein | DY48: Nein | DZ48: Ja | EA48: Nein | EC48: Ja | ED48: Ja | EE48: Nein | EF48: Nein | EG48: Nein | EH48: Nein | EI48: Nein | EJ48: Nein | EK48: Nein | EM48: 1 | EN48: 1 | EO48: 1 | EP48: Nein | EQ48: Nein | ER48: Nein | ES48: Nein | ET48: Nein | EU48: Ja | EV48: Nein | EW48: 4 | EX48: 3 | EY48: 1 | EZ48: Bayern
A49: 92 | B49: 5 | C49: 1596481788 | D49: Nein | E49: Nein | F49: Nein | G49: Nein | H49: Nein | I49: Ja | J49: Nein | L49: Beratung oder Schulung | M49: Dienstangebot | N49: Dienstangebot | O49: Dienstangebot | P49: Beratung oder Schulung | Q49: Beratung oder Schulung | R49: Beratung oder Schulung | S49: Dienstangebot | T49: Beratung oder Schulung | U49: Nein | V49: N/A | X49: N/A | Z49: N/A | AB49: N/A | AD49: N/A | AF49: N/A | AI49: Ja | AJ49: Ja | AK49: Ja | AL49: Ja | AM49: Ja | AN49: Ja | AO49: Nein | AQ49: 1 | AR49: 7 | AS49: 3 | AT49: 2 | AU49: 4 | AZ49: 6 | BA49: Ja | BB49: Ja | BC49: Nein | BD49: Nein | BE49: Ja | BF49: Nein | BG49: Nein | BH49: Ja | BJ49: Ja | BK49: Ja | BL49: Ja | BM49: Ja | BN49: Nein | BP49: Ja | BQ49: Ja | BR49: Ja | BS49: Ja | BT49: Ja | BU49: Nein | BW49: Ja | BX49: Ja | BY49: Ja | BZ49: Ja | CB49: 1 | CC49: 2 | CD49: 3 | CE49: 6 | CH49: 1 | CJ49: 2 | CK49: 3 | CL49: Nein | CN49: Ja | CP49: Ja | CR49: Ja | CT49: Nein | CV49: Nein | CX49: Nein | CZ49: Nein | DB49: Ja | DC49: Nein | DD49: Nein | DE49: Ja | DF49: Ja | DG49: Nein | DH49: Nein | DJ49: Nein | DK49: Ja | DL49: Nein | DM49: Ja | DN49: Ja | DO49: Nein | DQ49: Ja | DR49: Nein | DS49: Nein | DT49: Nein | DU49: Nein | DV49: Nein | DW49: Nein | DX49: Nein | DY49: Nein | DZ49: Nein | EA49: Nein | EC49: Ja | ED49: Ja | EE49: Ja | EF49: Ja | EG49: Nein | EH49: Ja | EI49: Nein | EJ49: Ja | EK49: Nein | EM49: 3 | EN49: 3 | EO49: 3 | EP49: Ja | EQ49: Nein | ER49: Nein | ES49: Nein | ET49: Nein | EU49: Nein | EV49: Nein | EW49: 4 | EX49: 5 | EY49: 1 | EZ49: Hessen
A50: 93 | B50: 5 | C50: 1481560380 | D50: Ja | E50: Nein | F50: Nein | G50: Nein | H50: Nein | I50: Nein | J50: Nein | L50: Dienstangebot | M50: Beratung oder Schulung | N50: Beratung oder Schulung | O50: In Planung | P50: Noch nicht geplant | Q50: Beratung oder Schulung | R50: In Planung | S50: Beratung oder Schulung | T50: Noch nicht geplant | U50: Nein | V50: N/A | X50: N/A | Z50: N/A | AB50: N/A | AD50: N/A | AF50: N/A | AI50: Nein | AJ50: Ja | AK50: Ja | AL50: Ja | AM50: Nein | AN50: Ja | AO50: Ja | AQ50: 1 | AR50: 2 | AS50: 4 | AT50: 7 | AU50: 5 | AV50: 3 | AW50: 6 | AZ50: 5 | BA50: Ja | BB50: Ja | BC50: Nein | BD50: Nein | BE50: Nein | BF50: Ja | BG50: Nein | BH50: Nein | BJ50: Ja | BK50: Ja | BL50: Ja | BM50: Nein | BN50: Ja | BP50: Ja | BQ50: Ja | BR50: Ja | BS50: Nein | BT50: Nein | BU50: Nein | BW50: Nein | BX50: Ja | BY50: Ja | BZ50: Ja | CB50: 2 | CC50: 1 | CD50: 5 | CE50: 3 | CF50: 6 | CH50: 1 | CI50: 2 | CJ50: 3 | CK50: 0 | CL50: N/A | CN50: N/A | CP50: N/A | CR50: N/A | CT50: N/A | CV50: N/A | CX50: N/A | CZ50: N/A | DB50: Ja | DC50: Nein | DD50: Nein | DE50: Nein | DF50: Ja | DG50: Nein | DH50: Nein | DJ50: Nein | DK50: Ja | DL50: Nein | DM50: Nein | DN50: Nein | DO50: Ja | DP50: Studium DDM | DQ50: Ja | DR50: Nein | DS50: Ja | DT50: Ja | DU50: Ja | DV50: Ja | DW50: Nein | DX50: Nein | DY50: Nein | DZ50: Ja | EA50: Nein | EC50: Nein | ED50: Ja | EE50: Ja | EF50: Nein | EG50: Nein | EH50: Nein | EI50: Ja | EJ50: Ja | EK50: Nein | EM50: 1 | EN50: 1 | EO50: 1 | EP50: Nein | EQ50: Nein | ER50: Nein | ES50: Nein | ET50: Nein | EU50: Ja | EV50: Nein | EW50: 3 | EX50: 3 | EY50: 1 | EZ50: Niedersachsen
A51: 94 | B51: 3 | C51: 1636972464 | D51: Ja | E51: Nein | F51: Nein | G51: Nein | H51: Nein | I51: Nein | J51: Nein | L51: Beratung oder Schulung | M51: Beratung oder Schulung | N51: Beratung oder Schulung | O51: Noch nicht geplant | P51: Noch nicht geplant | Q51: Beratung oder Schulung | R51: Beratung oder Schulung | S51: Dienstangebot | T51: Noch nicht geplant | U51: Ja | V51: Ja | X51: Nein | Z51: Ja | AB51: Nein | AD51: Nein | AF51: Nein | AH51: Repositorium, RDMO | AI51: Nein | AJ51: Nein | AK51: Ja | AL51: Nein | AM51: Ja | AN51: Ja | AO51: Ja | AQ51: 2 | AR51: 5 | AS51: 7 | AZ51: 5 | BA51: Ja | BB51: Ja | BC51: Nein | BD51: Nein | BE51: Ja | BF51: Nein | BG51: Nein | BH51: Nein | BJ51: Ja | BK51: Ja | BL51: Ja | BM51: Nein | BN51: Nein | BP51: Ja | BQ51: Ja | BR51: Nein | BS51: Nein | BT51: Ja | BU51: Nein | BW51: Ja | BX51: Ja | BY51: Ja | BZ51: Ja | CB51: 3 | CC51: 1 | CD51: 4 | CE51: 6 | CH51: 1 | CI51: 3 | CJ51: 2 | CK51: 0 | CL51: Nein | CN51: Nein | CP51: Nein | CR51: Nein | CT51: Nein | CV51: Nein | CX51: Nein | CZ51: Nein | DB51: Nein | DC51: Nein | DD51: Nein | DE51: Nein | DF51: Nein | DG51: Nein | DH51: Nein | DI51: eigenes Evaluierungsmodells | DJ51: Nein | DK51: Ja | DL51: Nein | DM51: Ja | DN51: Nein | DO51: Nein | DQ51: N/A | DR51: N/A | DS51: N/A | DT51: N/A | DU51: N/A | DV51: N/A | DW51: N/A | DX51: N/A | DY51: N/A | DZ51: N/A | EA51: N/A | EC51: N/A | ED51: N/A | EE51: N/A | EF51: N/A | EG51: N/A | EH51: N/A | EI51: N/A | EJ51: N/A | EK51: N/A | EM51: 0 | EN51: 0 | EO51: 0 | EP51: N/A | EQ51: N/A | ER51: N/A | ES51: N/A | ET51: N/A | EU51: N/A | EV51: N/A | EY51: 0 | EZ51: 0
A52: 98 | B52: 5 | C52: 1531279326 | D52: Ja | E52: Nein | F52: Nein | G52: Nein | H52: Nein | I52: Nein | J52: Nein | L52: Beratung oder Schulung | M52: Beratung oder Schulung | N52: Beratung oder Schulung | O52: Noch nicht geplant | P52: Kein Angebot | Q52: Kein Angebot | R52: Beratung oder Schulung | S52: Beratung oder Schulung | T52: Noch nicht geplant | V52: N/A | X52: N/A | Z52: N/A | AB52: N/A | AD52: N/A | AF52: N/A | AI52: Nein | AJ52: Ja | AK52: Ja | AL52: Nein | AM52: Nein | AN52: Ja | AO52: Ja | AQ52: 1 | AR52: 3 | AS52: 7 | AT52: 2 | AU52: 4 | AZ52: 5 | BA52: Ja | BB52: Ja | BC52: Nein | BD52: Nein | BE52: Nein | BF52: Nein | BG52: Nein | BH52: Nein | BJ52: Ja | BK52: Ja | BL52: Nein | BM52: Ja | BN52: Nein | BP52: Ja | BQ52: Ja | BR52: Ja | BS52: Nein | BT52: Nein | BU52: Nein | BW52: Ja | BX52: Ja | BY52: Ja | BZ52: Ja | CB52: 1 | CC52: 2 | CD52: 6 | CE52: 3 | CH52: 3 | CI52: 2 | CJ52: 3 | CK52: 0 | CL52: N/A | CN52: N/A | CP52: N/A | CR52: N/A | CT52: N/A | CV52: N/A | CX52: N/A | CZ52: N/A | DB52: Nein | DC52: Nein | DD52: Nein | DE52: Nein | DF52: Ja | DG52: Nein | DH52: Nein | DJ52: Ja | DK52: Ja | DL52: Nein | DM52: Nein | DN52: Ja | DO52: Nein | DQ52: Ja | DR52: Nein | DS52: Ja | DT52: Ja | DU52: Ja | DV52: Ja | DW52: Nein | DX52: Nein | DY52: Nein | DZ52: Nein | EA52: Nein | EC52: Nein | ED52: Ja | EE52: Ja | EF52: Nein | EG52: Nein | EH52: Nein | EI52: Ja | EJ52: Nein | EK52: Nein | EM52: 3 | EN52: 3 | EO52: 3 | EP52: Ja | EQ52: Nein | ER52: Nein | ES52: Nein | ET52: Nein | EU52: Nein | EV52: Nein | EW52: 4 | EX52: 3 | EY52: 1 | EZ52: Mecklenburg-Vorpommern
A53: 99 | B53: 5 | C53: 402339561 | D53: Nein | E53: Nein | F53: Nein | G53: Nein | H53: Nein | I53: Ja | J53: Nein | L53: Beratung oder Schulung | M53: Dienstangebot | N53: Beratung oder Schulung | O53: Dienstangebot | P53: Beratung oder Schulung | Q53: Beratung oder Schulung | R53: Beratung oder Schulung | S53: Dienstangebot | T53: Beratung oder Schulung | V53: N/A | X53: N/A | Z53: N/A | AB53: N/A | AD53: N/A | AF53: N/A | AI53: Nein | AJ53: Ja | AK53: Ja | AL53: Ja | AM53: Ja | AN53: Ja | AO53: Nein | AP53: E-Learning im Aufbau | AQ53: 1 | AR53: 2 | AS53: 7 | AT53: 3 | AY53: Bedarfe wurden erkannt und Strategien entwickelt, aber die Ressourcen reichen noch nicht aus bzw. geeignetes Personal zu finden gestaltet sich schwierig angesichts der hohen Nachfrage. Technische Stellen werden im öffentlichen Dienst nicht gut genug vergütet, um konkurrenzfähig zu sein. | AZ53: 5 | BA53: Ja | BB53: Ja | BC53: Nein | BD53: Nein | BE53: Nein | BF53: Ja | BG53: Nein | BH53: Nein | BI53: gemeinsames Zentrum der genannten Einrichtungen | BJ53: Ja | BK53: Ja | BL53: Ja | BM53: Nein | BN53: Nein | BP53: Ja | BQ53: Ja | BR53: Ja | BS53: Ja | BT53: Ja | BU53: Nein | BW53: Ja | BX53: Ja | BY53: Ja | BZ53: Nein | CB53: 2 | CC53: 1 | CD53: 4 | CE53: 6 | CF53: 3 | CG53: 5 | CH53: 1 | CI53: 3 | CJ53: 2 | CK53: 3 | CL53: Nein | CN53: Ja | CP53: Ja | CR53: Nein | CT53: Nein | CV53: Nein | CX53: Ja | CZ53: Nein | DB53: Ja | DC53: Nein | DD53: Ja | DE53: Ja | DF53: Nein | DG53: Nein | DH53: Ja | DJ53: Ja | DK53: Ja | DL53: Nein | DM53: Ja | DN53: Ja | DO53: Nein | DQ53: Ja | DR53: Nein | DS53: Nein | DT53: Nein | DU53: Nein | DV53: Nein | DW53: Nein | DX53: Nein | DY53: Nein | DZ53: Nein | EA53: Nein | EC53: Ja | ED53: Ja | EE53: Ja | EF53: Nein | EG53: Nein | EH53: Nein | EI53: Nein | EJ53: Nein | EK53: Nein | EM53: 3 | EN53: 3 | EO53: 5 | EP53: Ja | EQ53: Nein | ER53: Nein | ES53: Nein | ET53: Nein | EU53: Nein | EV53: Nein | EW53: 4 | EX53: 4 | EY53: 1 | EZ53: Nordrhein Westfalen
A54: 100 | B54: 5 | C54: 732927516 | D54: Ja | E54: Nein | F54: Nein | G54: Ja | H54: Nein | I54: Nein | J54: Nein | L54: Beratung oder Schulung | M54: Dienstangebot | N54: Beratung oder Schulung | O54: Kein Angebot | P54: Noch nicht geplant | Q54: Dienstangebot | R54: Beratung oder Schulung | S54: Beratung oder Schulung | T54: Dienstangebot | U54: Nein | V54: N/A | X54: N/A | Z54: N/A | AB54: N/A | AD54: N/A | AF54: N/A | AI54: Ja | AJ54: Ja | AK54: Ja | AL54: Nein | AM54: Nein | AN54: Ja | AO54: Ja | AQ54: 3 | AR54: 2 | AS54: 5 | AY54: Mangelnde Bereitschaft anderer Fachkräfte, am Forschungsdatenmanagement mitzuwirken | AZ54: 5 | BA54: Nein | BB54: Nein | BC54: Nein | BD54: Nein | BE54: Nein | BF54: Nein | BG54: Nein | BH54: Nein | BJ54: Ja | BK54: Nein | BL54: Ja | BM54: Nein | BN54: Nein | BO54: in Zusammenarbeit mit anderen Institutionen | BP54: Nein | BQ54: Ja | BR54: Ja | BS54: Nein | BT54: Nein | BU54: Nein | BW54: Nein | BX54: Ja | BY54: Ja | BZ54: Nein | CB54: 2 | CH54: 1 | CI54: 5 | CJ54: 3 | CK54: 0 | CL54: N/A | CN54: N/A | CP54: N/A | CR54: N/A | CT54: N/A | CV54: N/A | CX54: N/A | CZ54: N/A | DB54: Nein | DC54: Nein | DD54: Nein | DE54: Nein | DF54: Nein | DG54: Nein | DH54: Nein | DJ54: Nein | DK54: Ja | DL54: Nein | DM54: Nein | DN54: Nein | DO54: Nein | DQ54: Nein | DR54: Nein | DS54: Nein | DT54: Nein | DU54: Nein | DV54: Nein | DW54: Nein | DX54: Nein | DY54: Nein | DZ54: Ja | EA54: Nein | EC54: Ja | ED54: Ja | EE54: Ja | EF54: Nein | EG54: Nein | EH54: Nein | EI54: Nein | EJ54: Nein | EK54: Nein | EM54: 2 | EN54: 1 | EO54: 5 | EP54: Ja | EQ54: Nein | ER54: Nein | ES54: Nein | ET54: Nein | EU54: Nein | EV54: Nein | EW54: 5 | EX54: 4 | EY54: 1 | EZ54: Nordrhein Westfalen
A55: 102 | B55: 5 | C55: 116546233 | D55: Nein | E55: Nein | F55: Nein | G55: Ja | H55: Nein | I55: Nein | J55: Nein | L55: Kein Angebot | M55: Kein Angebot | N55: Beratung oder Schulung | O55: Beratung oder Schulung | P55: Kein Angebot | Q55: Kein Angebot | R55: Dienstangebot | S55: Beratung oder Schulung | T55: Kein Angebot | U55: Ja | V55: Nein | X55: Nein | Z55: Nein | AB55: Nein | AD55: Nein | AF55: Nein | AI55: Ja | AJ55: Nein | AK55: Nein | AL55: Nein | AM55: Nein | AN55: Nein | AO55: Nein | AQ55: 3 | AR55: 1 | AS55: 5 | AZ55: 5 | BA55: Nein | BB55: Ja | BC55: Ja | BD55: Nein | BE55: Nein | BF55: Nein | BG55: Nein | BH55: Nein | BJ55: Nein | BK55: Ja | BL55: Nein | BM55: Nein | BN55: Nein | BP55: Ja | BQ55: Nein | BR55: Ja | BS55: Nein | BT55: Nein | BU55: Nein | BW55: Nein | BX55: Nein | BY55: Nein | BZ55: Nein | CB55: 1 | CH55: 2 | CI55: 3 | CJ55: 2 | CK55: 2 | CL55: Ja | CN55: Nein | CP55: Nein | CR55: Nein | CT55: Nein | CV55: Nein | CX55: Nein | CZ55: Nein | DB55: Ja | DC55: Nein | DD55: Nein | DE55: Nein | DF55: Nein | DG55: Nein | DH55: Nein | DJ55: Nein | DK55: Nein | DL55: Nein | DM55: Ja | DN55: Nein | DO55: Nein | DQ55: Ja | DR55: Nein | DS55: Nein | DT55: Nein | DU55: Nein | DV55: Nein | DW55: Nein | DX55: Nein | DY55: Nein | DZ55: Nein | EA55: Nein | EC55: Ja | ED55: Nein | EE55: Ja | EF55: Nein | EG55: Nein | EH55: Nein | EI55: Nein | EJ55: Nein | EK55: Nein | EM55: 3 | EN55: 0 | EO55: 3 | EP55: Nein | EQ55: Nein | ER55: Nein | ES55: Nein | ET55: Nein | EU55: Ja | EV55: Nein | EW55: 4 | EX55: 3 | EY55: 1 | EZ55: Rheinland-Pfalz
A56: 103 | B56: 5 | C56: 182091509 | D56: Ja | E56: Nein | F56: Nein | G56: Nein | H56: Nein | I56: Nein | J56: Nein | L56: Beratung oder Schulung | M56: Dienstangebot | N56: Noch nicht geplant | O56: Noch nicht geplant | P56: Noch nicht geplant | Q56: Beratung oder Schulung | R56: Dienstangebot | S56: Dienstangebot | T56: Noch nicht geplant | U56: Nein | V56: N/A | X56: N/A | Z56: N/A | AB56: N/A | AD56: N/A | AF56: N/A | AI56: Ja | AJ56: Nein | AK56: Ja | AL56: Nein | AM56: Nein | AN56: Ja | AO56: Ja | AQ56: 1 | AR56: 2 | AS56: 3 | AT56: 7 | AU56: 5 | AV56: 4 | AY56: viele FDM-Services erst im Aufbau (FDM-Beratungsstelle vor ca. 1 Jahr gegründet) | AZ56: 5 | BA56: Ja | BB56: Ja | BC56: Nein | BD56: Nein | BE56: Ja | BF56: Ja | BG56: Nein | BH56: Nein | BJ56: Ja | BK56: Nein | BL56: Nein | BM56: Nein | BN56: Nein | BP56: Ja | BQ56: Nein | BR56: Ja | BS56: Nein | BT56: Ja | BU56: Nein | BW56: Ja | BX56: Ja | BY56: Ja | BZ56: Ja | CB56: 2 | CC56: 1 | CD56: 3 | CE56: 4 | CH56: 2 | CI56: 4 | CJ56: 3 | CK56: 0 | CL56: N/A | CN56: N/A | CP56: N/A | CR56: N/A | CT56: N/A | CV56: N/A | CX56: N/A | CZ56: N/A | DB56: Nein | DC56: Nein | DD56: Ja | DE56: Ja | DF56: Ja | DG56: Nein | DH56: Ja | DJ56: Nein | DK56: Ja | DL56: Nein | DM56: Nein | DN56: Ja | DO56: Nein | DQ56: Ja | DR56: Nein | DS56: Ja | DT56: Ja | DU56: Ja | DV56: Ja | DW56: Nein | DX56: Nein | DY56: Nein | DZ56: Ja | EA56: Nein | EC56: Ja | ED56: Ja | EE56: Ja | EF56: Nein | EG56: Nein | EH56: Ja | EI56: Ja | EJ56: Ja | EK56: Nein | EM56: 5 | EN56: 5 | EO56: 5 | EP56: Ja | EQ56: Nein | ER56: Nein | ES56: Nein | ET56: Nein | EU56: Nein | EV56: Nein | EW56: 3 | EX56: 4 | EY56: 1 | EZ56: Bayern | FA56: Die FDM-Beratungsstelle befindet sich an unserer Institution noch im Aufbau, deswegen ist es aktuell schwierig, konkrete Aussage über einige Punkte zu treffen, da sich Workflows noch nicht etabliert haben.
A57: 104 | B57: 5 | C57: 439275825 | D57: Ja | E57: Nein | F57: Nein | G57: Nein | H57: Nein | I57: Nein | J57: Nein | L57: Beratung oder Schulung | M57: Dienstangebot | N57: Beratung oder Schulung | O57: Beratung oder Schulung | P57: Beratung oder Schulung | Q57: Beratung oder Schulung | R57: Beratung oder Schulung | S57: Beratung oder Schulung | U57: Ja | V57: Ja | W57: Hochschulübergreifende Zusammenarbeit der Resaerch Allianz Ruhr | X57: Ja | Y57: Landesinitiative für Forschungsdatenmanagement - fdm.nrw | Z57: Nein | AB57: Nein | AD57: Nein | AF57: Nein | AH57: [Bemerkung: ich bin mir nicht sicher, was Dienste hier meint: technische Infrastruktur (wie z.B. Tools) oder auch Informationsangebote (z.B. Schulungen)] Hochschulübergreifende Schulungen | AI57: Nein | AJ57: Nein | AK57: Ja | AL57: Ja | AM57: Nein | AN57: Ja | AO57: Nein | AQ57: 2 | AR57: 4 | AS57: 5 | AY57: Unklare Abstimmung von Stakeholdern am Standort über Zuständigkeiten (z.B. Bibliothek, Rechenzentrum, e-science-Support; Stellen zur Forschungsföderung); fachspezifische Bedarfe meist sehr speziell und damit nicht vollständig umsetzbar; mangelnde Bedarfsabfragen / mangelnde Kommunikation mit den Forschenden | AZ57: 5 | BA57: Ja | BB57: Ja | BC57: Nein | BD57: Nein | BE57: Nein | BF57: Ja | BG57: Nein | BH57: Nein | BJ57: Ja | BK57: Nein | BL57: Nein | BM57: Ja | BN57: Nein | BP57: Ja | BQ57: Ja | BR57: Ja | BS57: Nein | BT57: Ja | BU57: Nein | BW57: Ja | BX57: Ja | BY57: Ja | BZ57: Ja | CA57: Bedarfe von SFBs bzw. INF-Projekten | CB57: 5 | CC57: 3 | CD57: 1 | CE57: 2 | CF57: 6 | CH57: 1 | CI57: 3 | CJ57: 2 | CK57: 3 | CL57: Nein | CN57: Ja | CO57: vertreten in einem Beirat der Servicestelle für FDM | CP57: Nein | CR57: Nein | CT57: Nein | CV57: Nein | CX57: Nein | CZ57: Ja | DA57: Hochschulleitung, vertreten in einem Beirat der Serciestelle für FDM | DB57: Nein | DC57: Nein | DD57: Ja | DE57: Nein | DF57: Nein | DG57: Nein | DH57: Nein | DI57: Entwicklung eines eigenen Evaluationsmodells in Zusammenarbeit mit einem Zentrum für Hochschulqualitätsentwicklung | DJ57: Ja | DK57: Ja | DL57: Nein | DM57: Ja | DN57: Nein | DO57: Nein | DQ57: Ja | DR57: Nein | DS57: Nein | DT57: Nein | DU57: Nein | DV57: Nein | DW57: Nein | DX57: Nein | DY57: Nein | DZ57: Nein | EA57: Nein | EC57: Ja | ED57: Ja | EE57: Ja | EF57: Nein | EG57: Nein | EH57: Nein | EI57: Ja | EJ57: Nein | EK57: Nein | EM57: 3 | EN57: 3 | EO57: 5 | EP57: Ja | EQ57: Nein | ER57: Nein | ES57: Nein | ET57: Nein | EU57: Nein | EV57: Nein | EW57: 4 | EX57: 4 | EY57: 1 | EZ57: Nordrhein Westfalen | FA57: Manche Fragen bzw. Antwortmöglichkeiten waren mir nicht auf Anhieb verständlich (z.B. bei den Fragen nach den externen Diensten oder nach dem Kommunikationswegen). Bei einigen Fragen waren keine Mehrfachantworten möglich (z.B. bei den Kommunikationswegen; das war etwas Schade, weil ggf. mehrere Kommunikationskanäle (z.B. direkte Ansprechpersonen und Supporthotlines) angeboten werden. Am Anfang war eine Matrix erwähnt, bei der Fortschritte eingetragen werden können. Diese habe ich nicht gesehen bzw. nicht verstanden, wie ich darauf zugreifen hätte können.
A58: 105 | B58: 5 | C58: 1046195716 | D58: Nein | E58: Nein | F58: Nein | G58: Nein | H58: Nein | I58: Ja | J58: Nein | L58: Beratung oder Schulung | M58: Dienstangebot | N58: Dienstangebot | O58: Dienstangebot | P58: Dienstangebot | Q58: Dienstangebot | R58: Beratung oder Schulung | S58: Dienstangebot | T58: Kein Angebot | U58: Nein | V58: N/A | X58: N/A | Z58: N/A | AB58: N/A | AD58: N/A | AF58: N/A | AI58: Ja | AJ58: Ja | AK58: Ja | AL58: Ja | AM58: Nein | AN58: Ja | AO58: Nein | AZ58: 5 | BA58: Ja | BB58: Nein | BC58: Nein | BD58: Nein | BE58: Nein | BF58: Ja | BG58: Nein | BH58: Ja | BJ58: Ja | BK58: Nein | BL58: Nein | BM58: Nein | BN58: Ja | BP58: Ja | BQ58: Nein | BR58: Ja | BS58: Nein | BT58: Ja | BU58: Nein | BW58: Nein | BX58: Ja | BY58: Ja | BZ58: Nein | CB58: 3 | CC58: 1 | CD58: 2 | CH58: 1 | CI58: 3 | CJ58: 3 | CK58: 0 | CL58: N/A | CN58: N/A | CP58: N/A | CR58: N/A | CT58: N/A | CV58: N/A | CX58: N/A | CZ58: N/A | DB58: Nein | DC58: Ja | DD58: Ja | DE58: Nein | DF58: Ja | DG58: Nein | DH58: Nein | DJ58: Nein | DK58: Ja | DL58: Nein | DM58: Nein | DN58: Ja | DO58: Nein | DQ58: Ja | DR58: Nein | DS58: Nein | DT58: Nein | DU58: Nein | DV58: Nein | DW58: Nein | DX58: Nein | DY58: Nein | DZ58: Nein | EA58: Ja | EB58: im Fokus Forschende und Studierende geisteswissenschaftlicher Fakultäten | EC58: Ja | ED58: Ja | EE58: Nein | EF58: Nein | EG58: Nein | EH58: Ja | EI58: Nein | EJ58: Ja | EK58: Nein | EM58: 4 | EN58: 4 | EO58: 3 | EP58: Ja | EQ58: Nein | ER58: Nein | ES58: Nein | ET58: Nein | EU58: Nein | EV58: Nein | EW58: 3 | EX58: 3 | EY58: 1 | EZ58: Bayern
A59: 106 | B59: 5 | C59: 2084206502 | D59: Nein | E59: Nein | F59: Nein | G59: Nein | H59: Nein | I59: Nein | J59: Ja | L59: Dienstangebot | M59: Beratung oder Schulung | N59: Beratung oder Schulung | O59: Kein Angebot | P59: Kein Angebot | Q59: Beratung oder Schulung | R59: Beratung oder Schulung | S59: Dienstangebot | T59: Beratung oder Schulung | U59: Nein | V59: N/A | X59: N/A | Z59: N/A | AB59: N/A | AD59: N/A | AF59: N/A | AI59: Ja | AJ59: Ja | AK59: Ja | AL59: Nein | AM59: Nein | AN59: Nein | AO59: Nein | AQ59: 6 | AR59: 7 | AS59: 1 | AT59: 5 | AZ59: 5 | BA59: Ja | BB59: Ja | BC59: Nein | BD59: Ja | BE59: Nein | BF59: Ja | BG59: Nein | BH59: Ja | BJ59: Ja | BK59: Ja | BL59: Ja | BM59: Ja | BN59: Nein | BP59: Ja | BQ59: Ja | BR59: Ja | BS59: Nein | BT59: Ja | BU59: Nein | BW59: Ja | BX59: Ja | BY59: Ja | BZ59: Ja | CB59: 3 | CC59: 1 | CH59: 1 | CI59: 2 | CJ59: 3 | CK59: 0 | CL59: N/A | CN59: N/A | CP59: N/A | CR59: N/A | CT59: N/A | CV59: N/A | CX59: N/A | CZ59: N/A | DB59: Nein | DC59: Nein | DD59: Nein | DE59: Nein | DF59: Ja | DG59: Nein | DH59: Nein | DJ59: Nein | DK59: Ja | DL59: Nein | DM59: Ja | DN59: Nein | DO59: Nein | DQ59: Ja | DR59: Nein | DS59: Nein | DT59: Nein | DU59: Nein | DV59: Nein | DW59: Nein | DX59: Nein | DY59: Nein | DZ59: Nein | EA59: Nein | EC59: Ja | ED59: Ja | EE59: Ja | EF59: Ja | EG59: Nein | EH59: Ja | EI59: Nein | EJ59: Ja | EK59: Nein | EM59: 3 | EN59: 3 | EO59: 3 | EP59: Nein | EQ59: Ja | ER59: Ja | ES59: Ja | ET59: Nein | EU59: Nein | EV59: Nein | EW59: 4 | EX59: 4 | EY59: 1 | EZ59: Hessen
A60: 107 | B60: 5 | C60: 1035155041 | D60: Nein | E60: Nein | F60: Nein | G60: Nein | H60: Ja | I60: Nein | J60: Nein | L60: Beratung oder Schulung | M60: Beratung oder Schulung | N60: Beratung oder Schulung | O60: Noch nicht geplant | P60: Noch nicht geplant | Q60: Beratung oder Schulung | R60: In Planung | S60: In Planung | T60: In Planung | U60: Ja | V60: Nein | X60: Ja | Y60: SaxFDM - Landesinitiative, ScaDS.AI | Z60: Ja | AA60: NFDI-Konsortien | AB60: Nein | AD60: Nein | AF60: Nein | AI60: Nein | AJ60: Nein | AK60: Ja | AL60: Ja | AM60: Nein | AN60: Ja | AO60: Nein | AQ60: 1 | AR60: 3 | AS60: 2 | AT60: 7 | AU60: 6 | AZ60: 5 | BA60: Ja | BB60: Ja | BC60: Nein | BD60: Nein | BE60: Nein | BF60: Ja | BG60: Nein | BH60: Nein | BJ60: Nein | BK60: Ja | BL60: Nein | BM60: Nein | BN60: Nein | BP60: Ja | BQ60: Nein | BR60: Nein | BS60: Nein | BT60: Ja | BU60: Nein | BW60: Nein | BX60: Ja | BY60: Nein | BZ60: Ja | CB60: 3 | CC60: 1 | CD60: 5 | CH60: 1 | CI60: 4 | CJ60: 2 | CK60: 4 | CL60: Nein | CN60: Nein | CP60: Ja | CR60: Nein | CT60: Nein | CV60: Nein | CX60: Nein | CZ60: Nein | DB60: Nein | DC60: Nein | DD60: Nein | DE60: Ja | DF60: Ja | DG60: Nein | DH60: Nein | DJ60: Nein | DK60: Nein | DL60: Nein | DM60: Nein | DN60: Nein | DO60: Ja | DQ60: Nein | DR60: Ja | DS60: Ja | DT60: Ja | DU60: Ja | DV60: Nein | DW60: Nein | DX60: Nein | DY60: Nein | DZ60: Nein | EA60: Nein | EC60: Ja | ED60: Nein | EE60: Ja | EF60: Nein | EG60: Nein | EH60: Nein | EI60: Ja | EJ60: Nein | EK60: Nein | EM60: 3 | EN60: 3 | EO60: 3 | EP60: Nein | EQ60: Nein | ER60: Nein | ES60: Nein | ET60: Ja | EU60: Nein | EV60: Nein | EW60: 5 | EX60: 4 | EY60: 1 | EZ60: Sachsen
A61: 108 | B61: 5 | C61: 1850027346 | D61: Nein | E61: Nein | F61: Nein | G61: Ja | H61: Nein | I61: Nein | J61: Nein | L61: Beratung oder Schulung | M61: Dienstangebot | N61: Beratung oder Schulung | O61: Noch nicht geplant | P61: Noch nicht geplant | Q61: Beratung oder Schulung | R61: Dienstangebot | S61: Dienstangebot | U61: Nein | V61: N/A | X61: N/A | Z61: N/A | AB61: N/A | AD61: N/A | AF61: N/A | AI61: Ja | AJ61: Ja | AK61: Ja | AL61: Ja | AM61: Nein | AN61: Ja | AO61: Ja | AQ61: 2 | AZ61: 6 | BA61: Ja | BB61: Ja | BC61: Nein | BD61: Ja | BE61: Nein | BF61: Nein | BG61: Nein | BH61: Nein | BJ61: Ja | BK61: Nein | BL61: Ja | BM61: Nein | BN61: Nein | BP61: Ja | BQ61: Ja | BR61: Ja | BS61: Ja | BT61: Nein | BU61: Nein | BW61: Ja | BX61: Ja | BY61: Ja | BZ61: Ja | CB61: 5 | CC61: 1 | CD61: 6 | CE61: 3 | CH61: 1 | CJ61: 1 | CK61: 3 | CL61: Ja | CN61: Nein | CP61: Ja | CR61: Nein | CT61: Ja | CV61: Nein | CX61: Nein | CZ61: Nein | DB61: Ja | DC61: Nein | DD61: Ja | DE61: Ja | DF61: Ja | DG61: Nein | DH61: Nein | DJ61: Ja | DK61: Ja | DL61: Ja | DM61: Ja | DN61: Ja | DO61: Nein | DQ61: Ja | DR61: Ja | DS61: Ja | DT61: Ja | DU61: Ja | DV61: Ja | DW61: Ja | DX61: Ja | DY61: Ja | DZ61: Nein | EA61: Nein | EC61: Nein | ED61: Ja | EE61: Ja | EF61: Ja | EG61: Nein | EH61: Ja | EI61: Ja | EJ61: Ja | EK61: Nein | EM61: 0 | EN61: 0 | EO61: 5 | EP61: Ja | EQ61: Nein | ER61: Nein | ES61: Nein | ET61: Nein | EU61: Nein | EV61: Nein | EY61: 1 | EZ61: Nordrhein Westfalen
A62: 110 | B62: 5 | C62: 1557372573 | D62: Ja | E62: Nein | F62: Nein | G62: Nein | H62: Nein | I62: Nein | J62: Nein | L62: Beratung oder Schulung | M62: Dienstangebot | N62: Dienstangebot | O62: Beratung oder Schulung | P62: Beratung oder Schulung | Q62: Beratung oder Schulung | R62: Dienstangebot | S62: Dienstangebot | T62: Noch nicht geplant | U62: Ja | V62: Nein | X62: Nein | Z62: Nein | AB62: Nein | AD62: Ja | AF62: Ja | AH62: Repositorium, ELN-Dienst | AI62: Ja | AJ62: Ja | AK62: Ja | AL62: Ja | AM62: Ja | AN62: Ja | AO62: Ja | AQ62: 1 | AR62: 2 | AS62: 4 | AT62: 7 | AZ62: 5 | BA62: Ja | BB62: Ja | BC62: Nein | BD62: Nein | BE62: Nein | BF62: Nein | BG62: Nein | BH62: Nein | BJ62: Ja | BK62: Nein | BL62: Ja | BM62: Ja | BN62: Ja | BP62: Ja | BQ62: Ja | BR62: Nein | BS62: Nein | BT62: Ja | BU62: Nein | BW62: Ja | BX62: Ja | BY62: Ja | BZ62: Ja | CB62: 5 | CC62: 2 | CD62: 1 | CE62: 3 | CF62: 4 | CH62: 3 | CI62: 2 | CJ62: 2 | CK62: 3 | CL62: Nein | CN62: Ja | CP62: Ja | CR62: Nein | CT62: Ja | CV62: Nein | CX62: Nein | CZ62: Nein | DB62: Nein | DC62: Nein | DD62: Ja | DE62: Nein | DF62: Ja | DG62: Nein | DH62: Nein | DJ62: Ja | DK62: Ja | DL62: Ja | DM62: Ja | DN62: Ja | DO62: Nein | DQ62: Ja | DR62: Ja | DS62: Ja | DT62: Ja | DU62: Ja | DV62: Nein | DW62: Nein | DX62: Nein | DY62: Nein | DZ62: Nein | EA62: Nein | EC62: Ja | ED62: Ja | EE62: Ja | EF62: Nein | EG62: Nein | EH62: Ja | EI62: Nein | EJ62: Nein | EK62: Nein | EM62: 1 | EN62: 1 | EO62: 1 | EP62: Ja | EQ62: Nein | ER62: Nein | ES62: Nein | ET62: Nein | EU62: Nein | EV62: Nein | EW62: 3 | EX62: 2 | EY62: 1 | EZ62: Nordrhein Westfalen
A63: 113 | B63: 3 | C63: 1659159973 | D63: Ja | E63: Nein | F63: Nein | G63: Nein | H63: Nein | I63: Nein | J63: Nein | L63: Beratung oder Schulung | M63: Beratung oder Schulung | N63: Beratung oder Schulung | V63: N/A | X63: N/A | Z63: N/A | AB63: N/A | AD63: N/A | AF63: N/A | AI63: Nein | AJ63: Nein | AK63: Ja | AL63: Ja | AM63: Ja | AN63: Ja | AO63: Nein | BA63: Nein | BB63: Nein | BC63: Nein | BD63: Nein | BE63: Nein | BF63: Nein | BG63: Nein | BH63: Nein | BJ63: Nein | BK63: Nein | BL63: Nein | BM63: Nein | BN63: Nein | BP63: Nein | BQ63: Nein | BR63: Nein | BS63: Nein | BT63: Nein | BU63: Nein | BW63: Nein | BX63: Nein | BY63: Nein | BZ63: Nein | CJ63: 0 | CK63: 0 | CL63: Nein | CN63: Nein | CP63: Nein | CR63: Nein | CT63: Nein | CV63: Nein | CX63: Nein | CZ63: Nein | DB63: Nein | DC63: Nein | DD63: Nein | DE63: Nein | DF63: Nein | DG63: Nein | DH63: Nein | DJ63: Nein | DK63: Nein | DL63: Nein | DM63: Nein | DN63: Nein | DO63: Nein | DQ63: N/A | DR63: N/A | DS63: N/A | DT63: N/A | DU63: N/A | DV63: N/A | DW63: N/A | DX63: N/A | DY63: N/A | DZ63: N/A | EA63: N/A | EC63: N/A | ED63: N/A | EE63: N/A | EF63: N/A | EG63: N/A | EH63: N/A | EI63: N/A | EJ63: N/A | EK63: N/A | EM63: 0 | EN63: 0 | EO63: 0 | EP63: N/A | EQ63: N/A | ER63: N/A | ES63: N/A | ET63: N/A | EU63: N/A | EV63: N/A | EY63: 0 | EZ63: 0
A64: 115 | B64: 5 | C64: 1543689130 | D64: Ja | E64: Nein | F64: Nein | G64: Nein | H64: Nein | I64: Nein | J64: Nein | L64: Beratung oder Schulung | M64: Dienstangebot | N64: Dienstangebot | O64: Kein Angebot | P64: Kein Angebot | Q64: Beratung oder Schulung | R64: Dienstangebot | S64: Dienstangebot | T64: Kein Angebot | V64: N/A | X64: N/A | Z64: N/A | AB64: N/A | AD64: N/A | AF64: N/A | AI64: Nein | AJ64: Ja | AK64: Ja | AL64: Ja | AM64: Nein | AN64: Ja | AO64: Nein | AQ64: 1 | AR64: 3 | AS64: 2 | AT64: 6 | AU64: 8 | AY64: Dienste sind noch im Aufbau. | AZ64: 6 | BA64: Ja | BB64: Ja | BC64: Ja | BD64: Nein | BE64: Ja | BF64: Ja | BG64: Ja | BH64: Ja | BJ64: Ja | BK64: Ja | BL64: Nein | BM64: Ja | BN64: Ja | BP64: Ja | BQ64: Ja | BR64: Ja | BS64: Ja | BT64: Ja | BU64: Nein | BW64: Ja | BX64: Ja | BY64: Ja | BZ64: Nein | CB64: 2 | CC64: 3 | CD64: 5 | CE64: 1 | CF64: 4 | CH64: 1 | CI64: 3 | CJ64: 2 | CK64: 4 | CL64: Ja | CN64: Ja | CP64: Nein | CR64: Ja | CT64: Nein | CV64: Nein | CX64: Ja | CZ64: Nein | DB64: Ja | DC64: Nein | DD64: Nein | DE64: Nein | DF64: Ja | DG64: Nein | DH64: Nein | DJ64: Nein | DK64: Ja | DL64: Nein | DM64: Ja | DN64: Ja | DO64: Nein | DQ64: Nein | DR64: Nein | DS64: Ja | DT64: Ja | DU64: Ja | DV64: Ja | DW64: Nein | DX64: Ja | DY64: Ja | DZ64: Nein | EA64: Nein | EC64: Nein | ED64: Ja | EE64: Ja | EF64: Nein | EG64: Nein | EH64: Ja | EI64: Ja | EJ64: Nein | EK64: Nein | EM64: 5 | EN64: 5 | EO64: 5 | EP64: Ja | EQ64: Nein | ER64: Nein | ES64: Nein | ET64: Nein | EU64: Nein | EV64: Nein | EW64: 4 | EX64: 4 | EY64: 1 | EZ64: Baden-Württemberg
A65: 116 | B65: 5 | C65: 821136524 | D65: Ja | E65: Nein | F65: Nein | G65: Nein | H65: Nein | I65: Nein | J65: Nein | L65: Beratung oder Schulung | M65: Beratung oder Schulung | N65: Beratung oder Schulung | O65: Kein Angebot | P65: Kein Angebot | Q65: Beratung oder Schulung | R65: Dienstangebot | S65: Dienstangebot | T65: Beratung oder Schulung | U65: Nein | V65: N/A | X65: N/A | Z65: N/A | AB65: N/A | AD65: N/A | AF65: N/A | AI65: Nein | AJ65: Ja | AK65: Ja | AL65: Ja | AM65: Nein | AN65: Nein | AO65: Nein | AQ65: 8 | AY65: Wir bekommen sehr viel Rückmeldung, dass bereits sehr viel Infomaterial im Netz vorhanden ist - aber die Forschenden sich jemanden wünschen, der sie in einem persönlichen Gespräch an das Thema heranführt und ihnen eine grobe Richtung weisen kann. | AZ65: 5 | BA65: Ja | BB65: Ja | BC65: Nein | BD65: Nein | BE65: Nein | BF65: Nein | BG65: Nein | BH65: Ja | BJ65: Ja | BK65: Nein | BL65: Ja | BM65: Ja | BN65: Ja | BP65: Ja | BQ65: Ja | BR65: Ja | BS65: Nein | BT65: Ja | BU65: Nein | BW65: Ja | BX65: Ja | BY65: Ja | BZ65: Nein | CB65: 6 | CC65: 1 | CD65: 3 | CH65: 1 | CJ65: 2 | CK65: 2 | CL65: Nein | CN65: Ja | CP65: Ja | CR65: Ja | CT65: Nein | CV65: Nein | CX65: Ja | CZ65: Nein | DB65: Ja | DC65: Ja | DD65: Ja | DE65: Ja | DF65: Ja | DG65: Nein | DH65: Nein | DJ65: Ja | DK65: Ja | DL65: Nein | DM65: Ja | DN65: Ja | DO65: Nein | DQ65: Ja | DR65: Ja | DS65: Ja | DT65: Ja | DU65: Ja | DV65: Ja | DW65: Ja | DX65: Ja | DY65: Ja | DZ65: Nein | EA65: Nein | EC65: Ja | ED65: Ja | EE65: Ja | EF65: Ja | EG65: Nein | EH65: Ja | EI65: Ja | EJ65: Ja | EK65: Nein | EM65: 5 | EN65: 2 | EO65: 5 | EP65: Ja | EQ65: Nein | ER65: Nein | ES65: Nein | ET65: Nein | EU65: Nein | EV65: Nein | EW65: 3 | EX65: 4 | EY65: 1 | EZ65: Sachsen
A66: 117 | B66: 5 | C66: 1020405118 | D66: Ja | E66: Nein | F66: Nein | G66: Nein | H66: Nein | I66: Nein | J66: Nein | K66: Uniweites FDM-Netzwerk | L66: Beratung oder Schulung | M66: Beratung oder Schulung | N66: Beratung oder Schulung | O66: Dienstangebot | P66: Beratung oder Schulung | Q66: Beratung oder Schulung | R66: Beratung oder Schulung | S66: Beratung oder Schulung | T66: Dienstangebot | U66: Nein | V66: N/A | X66: N/A | Z66: N/A | AB66: N/A | AD66: N/A | AF66: N/A | AI66: Nein | AJ66: Ja | AK66: Ja | AL66: Ja | AM66: Nein | AN66: Ja | AO66: Ja | AQ66: 6 | AR66: 3 | AS66: 5 | AT66: 2 | AU66: 1 | AV66: 7 | AW66: 4 | AX66: 8 | AZ66: 5 | BA66: Ja | BB66: Ja | BC66: Nein | BD66: Ja | BE66: Ja | BF66: Ja | BG66: Ja | BH66: Ja | BI66: Service Provider sind in einem uniweiten Netzwerk organisiert, Data Stewards werden an allen Departementen ausgebildet | BJ66: Ja | BK66: Nein | BL66: Ja | BM66: Nein | BN66: Nein | BO66: FDM-Kurse sind Teil des Graduierten-Programms | BP66: Ja | BQ66: Ja | BR66: Ja | BS66: Nein | BT66: Ja | BU66: Nein | BV66: Weekly des Netzwerks; bilateraler Austausch/Zusammenarbeit nach Bedarf | BW66: Ja | BX66: Ja | BY66: Nein | BZ66: Nein | CA66: Aufbau von Dienstleistungen/Netzwerk hat begonnen, als DMP-Einreichung bei Antragstellung bei Forschungsförderern verpflichtend wurde. | CB66: 3 | CC66: 6 | CD66: 2 | CE66: 1 | CF66: 5 | CH66: 1 | CI66: 5 | CJ66: 2 | CK66: 3 | CL66: Ja | CN66: Ja | CP66: Nein | CR66: Ja | CT66: Nein | CV66: Ja | CX66: Nein | CZ66: Nein | DB66: Nein | DC66: Nein | DD66: Nein | DE66: Nein | DF66: Nein | DG66: Ja | DH66: Nein | DJ66: Nein | DK66: Ja | DL66: Nein | DM66: Ja | DN66: Ja | DO66: Nein | DQ66: Ja | DR66: Ja | DS66: Ja | DT66: Ja | DU66: Ja | DV66: Ja | DW66: Nein | DX66: Nein | DY66: Nein | DZ66: Nein | EA66: Nein | EC66: Ja | ED66: Ja | EE66: Nein | EF66: Nein | EG66: Nein | EH66: Ja | EI66: Nein | EJ66: Nein | EK66: Nein | EM66: 3 | EN66: 3 | EO66: 3 | EP66: Ja | EQ66: Nein | ER66: Nein | ES66: Nein | ET66: Nein | EU66: Nein | EV66: Nein | EW66: 4 | EX66: 4 | EY66: 3 | EZ66: 0
A67: 120 | B67: 5 | C67: 920544997 | D67: Ja | E67: Nein | F67: Nein | G67: Nein | H67: Nein | I67: Nein | J67: Nein | L67: Beratung oder Schulung | M67: Beratung oder Schulung | N67: Beratung oder Schulung | R67: Dienstangebot | S67: Dienstangebot | T67: Noch nicht geplant | U67: Nein | V67: N/A | X67: N/A | Z67: N/A | AB67: N/A | AD67: N/A | AF67: N/A | AI67: Ja | AJ67: Nein | AK67: Ja | AL67: Nein | AM67: Nein | AN67: Ja | AO67: Ja | AQ67: 2 | AR67: 1 | AS67: 3 | AT67: 5 | AZ67: 6 | BA67: Ja | BB67: Ja | BC67: Nein | BD67: Nein | BE67: Nein | BF67: Nein | BG67: Nein | BH67: Nein | BJ67: Ja | BK67: Ja | BL67: Nein | BM67: Nein | BN67: Nein | BP67: Ja | BQ67: Ja | BR67: Nein | BS67: Nein | BT67: Nein | BU67: Nein | BW67: Ja | BX67: Ja | BY67: Ja | BZ67: Nein | CB67: 3 | CC67: 2 | CD67: 1 | CH67: 3 | CI67: 2 | CJ67: 2 | CK67: 3 | CL67: Nein | CN67: Ja | CP67: Ja | CR67: Nein | CT67: Nein | CV67: Ja | CX67: Nein | CZ67: Nein | DB67: Ja | DC67: Nein | DD67: Nein | DE67: Ja | DF67: Ja | DG67: Nein | DH67: Nein | DJ67: Nein | DK67: Nein | DL67: Nein | DM67: Ja | DN67: Nein | DO67: Nein | DQ67: Nein | DR67: Ja | DS67: Ja | DT67: Ja | DU67: Ja | DV67: Nein | DW67: Nein | DX67: Nein | DY67: Nein | DZ67: Nein | EA67: Nein | EC67: Ja | ED67: Ja | EE67: Ja | EF67: Nein | EG67: Nein | EH67: Ja | EI67: Ja | EJ67: Ja | EK67: Nein | EM67: 2 | EN67: 1 | EO67: 1 | EP67: Nein | EQ67: Nein | ER67: Nein | ES67: Nein | ET67: Ja | EU67: Nein | EV67: Nein | EW67: 4 | EX67: 4 | EY67: 1 | EZ67: Bayern
A68: 124 | B68: 5 | C68: 861615888 | D68: Ja | E68: Nein | F68: Nein | G68: Nein | H68: Nein | I68: Nein | J68: Nein | L68: Beratung oder Schulung | M68: Beratung oder Schulung | N68: In Planung | O68: Kein Angebot | Q68: In Planung | R68: Dienstangebot | S68: Dienstangebot | T68: Beratung oder Schulung | U68: Ja | V68: Ja | X68: Ja | Z68: Nein | AB68: Nein | AD68: Nein | AF68: Nein | AH68: Repositorien; Langzeitarchivierung; | AI68: Ja | AJ68: Ja | AK68: Ja | AL68: Ja | AM68: Nein | AN68: Nein | AO68: Nein | AQ68: 2 | AR68: 1 | AS68: 3 | AT68: 7 | AU68: 4 | AV68: 5 | AW68: 6 | AX68: 8 | AZ68: 6 | BA68: Ja | BB68: Ja | BC68: Nein | BD68: Nein | BE68: Nein | BF68: Nein | BG68: Nein | BH68: Ja | BJ68: Ja | BK68: Nein | BL68: Ja | BM68: Ja | BN68: Nein | BP68: Ja | BQ68: Ja | BR68: Nein | BS68: Nein | BT68: Nein | BU68: Nein | BW68: Ja | BX68: Ja | BY68: Ja | BZ68: Nein | CB68: 3 | CC68: 1 | CD68: 5 | CE68: 6 | CF68: 2 | CH68: 1 | CI68: 2 | CJ68: 2 | CK68: 4 | CL68: Ja | CN68: Ja | CP68: Nein | CR68: Ja | CT68: Nein | CV68: Nein | CX68: Nein | CZ68: Nein | DB68: Ja | DC68: Nein | DD68: Nein | DE68: Nein | DF68: Ja | DG68: Nein | DH68: Nein | DJ68: Nein | DK68: Ja | DL68: Nein | DM68: Nein | DN68: Ja | DO68: Nein | DQ68: Ja | DR68: Nein | DS68: Nein | DT68: Nein | DU68: Nein | DV68: Nein | DW68: Nein | DX68: Nein | DY68: Nein | DZ68: Nein | EA68: Nein | EC68: Ja | ED68: Ja | EE68: Nein | EF68: Nein | EG68: Nein | EH68: Nein | EI68: Nein | EJ68: Nein | EK68: Nein | EM68: 3 | EN68: 3 | EO68: 3 | EP68: Ja | EQ68: Nein | ER68: Nein | ES68: Nein | ET68: Nein | EU68: Nein | EV68: Nein | EW68: 3 | EX68: 4 | EY68: 1 | EZ68: Bayern
A69: 125 | B69: 5 | C69: 1123504295 | D69: Nein | E69: Nein | F69: Ja | G69: Nein | H69: Nein | I69: Nein | J69: Nein | L69: Dienstangebot | N69: Dienstangebot | P69: Dienstangebot | Q69: Dienstangebot | R69: Dienstangebot | U69: Nein | V69: N/A | X69: N/A | Z69: N/A | AB69: N/A | AD69: N/A | AF69: N/A | AI69: Ja | AJ69: Nein | AK69: Ja | AL69: Ja | AM69: Nein | AN69: Ja | AO69: Ja | AQ69: 7 | AZ69: 5 | BA69: Nein | BB69: Nein | BC69: Nein | BD69: Nein | BE69: Ja | BF69: Nein | BG69: Nein | BH69: Nein | BJ69: Ja | BK69: Ja | BL69: Nein | BM69: Ja | BN69: Nein | BP69: Nein | BQ69: Ja | BR69: Nein | BS69: Nein | BT69: Nein | BU69: Nein | BW69: Nein | BX69: Nein | BY69: Nein | BZ69: Nein | CB69: 1 | CJ69: 2 | CK69: 4 | CL69: Ja | CN69: Nein | CP69: Nein | CR69: Nein | CT69: Nein | CV69: Nein | CX69: Nein | CZ69: Nein | DB69: Ja | DC69: Nein | DD69: Nein | DE69: Nein | DF69: Nein | DG69: Nein | DH69: Nein | DJ69: Nein | DK69: Nein | DL69: Nein | DM69: Nein | DN69: Ja | DO69: Nein | DQ69: Nein | DR69: Nein | DS69: Nein | DT69: Nein | DU69: Nein | DV69: Nein | DW69: Nein | DX69: Nein | DY69: Nein | DZ69: Ja | EA69: Nein | EC69: Nein | ED69: Ja | EE69: Ja | EF69: Nein | EG69: Nein | EH69: Nein | EI69: Ja | EJ69: Nein | EK69: Nein | EM69: 1 | EN69: 1 | EO69: 1 | EP69: Nein | EQ69: Nein | ER69: Nein | ES69: Nein | ET69: Nein | EU69: Ja | EV69: Nein | EW69: 4 | EX69: 4 | EY69: 1 | EZ69: Nordrhein Westfalen
A70: 130 | B70: 5 | C70: 1957110110 | D70: Nein | E70: Nein | F70: Nein | G70: Nein | H70: Nein | I70: Ja | J70: Nein | L70: Beratung oder Schulung | M70: Dienstangebot | N70: Dienstangebot | O70: Dienstangebot | P70: Dienstangebot | Q70: Dienstangebot | R70: Dienstangebot | S70: Dienstangebot | T70: Noch nicht geplant | U70: Ja | V70: Nein | X70: Nein | Z70: Ja | AA70: DINI Nestor UAG Schulungen/Fortbildungen, AG Forschungsdaten DMP RDMO | AB70: Nein | AD70: Nein | AF70: Nein | AI70: Nein | AJ70: Ja | AK70: Ja | AL70: Ja | AM70: Nein | AN70: Ja | AO70: Ja | AQ70: 1 | AR70: 7 | AS70: 4 | AT70: 3 | AU70: 2 | AV70: 5 | AZ70: 6 | BA70: Nein | BB70: Nein | BC70: Nein | BD70: Nein | BE70: Nein | BF70: Nein | BG70: Nein | BH70: Ja | BJ70: Ja | BK70: Ja | BL70: Nein | BM70: Ja | BN70: Nein | BP70: Nein | BQ70: Ja | BR70: Nein | BS70: Ja | BT70: Nein | BU70: Nein | BW70: Nein | BX70: Ja | BY70: Ja | BZ70: Nein | CB70: 1 | CC70: 2 | CD70: 3 | CE70: 6 | CF70: 5 | CH70: 1 | CI70: 5 | CJ70: 2 | CK70: 4 | CL70: Nein | CN70: Nein | CP70: Ja | CR70: Nein | CT70: Nein | CV70: Nein | CX70: Nein | CZ70: Ja | DB70: Nein | DC70: Nein | DD70: Nein | DE70: Ja | DF70: Ja | DG70: Nein | DH70: Nein | DJ70: Nein | DK70: Ja | DL70: Nein | DM70: Nein | DN70: Nein | DO70: Nein | DQ70: Ja | DR70: Nein | DS70: Nein | DT70: Nein | DU70: Nein | DV70: Nein | DW70: Nein | DX70: Nein | DY70: Nein | DZ70: Nein | EA70: Ja | EB70: offen, wenn Kapazitäten verfügbar | EC70: Ja | ED70: Ja | EE70: Ja | EF70: Nein | EG70: Ja | EH70: Nein | EI70: Nein | EJ70: Nein | EK70: Nein | EM70: 3 | EN70: 3 | EO70: 3 | EP70: Ja | EQ70: Nein | ER70: Nein | ES70: Nein | ET70: Nein | EU70: Nein | EV70: Nein | EW70: 3 | EX70: 3 | EY70: 1 | EZ70: Hamburg
A71: 131 | B71: 5 | C71: 1288461003 | D71: Ja | E71: Nein | F71: Nein | G71: Nein | H71: Nein | I71: Nein | J71: Nein | L71: Beratung oder Schulung | M71: Dienstangebot | N71: In Planung | O71: In Planung | P71: Dienstangebot | Q71: Dienstangebot | R71: Dienstangebot | S71: Dienstangebot | T71: Dienstangebot | V71: N/A | X71: N/A | Z71: N/A | AB71: N/A | AD71: N/A | AF71: N/A | AI71: Nein | AJ71: Nein | AK71: Ja | AL71: Ja | AM71: Nein | AN71: Ja | AO71: Nein | AQ71: 1 | AR71: 2 | AS71: 3 | AT71: 4 | AU71: 5 | AZ71: 6 | BA71: Ja | BB71: Nein | BC71: Nein | BD71: Nein | BE71: Nein | BF71: Nein | BG71: Nein | BH71: Nein | BJ71: Nein | BK71: Ja | BL71: Nein | BM71: Nein | BN71: Nein | BP71: Nein | BQ71: Ja | BR71: Nein | BS71: Ja | BT71: Nein | BU71: Nein | BW71: Nein | BX71: Ja | BY71: Ja | BZ71: Nein | CB71: 1 | CC71: 2 | CD71: 5 | CE71: 3 | CF71: 6 | CH71: 1 | CI71: 3 | CJ71: 3 | CK71: 0 | CL71: N/A | CN71: N/A | CP71: N/A | CR71: N/A | CT71: N/A | CV71: N/A | CX71: N/A | CZ71: N/A | DB71: Nein | DC71: Nein | DD71: Nein | DE71: Nein | DF71: Ja | DG71: Nein | DH71: Nein | DJ71: Nein | DK71: Ja | DL71: Nein | DM71: Nein | DN71: Nein | DO71: Nein | DQ71: Ja | DR71: Ja | DS71: Ja | DT71: Ja | DU71: Ja | DV71: Nein | DW71: Nein | DX71: Nein | DY71: Nein | DZ71: Nein | EA71: Nein | EC71: Ja | ED71: Ja | EE71: Nein | EF71: Nein | EG71: Nein | EH71: Nein | EI71: Nein | EJ71: Nein | EK71: Nein | EM71: 0 | EN71: 0 | EO71: 0 | EP71: Nein | EQ71: Ja | ER71: Nein | ES71: Nein | ET71: Nein | EU71: Nein | EV71: Nein | EW71: 5 | EX71: 3 | EY71: 1 | EZ71: 0
A72: 132 | B72: 5 | C72: 993385874 | D72: Nein | E72: Nein | F72: Nein | G72: Nein | H72: Nein | I72: Ja | J72: Nein | L72: Beratung oder Schulung | M72: Beratung oder Schulung | N72: Beratung oder Schulung | O72: Kein Angebot | P72: Noch nicht geplant | Q72: Beratung oder Schulung | R72: Beratung oder Schulung | S72: Beratung oder Schulung | T72: Noch nicht geplant | U72: Nein | V72: N/A | X72: N/A | Z72: N/A | AB72: N/A | AD72: N/A | AF72: N/A | AI72: Nein | AJ72: Ja | AK72: Nein | AL72: Ja | AM72: Nein | AN72: Ja | AO72: Ja | AQ72: 1 | AR72: 3 | AS72: 2 | AT72: 7 | AY72: unklare Zuständigkeit, fehlende Priorisierung der Leitungsebene (nicht gleichzusetzen mit fehlender Zustimmung) | AZ72: 5 | BA72: Nein | BB72: Ja | BC72: Nein | BD72: Nein | BE72: Ja | BF72: Nein | BG72: Ja | BH72: Ja | BJ72: Nein | BK72: Ja | BL72: Ja | BM72: Nein | BN72: Nein | BP72: Ja | BQ72: Ja | BR72: Nein | BS72: Nein | BT72: Nein | BU72: Nein | BW72: Ja | BX72: Ja | BY72: Nein | BZ72: Nein | CB72: 2 | CC72: 1 | CD72: 6 | CE72: 3 | CH72: 3 | CI72: 3 | CJ72: 2 | CK72: 2 | CL72: Ja | CN72: Nein | CP72: Nein | CR72: Nein | CT72: Nein | CV72: Nein | CX72: Nein | CZ72: Nein | DB72: Ja | DC72: Nein | DD72: Nein | DE72: Nein | DF72: Nein | DG72: Nein | DH72: Nein | DJ72: Nein | DK72: Nein | DL72: Nein | DM72: Nein | DN72: Nein | DO72: Ja | DQ72: Ja | DR72: Nein | DS72: Nein | DT72: Nein | DU72: Nein | DV72: Nein | DW72: Nein | DX72: Nein | DY72: Nein | DZ72: Ja | EA72: Nein | EC72: Ja | ED72: Ja | EE72: Ja | EF72: Nein | EG72: Ja | EH72: Nein | EI72: Nein | EJ72: Nein | EK72: Nein | EM72: 1 | EN72: 1 | EO72: 3 | EP72: Ja | EQ72: Nein | ER72: Nein | ES72: Nein | ET72: Nein | EU72: Nein | EV72: Nein | EW72: 3 | EX72: 3 | EY72: 1 | EZ72: 0
A73: 134 | B73: 5 | C73: 1352634228 | D73: Ja | E73: Nein | F73: Nein | G73: Nein | H73: Nein | I73: Nein | J73: Nein | L73: Beratung oder Schulung | M73: Beratung oder Schulung | N73: Beratung oder Schulung | O73: In Planung | P73: Kein Angebot | Q73: Beratung oder Schulung | R73: Dienstangebot | S73: Dienstangebot | T73: Noch nicht geplant | U73: Ja | V73: Nein | X73: Nein | Z73: Nein | AB73: Nein | AD73: Nein | AF73: Ja | AG73: Außeruniversitäre Forschungsorganisationen (ZB MED) | AH73: Fachspezifische Schulungsangebote, Fachrepositorien | AI73: Nein | AJ73: Ja | AK73: Ja | AL73: Ja | AM73: Nein | AN73: Ja | AO73: Ja | AP73: Checklisten, Newsfeed | AQ73: 3 | AR73: 1 | AS73: 2 | AT73: 4 | AU73: 7 | AY73: Abstimmung mit regionaler und nationaler Strategie noch in Entwicklung (BUA, NFDI) | AZ73: 5 | BA73: Ja | BB73: Ja | BC73: Nein | BD73: Nein | BE73: Ja | BF73: Nein | BG73: Ja | BH73: Nein | BJ73: Ja | BK73: Ja | BL73: Ja | BM73: Ja | BN73: Ja | BP73: Ja | BQ73: Ja | BR73: Ja | BS73: Ja | BT73: Ja | BU73: Nein | BW73: Ja | BX73: Ja | BY73: Ja | BZ73: Ja | CB73: 6 | CC73: 3 | CD73: 1 | CE73: 2 | CH73: 1 | CI73: 4 | CJ73: 2 | CK73: 4 | CL73: Nein | CN73: Ja | CP73: Ja | CR73: Nein | CT73: Ja | CV73: Nein | CX73: Nein | CZ73: Nein | DB73: Ja | DC73: Nein | DD73: Nein | DE73: Ja | DF73: Ja | DG73: Nein | DH73: Ja | DJ73: Nein | DK73: Ja | DL73: Nein | DM73: Ja | DN73: Ja | DO73: Nein | DQ73: Ja | DR73: Nein | DS73: Nein | DT73: Nein | DU73: Nein | DV73: Nein | DW73: Nein | DX73: Nein | DY73: Nein | DZ73: Nein | EA73: Nein | EC73: Ja | ED73: Ja | EE73: Ja | EF73: Ja | EG73: Nein | EH73: Nein | EI73: Ja | EJ73: Ja | EK73: Ja | EL73: Vorstellung in relevanten Gremien (Fachbereiche, Bibliotheksleitungen, Zentraleinrichtungen) | EM73: 3 | EN73: 3 | EO73: 5 | EP73: Ja | EQ73: Nein | ER73: Nein | ES73: Nein | ET73: Nein | EU73: Nein | EV73: Nein | EW73: 4 | EX73: 4 | EY73: 1 | EZ73: Berlin | FA73: Die Beantwortung war zum Teil aufgrund mangelnder Differenzierung der Dienste (z.B. Beratung vs. Infrastruktur) schwierig bzw. muss uneindeutig bleiben.
A74: 138 | B74: 2 | C74: 1808919243 | D74: Nein | E74: Nein | F74: Nein | G74: Ja | H74: Nein | I74: Nein | J74: Nein | L74: Beratung oder Schulung | M74: Beratung oder Schulung | N74: Beratung oder Schulung | O74: Dienstangebot | P74: Beratung oder Schulung | Q74: Kein Angebot | R74: Dienstangebot | S74: Kein Angebot | T74: Beratung oder Schulung | V74: N/A | X74: N/A | Z74: N/A | AB74: N/A | AD74: N/A | AF74: N/A | AI74: Nein | AJ74: Nein | AK74: Ja | AL74: Nein | AM74: Nein | AN74: Nein | AO74: Ja | AQ74: 1 | AZ74: 5 | BA74: Ja | BB74: Ja | BC74: Nein | BD74: Ja | BE74: Nein | BF74: Nein | BG74: Nein | BH74: Ja | BJ74: Ja | BK74: Nein | BL74: Nein | BM74: Nein | BN74: Ja | BP74: Ja | BQ74: Ja | BR74: Ja | BS74: Ja | BT74: Ja | BU74: Nein | BW74: Ja | BX74: Ja | BY74: Ja | BZ74: Ja | CB74: 3 | CC74: 5 | CD74: 2 | CE74: 6 | CF74: 1 | CH74: 1 | CI74: 1 | CJ74: 0 | CK74: 0 | CL74: N/A | CN74: N/A | CP74: N/A | CR74: N/A | CT74: N/A | CV74: N/A | CX74: N/A | CZ74: N/A | DB74: N/A | DC74: N/A | DD74: N/A | DE74: N/A | DF74: N/A | DG74: N/A | DH74: N/A | DJ74: N/A | DK74: N/A | DL74: N/A | DM74: N/A | DN74: N/A | DO74: N/A | DQ74: N/A | DR74: N/A | DS74: N/A | DT74: N/A | DU74: N/A | DV74: N/A | DW74: N/A | DX74: N/A | DY74: N/A | DZ74: N/A | EA74: N/A | EC74: N/A | ED74: N/A | EE74: N/A | EF74: N/A | EG74: N/A | EH74: N/A | EI74: N/A | EJ74: N/A | EK74: N/A | EM74: 0 | EN74: 0 | EO74: 0 | EP74: N/A | EQ74: N/A | ER74: N/A | ES74: N/A | ET74: N/A | EU74: N/A | EV74: N/A | EY74: 0 | EZ74: 0
A75: 141 | B75: 5 | C75: 1098548592 | D75: Nein | E75: Nein | F75: Nein | G75: Nein | H75: Ja | I75: Ja | J75: Nein | L75: Beratung oder Schulung | M75: In Planung | N75: In Planung | O75: In Planung | P75: In Planung | Q75: In Planung | S75: Dienstangebot | T75: Dienstangebot | U75: Ja | V75: Nein | X75: Ja | Z75: Ja | AB75: Nein | AD75: Nein | AF75: Nein | AH75: Speicher-Cloud | AI75: Ja | AJ75: Ja | AK75: Ja | AL75: Ja | AM75: Nein | AN75: Ja | AO75: Nein | AQ75: 1 | AR75: 7 | AS75: 4 | AT75: 3 | AU75: 2 | AV75: 5 | AW75: 6 | AX75: 8 | AY75: sehr komplexes Feld, schwer an einer Institution zu etablieren | AZ75: 5 | BA75: Nein | BB75: Ja | BC75: Nein | BD75: Nein | BE75: Nein | BF75: Ja | BG75: Nein | BH75: Ja | BJ75: Ja | BK75: Ja | BL75: Ja | BM75: Nein | BN75: Nein | BP75: Ja | BQ75: Nein | BR75: Ja | BS75: Ja | BT75: Ja | BU75: Nein | BW75: Ja | BX75: Ja | BY75: Ja | BZ75: Ja | CB75: 5 | CC75: 1 | CD75: 6 | CE75: 2 | CF75: 3 | CG75: 4 | CH75: 1 | CI75: 3 | CJ75: 2 | CK75: 3 | CL75: Ja | CN75: Ja | CP75: Nein | CR75: Nein | CT75: Nein | CV75: Nein | CX75: Nein | CZ75: Nein | DB75: Ja | DC75: Ja | DD75: Nein | DE75: Nein | DF75: Nein | DG75: Nein | DH75: Nein | DJ75: Ja | DK75: Nein | DL75: Nein | DM75: Ja | DN75: Ja | DO75: Nein | DQ75: Ja | DR75: Nein | DS75: Ja | DT75: Ja | DU75: Ja | DV75: Nein | DW75: Nein | DX75: Nein | DY75: Nein | DZ75: Nein | EA75: Nein | EC75: Nein | ED75: Ja | EE75: Ja | EF75: Nein | EG75: Ja | EH75: Nein | EI75: Nein | EJ75: Nein | EK75: Nein | EM75: 2 | EN75: 2 | EO75: 2 | EP75: Nein | EQ75: Ja | ER75: Nein | ES75: Nein | ET75: Nein | EU75: Nein | EV75: Nein | EW75: 3 | EX75: 3 | EY75: 1 | EZ75: Nordrhein Westfalen
A76: 142 | B76: 5 | C76: 1734469674 | D76: Nein | E76: Nein | F76: Nein | G76: Ja | H76: Nein | I76: Nein | J76: Nein | L76: Dienstangebot | M76: Dienstangebot | N76: Kein Angebot | O76: Kein Angebot | P76: Noch nicht geplant | R76: Dienstangebot | S76: Dienstangebot | T76: Dienstangebot | U76: Nein | V76: N/A | X76: N/A | Z76: N/A | AB76: N/A | AD76: N/A | AF76: N/A | AI76: Ja | AJ76: Nein | AK76: Ja | AL76: Ja | AM76: Nein | AN76: Ja | AO76: Nein | AQ76: 5 | AR76: 2 | AS76: 1 | AT76: 3 | AZ76: 6 | BA76: Ja | BB76: Ja | BC76: Nein | BD76: Ja | BE76: Nein | BF76: Nein | BG76: Nein | BH76: Ja | BJ76: Ja | BK76: Nein | BL76: Ja | BM76: Nein | BN76: Ja | BP76: Ja | BQ76: Ja | BR76: Ja | BS76: Nein | BT76: Nein | BU76: Nein | BV76: personal der Einrichtungen bildet zusammen das zentrale FDM mit engster Zusammenarbeit | BW76: Ja | BX76: Ja | BY76: Ja | BZ76: Nein | CB76: 5 | CC76: 1 | CD76: 3 | CE76: 6 | CH76: 1 | CI76: 3 | CJ76: 2 | CK76: 3 | CL76: Ja | CN76: Nein | CP76: Ja | CR76: Ja | CT76: Ja | CV76: Nein | CX76: Ja | CZ76: Nein | DB76: Ja | DC76: Ja | DD76: Nein | DE76: Ja | DF76: Nein | DG76: Nein | DH76: Nein | DJ76: Nein | DK76: Ja | DL76: Nein | DM76: Ja | DN76: Ja | DO76: Nein | DQ76: Nein | DR76: Ja | DS76: Ja | DT76: Ja | DU76: Ja | DV76: Nein | DW76: Ja | DX76: Nein | DY76: Nein | DZ76: Nein | EA76: Nein | EC76: Ja | ED76: Ja | EE76: Ja | EF76: Nein | EG76: Nein | EH76: Nein | EI76: Nein | EJ76: Nein | EK76: Nein | EM76: 3 | EN76: 3 | EO76: 5 | EP76: Nein | EQ76: Ja | ER76: Ja | ES76: Ja | ET76: Nein | EU76: Nein | EV76: Nein | EW76: 4 | EX76: 2 | EY76: 1 | EZ76: Schleswig-Holstein
A77: 143 | B77: 5 | C77: 1822152974 | D77: Ja | E77: Nein | F77: Nein | G77: Nein | H77: Ja | I77: Nein | J77: Nein | L77: Beratung oder Schulung | M77: Beratung oder Schulung | N77: Beratung oder Schulung | O77: In Planung | P77: Noch nicht geplant | Q77: Beratung oder Schulung | R77: Dienstangebot | S77: Dienstangebot | T77: Beratung oder Schulung | U77: Nein | V77: N/A | X77: N/A | Z77: N/A | AB77: N/A | AD77: N/A | AF77: N/A | AI77: Nein | AJ77: Nein | AK77: Ja | AL77: Ja | AM77: Ja | AN77: Ja | AO77: Ja | AQ77: 1 | AR77: 7 | AS77: 5 | AT77: 8 | AY77: Nachnutzbare Dienste (wie z. B. DMP-Tools) entsprechen nicht den gewünschten Anforderungen | AZ77: 6 | BA77: Ja | BB77: Ja | BC77: Nein | BD77: Nein | BE77: Ja | BF77: Ja | BG77: Nein | BH77: Nein | BJ77: Ja | BK77: Nein | BL77: Ja | BM77: Ja | BN77: Nein | BP77: Ja | BQ77: Nein | BR77: Ja | BS77: Ja | BT77: Nein | BU77: Nein | BW77: Ja | BX77: Ja | BY77: Ja | BZ77: Nein | CB77: 5 | CC77: 1 | CD77: 3 | CE77: 6 | CH77: 1 | CI77: 3 | CJ77: 1 | CK77: 2 | CL77: Nein | CN77: Nein | CP77: Ja | CR77: Ja | CT77: Nein | CV77: Nein | CX77: Nein | CZ77: Nein | DB77: Nein | DC77: Nein | DD77: Nein | DE77: Nein | DF77: Ja | DG77: Nein | DH77: Ja | DJ77: Nein | DK77: Ja | DL77: Nein | DM77: Ja | DN77: Ja | DO77: Nein | DQ77: Nein | DR77: Ja | DS77: Ja | DT77: Ja | DU77: Ja | DV77: Nein | DW77: Nein | DX77: Nein | DY77: Nein | DZ77: Nein | EA77: Nein | EC77: Nein | ED77: Ja | EE77: Ja | EF77: Nein | EG77: Nein | EH77: Ja | EI77: Nein | EJ77: Nein | EK77: Nein | EM77: 1 | EN77: 3 | EO77: 3 | EP77: Ja | EQ77: Nein | ER77: Nein | ES77: Nein | ET77: Nein | EU77: Nein | EV77: Nein | EW77: 4 | EX77: 2 | EY77: 1 | EZ77: Niedersachsen
A78: 144 | B78: 5 | C78: 848749931 | D78: Ja | E78: Nein | F78: Nein | G78: Nein | H78: Nein | I78: Nein | J78: Nein | L78: Beratung oder Schulung | M78: In Planung | N78: In Planung | O78: Noch nicht geplant | P78: Noch nicht geplant | Q78: In Planung | R78: In Planung | S78: In Planung | T78: Noch nicht geplant | U78: Nein | V78: N/A | X78: N/A | Z78: N/A | AB78: N/A | AD78: N/A | AF78: N/A | AI78: Nein | AJ78: Nein | AK78: Nein | AL78: Ja | AM78: Nein | AN78: Ja | AO78: Nein | AP78: Moodle Kurs (Integriert in GWP) | AQ78: 2 | AR78: 1 | AS78: 4 | AT78: 3 | AU78: 6 | AV78: 7 | AW78: 5 | AZ78: 1 | BA78: Ja | BB78: Nein | BC78: Nein | BD78: Nein | BE78: Nein | BF78: Ja | BG78: Nein | BH78: Nein | BJ78: Nein | BK78: Ja | BL78: Nein | BM78: Nein | BN78: Nein | BP78: Ja | BQ78: Nein | BR78: Ja | BS78: Nein | BT78: Ja | BU78: Nein | BW78: Nein | BX78: Ja | BY78: Ja | BZ78: Nein | CB78: 2 | CC78: 3 | CD78: 4 | CE78: 1 | CF78: 6 | CH78: 3 | CI78: 3 | CJ78: 3 | CK78: 0 | CL78: N/A | CN78: N/A | CP78: N/A | CR78: N/A | CT78: N/A | CV78: N/A | CX78: N/A | CZ78: N/A | DB78: Nein | DC78: Nein | DD78: Nein | DE78: Nein | DF78: Nein | DG78: Nein | DH78: Nein | DJ78: Ja | DK78: Ja | DL78: Nein | DM78: Nein | DN78: Nein | DO78: Nein | DQ78: Ja | DR78: Nein | DS78: Nein | DT78: Nein | DU78: Nein | DV78: Nein | DW78: Nein | DX78: Nein | DY78: Nein | DZ78: Nein | EA78: Nein | EC78: Ja | ED78: Ja | EE78: Ja | EF78: Nein | EG78: Nein | EH78: Nein | EI78: Ja | EJ78: Nein | EK78: Nein | EM78: 4 | EN78: 0 | EO78: 3 | EP78: Nein | EQ78: Nein | ER78: Nein | ES78: Nein | ET78: Nein | EU78: Ja | EV78: Nein | EW78: 5 | EX78: 4 | EY78: 1 | EZ78: Nordrhein Westfalen
A79: 145 | B79: 1 | C79: 1875723147 | D79: Nein | E79: Nein | F79: Nein | G79: Nein | H79: Ja | I79: Nein | J79: Nein | L79: Beratung oder Schulung | M79: In Planung | P79: Kein Angebot | Q79: Kein Angebot | R79: In Planung | S79: In Planung | U79: Nein | V79: N/A | X79: N/A | Z79: N/A | AB79: N/A | AD79: N/A | AF79: N/A | AI79: Nein | AJ79: Nein | AK79: Nein | AL79: Nein | AM79: Nein | AN79: Nein | AO79: Nein | AQ79: 1 | AR79: 2 | AS79: 4 | AT79: 3 | AU79: 7 | BA79: N/A | BB79: N/A | BC79: N/A | BD79: N/A | BE79: N/A | BF79: N/A | BG79: N/A | BH79: N/A | BJ79: N/A | BK79: N/A | BL79: N/A | BM79: N/A | BN79: N/A | BP79: N/A | BQ79: N/A | BR79: N/A | BS79: N/A | BT79: N/A | BU79: N/A | BW79: N/A | BX79: N/A | BY79: N/A | BZ79: N/A | CJ79: 0 | CK79: 0 | CL79: N/A | CN79: N/A | CP79: N/A | CR79: N/A | CT79: N/A | CV79: N/A | CX79: N/A | CZ79: N/A | DB79: N/A | DC79: N/A | DD79: N/A | DE79: N/A | DF79: N/A | DG79: N/A | DH79: N/A | DJ79: N/A | DK79: N/A | DL79: N/A | DM79: N/A | DN79: N/A | DO79: N/A | DQ79: N/A | DR79: N/A | DS79: N/A | DT79: N/A | DU79: N/A | DV79: N/A | DW79: N/A | DX79: N/A | DY79: N/A | DZ79: N/A | EA79: N/A | EC79: N/A | ED79: N/A | EE79: N/A | EF79: N/A | EG79: N/A | EH79: N/A | EI79: N/A | EJ79: N/A | EK79: N/A | EM79: 0 | EN79: 0 | EO79: 0 | EP79: N/A | EQ79: N/A | ER79: N/A | ES79: N/A | ET79: N/A | EU79: N/A | EV79: N/A | EY79: 0 | EZ79: 0
A80: 146 | B80: 5 | C80: 467086971 | D80: Ja | E80: Nein | F80: Nein | G80: Nein | H80: Nein | I80: Nein | J80: Nein | L80: Dienstangebot | N80: Dienstangebot | T80: Beratung oder Schulung | U80: Nein | V80: N/A | X80: N/A | Z80: N/A | AB80: N/A | AD80: N/A | AF80: N/A | AI80: Nein | AJ80: Nein | AK80: Ja | AL80: Nein | AM80: Nein | AN80: Nein | AO80: Nein | AQ80: 1 | AR80: 4 | AS80: 3 | AT80: 5 | BA80: Nein | BB80: Nein | BC80: Nein | BD80: Nein | BE80: Nein | BF80: Ja | BG80: Nein | BH80: Nein | BJ80: Nein | BK80: Ja | BL80: Nein | BM80: Nein | BN80: Nein | BP80: Nein | BQ80: Nein | BR80: Nein | BS80: Nein | BT80: Nein | BU80: Nein | BW80: Ja | BX80: Nein | BY80: Nein | BZ80: Nein | CA80: Hochschulgesetz des Landes | CH80: 2 | CI80: 5 | CJ80: 3 | CK80: 0 | CL80: N/A | CN80: N/A | CP80: N/A | CR80: N/A | CT80: N/A | CV80: N/A | CX80: N/A | CZ80: N/A | DB80: Nein | DC80: Nein | DD80: Nein | DE80: Nein | DF80: Nein | DG80: Nein | DH80: Nein | DJ80: Ja | DK80: Ja | DL80: Nein | DM80: Nein | DN80: Nein | DO80: Nein | DQ80: Ja | DR80: Ja | DS80: Ja | DT80: Ja | DU80: Ja | DV80: Ja | DW80: Nein | DX80: Nein | DY80: Nein | DZ80: Nein | EA80: Nein | EC80: Ja | ED80: Nein | EE80: Nein | EF80: Nein | EG80: Nein | EH80: Nein | EI80: Nein | EJ80: Nein | EK80: Nein | EM80: 0 | EN80: 0 | EO80: 0 | EP80: Nein | EQ80: Nein | ER80: Nein | ES80: Nein | ET80: Nein | EU80: Nein | EV80: Nein | EW80: 5 | EX80: 5 | EY80: 1 | EZ80: Brandenburg | FA80: Bei einigen Fragen fehlte die Möglichkeit keine Angabe zu machen sowie die mangelnde Kenntnis im jeweiligen Thema anzukreuzen.
A81: 149 | B81: 5 | C81: 2049846297 | D81: Nein | E81: Nein | F81: Nein | G81: Nein | H81: Ja | I81: Nein | J81: Nein | L81: Beratung oder Schulung | M81: Dienstangebot | N81: Beratung oder Schulung | O81: Beratung oder Schulung | P81: Beratung oder Schulung | Q81: Dienstangebot | R81: Dienstangebot | S81: Dienstangebot | T81: Dienstangebot | U81: Nein | V81: N/A | X81: N/A | Z81: N/A | AB81: N/A | AD81: N/A | AF81: N/A | AI81: Ja | AJ81: Ja | AK81: Ja | AL81: Ja | AM81: Ja | AN81: Ja | AO81: Nein | AQ81: 5 | AR81: 1 | AZ81: 10 | BA81: Ja | BB81: Ja | BC81: Nein | BD81: Ja | BE81: Nein | BF81: Ja | BG81: Nein | BH81: Ja | BJ81: Ja | BK81: Ja | BL81: Ja | BM81: Nein | BN81: Nein | BP81: Ja | BQ81: Ja | BR81: Ja | BS81: Nein | BT81: Ja | BU81: Nein | BW81: Ja | BX81: Ja | BY81: Ja | BZ81: Ja | CB81: 2 | CC81: 1 | CD81: 3 | CE81: 4 | CF81: 5 | CH81: 1 | CI81: 2 | CJ81: 1 | CK81: 2 | CL81: Nein | CN81: Ja | CP81: Nein | CR81: Nein | CT81: Nein | CV81: Nein | CX81: Nein | CZ81: Nein | DB81: Ja | DC81: Nein | DD81: Ja | DE81: Nein | DF81: Nein | DG81: Nein | DH81: Nein | DJ81: Nein | DK81: Ja | DL81: Nein | DM81: Ja | DN81: Ja | DO81: Nein | DQ81: Ja | DR81: Nein | DS81: Nein | DT81: Nein | DU81: Nein | DV81: Nein | DW81: Nein | DX81: Nein | DY81: Nein | DZ81: Nein | EA81: Nein | EC81: Nein | ED81: Ja | EE81: Ja | EF81: Nein | EG81: Nein | EH81: Ja | EI81: Ja | EJ81: Ja | EK81: Nein | EM81: 1 | EN81: 5 | EO81: 5 | EP81: Nein | EQ81: Nein | ER81: Nein | ES81: Nein | ET81: Nein | EU81: Ja | EV81: Nein | EW81: 2 | EX81: 2 | EY81: 1 | EZ81: Niedersachsen
A82: 150 | B82: 5 | C82: 839103290 | D82: Nein | E82: Nein | F82: Nein | G82: Nein | H82: Nein | I82: Ja | J82: Nein | L82: Beratung oder Schulung | M82: Beratung oder Schulung | N82: Beratung oder Schulung | O82: In Planung | P82: Noch nicht geplant | Q82: Noch nicht geplant | R82: In Planung | S82: Dienstangebot | T82: Beratung oder Schulung | U82: Nein | V82: N/A | X82: N/A | Z82: N/A | AB82: N/A | AD82: N/A | AF82: N/A | AI82: Nein | AJ82: Nein | AK82: Ja | AL82: Ja | AM82: Ja | AN82: Ja | AO82: Nein | AQ82: 1 | AR82: 2 | AS82: 3 | AT82: 5 | AU82: 6 | AV82: 7 | AW82: 4 | AX82: 8 | AZ82: 6 | BA82: Ja | BB82: Ja | BC82: Ja | BD82: Nein | BE82: Ja | BF82: Nein | BG82: Nein | BH82: Ja | BJ82: Ja | BK82: Ja | BL82: Ja | BM82: Ja | BN82: Ja | BP82: Ja | BQ82: Ja | BR82: Ja | BS82: Nein | BT82: Ja | BU82: Nein | BW82: Ja | BX82: Ja | BY82: Ja | BZ82: Ja | CB82: 6 | CC82: 3 | CD82: 1 | CE82: 2 | CF82: 5 | CG82: 4 | CH82: 1 | CI82: 4 | CJ82: 2 | CK82: 4 | CL82: Ja | CM82: Umfrage unter bisher Beratenen | CN82: Nein | CP82: Nein | CR82: Ja | CS82: Nutzung von RISE-DE | CT82: Nein | CV82: Nein | CX82: Nein | CZ82: Ja | DA82: externes Gutachtergremium | DB82: Ja | DC82: Nein | DD82: Nein | DE82: Nein | DF82: Ja | DG82: Nein | DH82: Ja | DJ82: Nein | DK82: Ja | DL82: Nein | DM82: Ja | DN82: Ja | DO82: Nein | DQ82: Ja | DR82: Ja | DS82: Ja | DT82: Ja | DU82: Ja | DV82: Ja | DW82: Ja | DX82: Ja | DY82: Ja | DZ82: Nein | EA82: Nein | EC82: Ja | ED82: Ja | EE82: Ja | EF82: Nein | EG82: Nein | EH82: Ja | EI82: Ja | EJ82: Nein | EK82: Ja | EL82: Veranstaltungen der Hochschule (z.B. Promovierendentag) | EM82: 1 | EN82: 1 | EO82: 1 | EP82: Ja | EQ82: Nein | ER82: Nein | ES82: Nein | ET82: Nein | EU82: Nein | EV82: Nein | EW82: 3 | EX82: 4 | EY82: 1 | EZ82: Thüringen
A83: 151 | B83: 5 | C83: 1852120117 | D83: Nein | E83: Nein | F83: Ja | G83: Nein | H83: Nein | I83: Nein | J83: Nein | L83: Noch nicht geplant | M83: In Planung | N83: Noch nicht geplant | O83: Kein Angebot | P83: Kein Angebot | Q83: Kein Angebot | R83: Kein Angebot | S83: Kein Angebot | T83: Kein Angebot | U83: Nein | V83: N/A | X83: N/A | Z83: N/A | AB83: N/A | AD83: N/A | AF83: N/A | AI83: Ja | AJ83: Ja | AK83: Nein | AL83: Nein | AM83: Ja | AN83: Ja | AO83: Nein | AQ83: 2 | AR83: 1 | AS83: 5 | AT83: 7 | AU83: 4 | AV83: 3 | AZ83: 1 | BA83: Ja | BB83: Ja | BC83: Nein | BD83: Nein | BE83: Nein | BF83: Nein | BG83: Nein | BH83: Ja | BJ83: Ja | BK83: Ja | BL83: Nein | BM83: Nein | BN83: Nein | BP83: Nein | BQ83: Ja | BR83: Nein | BS83: Ja | BT83: Ja | BU83: Nein | BW83: Ja | BX83: Ja | BY83: Ja | BZ83: Nein | CB83: 1 | CC83: 3 | CD83: 5 | CE83: 2 | CH83: 1 | CI83: 3 | CJ83: 2 | CK83: 3 | CL83: Ja | CN83: Ja | CP83: Nein | CR83: Ja | CT83: Ja | CV83: Ja | CX83: Ja | CZ83: Nein | DB83: Ja | DC83: Nein | DD83: Nein | DE83: Ja | DF83: Ja | DG83: Nein | DH83: Nein | DJ83: Nein | DK83: Ja | DL83: Nein | DM83: Ja | DN83: Nein | DO83: Nein | DQ83: Nein | DR83: Nein | DS83: Ja | DT83: Nein | DU83: Ja | DV83: Ja | DW83: Nein | DX83: Nein | DY83: Nein | DZ83: Nein | EA83: Nein | EC83: Nein | ED83: Ja | EE83: Nein | EF83: Nein | EG83: Nein | EH83: Nein | EI83: Nein | EJ83: Nein | EK83: Ja | EL83: Direkte Kommunikation bzw. Gespräch mit Kollegen | EM83: 3 | EN83: 3 | EO83: 3 | EP83: Nein | EQ83: Nein | ER83: Nein | ES83: Nein | ET83: Ja | EU83: Nein | EV83: Nein | EW83: 5 | EX83: 3 | EY83: 1 | EZ83: Nordrhein Westfalen
A84: 156 | B84: 4 | C84: 554502071 | D84: Ja | E84: Nein | F84: Nein | G84: Nein | H84: Nein | I84: Nein | J84: Nein | L84: Beratung oder Schulung | M84: Kein Angebot | N84: In Planung | O84: Kein Angebot | P84: Kein Angebot | Q84: Kein Angebot | R84: In Planung | S84: Kein Angebot | T84: Kein Angebot | U84: Nein | V84: N/A | X84: N/A | Z84: N/A | AB84: N/A | AD84: N/A | AF84: N/A | AI84: Nein | AJ84: Nein | AK84: Nein | AL84: Nein | AM84: Nein | AN84: Nein | AO84: Nein | AQ84: 6 | AR84: 7 | AS84: 1 | AT84: 4 | AU84: 2 | AV84: 3 | AW84: 5 | AY84: fehlende Integration in nachhaltige Strukturen | AZ84: 5 | BA84: Ja | BB84: Ja | BC84: Nein | BD84: Nein | BE84: Nein | BF84: Nein | BG84: Nein | BH84: Nein | BJ84: Nein | BK84: Ja | BL84: Nein | BM84: Nein | BN84: Nein | BP84: Nein | BQ84: Ja | BR84: Nein | BS84: Ja | BT84: Nein | BU84: Nein | BW84: Ja | BX84: Ja | BY84: Ja | BZ84: Nein | CB84: 1 | CC84: 6 | CD84: 3 | CE84: 5 | CF84: 4 | CG84: 2 | CH84: 2 | CI84: 5 | CJ84: 3 | CK84: 0 | CL84: N/A | CN84: N/A | CP84: N/A | CR84: N/A | CT84: N/A | CV84: N/A | CX84: N/A | CZ84: N/A | DB84: Ja | DC84: Nein | DD84: Ja | DE84: Nein | DF84: Nein | DG84: Nein | DH84: Nein | DJ84: Nein | DK84: Nein | DL84: Nein | DM84: Nein | DN84: Nein | DO84: Ja | DQ84: Nein | DR84: Ja | DS84: Nein | DT84: Nein | DU84: Nein | DV84: Nein | DW84: Nein | DX84: Nein | DY84: Nein | DZ84: Nein | EA84: Nein | EC84: Nein | ED84: Nein | EE84: Nein | EF84: Nein | EG84: Nein | EH84: Nein | EI84: Nein | EJ84: Nein | EK84: Nein | EM84: 0 | EN84: 0 | EO84: 0 | EP84: Ja | EQ84: Nein | ER84: Nein | ES84: Nein | ET84: Nein | EU84: Nein | EV84: Nein | EY84: 0 | EZ84: 0
A85: 157 | B85: 5 | C85: 777699932 | D85: Ja | E85: Nein | F85: Nein | G85: Nein | H85: Nein | I85: Nein | J85: Nein | L85: Beratung oder Schulung | M85: Dienstangebot | N85: In Planung | O85: In Planung | P85: Noch nicht geplant | Q85: Noch nicht geplant | R85: Dienstangebot | S85: In Planung | T85: Kein Angebot | U85: Ja | V85: Ja | W85: Forschungsdaten@RMU | X85: Ja | Y85: HeFDI | Z85: Ja | AA85: NFDI, RDA | AB85: Ja | AC85: RDA | AD85: Ja | AE85: Atlassian, Microsoft, Alphabet | AF85: Ja | AG85: dfn | AH85: u.a. figshare, dropbox, GitHub, confluence, google... | AI85: Ja | AJ85: Nein | AK85: Ja | AL85: Nein | AM85: Nein | AN85: Ja | AO85: Nein | AQ85: 5 | AR85: 6 | AS85: 1 | AT85: 7 | AY85: Strategische Entscheidungen sind noch zu treffen | AZ85: 5 | BA85: Ja | BB85: Ja | BC85: Nein | BD85: Nein | BE85: Nein | BF85: Nein | BG85: Ja | BH85: Nein | BJ85: Ja | BK85: Ja | BL85: Nein | BM85: Nein | BN85: Nein | BP85: Ja | BQ85: Ja | BR85: Ja | BS85: Ja | BT85: Ja | BU85: Nein | BW85: Nein | BX85: Ja | BY85: Ja | BZ85: Ja | CB85: 4 | CC85: 3 | CD85: 2 | CH85: 1 | CI85: 1 | CJ85: 2 | CK85: 0 | CL85: Nein | CN85: Ja | CP85: Nein | CR85: Nein | CT85: Nein | CV85: Nein | CX85: Ja | CZ85: Nein | DB85: Nein | DC85: Nein | DD85: Nein | DE85: Ja | DF85: Ja | DG85: Nein | DH85: Nein | DJ85: Nein | DK85: Ja | DL85: Nein | DM85: Nein | DN85: Nein | DO85: Nein | DQ85: Ja | DR85: Nein | DS85: Nein | DT85: Nein | DU85: Nein | DV85: Nein | DW85: Nein | DX85: Nein | DY85: Nein | DZ85: Nein | EA85: Nein | EC85: Ja | ED85: Ja | EE85: Nein | EF85: Nein | EG85: Nein | EH85: Ja | EI85: Ja | EJ85: Nein | EK85: Nein | EM85: 3 | EN85: 3 | EO85: 3 | EP85: Nein | EQ85: Nein | ER85: Nein | ES85: Nein | ET85: Nein | EU85: Ja | EV85: Nein | EW85: 4 | EX85: 3 | EY85: 1 | EZ85: Hessen
A86: 161 | B86: 5 | C86: 1568530697 | D86: Nein | E86: Nein | F86: Nein | G86: Ja | H86: Nein | I86: Nein | J86: Nein | L86: Beratung oder Schulung | M86: Beratung oder Schulung | N86: Noch nicht geplant | O86: Kein Angebot | P86: Kein Angebot | Q86: Beratung oder Schulung | R86: In Planung | S86: In Planung | T86: Beratung oder Schulung | U86: Nein | V86: N/A | X86: N/A | Z86: N/A | AB86: N/A | AD86: N/A | AF86: N/A | AI86: Nein | AJ86: Nein | AK86: Ja | AL86: Ja | AM86: Nein | AN86: Nein | AO86: Nein | AZ86: 5 | BA86: Ja | BB86: Ja | BC86: Nein | BD86: Nein | BE86: Ja | BF86: Nein | BG86: Nein | BH86: Nein | BJ86: Nein | BK86: Nein | BL86: Ja | BM86: Nein | BN86: Nein | BP86: Ja | BQ86: Nein | BR86: Nein | BS86: Nein | BT86: Nein | BU86: Nein | BW86: Ja | BX86: Ja | BY86: Ja | BZ86: Nein | CB86: 3 | CC86: 6 | CD86: 1 | CH86: 1 | CI86: 2 | CJ86: 3 | CK86: 0 | CL86: N/A | CN86: N/A | CP86: N/A | CR86: N/A | CT86: N/A | CV86: N/A | CX86: N/A | CZ86: N/A | DB86: Nein | DC86: Nein | DD86: Nein | DE86: Nein | DF86: Nein | DG86: Nein | DH86: Nein | DJ86: Nein | DK86: Nein | DL86: Ja | DM86: Nein | DN86: Nein | DO86: Nein | DQ86: Ja | DR86: Nein | DS86: Nein | DT86: Nein | DU86: Nein | DV86: Nein | DW86: Nein | DX86: Nein | DY86: Nein | DZ86: Nein | EA86: Nein | EC86: Ja | ED86: Nein | EE86: Nein | EF86: Ja | EG86: Nein | EH86: Nein | EI86: Nein | EJ86: Nein | EK86: Nein | EM86: 1 | EN86: 0 | EO86: 5 | EP86: Nein | EQ86: Nein | ER86: Nein | ES86: Nein | ET86: Nein | EU86: Nein | EV86: Ja | EW86: 2 | EX86: 1 | EY86: 1 | EZ86: 0
A87: 163 | B87: 0 | C87: 1000646302 | D87: Ja | E87: Nein | F87: Nein | G87: Nein | H87: Nein | I87: Nein | J87: Nein | L87: Beratung oder Schulung | M87: Beratung oder Schulung | N87: Beratung oder Schulung | O87: In Planung | P87: Beratung oder Schulung | Q87: In Planung | R87: Beratung oder Schulung | S87: Beratung oder Schulung | T87: Beratung oder Schulung | U87: Ja | V87: Ja | X87: Nein | Z87: Nein | AB87: Nein | AD87: Nein | AF87: Nein | AI87: Nein | AJ87: Nein | AK87: Nein | AL87: Nein | AM87: Nein | AN87: Nein | AO87: Nein | BA87: N/A | BB87: N/A | BC87: N/A | BD87: N/A | BE87: N/A | BF87: N/A | BG87: N/A | BH87: N/A | BJ87: N/A | BK87: N/A | BL87: N/A | BM87: N/A | BN87: N/A | BP87: N/A | BQ87: N/A | BR87: N/A | BS87: N/A | BT87: N/A | BU87: N/A | BW87: N/A | BX87: N/A | BY87: N/A | BZ87: N/A | CJ87: 0 | CK87: 0 | CL87: N/A | CN87: N/A | CP87: N/A | CR87: N/A | CT87: N/A | CV87: N/A | CX87: N/A | CZ87: N/A | DB87: N/A | DC87: N/A | DD87: N/A | DE87: N/A | DF87: N/A | DG87: N/A | DH87: N/A | DJ87: N/A | DK87: N/A | DL87: N/A | DM87: N/A | DN87: N/A | DO87: N/A | DQ87: N/A | DR87: N/A | DS87: N/A | DT87: N/A | DU87: N/A | DV87: N/A | DW87: N/A | DX87: N/A | DY87: N/A | DZ87: N/A | EA87: N/A | EC87: N/A | ED87: N/A | EE87: N/A | EF87: N/A | EG87: N/A | EH87: N/A | EI87: N/A | EJ87: N/A | EK87: N/A | EM87: 0 | EN87: 0 | EO87: 0 | EP87: N/A | EQ87: N/A | ER87: N/A | ES87: N/A | ET87: N/A | EU87: N/A | EV87: N/A | EY87: 0 | EZ87: 0
A88: 164 | B88: 5 | C88: 959980863 | D88: Nein | E88: Nein | F88: Ja | G88: Nein | H88: Nein | I88: Nein | J88: Nein | L88: Beratung oder Schulung | N88: Beratung oder Schulung | O88: Beratung oder Schulung | P88: In Planung | Q88: Dienstangebot | R88: Dienstangebot | S88: Kein Angebot | T88: Beratung oder Schulung | V88: N/A | X88: N/A | Z88: N/A | AB88: N/A | AD88: N/A | AF88: N/A | AI88: Nein | AJ88: Ja | AK88: Nein | AL88: Ja | AM88: Nein | AN88: Nein | AO88: Nein | AQ88: 2 | AR88: 3 | AZ88: 5 | BA88: Nein | BB88: Nein | BC88: Nein | BD88: Nein | BE88: Nein | BF88: Nein | BG88: Nein | BH88: Nein | BJ88: Nein | BK88: Nein | BL88: Nein | BM88: Nein | BN88: Nein | BP88: Nein | BQ88: Nein | BR88: Nein | BS88: Nein | BT88: Nein | BU88: Nein | BW88: Ja | BX88: Ja | BY88: Ja | BZ88: Nein | CB88: 1 | CC88: 5 | CD88: 2 | CI88: 4 | CJ88: 0 | CK88: 0 | CL88: Nein | CN88: Nein | CP88: Nein | CR88: Nein | CT88: Nein | CV88: Nein | CX88: Nein | CZ88: Nein | DB88: Nein | DC88: Nein | DD88: Nein | DE88: Nein | DF88: Nein | DG88: Nein | DH88: Nein | DJ88: Nein | DK88: Nein | DL88: Nein | DM88: Nein | DN88: Nein | DO88: Nein | DQ88: Nein | DR88: Nein | DS88: Nein | DT88: Nein | DU88: Nein | DV88: Nein | DW88: Nein | DX88: Nein | DY88: Nein | DZ88: Nein | EA88: Nein | EC88: Nein | ED88: Nein | EE88: Nein | EF88: Nein | EG88: Nein | EH88: Nein | EI88: Nein | EJ88: Nein | EK88: Nein | EM88: 0 | EN88: 0 | EO88: 0 | EP88: Nein | EQ88: Nein | ER88: Nein | ES88: Nein | ET88: Nein | EU88: Nein | EV88: Nein | EY88: 1 | EZ88: Niedersachsen | FA88: Ich bin an einer außeruniversitären Einrichtung beschäftigt, deshalb traffen viele Fragen auf mich nicht zu.
A89: 168 | B89: 3 | C89: 1533235011 | D89: Nein | E89: Nein | F89: Nein | G89: Nein | H89: Nein | I89: Ja | J89: Nein | L89: Noch nicht geplant | M89: Dienstangebot | N89: In Planung | O89: Kein Angebot | P89: In Planung | Q89: In Planung | R89: In Planung | S89: In Planung | T89: In Planung | U89: Nein | V89: N/A | X89: N/A | Z89: N/A | AB89: N/A | AD89: N/A | AF89: N/A | AI89: Ja | AJ89: Nein | AK89: Ja | AL89: Nein | AM89: Ja | AN89: Nein | AO89: Nein | AP89: Wiki | AQ89: 5 | AR89: 7 | AS89: 2 | AT89: 6 | AZ89: 5 | BA89: Nein | BB89: Nein | BC89: Nein | BD89: Nein | BE89: Nein | BF89: Nein | BG89: Nein | BH89: Ja | BJ89: Ja | BK89: Nein | BL89: Nein | BM89: Ja | BN89: Nein | BP89: Nein | BQ89: Nein | BR89: Nein | BS89: Nein | BT89: Nein | BU89: Ja | BW89: Ja | BX89: Ja | BY89: Ja | BZ89: Nein | CB89: 5 | CC89: 6 | CD89: 2 | CH89: 1 | CI89: 3 | CJ89: 2 | CK89: 3 | CL89: Nein | CN89: Nein | CP89: Ja | CR89: Nein | CT89: Nein | CV89: Nein | CX89: Nein | CZ89: Nein | DB89: Nein | DC89: Nein | DD89: Ja | DE89: Nein | DF89: Nein | DG89: Nein | DH89: Nein | DJ89: Nein | DK89: Nein | DL89: Nein | DM89: Ja | DN89: Ja | DO89: Nein | DQ89: N/A | DR89: N/A | DS89: N/A | DT89: N/A | DU89: N/A | DV89: N/A | DW89: N/A | DX89: N/A | DY89: N/A | DZ89: N/A | EA89: N/A | EC89: N/A | ED89: N/A | EE89: N/A | EF89: N/A | EG89: N/A | EH89: N/A | EI89: N/A | EJ89: N/A | EK89: N/A | EM89: 0 | EN89: 0 | EO89: 0 | EP89: N/A | EQ89: N/A | ER89: N/A | ES89: N/A | ET89: N/A | EU89: N/A | EV89: N/A | EY89: 0 | EZ89: 0
A90: 169 | B90: 5 | C90: 965296643 | D90: Ja | E90: Nein | F90: Nein | G90: Nein | H90: Nein | I90: Nein | J90: Nein | L90: Beratung oder Schulung | M90: Beratung oder Schulung | N90: Beratung oder Schulung | P90: Beratung oder Schulung | Q90: Beratung oder Schulung | R90: Beratung oder Schulung | S90: Beratung oder Schulung | U90: Nein | V90: N/A | X90: N/A | Z90: N/A | AB90: N/A | AD90: N/A | AF90: N/A | AI90: Ja | AJ90: Ja | AK90: Ja | AL90: Ja | AM90: Ja | AN90: Ja | AO90: Ja | AQ90: 2 | AR90: 1 | AS90: 4 | AZ90: 6 | BA90: Ja | BB90: Ja | BC90: Nein | BD90: Nein | BE90: Ja | BF90: Ja | BG90: Nein | BH90: Nein | BJ90: Ja | BK90: Nein | BL90: Ja | BM90: Ja | BN90: Nein | BP90: Ja | BQ90: Ja | BR90: Ja | BS90: Ja | BT90: Ja | BU90: Nein | BW90: Nein | BX90: Ja | BY90: Ja | BZ90: Ja | CB90: 5 | CC90: 1 | CH90: 1 | CJ90: 3 | CK90: 0 | CL90: N/A | CN90: N/A | CP90: N/A | CR90: N/A | CT90: N/A | CV90: N/A | CX90: N/A | CZ90: N/A | DB90: Nein | DC90: Nein | DD90: Ja | DE90: Nein | DF90: Nein | DG90: Nein | DH90: Nein | DJ90: Nein | DK90: Nein | DL90: Ja | DM90: Nein | DN90: Ja | DO90: Nein | DQ90: Ja | DR90: Nein | DS90: Nein | DT90: Nein | DU90: Nein | DV90: Nein | DW90: Nein | DX90: Nein | DY90: Nein | DZ90: Nein | EA90: Nein | EC90: Ja | ED90: Ja | EE90: Ja | EF90: Nein | EG90: Ja | EH90: Ja | EI90: Nein | EJ90: Nein | EK90: Nein | EM90: 0 | EN90: 0 | EO90: 0 | EP90: Nein | EQ90: Nein | ER90: Nein | ES90: Nein | ET90: Nein | EU90: Nein | EV90: Ja | EY90: 1 | EZ90: Nordrhein Westfalen
A91: 171 | B91: 5 | C91: 1315789905 | D91: Nein | E91: Nein | F91: Nein | G91: Nein | H91: Ja | I91: Nein | J91: Nein | L91: Beratung oder Schulung | M91: In Planung | N91: In Planung | O91: Noch nicht geplant | P91: Noch nicht geplant | Q91: Noch nicht geplant | R91: Beratung oder Schulung | S91: Beratung oder Schulung | T91: Noch nicht geplant | U91: Ja | V91: Ja | X91: Ja | Z91: Nein | AB91: Nein | AD91: Nein | AF91: Nein | AH91: Repositorium, Unterstützung zur DMP-Erstellung, Beratung von Forschungsgruppen | AI91: Nein | AJ91: Nein | AK91: Ja | AL91: Nein | AM91: Nein | AN91: Ja | AO91: Nein | AQ91: 1 | AR91: 2 | AS91: 4 | AT91: 7 | AU91: 3 | AV91: 5 | AZ91: 5 | BA91: Ja | BB91: Ja | BC91: Nein | BD91: Nein | BE91: Nein | BF91: Ja | BG91: Nein | BH91: Nein | BJ91: Ja | BK91: Ja | BL91: Nein | BM91: Nein | BN91: Nein | BP91: Ja | BQ91: Ja | BR91: Ja | BS91: Nein | BT91: Ja | BU91: Nein | BW91: Nein | BX91: Ja | BY91: Ja | BZ91: Nein | CB91: 5 | CC91: 3 | CD91: 4 | CH91: 1 | CI91: 3 | CJ91: 2 | CK91: 0 | CL91: Nein | CN91: Nein | CP91: Nein | CR91: Ja | CT91: Nein | CV91: Nein | CX91: Nein | CZ91: Nein | DB91: Ja | DC91: Nein | DD91: Nein | DE91: Nein | DF91: Nein | DG91: Nein | DH91: Nein | DJ91: Nein | DK91: Nein | DL91: Nein | DM91: Nein | DN91: Nein | DO91: Ja | DQ91: Ja | DR91: Nein | DS91: Nein | DT91: Nein | DU91: Nein | DV91: Nein | DW91: Nein | DX91: Nein | DY91: Nein | DZ91: Nein | EA91: Nein | EC91: Nein | ED91: Ja | EE91: Ja | EF91: Nein | EG91: Nein | EH91: Ja | EI91: Nein | EJ91: Nein | EK91: Nein | EM91: 0 | EN91: 0 | EO91: 0 | EP91: Nein | EQ91: Nein | ER91: Nein | ES91: Nein | ET91: Nein | EU91: Ja | EV91: Nein | EW91: 4 | EX91: 3 | EY91: 1 | EZ91: Sachsen
A92: 173 | B92: 5 | C92: 1219300808 | D92: Nein | E92: Nein | F92: Nein | G92: Ja | H92: Nein | I92: Nein | J92: Nein | L92: In Planung | M92: In Planung | N92: Noch nicht geplant | P92: Noch nicht geplant | Q92: Noch nicht geplant | V92: N/A | X92: N/A | Z92: N/A | AB92: N/A | AD92: N/A | AF92: N/A | AI92: Nein | AJ92: Nein | AK92: Ja | AL92: Nein | AM92: Nein | AN92: Ja | AO92: Nein | AQ92: 1 | AR92: 3 | AS92: 7 | AY92: Es gibt wohl viele andere Themen. Wertschätzung des Themas fehlt | BA92: Ja | BB92: Nein | BC92: Nein | BD92: Nein | BE92: Nein | BF92: Nein | BG92: Nein | BH92: Nein | BJ92: Nein | BK92: Nein | BL92: Nein | BM92: Nein | BN92: Nein | BP92: Nein | BQ92: Nein | BR92: Nein | BS92: Nein | BT92: Ja | BU92: Nein | BW92: Nein | BX92: Nein | BY92: Nein | BZ92: Nein | CH92: 2 | CI92: 4 | CJ92: 0 | CK92: 0 | CL92: Nein | CN92: Nein | CP92: Nein | CR92: Nein | CT92: Nein | CV92: Nein | CX92: Nein | CZ92: Nein | DB92: Nein | DC92: Nein | DD92: Nein | DE92: Nein | DF92: Nein | DG92: Nein | DH92: Nein | DJ92: Nein | DK92: Ja | DL92: Nein | DM92: Nein | DN92: Nein | DO92: Nein | DQ92: Nein | DR92: Nein | DS92: Ja | DT92: Ja | DU92: Ja | DV92: Ja | DW92: Nein | DX92: Nein | DY92: Ja | DZ92: Nein | EA92: Ja | EC92: Ja | ED92: Nein | EE92: Nein | EF92: Nein | EG92: Nein | EH92: Nein | EI92: Nein | EJ92: Nein | EK92: Nein | EM92: 3 | EN92: 3 | EO92: 3 | EP92: Nein | EQ92: Nein | ER92: Nein | ES92: Nein | ET92: Nein | EU92: Ja | EV92: Nein | EW92: 4 | EX92: 3 | EY92: 1 | EZ92: Baden-Württemberg
A93: 174 | B93: 5 | C93: 653683735 | D93: Ja | E93: Nein | F93: Nein | G93: Nein | H93: Nein | I93: Ja | J93: Nein | L93: Dienstangebot | M93: Beratung oder Schulung | N93: Beratung oder Schulung | O93: Beratung oder Schulung | P93: Kein Angebot | Q93: Beratung oder Schulung | R93: In Planung | S93: Dienstangebot | T93: Dienstangebot | U93: Nein | V93: N/A | X93: N/A | Z93: N/A | AB93: N/A | AD93: N/A | AF93: N/A | AI93: Ja | AJ93: Nein | AK93: Ja | AL93: Nein | AM93: Ja | AN93: Ja | AO93: Ja | AQ93: 1 | AR93: 7 | AS93: 2 | AT93: 4 | AZ93: 6 | BA93: Ja | BB93: Ja | BC93: Nein | BD93: Nein | BE93: Nein | BF93: Nein | BG93: Nein | BH93: Ja | BJ93: Ja | BK93: Ja | BL93: Ja | BM93: Ja | BN93: Nein | BP93: Ja | BQ93: Ja | BR93: Ja | BS93: Ja | BT93: Ja | BU93: Nein | BW93: Ja | BX93: Ja | BY93: Ja | BZ93: Nein | CB93: 1 | CC93: 4 | CD93: 3 | CE93: 6 | CF93: 2 | CH93: 1 | CI93: 2 | CJ93: 2 | CK93: 2 | CL93: Ja | CM93: Schulungsteilnehmende | CN93: Nein | CP93: Ja | CR93: Nein | CT93: Nein | CV93: Nein | CX93: Ja | CZ93: Nein | DB93: Ja | DC93: Nein | DD93: Nein | DE93: Ja | DF93: Nein | DG93: Nein | DH93: Nein | DJ93: Nein | DK93: Ja | DL93: Nein | DM93: Ja | DN93: Nein | DO93: Nein | DQ93: Ja | DR93: Ja | DS93: Ja | DT93: Ja | DU93: Ja | DV93: Ja | DW93: Nein | DX93: Nein | DY93: Ja | DZ93: Nein | EA93: Ja | EB93: Externe, wenn sie Projektpartner sind | EC93: Ja | ED93: Ja | EE93: Ja | EF93: Ja | EG93: Nein | EH93: Ja | EI93: Ja | EJ93: Ja | EK93: Nein | EM93: 5 | EN93: 3 | EO93: 5 | EP93: Ja | EQ93: Nein | ER93: Nein | ES93: Nein | ET93: Nein | EU93: Nein | EV93: Nein | EW93: 5 | EX93: 5 | EY93: 1 | EZ93: Hessen
A94: 175 | B94: 5 | C94: 1316184534 | D94: Nein | E94: Nein | F94: Ja | G94: Nein | H94: Nein | I94: Nein | J94: Nein | L94: Noch nicht geplant | M94: Dienstangebot | N94: Kein Angebot | O94: Kein Angebot | P94: Kein Angebot | Q94: Kein Angebot | R94: Kein Angebot | S94: Kein Angebot | T94: Beratung oder Schulung | U94: Nein | V94: N/A | X94: N/A | Z94: N/A | AB94: N/A | AD94: N/A | AF94: N/A | AI94: Nein | AJ94: Nein | AK94: Ja | AL94: Ja | AM94: Nein | AN94: Nein | AO94: Nein | AQ94: 2 | AR94: 1 | AS94: 3 | AT94: 5 | AU94: 7 | AV94: 6 | AW94: 4 | AX94: 8 | AZ94: 5 | BA94: Nein | BB94: Ja | BC94: Nein | BD94: Nein | BE94: Nein | BF94: Ja | BG94: Nein | BH94: Nein | BJ94: Nein | BK94: Ja | BL94: Nein | BM94: Nein | BN94: Nein | BP94: Ja | BQ94: Nein | BR94: Nein | BS94: Nein | BT94: Ja | BU94: Nein | BW94: Nein | BX94: Ja | BY94: Nein | BZ94: Ja | CB94: 2 | CC94: 7 | CD94: 1 | CE94: 4 | CF94: 3 | CG94: 6 | CH94: 3 | CI94: 2 | CJ94: 3 | CK94: 0 | CL94: N/A | CN94: N/A | CP94: N/A | CR94: N/A | CT94: N/A | CV94: N/A | CX94: N/A | CZ94: N/A | DB94: Nein | DC94: Nein | DD94: Nein | DE94: Nein | DF94: Ja | DG94: Nein | DH94: Nein | DJ94: Nein | DK94: Nein | DL94: Nein | DM94: Nein | DN94: Ja | DO94: Nein | DQ94: Ja | DR94: Nein | DS94: Nein | DT94: Nein | DU94: Nein | DV94: Nein | DW94: Nein | DX94: Nein | DY94: Nein | DZ94: Nein | EA94: Nein | EC94: Ja | ED94: Nein | EE94: Nein | EF94: Nein | EG94: Nein | EH94: Nein | EI94: Nein | EJ94: Nein | EK94: Nein | EM94: 1 | EN94: 1 | EO94: 5 | EP94: Ja | EQ94: Nein | ER94: Nein | ES94: Nein | ET94: Nein | EU94: Nein | EV94: Nein | EW94: 4 | EX94: 3 | EY94: 1 | EZ94: Brandenburg
A95: 177 | B95: 5 | C95: 1931095697 | D95: Ja | E95: Nein | F95: Nein | G95: Nein | H95: Nein | I95: Nein | J95: Nein | L95: In Planung | M95: In Planung | N95: Noch nicht geplant | O95: Beratung oder Schulung | P95: Noch nicht geplant | Q95: In Planung | R95: Dienstangebot | S95: Dienstangebot | T95: Dienstangebot | U95: Nein | V95: N/A | X95: N/A | Z95: N/A | AB95: N/A | AD95: N/A | AF95: N/A | AI95: Nein | AJ95: Nein | AK95: Ja | AL95: Nein | AM95: Nein | AN95: Nein | AO95: Nein | AP95: Workshops u. Vergleichbare | AQ95: 3 | AR95: 1 | AS95: 2 | AZ95: 5 | BA95: Nein | BB95: Nein | BC95: Nein | BD95: Nein | BE95: Nein | BF95: Nein | BG95: Nein | BH95: Nein | BJ95: Ja | BK95: Nein | BL95: Nein | BM95: Nein | BN95: Nein | BO95: Im Rahmen des allgemeinen IK-Angebotes | BP95: Nein | BQ95: Ja | BR95: Ja | BS95: Nein | BT95: Ja | BU95: Nein | BW95: Ja | BX95: Nein | BY95: Ja | BZ95: Ja | CB95: 4 | CC95: 5 | CD95: 1 | CH95: 1 | CI95: 3 | CJ95: 1 | CK95: 4 | CL95: Ja | CN95: Nein | CP95: Ja | CR95: Nein | CT95: Nein | CV95: Nein | CX95: Nein | CZ95: Nein | DB95: Ja | DC95: Nein | DD95: Nein | DE95: Nein | DF95: Nein | DG95: Nein | DH95: Nein | DJ95: Nein | DK95: Nein | DL95: Nein | DM95: Ja | DN95: Nein | DO95: Nein | DQ95: Ja | DR95: Nein | DS95: Nein | DT95: Nein | DU95: Nein | DV95: Nein | DW95: Nein | DX95: Nein | DY95: Nein | DZ95: Nein | EA95: Nein | EC95: Ja | ED95: Ja | EE95: Ja | EF95: Nein | EG95: Nein | EH95: Nein | EI95: Nein | EJ95: Nein | EK95: Nein | EM95: 3 | EN95: 3 | EO95: 5 | EP95: Ja | EQ95: Nein | ER95: Nein | ES95: Nein | ET95: Nein | EU95: Nein | EV95: Nein | EW95: 3 | EX95: 2 | EY95: 1 | EZ95: Hessen

Sheet 1 - Dienste FDM
A2: DQ01 - Welche Arten von FDM-Diensten werden an Ihrer Einrichtung angeboten?Es gibt Angebote zur ... | B2: Einführung in FDM | C2: Organisation | D2: Dokumentation | E2: Analyse und Visualisierung | F2: Kuratierung | G2: (Nach-)Nutzung | H2: Archivierung | I2: Datenpublikation | J2: Rechtsberatung
A3: Dienstangebot | B3: =COUNTIF('0 - Rohdaten'!L$2:L$95,"Dienstangebot") -> 16 | C3: =COUNTIF('0 - Rohdaten'!M$2:M$95,"Dienstangebot") -> 31 | D3: =COUNTIF('0 - Rohdaten'!N$2:N$95,"Dienstangebot") -> 14 | E3: =COUNTIF('0 - Rohdaten'!O$2:O$95,"Dienstangebot") -> 11 | F3: =COUNTIF('0 - Rohdaten'!P$2:P$95,"Dienstangebot") -> 16 | G3: =COUNTIF('0 - Rohdaten'!Q$2:Q$95,"Dienstangebot") -> 14 | H3: =COUNTIF('0 - Rohdaten'!R$2:R$95,"Dienstangebot") -> 35 | I3: =COUNTIF('0 - Rohdaten'!S$2:S$95,"Dienstangebot") -> 42 | J3: =COUNTIF('0 - Rohdaten'!T$2:T$95,"Dienstangebot") -> 9
A4: Beratung oder Schulung | B4: =COUNTIF('0 - Rohdaten'!L$2:L$95,"Beratung oder Schulung") -> 66 | C4: =COUNTIF('0 - Rohdaten'!M$2:M$95,"Beratung oder Schulung") -> 42 | D4: =COUNTIF('0 - Rohdaten'!N$2:N$95,"Beratung oder Schulung") -> 48 | E4: =COUNTIF('0 - Rohdaten'!O$2:O$95,"Beratung oder Schulung") -> 16 | F4: =COUNTIF('0 - Rohdaten'!P$2:P$95,"Beratung oder Schulung") -> 21 | G4: =COUNTIF('0 - Rohdaten'!Q$2:Q$95,"Beratung oder Schulung") -> 42 | H4: =COUNTIF('0 - Rohdaten'!R$2:R$95,"Beratung oder Schulung") -> 26 | I4: =COUNTIF('0 - Rohdaten'!S$2:S$95,"Beratung oder Schulung") -> 24 | J4: =COUNTIF('0 - Rohdaten'!T$2:T$95,"Beratung oder Schulung") -> 32
A5: In Planung | B5: =COUNTIF('0 - Rohdaten'!L$2:L$95,"In Planung") -> 6 | C5: =COUNTIF('0 - Rohdaten'!M$2:M$95,"In Planung") -> 11 | D5: =COUNTIF('0 - Rohdaten'!N$2:N$95,"In Planung") -> 14 | E5: =COUNTIF('0 - Rohdaten'!O$2:O$95,"In Planung") -> 13 | F5: =COUNTIF('0 - Rohdaten'!P$2:P$95,"In Planung") -> 9 | G5: =COUNTIF('0 - Rohdaten'!Q$2:Q$95,"In Planung") -> 9 | H5: =COUNTIF('0 - Rohdaten'!R$2:R$95,"In Planung") -> 18 | I5: =COUNTIF('0 - Rohdaten'!S$2:S$95,"In Planung") -> 11 | J5: =COUNTIF('0 - Rohdaten'!T$2:T$95,"In Planung") -> 9
A6: Noch nicht geplant | B6: =COUNTIF('0 - Rohdaten'!L$2:L$95,"Noch nicht geplant") -> 3 | C6: =COUNTIF('0 - Rohdaten'!M$2:M$95,"Noch nicht geplant") -> 1 | D6: =COUNTIF('0 - Rohdaten'!N$2:N$95,"Noch nicht geplant") -> 6 | E6: =COUNTIF('0 - Rohdaten'!O$2:O$95,"Noch nicht geplant") -> 19 | F6: =COUNTIF('0 - Rohdaten'!P$2:P$95,"Noch nicht geplant") -> 17 | G6: =COUNTIF('0 - Rohdaten'!Q$2:Q$95,"Noch nicht geplant") -> 7 | H6: =COUNTIF('0 - Rohdaten'!R$2:R$95,"Noch nicht geplant") -> 1 | I6: =COUNTIF('0 - Rohdaten'!S$2:S$95,"Noch nicht geplant") -> 0 | J6: =COUNTIF('0 - Rohdaten'!T$2:T$95,"Noch nicht geplant") -> 16
A7: Kein Angebot | B7: =COUNTIF('0 - Rohdaten'!L$2:L$95,"Kein Angebot") -> 3 | C7: =COUNTIF('0 - Rohdaten'!M$2:M$95,"Kein Angebot") -> 5 | D7: =COUNTIF('0 - Rohdaten'!N$2:N$95,"Kein Angebot") -> 8 | E7: =COUNTIF('0 - Rohdaten'!O$2:O$95,"Kein Angebot") -> 24 | F7: =COUNTIF('0 - Rohdaten'!P$2:P$95,"Kein Angebot") -> 24 | G7: =COUNTIF('0 - Rohdaten'!Q$2:Q$95,"Kein Angebot") -> 16 | H7: =COUNTIF('0 - Rohdaten'!R$2:R$95,"Kein Angebot") -> 7 | I7: =COUNTIF('0 - Rohdaten'!S$2:S$95,"Kein Angebot") -> 11 | J7: =COUNTIF('0 - Rohdaten'!T$2:T$95,"Kein Angebot") -> 18
A8: Keine Angabe | B8: =COUNTIF('0 - Rohdaten'!L$2:L$95,"") -> 0 | C8: =COUNTIF('0 - Rohdaten'!M$2:M$95,"") -> 4 | D8: =COUNTIF('0 - Rohdaten'!N$2:N$95,"") -> 4 | E8: =COUNTIF('0 - Rohdaten'!O$2:O$95,"") -> 11 | F8: =COUNTIF('0 - Rohdaten'!P$2:P$95,"") -> 7 | G8: =COUNTIF('0 - Rohdaten'!Q$2:Q$95,"") -> 6 | H8: =COUNTIF('0 - Rohdaten'!R$2:R$95,"") -> 7 | I8: =COUNTIF('0 - Rohdaten'!S$2:S$95,"") -> 6 | J8: =COUNTIF('0 - Rohdaten'!T$2:T$95,"") -> 10
A9: Gesamt | B9: =SUM(B3:B8) -> 94 | C9: =SUM(C3:C8) -> 94 | D9: =SUM(D3:D8) -> 94 | E9: =SUM(E3:E8) -> 94 | F9: =SUM(F3:F8) -> 94 | G9: =SUM(G3:G8) -> 94 | H9: =SUM(H3:H8) -> 94 | I9: =SUM(I3:I8) -> 94 | J9: =SUM(J3:J8) -> 94
A10: Dienstangebot | B10: =B3/SUM($B$3:$B$8) -> 0.17021277 | C10: =C3/SUM($C$3:$C$8) -> 0.32978723 | D10: =D3/SUM($D$3:$D$8) -> 0.14893617 | E10: =E3/SUM($E$3:$E$8) -> 0.11702128 | F10: =F3/SUM($F$3:$F$8) -> 0.17021277 | G10: =G3/SUM($G$3:$G$8) -> 0.14893617 | H10: =H3/SUM($H$3:$H$8) -> 0.37234043 | I10: =I3/SUM($I$3:$I$8) -> 0.44680851 | J10: =J3/SUM($J$3:$J$8) -> 0.095744681
A11: Beratung oder Schulung | B11: =B4/SUM($B$3:$B$8) -> 0.70212766 | C11: =C4/SUM($C$3:$C$8) -> 0.44680851 | D11: =D4/SUM($D$3:$D$8) -> 0.5106383 | E11: =E4/SUM($E$3:$E$8) -> 0.17021277 | F11: =F4/SUM($F$3:$F$8) -> 0.22340426 | G11: =G4/SUM($G$3:$G$8) -> 0.44680851 | H11: =H4/SUM($H$3:$H$8) -> 0.27659574 | I11: =I4/SUM($I$3:$I$8) -> 0.25531915 | J11: =J4/SUM($J$3:$J$8) -> 0.34042553
A12: In Planung | B12: =B5/SUM($B$3:$B$8) -> 0.063829787 | C12: =C5/SUM($C$3:$C$8) -> 0.11702128 | D12: =D5/SUM($D$3:$D$8) -> 0.14893617 | E12: =E5/SUM($E$3:$E$8) -> 0.13829787 | F12: =F5/SUM($F$3:$F$8) -> 0.095744681 | G12: =G5/SUM($G$3:$G$8) -> 0.095744681 | H12: =H5/SUM($H$3:$H$8) -> 0.19148936 | I12: =I5/SUM($I$3:$I$8) -> 0.11702128 | J12: =J5/SUM($J$3:$J$8) -> 0.095744681
A13: Noch nicht geplant | B13: =B6/SUM($B$3:$B$8) -> 0.031914894 | C13: =C6/SUM($C$3:$C$8) -> 0.010638298 | D13: =D6/SUM($D$3:$D$8) -> 0.063829787 | E13: =E6/SUM($E$3:$E$8) -> 0.20212766 | F13: =F6/SUM($F$3:$F$8) -> 0.18085106 | G13: =G6/SUM($G$3:$G$8) -> 0.074468085 | H13: =H6/SUM($H$3:$H$8) -> 0.010638298 | I13: =I6/SUM($I$3:$I$8) -> 0 | J13: =J6/SUM($J$3:$J$8) -> 0.17021277
A14: Kein Angebot | B14: =B7/SUM($B$3:$B$8) -> 0.031914894 | C14: =C7/SUM($C$3:$C$8) -> 0.053191489 | D14: =D7/SUM($D$3:$D$8) -> 0.085106383 | E14: =E7/SUM($E$3:$E$8) -> 0.25531915 | F14: =F7/SUM($F$3:$F$8) -> 0.25531915 | G14: =G7/SUM($G$3:$G$8) -> 0.17021277 | H14: =H7/SUM($H$3:$H$8) -> 0.074468085 | I14: =I7/SUM($I$3:$I$8) -> 0.11702128 | J14: =J7/SUM($J$3:$J$8) -> 0.19148936
A15: Keine Angabe | B15: =B8/SUM($B$3:$B$8) -> 0 | C15: =C8/SUM($C$3:$C$8) -> 0.042553191 | D15: =D8/SUM($D$3:$D$8) -> 0.042553191 | E15: =E8/SUM($E$3:$E$8) -> 0.11702128 | F15: =F8/SUM($F$3:$F$8) -> 0.074468085 | G15: =G8/SUM($G$3:$G$8) -> 0.063829787 | H15: =H8/SUM($H$3:$H$8) -> 0.074468085 | I15: =I8/SUM($I$3:$I$8) -> 0.063829787 | J15: =J8/SUM($J$3:$J$8) -> 0.10638298
A38: DQ02 - Bieten externe Partner FDM-Dienstleistungen an Ihrer Hochschule an? | B38: Absolute Häufigkeit | C38: Relative Häufigkeit
A39: Ja | B39: =COUNTIF('0 - Rohdaten'!U$2:U$95,"Ja") -> 17 | C39: =B39/SUM(B39:B41) -> 0.18085106
A40: Nein | B40: =COUNTIF('0 - Rohdaten'!U$2:U$95,"Nein") -> 62 | C40: =B40/SUM(B39:B41) -> 0.65957447
A41: Keine Antwort | B41: =94-SUM(B39:B40) -> 15 | C41: =tbl_DQ02[[#This Row],[Absolute Häufigkeit]]/SUM(B39:B41) -> 0.15957447
A42: Gesamt | B42: =SUM(B39:B41) -> 94 | C42: =SUM(C39:C41) -> 1
A61: DQ03 - Welche externen Partner gibt es bzw. wie sind diese organisiert? | B61: Absolute Häufigkeit | C61: Relative Häufigkeit | E61: *bereinigte Wortliste der Freitextantworten der jeweiligen Antworten, getrennt durch Komma:
A62: Internationale FDM-Verbände | B62: =COUNTIF('0 - Rohdaten'!AB$2:AB$95,"Ja") -> 2 | C62: =B62/SUM(B$62:B$67) -> 0.064516129 | E62: Internationale FDM-Verbände (DQ304): Publikationsplattformen RDA
A63: Andere | B63: =COUNTIF('0 - Rohdaten'!AF$2:AF$95,"Ja") -> 3 | C63: =B63/SUM(B$62:B$67) -> 0.096774194 | E63: Andere (DQ306): Außeruniversitäre Forschungsorganisationen (ZB MED), DFN
A64: Dienstleister der (IT-)Wirtschaft | B64: =COUNTIF('0 - Rohdaten'!AD$2:AD$95,"Ja") -> 3 | C64: =B64/SUM(B$62:B$67) -> 0.096774194 | E64: Dienstleister der (IT)-Wirtschaft (DQ305): spezielle Software-Dienstleistungen Atlassian, Microsoft, Alphabet
A65: Nationale FDM-Verbände | B65: =COUNTIF('0 - Rohdaten'!Z$2:Z$95,"Ja") -> 6 | C65: =B65/SUM(B$62:B$67) -> 0.19354839 | E65: Nationale FDM-Verbände (DQ303): Archivierungsinfrastruktur NFDI-Konsortien, DINI Nestor UAG Schulungen/Fortbildungen, AG Forschungsdaten, DMP RDMO, RDA
A66: Einrichtungen anderer Hochschulen | B66: =COUNTIF('0 - Rohdaten'!V$2:V$95,"Ja") -> 8 | C66: =B66/SUM(B$62:B$67) -> 0.25806452 | E66: Einrichtungen anderer Hochschulen (DQ301): Bereitstellung von Softwarediensten, Regionales Rechenzentrum, Hochschulübergreifende Zusammenarbeit der regionalen FDM-Allianz
A67: Regionale FDM-Verbände | B67: =COUNTIF('0 - Rohdaten'!X$2:X$95,"Ja") -> 9 | C67: =B67/SUM(B$62:B$67) -> 0.29032258 | E67: Regionale FDM-Verbände (DQ302): Rechenzentrumsalliance der Hochschulen für Cloud-Speicher und HPC, Thüringer Kompetenznetzwerk FDM, HeFDI Landesinitiative, Landesinitiative fdm.nrw, SaxFDM, Landesinitiative ScaDS.AI
A68: Gesamt | B68: =SUM(B62:B67) -> 31 | C68: =SUM(C62:C67) -> 1
A91: DQ04 - Welche FDM-Dienste werden extern angeboten? (Freitextantwort)
A92: *Kategorisierte und bereinigte Wortliste der Freitextkommentare, N=12:
A93: Software-Bereitstellung, Beratung, Schulung
A94: Beratung, Schulung
A95: Langzeitarchivierung
A96: Repositorium, RDMO
A97: Repositorium, RDMO
A98: Hochschulübergreifende Schulungen
A99: Repositorium, ELN-Dienst
A100: Repositorien, Langzeitarchivierung
A101: Fachspezifische Schulungsangebote, Fachrepositorien
A102: Speicher-Cloud
... A104: Repositorium, Unterstützung zur DMP-Erstellung, Beratung
A106: DQ05 - Welche Informationsmaterialien stehen den Forschenden und Mitarbeitenden zu den FDM-Diensten zur Verfügung? | B106: Absolute Häufigkeit | C106: Relative Häufigkeit | E106: *bereinigte Wortliste der Freitextantworten "Sonstiges", N=7:
A107: Sonstiges | B107: =COUNTA('0 - Rohdaten'!AP:AP) -> 8 | C107: =B107/94 -> 0.085106383 | E107: Kontakt, Beteiligung an NFDI Konsortien und ERIC: DARIAH
A108: Newsletter und Mailinglisten | B108: =COUNTIF('0 - Rohdaten'!AM$2:AM$95,"Ja") -> 25 | C108: =B108/94 -> 0.26595745 | E108: FDM-Policy
A109: User-Dokumentationen der technischen Dienste | B109: =COUNTIF('0 - Rohdaten'!AO$2:AO$95,"Ja") -> 30 | C109: =B109/94 -> 0.31914894 | E109: E-Learning im Aufbau
A110: E-Tutorials | B110: =COUNTIF('0 - Rohdaten'!AI$2:AI$95,"Ja") -> 32 | C110: =B110/94 -> 0.34042553 | E110: Checklisten, Newsfeed
A111: FAQs und Schlagwortlisten | B111: =COUNTIF('0 - Rohdaten'!AJ$2:AJ$95,"Ja") -> 39 | C111: =B111/94 -> 0.41489362 | E111: Moodle Kurs
A112: Handouts und Leitfäden | B112: =COUNTIF('0 - Rohdaten'!AL$2:AL$95,"Ja") -> 57 | C112: =B112/94 -> 0.60638298 | E112: Wiki
A113: Links zu externen Ressourcen | B113: =COUNTIF('0 - Rohdaten'!AN$2:AN$95,"Ja") -> 68 | C113: =B113/94 -> 0.72340426 | E113: Workshops u. Vergleichbare
A114: FDM-Webseite | B114: =COUNTIF('0 - Rohdaten'!AK$2:AK$95,"Ja") -> 79 | C114: =B114/94 -> 0.84042553
A115: Gesamt | B115: =SUM(B107:B114) -> 338
A116: *aufsummiert nach TN, n=94 | B116: 94
A134: DQ06 - Warum werden FDM-Dienste nicht angeboten?
A136: Absolute Häufigkeiten Platzierung | B136: R1 | C136: R2 | D136: R3 | E136: R4 | F136: R5 | G136: R6 | H136: R7 | I136: R8 | J136: nicht angegeben*
A137: 1 - Fehlendes Personal | B137: =COUNTIF('0 - Rohdaten'!AQ:AQ,1) -> 35 | C137: =COUNTIF('0 - Rohdaten'!AR:AR,1) -> 22 | D137: =COUNTIF('0 - Rohdaten'!AS:AS,1) -> 8 | E137: =COUNTIF('0 - Rohdaten'!AT:AT,1) -> 2 | F137: =COUNTIF('0 - Rohdaten'!AU:AU,1) -> 2 | G137: =COUNTIF('0 - Rohdaten'!AV:AV,1) -> 1 | H137: =COUNTIF('0 - Rohdaten'!AW:AW,1) -> 1 | I137: =COUNTIF('0 - Rohdaten'!AX:AX,1) -> 0 | J137: =94-SUM(Tabelle18[[#This Row],[R1]:[R8]]) -> 23
A138: 2 - Fehlende Zeit | B138: =COUNTIF('0 - Rohdaten'!AQ:AQ,2) -> 14 | C138: =COUNTIF('0 - Rohdaten'!AR:AR,2) -> 18 | D138: =COUNTIF('0 - Rohdaten'!AS:AS,2) -> 17 | E138: =COUNTIF('0 - Rohdaten'!AT:AT,2) -> 6 | F138: =COUNTIF('0 - Rohdaten'!AU:AU,2) -> 5 | G138: =COUNTIF('0 - Rohdaten'!AV:AV,2) -> 0 | H138: =COUNTIF('0 - Rohdaten'!AW:AW,2) -> 0 | I138: =COUNTIF('0 - Rohdaten'!AX:AX,2) -> 0 | J138: =94-SUM(Tabelle18[[#This Row],[R1]:[R8]]) -> 34
A139: 3 - Unzureichende finanzielle Mittel | B139: =COUNTIF('0 - Rohdaten'!AQ:AQ,3) -> 11 | C139: =COUNTIF('0 - Rohdaten'!AR:AR,3) -> 15 | D139: =COUNTIF('0 - Rohdaten'!AS:AS,3) -> 15 | E139: =COUNTIF('0 - Rohdaten'!AT:AT,3) -> 8 | F139: =COUNTIF('0 - Rohdaten'!AU:AU,3) -> 3 | G139: =COUNTIF('0 - Rohdaten'!AV:AV,3) -> 4 | H139: =COUNTIF('0 - Rohdaten'!AW:AW,3) -> 1 | I139: =COUNTIF('0 - Rohdaten'!AX:AX,3) -> 0 | J139: =94-SUM(Tabelle18[[#This Row],[R1]:[R8]]) -> 37
A140: 4 - Unzureichende Fachkenntnisse und Kompetenzen | B140: =COUNTIF('0 - Rohdaten'!AQ:AQ,4) -> 2 | C140: =COUNTIF('0 - Rohdaten'!AR:AR,4) -> 4 | D140: =COUNTIF('0 - Rohdaten'!AS:AS,4) -> 11 | E140: =COUNTIF('0 - Rohdaten'!AT:AT,4) -> 7 | F140: =COUNTIF('0 - Rohdaten'!AU:AU,4) -> 8 | G140: =COUNTIF('0 - Rohdaten'!AV:AV,4) -> 2 | H140: =COUNTIF('0 - Rohdaten'!AW:AW,4) -> 5 | I140: =COUNTIF('0 - Rohdaten'!AX:AX,4) -> 0 | J140: =94-SUM(Tabelle18[[#This Row],[R1]:[R8]]) -> 55
A141: 5 - Keine Nachfrage von Forschenden | B141: =COUNTIF('0 - Rohdaten'!AQ:AQ,5) -> 7 | C141: =COUNTIF('0 - Rohdaten'!AR:AR,5) -> 2 | D141: =COUNTIF('0 - Rohdaten'!AS:AS,5) -> 12 | E141: =COUNTIF('0 - Rohdaten'!AT:AT,5) -> 10 | F141: =COUNTIF('0 - Rohdaten'!AU:AU,5) -> 6 | G141: =COUNTIF('0 - Rohdaten'!AV:AV,5) -> 5 | H141: =COUNTIF('0 - Rohdaten'!AW:AW,5) -> 4 | I141: =COUNTIF('0 - Rohdaten'!AX:AX,5) -> 1 | J141: =94-SUM(Tabelle18[[#This Row],[R1]:[R8]]) -> 47
A142: 6 - Nicht Teil der Strategie und daher keine Zustimmung der Einrichtungsleitung | B142: =COUNTIF('0 - Rohdaten'!AQ:AQ,6) -> 9 | C142: =COUNTIF('0 - Rohdaten'!AR:AR,6) -> 2 | D142: =COUNTIF('0 - Rohdaten'!AS:AS,6) -> 0 | E142: =COUNTIF('0 - Rohdaten'!AT:AT,6) -> 5 | F142: =COUNTIF('0 - Rohdaten'!AU:AU,6) -> 4 | G142: =COUNTIF('0 - Rohdaten'!AV:AV,6) -> 4 | H142: =COUNTIF('0 - Rohdaten'!AW:AW,6) -> 5 | I142: =COUNTIF('0 - Rohdaten'!AX:AX,6) -> 0 | J142: =94-SUM(Tabelle18[[#This Row],[R1]:[R8]]) -> 65
A143: 7 - Fehlende technische Infrastruktur | B143: =COUNTIF('0 - Rohdaten'!AQ:AQ,7) -> 3 | C143: =COUNTIF('0 - Rohdaten'!AR:AR,7) -> 11 | D143: =COUNTIF('0 - Rohdaten'!AS:AS,7) -> 7 | E143: =COUNTIF('0 - Rohdaten'!AT:AT,7) -> 16 | F143: =COUNTIF('0 - Rohdaten'!AU:AU,7) -> 5 | G143: =COUNTIF('0 - Rohdaten'!AV:AV,7) -> 5 | H143: =COUNTIF('0 - Rohdaten'!AW:AW,7) -> 2 | I143: =COUNTIF('0 - Rohdaten'!AX:AX,7) -> 0 | J143: =94-SUM(Tabelle18[[#This Row],[R1]:[R8]]) -> 45
A144: 8 - Andere Gründe (bitte nachfolgend konkretisieren) | B144: =COUNTIF('0 - Rohdaten'!AQ:AQ,8) -> 2 | C144: =COUNTIF('0 - Rohdaten'!AR:AR,8) -> 0 | D144: =COUNTIF('0 - Rohdaten'!AS:AS,8) -> 0 | E144: =COUNTIF('0 - Rohdaten'!AT:AT,8) -> 1 | F144: =COUNTIF('0 - Rohdaten'!AU:AU,8) -> 2 | G144: =COUNTIF('0 - Rohdaten'!AV:AV,8) -> 1 | H144: =COUNTIF('0 - Rohdaten'!AW:AW,8) -> 0 | I144: =COUNTIF('0 - Rohdaten'!AX:AX,8) -> 7 | J144: =94-SUM(Tabelle18[[#This Row],[R1]:[R8]]) -> 81
A146: Relative Häufigkeiten | B146: Rang 1 | C146: Rang 2 | D146: Rang 3 | E146: Rang 4 | F146: Rang 5 | G146: Rang 6 | H146: Rang 7 | I146: Rang 8 | J146: nicht angegeben | K146: Summe
A147: Andere Gründe | B147: =B144/SUM($B144:$J144) -> 0.021276596 | C147: =C144/SUM($B144:$J144) -> 0 | D147: =D144/SUM($B144:$J144) -> 0 | E147: =E144/SUM($B144:$J144) -> 0.010638298 | F147: =F144/SUM($B144:$J144) -> 0.021276596 | G147: =G144/SUM($B144:$J144) -> 0.010638298 | H147: =H144/SUM($B144:$J144) -> 0 | I147: =I144/SUM($B144:$J144) -> 0.074468085 | J147: =J144/SUM($B144:$J144) -> 0.86170213 | K147: =SUM(Tabelle29[[#This Row],[Rang 1]:[nicht angegeben]]) -> 1
A148: Nicht Teil der Strategie | B148: =B142/SUM($B142:$J142) -> 0.095744681 | C148: =C142/SUM($B142:$J142) -> 0.021276596 | D148: =D142/SUM($B142:$J142) -> 0 | E148: =E142/SUM($B142:$J142) -> 0.053191489 | F148: =F142/SUM($B142:$J142) -> 0.042553191 | G148: =G142/SUM($B142:$J142) -> 0.042553191 | H148: =H142/SUM($B142:$J142) -> 0.053191489 | I148: =I142/SUM($B142:$J142) -> 0 | J148: =J142/SUM($B142:$J142) -> 0.69148936 | K148: =SUM(Tabelle29[[#This Row],[Rang 1]:[nicht angegeben]]) -> 1
A149: Unzureichende Fachkenntnisse und Kompetenzen | B149: =B140/SUM($B140:$J140) -> 0.021276596 | C149: =C140/SUM($B140:$J140) -> 0.042553191 | D149: =D140/SUM($B140:$J140) -> 0.11702128 | E149: =E140/SUM($B140:$J140) -> 0.074468085 | F149: =F140/SUM($B140:$J140) -> 0.085106383 | G149: =G140/SUM($B140:$J140) -> 0.021276596 | H149: =H140/SUM($B140:$J140) -> 0.053191489 | I149: =I140/SUM($B140:$J140) -> 0 | J149: =J140/SUM($B140:$J140) -> 0.58510638 | K149: =SUM(Tabelle29[[#This Row],[Rang 1]:[nicht angegeben]]) -> 1
A150: Keine Nachfrage von Forschenden | B150: =B141/SUM($B141:$J141) -> 0.074468085 | C150: =C141/SUM($B141:$J141) -> 0.021276596 | D150: =D141/SUM($B141:$J141) -> 0.12765957 | E150: =E141/SUM($B141:$J141) -> 0.10638298 | F150: =F141/SUM($B141:$J141) -> 0.063829787 | G150: =G141/SUM($B141:$J141) -> 0.053191489 | H150: =H141/SUM($B141:$J141) -> 0.042553191 | I150: =I141/SUM($B141:$J141) -> 0.010638298 | J150: =J141/SUM($B141:$J141) -> 0.5 | K150: =SUM(Tabelle29[[#This Row],[Rang 1]:[nicht angegeben]]) -> 1
A151: Fehlende technische Infrastruktur | B151: =B143/SUM($B143:$J143) -> 0.031914894 | C151: =C143/SUM($B143:$J143) -> 0.11702128 | D151: =D143/SUM($B143:$J143) -> 0.074468085 | E151: =E143/SUM($B143:$J143) -> 0.17021277 | F151: =F143/SUM($B143:$J143) -> 0.053191489 | G151: =G143/SUM($B143:$J143) -> 0.053191489 | H151: =H143/SUM($B143:$J143) -> 0.021276596 | I151: =I143/SUM($B143:$J143) -> 0 | J151: =J143/SUM($B143:$J143) -> 0.4787234 | K151: =SUM(Tabelle29[[#This Row],[Rang 1]:[nicht angegeben]]) -> 1
A152: Unzureichende finanzielle Mittel | B152: =B139/SUM($B139:$J139) -> 0.11702128 | C152: =C139/SUM($B139:$J139) -> 0.15957447 | D152: =D139/SUM($B139:$J139) -> 0.15957447 | E152: =E139/SUM($B139:$J139) -> 0.085106383 | F152: =F139/SUM($B139:$J139) -> 0.031914894 | G152: =G139/SUM($B139:$J139) -> 0.042553191 | H152: =H139/SUM($B139:$J139) -> 0.010638298 | I152: =I139/SUM($B139:$J139) -> 0 | J152: =J139/SUM($B139:$J139) -> 0.39361702 | K152: =SUM(Tabelle29[[#This Row],[Rang 1]:[nicht angegeben]]) -> 1
A153: Fehlende Zeit | B153: =B138/SUM($B138:$J138) -> 0.14893617 | C153: =C138/SUM($B138:$J138) -> 0.19148936 | D153: =D138/SUM($B138:$J138) -> 0.18085106 | E153: =E138/SUM($B138:$J138) -> 0.063829787 | F153: =F138/SUM($B138:$J138) -> 0.053191489 | G153: =G138/SUM($B138:$J138) -> 0 | H153: =H138/SUM($B138:$J138) -> 0 | I153: =I138/SUM($B138:$J138) -> 0 | J153: =J138/SUM($B138:$J138) -> 0.36170213 | K153: =SUM(Tabelle29[[#This Row],[Rang 1]:[nicht angegeben]]) -> 1
A154: Fehlendes Personal | B154: =B137/SUM($B137:$J137) -> 0.37234043 | C154: =C137/SUM($B137:$J137) -> 0.23404255 | D154: =D137/SUM($B137:$J137) -> 0.085106383 | E154: =E137/SUM($B137:$J137) -> 0.021276596 | F154: =F137/SUM($B137:$J137) -> 0.021276596 | G154: =G137/SUM($B137:$J137) -> 0.010638298 | H154: =H137/SUM($B137:$J137) -> 0.010638298 | I154: =I137/SUM($B137:$J137) -> 0 | J154: =J137/SUM($B137:$J137) -> 0.24468085 | K154: =SUM(Tabelle29[[#This Row],[Rang 1]:[nicht angegeben]]) -> 1
A156: Kumulierte relative Häufigkeiten | B156: Rang 1 | C156: Rang 2 | D156: Rang 3 | E156: Rang 4 | F156: Rang 5 | G156: Rang 6 | H156: Rang 7 | I156: Rang 8
A157: Andere Gründe | B157: =B154 -> 0.37234043 | C157: =B157+C154 -> 0.60638298 | D157: =C157+D154 -> 0.69148936 | E157: =D157+E154 -> 0.71276596 | F157: =E157+F154 -> 0.73404255 | G157: =F157+G154 -> 0.74468085 | H157: =G157+H154 -> 0.75531915 | I157: =H157+I154 -> 0.75531915
A158: Nicht Teil der Strategie | B158: =B153 -> 0.14893617 | C158: =B158+C153 -> 0.34042553 | D158: =C158+D153 -> 0.5212766 | E158: =D158+E153 -> 0.58510638 | F158: =E158+F153 -> 0.63829787 | G158: =F158+G153 -> 0.63829787 | H158: =G158+H153 -> 0.63829787 | I158: =H158+I153 -> 0.63829787
A159: Unzureichende Fachkenntnisse und Kompetenzen | B159: =B152 -> 0.11702128 | C159: =B159+C152 -> 0.27659574 | D159: =C159+D152 -> 0.43617021 | E159: =D159+E152 -> 0.5212766 | F159: =E159+F152 -> 0.55319149 | G159: =F159+G152 -> 0.59574468 | H159: =G159+H152 -> 0.60638298 | I159: =H159+I152 -> 0.60638298
A160: Keine Nachfrage von Forschenden | B160: =B151 -> 0.031914894 | C160: =B160+C151 -> 0.14893617 | D160: =C160+D151 -> 0.22340426 | E160: =D160+E151 -> 0.39361702 | F160: =E160+F151 -> 0.44680851 | G160: =F160+G151 -> 0.5 | H160: =G160+H151 -> 0.5212766 | I160: =H160+I151 -> 0.5212766
A161: Fehlende technische Infrastruktur | B161: =B150 -> 0.074468085 | C161: =B161+C150 -> 0.095744681 | D161: =C161+D150 -> 0.22340426 | E161: =D161+E150 -> 0.32978723 | F161: =E161+F150 -> 0.39361702 | G161: =F161+G150 -> 0.44680851 | H161: =G161+H150 -> 0.4893617 | I161: =H161+I150 -> 0.5
A162: Unzureichende finanzielle Mittel | B162: =B149 -> 0.021276596 | C162: =B162+C149 -> 0.063829787 | D162: =C162+D149 -> 0.18085106 | E162: =D162+E149 -> 0.25531915 | F162: =E162+F149 -> 0.34042553 | G162: =F162+G149 -> 0.36170213 | H162: =G162+H149 -> 0.41489362 | I162: =H162+I149 -> 0.41489362
A163: Fehlende Zeit | B163: =B148 -> 0.095744681 | C163: =B163+C148 -> 0.11702128 | D163: =C163+D148 -> 0.11702128 | E163: =D163+E148 -> 0.17021277 | F163: =E163+F148 -> 0.21276596 | G163: =F163+G148 -> 0.25531915 | H163: =G163+H148 -> 0.30851064 | I163: =H163+I148 -> 0.30851064
A164: Fehlendes Personal | B164: =B147 -> 0.021276596 | C164: =B164+C147 -> 0.021276596 | D164: =C164+D147 -> 0.021276596 | E164: =D164+E147 -> 0.031914894 | F164: =E164+F147 -> 0.053191489 | G164: =F164+G147 -> 0.063829787 | H164: =G164+H147 -> 0.063829787 | I164: =H164+I147 -> 0.13829787
A165: *nicht angegeben: Anzahl der Rankings ohne den jeweiligen Grund
A166: **Relative Häufigkeit bezieht sich auf die Rangverteilung pro Grund (Wert geteilt durch Summe aller Nennungen desselben Grunds)
A192: DQ07 - Optional: Welche weiteren Gründe sehen Sie für fehlende FDM-Dienste?
A193: *Wortliste der Freitextkommentare, N=23:
A194: Wir haben uns aber in einem regionalen Netzwerk zusammen geschlossen, um am Know-How und perspektivisch am Service von Partneruniversitäten partizipieren zu können.
A195: Diziplinäre Ausrichtung, FDM muss eine Balance zwischen fachspez. Beratung und generischen Angeboten finden. Aktuell sind wir nicht spezifisch genug - und gehen damit oft an den Bedürfnissen vorbei - Spezifik kostet aber Geld und Personal.
A196: Unsere *Einrichtung* vereint einerseits Richtungen wie Pflege, die eigene, fachspezifische FDM-Strukturen bereits kennen und anwenden, andererseits Fachbereiche wie Theater und Musik, für die FDM noch ein neues Thema ist.
A197: Lange Prozesse (meist beginnend mit einer Bedarfserhebung) mit Hinblick auf die Einigung auf bestimmte Dienste (z. B. welches ELN angeboten werden soll). Vielleicht ist das Forschungsdatenreferat auch noch nicht so prominent, dass tatsächlich von Forschenden Bedarfe herangetragen werden.
A198: Keine Dauerstellen, bisher nur (kleine) Stellenanteile bestehender Stellen.
A199: Es fehlt auf Seiten der Universität ein grundlegendes Commitment, das Management von Forschungsdaten als Element der Gedächtnisorganisation anzuerkennen. Auf Seiten der Forschenden wird in datengetriebenen Wissenschaftsfeldern FDM (oft in Eigenregie) praktiziert, die meisten Forschenden sehen dies als individuelle Aufgabe oder sehen sich selbst als solche, die das nicht betrifft.
A200: Schlechte organisationsübergreifende inneruniversitäre Kommunikation, keine klare Struktur hinsichtlich Strategie und Governance, fehlende Kompetenz an der Bibliothek.
A201: Sukzessiver Aufbau, um Forschende nicht zu überfrachten.
... A216: Es gibt wohl viele andere Themen. Wertschätzung des Themas fehlt.

Sheet 2 - Verantwortlichkeiten
A2: EQ01 - Seit wann werden an Ihrer Hochschule FDM-Dienste angeboten? | B2: Absolute Häufigkeit | C2: Relative Häufigkeit
A3: < 1 Jahr | B3: =COUNTIF('0 - Rohdaten'!AZ$2:AZ$95, 1) -> 4 | C3: =B3/SUM(B$3:B$7) -> 0.042553191
A4: 1 - 5 Jahre | B4: =COUNTIF('0 - Rohdaten'!AZ$2:AZ$95,5) -> 54 | C4: =B4/SUM(B$3:B$7) -> 0.57446809
A5: 6 - 10 Jahre | B5: =COUNTIF('0 - Rohdaten'!AZ$2:AZ$95,"6") -> 22 | C5: =B5/SUM(B$3:B$7) -> 0.23404255
A6: > 10 Jahre | B6: =COUNTIF('0 - Rohdaten'!AZ$2:AZ$95,"10") -> 2 | C6: =B6/SUM(B$3:B$7) -> 0.021276596
A7: Keine Antwort | B7: =94-SUM(B3:B6) -> 12 | C7: =B7/SUM(B$3:B$7) -> 0.12765957
A8: Gesamt | B8: =SUM(B3:B7) -> 94 | C8: =SUM(C3:C7) -> 1
A28: EQ02 - Welche Einrichtung(en) innerhalb Ihrer Hochschule bieten FDM-Dienstleistungen an? | B28: Absolute Häufigkeit | C28: Relative Häufigkeit | D28: keine antwort | F28: *bereinigte Wortliste der Freitextantworten "Sonstiges", N=6:
A29: keine Antwort | B29: 5 | C29: =B29/94 -> 0.053191489 | F29: Kommunikations- und Informationszentrum (Bibliothek, IT, Medien)
A30: Sonstiges | B30: =COUNTA('0 - Rohdaten'!BI2:BI95) -> 6 | C30: =B30/94 -> 0.063829787 | D30: - | F30: Überregionale Konsortien wie NFDI und DARIAH, CLARIAH
A31: Medienzentrum | B31: =COUNTIF('0 - Rohdaten'!BC$3:BC$95,"Ja") -> 7 | C31: =B31/94 -> 0.074468085 | D31: =COUNTIF('0 - Rohdaten'!BC$3:BC$95,"N/A") -> 5 | F31: Zentrale wissenschaftliche Einrichtungen
A32: Universitätsverwaltung | B32: =COUNTIF('0 - Rohdaten'!BD$3:BD$95,"Ja") -> 8 | C32: =B32/94 -> 0.085106383 | D32: =COUNTIF('0 - Rohdaten'!BD$3:BD$95,"N/A") -> 5 | F32: Rechtsabteilung
A33: Graduiertenzentrum | B33: =COUNTIF('0 - Rohdaten'!BG$3:BG$95,"Ja") -> 10 | C33: =B33/94 -> 0.10638298 | D33: =COUNTIF('0 - Rohdaten'!BG$3:BG$95,"N/A") -> 5 | F33: Gemeinsames Zentrum der genannten Einrichtungen
A34: Institut / Fachbereich | B34: =COUNTIF('0 - Rohdaten'!BE$3:BE$95,"Ja") -> 20 | C34: =B34/94 -> 0.21276596 | D34: =COUNTIF('0 - Rohdaten'!BE$3:BE$95,"N/A") -> 5 | F34: Service Provider sind in einem uniweiten Netzwerk organisiert, Data Stewards werden an allen Departementen ausgebildet
A35: Servicebereich Forschung / Forschungsförderung | B35: =COUNTIF('0 - Rohdaten'!BF$3:BF$95,"Ja") -> 28 | C35: =B35/94 -> 0.29787234 | D35: =COUNTIF('0 - Rohdaten'!BF$3:BF$95,"N/A") -> 5
A36: FDM-Büro, Exzellenzinitiativen | B36: =COUNTIF('0 - Rohdaten'!BH$3:BH$95,"Ja") -> 37 | C36: =B36/94 -> 0.39361702 | D36: =COUNTIF('0 - Rohdaten'!BH$3:BH$95,"N/A") -> 5
A37: IT-Zentrum / Rechenzentrum | B37: =COUNTIF('0 - Rohdaten'!BB$3:BB$95,"Ja") -> 61 | C37: =B37/94 -> 0.64893617 | D37: =COUNTIF('0 - Rohdaten'!BB$3:BB$95,"N/A") -> 5
A38: Bibliothek | B38: =COUNTIF('0 - Rohdaten'!BA$3:BA$95,"Ja") -> 70 | C38: =B38/94 -> 0.74468085 | D38: =COUNTIF('0 - Rohdaten'!BA$3:BA$95,"N/A") -> 5
A39: Gesamt | B39: =SUM(B30:B38) -> 247
A40: *Relative Häufigkeit aufsummiert nach TN, n=94
A41: **sonstiges siehe Wortliste EQ02
A60: EQ03 - Wie werden FDM-Veranstaltungen an Ihrer Hochschule geplant? | B60: Absolute Häufigkeit | C60: Relative Häufigkeit | E60: *bereinigte Wortliste der Freitextantworten "Sonstiges", N=6:
A61: keine Antwort | B61: 5 | C61: =tbl_EQ03[[#This Row],[Absolute Häufigkeit]]/94 -> 0.053191489 | E61: Im Partner-Netzwerk
A62: Sonstiges | B62: =COUNTA('0 - Rohdaten'!BO:BO) -> 7 | C62: =tbl_EQ03[[#This Row],[Absolute Häufigkeit]]/94 -> 0.074468085 | E62: Interne Weiterbildung
A63: Nach dem akademischen Kalender | B63: =COUNTIF('0 - Rohdaten'!BN$2:BN$95,"Ja") -> 22 | C63: =tbl_EQ03[[#This Row],[Absolute Häufigkeit]]/94 -> 0.23404255 | E63: In Planung
A64: In Verbindung mit anderen Ereignissen | B64: =COUNTIF('0 - Rohdaten'!BM$2:BM$95,"Ja") -> 34 | C64: =tbl_EQ03[[#This Row],[Absolute Häufigkeit]]/94 -> 0.36170213 | E64: In Zusammenarbeit mit anderen Institutionen
A65: In einem festen Rhythmus | B65: =COUNTIF('0 - Rohdaten'!BL$2:BL$95,"Ja") -> 41 | C65: =tbl_EQ03[[#This Row],[Absolute Häufigkeit]]/94 -> 0.43617021 | E65: FDM-Kurse sind Teil des Graduierten-Programms
A66: Entsprechend den Entscheidungen und Kapazitäten der FDM-Verantwortlichen | B66: =COUNTIF('0 - Rohdaten'!BK$2:BK$95,"Ja") -> 53 | C66: =tbl_EQ03[[#This Row],[Absolute Häufigkeit]]/94 -> 0.56382979 | E66: Im Rahmen des allgemeinen IK-Angebotes
A67: Auf Anfrage | B67: =COUNTIF('0 - Rohdaten'!BJ$2:BJ$95,"Ja") -> 64 | C67: =tbl_EQ03[[#This Row],[Absolute Häufigkeit]]/94 -> 0.68085106
A68: Gesamt | B68: =SUM(B62:B67) -> 221
A69: *Relative Häufigkeit aufsummiert nach TN, n=94
A70: **sonstiges siehe Wortliste EQ03
A88: EQ04 - Welche Arten der Kooperationen zwischen den FDM-dienstanbietenden Einrichtungen innerhalb Ihrer Hochschule gibt es? | B88: Absolute Häufigkeit | C88: Relative Häufigkeit | E88: *bereinigte Wortliste der Freitextantworten "Sonstiges", N=2:
A89: keine Antwort | B89: =COUNTIF('0 - Rohdaten'!BU$2:BU$95,"N/A") -> 5 | C89: =tbl_EQ04[[#This Row],[Absolute Häufigkeit]]/94 -> 0.053191489 | E89: Weekly des Netzwerks; bilateraler Austausch/Zusammenarbeit nach Bedarf
A90: Sonstiges | B90: =COUNTA('0 - Rohdaten'!BV:BV) -> 3 | C90: =tbl_EQ04[[#This Row],[Absolute Häufigkeit]]/94 -> 0.031914894 | E90: Personal der Einrichtungen bildet zusammen das zentrale FDM mit engster Zusammenarbeit
A91: Keine Kooperation | B91: =COUNTIF('0 - Rohdaten'!BU$2:BU$95,"Ja") -> 5 | C91: =tbl_EQ04[[#This Row],[Absolute Häufigkeit]]/94 -> 0.053191489
A92: Kooperationen im Verbund | B92: =COUNTIF('0 - Rohdaten'!BS$2:BS$95,"Ja") -> 22 | C92: =tbl_EQ04[[#This Row],[Absolute Häufigkeit]]/94 -> 0.23404255
A93: Kooperationen in einer Landesinitiative | B93: =COUNTIF('0 - Rohdaten'!BT$2:BT$95,"Ja") -> 44 | C93: =tbl_EQ04[[#This Row],[Absolute Häufigkeit]]/94 -> 0.46808511
A94: Veranstaltungen | B94: =COUNTIF('0 - Rohdaten'!BR$2:BR$95,"Ja") -> 45 | C94: =tbl_EQ04[[#This Row],[Absolute Häufigkeit]]/94 -> 0.4787234
A95: Regelmäßiger Austausch | B95: =COUNTIF('0 - Rohdaten'!BP$2:BP$95,"Ja") -> 55 | C95: =tbl_EQ04[[#This Row],[Absolute Häufigkeit]]/94 -> 0.58510638
A96: Bedarfsgerechter Austausch (Ad-hoc) | B96: =COUNTIF('0 - Rohdaten'!BQ$2:BQ$95,"Ja") -> 58 | C96: =tbl_EQ04[[#This Row],[Absolute Häufigkeit]]/94 -> 0.61702128
A97: Gesamt | B97: =SUM(B90:B96) -> 232
A98: *Relative Häufigkeit aufsummiert nach TN, n=94
A99: **sonstiges siehe Wortliste EQ04
A116: EQ05 - Wovon ist die strategische Entscheidung der anzubietenden Dienstleistungen abhängig?
A118: Absolute Häufigkeiten | B118: R1 | C118: R2 | D118: R3 | E118: R4 | F118: R5 | G118: R6 | H118: nicht angegeben
A119: 1 - Bottom-Up-Antworten auf Anfragen von Forschenden | B119: =COUNTIF('0 - Rohdaten'!CB:CB,1) -> 18 | C119: =COUNTIF('0 - Rohdaten'!CC:CC,1) -> 22 | D119: =COUNTIF('0 - Rohdaten'!CD:CD,1) -> 17 | E119: =COUNTIF('0 - Rohdaten'!CE:CE,1) -> 7 | F119: =COUNTIF('0 - Rohdaten'!CF:CF,1) -> 3 | G119: =COUNTIF('0 - Rohdaten'!CG:CG,1) -> 1 | H119: =94-SUM(Tabelle31[[#This Row],[R1]:[R6]]) -> 26
A120: 2 - Einzelne Initiativen als Teil des FDM-Dienstleistungsauftrags | B120: =COUNTIF('0 - Rohdaten'!CB:CB,2) -> 13 | C120: =COUNTIF('0 - Rohdaten'!CC:CC,2) -> 10 | D120: =COUNTIF('0 - Rohdaten'!CD:CD,2) -> 11 | E120: =COUNTIF('0 - Rohdaten'!CE:CE,2) -> 7 | F120: =COUNTIF('0 - Rohdaten'!CF:CF,2) -> 6 | G120: =COUNTIF('0 - Rohdaten'!CG:CG,2) -> 2 | H120: =94-SUM(Tabelle31[[#This Row],[R1]:[R6]]) -> 45
