{"text_format":"1","workbook":"xlsx","n_sheets":3,"sheets":["Gen_Average","Title","Calculator"],"not_rendered":{"charts":9,"images":0,"macros":1,"external_links":0,"defined_names":46,"comments":0,"pivot_tables":0},"unopened":[],"bounds":{"document_bytes":16777216,"sheet_cells":100000,"rows_first":2000,"rows_last":500,"rows_between":2000,"halvings":0,"cell_chars":16384,"cell_head_chars":4096},"cells_cut":0,"cells_raw":0,"read":"whole","date_system":"1900"}

{"sheet":"Gen_Average","index":0,"n_rows":289,"n_cols":17,"rows_kept":289,"cut":false,"hidden":true,"merged":[]}
["hour","month","P",null,null,"Average daily generation Wh/h per 5 kWp"]
["12:10:00",1,0,"00:00:00",null,"From: ","Wuebben & Peters, Communicating the Values and Benefits of Home Solar Prosumerism, Energies (2022) 15(2)",null,null,null,null,null,null,null,null,"https://doi.org/10.3390/en15020596"]
["01:09:00",1,0,"01:00:00"]
["02:10:00",1,0,"02:00:00"]
["03:10:00",1,0,"03:00:00"]
["04:09:00",1,0,"04:00:00"]
["05:10:00",1,0,"05:00:00"]
["06:10:00",1,0,"06:00:00"]
["07:09:00",1,0,"07:00:00"]
["08:10:00",1,551.13602000000003,"08:00:00"]
["09:10:00",1,1530.5476000000001,"09:00:00"]
["10:09:00",1,2126.2653,"10:00:00"]
["11:10:00",1,2524.3652999999999,"11:00:00"]
["12:10:00",1,2618.8476000000001,"12:00:00"]
["01:09:00",1,2522.5981000000002,"13:00:00"]
["02:10:00",1,2052.2817,"14:00:00"]
["03:10:00",1,1577.1416999999999,"15:00:00"]
["04:09:00",1,870.81773999999996,"16:00:00"]
["05:10:00",1,0.52392472999999995,"17:00:00"]
["06:10:00",1,0,"18:00:00"]
["07:09:00",1,0,"19:00:00"]
["08:10:00",1,0,"20:00:00"]
["09:10:00",1,0,"21:00:00"]
["10:09:00",1,0,"22:00:00",null,null,"Sources for PV generation data: "]
["11:10:00",1,0,"23:00:00",null,null,null,"PVGIS"]
["12:10:00",2,0,null,null,null,null,"Helioscope"]
["01:09:00",2,0]
["02:10:00",2,0]
["03:10:00",2,0]
["04:09:00",2,0]
["05:10:00",2,0]
["06:10:00",2,0,null,null,"P_ipol1","P_ipol2","P_ipol3","P_ipol4","P_ipol5","P_ipol6","P_ipol7","P_ipol8","P_ipol9","P_ipol10","P_ipol11","P_ipol12"]
["07:09:00",2,0.50705882000000002,null,1,0,0,0,0,0,0,0,0,0,0,0,0]
["08:10:00",2,927.42675999999994,null,2,0,0,0,0,0,0,0,0,0,0,0,0]
["09:10:00",2,1771.0929000000001,null,3,0,0,0,0,0,0,0,0,0,0,0,0]
["10:09:00",2,2442.0774000000001,null,4,0,0,0,0,0,0,0,0,0,0,0,0]
["11:10:00",2,2847.1768000000002,null,5,0,0,0,0,0.33171442000000001,7.2535496999999998,0.23560391999999999,0,0,0,0,0]
["12:10:00",2,2865.7503000000002,null,6,0,0,0,20.383531999999999,78.302559000000002,95.614242000000004,59.676631999999998,33.729239,4.9260264999999999,0,0,0]
["01:09:00",2,2804.4731999999999,null,7,0,0.17050394999999999,114.68979,295.87891999999999,472.31709999999998,488.08069999999998,412.24705999999998,348.19051999999999,268.89229999999998,159.41249999999999,3.3356857999999998,0]
["02:10:00",2,2478.8011999999999,null,8,187.63279,317.22032999999999,671.27612999999997,1041.7147,1279.9471000000001,1290.7032999999999,1220.3035,1170.0544,1084.9299000000001,770.56507999999997,319.64571000000001,221.76859999999999]
["03:10:00",2,1929.0968,null,9,877.48695999999995,1205.3232,1589.1883,1847.085,2092.3474999999999,2111.3353000000002,2107.2195999999999,2089.9195,1979.8402000000001,1634.1940999999999,1179.6554000000001,1010.6186]
["04:09:00",2,1227.6303,null,10,1719.7505000000001,1991.9439,2266.6891000000001,2477.4391000000001,2674.3778000000002,2756.5407,2803.5036,2841.6311999999998,2666.0500999999999,2339.1496000000002,1936.1320000000001,1930.6657]
["05:10:00",2,306.94618000000003,null,11,2249.6439999999998,2574.2046,2657.5677000000001,2885.4238999999998,3106.0648000000001,3145.6718000000001,3268.8706000000002,3346.1770000000001,3120.3310999999999,2792.9767999999999,2430.6104,2487.1257999999998]
["06:10:00",2,0,null,12,2550.2903000000001,2851.884,2827.3024999999998,3099.5763000000002,3308.2644,3346.4104000000002,3512.2285000000002,3581.2568000000001,3296.4295999999999,2993.1080999999999,2519.2784000000001,2761.0708]
["07:09:00",2,0,null,13,2584.7067000000002,2842.9731999999999,2819.1565999999998,3060.8620999999998,3233.1831000000002,3343.4899,3549.7334000000001,3599.5408000000002,3291.1968000000002,2914.6224999999999,2438.4591999999998,2703.6853999999998]
["08:10:00",2,0,null,14,2364.0603000000001,2698.4025000000001,2689.3334,2841.2141000000001,2986.6522,3102.6891999999998,3340.8081000000002,3373.1498000000001,3047.0866000000001,2542.2366999999999,2167.0713999999998,2431.6136000000001]
["09:10:00",2,0,null,15,1897.8969999999999,2314.9328999999998,2255.3108000000002,2399.4897000000001,2544.4931999999999,2719.1451999999999,2861.4459999999999,2883.8053,2555.7602999999999,2085.5145000000002,1726.9121,1926.4215999999999]
["10:09:00",2,0,null,16,1344.8065999999999,1709.8407,1725.7076999999999,1838.558,1913.7608,2122.8200999999999,2240.5403999999999,2228.5048999999999,1861.9386,1443.3027999999999,1054.0994000000001,1221.2878000000001]
["11:10:00",2,0,null,17,582.97538999999995,923.87093000000004,1014.4171,1108.7415000000001,1175.0501999999999,1349.5762,1437.6505999999999,1377.1095,1025.3083999999999,644.04228000000001,359.55306999999999,411.44859000000002]
["12:10:00",3,0,null,18,13.632409000000001,215.34123,359.90508999999997,422.51803000000001,504.97161999999997,591.21882000000005,609.31608000000006,538.80616999999995,302.01893999999999,71.740737999999993,6.5625257000000001,9.0429980000000008]
["01:09:00",3,0,null,19,8.3795799999999993E-3,4.6530886999999996,12.529369000000001,58.629050999999997,125.84972,169.68941000000001,136.22747000000001,92.011377999999993,17.514011,1.4416134,0,0]
["02:10:00",3,0,null,20,0,0,0.10645436,1.1771624000000001,6.6533448000000002,33.826390000000004,31.797186,2.2891903999999998,0.25700942999999998,0,0,0]
["03:10:00",3,0,null,21,0,0,0,0,8.8952840000000005E-2,0.75046360999999995,0.70089804,1.0191240000000001E-2,0,0,0,0]
["04:09:00",3,0,null,22,0,0,0,0,0,0,0,0,0,0,0,0]
["05:10:00",3,0,null,null,0,0,0,0,0,0,0,0,0,0,0,0]
["06:10:00",3,0,null,null,0,0,0,0,0,0,0,0,0,0,0,0]
["07:09:00",3,336.95564999999999]
["08:10:00",3,1333.5597]
["09:10:00",3,2127.4355]
["10:09:00",3,2571.7745]
["11:10:00",3,2844.3395]
["12:10:00",3,2806.9056]
["01:09:00",3,2841.0223000000001]
["02:10:00",3,2397.1930000000002]
["03:10:00",3,1960.4840999999999]
["04:09:00",3,1249.7505000000001]
["05:10:00",3,525.27338999999995]
["06:10:00",3,7.0067203999999998]
["07:09:00",3,0]
["08:10:00",3,0]
["09:10:00",3,0]
["10:09:00",3,0]
["11:10:00",3,0]
["12:10:00",4,0]
["01:09:00",4,0]
["02:10:00",4,0]
["03:10:00",4,0]
["04:09:00",4,0]
["05:10:00",4,0]
["06:10:00",4,70.551111000000006]
["07:09:00",4,790.91805999999997]
["08:10:00",4,1635.5891999999999]
["09:10:00",4,2340.0468999999998]
["10:09:00",4,2789.1097]
["11:10:00",4,3104.5241999999998]
["12:10:00",4,3117.1106]
["01:09:00",4,3030.4535999999998]
["02:10:00",4,2584.6786000000002]
["03:10:00",4,2104.5093999999999]
["04:09:00",4,1371.3743999999999]
["05:10:00",4,586.19443999999999]
["06:10:00",4,83.670277999999996]
["07:09:00",4,0]
["08:10:00",4,0]
["09:10:00",4,0]
["10:09:00",4,0]
["11:10:00",4,0]
["12:10:00",5,0]
["01:09:00",5,0]
["02:10:00",5,0]
["03:10:00",5,0]
["04:09:00",5,0]
["05:10:00",5,0.97661290000000001]
["06:10:00",5,216.36532]
["07:09:00",5,978.91183000000001]
["08:10:00",5,1898.4722999999999]
["09:10:00",5,2514.8375999999998]
["10:09:00",5,3006.8209999999999]
["11:10:00",5,3329.5196000000001]
["12:10:00",5,3304.2305999999999]
["01:09:00",5,3078.4875999999999]
["02:10:00",5,2721.2354999999998]
["03:10:00",5,2137.1846999999998]
["04:09:00",5,1410.4218000000001]
["05:10:00",5,662.56290000000001]
["06:10:00",5,176.90376000000001]
["07:09:00",5,5.8849461999999999]
["08:10:00",5,0]
["09:10:00",5,0]
["10:09:00",5,0]
["11:10:00",5,0]
["12:10:00",6,0]
["01:09:00",6,0]
["02:10:00",6,0]
["03:10:00",6,0]
["04:09:00",6,0]
["05:10:00",6,21.090278000000001]
["06:10:00",6,227.99666999999999]
["07:09:00",6,1003.5508]
["08:10:00",6,1882.4657999999999]
["09:10:00",6,2583.7280999999998]
["10:09:00",6,3073.1686]
["11:10:00",6,3313.7217000000001]
["12:10:00",6,3415.1569]
["01:09:00",6,3215.1106]
["02:10:00",6,2886.6221999999998]
["03:10:00",6,2347.4375]
["04:09:00",6,1627.8231000000001]
["05:10:00",6,765.54332999999997]
["06:10:00",6,219.40360999999999]
["07:09:00",6,46.718611000000003]
["08:10:00",6,0]
["09:10:00",6,0]
["10:09:00",6,0]
["11:10:00",6,0]
["12:10:00",7,0]
["01:09:00",7,0]
["02:10:00",7,0]
["03:10:00",7,0]
["04:09:00",7,0]
["05:10:00",7,0.67016129000000002]
["06:10:00",7,159.22418999999999]
["07:09:00",7,909.34650999999997]
["08:10:00",7,1856.9867999999999]
["09:10:00",7,2628.7768999999998]
["10:09:00",7,3170.8042999999998]
["11:10:00",7,3489.3184999999999]
["12:10:00",7,3590.3753000000002]
["01:09:00",7,3496.9785000000002]
["02:10:00",7,3053.8416999999999]
["03:10:00",7,2485.7053999999998]
["04:09:00",7,1731.4452000000001]
["05:10:00",7,825.21909000000005]
["06:10:00",7,165.93172000000001]
["07:09:00",7,43.171236999999998]
["08:10:00",7,0]
["09:10:00",7,0]
["10:09:00",7,0]
["11:10:00",7,0]
["12:10:00",8,0]
["01:09:00",8,0]
["02:10:00",8,0]
["03:10:00",8,0]
["04:09:00",8,0]
["05:10:00",8,0]
["06:10:00",8,90.993817000000007]
["07:09:00",8,851.02230999999995]
["08:10:00",8,1820.5481]
["09:10:00",8,2633.5315000000001]
["10:09:00",8,3252.3400999999999]
["11:10:00",8,3548.6550999999999]
["12:10:00",8,3622.6556]
["01:09:00",8,3504.9940999999999]
["02:10:00",8,3069.8402999999998]
["03:10:00",8,2469.2444]
["04:09:00",8,1671.2978000000001]
["05:10:00",8,731.48172]
["06:10:00",8,123.52016]
["07:09:00",8,0.69946237]
["08:10:00",8,0]
["09:10:00",8,0]
["10:09:00",8,0]
["11:10:00",8,0]
["12:10:00",9,0]
["01:09:00",9,0]
["02:10:00",9,0]
["03:10:00",9,0]
["04:09:00",9,0]
["05:10:00",9,0]
["06:10:00",9,13.285278]
["07:09:00",9,763.46194000000003]
["08:10:00",9,1739.7828]
["09:10:00",9,2488.4124999999999]
["10:09:00",9,3043.4227999999998]
["11:10:00",9,3290.3008]
["12:10:00",9,3378.6660999999999]
["01:09:00",9,3212.1963999999998]
["02:10:00",9,2796.9703]
["03:10:00",9,2155.6369]
["04:09:00",9,1322.7625]
["05:10:00",9,444.04556000000002]
["06:10:00",9,19.229721999999999]
["07:09:00",9,0]
["08:10:00",9,0]
["09:10:00",9,0]
["10:09:00",9,0]
["11:10:00",9,0]
["12:10:00",10,0]
["01:09:00",10,0]
["02:10:00",10,0]
["03:10:00",10,0]
["04:09:00",10,0]
["05:10:00",10,0]
["06:10:00",10,0]
["07:09:00",10,476.65591000000001]
["08:10:00",10,1384.8543]
["09:10:00",10,2188.5645]
["10:09:00",10,2718.5137]
["11:10:00",10,3012.857]
["12:10:00",10,3087.1091000000001]
["01:09:00",10,2733.3694]
["02:10:00",10,2316.8386999999998]
["03:10:00",10,1744.979]
["04:09:00",10,938.28790000000004]
["05:10:00",10,101.85296]
["06:10:00",10,0]
["07:09:00",10,0]
["08:10:00",10,0]
["09:10:00",10,0]
["10:09:00",10,0]
["11:10:00",10,0]
["12:10:00",11,0]
["01:09:00",11,0]
["02:10:00",11,0]
["03:10:00",11,0]
["04:09:00",11,0]
["05:10:00",11,0]
["06:10:00",11,0]
["07:09:00",11,11.398332999999999]
["08:10:00",11,939.43305999999995]
["09:10:00",11,1692.6383000000001]
["10:09:00",11,2348.9549999999999]
["11:10:00",11,2499.2013999999999]
["12:10:00",11,2497.0171999999998]
["01:09:00",11,2275.2192]
["02:10:00",11,1944.1656]
["03:10:00",11,1308.9772]
["04:09:00",11,550.66971999999998]
["05:10:00",11,0]
["06:10:00",11,0]
["07:09:00",11,0]
["08:10:00",11,0]
["09:10:00",11,0]
["10:09:00",11,0]
["11:10:00",11,0]
["12:10:00",12,0]
["01:09:00",12,0]
["02:10:00",12,0]
["03:10:00",12,0]
["04:09:00",12,0]
["05:10:00",12,0]
["06:10:00",12,0]
["07:09:00",12,0]
["08:10:00",12,652.34973000000002]
["09:10:00",12,1738.3688]
["10:09:00",12,2353.0691000000002]
["11:10:00",12,2775.1417000000001]
["12:10:00",12,2769.3339000000001]
["01:09:00",12,2590.9922000000001]
["02:10:00",12,2122.4987000000001]
["03:10:00",12,1526.1946]
["04:09:00",12,598.68253000000004]
["05:10:00",12,0]
["06:10:00",12,0]
["07:09:00",12,0]
["08:10:00",12,0]
["09:10:00",12,0]
["10:09:00",12,0]
["11:10:00",12,0]

{"sheet":"Title","index":1,"n_rows":14,"n_cols":2,"rows_kept":14,"cut":false,"hidden":false,"merged":[]}
[]
[null,"SUPPLEMENTARY INFORMATION S2"]
[]
[null,"Hourly marginal electricity mixes and their relevance for assessing the environmental performance of installations with variable load or power "]
[]
[null,"Jens F. Peters1,2, Diego Iribarren2, Pedro Juez Martel3, Mercedes Burguillo1"]
[]
[null,"1 University of Alcalá (UAH), Department of Economics, Alcalá de Henares, Madrid, Spain"]
[null,"2 Systems Analysis Unit, IMDEA Energy, Móstoles, Spain"]
[null,"3 Department of Applied Economics, Universidad Nacional de Educación a Distancia, Madrid, Spain"]
[]
[]
[null,"This calculation sheet contains the calculation of the benefit of a PV installation in Central Spain applying the hourla average and marginal impacts of the grid electricity"]
[null,"The PV generation profile can be modified for assessing other installations with dynamic load profiles"]

{"sheet":"Calculator","index":2,"n_rows":379,"n_cols":64,"rows_kept":379,"cut":false,"hidden":false,"merged":[[95,18,102,18],[114,18,117,18],[118,19,119,19],[120,19,121,19],[122,19,123,19],[103,18,110,18],[61,33,61,44],[61,50,61,61],[61,16,61,27],[1,0,1,11],[1,50,1,61],[31,50,31,61],[31,16,31,27],[31,33,31,44],[1,33,1,44],[1,16,1,27],[351,16,351,27],[351,33,351,44],[198,16,198,27],[198,33,198,44],[228,16,228,27],[228,33,228,44],[290,16,290,27],[290,33,290,44],[258,16,258,27],[258,33,258,44],[320,16,320,27],[320,33,320,44],[133,16,133,27],[133,33,133,44],[163,33,163,44],[163,16,163,27],[118,18,125,18],[124,19,125,19]]}
[{"$f":"CONCATENATE(\"PV gen. - \",A3)","v":"PV gen. - Jan"},{"$f":"CONCATENATE(\"PV gen. - \",B3)","v":"PV gen. - Feb"},"PV gen. - Mar","PV gen. - Apr","PV gen. - May","PV gen. - Jun","PV gen. - Jul","PV gen. - Aug","PV gen. - Sep","PV gen. - Oct","PV gen. - Nov","PV gen. - Dec",null,null,null,null,31,28,31,30,31,30,31,31,30,31,30,31,{"$f":"SUM(Q1:AB1)","v":365},null,null,null,null,{"$f":"Q1","v":31},{"$f":"R1","v":28},31,30,31,30,31,31,30,31,30,31,{"$f":"SUM(AH1:AS1)","v":365},null,null,null,null,{"$f":"AH1","v":31},{"$f":"AI1","v":28},31,30,31,30,31,31,30,31,30,31,{"$f":"SUM(AY1:BJ1)","v":365}]
[{"$f":"CONCATENATE(\"Generation for \",ROUND(M36,2),\" kWp PV rooftop at optimal inclination\")","v":"Generation for 1 kWp PV rooftop at optimal inclination"},null,null,null,null,null,null,null,null,null,null,null,null,null,"Figure4","TIER 1","Hourly emissions [gCO2eq/kWh] - average mix",null,null,null,null,null,null,null,null,null,null,null,"average emissions [gCO2eq/kWh]",null,null,"Figure6","TIER 2","Hourly marginal emissions [gCO2eq/kWh]",null,null,null,null,null,null,null,null,null,null,null,"marginal emissions (gCO2eq/kWh)",null,null,null,"TIER 1","Hourly emissions [kgCO2/kWh] - average values from 2021  - using REE CO2 intensity acc. To REE data"]
["Jan","Feb","Mar","Apr","May","Jun","Jul","Aug","Sep","Oct","Nov","Dec",null,null,null,"hour","Jan","Feb","Mar","Apr","May","Jun","Jul","Aug","Sep","Oct","Nov","Dec",null,null,null,null,"hour",{"$f":"Q3","v":"Jan"},{"$f":"R3","v":"Feb"},"Mar","Apr","May","Jun","Jul","Aug","Sep","Oct","Nov","Dec",null,null,null,null,"hour","Jan","Feb","Mrz","Apr","Mai","Jun","Jul","Aug","Sep","Okt","Nov","Dec"]
[{"$f":"Gen_Average!F33/5*$M$36","v":0},{"$f":"Gen_Average!G33/5*$M$36","v":0},{"$f":"Gen_Average!H33/5*$M$36","v":0},{"$f":"Gen_Average!I33/5*$M$36","v":0},{"$f":"Gen_Average!J33/5*$M$36","v":0},{"$f":"Gen_Average!K33/5*$M$36","v":0},{"$f":"Gen_Average!L33/5*$M$36","v":0},{"$f":"Gen_Average!M33/5*$M$36","v":0},{"$f":"Gen_Average!N33/5*$M$36","v":0},{"$f":"Gen_Average!O33/5*$M$36","v":0},{"$f":"Gen_Average!P33/5*$M$36","v":0},{"$f":"Gen_Average!Q33/5*$M$36","v":0},null,null,null,"00:00:00",134.37181248312615,95.690060852131168,119.95955058337513,152.87731554047426,151.36080214826214,177.03955764662368,154.07285994100673,164.64624314748227,201.49567945164171,202.87293975019344,213.76606448053442,192.7582620015821,null,null,null,null,{"$f":"P4","v":"00:00:00"},291.16082992468296,247.26050630817483,171.32376049303747,259.08063291993705,221.33882101027078,267.20853760882477,237.95160101399469,239.30991524923593,324.83799334521734,326.6784232979681,325.14679256000949,351.3417086589393,null,null,null,null,"00:00:00",91.645238709677457,62.874935714285719,76.919890322580642,106.4069033333333,100.50055483870969,123.39692666666666,105.02109354838707,115.84038387096777,143.29152333333332,144.15166451612902,157.48500666666664,141.8676741935484]
[{"$f":"Gen_Average!F34/5*$M$36","v":0},{"$f":"Gen_Average!G34/5*$M$36","v":0},{"$f":"Gen_Average!H34/5*$M$36","v":0},{"$f":"Gen_Average!I34/5*$M$36","v":0},{"$f":"Gen_Average!J34/5*$M$36","v":0},{"$f":"Gen_Average!K34/5*$M$36","v":0},{"$f":"Gen_Average!L34/5*$M$36","v":0},{"$f":"Gen_Average!M34/5*$M$36","v":0},{"$f":"Gen_Average!N34/5*$M$36","v":0},{"$f":"Gen_Average!O34/5*$M$36","v":0},{"$f":"Gen_Average!P34/5*$M$36","v":0},{"$f":"Gen_Average!Q34/5*$M$36","v":0},null,null,null,"01:00:00",132.91455875208914,96.523536248038369,123.23137936868446,153.17398569907482,151.90385884013602,179.59265864724662,153.80811938693819,167.29751130170487,200.8975705178523,200.89830295655844,212.67030830158299,191.18068451204581,null,null,null,null,{"$f":"P5","v":"01:00:00"},245.16647030323927,189.77342189626117,195.68737055599783,193.53550377254592,224.59912894247839,240.19280850506314,246.47606405399657,249.17433901503512,294.01600056699738,380.59251290516289,325.55639864504246,341.49901277675292,null,null,null,null,"01:00:00",92.230135483870981,65.584796428571423,80.262464516129029,108.08617666666663,103.46525161290324,126.43904666666667,105.58321612903227,119.93868387096775,144.08455000000001,142.94484193548388,158.35433333333333,141.4843290322581]
[{"$f":"Gen_Average!F35/5*$M$36","v":0},{"$f":"Gen_Average!G35/5*$M$36","v":0},{"$f":"Gen_Average!H35/5*$M$36","v":0},{"$f":"Gen_Average!I35/5*$M$36","v":0},{"$f":"Gen_Average!J35/5*$M$36","v":0},{"$f":"Gen_Average!K35/5*$M$36","v":0},{"$f":"Gen_Average!L35/5*$M$36","v":0},{"$f":"Gen_Average!M35/5*$M$36","v":0},{"$f":"Gen_Average!N35/5*$M$36","v":0},{"$f":"Gen_Average!O35/5*$M$36","v":0},{"$f":"Gen_Average!P35/5*$M$36","v":0},{"$f":"Gen_Average!Q35/5*$M$36","v":0},null,null,null,"02:00:00",132.82745001430504,97.401080183003373,124.46939873915515,155.13592726616028,151.73632107296021,183.56387007389759,153.64456165118764,167.16244228072082,200.68874613912971,199.14143566639953,213.47028179713735,191.28927515266432,null,null,null,null,"02:00:00",226.39110428313606,237.73814877419849,166.07156636893706,210.37056551133745,230.0733987094475,259.23419551863947,237.69939400764477,262.41720169798793,260.40101001379213,338.99473330958216,295.37392841893512,333.00654398245831,null,null,null,null,"02:00:00",93.843535483870966,67.714185714285705,81.963086666666698,110.56208000000002,104.28616774193549,129.0636633333333,105.81842580645163,121.39451612903225,145.0273966666667,142.51104687500001,161.20860666666664,143.94561612903226]
[{"$f":"Gen_Average!F36/5*$M$36","v":0},{"$f":"Gen_Average!G36/5*$M$36","v":0},{"$f":"Gen_Average!H36/5*$M$36","v":0},{"$f":"Gen_Average!I36/5*$M$36","v":0},{"$f":"Gen_Average!J36/5*$M$36","v":0},{"$f":"Gen_Average!K36/5*$M$36","v":0},{"$f":"Gen_Average!L36/5*$M$36","v":0},{"$f":"Gen_Average!M36/5*$M$36","v":0},{"$f":"Gen_Average!N36/5*$M$36","v":0},{"$f":"Gen_Average!O36/5*$M$36","v":0},{"$f":"Gen_Average!P36/5*$M$36","v":0},{"$f":"Gen_Average!Q36/5*$M$36","v":0},null,null,null,"03:00:00",132.19388524180687,98.824401714934055,125.60227706281921,155.8741993414888,151.98266499899148,184.02871548170617,154.57623416524459,167.30113662432944,201.81455793806055,202.88917050534423,212.01407989197148,191.06512074363721,null,null,null,null,"03:00:00",297.25142845726504,251.72414817363574,254.38613935000546,250.03614193159015,240.63501839371412,265.02928682253258,324.00297720024213,273.50585559080497,231.85461267858005,364.14577079539754,334.98960086804499,377.70823654000117,null,null,null,null,"03:00:00",94.358777419354865,69.1337607142857,83.897041935483855,110.67939333333331,105.09845806451614,129.01235333333332,106.39676451612905,121.93689677419351,146.22600666666668,145.70930322580642,162.08304333333328,144.15514838709677]
[{"$f":"Gen_Average!F37/5*$M$36","v":0},{"$f":"Gen_Average!G37/5*$M$36","v":0},{"$f":"Gen_Average!H37/5*$M$36","v":0},{"$f":"Gen_Average!I37/5*$M$36","v":0},{"$f":"Gen_Average!J37/5*$M$36","v":6.6342884000000005E-2},{"$f":"Gen_Average!K37/5*$M$36","v":1.4507099399999999},{"$f":"Gen_Average!L37/5*$M$36","v":4.7120783999999999E-2},{"$f":"Gen_Average!M37/5*$M$36","v":0},{"$f":"Gen_Average!N37/5*$M$36","v":0},{"$f":"Gen_Average!O37/5*$M$36","v":0},{"$f":"Gen_Average!P37/5*$M$36","v":0},{"$f":"Gen_Average!Q37/5*$M$36","v":0},null,null,null,"04:00:00",132.85036407366542,99.674410203721322,126.16109957040675,156.78907171559351,153.95623683081212,186.18449741919832,157.86623313990495,169.99779141564011,204.09850264837164,204.23746275766388,212.84294518864644,190.97911817135085,null,null,null,null,"04:00:00",285.79043788457886,197.27590112984288,265.06264014373949,256.90242714753771,361.67628943310444,282.34888568787022,233.71508785342829,246.95118980590803,249.87242865033505,397.39979785655197,422.62037570885724,422.47333145088999,null,null,null,null,"04:00:00",95.807412903225824,70.021621428571436,84.018435483870988,111.16793999999999,106.88254516129031,130.18783333333334,108.64054838709677,123.47414193548386,147.85455666666667,146.18074193548387,162.48316333333329,144.40424193548387]
[{"$f":"Gen_Average!F38/5*$M$36","v":0},{"$f":"Gen_Average!G38/5*$M$36","v":0},{"$f":"Gen_Average!H38/5*$M$36","v":0},{"$f":"Gen_Average!I38/5*$M$36","v":4.0767064},{"$f":"Gen_Average!J38/5*$M$36","v":15.6605118},{"$f":"Gen_Average!K38/5*$M$36","v":19.122848400000002},{"$f":"Gen_Average!L38/5*$M$36","v":11.935326399999999},{"$f":"Gen_Average!M38/5*$M$36","v":6.7458477999999999},{"$f":"Gen_Average!N38/5*$M$36","v":0.98520529999999995},{"$f":"Gen_Average!O38/5*$M$36","v":0},{"$f":"Gen_Average!P38/5*$M$36","v":0},{"$f":"Gen_Average!Q38/5*$M$36","v":0},null,null,null,"05:00:00",133.91824592823983,99.25977091284264,128.69960063310424,158.63796353620879,156.00563947942771,188.20336072118573,161.80012035453933,172.93934282270996,206.88428857957706,206.62363298074746,217.00522446317828,193.0395058118072,null,null,null,null,"05:00:00",331.20317685033478,248.92710854585522,257.94594451497329,300.75837988501326,324.08923456908758,306.57848377554228,292.43397724125401,270.55837103118603,333.78139905428799,409.78690275255946,384.23653835962421,418.33416151609265,null,null,null,null,"05:00:00",95.682048387096771,69.043482142857144,84.823506451612886,112.99043999999998,107.88626129032258,131.5817466666667,111.21417741935483,124.66728709677417,148.82965999999996,148.00338064516131,164.20616666666669,145.94880322580644]
[{"$f":"Gen_Average!F39/5*$M$36","v":0},{"$f":"Gen_Average!G39/5*$M$36","v":3.4100789999999999E-2},{"$f":"Gen_Average!H39/5*$M$36","v":22.937958000000002},{"$f":"Gen_Average!I39/5*$M$36","v":59.175784},{"$f":"Gen_Average!J39/5*$M$36","v":94.463419999999999},{"$f":"Gen_Average!K39/5*$M$36","v":97.616140000000001},{"$f":"Gen_Average!L39/5*$M$36","v":82.449411999999995},{"$f":"Gen_Average!M39/5*$M$36","v":69.638103999999998},{"$f":"Gen_Average!N39/5*$M$36","v":53.778459999999995},{"$f":"Gen_Average!O39/5*$M$36","v":31.8825},{"$f":"Gen_Average!P39/5*$M$36","v":0.66713716000000001},{"$f":"Gen_Average!Q39/5*$M$36","v":0},null,null,null,"06:00:00",136.04639144513271,99.448066383938013,130.99412543701376,167.27991203040949,161.62904951709623,194.06099203664155,169.08125556839843,174.97526216750248,212.09645568733336,211.86120155268631,223.13690256900247,194.57603235952953,null,null,null,null,"06:00:00",247.41665162292225,230.08657316150908,173.6501414585677,307.98552138304154,294.27261099686524,286.3691065870575,277.16024884238504,243.80570822408225,263.4890203493855,310.36317331997657,336.04710259692416,352.19626583566111,null,null,null,null,"06:00:00",94.78198387096775,66.781514285714294,84.847248387096769,116.98296999999999,108.32644838709676,133.48037333333332,114.59887419354835,123.96678387096779,149.86557666666667,148.32618064516129,168.33269333333334,145.96601612903223]
[{"$f":"Gen_Average!F40/5*$M$36","v":37.526558000000001},{"$f":"Gen_Average!G40/5*$M$36","v":63.444065999999999},{"$f":"Gen_Average!H40/5*$M$36","v":134.25522599999999},{"$f":"Gen_Average!I40/5*$M$36","v":208.34294},{"$f":"Gen_Average!J40/5*$M$36","v":255.98942000000002},{"$f":"Gen_Average!K40/5*$M$36","v":258.14065999999997},{"$f":"Gen_Average!L40/5*$M$36","v":244.0607},{"$f":"Gen_Average!M40/5*$M$36","v":234.01087999999999},{"$f":"Gen_Average!N40/5*$M$36","v":216.98598000000001},{"$f":"Gen_Average!O40/5*$M$36","v":154.11301599999999},{"$f":"Gen_Average!P40/5*$M$36","v":63.929141999999999},{"$f":"Gen_Average!Q40/5*$M$36","v":44.353719999999996},null,null,null,"07:00:00",140.16753384451198,101.3673403133288,129.15794957514737,169.6911434716877,161.08244094414144,193.07037565878119,173.30296960728666,177.60993553572641,215.57820387072582,208.12394172719684,223.85220174210474,194.93071235361575,null,null,null,null,"07:00:00",278.2986481611357,293.89941800751456,212.40843240068969,278.91876757900343,280.99205872813297,264.34712947552316,292.13634139786558,242.56705045513081,297.9487383665533,268.85266906665851,353.08208309160983,297.26514031662572,null,null,null,null,"07:00:00",96.194851612903278,65.707657142857158,82.801170967741953,117.88816666666666,106.60886129032258,132.02521333333334,116.15020967741933,123.61944516129032,151.36644333333334,143.88488387096777,167.20002333333332,144.81505483870973]
[{"$f":"Gen_Average!F41/5*$M$36","v":175.49739199999999},{"$f":"Gen_Average!G41/5*$M$36","v":241.06464},{"$f":"Gen_Average!H41/5*$M$36","v":317.83766000000003},{"$f":"Gen_Average!I41/5*$M$36","v":369.41700000000003},{"$f":"Gen_Average!J41/5*$M$36","v":418.46949999999998},{"$f":"Gen_Average!K41/5*$M$36","v":422.26706000000001},{"$f":"Gen_Average!L41/5*$M$36","v":421.44391999999999},{"$f":"Gen_Average!M41/5*$M$36","v":417.98390000000001},{"$f":"Gen_Average!N41/5*$M$36","v":395.96804000000003},{"$f":"Gen_Average!O41/5*$M$36","v":326.83882},{"$f":"Gen_Average!P41/5*$M$36","v":235.93108000000001},{"$f":"Gen_Average!Q41/5*$M$36","v":202.12371999999999},null,null,null,"08:00:00",138.49233658270111,101.76195340894876,125.62256275836371,166.61088456555714,154.43044350998724,185.56366573976712,166.49086793647635,171.14208836122941,215.80721240092402,207.15670429643734,222.58548443847118,194.6082538828274,null,null,null,null,"08:00:00",245.902202267566,259.52416670717844,258.90538337810784,272.81472545486389,258.79654334406104,184.51972793492888,202.69790511594744,215.35369826718969,314.34054287788217,282.31083081435298,300.14814834428029,264.01371641561951,null,null,null,null,"08:00:00",94.535683870967745,63.662807142857147,78.850370967741952,114.03573666666665,100.01944516129031,125.69078666666664,112.13245161290324,117.51850967741933,151.00154000000001,141.76384838709677,165.57416000000006,143.52385806451611]
[{"$f":"Gen_Average!F42/5*$M$36","v":343.95010000000002},{"$f":"Gen_Average!G42/5*$M$36","v":398.38878},{"$f":"Gen_Average!H42/5*$M$36","v":453.33782000000002},{"$f":"Gen_Average!I42/5*$M$36","v":495.48782},{"$f":"Gen_Average!J42/5*$M$36","v":534.87556000000006},{"$f":"Gen_Average!K42/5*$M$36","v":551.30813999999998},{"$f":"Gen_Average!L42/5*$M$36","v":560.70072000000005},{"$f":"Gen_Average!M42/5*$M$36","v":568.32623999999998},{"$f":"Gen_Average!N42/5*$M$36","v":533.21001999999999},{"$f":"Gen_Average!O42/5*$M$36","v":467.82992000000002},{"$f":"Gen_Average!P42/5*$M$36","v":387.22640000000001},{"$f":"Gen_Average!Q42/5*$M$36","v":386.13314000000003},null,null,null,"09:00:00",135.70419854076823,99.881602167081027,122.4425375474494,161.6740651698573,146.85906191057092,178.02631682946557,158.5303363152602,160.81808629510294,204.79801881216005,199.45492511915222,215.4352622665715,190.03260707789684,null,null,null,null,"09:00:00",181.5553611024082,257.62671124787431,295.20606291966101,319.69214667995828,535.28410255143012,379.71774493947254,493.60578930204247,277.12298634449041,230.52070117889383,347.34535469306502,332.30781078600774,280.46526878717611,null,null,null,null,"09:00:00",90.719954838709697,59.796510714285709,73.689435483870966,107.91516000000003,91.625132258064568,117.50271666666666,103.51458064516129,107.01089677419355,141.89654333333334,135.66358064516129,157.90839333333335,138.60399032258067]
[{"$f":"Gen_Average!F43/5*$M$36","v":449.92879999999997},{"$f":"Gen_Average!G43/5*$M$36","v":514.84091999999998},{"$f":"Gen_Average!H43/5*$M$36","v":531.51354000000003},{"$f":"Gen_Average!I43/5*$M$36","v":577.08477999999991},{"$f":"Gen_Average!J43/5*$M$36","v":621.21296000000007},{"$f":"Gen_Average!K43/5*$M$36","v":629.13436000000002},{"$f":"Gen_Average!L43/5*$M$36","v":653.77412000000004},{"$f":"Gen_Average!M43/5*$M$36","v":669.23540000000003},{"$f":"Gen_Average!N43/5*$M$36","v":624.06621999999993},{"$f":"Gen_Average!O43/5*$M$36","v":558.59536000000003},{"$f":"Gen_Average!P43/5*$M$36","v":486.12207999999998},{"$f":"Gen_Average!Q43/5*$M$36","v":497.42515999999995},null,null,null,"10:00:00",132.94784934381244,96.695626854008381,117.8813745587351,158.39365784173725,138.11891504992528,170.63307783030413,150.73398566780193,151.16097313425971,188.38995334703543,187.06435019652923,206.77295923349075,185.73565850098194,null,null,null,null,"10:00:00",389.31236084450524,295.2453627526308,409.77384282791633,479.693924662222,515.11160342545577,464.5503397557344,379.4487860186988,400.62600596361472,286.43456254649914,391.66012110081454,367.65526343871625,397.65699177117489,null,null,null,null,"10:00:00",85.572699999999998,55.843428571428582,68.666170967741934,103.45159333333334,83.778635483870957,110.69957666666667,95.924074193548378,98.053877419354848,127.71151333333333,125.09389677419355,149.38322333333335,132.48536774193548]
[{"$f":"Gen_Average!F44/5*$M$36","v":510.05806000000001},{"$f":"Gen_Average!G44/5*$M$36","v":570.3768},{"$f":"Gen_Average!H44/5*$M$36","v":565.46049999999991},{"$f":"Gen_Average!I44/5*$M$36","v":619.91525999999999},{"$f":"Gen_Average!J44/5*$M$36","v":661.65287999999998},{"$f":"Gen_Average!K44/5*$M$36","v":669.28208000000006},{"$f":"Gen_Average!L44/5*$M$36","v":702.44569999999999},{"$f":"Gen_Average!M44/5*$M$36","v":716.25135999999998},{"$f":"Gen_Average!N44/5*$M$36","v":659.28592000000003},{"$f":"Gen_Average!O44/5*$M$36","v":598.62162000000001},{"$f":"Gen_Average!P44/5*$M$36","v":503.85568000000001},{"$f":"Gen_Average!Q44/5*$M$36","v":552.21415999999999},null,null,null,"11:00:00",131.65352316608437,93.771187864460302,115.96605927372534,155.0280420483827,134.84170727360043,167.16943267524684,146.31949285020306,146.47224461619632,180.28112237587095,177.6001706311167,201.41297757715759,183.0468982403282,null,null,null,null,"11:00:00",362.0272863830574,318.31041960905765,303.58127890895071,434.24663084056857,425.00247098130671,513.4791071246766,332.09422885048298,308.89329239182041,277.75168673464276,430.92694355263075,375.91709390302753,251.98456824977498,null,null,null,null,"11:00:00",84.542609677419364,52.953589285714301,66.922619354838716,99.832080000000019,81.709758064516123,107.50854333333332,92.355732258064506,94.274961290322565,121.00816999999998,118.22193548387094,145.04360666666662,130.84867419354842]
[{"$f":"Gen_Average!F45/5*$M$36","v":516.94134000000008},{"$f":"Gen_Average!G45/5*$M$36","v":568.59464000000003},{"$f":"Gen_Average!H45/5*$M$36","v":563.83132000000001},{"$f":"Gen_Average!I45/5*$M$36","v":612.17241999999999},{"$f":"Gen_Average!J45/5*$M$36","v":646.63661999999999},{"$f":"Gen_Average!K45/5*$M$36","v":668.69798000000003},{"$f":"Gen_Average!L45/5*$M$36","v":709.94668000000001},{"$f":"Gen_Average!M45/5*$M$36","v":719.90816000000007},{"$f":"Gen_Average!N45/5*$M$36","v":658.23936000000003},{"$f":"Gen_Average!O45/5*$M$36","v":582.92449999999997},{"$f":"Gen_Average!P45/5*$M$36","v":487.69183999999996},{"$f":"Gen_Average!Q45/5*$M$36","v":540.73707999999999},null,null,null,"12:00:00",130.02776948498857,91.849184060850021,114.69491518222713,152.44366980834121,132.14322715466963,163.63232595996502,142.49387340551013,144.25066533814939,175.41265750381379,173.52752446353111,200.86841213836991,181.62056160707499,null,null,null,null,"12:00:00",234.68478108375686,272.45100716817564,230.06155211656468,321.73215120115668,465.58192849793562,402.31097090360549,356.2491829123216,277.43410488276675,292.76021171429346,386.6406957764811,345.80846376891594,274.41326082335598,null,null,null,null,"12:00:00",83.812774193548364,51.609042857142853,66.025490322580652,97.011136666666701,80.10518387096775,104.72959,88.933054838709637,91.85340322580646,116.62288333333333,116.04075161290324,145.15717666666669,130.61078709677417]
[{"$f":"Gen_Average!F46/5*$M$36","v":472.81206000000003},{"$f":"Gen_Average!G46/5*$M$36","v":539.68050000000005},{"$f":"Gen_Average!H46/5*$M$36","v":537.86667999999997},{"$f":"Gen_Average!I46/5*$M$36","v":568.24282000000005},{"$f":"Gen_Average!J46/5*$M$36","v":597.33043999999995},{"$f":"Gen_Average!K46/5*$M$36","v":620.53783999999996},{"$f":"Gen_Average!L46/5*$M$36","v":668.16162000000008},{"$f":"Gen_Average!M46/5*$M$36","v":674.62995999999998},{"$f":"Gen_Average!N46/5*$M$36","v":609.41732000000002},{"$f":"Gen_Average!O46/5*$M$36","v":508.44734},{"$f":"Gen_Average!P46/5*$M$36","v":433.41427999999996},{"$f":"Gen_Average!Q46/5*$M$36","v":486.32272},null,null,null,"13:00:00",129.57164531712996,91.905283645845344,112.52441844910572,149.65658914615841,130.03739389068204,161.08447047429019,139.03267545257484,142.30171708686402,172.90971562499988,168.35220825372687,200.67428122769121,181.81407140459305,null,null,null,null,"13:00:00",273.77789752921871,280.12437753486785,215.14252233815466,242.8735653093795,302.6350090449933,311.21769461797163,312.68242886841472,338.48078799850543,273.16441331750224,349.95244934086151,361.89245733824788,323.04222456723141,null,null,null,null,"13:00:00",83.118122580645149,51.456235714285718,65.067432258064528,94.874023333333355,79.180061290322584,102.66892333333335,86.021925806451634,89.570112903225819,114.65619666666666,112.97011935483869,145.01510666666667,130.73424838709676]
[{"$f":"Gen_Average!F47/5*$M$36","v":379.57939999999996},{"$f":"Gen_Average!G47/5*$M$36","v":462.98657999999995},{"$f":"Gen_Average!H47/5*$M$36","v":451.06216000000006},{"$f":"Gen_Average!I47/5*$M$36","v":479.89794000000001},{"$f":"Gen_Average!J47/5*$M$36","v":508.89864},{"$f":"Gen_Average!K47/5*$M$36","v":543.82903999999996},{"$f":"Gen_Average!L47/5*$M$36","v":572.28919999999994},{"$f":"Gen_Average!M47/5*$M$36","v":576.76106000000004},{"$f":"Gen_Average!N47/5*$M$36","v":511.15206000000001},{"$f":"Gen_Average!O47/5*$M$36","v":417.10290000000003},{"$f":"Gen_Average!P47/5*$M$36","v":345.38242000000002},{"$f":"Gen_Average!Q47/5*$M$36","v":385.28431999999998},null,null,null,"14:00:00",130.22385001751945,91.990271783858219,112.39833761245299,149.48208459932997,127.40187261779758,158.5020652857155,137.15003754820196,141.1885106670027,172.50157612582819,167.51989102109607,201.0776312391441,184.10464316846171,null,null,null,null,"14:00:00",180.59367730109858,199.03157632993387,201.2924285632989,268.81947073776865,254.36486559390647,282.42338403064815,304.45256240011929,242.20780912743302,266.19637339791564,317.80811867329237,249.93543166341027,236.66801743217249,null,null,null,null,"14:00:00",84.072883870967743,52.011242857142868,65.765496774193551,95.38772666666668,78.3305935483871,101.54099333333335,84.833135483870961,88.795548387096801,115.05906666666669,113.15915806451612,146.07889666666668,133.41540967741938]
[{"$f":"Gen_Average!F48/5*$M$36","v":268.96132},{"$f":"Gen_Average!G48/5*$M$36","v":341.96814000000001},{"$f":"Gen_Average!H48/5*$M$36","v":345.14153999999996},{"$f":"Gen_Average!I48/5*$M$36","v":367.71159999999998},{"$f":"Gen_Average!J48/5*$M$36","v":382.75216},{"$f":"Gen_Average!K48/5*$M$36","v":424.56401999999997},{"$f":"Gen_Average!L48/5*$M$36","v":448.10807999999997},{"$f":"Gen_Average!M48/5*$M$36","v":445.70097999999996},{"$f":"Gen_Average!N48/5*$M$36","v":372.38772},{"$f":"Gen_Average!O48/5*$M$36","v":288.66055999999998},{"$f":"Gen_Average!P48/5*$M$36","v":210.81988000000001},{"$f":"Gen_Average!Q48/5*$M$36","v":244.25756000000001},null,null,null,"15:00:00",132.28273972211065,93.850023514159588,112.94969412770257,149.05963025608455,126.38961274375167,156.10142033931069,135.34571092946763,139.88891660477637,171.47300083358274,167.33190639806676,204.79062464617274,186.66928626328473,null,null,null,null,"15:00:00",213.67219544884921,222.90661104949379,255.02796406579697,233.34783836397912,280.5205148446513,305.74465644680191,249.21328448919436,236.40275126619437,264.89192723219787,299.132004686161,266.99936222996752,305.37986504493892,null,null,null,null,"15:00:00",86.415622580645135,53.829814285714299,67.151016129032257,96.773386666666653,79.341770967741923,101.2747766666667,84.841125806451615,89.267738709677403,115.17695000000002,114.83392258064514,150.30083333333329,136.54705483870967]
[{"$f":"Gen_Average!F49/5*$M$36","v":116.59507799999999},{"$f":"Gen_Average!G49/5*$M$36","v":184.77418600000001},{"$f":"Gen_Average!H49/5*$M$36","v":202.88342},{"$f":"Gen_Average!I49/5*$M$36","v":221.74830000000003},{"$f":"Gen_Average!J49/5*$M$36","v":235.01003999999998},{"$f":"Gen_Average!K49/5*$M$36","v":269.91523999999998},{"$f":"Gen_Average!L49/5*$M$36","v":287.53012000000001},{"$f":"Gen_Average!M49/5*$M$36","v":275.42189999999999},{"$f":"Gen_Average!N49/5*$M$36","v":205.06167999999997},{"$f":"Gen_Average!O49/5*$M$36","v":128.80845600000001},{"$f":"Gen_Average!P49/5*$M$36","v":71.910613999999995},{"$f":"Gen_Average!Q49/5*$M$36","v":82.289718000000008},null,null,null,"16:00:00",135.62968791171414,95.905693921178681,115.52526769245689,149.45119531373737,126.74114051977742,156.49787449620811,134.42568204515769,138.26438815217244,173.66643347018191,171.33839219716305,215.19821891969679,195.50532560523027,null,null,null,null,"16:00:00",326.07217655615221,375.8365218398946,262.98951386288661,290.69081369548826,416.19202596987157,262.99920050707465,276.81075315195528,269.50138538490961,240.53652565547944,388.1012048283564,337.19860936412056,485.31024163799572,null,null,null,null,"16:00:00",89.292951612903224,56.45051785714287,69.205738709677433,97.988826666666668,80.703106451612911,101.80451666666669,84.893861290322604,88.80627419354839,116.75202333333336,117.38599677419356,158.99374999999995,143.35307419354839]
[{"$f":"Gen_Average!F50/5*$M$36","v":2.7264818000000002},{"$f":"Gen_Average!G50/5*$M$36","v":43.068246000000002},{"$f":"Gen_Average!H50/5*$M$36","v":71.981017999999992},{"$f":"Gen_Average!I50/5*$M$36","v":84.503606000000005},{"$f":"Gen_Average!J50/5*$M$36","v":100.99432399999999},{"$f":"Gen_Average!K50/5*$M$36","v":118.24376400000001},{"$f":"Gen_Average!L50/5*$M$36","v":121.86321600000001},{"$f":"Gen_Average!M50/5*$M$36","v":107.76123399999999},{"$f":"Gen_Average!N50/5*$M$36","v":60.403787999999999},{"$f":"Gen_Average!O50/5*$M$36","v":14.348147599999999},{"$f":"Gen_Average!P50/5*$M$36","v":1.3125051400000001},{"$f":"Gen_Average!Q50/5*$M$36","v":1.8085996000000002},null,null,null,"17:00:00",141.62580628392993,101.07105983938183,121.25950136356174,152.73390346537064,126.69572737570572,160.07655059014857,137.207171366956,139.18205460017023,180.14972202202827,180.13003079348695,232.03666333971117,205.94226930907027,null,null,null,null,"17:00:00",258.68374930371954,389.31502624516969,508.63980501999771,391.49817570179266,400.27863253760148,391.74853810170976,309.03824988826648,220.45649043474148,219.20056042922027,389.9652443198496,287.95643958397892,258.61915108270995,null,null,null,null,"17:00:00",94.063438709677442,60.897010714285706,74.439290322580661,100.60147333333333,81.020316129032253,103.56304666666666,86.663445161290369,89.798670967741955,121.84902,123.0106,172.49905666666669,150.9088806451613]
[{"$f":"Gen_Average!F51/5*$M$36","v":1.675916E-3},{"$f":"Gen_Average!G51/5*$M$36","v":0.93061773999999997},{"$f":"Gen_Average!H51/5*$M$36","v":2.5058738000000003},{"$f":"Gen_Average!I51/5*$M$36","v":11.7258102},{"$f":"Gen_Average!J51/5*$M$36","v":25.169944000000001},{"$f":"Gen_Average!K51/5*$M$36","v":33.937882000000002},{"$f":"Gen_Average!L51/5*$M$36","v":27.245494000000001},{"$f":"Gen_Average!M51/5*$M$36","v":18.402275599999999},{"$f":"Gen_Average!N51/5*$M$36","v":3.5028022000000001},{"$f":"Gen_Average!O51/5*$M$36","v":0.28832268},{"$f":"Gen_Average!P51/5*$M$36","v":0},{"$f":"Gen_Average!Q51/5*$M$36","v":0},null,null,null,"18:00:00",143.26986905046513,106.10855363268617,126.33088900033917,158.14112314414086,128.87952170842317,165.00279644870841,141.3914137137227,143.63515370958388,189.18531402731966,198.30749689435009,231.8078024565352,204.22644187097575,null,null,null,null,"18:00:00",220.97093986372849,200.78316127441994,206.57786850590475,487.62942733229283,472.63786106530927,376.47390163395465,271.75556099963381,319.69326146213376,277.87098404804686,405.52702943187649,237.05977754388616,220.07198010207566,null,null,null,null,"18:00:00",94.516929032258091,65.862103571428591,79.917635483870967,104.81402999999999,82.946616129032279,107.14964999999998,90.430393548387116,93.970806451612887,128.56529999999998,135.57049032258061,171.04018666666667,148.88308064516133]
[{"$f":"Gen_Average!F52/5*$M$36","v":0},{"$f":"Gen_Average!G52/5*$M$36","v":0},{"$f":"Gen_Average!H52/5*$M$36","v":2.1290871999999999E-2},{"$f":"Gen_Average!I52/5*$M$36","v":0.23543248},{"$f":"Gen_Average!J52/5*$M$36","v":1.3306689600000001},{"$f":"Gen_Average!K52/5*$M$36","v":6.7652780000000003},{"$f":"Gen_Average!L52/5*$M$36","v":6.3594372000000003},{"$f":"Gen_Average!M52/5*$M$36","v":0.45783807999999998},{"$f":"Gen_Average!N52/5*$M$36","v":5.1401885999999994E-2},{"$f":"Gen_Average!O52/5*$M$36","v":0},{"$f":"Gen_Average!P52/5*$M$36","v":0},{"$f":"Gen_Average!Q52/5*$M$36","v":0},null,null,null,"19:00:00",143.23656569251136,107.17167496307958,127.5106257898881,159.98098925122849,135.84509864506344,166.90536685087491,146.01205877257905,153.91647557641369,203.37528782231175,206.08811061725856,230.50339972827183,201.97258990968865,null,null,null,null,"19:00:00",244.42457576852377,231.43229868805415,185.87588865894304,208.18156752385786,270.08676786300441,467.89387085745915,385.02119553414502,325.9917780738898,289.15856009806816,242.17823849543348,278.28075738321775,205.97466530737304,null,null,null,null,"19:00:00",93.810687096774217,64.682432142857138,80.323435483870981,108.95566666666664,86.27292580645161,109.74610333333334,94.136174193548385,102.35160322580649,139.90026,140.72294516129031,168.45992333333328,146.68884838709678]
[{"$f":"Gen_Average!F53/5*$M$36","v":0},{"$f":"Gen_Average!G53/5*$M$36","v":0},{"$f":"Gen_Average!H53/5*$M$36","v":0},{"$f":"Gen_Average!I53/5*$M$36","v":0},{"$f":"Gen_Average!J53/5*$M$36","v":1.7790568E-2},{"$f":"Gen_Average!K53/5*$M$36","v":0.15009272199999998},{"$f":"Gen_Average!L53/5*$M$36","v":0.14017960800000001},{"$f":"Gen_Average!M53/5*$M$36","v":2.0382480000000003E-3},{"$f":"Gen_Average!N53/5*$M$36","v":0},{"$f":"Gen_Average!O53/5*$M$36","v":0},{"$f":"Gen_Average!P53/5*$M$36","v":0},{"$f":"Gen_Average!Q53/5*$M$36","v":0},null,null,null,"20:00:00",140.168466293672,105.15067418487588,122.94245656028696,158.88315944731281,142.05687636297384,171.50691340819148,151.40010061514681,163.67791619408601,209.0991367950578,200.05184340690508,228.27267996427241,199.72553856963822,null,null,null,null,"20:00:00",234.25765275782987,208.57286883138235,180.00067016355413,185.83351705714838,199.7303133842519,358.05315058362152,432.92643243054562,558.36004325058809,211.98906475479421,232.14505741044044,270.34197321499516,218.45465523731744,null,null,null,null,"20:00:00",91.308303225806455,62.257549999999995,75.70117096774193,107.98609333333337,89.705890322580643,114.19714333333332,99.392274193548388,111.42549032258061,144.16379666666668,135.88010322580647,165.43851999999998,144.44442903225806]
[{"$f":"Gen_Average!F54/5*$M$36","v":0},{"$f":"Gen_Average!G54/5*$M$36","v":0},{"$f":"Gen_Average!H54/5*$M$36","v":0},{"$f":"Gen_Average!I54/5*$M$36","v":0},{"$f":"Gen_Average!J54/5*$M$36","v":0},{"$f":"Gen_Average!K54/5*$M$36","v":0},{"$f":"Gen_Average!L54/5*$M$36","v":0},{"$f":"Gen_Average!M54/5*$M$36","v":0},{"$f":"Gen_Average!N54/5*$M$36","v":0},{"$f":"Gen_Average!O54/5*$M$36","v":0},{"$f":"Gen_Average!P54/5*$M$36","v":0},{"$f":"Gen_Average!Q54/5*$M$36","v":0},null,null,null,"21:00:00",138.49533809651726,101.6344364676055,121.155831643908,156.77117308718687,142.94721181296657,172.52203666162873,156.10282144088976,168.53325547968186,209.2849583285568,199.0192405091413,231.32459101621163,199.70306448100308,null,null,null,null,"21:00:00",263.77030704666697,274.52535844950381,244.41965907233904,249.8198351496909,187.57147386012446,318.87773385149524,448.33121057624669,261.00715529657651,249.84311453253892,242.03710019336435,236.79434859797533,275.53654690257912,null,null,null,null,"21:00:00",90.108909677419362,60.477000000000004,74.131561290322566,104.56273666666667,89.129212903225806,117.32343333333333,105.24103870967744,115.6898129032258,145.29313333333334,135.88007741935485,167.33645333333331,144.29640000000001]
[{"$f":"Gen_Average!F55/5*$M$36","v":0},{"$f":"Gen_Average!G55/5*$M$36","v":0},{"$f":"Gen_Average!H55/5*$M$36","v":0},{"$f":"Gen_Average!I55/5*$M$36","v":0},{"$f":"Gen_Average!J55/5*$M$36","v":0},{"$f":"Gen_Average!K55/5*$M$36","v":0},{"$f":"Gen_Average!L55/5*$M$36","v":0},{"$f":"Gen_Average!M55/5*$M$36","v":0},{"$f":"Gen_Average!N55/5*$M$36","v":0},{"$f":"Gen_Average!O55/5*$M$36","v":0},{"$f":"Gen_Average!P55/5*$M$36","v":0},{"$f":"Gen_Average!Q55/5*$M$36","v":0},null,null,null,"22:00:00",138.0741404809898,99.807438496960074,121.04332938076324,158.74979685087933,146.75101382992486,175.43330637885089,156.62813864078697,168.38374519393591,211.54678811273752,200.50897410731895,232.97778876166339,201.38129202909855,null,null,null,null,"22:00:00",210.75060845815707,255.26451107837252,193.49849060185633,206.25639734659143,216.42230041313158,244.13430491872739,231.0274332652798,224.50286995419893,225.92258987237838,243.36417851539875,256.02541237406064,247.49435665302011,null,null,null,null,"22:00:00",90.828748387096795,59.743653571428574,74.653648387096752,107.05030000000001,92.485722580645188,119.48054333333332,105.72766774193546,116.57599999999999,149.71077333333341,140.38395806451615,172.11458333333331,148.11021935483876]
[{"$f":"Gen_Average!F56/5*$M$36","v":0},{"$f":"Gen_Average!G56/5*$M$36","v":0},{"$f":"Gen_Average!H56/5*$M$36","v":0},{"$f":"Gen_Average!I56/5*$M$36","v":0},{"$f":"Gen_Average!J56/5*$M$36","v":0},{"$f":"Gen_Average!K56/5*$M$36","v":0},{"$f":"Gen_Average!L56/5*$M$36","v":0},{"$f":"Gen_Average!M56/5*$M$36","v":0},{"$f":"Gen_Average!N56/5*$M$36","v":0},{"$f":"Gen_Average!O56/5*$M$36","v":0},{"$f":"Gen_Average!P56/5*$M$36","v":0},{"$f":"Gen_Average!Q56/5*$M$36","v":0},null,0,null,"23:00:00",136.31205525364808,97.8122464704077,121.4076439379286,159.68231655711463,149.46402675649509,179.10095155356555,156.68039730212874,167.48631233079206,209.39342309302049,200.36432558768149,229.22421484784653,199.17376294918765,null,null,null,null,"23:00:00",230.86008787176516,210.33745056679308,160.72031037585288,196.37012845787734,162.04071348208902,163.26329812104447,200.92822349886814,207.96524062312548,252.13457175067776,233.94575520224066,298.14634086925707,266.97631225769163,null,null,null,null,"23:00:00",92.282154838709701,60.862017857142853,76.553193548387071,109.56269999999999,97.30331935483872,124.6330333333333,107.3177,118.39202903225805,151.09859,144.17876451612904,173.15212,151.31433225806455]
[{"$f":"SUM(A4:A27)","v":3274.5782657159998},{"$f":"SUM(B4:B27)","v":3930.1522165299998},4200.6360066719999,4679.7382190799999,5100.531222212001,5334.9631350620002,5518.5010459919995,5501.2371777279996,4904.4959773859991,4078.4614622800004,3228.2630583,3422.9498976000004,{"$f":"AVERAGE(A28:L28)","v":4431.2089737131673},null,null,"Avg",135.57182252247131,98.437546964760202,121.29020534523788,156.75225126104269,141.60635026159864,172.57001629198416,150.28600117149838,157.09056037763523,194.90268224037618,192.08584362581408,217.04486053870173,193.02336851023628,{"$f":"AVERAGE(Q28:AB28)","v":160.88845909261303},null,null,null,"Avg",261.41644196142903,256.1655273070748,242.0103848610722,285.29534398519348,314.16390365175943,316.61316909624912,305.32745495470721,279.67872049131455,267.87156638192408,332.49392959743648,315.81335461054636,308.57859263956789,null,null,null,null,"Avg",90.981102419354897,61.219037946428593,75.68308209959622,106.06528083333318,92.363009946236559,116.86252222222205,99.824247715053716,107.84141142473139,136.54214472222225,133.86462953020134,160.61870944444462,141.97314744623651]
[31,28,31,30,31,30,31,31,30,31,30,31,"average","sum",null,null,{"$f":"Q28*Q1","v":4202.7264981966109},{"$f":"R28*R1","v":2756.2513150132854},3759.9963657023741,4702.5675378312808,4389.7968581095574,5177.1004887595245,4658.8660363164499,4869.8073717066918,5847.0804672112854,5954.6611524002365,6511.3458161610515,5983.7244238173244,{"$f":"SUM(Q29:AB29)/AC1","v":161.13403926363199},null,null,null,null,{"$f":"AH28*AH$1","v":8103.9097008043},{"$f":"AI28*AI$1","v":7172.6347645980941},7502.3219306932378,8558.8603195558044,9739.0810132045426,9498.3950728874734,9465.1511035959229,8670.0403352307512,8036.1469914577228,10307.311817520531,9474.4006383163905,9565.936371826605,{"$f":"SUM(AH29:AS29)/AT$1","v":290.66901386216813},null,null,null,null,{"$f":"AY28*AY$1","v":2820.4141750000017},1714.1330625000005,2346.175545087483,3181.9584249999953,2863.2533083333333,3505.8756666666618,3094.5516791666651,3343.0837541666733,4096.264341666667,4149.8035154362415,4818.5612833333389,4401.1675708333314,{"$f":"SUM(AY29:BJ29)/BK$1","v":110.50751322517917}]
[{"$f":"A28*A29","v":101511.92623719599},110044.26206283999,130219.716206832,140392.1465724,158116.46788857202,160048.89405186,171073.532425752,170538.35250956798,147134.87932157997,126432.30533068001,96847.891749000002,106111.44682560001,{"$f":"AVERAGE(A30:L30)","v":134872.65176515665},{"$f":"SUM(A30:L30)/1000","v":1618.4718211818799},null,null,{"$f":"Q28/AY28","v":1.4901096922038437},1.6079564505881436,1.6026065797059417,1.4778846577265659,1.5331500169172276,1.4766925530139638,1.5055059728622922,1.4566812349936424,1.4274177590873578,1.4349260465586795,{"$f":"AA28/BI28","v":1.3513049711918772},1.3595765958723418,"MIN",{"$f":"MIN(Q4:AB27)","v":91.849184060850021},null,null,null,null,null,null,null,null,null,null,null,null,null,null,null,"MIN",{"$f":"MIN(AH4:AS27)","v":160.72031037585288}]
[null,null,null,null,null,null,null,null,null,null,null,null,null,null,null,null,null,null,null,null,null,null,null,null,null,null,null,null,"MAX",{"$f":"MAX(Q4:AB27)","v":232.97778876166339},null,null,null,null,null,null,null,null,null,null,null,null,null,null,null,"MAX",{"$f":"MAX(AH4:AS27)","v":558.36004325058809}]
[null,null,null,null,null,null,null,null,null,null,null,null,null,null,"Figure3","TIER 1","Hourly emissions [gCO2eq/kWh] - average mix",null,null,null,null,null,null,null,null,null,null,null,null,null,null,"Figure5","TIER 2","Hourly marginal emissions [gCO2eq/kWh]",null,null,null,null,null,null,null,null,null,null,null,null,null,null,null,"TIER 1","Hourly emissions [kgCO2/kWh] - average values from 2020 - using REE CO2 intensity acc. To REE data"]
[null,null,null,null,null,null,null,null,null,null,null,null,null,null,null,"hour","Jan","Feb","Mar","Apr","May","Jun","Jul","Aug","Sep","Oct","Nov","Dec",null,null,null,null,"hour",{"$f":"Q33","v":"Jan"},{"$f":"R33","v":"Feb"},"Mar","Apr","May","Jun","Jul","Aug","Sep","Oct","Nov","Dec",null,null,null,null,"hour","Jan","Feb","Mrz","Apr","Mai","Jun","Jul","Aug","Sep","Okt","Nov","Dec"]
[null,null,null,null,null,null,null,null,null,null,null,null,null,null,null,"00:00:00",{"$f":"Q4","v":134.37181248312615},{"$f":"R4","v":95.690060852131168},119.95955058337513,152.87731554047426,151.36080214826214,177.03955764662368,154.07285994100673,164.64624314748227,201.49567945164171,202.87293975019344,213.76606448053442,192.7582620015821,null,null,null,null,"00:00:00",{"$f":"AH4","v":291.16082992468296},{"$f":"AI4","v":247.26050630817483},171.32376049303747,259.08063291993705,221.33882101027078,267.20853760882477,237.95160101399469,239.30991524923593,324.83799334521734,326.6784232979681,325.14679256000949,351.3417086589393,null,null,null,null,"00:00:00",{"$f":"AY4","v":91.645238709677457},{"$f":"AZ4","v":62.874935714285719},76.919890322580642,106.4069033333333,100.50055483870969,123.39692666666666,105.02109354838707,115.84038387096777,143.29152333333332,144.15166451612902,157.48500666666664,141.8676741935484]
[null,null,null,null,null,null,null,null,null,null,null,null,null,null,null,"01:00:00",{"$f":"Q5","v":132.91455875208914},96.523536248038369,123.23137936868446,153.17398569907482,151.90385884013602,179.59265864724662,153.80811938693819,167.29751130170487,200.8975705178523,200.89830295655844,212.67030830158299,191.18068451204581,null,null,null,null,"01:00:00",{"$f":"AH5","v":245.16647030323927},189.77342189626117,195.68737055599783,193.53550377254592,224.59912894247839,240.19280850506314,246.47606405399657,249.17433901503512,294.01600056699738,380.59251290516289,325.55639864504246,341.49901277675292,null,null,null,null,"01:00:00",{"$f":"AY5","v":92.230135483870981},65.584796428571423,80.262464516129029,108.08617666666663,103.46525161290324,126.43904666666667,105.58321612903227,119.93868387096775,144.08455000000001,142.94484193548388,158.35433333333333,141.4843290322581]
[null,null,null,null,null,null,null,null,null,null,null,"PV power ",1,"KWp",null,"02:00:00",{"$f":"Q6","v":132.82745001430504},97.401080183003373,124.46939873915515,155.13592726616028,151.73632107296021,183.56387007389759,153.64456165118764,167.16244228072082,200.68874613912971,199.14143566639953,213.47028179713735,191.28927515266432,null,null,null,null,"02:00:00",{"$f":"AH6","v":226.39110428313606},237.73814877419849,166.07156636893706,210.37056551133745,230.0733987094475,259.23419551863947,237.69939400764477,262.41720169798793,260.40101001379213,338.99473330958216,295.37392841893512,333.00654398245831,null,null,null,null,"02:00:00",93.843535483870966,67.714185714285705,81.963086666666698,110.56208000000002,104.28616774193549,129.0636633333333,105.81842580645163,121.39451612903225,145.0273966666667,142.51104687500001,161.20860666666664,143.94561612903226]
[null,null,null,null,null,null,null,null,null,null,null,null,null,null,null,"03:00:00",{"$f":"Q7","v":132.19388524180687},98.824401714934055,125.60227706281921,155.8741993414888,151.98266499899148,184.02871548170617,154.57623416524459,167.30113662432944,201.81455793806055,202.88917050534423,212.01407989197148,191.06512074363721,null,null,null,null,"03:00:00",{"$f":"AH7","v":297.25142845726504},251.72414817363574,254.38613935000546,250.03614193159015,240.63501839371412,265.02928682253258,324.00297720024213,273.50585559080497,231.85461267858005,364.14577079539754,334.98960086804499,377.70823654000117,null,null,null,null,"03:00:00",94.358777419354865,69.1337607142857,83.897041935483855,110.67939333333331,105.09845806451614,129.01235333333332,106.39676451612905,121.93689677419351,146.22600666666668,145.70930322580642,162.08304333333328,144.15514838709677]
[null,null,null,null,null,null,null,null,null,null,null,null,null,null,null,"04:00:00",{"$f":"Q8","v":132.85036407366542},99.674410203721322,126.16109957040675,156.78907171559351,153.95623683081212,186.18449741919832,157.86623313990495,169.99779141564011,204.09850264837164,204.23746275766388,212.84294518864644,190.97911817135085,null,null,null,null,"04:00:00",{"$f":"AH8","v":285.79043788457886},197.27590112984288,265.06264014373949,256.90242714753771,361.67628943310444,282.34888568787022,233.71508785342829,246.95118980590803,249.87242865033505,397.39979785655197,422.62037570885724,422.47333145088999,null,null,null,null,"04:00:00",95.807412903225824,70.021621428571436,84.018435483870988,111.16793999999999,106.88254516129031,130.18783333333334,108.64054838709677,123.47414193548386,147.85455666666667,146.18074193548387,162.48316333333329,144.40424193548387]
[null,null,null,null,null,null,null,null,null,null,null,null,null,null,null,"05:00:00",{"$f":"Q9","v":133.91824592823983},99.25977091284264,128.69960063310424,158.63796353620879,156.00563947942771,188.20336072118573,161.80012035453933,172.93934282270996,206.88428857957706,206.62363298074746,217.00522446317828,193.0395058118072,null,null,null,null,"05:00:00",{"$f":"AH9","v":331.20317685033478},248.92710854585522,257.94594451497329,300.75837988501326,324.08923456908758,306.57848377554228,292.43397724125401,270.55837103118603,333.78139905428799,409.78690275255946,384.23653835962421,418.33416151609265,null,null,null,null,"05:00:00",95.682048387096771,69.043482142857144,84.823506451612886,112.99043999999998,107.88626129032258,131.5817466666667,111.21417741935483,124.66728709677417,148.82965999999996,148.00338064516131,164.20616666666669,145.94880322580644]
[null,null,null,null,null,null,null,null,null,null,null,null,null,null,null,"06:00:00",{"$f":"Q10","v":136.04639144513271},99.448066383938013,130.99412543701376,167.27991203040949,161.62904951709623,194.06099203664155,169.08125556839843,174.97526216750248,212.09645568733336,211.86120155268631,223.13690256900247,194.57603235952953,null,null,null,null,"06:00:00",{"$f":"AH10","v":247.41665162292225},230.08657316150908,173.6501414585677,307.98552138304154,294.27261099686524,286.3691065870575,277.16024884238504,243.80570822408225,263.4890203493855,310.36317331997657,336.04710259692416,352.19626583566111,null,null,null,null,"06:00:00",94.78198387096775,66.781514285714294,84.847248387096769,116.98296999999999,108.32644838709676,133.48037333333332,114.59887419354835,123.96678387096779,149.86557666666667,148.32618064516129,168.33269333333334,145.96601612903223]
[null,null,null,null,null,null,null,null,null,null,null,null,null,null,null,"07:00:00",{"$f":"Q11","v":140.16753384451198},101.3673403133288,129.15794957514737,169.6911434716877,161.08244094414144,193.07037565878119,173.30296960728666,177.60993553572641,215.57820387072582,208.12394172719684,223.85220174210474,194.93071235361575,null,null,null,null,"07:00:00",{"$f":"AH11","v":278.2986481611357},293.89941800751456,212.40843240068969,278.91876757900343,280.99205872813297,264.34712947552316,292.13634139786558,242.56705045513081,297.9487383665533,268.85266906665851,353.08208309160983,297.26514031662572,null,null,null,null,"07:00:00",96.194851612903278,65.707657142857158,82.801170967741953,117.88816666666666,106.60886129032258,132.02521333333334,116.15020967741933,123.61944516129032,151.36644333333334,143.88488387096777,167.20002333333332,144.81505483870973]
[null,null,null,null,null,null,null,null,null,null,null,null,null,null,null,"08:00:00",{"$f":"Q12","v":138.49233658270111},101.76195340894876,125.62256275836371,166.61088456555714,154.43044350998724,185.56366573976712,166.49086793647635,171.14208836122941,215.80721240092402,207.15670429643734,222.58548443847118,194.6082538828274,null,null,null,null,"08:00:00",{"$f":"AH12","v":245.902202267566},259.52416670717844,258.90538337810784,272.81472545486389,258.79654334406104,184.51972793492888,202.69790511594744,215.35369826718969,314.34054287788217,282.31083081435298,300.14814834428029,264.01371641561951,null,null,null,null,"08:00:00",94.535683870967745,63.662807142857147,78.850370967741952,114.03573666666665,100.01944516129031,125.69078666666664,112.13245161290324,117.51850967741933,151.00154000000001,141.76384838709677,165.57416000000006,143.52385806451611]
[null,null,null,null,null,null,null,null,null,null,null,null,null,null,null,"09:00:00",{"$f":"Q13","v":135.70419854076823},99.881602167081027,122.4425375474494,161.6740651698573,146.85906191057092,178.02631682946557,158.5303363152602,160.81808629510294,204.79801881216005,199.45492511915222,215.4352622665715,190.03260707789684,null,null,null,null,"09:00:00",{"$f":"AH13","v":181.5553611024082},257.62671124787431,295.20606291966101,319.69214667995828,535.28410255143012,379.71774493947254,493.60578930204247,277.12298634449041,230.52070117889383,347.34535469306502,332.30781078600774,280.46526878717611,null,null,null,null,"09:00:00",90.719954838709697,59.796510714285709,73.689435483870966,107.91516000000003,91.625132258064568,117.50271666666666,103.51458064516129,107.01089677419355,141.89654333333334,135.66358064516129,157.90839333333335,138.60399032258067]
[null,null,null,null,null,null,null,null,null,null,null,null,null,null,null,"10:00:00",{"$f":"Q14","v":132.94784934381244},96.695626854008381,117.8813745587351,158.39365784173725,138.11891504992528,170.63307783030413,150.73398566780193,151.16097313425971,188.38995334703543,187.06435019652923,206.77295923349075,185.73565850098194,null,null,null,null,"10:00:00",{"$f":"AH14","v":389.31236084450524},295.2453627526308,409.77384282791633,479.693924662222,515.11160342545577,464.5503397557344,379.4487860186988,400.62600596361472,286.43456254649914,391.66012110081454,367.65526343871625,397.65699177117489,null,null,null,null,"10:00:00",85.572699999999998,55.843428571428582,68.666170967741934,103.45159333333334,83.778635483870957,110.69957666666667,95.924074193548378,98.053877419354848,127.71151333333333,125.09389677419355,149.38322333333335,132.48536774193548]
[null,null,null,null,null,null,null,null,null,null,null,null,null,null,null,"11:00:00",{"$f":"Q15","v":131.65352316608437},93.771187864460302,115.96605927372534,155.0280420483827,134.84170727360043,167.16943267524684,146.31949285020306,146.47224461619632,180.28112237587095,177.6001706311167,201.41297757715759,183.0468982403282,null,null,null,null,"11:00:00",{"$f":"AH15","v":362.0272863830574},318.31041960905765,303.58127890895071,434.24663084056857,425.00247098130671,513.4791071246766,332.09422885048298,308.89329239182041,277.75168673464276,430.92694355263075,375.91709390302753,251.98456824977498,null,null,null,null,"11:00:00",84.542609677419364,52.953589285714301,66.922619354838716,99.832080000000019,81.709758064516123,107.50854333333332,92.355732258064506,94.274961290322565,121.00816999999998,118.22193548387094,145.04360666666662,130.84867419354842]
[null,null,null,null,null,null,null,null,null,null,null,null,null,null,null,"12:00:00",{"$f":"Q16","v":130.02776948498857},91.849184060850021,114.69491518222713,152.44366980834121,132.14322715466963,163.63232595996502,142.49387340551013,144.25066533814939,175.41265750381379,173.52752446353111,200.86841213836991,181.62056160707499,null,null,null,null,"12:00:00",{"$f":"AH16","v":234.68478108375686},272.45100716817564,230.06155211656468,321.73215120115668,465.58192849793562,402.31097090360549,356.2491829123216,277.43410488276675,292.76021171429346,386.6406957764811,345.80846376891594,274.41326082335598,null,null,null,null,"12:00:00",83.812774193548364,51.609042857142853,66.025490322580652,97.011136666666701,80.10518387096775,104.72959,88.933054838709637,91.85340322580646,116.62288333333333,116.04075161290324,145.15717666666669,130.61078709677417]
[null,null,null,null,null,null,null,null,null,null,null,null,null,null,null,"13:00:00",{"$f":"Q17","v":129.57164531712996},91.905283645845344,112.52441844910572,149.65658914615841,130.03739389068204,161.08447047429019,139.03267545257484,142.30171708686402,172.90971562499988,168.35220825372687,200.67428122769121,181.81407140459305,null,null,null,null,"13:00:00",{"$f":"AH17","v":273.77789752921871},280.12437753486785,215.14252233815466,242.8735653093795,302.6350090449933,311.21769461797163,312.68242886841472,338.48078799850543,273.16441331750224,349.95244934086151,361.89245733824788,323.04222456723141,null,null,null,null,"13:00:00",83.118122580645149,51.456235714285718,65.067432258064528,94.874023333333355,79.180061290322584,102.66892333333335,86.021925806451634,89.570112903225819,114.65619666666666,112.97011935483869,145.01510666666667,130.73424838709676]
[null,null,null,null,null,null,null,null,null,null,null,null,null,null,null,"14:00:00",{"$f":"Q18","v":130.22385001751945},91.990271783858219,112.39833761245299,149.48208459932997,127.40187261779758,158.5020652857155,137.15003754820196,141.1885106670027,172.50157612582819,167.51989102109607,201.0776312391441,184.10464316846171,null,null,null,null,"14:00:00",{"$f":"AH18","v":180.59367730109858},199.03157632993387,201.2924285632989,268.81947073776865,254.36486559390647,282.42338403064815,304.45256240011929,242.20780912743302,266.19637339791564,317.80811867329237,249.93543166341027,236.66801743217249,null,null,null,null,"14:00:00",84.072883870967743,52.011242857142868,65.765496774193551,95.38772666666668,78.3305935483871,101.54099333333335,84.833135483870961,88.795548387096801,115.05906666666669,113.15915806451612,146.07889666666668,133.41540967741938]
[null,null,null,null,null,null,null,null,null,null,null,null,null,null,null,"15:00:00",{"$f":"Q19","v":132.28273972211065},93.850023514159588,112.94969412770257,149.05963025608455,126.38961274375167,156.10142033931069,135.34571092946763,139.88891660477637,171.47300083358274,167.33190639806676,204.79062464617274,186.66928626328473,null,null,null,null,"15:00:00",{"$f":"AH19","v":213.67219544884921},222.90661104949379,255.02796406579697,233.34783836397912,280.5205148446513,305.74465644680191,249.21328448919436,236.40275126619437,264.89192723219787,299.132004686161,266.99936222996752,305.37986504493892,null,null,null,null,"15:00:00",86.415622580645135,53.829814285714299,67.151016129032257,96.773386666666653,79.341770967741923,101.2747766666667,84.841125806451615,89.267738709677403,115.17695000000002,114.83392258064514,150.30083333333329,136.54705483870967]
[null,null,null,null,null,null,null,null,null,null,null,null,null,null,null,"16:00:00",{"$f":"Q20","v":135.62968791171414},95.905693921178681,115.52526769245689,149.45119531373737,126.74114051977742,156.49787449620811,134.42568204515769,138.26438815217244,173.66643347018191,171.33839219716305,215.19821891969679,195.50532560523027,null,null,null,null,"16:00:00",{"$f":"AH20","v":326.07217655615221},375.8365218398946,262.98951386288661,290.69081369548826,416.19202596987157,262.99920050707465,276.81075315195528,269.50138538490961,240.53652565547944,388.1012048283564,337.19860936412056,485.31024163799572,null,null,null,null,"16:00:00",89.292951612903224,56.45051785714287,69.205738709677433,97.988826666666668,80.703106451612911,101.80451666666669,84.893861290322604,88.80627419354839,116.75202333333336,117.38599677419356,158.99374999999995,143.35307419354839]
[null,null,null,null,null,null,null,null,null,null,null,null,null,null,null,"17:00:00",{"$f":"Q21","v":141.62580628392993},101.07105983938183,121.25950136356174,152.73390346537064,126.69572737570572,160.07655059014857,137.207171366956,139.18205460017023,180.14972202202827,180.13003079348695,232.03666333971117,205.94226930907027,null,null,null,null,"17:00:00",{"$f":"AH21","v":258.68374930371954},389.31502624516969,508.63980501999771,391.49817570179266,400.27863253760148,391.74853810170976,309.03824988826648,220.45649043474148,219.20056042922027,389.9652443198496,287.95643958397892,258.61915108270995,null,null,null,null,"17:00:00",94.063438709677442,60.897010714285706,74.439290322580661,100.60147333333333,81.020316129032253,103.56304666666666,86.663445161290369,89.798670967741955,121.84902,123.0106,172.49905666666669,150.9088806451613]
[null,null,null,null,null,null,null,null,null,null,null,null,null,null,null,"18:00:00",{"$f":"Q22","v":143.26986905046513},106.10855363268617,126.33088900033917,158.14112314414086,128.87952170842317,165.00279644870841,141.3914137137227,143.63515370958388,189.18531402731966,198.30749689435009,231.8078024565352,204.22644187097575,null,null,null,null,"18:00:00",{"$f":"AH22","v":220.97093986372849},200.78316127441994,206.57786850590475,487.62942733229283,472.63786106530927,376.47390163395465,271.75556099963381,319.69326146213376,277.87098404804686,405.52702943187649,237.05977754388616,220.07198010207566,null,null,null,null,"18:00:00",94.516929032258091,65.862103571428591,79.917635483870967,104.81402999999999,82.946616129032279,107.14964999999998,90.430393548387116,93.970806451612887,128.56529999999998,135.57049032258061,171.04018666666667,148.88308064516133]
[null,null,null,null,null,null,null,null,null,null,null,null,null,null,null,"19:00:00",{"$f":"Q23","v":143.23656569251136},107.17167496307958,127.5106257898881,159.98098925122849,135.84509864506344,166.90536685087491,146.01205877257905,153.91647557641369,203.37528782231175,206.08811061725856,230.50339972827183,201.97258990968865,null,null,null,null,"19:00:00",{"$f":"AH23","v":244.42457576852377},231.43229868805415,185.87588865894304,208.18156752385786,270.08676786300441,467.89387085745915,385.02119553414502,325.9917780738898,289.15856009806816,242.17823849543348,278.28075738321775,205.97466530737304,null,null,null,null,"19:00:00",93.810687096774217,64.682432142857138,80.323435483870981,108.95566666666664,86.27292580645161,109.74610333333334,94.136174193548385,102.35160322580649,139.90026,140.72294516129031,168.45992333333328,146.68884838709678]
[null,null,null,null,null,null,null,null,null,null,null,null,null,null,null,"20:00:00",{"$f":"Q24","v":140.168466293672},105.15067418487588,122.94245656028696,158.88315944731281,142.05687636297384,171.50691340819148,151.40010061514681,163.67791619408601,209.0991367950578,200.05184340690508,228.27267996427241,199.72553856963822,null,null,null,null,"20:00:00",{"$f":"AH24","v":234.25765275782987},208.57286883138235,180.00067016355413,185.83351705714838,199.7303133842519,358.05315058362152,432.92643243054562,558.36004325058809,211.98906475479421,232.14505741044044,270.34197321499516,218.45465523731744,null,null,null,null,"20:00:00",91.308303225806455,62.257549999999995,75.70117096774193,107.98609333333337,89.705890322580643,114.19714333333332,99.392274193548388,111.42549032258061,144.16379666666668,135.88010322580647,165.43851999999998,144.44442903225806]
[null,null,null,null,null,null,null,null,null,null,null,null,null,null,null,"21:00:00",{"$f":"Q25","v":138.49533809651726},101.6344364676055,121.155831643908,156.77117308718687,142.94721181296657,172.52203666162873,156.10282144088976,168.53325547968186,209.2849583285568,199.0192405091413,231.32459101621163,199.70306448100308,null,null,null,null,"21:00:00",{"$f":"AH25","v":263.77030704666697},274.52535844950381,244.41965907233904,249.8198351496909,187.57147386012446,318.87773385149524,448.33121057624669,261.00715529657651,249.84311453253892,242.03710019336435,236.79434859797533,275.53654690257912,null,null,null,null,"21:00:00",90.108909677419362,60.477000000000004,74.131561290322566,104.56273666666667,89.129212903225806,117.32343333333333,105.24103870967744,115.6898129032258,145.29313333333334,135.88007741935485,167.33645333333331,144.29640000000001]
[null,null,null,null,null,null,null,null,null,null,null,null,null,null,null,"22:00:00",{"$f":"Q26","v":138.0741404809898},99.807438496960074,121.04332938076324,158.74979685087933,146.75101382992486,175.43330637885089,156.62813864078697,168.38374519393591,211.54678811273752,200.50897410731895,232.97778876166339,201.38129202909855,null,null,null,null,"22:00:00",{"$f":"AH26","v":210.75060845815707},255.26451107837252,193.49849060185633,206.25639734659143,216.42230041313158,244.13430491872739,231.0274332652798,224.50286995419893,225.92258987237838,243.36417851539875,256.02541237406064,247.49435665302011,null,null,null,null,"22:00:00",90.828748387096795,59.743653571428574,{"$f":"BA26","v":74.653648387096752},107.05030000000001,92.485722580645188,119.48054333333332,105.72766774193546,116.57599999999999,149.71077333333341,140.38395806451615,172.11458333333331,148.11021935483876]
[null,null,null,null,null,null,null,null,null,null,null,null,null,null,null,"23:00:00",{"$f":"Q27","v":136.31205525364808},97.8122464704077,121.4076439379286,159.68231655711463,149.46402675649509,179.10095155356555,156.68039730212874,167.48631233079206,209.39342309302049,200.36432558768149,229.22421484784653,199.17376294918765,null,null,null,null,"23:00:00",{"$f":"AH27","v":230.86008787176516},210.33745056679308,160.72031037585288,196.37012845787734,162.04071348208902,163.26329812104447,200.92822349886814,207.96524062312548,252.13457175067776,233.94575520224066,298.14634086925707,266.97631225769163,null,null,null,null,"23:00:00",92.282154838709701,60.862017857142853,76.553193548387071,109.56269999999999,97.30331935483872,124.6330333333333,107.3177,118.39202903225805,151.09859,144.17876451612904,173.15212,151.31433225806455]
[null,null,null,null,null,null,null,null,null,null,null,null,null,null,null,"Avg",{"$f":"Q28","v":135.57182252247131},{"$f":"R28","v":98.437546964760202},{"$f":"S28","v":121.29020534523788},156.75225126104269,141.60635026159864,172.57001629198416,150.28600117149838,157.09056037763523,194.90268224037618,192.08584362581408,217.04486053870173,193.02336851023628,null,null,null,null,"Avg",{"$f":"AVERAGE(AH34:AH57)","v":261.41644196142903},256.1655273070748,242.0103848610722,285.29534398519348,314.16390365175943,316.61316909624912,305.32745495470721,279.67872049131455,267.87156638192408,332.49392959743648,315.81335461054636,308.57859263956789,null,null,null,null,"Avg",{"$f":"AVERAGE(AY34:AY57)","v":90.981102419354841},{"$f":"AVERAGE(AZ34:AZ57)","v":61.219037946428564},75.691522965949829,106.06528083333335,92.363009946236559,116.86252222222221,99.824247715053787,107.84141142473119,136.54214472222222,133.85300800151211,160.61870944444448,141.9731474462366]
[]
[null,null,null,null,null,null,null,null,null,null,null,null,null,null,null,null,{"$f":"Q58*Q1","v":4202.7264981966109},{"$f":"R58*R1","v":2756.2513150132854},3759.9963657023741,4702.5675378312808,4389.7968581095574,5177.1004887595245,4658.8660363164499,4869.8073717066918,5847.0804672112854,5954.6611524002365,6511.3458161610515,5983.7244238173244,{"$f":"SUM(Q60:AB60)/AC1","v":161.13403926363199},null,null,null,null,{"$f":"AH58*AH1","v":8103.9097008043},{"$f":"AI58*AI1","v":7172.6347645980941},7502.3219306932378,8558.8603195558044,9739.0810132045426,9498.3950728874734,9465.1511035959229,8670.0403352307512,8036.1469914577228,10307.311817520531,9474.4006383163905,9565.936371826605,{"$f":"SUM(AH60:AS60)/AT1","v":290.66901386216813},null,null,null,null,{"$f":"AY58*AY1","v":2820.4141749999999},{"$f":"AZ58*AZ1","v":1714.1330624999998},2346.4372119444447,3181.9584250000003,2863.2533083333333,3505.8756666666663,3094.5516791666673,3343.0837541666669,4096.264341666667,4149.4432480468749,4818.5612833333344,4401.1675708333341,{"$f":"SUM(AY60:BJ60)/BK1","v":110.50724308673422}]
[]
[null,null,null,null,null,null,null,null,null,null,null,null,null,null,null,null,"Hourly emission reduction [gCO2/hr]",null,null,null,null,null,null,null,null,null,null,null,"emission savings (gCO2)",null,null,null,null,"Hourly emission reduction [gCO2]",null,null,null,null,null,null,null,null,null,null,null,"emission savings (gCO2)",null,null,null,null,"Hourly emission reduction (gCO2)",null,null,null,null,null,null,null,null,null,null,null,"emission savings (gCO2)"]
[null,null,null,null,null,null,null,null,null,null,null,null,null,null,null,null,{"$f":"Q3","v":"Jan"},"Feb","Mar","Apr","May","Jun","Jul","Aug","Sep","Oct","Nov","Dec",null,null,null,null,null,{"$f":"AH3","v":"Jan"},"Feb","Mar","Apr","May","Jun","Jul","Aug","Sep","Oct","Nov","Dec",null,null,null,null,null,{"$f":"AY3","v":"Jan"},"Feb","Mrz","Apr","Mai","Jun","Jul","Aug","Sep","Okt","Nov","Dec"]
[null,null,null,null,null,null,null,null,null,null,null,null,null,null,null,{"$f":"P4","v":"00:00:00"},{"$f":"A4*Q4/1000","v":0},{"$f":"B4*R4/1000","v":0},{"$f":"C4*S4/1000","v":0},{"$f":"D4*T4/1000","v":0},{"$f":"E4*U4/1000","v":0},{"$f":"F4*V4/1000","v":0},{"$f":"G4*W4/1000","v":0},{"$f":"H4*X4/1000","v":0},{"$f":"I4*Y4/1000","v":0},{"$f":"J4*Z4/1000","v":0},{"$f":"K4*AA4/1000","v":0},{"$f":"L4*AB4/1000","v":0},null,null,null,null,{"$f":"AG4","v":"00:00:00"},{"$f":"A4*AH4/1000","v":0},{"$f":"B4*AI4/1000","v":0},{"$f":"C4*AJ4/1000","v":0},{"$f":"D4*AK4/1000","v":0},{"$f":"E4*AL4/1000","v":0},{"$f":"F4*AM4/1000","v":0},{"$f":"G4*AN4/1000","v":0},{"$f":"H4*AO4/1000","v":0},{"$f":"I4*AP4/1000","v":0},{"$f":"J4*AQ4/1000","v":0},{"$f":"K4*AR4/1000","v":0},{"$f":"L4*AS4/1000","v":0},null,null,null,null,{"$f":"AX4","v":"00:00:00"},{"$f":"A4*AY4/1000","v":0},{"$f":"B4*AZ4/1000","v":0},{"$f":"C4*BA4/1000","v":0},{"$f":"D4*BB4/1000","v":0},{"$f":"E4*BC4/1000","v":0},{"$f":"F4*BD4/1000","v":0},{"$f":"G4*BE4/1000","v":0},{"$f":"H4*BF4/1000","v":0},{"$f":"I4*BG4/1000","v":0},{"$f":"J4*BH4/1000","v":0},{"$f":"K4*BI4/1000","v":0},{"$f":"L4*BJ4/1000","v":0}]
[null,null,null,null,null,null,null,null,null,null,null,null,null,null,null,"01:00:00",0,0,0,0,0,0,0,0,0,0,0,0,null,null,null,null,"01:00:00",0,0,0,0,0,0,0,0,0,0,0,0,null,null,null,null,"01:00:00",0,0,0,0,0,0,0,0,0,0,0,0]
[null,null,null,null,null,null,null,null,null,null,null,null,null,null,null,"02:00:00",0,0,0,0,0,0,0,0,0,0,0,0,null,null,null,null,"02:00:00",0,0,0,0,0,0,0,0,0,0,0,0,null,null,null,null,"02:00:00",0,0,0,0,0,0,0,0,0,0,0,0]
[null,null,null,null,null,null,null,null,null,null,null,null,null,null,null,"03:00:00",0,0,0,0,0,0,0,0,0,0,0,0,null,null,null,null,"03:00:00",0,0,0,0,0,0,0,0,0,0,0,0,null,null,null,null,"03:00:00",0,0,0,0,0,0,0,0,0,0,0,0]
[null,null,null,null,null,null,null,null,null,null,null,null,null,null,null,"04:00:00",0,0,0,0,1.0213900761143096E-2,0.27009970107993531,7.4387806726791033E-3,0,0,0,0,0,null,null,null,null,"04:00:00",0,0,0,0,2.3994648115410876E-2,0.40960633501531701,1.1012838172282418E-2,0,0,0,0,0,null,null,null,null,"04:00:00",0,0,0,0,7.0908962952602444E-3,0.18886478388372999,5.1192278141899356E-3,0,0,0,0,0]
[null,null,null,null,null,null,null,null,null,null,null,null,null,null,null,"05:00:00",0,0,0,0.64672040123102892,2.4431281579341233,3.5989843354417497,1.9311372479907105,1.1666224853140239,0.20382349759532878,0,0,0,null,null,null,null,"05:00:00",0,0,0,1.2261036121308648,5.0754032822221644,5.862653867941555,3.4902949688245379,1.8251455919923101,0.32884320338969952,0,0,0,null,null,null,null,"05:00:00",0,0,0,0.46062884988681591,1.6895540679949799,2.516217793713873,1.3273775078075094,0.84098654439374243,0.14662776982919795,0,0,0]
[null,null,null,null,null,null,null,null,null,null,null,null,null,null,null,"06:00:00",0,3.3912576276647296E-3,3.0047377475209536,9.8989199418505134,15.26803278873426,18.943484967187686,13.940650101836177,12.184945504247802,11.406220758323029,6.7546647585035213,0.14886291947108102,0,null,null,null,null,"06:00:00",0,7.8461339132002567E-3,3.9831796514706848,18.225284688490248,27.797997247093498,27.954246800277126,22.851699546828328,16.978167265102297,14.170033741298614,9.8951538733741522,0.22418950965274062,0,null,null,null,null,"06:00:00",0,2.2773023945391433E-3,1.9462226199187935,6.9225589643984797,10.232886791098645,13.029838810558934,9.4486097931200348,8.6328117877519777,8.0595399201452658,4.7290094544193542,0.11230099496555095,0]
[null,null,null,null,null,null,null,null,null,null,null,null,null,null,null,"07:00:00",5.2600050885330418,6.4311562290832924,17.340129709908016,35.353951722853218,41.235400629475023,49.839314199005706,42.296444074433104,41.562657311458608,46.777447833529237,32.074608361386552,14.310679192183661,8.6459022351328123,null,null,null,null,"07:00:00",10.443590361540453,18.646174073430341,28.516942096260316,58.110756058586261,71.930994138420701,68.238742471916993,71.298999977002055,56.763328936009557,64.650698984230175,41.433695689512639,22.572234627619324,13.184814799364327,null,null,null,null,"07:00:00",3.6098616783530089,4.1687609364768017,11.116489921338834,24.561167234543333,27.290740568570129,34.081075706507463,28.347701479017733,28.928295147305285,32.844396045797801,22.174533410164596,10.688954034079979,6.4230863941007756]
[null,null,null,null,null,null,null,null,null,null,null,null,null,null,null,"08:00:00",24.305043882250235,24.531208664225002,39.927581390321471,61.54889314355443,64.624430480402609,78.357423574754179,70.166564027350901,71.53463754737129,85.452758912257593,67.706852787336516,52.514833735891706,39.334944217501516,null,null,null,null,"08:00:00",43.155195185014314,62.562099818565954,82.289881214300692,100.78239743335946,108.29846009491754,77.916603027082289,85.425799707852946,90.014378681143199,124.46880865589097,92.270138816582772,70.814276798866274,53.363434492950077,null,null,null,null,"08:00:00",16.590765970291304,15.346851685282287,25.06161739851904,42.126739732189996,41.855087206922576,53.075078954820519,47.257539966952258,49.120844997155473,59.791783830781604,46.333928925497609,39.064090388892815,29.009576100751993]
[null,null,null,null,null,null,null,null,null,null,null,null,null,null,null,"09:00:00",46.675472658517094,39.79170963178877,55.507833047028861,80.107530101550523,78.551322980491292,98.147357602303359,88.888073713808552,91.397138308091385,109.20035570679224,93.310981662098968,83.422221040540336,73.37788727337454,null,null,null,null,"09:00:00",62.445984606709409,102.63559118945292,133.82807301478195,158.40356482957279,286.31038411129367,209.34148368757499,276.76512145782357,157.49626484673558,122.915947686012,162.49854949842825,128.67835726254697,108.29693489773631,null,null,null,null,"09:00:00",31.203137538769685,23.82225895172121,33.406208039288707,53.47064737335122,49.008043926606355,64.780204170446993,58.040699898240007,60.817100602705551,75.66065870869754,63.467482080139355,61.14629868025068,53.519593999787695]
[null,null,null,null,null,null,null,null,null,null,null,null,null,null,null,"10:00:00",59.817066317842311,49.782865489494377,62.655546691779236,91.406569188994197,85.801260050152635,107.35113221559858,98.545978834059838,101.16227431989556,117.56780607126073,104.49327804119632,100.51690103033972,92.389589647556292,null,null,null,null,"10:00:00",175.16284333993519,152.00439418529817,217.80034580086942,276.8240629810349,319.99400389427353,292.26458069000654,248.07379616444314,268.11310535146208,178.75413472574729,218.77952634395311,178.72534138577669,197.80459275689532,null,null,null,null,"10:00:00",38.501622223759995,28.750482141668577,36.496999609309746,59.700339979416121,52.044374133696515,69.644907318454258,62.712677192701804,65.621125876292908,79.700441376412925,69.876870302383495,72.618483243904535,65.901555246691089]
[null,null,null,null,null,null,null,null,null,null,null,null,null,null,null,"11:00:00",67.150940618258062,53.484910066329697,65.57422585995036,96.104248993714094,89.218403961694662,111.88350561330918,102.78149857880588,104.91094440860329,118.85680562420868,106.3153018554755,101.48307277796349,101.08108915238832,null,null,null,null,"11:00:00",184.65493535960667,181.55687854327158,171.66322176249471,269.19611306165507,281.20410893189802,343.66236485294644,233.27816305083769,221.24524077051902,183.11777632040076,257.96218505112438,189.40796297213379,139.14944668901217,null,null,null,null,"11:00:00",43.12163947940175,30.203498805300008,37.842097801696774,61.887429829540807,54.063496747490319,71.953541499903466,64.874886995028703,67.524569238140884,79.778982685966383,70.770206538890292,73.081045066685832,72.256490706904017]
[null,null,null,null,null,null,null,null,null,null,null,null,null,null,null,"12:00:00",67.216729394781112,52.224953745372758,64.668585424483169,93.321810260253173,85.448649763187788,109.42060583213016,101.16305234458221,103.84723106236292,115.46351541120958,101.15344543414163,97.961885513639956,98.208972151369835,null,null,null,null,"12:00:00",121.31826521104394,154.91418233842623,129.71590861113145,196.95554959261798,301.06232457698678,269.02453357507977,252.91792466131545,199.72707596739963,192.70629439228102,225.38233426515734,168.64796598303593,148.3854253708999,null,null,null,null,"12:00:00",43.326287800730313,29.344625144101713,37.227239362227877,59.387542300184087,51.798945342801105,70.032465279228205,63.13772702499984,66.126014506028397,76.765772086688003,67.642997113575817,70.791970577771735,70.626095631211342]
[null,null,null,null,null,null,null,null,null,null,null,null,null,null,null,"13:00:00",61.263036539981577,49.599489430631643,60.523135370151245,85.041282247994459,77.675293709174412,99.95900936565981,92.896297663326649,96.001001706242391,105.37417549814954,85.598232469733475,86.97509911281729,88.420313739755912,null,null,null,null,"13:00:00",129.4454917132588,151.17766413020624,115.71799421684908,138.01115965485599,180.7731031122498,193.12235598801573,208.92239821825476,228.34928046820019,166.47112468332455,177.93239199384578,156.84935883468742,157.10277332638682,null,null,null,null,"13:00:00",39.299250760687357,27.769927018403578,34.997603764770069,53.911482563679151,47.296660849775357,63.709951920392278,57.476549302358535,60.426681685098714,69.87347209399293,57.43935668545025,62.851618045056533,63.579035272768508]
[null,null,null,null,null,null,null,null,null,null,null,null,null,null,null,"14:00:00",49.430290855340019,42.590261326479009,50.698636943882292,71.736144466124188,64.834639708650428,86.198026002347973,78.489485268430457,81.432035072121792,88.1745359899639,69.873032352583138,69.448678885243197,70.932632252003415,null,null,null,null,"14:00:00",68.549639673744608,92.148948837005022,90.795397619407311,129.00591023894546,129.44593416452179,153.5900378109387,174.23491337391434,139.69603273261595,136.06682462687377,132.5586879421744,86.323304231653267,91.184476162102712,null,null,null,null,"14:00:00",31.912334816011612,24.080507451978004,29.664327028440781,45.776373528616411,39.86233252716697,55.220940925113069,48.549087239556123,51.213814611023246,58.812678948344015,47.199012990268066,50.453082841663274,51.402865395085946]
[null,null,null,null,null,null,null,null,null,null,null,null,null,null,null,"15:00:00",35.578940288875309,32.093717980093416,38.983631373764219,54.810955136873254,48.375897279234479,66.275046546967516,60.649506660838753,62.348627221887092,63.854439821975973,48.302121806733531,43.173934913031182,45.595384389611446,null,null,null,null,"15:00:00",57.469555735220474,76.226959174298841,88.020744260733821,85.804707001360129,107.36983298110236,129.80818043457313,111.67448642294666,105.36493791403906,98.642500828404081,86.347611986629857,56.288773505398289,74.591340709006076,null,null,null,null,"15:00:00",23.242459917912122,18.408081467831146,23.17660511933903,35.584696848618663,30.368234216128513,42.997626306202214,38.017993990167483,39.786718625287151,42.890481807054009,33.148024399125667,31.686403647233323,33.35265044008942]
[null,null,null,null,null,null,null,null,null,null,null,null,null,null,null,"16:00:00",15.813754041181966,17.72089652705094,23.438161405861162,33.140548493789233,29.785440503198508,42.241161354133887,38.651432489526037,38.081040487208824,35.612330607003727,22.06983375243902,15.475036054221812,16.08807811155258,null,null,null,null,"16:00:00",38.01841085919434,69.444887392037757,53.356211996639843,64.460193762591246,97.809304670860541,70.987492324675173,79.591429071072085,74.226583615344026,49.324824052275702,49.990716965680335,24.248159039320058,39.936042926902523,null,null,null,null,"16:00:00",10.411118658156676,10.430598486332039,14.040696953045744,21.728855732328004,18.966040275317805,27.478590549167336,24.409542124069812,24.459192770308064,23.941366048132537,15.120309000504854,11.433338184662496,11.796484049820176]
[null,null,null,null,null,null,null,null,null,null,null,null,null,null,null,"17:00:00",0.38614018324346061,4.3529532686432173,8.7283823503215601,12.906565601279716,12.795549339997692,18.92805386991559,16.720507161040377,14.998429954369719,10.881725617277526,2.5845322690174957,0.3045493133018205,0.37246710589547682,null,null,null,null,"17:00:00",0.70529653443235407,16.767115321823425,36.612410960660945,33.083007589223058,40.425869904779468,46.321821686643581,37.660394998395795,23.756663452556936,13.240544181647811,5.5952788843712629,0.37794430705007181,0.46773849320052879,null,null,null,null,"17:00:00",0.25646225368735104,2.6227274381074928,5.3582158966169038,8.5011872655795067,8.1825920577179083,12.245684449174322,10.561086136994483,9.6768155950438466,7.3601423720877595,1.7649742451645598,0.22640589852015131,0.27293374117128649]
[null,null,null,null,null,null,null,null,null,null,null,null,null,null,null,"18:00:00",2.401082658595793E-4,9.8746502376319184E-2,0.31656926487665815,1.854332794803023,3.2438903441477955,5.5998454355462854,3.8522789139887497,2.6432136844121246,0.66267873418258616,5.7176548968670693E-2,0,0,null,null,null,null,"18:00:00",3.7032873365266039E-4,0.18685237177525618,0.51765806834879191,5.7178501128331582,11.896268495293615,12.776726849732761,7.4041145066821574,5.8830835048890444,0.97332709423966346,0.11692263993823751,0,0,null,null,null,null,"18:00:00",1.5840243363602586E-4,6.1292441977288802E-2,0.20026350891698261,1.2290294220771059,2.0877616829572392,3.6364321780412996,2.4638207448402198,1.7292766786768383,0.45033881568365997,3.9088047098720512E-2,0,0]
[null,null,null,null,null,null,null,null,null,null,null,null,null,null,null,"19:00:00",0,0,2.7148124123324061E-3,3.7664721052270068E-2,0.180764856135124,1.1291612064381533,0.92855451820692569,7.0468823658272131E-2,1.0453873359859655E-2,0,0,0,null,null,null,null,"19:00:00",0,0,3.9574597533238078E-3,4.9012702732429317E-2,0.35939607850202554,3.16543211084681,2.4485181136683161,0.14925144976913579,1.4863295342085048E-2,0,0,0,null,null,null,null,"19:00:00",0,0,1.710155983487355E-3,2.5651702813386662E-2,0.11480070445902814,0.74246289846672675,0.59865308803213169,4.6860461505825041E-2,7.1911372158903596E-3,0,0,0]
[null,null,null,null,null,null,null,null,null,null,null,null,null,null,null,"20:00:00",0,0,0,0,2.5272725188030787E-3,2.5741939475253755E-2,2.1223206755391841E-2,3.3361618532676344E-4,0,0,0,0,null,null,null,null,"20:00:00",0,0,0,0,3.5533157219238432E-3,5.3741171991771634E-2,6.0687457590952378E-2,1.1380762414354248E-3,0,0,0,0,null,null,null,null,"20:00:00",0,0,0,0,1.5959187417844127E-3,1.7140160087524149E-2,1.3932770034680131E-2,2.2711278279901933E-4,0,0,0,0]
[null,null,null,null,null,null,null,null,null,null,null,null,null,null,null,"21:00:00",0,0,0,0,0,0,0,0,0,0,0,0,null,null,null,null,"21:00:00",0,0,0,0,0,0,0,0,0,0,0,0,null,null,null,null,"21:00:00",0,0,0,0,0,0,0,0,0,0,0,0]
[null,null,null,null,null,null,null,null,null,null,null,null,null,null,null,"22:00:00",0,0,0,0,0,0,0,0,0,0,0,0,null,null,null,null,"22:00:00",0,0,0,0,0,0,0,0,0,0,0,0,null,null,null,null,"22:00:00",0,0,0,0,0,0,0,0,0,0,0,0]
[null,null,null,null,null,null,null,null,null,null,null,null,null,null,null,"23:00:00",0,0,0,0,0,0,0,0,0,0,0,0,null,null,null,null,"23:00:00",0,0,0,0,0,0,0,0,0,0,0,0,null,null,null,null,"23:00:00",0,0,0,0,0,0,0,0,0,0,0,0]
[null,null,null,null,null,null,null,null,null,null,null,null,null,null,null,"daily co2 savings (gCO2)",{"$f":"SUM(Q64:Q87)","v":432.89765997707002},{"$f":"SUM(R64:R87)","v":372.70626011919614},491.36987139226153,727.91613721591727,699.49484572589085,898.16795376129494,811.9301235856534,823.34160151343053,909.49907395708965,740.29406209961428,665.73575448864528,634.44726027614206,null,null,null,null,"daily co2 savings",{"$f":"SUM(AH64:AH87)","v":891.36957890843428},{"$f":"SUM(AI64:AI87)","v":1078.279593509505},1152.8219267337024,1535.8556733199889,1969.780933648253,1904.5006036852585,1816.1097545356254,1589.5896786240194,1345.8465464713586,1460.7631939507723,1083.157868457741,1023.4670206244566,null,null,null,null,"daily co2 savings",{"$f":"SUM(AY64:AY87)","v":281.4750995001948},{"$f":"SUM(AZ64:AZ87)","v":215.01188927157469},290.53629717941277,475.27433132722308,434.87023791374048,585.35102370416212,517.24300448173551,534.95133623950073,616.08387364682949,499.70579319268268,484.15399160368685,458.14036697838225]
[null,null,null,null,null,null,null,null,null,null,null,null,null,null,null,"monthly savings (gCO2)",{"$f":"Q88*Q1","v":13419.82745928917},10435.775283337493,15232.466013160107,21837.484116477517,21684.340217502617,26945.038612838849,25169.833831155254,25523.589646916345,27284.97221871269,22949.115925088041,19972.072634659358,19667.865068560404,{"$f":"SUM(Q89:AB89)/1000","v":250.12238102769786},"kgCO2/y",null,null,"monthly savings",{"$f":"AH88*AH1","v":27632.456946161463},30191.82861826614,35737.479728744773,46075.67019959967,61063.208943095844,57135.018110557758,56299.402390604388,49277.280037344601,40375.396394140756,45283.659012473945,32494.736053732227,31727.477639358156,{"$f":"SUM(AH89:AS89)/1000","v":513.29361407407976},"kgCO2/y",null,null,"monthly savings",{"$f":"AY88*AY1","v":8725.7280845060395},6020.3328996040909,9006.6252125617957,14258.229939816692,13480.977375325954,17560.530711124862,16034.533138933801,16583.491423424523,18482.516209404886,15490.879588973163,14524.619748110605,14202.351376329849,{"$f":"SUM(AY89:BJ89)/1000","v":164.37081570811625},"kgCO2/y"]
[]
[null,null,null,null,null,null,null,null,null,null,null,null,null,null,null,null,null,null,"annual generation;",{"$f":"N30/M36","v":1618.4718211818799},"kWh/kWp",null,null,null,null,null,null,"OR ",{"$f":"AC89/$M$36","v":250.12238102769786},"kgCO2/y*kWp",null,null,null,null,null,null,null,null,null,null,null,null,null,null,"OR ",{"$f":"AT89/M36","v":513.29361407407976},"kgCO2/y*kWp",null,null,null,null,null,null,null,null,null,null,null,null,null,null,"OR ",{"$f":"BK89/M36","v":164.37081570811625},"kgCO2/y*kWp"]
[null,null,null,null,null,null,null,null,null,null,null,null,null,null,null,null,null,null,null,null,null,null,null,null,null,null,null,null,null,null,null,null,null,null,null,null,null,null,null,null,null,null,null,null,null,null,null,null,null,"Total annual generation per kWp: ",null,null,null,{"$f":"N30/M36","v":1618.4718211818799},"kWh/kWp"]
[null,null,null,null,null,null,null,null,null,null,null,null,null,null,null,null,null,null,null,null,null,null,null,null,null,null,null,null,"savings when calculating with average REE value",null,null,null,null,null,null,null,null,null,null,null,null,null,null,null,null,null,null,null,null,"average generation GHG emissions",null,null,null,172.5,"gCO2/kWh",null,{"$f":"BB93*BB$92/1000","v":279.1863891538743},"gCO2/Wp"]
[null,null,null,null,null,null,null,null,null,null,null,null,null,null,null,null,null,null,null,null,null,null,null,null,null,null,null,null,{"$f":"N30*M49*1000","v":0},null,null,null,null,null,null,null,null,null,null,null,null,null,null,null,null,null,null,null,null,"average generation HH impacts",null,null,null,68.034433555488647,"DALY/kWh",null,{"$f":"BB94*BB$92/1000","v":110.11181357962931},"DALY/Wp"]
[null,null,null,null,null,null,null,null,null,null,null,null,null,null,null,null,null,null,null,"Cat","REE","ei3.71","ann average","hourly average","hourly marginal","Unit",null,null,null,null,null,null,null,null,null,null,null,null,null,null,null,null,null,null,null,null,null,null,null,"average generation RES impacts",null,null,null,5877.1195222597617,"MJprim/kWh",null,{"$f":"BB95*BB$92/1000","v":9511.9523364953366},"MJprim/Wp"]
[null,null,null,null,null,null,null,null,null,null,null,null,null,null,null,null,null,"Generation","Electricity generation (per kWh)","GWP",{"$f":"BK60","v":110.50724308673422},{"$f":"V115","v":334.2},{"$f":"AC60","v":161.13403926363199},{"$f":"AC60","v":161.13403926363199},{"$f":"AT60","v":290.66901386216813},"gCO2 eq/kWh"]
[null,null,null,null,null,null,null,null,null,null,null,null,null,null,null,null,null,null,null,null,{"$f":"U96/$W96","v":0.68580942668440725},{"$f":"V96/$W96","v":2.0740496640391055},{"$f":"W96/$W96","v":1},{"$f":"X96/$W96","v":1},{"$f":"Y96/$W96","v":1.8038957826074447}]
[null,null,null,null,null,null,null,null,null,null,null,null,null,null,null,null,null,null,null,"AP",null,{"$f":"V116","v":1.07},{"$f":"AC161","v":0.49004776607079292},{"$f":"AC161","v":0.49004776607079292},{"$f":"AT161","v":0.49004776607079292},"mmolH+eq/kWh"]
[null,null,null,null,null,null,null,null,null,null,null,null,null,null,null,null,null,null,null,null,null,{"$f":"V98/$W98","v":2.1834606217660557},{"$f":"W98/$W98","v":1},{"$f":"X98/$W98","v":1},{"$f":"Y98/$W98","v":1}]
[null,null,null,null,null,null,null,null,null,null,null,null,null,null,null,null,null,null,null,"FR",null,8.5,{"$f":"AC226/1000","v":5.2859678745124299},{"$f":"AC226/1000","v":5.2859678745124299},{"$f":"AT226/1000","v":4.4471288159780187},"MJprim/kWh"]
[null,null,null,null,null,null,null,null,null,null,null,null,null,null,null,null,null,null,null,null,null,{"$f":"V100/$W100","v":1.6080309607980785},{"$f":"W100/$W100","v":1},{"$f":"X100/$W100","v":1},{"$f":"Y100/$W100","v":0.84130833208822997},null,null,null,null,{"$f":"AC193","v":789.23554383505439},{"$f":"AT193","v":789.23554383505439}]
[null,null,null,null,null,null,null,null,null,null,null,null,null,null,null,null,null,null,null,"MMR",null,0.372,{"$f":"AC379","v":0.7573512357334593},{"$f":"AC379","v":0.7573512357334593},{"$f":"AT379","v":0.23935997341335549},"gSbeq/kWh",null,null,null,{"$f":"AD101/1000","v":0.78923554383505434},{"$f":"AE101/1000","v":0.78923554383505434}]
[null,null,null,null,null,null,null,null,null,null,null,null,null,null,null,null,null,null,null,null,null,{"$f":"V102/$W102","v":0.49118557209421515},{"$f":"W102/$W102","v":1},{"$f":"X102/$W102","v":1},{"$f":"Y102/$W102","v":0.31604883192875038}]
[null,null,null,null,null,null,null,null,null,null,null,null,null,null,null,null,null,"Savings","Benefits of PV-SC\n(per kWp and year)","GWP",{"$f":"BK91-AF108","v":34.949149041449573},{"$f":"V96*$N$30/$M$36/1000-AF108","v":411.47161597231758},{"$f":"W96*$N$30/$M$36/1000-AF108","v":131.36923531473633},{"$f":"AC91-AF108","v":120.70071436103117},{"$f":"AT91-AF108","v":383.87194740741307},"kgCO2 eq/kWp"]
[null,null,null,null,null,null,null,null,null,null,null,null,null,null,null,null,null,null,null,null,{"$f":"U104/$W104","v":0.26603754644470518},{"$f":"V104/$W104","v":3.1321763804631115},{"$f":"W104/$W104","v":1},{"$f":"X104/$W104","v":0.91878980700355484},{"$f":"Y104/$W104","v":2.9220840517776256}]
[null,null,null,null,null,null,null,null,null,null,null,null,null,null,null,null,null,null,null,"AP",null,{"$f":"V98*$N$30/$M$36/1000-AF109","v":0.97776484866461177},{"$f":"W98*$N$30/$M$36/1000-AF109","v":3.9128500418708079E-2},{"$f":"AC193/1000-AF109","v":3.5235543835054339E-2},{"$f":"AT193/1000-AF109","v":3.5235543835054339E-2},"molH+eq/kWp",null,"Impacts of PV",null,"market for photovoltaic slanted-roof installation, 3kWp, single-Si, panel, mounted, on roof |",null,null,null,null,20,"y lifetime"]
[null,null,null,null,null,null,null,null,null,null,null,null,null,null,null,null,null,null,null,null,null,{"$f":"V106/$W106","v":24.988559188358874},{"$f":"W106/$W106","v":1},{"$f":"X106/$W106","v":0.90050841350944177},{"$f":"Y106/$W106","v":0.90050841350944177},null,null,"Cat","Unit","per 3kWp","per kWp","per kWp*y"]
[null,null,null,null,null,null,null,null,null,null,null,null,null,null,null,null,null,null,null,"FR",null,{"$f":"V100*$N$30/$M$36/1000-AF110","v":12.160427146712646},{"$f":"W100*$N$30/$M$36/1000-AF110","v":6.958606719237709},{"$f":"AC258/1000-AF110","v":6.4789190179603793},{"$f":"AT258/1000-AF110","v":6.2903623312710879},"GJprim/kWp",null,"GWP","kgCO2eq",7765.3,{"$f":"AD108/3","v":2588.4333333333334},{"$f":"AE108/$AI$106","v":129.42166666666668},{"$f":"AC108","v":"kgCO2eq"}]
[null,null,null,null,null,null,null,null,null,null,null,null,null,null,null,null,null,null,null,null,null,{"$f":"V108/$W108","v":1.7475376375408636},{"$f":"W108/$W108","v":1},{"$f":"X108/$W108","v":0.93106555369034016},{"$f":"Y108/$W108","v":0.90396865135096682},null,null,"AP","molH+eq",45.24,{"$f":"AD109/3","v":15.08},{"$f":"AE109/$AI$106","v":0.754},{"$f":"AC109","v":"molH+eq"}]
[null,null,null,null,null,null,null,null,null,null,null,null,null,null,null,null,null,null,null,"MMR",null,{"$f":"V102*$N$30/$M$36/1000-AF111","v":0.58967151747965929},{"$f":"W102*$N$30/$M$36/1000-AF111","v":1.2133516337718793},{"$f":"AC350/1000-AF111","v":1.9266686328448765},{"$f":"AT350/1000-AF111","v":0.47045792949911158},"kgSbeq/kWp",null,"FR","GJ",95.795000000000002,{"$f":"AD110/3","v":31.931666666666668},{"$f":"AE110/$AI$106","v":1.5965833333333335},{"$f":"AC110","v":"GJ"}]
[null,null,null,null,null,null,null,null,null,null,null,null,null,null,null,null,null,null,null,null,null,{"$f":"V110/$W110","v":0.48598567889720473},{"$f":"W110/$W110","v":1},{"$f":"X110/$W110","v":1.5878897585982952},{"$f":"Y110/$W110","v":0.38773420367566902},null,null,"MMR","kgSbeq",0.74399999999999999,{"$f":"AD111/3","v":0.248},{"$f":"AE111/$AI$106","v":1.24E-2},{"$f":"AC111","v":"kgSbeq"}]
[null,null,null,null,null,null,null,null,null,null,null,null,null,"iid"]
[null,null,null,null,null,null,null,null,null,null,null,null,null,{"$f":"#REF!","v":{"$error":"#REF!"}}]
[null,null,null,null,null,null,null,null,null,null,null,null,null,null,null,null,null,null,null,"Cat","REE","ei3.71","ann average","hourly average","annual marginal","hourly marginal","Unit"]
[null,null,null,null,null,null,null,null,null,null,null,null,null,null,null,null,null,null,"Electricity generation (per kWh)","GWP",{"$f":"U96","v":110.50724308673422},334.2,{"$f":"W96","v":161.13403926363199},161.13403926363199,{"$f":"AT60","v":290.66901386216813},{"$f":"Y96","v":290.66901386216813},"gCO2 eq/kWh"]
[null,null,null,null,null,null,null,null,null,null,null,null,null,null,null,null,null,null,null,"AP",{"$f":"U98","v":0},1.07,{"$f":"W98","v":0.49004776607079292},{"$f":"X98","v":0.49004776607079292},{"$f":"Z116","v":0.49004776607079292},{"$f":"Y98","v":0.49004776607079292},"mmolH+eq/kWh"]
[null,null,null,null,null,null,null,null,null,null,null,null,null,null,null,null,null,null,null,"FR",{"$f":"U100","v":0},{"$f":"V100","v":8.5},{"$f":"W100","v":5.2859678745124299},{"$f":"X100","v":5.2859678745124299},{"$f":"Z117","v":4.4471288159780187},{"$f":"Y100","v":4.4471288159780187},"MJprim/kWh"]
[null,null,null,null,null,null,null,null,null,null,null,null,null,null,null,null,null,null,null,"MMR",{"$f":"U102","v":0},{"$f":"V102","v":0.372},{"$f":"W102","v":0.7573512357334593},{"$f":"X102","v":0.7573512357334593},{"$f":"Z118","v":0.23935997341335549},{"$f":"Y102","v":0.23935997341335549},"gSbeq/kWh"]
[null,null,null,null,null,null,null,null,null,null,null,null,null,null,null,null,null,null,"Benefits of PV-SC\n(per kWp and year)","GWP",{"$f":"U104","v":34.949149041449573},{"$f":"V104","v":411.47161597231758},{"$f":"W104","v":131.36923531473633},{"$f":"X104","v":120.70071436103117},{"$f":"Y115*$N$30/$M$36/1000-AF108","v":341.01794155997766},{"$f":"Y104","v":383.87194740741307},"kgCO2 eq/kWp"]
[null,null,null,null,null,null,null,null,null,null,null,null,null,null,null,null,null,null,null,null,null,null,{"$f":"W105","v":1},0.91878980700355484,{"$f":"Y119/$Y119","v":1},{"$f":"Z119/Y119","v":1.1256649595953834}]
[null,null,null,null,null,null,null,null,null,null,null,null,null,null,null,null,null,null,null,"AP",{"$f":"U106","v":0},{"$f":"V106","v":0.97776484866461177},3.9128500418708079E-2,3.5235543835054339E-2,{"$f":"Y116*$N$30/$M$36/1000-AF109","v":3.9128500418708079E-2},{"$f":"Y106","v":3.5235543835054339E-2},"molH+eq/kWp"]
[null,null,null,null,null,null,null,null,null,null,null,null,null,null,null,null,null,null,null,null,null,null,1,0.90050841350944177,{"$f":"Y121/$Y121","v":1},{"$f":"Z121/Y121","v":0.90050841350944177}]
[null,null,null,null,null,null,null,null,null,null,null,null,null,null,null,null,null,null,null,"FR",{"$f":"U108","v":0},{"$f":"V108","v":12.160427146712646},6.958606719237709,{"$f":"X108","v":6.4789190179603793},{"$f":"Y117*$N$30/$M$36/1000-AF110","v":5.6009693404930285},{"$f":"Y108","v":6.2903623312710879},"GJprim/kWp"]
[null,null,null,null,null,null,null,null,null,null,null,null,null,null,null,null,null,null,null,null,null,null,{"$f":"W109","v":1},{"$f":"X123/W123","v":0.93106555369034016},{"$f":"Y123/$Y123","v":1},{"$f":"Z123/Y123","v":1.1230845856973348}]
[null,null,null,null,null,null,null,null,null,null,null,null,null,null,null,null,null,null,null,"MMR",{"$f":"U110","v":0},{"$f":"V110","v":0.58967151747965929},{"$f":"W110","v":1.2133516337718793},{"$f":"X110","v":1.9266686328448765},{"$f":"Y118*$N$30/$M$36/1000-AF111","v":0.37499737208835981},{"$f":"Y110","v":0.47045792949911158},"kgSbeq/kWp"]
[null,null,null,null,null,null,null,null,null,null,null,null,null,null,null,null,null,null,null,null,null,null,{"$f":"W111","v":1},{"$f":"X111","v":1.5878897585982952},{"$f":"Y125/$Y125","v":1},{"$f":"Z125/Y125","v":1.2545632703480882}]
[]
[]
[]
[]
[]
[]
[]
[null,null,null,null,null,null,null,null,null,null,null,null,null,null,null,"TIER 1","Hourly acidification impacts [molH+eq/kWh] - average mix",null,null,null,null,null,null,null,null,null,null,null,null,null,null,null,"TIER 2","Hourly acidification impacts [molH+eq/kWh] - marginal mix"]
[null,null,null,null,null,null,null,null,null,null,null,null,null,null,null,"hour","Jan","Feb","Mar","Apr","May","Jun","Jul","Aug","Sep","Oct","Nov","Dec",null,null,null,null,"hour","Jan","Feb","Mar","Apr","May","Jun","Jul","Aug","Sep","Oct","Nov","Dec"]
[null,null,null,null,null,null,null,null,null,null,null,null,null,null,null,"00:00:00",0.52905701118867554,0.26739105642454858,0.33341392643345036,0.36935864239670391,0.44280360753449011,0.5093314031120777,0.39137724921279698,0.41554781680534736,0.57507005822202262,0.65795811315303199,0.65178865559054477,0.7243142905729274,null,null,null,null,"00:00:00",0.52905701118867554,0.26739105642454858,0.33341392643345036,0.36935864239670391,0.44280360753449011,0.5093314031120777,0.39137724921279698,0.41554781680534736,0.57507005822202262,0.65795811315303199,0.65178865559054477,0.7243142905729274]
[null,null,null,null,null,null,null,null,null,null,null,null,null,null,null,"01:00:00",0.53176179768410636,0.27152762183705559,0.35791533846270102,0.36611469753987236,0.44393733633265842,0.51861778075223497,0.38954093425747971,0.41868326042032011,0.58371729226900593,0.67226143290719631,0.66842310965675145,0.74989965060358776,null,null,null,null,"01:00:00",0.53176179768410636,0.27152762183705559,0.35791533846270102,0.36611469753987236,0.44393733633265842,0.51861778075223497,0.38954093425747971,0.41868326042032011,0.58371729226900593,0.67226143290719631,0.66842310965675145,0.74989965060358776]
[null,null,null,null,null,null,null,null,null,null,null,null,null,null,null,"02:00:00",0.53576287135188605,0.27499585803974969,0.37036982000342866,0.37435864139921643,0.45331720752539306,0.54355667331386337,0.39435405560823411,0.42097740563374625,0.59150932513187804,0.67456170186864861,0.6786649750185928,0.76473573198752764,null,null,null,null,"02:00:00",0.53576287135188605,0.27499585803974969,0.37036982000342866,0.37435864139921643,0.45331720752539306,0.54355667331386337,0.39435405560823411,0.42097740563374625,0.59150932513187804,0.67456170186864861,0.6786649750185928,0.76473573198752764]
[null,null,null,null,null,null,null,null,null,null,null,null,null,null,null,"03:00:00",0.5245853636429062,0.28058046175021972,0.37186630559228356,0.38507414384017336,0.45669107774939077,0.55103877098655085,0.39954383647810421,0.42549861534400085,0.59896996428586313,0.68480538764548071,0.67732167771189244,0.77474347301744306,null,null,null,null,"03:00:00",0.5245853636429062,0.28058046175021972,0.37186630559228356,0.38507414384017336,0.45669107774939077,0.55103877098655085,0.39954383647810421,0.42549861534400085,0.59896996428586313,0.68480538764548071,0.67732167771189244,0.77474347301744306]
[null,null,null,null,null,null,null,null,null,null,null,null,null,null,null,"04:00:00",0.52598345114000222,0.2846761368534832,0.3754976769607008,0.3895867757551702,0.45640560246212525,0.55782864155358036,0.40517756593866305,0.43759141924022482,0.60363362513616992,0.69904434518723269,0.68720982221265636,0.78111596064148536,null,null,null,null,"04:00:00",0.52598345114000222,0.2846761368534832,0.3754976769607008,0.3895867757551702,0.45640560246212525,0.55782864155358036,0.40517756593866305,0.43759141924022482,0.60363362513616992,0.69904434518723269,0.68720982221265636,0.78111596064148536]
[null,null,null,null,null,null,null,null,null,null,null,null,null,null,null,"05:00:00",0.53455243252612716,0.28497289881681981,0.375604582875671,0.38106950366089731,0.4528629685564497,0.55288358989432873,0.40948744391979897,0.44360513244959138,0.61038154377410503,0.6943765928691239,0.688617900935798,0.77466802405319934,null,null,null,null,"05:00:00",0.53455243252612716,0.28497289881681981,0.375604582875671,0.38106950366089731,0.4528629685564497,0.55288358989432873,0.40948744391979897,0.44360513244959138,0.61038154377410503,0.6943765928691239,0.688617900935798,0.77466802405319934]
[null,null,null,null,null,null,null,null,null,null,null,null,null,null,null,"06:00:00",0.52489116669593372,0.28038221627594112,0.36152922557089556,0.39804185715863111,0.46468518515968721,0.55472048579340094,0.41667938567857021,0.4391610353541856,0.59893554915019231,0.66748760800717366,0.65267832866185493,0.7349164216214118,null,null,null,null,"06:00:00",0.52489116669593372,0.28038221627594112,0.36152922557089556,0.39804185715863111,0.46468518515968721,0.55472048579340094,0.41667938567857021,0.4391610353541856,0.59893554915019231,0.66748760800717366,0.65267832866185493,0.7349164216214118]
[null,null,null,null,null,null,null,null,null,null,null,null,null,null,null,"07:00:00",0.50216054340678851,0.27783391641764688,0.34964820687332915,0.40395843681354449,0.46617075969911104,0.55236161590811839,0.4359254868073319,0.45153315409993128,0.57988115252341599,0.62782229425044023,0.62045361379625419,0.68482537990089631,null,null,null,null,"07:00:00",0.50216054340678851,0.27783391641764688,0.34964820687332915,0.40395843681354449,0.46617075969911104,0.55236161590811839,0.4359254868073319,0.45153315409993128,0.57988115252341599,0.62782229425044023,0.62045361379625419,0.68482537990089631]
[null,null,null,null,null,null,null,null,null,null,null,null,null,null,null,"08:00:00",0.4797694410892292,0.28118835013372967,0.34200286990318246,0.40980599999032208,0.466010776707034,0.54133510858063838,0.42452856977484721,0.44916592792475429,0.57990083722883157,0.61316906436228236,0.60223499444217932,0.66457531097457689,null,null,null,null,"08:00:00",0.4797694410892292,0.28118835013372967,0.34200286990318246,0.40980599999032208,0.466010776707034,0.54133510858063838,0.42452856977484721,0.44916592792475429,0.57990083722883157,0.61316906436228236,0.60223499444217932,0.66457531097457689]
[null,null,null,null,null,null,null,null,null,null,null,null,null,null,null,"09:00:00",0.47013541706531875,0.28871715968740402,0.35327923818774393,0.4208947913551716,0.47570886887539426,0.54583680976702476,0.43726277050683676,0.44994177333956636,0.56863657711275317,0.60135373834620909,0.59662586000721685,0.6449097466859457,null,null,null,null,"09:00:00",0.47013541706531875,0.28871715968740402,0.35327923818774393,0.4208947913551716,0.47570886887539426,0.54583680976702476,0.43726277050683676,0.44994177333956636,0.56863657711275317,0.60135373834620909,0.59662586000721685,0.6449097466859457]
[null,null,null,null,null,null,null,null,null,null,null,null,null,null,null,"10:00:00",0.48167351889011867,0.29783009218013923,0.36634509633070089,0.43829599588118306,0.48497550325284067,0.54905091818902174,0.44073204736641941,0.45143583574551355,0.56306939112137533,0.60097628205664833,0.59613743663369867,0.64468863034747781,null,null,null,null,"10:00:00",0.48167351889011867,0.29783009218013923,0.36634509633070089,0.43829599588118306,0.48497550325284067,0.54905091818902174,0.44073204736641941,0.45143583574551355,0.56306939112137533,0.60097628205664833,0.59613743663369867,0.64468863034747781]
[null,null,null,null,null,null,null,null,null,null,null,null,null,null,null,"11:00:00",0.48220648776052172,0.30235770925984262,0.37929706688195408,0.44917017414398858,0.48962204343342475,0.55453845732626827,0.43337359083387883,0.448582174433931,0.55082487025305515,0.59567358627175837,0.59617352576661997,0.64434923694691115,null,null,null,null,"11:00:00",0.48220648776052172,0.30235770925984262,0.37929706688195408,0.44917017414398858,0.48962204343342475,0.55453845732626827,0.43337359083387883,0.448582174433931,0.55082487025305515,0.59567358627175837,0.59617352576661997,0.64434923694691115]
[null,null,null,null,null,null,null,null,null,null,null,null,null,null,null,"12:00:00",0.48455382817915355,0.30384625091884893,0.38935641705683882,0.45278908483087416,0.49005652622250978,0.55222028714839433,0.43094110657867934,0.4459730076415071,0.5471395376968331,0.59213057946546122,0.59361908194684732,0.64046327943852188,null,null,null,null,"12:00:00",0.48455382817915355,0.30384625091884893,0.38935641705683882,0.45278908483087416,0.49005652622250978,0.55222028714839433,0.43094110657867934,0.4459730076415071,0.5471395376968331,0.59213057946546122,0.59361908194684732,0.64046327943852188]
[null,null,null,null,null,null,null,null,null,null,null,null,null,null,null,"13:00:00",0.4860996697132518,0.30408805346077239,0.38193647954433851,0.45145184848932551,0.48996222584084981,0.54890130234328405,0.42660145739958516,0.4437074782573342,0.54100251119651788,0.58203496987798664,0.59378612883617887,0.64305664059992973,null,null,null,null,"13:00:00",0.4860996697132518,0.30408805346077239,0.38193647954433851,0.45145184848932551,0.48996222584084981,0.54890130234328405,0.42660145739958516,0.4437074782573342,0.54100251119651788,0.58203496987798664,0.59378612883617887,0.64305664059992973]
[null,null,null,null,null,null,null,null,null,null,null,null,null,null,null,"14:00:00",0.49100232451548825,0.30088340175099876,0.37584465516300203,0.46210527602955204,0.48349317129322106,0.5391851613351728,0.42573647432607598,0.44053807857614047,0.54166617447128307,0.58135385578847754,0.59553525545670927,0.65199033553957642,null,null,null,null,"14:00:00",0.49100232451548825,0.30088340175099876,0.37584465516300203,0.46210527602955204,0.48349317129322106,0.5391851613351728,0.42573647432607598,0.44053807857614047,0.54166617447128307,0.58135385578847754,0.59553525545670927,0.65199033553957642]
[null,null,null,null,null,null,null,null,null,null,null,null,null,null,null,"15:00:00",0.49727648044642098,0.30543005655794525,0.37444316824636448,0.46782550715790983,0.47504411858595513,0.53453522021001409,0.41968239671069235,0.43945529859675631,0.54426134745268695,0.58850352743948853,0.60186165215848686,0.65995032076546611,null,null,null,null,"15:00:00",0.49727648044642098,0.30543005655794525,0.37444316824636448,0.46782550715790983,0.47504411858595513,0.53453522021001409,0.41968239671069235,0.43945529859675631,0.54426134745268695,0.58850352743948853,0.60186165215848686,0.65995032076546611]
[null,null,null,null,null,null,null,null,null,null,null,null,null,null,null,"16:00:00",0.50074385816525668,0.30094387854509819,0.37575203138415675,0.46706818424527208,0.46548576291054689,0.53247605243101925,0.41553975989592717,0.43574725487215771,0.55050158559989637,0.60260170569099458,0.60510272339056925,0.66751450664228906,null,null,null,null,"16:00:00",0.50074385816525668,0.30094387854509819,0.37575203138415675,0.46706818424527208,0.46548576291054689,0.53247605243101925,0.41553975989592717,0.43574725487215771,0.55050158559989637,0.60260170569099458,0.60510272339056925,0.66751450664228906]
[null,null,null,null,null,null,null,null,null,null,null,null,null,null,null,"17:00:00",0.49914436069976409,0.29503905441818146,0.36639834505191798,0.45976529109646019,0.45519481498019604,0.53880926549908559,0.41852485545785895,0.43203924939034594,0.55316659074258845,0.60554430996978237,0.60628091307593757,0.6652250510527955,null,null,null,null,"17:00:00",0.49914436069976409,0.29503905441818146,0.36639834505191798,0.45976529109646019,0.45519481498019604,0.53880926549908559,0.41852485545785895,0.43203924939034594,0.55316659074258845,0.60554430996978237,0.60628091307593757,0.6652250510527955]
[null,null,null,null,null,null,null,null,null,null,null,null,null,null,null,"18:00:00",0.48533628327833228,0.28616496597394575,0.34605210056581936,0.44650860559511446,0.44399052811585832,0.53948969152859705,0.41928547901778479,0.42463547557597509,0.5575066063305224,0.61415098925716349,0.5855904942567175,0.63479184190167415,null,null,null,null,"18:00:00",0.48533628327833228,0.28616496597394575,0.34605210056581936,0.44650860559511446,0.44399052811585832,0.53948969152859705,0.41928547901778479,0.42463547557597509,0.5575066063305224,0.61415098925716349,0.5855904942567175,0.63479184190167415]
[null,null,null,null,null,null,null,null,null,null,null,null,null,null,null,"19:00:00",0.47508204907179219,0.27697973378372853,0.31908215343462742,0.40920640133307129,0.44285587191380094,0.52892075774993663,0.41594596230382946,0.42353604668800515,0.55179894920452122,0.59798795044889719,0.58001576546124933,0.62643813972433138,null,null,null,null,"19:00:00",0.47508204907179219,0.27697973378372853,0.31908215343462742,0.40920640133307129,0.44285587191380094,0.52892075774993663,0.41594596230382946,0.42353604668800515,0.55179894920452122,0.59798795044889719,0.58001576546124933,0.62643813972433138]
[null,null,null,null,null,null,null,null,null,null,null,null,null,null,null,"20:00:00",0.47072297809401953,0.27071432938080048,0.30212521255644703,0.37914916983761482,0.4297074036474568,0.51115830029833165,0.40171932885369471,0.41092029374432582,0.53313274034189861,0.57002582238477173,0.57591795392340173,0.62193573652597656,null,null,null,null,"20:00:00",0.47072297809401953,0.27071432938080048,0.30212521255644703,0.37914916983761482,0.4297074036474568,0.51115830029833165,0.40171932885369471,0.41092029374432582,0.53313274034189861,0.57002582238477173,0.57591795392340173,0.62193573652597656]
[null,null,null,null,null,null,null,null,null,null,null,null,null,null,null,"21:00:00",0.47366872381181718,0.26558531242226791,0.2968158338641087,0.37049961377403756,0.41665289954603402,0.49135192689555507,0.38636159542177734,0.40022024825538188,0.52942960470105127,0.57761768869532393,0.5863823151532721,0.62947274163963252,null,null,null,null,"21:00:00",0.47366872381181718,0.26558531242226791,0.2968158338641087,0.37049961377403756,0.41665289954603402,0.49135192689555507,0.38636159542177734,0.40022024825538188,0.52942960470105127,0.57761768869532393,0.5863823151532721,0.62947274163963252]
[null,null,null,null,null,null,null,null,null,null,null,null,null,null,null,"22:00:00",0.48916148060737613,0.27104474795430999,0.30495926718039107,0.37690089787989367,0.42128568908507558,0.49054056382379957,0.38672390249657945,0.40491344350892389,0.54955729855414681,0.59883240916073055,0.60852725982780065,0.65388831982231932,null,null,null,null,"22:00:00",0.48916148060737613,0.27104474795430999,0.30495926718039107,0.37690089787989367,0.42128568908507558,0.49054056382379957,0.38672390249657945,0.40491344350892389,0.54955729855414681,0.59883240916073055,0.60852725982780065,0.65388831982231932]
[null,null,null,null,null,null,null,null,null,null,null,null,null,null,null,"23:00:00",0.49871812414333605,0.26760386542130504,0.3156108540711996,0.3777979447909674,0.42938302723030175,0.5036409988175331,0.38990644645017597,0.41170411336655,0.57035781012342535,0.62288990788548138,0.63424392486227665,0.67210321190166133,null,null,null,null,"23:00:00",0.49871812414333605,0.26760386542130504,0.3156108540711996,0.3777979447909674,0.42938302723030175,0.5036409988175331,0.38990644645017597,0.41170411336655,0.57035781012342535,0.62288990788548138,0.63424392486227665,0.67210321190166133]
[null,null,null,null,null,null,null,null,null,null,null,null,null,null,null,"Avg",0.49710631161007685,0.28574106287772394,0.35352280475450443,0.41554361793678313,0.45930073686969825,0.53488834233607441,0.41413117588227943,0.4319402202699853,0.56314543082624058,0.6180862519709045,0.61608167993020102,0.67678065104203988,null,null,null,null,"Avg",0.49710631161007685,0.28574106287772394,0.35352280475450443,0.41554361793678313,0.45930073686969825,0.53488834233607441,0.41413117588227943,0.4319402202699853,0.56314543082624058,0.6180862519709045,0.61608167993020102,0.67678065104203988]
[null,null,null,null,null,null,null,null,null,null,null,null,null,null,null,null,{"$f":"Q160*Q$1","v":15.410295659912382},{"$f":"R160*R$1","v":8.0007497605762694},10.959206947389637,12.466308538103494,14.238322842960645,16.046650270082232,12.838066452350663,13.390146828369545,16.894362924787217,19.160673811098039,18.482450397906032,20.980200182303236,{"$f":"SUM(Q161:AB161)/AC$1","v":0.49004776607079292},null,null,null,null,{"$f":"AH160*AH$1","v":15.410295659912382},8.0007497605762694,10.959206947389637,12.466308538103494,14.238322842960645,16.046650270082232,12.838066452350663,13.390146828369545,16.894362924787217,19.160673811098039,18.482450397906032,20.980200182303236,{"$f":"SUM(AH161:AS161)/AT$1","v":0.49004776607079292}]
[]
[]
[null,null,null,null,null,null,null,null,null,null,null,null,null,null,null,null,"Hourly acidification impacts reduction [molH+eq] (average mix)",null,null,null,null,null,null,null,null,null,null,null,"emission savings (gCO2)",null,null,null,null,"Hourly acidification impacts reduction [molH+eq] (marginal mix)",null,null,null,null,null,null,null,null,null,null,null,"emission savings (gCO2)"]
[null,null,null,null,null,null,null,null,null,null,null,null,null,null,null,"hour","Jan","Feb","Mar","Apr","May","Jun","Jul","Aug","Sep","Oct","Nov","Dec",null,null,null,null,"hour","Jan","Feb","Mar","Apr","May","Jun","Jul","Aug","Sep","Oct","Nov","Dec"]
[null,null,null,null,null,null,null,null,null,null,null,null,null,null,null,{"$f":"P136","v":"00:00:00"},{"$f":"A4*Q136/1000","v":0},{"$f":"B4*R136/1000","v":0},{"$f":"C4*S136/1000","v":0},{"$f":"D4*T136/1000","v":0},{"$f":"E4*U136/1000","v":0},{"$f":"F4*V136/1000","v":0},{"$f":"G4*W136/1000","v":0},{"$f":"H4*X136/1000","v":0},{"$f":"I4*Y136/1000","v":0},{"$f":"J4*Z136/1000","v":0},{"$f":"K4*AA136/1000","v":0},{"$f":"L4*AB136/1000","v":0},null,null,null,null,{"$f":"AG136","v":"00:00:00"},{"$f":"A4*AH136/1000","v":0},{"$f":"B4*AI136/1000","v":0},{"$f":"C4*AJ136/1000","v":0},{"$f":"D4*AK136/1000","v":0},{"$f":"E4*AL136/1000","v":0},{"$f":"F4*AM136/1000","v":0},{"$f":"G4*AN136/1000","v":0},{"$f":"H4*AO136/1000","v":0},{"$f":"I4*AP136/1000","v":0},{"$f":"J4*AQ136/1000","v":0},{"$f":"K4*AR136/1000","v":0},{"$f":"L4*AS136/1000","v":0}]
[null,null,null,null,null,null,null,null,null,null,null,null,null,null,null,{"$f":"P107","v":"00:00:00"},0,0,0,0,0,0,0,0,0,0,0,0,null,null,null,null,{"$f":"#REF!","v":{"$error":"#REF!"}},0,0,0,0,0,0,0,0,0,0,0,0]
[null,null,null,null,null,null,null,null,null,null,null,null,null,null,null,"00:00:00",0,0,0,0,0,0,0,0,0,0,0,0,null,null,null,null,{"$f":"#REF!","v":{"$error":"#REF!"}},0,0,0,0,0,0,0,0,0,0,0,0]
[null,null,null,null,null,null,null,null,null,null,null,null,"Daily","w/o EV",null,"00:00:00",0,0,0,0,0,0,0,0,0,0,0,0,null,null,null,null,{"$f":"#REF!","v":{"$error":"#REF!"}},0,0,0,0,0,0,0,0,0,0,0,0]
[null,null,null,null,null,null,null,null,null,null,null,null,null,null,null,"00:00:00",0,0,0,0,3.0279263941094891E-5,8.0924755511847606E-4,1.9092284566241498E-5,0,0,0,0,0,null,null,null,null,{"$f":"#REF!","v":{"$error":"#REF!"}},0,0,0,0,3.0279263941094891E-5,8.0924755511847606E-4,1.9092284566241498E-5,0,0,0,0,0]
[null,null,null,null,null,null,null,null,null,null,null,null,null,null,null,"00:00:00",0,0,0,1.5535084844192034E-3,7.0920658628613091E-3,1.0572709072397022E-2,4.8873662998844963E-3,2.9924927068037846E-3,6.0135113194843023E-4,0,0,0,null,null,null,null,{"$f":"#REF!","v":{"$error":"#REF!"}},0,0,0,1.5535084844192034E-3,7.0920658628613091E-3,1.0572709072397022E-2,4.8873662998844963E-3,2.9924927068037846E-3,6.0135113194843023E-4,0,0,0]
[null,null,null,null,null,null,null,null,null,null,null,null,null,null,null,"00:00:00",0,9.5612550769604493E-6,8.2927421919177288E-3,2.3554438962178008E-2,4.3895751813517299E-2,5.4149672602076641E-2,3.4354970341719332E-2,3.0582341852742452E-2,3.2209831472551652E-2,2.1281173662288714E-2,4.3542596657701648E-4,0,null,null,null,null,{"$f":"AG112","v":"00:00:00"},0,9.5612550769604493E-6,8.2927421919177288E-3,2.3554438962178008E-2,4.3895751813517299E-2,5.4149672602076641E-2,3.4354970341719332E-2,3.0582341852742452E-2,3.2209831472551652E-2,2.1281173662288714E-2,4.3542596657701648E-4,0]
[null,null,null,null,null,null,null,null,null,null,null,null,null,null,null,"00:00:00",1.8844356757466367E-2,1.762691333023967E-2,4.694209903427355E-2,8.4161888363538079E-2,0.11933478239633481,0.14258699208918815,0.10639227945803818,0.10566367074010051,0.12582608016382291,9.6755587278974806E-2,3.9665067180793892E-2,3.0374553149017981E-2,null,null,null,null,"00:00:00",1.8844356757466367E-2,1.762691333023967E-2,4.694209903427355E-2,8.4161888363538079E-2,0.11933478239633481,0.14258699208918815,0.10639227945803818,0.10566367074010051,0.12582608016382291,9.6755587278974806E-2,3.9665067180793892E-2,3.0374553149017981E-2]
[null,null,null,null,null,null,null,null,null,null,null,null,null,null,null,"00:00:00",8.4198285672457365E-2,6.7784568397181486E-2,0.10870139188331196,0.15138930309842483,0.19501129672320416,0.22858798477512696,0.17891498459790511,0.18774412630110771,0.22962219791185948,0.20040745345667241,0.14208595265253737,0.13432643407433831,null,null,null,null,"00:00:00",8.4198285672457365E-2,6.7784568397181486E-2,0.10870139188331196,0.15138930309842483,0.19501129672320416,0.22858798477512696,0.17891498459790511,0.18774412630110771,0.22962219791185948,0.20040745345667241,0.14208595265253737,0.13432643407433831]
[null,null,null,null,null,null,null,null,null,null,null,null,null,null,null,"00:00:00",0.16170312371315812,0.11502167701293008,0.16015483969129257,0.20854824261792881,0.25444504763669312,0.30092427633619223,0.24517355025237816,0.25571371626100797,0.30320272065502263,0.28133127130220792,0.23102928391749855,0.24902102550444882,null,null,null,null,"00:00:00",0.16170312371315812,0.11502167701293008,0.16015483969129257,0.20854824261792881,0.25444504763669312,0.30092427633619223,0.24517355025237816,0.25571371626100797,0.30320272065502263,0.28133127130220792,0.23102928391749855,0.24902102550444882]
[null,null,null,null,null,null,null,null,null,null,null,null,null,null,null,"00:00:00",0.21671878834600841,0.15333511866170768,0.19471737901237185,0.25293394835797339,0.30127306790318681,0.34542679802226256,0.28813920642277918,0.30211684210948309,0.35139258651481819,0.33570256262689502,0.28979557066224182,0.32068434510077498,null,null,null,null,"00:00:00",0.21671878834600841,0.15333511866170768,0.19471737901237185,0.25293394835797339,0.30127306790318681,0.34542679802226256,0.28813920642277918,0.30211684210948309,0.35139258651481819,0.33570256262689502,0.28979557066224182,0.32068434510077498]
[null,null,null,null,null,null,null,null,null,null,null,null,null,null,null,"00:00:00",0.24595330566654544,0.17245782266295942,0.21447750908760316,0.2784474452887159,0.32395983514921056,0.37114265215931613,0.30442141537481759,0.32129759251006035,0.36315108134366614,0.35658308720520976,0.30038541722313783,0.35581877262727951,null,null,null,null,"00:00:00",0.24595330566654544,0.17245782266295942,0.21447750908760316,0.2784474452887159,0.32395983514921056,0.37114265215931613,0.30442141537481759,0.32129759251006035,0.36315108134366614,0.35658308720520976,0.30038541722313783,0.35581877262727951]
[null,null,null,null,null,null,null,null,null,null,null,null,null,null,null,"00:00:00",0.25048590524106146,0.17276534965655257,0.21953134257962795,0.27718498981050155,0.31688849572546507,0.3692685905311513,0.30594520789105956,0.32105960734086336,0.3601487791242593,0.34516742196961425,0.28950318233376876,0.34632224357081037,null,null,null,null,"00:00:00",0.25048590524106146,0.17276534965655257,0.21953134257962795,0.27718498981050155,0.31688849572546507,0.3692685905311513,0.30594520789105956,0.32105960734086336,0.3601487791242593,0.34516742196961425,0.28950318233376876,0.34632224357081037]
[null,null,null,null,null,null,null,null,null,null,null,null,null,null,null,"00:00:00",0.22983378620244221,0.16411039273573638,0.20543090622340124,0.25653427147978708,0.29266935194489418,0.3406140285292884,0.28503872087046783,0.29933835830844624,0.32969630048665194,0.29593413222144244,0.25735538750351972,0.31273305457062023,null,null,null,null,"00:00:00",0.22983378620244221,0.16411039273573638,0.20543090622340124,0.25653427147978708,0.29266935194489418,0.3406140285292884,0.28503872087046783,0.29933835830844624,0.32969630048665194,0.29593413222144244,0.25735538750351972,0.31273305457062023]
[null,null,null,null,null,null,null,null,null,null,null,null,null,null,null,"00:00:00",0.1863743677381943,0.13930497715546089,0.16952930198227886,0.22176337002971341,0.24604901732040724,0.29322454867115216,0.24364438630289054,0.2540852091699381,0.27687378091331571,0.24248437917555576,0.20568740772495647,0.25120165307493753,null,null,null,null,"00:00:00",0.1863743677381943,0.13930497715546089,0.16952930198227886,0.22176337002971341,0.24604901732040724,0.29322454867115216,0.24364438630289054,0.2540852091699381,0.27687378091331571,0.24248437917555576,0.20568740772495647,0.25120165307493753]
[null,null,null,null,null,null,null,null,null,null,null,null,null,null,null,"00:00:00",0.13374813858582357,0.10444734834121534,0.12923589173102931,0.17202486575784648,0.18182416248407049,0.22694442192394881,0.18806307299982666,0.19586565725076691,0.2026762422620339,0.16987775779265812,0.12688440128465395,0.16119785507139009,null,null,null,null,"00:00:00",0.13374813858582357,0.10444734834121534,0.12923589173102931,0.17202486575784648,0.18182416248407049,0.22694442192394881,0.18806307299982666,0.19586565725076691,0.2026762422620339,0.16987775779265812,0.12688440128465395,0.16119785507139009]
[null,null,null,null,null,null,null,null,null,null,null,null,null,null,null,"00:00:00",5.8384269200799033E-2,5.5606660189853385E-2,7.6233857199165062E-2,0.10357157584047587,0.10939382776103812,0.14372340148617113,0.11948019702764713,0.12001433685667394,0.11288677998577855,7.7620195293023428E-2,4.3513308372087993E-2,5.4929580512503101E-2,null,null,null,null,"00:00:00",5.8384269200799033E-2,5.5606660189853385E-2,7.6233857199165062E-2,0.10357157584047587,0.10939382776103812,0.14372340148617113,0.11948019702764713,0.12001433685667394,0.11288677998577855,7.7620195293023428E-2,4.3513308372087993E-2,5.4929580512503101E-2]
[null,null,null,null,null,null,null,null,null,null,null,null,null,null,null,"00:00:00",1.3609080150205422E-3,1.2706814575289627E-2,2.6373725870352315E-2,3.8851825011290579E-2,4.5972092627229968E-2,6.3710835630687232E-2,5.1002784862029846E-2,4.6557082650737422E-2,3.3413357475898076E-2,8.6884391377865886E-3,7.9574681469606133E-4,1.2031257612440656E-3,null,null,null,null,"00:00:00",1.3609080150205422E-3,1.2706814575289627E-2,2.6373725870352315E-2,3.8851825011290579E-2,4.5972092627229968E-2,6.3710835630687232E-2,5.1002784862029846E-2,4.6557082650737422E-2,3.3413357475898076E-2,8.6884391377865886E-3,7.9574681469606133E-4,1.2031257612440656E-3]
[null,null,null,null,null,null,null,null,null,null,null,null,null,null,null,"00:00:00",8.1338284252668946E-7,2.6631019390185027E-4,8.6716289224285207E-4,5.2356751618749696E-3,1.1175216729206581E-2,1.8309137491313927E-2,1.142364000286618E-2,7.8142590510861618E-3,1.9528353671690879E-3,1.7707365914727659E-4,0,0,null,null,null,null,"00:00:00",8.1338284252668946E-7,2.6631019390185027E-4,8.6716289224285207E-4,5.2356751618749696E-3,1.1175216729206581E-2,1.8309137491313927E-2,1.142364000286618E-2,7.8142590510861618E-3,1.9528353671690879E-3,1.7707365914727659E-4,0,0]
[null,null,null,null,null,null,null,null,null,null,null,null,null,"with EV",null,"00:00:00",0,0,6.7935372862610126E-6,9.6340477897720287E-5,5.8929456250943083E-4,3.5782959661489764E-3,2.6451822258647712E-3,1.9391093042642662E-4,2.836350668193059E-5,0,0,0,null,null,null,null,"00:00:00",0,0,6.7935372862610126E-6,9.6340477897720287E-5,5.8929456250943083E-4,3.5782959661489764E-3,2.6451822258647712E-3,1.9391093042642662E-4,2.836350668193059E-5,0,0,0]
[null,null,null,null,null,null,null,null,null,null,null,null,null,null,null,"00:00:00",0,0,0,0,7.6447387846935285E-6,7.6721140664670002E-5,5.6312858044734018E-5,8.3755746688378476E-7,0,0,0,0,null,null,null,null,"00:00:00",0,0,0,0,7.6447387846935285E-6,7.6721140664670002E-5,5.6312858044734018E-5,8.3755746688378476E-7,0,0,0,0]
[null,null,null,null,null,null,null,null,null,null,null,null,null,null,null,"00:00:00",0,0,0,0,0,0,0,0,0,0,0,0,null,null,null,null,"00:00:00",0,0,0,0,0,0,0,0,0,0,0,0]
[null,null,null,null,null,null,null,null,null,null,null,null,null,null,null,"00:00:00",0,0,0,0,0,0,0,0,0,0,0,0,null,null,null,null,"00:00:00",0,0,0,0,0,0,0,0,0,0,0,0]
[null,null,null,null,null,null,null,null,null,null,null,null,null,null,null,"00:00:00",0,0,0,0,0,0,0,0,0,0,0,0,null,null,null,null,"00:00:00",0,0,0,0,0,0,0,0,0,0,0,0]
[null,null,null,null,null,null,null,null,null,null,null,null,null,null,null,"daily co2 savings",{"$f":"SUM(Q166:Q189)","v":1.5876060485218195},{"$f":"SUM(R166:R189)","v":1.1754435141681052},1.5604949429161543,2.0758516887425662,2.4496112306425544,2.9136503139822039,2.3696023700727857,2.4510400415977114,2.7236822883154779,2.432010534781476,1.9271361516364693,2.217812643017365,null,null,null,null,"daily co2 savings",{"$f":"SUM(AH166:AH189)","v":1.5876060485218195},{"$f":"SUM(AI166:AI189)","v":1.1754435141681052},1.5604949429161543,2.0758516887425662,2.4496112306425544,2.9136503139822039,2.3696023700727857,2.4510400415977114,2.7236822883154779,2.432010534781476,1.9271361516364693,2.217812643017365]
[null,null,null,null,null,null,null,null,null,null,null,null,null,null,null,"monthly savings",{"$f":"Q190*Q$1","v":49.215787504176404},{"$f":"R190*R$1","v":32.912418396706947},48.375343230400787,62.275550662276984,75.93794814991918,87.409509419466119,73.45767347225636,75.982241289529057,81.710468649464332,75.392326578225749,57.814084549094083,68.752191933538313,{"$f":"SUM(Q191:AB191)","v":789.23554383505439},"molH+eq/y",null,null,"monthly savings",{"$f":"AH190*AH$1","v":49.215787504176404},{"$f":"AI190*AI$1","v":32.912418396706947},48.375343230400787,62.275550662276984,75.93794814991918,87.409509419466119,73.45767347225636,75.982241289529057,81.710468649464332,75.392326578225749,57.814084549094083,68.752191933538313,{"$f":"SUM(AH191:AS191)","v":789.23554383505439},"molH+eq/y"]
[]
[null,null,null,null,null,null,null,null,null,null,null,null,null,null,null,null,null,null,null,null,null,null,null,null,null,null,null,"OR ",{"$f":"AC191/$M$36","v":789.23554383505439},"molH+eq/y*kWp",null,null,null,null,null,null,null,null,null,null,null,null,null,null,"OR ",{"$f":"AT191/$M$36","v":789.23554383505439},"molH+eq/y*kWp"]
[]
[]
[]
[]
[null,null,null,null,null,null,null,null,null,null,null,null,"Minutely","w/o EV"]
[null,null,null,null,null,null,null,null,null,null,null,null,null,null,null,"TIER 1","FR - Hourly fossil resource use [MJprim/MWh] - average mix",null,null,null,null,null,null,null,null,null,null,null,null,null,null,null,"TIER 2","FR - Hourly fossil resource use [MJprim/MWh] - marginal mix"]
[null,null,null,null,null,null,null,null,null,null,null,null,null,null,null,"hour","Jan","Feb","Mar","Apr","May","Jun","Jul","Aug","Sep","Oct","Nov","Dec",null,null,null,null,"hour","Jan","Feb","Mar","Apr","May","Jun","Jul","Aug","Sep","Oct","Nov","Dec"]
[null,null,null,null,null,null,null,null,null,null,null,null,null,null,null,"00:00:00",5110.879873307078,4428.5692521067022,5106.2276325132007,5475.5927368195344,5472.3511519827716,5402.9012779696823,5682.1839156214373,5963.6959010021583,6644.7224671455588,6591.008715843298,5805.967247217307,5401.0049274468165,null,null,null,null,"00:00:00",4821.9882651997832,3587.7149786218311,2631.7754651054424,3842.0377183425367,3964.2850266470195,4360.0946854300828,4371.5008517027936,3932.9893670313031,5533.2888845899479,6336.8416470209522,5604.3870623972416,5962.0768022009415]
[null,null,null,null,null,null,null,null,null,null,null,null,null,null,null,"01:00:00",5209.7089500743286,4525.906722494663,5261.2799464391728,5592.6406239316775,5572.8949511074079,5545.8554727691508,5809.1309780125475,6125.0727036302569,6741.2001993349686,6639.3182363182996,5856.8707421425079,5439.1834267397917,null,null,null,null,"01:00:00",3964.5851525505987,2918.2804781085865,3181.4819214463087,2966.1849103370891,3374.9334182553234,3979.4224670030981,3653.3324440806423,4113.3792824959046,5046.4776319275479,6419.7232344085178,5623.7203217269744,5456.600823686098]
[null,null,null,null,null,null,null,null,null,null,null,null,null,null,null,"02:00:00",5274.4637420592808,4593.4552825672808,5352.5325005482573,5709.1766872497337,5642.3208177985234,5682.4113124876594,5943.4289996026801,6244.8472086566062,6833.7767048583664,6687.6567528125661,5926.3035364016578,5490.6361460468343,null,null,null,null,"02:00:00",3706.3956774840158,3112.8949707842899,3182.4869882680077,3465.1632765445738,3953.1576152463772,4178.4731017434869,3807.0009933854731,3897.4010526279517,4387.409498575099,5394.636371720143,5306.9185315516097,5069.2005519938384]
[null,null,null,null,null,null,null,null,null,null,null,null,null,null,null,"03:00:00",5302.7381157413092,4662.2864170823668,5401.1622402145549,5763.6730104240569,5681.2851085685015,5734.0450789375072,6043.7799666989131,6313.5711465275481,6911.091875001247,6796.4482075320748,5926.4115356537714,5536.0973287577326,null,null,null,null,"03:00:00",3825.1764562731828,3684.0647371196906,3640.2631825049684,4456.6706449567191,4487.475813621767,5114.2823883565698,5636.0260069588458,5001.0821259052118,4569.9601153125604,6634.2382683349524,5545.4954655300098,5828.7161204423001]
[null,null,null,null,null,null,null,null,null,null,null,null,null,null,null,"04:00:00",5314.3016725740208,4687.5495590464498,5433.249796651804,5793.4747949413022,5733.5619962737837,5795.4289359588729,6147.9177540227702,6417.3325236753217,6985.522015287117,6821.6600115210349,5944.7928858177065,5550.8659881716421,null,null,null,null,"04:00:00",4178.2319430300104,3330.7942938640149,4435.9877592596113,4984.6843165979944,5586.6197826843709,4367.2831754727013,4855.8086534460226,5649.8887229642751,5354.5351292928663,6394.9037520256188,6695.7633647272251,6374.9694673720651]
[null,null,null,null,null,null,null,null,null,null,null,null,null,null,null,"05:00:00",5313.3287207940421,4657.4302272622235,5450.8933573573559,5810.3328301736892,5765.5318691154325,5826.9316593266803,6218.752582335238,6486.2087066795275,7025.6014937360587,6846.9638170179633,5994.8506843631531,5561.2351780695972,null,null,null,null,"05:00:00",4535.7691637765338,3500.1163505934819,4347.7556213892249,4716.1692000630073,5187.582525395278,4817.9064877045776,4681.0236692104045,5060.83494461587,5196.1058611977287,6481.6141789787398,5856.4442498717981,6272.3698479558025]
[null,null,null,null,null,null,null,null,null,null,null,null,null,null,null,"06:00:00",5259.7067279079811,4542.8918219190009,5335.9016827562973,5776.2814581331195,5761.2019621672443,5829.4911871284385,6239.4590858694519,6433.7090186350515,6985.722703954114,6843.6010136960331,5973.7584955199909,5516.2823269462679,null,null,null,null,"06:00:00",3705.841619897144,2764.486066359987,2555.7018125947261,4500.6827692481902,4651.2065991317395,4555.9741448489103,4314.0203255215674,4190.9590353957083,4909.5521465320717,5051.0112132294735,5510.2967076854438,5671.0337883772954]
[null,null,null,null,null,null,null,null,null,null,null,null,null,null,null,"07:00:00",5152.3167034387488,4394.7920087000466,5073.1576241289276,5612.4183843220953,5581.4409316529945,5648.0253328405734,6166.2409546980789,6382.004368902747,6819.4854426816164,6579.7966540971111,5828.8912355968541,5415.4391960053008,null,null,null,null,"07:00:00",4095.9320333775563,3327.966483847581,2160.0099667182699,3829.1566998214071,3549.1767629817873,3850.7942096339489,4810.641359926095,4314.7086619419588,4906.9970638081822,4361.8369467151779,5051.2503688426541,4630.6198123748127]
[null,null,null,null,null,null,null,null,null,null,null,null,null,null,null,"08:00:00",4993.0220538510193,4325.5001918344933,4840.7605303322716,5424.9018371678767,5266.6733745692791,5348.8186067861452,5844.8961660379637,6147.454579248576,6704.4251768537852,6489.4928848926975,5723.5182121979551,5338.906422804529,null,null,null,null,"08:00:00",3161.1946502334958,2529.1659513779123,3101.4745694688859,3615.9425528889728,3426.8337918843795,3169.1392144496913,2990.6202977122016,3460.6346970792897,5018.6190962537476,3776.8582092894367,4423.6950002765552,3802.9467744126691]
[null,null,null,null,null,null,null,null,null,null,null,null,null,null,null,"09:00:00",4808.3152830899671,4166.4838187403875,4637.0919643891075,5183.9675619467134,4951.1983186159523,5080.0697074519167,5492.5199462877117,5737.473859988203,6341.8877496839459,6243.8748029427134,5484.9941088766291,5175.305576993931,null,null,null,null,"09:00:00",2161.647565654866,3604.3067784170275,5208.1979368724451,4800.708665045292,6352.8771349523149,6082.9797915888248,7141.4906901724353,4317.905761875486,4392.2850030458167,4858.0001036512222,4744.3584141850288,4246.2395141331162]
[null,null,null,null,null,null,null,null,null,null,null,null,null,null,null,"10:00:00",4630.4116903432005,4027.018899412707,4446.4019913266475,5022.705633317034,4646.9321302558337,4858.6854875365852,5168.1505678244548,5353.3131732845541,5891.645929365427,5855.7252638683331,5250.8674178381671,5013.48355075167,null,null,null,null,"10:00:00",5001.2275805538302,3435.8362647925628,5910.1131409138488,7695.6845815910428,7477.5903310272361,7679.2030345041121,6030.3394802844568,8596.8822632826032,5685.9275795659805,5529.9160927784878,4268.7227540920549,4472.9422974174031]
[null,null,null,null,null,null,null,null,null,null,null,null,null,null,null,"11:00:00",4538.796246936904,3936.7673898330613,4365.8862980693539,4913.5093238963254,4511.0893519661986,4740.349389556467,4995.6501269365826,5136.206229735586,5640.5856505344136,5579.0072357142226,5111.467387825166,4924.3697511236787,null,null,null,null,"11:00:00",4494.4842177333903,3722.3737483995806,4035.7289649366776,5717.3456617497804,5787.4785570892354,6918.3608275408906,5157.5917561018068,5297.8067745914705,4347.6425362636392,5889.0342122440425,4817.1916845965243,3448.9419031160342]
[null,null,null,null,null,null,null,null,null,null,null,null,"Daily","w/o EV, two-phase tariff",null,"12:00:00",4485.3834726785453,3880.1900696394773,4328.7854688327579,4830.280103778513,4409.4192084486376,4634.274961406385,4862.7765402514378,5014.8406061184642,5489.2096810321327,5425.9030006124067,5084.8725795312494,4875.4164996013587,null,null,null,null,"12:00:00",3006.6943464469732,2996.2787832706113,3164.9076970837427,4807.731853541698,6816.9066648900189,7091.737673190858,4738.5410461670381,5078.655887704741,4879.9747249210677,6688.1129558918201,5057.3415570473298,4182.5614180046223]
[null,null,null,null,null,null,null,null,null,null,null,null,null,null,null,"13:00:00",4447.6199875860375,3860.5080527519394,4276.3890089740162,4763.8818049607371,4348.856869878141,4567.7103912125858,4758.8681424445203,4932.0821163566143,5414.4040197298027,5299.8606036324218,5069.8442673242344,4862.899209021054,null,null,null,null,"13:00:00",4134.6957870635661,3323.9699360045493,3657.4841529629166,4452.1663480542757,4802.1404996493684,5558.1370938187029,4744.1143567204608,4866.8146815270538,4784.427613974387,5993.2824301115224,5165.1989604622995,4149.2437018472165]
[null,null,null,null,null,null,null,null,null,null,null,null,null,null,null,"14:00:00",4481.9998386750949,3905.9611421054819,4307.6236380301507,4776.3504435868972,4325.8295310418271,4519.9108498254564,4703.162962136249,4897.3301634593936,5416.5560411248034,5293.6933820205795,5086.9787800389704,4917.0052574198226,null,null,null,null,"14:00:00",2640.1135758018322,2565.4806579498436,2972.1277666167816,5112.3446739024384,4351.1274638567866,4835.164726596292,5585.5633414669628,4163.7221770405577,4754.2808622272769,5724.4982062796089,3712.280906409103,3644.0120801837129]
[null,null,null,null,null,null,null,null,null,null,null,null,null,null,null,"15:00:00",4579.9595381072722,3993.9450962588812,4372.7424500985644,4818.486171979519,4352.0540357898335,4509.9757477177072,4689.9873243032807,4891.2596594251672,5448.7053319138113,5336.7542343079931,5181.1399423986413,5000.6456069381175,null,null,null,null,"15:00:00",3059.0393006809418,2759.2979272874459,5689.1405449866743,4381.6702275672205,5750.598401105015,4765.3788375497925,4313.1811954634795,4307.9288109386443,5385.7825710156385,5341.9495630222045,3779.0859219986874,4196.1309591668241]
[null,null,null,null,null,null,null,null,null,null,null,null,null,null,null,"16:00:00",4713.6339002137711,4085.4169882025662,4483.910116051813,4875.3316214851275,4408.0294100715082,4547.4994097263552,4704.1774924026768,4887.1358251696047,5521.890930516659,5470.208382083063,5426.6733237919379,5225.9977278534498,null,null,null,null,"16:00:00",4547.5669749593389,4677.387572325295,4502.8697516684351,5265.0152495519078,6590.4647061309388,4891.633559102439,5876.2397010145442,5373.1436018892755,4995.4676166022264,6588.5598200868517,3679.2696598871862,5809.3595149342045]
[null,null,null,null,null,null,null,null,null,null,null,null,null,null,null,"17:00:00",4883.3086069321052,4257.9056367500889,4653.1767644556294,4998.8550673231548,4456.9558207471155,4651.1453613920985,4807.4385162423705,4949.8979375480694,5683.782365151993,5706.0264577350872,5811.351039421269,5471.7365819117822,null,null,null,null,"17:00:00",3418.9598994611965,4005.0079959547716,6035.4139484115685,6955.4575914153447,6496.9917528335518,7728.8358315603728,7223.9265547956211,4452.8411675870129,5453.1713527909815,6953.5719447456977,3919.5116685816365,3499.5318812184591]
[null,null,null,null,null,null,null,null,null,null,null,null,null,null,null,"18:00:00",4891.8301485638831,4378.9355131901521,4802.9342468008981,5151.6017603629571,4547.0305677903852,4798.7726563075303,4954.7380948408045,5111.3073379828693,5949.1001304083884,6175.1506756880299,5802.49905388967,5413.6318096122213,null,null,null,null,"18:00:00",2272.7179449257342,2010.1911949180201,2649.3478703105193,6265.1796011685628,6856.1760299605749,6789.1554596521255,6337.1202353074668,6216.8033470992114,5149.1547164323674,4961.2817286234222,2238.3648554556057,2567.1183012152637]
[null,null,null,null,null,null,null,null,null,null,null,null,null,null,null,"19:00:00",4839.6465620366398,4342.4877867479599,4799.1729923196599,5214.5345714566529,4760.5172705190953,4871.2201709778992,5114.3064356741015,5393.9818468341418,6308.3940778051438,6377.2051981344166,5741.5443643461058,5341.8928418389687,null,null,null,null,"19:00:00",3829.8640718218794,2939.7912444338135,2024.314081272998,2992.1725960511544,4302.2329267770756,5879.8232582185537,5666.6850718503938,5981.5359491127492,4142.8313042623595,3753.4431573873658,2981.205593638731,2643.186641881935]
[null,null,null,null,null,null,null,null,null,null,null,null,null,null,null,"20:00:00",4757.9065557416052,4277.1826692892591,4634.6162998532654,5188.0597349135924,4966.0210604916665,5039.836011512607,5322.9760033323364,5660.8100521959959,6384.1101274153079,6146.5040321104871,5690.2610325723381,5290.1024329250367,null,null,null,null,"20:00:00",3120.3384238341409,2881.235799039951,3746.3723071680865,2582.6710486798097,2679.2546901707119,5328.7327451309493,5844.2376622678958,7358.8967195137011,3660.5671223451359,4254.8280617757337,4212.3960011088557,3258.853474918832]
[null,null,null,null,null,null,null,null,null,null,null,null,null,null,null,"21:00:00",4758.5829279994095,4234.6040860925532,4630.6915458221647,5101.4630639199077,4998.1971385343068,5104.2866297678538,5469.3203565629783,5726.9698316527229,6360.2531940820145,6143.3590968571143,5766.6189260550182,5315.4464970639629,null,null,null,null,"21:00:00",3553.1487927075141,3139.2040675811936,2845.824847986436,2995.7057263043625,2366.2626182741219,3798.0561363677234,4701.2130330957143,4310.5742688252803,3567.950129433867,3285.0030808699344,2196.48474145816,3383.8222853880488]
[null,null,null,null,null,null,null,null,null,null,null,null,null,null,null,"22:00:00",4845.4336630048374,4329.8364590897527,4770.4248062024417,5267.9478034627127,5146.1906100513115,5198.9551849876107,5506.3585603142183,5785.3082528917757,6530.0266897777528,6282.8004061789297,5879.478087528516,5432.0121185500157,null,null,null,null,"22:00:00",2645.6763517775776,3300.9820448931955,2660.1443317780067,2119.3021822398991,2267.4792713297093,3321.6317248437053,3175.839282885895,3309.5043245479601,2800.4883476140762,3323.8386509119009,3685.5087667254729,3582.830157702509]
[null,null,null,null,null,null,null,null,null,null,null,null,null,null,null,"23:00:00",4978.2009847802783,4450.5935923511042,4979.4142269575759,5448.3390989152422,5327.2797632835573,5384.6092678116283,5641.0108855344715,5883.0723996605675,6657.3542764102576,6410.8659387422431,5920.0523978275469,5490.2371774700541,null,null,null,null,"23:00:00",3016.8247367955973,2546.8934727455994,2079.4317040926048,2361.1227127943371,1322.1062780906755,2203.6307541620076,2557.7832332780126,2631.1664423935968,4147.2684687202118,3886.9085766404928,4573.9421045716026,4154.8283866111742]
[null,null,null,null,null,null,null,null,null,null,null,null,null,null,null,"Avg",4872.1447012844492,4267.4383984285532,4781.3829157446826,5236.1788898244422,4962.3524062664646,5080.2915458388252,5360.0812581978844,5597.5185159019702,6212.8169237744396,6114.4815820587937,5606.740713982319,5273.6243250114558,null,null,null,null,"Avg",3620.7547721683627,3194.3217416121174,3600.764847242383,4370.0404503524014,4683.3732775827239,5052.7429720196023,4925.5767184506758,4828.5858361661176,4711.2568906960323,5328.495516947637,4527.0347776178232,4429.5056877731322]
[null,null,null,null,null,null,null,null,null,null,null,null,null,null,null,null,{"$f":"Q225*Q$1","v":151036.48573981793},119488.27515599949,148222.87038808517,157085.36669473327,153832.9245942604,152408.74637516474,166162.5190041344,173523.07399296109,186384.50771323318,189548.9290438226,168202.22141946957,163482.35407535514,{"$f":"SUM(Q226:AB226)/AC$1","v":5285.9678745124302},"Mjprim/kWh",null,null,null,{"$f":"AH225*AH$1","v":112243.39793721924},89441.008765139282,111623.71026451387,131101.21351057204,145184.57160506444,151582.28916058806,152692.87827197096,149686.16092114965,141337.70672088096,165183.36102537674,135811.0433285347,137314.67632096709,{"$f":"SUM(AH226:AS226)/AT$1","v":4447.1288159780188}]
[]
[]
[null,null,null,null,null,null,null,null,null,null,null,null,null,null,null,null,"Hourly fossil resource use reduction [MJprim] (average mix)",null,null,null,null,null,null,null,null,null,null,null,null,null,null,null,null,"Hourly fossil resource use reduction [MJprim] (marginal mix)"]
[null,null,null,null,null,null,null,null,null,null,null,null,null,null,null,"hour","Jan","Feb","Mar","Apr","May","Jun","Jul","Aug","Sep","Oct","Nov","Dec",null,null,null,null,"hour","Jan","Feb","Mar","Apr","May","Jun","Jul","Aug","Sep","Oct","Nov","Dec"]
[null,null,null,null,null,null,null,null,null,null,null,null,null,null,null,"00:00:00",{"$f":"A4*Q201/1000","v":0},{"$f":"B4*R201/1000","v":0},{"$f":"C4*S201/1000","v":0},{"$f":"D4*T201/1000","v":0},{"$f":"E4*U201/1000","v":0},{"$f":"F4*V201/1000","v":0},{"$f":"G4*W201/1000","v":0},{"$f":"H4*X201/1000","v":0},{"$f":"I4*Y201/1000","v":0},{"$f":"J4*Z201/1000","v":0},{"$f":"K4*AA201/1000","v":0},{"$f":"L4*AB201/1000","v":0},null,null,null,null,{"$f":"AG201","v":"00:00:00"},{"$f":"A4*AH201/1000","v":0},{"$f":"B4*AI201/1000","v":0},{"$f":"C4*AJ201/1000","v":0},{"$f":"D4*AK201/1000","v":0},{"$f":"E4*AL201/1000","v":0},{"$f":"F4*AM201/1000","v":0},{"$f":"G4*AN201/1000","v":0},{"$f":"H4*AO201/1000","v":0},{"$f":"I4*AP201/1000","v":0},{"$f":"J4*AQ201/1000","v":0},{"$f":"K4*AR201/1000","v":0},{"$f":"L4*AS201/1000","v":0}]
[null,null,null,null,null,null,null,null,null,null,null,null,null,null,null,"01:00:00",0,0,0,0,0,0,0,0,0,0,0,0,null,null,null,null,{"$f":"AG172","v":"00:00:00"},0,0,0,0,0,0,0,0,0,0,0,0]
[null,null,null,null,null,null,null,null,null,null,null,null,null,null,null,"02:00:00",0,0,0,0,0,0,0,0,0,0,0,0,null,null,null,null,"00:00:00",0,0,0,0,0,0,0,0,0,0,0,0]
[null,null,null,null,null,null,null,null,null,null,null,null,null,null,null,"03:00:00",0,0,0,0,0,0,0,0,0,0,0,0,null,null,null,null,"00:00:00",0,0,0,0,0,0,0,0,0,0,0,0]
[null,null,null,null,null,null,null,null,null,null,null,null,null,null,null,"04:00:00",0,0,0,0,0.38038103842560006,8.4074863639591602,0.28969470453707208,0,0,0,0,0,null,null,null,null,"00:00:00",0,0,0,0,0.37063246819473444,6.3356611134530114,0.2288095107043609,0,0,0,0,0]
[null,null,null,null,null,null,null,null,null,null,null,null,null,null,null,"05:00:00",0,0,0,23.687021034899193,90.291179869558277,111.42753075846457,74.222841871013941,43.754976734294935,6.9216598273166818,0,0,0,null,null,null,null,"00:00:00",0,0,0,19.226437161379742,81.240197352426549,92.132095369751113,55.869545378151798,34.139622277300084,5.1192310338130662,0,0,0]
[null,null,null,null,null,null,null,null,null,null,null,null,null,null,null,"06:00:00",0,0.15491620001197726,122.39468869119328,341.81598388969053,544.22284065702854,569.05242785149585,514.43973282799379,448.03129774544561,375.68140900568818,218.19110931916379,3.9853162772270792,0,null,null,null,null,"00:00:00",0,9.4271158806867969E-2,58.622580837821701,266.33143140555273,439.36888248055311,444.73660995995152,355.68843919530178,291.85044116662601,264.02815373018916,161.03886500578869,3.6761236963226174,0]
[null,null,null,null,null,null,null,null,null,null,null,null,null,null,null,"07:00:00",193.34871160596302,278.82347425623834,681.09792336105215,1169.3077466997152,1428.7898268581098,1457.984987116185,1504.9370837722813,1493.4584585307764,1479.7327318760044,1014.0323070296145,372.63601550302673,240.19487377664422,null,null,null,null,"00:00:00",153.7062310146008,211.13972524701384,289.99262624401376,797.77776456148945,908.55170103318528,994.0465587990858,1174.0884977525147,1009.6887709246603,1064.7495667475412,672.21584715850736,322.92210210729445,205.38521458452496]
[null,null,null,null,null,null,null,null,null,null,null,null,null,null,null,"08:00:00",876.26234864933747,1042.7251465645131,1538.5759995811684,2004.0509619810457,2203.9421737193193,2258.6299075608817,2463.29595220801,2569.5370401071791,2654.7380966054466,2121.0181968967249,1350.3558332035327,1079.1196269091442,null,null,null,null,"00:00:00",554.78141672033075,609.69247956917388,985.76541970949813,1335.7906500605857,1434.0254234729603,1338.2230988163806,1260.3787414993972,1446.4895871605202,1987.2127670501679,1234.4238804314725,1043.6871390058479,768.6657490062895]
[null,null,null,null,null,null,null,null,null,null,null,null,null,null,null,"09:00:00",1653.8205224503224,1659.8804054377242,2102.1691622756757,2568.5927862196918,2648.2749733407659,2800.6837814856599,3079.6598884978816,3260.7569459453816,3381.5580938467319,2921.0714495507054,2123.9345228015054,1998.3569929041785,null,null,null,null,"00:00:00",743.49889637174772,1435.91538019929,2361.0730988302521,2378.692670898402,3397.9987151688156,3353.5962745584225,4004.2389718529816,2453.9791463210304,2342.0103743197601,2272.7177998511434,1837.1408290345776,1639.6137967842947]
[null,null,null,null,null,null,null,null,null,null,null,null,null,null,null,"10:00:00",2083.3555753420874,2073.2741150310253,2363.3228626730761,2898.5269754075207,2886.7344635553322,3056.7659846426172,3378.8030895069332,3582.6266828483581,3676.7772047174685,3270.9809618316267,2552.5625909637188,2493.8328573900171,null,null,null,null,"00:00:00",2250.1963238454882,1768.9091035351664,3141.3051573276389,4441.0624437168581,4645.17602320481,4831.2504864228022,3942.4798870242284,5753.3379402208384,3548.3953317734904,3088.9854706153928,2075.1203841625584,2224.9540379636192]
[null,null,null,null,null,null,null,null,null,null,null,null,null,null,null,"11:00:00",2315.0496084479182,2245.4407861573341,2468.7362490494456,3045.9594100356148,2984.775261665769,3172.6308993690827,3509.1729503710567,3678.8146972885856,3718.7586999513796,3339.7143494349698,2575.4418764904726,2719.3067056461714,null,null,null,null,"00:00:00",2292.4479007977106,2123.1556270161577,2282.0453183775758,3544.2698224134874,3829.3018552363369,4630.3349248470886,3622.9281514291629,3794.561307318354,2866.339509351707,3525.3032003689523,2427.1693919327272,1904.5545559180221]
[null,null,null,null,null,null,null,null,null,null,null,null,null,null,null,"12:00:00",2318.6801427803011,2206.2552757782337,2440.7048248887927,2956.9642604079431,2851.2919331143025,3098.9303054570278,3452.312060333395,3610.2246734440287,3613.2138673483951,3162.8917936804869,2479.8508644771414,2636.3184817782599,null,null,null,null,"00:00:00",1554.2846044227226,1703.6680561133915,1784.4740845248868,2943.160843493707,4408.0614846399549,4742.2306567526275,3364.1114837700156,3656.1658153906869,3212.1914397482196,3898.6649007567607,2466.4242094648771,2261.6660480924788]
[null,null,null,null,null,null,null,null,null,null,null,null,null,null,null,"13:00:00",2102.8883684277289,2083.4409161631934,2300.127158645344,2707.0416309975794,2597.7045875813324,2834.4371399086126,3179.6930474221217,3327.3303608743781,3299.6315871009638,2694.7000262876991,2197.3429028344603,2364.9383704169677,null,null,null,null,"00:00:00",1954.9340325548462,1793.8817570479032,1967.2388585067758,2529.9115607274634,2868.4646975973769,3449.0343866221351,3169.8351340516015,3283.2989939260092,2915.7130542422656,3047.2685094589397,2238.6709885055157,2017.8714830252075]
[null,null,null,null,null,null,null,null,null,null,null,null,null,null,null,"14:00:00",1701.274809564389,1808.4075907963108,1943.006022636938,2292.160738595438,2201.4087652190233,2458.0587783461619,2691.5693690705839,2824.5893362468132,2768.6837785263883,2208.0148613515917,1756.9530415385075,1894.4450270414213,null,null,null,null,"00:00:00",1002.1327270347139,1187.7831158803479,1340.6143702061415,2453.4036775757522,2214.2828488233677,2629.5029915067239,3196.5575762374547,2401.4728163754198,2430.1604565460484,2387.7048028840231,1282.1565631753695,1403.9807163853673]
[null,null,null,null,null,null,null,null,null,null,null,null,null,null,null,"15:00:00",1231.8319629159223,1365.8019758297705,1509.2150632503915,1771.8132598764639,1665.758082635276,1914.7734335535356,2101.6212151178802,2180.0392236402631,2029.0309555032275,1540.5104658577163,1092.2873009196885,1221.4454943754238,null,null,null,null,"00:00:00",822.7632482430231,943.59197990034306,1963.5587289731398,1611.1909700511067,2201.0539593154908,2023.2083960930668,1932.7713441912442,1920.0480928055883,2005.5992920362517,1542.0101523537446,796.7064405854527,1024.9367095265482]
[null,null,null,null,null,null,null,null,null,null,null,null,null,null,null,"16:00:00",549.58651225886877,754.87959846570084,909.71101931718874,1081.0964990005707,1035.9311679820814,1227.4393945761474,1352.5927188918408,1346.0242345262802,1132.3282309885092,704.6090956943774,390.23541069129908,430.04587929370115,null,null,null,null,"00:00:00",530.22392615560818,864.26048128292257,913.55761503304279,1167.5081810622114,1548.8253742064201,1320.3264460971889,1689.595906381476,1479.8814198051878,1024.3789818460482,848.66221768902517,264.57854031405873,478.05055624455252]
[null,null,null,null,null,null,null,null,null,null,null,null,null,null,null,"17:00:00",13.314252040583741,183.3805274083395,334.94040043946239,422.42127906017936,450.12724021422008,549.96893444214197,585.84991831156356,533.40710992423476,343.32198502277953,81.870909825088191,7.6274281095847583,9.8961805933510174,null,null,null,null,"00:00:00",9.3217319408107837,172.48866960174712,434.4352400580641,587.7612478546713,656.15929011099956,913.88664006176862,880.33092211519465,479.84365902517726,329.39220632165967,99.770876610430307,5.1443792113033755,6.3292519605589534]
[null,null,null,null,null,null,null,null,null,null,null,null,null,null,null,"18:00:00",8.1982964152605871E-3,4.0751150708907593,12.035547092181105,60.406704468001919,114.44850475757219,162.86018015459155,134.99428703455655,94.059686309863096,20.838521024814789,1.7804359922181836,0,0,null,null,null,null,"00:00:00",3.8088843673881566E-3,1.8707195867825073,6.6389314152969288,73.464306872214266,172.56956672825001,230.40955686932963,172.65797134834818,114.40332854432214,18.036470468859672,1.4304500442317378,0,0]
[null,null,null,null,null,null,null,null,null,null,null,null,null,null,null,"19:00:00",0,0,0.10217857788533485,1.2276708062037769,6.3346725654236833,32.955158655873021,32.524110599225288,2.4695702923093972,0.32426335323041505,0,0,0,null,null,null,null,"daily co2 savings",0,0,4.3099411992180994E-2,0.70445461487636141,5.7248478143522084,39.778638932714301,36.036927846610062,2.7385749343927586,0.21294934241892507,0,0,0]
[null,null,null,null,null,null,null,null,null,null,null,null,null,null,null,"20:00:00",0,0,0,0,8.8348335366109115E-2,0.75644270540155045,0.74617268954053373,1.1538134767268386E-2,0,0,0,0,null,null,null,null,"monthly savings",0,0,0,0,4.7665462754800984E-2,0.79980400252723627,0.81924294455555013,1.4999256520755365E-2,0,0,0,0]
[null,null,null,null,null,null,null,null,null,null,null,null,null,null,null,"21:00:00",0,0,0,0,0,0,0,0,0,0,0,0,null,null,null,null,"00:00:00",0,0,0,0,0,0,0,0,0,0,0,0]
[null,null,null,null,null,null,null,null,null,null,null,null,null,null,null,"22:00:00",0,0,0,0,0,0,0,0,0,0,0,0,null,null,null,null,"00:00:00",0,0,0,0,0,0,0,0,0,0,0,0]
[null,null,null,null,null,null,null,null,null,null,null,null,null,null,null,"23:00:00",0,0,0,0,0,0,0,0,0,0,0,0,null,null,null,null,"00:00:00",0,0,0,0,0,0,0,0,0,0,0,0]
[null,null,null,null,null,null,null,null,null,null,null,null,null,null,null,"daily  savings",{"$f":"SUM(Q231:Q254)","v":15039.421012779838},{"$f":"SUM(R231:R254)","v":15706.539843159288},18726.139100479802,23345.072928480557,23710.504403108906,25715.762772947841,28056.724133230415,28995.135832592958,28501.541084698354,23279.385962751981,16903.213103810165,17087.900490125281,null,null,null,null,"daily  savings",{"$f":"SUM(AH231:AH254)","v":11868.29484798597},{"$f":"SUM(AI231:AI254)","v":12816.451366139047},17529.365129456142,24150.256462469759,28811.223165116247,31039.83322682502,28858.617552528944,28121.91451545263,24013.539784558438,22780.196973228412,14763.397091195904,13936.008119491462]
[null,null,null,null,null,null,null,null,null,null,null,null,null,null,null,"monthly savings",{"$f":"Q255*Q$1","v":466222.051396175},439783.11560846004,580510.3121148739,700352.18785441667,735025.63649637601,771472.88318843523,869758.44813014288,898849.21081038169,855046.23254095064,721660.96484531148,507096.39311430498,529724.9151938837,{"$f":"SUM(Q256:AB256)/1000","v":8075.5023512937132},"MJprim/y",null,null,"monthly savings",{"$f":"AH255*AH$1","v":367917.14028756507},358860.63825189328,543410.3190131404,724507.69387409277,893147.91811860364,931194.99680475064,894617.14412839722,871779.3499790316,720406.19353675307,706186.10617008083,442901.91273587709,432016.25170423533,{"$f":"SUM(AH256:AS256)/1000","v":7886.9456646044209},"MJprim/y"]
[]
[null,null,null,null,null,null,null,null,null,null,null,null,null,null,null,null,null,null,null,null,null,null,null,null,null,null,null,null,{"$f":"AC256/$M$36","v":8075.5023512937132},"MJprim/y*kWp",null,null,null,null,null,null,null,null,null,null,null,null,null,null,null,{"$f":"AT256/$M$36","v":7886.9456646044209},"MJprim/y*kWp"]
[null,null,null,null,null,null,null,null,null,null,null,null,null,null,null,"TIER 1","FR - Hourly fossil resource use [MJprim/kWh] - average mix",null,null,null,null,null,null,null,null,null,null,null,null,null,null,null,{"$f":"AG2","v":"TIER 2"},"FR - Hourly fossil resource use [MJprim/kWh] - marginal mix"]
[null,null,null,null,null,null,null,null,null,null,null,null,null,null,null,"hour","Jan","Feb","Mar","Apr","May","Jun","Jul","Aug","Sep","Oct","Nov","Dec",null,null,null,null,"hour","Jan","Feb","Mar","Apr","May","Jun","Jul","Aug","Sep","Oct","Nov","Dec"]
[null,null,null,null,null,null,null,null,null,null,null,null,null,null,null,"00:00:00",{"$f":"Q201/1000","v":5.1108798733070779},{"$f":"R201/1000","v":4.4285692521067022},5.1062276325132006,5.4755927368195341,5.4723511519827719,5.4029012779696819,5.6821839156214375,5.9636959010021586,6.6447224671455585,6.5910087158432979,5.8059672472173069,5.4010049274468166,null,null,null,null,"00:00:00",{"$f":"AH201/1000","v":4.8219882651997832},{"$f":"AI201/1000","v":3.5877149786218312},2.6317754651054424,3.8420377183425365,3.9642850266470195,4.3600946854300826,4.3715008517027938,3.9329893670313032,5.5332888845899477,6.3368416470209521,5.604387062397242,5.9620768022009418]
[null,null,null,null,null,null,null,null,null,null,null,null,null,null,null,"01:00:00",{"$f":"Q202/1000","v":5.2097089500743285},4.5259067224946632,5.2612799464391724,5.5926406239316773,5.5728949511074077,5.5458554727691505,5.809130978012548,6.1250727036302566,6.7412001993349682,6.6393182363182994,5.8568707421425081,5.4391834267397918,null,null,null,null,"01:00:00",{"$f":"AH202/1000","v":3.9645851525505988},2.9182804781085867,3.1814819214463088,2.966184910337089,3.3749334182553232,3.979422467003098,3.6533324440806423,4.113379282495905,5.0464776319275479,6.4197232344085178,5.6237203217269744,5.4566008236860979]
[null,null,null,null,null,null,null,null,null,null,null,null,null,null,null,"02:00:00",5.2744637420592806,4.5934552825672812,5.3525325005482571,5.7091766872497338,5.6423208177985238,5.6824113124876598,5.9434289996026797,6.2448472086566058,6.8337767048583666,6.6876567528125657,5.9263035364016581,5.4906361460468345,null,null,null,null,"02:00:00",3.7063956774840157,3.1128949707842897,3.1824869882680078,3.4651632765445739,3.953157615246377,4.1784731017434869,3.8070009933854729,3.8974010526279517,4.3874094985750993,5.3946363717201429,5.3069185315516094,5.0692005519938386]
[null,null,null,null,null,null,null,null,null,null,null,null,null,null,null,"03:00:00",5.3027381157413096,4.6622864170823668,5.4011622402145552,5.763673010424057,5.6812851085685017,5.7340450789375073,6.0437799666989127,6.3135711465275479,6.9110918750012473,6.7964482075320749,5.926411535653771,5.5360973287577329,null,null,null,null,"03:00:00",3.8251764562731827,3.6840647371196904,3.6402631825049685,4.4566706449567191,4.4874758136217672,5.1142823883565693,5.6360260069588461,5.0010821259052118,4.5699601153125604,6.6342382683349523,5.5454954655300099,5.8287161204422997]
[null,null,null,null,null,null,null,null,null,null,null,null,null,null,null,"04:00:00",5.3143016725740209,4.6875495590464498,5.4332497966518041,5.7934747949413019,5.7335619962737834,5.7954289359588733,6.1479177540227701,6.4173325236753218,6.9855220152871169,6.8216600115210353,5.9447928858177068,5.5508659881716422,null,null,null,null,"04:00:00",4.1782319430300108,3.3307942938640149,4.4359877592596115,4.9846843165979946,5.5866197826843713,4.3672831754727008,4.8558086534460223,5.6498887229642749,5.3545351292928665,6.3949037520256189,6.6957633647272248,6.3749694673720647]
[null,null,null,null,null,null,null,null,null,null,null,null,null,null,null,"05:00:00",5.3133287207940416,4.6574302272622239,5.4508933573573559,5.8103328301736896,5.7655318691154323,5.8269316593266804,6.2187525823352381,6.4862087066795278,7.0256014937360591,6.8469638170179632,5.9948506843631533,5.5612351780695972,null,null,null,null,"05:00:00",4.5357691637765338,3.500116350593482,4.3477556213892248,4.7161692000630078,5.1875825253952783,4.8179064877045779,4.6810236692104041,5.0608349446158698,5.1961058611977284,6.4816141789787398,5.8564442498717977,6.2723698479558028]
[null,null,null,null,null,null,null,null,null,null,null,null,null,null,null,"06:00:00",5.2597067279079814,4.5428918219190013,5.3359016827562975,5.7762814581331199,5.7612019621672443,5.8294911871284381,6.2394590858694521,6.4337090186350512,6.9857227039541137,6.8436010136960332,5.9737584955199905,5.5162823269462677,null,null,null,null,"06:00:00",3.7058416198971442,2.7644860663599871,2.5557018125947262,4.5006827692481899,4.6512065991317391,4.5559741448489106,4.3140203255215672,4.190959035395708,4.9095521465320715,5.0510112132294731,5.5102967076854439,5.6710337883772954]
[null,null,null,null,null,null,null,null,null,null,null,null,null,null,null,"07:00:00",5.1523167034387489,4.3947920087000467,5.0731576241289273,5.6124183843220949,5.5814409316529945,5.6480253328405734,6.166240954698079,6.3820043689027468,6.819485442681616,6.5797966540971107,5.8288912355968545,5.415439196005301,null,null,null,null,"07:00:00",4.0959320333775562,3.3279664838475811,2.1600099667182699,3.8291566998214073,3.5491767629817872,3.8507942096339489,4.8106413599260947,4.3147086619419586,4.9069970638081823,4.3618369467151776,5.0512503688426538,4.630619812374813]
[null,null,null,null,null,null,null,null,null,null,null,null,null,null,null,"08:00:00",4.9930220538510195,4.3255001918344931,4.8407605303322718,5.4249018371678766,5.2666733745692786,5.3488186067861454,5.8448961660379632,6.147454579248576,6.7044251768537855,6.4894928848926972,5.7235182121979555,5.3389064228045289,null,null,null,null,"08:00:00",3.161194650233496,2.5291659513779123,3.1014745694688859,3.6159425528889728,3.4268337918843796,3.1691392144496913,2.9906202977122014,3.4606346970792896,5.0186190962537474,3.7768582092894367,4.4236950002765552,3.802946774412669]
[null,null,null,null,null,null,null,null,null,null,null,null,null,null,null,"09:00:00",4.8083152830899669,4.1664838187403879,4.6370919643891071,5.1839675619467132,4.9511983186159521,5.0800697074519165,5.4925199462877119,5.7374738599882029,6.3418877496839459,6.2438748029427131,5.484994108876629,5.1753055769939307,null,null,null,null,"09:00:00",2.1616475656548659,3.6043067784170275,5.2081979368724447,4.8007086650452919,6.3528771349523145,6.0829797915888246,7.1414906901724349,4.3179057618754859,4.3922850030458163,4.8580001036512224,4.7443584141850286,4.2462395141331166]
[null,null,null,null,null,null,null,null,null,null,null,null,null,null,null,"10:00:00",4.6304116903432009,4.027018899412707,4.4464019913266473,5.0227056333170337,4.6469321302558333,4.8586854875365848,5.1681505678244548,5.3533131732845538,5.8916459293654269,5.855725263868333,5.2508674178381671,5.01348355075167,null,null,null,null,"10:00:00",5.00122758055383,3.4358362647925627,5.9101131409138485,7.6956845815910428,7.477590331027236,7.6792030345041118,6.0303394802844572,8.5968822632826036,5.6859275795659805,5.5299160927784881,4.2687227540920549,4.4729422974174033]
[null,null,null,null,null,null,null,null,null,null,null,null,null,null,null,"11:00:00",4.5387962469369043,3.9367673898330615,4.3658862980693538,4.9135093238963252,4.5110893519661985,4.7403493895564672,4.9956501269365825,5.1362062297355857,5.6405856505344136,5.5790072357142222,5.111467387825166,4.9243697511236784,null,null,null,null,"11:00:00",4.4944842177333904,3.7223737483995807,4.0357289649366779,5.7173456617497802,5.7874785570892353,6.9183608275408908,5.157591756101807,5.2978067745914705,4.3476425362636393,5.8890342122440424,4.8171916845965246,3.448941903116034]
[null,null,null,null,null,null,null,null,null,null,null,null,null,null,null,"12:00:00",4.4853834726785458,3.8801900696394771,4.3287854688327583,4.830280103778513,4.4094192084486377,4.6342749614063852,4.8627765402514376,5.0148406061184643,5.4892096810321327,5.4259030006124069,5.0848725795312495,4.8754164996013589,null,null,null,null,"12:00:00",3.0066943464469733,2.9962787832706113,3.1649076970837426,4.8077318535416982,6.816906664890019,7.0917376731908579,4.7385410461670379,5.0786558877047412,4.8799747249210679,6.6881129558918202,5.0573415570473301,4.1825614180046227]
[null,null,null,null,null,null,null,null,null,null,null,null,null,null,null,"13:00:00",4.4476199875860374,3.8605080527519395,4.2763890089740162,4.7638818049607368,4.3488568698781407,4.5677103912125858,4.7588681424445207,4.9320821163566144,5.4144040197298029,5.2998606036324221,5.0698442673242345,4.8628992090210543,null,null,null,null,"13:00:00",4.1346957870635661,3.3239699360045494,3.6574841529629167,4.4521663480542752,4.8021404996493686,5.5581370938187025,4.7441143567204609,4.8668146815270541,4.7844276139743869,5.9932824301115222,5.1651989604622992,4.1492437018472161]
[null,null,null,null,null,null,null,null,null,null,null,null,null,null,null,"14:00:00",4.4819998386750948,3.9059611421054821,4.3076236380301509,4.7763504435868969,4.3258295310418271,4.5199108498254565,4.7031629621362487,4.8973301634593938,5.416556041124803,5.2936933820205798,5.0869787800389705,4.9170052574198229,null,null,null,null,"14:00:00",2.6401135758018324,2.5654806579498435,2.9721277666167816,5.1123446739024381,4.3511274638567867,4.8351647265962923,5.5855633414669628,4.1637221770405572,4.7542808622272767,5.724498206279609,3.7122809064091031,3.644012080183713]
[null,null,null,null,null,null,null,null,null,null,null,null,null,null,null,"15:00:00",4.5799595381072722,3.9939450962588814,4.3727424500985643,4.8184861719795187,4.3520540357898332,4.5099757477177072,4.6899873243032806,4.8912596594251676,5.4487053319138115,5.3367542343079934,5.1811399423986417,5.0006456069381171,null,null,null,null,"15:00:00",3.0590393006809418,2.7592979272874461,5.6891405449866745,4.3816702275672208,5.7505984011050151,4.7653788375497923,4.3131811954634793,4.3079288109386447,5.3857825710156382,5.3419495630222045,3.7790859219986874,4.1961309591668243]
[null,null,null,null,null,null,null,null,null,null,null,null,null,null,null,"16:00:00",4.7136339002137708,4.0854169882025664,4.4839101160518133,4.8753316214851274,4.4080294100715083,4.5474994097263552,4.7041774924026765,4.8871358251696044,5.5218909305166592,5.4702083820830634,5.4266733237919382,5.22599772785345,null,null,null,null,"16:00:00",4.5475669749593388,4.6773875723252951,4.5028697516684355,5.265015249551908,6.5904647061309385,4.8916335591024387,5.8762397010145442,5.3731436018892751,4.9954676166022267,6.5885598200868518,3.6792696598871864,5.8093595149342043]
[null,null,null,null,null,null,null,null,null,null,null,null,null,null,null,"17:00:00",4.883308606932105,4.2579056367500892,4.6531767644556297,4.9988550673231549,4.4569558207471154,4.6511453613920981,4.8074385162423701,4.9498979375480694,5.683782365151993,5.7060264577350868,5.8113510394212691,5.4717365819117818,null,null,null,null,"17:00:00",{"$f":"AH218/1000","v":3.4189598994611967},4.005007995954772,6.0354139484115681,6.9554575914153451,6.4969917528335515,7.7288358315603727,7.2239265547956215,4.452841167587013,5.4531713527909815,6.9535719447456978,3.9195116685816367,3.4995318812184593]
[null,null,null,null,null,null,null,null,null,null,null,null,null,null,null,"18:00:00",4.8918301485638827,4.378935513190152,4.8029342468008984,5.1516017603629569,4.5470305677903848,4.7987726563075306,4.9547380948408044,5.1113073379828693,5.9491001304083886,6.1751506756880294,5.8024990538896697,5.4136318096122213,null,null,null,null,"18:00:00",2.2727179449257342,2.0101911949180202,2.6493478703105193,6.2651796011685628,6.856176029960575,6.7891554596521253,6.3371202353074665,6.2168033470992112,5.149154716432367,4.9612817286234225,2.2383648554556057,2.5671183012152636]
[null,null,null,null,null,null,null,null,null,null,null,null,null,null,null,"19:00:00",4.8396465620366396,4.3424877867479603,4.7991729923196598,5.2145345714566531,4.7605172705190952,4.8712201709778995,5.1143064356741013,5.3939818468341416,6.3083940778051435,6.3772051981344164,5.7415443643461055,5.3418928418389688,null,null,null,null,"19:00:00",3.8298640718218793,2.9397912444338137,2.0243140812729981,2.9921725960511543,4.3022329267770756,5.8798232582185541,5.6666850718503934,5.9815359491127493,4.1428313042623595,3.7534431573873657,2.9812055936387312,2.6431866418819352]
[null,null,null,null,null,null,null,null,null,null,null,null,null,null,null,"20:00:00",4.7579065557416049,4.2771826692892594,4.6346162998532652,5.1880597349135922,4.9660210604916664,5.0398360115126071,5.3229760033323368,5.6608100521959956,6.3841101274153083,6.1465040321104869,5.6902610325723382,5.2901024329250363,null,null,null,null,"20:00:00",3.120338423834141,2.8812357990399509,3.7463723071680866,2.5826710486798099,2.6792546901707119,5.3287327451309494,5.8442376622678953,7.3588967195137007,3.6605671223451357,4.2548280617757337,4.2123960011088553,3.258853474918832]
[null,null,null,null,null,null,null,null,null,null,null,null,null,null,null,"21:00:00",4.7585829279994094,4.2346040860925536,4.6306915458221649,5.1014630639199074,4.9981971385343069,5.104286629767854,5.469320356562978,5.7269698316527231,6.3602531940820146,6.1433590968571146,5.7666189260550178,5.315446497063963,null,null,null,null,"21:00:00",3.553148792707514,3.1392040675811934,2.8458248479864361,2.9957057263043625,2.366262618274122,3.7980561363677232,4.7012130330957147,4.3105742688252802,3.5679501294338669,3.2850030808699344,2.1964847414581601,3.3838222853880486]
[null,null,null,null,null,null,null,null,null,null,null,null,null,null,null,"22:00:00",4.8454336630048376,4.3298364590897531,{"$f":"S223/1000","v":4.7704248062024419},5.2679478034627127,5.1461906100513115,5.1989551849876108,5.5063585603142187,5.7853082528917756,6.5300266897777526,6.2828004061789295,5.8794780875285158,5.4320121185500154,null,null,null,null,"22:00:00",2.6456763517775777,3.3009820448931957,2.6601443317780067,2.119302182239899,2.2674792713297092,3.3216317248437055,3.175839282885895,3.3095043245479601,2.8004883476140763,3.3238386509119011,3.6855087667254729,3.5828301577025092]
[null,null,null,null,null,null,null,null,null,null,null,null,null,null,null,"23:00:00",4.9782009847802779,4.4505935923511046,4.9794142269575756,5.448339098915242,5.3272797632835571,5.3846092678116282,5.6410108855344712,5.8830723996605672,6.657354276410258,6.4108659387422433,5.920052397827547,5.4902371774700542,null,null,null,null,"23:00:00",3.0168247367955972,2.5468934727455994,2.0794317040926047,2.3611227127943373,1.3221062780906754,2.2036307541620075,2.5577832332780126,2.6311664423935968,4.1472684687202115,3.8869085766404927,4.5739421045716027,4.1548283866111744]
[null,null,null,null,null,null,null,null,null,null,null,null,null,null,null,"Avg",{"$f":"Q225/1000","v":4.8721447012844488},4.2674383984285535,4.7813829157446825,5.2361788898244424,4.962352406266465,5.0802915458388256,5.3600812581978845,5.59751851590197,6.2128169237744393,6.1144815820587937,5.6067407139823189,5.2736243250114558,null,null,null,null,"Avg",{"$f":"AH225/1000","v":3.6207547721683628},{"$f":"AI225/1000","v":3.1943217416121175},3.6007648472423828,4.3700404503524011,4.6833732775827235,5.052742972019602,4.9255767184506762,4.828585836166118,4.7112568906960322,5.3284955169476369,4.527034777617823,4.4295056877731325]
[null,null,null,null,null,null,null,null,null,null,null,null,null,null,null,null,{"$f":"Q285*Q$1","v":151.03648573981792},119.4882751559995,148.22287038808517,157.08536669473327,153.83292459426042,152.40874637516475,166.16251900413442,173.52307399296106,186.38450771323318,189.5489290438226,168.20222141946957,163.48235407535512,{"$f":"SUM(Q286:AB286)/AC$1","v":5.2859678745124317},"Mjprim/kWh",null,null,null,{"$f":"AH285*AH$1","v":112.24339793721924},89.441008765139287,111.62371026451386,131.10121351057202,145.18457160506443,151.58228916058806,152.69287827197095,149.68616092114965,141.33770672088096,165.18336102537674,135.81104332853468,137.3146763209671,{"$f":"SUM(AH286:AS286)/AT$1","v":4.4471288159780187}]
[]
[]
[]
[]
[null,null,null,null,null,null,null,null,null,null,null,null,null,null,null,"TIER 1","FR - Hourly metal and mineral resource use [kgSbeq/kWh] - average mix",null,null,null,null,null,null,null,null,null,null,null,null,null,null,null,{"$f":"AG259","v":"TIER 2"},"FR - Hourly metal and mineral resource use [kgSbeq/kWh] - marginal mix"]
[null,null,null,null,null,null,null,null,null,null,null,null,null,null,null,"hour","Jan","Feb","Mar","Apr","May","Jun","Jul","Aug","Sep","Oct","Nov","Dec",null,null,null,null,"hour","Jan","Feb","Mar","Apr","May","Jun","Jul","Aug","Sep","Oct","Nov","Dec"]
[null,null,null,null,null,null,null,null,null,null,null,null,null,null,null,"00:00:00",3.5187280717119846E-4,3.4451677252423307E-4,3.4244381925822598E-4,3.1045184177938388E-4,3.4256771290032759E-4,3.0677305445301218E-4,3.102731045704806E-4,3.0671931073737019E-4,2.8679479478980915E-4,3.3792347558665579E-4,3.7940867219163593E-4,3.8739879222040452E-4,null,null,null,null,"00:00:00",1.4719200328200735E-4,1.9332769755821635E-4,1.2616562328349648E-4,1.0544927923267573E-4,1.3558498163731753E-4,1.2046980657899369E-4,1.0073558442193952E-4,1.0552118599877847E-4,1.1185353852260974E-4,1.7809960594306987E-4,1.2144456754833293E-4,1.3501770061146259E-4]
[null,null,null,null,null,null,null,null,null,null,null,null,null,null,null,"01:00:00",3.6561560812341834E-4,3.4242464832016066E-4,3.5340732062561875E-4,3.139035244810514E-4,3.404295762288705E-4,3.0446138039026877E-4,3.0962877475380023E-4,3.0128078326382166E-4,2.8916223560197573E-4,3.482850578139518E-4,3.8761822366010471E-4,4.0094977977724153E-4,null,null,null,null,"01:00:00",1.4821671568311298E-4,1.2824046369053183E-4,1.8485123386074775E-4,9.9191477250631138E-5,2.0371330008455492E-4,1.5723852123393508E-4,1.0157524275982956E-4,1.3380251142120256E-4,1.9977347824297166E-4,2.5798646291557174E-4,2.0119447160769685E-4,1.6348542824216316E-4]
[null,null,null,null,null,null,null,null,null,null,null,null,null,null,null,"02:00:00",3.7736177638085267E-4,3.392832142925858E-4,3.6099906258938211E-4,3.1836737304635207E-4,3.4479374663645837E-4,3.0711293040668226E-4,3.117582932345756E-4,2.9664356362668094E-4,2.9117758188411847E-4,3.5692707811949562E-4,3.9273492027951589E-4,4.1143550587937721E-4,null,null,null,null,"02:00:00",1.2506527148812486E-4,3.8116920394004952E-4,1.4188333273389931E-4,1.193923209428473E-4,1.2875972289990237E-4,1.2311202513001497E-4,1.0027622168965912E-4,1.2594253629885199E-4,9.8276200952370879E-5,2.1072725097188487E-4,1.9300276759904019E-4,3.2043143177961535E-4]
[null,null,null,null,null,null,null,null,null,null,null,null,null,null,null,"03:00:00",3.8229145659621119E-4,3.3728235891577872E-4,3.5621029403798486E-4,3.2226804769923157E-4,3.4249278060126512E-4,3.0676575401510867E-4,3.0814392780482167E-4,2.9369874839031121E-4,2.9144384194236019E-4,3.5503678975021795E-4,3.9054251501492748E-4,4.157699848744561E-4,null,null,null,null,"03:00:00",2.4248396827008929E-4,3.0136519552760669E-4,2.4642999974887645E-4,2.1945693751162761E-4,2.4557963776853389E-4,1.6450583258767424E-4,2.2026223096974183E-4,9.3440051778758744E-5,1.2783236680098648E-4,4.2078389961606002E-4,3.8782509599564352E-4,2.7833881592802858E-4]
[null,null,null,null,null,null,null,null,null,null,null,null,null,null,null,"04:00:00",3.8481917887919233E-4,3.3429924482016694E-4,3.5607968428579787E-4,3.2136416139885048E-4,3.3916068543802771E-4,3.043814092264431E-4,3.0351439499693892E-4,2.9150277487404119E-4,2.8995882823142419E-4,3.5990783521065066E-4,3.9126919724769466E-4,4.171702733927703E-4,null,null,null,null,"04:00:00",6.1098901668004346E-4,2.3979212455061758E-4,4.6596851031710176E-4,2.267790218396777E-4,5.9454537764540836E-4,3.531278356856908E-4,2.6710940650423031E-4,1.6697383154246935E-4,2.0631333205382282E-4,4.6347628954069041E-4,5.6244702617583016E-4,3.9290907313750369E-4]
[null,null,null,null,null,null,null,null,null,null,null,null,null,null,null,"05:00:00",3.8599367749080592E-4,3.3369564050913462E-4,3.512530483068127E-4,3.1177348932421905E-4,3.342987612117287E-4,2.9449433453723653E-4,2.9689410930580542E-4,2.8604422064699129E-4,2.8741143733346778E-4,3.537144914252825E-4,3.8905119788027354E-4,4.1390649604683882E-4,null,null,null,null,"05:00:00",3.3532976963729697E-4,1.3480989216010795E-4,3.6888515778823691E-4,2.6870492148810894E-4,4.4631870623278137E-4,3.3285116297247487E-4,1.905583516630412E-4,1.9366331862676617E-4,2.3149269196989965E-4,4.2205710492963409E-4,2.8853951472221714E-4,7.0271470186211173E-4]
[null,null,null,null,null,null,null,null,null,null,null,null,null,null,null,"06:00:00",3.7526737340190351E-4,3.3068148057551362E-4,3.380286290404258E-4,3.1125048103343466E-4,3.3388013263878293E-4,2.9351489285028788E-4,2.9266770089077492E-4,2.7714831675514811E-4,2.7962158906111474E-4,3.4453227133540048E-4,3.7318136238488251E-4,3.9328701398404822E-4,null,null,null,null,"06:00:00",1.5688295379812287E-4,1.1450148025132109E-4,1.5755345709102101E-4,3.0191924482911157E-4,3.7291942854380655E-4,2.4083590188208749E-4,1.8556774725048063E-4,1.4934122040459477E-4,9.4617156457794276E-5,1.1499335464481081E-4,1.1415159120473499E-4,3.3796422324809748E-4]
[null,null,null,null,null,null,null,null,null,null,null,null,null,null,null,"07:00:00",3.5637073580895983E-4,3.2865083196583633E-4,3.5053794487297337E-4,3.1290709715634256E-4,4.0827954490225797E-4,3.9849585709255379E-4,3.6925159308194073E-4,2.9503435713748577E-4,2.7049209995877487E-4,3.3057662631601062E-4,3.607251326322286E-4,3.7055039540101053E-4,null,null,null,null,"07:00:00",1.1586875916338825E-4,4.6267261737229783E-4,2.1165056724858325E-4,3.8437116880533548E-4,4.3569797910899085E-4,3.4950075971745364E-4,3.4735666297291013E-4,2.5098755097946208E-4,1.9929825825897122E-4,1.6254721846892803E-4,3.5599770044254938E-4,2.0321225919817579E-4]
[null,null,null,null,null,null,null,null,null,null,null,null,null,null,null,"08:00:00",3.5116115160894329E-4,3.845834336891893E-4,5.778673660681204E-4,4.5162968642198929E-4,7.6978654513515344E-4,7.594596077724091E-4,7.2190152932521652E-4,5.5354684285908518E-4,3.8437350897274359E-4,3.6469802869909637E-4,4.8438056224275585E-4,3.7693217217711389E-4,null,null,null,null,"08:00:00",1.6335985123317584E-4,2.1963165529388057E-4,1.0362065389287623E-4,1.849947530966446E-4,1.7281019140206232E-4,8.9644074954469509E-5,7.4905507253353215E-5,1.7349637198605454E-4,4.3781490669878866E-4,2.0411492941119281E-4,1.2297950371666604E-4,1.1868603574100824E-4]
[null,null,null,null,null,null,null,null,null,null,null,null,null,null,null,"09:00:00",5.0250898932509833E-4,6.235513031496257E-4,9.2787757961360832E-4,7.6411811776115374E-4,1.1884362293825071E-3,1.1245806504074044E-3,1.1462873307785321E-3,1.0410392136201477E-3,8.3651266198955126E-4,7.3880664254015612E-4,9.1956049147194532E-4,6.083547491208814E-4,null,null,null,null,"09:00:00",6.3390584920447094E-5,1.3281661446808344E-4,1.7432801619160702E-4,1.8267411611289902E-4,7.4880136888293548E-4,5.5494970356824999E-4,7.2772440567641934E-4,3.7448813668909794E-4,1.6666676916336833E-4,2.5358054033121683E-4,2.8618424796114048E-4,1.3616272400447481E-4]
[null,null,null,null,null,null,null,null,null,null,null,null,null,null,null,"10:00:00",7.4264611325882606E-4,8.5876575230487188E-4,1.1600985525664304E-3,1.031504377385766E-3,1.4389256534060328E-3,1.3468227266772534E-3,1.3893221464071454E-3,1.3542895393183966E-3,1.2203241353755329E-3,1.2309594354911737E-3,1.2173542201487841E-3,9.3004688688643736E-4,null,null,null,null,"10:00:00",7.8403463273736063E-4,4.6149715455456782E-4,3.5621093045721912E-4,2.1860125569987912E-4,4.6355187352938363E-4,3.3775073304566269E-4,4.2920317046664738E-4,4.3297705653001778E-4,3.4284514705746992E-4,9.0980030933789752E-4,7.3334206763015419E-4,5.6557026358393402E-4]
[null,null,null,null,null,null,null,null,null,null,null,null,null,null,null,"11:00:00",8.667380383432532E-4,9.9468369162841286E-4,1.2939497456370607E-3,1.2299141787820351E-3,1.5737597560788823E-3,1.4905595513283179E-3,1.5215491542290621E-3,1.508340842823992E-3,1.4027994468454722E-3,1.463618844009305E-3,1.3162576649620838E-3,1.0837651277476744E-3,null,null,null,null,"11:00:00",1.7741700917502131E-4,5.4924525278191385E-4,2.3604602291649543E-4,3.0398702621612733E-4,2.7293009435615869E-4,6.454823236798536E-4,2.1988856525560538E-4,1.5047433792906401E-4,1.2971264297329595E-4,5.1810299766601089E-4,5.7506484907648146E-4,1.008672230536927E-4]
[null,null,null,null,null,null,null,null,null,null,null,null,null,null,null,"12:00:00",9.2319107255636518E-4,1.0659193430033501E-3,1.3667919237442751E-3,1.3550460287281804E-3,1.6288924378111184E-3,1.5621316828932621E-3,1.5903897525570787E-3,1.5891837302527924E-3,1.4935486525215627E-3,1.5450463851652985E-3,1.3273019955620502E-3,1.1396799980689205E-3,null,null,null,null,"12:00:00",1.3673111478353122E-4,2.7495343476803422E-4,2.5004519247809565E-4,1.7181564557649034E-4,4.7690081433695506E-4,3.5110282116446634E-4,3.7319851354441331E-4,3.4491655467909895E-4,3.5554062945213392E-4,3.0873421478805189E-4,1.997171604568351E-4,1.7899316648590624E-4]
[null,null,null,null,null,null,null,null,null,null,null,null,null,null,null,"13:00:00",9.3716859294783997E-4,1.079165755772939E-3,1.3801425179017187E-3,1.3977964766299096E-3,1.6471808701158898E-3,1.5970688757893947E-3,1.6190803874287024E-3,1.6196250641637619E-3,1.5229322007197362E-3,1.5628392181140903E-3,1.3110156534995828E-3,1.1417476837915083E-3,null,null,null,null,"13:00:00",3.4669981128457019E-4,3.4421166917018132E-4,1.4015759535939348E-4,2.5149192178401848E-4,2.9375698212662021E-4,2.984673599925642E-4,4.8345119486058061E-4,3.7976435702381973E-4,1.4394030784378899E-4,1.9756640595728784E-4,4.7708834486625098E-4,2.6583124440934558E-4]
[null,null,null,null,null,null,null,null,null,null,null,null,null,null,null,"14:00:00",9.2998763591374686E-4,1.068367271130312E-3,1.373183871467564E-3,1.4157243775013511E-3,1.6583476318373631E-3,1.5992912372112286E-3,1.6190476314104482E-3,1.6190150487369272E-3,1.5188412810706417E-3,1.5601772573448811E-3,1.2794304749837663E-3,1.1118962651359499E-3,null,null,null,null,"14:00:00",1.2736058488475364E-4,1.7840389163791746E-4,1.4791312156109342E-4,1.7825615428401046E-4,1.8356926270794567E-4,2.5978518868169072E-4,2.9772639963669375E-4,1.5916447225431245E-4,1.2445040409383705E-4,1.7842276305193709E-4,2.2775882981497002E-4,2.7404870165227761E-4]
[null,null,null,null,null,null,null,null,null,null,null,null,null,null,null,"15:00:00",8.7354190967446155E-4,1.0286928236462687E-3,1.3336701433884354E-3,1.4000319739645255E-3,1.6352565102320392E-3,1.5893794192502623E-3,1.6065697299196293E-3,1.5966005949570258E-3,1.4960270777635318E-3,1.5373018322797866E-3,1.1847479654489559E-3,1.0277241055895363E-3,null,null,null,null,"15:00:00",2.0256607964482315E-4,1.2602278789599605E-4,1.5949740911807284E-4,1.3039494553108961E-4,1.9183586721506022E-4,2.2838488624465255E-4,1.6279031057329785E-4,1.2711689083370054E-4,1.2328122761621395E-4,1.6151826737655233E-4,2.5225000685239596E-4,2.4812570066488844E-4]
[null,null,null,null,null,null,null,null,null,null,null,null,null,null,null,"16:00:00",7.2009257100292135E-4,8.9998758056254388E-4,1.2303258912049826E-3,1.3312434760686602E-3,1.5607070086472241E-3,1.5369250574689E-3,1.5530672737782234E-3,1.5321532483192927E-3,1.4285657366579026E-3,1.4573260516995222E-3,9.1148787336105546E-4,7.6237199705153451E-4,null,null,null,null,"16:00:00",3.4560796263050124E-4,2.6077397318343602E-4,1.7957449281642967E-4,2.1717791979099517E-4,3.114803606541393E-4,1.6802347432574806E-4,2.4496495185417124E-4,1.7142419021246586E-4,1.1459011964075721E-4,2.098212623963243E-4,5.7569576506855797E-4,7.8627739029562811E-4]
[null,null,null,null,null,null,null,null,null,null,null,null,null,null,null,"17:00:00",4.5957218003034816E-4,6.4494775181961404E-4,9.9091478271590475E-4,1.1880432704698891E-3,1.4411773070523502E-3,1.4316968649125835E-3,1.461539961971574E-3,1.4098690086336591E-3,1.2802312950373036E-3,1.2354605922497929E-3,4.8964703978006212E-4,4.2260105847357119E-4,null,null,null,null,"17:00:00",1.9697424457684742E-4,7.0296444522900063E-4,3.9083168855748665E-4,3.6754266812075891E-4,2.8054575603951956E-4,3.7462572857365899E-4,2.5590227595315791E-4,1.4079916092266079E-4,2.4963636284929506E-4,5.3102013282099909E-4,9.8798745719895175E-5,1.4749271699904885E-4]
[null,null,null,null,null,null,null,null,null,null,null,null,null,null,null,"18:00:00",3.3614730047112348E-4,3.8699958499140629E-4,6.0109213116298272E-4,9.6983450258793485E-4,1.2438514478669194E-3,1.273303195299353E-3,1.3020286289478088E-3,1.1980267473383766E-3,9.9534273620036843E-4,7.6948423454169539E-4,3.5099259344326692E-4,3.3517608108665683E-4,null,null,null,null,"18:00:00",6.4181547669244239E-5,9.2545646408808427E-5,9.6655990079501459E-5,6.1597411930958677E-4,5.4293130751586767E-4,4.569761740152009E-4,2.6311817719030877E-4,2.9078338001796206E-4,2.8261824798225138E-4,5.543055548086934E-4,5.7467458249277029E-5,6.0924851165888803E-5]
[null,null,null,null,null,null,null,null,null,null,null,null,null,null,null,"19:00:00",3.2981766397357934E-4,3.3644911831955593E-4,3.5566328360380622E-4,6.2172717195595781E-4,9.2047789770486124E-4,9.8957249983750361E-4,1.0164508260296686E-3,8.286720733593091E-4,5.3038865836986917E-4,3.7201339932717731E-4,3.4908791703182178E-4,3.3372657885826233E-4,null,null,null,null,"19:00:00",9.2219045586953299E-5,7.764327094191375E-5,5.4220865118615301E-5,1.0365380289082372E-4,3.2210940344818393E-4,4.0690356494616598E-4,4.063135828376263E-4,3.0592435026641484E-4,1.5503818699818346E-4,7.533462079200021E-5,7.8835291655190884E-5,1.6933088879844135E-4]
[null,null,null,null,null,null,null,null,null,null,null,null,null,null,null,"20:00:00",3.2735154732743303E-4,3.3741375753608508E-4,3.1892826969824595E-4,3.3692395105730852E-4,5.1840388469197383E-4,5.9167884198139226E-4,5.9433538306071692E-4,4.2018927093154896E-4,2.8528397299912566E-4,3.1907905191464039E-4,3.461772751438557E-4,3.3348921925710511E-4,null,null,null,null,"20:00:00",8.8367923034177916E-5,8.8117651607841113E-5,9.1929440679905727E-5,8.2730109582919523E-5,8.4412411079169461E-5,5.3309508800525199E-4,6.0150654346446703E-4,3.1152365824635902E-4,7.7153678674565533E-5,9.8505320348555469E-5,1.0550249002140447E-4,1.6429934427254848E-4]
[null,null,null,null,null,null,null,null,null,null,null,null,null,null,null,"21:00:00",3.2911241628657536E-4,3.3529854193570517E-4,3.1635284849080403E-4,2.9031862874456918E-4,3.4186624757087506E-4,3.2507400774503629E-4,3.2882332122669672E-4,2.9412237413750349E-4,2.6669978998726117E-4,3.2208430318442032E-4,3.4380999183147761E-4,3.3617806450068481E-4,null,null,null,null,"21:00:00",2.0273521946388492E-4,1.5406431606212881E-4,1.3171605073014736E-4,1.5821870175401941E-4,7.9468657267849486E-5,2.0468735668210283E-4,2.2893157415093907E-4,8.7744506338642217E-5,7.5601259749938894E-5,9.5959639227955542E-5,4.9899931181443197E-5,7.4553469288185219E-5]
[null,null,null,null,null,null,null,null,null,null,null,null,null,null,null,"22:00:00",3.3697675729125537E-4,3.4313515193426937E-4,3.2550159921762372E-4,2.9879101214303215E-4,3.3985886325398138E-4,3.0423531142090906E-4,3.0836170623353839E-4,2.9747992791624998E-4,2.6949863692829273E-4,3.280917748769357E-4,3.4989356055233279E-4,3.4861046039196398E-4,null,null,null,null,"22:00:00",7.7864340688040711E-5,7.9270667687674157E-5,6.1503962305174155E-5,5.372200555829624E-5,8.3514263245294771E-5,2.4644526078117159E-4,8.2912616003108123E-5,6.5236145681985542E-5,5.6601973761543935E-5,7.9804167482262444E-5,7.1351546116494083E-5,7.8651067137678029E-5]
[null,null,null,null,null,null,null,null,null,null,null,null,null,null,null,"23:00:00",3.4244820482432089E-4,3.4700304933979605E-4,3.3578242505565568E-4,3.0549871152424243E-4,3.4043672223835409E-4,3.0850535527561474E-4,3.1302716206318948E-4,3.0250350441335795E-4,2.7621412786913032E-4,3.3426062728371549E-4,3.5862633558426569E-4,3.604529219651714E-4,null,null,null,null,"23:00:00",8.7191814893144336E-5,8.7469366108493496E-5,6.6284532803064652E-5,6.6220770582011326E-5,4.9020823713059446E-5,7.0435630899911861E-5,5.9019385126925751E-5,6.1658491065514517E-5,8.1497868571494427E-5,9.9103552004737116E-5,9.4407505841108522E-5,1.0428733129217039E-4]
[null,null,null,null,null,null,null,null,null,null,null,null,null,null,null,"Avg",5.259076993736993E-4,5.7996421173013492E-4,7.3089013740357473E-4,7.4130900072281721E-4,9.384318103345849E-4,9.1032096610044319E-4,9.2407751487854316E-4,8.6762550403889614E-4,7.8364229635292156E-4,7.9440299113003822E-4,6.8132288635469249E-4,5.9596591149687803E-4,null,null,null,null,"Avg",2.0994709271702767E-4,2.4106293636877584E-4,1.8933016029738087E-4,2.0886334532460766E-4,2.9669827381006254E-4,2.9451671730621446E-4,2.6770827591998111E-4,1.9988184448866891E-4,1.7443528151609808E-4,2.7943191103468017E-4,2.5962276998017959E-4,2.5034065636884485E-4]
[null,null,null,null,null,null,null,null,null,null,null,null,null,null,null,null,{"$f":"Q317*Q$1","v":1.6303138680584677E-2},1.6238997928443778E-2,2.2657594259510815E-2,2.2239270021684517E-2,2.9091386120372133E-2,2.7309628983013295E-2,2.8646402961234836E-2,2.6896390625205779E-2,2.3509268890587645E-2,2.4626492725031184E-2,2.0439686590640774E-2,1.8474943256403219E-2,{"$f":"SUM(Q318:AB318)/AC$1","v":7.573512357334593E-4},null,null,null,null,{"$f":"AH317*AH$1","v":6.5083598742278577E-3},6.7497622183257232E-3,5.8692349692188069E-3,6.2659003597382301E-3,9.1976464881119383E-3,8.8355015191864342E-3,8.298956553519414E-3,6.1963371791487363E-3,5.2330584454829427E-3,8.6623892420750852E-3,7.7886830994053878E-3,7.7605603474341905E-3,{"$f":"SUM(AH318:AS318)/AT$1","v":2.3935997341335551E-4}]
[]
[]
[null,null,null,null,null,null,null,null,null,null,null,null,null,null,null,null,"FR - Hourly metal and mineral resource use [gSbeq/kWh] - average mix",null,null,null,null,null,null,null,null,null,null,null,null,null,null,null,null,"FR - Hourly metal and mineral resource use [gSbeq/kWh] - marginal mix"]
[null,null,null,null,null,null,null,null,null,null,null,null,null,null,null,"hour","Jan","Feb","Mar","Apr","May","Jun","Jul","Aug","Sep","Oct","Nov","Dec",null,null,null,null,"hour","Jan","Feb","Mar","Apr","May","Jun","Jul","Aug","Sep","Oct","Nov","Dec"]
[null,null,null,null,null,null,null,null,null,null,null,null,null,null,null,"00:00:00",{"$f":"A4*Q293","v":0},{"$f":"B4*R293","v":0},{"$f":"C4*S293","v":0},{"$f":"D4*T293","v":0},{"$f":"E4*U293","v":0},{"$f":"F4*V293","v":0},{"$f":"G4*W293","v":0},{"$f":"H4*X293","v":0},{"$f":"I4*Y293","v":0},{"$f":"J4*Z293","v":0},{"$f":"K4*AA293","v":0},{"$f":"L4*AB293","v":0},null,null,null,null,{"$f":"AG293","v":"00:00:00"},{"$f":"A4*AH293","v":0},{"$f":"B4*AI293","v":0},{"$f":"C4*AJ293","v":0},{"$f":"D4*AK293","v":0},{"$f":"E4*AL293","v":0},{"$f":"F4*AM293","v":0},{"$f":"G4*AN293","v":0},{"$f":"H4*AO293","v":0},{"$f":"I4*AP293","v":0},{"$f":"J4*AQ293","v":0},{"$f":"K4*AR293","v":0},{"$f":"L4*AS293","v":0}]
[null,null,null,null,null,null,null,null,null,null,null,null,null,null,null,"01:00:00",0,0,0,0,0,0,0,0,0,0,0,0,null,null,null,null,{"$f":"AG237","v":"00:00:00"},0,0,0,0,0,0,0,0,0,0,0,0]
[null,null,null,null,null,null,null,null,null,null,null,null,null,null,null,"02:00:00",0,0,0,0,0,0,0,0,0,0,0,0,null,null,null,null,"00:00:00",0,0,0,0,0,0,0,0,0,0,0,0]
[null,null,null,null,null,null,null,null,null,null,null,null,null,null,null,"03:00:00",0,0,0,0,0,0,0,0,0,0,0,0,null,null,null,null,"00:00:00",0,0,0,0,0,0,0,0,0,0,0,0]
[null,null,null,null,null,null,null,null,null,null,null,null,null,null,null,"04:00:00",0,0,0,0,2.2500898011375562E-5,4.4156913591600865E-4,1.4301836247541439E-5,0,0,0,0,0,null,null,null,null,"00:00:00",0,0,0,0,3.9443855021865526E-5,5.1228606131991825E-4,1.2586404648254031E-5,0,0,0,0,0]
[null,null,null,null,null,null,null,null,null,null,null,null,null,null,null,"05:00:00",0,0,0,1.2710089792783755E-3,5.23528969468166E-3,5.6315705140144593E-3,3.5435281008020648E-3,1.9296107765542207E-3,2.8315927134155031E-4,0,0,0,null,null,null,null,"00:00:00",0,0,0,1.0954310731420712E-3,6.9895793655192062E-3,6.3650623292863312E-3,2.2743761253443792E-3,1.3064232718990696E-3,2.2806782704001255E-4,0,0,0]
[null,null,null,null,null,null,null,null,null,null,null,null,null,null,null,"06:00:00",0,1.1276499725994668E-5,7.7536864957268676E-3,1.8418491235530625E-2,3.1539459199113058E-2,2.8651790872558702E-2,2.4130279849836268E-2,1.9300083305619945E-2,1.5037618442459596E-2,1.0984550140850907E-2,2.4896315426638135E-4,0,null,null,null,null,"00:00:00",0,3.9045909327394475E-6,3.6139545815086424E-3,1.7866308017450622E-2,3.5227244604693585E-2,2.3509471115148117E-2,1.5299951646966743E-2,1.0399839438022092E-2,5.0883649638792305E-3,3.6662756294631805E-3,7.6154768365807872E-5,0]
[null,null,null,null,null,null,null,null,null,null,null,null,null,null,null,"07:00:00",1.3373367086837609E-2,2.085094507419543E-2,4.7061551010496576E-2,6.5191984568418043E-2,0.10451524389739299,0.1028679835571375,9.0119802283693609E-2,6.9041249543977321E-2,5.8692993391812727E-2,5.0946160900665359E-2,2.3060848227014576E-2,1.6435288483505707E-2,null,null,null,null,"00:00:00",4.348155711132921E-3,2.9353832072960811E-2,2.8415194738986741E-2,8.008101936013988E-2,0.1115340729672827,9.0220356783964881E-2,8.4776110314832523E-2,5.873381767374878E-2,4.3244927880615965E-2,2.5050642080657399E-2,2.27586275432652E-2,9.0132196450433116E-3]
[null,null,null,null,null,null,null,null,null,null,null,null,null,null,null,"08:00:00",6.1627866279086146E-2,9.2709466992248288E-2,0.18366801142145481,0.16683968386895204,0.3221321906494351,0.32069477576280836,0.3042410103728142,0.23137366821092759,0.1521996249758597,0.11919747335633879,0.11428042918094061,7.6186932828118753E-2,null,null,null,null,"00:00:00",2.8669227848930345E-2,5.2945425916023414E-2,3.2934546160981674E-2,6.8340206704703158E-2,7.2315794390925323E-2,3.7853739977443478E-2,3.1568470606441613E-2,7.2518690198581828E-2,0.17336071048830223,6.6712682673137555E-2,2.9014687129737034E-2,2.3989263056025542E-2]
[null,null,null,null,null,null,null,null,null,null,null,null,null,null,null,"09:00:00",0.17283801712926652,0.24841584292918953,0.42064199916890965,0.37861122039197737,0.63566549371525705,0.61999046665609636,0.64272413169440112,0.59164990196929534,0.44603693322970184,0.34563585247502987,0.35607809869491208,0.23490592951195818,null,null,null,null,"00:00:00",2.180319802244627E-2,5.2912649001670108E-2,7.9029482825227829E-2,9.0512799563207208E-2,0.40051555151002671,0.30594828886776326,0.40803559822434043,0.21283143464912108,8.8868391318935008E-2,0.11863256389670995,0.11081809607469977,5.2576940170801237E-2]
[null,null,null,null,null,null,null,null,null,null,null,null,null,null,null,"10:00:00",0.33413787456320765,0.44212774998113236,0.61660808842345949,0.59526547669270169,0.89387926437229581,0.84733245418154879,0.90830286366384272,0.90633850156156293,0.76156307033857695,0.68760822901358898,0.5917827655955048,0.46262872151698797,null,null,null,null,"00:00:00",0.35275976146596133,0.23759761962825587,0.18933093263401035,0.12615145755328847,0.28796443146873407,0.21249059127421385,0.28060192507304238,0.28976357361768906,0.21395807496949934,0.50821023132271426,0.35649377126787124,0.28132887885448055]
[null,null,null,null,null,null,null,null,null,null,null,null,null,null,null,"11:00:00",0.44208672236556534,0.56734450104320089,0.73167747014280504,0.76244256791735177,1.04128267503769,0.99760479687688342,1.0688056607268415,1.0803511800162304,0.92484592388900833,0.87615388346337753,0.66320390083468295,0.59847044965647467,null,null,null,null,"00:00:00",9.0492975510813575E-2,0.31327674969693914,0.13347470214137294,0.18844619639339738,0.18058498296942413,0.43200975219568571,0.15445977714296941,0.10777744918679168,8.5517719158280964E-2,0.31014765578968367,0.28974969057552796,5.5700308850127549E-2]
[null,null,null,null,null,null,null,null,null,null,null,null,null,null,null,"12:00:00",0.47723563012332471,0.60607602510402647,0.77064009453007398,0.82952180661791963,1.0533015003297417,1.0445943008447249,1.1290919247339195,1.1440663351482241,0.98311250916465587,0.90064539154928902,0.64731435245132807,0.6162672342901937,null,null,null,null,"00:00:00",7.0681965695892454E-2,0.15633704925869391,0.14098331093457875,0.10518079954642238,0.30838153065809615,0.23478174728497991,0.26495104567179129,0.24830824223256953,0.23403083638456978,0.17996873778821773,9.7400429462769139E-2,9.67882421855428E-2]
[null,null,null,null,null,null,null,null,null,null,null,null,null,null,null,"13:00:00",0.44310461299896969,0.5824047146584177,0.74233267403063796,0.79428781166624396,0.98391127390590716,0.99104167051357916,1.0818073745745895,1.0926475922517962,0.92810126030432372,0.79462144329778905,0.56821290553025106,0.55525783913518623,null,null,null,null,"00:00:00",0.1639238519750689,0.18576432572359805,7.5386100492740374E-2,0.1429084788417701,0.17546998738676617,0.1852102908802882,0.32302353354898128,0.25620041298840524,8.7719716646136869E-2,0.10045211358234316,0.20677690148659786,0.12927977384213774]
[null,null,null,null,null,null,null,null,null,null,null,null,null,null,null,"14:00:00",0.35300414884755843,0.49463970904455584,0.61939128314132186,0.67940321237068069,0.84393085448925476,0.86974101821299465,0.92656347374178016,0.93378483566546189,0.77635884963229751,0.65075445855259628,0.44189279367164269,0.42839619642344412,null,null,null,null,"daily co2 savings",4.8343454394203851E-2,8.2598607648129999E-2,6.6718012103689384E-2,8.5544761233218802E-2,9.3418148137876272E-2,0.14127872976698272,0.17038560306696374,9.1799869731737843E-2,6.3613080420397247E-2,7.442065189497582E-2,7.8663895817862498E-2,0.10558666766298065]
[null,null,null,null,null,null,null,null,null,null,null,null,null,null,null,"15:00:00",0.23494898510136394,0.35178017153366253,0.46030496714110536,0.51480799719765402,0.62589796144537513,0.67479331554215671,0.71991687706040353,0.71160644984092936,0.55710211254662434,0.44375840779490922,0.24976842390619305,0.25102938238448252,null,null,null,null,"monthly savings",5.4482440168496765E-2,4.3095778374408283E-2,5.5049181409021694E-2,4.7947734053149803E-2,7.3425592542037482E-2,9.6964005411272383E-2,7.2947653513604188E-2,5.6656122819133341E-2,4.5908415270802951E-2,4.6623953511145323E-2,5.3179316174621301E-2,6.0606578217696029E-2]
[null,null,null,null,null,null,null,null,null,null,null,null,null,null,null,"16:00:00",8.3959249483306145E-2,0.16629447260855348,0.24961272452221481,0.29520097770431614,0.36678181653046443,0.41483949574873191,0.44655361959752543,0.4219885587432714,0.29294408994950705,0.18771591860799164,6.554565262694774E-2,6.2735376648467608E-2,null,null,null,null,"00:00:00",4.0296187360324372E-2,4.8184298624955227E-2,3.6432687247362684E-2,4.815883451118954E-2,7.3201012016543693E-2,4.5352096398268121E-2,7.043480200242408E-2,4.7213976174278749E-2,2.3498042444934666E-2,2.7026752845241395E-2,4.1398635943279756E-2,6.4702544717203186E-2]
[null,null,null,null,null,null,null,null,null,null,null,null,null,null,null,"17:00:00",1.2530151846390678E-3,2.7776768432514087E-2,7.1327054811139615E-2,0.10039394043873895,0.14555072788989254,0.16928922621426343,0.17810796007837371,0.15192922414871973,7.7330819736398729E-2,1.7726570931583443E-2,6.4266425649711601E-4,7.643161053148775E-4,null,null,null,null,"00:00:00",5.3704669290752325E-4,3.0275445656376125E-2,2.8132462809026836E-2,3.1058680815065375E-2,2.8333528982280191E-2,4.4297156237791797E-2,3.1185074329371291E-2,1.5172691327190504E-2,1.5078981938639895E-2,7.6191552442872986E-3,1.2967386158291544E-4,2.6675526896739298E-4]
[null,null,null,null,null,null,null,null,null,null,null,null,null,null,null,"18:00:00",5.6335463921636331E-7,3.6014867916564042E-4,1.5062610228674821E-3,1.1372095302757533E-2,3.1307671287129281E-2,4.3213213592292403E-2,3.5474413197825752E-2,2.2046418380692372E-2,3.4864887261166701E-3,2.2185975672081018E-4,0,0,null,null,null,null,"00:00:00",1.0756288264364913E-7,8.6124620307804407E-5,2.4220771315328264E-4,7.2227956111363695E-3,1.3665550606021169E-2,1.5508803470539356E-2,7.1687847179294946E-3,5.3510758989900702E-3,9.8995582079237573E-4,1.5981886310132936E-4,0,0]
[null,null,null,null,null,null,null,null,null,null,null,null,null,null,null,"19:00:00",0,0,7.5723814463083365E-6,1.4637476997697761E-4,1.2248513668419142E-3,6.6947330625556668E-3,6.4640551950238033E-3,3.7939763101644522E-4,2.7262977353220959E-5,0,0,0,null,null,null,null,"daily  savings",0,0,1.1544094989697031E-6,2.44034718760178E-5,4.2862098489261538E-4,2.7528157360518679E-3,2.5839257135628823E-3,1.4006381715122286E-4,7.9692552137273075E-6,0,0,0]
[null,null,null,null,null,null,null,null,null,null,null,null,null,null,null,"20:00:00",0,0,0,0,9.2226995620767197E-6,8.8806687942795032E-5,8.3313701017981138E-5,8.5644994109768796E-7,0,0,0,0,null,null,null,null,"monthly savings",0,0,0,0,1.5017447393479177E-6,8.0013692843537812E-5,8.4318951472283951E-5,6.3496247337332489E-7,0,0,0,0]
[null,null,null,null,null,null,null,null,null,null,null,null,null,null,null,"21:00:00",0,0,0,0,0,0,0,0,0,0,0,0,null,null,null,null,"00:00:00",0,0,0,0,0,0,0,0,0,0,0,0]
[null,null,null,null,null,null,null,null,null,null,null,null,null,null,null,"22:00:00",0,0,0,0,0,0,0,0,0,0,0,0,null,null,null,null,"00:00:00",0,0,0,0,0,0,0,0,0,0,0,0]
[null,null,null,null,null,null,null,null,null,null,null,null,null,null,null,"23:00:00",0,0,0,0,0,0,0,0,0,0,0,0,null,null,null,null,"TIER 2",0,0,0,0,0,0,0,0,0,0,0,0]
[null,null,null,null,null,null,null,null,null,null,null,null,null,null,null,"daily  savings",{"$f":"SUM(Q323:Q346)","v":2.6175700525177645},{"$f":"SUM(R323:R346)","v":3.6007917925805879},4.9225334382436596,5.2131746497224984,7.0861879974080448,7.1375111879762052,7.5659445904089386,7.3784338636442213,5.9771227165760372,5.0859701998407294,3.7220317981301814,3.3030776669841346,null,null,null,null,"daily  savings",{"$f":"SUM(AH323:AH346)","v":0.87633837240906087},{"$f":"SUM(AI323:AI346)","v":1.2324318108132517},0.86974393020116025,1.0405399067491572,1.8614965741908809,1.8751352074838437,1.9197935370546866,1.4741743179877835,1.0811132547880404,1.4686912351216781,1.2864598801061806,0.87983917247100585]
[null,null,null,null,null,null,null,null,null,null,null,null,null,null,null,"monthly savings",{"$f":"Q347*Q$1","v":81.144671628050702},100.82217019225646,152.59853658555346,156.39523949167494,219.67182791964939,214.12533563928616,234.54428230267709,228.73144977297085,179.31368149728112,157.66507619506262,111.66095394390544,102.39540767650817,{"$f":"SUM(Q348:AB348)","v":1939.0686328448764},"gSbeq/y",null,null,"monthly savings",{"$f":"AH347*AH$1","v":27.166489544680886},34.50809070277105,26.962061836235968,31.216197202474717,57.706393799917308,56.25405622451531,59.513599648695283,45.699403857621292,32.433397643641214,45.529428288772024,38.593796403185422,27.275014346601182,{"$f":"SUM(AH348:AS348)","v":482.85792949911161},"gSbeq/y"]
[]
[null,null,null,null,null,null,null,null,null,null,null,null,null,null,null,null,null,null,null,null,null,null,null,null,null,null,null,null,{"$f":"AC348/$M$36","v":1939.0686328448764},"gSbeq/y*kWp",null,null,null,null,null,null,null,null,null,null,null,null,null,null,null,{"$f":"AT348/$M$36","v":482.85792949911161},"gSbeq/y*kWp"]
[]
[null,null,null,null,null,null,null,null,null,null,null,null,null,null,null,"TIER 1","FR - Hourly metal and mineral resource use [gSbeq/kWh] - average mix",null,null,null,null,null,null,null,null,null,null,null,null,null,null,null,{"$f":"AG291","v":"TIER 2"},"FR - Hourly metal and mineral resource use [gSbeq/kWh] - marginal mix"]
[null,null,null,null,null,null,null,null,null,null,null,null,null,null,null,"hour","Jan","Feb","Mar","Apr","May","Jun","Jul","Aug","Sep","Oct","Nov","Dec",null,null,null,null,"hour","Jan","Feb","Mar","Apr","May","Jun","Jul","Aug","Sep","Oct","Nov","Dec"]
[null,null,null,null,null,null,null,null,null,null,null,null,null,null,null,"00:00:00",{"$f":"Q293*1000","v":0.35187280717119845},{"$f":"R293*1000","v":0.34451677252423307},0.34244381925822598,0.3104518417793839,0.34256771290032756,0.30677305445301217,0.31027310457048057,0.30671931073737019,0.28679479478980913,0.33792347558665581,0.37940867219163593,0.38739879222040452,null,null,null,null,"00:00:00",{"$f":"AH293*1000","v":0.14719200328200735},{"$f":"AI293*1000","v":0.19332769755821635},0.12616562328349648,0.10544927923267573,0.13558498163731753,0.12046980657899369,0.10073558442193951,0.10552118599877847,0.11185353852260974,0.17809960594306987,0.12144456754833292,0.13501770061146259]
[null,null,null,null,null,null,null,null,null,null,null,null,null,null,null,"01:00:00",{"$f":"Q294*1000","v":0.36561560812341831},0.34242464832016067,0.35340732062561875,0.31390352448105141,0.34042957622887049,0.30446138039026877,0.30962877475380024,0.30128078326382168,0.28916223560197574,0.3482850578139518,0.38761822366010473,0.40094977977724156,null,null,null,null,"01:00:00",{"$f":"AH294*1000","v":0.14821671568311298},0.12824046369053183,0.18485123386074775,9.9191477250631141E-2,0.20371330008455493,0.15723852123393509,0.10157524275982956,0.13380251142120256,0.19977347824297165,0.25798646291557176,0.20119447160769685,0.16348542824216317]
[null,null,null,null,null,null,null,null,null,null,null,null,null,null,null,"02:00:00",{"$f":"Q295*1000","v":0.37736177638085266},0.33928321429258579,0.36099906258938214,0.31836737304635204,0.34479374663645834,0.30711293040668225,0.3117582932345756,0.29664356362668093,0.29117758188411846,0.35692707811949564,0.3927349202795159,0.41143550587937722,null,null,null,null,"02:00:00",{"$f":"AH295*1000","v":0.12506527148812485},0.38116920394004949,0.1418833327338993,0.1193923209428473,0.12875972289990237,0.12311202513001497,0.10027622168965912,0.12594253629885199,9.8276200952370885E-2,0.21072725097188486,0.1930027675990402,0.32043143177961536]
[null,null,null,null,null,null,null,null,null,null,null,null,null,null,null,"03:00:00",{"$f":"Q296*1000","v":0.38229145659621117},0.33728235891577873,0.35621029403798488,0.32226804769923156,0.34249278060126515,0.30676575401510869,0.30814392780482169,0.29369874839031118,0.29144384194236017,0.35503678975021796,0.39054251501492748,0.4157699848744561,null,null,null,null,"03:00:00",{"$f":"AH296*1000","v":0.24248396827008928},0.30136519552760671,0.24642999974887644,0.21945693751162762,0.24557963776853389,0.16450583258767423,0.22026223096974182,9.3440051778758748E-2,0.12783236680098647,0.42078389961606,0.38782509599564352,0.27833881592802856]
[null,null,null,null,null,null,null,null,null,null,null,null,null,null,null,"04:00:00",{"$f":"Q297*1000","v":0.38481917887919231},0.33429924482016693,0.35607968428579789,0.32136416139885049,0.33916068543802769,0.30438140922644308,0.30351439499693894,0.29150277487404119,0.28995882823142421,0.35990783521065067,0.39126919724769466,0.4171702733927703,null,null,null,null,"04:00:00",{"$f":"AH297*1000","v":0.61098901668004346},0.23979212455061757,0.46596851031710174,0.22677902183967769,0.59454537764540838,0.35312783568569078,0.26710940650423032,0.16697383154246936,0.20631333205382282,0.46347628954069042,0.5624470261758302,0.39290907313750367]
[null,null,null,null,null,null,null,null,null,null,null,null,null,null,null,"05:00:00",{"$f":"Q298*1000","v":0.38599367749080593},0.33369564050913464,0.3512530483068127,0.31177348932421906,0.33429876121172869,0.2944943345372365,0.2968941093058054,0.28604422064699131,0.2874114373334678,0.3537144914252825,0.38905119788027354,0.41390649604683882,null,null,null,null,"05:00:00",{"$f":"AH298*1000","v":0.33532976963729699},0.13480989216010794,0.36888515778823688,0.26870492148810893,0.44631870623278136,0.33285116297247486,0.19055835166304119,0.19366331862676617,0.23149269196989963,0.42205710492963411,0.28853951472221712,0.70271470186211171]
[null,null,null,null,null,null,null,null,null,null,null,null,null,null,null,"06:00:00",{"$f":"Q299*1000","v":0.37526737340190353},0.33068148057551361,0.3380286290404258,0.31125048103343467,0.33388013263878291,0.29351489285028787,0.29266770089077493,0.27714831675514812,0.27962158906111473,0.34453227133540049,0.37318136238488253,0.39328701398404819,null,null,null,null,"06:00:00",{"$f":"AH299*1000","v":0.15688295379812287},0.11450148025132109,0.157553457091021,0.30191924482911159,0.37291942854380655,0.24083590188208751,0.18556774725048064,0.14934122040459477,9.4617156457794283E-2,0.11499335464481081,0.11415159120473499,0.3379642232480975]
[null,null,null,null,null,null,null,null,null,null,null,null,null,null,null,"07:00:00",{"$f":"Q300*1000","v":0.35637073580895984},0.32865083196583633,0.35053794487297335,0.31290709715634257,0.40827954490225798,0.39849585709255381,0.36925159308194072,0.29503435713748577,0.27049209995877488,0.33057662631601065,0.36072513263222861,0.37055039540101053,null,null,null,null,"07:00:00",{"$f":"AH300*1000","v":0.11586875916338825},0.46267261737229781,0.21165056724858325,0.38437116880533551,0.43569797910899083,0.34950075971745365,0.34735666297291012,0.25098755097946207,0.19929825825897121,0.16254721846892803,0.35599770044254936,0.20321225919817579]
[null,null,null,null,null,null,null,null,null,null,null,null,null,null,null,"08:00:00",{"$f":"Q301*1000","v":0.35116115160894329},0.38458343368918929,0.57786736606812039,0.45162968642198931,0.76978654513515343,0.75945960777240906,0.72190152932521656,0.55354684285908518,0.38437350897274358,0.3646980286990964,0.48438056224275583,0.37693217217711389,null,null,null,null,"08:00:00",{"$f":"AH301*1000","v":0.16335985123317584},0.21963165529388057,0.10362065389287624,0.18499475309664459,0.17281019140206233,8.9644074954469508E-2,7.490550725335321E-2,0.17349637198605455,0.43781490669878864,0.2041149294111928,0.12297950371666604,0.11868603574100824]
[null,null,null,null,null,null,null,null,null,null,null,null,null,null,null,"09:00:00",{"$f":"Q302*1000","v":0.50250898932509835},0.6235513031496257,0.92787757961360828,0.76411811776115379,1.188436229382507,1.1245806504074043,1.1462873307785322,1.0410392136201476,0.83651266198955121,0.73880664254015616,0.9195604914719453,0.60835474912088139,null,null,null,null,"09:00:00",{"$f":"AH302*1000","v":6.3390584920447093E-2},0.13281661446808343,0.17432801619160701,0.18267411611289902,0.74880136888293547,0.55494970356825002,0.72772440567641938,0.37448813668909792,0.16666676916336834,0.25358054033121685,0.2861842479611405,0.13616272400447482]
[null,null,null,null,null,null,null,null,null,null,null,null,null,null,null,"10:00:00",{"$f":"Q303*1000","v":0.74264611325882601},0.85876575230487184,1.1600985525664305,1.0315043773857659,1.4389256534060328,1.3468227266772534,1.3893221464071455,1.3542895393183967,1.220324135375533,1.2309594354911737,1.2173542201487841,0.93004688688643733,null,null,null,null,"10:00:00",{"$f":"AH303*1000","v":0.78403463273736063},0.4614971545545678,0.35621093045721913,0.21860125569987912,0.46355187352938365,0.33775073304566267,0.42920317046664735,0.43297705653001778,0.34284514705746993,0.90980030933789757,0.73334206763015419,0.56557026358393403]
[null,null,null,null,null,null,null,null,null,null,null,null,null,null,null,"11:00:00",{"$f":"Q304*1000","v":0.86673803834325325},0.99468369162841286,1.2939497456370608,1.2299141787820351,1.5737597560788823,1.4905595513283179,1.521549154229062,1.5083408428239919,1.4027994468454723,1.463618844009305,1.3162576649620839,1.0837651277476743,null,null,null,null,"11:00:00",{"$f":"AH304*1000","v":0.17741700917502132},0.54924525278191383,0.23604602291649543,0.30398702621612733,0.27293009435615867,0.64548232367985359,0.21988856525560538,0.15047433792906401,0.12971264297329596,0.51810299766601087,0.57506484907648148,0.1008672230536927]
[null,null,null,null,null,null,null,null,null,null,null,null,null,null,null,"12:00:00",{"$f":"Q305*1000","v":0.92319107255636512},1.0659193430033502,1.3667919237442752,1.3550460287281805,1.6288924378111183,1.5621316828932621,1.5903897525570787,1.5891837302527922,1.4935486525215627,1.5450463851652985,1.3273019955620502,1.1396799980689205,null,null,null,null,"12:00:00",{"$f":"AH305*1000","v":0.13673111478353123},0.27495343476803424,0.25004519247809565,0.17181564557649034,0.47690081433695508,0.35110282116446634,0.3731985135444133,0.34491655467909893,0.35554062945213394,0.30873421478805191,0.1997171604568351,0.17899316648590624]
[null,null,null,null,null,null,null,null,null,null,null,null,null,null,null,"13:00:00",{"$f":"Q306*1000","v":0.93716859294783994},1.0791657557729391,1.3801425179017186,1.3977964766299096,1.6471808701158897,1.5970688757893947,1.6190803874287023,1.619625064163762,1.5229322007197363,1.5628392181140902,1.3110156534995827,1.1417476837915082,null,null,null,null,"13:00:00",{"$f":"AH306*1000","v":0.34669981128457017},0.34421166917018131,0.14015759535939348,0.25149192178401847,0.29375698212662021,0.29846735999256419,0.48345119486058064,0.37976435702381972,0.143940307843789,0.19756640595728783,0.47708834486625096,0.26583124440934558]
[null,null,null,null,null,null,null,null,null,null,null,null,null,null,null,"14:00:00",{"$f":"Q307*1000","v":0.92998763591374689},1.068367271130312,1.3731838714675639,1.4157243775013511,1.6583476318373631,1.5992912372112287,1.6190476314104483,1.6190150487369273,1.5188412810706418,1.5601772573448811,1.2794304749837664,1.1118962651359499,null,null,null,null,"14:00:00",{"$f":"AH307*1000","v":0.12736058488475363},0.17840389163791745,0.14791312156109343,0.17825615428401045,0.18356926270794566,0.2597851886816907,0.29772639963669373,0.15916447225431246,0.12445040409383705,0.17842276305193708,0.22775882981497,0.27404870165227763]
[null,null,null,null,null,null,null,null,null,null,null,null,null,null,null,"15:00:00",{"$f":"Q308*1000","v":0.87354190967446155},1.0286928236462687,1.3336701433884353,1.4000319739645255,1.6352565102320391,1.5893794192502622,1.6065697299196293,1.5966005949570259,1.4960270777635318,1.5373018322797867,1.1847479654489559,1.0277241055895363,null,null,null,null,"15:00:00",{"$f":"AH308*1000","v":0.20256607964482315},0.12602278789599605,0.15949740911807284,0.1303949455310896,0.19183586721506021,0.22838488624465256,0.16279031057329785,0.12711689083370054,0.12328122761621395,0.16151826737655234,0.25225000685239596,0.24812570066488845]
[null,null,null,null,null,null,null,null,null,null,null,null,null,null,null,"16:00:00",{"$f":"Q309*1000","v":0.72009257100292134},0.89998758056254391,1.2303258912049826,1.3312434760686602,1.5607070086472241,1.5369250574689,1.5530672737782234,1.5321532483192928,1.4285657366579025,1.4573260516995221,0.91148787336105541,0.76237199705153447,null,null,null,null,"16:00:00",{"$f":"AH309*1000","v":0.34560796263050125},0.26077397318343604,0.17957449281642968,0.21717791979099518,0.31148036065413931,0.16802347432574805,0.24496495185417125,0.17142419021246585,0.1145901196407572,0.20982126239632429,0.57569576506855802,0.78627739029562815]
[null,null,null,null,null,null,null,null,null,null,null,null,null,null,null,"17:00:00",{"$f":"Q310*1000","v":0.45957218003034817},0.64494775181961406,0.99091478271590472,1.1880432704698891,1.4411773070523501,1.4316968649125834,1.4615399619715741,1.4098690086336592,1.2802312950373036,1.235460592249793,0.48964703978006213,0.42260105847357121,null,null,null,null,"17:00:00",{"$f":"AH310*1000","v":0.19697424457684742},0.70296444522900059,0.39083168855748662,0.36754266812075892,0.28054575603951953,0.374625728573659,0.2559022759531579,0.14079916092266079,0.24963636284929505,0.53102013282099914,9.8798745719895179E-2,0.14749271699904887]
[null,null,null,null,null,null,null,null,null,null,null,null,null,null,null,"18:00:00",{"$f":"Q311*1000","v":0.33614730047112346},0.3869995849914063,0.60109213116298277,0.9698345025879348,1.2438514478669194,1.273303195299353,1.3020286289478087,1.1980267473383766,0.99534273620036839,0.76948423454169534,0.35099259344326694,0.33517608108665681,null,null,null,null,"18:00:00",{"$f":"AH311*1000","v":6.4181547669244235E-2},9.2545646408808427E-2,9.6655990079501458E-2,0.61597411930958679,0.54293130751586771,0.45697617401520091,0.26311817719030878,0.29078338001796206,0.28261824798225138,0.55430555480869337,5.7467458249277029E-2,6.0924851165888805E-2]
[null,null,null,null,null,null,null,null,null,null,null,null,null,null,null,"19:00:00",{"$f":"Q312*1000","v":0.32981766397357937},0.33644911831955593,0.35566328360380622,0.62172717195595784,0.92047789770486121,0.98957249983750362,1.0164508260296685,0.82867207335930915,0.53038865836986915,0.37201339932717731,0.34908791703182179,0.33372657885826235,null,null,null,null,"19:00:00",{"$f":"AH312*1000","v":9.2219045586953305E-2},7.7643270941913756E-2,5.4220865118615298E-2,0.10365380289082372,0.32210940344818395,0.40690356494616597,0.40631358283762631,0.30592435026641485,0.15503818699818345,7.5334620792000206E-2,7.8835291655190889E-2,0.16933088879844135]
[null,null,null,null,null,null,null,null,null,null,null,null,null,null,null,"20:00:00",{"$f":"Q313*1000","v":0.32735154732743305},0.3374137575360851,0.31892826969824595,0.33692395105730855,0.51840388469197385,0.59167884198139231,0.59433538306071687,0.42018927093154895,0.28528397299912567,0.31907905191464037,0.34617727514385571,0.33348921925710512,null,null,null,null,"20:00:00",{"$f":"AH313*1000","v":8.8367923034177912E-2},8.8117651607841116E-2,9.192944067990573E-2,8.2730109582919528E-2,8.4412411079169455E-2,0.53309508800525196,0.60150654346446708,0.31152365824635903,7.7153678674565532E-2,9.850532034855547E-2,0.10550249002140447,0.16429934427254847]
[null,null,null,null,null,null,null,null,null,null,null,null,null,null,null,"21:00:00",{"$f":"Q314*1000","v":0.32911241628657534},0.33529854193570519,0.31635284849080403,0.29031862874456921,0.34186624757087508,0.32507400774503631,0.32882332122669672,0.29412237413750347,0.26669978998726118,0.32208430318442033,0.34380999183147759,0.33617806450068483,null,null,null,null,"21:00:00",{"$f":"AH314*1000","v":0.20273521946388492},0.15406431606212881,0.13171605073014736,0.15821870175401939,7.9468657267849491E-2,0.20468735668210283,0.22893157415093907,8.7744506338642211E-2,7.5601259749938893E-2,9.5959639227955543E-2,4.9899931181443195E-2,7.4553469288185223E-2]
[null,null,null,null,null,null,null,null,null,null,null,null,null,null,null,"22:00:00",{"$f":"Q315*1000","v":0.33697675729125537},0.34313515193426936,0.32550159921762373,0.29879101214303216,0.3398588632539814,0.30423531142090904,0.30836170623353837,0.29747992791625,0.26949863692829273,0.32809177487693569,0.34989356055233278,0.34861046039196397,null,null,null,null,"22:00:00",{"$f":"AH315*1000","v":7.7864340688040712E-2},7.9270667687674157E-2,6.1503962305174152E-2,5.3722005558296239E-2,8.3514263245294776E-2,0.2464452607811716,8.2912616003108119E-2,6.5236145681985547E-2,5.6601973761543932E-2,7.9804167482262447E-2,7.135154611649408E-2,7.8651067137678027E-2]
[null,null,null,null,null,null,null,null,null,null,null,null,null,null,null,"23:00:00",{"$f":"Q316*1000","v":0.34244820482432087},0.34700304933979603,0.3357824250556557,0.30549871152424241,0.34043672223835408,0.30850535527561473,0.31302716206318948,0.30250350441335794,0.2762141278691303,0.33426062728371547,0.35862633558426571,0.36045292196517142,null,null,null,null,"23:00:00",{"$f":"AH316*1000","v":8.7191814893144343E-2},8.7469366108493499E-2,6.628453280306465E-2,6.6220770582011326E-2,4.902082371305945E-2,7.0435630899911866E-2,5.9019385126925748E-2,6.165849106551452E-2,8.1497868571494422E-2,9.9103552004737111E-2,9.4407505841108519E-2,0.10428733129217038]
[null,null,null,null,null,null,null,null,null,null,null,null,null,null,null,"Avg",{"$f":"Q317*1000","v":0.5259076993736993},0.5799642117301349,0.73089013740357478,0.74130900072281725,0.93843181033458489,0.91032096610044322,0.92407751487854317,0.86762550403889616,0.7836422963529216,0.79440299113003821,0.68132288635469251,0.59596591149687805,null,null,null,null,"Avg",{"$f":"AH317*1000","v":0.20994709271702766},0.24106293636877585,0.18933016029738087,0.20886334532460765,0.29669827381006253,0.29451671730621448,0.26770827591998109,0.19988184448866891,0.17443528151609808,0.27943191103468018,0.25962276998017958,0.25034065636884484]
[null,null,null,null,null,null,null,null,null,null,null,null,null,null,null,null,{"$f":"Q378*Q$1","v":16.303138680584677},16.238997928443776,22.65759425951082,22.239270021684518,29.091386120372132,27.309628983013297,28.646402961234838,26.896390625205782,23.509268890587649,24.626492725031184,20.439686590640775,18.474943256403218,{"$f":"SUM(Q379:AB379)/AC$1","v":0.7573512357334593},null,null,null,null,{"$f":"AH378*AH$1","v":6.5083598742278577},6.7497622183257242,5.8692349692188071,6.2659003597382297,9.1976464881119391,8.835501519186435,8.2989565535194139,6.1963371791487365,5.2330584454829427,8.6623892420750863,7.7886830994053877,7.7605603474341898,{"$f":"SUM(AH379:AS379)/AT$1","v":0.23935997341335549}]