Workbook

Sheet Sheet1
A1: Cells where you need to add data are highlighted in orange like this
A2: Cells containing data that you need to add to SAND for the scenario are highlighted green like this

Sheet Input Data
A1: 1. Copy and paste below the Specified Annual Demand for INDELC, RESELC & COMELC from the country's Data Collection file or SAND file
A2: In the Data Collection file, these are found in tab 4.2 Specified Annual Demands, in rows 22, 25 and 27. Copy and paste all values from column D to BG
B3: 2015 | C3: 2016 | D3: 2017 | E3: 2018 | F3: 2019 | G3: 2020 | H3: 2021 | I3: 2022 | J3: 2023 | K3: 2024 | L3: 2025 | M3: 2026 | N3: 2027 | O3: 2028 | P3: 2029 | Q3: 2030 | R3: 2031 | S3: 2032 | T3: 2033 | U3: 2034 | V3: 2035 | W3: 2036 | X3: 2037 | Y3: 2038 | Z3: 2039 | AA3: 2040 | AB3: 2041 | AC3: 2042 | AD3: 2043 | AE3: 2044 | AF3: 2045 | AG3: 2046 | AH3: 2047 | AI3: 2048 | AJ3: 2049 | AK3: 2050 | AL3: 2051 | AM3: 2052 | AN3: 2053 | AO3: 2054 | AP3: 2055 | AQ3: 2056 | AR3: 2057 | AS3: 2058 | AT3: 2059 | AU3: 2060 | AV3: 2061 | AW3: 2062 | AX3: 2063 | AY3: 2064 | AZ3: 2065 | BA3: 2066 | BB3: 2067 | BC3: 2068 | BD3: 2069 | BE3: 2070
A4: INDELC | B4: 6.7460195 | C4: 7.4090878 | D4: 7.1648146 | E4: 6.9205413 | F4: 6.676268 | G4: 6.4319948 | H4: 6.9039185 | I4: 7.4087359 | J4: 7.948773 | K4: 8.5265143 | L4: 9.1446166 | M4: 9.802063 | N4: 10.505154 | O4: 11.257163 | P4: 12.061607 | Q4: 12.92224 | R4: 13.82771 | S4: 14.805926 | T4: 15.862003 | U4: 17.001553 | V4: 18.713293 | W4: 20.167574 | X4: 21.734634 | Y4: 23.423247 | Z4: 25.242862 | AA4: 27.203648 | AB4: 28.830973 | AC4: 30.557708 | AD4: 32.38979 | AE4: 34.333509 | AF4: 36.395536 | AG4: 38.611541 | AH4: 40.962177 | AI4: 43.455563 | AJ4: 46.100291 | AK4: 48.905479 | AL4: 50.6941 | AM4: 52.547817 | AN4: 54.468993 | AO4: 56.460089 | AP4: 58.523653 | AQ4: 60.66229 | AR4: 62.878692 | AS4: 65.175678 | AT4: 67.556179 | AU4: 70.023214 | AV4: 71.837897 | AW4: 73.699148 | AX4: 75.608157 | AY4: 77.566133 | AZ4: 79.574321 | BA4: 81.633988 | BB4: 83.746433 | BC4: 85.913015 | BD4: 88.135119 | BE4: 90.414173
A5: RESELC | B5: 7.2979259 | C5: 8.0152412 | D5: 7.7509835 | E5: 7.4867257 | F5: 7.2224679 | G5: 6.9582101 | H5: 7.4687429 | I5: 8.0148605 | J5: 8.5990792 | K5: 9.2240868 | L5: 9.8927573 | M5: 10.603991 | N5: 11.364603 | O5: 12.178136 | P5: 13.048393 | Q5: 13.979437 | R5: 14.958985 | S5: 16.017231 | T5: 17.159708 | U5: 18.392487 | V5: 20.244267 | W5: 21.817527 | X5: 23.512792 | Y5: 25.339554 | Z5: 27.308035 | AA5: 29.429237 | AB5: 31.189697 | AC5: 33.0577 | AD5: 35.039669 | AE5: 37.142407 | AF5: 39.373134 | AG5: 41.770434 | AH5: 44.313381 | AI5: 47.010757 | AJ5: 49.871855 | AK5: 52.906541 | AL5: 54.841493 | AM5: 56.846867 | AN5: 58.925219 | AO5: 61.07921 | AP5: 63.311599 | AQ5: 65.625202 | AR5: 68.022933 | AS5: 70.50784 | AT5: 73.083096 | AU5: 75.751964 | AV5: 77.71511 | AW5: 79.728634 | AX5: 81.793824 | AY5: 83.911986 | AZ5: 86.084467 | BA5: 88.31264 | BB5: 90.597908 | BC5: 92.941744 | BD5: 95.345642 | BE5: 97.811151
A6: COMELC | B6: 7.6388646 | C6: 8.389691 | D6: 8.1130878 | E6: 7.8364846 | F6: 7.5598815 | G6: 7.2832783 | H6: 7.8176617 | I6: 8.3892925 | J6: 9.0008042 | K6: 9.6550104 | L6: 10.354919 | M6: 11.09938 | N6: 11.895526 | O6: 12.747065 | P6: 13.657978 | Q6: 14.632517 | R6: 15.657827 | S6: 16.765511 | T6: 17.961361 | U6: 19.251733 | V6: 21.190023 | W6: 22.836781 | X6: 24.611244 | Y6: 26.523347 | Z6: 28.58379 | AA6: 30.804089 | AB6: 32.646792 | AC6: 34.602064 | AD6: 36.676624 | AE6: 38.877597 | AF6: 41.212537 | AG6: 43.721833 | AH6: 46.383579 | AI6: 49.206968 | AJ6: 52.201729 | AK6: 55.378187 | AL6: 57.403535 | AM6: 59.502594 | AN6: 61.678041 | AO6: 63.93266 | AP6: 66.26934 | AQ6: 68.691029 | AR6: 71.200775 | AS6: 73.80177 | AT6: 76.497334 | AU6: 79.290884 | AV6: 81.345743 | AW6: 83.453333 | AX6: 85.615003 | AY6: 87.83212 | AZ6: 90.106094 | BA6: 92.438361 | BB6: 94.83039 | BC6: 97.283723 | BD6: 99.799925 | BE6: 102.38062
A8: 2. Go to https://electrifynow.energydata.info/countries and select your country. Don't change any of the settings on the webpage (this is the default least-cost scenario). Fill in the table below with the numbers for Grid Extension ('Grid') and off-grid (sum of 'stand-alone - Photovoltaic', 'Mini-grid - Hydro' and 'Mini-grid - Photovoltaic) in 2018, 2025 and 2030 from the graph on the far right (see example to the right). Everything else is automatically calculated.
B11: 2018 | C11: 2025 | D11: 2030
A12: Grid Extension | B12: 16.2 | C12: 19.8 | D12: 24 | F12: Make sure to have the numbers in consistent units e.g. if the grid extension value is in millions of people but off-grid is in hundreds of thousands, make sure to convert to the same
A13: Off-grid | B13: 0 | C13: 5.8 | D13: 9.313
A14: Proportion Grid Extension | B14: =IFERROR(B12/SUM(B12:B13),0) -> 1 | C14: =IFERROR(C12/SUM(C12:C13),0) -> 0.7734375 | D14: =IFERROR(D12/SUM(D12:D13),0) -> 0.72043947
A15: Proportion Off-Grid | B15: =IFERROR(B13/SUM(B12:B13),0) -> 0 | C15: =IFERROR(C13/SUM(C12:C13),0) -> 0.2265625 | D15: =IFERROR(D13/SUM(D12:D13),0) -> 0.27956053
A17: Forecast of split from 2015-2070 is then automatically calculated (assumed constant after 2030)
B18: 2015 | C18: =B18+1 -> 2016 | D18: =C18+1 -> 2017 | E18: =D18+1 -> 2018 | F18: =E18+1 -> 2019 | G18: =F18+1 -> 2020 | H18: =G18+1 -> 2021 | I18: =H18+1 -> 2022 | J18: =I18+1 -> 2023 | ... BE18: =BD18+1 -> 2070
A19: Grid Extension | B19: =$B14 -> 1 | C19: =$B14 -> 1 | D19: =$B14 -> 1 | E19: =$B14 -> 1 | F19: =E19+(($L19-$E19)/7) -> 0.96763393 | G19: =F19+(($L19-$E19)/7) -> 0.93526786 | H19: =G19+(($L19-$E19)/7) -> 0.90290179 | I19: =H19+(($L19-$E19)/7) -> 0.87053571 | J19: =I19+(($L19-$E19)/7) -> 0.83816964 | K19: =J19+(($L19-$E19)/7) -> 0.80580357 | L19: =C14 -> 0.7734375 | M19: =L19+(($Q19-$L19)/5) -> 0.76283789 | N19: =M19+(($Q19-$L19)/5) -> 0.75223829 | O19: =N19+(($Q19-$L19)/5) -> 0.74163868 | P19: =O19+(($Q19-$L19)/5) -> 0.73103907 | Q19: =D14 -> 0.72043947 | R19: =$Q19 -> 0.72043947 | S19: =$Q19 -> 0.72043947 | T19: =$Q19 -> 0.72043947 | U19: =$Q19 -> 0.72043947 | V19: =$Q19 -> 0.72043947 | W19: =$Q19 -> 0.72043947 | X19: =$Q19 -> 0.72043947 | Y19: =$Q19 -> 0.72043947 | ... BE19: =$Q19 -> 0.72043947
A20: Off-grid | B20: =$B15 -> 0 | C20: =$B15 -> 0 | D20: =$B15 -> 0 | E20: =$B15 -> 0 | F20: =E20+(($L20-$E20)/7) -> 0.032366071 | G20: =F20+(($L20-$E20)/7) -> 0.064732143 | H20: =G20+(($L20-$E20)/7) -> 0.097098214 | I20: =H20+(($L20-$E20)/7) -> 0.12946429 | J20: =I20+(($L20-$E20)/7) -> 0.16183036 | K20: =J20+(($L20-$E20)/7) -> 0.19419643 | L20: =C15 -> 0.2265625 | M20: =L20+(($Q20-$L20)/5) -> 0.23716211 | N20: =M20+(($Q20-$L20)/5) -> 0.24776171 | O20: =N20+(($Q20-$L20)/5) -> 0.25836132 | P20: =O20+(($Q20-$L20)/5) -> 0.26896093 | Q20: =D15 -> 0.27956053 | R20: =$Q20 -> 0.27956053 | S20: =$Q20 -> 0.27956053 | T20: =$Q20 -> 0.27956053 | U20: =$Q20 -> 0.27956053 | V20: =$Q20 -> 0.27956053 | W20: =$Q20 -> 0.27956053 | X20: =$Q20 -> 0.27956053 | Y20: =$Q20 -> 0.27956053 | ... BE20: =$Q20 -> 0.27956053

Sheet Fossil Future
A1: Fossil Future is defined using the constraints below. Create a copy of your Country Base SAND file named Country FF SAND, then add in the TotalAnnualMaxCapacityInvestment constraints below. Note that the constraints begin from 2021 (which is column Q in SAND) and run to 2070. Remember not to copy and paste multiple rows into SAND which has filters in place.
A3: TotalAnnualMaxCapacityInvestment constraints from 2021 (scroll down for activity limit on bio too)
B4: 2021 | C4: 2022 | D4: 2023 | E4: 2024 | F4: 2025 | G4: 2026 | H4: 2027 | I4: 2028 | J4: 2029 | K4: 2030 | L4: 2031 | M4: 2032 | N4: 2033 | O4: 2034 | P4: 2035 | Q4: 2036 | R4: 2037 | S4: 2038 | T4: 2039 | U4: 2040 | V4: 2041 | W4: 2042 | X4: 2043 | Y4: 2044 | Z4: 2045 | AA4: 2046 | AB4: 2047 | AC4: 2048 | AD4: 2049 | AE4: 2050 | AF4: 2051 | AG4: 2052 | AH4: 2053 | AI4: 2054 | AJ4: 2055 | AK4: 2056 | AL4: 2057 | AM4: 2058 | AN4: 2059 | AO4: 2060 | AP4: 2061 | AQ4: 2062 | AR4: 2063 | AS4: 2064 | AT4: 2065 | AU4: 2066 | AV4: 2067 | AW4: 2068 | AX4: 2069 | AY4: 2070
A5: PWRBIO001 | B5: 0 | C5: 0 | D5: 0 | E5: 0 | F5: 0 | G5: 0 | H5: 0 | I5: 0 | J5: 0 | K5: 0 | L5: 0 | M5: 0 | N5: 0 | O5: 0 | P5: 0 | Q5: 0 | R5: 0 | S5: 0 | T5: 0 | U5: 0 | V5: 0 | W5: 0 | X5: 0 | Y5: 0 | Z5: 0 | AA5: 0 | AB5: 0 | AC5: 0 | AD5: 0 | AE5: 0 | AF5: 0 | AG5: 0 | AH5: 0 | AI5: 0 | AJ5: 0 | AK5: 0 | AL5: 0 | AM5: 0 | AN5: 0 | AO5: 0 | AP5: 0 | AQ5: 0 | AR5: 0 | AS5: 0 | AT5: 0 | AU5: 0 | AV5: 0 | AW5: 0 | AX5: 0 | AY5: 0
A6: PWRGEO | B6: 0 | C6: 0 | D6: 0 | E6: 0 | F6: 0 | G6: 0 | H6: 0 | I6: 0 | J6: 0 | K6: 0 | L6: 0 | M6: 0 | N6: 0 | O6: 0 | P6: 0 | Q6: 0 | R6: 0 | S6: 0 | T6: 0 | U6: 0 | V6: 0 | W6: 0 | X6: 0 | Y6: 0 | Z6: 0 | AA6: 0 | AB6: 0 | AC6: 0 | AD6: 0 | AE6: 0 | AF6: 0 | AG6: 0 | AH6: 0 | AI6: 0 | AJ6: 0 | AK6: 0 | AL6: 0 | AM6: 0 | AN6: 0 | AO6: 0 | AP6: 0 | AQ6: 0 | AR6: 0 | AS6: 0 | AT6: 0 | AU6: 0 | AV6: 0 | AW6: 0 | AX6: 0 | AY6: 0
A7: PWRSOL001 | B7: 0 | C7: 0 | D7: 0 | E7: 0 | F7: 0 | G7: 0 | H7: 0 | I7: 0 | J7: 0 | K7: 0 | L7: 0 | M7: 0 | N7: 0 | O7: 0 | P7: 0 | Q7: 0 | R7: 0 | S7: 0 | T7: 0 | U7: 0 | V7: 0 | W7: 0 | X7: 0 | Y7: 0 | Z7: 0 | AA7: 0 | AB7: 0 | AC7: 0 | AD7: 0 | AE7: 0 | AF7: 0 | AG7: 0 | AH7: 0 | AI7: 0 | AJ7: 0 | AK7: 0 | AL7: 0 | AM7: 0 | AN7: 0 | AO7: 0 | AP7: 0 | AQ7: 0 | AR7: 0 | AS7: 0 | AT7: 0 | AU7: 0 | AV7: 0 | AW7: 0 | AX7: 0 | AY7: 0
A8: PWRCSP001 | B8: 0 | C8: 0 | D8: 0 | E8: 0 | F8: 0 | G8: 0 | H8: 0 | I8: 0 | J8: 0 | K8: 0 | L8: 0 | M8: 0 | N8: 0 | O8: 0 | P8: 0 | Q8: 0 | R8: 0 | S8: 0 | T8: 0 | U8: 0 | V8: 0 | W8: 0 | X8: 0 | Y8: 0 | Z8: 0 | AA8: 0 | AB8: 0 | AC8: 0 | AD8: 0 | AE8: 0 | AF8: 0 | AG8: 0 | AH8: 0 | AI8: 0 | AJ8: 0 | AK8: 0 | AL8: 0 | AM8: 0 | AN8: 0 | AO8: 0 | AP8: 0 | AQ8: 0 | AR8: 0 | AS8: 0 | AT8: 0 | AU8: 0 | AV8: 0 | AW8: 0 | AX8: 0 | AY8: 0
A9: PWRCSP002 | B9: 0 | C9: 0 | D9: 0 | E9: 0 | F9: 0 | G9: 0 | H9: 0 | I9: 0 | J9: 0 | K9: 0 | L9: 0 | M9: 0 | N9: 0 | O9: 0 | P9: 0 | Q9: 0 | R9: 0 | S9: 0 | T9: 0 | U9: 0 | V9: 0 | W9: 0 | X9: 0 | Y9: 0 | Z9: 0 | AA9: 0 | AB9: 0 | AC9: 0 | AD9: 0 | AE9: 0 | AF9: 0 | AG9: 0 | AH9: 0 | AI9: 0 | AJ9: 0 | AK9: 0 | AL9: 0 | AM9: 0 | AN9: 0 | AO9: 0 | AP9: 0 | AQ9: 0 | AR9: 0 | AS9: 0 | AT9: 0 | AU9: 0 | AV9: 0 | AW9: 0 | AX9: 0 | AY9: 0
A10: PWRHYD001 | B10: 0 | C10: 0 | D10: 0 | E10: 0 | F10: 0 | G10: 0 | H10: 0 | I10: 0 | J10: 0 | K10: 0 | L10: 0 | M10: 0 | N10: 0 | O10: 0 | P10: 0 | Q10: 0 | R10: 0 | S10: 0 | T10: 0 | U10: 0 | V10: 0 | W10: 0 | X10: 0 | Y10: 0 | Z10: 0 | AA10: 0 | AB10: 0 | AC10: 0 | AD10: 0 | AE10: 0 | AF10: 0 | AG10: 0 | AH10: 0 | AI10: 0 | AJ10: 0 | AK10: 0 | AL10: 0 | AM10: 0 | AN10: 0 | AO10: 0 | AP10: 0 | AQ10: 0 | AR10: 0 | AS10: 0 | AT10: 0 | AU10: 0 | AV10: 0 | AW10: 0 | AX10: 0 | AY10: 0
A11: PWRHYD002 | B11: 0 | C11: 0 | D11: 0 | E11: 0 | F11: 0 | G11: 0 | H11: 0 | I11: 0 | J11: 0 | K11: 0 | L11: 0 | M11: 0 | N11: 0 | O11: 0 | P11: 0 | Q11: 0 | R11: 0 | S11: 0 | T11: 0 | U11: 0 | V11: 0 | W11: 0 | X11: 0 | Y11: 0 | Z11: 0 | AA11: 0 | AB11: 0 | AC11: 0 | AD11: 0 | AE11: 0 | AF11: 0 | AG11: 0 | AH11: 0 | AI11: 0 | AJ11: 0 | AK11: 0 | AL11: 0 | AM11: 0 | AN11: 0 | AO11: 0 | AP11: 0 | AQ11: 0 | AR11: 0 | AS11: 0 | AT11: 0 | AU11: 0 | AV11: 0 | AW11: 0 | AX11: 0 | AY11: 0
A12: PWRHYD003 | B12: 0 | C12: 0 | D12: 0 | E12: 0 | F12: 0 | G12: 0 | H12: 0 | I12: 0 | J12: 0 | K12: 0 | L12: 0 | M12: 0 | N12: 0 | O12: 0 | P12: 0 | Q12: 0 | R12: 0 | S12: 0 | T12: 0 | U12: 0 | V12: 0 | W12: 0 | X12: 0 | Y12: 0 | Z12: 0 | AA12: 0 | AB12: 0 | AC12: 0 | AD12: 0 | AE12: 0 | AF12: 0 | AG12: 0 | AH12: 0 | AI12: 0 | AJ12: 0 | AK12: 0 | AL12: 0 | AM12: 0 | AN12: 0 | AO12: 0 | AP12: 0 | AQ12: 0 | AR12: 0 | AS12: 0 | AT12: 0 | AU12: 0 | AV12: 0 | AW12: 0 | AX12: 0 | AY12: 0
A13: PWRWND001 | B13: 0 | C13: 0 | D13: 0 | E13: 0 | F13: 0 | G13: 0 | H13: 0 | I13: 0 | J13: 0 | K13: 0 | L13: 0 | M13: 0 | N13: 0 | O13: 0 | P13: 0 | Q13: 0 | R13: 0 | S13: 0 | T13: 0 | U13: 0 | V13: 0 | W13: 0 | X13: 0 | Y13: 0 | Z13: 0 | AA13: 0 | AB13: 0 | AC13: 0 | AD13: 0 | AE13: 0 | AF13: 0 | AG13: 0 | AH13: 0 | AI13: 0 | AJ13: 0 | AK13: 0 | AL13: 0 | AM13: 0 | AN13: 0 | AO13: 0 | AP13: 0 | AQ13: 0 | AR13: 0 | AS13: 0 | AT13: 0 | AU13: 0 | AV13: 0 | AW13: 0 | AX13: 0 | AY13: 0
A14: PWRWND002 | B14: 0 | C14: 0 | D14: 0 | E14: 0 | F14: 0 | G14: 0 | H14: 0 | I14: 0 | J14: 0 | K14: 0 | L14: 0 | M14: 0 | N14: 0 | O14: 0 | P14: 0 | Q14: 0 | R14: 0 | S14: 0 | T14: 0 | U14: 0 | V14: 0 | W14: 0 | X14: 0 | Y14: 0 | Z14: 0 | AA14: 0 | AB14: 0 | AC14: 0 | AD14: 0 | AE14: 0 | AF14: 0 | AG14: 0 | AH14: 0 | AI14: 0 | AJ14: 0 | AK14: 0 | AL14: 0 | AM14: 0 | AN14: 0 | AO14: 0 | AP14: 0 | AQ14: 0 | AR14: 0 | AS14: 0 | AT14: 0 | AU14: 0 | AV14: 0 | AW14: 0 | AX14: 0 | AY14: 0
A15: PWRNUC | B15: 0 | C15: 0 | D15: 0 | E15: 0 | F15: 0 | G15: 0 | H15: 0 | I15: 0 | J15: 0 | K15: 0 | L15: 0 | M15: 0 | N15: 0 | O15: 0 | P15: 0 | Q15: 0 | R15: 0 | S15: 0 | T15: 0 | U15: 0 | V15: 0 | W15: 0 | X15: 0 | Y15: 0 | Z15: 0 | AA15: 0 | AB15: 0 | AC15: 0 | AD15: 0 | AE15: 0 | AF15: 0 | AG15: 0 | AH15: 0 | AI15: 0 | AJ15: 0 | AK15: 0 | AL15: 0 | AM15: 0 | AN15: 0 | AO15: 0 | AP15: 0 | AQ15: 0 | AR15: 0 | AS15: 0 | AT15: 0 | AU15: 0 | AV15: 0 | AW15: 0 | AX15: 0 | AY15: 0
A16: PWRSOL002 | B16: 0 | C16: 0 | D16: 0 | E16: 0 | F16: 0 | G16: 0 | H16: 0 | I16: 0 | J16: 0 | K16: 0 | L16: 0 | M16: 0 | N16: 0 | O16: 0 | P16: 0 | Q16: 0 | R16: 0 | S16: 0 | T16: 0 | U16: 0 | V16: 0 | W16: 0 | X16: 0 | Y16: 0 | Z16: 0 | AA16: 0 | AB16: 0 | AC16: 0 | AD16: 0 | AE16: 0 | AF16: 0 | AG16: 0 | AH16: 0 | AI16: 0 | AJ16: 0 | AK16: 0 | AL16: 0 | AM16: 0 | AN16: 0 | AO16: 0 | AP16: 0 | AQ16: 0 | AR16: 0 | AS16: 0 | AT16: 0 | AU16: 0 | AV16: 0 | AW16: 0 | AX16: 0 | AY16: 0
... A34: DEMRESHEEL | B34: 0 | C34: 0 | D34: 0 | E34: 0 | F34: 0 | G34: 0 | H34: 0 | I34: 0 | J34: 0 | K34: 0 | L34: 0 | M34: 0 | N34: 0 | O34: 0 | P34: 0 | Q34: 0 | R34: 0 | S34: 0 | T34: 0 | U34: 0 | V34: 0 | W34: 0 | X34: 0 | Y34: 0 | Z34: 0 | AA34: 0 | AB34: 0 | AC34: 0 | AD34: 0 | AE34: 0 | AF34: 0 | AG34: 0 | AH34: 0 | AI34: 0 | AJ34: 0 | AK34: 0 | AL34: 0 | AM34: 0 | AN34: 0 | AO34: 0 | AP34: 0 | AQ34: 0 | AR34: 0 | AS34: 0 | AT34: 0 | AU34: 0 | AV34: 0 | AW34: 0 | AX34: 0 | AY34: 0
A35: TotalTechnologyAnnualActivityUpperLimit
B36: 2021 | C36: 2022 | D36: 2023 | E36: 2024 | F36: 2025 | G36: 2026 | H36: 2027 | I36: 2028 | J36: 2029 | K36: 2030 | L36: 2031 | M36: 2032 | N36: 2033 | O36: 2034 | P36: 2035 | Q36: 2036 | R36: 2037 | S36: 2038 | T36: 2039 | U36: 2040 | V36: 2041 | W36: 2042 | X36: 2043 | Y36: 2044 | Z36: 2045 | AA36: 2046 | AB36: 2047 | AC36: 2048 | AD36: 2049 | AE36: 2050 | AF36: 2051 | AG36: 2052 | AH36: 2053 | AI36: 2054 | AJ36: 2055 | AK36: 2056 | AL36: 2057 | AM36: 2058 | AN36: 2059 | AO36: 2060 | AP36: 2061 | AQ36: 2062 | AR36: 2063 | AS36: 2064 | AT36: 2065 | AU36: 2066 | AV36: 2067 | AW36: 2068 | AX36: 2069 | AY36: 2070
A37: PWRBIO001 | B37: =0.3*SUM('Input Data'!B4:B6) -> 6.504843 | C37: =0.3*SUM('Input Data'!C4:C6) -> 7.144206 | D37: =0.3*SUM('Input Data'!D4:D6) -> 6.9086657 | E37: =0.3*SUM('Input Data'!E4:E6) -> 6.6731255 | F37: =0.3*SUM('Input Data'!F4:F6) -> 6.4375852 | G37: =0.3*SUM('Input Data'!G4:G6) -> 6.202045 | H37: =0.3*SUM('Input Data'!H4:H6) -> 6.6570969 | I37: =0.3*SUM('Input Data'!I4:I6) -> 7.1438667 | ... AY37: =0.3*SUM('Input Data'!AY4:AY6) -> 74.793071

Sheet Least Cost
A1: Create a copy of your Country Base SAND file and call it Country LCv1 SAND.
A2: In the first run, the only constraint in the Least Cost scenario is on Nuclear Power from 2021, add the TotalAnnualMaxCapacityConstraint below to your Country LCv1 SAND file and then run it.
A3: TotalAnnualMaxCapacityInvestment
B4: 2021 | C4: 2022 | D4: 2023 | E4: 2024 | F4: 2025 | G4: 2026 | H4: 2027 | I4: 2028 | J4: 2029 | K4: 2030 | L4: 2031 | M4: 2032 | N4: 2033 | O4: 2034 | P4: 2035 | Q4: 2036 | R4: 2037 | S4: 2038 | T4: 2039 | U4: 2040 | V4: 2041 | W4: 2042 | X4: 2043 | Y4: 2044 | Z4: 2045 | AA4: 2046 | AB4: 2047 | AC4: 2048 | AD4: 2049 | AE4: 2050 | AF4: 2051 | AG4: 2052 | AH4: 2053 | AI4: 2054 | AJ4: 2055 | AK4: 2056 | AL4: 2057 | AM4: 2058 | AN4: 2059 | AO4: 2060 | AP4: 2061 | AQ4: 2062 | AR4: 2063 | AS4: 2064 | AT4: 2065 | AU4: 2066 | AV4: 2067 | AW4: 2068 | AX4: 2069 | AY4: 2070
A5: PWRNUC | B5: 0 | C5: 0 | D5: 0 | E5: 0 | F5: 0 | G5: 0 | H5: 0 | I5: 0 | J5: 0 | K5: 0 | L5: 0 | M5: 0 | N5: 0 | O5: 0 | P5: 0 | Q5: 0 | R5: 0 | S5: 0 | T5: 0 | U5: 0 | V5: 0 | W5: 0 | X5: 0 | Y5: 0 | Z5: 0 | AA5: 0 | AB5: 0 | AC5: 0 | AD5: 0 | AE5: 0 | AF5: 0 | AG5: 0 | AH5: 0 | AI5: 0 | AJ5: 0 | AK5: 0 | AL5: 0 | AM5: 0 | AN5: 0 | AO5: 0 | AP5: 0 | AQ5: 0 | AR5: 0 | AS5: 0 | AT5: 0 | AU5: 0 | AV5: 0 | AW5: 0 | AX5: 0 | AY5: 0
A6: You can now run LCv1.
A8: In the second run (LCv2), we use the results of the first run to constrain wind and solar based on the assumptions below and the data added to the input data tab.
A9: 1. Copy and paste the Production by Technology for the technologies listed below (fill in the cells highlighted yellow) from your the ExtraElcDem tab in your Country LCv1 Results Excel file to estimate the additional electricity demand from fuel switching. Use the paste transposed function (you need to open this file in the desktop app to do that). Commercial, industrial and residential electricity demands are pre-inserted from the input data tab. If there is no production by any of the technologies below, you can leave those rows blank.
B10: 2015 | C10: =B10+1 -> 2016 | D10: =C10+1 -> 2017 | E10: =D10+1 -> 2018 | F10: =E10+1 -> 2019 | G10: =F10+1 -> 2020 | H10: =G10+1 -> 2021 | I10: =H10+1 -> 2022 | J10: =I10+1 -> 2023 | ... BE10: =BD10+1 -> 2070
A11: DEMRESCKNELC | BE11: 0.14026557
A12: DEMRESHEEL
A13: DEMINDHEEH
A14: DEMINDHEEL
A15: DEMCOMHEEL
A16: DEMTRAMCYELC | H16: 17.228147 | I16: 17.873775 | J16: 18.539649 | K16: 19.226587 | L16: 19.935421 | M16: 20.658875 | N16: 21.405277 | O16: 22.175665 | P16: 22.971117 | Q16: 23.792715 | R16: 24.369404 | S16: 24.97576 | T16: 25.611182 | U16: 26.27536 | V16: 27.682082 | W16: 28.55556 | X16: 29.456275 | Y16: 30.385127 | Z16: 31.343033 | AA16: 32.330919 | AB16: 33.065511 | AC16: 33.819078 | AD16: 34.59188 | AE16: 35.384191 | AF16: 36.196306 | AG16: 37.05598 | AH16: 37.9358 | AI16: 38.836192 | AJ16: 39.757582 | AK16: 40.700417 | AL16: 41.457153 | AM16: 42.227702 | AN16: 43.012315 | AO16: 43.81126 | AP16: 44.624804 | AQ16: 45.453193 | AR16: 46.296676 | AS16: 47.155524 | AT16: 48.030024 | AU16: 48.920454 | AV16: 49.661333 | AW16: 50.413118 | AX16: 51.175968 | AY16: 51.95004 | AZ16: 52.735493 | BA16: 53.532485 | BB16: 54.341177 | BC16: 55.161747 | BD16: 55.994371 | BE16: 56.839234
A17: DEMTRACARELC | AK17: 49.333839 | AL17: 50.251095 | AM17: 51.185093 | AN17: 52.13614 | AO17: 53.104557 | AP17: 54.090671 | AQ17: 55.09478 | AR17: 56.117183 | AS17: 57.158211 | AT17: 58.218211 | AU17: 59.297519 | AV17: 60.195555 | AW17: 61.106809 | AX17: 62.031477 | AY17: 62.969745 | AZ17: 63.92181 | BA17: 64.887861 | BB17: 65.868093 | BC17: 66.862723 | BD17: 67.871965 | BE17: 68.896041
A18: DEMTRABUSELC | BE18: 46.504828
A19: INDELC | B19: ='Input Data'!B4 -> 6.7460195 | C19: ='Input Data'!C4 -> 7.4090878 | D19: ='Input Data'!D4 -> 7.1648146 | E19: ='Input Data'!E4 -> 6.9205413 | F19: ='Input Data'!F4 -> 6.676268 | G19: ='Input Data'!G4 -> 6.4319948 | H19: ='Input Data'!H4 -> 6.9039185 | I19: ='Input Data'!I4 -> 7.4087359 | ... BE19: ='Input Data'!BE4 -> 90.414173
A20: RESELC | B20: ='Input Data'!B5 -> 7.2979259 | C20: ='Input Data'!C5 -> 8.0152412 | D20: ='Input Data'!D5 -> 7.7509835 | E20: ='Input Data'!E5 -> 7.4867257 | F20: ='Input Data'!F5 -> 7.2224679 | G20: ='Input Data'!G5 -> 6.9582101 | H20: ='Input Data'!H5 -> 7.4687429 | I20: ='Input Data'!I5 -> 8.0148605 | ... BE20: ='Input Data'!BE5 -> 97.811151
A21: COMELC | B21: ='Input Data'!B6 -> 7.6388646 | C21: ='Input Data'!C6 -> 8.389691 | D21: ='Input Data'!D6 -> 8.1130878 | E21: ='Input Data'!E6 -> 7.8364846 | F21: ='Input Data'!F6 -> 7.5598815 | G21: ='Input Data'!G6 -> 7.2832783 | H21: ='Input Data'!H6 -> 7.8176617 | I21: ='Input Data'!I6 -> 8.3892925 | ... BE21: ='Input Data'!BE6 -> 102.38062
A22: Resulting estimated total demand | B22: =SUM(B11:B21) -> 21.68281 | C22: =SUM(C11:C21) -> 23.81402 | D22: =SUM(D11:D21) -> 23.028886 | E22: =SUM(E11:E21) -> 22.243752 | F22: =SUM(F11:F21) -> 21.458617 | G22: =SUM(G11:G21) -> 20.673483 | H22: =SUM(H11:H21) -> 39.41847 | I22: =SUM(I11:I21) -> 41.686664 | ... BE22: =SUM(BE11:BE21) -> 462.98631
A24: 2. Constraints for Solar and Wind are automatically calculated below. PWRSOL002 is constrained using the GEP data, then PWRSOL001, PWRSOL001S and PWRWND001 can each meet 15% of demand, PWRWND002 can meet 10% and PWRWND001S can meet 25%.
A25: Rename your Country LCv1 SAND file to Country LCv2 SAND and add in the TotalTechnologyAnnualActivityUpperLimit constraints below, noting that they start in 2015.
A26: TotalTechnologyAnnualActivityUpperLimit
B27: 2015 | C27: =B27+1 -> 2016 | D27: =C27+1 -> 2017 | E27: =D27+1 -> 2018 | F27: =E27+1 -> 2019 | G27: =F27+1 -> 2020 | H27: =G27+1 -> 2021 | I27: =H27+1 -> 2022 | J27: =I27+1 -> 2023 | ... BE27: =BD27+1 -> 2070
A28: PWRSOL001 | B28: =0.15*B22 -> 3.2524215 | C28: =0.15*C22 -> 3.572103 | D28: =0.15*D22 -> 3.4543329 | E28: =0.15*E22 -> 3.3365627 | F28: =0.15*F22 -> 3.2187926 | G28: =0.15*G22 -> 3.1010225 | H28: =0.15*H22 -> 5.9127705 | I28: =0.15*I22 -> 6.2529996 | ... BE28: =0.15*BE22 -> 69.447946
A29: PWRWND001 | B29: =0.15*B22 -> 3.2524215 | C29: =0.15*C22 -> 3.572103 | D29: =0.15*D22 -> 3.4543329 | E29: =0.15*E22 -> 3.3365627 | F29: =0.15*F22 -> 3.2187926 | G29: =0.15*G22 -> 3.1010225 | H29: =0.15*H22 -> 5.9127705 | I29: =0.15*I22 -> 6.2529996 | ... BE29: =0.15*BE22 -> 69.447946
A30: PWRWND002 | B30: =0.1*B22 -> 2.168281 | C30: =0.1*C22 -> 2.381402 | D30: =0.1*D22 -> 2.3028886 | E30: =0.1*E22 -> 2.2243752 | F30: =0.1*F22 -> 2.1458617 | G30: =0.1*G22 -> 2.0673483 | H30: =0.1*H22 -> 3.941847 | I30: =0.1*I22 -> 4.1686664 | ... BE30: =0.1*BE22 -> 46.298631
A31: PWRSOL001S | B31: =0.15*B22 -> 3.2524215 | C31: =0.15*C22 -> 3.572103 | D31: =0.15*D22 -> 3.4543329 | E31: =0.15*E22 -> 3.3365627 | F31: =0.15*F22 -> 3.2187926 | G31: =0.15*G22 -> 3.1010225 | H31: =0.15*H22 -> 5.9127705 | I31: =0.15*I22 -> 6.2529996 | ... BE31: =0.15*BE22 -> 69.447946
A32: PWRWND001S | B32: =0.25*B22 -> 5.4207025 | C32: =0.25*C22 -> 5.953505 | D32: =0.25*D22 -> 5.7572215 | E32: =0.25*E22 -> 5.5609379 | F32: =0.25*F22 -> 5.3646544 | G32: =0.25*G22 -> 5.1683708 | H32: =0.25*H22 -> 9.8546175 | I32: =0.25*I22 -> 10.421666 | ... BE32: =0.25*BE22 -> 115.74658
A33: PWRSOL002 | B33: ='Input Data'!B20*B22 -> 0 | C33: ='Input Data'!C20*C22 -> 0 | D33: ='Input Data'!D20*D22 -> 0 | E33: ='Input Data'!E20*E22 -> 0 | F33: ='Input Data'!F20*F22 -> 0.69453114 | G33: ='Input Data'!G20*G22 -> 1.3382389 | H33: ='Input Data'!H20*H22 -> 3.8274631 | I33: ='Input Data'!I20*I22 -> 5.3969342 | ... BE33: ='Input Data'!BE20*BE22 -> 129.4327
A34: PWRBIO001 | B34: =0.3*B22 -> 6.504843 | C34: =0.3*C22 -> 7.144206 | D34: =0.3*D22 -> 6.9086657 | E34: =0.3*E22 -> 6.6731255 | F34: =0.3*F22 -> 6.4375852 | G34: =0.3*G22 -> 6.202045 | H34: =0.3*H22 -> 11.825541 | I34: =0.3*I22 -> 12.505999 | ... BE34: =0.3*BE22 -> 138.89589
A35: 3. Copy in the 2050 capacity of each technology below from the 2050Capacity tab in your Country LCv1 Results Excel file.
B36: 2050 Capacity (from 2050Capacity tab in LCv1 Results)
A37: DEMRESCKNELC | B37: 0
A38: DEMRESHEEL | B38: 0
A39: DEMINDHEEL | B39: 0
A40: DEMINDHEEH | B40: 0
A41: DEMCOMHEEL | B41: 0
A42: DEMTRACARELC | B42: 1.587027
...

Sheet Net Zero
A1: Create a copy of your Country Base SAND file and call it Country NZv1 SAND.
A2: 1. In NZv1, we constrain nuclear and also primary fossil fuel & biomass production technologies. First add the TotalAnnualMaxCapacityConstraint for nuclear power below to your Country NZv1 SAND file, then move to step 2.
A3: TotalAnnualMaxCapacityInvestment
B4: 2021 | C4: 2022 | D4: 2023 | E4: 2024 | F4: 2025 | G4: 2026 | H4: 2027 | I4: 2028 | J4: 2029 | K4: 2030 | L4: 2031 | M4: 2032 | N4: 2033 | O4: 2034 | P4: 2035 | Q4: 2036 | R4: 2037 | S4: 2038 | T4: 2039 | U4: 2040 | V4: 2041 | W4: 2042 | X4: 2043 | Y4: 2044 | Z4: 2045 | AA4: 2046 | AB4: 2047 | AC4: 2048 | AD4: 2049 | AE4: 2050 | AF4: 2051 | AG4: 2052 | AH4: 2053 | AI4: 2054 | AJ4: 2055 | AK4: 2056 | AL4: 2057 | AM4: 2058 | AN4: 2059 | AO4: 2060 | AP4: 2061 | AQ4: 2062 | AR4: 2063 | AS4: 2064 | AT4: 2065 | AU4: 2066 | AV4: 2067 | AW4: 2068 | AX4: 2069 | AY4: 2070
A5: PWRNUC | B5: 0 | C5: 0 | D5: 0 | E5: 0 | F5: 0 | G5: 0 | H5: 0 | I5: 0 | J5: 0 | K5: 0 | L5: 0 | M5: 0 | N5: 0 | O5: 0 | P5: 0 | Q5: 0 | R5: 0 | S5: 0 | T5: 0 | U5: 0 | V5: 0 | W5: 0 | X5: 0 | Y5: 0 | Z5: 0 | AA5: 0 | AB5: 0 | AC5: 0 | AD5: 0 | AE5: 0 | AF5: 0 | AG5: 0 | AH5: 0 | AI5: 0 | AJ5: 0 | AK5: 0 | AL5: 0 | AM5: 0 | AN5: 0 | AO5: 0 | AP5: 0 | AQ5: 0 | AR5: 0 | AS5: 0 | AT5: 0 | AU5: 0 | AV5: 0 | AW5: 0 | AX5: 0 | AY5: 0
A7: 2. Paste in the Production by Technology for the primary energy supply technologies listed below from the PrimaryFuelProduction tab of your Country FF results Excel file. Use the paste transposed function (you need to open this file in the desktop app to do that). If any of the technologies do not produce in your FF results, you can leave the row for that technology blank.
B8: 2015 | C8: =B8+1 -> 2016 | D8: =C8+1 -> 2017 | E8: =D8+1 -> 2018 | F8: =E8+1 -> 2019 | G8: =F8+1 -> 2020 | H8: =G8+1 -> 2021 | I8: =H8+1 -> 2022 | J8: =I8+1 -> 2023 | ... BE8: =BD8+1 -> 2070
A9: IMPBIO
A10: IMPHFO
A11: IMPLFO | B11: 235.44286 | C11: 264.92739 | D11: 258.1859 | E11: 251.4444 | F11: 244.70291 | G11: 237.96142 | H11: 246.93677 | I11: 256.19077 | J11: 265.73497 | K11: 275.58107 | L11: 285.74104 | M11: 296.11053 | N11: 306.80897 | O11: 317.85119 | P11: 329.25268 | Q11: 341.02891 | R11: 349.29479 | S11: 357.98589 | T11: 342.06133 | U11: 351.58121 | V11: 371.74422 | W11: 384.26405 | X11: 397.1743 | Y11: 410.48786 | Z11: 424.21783 | AA11: 438.37753 | AB11: 448.90669 | AC11: 459.70781 | AD11: 470.78464 | AE11: 482.14109 | AF11: 493.78138 | AG11: 506.10338 | AH11: 518.71413 | AI11: 531.61974 | AJ11: 544.82633 | AK11: 558.34029 | AL11: 569.18684 | AM11: 580.23136 | AN11: 591.47746 | AO11: 602.92896 | AP11: 614.5897 | AQ11: 626.46324 | AR11: 638.55314 | AS11: 650.86326 | AT11: 663.39774 | AU11: 676.16057 | AV11: 686.77981 | AW11: 697.5554 | AX11: 708.48959 | AY11: 719.58461 | AZ11: 730.84276 | BA11: 742.26632 | BB11: 753.85756 | BC11: 765.61906 | BD11: 777.55336 | BE11: 789.66309
A12: MINBIO | B12: 751.90793 | C12: 778.92753 | D12: 877.00506 | E12: 975.0826 | F12: 1073.1601 | G12: 1171.2377 | H12: 1186.6606 | I12: 1202.0385 | J12: 1217.3903 | K12: 1232.7333 | L12: 1248.0835 | M12: 1262.9586 | N12: 1277.8527 | O12: 1292.789 | P12: 1307.7901 | Q12: 1322.8756 | R12: 1312.5806 | S12: 1303.2652 | T12: 1294.8054 | U12: 1287.1021 | V12: 1313.9595 | W12: 1313.4792 | X12: 1313.079 | Y12: 1312.7644 | Z12: 1312.54 | AA12: 1312.4099 | AB12: 1305.0473 | AC12: 1297.9018 | AD12: 1290.962 | AE12: 1284.2181 | AF12: 1277.6614 | AG12: 1272.2265 | AH12: 1266.9031 | AI12: 1261.6911 | AJ12: 1256.5905 | AK12: 1251.6013 | AL12: 1245.7224 | AM12: 1239.9404 | AN12: 1234.2561 | AO12: 1228.6702 | AP12: 1223.1836 | AQ12: 1217.7965 | AR12: 1212.5087 | AS12: 1207.321 | AT12: 1202.2343 | AU12: 1197.249 | AV12: 1191.4749 | AW12: 1185.7913 | AX12: 1180.1984 | AY12: 1174.6963 | AZ12: 1169.2851 | BA12: 1163.9649 | BB12: 1158.7359 | BC12: 1153.5985 | BD12: 1148.5529 | BE12: 1143.5998
A13: MINCOA
A14: IMPCOA | B14: 23.666624 | C14: 27.90951 | D14: 26.684561 | E14: 25.459613 | F14: 24.234664 | G14: 23.009715 | H14: 24.938691 | I14: 27.06676 | J14: 29.417215 | K14: 32.016122 | L14: 34.892666 | M14: 38.064548 | N14: 43.358553 | O14: 55.10173 | P14: 67.811559 | Q14: 81.577774 | R14: 92.879504 | S14: 105.03687 | T14: 115.46677 | U14: 129.48173 | V14: 151.32287 | W14: 169.19607 | X14: 188.34461 | Y14: 208.85508 | Z14: 230.8308 | AA14: 254.36334 | AB14: 274.49751 | AC14: 295.75611 | AD14: 318.23808 | AE14: 342.0127 | AF14: 380.31555 | AG14: 409.27877 | AH14: 437.78327 | AI14: 467.92186 | AJ14: 499.78826 | AK14: 533.48183 | AL14: 571.78268 | AM14: 599.34685 | AN14: 628.03803 | AO14: 709.43305 | AP14: 740.53607 | AQ14: 772.88749 | AR14: 804.8035 | AS14: 832.06147 | AT14: 860.25554 | AU14: 889.41784 | AV14: 910.75243 | AW14: 932.60098 | AX14: 954.9759 | AY14: 977.88976 | AZ14: 1001.3555 | BA14: 1025.3862 | BB14: 1049.9953 | BC14: 1075.1969 | BD14: 1101.0054 | BE14: 1127.4354
A15: IMPNGS | R15: 79.058899 | S15: 79.058899 | T15: 79.058899 | U15: 79.058899 | V15: 79.058899 | W15: 79.058899 | X15: 79.058899 | Y15: 79.058899 | Z15: 79.058899 | AA15: 79.058899 | AB15: 79.058899 | AC15: 79.058899 | AD15: 79.058899 | AE15: 79.058899 | AF15: 68.919106 | AG15: 67.375305 | AH15: 67.375305 | AI15: 67.375305 | AJ15: 67.375305 | AK15: 67.375305 | AL15: 67.375305 | AM15: 63.288985 | AN15: 58.923098 | AO15: 14.564814 | AP15: 9.580181 | AQ15: 4.285477
A16: MINNGS | B16: 51.511102 | C16: 61.246725 | D16: 65.025133 | E16: 52.276098 | F16: 49.738398 | G16: 47.551862 | H16: 51.376779 | I16: 55.463099 | J16: 59.828986 | K16: 64.494084 | L16: 69.478718 | M16: 74.773421 | N16: 79.058899 | O16: 79.058899 | P16: 79.058899 | Q16: 79.058899
A17: MINOIL | T17: 27.813636 | U17: 27.813636 | V17: 27.813636 | W17: 27.813636 | X17: 27.813636 | Y17: 27.813636 | Z17: 27.813636 | AA17: 27.813636 | AB17: 27.813636 | AC17: 27.813636 | AD17: 27.813636 | AE17: 27.813636 | AF17: 27.813636 | AG17: 27.813636 | AH17: 27.813636 | AI17: 27.813636 | AJ17: 27.813636 | AK17: 27.813636 | AL17: 27.813636 | AM17: 27.813636 | AN17: 27.813636 | AO17: 27.813636
A18: IMPOIL | AP18: 27.813636 | AQ18: 27.813636 | AR18: 27.813636 | AS18: 27.813636 | AT18: 27.813636 | AU18: 27.813636 | AV18: 27.813636 | AW18: 27.813636 | AX18: 27.813636 | AY18: 27.813636 | AZ18: 27.813636 | BA18: 27.813636 | BB18: 27.813636 | BC18: 27.813636 | BD18: 27.813636 | BE18: 27.813636
A19: % of FossilFuture production permitted in Net Zero (pre-set) | B19: Unlimited | C19: Unlimited | D19: Unlimited | E19: Unlimited | F19: Unlimited | G19: Unlimited | H19: 0.96666667 | I19: 0.93333333 | J19: 0.9 | K19: 0.86666667 | L19: 0.83333333 | M19: 0.8 | N19: 0.76666667 | O19: 0.73333333 | P19: 0.7 | Q19: 0.66666667 | R19: 0.63333333 | S19: 0.6 | T19: 0.56666667 | U19: 0.53333333 | V19: 0.5 | W19: 0.46666667 | X19: 0.43333333 | Y19: 0.4 | Z19: 0.36666667 | AA19: 0.33333333 | AB19: 0.3 | AC19: 0.26666667 | AD19: 0.23333333 | AE19: 0.2 | AF19: 0.16666667 | AG19: 0.13333333 | AH19: 0.1 | AI19: 0.066666667 | AJ19: 0.033333333 | AK19: 0 | AL19: 0 | AM19: 0 | AN19: 0 | AO19: 0 | AP19: 0 | AQ19: 0 | AR19: 0 | AS19: 0 | AT19: 0 | AU19: 0 | AV19: 0 | AW19: 0 | AX19: 0 | AY19: 0 | AZ19: 0 | BA19: 0 | BB19: 0 | BC19: 0 | BD19: 0 | BE19: 0
A21: 3. TotalTechnologyAnnualActivityUpperLimits for NZv1 are automatically calculated below. Copy and paste them into your Country NZv1 SAND file, noting that they start in 2015. You need to add them all, even if they are 0 for all years. You can then run NZ v1.
A22: Resulting TotalTechnologyAnnualActivityUpperLimits (automatically calculated)
B23: 2015 | C23: =B23+1 -> 2016 | D23: =C23+1 -> 2017 | E23: =D23+1 -> 2018 | F23: =E23+1 -> 2019 | G23: =F23+1 -> 2020 | H23: =G23+1 -> 2021 | I23: =H23+1 -> 2022 | J23: =I23+1 -> 2023 | ... BE23: =BD23+1 -> 2070
A24: IMPBIO | B24: 99999 | C24: 99999 | D24: 99999 | E24: 99999 | F24: 99999 | G24: 99999 | H24: =H$19*H9 -> 0 | I24: =I$19*I9 -> 0 | J24: =J$19*J9 -> 0 | K24: =K$19*K9 -> 0 | L24: =L$19*L9 -> 0 | M24: =M$19*M9 -> 0 | N24: =N$19*N9 -> 0 | O24: =O$19*O9 -> 0 | ... BE24: =BE$19*BE9 -> 0
A25: IMPHFO | B25: 99999 | C25: 99999 | D25: 99999 | E25: 99999 | F25: 99999 | G25: 99999 | H25: =H$19*H10 -> 0 | I25: =I$19*I10 -> 0 | J25: =J$19*J10 -> 0 | K25: =K$19*K10 -> 0 | L25: =L$19*L10 -> 0 | M25: =M$19*M10 -> 0 | N25: =N$19*N10 -> 0 | O25: =O$19*O10 -> 0 | ... BE25: =BE$19*BE10 -> 0
A26: IMPLFO | B26: 99999 | C26: 99999 | D26: 99999 | E26: 99999 | F26: 99999 | G26: 99999 | H26: =H$19*H11 -> 238.70554 | I26: =I$19*I11 -> 239.11139 | J26: =J$19*J11 -> 239.16147 | K26: =K$19*K11 -> 238.83693 | L26: =L$19*L11 -> 238.11753 | M26: =M$19*M11 -> 236.88842 | N26: =N$19*N11 -> 235.22021 | O26: =O$19*O11 -> 233.09087 | ... BE26: =BE$19*BE11 -> 0
A27: MINBIO | B27: 99999 | C27: 99999 | D27: 99999 | E27: 99999 | F27: 99999 | G27: 99999 | H27: =H$19*H12 -> 1147.1052 | I27: =I$19*I12 -> 1121.9026 | J27: =J$19*J12 -> 1095.6513 | K27: =K$19*K12 -> 1068.3689 | L27: =L$19*L12 -> 1040.0696 | M27: =M$19*M12 -> 1010.3669 | N27: =N$19*N12 -> 979.68707 | O27: =O$19*O12 -> 948.04527 | ... BE27: =BE$19*BE12 -> 0
A28: MINCOA | B28: 99999 | C28: 99999 | D28: 99999 | E28: 99999 | F28: 99999 | G28: 99999 | H28: =H$19*H13 -> 0 | I28: =I$19*I13 -> 0 | J28: =J$19*J13 -> 0 | K28: =K$19*K13 -> 0 | L28: =L$19*L13 -> 0 | M28: =M$19*M13 -> 0 | N28: =N$19*N13 -> 0 | O28: =O$19*O13 -> 0 | ... BE28: =BE$19*BE13 -> 0
A29: IMPCOA | B29: 99999 | C29: 99999 | D29: 99999 | E29: 99999 | F29: 99999 | G29: 99999 | H29: =H$19*H14 -> 24.107401 | I29: =I$19*I14 -> 25.262309 | J29: =J$19*J14 -> 26.475493 | K29: =K$19*K14 -> 27.747306 | L29: =L$19*L14 -> 29.077222 | M29: =M$19*M14 -> 30.451638 | N29: =N$19*N14 -> 33.241557 | O29: =O$19*O14 -> 40.407935 | ... BE29: =BE$19*BE14 -> 0
A30: IMPNGS | B30: 99999 | C30: 99999 | D30: 99999 | E30: 99999 | F30: 99999 | G30: 99999 | H30: =H$19*H15 -> 0 | I30: =I$19*I15 -> 0 | J30: =J$19*J15 -> 0 | K30: =K$19*K15 -> 0 | L30: =L$19*L15 -> 0 | M30: =M$19*M15 -> 0 | N30: =N$19*N15 -> 0 | O30: =O$19*O15 -> 0 | ... BE30: =BE$19*BE15 -> 0
A31: MINNGS | B31: 99999 | C31: 99999 | D31: 99999 | E31: 99999 | F31: 99999 | G31: 99999 | H31: =H$19*H16 -> 49.66422 | I31: =I$19*I16 -> 51.765559 | J31: =J$19*J16 -> 53.846087 | K31: =K$19*K16 -> 55.894873 | L31: =L$19*L16 -> 57.898932 | M31: =M$19*M16 -> 59.818737 | N31: =N$19*N16 -> 60.611823 | O31: =O$19*O16 -> 57.976526 | ... BE31: =BE$19*BE16 -> 0
A32: MINOIL | B32: 99999 | C32: 99999 | D32: 99999 | E32: 99999 | F32: 99999 | G32: 99999 | H32: =H$19*H17 -> 0 | I32: =I$19*I17 -> 0 | J32: =J$19*J17 -> 0 | K32: =K$19*K17 -> 0 | L32: =L$19*L17 -> 0 | M32: =M$19*M17 -> 0 | N32: =N$19*N17 -> 0 | O32: =O$19*O17 -> 0 | ... BE32: =BE$19*BE17 -> 0
A33: IMPOIL | B33: 99999 | C33: 99999 | D33: 99999 | E33: 99999 | F33: 99999 | G33: 99999 | H33: =H$19*H18 -> 0 | I33: =I$19*I18 -> 0 | J33: =J$19*J18 -> 0 | K33: =K$19*K18 -> 0 | L33: =L$19*L18 -> 0 | M33: =M$19*M18 -> 0 | N33: =N$19*N18 -> 0 | O33: =O$19*O18 -> 0 | ... BE33: =BE$19*BE18 -> 0
A36: In the second run of NZ (NZv2), we use the results of the first run to constrain wind and solar based on the assumptions below and the data added to the input data tab.
A37: 1. Copy and paste the Production by Technology for the technologies listed below (fill in the cells highlighted yellow) from the ExtraElcDem tab in your Country NZv1 Results Excel file to estimate the additional electricity demand from fuel switching. Use the paste transposed function (you need to open this file in the desktop app to do that). Commercial, industrial and residential electricity demands are pre-inserted from the input data tab. If there is no production by any of the technologies below, you can leave those rows blank.
B38: 2015 | C38: =B38+1 -> 2016 | D38: =C38+1 -> 2017 | E38: =D38+1 -> 2018 | F38: =E38+1 -> 2019 | G38: =F38+1 -> 2020 | H38: =G38+1 -> 2021 | I38: =H38+1 -> 2022 | J38: =I38+1 -> 2023 | ... BE38: =BD38+1 -> 2070
A39: DEMRESCKNELC | K39: 2.2450081 | L39: 14.995262 | M39: 28.406184 | N39: 41.766543 | O39: 53.489005 | P39: 66.084989 | Q39: 79.624997 | R39: 88.823088 | S39: 95.984889 | T39: 103.02582 | U39: 111.17361 | V39: 120.21774 | W39: 128.06322 | X39: 135.91113 | Y39: 143.76348 | Z39: 151.62236 | AA39: 159.48984 | AB39: 166.44357 | AC39: 173.33753 | AD39: 180.17409 | AE39: 186.95553 | AF39: 193.95647 | AG39: 200.73249 | AH39: 200.60148 | AI39: 199.74971 | AJ39: 198.91511 | AK39: 198.09773 | AL39: 197.14345 | AM39: 196.20425 | AN39: 195.28023 | AO39: 194.37151 | AP39: 193.47823 | AQ39: 192.60039 | AR39: 191.73798 | AS39: 190.89111 | AT39: 190.05991 | AU39: 189.24445 | AV39: 188.30725 | AW39: 187.38417 | AX39: 186.47524 | AY39: 185.58047 | AZ39: 184.69988 | BA39: 183.83349 | BB39: 182.9813 | BC39: 182.14339 | BD39: 181.3198 | BE39: 180.51059
A40: DEMRESHEEL | AH40: 12.779576 | AI40: 34.860536 | AJ40: 68.605024 | AK40: 84.899026 | AL40: 84.490049 | AM40: 84.087536 | AN40: 83.691526 | AO40: 83.302077 | AP40: 82.919242 | AQ40: 82.543023 | AR40: 82.173422 | AS40: 81.810478 | AT40: 81.454248 | AU40: 81.104762 | AV40: 80.703108 | AW40: 80.307501 | AX40: 79.91796 | AY40: 79.534486 | AZ40: 79.157093 | BA40: 78.785782 | BB40: 78.420558 | BC40: 78.061452 | BD40: 77.708484 | BE40: 77.361683
A41: DEMINDHEEH | AB41: 2.7624349 | AC41: 8.5058063 | AD41: 15.302204 | AE41: 23.245665 | AF41: 30.660573 | AG41: 41.37162 | AH41: 53.848467 | AI41: 68.556315 | AJ41: 84.417808 | AK41: 101.58139 | AL41: 104.55022 | AM41: 107.60827 | AN41: 110.75825 | AO41: 114.00303 | AP41: 117.34553 | AQ41: 120.7887 | AR41: 124.33558 | AS41: 127.98934 | AT41: 131.75329 | AU41: 135.63079 | AV41: 138.60274 | AW41: 141.64039 | AX41: 144.74521 | AY41: 147.91869 | AZ41: 151.16236 | BA41: 154.47775 | BB41: 157.86644 | BC41: 161.3301 | BD41: 164.87041 | BE41: 168.48911
A42: DEMINDHEEL
A43: DEMCOMHEEL | AH43: 9.2575395 | AI43: 21.692808 | AJ43: 23.587577 | AK43: 39.871312 | AL43: 39.802487 | AM43: 39.738083 | AN43: 39.678149 | AO43: 39.622744 | AP43: 39.571922 | AQ43: 39.525718 | AR43: 39.484164 | AS43: 39.447311 | AT43: 39.415219 | AU43: 39.387937 | AV43: 39.320045 | AW43: 39.25603 | AX43: 39.195918 | AY43: 39.13973 | AZ43: 39.087494 | BA43: 39.039229 | BB43: 38.994959 | BC43: 38.954719 | BD43: 38.91854 | BE43: 38.886458
A44: DEMTRAMCYELC | H44: 8.1777026 | I44: 10.098937 | J44: 14.950781 | K44: 19.226587 | L44: 19.935421 | M44: 20.658875 | N44: 21.405277 | O44: 22.175665 | P44: 22.971117 | Q44: 23.792715 | R44: 24.369404 | S44: 24.97576 | T44: 25.611182 | U44: 26.27536 | V44: 27.682082 | W44: 28.55556 | X44: 29.456275 | Y44: 30.385127 | Z44: 31.343033 | AA44: 32.330919 | AB44: 33.065511 | AC44: 33.819079 | AD44: 34.59188 | AE44: 35.384191 | AF44: 36.196306 | AG44: 37.05598 | AH44: 37.9358 | AI44: 38.836192 | AJ44: 39.757582 | AK44: 40.700417 | AL44: 41.457153 | AM44: 42.227702 | AN44: 43.012315 | AO44: 43.81126 | AP44: 44.624804 | AQ44: 45.453193 | AR44: 46.296676 | AS44: 47.155524 | AT44: 48.030024 | AU44: 48.920454 | AV44: 49.661333 | AW44: 50.413118 | AX44: 51.175968 | AY44: 51.95004 | AZ44: 52.735493 | BA44: 53.532485 | BB44: 54.341177 | BC44: 55.161747 | BD44: 55.994371 | BE44: 56.839234
...
