Workbook

Sheet Hoja 46

Sheet humbug
A1: repositoryId | B1: repositoryName | C1: ownerLogin | D1: ownerName | E1: ownerBio | F1: ownerCompany | G1: ownerLocation | H1: repositoryDescription | I1: topics | J1: url | K1: license | L1: primaryLanguage | M1: allLanguages | N1: repositoryCreationDate | O1: repositoryLastUpdate | P1: contributors | Q1: watchers | R1: starts | S1: forks | T1: issues | U1: commits | V1: lastCommit | W1: firstCommit | X1: Academia/Industry/Public | Y1: Category
A2: MDEwOlJlcG9zaXRvcnkyMzYzODExMzI= | B2: landon-hotel-symfony | C2: webdevelopermuco | H2: a simple symfony project | J2: https://github.com/webdevelopermuco/landon-hotel-symfony | K2: ---- | L2: PHP | M2: PHP/Shell/Twig | N2: 2020-01-26T21:50:13Z | O2: 2021-06-22T07:19:51Z | P2: 1 | Q2: 1 | U2: 362 | V2: 2021-06-22T06:25:05Z | W2: 43856 | Y2: development
A3: MDEwOlJlcG9zaXRvcnkzNzU3NjM5MjA= | B3: ampipTestOk | C3: edyMartin2 | J3: https://github.com/edyMartin2/ampipTestOk | K3: BSD 3-Clause \New\" or \"Revised\" License" | L3: PHP | M3: Dockerfile/PHP/JavaScript/HTML/Vue/CSS | N3: 2021-06-10T16:32:35Z | O3: 2021-06-21T19:06:49Z | P3: 1 | Q3: 1 | U3: 82 | V3: 2021-06-21T19:06:35Z | W3: 44356 | Y3: development
A4: MDEwOlJlcG9zaXRvcnkzNjMxMjM1OTE= | B4: TW2.0 | C4: Fedimannoubi | H4: Symfony Project | J4: https://github.com/Fedimannoubi/TW2.0 | K4: ---- | L4: JavaScript | M4: Shell/PHP/Twig/JavaScript/CSS/HTML | N4: 2021-04-30T11:46:06Z | O4: 2021-06-21T13:00:48Z | P4: 3 | Q4: 1 | U4: 11 | V4: 2021-06-21T13:00:40Z | Y4: development
A5: MDEwOlJlcG9zaXRvcnk4MTgyMjAy | B5: www.refuges.info | C5: RefugesInfo | H5: Code du site web www.refuges.info | J5: https://github.com/RefugesInfo/www.refuges.info | K5: Other | L5: PHP | M5: PHP/HTML/CSS/JavaScript/Shell/PLpgSQL/Twig | N5: 2013-02-13T15:59:34Z | O5: 2021-06-20T18:54:33Z | P5: 3 | Q5: 7 | R5: 9 | S5: 4 | T5: 79 | U5: 1497 | V5: 2021-06-20T18:54:21Z | W5: 41318 | Y5: development
A6: MDEwOlJlcG9zaXRvcnkzNzU0NTIzNTI= | B6: symfony1 | C6: rabebnouira | J6: https://github.com/rabebnouira/symfony1 | K6: ---- | L6: Twig | M6: Shell/PHP/Twig | N6: 2021-06-09T18:22:44Z | O6: 2021-06-19T10:47:18Z | P6: 1 | Q6: 1 | U6: 3 | V6: 2021-06-19T10:46:20Z | Y6: development
A7: MDEwOlJlcG9zaXRvcnkyMzMwNDYyNjg= | B7: angaryos-stack | C7: MikroGovernment | J7: https://github.com/MikroGovernment/angaryos-stack | K7: ---- | L7: HTML | M7: Dockerfile/PHP/Python/HTML/Shell/JavaScript/TypeScript | N7: 2020-01-10T12:51:48Z | O7: 2021-06-19T09:58:19Z | P7: 2 | Q7: 1 | R7: 2 | S7: 1 | U7: 348 | V7: 2021-06-19T09:58:09Z | W7: 43840 | Y7: development
A8: MDEwOlJlcG9zaXRvcnkzMDk2NjkyODM= | B8: crm | C8: JromeroProyectosti | D8: Jonathan Romero PTI | F8: Proyectos TI | G8: Chile | J8: https://github.com/JromeroProyectosti/crm | K8: ---- | L8: JavaScript | M8: PHP/Shell/CSS/JavaScript/HTML/Less/Twig | N8: 2020-11-03T11:47:04Z | O8: 2021-06-18T16:48:10Z | P8: 3 | Q8: 2 | U8: 321 | V8: 2021-06-18T16:48:21Z | W8: 44165 | X8: I
A9: MDEwOlJlcG9zaXRvcnkzNzYwNDIwMzg= | B9: access | C9: jeanmichel07 | D9: Jean Michel | J9: https://github.com/jeanmichel07/access | K9: ---- | L9: JavaScript | M9: Shell/PHP/JavaScript/CSS/SCSS/HTML/Twig | N9: 2021-06-11T13:56:51Z | O9: 2021-06-18T14:40:22Z | P9: 1 | Q9: 1 | U9: 3 | V9: 2021-06-18T14:40:39Z | W9: 44358
A10: MDEwOlJlcG9zaXRvcnkzNjcxNDgxNjA= | B10: xnavi_d9 | C10: MethodJules | J10: https://github.com/MethodJules/xnavi_d9 | K10: ---- | L10: PHP | M10: Shell/Dockerfile/PHP/JavaScript/CSS/Twig/HTML | N10: 2021-05-13T19:03:49Z | O10: 2021-06-18T12:53:39Z | P10: 1 | Q10: 1 | U10: 12 | V10: 2021-06-18T12:53:24Z | Y10: development
A11: MDEwOlJlcG9zaXRvcnkzMjE2NzgwMzg= | B11: xinshi-cms | C11: biaogebusy | D11: 表哥很忙 | E11: 知乎专栏：前端茶馆 | G11: 广西南宁 | H11: The cms manage Nanning IT. | J11: https://github.com/biaogebusy/xinshi-cms | K11: ---- | L11: PHP | M11: PHP/Shell/JavaScript/CSS/Twig/HTML/SCSS | N11: 2020-12-15T13:35:26Z | O11: 2021-06-18T02:37:33Z | P11: 1 | Q11: 1 | S11: 3 | U11: 183 | V11: 2021-06-18T02:37:30Z | Y11: development
A12: MDEwOlJlcG9zaXRvcnkyMjI0NTE4MDE= | B12: cu-theme | C12: carolinau | H12: A Bootstrap-based custom child theme for Drupal sites. | J12: https://github.com/carolinau/cu-theme | K12: GNU General Public License v2.0 | L12: PHP | M12: PHP/JavaScript/CSS/HTML/Shell/XSLT/Twig | N12: 2019-11-18T13:09:06Z | O12: 2021-06-17T19:58:43Z | P12: 5 | R12: 1 | U12: 348 | V12: 2021-06-17T19:55:02Z | W12: 42234 | X12: A | Y12: development
A13: MDEwOlJlcG9zaXRvcnkzMzk1NTcxMDc= | B13: drupal8-test | C13: FakhryFauzi | D13: Fakhry Fauzi | E13: \r\n I am a fresh programmer with skills in Java, Javascript and C++. I have some experience working with MySQL, HTML and Python as well\r\n | F13: U.group | G13: Arlington, Virginia | H13: Test for creating a drupal8 project | J13: https://github.com/FakhryFauzi/drupal8-test | K13: GNU General Public License v2.0 | L13: PHP | M13: PHP/Shell/JavaScript/CSS/Twig/HTML | N13: 2021-02-16T23:15:47Z | O13: 2021-06-19T21:32:32Z | P13: 1 | Q13: 1 | U13: 144 | V13: 2021-06-17T16:20:17Z | X13: I | Y13: development
A14: MDEwOlJlcG9zaXRvcnkyNzE5NTcwNTI= | B14: Alladdin | C14: IndyBoss | D14: Indy Bosschem | J14: https://github.com/IndyBoss/Alladdin | K14: Other | L14: PHP | M14: JavaScript/CSS/PHP/SCSS/HTML | N14: 2020-06-13T06:52:49Z | O14: 2021-06-17T03:31:58Z | P14: 1 | Q14: 1 | U14: 23 | V14: 2021-06-17T03:31:50Z | W14: 43995
A15: MDEwOlJlcG9zaXRvcnkzNzU0NzY3OTI= | B15: mercadopago | C15: viridianajo1 | H15: Examen de certificación de Mercado Pago | J15: https://github.com/viridianajo1/mercadopago | K15: ---- | L15: CSS | M15: CSS/PHP/Hack | N15: 2021-06-09T20:07:39Z | O15: 2021-06-17T01:10:15Z | P15: 1 | Q15: 1 | U15: 11 | V15: 2021-06-17T01:09:50Z | Y15: learning
A16: MDEwOlJlcG9zaXRvcnkxOTk3MjQ4Mjc= | B16: liblists | C16: WRLC | H16: Gallaudet University Library Guide to Deaf Biographies and Index to Deaf Periodicals (site repo) | J16: https://github.com/WRLC/liblists | K16: GNU General Public License v2.0 | L16: PHP | M16: PHP/JavaScript/CSS/HTML/Shell/Twig | N16: 2019-07-30T20:46:13Z | O16: 2021-06-16T19:53:35Z | P16: 4 | Q16: 4 | S16: 1 | T16: 1 | U16: 126 | V16: 2021-06-16T19:53:20Z | W16: 43676 | X16: P | Y16: development
A17: MDEwOlJlcG9zaXRvcnkzNjA4MTA4NjE= | B17: umit | C17: harivenu | D17: Drunken Cat | F17: Elevate Services | G17: Gurgaon | J17: https://github.com/harivenu/umit | K17: GNU General Public License v2.0 | L17: PHP | M17: PHP/Shell/JavaScript/CSS/Twig/HTML/Rich Text Format | N17: 2021-04-23T08:11:19Z | O17: 2021-06-16T15:49:54Z | P17: 2 | Q17: 1 | U17: 44 | V17: 2021-06-16T15:49:00Z | W17: 44309 | X17: I | Y17: development
A18: MDEwOlJlcG9zaXRvcnkzNzUzNzg2OTA= | B18: WebSpaceApp4_To_4_1 | C18: NikolaAleksic1996 | D18: Nikola Aleksic | J18: https://github.com/NikolaAleksic1996/WebSpaceApp4_To_4_1 | K18: Other | L18: PHP | M18: PHP/CSS/JavaScript/Twig/Shell | N18: 2021-06-09T14:11:04Z | O18: 2021-06-15T08:38:06Z | P18: 1 | Q18: 1 | U18: 8 | V18: 2021-06-15T08:37:22Z | W18: 44356 | Y18: teaching
A19: MDEwOlJlcG9zaXRvcnkzNzY4MTk4NjU= | B19: PhpBBGroupeB1 | C19: FranckMeinhardt | J19: https://github.com/FranckMeinhardt/PhpBBGroupeB1 | K19: ---- | L19: PHP | M19: PHP/HTML/CSS/JavaScript/PLpgSQL/Twig | N19: 2021-06-14T12:44:59Z | O19: 2021-06-15T07:43:02Z | P19: 4 | Q19: 1 | U19: 16 | V19: 2021-06-15T07:42:35Z | W19: 44361 | Y19: development
A20: MDEwOlJlcG9zaXRvcnkzMzQyOTM4MDI= | B20: agenda-telefonica | C20: pablo-souza | H20: Exemplo simples de uma agenda telefonica | J20: https://github.com/pablo-souza/agenda-telefonica | K20: ---- | L20: Vue | M20: HTML/PHP/JavaScript/Vue | N20: 2021-01-30T00:21:41Z | O20: 2021-06-14T19:32:44Z | P20: 1 | Q20: 1 | U20: 13 | V20: 2021-06-14T19:32:41Z | Y20: learning
A21: MDEwOlJlcG9zaXRvcnkzNzY3NzIxODQ= | B21: symfony-order-api | C21: pabloripoll | D21: Pablo Ripoll | G21: Tarragona, Spain | H21: Simple example of an Api REST to order products | J21: https://github.com/pabloripoll/symfony-order-api | K21: ---- | L21: PHP | M21: Shell/PHP | N21: 2021-06-14T09:38:36Z | O21: 2021-06-14T09:41:39Z | P21: 1 | Q21: 1 | U21: 1 | V21: 2021-06-14T09:40:49Z | W21: 44361 | Y21: learning
A22: MDEwOlJlcG9zaXRvcnkzNDI2OTQ1Mjc= | B22: WebProject | C22: BorchaniSalma | J22: https://github.com/BorchaniSalma/WebProject | K22: ---- | L22: Twig | M22: CSS/JavaScript/PHP/Shell/Twig | N22: 2021-02-26T20:34:43Z | O22: 2021-06-14T02:27:29Z | P22: 4 | Q22: 1 | U22: 50 | V22: 2021-06-14T02:27:03Z | W22: 44253
A23: MDEwOlJlcG9zaXRvcnkzMzQyMTU0MzI= | B23: socidem | C23: haba-sensei | D23: haba-sensei | F23: Stampiza2.com | G23: lima peru | H23: Sistema de gestion de citas medicas | J23: https://github.com/haba-sensei/socidem | K23: ---- | L23: JavaScript | M23: PHP/CSS/HTML/JavaScript/Hack | N23: 2021-01-29T17:26:51Z | O23: 2021-06-13T15:01:13Z | P23: 1 | Q23: 1 | S23: 1 | U23: 71 | V23: 2021-06-13T15:00:47Z | X23: I | Y23: development
A24: MDEwOlJlcG9zaXRvcnkzNzUwOTkyNTE= | B24: cp1 | C24: lauracastilloal97 | J24: https://github.com/lauracastilloal97/cp1 | K24: ---- | L24: PHP | M24: Shell/PHP/CSS/JavaScript/Twig | N24: 2021-06-08T17:55:45Z | O24: 2021-06-13T11:38:44Z | P24: 1 | Q24: 1 | U24: 4 | V24: 2021-06-13T11:38:32Z
A25: MDEwOlJlcG9zaXRvcnkzNzYwMzU0ODE= | B25: portfolio.github.io | C25: ThibautWa | J25: https://github.com/ThibautWa/portfolio.github.io | K25: ---- | L25: JavaScript | M25: PHP/CSS/JavaScript/Twig | N25: 2021-06-11T13:33:04Z | O25: 2021-06-11T13:35:11Z | P25: 1 | Q25: 1 | U25: 1 | V25: 2021-06-11T13:34:07Z | W25: 44358
A26: MDEwOlJlcG9zaXRvcnkzNzU4NzYxMjQ= | B26: wordpress-wn | C26: YantornoJoel | D26: Joel | H26: Renovación del sitio web del Instituto para la materia Practica Profesional III | J26: https://github.com/YantornoJoel/wordpress-wn | K26: Other | L26: PHP | M26: PHP/CSS/SCSS/JavaScript/HTML/Hack | N26: 2021-06-11T01:52:25Z | O26: 2021-06-11T01:57:25Z | P26: 1 | Q26: 1 | U26: 2 | V26: 2021-06-11T01:57:22Z | W26: 44358 | Y26: teaching
A27: MDEwOlJlcG9zaXRvcnkzNzU1NzQyNDg= | B27: wp_theme | C27: PhetSirmhuel | D27: Bieefilled | E27: IT Geek | H27: wp_theme | J27: https://github.com/PhetSirmhuel/wp_theme | K27: Other | L27: PHP | M27: PHP/CSS/SCSS/JavaScript/Less/HTML/Batchfile | N27: 2021-06-10T04:56:01Z | O27: 2021-06-10T21:16:13Z | P27: 1 | Q27: 1 | U27: 2 | V27: 2021-06-10T20:59:35Z
A28: MDEwOlJlcG9zaXRvcnkyNzQxOTMyMjU= | B28: Drupal-Issues-Module | C28: poojaganjage | J28: https://github.com/poojaganjage/Drupal-Issues-Module | K28: GNU General Public License v2.0 | L28: PHP | M28: PHP/CSS/JavaScript/Shell/Twig/Less/Handlebars | N28: 2020-06-22T16:48:18Z | O28: 2021-06-10T16:56:40Z | P28: 1 | Q28: 1 | U28: 191 | V28: 2021-06-10T15:57:16Z | W28: 44004 | Y28: development
A29: MDEwOlJlcG9zaXRvcnkzNzU1MTc1Njk= | B29: kcci-new | C29: tiberekanaan | D29: Kanaan Ngutu | H29: New version of KCCI | J29: https://github.com/tiberekanaan/kcci-new | K29: GNU General Public License v2.0 | L29: PHP | M29: PHP/Shell/JavaScript/CSS/Twig/HTML/Ruby | N29: 2021-06-09T23:50:25Z | O29: 2021-06-09T23:58:31Z | P29: 1 | Q29: 1 | U29: 1 | V29: 2021-06-09T23:47:07Z | Y29: development
A30: MDEwOlJlcG9zaXRvcnkzNjcxNzM1MTc= | B30: Prestashop | C30: Brocoleo | D30: Leandro Miranda | J30: https://github.com/Brocoleo/Prestashop | K30: ---- | L30: PHP | M30: PHP/CSS/Less/JavaScript/Smarty/Vue/Twig | N30: 2021-05-13T21:00:32Z | O30: 2021-06-09T18:58:27Z | P30: 1 | Q30: 1 | U30: 7 | V30: 2021-06-09T18:57:33Z | Y30: development
A31: MDEwOlJlcG9zaXRvcnkzNzUzMzI0NDg= | B31: practice_diploma | C31: SvetlanaTseluykina | J31: https://github.com/SvetlanaTseluykina/practice_diploma | K31: ---- | L31: PHP | M31: PHP/CSS/JavaScript/Twig/Shell | N31: 2021-06-09T11:33:15Z | O31: 2021-06-09T13:02:44Z | P31: 1 | Q31: 1 | U31: 3 | V31: 2021-06-09T13:02:27Z
A32: MDEwOlJlcG9zaXRvcnkzNzQ5NzI5OTc= | B32: eccube-shop | C32: trinhevil9xtb | H32: Tạo một shop bán hàng online từ EC-CUBE 4 | J32: https://github.com/trinhevil9xtb/eccube-shop | K32: GNU General Public License v2.0 | L32: PHP | M32: Dockerfile/PHP/JavaScript/CSS/SCSS/HTML/Twig | N32: 2021-06-08T10:44:58Z | O32: 2021-06-09T03:52:23Z | P32: 1 | Q32: 1 | U32: 3 | V32: 2021-06-09T03:51:52Z | W32: 44355 | Y32: development
A33: MDEwOlJlcG9zaXRvcnkzNzUwOTM3MTY= | B33: drupal-test-site | C33: draynur | E33: web developer | G33: Illinois | H33: A sample Drupal site. | J33: https://github.com/draynur/drupal-test-site | K33: GNU General Public License v2.0 | L33: PHP | M33: PHP/Shell/JavaScript/CSS/Twig/HTML | N33: 2021-06-08T17:35:08Z | O33: 2021-06-08T17:40:43Z | P33: 1 | Q33: 1 | U33: 1 | V33: 2021-06-08T17:30:22Z | Y33: learning
A34: MDEwOlJlcG9zaXRvcnkzNTU4ODY5MTM= | B34: Proyecto | C34: wismi11 | D34: Ismael | J34: https://github.com/wismi11/Proyecto | K34: ---- | L34: PHP | M34: Dockerfile/Shell/PHP/CSS/Less/JavaScript/Smarty | N34: 2021-04-08T11:52:20Z | O34: 2021-06-07T23:47:23Z | P34: 1 | Q34: 1 | U34: 5 | V34: 2021-06-07T23:45:33Z | Y34: learning
A35: MDEwOlJlcG9zaXRvcnkzNjM0NDE0MDU= | B35: ComunityCar | C35: miguelbayoDAW | H35: Proyecto fin grado | J35: https://github.com/miguelbayoDAW/ComunityCar | K35: ---- | L35: JavaScript | M35: PHP/CSS/JavaScript/Twig/Shell | N35: 2021-05-01T15:20:06Z | O35: 2021-06-07T11:01:53Z | P35: 1 | Q35: 1 | U35: 25 | V35: 2021-06-07T11:01:41Z | Y35: development
A36: MDEwOlJlcG9zaXRvcnkzNzQ0MjYwNzI= | B36: donation | C36: mahasrishanmugam | D36: Mahasri Shanmugasundaram | G36: India | J36: https://github.com/mahasrishanmugam/donation | K36: GNU General Public License v2.0 | L36: PHP | M36: PHP/Shell/JavaScript/CSS/Twig/HTML | N36: 2021-06-06T17:44:53Z | O36: 2021-06-07T08:26:53Z | P36: 1 | Q36: 1 | U36: 1 | V36: 2021-06-07T08:21:08Z | Y36: development
A37: MDEwOlJlcG9zaXRvcnkxNjkyNDI5NDE= | B37: mid-rest-php-demo | C37: SK-EID | J37: https://github.com/SK-EID/mid-rest-php-demo | K37: ---- | L37: CSS | M37: Dockerfile/PHP/CSS/JavaScript/Shell/SCSS/Twig | N37: 2019-02-05T13:09:28Z | O37: 2021-06-07T06:41:48Z | P37: 10 | Q37: 5 | R37: 1 | S37: 4 | U37: 84 | V37: 2021-06-07T06:41:40Z | W37: 43521 | X37: I | Y37: development
A38: MDEwOlJlcG9zaXRvcnkzNzQ5MDI0NDk= | B38: wpscan | C38: Athrvatripathi | J38: https://github.com/Athrvatripathi/wpscan | K38: Other | L38: Ruby | M38: Ruby/Dockerfile/HTML/Shell | N38: 2021-06-08T06:16:33Z | O38: 2021-06-08T06:22:12Z | P38: 1 | Q38: 1 | U38: 3064 | V38: 2021-06-07T06:06:13Z | W38: 41101 | Y38: development
A39: MDEwOlJlcG9zaXRvcnkzNzQ0MTEzNDM= | B39: projectExperts | C39: SauronsEyes | D39: Sudesh Bhuju | E39: #Android\r\n#Python\r\n#FrontEndWeb | G39: Bhaaktapur,Nepal | H39: Laravel Based Site | J39: https://github.com/SauronsEyes/projectExperts | K39: ---- | L39: PHP | M39: Shell/PHP/CSS/JavaScript/Less/HTML/Blade | N39: 2021-06-06T16:36:36Z | O39: 2021-06-06T17:22:07Z | P39: 1 | Q39: 1 | U39: 4 | V39: 2021-06-06T17:22:05Z | Y39: development
A40: MDEwOlJlcG9zaXRvcnkzMjg5MjAzMTQ= | B40: SI-Klasis-Makassar | C40: alanlengkoan | D40: Alan Lengkoan | E40: Full Snack Developer | Sarani Mukoe Plus Ultra! 👊👊👊 | F40: Kumala Group | G40: Makasar, Sulawesi Selatan, Indonesia | H40: Hosting SI-Klasis-Makassar | J40: https://github.com/alanlengkoan/SI-Klasis-Makassar | K40: MIT License | L40: JavaScript | M40: Shell/HTML/PHP/CSS/JavaScript/Less/Twig | N40: 2021-01-12T08:29:54Z | O40: 2021-06-06T03:36:00Z | P40: 1 | Q40: 1 | U40: 35 | V40: 2021-06-06T03:35:50Z | W40: 44208 | X40: I | Y40: development
...

Sheet infection
A1: repositoryId | B1: repositoryName | C1: ownerLogin | D1: ownerName | E1: ownerBio | F1: ownerCompany | G1: ownerLocation | H1: repositoryDescription | I1: topics | J1: url | K1: license | L1: primaryLanguage | M1: allLanguages | N1: repositoryCreationDate | O1: repositoryLastUpdate | P1: contributors | Q1: watchers | R1: starts | S1: forks | T1: issues | U1: commits | V1: lastCommit | W1: firstCommit | X1: Academia/Industry/Public | Y1: Category
A2: MDEwOlJlcG9zaXRvcnkyODQzNjI2ODY= | B2: cmf-ui | C2: orisai | H2: UI module for Orisai CMF | I2: php/orisai/nette/cmf/forms/controller/presenter/form/ui/latte | J2: https://github.com/orisai/cmf-ui | K2: Mozilla Public License 2.0 | L2: PHP | M2: Makefile/PHP/Latte | N2: 2020-08-02T00:33:54Z | O2: 2021-06-22T11:30:56Z | P2: 1 | Q2: 1 | U2: 105 | V2: 2021-06-22T11:30:49Z | Y2: development
A3: MDEwOlJlcG9zaXRvcnkzNTQ4OTQ4MDQ= | B3: sculpin-contentful-bundle | C3: airtonzanon | D3: Airton Zanon | G3: Amsterdam, The Netherlands | H3: Fetch contentful content and dump the markdowns as posts for sculpin | I3: sculpin/contentful/markdown | J3: https://github.com/airtonzanon/sculpin-contentful-bundle | K3: ---- | L3: PHP | M3: PHP | N3: 2021-04-05T16:15:42Z | O3: 2021-06-22T10:51:12Z | P3: 1 | Q3: 1 | U3: 19 | V3: 2021-06-22T10:51:08Z | W3: 44292 | Y3: development
A4: MDEwOlJlcG9zaXRvcnkyMzgxODkyNDM= | B4: pharmacies | C4: kiang | D4: kiang | E4: somebody as a nobody, nobody as a somebody | G4: Taiwan | H4: 藥局口罩採購地圖 | J4: https://github.com/kiang/pharmacies | K4: MIT License | L4: PHP | M4: PHP/HTML/JavaScript | N4: 2020-02-04T11:23:07Z | O4: 2021-06-22T10:50:12Z | P4: 1 | Q4: 9 | R4: 170 | S4: 23 | T4: 36 | U4: 235708 | V4: 2021-06-22T10:50:05Z | W4: 43865 | Y4: development
A5: MDEwOlJlcG9zaXRvcnkzMzU1MzkzNDg= | B5: groom | C5: kavadevelopers | D5: Kava Developers | G5: Ahmedabad | J5: https://github.com/kavadevelopers/groom | K5: ---- | L5: PHP | M5: PHP/HTML/CSS/JavaScript/SCSS/Hack | N5: 2021-02-03T07:15:03Z | O5: 2021-06-22T10:31:20Z | P5: 1 | Q5: 1 | U5: 574 | V5: 2021-06-22T10:31:10Z
A6: MDEwOlJlcG9zaXRvcnkzNjgwNDE2NDk= | B6: CRM-APPS | C6: sentosadev | H6: Aplikasi CRM | J6: https://github.com/sentosadev/CRM-APPS | K6: ---- | L6: PHP | M6: PHP/HTML/Hack/CSS/JavaScript/PowerShell/Less | N6: 2021-05-17T03:17:19Z | O6: 2021-06-22T09:45:09Z | P6: 3 | Q6: 1 | U6: 92 | V6: 2021-06-22T09:44:56Z
A7: MDEwOlJlcG9zaXRvcnkyMjkyMzI5NzI= | B7: miscellaneous | C7: 4yop | D7: etopbg | E7: 名字是滚键盘起的 | H7: 什么都放 | J7: https://github.com/4yop/miscellaneous | K7: ---- | L7: PHP | M7: PHP/Roff/Shell/Hack/Blade/Dockerfile/Batchfile | N7: 2019-12-20T09:26:24Z | O7: 2021-06-22T08:20:15Z | P7: 1 | U7: 293 | V7: 2021-06-22T08:20:05Z | W7: 43819
A8: MDEwOlJlcG9zaXRvcnkzNDE1NzQ2MDI= | B8: API_gestion_championnat_ski | C8: jean-christophe-mairot | D8: jean christophe Mairot | H8: PHP, Javascript, POO, MVC, Réécriture d'url, Outil de test d'API, serveur web local, IDE, PhpMyadmin, Mysql, Git, Composer, SASS, Webpack | J8: https://github.com/jean-christophe-mairot/API_gestion_championnat_ski | K8: ---- | L8: PHP | M8: PHP/CSS/JavaScript | N8: 2021-02-23T14:05:58Z | O8: 2021-06-22T08:13:41Z | P8: 5 | Q8: 1 | S8: 2 | U8: 103 | V8: 2021-06-22T08:13:32Z | W8: 44250
A9: MDEwOlJlcG9zaXRvcnkzMzUxNjI5OTE= | B9: VNPT-PAYC | C9: phanvanthanh | J9: https://github.com/phanvanthanh/VNPT-PAYC | K9: ---- | L9: HTML | M9: Shell/PHP/Blade/HTML/Vue/Batchfile | N9: 2021-02-02T03:59:54Z | O9: 2021-06-22T07:15:29Z | P9: 2 | Q9: 1 | R9: 1 | S9: 1 | U9: 151 | V9: 2021-06-22T07:15:16Z | Y9: development
A10: MDEwOlJlcG9zaXRvcnkzNzYxOTc4ODA= | B10: QC | C10: tranlequocbao | D10: Tran Le Quoc Bao | J10: https://github.com/tranlequocbao/QC | K10: ---- | L10: CSS | M10: CSS/JavaScript/SCSS/HTML/PHP/Handlebars/Less | N10: 2021-06-12T04:03:14Z | O10: 2021-06-22T06:55:59Z | P10: 1 | U10: 5 | V10: 2021-06-22T06:55:48Z | W10: 44308
A11: MDEwOlJlcG9zaXRvcnkyNTk3MDU1Mzc= | B11: vaio | C11: avitaind | F11: AVITA INDIA | G11: DELHI IN | J11: https://github.com/avitaind/vaio | K11: ---- | L11: PHP | M11: PHP/CSS/JavaScript/Vue/Hack/SCSS/Blade | N11: 2020-04-28T17:26:40Z | O11: 2021-06-22T06:36:12Z | P11: 1 | U11: 449 | V11: 2021-06-22T06:35:53Z | W11: 43950 | X11: I | Y11: development
A12: MDEwOlJlcG9zaXRvcnkzNjY5MDA0NTQ= | B12: gcom | C12: dangquanghai | J12: https://github.com/dangquanghai/gcom | K12: ---- | L12: PHP | M12: Shell/PHP/HTML/Less/Vue/Blade/Hack | N12: 2021-05-13T01:32:46Z | O12: 2021-06-22T05:04:15Z | P12: 1 | Q12: 1 | U12: 17 | V12: 2021-06-22T05:04:03Z | Y12: development
A13: MDEwOlJlcG9zaXRvcnkzNTcwNjQ2NTg= | B13: PPSS_WEB | C13: sovithia | D13: Sovithia S. | F13: Uditi | G13: Paris | J13: https://github.com/sovithia/PPSS_WEB | K13: ---- | L13: PHP | M13: HTML/PHP/JavaScript/CSS/Shell/SCSS | N13: 2021-04-12T05:07:06Z | O13: 2021-06-22T04:25:22Z | P13: 1 | Q13: 1 | U13: 76 | V13: 2021-06-22T04:25:12Z | X13: I
A14: MDEwOlJlcG9zaXRvcnkyNzE2Mjk5MTY= | B14: composer-diff | C14: IonBazan | D14: Ion Bazan | F14: @PomeloPay | G14: Singapore | H14: Compares composer.lock changes and generates Markdown report so you can use it in PR description. | I14: php/composer/packages/packagist/diff/lock/markdown/github/pullrequest/composer-plugin | J14: https://github.com/IonBazan/composer-diff | K14: MIT License | L14: PHP | M14: PHP | N14: 2020-06-11T19:24:33Z | O14: 2021-06-22T02:08:58Z | P14: 1 | Q14: 2 | R14: 34 | S14: 1 | T14: 2 | U14: 41 | V14: 2021-06-22T02:08:55Z | X14: I | Y14: development
A15: MDEwOlJlcG9zaXRvcnkzNjE2OTcwMTU= | B15: package-template | C15: iLexN | G15: Hong Kong | J15: https://github.com/iLexN/package-template | K15: MIT License | L15: PHP | M15: PHP | N15: 2021-04-26T09:45:47Z | O15: 2021-06-22T01:00:22Z | P15: 1 | Q15: 1 | U15: 56 | V15: 2021-06-22T01:00:19Z | W15: 44312
A16: MDEwOlJlcG9zaXRvcnkzNzYxMDA3MDU= | B16: ct | C16: andregds85 | D16: André Gomes da Silva | J16: https://github.com/andregds85/ct | K16: ---- | L16: JavaScript | M16: Shell/PHP/Hack/CSS/JavaScript/HTML/SCSS | N16: 2021-06-11T17:42:34Z | O16: 2021-06-21T22:25:14Z | P16: 1 | Q16: 1 | U16: 20 | V16: 2021-06-21T22:17:58Z
A17: MDEwOlJlcG9zaXRvcnk5MTQ1MjEyNA== | B17: composer | C17: phpmyadmin | H17: Read only composer repository for phpMyAdmin | J17: https://github.com/phpmyadmin/composer | K17: GNU General Public License v2.0 | L17: PHP | M17: PHP/JavaScript/CSS/Shell/Twig/SCSS | N17: 2017-05-16T11:46:38Z | O17: 2021-06-21T22:01:09Z | P17: 5 | Q17: 3 | R17: 8 | S17: 10 | U17: 123474 | V17: 2021-06-21T22:00:10Z | W17: 37014 | X17: P | Y17: development
A18: MDEwOlJlcG9zaXRvcnkzMjE3NjIx | B18: phpmyadmin | C18: phpmyadmin | H18: A web interface for MySQL and MariaDB | I18: php/mysql/web-app/mariadb/phpmyadmin/hacktoberfest | J18: https://github.com/phpmyadmin/phpmyadmin | K18: GNU General Public License v2.0 | L18: PHP | M18: PHP/JavaScript/CSS/Shell/Twig/SCSS | N18: 2012-01-19T13:21:52Z | O18: 2021-06-22T03:41:33Z | P18: 9 | Q18: 291 | R18: 5521 | S18: 2973 | T18: 13037 | U18: 121828 | V18: 2021-06-21T18:58:11Z | W18: 37014 | X18: P | Y18: development
A19: MDEwOlJlcG9zaXRvcnkzNzU2NzY2MTk= | B19: php-directive-bundle | C19: ecphp | H19: Let users customize the PHP configuration through a custom ini file. | J19: https://github.com/ecphp/php-directive-bundle | K19: BSD 3-Clause \New\" or \"Revised\" License" | L19: PHP | M19: Dockerfile/PHP/Gherkin | N19: 2021-06-10T11:39:55Z | O19: 2021-06-21T15:23:40Z | P19: 4 | Q19: 2 | U19: 17 | V19: 2021-06-21T15:23:21Z | W19: 44357 | X19: P | Y19: development
A20: MDEwOlJlcG9zaXRvcnkzNzM4NjA2NjM= | B20: EstadiasFaltas | C20: EGPerezR | D20: EGPerezR | J20: https://github.com/EGPerezR/EstadiasFaltas | K20: ---- | L20: JavaScript | M20: PHP/CSS/Hack/JavaScript | N20: 2021-06-04T14:04:12Z | O20: 2021-06-21T15:15:40Z | P20: 1 | Q20: 1 | U20: 30 | V20: 2021-06-21T15:15:22Z
A21: MDEwOlJlcG9zaXRvcnkxMzQzMTk1MTc= | B21: php-cs-fixer-custom-fixers | C21: kubawerlos | D21: Kuba Werłos | G21: Wrocław, Poland | H21: A set of custom fixers for PHP CS Fixer | I21: php/static-analysis/code-style/code-standards/php-cs-fixer | J21: https://github.com/kubawerlos/php-cs-fixer-custom-fixers | K21: MIT License | L21: PHP | M21: PHP/Shell | N21: 2018-05-21T20:06:07Z | O21: 2021-06-21T14:02:25Z | P21: 1 | Q21: 3 | R21: 81 | S21: 8 | T21: 20 | U21: 745 | V21: 2021-06-21T14:02:22Z | Y21: development
A22: MDEwOlJlcG9zaXRvcnk2MzU5MjE0NQ== | B22: StudOn | C22: ilifau | H22: Fork of https://github.com/ILIAS-eLearning/ILIAS | J22: https://github.com/ilifau/StudOn | K22: GNU General Public License v3.0 | L22: PHP | M22: PHP/HTML/CSS/Makefile/JavaScript/Java/XSLT | N22: 2016-07-18T10:09:49Z | O22: 2021-06-21T13:09:35Z | P22: 6 | Q22: 3 | S22: 1 | U22: 49277 | V22: 2021-06-21T13:09:27Z | X22: A | Y22: development
A23: MDEwOlJlcG9zaXRvcnkyNzk4NTYwODc= | B23: yii-view | C23: yiisoft | H23: Yii binding for view rendering | I23: yii3/view/hacktoberfest | J23: https://github.com/yiisoft/yii-view | K23: BSD 3-Clause \New\" or \"Revised\" License" | L23: PHP | M23: PHP | N23: 2020-07-15T11:58:09Z | O23: 2021-06-21T10:25:18Z | P23: 21 | Q23: 13 | R23: 6 | S23: 6 | T23: 1 | U23: 46 | V23: 2021-06-21T10:25:10Z | W23: 44027 | X23: I | Y23: development
A24: MDEwOlJlcG9zaXRvcnkyNzk2ODk4Mjc= | B24: data-response | C24: yiisoft | I24: yii3/psr-7/response/hacktoberfest/json/xml | J24: https://github.com/yiisoft/data-response | K24: BSD 3-Clause \New\" or \"Revised\" License" | L24: PHP | M24: PHP | N24: 2020-07-14T20:47:55Z | O24: 2021-06-21T19:41:34Z | P24: 21 | Q24: 14 | R24: 10 | S24: 9 | T24: 5 | U24: 78 | V24: 2021-06-21T10:23:19Z | W24: 44026 | X24: I | Y24: development
A25: MDEwOlJlcG9zaXRvcnkyOTIzNDAxMDI= | B25: infection-static-analysis-plugin | C25: Roave | H25: Static analysis on top of mutation testing - prevents escaped mutants from being invalid according to static analysis | J25: https://github.com/Roave/infection-static-analysis-plugin | K25: MIT License | L25: PHP | M25: PHP | N25: 2020-09-02T16:47:15Z | O25: 2021-06-21T08:47:02Z | P25: 4 | Q25: 7 | R25: 75 | S25: 6 | T25: 8 | U25: 377 | V25: 2021-06-21T08:46:58Z | Y25: extension/clon
A26: MDEwOlJlcG9zaXRvcnkzMDU1Njc0OTM= | B26: QualisHRIS | C26: guiam09 | J26: https://github.com/guiam09/QualisHRIS | K26: ---- | L26: HTML | M26: HTML/Perl/Java/CSS/JavaScript/PHP/ASP.NET | N26: 2020-10-20T02:26:08Z | O26: 2021-06-21T07:52:40Z | P26: 4 | Q26: 2 | T26: 17 | U26: 78 | V26: 2021-06-21T07:52:30Z
A27: MDEwOlJlcG9zaXRvcnkxMjg3OTEzMzk= | B27: hippo | C27: dilawar | D27: Dilawar Singh | E27: Computational Neuroscientist | Electrical Engineer | G27: Bangalore, India | H27: Academic event schedular, venue manager, and much more. | I27: ncbs/schedular/codeigniter3/cms/php7/network-flow | J27: https://github.com/dilawar/hippo | K27: MIT License | L27: PHP | M27: PHP/HTML/CSS/JavaScript/Python/Shell/Makefile | N27: 2018-04-09T15:14:04Z | O27: 2021-06-21T07:51:58Z | P27: 1 | Q27: 2 | R27: 2 | S27: 2 | T27: 5 | U27: 819 | V27: 2021-06-21T07:51:21Z | W27: 43666 | Y27: development
A28: MDEwOlJlcG9zaXRvcnkzNjIwMzkxMjY= | B28: result-option | C28: iLexN | G28: Hong Kong | H28: Just feel Rust, Rust like enum Result and Option | J28: https://github.com/iLexN/result-option | K28: MIT License | L28: PHP | M28: PHP | N28: 2021-04-27T08:33:59Z | O28: 2021-06-21T07:08:13Z | P28: 1 | Q28: 1 | U28: 58 | V28: 2021-06-21T07:08:10Z | W28: 44313 | Y28: development
A29: MDEwOlJlcG9zaXRvcnkxODczNzEzNTk= | B29: php-prometheus-client | C29: Enalean | H29: Prometheus instrumentation library for PHP applications | J29: https://github.com/Enalean/php-prometheus-client | K29: Apache License 2.0 | L29: PHP | M29: Dockerfile/PHP/Nix | N29: 2019-05-18T15:01:30Z | O29: 2021-06-21T06:48:10Z | P29: 12 | Q29: 12 | R29: 8 | T29: 1 | U29: 665 | V29: 2021-06-21T06:48:07Z | W29: 42538 | X29: I | Y29: development
A30: MDEwOlJlcG9zaXRvcnk5NDU0NjkxNA== | B30: webp-express | C30: rosell-dk | D30: Bjørn Rosell | E30: Currently working on AVIF conversion with PHP as well as improving webp-express | F30: bitwise | G30: Denmark | H30: Wordpress plugin for serving autogenerated WebP images instead of jpeg/png to browsers that supports WebP | J30: https://github.com/rosell-dk/webp-express | K30: GNU General Public License v3.0 | L30: PHP | M30: PHP/CSS/JavaScript/HTML/NASL | N30: 2017-06-16T13:33:29Z | O30: 2021-06-21T05:30:11Z | P30: 1 | Q30: 14 | R30: 149 | S30: 47 | T30: 468 | U30: 1236 | V30: 2021-06-21T05:29:36Z | W30: 42902 | X30: I | Y30: development
A31: MDEwOlJlcG9zaXRvcnkzMzk5MTY4MDc= | B31: config-object | C31: iLexN | G31: Hong Kong | J31: https://github.com/iLexN/config-object | K31: ---- | L31: PHP | M31: PHP | N31: 2021-02-18T02:45:31Z | O31: 2021-06-21T01:52:38Z | P31: 1 | Q31: 1 | U31: 108 | V31: 2021-06-21T01:52:35Z | W31: 44245 | Y31: development
A32: MDEwOlJlcG9zaXRvcnkyODk0Njk5MjM= | B32: becommers | C32: haxan100 | D32: hasan | E32: abdul hasan | G32: cengkareng , jakarta barat | H32: bECommers | J32: https://github.com/haxan100/becommers | K32: MIT License | L32: HTML | M32: PHP/HTML/Hack/JavaScript/CSS/Handlebars/SCSS | N32: 2020-08-22T10:50:07Z | O32: 2021-06-21T01:26:48Z | P32: 1 | Q32: 1 | U32: 182 | V32: 2021-06-21T01:25:59Z | W32: 44065 | Y32: development
A33: MDEwOlJlcG9zaXRvcnkzNTAyODExNTM= | B33: cive_eclassrooms | C33: khalid-eyez | D33: khalidi hassan thewinner | F33: winner softwares ltd | H33: the university of dodoma electronic classes management | J33: https://github.com/khalid-eyez/cive_eclassrooms | K33: ---- | L33: JavaScript | M33: PHP/JavaScript/CSS | N33: 2021-03-22T09:22:16Z | O33: 2021-06-20T14:11:12Z | P33: 1 | Q33: 1 | U33: 8 | V33: 2021-06-21T00:07:38Z | Y33: teaching
A34: MDEwOlJlcG9zaXRvcnkzMjY2MzY0NjY= | B34: SchedulerBundle | C34: Guikingone | D34: Guillaume Loulier | E34: @sensiolabs Developer, @php fan and forever learner, I teach the web of tomorrow at @OpenClassrooms and share my knowledge through the web, oh and i love pizza | F34: @sensiolabs | G34: Hautes-Alpes | France | H34: Repetitive tasks as a breath in Symfony | I34: symfony/symfony-bundle/scheduler/cron/php/doctrine/redis/tasks/messenger | J34: https://github.com/Guikingone/SchedulerBundle | K34: MIT License | L34: PHP | M34: PHP/Twig/Makefile | N34: 2021-01-04T09:45:20Z | O34: 2021-06-20T16:10:45Z | P34: 1 | Q34: 4 | R34: 63 | S34: 4 | T34: 41 | U34: 112 | V34: 2021-06-20T16:10:43Z | X34: I | Y34: development
A35: MDEwOlJlcG9zaXRvcnkzNzM1Nzg2OTk= | B35: sudanabejo | C35: jaffrantirta | D35: Jaffran Tirta Artika | J35: https://github.com/jaffrantirta/sudanabejo | K35: MIT License | L35: JavaScript | M35: PHP/HTML/Hack/JavaScript/SCSS/Ruby/CSS | N35: 2021-06-03T16:47:12Z | O35: 2021-06-20T15:44:42Z | P35: 1 | Q35: 1 | U35: 77 | V35: 2021-06-20T15:44:39Z | W35: 44350 | Y35: development
A36: MDEwOlJlcG9zaXRvcnkxODc5OTMxNQ== | B36: php-matcher | C36: coduo | H36: The easiest way to match data structures like JSON/PlainText/XML against readable patterns. Sandbox: | J36: https://github.com/coduo/php-matcher | K36: MIT License | L36: PHP | M36: PHP | N36: 2014-04-15T12:33:45Z | O36: 2021-06-20T14:36:24Z | P36: 3 | Q36: 19 | R36: 670 | S36: 71 | T36: 70 | U36: 366 | V36: 2021-06-20T14:36:22Z | Y36: development
A37: MDEwOlJlcG9zaXRvcnkzNzY4ODUxMzU= | B37: Montaha | C37: dawnStreaks | H37: POS for retailshop | J37: https://github.com/dawnStreaks/Montaha | K37: MIT License | L37: JavaScript | M37: Shell/PHP/JavaScript/Less/HTML/CSS/Vue | N37: 2021-06-14T16:16:36Z | O37: 2021-06-20T11:42:47Z | P37: 1 | Q37: 1 | U37: 3 | V37: 2021-06-20T11:42:30Z | W37: 44361 | Y37: development
A38: MDEwOlJlcG9zaXRvcnk0NDM4NDQ0Nw== | B38: php-scoper | C38: humbug | H38: 🔨 Prefixes all PHP namespaces in a file/directory to isolate the code bundled in PHARs. | I38: phar/php/phar-prefixer/php-console/command-line/archive | J38: https://github.com/humbug/php-scoper | K38: MIT License | L38: PHP | M38: PHP/Makefile/Smarty/Vue/Shell/Blade | N38: 2015-10-16T12:43:34Z | O38: 2021-06-20T10:32:22Z | P38: 5 | Q38: 11 | R38: 426 | S38: 55 | T38: 170 | U38: 389 | V38: 2021-06-20T10:32:19Z | W38: 42293 | Y38: development
A39: MDEwOlJlcG9zaXRvcnkzNTc2ODAzMjg= | B39: symfony-toggle | C39: pheature-flags | H39: [READ-ONLY] Pheature flags Symfony toggle management bundle. | I39: feature-flags/feature-toggles/symfony-bundle | J39: https://github.com/pheature-flags/symfony-toggle | K39: BSD 3-Clause \New\" or \"Revised\" License" | L39: PHP | M39: PHP | N39: 2021-04-13T20:28:51Z | O39: 2021-06-20T00:11:33Z | P39: 5 | Q39: 1 | U39: 17 | V39: 2021-06-20T00:11:28Z | X39: P | Y39: development
A40: MDEwOlJlcG9zaXRvcnkzMTk3NDk1Mzk= | B40: cron | C40: MammatusPHP | H40: Cron manager | J40: https://github.com/MammatusPHP/cron | K40: MIT License | L40: PHP | M40: Makefile/Twig/PHP | N40: 2020-12-08T20:11:37Z | O40: 2021-06-19T17:13:47Z | P40: 1 | Q40: 1 | U40: 24 | V40: 2021-06-19T17:13:35Z
...

Sheet major
A1: repositoryId | B1: repositoryName | C1: ownerLogin | D1: ownerName | E1: ownerBio | F1: ownerCompany | G1: ownerLocation | H1: repositoryDescription | I1: topics | J1: url | K1: license | L1: primaryLanguage | M1: allLanguages | N1: repositoryCreationDate | O1: repositoryLastUpdate | P1: contributors | Q1: watchers | R1: starts | S1: forks | T1: issues | U1: commits | V1: lastCommit | W1: firstCommit | X1: Academia/Industry/Public | Y1: Category
A2: MDEwOlJlcG9zaXRvcnkzNDg2Mzc0Mzg= | B2: Automatic-correctness-assessment | C2: gmldbs | J2: https://github.com/gmldbs/Automatic-correctness-assessment | K2: ---- | L2: Python | M2: Perl/Makefile/Python/C/C++/PostScript/Batchfile | N2: 2021-03-17T08:43:40Z | O2: 2021-04-06T07:32:35Z | P2: 1 | Q2: 1 | U2: 13 | V2: 2021-04-06T07:32:32Z | W2: 44291
A3: MDEwOlJlcG9zaXRvcnkyOTgzOTczMTY= | B3: CodeDefendersCode | C3: vnc10 | D3: Vinicius Petris | E3: Computer Science student at Federal University of Technology - Paraná | G3: Campo Mourão, PR, Brazil | J3: https://github.com/vnc10/CodeDefendersCode | K3: GNU Lesser General Public License v3.0 | L3: Java | M3: Dockerfile/Shell/Python/Java/Makefile/JavaScript/HTML | N3: 2020-09-24T21:19:24Z | O3: 2021-03-13T22:33:01Z | P3: 1 | Q3: 1 | U3: 8 | V3: 2021-02-06T04:45:07Z | W3: 44098 | Y3: teaching
A4: MDEwOlJlcG9zaXRvcnkzMzAzNjkzOTE= | B4: MajorExample | C4: MutantBench | J4: https://github.com/MutantBench/MajorExample | K4: ---- | L4: Shell | M4: Shell | N4: 2021-01-17T10:55:26Z | O4: 2021-01-17T14:10:15Z | P4: 1 | Q4: 1 | U4: 5 | V4: 2021-01-17T14:10:06Z | W4: 44213 | Y4: learning
A5: MDEwOlJlcG9zaXRvcnk0ODQzNzY3Mw== | B5: CodeDefenders | C5: CodeDefenders | H5: Gamification of Mutation Testing | J5: https://github.com/CodeDefenders/CodeDefenders | K5: GNU Lesser General Public License v3.0 | L5: Java | M5: Java/Shell/JavaScript/HTML/CSS/Dockerfile | N5: 2015-12-22T14:53:12Z | O5: 2021-03-25T09:04:04Z | P5: 11 | Q5: 7 | R5: 29 | S5: 12 | T5: 1 | U5: 3286 | V5: 2020-12-05T14:40:03Z | W5: 42193 | Y5: teaching
A6: MDEwOlJlcG9zaXRvcnkzMDgwMzEzNTk= | B6: TQS20-21_major-demo | C6: danrpinho | D6: Daniel Pinho | F6: University of Porto | G6: Porto, Portugal | J6: https://github.com/danrpinho/TQS20-21_major-demo | K6: ---- | L6: Java | M6: Shell/Java | N6: 2020-10-28T13:49:47Z | O6: 2020-12-07T17:21:20Z | P6: 1 | Q6: 1 | U6: 2 | V6: 2020-10-28T13:52:22Z | W6: 44132 | X6: A
A7: MDEwOlJlcG9zaXRvcnkzMDQ1ODAzMTQ= | B7: TVVS | C7: DiogoASTeixeira | D7: Diogo Teixeira | F7: FEUP | G7: Porto | J7: https://github.com/DiogoASTeixeira/TVVS | K7: ---- | L7: Java | M7: Java/Shell | N7: 2020-10-16T09:27:35Z | O7: 2021-03-11T16:22:47Z | P7: 3 | Q7: 1 | U7: 6 | V7: 2020-10-26T12:44:07Z | W7: 44120 | X7: A | Y7: teaching
A8: MDEwOlJlcG9zaXRvcnkzMDQ5MjcxNjQ= | B8: TriangleMutation | C8: ricardojaferreira | D8: Ricardo Ferreira | H8: Some mutation testing with the Triangle tool | J8: https://github.com/ricardojaferreira/TriangleMutation | K8: ---- | L8: Java | M8: Java/Shell/CSS/HTML/JavaScript | N8: 2020-10-17T17:01:09Z | O8: 2020-10-17T23:26:24Z | P8: 1 | Q8: 1 | U8: 4 | V8: 2020-10-17T23:26:18Z | W8: 44121 | Y8: teaching
A9: MDEwOlJlcG9zaXRvcnkzMDEyODExMzU= | B9: CS520-InClass2 | C9: koushikrbukkasamudram | J9: https://github.com/koushikrbukkasamudram/CS520-InClass2 | K9: ---- | L9: Java | M9: Java/Shell | N9: 2020-10-05T03:13:47Z | O9: 2020-10-05T03:16:53Z | P9: 1 | Q9: 1 | U9: 19 | V9: 2020-10-05T02:25:18Z | W9: 43009 | Y9: teaching
A10: MDEwOlJlcG9zaXRvcnkyOTQ3NDYxNDA= | B10: cseprjs | C10: tonymadkins | D10: Anthony Adkins | G10: United States | J10: https://github.com/tonymadkins/cseprjs | K10: ---- | L10: Python | M10: Python/Java/CSS/HTML/JavaScript/Shell | N10: 2020-09-11T16:28:59Z | O10: 2020-09-11T17:01:44Z | P10: 1 | Q10: 1 | U10: 5 | V10: 2020-09-11T17:01:34Z | W10: 44085 | Y10: teaching
A11: MDEwOlJlcG9zaXRvcnkyMDIyMzk4ODQ= | B11: TesterRank | C11: viyer5 | D11: Vighnesh Iyer | E11: I am a second year grad student at University of Illinois at Urbana Champaign studying Computer Science. Reactive programming is Kotlin is my latest obsession | J11: https://github.com/viyer5/TesterRank | K11: ---- | L11: Java | M11: Shell/Java | N11: 2019-08-13T23:53:22Z | O11: 2020-06-29T21:29:00Z | P11: 1 | Q11: 2 | U11: 2 | V11: 2020-06-29T21:28:57Z | W11: 43690 | X11: A | Y11: extension/clon

Sheet mujava
A1: repositoryId | B1: repositoryName | C1: ownerLogin | D1: ownerName | E1: ownerBio | F1: ownerCompany | G1: ownerLocation | H1: repositoryDescription | I1: topics | J1: url | K1: license | L1: primaryLanguage | M1: allLanguages | N1: repositoryCreationDate | O1: repositoryLastUpdate | P1: contributors | Q1: watchers | R1: starts | S1: forks | T1: issues | U1: commits | V1: lastCommit | W1: firstCommit | X1: Academia/Industry/Public | Y1: Category
A2: MDEwOlJlcG9zaXRvcnkzNjgwOTY5MDE= | B2: MutationAnalysisForDBC-FormaliSE21 | C2: TUBS-ISF | J2: https://github.com/TUBS-ISF/MutationAnalysisForDBC-FormaliSE21 | K2: ---- | L2: Java | M2: Java/Python | N2: 2021-05-17T07:36:53Z | O2: 2021-05-17T07:43:58Z | P2: 9 | Q2: 3 | U2: 2 | V2: 2021-05-17T07:43:22Z | W2: 44333 | Y2: research
A3: MDEwOlJlcG9zaXRvcnkxNjk0MjM0MTg= | B3: nimrod-hunor | C3: easy-software-ufal | J3: https://github.com/easy-software-ufal/nimrod-hunor | K3: ---- | L3: Python | M3: Python/Java/Dockerfile/Shell | N3: 2019-02-06T14:59:36Z | O3: 2021-04-06T19:36:19Z | P3: 13 | Q3: 6 | S3: 5 | U3: 89 | V3: 2021-04-06T19:35:59Z | W3: 43502 | Y3: research
A4: MDEwOlJlcG9zaXRvcnkyNzY2MjI2OTg= | B4: master-project-mutation-testing | C4: synchi | D4: Sara Oonk | H4: Private repo for master project work on efficient mutation testing in Java and PHP, using MuJava and Infection. | J4: https://github.com/synchi/master-project-mutation-testing | K4: ---- | L4: Java | M4: Java/Shell/Groovy/HTML/CSS/Batchfile/PHP | N4: 2020-07-02T10:57:46Z | O4: 2021-01-28T15:33:48Z | P4: 1 | Q4: 1 | U4: 28 | V4: 2021-01-28T15:32:46Z | W4: 44014 | Y4: research
A5: MDEwOlJlcG9zaXRvcnkxNDU1NTc5MjA= | B5: GaSubtle | C5: AbdullahAsendar | D5: Abdullah Asendar | E5: Backend Java Developer | H5: Generate Higher Order Mutants using Genetic Algorithm | I5: fault-based-testing/mutation-testing/genetic-algorithm/java-8/javafx/junit4/spring-boot | J5: https://github.com/AbdullahAsendar/GaSubtle | K5: GNU General Public License v3.0 | L5: Java | M5: Java/CSS | N5: 2018-08-21T12:00:42Z | O5: 2020-12-11T00:56:34Z | P5: 2 | Q5: 1 | U5: 28 | V5: 2020-12-11T00:56:31Z | W5: 43450 | Y5: research
A6: MDEwOlJlcG9zaXRvcnkyMzY0ODcyMQ== | B6: MuJava | C6: saiema | D6: Simón Emmanuel Gutiérrez Brida | E6: PhD in Computer Science at FaMAF (Universidad Nacional de Córdoba)\r\n\r\nPlace of work : Universidad Nacional de Río Cuarto, Departamento de Computación | G6: Argentina | H6: An improved version of muJava, a mutation tool for Java | J6: https://github.com/saiema/MuJava | K6: ---- | L6: Java | M6: Java | N6: 2014-09-04T04:43:48Z | O6: 2020-10-13T16:59:09Z | P6: 1 | Q6: 2 | R6: 3 | T6: 10 | U6: 296 | V6: 2020-10-13T16:58:59Z | W6: 41189 | X6: A | Y6: extension/clon
A7: MDEwOlJlcG9zaXRvcnk2Njg4NzgzMQ== | B7: MyPhdThesis_DemoCode | C7: shabanjokhio | D7: Muhammad Shaban | J7: https://github.com/shabanjokhio/MyPhdThesis_DemoCode | K7: ---- | L7: Java | M7: Java | N7: 2016-08-29T23:17:13Z | O7: 2020-10-07T20:15:54Z | P7: 1 | Q7: 1 | R7: 1 | U7: 4 | V7: 2020-10-07T20:06:44Z | W7: 42611 | Y7: research
A8: MDEwOlJlcG9zaXRvcnkxMTY3MjEwNTA= | B8: METtester | C8: UNF-STLab | J8: https://github.com/UNF-STLab/METtester | K8: ---- | L8: Java | M8: Java/Batchfile | N8: 2018-01-08T19:54:05Z | O8: 2020-09-16T14:49:27Z | P8: 4 | Q8: 3 | R8: 2 | S8: 2 | U8: 14 | V8: 2020-09-16T14:49:06Z | W8: 43108 | Y8: research
A9: MDEwOlJlcG9zaXRvcnkzOTg1NzUxNA== | B9: ANPER | C9: gastonscilingo | D9: Gastón Scilingo | F9: UNRC | H9: Automatic NullPointer Exception Repair | J9: https://github.com/gastonscilingo/ANPER | K9: ---- | L9: Java | M9: Java | N9: 2015-07-28T20:59:46Z | O9: 2020-08-31T18:07:15Z | P9: 2 | Q9: 2 | R9: 1 | S9: 1 | U9: 19 | V9: 2020-08-31T18:07:06Z | W9: 42213 | X9: A | Y9: research
A10: MDEwOlJlcG9zaXRvcnkyODg3MzkyMjU= | B10: myStudents | C10: phantomDai | J10: https://github.com/phantomDai/myStudents | K10: ---- | L10: HTML | M10: HTML/CSS/Java | N10: 2020-08-19T13:27:49Z | O10: 2020-08-19T13:40:45Z | P10: 1 | Q10: 1 | U10: 2 | V10: 2020-08-19T13:29:07Z | W10: 44062 | Y10: teaching

Sheet mutant
A1: repositoryId | B1: repositoryName | C1: ownerLogin | D1: ownerName | E1: ownerBio | F1: ownerCompany | G1: ownerLocation | H1: repositoryDescription | I1: topics | J1: url | K1: license | L1: primaryLanguage | M1: allLanguages | N1: repositoryCreationDate | O1: repositoryLastUpdate | P1: contributors | Q1: watchers | R1: starts | S1: forks | T1: issues | U1: commits | V1: lastCommit | W1: firstCommit | X1: Academia/Industry | Y1: Category
A2: MDEwOlJlcG9zaXRvcnkyNTgwOTc0NTA= | B2: junstar17.github.io | C2: Junstar17 | D2: Junstar17 | H2: 블로그 | J2: https://github.com/Junstar17/junstar17.github.io | K2: MIT License | L2: HTML | M2: HTML/Ruby/SCSS/JavaScript/CSS/Pug | N2: 2020-04-23T04:50:48Z | O2: 2021-06-22T07:13:02Z | P2: 1 | Q2: 1 | U2: 146 | V2: 2021-06-22T07:12:51Z | W2: 43944 | Y2: development
A3: MDEwOlJlcG9zaXRvcnkzNzY2NjIxMTI= | B3: muina | C3: vaporyhumo | D3: Rodrigo Andr√©s Contreras Vilina | F3: @recorridoCL | G3: Santiago, Chile | H3: Typesafe core for Rails applications that already use Sorbet. | I3: ruby/rails/sorbet | J3: https://github.com/vaporyhumo/muina | K3: ---- | L3: Ruby | M3: Ruby/Shell | N3: 2021-06-13T23:52:09Z | O3: 2021-06-22T05:35:34Z | P3: 1 | Q3: 1 | R3: 1 | U3: 2 | V3: 2021-06-22T05:01:51Z | W3: 44369 | X3: I | Y3: development
A4: MDEwOlJlcG9zaXRvcnkzNDczMDY5NTQ= | B4: giftlog | C4: Soki-Naka | J4: https://github.com/Soki-Naka/giftlog | K4: ---- | L4: HTML | M4: Ruby/JavaScript/HTML/SCSS | N4: 2021-03-13T07:46:49Z | O4: 2021-06-22T04:34:22Z | P4: 1 | Q4: 1 | U4: 127 | V4: 2021-06-22T04:33:30Z | W4: 44253 | Y4: teaching
A5: MDEwOlJlcG9zaXRvcnkzMjg0MTI2ODk= | B5: jcookpad | C5: junjun491 | J5: https://github.com/junjun491/jcookpad | K5: ---- | L5: Ruby | M5: Ruby/JavaScript/CSS/SCSS/HTML/Vue/Dockerfile | N5: 2021-01-10T15:17:27Z | O5: 2021-06-22T03:41:11Z | P5: 3 | Q5: 2 | U5: 149 | V5: 2021-06-22T03:40:48Z | W5: 44206
A6: MDEwOlJlcG9zaXRvcnkzNzI3MTQ3MjM= | B6: Portfolio | C6: yuma0313 | J6: https://github.com/yuma0313/Portfolio | K6: ---- | L6: Ruby | M6: Ruby/JavaScript/HTML/CoffeeScript/SCSS | N6: 2021-06-01T05:45:57Z | O6: 2021-06-22T02:33:09Z | P6: 1 | Q6: 1 | U6: 20 | V6: 2021-06-22T02:32:46Z | W6: 44348 | Y6: teaching
A7: MDEwOlJlcG9zaXRvcnkzNTU5MjU0NjE= | B7: mentalhealth_management_test | C7: ko-suke1016 | D7: こうすけ | E7: RUNTEQ15期 \r\n元飲食業人事労務 | H7: メンタルヘルスマネジメント検定3級の副教材 | J7: https://github.com/ko-suke1016/mentalhealth_management_test | K7: ---- | L7: Ruby | M7: JavaScript/Ruby/HTML/SCSS/CSS | N7: 2021-04-08T13:48:47Z | O7: 2021-06-21T19:21:03Z | P7: 1 | Q7: 1 | R7: 1 | T7: 17 | U7: 151 | V7: 2021-06-21T19:21:00Z | W7: 44294 | Y7: teaching
A8: MDEwOlJlcG9zaXRvcnkzNjkxMTkzMzE= | B8: surfing_typing | C8: ryuji55 | J8: https://github.com/ryuji55/surfing_typing | K8: ---- | L8: Ruby | M8: Ruby/JavaScript/SCSS/HTML | N8: 2021-05-20T07:25:56Z | O8: 2021-06-21T15:54:56Z | P8: 1 | Q8: 1 | T8: 4 | U8: 15 | V8: 2021-06-21T15:54:52Z | W8: 44336 | Y8: teaching
A9: MDEwOlJlcG9zaXRvcnkzMjMwMjIzNDA= | B9: best_gifter | C9: naka-no-mura | J9: https://github.com/naka-no-mura/best_gifter | K9: ---- | L9: Vue | M9: Ruby/JavaScript/CSS/HTML/Vue/SCSS | N9: 2020-12-20T07:59:40Z | O9: 2021-06-21T14:49:12Z | P9: 1 | Q9: 1 | T9: 31 | U9: 317 | V9: 2021-06-21T14:49:10Z | Y9: teaching
A10: MDEwOlJlcG9zaXRvcnkzNTEyNTU5Nzc= | B10: rr | C10: kent7k | D10: Kento | J10: https://github.com/kent7k/rr | K10: ---- | L10: Vue | M10: Dockerfile/Ruby/HTML/SCSS/Vue/JavaScript/HCL | N10: 2021-03-24T23:55:12Z | O10: 2021-06-21T11:48:51Z | P10: 1 | Q10: 1 | U10: 560 | V10: 2021-06-21T11:48:38Z | W10: 44279 | Y10: teaching
A11: MDEwOlJlcG9zaXRvcnkxNzM5NjQ4ODU= | B11: tchuang5.github.io | C11: tchuang5 | J11: https://github.com/tchuang5/tchuang5.github.io | K11: ---- | L11: HTML | M11: HTML/Ruby/Shell/SCSS/Sass | N11: 2019-03-05T14:46:19Z | O11: 2021-06-21T09:02:04Z | P11: 1 | U11: 53 | V11: 2021-06-21T09:01:55Z | W11: 43529 | Y11: development
A12: MDEwOlJlcG9zaXRvcnkzNzQ0OTgzMDE= | B12: rails_review_app | C12: KouSei089 | J12: https://github.com/KouSei089/rails_review_app | K12: ---- | L12: Ruby | M12: Ruby/JavaScript/SCSS/HTML | N12: 2021-06-07T01:09:53Z | O12: 2021-06-21T07:14:22Z | P12: 1 | Q12: 1 | U12: 26 | V12: 2021-06-21T07:14:02Z | W12: 44354
A13: MDEwOlJlcG9zaXRvcnkzNjY3MjUwNDQ= | B13: syuwakai | C13: toshiki-o23 | H13: „Éù„Éº„Éà„Éï„Ç©„É™„Ç™‰ΩúÊàê | J13: https://github.com/toshiki-o23/syuwakai | K13: ---- | L13: Ruby | M13: Ruby/JavaScript/SCSS/HTML/Dockerfile/Shell | N13: 2021-05-12T13:27:59Z | O13: 2021-06-20T11:03:28Z | P13: 1 | Q13: 1 | U13: 178 | V13: 2021-06-20T11:03:15Z | W13: 44328 | Y13: teaching
A14: MDEwOlJlcG9zaXRvcnkzNDk2MTg4NzY= | B14: book-put | C14: shrine-dragon | F14: 日本パトロール浜松営業所 | G14: 静岡県浜松市 | J14: https://github.com/shrine-dragon/book-put | K14: ---- | L14: Ruby | M14: Ruby/JavaScript/CSS/HTML/SCSS | N14: 2021-03-20T03:40:23Z | O14: 2021-06-20T11:03:08Z | P14: 1 | Q14: 1 | U14: 464 | V14: 2021-06-20T11:03:05Z | W14: 44275 | Y14: teaching
A15: MDEwOlJlcG9zaXRvcnkzNTM5NDQyNDU= | B15: iitoko | C15: kaho-t | J15: https://github.com/kaho-t/iitoko | K15: ---- | L15: Ruby | M15: Ruby/JavaScript/CSS/HTML/SCSS | N15: 2021-04-02T07:39:41Z | O15: 2021-06-20T07:45:25Z | P15: 1 | Q15: 1 | U15: 24 | V15: 2021-06-20T07:45:01Z | W15: 44288
A16: MDEwOlJlcG9zaXRvcnkxNDUxOTcyNDY= | B16: value_semantics | C16: tomdalling | D16: Tom Dalling | G16: Melbourne, Australia | H16: A gem for making value classes, with lightweight validation and coercion. | J16: https://github.com/tomdalling/value_semantics | K16: MIT License | L16: Ruby | M16: Ruby/Shell | N16: 2018-08-18T06:48:16Z | O16: 2021-06-20T05:27:16Z | P16: 1 | Q16: 3 | R16: 117 | S16: 7 | T16: 2 | U16: 166 | V16: 2021-06-20T05:26:57Z | W16: 43330 | Y16: development
A17: MDEwOlJlcG9zaXRvcnk5MjczMjMxNw== | B17: amazutech | C17: lsamon | D17: Louis Amon | J17: https://github.com/lsamon/amazutech | K17: ---- | L17: JavaScript | M17: Ruby/JavaScript/CoffeeScript/CSS/HTML/Shell/SCSS | N17: 2017-05-29T11:09:49Z | O17: 2021-06-19T16:02:23Z | P17: 1 | Q17: 1 | S17: 1 | U17: 96 | V17: 2021-06-19T16:01:40Z | W17: 42884
A18: MDEwOlJlcG9zaXRvcnkzNDEwMzAwNTc= | B18: paikajiV2 | C18: higak926 | J18: https://github.com/higak926/paikajiV2 | K18: ---- | L18: Ruby | M18: Dockerfile/Ruby/JavaScript/CoffeeScript/SCSS/Vue/HTML | N18: 2021-02-21T23:48:16Z | O18: 2021-06-19T09:10:17Z | P18: 1 | Q18: 1 | U18: 52 | V18: 2021-06-19T09:10:08Z | W18: 44136
A19: MDEwOlJlcG9zaXRvcnkzNjk3MDIzNDc= | B19: clone_insta | C19: koteharyu | D19: haryu | J19: https://github.com/koteharyu/clone_insta | K19: ---- | L19: Ruby | M19: Ruby/JavaScript/HTML/SCSS/Slim | N19: 2021-05-22T03:01:07Z | O19: 2021-06-19T03:45:40Z | P19: 1 | Q19: 1 | T19: 2 | U19: 234 | V19: 2021-06-19T03:45:38Z | W19: 44338
A20: MDEwOlJlcG9zaXRvcnkxOTU4MTA0OTQ= | B20: cqrs-es-sample-with-res | C20: RailsEventStore | J20: https://github.com/RailsEventStore/cqrs-es-sample-with-res | K20: MIT License | L20: Ruby | M20: Ruby/Makefile/JavaScript/CSS/HTML/SCSS | N20: 2019-07-08T12:47:02Z | O20: 2021-06-18T20:27:51Z | P20: 9 | Q20: 4 | R20: 65 | S20: 14 | T20: 17 | U20: 386 | V20: 2021-06-18T20:26:03Z | W20: 42122 | X20: I
A21: MDEwOlJlcG9zaXRvcnkzMzEyMTE3MDY= | B21: tokyodateclub | C21: takumi555 | H21: An app to post and share date spots | J21: https://github.com/takumi555/tokyodateclub | K21: ---- | L21: Ruby | M21: Ruby/JavaScript/HTML/SCSS/Haml | N21: 2021-01-20T06:16:53Z | O21: 2021-06-18T12:24:38Z | P21: 1 | Q21: 1 | R21: 1 | T21: 2 | U21: 270 | V21: 2021-06-18T12:24:35Z | W21: 44216 | Y21: development
A22: MDEwOlJlcG9zaXRvcnkxMjcxNTgzMjg= | B22: 2_happy_bot | C22: enextus | D22: Eduard | F22: Cybergizer | G22: Berlin | J22: https://github.com/enextus/2_happy_bot | K22: ---- | L22: CSS | M22: Ruby/JavaScript/CoffeeScript/HTML/CSS | N22: 2018-03-28T15:09:07Z | O22: 2021-06-18T10:38:08Z | P22: 1 | R22: 1 | U22: 448 | V22: 2021-06-18T10:37:55Z | W22: 43167 | X22: I
A23: MDEwOlJlcG9zaXRvcnkzNTc3MzkxMTQ= | B23: rails_cheat_sheet | C23: Paprikas | D23: Maxim Zelenkin | G23: RU | H23: Rails Cheat Sheet App | J23: https://github.com/Paprikas/rails_cheat_sheet | K23: ---- | L23: Ruby | M23: Ruby/JavaScript/CSS/HTML/Dockerfile/Shell/SCSS | N23: 2021-04-14T01:40:28Z | O23: 2021-06-17T14:13:37Z | P23: 1 | Q23: 1 | U23: 35 | V23: 2021-06-17T14:13:33Z | W23: 44300 | Y23: development
A24: MDEwOlJlcG9zaXRvcnkzNzAyNTc5ODQ= | B24: rails-for-learning | C24: machamp0714 | D24: oide tatsuya | E24: web engineer | F24: ruffnote inc. | G24: Tochigi | J24: https://github.com/machamp0714/rails-for-learning | K24: ---- | L24: Ruby | M24: Dockerfile/Ruby/JavaScript/CSS/HTML/SCSS/Slim | N24: 2021-05-24T06:59:45Z | O24: 2021-06-16T13:53:34Z | P24: 1 | Q24: 1 | T24: 3 | U24: 17 | V24: 2021-06-16T13:53:29Z | W24: 44340 | X24: I | Y24: learning
A25: MDEwOlJlcG9zaXRvcnkzMTE0NTM1OTQ= | B25: ruby-lirc | C25: telyn | D25: Telyn | E25: Part developer, part musician, all bad at looking after cuddly giraffes.\r\n\r\nCurrent areas of interest: Docker, Ruby, PlayStation 2 homebrew | F25: @researchbods | G25: Leeds, UK | H25: Ruby client for LIRC. Initial focus is on replacing irsend. Pull requests for more welcome | J25: https://github.com/telyn/ruby-lirc | K25: MIT License | L25: Ruby | M25: Ruby/Shell | N25: 2020-11-09T20:13:33Z | O25: 2021-06-16T07:41:27Z | P25: 1 | Q25: 1 | T25: 3 | U25: 51 | V25: 2021-06-16T07:41:24Z | W25: 44144 | X25: I | Y25: development
A26: MDEwOlJlcG9zaXRvcnkyOTkzMzU1MDQ= | B26: idle | C26: miyumasayama | D26: ÊòåÂ±±ÁæéÁµê/Miyu Masayama | J26: https://github.com/miyumasayama/idle | K26: ---- | L26: Ruby | M26: Ruby/JavaScript/SCSS/Slim/HTML | N26: 2020-09-28T14:30:43Z | O26: 2021-06-15T13:54:40Z | P26: 2 | Q26: 1 | T26: 4 | U26: 97 | V26: 2021-06-15T13:54:37Z | W26: 44102
A27: MDEwOlJlcG9zaXRvcnkzNjQ3NzAyODA= | B27: bager | C27: saraya103 | J27: https://github.com/saraya103/bager | K27: ---- | L27: Ruby | M27: Ruby/JavaScript/CSS/HTML/SCSS | N27: 2021-05-06T03:12:19Z | O27: 2021-06-15T05:04:39Z | P27: 1 | Q27: 1 | U27: 141 | V27: 2021-06-15T05:04:36Z | W27: 44322 | Y27: teaching
A28: MDEwOlJlcG9zaXRvcnkzNzcwMTA5NzA= | B28: bookingapp | C28: mmacampbrazil | J28: https://github.com/mmacampbrazil/bookingapp | K28: ---- | L28: Ruby | M28: Ruby/JavaScript/SCSS/CSS/HTML | N28: 2021-06-15T02:19:46Z | O28: 2021-06-15T03:20:58Z | P28: 2 | Q28: 1 | U28: 107 | V28: 2021-06-15T03:16:50Z | W28: 44267
A29: MDEwOlJlcG9zaXRvcnkyODQ0NzMwNTc= | B29: Reservation-System | C29: tsuka414 | D29: Keita Tsukaguchi | E29: 20 years old, Engineer.\r\nI am interested in machine-learning,AI.\r\n\r\nUsing Python and PHP.\r\nAlso interested in Go.\r\n | G29: Tokyo, JAPAN | J29: https://github.com/tsuka414/Reservation-System | K29: ---- | L29: Ruby | M29: Ruby/JavaScript/CSS/HTML/CoffeeScript/Dockerfile/SCSS | N29: 2020-08-02T14:02:46Z | O29: 2021-06-14T15:25:12Z | P29: 3 | Q29: 1 | R29: 1 | U29: 87 | V29: 2021-06-14T15:17:47Z | W29: 43947 | Y29: teaching
A30: MDEwOlJlcG9zaXRvcnkyNDk3MzI2NzE= | B30: psychology | C30: r-haja | H30: ÁøíÊÖ£Âåñ„Ç¢„Éó„É™ | J30: https://github.com/r-haja/psychology | K30: ---- | L30: Ruby | M30: Ruby/JavaScript/CoffeeScript/CSS/HTML/SCSS | N30: 2020-03-24T14:38:29Z | O30: 2021-06-14T10:01:44Z | P30: 2 | Q30: 1 | T30: 2 | U30: 210 | V30: 2021-06-14T09:45:49Z | W30: 43914
A31: MDEwOlJlcG9zaXRvcnkyNjgyMjM4NDQ= | B31: cocktail-hub | C31: takuya-33 | D31: takuya_33 | J31: https://github.com/takuya-33/cocktail-hub | K31: ---- | L31: Ruby | M31: Dockerfile/Ruby/JavaScript/CSS/Vue/HTML/Shell | N31: 2020-05-31T06:38:28Z | O31: 2021-06-14T01:46:14Z | P31: 1 | Q31: 1 | T31: 13 | U31: 309 | V31: 2021-06-14T01:46:12Z | W31: 43982 | Y31: teaching
A32: MDEwOlJlcG9zaXRvcnkzNzYzODcxMTM= | B32: bruegheldev | C32: stephmoore | J32: https://github.com/stephmoore/bruegheldev | K32: MIT License | L32: HTML | M32: Dockerfile/Ruby/TeX/HTML/SCSS/JavaScript | N32: 2021-06-12T21:31:22Z | O32: 2021-06-13T01:05:45Z | P32: 2 | Q32: 2 | U32: 29 | V32: 2021-06-13T01:05:28Z | W32: 44359 | Y32: development
A33: MDEwOlJlcG9zaXRvcnkxMzI5Njk1MzI= | B33: dressage | C33: jennego | D33: Jennifer Chow | E33: Frontend/Fullstack Developer. HTML, CSS, JavaScript, React.js/Gatsby, Ruby on Rails | G33: Ladysmith, BC | H33: Rails based responsive web app and api for dressage tests | J33: https://github.com/jennego/dressage | K33: ---- | L33: Ruby | M33: Ruby/JavaScript/HTML/CoffeeScript/SCSS | N33: 2018-05-11T00:42:18Z | O33: 2021-06-12T19:49:18Z | P33: 1 | U33: 195 | V33: 2021-06-12T19:49:14Z | W33: 43232 | Y33: development
A34: MDEwOlJlcG9zaXRvcnkzNDk1MzgxNTg= | B34: the_odin_project_ruby | C34: Hokie007 | D34: Hokie007 | J34: https://github.com/Hokie007/the_odin_project_ruby | K34: ---- | L34: Ruby | M34: Ruby/Shell/HTML | N34: 2021-03-19T19:44:48Z | O34: 2021-06-12T15:32:13Z | P34: 1 | Q34: 1 | U34: 17 | V34: 2021-06-12T15:32:05Z
A35: MDEwOlJlcG9zaXRvcnkzNzI5MTE5MTk= | B35: vote_local_fe | C35: vote-local | J35: https://github.com/vote-local/vote_local_fe | K35: ---- | L35: Ruby | M35: Ruby/JavaScript/HTML/SCSS | N35: 2021-06-01T17:30:39Z | O35: 2021-06-11T17:06:18Z | P35: 5 | T35: 1 | U35: 127 | V35: 2021-06-11T17:06:10Z
A36: MDEwOlJlcG9zaXRvcnkyMTk1Mzk3MzA= | B36: jas0nmjames.github.io | C36: jas0nmjames | D36: Jason | E36: Product Designer with an MBA. UX, design systems, and product management. I like to üèäüèæ‚Äç‚ôÇÔ∏è, üö¥üèæ‚Äç‚ôÇÔ∏è, and üèÉüèæ‚Äç‚ôÇÔ∏è. | G36: South Florida, USA | H36: Personal and Portfolio Site written in HTML, CSS and Markdown with Jekyll. Starting from scratch (not with a template) to learn for understanding. On a journey to learn the JAMstack. Next stop, design in Framer and build in React. | J36: https://github.com/jas0nmjames/jas0nmjames.github.io | K36: MIT License | L36: HTML | M36: HTML/CSS/Ruby/SCSS | N36: 2019-11-04T15:57:24Z | O36: 2021-06-11T16:53:45Z | P36: 1 | Q36: 1 | R36: 1 | T36: 2 | U36: 219 | V36: 2021-06-11T16:53:42Z | W36: 43773 | Y36: learning
A37: MDEwOlJlcG9zaXRvcnkzNzUzODMyMjE= | B37: cooking_blog | C37: higashitetuya | J37: https://github.com/higashitetuya/cooking_blog | K37: ---- | L37: Ruby | M37: Ruby/JavaScript/CoffeeScript/SCSS/HTML | N37: 2021-06-09T14:25:29Z | O37: 2021-06-10T14:30:01Z | P37: 1 | Q37: 1 | U37: 10 | V37: 2021-06-10T14:29:18Z | W37: 44349 | Y37: teaching
A38: MDEwOlJlcG9zaXRvcnkzNzU2OTA2MTA= | B38: ruby_tutorial | C38: rko619619 | D38: Yan | J38: https://github.com/rko619619/ruby_tutorial | K38: Apache License 2.0 | L38: Ruby | M38: Ruby/Shell | N38: 2021-06-10T12:32:31Z | O38: 2021-06-10T13:31:06Z | P38: 1 | Q38: 1 | U38: 2 | V38: 2021-06-10T13:27:56Z | W38: 44387 | Y38: teaching
A39: MDEwOlJlcG9zaXRvcnkzMzIxMjUyNw== | B39: rails_event_store | C39: RailsEventStore | H39: A Ruby implementation of an Event Store based on Active Record | I39: ruby/event-sourcing/rails/ddd/aggregate-root/event-driven/domain-driven-design/event-driven-architecture/cqrs-es/cqrs | J39: https://github.com/RailsEventStore/rails_event_store | K39: MIT License | L39: Ruby | M39: Ruby/Makefile/Shell/Elm/JavaScript/CSS/HTML | N39: 2015-03-31T22:02:32Z | O39: 2021-06-22T03:41:44Z | P39: 16 | Q39: 32 | R39: 987 | S39: 85 | T39: 434 | U39: 4990 | V39: 2021-06-10T07:21:06Z | W39: 42094 | Y39: development
A40: MDEwOlJlcG9zaXRvcnkzMzIwOTk2NDU= | B40: gcmc2 | C40: AkioMabuchi | D40: Akio Mabuchi | E40: I'm developing Web services by using Rails and Laravel and games by using Unity. | F40: Independent | G40: Kyoto | J40: https://github.com/AkioMabuchi/gcmc2 | K40: ---- | L40: Ruby | M40: Ruby/JavaScript/CSS/HTML/SCSS | N40: 2021-01-23T01:06:17Z | O40: 2021-06-10T04:32:31Z | P40: 1 | Q40: 1 | U40: 39 | V40: 2021-06-10T04:32:13Z | W40: 44219
...

Sheet mutmut
A1: repositoryId | B1: repositoryName | C1: ownerLogin | D1: ownerName | E1: ownerBio | F1: ownerCompany | G1: ownerLocation | H1: repositoryDescription | I1: topics | J1: url | K1: license | L1: primaryLanguage | M1: allLanguages | N1: repositoryCreationDate | O1: repositoryLastUpdate | P1: contributors | Q1: watchers | R1: starts | S1: forks | T1: issues | U1: commits | V1: lastCommit | W1: firstCommit | X1: Academia/Industry/Public | Y1: Category
A2: MDEwOlJlcG9zaXRvcnkzMjc3MTQ0NDA= | B2: cookiecutter-cruft-poetry-tox-pre-commit-ci-cd-instance | C2: TeoZosa | D2: Teofilo Zosa | E2: Likes: coding, cats, and coding cats. | F2: SonoSim | G2: San Francisco, CA | J2: https://github.com/TeoZosa/cookiecutter-cruft-poetry-tox-pre-commit-ci-cd-instance | K2: Apache License 2.0 | L2: Makefile | M2: Makefile/Python/Jupyter Notebook/Dockerfile/Shell | N2: 2021-01-07T20:10:55Z | O2: 2021-06-18T13:35:02Z | P2: 2 | Q2: 1 | U2: 323 | V2: 2021-06-18T13:34:57Z | W2: 44203 | X2: I | Y2: development
A3: MDEwOlJlcG9zaXRvcnkzMjczODUxMzI= | B3: cookiecutter-cruft-poetry-tox-pre-commit-ci-cd | C3: TeoZosa | D3: Teofilo Zosa | E3: Likes: coding, cats, and coding cats. | F3: SonoSim | G3: San Francisco, CA | H3: DevSecOps-centric Cookiecutter template for Python packages and/or projects | J3: https://github.com/TeoZosa/cookiecutter-cruft-poetry-tox-pre-commit-ci-cd | K3: Apache License 2.0 | L3: Python | M3: Shell/Makefile/Python/Jupyter Notebook/Dockerfile | N3: 2021-01-06T17:36:26Z | O3: 2021-06-18T13:29:11Z | P3: 1 | Q3: 1 | R3: 1 | U3: 809 | V3: 2021-06-18T13:29:08Z | W3: 44201 | X3: I | Y3: development
A4: MDEwOlJlcG9zaXRvcnkzNjM3NTY1NjU= | B4: simple-atm-controller | C4: TeoZosa | D4: Teofilo Zosa | E4: Likes: coding, cats, and coding cats. | F4: SonoSim | G4: San Francisco, CA | J4: https://github.com/TeoZosa/simple-atm-controller | K4: Apache License 2.0 | L4: Makefile | M4: Makefile/Python | N4: 2021-05-02T21:47:43Z | O4: 2021-06-18T13:27:27Z | P4: 1 | Q4: 1 | U4: 78 | V4: 2021-06-18T13:27:24Z | W4: 44318 | X4: I | Y4: development
A5: MDEwOlJlcG9zaXRvcnkzMDM1NjU0Nzk= | B5: structlog-sentry-logger | C5: TeoZosa | D5: Teofilo Zosa | E5: Likes: coding, cats, and coding cats. | F5: SonoSim | G5: San Francisco, CA | H5: A multi-purpose, pre-configured, performance-optimized structlog logger with (optional) Sentry integration via structlog-sentry | I5: logging/sentry/structlog/structured-logging | J5: https://github.com/TeoZosa/structlog-sentry-logger | K5: Apache License 2.0 | L5: Python | M5: Makefile/Python | N5: 2020-10-13T02:25:01Z | O5: 2021-06-18T13:21:55Z | P5: 1 | Q5: 1 | R5: 1 | U5: 617 | V5: 2021-06-18T13:21:52Z | W5: 44097 | X5: I | Y5: development
A6: MDEwOlJlcG9zaXRvcnkxMzcyMjQ0MDE= | B6: mbtest | C6: brunns | D6: Simon Brunning | E6: Father. Nerd. Pythonista. Agileista. Guardian reader. Secularist. Rationalist and empiricist. Comedy groupie. Good hugger. Music lover. Radio 4. \r\n\r\n@brunns | F6: @ThoughtWorksInc | G6: London | H6: Opinionated Python wrapper & utils for the Mountebank over the wire test double tool | J6: https://github.com/brunns/mbtest | K6: MIT License | L6: Python | M6: Python/Makefile | N6: 2018-06-13T14:07:52Z | O6: 2021-06-17T12:26:55Z | P6: 1 | Q6: 1 | R6: 23 | S6: 11 | T6: 18 | U6: 405 | V6: 2021-06-17T12:26:45Z | W6: 43264
