Workbook

Sheet Tools
A1: Source | B1: Name | C1: Year | D1: Application | E1: Domain (generalization)
A2: Papadakis et al. 2018 | B2: mutate [335] | C2: N/A | D2: C | E2: C/C++
A3: Papadakis et al. 2018 | B3: Jester [336] | C3: 2001 | D3: Java | E3: Java
A4: Papadakis et al. 2018 | B4: Proteum [337] | C4: 2001 | D4: C | E4: C/C++
A5: Papadakis et al. 2018 | B5: mutgen [338, 339] | C5: 2003 | D5: C | E5: C/C++
A6: Papadakis et al. 2018 | B6: muJava [9, 340, 341] | C6: 2004 | D6: Java | E6: Java
A7: Papadakis et al. 2018 | B7: ByteME [342] | C7: 2006 | D7: Java | E7: Java
A8: Papadakis et al. 2018 | B8: SQLMutation [343] | C8: 2006 | D8: SQL | E8: SQL
A9: Papadakis et al. 2018 | B9: Jumble [344] | C9: 2007 | D9: Java | E9: Java
A10: Papadakis et al. 2018 | B10: ESTP [345] | C10: 2008 | D10: C | E10: C/C++
A11: Papadakis et al. 2018 | B11: Not Named [346] | C11: 2008 | D11: Sulu | E11: Others programming languages
A12: Papadakis et al. 2018 | B12: Milu [347] | C12: 2008 | D12: C | E12: C/C++
A13: Papadakis et al. 2018 | B13: Not Named [304] | C13: 2008 | D13: NuSMV models | E13: Model/Specification
A14: Papadakis et al. 2018 | B14: Not Named [348] | C14: 2008 | D14: Code generated from Simulink models | E14: Simulink
... A128: GitHub | B128: Muter | C128: 2018 | D128: Swift | E128: Others programming languages

Sheet Tools-Year
A1: Year | B1: #Tools | C1: Accumulated
A2: 2001 | B2: =COUNTIF(Tools!C$2:C$128,A2) -> 2 | C2: =B2 -> 2
A3: 2002 | B3: =COUNTIF(Tools!C$2:C$128,A3) -> 0 | C3: =C2+B3 -> 2
A4: 2003 | B4: =COUNTIF(Tools!C$2:C$128,A4) -> 1 | C4: =C3+B4 -> 3
A5: 2004 | B5: =COUNTIF(Tools!C$2:C$128,A5) -> 1 | C5: =C4+B5 -> 4
A6: 2005 | B6: =COUNTIF(Tools!C$2:C$128,A6) -> 0 | C6: =C5+B6 -> 4
A7: 2006 | B7: =COUNTIF(Tools!C$2:C$128,A7) -> 2 | C7: =C6+B7 -> 6
A8: 2007 | B8: =COUNTIF(Tools!C$2:C$128,A8) -> 1 | C8: =C7+B8 -> 7
A9: 2008 | B9: =COUNTIF(Tools!C$2:C$128,A9) -> 8 | C9: =C8+B9 -> 15
A10: 2009 | B10: =COUNTIF(Tools!C$2:C$128,A10) -> 10 | C10: =C9+B10 -> 25
A11: 2010 | B11: =COUNTIF(Tools!C$2:C$128,A11) -> 7 | C11: =C10+B11 -> 32
A12: 2011 | B12: =COUNTIF(Tools!C$2:C$128,A12) -> 9 | C12: =C11+B12 -> 41
A13: 2012 | B13: =COUNTIF(Tools!C$2:C$128,A13) -> 5 | C13: =C12+B13 -> 46
A14: 2013 | B14: =COUNTIF(Tools!C$2:C$128,A14) -> 8 | C14: =C13+B14 -> 54
... A21: 2020 | B21: =COUNTIF(Tools!C$2:C$128,A21) -> 8 | C21: =C20+B21 -> 126
A22: 2021 | B22: =COUNTIF(Tools!C$2:C$128,A22) -> 0
A23: 2022 | B23: =COUNTIF(Tools!C$2:C$128,A23) -> 0

Sheet Tools-domain
A1: Domain | B1: #Tools | E1: Domain | F1: #Tools
A2: Java | B2: =COUNTIF(Tools!E$2:E$128,A2) -> 20 | E2: Java | F2: =B2 -> 20
A3: C/C++ | B3: =COUNTIF(Tools!E$2:E$128,A3) -> 18 | E3: C/C++ | F3: =B3 -> 18
A4: Others | B4: =COUNTIF(Tools!E$2:E$128,A4) -> 18 | E4: Model/Specification | F4: =B5 -> 13
A5: Model/Specification | B5: =COUNTIF(Tools!E$2:E$128,A5) -> 13 | E5: Web | F5: =B7 -> 9
A6: Others programming languages | B6: =COUNTIF(Tools!E$2:E$128,A6) -> 11 | E6: Android | F6: =B8 -> 6
A7: Web | B7: =COUNTIF(Tools!E$2:E$128,A7) -> 9 | E7: Security | F7: =B9 -> 5
A8: Android | B8: =COUNTIF(Tools!E$2:E$128,A8) -> 6 | E8: SQL | F8: =B10 -> 3
A9: Security | B9: =COUNTIF(Tools!E$2:E$128,A9) -> 5 | E9: JavaScript | F9: =B11 -> 3
A10: SQL | B10: =COUNTIF(Tools!E$2:E$128,A10) -> 3 | E10: Python | F10: =B12 -> 4
A11: JavaScript | B11: =COUNTIF(Tools!E$2:E$128,A11) -> 3 | E11: Solidity | F11: =B13 -> 3
A12: Python | B12: =COUNTIF(Tools!E$2:E$128,A12) -> 4 | E12: Others | F12: =B4+B6+SUM(B14:B20) -> 43
A13: Solidity | B13: =COUNTIF(Tools!E$2:E$128,A13) -> 3
A14: Simulink | B14: =COUNTIF(Tools!E$2:E$128,A14) -> 2
A15: AspectJ | B15: =COUNTIF(Tools!E$2:E$128,A15) -> 2
A16: .Net | B16: =COUNTIF(Tools!E$2:E$128,A16) -> 2
A17: PHP | B17: =COUNTIF(Tools!E$2:E$128,A17) -> 2
A18: C# | B18: =COUNTIF(Tools!E$2:E$128,A18) -> 1
A19: Ruby | B19: =COUNTIF(Tools!E$2:E$128,A19) -> 1
A20: Unspecified | B20: =COUNTIF(Tools!E$2:E$128,A20) -> 4
