Workbook

Sheet Data
A1: PK daily 21 September 2017 - 6 October 2019
A2: Last edit 8/11/19 | T2: =ROUND((0.6105*(EXP((17.273*F2)/(F2+237.3))))*I2/100,3) -> 0 | U2: =ROUND((0.6105*(EXP((17.273*F2)/(F2+237.3))))*(100-I2)/100,3) -> 0.611
C3: MJ/m2/d | E3: C | F3: C | G3: C | H3: % | I3: % | J3: m/s | K3: m/s | L3: mm | M3: mm | N3: C | O3: C | P3: C | Q3: C | R3: C | S3: C | T3: kPa | U3: kPa
A4: Date | B4: DOY | C4: Solar | D4: Reflected | E4: Tav | F4: Tmax | G4: Tmin | H4: Rhav | I4: Rhmin | J4: Wind | K4: WindX | L4: PPT | M4: SnowD | N4: Tsnow | O4: IRTSurfA | P4: IRTSurfX | Q4: IRTSurfn | R4: Tsoil005 | S4: Tsoil50 | T4: Vapres | U4: vpdX | V4: SoG | W4: TSoG | X4: YrMn | Y4: Year | AA4: Row Labels | AB4: Average of Solar | AC4: Average of Reflected | AD4: Average of Tav | AE4: Average of Tmax | AF4: Average of Tmin | AG4: Max of Tmax | AH4: Min of Tmin | AI4: Average of Rhav | AJ4: Average of Rhmin | AK4: Sum of PPT | AL4: Max of PPT | AM4: Average of Wind | AN4: Average of WindX | AO4: Max of WindX | AP4: Average of Tsoil005 | AQ4: Average of Tsoil50 | AR4: Average of IRTSurfA | AS4: Average of IRTSurfX | AT4: Average of IRTSurfn | AU4: Average of Vapres | AV4: Average of vpdX | AW4: Max of vpdX | AX4: Max of SoG | AY4: Max of TSoG | BB4: Row Labels | BC4: Average of Solar | BD4: Average of Reflected | BE4: Average of Tav | BF4: Average of Tmax | BG4: Average of Tmin | BH4: Max of Tmax | BI4: Min of Tmin | BJ4: Average of Rhav | BK4: Average of Rhmin | BL4: Average of Wind | BM4: Average of WindX | BN4: Max of WindX | BO4: Sum of PPT | BP4: Max of PPT | BQ4: Max of SnowD | BR4: Average of Tsoil005 | BS4: Average of Tsoil50 | BT4: Average of IRTSurfA | BU4: Average of IRTSurfX | BV4: Average of IRTSurfn | BW4: Average of Vapres | BX4: Average of vpdX | BY4: Max of vpdX | CA4: Year | CB4: Solar | CC4: Refctd | CD4: Tav | CE4: Tmax | CF4: Tmin | CG4: Txmax | CH4: Tnmin | CI4: Rhav | CJ4: Rhmin | CK4: Wind | CL4: WindX | CM4: WindXX | CN4: PPT | CO4: 1dXppt | CP4: SnowD | CQ4: Tsoil005 | CR4: Tsoil50 | CS4: IRTSurfA | CT4: IRTSurfX | CU4: IRTSurfn | CV4: Vapres | CW4: vpd | CX4: vpdX | CY4: Trange | CZ4: Eref | DA4: CMD | DC4: Row Labels | DD4: Sum of Eref | DE4: Sum of CMD
A5: 42999 | B5: 264 | C5: 6.82 | D5: 4.1 | E5: 1.9 | F5: 5.5 | G5: -0.1 | H5: 97.5 | I5: 70.2 | J5: 1.6 | K5: 5.1 | L5: 9.14 | M5: 0 | N5: -999 | O5: 0.6 | P5: 6.1 | Q5: -1.4 | R5: 3 | S5: 8.5 | T5: 0.634 | U5: 0.269 | V5: 0 | W5: =IF(V5>0,N5,-999) -> -999 | X5: 201709 | Y5: 2017 | AA5: 201709 | AB5: 10.228 | AC5: 2.545 | AD5: 5.59 | AE5: 12.91 | AF5: -1 | AG5: 19.8 | AH5: -3.3 | AI5: 98.24 | AJ5: 49.6 | AK5: 13.204 | AL5: 9.14 | AM5: 1.16 | AN5: 5.09 | AO5: 6.2 | AP5: 6.69 | AQ5: 8.05 | AR5: 5.33 | AS5: 23.41 | AT5: -5.04 | AU5: 0.7184 | AV5: 0.8422 | AW5: 1.584 | AX5: 0 | AY5: -999 | BB5: 2017 | BC5: 4.8243137 | BD5: 2.5821569 | BE5: -2.8862745 | BF5: 2.5705882 | BG5: -7.8058824 | BH5: 19.8 | BI5: -27.9 | BJ5: 96.629412 | BK5: 63.917647 | BL5: 1.3127451 | BM5: 5.0470588 | BN5: 9.8 | BO5: 304.81 | BP5: 30.24 | BQ5: 815 | BR5: 0.85882353 | BS5: 3.4147059 | BT5: -5.722549 | BU5: 1.6960784 | BV5: -13.940196 | BW5: 0.45596078 | BX5: 0.36939216 | BY5: 1.92 | CA5: =BB5 -> 2017 | DC5: 2017 | DD5: 27 | DE5: 0
A6: 43000 | B6: 265 | C6: 12.31 | D6: 2.5 | E6: 3.9 | F6: 9.2 | G6: -0.9 | H6: 96 | I6: 44.2 | J6: 1.3 | K6: 5.6 | L6: 0 | M6: 0 | N6: -999 | O6: 4.6 | P6: 20.9 | Q6: -2.1 | R6: 6 | S6: 8.2 | T6: 0.514 | U6: 0.649 | V6: =IF(X6<X7,M6,0) -> 0 | W6: =IF(V6>0,N6,-999) -> -999 | X6: 201709 | Y6: 2017 | AA6: 201710 | AB6: 6.9548387 | AC6: 2.62 | AD6: 0.98387097 | AE6: 7.2032258 | AF6: -4.7032258 | AG6: 18.3 | AH6: -12.2 | AI6: 96.296774 | AJ6: 48.548387 | AK6: 70.866 | AL6: 17.272 | AM6: 1.4193548 | AN6: 5.4903226 | AO6: 9.8 | AP6: 1 | AQ6: 4.883871 | AR6: -1.2580645 | AS6: 7.1612903 | AT6: -8.4064516 | AU6: 0.46570968 | AV6: 0.59974194 | AW6: 1.92 | AX6: 0 | AY6: -999 | BB6: 2018 | BC6: 12.204904 | BD6: 5.0434521 | BE6: 1.910411 | BF6: 8.3005479 | BG6: -4.7413699 | BH6: 32.1 | BI6: -30 | BJ6: 96.359452 | BK6: 53.257808 | BL6: 1.4715068 | BM6: 5.3506849 | BN6: 12.1 | BO6: 883.004 | BP6: 22.2 | BQ6: 1551 | BR6: 4.6076712 | BS6: 4.7013699 | BT6: 0.44356164 | BU6: 12.31726 | BV6: -10.013699 | BW6: 0.5430137 | BX6: 0.77894247 | BY6: 4.05 | CA6: =BB6 -> 2018 | CB6: =ROUND(BC6,2) -> 12.2 | CC6: =ROUND(BD6,2) -> 5.04 | CD6: =ROUND(BE6,1) -> 1.9 | CE6: =ROUND(BF6,1) -> 8.3 | CF6: =ROUND(BG6,1) -> -4.7 | CG6: =ROUND(BH6,1) -> 32.1 | CH6: =ROUND(BI6,1) -> -30 | CI6: =ROUND(BJ6,1) -> 96.4 | CJ6: =ROUND(BK6,1) -> 53.3 | CK6: =ROUND(BL6,1) -> 1.5 | ... CU6: =ROUND(BV6,1) -> -10 | CV6: =ROUND(BW6,3) -> 0.543 | CW6: =ROUND(BX6,3) -> 0.779 | CX6: =ROUND(BY6,3) -> 4.05 | CY6: =CE6-CF6 -> 13 | CZ6: =DD6 -> 579 | DA6: =DE6 -> 316.7 | DC6: 2018 | DD6: 579 | DE6: 316.7
A7: 43001 | B7: 266 | C7: 5.55 | D7: 1.18 | E7: 2.6 | F7: 8.1 | G7: -3.2 | H7: 98.4 | I7: 59 | J7: 0.6 | K7: 3.4 | L7: 0 | M7: 0 | N7: -999 | O7: 3 | P7: 16.5 | Q7: -7.4 | R7: 4.9 | S7: 8 | T7: 0.637 | U7: 0.443 | V7: =IF(X7<X8,M7,0) -> 0 | W7: =IF(V7>0,N7,-999) -> -999 | X7: 201709 | Y7: 2017 | AA7: 201711 | AB7: 3.0246667 | AC7: 2.7 | AD7: -4.2266667 | AE7: -0.43 | AF7: -7.81 | AG7: 8.7 | AH7: -21.3 | AI7: 97.42 | AJ7: 74.463333 | AK7: 117.66 | AL7: 30.24 | AM7: 1.6166667 | AN7: 5.4566667 | AO7: 8.2 | AP7: -0.10333333 | AQ7: 2.2 | AR7: -6.7666667 | AS7: -2.8733333 | AT7: -14.953333 | AU7: 0.45363333 | AV7: 0.16646667 | AW7: 0.478 | AX7: 336 | AY7: -1 | BB7: 2019 | BC7: 14.508638 | BD7: 5.7248746 | BE7: 2.8491039 | BF7: 9.702509 | BG7: -4.5014337 | BH7: 27.5 | BI7: -30.3 | BJ7: 96.570609 | BK7: 47.196416 | BL7: 1.3530466 | BM7: 5.2207885 | BN7: 9.6 | BO7: 549.122 | BP7: 28.956 | BQ7: 974 | BR7: 6.1767025 | BS7: 5.7315412 | BT7: 1.7752688 | BU7: 14.914337 | BV7: -9.2824373 | BW7: 0.57337993 | BX7: 0.85002867 | BY7: 3.244 | CA7: =BB7 -> 2019 | DC7: 2019 | DD7: 524 | DE7: 275.4
A8: 43002 | B8: 267 | C8: 7.91 | D8: 1.73 | E8: 4.4 | F8: 12.1 | G8: -3.3 | H8: 99.2 | I8: 63.7 | J8: 0.6 | K8: 3.8 | L8: 0.508 | M8: 0 | N8: -999 | O8: 4.9 | P8: 24.8 | Q8: -7.8 | R8: 5 | S8: 7.9 | T8: 0.899 | U8: 0.512 | V8: =IF(X8<X9,M8,0) -> 0 | W8: =IF(V8>0,N8,-999) -> -999 | X8: 201709 | Y8: 2017 | AA8: 201712 | AB8: 2.6922581 | AC8: 2.4422581 | AD8: -8.1935484 | AE8: -2.4935484 | AF8: -13.1 | AG8: 10.7 | AH8: -27.9 | AI8: 95.677419 | AJ8: 73.7 | AK8: 103.08 | AL8: 14.16 | AM8: 0.96129032 | AN8: 4.1935484 | AO8: 7.3 | AP8: -0.23225806 | AQ8: 1.6258065 | AR8: -12.741935 | AS8: -6.3516129 | AT8: -21.364516 | AU8: 0.36380645 | AV8: 0.18290323 | AW8: 0.953 | AX8: 777 | AY8: -1.7 | BB8: Grand Total | BC8: 12.057346 | BD8: 4.9617694 | BE8: 1.60563 | BF8: 8.0414209 | BG8: -5.0706434 | BH8: 32.1 | BI8: -30.3 | BJ8: 96.475335 | BK8: 52.448391 | BL8: 1.405496 | BM8: 5.2605898 | BN8: 12.1 | BO8: 1736.936 | BP8: 30.24 | BQ8: 1551 | BR8: 4.6819035 | BS8: 4.9107239 | BT8: 0.098525469 | BU8: 11.836327 | BV8: -10.277078 | BW8: 0.54246783 | BX8: 0.74953083 | BY8: 4.05 | DC8: Grand Total | DD8: 1130 | DE8: 592.1
A9: 43003 | B9: 268 | C9: 7.8 | D9: 1.69 | E9: 6.2 | F9: 11.5 | G9: -1.3 | H9: 99.7 | I9: 63.4 | J9: 0.9 | K9: 5.1 | L9: 0.254 | M9: 0 | N9: -999 | O9: 6.3 | P9: 19.8 | Q9: -4.7 | R9: 6.4 | S9: 7.8 | T9: 0.86 | U9: 0.496 | V9: =IF(X9<X10,M9,0) -> 0 | W9: =IF(V9>0,N9,-999) -> -999 | X9: 201709 | Y9: 2017 | AA9: 201801 | AB9: 3.0303226 | AC9: 2.7403226 | AD9: -4.5193548 | AE9: -0.30645161 | AF9: -9.0709677 | AG9: 7.4 | AH9: -18.5 | AI9: 97.190323 | AJ9: 75.841935 | AK9: 102.84 | AL9: 15.48 | AM9: 1.5225806 | AN9: 5.2193548 | AO9: 12.1 | AP9: -0.21612903 | AQ9: 1.3 | AR9: -8.0451613 | AS9: -2.8258065 | AT9: -17.432258 | AU9: 0.45332258 | AV9: 0.15448387 | AW9: 0.429 | AX9: 1071 | AY9: -0.9
A10: 43004 | B10: 269 | C10: 9.59 | D10: 2.2 | E10: 7 | F10: 15.4 | G10: -0.3 | H10: 99.1 | I10: 45.4 | J10: 0.7 | K10: 6.2 | L10: 0 | M10: 0 | N10: -999 | O10: 6.7 | P10: 29.8 | Q10: -5.6 | R10: 8.1 | S10: 7.8 | T10: 0.794 | U10: 0.955 | V10: =IF(X10<X11,M10,0) -> 0 | W10: =IF(V10>0,N10,-999) -> -999 | X10: 201709 | Y10: 2017 | AA10: 201802 | AB10: 6.0807143 | AC10: 5.2707143 | AD10: -8.9178571 | AE10: -3.4392857 | AF10: -14.578571 | AG10: 3.5 | AH10: -30 | AI10: 94.492857 | AJ10: 65.703571 | AK10: 114.48 | AL10: 20.76 | AM10: 1.925 | AN10: 6.425 | AO10: 11.5 | AP10: -0.078571429 | AQ10: 1.2071429 | AR10: -12.5 | AS10: -6.0821429 | AT10: -22.928571 | AU10: 0.32742857 | AV10: 0.17292857 | AW10: 0.426 | AX10: 1385 | AY10: -1.4
A11: 43005 | B11: 270 | C11: 15.24 | D11: 3.54 | E11: 7.6 | F11: 19.2 | G11: -1.2 | H11: 99.5 | I11: 37.4 | J11: 0.9 | K11: 5 | L11: 0 | M11: 0 | N11: -999 | O11: 7.1 | P11: 32.8 | Q11: -6.8 | R11: 8.6 | S11: 7.9 | T11: 0.832 | U11: 1.392 | V11: =IF(X11<X12,M11,0) -> 0 | W11: =IF(V11>0,N11,-999) -> -999 | X11: 201709 | Y11: 2017 | AA11: 201803 | AB11: 10.409032 | AC11: 8.8922581 | AD11: -3.8548387 | AE11: 2.4612903 | AF11: -10.66129 | AG11: 10.5 | AH11: -18 | AI11: 95.522581 | AJ11: 57.645161 | AK11: 103.2 | AL11: 21.84 | AM11: 1.6129032 | AN11: 5.4870968 | AO11: 10.3 | AP11: -0.029032258 | AQ11: 1.1483871 | AR11: -8.2258065 | AS11: -1.2096774 | AT11: -19.477419 | AU11: 0.40554839 | AV11: 0.35077419 | AW11: 0.871 | AX11: 1461 | AY11: -0.4
A12: 43006 | B12: 271 | C12: 15.05 | D12: 3.54 | E12: 9.8 | F12: 19.7 | G12: 0.2 | H12: 98.6 | I12: 32.4 | J12: 1.4 | K12: 5.1 | L12: 0 | M12: 0 | N12: -999 | O12: 8.5 | P12: 32 | Q12: -5.5 | R12: 9.8 | S12: 8 | T12: 0.743 | U12: 1.551 | V12: =IF(X12<X13,M12,0) -> 0 | W12: =IF(V12>0,N12,-999) -> -999 | X12: 201709 | Y12: 2017 | AA12: 201804 | AB12: 16.101333 | AC12: 12.056 | AD12: 0.62666667 | AE12: 7.28 | AF12: -5.8166667 | AG12: 20.8 | AH12: -14.8 | AI12: 95.946667 | AJ12: 46.126667 | AK12: 117.06 | AL12: 22.2 | AM12: 1.6366667 | AN12: 5.24 | AO12: 8.9 | AP12: -0.02 | AQ12: 1.02 | AR12: -3.67 | AS12: 0.46333333 | AT12: -10.863333 | AU12: 0.4411 | AV12: 0.6456 | AW12: 2.129 | AX12: 1049 | AY12: -0.1
A13: 43007 | B13: 272 | C13: 10.57 | D13: 2.47 | E13: 8.9 | F13: 19.8 | G13: 0.4 | H13: 98.2 | I13: 31.4 | J13: 1.4 | K13: 5.4 | L13: 3.302 | M13: 0 | N13: -999 | O13: 8.2 | P13: 31.7 | Q13: -5.3 | R13: 9 | S13: 8.2 | T13: 0.725 | U13: 1.584 | V13: =IF(X13<X14,M13,0) -> 0 | W13: =IF(V13>0,N13,-999) -> -999 | X13: 201709 | Y13: 2017 | AA13: 201805 | AB13: 22.467419 | AC13: 9.3580645 | AD13: 8.1 | AE13: 16.467742 | AF13: -0.8 | AG13: 23.4 | AH13: -3.9 | AI13: 97.958065 | AJ13: 35.419355 | AK13: 38.598 | AL13: 19.5 | AM13: 1.3967742 | AN13: 5.2741935 | AO13: 7.5 | AP13: 5.0129032 | AQ13: 2.7032258 | AR13: 5.4451613 | AS13: 17.964516 | AT13: -3.4225806 | AU13: 0.64522581 | AV13: 1.2936774 | AW13: 2.259 | AX13: 0 | AY13: -999
A14: 43008 | B14: 273 | C14: 11.44 | D14: 2.5 | E14: 3.6 | F14: 8.6 | G14: -0.3 | H14: 96.2 | I14: 48.9 | J14: 2.2 | K14: 6.2 | L14: 0 | M14: 0 | N14: -999 | O14: 3.4 | P14: 19.7 | Q14: -3.8 | R14: 6.1 | S14: 8.2 | T14: 0.546 | U14: 0.571 | V14: =IF(X14<X15,M14,0) -> 0 | W14: =IF(V14>0,N14,-999) -> -999 | X14: 201709 | Y14: 2017 | AA14: 201806 | AB14: 19.361667 | AC14: 3.5933333 | AD14: 8.42 | AE14: 15.483333 | AF14: 0.66666667 | AG14: 24.7 | AH14: -4.8 | AI14: 97.373333 | AJ14: 40.313333 | AK14: 66.802 | AL14: 14.224 | AM14: 1.67 | AN14: 5.8866667 | AO14: 10 | AP14: 10.573333 | AQ14: 7.91 | AR14: 11.116667 | AS14: 31.67 | AT14: -1.6333333 | AU14: 0.70113333 | AV14: 1.1262333 | AW14: 2.318 | AX14: 0 | AY14: -999
A15: 43009 | B15: 274 | C15: 7.56 | D15: 2.62 | E15: 1 | F15: 3.6 | G15: -0.2 | H15: 96.2 | I15: 73.8 | J15: 1.7 | K15: 6.5 | L15: 3.81 | M15: 0 | N15: -999 | O15: 1.2 | P15: 15.1 | Q15: -1.6 | R15: 3.3 | S15: 7.9 | T15: 0.583 | U15: 0.207 | V15: =IF(X15<X16,M15,0) -> 0 | W15: =IF(V15>0,N15,-999) -> -999 | X15: 201710 | Y15: 2017 | AA15: 201807 | AB15: 24.150645 | AC15: 5.0358065 | AD15: 13.219355 | AE15: 21.616129 | AF15: 3.4032258 | AG15: 29.3 | AH15: -1.9 | AI15: 93.219355 | AJ15: 29.093548 | AK15: 29.21 | AL15: 13.208 | AM15: 1.4903226 | AN15: 5.616129 | AO15: 8.4 | AP15: 15.945161 | AQ15: 11.387097 | AR15: 16.706452 | AS15: 40.916129 | AT15: -0.0064516129 | AU15: 0.69022581 | AV15: 2.0060968 | AW15: 3.315 | AX15: 0 | AY15: -999
A16: 43010 | B16: 275 | C16: 8.8 | D16: 1.74 | E16: 1 | F16: 4.9 | G16: -0.5 | H16: 94.7 | I16: 64.3 | J16: 3.5 | K16: 8.4 | L16: 0 | M16: 0 | N16: -999 | O16: 0.7 | P16: 13.2 | Q16: -3.4 | R16: 2.8 | S16: 7.6 | T16: 0.557 | U16: 0.309 | V16: =IF(X16<X17,M16,0) -> 0 | W16: =IF(V16>0,N16,-999) -> -999 | X16: 201710 | Y16: 2017 | AA16: 201808 | AB16: 17.929677 | AC16: 4.0970968 | AD16: 12.109677 | AE16: 20.625806 | AF16: 2.7096774 | AG16: 32.1 | AH16: -2.3 | AI16: 93.793548 | AJ16: 34.041935 | AK16: 25.4 | AL16: 14.732 | AM16: 1.3903226 | AN16: 5.4483871 | AO16: 8 | AP16: 14.367742 | AQ16: 12.406452 | AR16: 13.83871 | AS16: 37.103226 | AT16: -1.7806452 | AU16: 0.76029032 | AV16: 1.8006129 | AW16: 4.05 | AX16: 0 | AY16: -999
A17: 43011 | B17: 276 | C17: 14.03 | D17: 3.2 | E17: 1.5 | F17: 9.3 | G17: -5.8 | H17: 92.2 | I17: 39.6 | J17: 1.4 | K17: 5.8 | L17: 0 | M17: 0 | N17: -999 | O17: -0.3 | P17: 16.9 | Q17: -11.8 | R17: 3.2 | S17: 7.2 | T17: 0.464 | U17: 0.707 | V17: =IF(X17<X18,M17,0) -> 0 | W17: =IF(V17>0,N17,-999) -> -999 | X17: 201710 | Y17: 2017 | AA17: 201809 | AB17: 12.257 | AC17: 2.6256667 | AD17: 5.5133333 | AE17: 12.393333 | AF17: -0.89333333 | AG17: 23.2 | AH17: -3.6 | AI17: 98.523333 | AJ17: 49.43 | AK17: 68.072 | AL17: 20.828 | AM17: 1.1166667 | AN17: 4.8366667 | AO17: 7.8 | AP17: 7.7933333 | AQ17: 8.8066667 | AR17: 6.5533333 | AS17: 24.083333 | AT17: -3.4466667 | AU17: 0.67596667 | AV17: 0.81916667 | AW17: 2.237 | AX17: 0 | AY17: -999
A18: 43012 | B18: 277 | C18: 13.75 | D18: 3.26 | E18: 2.3 | F18: 15.5 | G18: -7.1 | H18: 96.3 | I18: 24.5 | J18: 0.7 | K18: 3.7 | L18: 0 | M18: 0 | N18: -999 | O18: 0 | P18: 23.8 | Q18: -13.8 | R18: 2.6 | S18: 6.9 | T18: 0.431 | U18: 1.329 | V18: =IF(X18<X19,M18,0) -> 0 | W18: =IF(V18>0,N18,-999) -> -999 | X18: 201710 | Y18: 2017 | AA18: 201810 | AB18: 8.386129 | AC18: 2.1351613 | AD18: 1.4741935 | AE18: 8.1645161 | AF18: -3.9612903 | AG18: 17 | AH18: -11 | AI18: 97.458065 | AJ18: 53.745161 | AK18: 70.864 | AL18: 13.42 | AM18: 1.1387097 | AN18: 4.6967742 | AO18: 7.5 | AP18: 2.083871 | AQ18: 4.6645161 | AR18: 0.2 | AS18: 11.406452 | AT18: -6.6645161 | AU18: 0.53174194 | AV18: 0.607 | AW18: 1.621 | AX18: 156 | AY18: 0
A19: 43013 | B19: 278 | C19: 13.44 | D19: 3.18 | E19: 5.1 | F19: 18.3 | G19: -3.8 | H19: 85.6 | I19: 8.7 | J19: 0.7 | K19: 3.7 | L19: 0 | M19: 0 | N19: -999 | O19: 2.8 | P19: 26 | Q19: -9.4 | R19: 4.7 | S19: 6.7 | T19: 0.183 | U19: 1.92 | V19: =IF(X19<X20,M19,0) -> 0 | W19: =IF(V19>0,N19,-999) -> -999 | X19: 201710 | Y19: 2017 | AA19: 201811 | AB19: 3.3203333 | AC19: 2.7686667 | AD19: -3.0733333 | AE19: 1.1966667 | AF19: -7.1866667 | AG19: 8.5 | AH19: -17.7 | AI19: 97.87 | AJ19: 74.236667 | AK19: 80.028 | AL19: 16.764 | AM19: 1.3966667 | AN19: 5.0166667 | AO19: 8 | AP19: -0.066666667 | AQ19: 2.2 | AR19: -6.86 | AS19: -1.7833333 | AT19: -14.066667 | AU19: 0.4878 | AV19: 0.19153333 | AW19: 0.785 | AX19: 220 | AY19: -0.3
A20: 43014 | B20: 279 | C20: 3.16 | D20: 0.67 | E20: 3.2 | F20: 9.1 | G20: -3.9 | H20: 86.9 | I20: 33.7 | J20: 1.6 | K20: 6.7 | L20: 0.762 | M20: 0 | N20: -999 | O20: 0 | P20: 12.2 | Q20: -10.9 | R20: 1.3 | S20: 6.6 | T20: 0.389 | U20: 0.766 | V20: =IF(X20<X21,M20,0) -> 0 | W20: =IF(V20>0,N20,-999) -> -999 | X20: 201710 | Y20: 2017 | AA20: 201812 | AB20: 2.4435484 | AC20: 1.9983871 | AD20: -7.0967742 | AE20: -3.3709677 | AF20: -11.474194 | AG20: 2 | AH20: -21 | AI20: 96.922581 | AJ20: 78.606452 | AK20: 66.45 | AL20: 17.49 | AM20: 1.4032258 | AN20: 5.1516129 | AO20: 8.1 | AP20: -0.53225806 | AQ20: 1.3612903 | AR20: -10.316129 | AS20: -5.5129032 | AT20: -19.367742 | AU20: 0.37983871 | AV20: 0.10980645 | AW20: 0.318 | AX20: 652 | AY20: -1.3
... A30: 43024 | B30: 289 | C30: 4.66 | D30: 0.79 | E30: 5 | F30: 10.2 | G30: -0.9 | H30: 95.7 | I30: 50 | J30: 1.1 | K30: 4.2 | L30: 0.508 | M30: 0 | N30: -999 | O30: 3.6 | P30: 11.9 | Q30: -1.8 | R30: 3.4 | S30: 4.6 | T30: 0.622 | U30: 0.622 | V30: =IF(X30<X31,M30,0) -> 0 | W30: =IF(V30>0,N30,-999) -> -999 | X30: 201710 | Y30: 2017 | AA30: 201910 | AB30: 9.2766667 | AC30: 4.78 | AD30: 0.76666667 | AE30: 7.2833333 | AF30: -4.95 | AG30: 9.4 | AH30: -8.9 | AI30: 98.85 | AJ30: 56.8 | AK30: 5 | AL30: 3 | AM30: 0.88333333 | AN30: 3.8166667 | AO30: 4.6 | AP30: 2.4333333 | AQ30: 5.8666667 | AR30: -1.25 | AS30: 4.6 | AT30: -8.4 | AU30: 0.57533333 | AV30: 0.45166667 | AW30: 0.645 | AX30: 0 | AY30: -999
A31: 43025 | B31: 290 | C31: 3.56 | D31: 0.58 | E31: 2.4 | F31: 8.2 | G31: -4.5 | H31: 95.5 | I31: 55.3 | J31: 2.6 | K31: 9.8 | L31: 8.128 | M31: 0 | N31: -999 | O31: 1.2 | P31: 8.5 | Q31: -5.4 | R31: 2.7 | S31: 4.7 | T31: 0.601 | U31: 0.486 | V31: =IF(X31<X32,M31,0) -> 0 | W31: =IF(V31>0,N31,-999) -> -999 | X31: 201710 | Y31: 2017 | AA31: 201911 | AX31: 0 | AY31: -999
A32: 43026 | B32: 291 | C32: 2.7 | D32: 0.51 | E32: 0.9 | F32: 4.6 | G32: -4.7 | H32: 98.9 | I32: 41.2 | J32: 1.9 | K32: 7.8 | L32: 17.272 | M32: 0 | N32: -999 | O32: 0 | P32: 3 | Q32: -5.1 | R32: 0.1 | S32: 4.7 | T32: 0.349 | U32: 0.499 | V32: =IF(X32<X33,M32,0) -> 0 | W32: =IF(V32>0,N32,-999) -> -999 | X32: 201710 | Y32: 2017 | AA32: 201912 | AX32: 0 | AY32: -999
A33: 43027 | B33: 292 | C33: 2.67 | D33: 0.4 | E33: 2.6 | F33: 4.5 | G33: 0 | H33: 99.4 | I33: 84.1 | J33: 1 | K33: 4.3 | L33: 2.778 | M33: 0 | N33: -999 | O33: 1.9 | P33: 6.3 | Q33: -1.1 | R33: 1.7 | S33: 4.2 | T33: 0.708 | U33: 0.134 | V33: =IF(X33<X34,M33,0) -> 0 | W33: =IF(V33>0,N33,-999) -> -999 | X33: 201710 | Y33: 2017 | AA33: Grand Total | AB33: 12.057346 | AC33: 4.9617694 | AD33: 1.60563 | AE33: 8.0414209 | AF33: -5.0706434 | AG33: 32.1 | AH33: -30.3 | AI33: 96.475335 | AJ33: 52.448391 | AK33: 1736.936 | AL33: 30.24 | AM33: 1.405496 | AN33: 5.2605898 | AO33: 12.1 | AP33: 4.6819035 | AQ33: 4.9107239 | AR33: 0.098525469 | AS33: 11.836327 | AT33: -10.277078 | AU33: 0.54246783 | AV33: 0.74953083 | AW33: 4.05 | AX33: 1461 | AY33: 0
A34: 43028 | B34: 293 | C34: 7.01 | D34: 2.89 | E34: 0.7 | F34: 3.8 | G34: -1.9 | H34: 98.8 | I34: 58 | J34: 2.1 | K34: 6.7 | L34: 3.8 | M34: 0 | N34: -999 | O34: -0.3 | P34: 4.4 | Q34: -4.2 | R34: 1.4 | S34: 4.1 | T34: 0.465 | U34: 0.337 | V34: =IF(X34<X35,M34,0) -> 0 | W34: =IF(V34>0,N34,-999) -> -999 | X34: 201710 | Y34: 2017
A35: 43029 | B35: 294 | C35: 1.88 | D35: 1.29 | E35: -3 | F35: -0.8 | G35: -7.4 | H35: 98.8 | I35: 67.1 | J35: 1.2 | K35: 4.6 | L35: 14.34 | M35: 111 | N35: -0.2 | O35: -3.3 | P35: -0.7 | Q35: -7.8 | R35: -0.2 | S35: 4 | T35: 0.386 | U35: 0.189 | V35: =IF(X35<X36,M35,0) -> 0 | W35: =IF(V35>0,N35,-999) -> -999 | X35: 201710 | Y35: 2017
A36: 43030 | B36: 295 | C36: 7.71 | D36: 6.47 | E36: 1.1 | F36: 4.8 | G36: -2.2 | H36: 99.5 | I36: 59.8 | J36: 2.5 | K36: 7.2 | L36: 0 | M36: 75 | N36: 0 | O36: -2.5 | P36: 0.5 | Q36: -8 | R36: 0 | S36: 3.9 | T36: 0.514 | U36: 0.346 | V36: =IF(X36<X37,M36,0) -> 0 | W36: =IF(V36>0,N36,-999) -> -999 | X36: 201710 | Y36: 2017
A37: 43031 | B37: 296 | C37: 6.6 | D37: 5.17 | E37: 0.1 | F37: 7.2 | G37: -6.7 | H37: 97.7 | I37: 38.3 | J37: 0.8 | K37: 6.2 | L37: 0.2 | M37: 57 | N37: 0 | O37: -6.3 | P37: 0.5 | Q37: -15.2 | R37: 0 | S37: 3.7 | T37: 0.389 | U37: 0.626 | V37: =IF(X37<X38,M37,0) -> 0 | W37: =IF(V37>0,N37,-999) -> -999 | X37: 201710 | Y37: 2017
A38: 43032 | B38: 297 | C38: 9.95 | D38: 7.21 | E38: 1.6 | F38: 14.5 | G38: -4.6 | H38: 98.9 | I38: 35.6 | J38: 1.1 | K38: 5.3 | L38: 0.254 | M38: 29 | N38: -0.1 | O38: -4.7 | P38: 0.6 | Q38: -11.3 | R38: -0.1 | S38: 3.6 | T38: 0.588 | U38: 1.063 | V38: =IF(X38<X39,M38,0) -> 0 | W38: =IF(V38>0,N38,-999) -> -999 | X38: 201710 | Y38: 2017
A39: 43033 | B39: 298 | C39: 3.92 | D39: 2.12 | E39: 1.5 | F39: 10.1 | G39: -3.3 | H39: 98 | I39: 65.7 | J39: 1.2 | K39: 6.4 | L39: 2.54 | M39: 12 | N39: -0.1 | O39: -2.2 | P39: 1.7 | Q39: -6.9 | R39: -0.1 | S39: 3.4 | T39: 0.812 | U39: 0.424 | V39: =IF(X39<X40,M39,0) -> 0 | W39: =IF(V39>0,N39,-999) -> -999 | X39: 201710 | Y39: 2017
A40: 43034 | B40: 299 | C40: 9.32 | D40: 4.08 | E40: 0.6 | F40: 9.1 | G40: -6 | H40: 97.4 | I40: 41.2 | J40: 0.8 | K40: 3.6 | L40: 0.254 | M40: 0 | N40: -999 | O40: -3.4 | P40: 3 | Q40: -9.2 | R40: -0.7 | S40: 3.3 | T40: 0.476 | U40: 0.679 | V40: =IF(X40<X41,M40,0) -> 0 | W40: =IF(V40>0,N40,-999) -> -999 | X40: 201710 | Y40: 2017
A41: 43035 | B41: 300 | C41: 8.93 | D41: 2.7 | E41: 3.3 | F41: 13.5 | G41: -3.8 | H41: 98.9 | I41: 10.3 | J41: 1.1 | K41: 5.5 | L41: 0 | M41: 0 | N41: -999 | O41: -1.4 | P41: 6.3 | Q41: -5.6 | R41: -0.1 | S41: 3.2 | T41: 0.159 | U41: 1.388 | V41: =IF(X41<X42,M41,0) -> 0 | W41: =IF(V41>0,N41,-999) -> -999 | X41: 201710 | Y41: 2017
A42: 43036 | B42: 301 | C42: 8.93 | D42: 1.96 | E42: 4.7 | F42: 15.9 | G42: -1.8 | H42: 99.4 | I42: 35 | J42: 0.7 | K42: 3.4 | L42: 0 | M42: 0 | N42: -999 | O42: 0.1 | P42: 8.7 | Q42: -4.7 | R42: 2.1 | S42: 3.1 | T42: 0.632 | U42: 1.174 | V42: =IF(X42<X43,M42,0) -> 0 | W42: =IF(V42>0,N42,-999) -> -999 | X42: 201710 | Y42: 2017
A43: 43037 | B43: 302 | C43: 4.82 | D43: 0.92 | E43: 1.1 | F43: 4.9 | G43: -5.3 | H43: 98.4 | I43: 47.1 | J43: 1.7 | K43: 7.8 | L43: 0 | M43: 0 | N43: -999 | O43: -2.1 | P43: 2.9 | Q43: -8.3 | R43: 0.2 | S43: 3.1 | T43: 0.408 | U43: 0.458 | V43: =IF(X43<X44,M43,0) -> 0 | W43: =IF(V43>0,N43,-999) -> -999 | X43: 201710 | Y43: 2017
A44: 43038 | B44: 303 | C44: 8.44 | D44: 1.97 | E44: -2.4 | F44: 8.1 | G44: -8.9 | H44: 96.2 | I44: 27.3 | J44: 0.6 | K44: 4.1 | L44: 0 | M44: 0 | N44: -999 | O44: -5.1 | P44: 4.5 | Q44: -11.6 | R44: -0.9 | S44: 3.1 | T44: 0.295 | U44: 0.785 | V44: =IF(X44<X45,M44,0) -> 0 | W44: =IF(V44>0,N44,-999) -> -999 | X44: 201710 | Y44: 2017
A45: 43039 | B45: 304 | C45: 2.64 | D45: 0.54 | E45: 4.8 | F45: 10.2 | G45: -2.8 | H45: 95.5 | I45: 20.8 | J45: 2.3 | K45: 6.4 | L45: 1.654 | M45: 0 | N45: -999 | O45: 0.3 | P45: 7.7 | Q45: -6 | R45: -0.4 | S45: 3 | T45: 0.259 | U45: 0.985 | V45: =IF(X45<X46,M45,0) -> 0 | W45: =IF(V45>0,N45,-999) -> -999 | X45: 201710 | Y45: 2017
... A750: 43744 | B750: 279 | C750: 11.5 | D750: 2.55 | E750: 1.3 | F750: 9.2 | G750: -6.3 | H750: 98.4 | I750: 52.9 | J750: 0.8 | K750: 4.2 | L750: 1 | M750: 0 | N750: -999 | O750: 0.4 | P750: 11.3 | Q750: -8 | R750: 3.1 | S750: 5.4 | T750: 0.615 | U750: 0.548 | V750: =IF(X750<X751,M750,0) -> 0 | W750: =IF(V750>0,N750,-999) -> -999 | X750: 201910 | Y750: 2019
A751: 43745 | B751: 280 | V751: =IF(X751<X752,M751,0) -> 0 | W751: =IF(V751>0,N751,-999) -> -999 | X751: 201910 | Y751: 2019
A752: 43746 | B752: 281 | V752: =IF(X752<X753,M752,0) -> 0 | W752: =IF(V752>0,N752,-999) -> -999 | X752: 201910 | Y752: 2019
A753: 43747 | B753: 282 | V753: =IF(X753<X754,M753,0) -> 0 | W753: =IF(V753>0,N753,-999) -> -999 | X753: 201910 | Y753: 2019
...

Sheet Monthly
A1: Monthly data | AH1: Select variable
A2: Last edit 8/11/19 | AB2: =(1.19-0.0067*Meta!D3) -> 0.85731351 | AH2: 4 | BH2: Lat | BI2: =Meta!D3 -> 49.6547 | BJ2: sin(Lat) | BK2: @cos(Lat) | BL2: @tan(lat)
B3: 2 | C3: 3 | D3: 4 | E3: 5 | F3: 6 | G3: 7 | H3: 8 | I3: 9 | J3: 10 | K3: 11 | L3: 12 | M3: 13 | N3: 14 | O3: 15 | P3: 16 | Q3: 17 | R3: 18 | S3: 19 | T3: 20 | U3: 21 | V3: 22 | W3: 23 | X3: 24 | Y3: 25 | Z3: 26 | AA3: 27 | AB3: 28 | AC3: 29 | BH3: Solar lookup table | BJ3: =SIN(BI2*0.01745) -> 0.76205087 | BK3: =COS(BI2*0.01745) -> 0.64751716 | BL3: =TAN(0.01745*BI2) -> 1.1768813
A4: YrMn | B4: Solar | C4: Reflctd | D4: Tav | E4: Tmax | F4: Tmin | G4: Txmax | H4: Tnmin | I4: Rhav | J4: Rhmin | K4: PPT | L4: 1dXppt | M4: Wind | N4: WindX | O4: WindXX | P4: Tsoil005 | Q4: Tsoil50 | R4: IRTSurfA | S4: IRTSurfX | T4: IRTSurfn | U4: Vapres | V4: vpd | W4: vpdX | X4: SoG | Y4: Tsog | Z4: Albedo | AA4: Trange | AB4: Eref | AC4: CMD | AD4: Month | AE4: Year | AG4: Year | AH4: 1 | AI4: 2 | AJ4: 3 | AK4: 4 | AL4: 5 | AM4: 6 | AN4: 7 | AO4: 8 | AP4: 9 | AQ4: 10 | AR4: 11 | AS4: 12 | BH4: Month | BI4: DoM | BJ4: Dim | BK4: Declination | BL4: RelDistSun | BM4: Scratch | BN4: SunsetHrAngle | BO4: daylength | BP4: SolarTop | BQ4: d*So
A5: =Data!AA5 -> 201709 | AD5: 9 | AE5: 2017 | AG5: 2017 | AQ5: =VLOOKUP(BD5,$A$5:$AA$32,$AH$2) -> 1 | AR5: =VLOOKUP(BE5,$A$5:$AA$32,$AH$2) -> -4.2 | AS5: =VLOOKUP(BF5,$A$5:$AA$32,$AH$2) -> -8.2 | AU5: =AG5*100+1 -> 201701 | AV5: =AU5+1 -> 201702 | AW5: =AV5+1 -> 201703 | AX5: =AW5+1 -> 201704 | AY5: =AX5+1 -> 201705 | AZ5: =AY5+1 -> 201706 | BA5: =AZ5+1 -> 201707 | BB5: =BA5+1 -> 201708 | BC5: =BB5+1 -> 201709 | ... BF5: =BE5+1 -> 201712 | BH5: 1 | BI5: 16 | BJ5: 31 | BK5: -0.3681 | BL5: 1.032 | BM5: =(BL$5*TAN(BK5)) -> -0.39802066 | BN5: =IF(BM5<-1,0,IF(BM5>1,3.14,ACOS(-BM5))) -> 1.1614381 | BO5: =0.636*BN5 -> 0.73867463 | BP5: =ROUND(15.392*BL5*(BN5*BJ$3*SIN(BK5)+BK$3*COS(BK5)*SIN(BN5)),2) -> 3.74 | BQ5: =BJ5*BP5 -> 115.94
A6: =Data!AA6 -> 201710 | B6: =ROUND(Data!AB6,2) -> 6.95 | C6: =ROUND(Data!AC6,2) -> 2.62 | D6: =ROUND(Data!AD6,1) -> 1 | E6: =ROUND(Data!AE6,1) -> 7.2 | F6: =ROUND(Data!AF6,1) -> -4.7 | G6: =ROUND(Data!AG6,1) -> 18.3 | H6: =ROUND(Data!AH6,1) -> -12.2 | I6: =ROUND(Data!AI6,1) -> 96.3 | J6: =ROUND(Data!AJ6,1) -> 48.5 | K6: =ROUND(Data!AK6,1) -> 70.9 | ... P6: =ROUND(Data!AP6,1) -> 1 | Q6: =ROUND(Data!AR6,1) -> -1.3 | R6: =ROUND(Data!AR6,1) -> -1.3 | S6: =ROUND(Data!AS6,1) -> 7.2 | T6: =ROUND(Data!AT6,1) -> -8.4 | U6: =ROUND(Data!AU6,3) -> 0.466 | V6: =ROUND(Data!AV6,3) -> 0.6 | W6: =ROUND(Data!AW6,3) -> 1.92 | X6: =ROUND(Data!AX6,0) -> 0 | Y6: =ROUND(Data!AZ6,1) -> 0 | Z6: =ROUND(C6/B6,3) -> 0.377 | AA6: =E6-F6 -> 11.9 | AB6: =IF(D6<0,0,ROUND(0.0023*VLOOKUP(AD6,$BH$5:$BQ$16,10)*(D6+17.8)*(E6-F6)^0.5*AB$2,0)) -> 27 | AC6: =IF(AB6>J6,AB6-J6,0) -> 0 | AD6: 10 | AE6: 2017 | AG6: 2018 | AH6: =VLOOKUP(AU6,$A$5:$AA$32,$AH$2) -> -4.5 | AI6: =VLOOKUP(AV6,$A$5:$AA$32,$AH$2) -> -8.9 | AJ6: =VLOOKUP(AW6,$A$5:$AA$32,$AH$2) -> -3.9 | AK6: =VLOOKUP(AX6,$A$5:$AA$32,$AH$2) -> 0.6 | AL6: =VLOOKUP(AY6,$A$5:$AA$32,$AH$2) -> 8.1 | AM6: =VLOOKUP(AZ6,$A$5:$AA$32,$AH$2) -> 8.4 | AN6: =VLOOKUP(BA6,$A$5:$AA$32,$AH$2) -> 13.2 | AO6: =VLOOKUP(BB6,$A$5:$AA$32,$AH$2) -> 12.1 | ... AS6: =VLOOKUP(BF6,$A$5:$AA$32,$AH$2) -> -7.1 | AU6: =AU5+100 -> 201801 | AV6: =AV5+100 -> 201802 | AW6: =AW5+100 -> 201803 | AX6: =AX5+100 -> 201804 | AY6: =AY5+100 -> 201805 | AZ6: =AZ5+100 -> 201806 | BA6: =BA5+100 -> 201807 | BB6: =BB5+100 -> 201808 | ... BF6: =BF5+100 -> 201812 | BH6: 2 | BI6: 46 | BJ6: 28 | BK6: -0.2259 | BL6: 1.023 | BM6: =(BL$5*TAN(BK6)) -> -0.23717704 | BN6: =IF(BM6<-1,0,IF(BM6>1,3.14,ACOS(-BM6))) -> 1.3313374 | BO6: =0.636*BN6 -> 0.84673058 | BP6: =ROUND(15.392*BL6*(BN6*BJ$3*SIN(BK6)+BK$3*COS(BK6)*SIN(BN6)),2) -> 6.08 | BQ6: =BJ6*BP6 -> 170.24
A7: =Data!AA7 -> 201711 | B7: =ROUND(Data!AB7,2) -> 3.02 | C7: =ROUND(Data!AC7,2) -> 2.7 | D7: =ROUND(Data!AD7,1) -> -4.2 | E7: =ROUND(Data!AE7,1) -> -0.4 | F7: =ROUND(Data!AF7,1) -> -7.8 | G7: =ROUND(Data!AG7,1) -> 8.7 | H7: =ROUND(Data!AH7,1) -> -21.3 | I7: =ROUND(Data!AI7,1) -> 97.4 | J7: =ROUND(Data!AJ7,1) -> 74.5 | K7: =ROUND(Data!AK7,1) -> 117.7 | ... P7: =ROUND(Data!AP7,1) -> -0.1 | Q7: =ROUND(Data!AR7,1) -> -6.8 | R7: =ROUND(Data!AR7,1) -> -6.8 | S7: =ROUND(Data!AS7,1) -> -2.9 | T7: =ROUND(Data!AT7,1) -> -15 | U7: =ROUND(Data!AU7,3) -> 0.454 | V7: =ROUND(Data!AV7,3) -> 0.166 | W7: =ROUND(Data!AW7,3) -> 0.478 | X7: =ROUND(Data!AX7,0) -> 336 | Y7: =ROUND(Data!AY7,0) -> -1 | Z7: =ROUND(C7/B7,3) -> 0.894 | AA7: =E7-F7 -> 7.4 | AB7: =IF(D7<0,0,ROUND(0.0023*VLOOKUP(AD7,$BH$5:$BQ$16,10)*(D7+17.8)*(E7-F7)^0.5*AB$2,0)) -> 0 | AC7: =IF(AB7>J7,AB7-J7,0) -> 0 | AD7: 11 | AE7: 2017 | AG7: 2019 | AH7: =VLOOKUP(AU7,$A$5:$AA$32,$AH$2) -> -5.5 | AI7: =VLOOKUP(AV7,$A$5:$AA$32,$AH$2) -> -12.5 | AJ7: =VLOOKUP(AW7,$A$5:$AA$32,$AH$2) -> -3.9 | AK7: =VLOOKUP(AX7,$A$5:$AA$32,$AH$2) -> 0.5 | AL7: =VLOOKUP(AY7,$A$5:$AA$32,$AH$2) -> 7.2 | AM7: =VLOOKUP(AZ7,$A$5:$AA$32,$AH$2) -> 8.9 | AN7: =VLOOKUP(BA7,$A$5:$AA$32,$AH$2) -> 11.2 | AO7: =VLOOKUP(BB7,$A$5:$AA$32,$AH$2) -> 12.2 | AP7: =VLOOKUP(BC7,$A$5:$AA$32,$AH$2) -> 6.7 | AU7: =AU6+100 -> 201901 | AV7: =AV6+100 -> 201902 | AW7: =AW6+100 -> 201903 | AX7: =AX6+100 -> 201904 | AY7: =AY6+100 -> 201905 | AZ7: =AZ6+100 -> 201906 | BA7: =BA6+100 -> 201907 | BB7: =BB6+100 -> 201908 | ... BF7: =BF6+100 -> 201912 | BH7: 3 | BI7: 75 | BJ7: 31 | BK7: -0.0422 | BL7: 1.01 | BM7: =(BL$5*TAN(BK7)) -> -0.043576271 | BN7: =IF(BM7<-1,0,IF(BM7>1,3.14,ACOS(-BM7))) -> 1.5272063 | BO7: =0.636*BN7 -> 0.97130318 | BP7: =ROUND(15.392*BL7*(BN7*BJ$3*SIN(BK7)+BK$3*COS(BK7)*SIN(BN7)),2) -> 9.28 | BQ7: =BJ7*BP7 -> 287.68
A8: =Data!AA8 -> 201712 | B8: =ROUND(Data!AB8,2) -> 2.69 | C8: =ROUND(Data!AC8,2) -> 2.44 | D8: =ROUND(Data!AD8,1) -> -8.2 | E8: =ROUND(Data!AE8,1) -> -2.5 | F8: =ROUND(Data!AF8,1) -> -13.1 | G8: =ROUND(Data!AG8,1) -> 10.7 | H8: =ROUND(Data!AH8,1) -> -27.9 | I8: =ROUND(Data!AI8,1) -> 95.7 | J8: =ROUND(Data!AJ8,1) -> 73.7 | K8: =ROUND(Data!AK8,1) -> 103.1 | ... P8: =ROUND(Data!AP8,1) -> -0.2 | Q8: =ROUND(Data!AR8,1) -> -12.7 | R8: =ROUND(Data!AR8,1) -> -12.7 | S8: =ROUND(Data!AS8,1) -> -6.4 | T8: =ROUND(Data!AT8,1) -> -21.4 | U8: =ROUND(Data!AU8,3) -> 0.364 | V8: =ROUND(Data!AV8,3) -> 0.183 | W8: =ROUND(Data!AW8,3) -> 0.953 | X8: =ROUND(Data!AX8,0) -> 777 | Y8: =ROUND(Data!AY8,0) -> -2 | Z8: =ROUND(C8/B8,3) -> 0.907 | AA8: =E8-F8 -> 10.6 | AB8: =IF(D8<0,0,ROUND(0.0023*VLOOKUP(AD8,$BH$5:$BQ$16,10)*(D8+17.8)*(E8-F8)^0.5*AB$2,0)) -> 0 | AC8: =IF(AB8>J8,AB8-J8,0) -> 0 | AD8: 12 | AE8: 2017 | AG8: 2020 | AU8: =AU7+100 -> 202001 | AV8: =AV7+100 -> 202002 | AW8: =AW7+100 -> 202003 | AX8: =AX7+100 -> 202004 | AY8: =AY7+100 -> 202005 | AZ8: =AZ7+100 -> 202006 | BA8: =BA7+100 -> 202007 | BB8: =BB7+100 -> 202008 | ... BF8: =BF7+100 -> 202012 | BH8: 4 | BI8: 105 | BJ8: 30 | BK8: 0.1706 | BL8: 0.992 | BM8: =(BL$5*TAN(BK8)) -> 0.17778735 | BN8: =IF(BM8<-1,0,IF(BM8>1,3.14,ACOS(-BM8))) -> 1.7495339 | BO8: =0.636*BN8 -> 1.1127035 | BP8: =ROUND(15.392*BL8*(BN8*BJ$3*SIN(BK8)+BK$3*COS(BK8)*SIN(BN8)),2) -> 13.04 | BQ8: =BJ8*BP8 -> 391.2
A9: =Data!AA9 -> 201801 | B9: =ROUND(Data!AB9,2) -> 3.03 | C9: =ROUND(Data!AC9,2) -> 2.74 | D9: =ROUND(Data!AD9,1) -> -4.5 | E9: =ROUND(Data!AE9,1) -> -0.3 | F9: =ROUND(Data!AF9,1) -> -9.1 | G9: =ROUND(Data!AG9,1) -> 7.4 | H9: =ROUND(Data!AH9,1) -> -18.5 | I9: =ROUND(Data!AI9,1) -> 97.2 | J9: =ROUND(Data!AJ9,1) -> 75.8 | K9: =ROUND(Data!AK9,1) -> 102.8 | ... P9: =ROUND(Data!AP9,1) -> -0.2 | Q9: =ROUND(Data!AR9,1) -> -8 | R9: =ROUND(Data!AR9,1) -> -8 | S9: =ROUND(Data!AS9,1) -> -2.8 | T9: =ROUND(Data!AT9,1) -> -17.4 | U9: =ROUND(Data!AU9,3) -> 0.453 | V9: =ROUND(Data!AV9,3) -> 0.154 | W9: =ROUND(Data!AW9,3) -> 0.429 | X9: =ROUND(Data!AX9,0) -> 1071 | Y9: =ROUND(Data!AY9,0) -> -1 | Z9: =ROUND(C9/B9,3) -> 0.904 | AA9: =E9-F9 -> 8.8 | AB9: =IF(D9<0,0,ROUND(0.0023*VLOOKUP(AD9,$BH$5:$BQ$16,10)*(D9+17.8)*(E9-F9)^0.5*AB$2,0)) -> 0 | AC9: =IF(AB9>J9,AB9-J9,0) -> 0 | AD9: 1 | AE9: 2018 | BH9: 5 | BI9: 135 | BJ9: 31 | BK9: 0.332 | BL9: 0.977 | BM9: =(BL$5*TAN(BK9)) -> 0.3557934 | BN9: =IF(BM9<-1,0,IF(BM9>1,3.14,ACOS(-BM9))) -> 1.9345592 | BO9: =0.636*BN9 -> 1.2303797 | BP9: =ROUND(15.392*BL9*(BN9*BJ$3*SIN(BK9)+BK$3*COS(BK9)*SIN(BN9)),2) -> 15.83 | BQ9: =BJ9*BP9 -> 490.73
A10: =Data!AA10 -> 201802 | B10: =ROUND(Data!AB10,2) -> 6.08 | C10: =ROUND(Data!AC10,2) -> 5.27 | D10: =ROUND(Data!AD10,1) -> -8.9 | E10: =ROUND(Data!AE10,1) -> -3.4 | F10: =ROUND(Data!AF10,1) -> -14.6 | G10: =ROUND(Data!AG10,1) -> 3.5 | H10: =ROUND(Data!AH10,1) -> -30 | I10: =ROUND(Data!AI10,1) -> 94.5 | J10: =ROUND(Data!AJ10,1) -> 65.7 | K10: =ROUND(Data!AK10,1) -> 114.5 | ... P10: =ROUND(Data!AP10,1) -> -0.1 | Q10: =ROUND(Data!AR10,1) -> -12.5 | R10: =ROUND(Data!AR10,1) -> -12.5 | S10: =ROUND(Data!AS10,1) -> -6.1 | T10: =ROUND(Data!AT10,1) -> -22.9 | U10: =ROUND(Data!AU10,3) -> 0.327 | V10: =ROUND(Data!AV10,3) -> 0.173 | W10: =ROUND(Data!AW10,3) -> 0.426 | X10: =ROUND(Data!AX10,0) -> 1385 | Y10: =ROUND(Data!AY10,0) -> -1 | Z10: =ROUND(C10/B10,3) -> 0.867 | AA10: =E10-F10 -> 11.2 | AB10: =IF(D10<0,0,ROUND(0.0023*VLOOKUP(AD10,$BH$5:$BQ$16,10)*(D10+17.8)*(E10-F10)^0.5*AB$2,0)) -> 0 | AC10: =IF(AB10>J10,AB10-J10,0) -> 0 | AD10: 2 | AE10: 2018 | BH10: 6 | BI10: 162 | BJ10: 30 | BK10: 0.4076 | BL10: 0.968 | BM10: =(BL$5*TAN(BK10)) -> 0.44559779 | BN10: =IF(BM10<-1,0,IF(BM10>1,3.14,ACOS(-BM10))) -> 2.0326382 | BO10: =0.636*BN10 -> 1.2927579 | BP10: =ROUND(15.392*BL10*(BN10*BJ$3*SIN(BK10)+BK$3*COS(BK10)*SIN(BN10)),2) -> 17.08 | BQ10: =BJ10*BP10 -> 512.4
A11: =Data!AA11 -> 201803 | B11: =ROUND(Data!AB11,2) -> 10.41 | C11: =ROUND(Data!AC11,2) -> 8.89 | D11: =ROUND(Data!AD11,1) -> -3.9 | E11: =ROUND(Data!AE11,1) -> 2.5 | F11: =ROUND(Data!AF11,1) -> -10.7 | G11: =ROUND(Data!AG11,1) -> 10.5 | H11: =ROUND(Data!AH11,1) -> -18 | I11: =ROUND(Data!AI11,1) -> 95.5 | J11: =ROUND(Data!AJ11,1) -> 57.6 | K11: =ROUND(Data!AK11,1) -> 103.2 | ... P11: =ROUND(Data!AP11,1) -> 0 | Q11: =ROUND(Data!AR11,1) -> -8.2 | R11: =ROUND(Data!AR11,1) -> -8.2 | S11: =ROUND(Data!AS11,1) -> -1.2 | T11: =ROUND(Data!AT11,1) -> -19.5 | U11: =ROUND(Data!AU11,3) -> 0.406 | V11: =ROUND(Data!AV11,3) -> 0.351 | W11: =ROUND(Data!AW11,3) -> 0.871 | X11: =ROUND(Data!AX11,0) -> 1461 | Y11: =ROUND(Data!AY11,0) -> 0 | Z11: =ROUND(C11/B11,3) -> 0.854 | AA11: =E11-F11 -> 13.2 | AB11: =IF(D11<0,0,ROUND(0.0023*VLOOKUP(AD11,$BH$5:$BQ$16,10)*(D11+17.8)*(E11-F11)^0.5*AB$2,0)) -> 0 | AC11: =IF(AB11>J11,AB11-J11,0) -> 0 | AD11: 3 | AE11: 2018 | BH11: 7 | BI11: 199 | BJ11: 31 | BK11: 0.373 | BL11: 0.968 | BM11: =(BL$5*TAN(BK11)) -> 0.4038407 | BN11: =IF(BM11<-1,0,IF(BM11>1,3.14,ACOS(-BM11))) -> 1.9865076 | BO11: =0.636*BN11 -> 1.2634188 | BP11: =ROUND(15.392*BL11*(BN11*BJ$3*SIN(BK11)+BK$3*COS(BK11)*SIN(BN11)),2) -> 16.44 | BQ11: =BJ11*BP11 -> 509.64
A12: =Data!AA12 -> 201804 | B12: =ROUND(Data!AB12,2) -> 16.1 | C12: =ROUND(Data!AC12,2) -> 12.06 | D12: =ROUND(Data!AD12,1) -> 0.6 | E12: =ROUND(Data!AE12,1) -> 7.3 | F12: =ROUND(Data!AF12,1) -> -5.8 | G12: =ROUND(Data!AG12,1) -> 20.8 | H12: =ROUND(Data!AH12,1) -> -14.8 | I12: =ROUND(Data!AI12,1) -> 95.9 | J12: =ROUND(Data!AJ12,1) -> 46.1 | K12: =ROUND(Data!AK12,1) -> 117.1 | ... P12: =ROUND(Data!AP12,1) -> 0 | Q12: =ROUND(Data!AR12,1) -> -3.7 | R12: =ROUND(Data!AR12,1) -> -3.7 | S12: =ROUND(Data!AS12,1) -> 0.5 | T12: =ROUND(Data!AT12,1) -> -10.9 | U12: =ROUND(Data!AU12,3) -> 0.441 | V12: =ROUND(Data!AV12,3) -> 0.646 | W12: =ROUND(Data!AW12,3) -> 2.129 | X12: =ROUND(Data!AX12,0) -> 1049 | Y12: =ROUND(Data!AY12,0) -> 0 | Z12: =ROUND(C12/B12,3) -> 0.749 | AA12: =E12-F12 -> 13.1 | AB12: =IF(D12<0,0,ROUND(0.0023*VLOOKUP(AD12,$BH$5:$BQ$16,10)*(D12+17.8)*(E12-F12)^0.5*AB$2,0)) -> 51 | AC12: =IF(AB12>J12,AB12-J12,0) -> 4.9 | AD12: 4 | AE12: 2018 | BH12: 8 | BI12: 229 | BJ12: 31 | BK12: 0.2355 | BL12: 0.976 | BM12: =(BL$5*TAN(BK12)) -> 0.24763091 | BN12: =IF(BM12<-1,0,IF(BM12>1,3.14,ACOS(-BM12))) -> 1.8210306 | BO12: =0.636*BN12 -> 1.1581754 | BP12: =ROUND(15.392*BL12*(BN12*BJ$3*SIN(BK12)+BK$3*COS(BK12)*SIN(BN12)),2) -> 14.03 | BQ12: =BJ12*BP12 -> 434.93
A13: =Data!AA13 -> 201805 | B13: =ROUND(Data!AB13,2) -> 22.47 | C13: =ROUND(Data!AC13,2) -> 9.36 | D13: =ROUND(Data!AD13,1) -> 8.1 | E13: =ROUND(Data!AE13,1) -> 16.5 | F13: =ROUND(Data!AF13,1) -> -0.8 | G13: =ROUND(Data!AG13,1) -> 23.4 | H13: =ROUND(Data!AH13,1) -> -3.9 | I13: =ROUND(Data!AI13,1) -> 98 | J13: =ROUND(Data!AJ13,1) -> 35.4 | K13: =ROUND(Data!AK13,1) -> 38.6 | ... P13: =ROUND(Data!AP13,1) -> 5 | Q13: =ROUND(Data!AR13,1) -> 5.4 | R13: =ROUND(Data!AR13,1) -> 5.4 | S13: =ROUND(Data!AS13,1) -> 18 | T13: =ROUND(Data!AT13,1) -> -3.4 | U13: =ROUND(Data!AU13,3) -> 0.645 | V13: =ROUND(Data!AV13,3) -> 1.294 | W13: =ROUND(Data!AW13,3) -> 2.259 | X13: =ROUND(Data!AX13,0) -> 0 | Z13: =ROUND(C13/B13,3) -> 0.417 | AA13: =E13-F13 -> 17.3 | AB13: =IF(D13<0,0,ROUND(0.0023*VLOOKUP(AD13,$BH$5:$BQ$16,10)*(D13+17.8)*(E13-F13)^0.5*AB$2,0)) -> 104 | AC13: =IF(AB13>J13,AB13-J13,0) -> 68.6 | AD13: 5 | AE13: 2018 | BH13: 9 | BI13: 259 | BJ13: 30 | BK13: 0.0327 | BL13: 0.991 | BM13: =(BL$5*TAN(BK13)) -> 0.033758433 | BN13: =IF(BM13<-1,0,IF(BM13>1,3.14,ACOS(-BM13))) -> 1.6045612 | BO13: =0.636*BN13 -> 1.0205009 | BP13: =ROUND(15.392*BL13*(BN13*BJ$3*SIN(BK13)+BK$3*COS(BK13)*SIN(BN13)),2) -> 10.48 | BQ13: =BJ13*BP13 -> 314.4
A14: =Data!AA14 -> 201806 | B14: =ROUND(Data!AB14,2) -> 19.36 | C14: =ROUND(Data!AC14,2) -> 3.59 | D14: =ROUND(Data!AD14,1) -> 8.4 | E14: =ROUND(Data!AE14,1) -> 15.5 | F14: =ROUND(Data!AF14,1) -> 0.7 | G14: =ROUND(Data!AG14,1) -> 24.7 | H14: =ROUND(Data!AH14,1) -> -4.8 | I14: =ROUND(Data!AI14,1) -> 97.4 | J14: =ROUND(Data!AJ14,1) -> 40.3 | K14: =ROUND(Data!AK14,1) -> 66.8 | ... P14: =ROUND(Data!AP14,1) -> 10.6 | Q14: =ROUND(Data!AR14,1) -> 11.1 | R14: =ROUND(Data!AR14,1) -> 11.1 | S14: =ROUND(Data!AS14,1) -> 31.7 | T14: =ROUND(Data!AT14,1) -> -1.6 | U14: =ROUND(Data!AU14,3) -> 0.701 | V14: =ROUND(Data!AV14,3) -> 1.126 | W14: =ROUND(Data!AW14,3) -> 2.318 | X14: =ROUND(Data!AX14,0) -> 0 | Z14: =ROUND(C14/B14,3) -> 0.185 | AA14: =E14-F14 -> 14.8 | AB14: =IF(D14<0,0,ROUND(0.0023*VLOOKUP(AD14,$BH$5:$BQ$16,10)*(D14+17.8)*(E14-F14)^0.5*AB$2,0)) -> 102 | AC14: =IF(AB14>J14,AB14-J14,0) -> 61.7 | AD14: 6 | AE14: 2018 | BH14: 10 | BI14: 288 | BJ14: 31 | BK14: -0.1729 | BL14: 1.008 | BM14: =(BL$5*TAN(BK14)) -> -0.18023237 | BN14: =IF(BM14<-1,0,IF(BM14>1,3.14,ACOS(-BM14))) -> 1.3895736 | BO14: =0.636*BN14 -> 0.88376884 | BP14: =ROUND(15.392*BL14*(BN14*BJ$3*SIN(BK14)+BK$3*COS(BK14)*SIN(BN14)),2) -> 6.91 | BQ14: =BJ14*BP14 -> 214.21
A15: =Data!AA15 -> 201807 | B15: =ROUND(Data!AB15,2) -> 24.15 | C15: =ROUND(Data!AC15,2) -> 5.04 | D15: =ROUND(Data!AD15,1) -> 13.2 | E15: =ROUND(Data!AE15,1) -> 21.6 | F15: =ROUND(Data!AF15,1) -> 3.4 | G15: =ROUND(Data!AG15,1) -> 29.3 | H15: =ROUND(Data!AH15,1) -> -1.9 | I15: =ROUND(Data!AI15,1) -> 93.2 | J15: =ROUND(Data!AJ15,1) -> 29.1 | K15: =ROUND(Data!AK15,1) -> 29.2 | ... T15: =ROUND(Data!AT15,1) -> 0 | U15: =ROUND(Data!AU15,3) -> 0.69 | V15: =ROUND(Data!AV15,3) -> 2.006 | W15: =ROUND(Data!AW15,3) -> 3.315 | X15: =ROUND(Data!AX15,0) -> 0 | Z15: =ROUND(C15/B15,3) -> 0.209 | AA15: =E15-F15 -> 18.2 | AB15: =IF(D15<0,0,ROUND(0.0023*VLOOKUP(AD15,$BH$5:$BQ$16,10)*(D15+17.8)*(E15-F15)^0.5*AB$2,0)) -> 133 | AC15: =IF(AB15>J15,AB15-J15,0) -> 103.9 | AD15: 7 | AE15: 2018 | BH15: 11 | BI15: 318 | BJ15: 30 | BK15: -0.3374 | BL15: 1.023 | BM15: =(BL$5*TAN(BK15)) -> -0.36204028 | BN15: =IF(BM15<-1,0,IF(BM15>1,3.14,ACOS(-BM15))) -> 1.2003406 | BO15: =0.636*BN15 -> 0.76341662 | BP15: =ROUND(15.392*BL15*(BN15*BJ$3*SIN(BK15)+BK$3*COS(BK15)*SIN(BN15)),2) -> 4.2 | BQ15: =BJ15*BP15 -> 126
A16: =Data!AA16 -> 201808 | B16: =ROUND(Data!AB16,2) -> 17.93 | C16: =ROUND(Data!AC16,2) -> 4.1 | D16: =ROUND(Data!AD16,1) -> 12.1 | E16: =ROUND(Data!AE16,1) -> 20.6 | F16: =ROUND(Data!AF16,1) -> 2.7 | G16: =ROUND(Data!AG16,1) -> 32.1 | H16: =ROUND(Data!AH16,1) -> -2.3 | I16: =ROUND(Data!AI16,1) -> 93.8 | J16: =ROUND(Data!AJ16,1) -> 34 | K16: =ROUND(Data!AK16,1) -> 25.4 | ... T16: =ROUND(Data!AT16,1) -> -1.8 | U16: =ROUND(Data!AU16,3) -> 0.76 | V16: =ROUND(Data!AV16,3) -> 1.801 | W16: =ROUND(Data!AW16,3) -> 4.05 | X16: =ROUND(Data!AX16,0) -> 0 | Z16: =ROUND(C16/B16,3) -> 0.229 | AA16: =E16-F16 -> 17.9 | AB16: =IF(D16<0,0,ROUND(0.0023*VLOOKUP(AD16,$BH$5:$BQ$16,10)*(D16+17.8)*(E16-F16)^0.5*AB$2,0)) -> 108 | AC16: =IF(AB16>J16,AB16-J16,0) -> 74 | AD16: 8 | AE16: 2018 | BH16: 12 | BI16: 343 | BJ16: 31 | BK16: -0.4071 | BL16: 1.032 | BM16: =(BL$5*TAN(BK16)) -> -0.44498572 | BN16: =IF(BM16<-1,0,IF(BM16>1,3.14,ACOS(-BM16))) -> 1.109638 | BO16: =0.636*BN16 -> 0.70572978 | BP16: =ROUND(15.392*BL16*(BN16*BJ$3*SIN(BK16)+BK$3*COS(BK16)*SIN(BN16)),2) -> 3.14 | BQ16: =BJ16*BP16 -> 97.34
A17: =Data!AA17 -> 201809 | B17: =ROUND(Data!AB17,2) -> 12.26 | C17: =ROUND(Data!AC17,2) -> 2.63 | D17: =ROUND(Data!AD17,1) -> 5.5 | E17: =ROUND(Data!AE17,1) -> 12.4 | F17: =ROUND(Data!AF17,1) -> -0.9 | G17: =ROUND(Data!AG17,1) -> 23.2 | H17: =ROUND(Data!AH17,1) -> -3.6 | I17: =ROUND(Data!AI17,1) -> 98.5 | J17: =ROUND(Data!AJ17,1) -> 49.4 | K17: =ROUND(Data!AK17,1) -> 68.1 | ... T17: =ROUND(Data!AT17,1) -> -3.4 | U17: =ROUND(Data!AU17,3) -> 0.676 | V17: =ROUND(Data!AV17,3) -> 0.819 | W17: =ROUND(Data!AW17,3) -> 2.237 | X17: =ROUND(Data!AX17,0) -> 0 | Z17: =ROUND(C17/B17,3) -> 0.215 | AA17: =E17-F17 -> 13.3 | AB17: =IF(D17<0,0,ROUND(0.0023*VLOOKUP(AD17,$BH$5:$BQ$16,10)*(D17+17.8)*(E17-F17)^0.5*AB$2,0)) -> 53 | AC17: =IF(AB17>J17,AB17-J17,0) -> 3.6 | AD17: 9 | AE17: 2018
A18: =Data!AA18 -> 201810 | B18: =ROUND(Data!AB18,2) -> 8.39 | C18: =ROUND(Data!AC18,2) -> 2.14 | D18: =ROUND(Data!AD18,1) -> 1.5 | E18: =ROUND(Data!AE18,1) -> 8.2 | F18: =ROUND(Data!AF18,1) -> -4 | G18: =ROUND(Data!AG18,1) -> 17 | H18: =ROUND(Data!AH18,1) -> -11 | I18: =ROUND(Data!AI18,1) -> 97.5 | J18: =ROUND(Data!AJ18,1) -> 53.7 | K18: =ROUND(Data!AK18,1) -> 70.9 | ... T18: =ROUND(Data!AT18,1) -> -6.7 | U18: =ROUND(Data!AU18,3) -> 0.532 | V18: =ROUND(Data!AV18,3) -> 0.607 | W18: =ROUND(Data!AW18,3) -> 1.621 | X18: =ROUND(Data!AX18,0) -> 156 | Y18: =ROUND(Data!AY18,0) -> 0 | Z18: =ROUND(C18/B18,3) -> 0.255 | AA18: =E18-F18 -> 12.2 | AB18: =IF(D18<0,0,ROUND(0.0023*VLOOKUP(AD18,$BH$5:$BQ$16,10)*(D18+17.8)*(E18-F18)^0.5*AB$2,0)) -> 28 | AC18: =IF(AB18>J18,AB18-J18,0) -> 0 | AD18: 10 | AE18: 2018
A19: =Data!AA19 -> 201811 | B19: =ROUND(Data!AB19,2) -> 3.32 | C19: =ROUND(Data!AC19,2) -> 2.77 | D19: =ROUND(Data!AD19,1) -> -3.1 | E19: =ROUND(Data!AE19,1) -> 1.2 | F19: =ROUND(Data!AF19,1) -> -7.2 | G19: =ROUND(Data!AG19,1) -> 8.5 | H19: =ROUND(Data!AH19,1) -> -17.7 | I19: =ROUND(Data!AI19,1) -> 97.9 | J19: =ROUND(Data!AJ19,1) -> 74.2 | K19: =ROUND(Data!AK19,1) -> 80 | ... T19: =ROUND(Data!AT19,1) -> -14.1 | U19: =ROUND(Data!AU19,3) -> 0.488 | V19: =ROUND(Data!AV19,3) -> 0.192 | W19: =ROUND(Data!AW19,3) -> 0.785 | X19: =ROUND(Data!AX19,0) -> 220 | Y19: =ROUND(Data!AY19,0) -> 0 | Z19: =ROUND(C19/B19,3) -> 0.834 | AA19: =E19-F19 -> 8.4 | AB19: =IF(D19<0,0,ROUND(0.0023*VLOOKUP(AD19,$BH$5:$BQ$16,10)*(D19+17.8)*(E19-F19)^0.5*AB$2,0)) -> 0 | AC19: =IF(AB19>J19,AB19-J19,0) -> 0 | AD19: 11 | AE19: 2018
A20: =Data!AA20 -> 201812 | B20: =ROUND(Data!AB20,2) -> 2.44 | C20: =ROUND(Data!AC20,2) -> 2 | D20: =ROUND(Data!AD20,1) -> -7.1 | E20: =ROUND(Data!AE20,1) -> -3.4 | F20: =ROUND(Data!AF20,1) -> -11.5 | G20: =ROUND(Data!AG20,1) -> 2 | H20: =ROUND(Data!AH20,1) -> -21 | I20: =ROUND(Data!AI20,1) -> 96.9 | J20: =ROUND(Data!AJ20,1) -> 78.6 | K20: =ROUND(Data!AK20,1) -> 66.5 | ... T20: =ROUND(Data!AT20,1) -> -19.4 | U20: =ROUND(Data!AU20,3) -> 0.38 | V20: =ROUND(Data!AV20,3) -> 0.11 | W20: =ROUND(Data!AW20,3) -> 0.318 | X20: =ROUND(Data!AX20,0) -> 652 | Y20: =ROUND(Data!AY20,0) -> -1 | Z20: =ROUND(C20/B20,3) -> 0.82 | AA20: =E20-F20 -> 8.1 | AB20: =IF(D20<0,0,ROUND(0.0023*VLOOKUP(AD20,$BH$5:$BQ$16,10)*(D20+17.8)*(E20-F20)^0.5*AB$2,0)) -> 0 | AC20: =IF(AB20>J20,AB20-J20,0) -> 0 | AD20: 12 | AE20: 2018
A21: =Data!AA21 -> 201901 | B21: =ROUND(Data!AB21,2) -> 3.7 | C21: =ROUND(Data!AC21,2) -> 3.28 | D21: =ROUND(Data!AD21,1) -> -5.5 | E21: =ROUND(Data!AE21,1) -> 0.4 | F21: =ROUND(Data!AF21,1) -> -11.5 | G21: =ROUND(Data!AG21,1) -> 12.9 | H21: =ROUND(Data!AH21,1) -> -20.9 | I21: =ROUND(Data!AI21,1) -> 96.6 | J21: =ROUND(Data!AJ21,1) -> 66 | K21: =ROUND(Data!AK21,1) -> 33.9 | ... T21: =ROUND(Data!AT21,1) -> -20.3 | U21: =ROUND(Data!AU21,3) -> 0.407 | V21: =ROUND(Data!AV21,3) -> 0.247 | W21: =ROUND(Data!AW21,3) -> 0.915 | X21: =ROUND(Data!AX21,0) -> 670 | Y21: =ROUND(Data!AY21,0) -> -2 | Z21: =ROUND(C21/B21,3) -> 0.886 | AA21: =E21-F21 -> 11.9 | AB21: =IF(D21<0,0,ROUND(0.0023*VLOOKUP(AD21,$BH$5:$BQ$16,10)*(D21+17.8)*(E21-F21)^0.5*AB$2,0)) -> 0 | AC21: =IF(AB21>J21,AB21-J21,0) -> 0 | AD21: 1 | AE21: 2019
A22: =Data!AA22 -> 201902 | B22: =ROUND(Data!AB22,2) -> 6.66 | C22: =ROUND(Data!AC22,2) -> 5.98 | D22: =ROUND(Data!AD22,1) -> -12.5 | E22: =ROUND(Data!AE22,1) -> -7.5 | F22: =ROUND(Data!AF22,1) -> -18.9 | G22: =ROUND(Data!AG22,1) -> 1.8 | H22: =ROUND(Data!AH22,1) -> -30.3 | I22: =ROUND(Data!AI22,1) -> 93.7 | J22: =ROUND(Data!AJ22,1) -> 65 | K22: =ROUND(Data!AK22,1) -> 65.7 | ... T22: =ROUND(Data!AT22,1) -> -28.1 | U22: =ROUND(Data!AU22,3) -> 0.238 | V22: =ROUND(Data!AV22,3) -> 0.129 | W22: =ROUND(Data!AW22,3) -> 0.335 | X22: =ROUND(Data!AX22,0) -> 932 | Y22: =ROUND(Data!AY22,0) -> -1 | Z22: =ROUND(C22/B22,3) -> 0.898 | AA22: =E22-F22 -> 11.4 | AB22: =IF(D22<0,0,ROUND(0.0023*VLOOKUP(AD22,$BH$5:$BQ$16,10)*(D22+17.8)*(E22-F22)^0.5*AB$2,0)) -> 0 | AC22: =IF(AB22>J22,AB22-J22,0) -> 0 | AD22: 2 | AE22: 2019
A23: =Data!AA23 -> 201903 | B23: =ROUND(Data!AB23,2) -> 13.06 | C23: =ROUND(Data!AC23,2) -> 10.61 | D23: =ROUND(Data!AD23,1) -> -3.9 | E23: =ROUND(Data!AE23,1) -> 4.8 | F23: =ROUND(Data!AF23,1) -> -12.2 | G23: =ROUND(Data!AG23,1) -> 17.3 | H23: =ROUND(Data!AH23,1) -> -28.1 | I23: =ROUND(Data!AI23,1) -> 94.7 | J23: =ROUND(Data!AJ23,1) -> 39.5 | K23: =ROUND(Data!AK23,1) -> 36.6 | ... T23: =ROUND(Data!AT23,1) -> -21.2 | U23: =ROUND(Data!AU23,3) -> 0.33 | V23: =ROUND(Data!AV23,3) -> 0.622 | W23: =ROUND(Data!AW23,3) -> 1.613 | X23: =ROUND(Data!AX23,0) -> 558 | Y23: =ROUND(Data!AY23,0) -> 0 | Z23: =ROUND(C23/B23,3) -> 0.812 | AA23: =E23-F23 -> 17 | AB23: =IF(D23<0,0,ROUND(0.0023*VLOOKUP(AD23,$BH$5:$BQ$16,10)*(D23+17.8)*(E23-F23)^0.5*AB$2,0)) -> 0 | AC23: =IF(AB23>J23,AB23-J23,0) -> 0 | AD23: 3 | AE23: 2019
A24: =Data!AA24 -> 201904 | B24: =ROUND(Data!AB24,2) -> 15.47 | C24: =ROUND(Data!AC24,2) -> 11.03 | D24: =ROUND(Data!AD24,1) -> 0.5 | E24: =ROUND(Data!AE24,1) -> 6.6 | F24: =ROUND(Data!AF24,1) -> -5.9 | G24: =ROUND(Data!AG24,1) -> 13.1 | H24: =ROUND(Data!AH24,1) -> -10.3 | I24: =ROUND(Data!AI24,1) -> 96.3 | J24: =ROUND(Data!AJ24,1) -> 43.7 | K24: =ROUND(Data!AK24,1) -> 58.9 | ... T24: =ROUND(Data!AT24,1) -> -11.2 | U24: =ROUND(Data!AU24,3) -> 0.414 | V24: =ROUND(Data!AV24,3) -> 0.577 | W24: =ROUND(Data!AW24,3) -> 1.283 | X24: =ROUND(Data!AX24,0) -> 258 | Y24: =ROUND(Data!AY24,0) -> 0 | Z24: =ROUND(C24/B24,3) -> 0.713 | AA24: =E24-F24 -> 12.5 | AB24: =IF(D24<0,0,ROUND(0.0023*VLOOKUP(AD24,$BH$5:$BQ$16,10)*(D24+17.8)*(E24-F24)^0.5*AB$2,0)) -> 50 | AC24: =IF(AB24>J24,AB24-J24,0) -> 6.3 | AD24: 4 | AE24: 2019
A25: =Data!AA25 -> 201905 | B25: =ROUND(Data!AB25,2) -> 20.05 | C25: =ROUND(Data!AC25,2) -> 4.77 | D25: =ROUND(Data!AD25,1) -> 7.2 | E25: =ROUND(Data!AE25,1) -> 14.1 | F25: =ROUND(Data!AF25,1) -> -0.6 | G25: =ROUND(Data!AG25,1) -> 21.4 | H25: =ROUND(Data!AH25,1) -> -4 | I25: =ROUND(Data!AI25,1) -> 96 | J25: =ROUND(Data!AJ25,1) -> 39.9 | K25: =ROUND(Data!AK25,1) -> 37.1 | ... T25: =ROUND(Data!AT25,1) -> -2.7 | U25: =ROUND(Data!AU25,3) -> 0.617 | V25: =ROUND(Data!AV25,3) -> 1.042 | W25: =ROUND(Data!AW25,3) -> 2.079 | X25: =ROUND(Data!AX25,0) -> 0 | Z25: =ROUND(C25/B25,3) -> 0.238 | AA25: =E25-F25 -> 14.7 | AB25: =IF(D25<0,0,ROUND(0.0023*VLOOKUP(AD25,$BH$5:$BQ$16,10)*(D25+17.8)*(E25-F25)^0.5*AB$2,0)) -> 93 | AC25: =IF(AB25>J25,AB25-J25,0) -> 53.1 | AD25: 5 | AE25: 2019
A26: =Data!AA26 -> 201906 | B26: =ROUND(Data!AB26,2) -> 21.58 | C26: =ROUND(Data!AC26,2) -> 4.44 | D26: =ROUND(Data!AD26,1) -> 8.9 | E26: =ROUND(Data!AE26,1) -> 15.9 | F26: =ROUND(Data!AF26,1) -> 0.9 | G26: =ROUND(Data!AG26,1) -> 23.7 | H26: =ROUND(Data!AH26,1) -> -3.3 | I26: =ROUND(Data!AI26,1) -> 97 | J26: =ROUND(Data!AJ26,1) -> 36.9 | K26: =ROUND(Data!AK26,1) -> 70.1 | ... T26: =ROUND(Data!AT26,1) -> -1.1 | U26: =ROUND(Data!AU26,3) -> 0.641 | V26: =ROUND(Data!AV26,3) -> 1.248 | W26: =ROUND(Data!AW26,3) -> 2.443 | X26: =ROUND(Data!AX26,0) -> 0 | Z26: =ROUND(C26/B26,3) -> 0.206 | AA26: =E26-F26 -> 15 | AB26: =IF(D26<0,0,ROUND(0.0023*VLOOKUP(AD26,$BH$5:$BQ$16,10)*(D26+17.8)*(E26-F26)^0.5*AB$2,0)) -> 104 | AC26: =IF(AB26>J26,AB26-J26,0) -> 67.1 | AD26: 6 | AE26: 2019
A27: =Data!AA27 -> 201907 | B27: =ROUND(Data!AB27,2) -> 20.03 | C27: =ROUND(Data!AC27,2) -> 4.37 | D27: =ROUND(Data!AD27,1) -> 11.2 | E27: =ROUND(Data!AE27,1) -> 18.7 | F27: =ROUND(Data!AF27,1) -> 2.7 | G27: =ROUND(Data!AG27,1) -> 26.2 | H27: =ROUND(Data!AH27,1) -> -0.7 | I27: =ROUND(Data!AI27,1) -> 98.2 | J27: =ROUND(Data!AJ27,1) -> 40.8 | K27: =ROUND(Data!AK27,1) -> 57.4 | ... T27: =ROUND(Data!AT27,1) -> 0.5 | U27: =ROUND(Data!AU27,3) -> 0.858 | V27: =ROUND(Data!AV27,3) -> 1.349 | W27: =ROUND(Data!AW27,3) -> 2.542 | X27: =ROUND(Data!AX27,0) -> 0 | Z27: =ROUND(C27/B27,3) -> 0.218 | AA27: =E27-F27 -> 16 | AB27: =IF(D27<0,0,ROUND(0.0023*VLOOKUP(AD27,$BH$5:$BQ$16,10)*(D27+17.8)*(E27-F27)^0.5*AB$2,0)) -> 117 | AC27: =IF(AB27>J27,AB27-J27,0) -> 76.2 | AD27: 7 | AE27: 2019
A28: =Data!AA28 -> 201908 | B28: =ROUND(Data!AB28,2) -> 19.73 | C28: =ROUND(Data!AC28,2) -> 4.56 | D28: =ROUND(Data!AD28,1) -> 12.2 | E28: =ROUND(Data!AE28,1) -> 20.6 | F28: =ROUND(Data!AF28,1) -> 2.9 | G28: =ROUND(Data!AG28,1) -> 27.5 | H28: =ROUND(Data!AH28,1) -> -0.9 | I28: =ROUND(Data!AI28,1) -> 96.9 | J28: =ROUND(Data!AJ28,1) -> 35.3 | K28: =ROUND(Data!AK28,1) -> 48.5 | ... T28: =ROUND(Data!AT28,1) -> -0.3 | U28: =ROUND(Data!AU28,3) -> 0.81 | V28: =ROUND(Data!AV28,3) -> 1.678 | W28: =ROUND(Data!AW28,3) -> 3.244 | X28: =ROUND(Data!AX28,0) -> 0 | Z28: =ROUND(C28/B28,3) -> 0.231 | AA28: =E28-F28 -> 17.7 | AB28: =IF(D28<0,0,ROUND(0.0023*VLOOKUP(AD28,$BH$5:$BQ$16,10)*(D28+17.8)*(E28-F28)^0.5*AB$2,0)) -> 108 | AC28: =IF(AB28>J28,AB28-J28,0) -> 72.7 | AD28: 8 | AE28: 2019
A29: =Data!AA29 -> 201909 | B29: =ROUND(Data!AB29,2) -> 10.68 | C29: =ROUND(Data!AC29,2) -> 2.73 | D29: =ROUND(Data!AD29,1) -> 6.7 | E29: =ROUND(Data!AE29,1) -> 12.7 | F29: =ROUND(Data!AF29,1) -> 1.2 | G29: =ROUND(Data!AG29,1) -> 24.2 | H29: =ROUND(Data!AH29,1) -> -7.7 | I29: =ROUND(Data!AI29,1) -> 99.2 | J29: =ROUND(Data!AJ29,1) -> 57.4 | K29: =ROUND(Data!AK29,1) -> 136 | ... T29: =ROUND(Data!AT29,1) -> -0.8 | U29: =ROUND(Data!AU29,3) -> 0.818 | V29: =ROUND(Data!AV29,3) -> 0.767 | W29: =ROUND(Data!AW29,3) -> 2.189 | X29: =ROUND(Data!AX29,0) -> 87 | Z29: =ROUND(C29/B29,3) -> 0.256 | AA29: =E29-F29 -> 11.5 | AB29: =IF(D29<0,0,ROUND(0.0023*VLOOKUP(AD29,$BH$5:$BQ$16,10)*(D29+17.8)*(E29-F29)^0.5*AB$2,0)) -> 52 | AC29: =IF(AB29>J29,AB29-J29,0) -> 0 | AD29: 9 | AE29: 2019
A30: =Data!AA30 -> 201910 | AD30: 10 | AE30: 2019
A31: =Data!AA31 -> 201911 | AD31: 11 | AE31: 2019
A32: =Data!AA32 -> 201912 | AD32: 12 | AE32: 2019

Sheet MGraphs

Sheet AGraphs

Sheet Meta
A1: Meta data for station PK | D1: Lat | E1: Long | F1: Elev m
A2: Last edit 8/11/19 | D2: 49°39'17" | E2: 119°23'36" | F2: 1628
A3: Daily summary | D3: 49.6547 | Q3: Soil temperature
D4: Air temperature | G4: Relatve humidity | I4: Wind speed | K4: Total | L4: Snow Depth | M4: Snow temp | N4: Surface temp | Q4: 0.005 m | R4: 0.5 m | S4: vapres | T4: vpdX
B5: Solar | C5: Reflected | D5: Average | E5: Maximum | F5: Minimum | G5: Average | H5: Minimum | I5: Average | J5: Maximum | K5: Precip | L5: at 2400 | M5: Average | N5: Average | O5: Maximujm | P5: Minimum | Q5: Average | R5: Average | S5: afternoon | T5: maximum
B6: MJ/m2/d | C6: MJ/m2/d | D6: C | E6: C | F6: C | G6: % | H6: % | I6: m/s | J6: m/s | K6: mm | L6: mm | M6: C | N6: C | O6: C | P6: C | Q6: C | R6: C | S6: kPa | T6: kPa
A8: Missing data = -999
A9: Data logger
B10: Campbell Scientific 10X scaning at 60 sec interval.
A12: Solar W/m2
B13: LiCor LI 200 silicon Pyranomter at 3 m
B14: Adjusted to zero at night.
B15: Corrected for snow on sensor using reflected and max albedo of 0.93, and reflected is <0.93*Kmax
A16: Reflected W/m2
B17: LiCor silicon pyranometer at 3 m
B18: Adjusted for spectral response
A20: Temperature of air C
B21: HMP45C in RMYoung pie plate shield at 3 m
A22: RH %
B23: HMP45C in RMYoung pie plate shield at 3 m
B24: Corrected RH for drift. Based on Rhmax=100 and no correction by time Rh =20%. Correction is <2%
A25: Vapour pressure kPa
B26: vapres = esat(Tmax)*Rhmin/100 | F26: In most cases this is an afternoon value and would be somewhat different from a daily average
F27: Daily average must be calculated from hourly data
F28: esat calculated with the Tair (Tetens equation) and RH.
A29: Maximum vapour pressure deficit (kPa)
B30: vpdX = esat(Tmax)*(1-RHmin/100) | F30: In most cases this is an afternoon value and would be greater than a daily average
F31: Daily average must be calculated from hourly data
A33: Precip mm
B34: Sierra misco tipping bucket, snow depth change>0.005 m converted to liquid (nominally 0.1 m3/m3 density) and information on rain on snow from P1 4seasons gauge
B35: Corrected precip from snow adjustment worksheets
A36: Snow depth mm
B37: Based on measurement of distance from sensor to snow surface using CSI SR50A at 2.5 m above the ground
B38: Adjusted depth from precip analysis files, 0=no snow
A39: Temperature of surface C
B40: Apogee IRT at 2.5 m above the ground.
A42: Temperature of snow C
B43: Thermocouple referenced to thermistor on panel
B44: Measurements at 0.2 and 0.5 m above the ground
B45: Set to -999 when above snow pack
...
