Workbook

Sheet Data
A1: P3 daily data 22 Aug 1991 to 31 Aug 2009
A2: Last edit 5/11/19 | R2: =ROUND((0.6105*(EXP((17.273*E2)/(E2+237.3))))*H2/100,3) -> 0 | S2: =ROUND((0.6105*(EXP((17.273*E2)/(E2+237.3))))*(100-H2)/100,3) -> 0.611
C3: MJ/m2/d | D3: C | E3: C | F3: C | G3: % | H3: % | I3: m/s | J3: m/s | K3: mm | L3: mm | M3: C | N3: C | O3: C | P3: C | Q3: C | R3: kPa | S3: kPa
A4: Date | B4: DOY | C4: Solar | D4: Tav | E4: Tmax | F4: Tmin | G4: Rhav | H4: Rhmin | I4: Wind | J4: WindX | K4: PPT | L4: SnowD | M4: Tsnow | N4: Tsoil005 | O4: Tsoil5 | P4: Tsoil20 | Q4: Tsoil50 | R4: Vapres | S4: vpdX | T4: SoG | U4: TSoG | V4: YrMn | W4: Year | Y4: Row Labels | Z4: Average of Solar | AA4: Average of Tav | AB4: Average of Tmax | AC4: Average of Tmin | AD4: Max of Tmax | AE4: Min of Tmin | AF4: Average of Rhav | AG4: Average of Rhmin | AH4: Sum of PPT | AI4: Max of PPT | AJ4: Average of Wind | AK4: Average of WindX | AL4: Max of WindX | AM4: Average of Tsoil005 | AN4: Average of Tsoil5 | AO4: Average of Tsoil20 | AP4: Average of Tsoil50 | AQ4: Average of Vapres | AR4: Average of vpdX | AS4: Max of vpdX | AT4: Max of SoG | AU4: Max of TSoG | AW4: Row Labels | AX4: Average of Solar | AY4: Average of Tav | AZ4: Average of Tmax | BA4: Average of Tmin | BB4: Max of Tmax | BC4: Min of Tmin | BD4: Average of Rhav | BE4: Average of Rhmin | BF4: Sum of PPT | BG4: Max of PPT | BH4: Max of SnowD | BI4: Average of Wind | BJ4: Average of WindX | BK4: Max of WindX | BL4: Average of Tsoil005 | BM4: Average of Tsoil20 | BN4: Average of Tsoil50 | BO4: Average of Vapres | BP4: Average of vpdX | BQ4: Max of vpdX | BS4: Year | BT4: Solar | BU4: Tav | BV4: Tmax | BW4: Tmin | BX4: TmaxX | BY4: TminN | BZ4: Rhav | CA4: Rhmin | CB4: PPT | CC4: 1dPPTX | CD4: SnowDX | CE4: WindAve | CF4: WindXAve | CG4: WindXX | CH4: Tsoil005 | CI4: Tsoil20 | CJ4: Tsoil50 | CK4: Vapres | CL4: vpdX | CM4: vpdXx | CN4: Trange | CO4: Eref | CP4: CMD | CR4: Row Labels | CS4: Sum of Eref | CT4: Sum of CMD
A5: 33472 | B5: 234 | C5: 23.49 | D5: 16.3 | E5: 23.4 | F5: 9.3 | G5: 41.8 | H5: 21.5 | I5: 1.2 | J5: 5.5 | K5: 0.8 | L5: -999 | M5: -999 | N5: -999 | O5: -999 | P5: -999 | Q5: 13 | R5: 0.618 | S5: =ROUND((0.6105*(EXP((17.273*E5)/(E5+237.3))))*(100-H5)/100,3) -> 2.259 | T5: -999 | U5: =IF(T5>0,M5,-999) -> -999 | V5: 199108 | W5: 1991 | Y5: 199108 | Z5: 13.845 | AA5: 10.14 | AB5: 15.2 | AC5: 5.37 | AD5: 23.4 | AE5: 1 | AF5: 66.01 | AG5: 47.3 | AH5: 30.5 | AI5: 17.5 | AJ5: 2.1 | AK5: 7.7 | AL5: 11.3 | AM5: -999 | AN5: -999 | AO5: -999 | AP5: 11.92 | AQ5: 0.7871 | AR5: 0.9952 | AS5: 2.259 | AT5: 0 | AU5: -999 | AW5: 1991 | AX5: 7.8991667 | AY5: 1.5287879 | AZ5: 6.2765152 | BA5: -2.8886364 | BB5: 23.4 | BC5: -21.7 | BD5: 73.514394 | BE5: 58.795455 | BF5: 168.6 | BG5: 23.1 | BH5: -999 | BI5: 1.6431818 | BJ5: 6.3992424 | BK5: 17.8 | BL5: -999 | BM5: -999 | BN5: 6.2015152 | BO5: 0.5500303 | BP5: 0.57534091 | BQ5: 2.259 | BS5: =AW5 -> 1991 | CR5: 1991 | CS5: 89 | CT5: 43.4
A6: 33473 | B6: 235 | C6: 21.66 | D6: 12.4 | E6: 18.8 | F6: 7.7 | G6: 52.2 | H6: 36.1 | I6: 1.4 | J6: 6.4 | K6: 0 | L6: -999 | M6: -999 | N6: -999 | O6: -999 | P6: -999 | Q6: 13.1 | R6: 0.782 | S6: =ROUND((0.6105*(EXP((17.273*E6)/(E6+237.3))))*(100-H6)/100,3) -> 1.386 | T6: =IF(V6<V7,L6,0) -> 0 | U6: =IF(T6>0,M6,-999) -> -999 | V6: 199108 | W6: 1991 | Y6: 199109 | Z6: 16.082667 | AA6: 9.62 | AB6: 16.3 | AC6: 3.4033333 | AD6: 23.1 | AE6: -3.3 | AF6: 61.78 | AG6: 42.383333 | AH6: 2.1 | AI6: 1 | AJ6: 1.2933333 | AK6: 5.2166667 | AL6: 8.6 | AM6: -999 | AN6: -999 | AO6: -999 | AP6: 10.333333 | AQ6: 0.77243333 | AR6: 1.1358 | AS6: 2.146 | AT6: 0 | AU6: -999 | AW6: 1992 | AX6: 11.363388 | AY6: 3.2114754 | AZ6: 8.5046448 | BA6: -1.7691257 | BB6: 27.8 | BC6: -23.8 | BD6: 73.888525 | BE6: 54.509563 | BF6: 716.4 | BG6: 34.3 | BH6: 980 | BI6: 1.3726776 | BJ6: 5.9144809 | BK6: 14 | BL6: -999 | BM6: -999 | BN6: -99.455464 | BO6: 0.58604372 | BP6: 0.71807923 | BQ6: 3.086 | BS6: =AW6 -> 1992 | BT6: =ROUND(AX6,1) -> 11.4 | BU6: =ROUND(AY6,1) -> 3.2 | BV6: =ROUND(AZ6,1) -> 8.5 | BW6: =ROUND(BA6,1) -> -1.8 | BX6: =ROUND(BB6,1) -> 27.8 | BY6: =ROUND(BC6,1) -> -23.8 | BZ6: =ROUND(BD6,1) -> 73.9 | CA6: =ROUND(BE6,1) -> 54.5 | ... CG6: =ROUND(BK6,1) -> 14 | CK6: =ROUND(BO6,3) -> 0.586 | CL6: =ROUND(BP6,3) -> 0.718 | CM6: =ROUND(BQ6,3) -> 3.086 | CN6: =BV6-BW6 -> 10.3 | CO6: =CS6 -> 552 | CP6: =CT6 -> 372.3 | CR6: 1992 | CS6: 552 | CT6: 372.3
A7: 33474 | B7: 236 | C7: 22.86 | D7: 8.6 | E7: 15.5 | F7: 1.6 | G7: 53.1 | H7: 36.6 | I7: 1.1 | J7: 5.8 | K7: 0 | L7: -999 | M7: -999 | N7: -999 | O7: -999 | P7: -999 | Q7: 13 | R7: 0.646 | S7: =ROUND((0.6105*(EXP((17.273*E7)/(E7+237.3))))*(100-H7)/100,3) -> 1.116 | T7: =IF(V7<V8,L7,0) -> 0 | U7: =IF(T7>0,M7,-999) -> -999 | V7: 199108 | W7: 1991 | Y7: 199110 | Z7: 8.8867742 | AA7: 1.683871 | AB7: 7.5032258 | AC7: -3.783871 | AD7: 22.5 | AE7: -21.7 | AF7: 66.329032 | AG7: 51.435484 | AH7: 22.5 | AI7: 8.2 | AJ7: 1.3225806 | AK7: 5.8064516 | AL7: 17.8 | AM7: -999 | AN7: -999 | AO7: -999 | AP7: 7.1967742 | AQ7: 0.50554839 | AR7: 0.7023871 | AS7: 1.976 | AT7: 0 | AU7: -999 | AW7: 1993 | AX7: 11.453507 | AY7: 1.7509589 | AZ7: 7.2772603 | BA7: -3.0945205 | BB7: 25.6 | BC7: -25.2 | BD7: 76.594521 | BE7: 55.724932 | BF7: 725.7 | BG7: 32 | BH7: 1006 | BI7: 1.0761644 | BJ7: 5.0909589 | BK7: 12.4 | BL7: -999 | BM7: -999 | BN7: -999 | BO7: 0.58182466 | BP7: 0.60426301 | BQ7: 2.855 | BS7: =AW7 -> 1993 | BT7: =ROUND(AX7,1) -> 11.5 | BU7: =ROUND(AY7,1) -> 1.8 | BV7: =ROUND(AZ7,1) -> 7.3 | BW7: =ROUND(BA7,1) -> -3.1 | BX7: =ROUND(BB7,1) -> 25.6 | BY7: =ROUND(BC7,1) -> -25.2 | BZ7: =ROUND(BD7,1) -> 76.6 | CA7: =ROUND(BE7,1) -> 55.7 | ... CG7: =ROUND(BK7,1) -> 12.4 | CK7: =ROUND(BO7,3) -> 0.582 | CL7: =ROUND(BP7,3) -> 0.604 | CM7: =ROUND(BQ7,3) -> 2.855 | CN7: =BV7-BW7 -> 10.4 | CO7: =CS7 -> 437 | CP7: =CT7 -> 303.6 | CR7: 1993 | CS7: 437 | CT7: 303.6
A8: 33475 | B8: 237 | C8: 18.42 | D8: 7.3 | E8: 14.9 | F8: 1 | G8: 65.4 | H8: 40.5 | I8: 1.2 | J8: 6.1 | K8: 0 | L8: -999 | M8: -999 | N8: -999 | O8: -999 | P8: -999 | Q8: 12.8 | R8: 0.686 | S8: =ROUND((0.6105*(EXP((17.273*E8)/(E8+237.3))))*(100-H8)/100,3) -> 1.008 | T8: =IF(V8<V9,L8,0) -> 0 | U8: =IF(T8>0,M8,-999) -> -999 | V8: 199108 | W8: 1991 | Y8: 199111 | Z8: 2.692 | AA8: -3.75 | AB8: -0.50333333 | AC8: -6.7066667 | AD8: 4.3 | AE8: -13.8 | AF8: 85.763333 | AG8: 73.35 | AH8: 82.5 | AI8: 23.1 | AJ8: 1.6933333 | AK8: 6.71 | AL8: 13.6 | AM8: -999 | AN8: -999 | AO8: -999 | AP8: 3.2 | AQ8: 0.44323333 | AR8: 0.15896667 | AS8: 0.356 | AT8: 0 | AU8: -999 | AW8: 1994 | AX8: 11.642082 | AY8: 2.6520548 | AZ8: 8.1531507 | BA8: -2.2221918 | BB8: 30.9 | BC8: -24.5 | BD8: 72.694795 | BE8: 50.278082 | BF8: 713.5 | BG8: 40.7 | BH8: 1208 | BI8: 1.0010959 | BJ8: 5.1076712 | BK8: 11.3 | BL8: -999 | BM8: -999 | BN8: -999 | BO8: 0.51033151 | BP8: 0.80825205 | BQ8: 3.805 | BS8: =AW8 -> 1994 | BT8: =ROUND(AX8,1) -> 11.6 | BU8: =ROUND(AY8,1) -> 2.7 | BV8: =ROUND(AZ8,1) -> 8.2 | BW8: =ROUND(BA8,1) -> -2.2 | BX8: =ROUND(BB8,1) -> 30.9 | BY8: =ROUND(BC8,1) -> -24.5 | BZ8: =ROUND(BD8,1) -> 72.7 | CA8: =ROUND(BE8,1) -> 50.3 | ... CG8: =ROUND(BK8,1) -> 11.3 | CK8: =ROUND(BO8,3) -> 0.51 | CL8: =ROUND(BP8,3) -> 0.808 | CM8: =ROUND(BQ8,3) -> 3.805 | CN8: =BV8-BW8 -> 10.4 | CO8: =CS8 -> 534 | CP8: =CT8 -> 374.6 | CR8: 1994 | CS8: 534 | CT8: 374.6
A9: 33476 | B9: 238 | C9: 6.14 | D9: 6.7 | E9: 9.5 | F9: 2.2 | G9: 66.2 | H9: 47.2 | I9: 1.9 | J9: 9.7 | K9: 4.1 | L9: -999 | M9: -999 | N9: -999 | O9: -999 | P9: -999 | Q9: 12.3 | R9: 0.561 | S9: =ROUND((0.6105*(EXP((17.273*E9)/(E9+237.3))))*(100-H9)/100,3) -> 0.627 | T9: =IF(V9<V10,L9,0) -> 0 | U9: =IF(T9>0,M9,-999) -> -999 | V9: 199108 | W9: 1991 | Y9: 199112 | Z9: 2.1132258 | AA9: -4.1258065 | AB9: -0.96774194 | AC9: -7.0516129 | AD9: 5.6 | AE9: -14.3 | AF9: 82.622581 | AG9: 71.66129 | AH9: 31 | AI9: 5.8 | AJ9: 2.1064516 | AK9: 7.416129 | AL9: 12.1 | AM9: -999 | AN9: -999 | AO9: -999 | AP9: 2.2677419 | AQ9: 0.40616129 | AR9: 0.17341935 | AS9: 0.525 | AT9: 0 | AU9: -999 | AW9: 1995 | AX9: 11.500959 | AY9: 2.270137 | AZ9: 7.8942466 | BA9: -2.5484932 | BB9: 25.7 | BC9: -28.7 | BD9: 72.900822 | BE9: 49.848767 | BF9: 735.9 | BG9: 25.4 | BH9: 0 | BI9: 1.0342466 | BJ9: 4.8191781 | BK9: 12.7 | BL9: -999 | BM9: -999 | BN9: -999 | BO9: 0.51773151 | BP9: 0.71016164 | BQ9: 2.78 | BS9: =AW9 -> 1995 | BT9: =ROUND(AX9,1) -> 11.5 | BU9: =ROUND(AY9,1) -> 2.3 | BV9: =ROUND(AZ9,1) -> 7.9 | BW9: =ROUND(BA9,1) -> -2.5 | BX9: =ROUND(BB9,1) -> 25.7 | BY9: =ROUND(BC9,1) -> -28.7 | BZ9: =ROUND(BD9,1) -> 72.9 | CA9: =ROUND(BE9,1) -> 49.8 | ... CC9: =ROUND(BG9,1) -> 25.4 | CE9: =ROUND(BI9,1) -> 1 | CF9: =ROUND(BJ9,1) -> 4.8 | CG9: =ROUND(BK9,1) -> 12.7 | CK9: =ROUND(BO9,3) -> 0.518 | CL9: =ROUND(BP9,3) -> 0.71 | CM9: =ROUND(BQ9,3) -> 2.78 | CN9: =BV9-BW9 -> 10.4 | CO9: =CS9 -> 495 | CP9: =CT9 -> 344.2 | CR9: 1995 | CS9: 495 | CT9: 344.2
A10: 33477 | B10: 239 | C10: 5.34 | D10: 7.7 | E10: 11.3 | F10: 5.2 | G10: 84.1 | H10: 53.4 | I10: 2.4 | J10: 8.1 | K10: 17.5 | L10: -999 | M10: -999 | N10: -999 | O10: -999 | P10: -999 | Q10: 11.6 | R10: 0.717 | S10: =ROUND((0.6105*(EXP((17.273*E10)/(E10+237.3))))*(100-H10)/100,3) -> 0.624 | T10: =IF(V10<V11,L10,0) -> 0 | U10: =IF(T10>0,M10,-999) -> -999 | V10: 199108 | W10: 1991 | Y10: 199201 | Z10: 2.5503226 | AA10: -3.9677419 | AB10: -0.4483871 | AC10: -7.0064516 | AD10: 5.7 | AE10: -17.2 | AF10: 87.770968 | AG10: 74.741935 | AH10: 60.2 | AI10: 10.2 | AJ10: 1.7516129 | AK10: 6.983871 | AL10: 12.8 | AM10: -999 | AN10: -999 | AO10: -999 | AP10: 1.7967742 | AQ10: 0.44183871 | AR10: 0.1633871 | AS10: 0.467 | AT10: 0 | AU10: -999 | AW10: 1996 | AX10: 11.032131 | AY10: 0.89180328 | AZ10: 6.6153005 | BA10: -4.0122951 | BB10: 29.8 | BC10: -31.6 | BD10: 75.998087 | BE10: 54.482514 | BF10: 804.5 | BG10: 28.7 | BH10: 977 | BI10: 1.1319672 | BJ10: 4.1210383 | BK10: 11.1 | BL10: -772.37158 | BM10: -999 | BN10: -999 | BO10: 0.51832787 | BP10: 0.68128689 | BQ10: 3.585 | BS10: =AW10 -> 1996 | BT10: =ROUND(AX10,1) -> 11 | BU10: =ROUND(AY10,1) -> 0.9 | BV10: =ROUND(AZ10,1) -> 6.6 | BW10: =ROUND(BA10,1) -> -4 | BX10: =ROUND(BB10,1) -> 29.8 | BY10: =ROUND(BC10,1) -> -31.6 | BZ10: =ROUND(BD10,1) -> 76 | CA10: =ROUND(BE10,1) -> 54.5 | ... CG10: =ROUND(BK10,1) -> 11.1 | CK10: =ROUND(BO10,3) -> 0.518 | CL10: =ROUND(BP10,3) -> 0.681 | CM10: =ROUND(BQ10,3) -> 3.585 | CN10: =BV10-BW10 -> 10.6 | CO10: =CS10 -> 491 | CP10: =CT10 -> 335.8 | CR10: 1996 | CS10: 491 | CT10: 335.8
A11: 33478 | B11: 240 | C11: 7.63 | D11: 7.3 | E11: 10.1 | F11: 5.7 | G11: 85.8 | H11: 78.1 | I11: 2.8 | J11: 7.9 | K11: 0.5 | L11: -999 | M11: -999 | N11: -999 | O11: -999 | P11: -999 | Q11: 11.1 | R11: 0.963 | S11: =ROUND((0.6105*(EXP((17.273*E11)/(E11+237.3))))*(100-H11)/100,3) -> 0.271 | T11: =IF(V11<V12,L11,0) -> 0 | U11: =IF(T11>0,M11,-999) -> -999 | V11: 199108 | W11: 1991 | Y11: 199202 | Z11: 6.2865517 | AA11: -0.82758621 | AB11: 4.0344828 | AC11: -4.9344828 | AD11: 15.5 | AE11: -12.3 | AF11: 80.996552 | AG11: 65.762069 | AH11: 52.5 | AI11: 11.3 | AJ11: 1.6034483 | AK11: 6.1137931 | AL11: 14 | AM11: -999 | AN11: -999 | AO11: -999 | AP11: 1.5206897 | AQ11: 0.50910345 | AR11: 0.35524138 | AS11: 1.294 | AT11: 0 | AU11: -999 | AW11: 1997 | AX11: 11.06463 | AY11: 2.1558904 | AZ11: 7.6126027 | BA11: -2.2534247 | BB11: 27.7 | BC11: -25.9 | BD11: 77.218356 | BE11: 54.008767 | BF11: 933.8 | BG11: 29 | BH11: 1504 | BI11: 1.270137 | BJ11: 3.8249315 | BK11: 8.2 | BL11: -255.87781 | BM11: -999 | BN11: -999 | BO11: 0.57527397 | BP11: 0.64047671 | BQ11: 3.064 | BS11: =AW11 -> 1997 | BT11: =ROUND(AX11,1) -> 11.1 | BU11: =ROUND(AY11,1) -> 2.2 | BV11: =ROUND(AZ11,1) -> 7.6 | BW11: =ROUND(BA11,1) -> -2.3 | BX11: =ROUND(BB11,1) -> 27.7 | BY11: =ROUND(BC11,1) -> -25.9 | BZ11: =ROUND(BD11,1) -> 77.2 | CA11: =ROUND(BE11,1) -> 54 | ... CG11: =ROUND(BK11,1) -> 8.2 | CK11: =ROUND(BO11,3) -> 0.575 | CL11: =ROUND(BP11,3) -> 0.64 | CM11: =ROUND(BQ11,3) -> 3.064 | CN11: =BV11-BW11 -> 9.9 | CO11: =CS11 -> 443 | CP11: =CT11 -> 304.7 | CR11: 1997 | CS11: 443 | CT11: 304.7
A12: 33479 | B12: 241 | C12: 8.16 | D12: 9 | E12: 13.4 | F12: 4.7 | G12: 85.3 | H12: 64.1 | I12: 4.2 | J12: 10.7 | K12: 1 | L12: -999 | M12: -999 | N12: -999 | O12: -999 | P12: -999 | Q12: 10.8 | R12: 0.985 | S12: =ROUND((0.6105*(EXP((17.273*E12)/(E12+237.3))))*(100-H12)/100,3) -> 0.552 | T12: =IF(V12<V13,L12,0) -> 0 | U12: =IF(T12>0,M12,-999) -> -999 | V12: 199108 | W12: 1991 | Y12: 199203 | Z12: 13.210645 | AA12: 1.7548387 | AB12: 8.2548387 | AC12: -3.4741935 | AD12: 14.4 | AE12: -10.9 | AF12: 63.977419 | AG12: 43.035484 | AH12: 29.9 | AI12: 11.3 | AJ12: 1.3129032 | AK12: 5.2129032 | AL12: 9.2 | AM12: -999 | AN12: -999 | AO12: -999 | AP12: 1.3096774 | AQ12: 0.44716129 | AR12: 0.67441935 | AS12: 1.293 | AT12: 0 | AU12: -999 | AW12: 1998 | AX12: 11.359808 | AY12: 3.1008219 | AZ12: 8.9558904 | BA12: -1.6821918 | BB12: 30.7 | BC12: -28.2 | BD12: 78.721096 | BE12: 56.66274 | BF12: 790 | BG12: 26.2 | BH12: 1060 | BI12: 1.0983562 | BJ12: 3.3361644 | BK12: 7.4 | BL12: 3.1008219 | BM12: -999 | BN12: -999 | BO12: 0.61068767 | BP12: 0.80904384 | BQ12: 3.652 | BS12: =AW12 -> 1998 | BT12: =ROUND(AX12,1) -> 11.4 | BU12: =ROUND(AY12,1) -> 3.1 | BV12: =ROUND(AZ12,1) -> 9 | BW12: =ROUND(BA12,1) -> -1.7 | BX12: =ROUND(BB12,1) -> 30.7 | BY12: =ROUND(BC12,1) -> -28.2 | BZ12: =ROUND(BD12,1) -> 78.7 | CA12: =ROUND(BE12,1) -> 56.7 | ... CH12: =ROUND(BL12,1) -> 3.1 | CK12: =ROUND(BO12,3) -> 0.611 | CL12: =ROUND(BP12,3) -> 0.809 | CM12: =ROUND(BQ12,3) -> 3.652 | CN12: =BV12-BW12 -> 10.7 | CO12: =CS12 -> 564 | CP12: =CT12 -> 388.7 | CR12: 1998 | CS12: 564 | CT12: 388.7
A13: 33480 | B13: 242 | C13: 15.7 | D13: 14.4 | E13: 18.7 | F13: 11.1 | G13: 56.4 | H13: 45 | I13: 3.6 | J13: 11.3 | K13: 0 | L13: -999 | M13: -999 | N13: -999 | O13: -999 | P13: -999 | Q13: 10.7 | R13: 0.971 | S13: =ROUND((0.6105*(EXP((17.273*E13)/(E13+237.3))))*(100-H13)/100,3) -> 1.186 | T13: =IF(V13<V14,L13,0) -> 0 | U13: =IF(T13>0,M13,-999) -> -999 | V13: 199108 | W13: 1991 | Y13: 199204 | Z13: 13.628 | AA13: 1.86 | AB13: 7.1266667 | AC13: -2.9866667 | AD13: 15.7 | AE13: -11.4 | AF13: 72.556667 | AG13: 52.96 | AH13: 56.2 | AI13: 9.4 | AJ13: 1.8533333 | AK13: 6.6433333 | AL13: 11.6 | AM13: -999 | AN13: -999 | AO13: -999 | AP13: 1.3533333 | AQ13: 0.5402 | AR13: 0.50983333 | AS13: 1.197 | AT13: 0 | AU13: -999 | AW13: 1999 | AX13: 11.218329 | AY13: 2.2619178 | AZ13: 7.9131507 | BA13: -2.620274 | BB13: 28.1 | BC13: -21.1 | BD13: 78.103836 | BE13: 55.561096 | BF13: 740.7 | BG13: 26.2 | BH13: 1430 | BI13: 1.1175342 | BJ13: 3.2863014 | BK13: 8.7 | BL13: 2.2619178 | BM13: -999 | BN13: -999 | BO13: 0.57407945 | BP13: 0.69286575 | BQ13: 2.87 | BS13: =AW13 -> 1999 | BT13: =ROUND(AX13,1) -> 11.2 | BU13: =ROUND(AY13,1) -> 2.3 | BV13: =ROUND(AZ13,1) -> 7.9 | BW13: =ROUND(BA13,1) -> -2.6 | BX13: =ROUND(BB13,1) -> 28.1 | BY13: =ROUND(BC13,1) -> -21.1 | BZ13: =ROUND(BD13,1) -> 78.1 | CA13: =ROUND(BE13,1) -> 55.6 | ... CH13: =ROUND(BL13,1) -> 2.3 | CK13: =ROUND(BO13,3) -> 0.574 | CL13: =ROUND(BP13,3) -> 0.693 | CM13: =ROUND(BQ13,3) -> 2.87 | CN13: =BV13-BW13 -> 10.5 | CO13: =CS13 -> 504 | CP13: =CT13 -> 339.4 | CR13: 1999 | CS13: 504 | CT13: 339.4
A14: 33481 | B14: 243 | C14: 9.05 | D14: 11.7 | E14: 16.4 | F14: 5.2 | G14: 69.8 | H14: 50.5 | I14: 1.2 | J14: 5.5 | K14: 6.6 | L14: -999 | M14: -999 | N14: -999 | O14: -999 | P14: -999 | Q14: 10.8 | R14: 0.942 | S14: =ROUND((0.6105*(EXP((17.273*E14)/(E14+237.3))))*(100-H14)/100,3) -> 0.923 | T14: =IF(V14<V15,L14,0) -> -999 | U14: =IF(T14>0,M14,-999) -> -999 | V14: 199108 | W14: 1991 | Y14: 199205 | Z14: 19.985161 | AA14: 7.0516129 | AB14: 13.4 | AC14: 1.0322581 | AD14: 24.2 | AE14: -6.1 | AF14: 62.445161 | AG14: 40.580645 | AH14: 38.1 | AI14: 7.4 | AJ14: 1.5225806 | AK14: 6.0548387 | AL14: 11.5 | AM14: -999 | AN14: -999 | AO14: -999 | AP14: 6.6451613 | AQ14: 0.5786129 | AR14: 1.0700645 | AS14: 2.3 | AT14: 0 | AU14: -999 | AW14: 2000 | AX14: 11.601557 | AY14: 1.6054645 | AZ14: 7.3885246 | BA14: -3.1497268 | BB14: 27.6 | BC14: -24.9 | BD14: 77.421858 | BE14: 54.020765 | BF14: 731.1 | BG14: 20 | BH14: 1048 | BI14: 1.1428962 | BJ14: 3.6379781 | BK14: 8.5 | BL14: 1.6054645 | BM14: -999 | BN14: -999 | BO14: 0.5382541 | BP14: 0.6718224 | BQ14: 2.713 | BS14: =AW14 -> 2000 | BT14: =ROUND(AX14,1) -> 11.6 | BU14: =ROUND(AY14,1) -> 1.6 | BV14: =ROUND(AZ14,1) -> 7.4 | BW14: =ROUND(BA14,1) -> -3.1 | BX14: =ROUND(BB14,1) -> 27.6 | BY14: =ROUND(BC14,1) -> -24.9 | BZ14: =ROUND(BD14,1) -> 77.4 | CA14: =ROUND(BE14,1) -> 54 | ... CH14: =ROUND(BL14,1) -> 1.6 | CK14: =ROUND(BO14,3) -> 0.538 | CL14: =ROUND(BP14,3) -> 0.672 | CM14: =ROUND(BQ14,3) -> 2.713 | CN14: =BV14-BW14 -> 10.5 | CO14: =CS14 -> 497 | CP14: =CT14 -> 344.6 | CR14: 2000 | CS14: 497 | CT14: 344.6
A15: 33482 | B15: 244 | C15: 17.54 | D15: 5.2 | E15: 11.3 | F15: -0.2 | G15: 76.1 | H15: 51.5 | I15: 1.5 | J15: 6.5 | K15: 0.3 | L15: -999 | M15: -999 | N15: -999 | O15: -999 | P15: -999 | Q15: 10.9 | R15: 0.687 | S15: =ROUND((0.6105*(EXP((17.273*E15)/(E15+237.3))))*(100-H15)/100,3) -> 0.649 | T15: =IF(V15<V16,L15,0) -> 0 | U15: =IF(T15>0,M15,-999) -> -999 | V15: 199109 | W15: 1991 | Y15: 199206 | Z15: 21.102 | AA15: 12.56 | AB15: 19.003333 | AC15: 5.63 | AD15: 27.8 | AE15: -0.1 | AF15: 58.513333 | AG15: 38.923333 | AH15: 93.3 | AI15: 34.3 | AJ15: 1.3533333 | AK15: 6.3 | AL15: 10 | AM15: -999 | AN15: -999 | AO15: -999 | AP15: 11.123333 | AQ15: 0.7907 | AR15: 1.5188333 | AS15: 3.086 | AT15: 0 | AU15: -999 | AW15: 2001 | AX15: 11.512795 | AY15: 2.1553425 | AZ15: 7.7350685 | BA15: -2.5331507 | BB15: 28.6 | BC15: -18.9 | BD15: 75.988219 | BE15: 52.893151 | BF15: 715.5 | BG15: 19.5 | BH15: 1115 | BI15: 1.1909589 | BJ15: 3.5109589 | BK15: 8.6 | BL15: 2.1553425 | BM15: -999 | BN15: -999 | BO15: 0.53563288 | BP15: 0.719 | BQ15: 3.139 | BS15: =AW15 -> 2001 | BT15: =ROUND(AX15,1) -> 11.5 | BU15: =ROUND(AY15,1) -> 2.2 | BV15: =ROUND(AZ15,1) -> 7.7 | BW15: =ROUND(BA15,1) -> -2.5 | BX15: =ROUND(BB15,1) -> 28.6 | BY15: =ROUND(BC15,1) -> -18.9 | BZ15: =ROUND(BD15,1) -> 76 | CA15: =ROUND(BE15,1) -> 52.9 | ... CH15: =ROUND(BL15,1) -> 2.2 | CK15: =ROUND(BO15,3) -> 0.536 | CL15: =ROUND(BP15,3) -> 0.719 | CM15: =ROUND(BQ15,3) -> 3.139 | CN15: =BV15-BW15 -> 10.2 | CO15: =CS15 -> 459 | CP15: =CT15 -> 314 | CR15: 2001 | CS15: 459 | CT15: 314
A16: 33483 | B16: 245 | C16: 20.66 | D16: 5.8 | E16: 13.3 | F16: -1.6 | G16: 73.2 | H16: 50.1 | I16: 1.2 | J16: 4.7 | K16: 0 | L16: -999 | M16: -999 | N16: -999 | O16: -999 | P16: -999 | Q16: 10.7 | R16: 0.765 | S16: =ROUND((0.6105*(EXP((17.273*E16)/(E16+237.3))))*(100-H16)/100,3) -> 0.762 | T16: =IF(V16<V17,L16,0) -> 0 | U16: =IF(T16>0,M16,-999) -> -999 | V16: 199109 | W16: 1991 | Y16: 199207 | Z16: 17.787742 | AA16: 12.054839 | AB16: 17.480645 | AC16: 6.9032258 | AD16: 26.9 | AE16: 3.2 | AF16: 76.63871 | AG16: 47.458065 | AH16: 92.1 | AI16: 25.9 | AJ16: 1.0387097 | AK16: 5.1870968 | AL16: 8.1 | AM16: -999 | AN16: -999 | AO16: -999 | AP16: -900.93226 | AQ16: 0.94119355 | AR16: 1.1350645 | AS16: 2.268 | AT16: 0 | AU16: -999 | AW16: 2002 | AX16: 11.659041 | AY16: 2.1134247 | AZ16: 8.0208219 | BA16: -2.7671233 | BB16: 29.8 | BC16: -22.7 | BD16: 76.032877 | BE16: 53.186301 | BF16: 569.4 | BG16: 27.8 | BH16: 1219 | BI16: -209.94356 | BJ16: -208.79589 | BK16: 6.6 | BL16: 4.32 | BM16: -793.49397 | BN16: -793.2789 | BO16: 0.5520274 | BP16: 0.73657534 | BQ16: 3.329 | BS16: =AW16 -> 2002 | BT16: =ROUND(AX16,1) -> 11.7 | BU16: =ROUND(AY16,1) -> 2.1 | BV16: =ROUND(AZ16,1) -> 8 | BW16: =ROUND(BA16,1) -> -2.8 | BX16: =ROUND(BB16,1) -> 29.8 | BY16: =ROUND(BC16,1) -> -22.7 | BZ16: =ROUND(BD16,1) -> 76 | CA16: =ROUND(BE16,1) -> 53.2 | ... CD16: =ROUND(BH16,1) -> 1219 | CG16: =ROUND(BK16,1) -> 6.6 | CH16: =ROUND(BL16,1) -> 4.3 | CK16: =ROUND(BO16,3) -> 0.552 | CL16: =ROUND(BP16,3) -> 0.737 | CM16: =ROUND(BQ16,3) -> 3.329 | CN16: =BV16-BW16 -> 10.8 | CO16: =CS16 -> 533 | CP16: =CT16 -> 360.5 | CR16: 2002 | CS16: 533 | CT16: 360.5
A17: 33484 | B17: 246 | C17: 21.46 | D17: 9.3 | E17: 17 | F17: 1.8 | G17: 59.3 | H17: 34.8 | I17: 1.3 | J17: 4.1 | K17: 0 | L17: -999 | M17: -999 | N17: -999 | O17: -999 | P17: -999 | Q17: 10.6 | R17: 0.674 | S17: =ROUND((0.6105*(EXP((17.273*E17)/(E17+237.3))))*(100-H17)/100,3) -> 1.263 | T17: =IF(V17<V18,L17,0) -> 0 | U17: =IF(T17>0,M17,-999) -> -999 | V17: 199109 | W17: 1991 | Y17: 199208 | Z17: 18.73871 | AA17: 12.458065 | AB17: 19.16129 | AC17: 5.9258065 | AD17: 26.9 | AE17: -2.5 | AF17: 62.935484 | AG17: 35.509677 | AH17: 28.4 | AI17: 7.6 | AJ17: 1.0483871 | AK17: 5.2451613 | AL17: 7.2 | AM17: -999 | AN17: -312.25161 | AO17: -999 | AP17: -313.48387 | AQ17: 0.7863871 | AR17: 1.5457742 | AS17: 2.86 | AT17: 0 | AU17: -999 | AW17: 2003 | AX17: 11.592219 | AY17: 2.9657534 | AZ17: 8.9578082 | BA17: -1.9863014 | BB17: 31.3 | BC17: -22.6 | BD17: 75.308767 | BE17: 52.403562 | BF17: 690.5 | BG17: 27.2 | BH17: 1028 | BI17: -999 | BJ17: -999 | BK17: -999 | BL17: 5.7205479 | BM17: 5.1690411 | BN17: 5.0879452 | BO17: 0.55313699 | BP17: 0.85714521 | BQ17: 4.053 | BS17: =AW17 -> 2003 | BT17: =ROUND(AX17,1) -> 11.6 | BU17: =ROUND(AY17,1) -> 3 | BV17: =ROUND(AZ17,1) -> 9 | BW17: =ROUND(BA17,1) -> -2 | BX17: =ROUND(BB17,1) -> 31.3 | BY17: =ROUND(BC17,1) -> -22.6 | BZ17: =ROUND(BD17,1) -> 75.3 | CA17: =ROUND(BE17,1) -> 52.4 | ... CD17: =ROUND(BH17,1) -> 1028 | CH17: =ROUND(BL17,1) -> 5.7 | CI17: =ROUND(BM17,1) -> 5.2 | CJ17: =ROUND(BN17,1) -> 5.1 | CK17: =ROUND(BO17,3) -> 0.553 | CL17: =ROUND(BP17,3) -> 0.857 | CM17: =ROUND(BQ17,3) -> 4.053 | CN17: =BV17-BW17 -> 11 | CO17: =CS17 -> 557 | CP17: =CT17 -> 380.5 | CR17: 2003 | CS17: 557 | CT17: 380.5
A18: 33485 | B18: 247 | C18: 21.67 | D18: 12.7 | E18: 19.1 | F18: 3.2 | G18: 50.5 | H18: 40.1 | I18: 1.3 | J18: 4.6 | K18: 0 | L18: -999 | M18: -999 | N18: -999 | O18: -999 | P18: -999 | Q18: 10.6 | R18: 0.887 | S18: =ROUND((0.6105*(EXP((17.273*E18)/(E18+237.3))))*(100-H18)/100,3) -> 1.324 | T18: =IF(V18<V19,L18,0) -> 0 | U18: =IF(T18>0,M18,-999) -> -999 | V18: 199109 | W18: 1991 | Y18: 199209 | Z18: 10.885667 | AA18: 5.7733333 | AB18: 11.626667 | AC18: 0.58666667 | AD18: 21.2 | AE18: -6.2 | AF18: 71.84 | AG18: 50.573333 | AH18: 48.7 | AI18: 9.4 | AJ18: 1.5233333 | AK18: 6.4633333 | AL18: 11.8 | AM18: -999 | AN18: 12.133333 | AO18: -999 | AP18: 9.0933333 | AQ18: 0.6713 | AR18: 0.7804 | AS18: 2.021 | AT18: 0 | AU18: -999 | AW18: 2004 | AX18: -246.6827 | AY18: 3.1057377 | AZ18: 8.8087432 | BA18: -1.4379781 | BB18: 29.6 | BC18: -28.8 | BD18: 79.347268 | BE18: 57.018852 | BF18: 860.9 | BG18: 31 | BH18: 1191 | BI18: -999 | BJ18: -999 | BK18: -999 | BL18: -251.5612 | BM18: -252.14973 | BN18: -999 | BO18: 0.62755738 | BP18: 0.7172623 | BQ18: 3.184 | BS18: =AW18 -> 2004 | BU18: =ROUND(AY18,1) -> 3.1 | BV18: =ROUND(AZ18,1) -> 8.8 | BW18: =ROUND(BA18,1) -> -1.4 | BX18: =ROUND(BB18,1) -> 29.6 | BY18: =ROUND(BC18,1) -> -28.8 | BZ18: =ROUND(BD18,1) -> 79.3 | CA18: =ROUND(BE18,1) -> 57 | CB18: =ROUND(BF18,1) -> 860.9 | ... CD18: =ROUND(BH18,1) -> 1191 | CK18: =ROUND(BO18,3) -> 0.628 | CL18: =ROUND(BP18,3) -> 0.717 | CM18: =ROUND(BQ18,3) -> 3.184 | CN18: =BV18-BW18 -> 10.2 | CO18: =CS18 -> 522 | CP18: =CT18 -> 358.2 | CR18: 2004 | CS18: 522 | CT18: 358.2
A19: 33486 | B19: 248 | C19: 21.57 | D19: 14 | E19: 21.7 | F19: 5.7 | G19: 50.7 | H19: 17.3 | I19: 1.2 | J19: 4.6 | K19: 0 | L19: -999 | M19: -999 | N19: -999 | O19: -999 | P19: -999 | Q19: 10.8 | R19: 0.45 | S19: =ROUND((0.6105*(EXP((17.273*E19)/(E19+237.3))))*(100-H19)/100,3) -> 2.146 | T19: =IF(V19<V20,L19,0) -> 0 | U19: =IF(T19>0,M19,-999) -> -999 | V19: 199109 | W19: 1991 | Y19: 199210 | Z19: 6.4351613 | AA19: 2.8548387 | AB19: 7.6774194 | AC19: -1.483871 | AD19: 23.1 | AE19: -11.1 | AF19: 74.716129 | AG19: 57.103226 | AH19: 37.7 | AI19: 7.1 | AJ19: 1.3129032 | AK19: 5.8903226 | AL19: 8.5 | AM19: -999 | AN19: 8.0387097 | AO19: -999 | AP19: 5.6741935 | AQ19: 0.57132258 | AR19: 0.55777419 | AS19: 2.196 | AT19: 48 | AU19: -999 | AW19: 2005 | AX19: -999 | AY19: 2.5523288 | AZ19: 8.3391781 | BA19: -2.1482192 | BB19: 26.5 | BC19: -25.5 | BD19: 77.838904 | BE19: 55.257534 | BF19: 630 | BG19: 31.2 | BH19: 816 | BI19: -999 | BJ19: -999 | BK19: -999 | BL19: -999 | BM19: 5.1868493 | BN19: -999 | BO19: 0.58766849 | BP19: 0.69372877 | BQ19: 2.894 | BS19: =AW19 -> 2005 | BU19: =ROUND(AY19,1) -> 2.6 | BV19: =ROUND(AZ19,1) -> 8.3 | BW19: =ROUND(BA19,1) -> -2.1 | BX19: =ROUND(BB19,1) -> 26.5 | BY19: =ROUND(BC19,1) -> -25.5 | BZ19: =ROUND(BD19,1) -> 77.8 | CA19: =ROUND(BE19,1) -> 55.3 | CB19: =ROUND(BF19,1) -> 630 | ... CD19: =ROUND(BH19,1) -> 816 | CK19: =ROUND(BO19,3) -> 0.588 | CL19: =ROUND(BP19,3) -> 0.694 | CM19: =ROUND(BQ19,3) -> 2.894 | CN19: =BV19-BW19 -> 10.4 | CO19: =CS19 -> 506 | CP19: =CT19 -> 346.3 | CR19: 2005 | CS19: 506 | CT19: 346.3
A20: 33487 | B20: 249 | C20: 19.42 | D20: 13.5 | E20: 21.1 | F20: 6.7 | G20: 48.7 | H20: 29.1 | I20: 1.2 | J20: 4.5 | K20: 0 | L20: -999 | M20: -999 | N20: -999 | O20: -999 | P20: -999 | Q20: 11 | R20: 0.727 | S20: =ROUND((0.6105*(EXP((17.273*E20)/(E20+237.3))))*(100-H20)/100,3) -> 1.774 | T20: =IF(V20<V21,L20,0) -> 0 | U20: =IF(T20>0,M20,-999) -> -999 | V20: 199109 | W20: 1991 | Y20: 199211 | Z20: 3.1023333 | AA20: -4.08 | AB20: -0.14333333 | AC20: -8.3 | AD20: 6.4 | AE20: -15 | AF20: 89.95 | AG20: 75.43 | AH20: 105 | AI20: 19.8 | AJ20: 0.81 | AK20: 4.3133333 | AL20: 9.2 | AM20: -999 | AN20: 0.41666667 | AO20: -999 | AP20: 1.4566667 | AQ20: 0.4555 | AR20: 0.1612 | AS20: 0.482 | AT20: 478 | AU20: -999 | AW20: 2006 | AX20: -999 | AY20: 2.5424658 | AZ20: 8.2832877 | BA20: -2.1323288 | BB20: 31 | BC20: -29.5 | BD20: 78.571507 | BE20: 57.325205 | BF20: 816.6 | BG20: 28 | BH20: 1270 | BI20: -999 | BJ20: -999 | BK20: -999 | BL20: -999 | BM20: 5.2457534 | BN20: -999 | BO20: 0.60234521 | BP20: 0.75351233 | BQ20: 3.42 | BS20: =AW20 -> 2006 | BU20: =ROUND(AY20,1) -> 2.5 | BV20: =ROUND(AZ20,1) -> 8.3 | BW20: =ROUND(BA20,1) -> -2.1 | BX20: =ROUND(BB20,1) -> 31 | BY20: =ROUND(BC20,1) -> -29.5 | BZ20: =ROUND(BD20,1) -> 78.6 | CA20: =ROUND(BE20,1) -> 57.3 | CB20: =ROUND(BF20,1) -> 816.6 | ... CD20: =ROUND(BH20,1) -> 1270 | CK20: =ROUND(BO20,3) -> 0.602 | CL20: =ROUND(BP20,3) -> 0.754 | CM20: =ROUND(BQ20,3) -> 3.42 | CN20: =BV20-BW20 -> 10.4 | CO20: =CS20 -> 540 | CP20: =CT20 -> 361.2 | CR20: 2006 | CS20: 540 | CT20: 361.2
A21: 33488 | B21: 250 | C21: 12.07 | D21: 9.4 | E21: 15 | F21: 4.5 | G21: 75.4 | H21: 56.1 | I21: 1.3 | J21: 4.9 | K21: 0 | L21: -999 | M21: -999 | N21: -999 | O21: -999 | P21: -999 | Q21: 11.2 | R21: 0.957 | S21: =ROUND((0.6105*(EXP((17.273*E21)/(E21+237.3))))*(100-H21)/100,3) -> 0.748 | T21: =IF(V21<V22,L21,0) -> 0 | U21: =IF(T21>0,M21,-999) -> -999 | V21: 199109 | W21: 1991 | Y21: 199212 | Z21: 2.426129 | AA21: -9.1096774 | AB21: -5.2903226 | AC21: -13.26129 | AD21: -0.5 | AE21: -23.8 | AF21: 84.693548 | AG21: 72.758065 | AH21: 74.3 | AI21: 21.5 | AJ21: 1.3580645 | AK21: 6.5806452 | AL21: 10.1 | AM21: -999 | AN21: 0.26774194 | AO21: -999 | AP21: 1.0677419 | AQ21: 0.29790323 | AR21: 0.12470968 | AS21: 0.45 | AT21: 880 | AU21: -999 | AW21: 2007 | AX21: -999 | AY21: 2.0769863 | AZ21: 7.6972603 | BA21: -2.700274 | BB21: 29.6 | BC21: -22.2 | BD21: 75.065479 | BE21: 51.825479 | BF21: 671.6 | BG21: 33.5 | BH21: 1060 | BI21: -999 | BJ21: -999 | BK21: -999 | BL21: -999 | BM21: 4.9161644 | BN21: -999 | BO21: 0.52578082 | BP21: 0.73683014 | BQ21: 3.255 | BS21: =AW21 -> 2007 | BU21: =ROUND(AY21,1) -> 2.1 | BV21: =ROUND(AZ21,1) -> 7.7 | BW21: =ROUND(BA21,1) -> -2.7 | BX21: =ROUND(BB21,1) -> 29.6 | BY21: =ROUND(BC21,1) -> -22.2 | BZ21: =ROUND(BD21,1) -> 75.1 | CA21: =ROUND(BE21,1) -> 51.8 | CB21: =ROUND(BF21,1) -> 671.6 | ... CD21: =ROUND(BH21,1) -> 1060 | CK21: =ROUND(BO21,3) -> 0.526 | CL21: =ROUND(BP21,3) -> 0.737 | CM21: =ROUND(BQ21,3) -> 3.255 | CN21: =BV21-BW21 -> 10.4 | CO21: =CS21 -> 516 | CP21: =CT21 -> 351.3 | CR21: 2007 | CS21: 516 | CT21: 351.3
A22: 33489 | B22: 251 | C22: 16.83 | D22: 5.7 | E22: 10.5 | F22: 1.3 | G22: 76.2 | H22: 53.9 | I22: 1.6 | J22: 5.8 | K22: 0 | L22: -999 | M22: -999 | N22: -999 | O22: -999 | P22: -999 | Q22: 11.1 | R22: 0.683 | S22: =ROUND((0.6105*(EXP((17.273*E22)/(E22+237.3))))*(100-H22)/100,3) -> 0.585 | T22: =IF(V22<V23,L22,0) -> 0 | U22: =IF(T22>0,M22,-999) -> -999 | V22: 199109 | W22: 1991 | Y22: 199301 | Z22: 4.1296774 | AA22: -8.4129032 | AB22: -3.8741935 | AC22: -12.190323 | AD22: 10.1 | AE22: -25.1 | AF22: 86.616129 | AG22: 72.303226 | AH22: 35 | AI22: 8.2 | AJ22: 1.1612903 | AK22: 5.2677419 | AL22: 12.4 | AM22: -999 | AN22: 0.12580645 | AO22: -999 | AP22: -999 | AQ22: 0.34783871 | AR22: 0.15093548 | AS22: 0.819 | AT22: 928 | AU22: -999 | AW22: 2008 | AX22: -999 | AY22: 1.4502732 | AZ22: 7.2144809 | BA22: -3.3811475 | BB22: 30.4 | BC22: -30.1 | BD22: 70.584699 | BE22: 47.396721 | BF22: 718.598 | BG22: 25.27 | BH22: 1079 | BI22: -630.09995 | BJ22: -629.36601 | BK22: 6.91 | BL22: -999 | BM22: 3.2385246 | BN22: -999 | BO22: 0.46493169 | BP22: 0.77362022 | BQ22: 3.611 | BS22: =AW22 -> 2008 | BU22: =ROUND(AY22,1) -> 1.5 | BV22: =ROUND(AZ22,1) -> 7.2 | BW22: =ROUND(BA22,1) -> -3.4 | BX22: =ROUND(BB22,1) -> 30.4 | BY22: =ROUND(BC22,1) -> -30.1 | BZ22: =ROUND(BD22,1) -> 70.6 | CA22: =ROUND(BE22,1) -> 47.4 | CB22: =ROUND(BF22,1) -> 718.6 | ... CD22: =ROUND(BH22,1) -> 1079 | CK22: =ROUND(BO22,3) -> 0.465 | CL22: =ROUND(BP22,3) -> 0.774 | CM22: =ROUND(BQ22,3) -> 3.611 | CN22: =BV22-BW22 -> 10.6 | CO22: =CS22 -> 465 | CP22: =CT22 -> 304.3 | CR22: 2008 | CS22: 465 | CT22: 304.3
A23: 33490 | B23: 252 | C23: 16.59 | D23: 8 | E23: 15.7 | F23: 0.4 | G23: 71.9 | H23: 51.5 | I23: 1.2 | J23: 5.3 | K23: 0 | L23: -999 | M23: -999 | N23: -999 | O23: -999 | P23: -999 | Q23: 10.9 | R23: 0.918 | S23: =ROUND((0.6105*(EXP((17.273*E23)/(E23+237.3))))*(100-H23)/100,3) -> 0.865 | T23: =IF(V23<V24,L23,0) -> 0 | U23: =IF(T23>0,M23,-999) -> -999 | V23: 199109 | W23: 1991 | Y23: 199302 | Z23: 7.8514286 | AA23: -6.7535714 | AB23: -1.225 | AC23: -10.967857 | AD23: 8.3 | AE23: -21.8 | AF23: 74.725 | AG23: 57.792857 | AH23: 30.2 | AI23: 10.5 | AJ23: 1.0678571 | AK23: 4.85 | AL23: 7.7 | AM23: -999 | AN23: 0.067857143 | AO23: -999 | AP23: -999 | AQ23: 0.34203571 | AR23: 0.25660714 | AS23: 0.707 | AT23: 924 | AU23: -999 | AW23: 2009 | AX23: -999 | AY23: 3.1777778 | AZ23: 9.7 | BA23: -2.190535 | BB23: 28.6 | BC23: -27.2 | BD23: 65.833745 | BE23: 40.330041 | BF23: 440.669 | BG23: 24.564 | BH23: 1311 | BI23: 1.0677366 | BJ23: 2.8585597 | BK23: 6.14 | BL23: -999 | BM23: 4.8222222 | BN23: -999 | BO23: 0.47623868 | BP23: 0.98146502 | BQ23: 3.459 | BS23: =AW23 -> 2009 | CR23: 2009 | CS23: 399 | CT23: 296.3
A24: 33491 | B24: 253 | C24: 18.3 | D24: 9.9 | E24: 16.3 | F24: 4.2 | G24: 60.9 | H24: 42 | I24: 1.2 | J24: 5.8 | K24: 0 | L24: -999 | M24: -999 | N24: -999 | O24: -999 | P24: -999 | Q24: 10.8 | R24: 0.777 | S24: =ROUND((0.6105*(EXP((17.273*E24)/(E24+237.3))))*(100-H24)/100,3) -> 1.075 | T24: =IF(V24<V25,L24,0) -> 0 | U24: =IF(T24>0,M24,-999) -> -999 | V24: 199109 | W24: 1991 | Y24: 199303 | Z24: 10.785806 | AA24: -2.6774194 | AB24: 3.116129 | AC24: -7.8354839 | AD24: 9.4 | AE24: -16.7 | AF24: 73.564516 | AG24: 51.212903 | AH24: 31.3 | AI24: 12.2 | AJ24: 1.3709677 | AK24: 5.7419355 | AL24: 10.1 | AM24: -999 | AN24: 0 | AO24: -999 | AP24: -999 | AQ24: 0.39680645 | AR24: 0.37748387 | AS24: 0.666 | AT24: 837 | AU24: -999 | AW24: Grand Total | AX24: -264.4647 | AY24: 2.3035991 | AZ24: 7.9931207 | BA24: -2.4931663 | BB24: 31.3 | BC24: -31.6 | BD24: 75.590099 | BE24: 53.281109 | BF24: 13173.967 | BG24: 40.7 | BH24: 1504 | BI24: -322.97127 | BJ24: -320.97378 | BK24: 17.8 | BL24: -570.21432 | BM24: -630.71845 | BN24: -861.7942 | BO24: 0.55346424 | BP24: 0.73139499 | BQ24: 4.053 | CR24: Grand Total | CS24: 9103 | CT24: 6223.9
A25: 33492 | B25: 254 | C25: 18.01 | D25: 12 | E25: 19.5 | F25: 5.5 | G25: 56.9 | H25: 37.1 | I25: 1.2 | J25: 5 | K25: 0 | L25: -999 | M25: -999 | N25: -999 | O25: -999 | P25: -999 | Q25: 10.7 | R25: 0.841 | S25: =ROUND((0.6105*(EXP((17.273*E25)/(E25+237.3))))*(100-H25)/100,3) -> 1.425 | T25: =IF(V25<V26,L25,0) -> 0 | U25: =IF(T25>0,M25,-999) -> -999 | V25: 199109 | W25: 1991 | Y25: 199304 | Z25: 13.174333 | AA25: -0.063333333 | AB25: 4.8666667 | AC25: -4.12 | AD25: 9.2 | AE25: -8.4 | AF25: 86.296667 | AG25: 63.54 | AH25: 63.9 | AI25: 15 | AJ25: 1.4 | AK25: 5.84 | AL25: 9.1 | AM25: -999 | AN25: -0.02 | AO25: -999 | AP25: -999 | AQ25: 0.54126667 | AR25: 0.3306 | AS25: 0.722 | AT25: 672 | AU25: -999
A26: 33493 | B26: 255 | C26: 16.27 | D26: 12.8 | E26: 19 | F26: 7.8 | G26: 54.7 | H26: 38.8 | I26: 1.3 | J26: 5.8 | K26: 0 | L26: -999 | M26: -999 | N26: -999 | O26: -999 | P26: -999 | Q26: 10.8 | R26: 0.851 | S26: =ROUND((0.6105*(EXP((17.273*E26)/(E26+237.3))))*(100-H26)/100,3) -> 1.344 | T26: =IF(V26<V27,L26,0) -> 0 | U26: =IF(T26>0,M26,-999) -> -999 | V26: 199109 | W26: 1991 | Y26: 199305 | Z26: 20.799677 | AA26: 9.1129032 | AB26: 15.067742 | AC26: 2.7032258 | AD26: 25.6 | AE26: -4.6 | AF26: 62.167742 | AG26: 39.877419 | AH26: 49.1 | AI26: 8 | AJ26: 1.5935484 | AK26: 6.1774194 | AL26: 9.4 | AM26: -999 | AN26: 7.3129032 | AO26: -999 | AP26: -999 | AQ26: 0.63706452 | AR26: 1.1999032 | AS26: 2.855 | AT26: 0 | AU26: -999
A27: 33494 | B27: 256 | C27: 7.53 | D27: 4.8 | E27: 8.5 | F27: 1.8 | G27: 79.7 | H27: 66.2 | I27: 2 | J27: 8 | K27: 1 | L27: -999 | M27: -999 | N27: -999 | O27: -999 | P27: -999 | Q27: 10.8 | R27: 0.734 | S27: =ROUND((0.6105*(EXP((17.273*E27)/(E27+237.3))))*(100-H27)/100,3) -> 0.375 | T27: =IF(V27<V28,L27,0) -> 0 | U27: =IF(T27>0,M27,-999) -> -999 | V27: 199109 | W27: 1991 | Y27: 199306 | Z27: 16.813 | AA27: 7.4766667 | AB27: 13.273333 | AC27: 2.1 | AD27: 20.5 | AE27: -1.6 | AF27: 78.25 | AG27: 54.983333 | AH27: 116.8 | AI27: 20.6 | AJ27: 1.2066667 | AK27: 5.53 | AL27: 10.3 | AM27: -999 | AN27: 10.846667 | AO27: -999 | AP27: -999 | AQ27: 0.79583333 | AR27: 0.787 | AS27: 1.975 | AT27: 0 | AU27: -999
A28: 33495 | B28: 257 | C28: 18.81 | D28: 6.1 | E28: 13.6 | F28: 0.5 | G28: 71.8 | H28: 43.7 | I28: 1.3 | J28: 5.7 | K28: 0 | L28: -999 | M28: -999 | N28: -999 | O28: -999 | P28: -999 | Q28: 10.4 | R28: 0.681 | S28: =ROUND((0.6105*(EXP((17.273*E28)/(E28+237.3))))*(100-H28)/100,3) -> 0.877 | T28: =IF(V28<V29,L28,0) -> 0 | U28: =IF(T28>0,M28,-999) -> -999 | V28: 199109 | W28: 1991 | Y28: 199307 | Z28: 15.970968 | AA28: 8.2677419 | AB28: 14.274194 | AC28: 3.5064516 | AD28: 20.1 | AE28: 0.5 | AF28: 84.648387 | AG28: 62.019355 | AH28: 173.5 | AI28: 32 | AJ28: 0.8483871 | AK28: 4.8548387 | AL28: 8.7 | AM28: -999 | AN28: -542.4129 | AO28: -999 | AP28: -999 | AQ28: 0.98845161 | AR28: 0.65651613 | AS28: 1.39 | AT28: 0 | AU28: -999
A29: 33496 | B29: 258 | C29: 18.56 | D29: 9.8 | E29: 16.9 | F29: 2 | G29: 64.6 | H29: 46.9 | I29: 1 | J29: 4 | K29: 0 | L29: -999 | M29: -999 | N29: -999 | O29: -999 | P29: -999 | Q29: 10.2 | R29: 0.905 | S29: =ROUND((0.6105*(EXP((17.273*E29)/(E29+237.3))))*(100-H29)/100,3) -> 1.022 | T29: =IF(V29<V30,L29,0) -> 0 | U29: =IF(T29>0,M29,-999) -> -999 | V29: 199109 | W29: 1991 | Y29: 199308 | Z29: 17.93871 | AA29: 10.5 | AB29: 16.848387 | AC29: 4.6548387 | AD29: 22.1 | AE29: 0.1 | AF29: 73.635484 | AG29: 50.041935 | AH29: 48.5 | AI29: 18.8 | AJ29: 0.85483871 | AK29: 4.7516129 | AL29: 7 | AM29: -999 | AN29: -509.6 | AO29: -999 | AP29: -999 | AQ29: 0.93158065 | AR29: 1.0501935 | AS29: 1.819 | AT29: 0 | AU29: -999
A30: 33497 | B30: 259 | C30: 16.2 | D30: 10.2 | E30: 15.5 | F30: 6.6 | G30: 64.9 | H30: 46.7 | I30: 1.3 | J30: 6.8 | K30: 0 | L30: -999 | M30: -999 | N30: -999 | O30: -999 | P30: -999 | Q30: 10.3 | R30: 0.821 | S30: =ROUND((0.6105*(EXP((17.273*E30)/(E30+237.3))))*(100-H30)/100,3) -> 0.938 | T30: =IF(V30<V31,L30,0) -> 0 | U30: =IF(T30>0,M30,-999) -> -999 | V30: 199109 | W30: 1991 | Y30: 199309 | Z30: 15.105667 | AA30: 8.8866667 | AB30: 15.846667 | AC30: 2.9666667 | AD30: 24.2 | AE30: -2.6 | AF30: 62.396667 | AG30: 39.42 | AH30: 17.2 | AI30: 7 | AJ30: 0.75 | AK30: 4.2133333 | AL30: 8.2 | AM30: -999 | AN30: 9.86 | AO30: -999 | AP30: -999 | AQ30: 0.65826667 | AR30: 1.251 | AS30: 2.533 | AT30: 0 | AU30: -999
A31: 33498 | B31: 260 | C31: 17.81 | D31: 9.9 | E31: 16.5 | F31: 1.6 | G31: 64.7 | H31: 48.3 | I31: 1.3 | J31: 3.9 | K31: 0 | L31: -999 | M31: -999 | N31: -999 | O31: -999 | P31: -999 | Q31: 10.3 | R31: 0.908 | S31: =ROUND((0.6105*(EXP((17.273*E31)/(E31+237.3))))*(100-H31)/100,3) -> 0.97 | T31: =IF(V31<V32,L31,0) -> 0 | U31: =IF(T31>0,M31,-999) -> -999 | V31: 199109 | W31: 1991 | Y31: 199310 | Z31: 8.1893548 | AA31: 4.0032258 | AB31: 9.5967742 | AC31: -0.84516129 | AD31: 20.9 | AE31: -6.2 | AF31: 73.225806 | AG31: 51.516129 | AH31: 44.9 | AI31: 13 | AJ31: 0.64516129 | AK31: 3.8677419 | AL31: 9.2 | AM31: -999 | AN31: 4.2645161 | AO31: -999 | AP31: -999 | AQ31: 0.59435484 | AR31: 0.67645161 | AS31: 1.543 | AT31: 50 | AU31: -999
A32: 33499 | B32: 261 | C32: 17.79 | D32: 12.4 | E32: 19.9 | F32: 7.4 | G32: 53.9 | H32: 35.3 | I32: 1.1 | J32: 3.6 | K32: 0 | L32: -999 | M32: -999 | N32: -999 | O32: -999 | P32: -999 | Q32: 10.4 | R32: 0.822 | S32: =ROUND((0.6105*(EXP((17.273*E32)/(E32+237.3))))*(100-H32)/100,3) -> 1.503 | T32: =IF(V32<V33,L32,0) -> 0 | U32: =IF(T32>0,M32,-999) -> -999 | V32: 199109 | W32: 1991 | Y32: 199311 | Z32: 4.0903333 | AA32: -5.44 | AB32: -0.72 | AC32: -9.6266667 | AD32: 6.8 | AE32: -25.2 | AF32: 79.133333 | AG32: 58.176667 | AH32: 51.8 | AI32: 19.5 | AJ32: 0.90333333 | AK32: 4.6366667 | AL32: 8.3 | AM32: -999 | AN32: -0.13 | AO32: -999 | AP32: -999 | AQ32: 0.33553333 | AR32: 0.26816667 | AS32: 0.666 | AT32: 150 | AU32: -999
A33: 33500 | B33: 262 | C33: 17.84 | D33: 13.4 | E33: 20.1 | F33: 5.5 | G33: 47 | H33: 31.3 | I33: 1.1 | J33: 4.7 | K33: 0 | L33: -999 | M33: -999 | N33: -999 | O33: -999 | P33: -999 | Q33: 10.6 | R33: 0.738 | S33: =ROUND((0.6105*(EXP((17.273*E33)/(E33+237.3))))*(100-H33)/100,3) -> 1.616 | T33: =IF(V33<V34,L33,0) -> 0 | U33: =IF(T33>0,M33,-999) -> -999 | V33: 199109 | W33: 1991 | Y33: 199312 | Z33: 2.3532258 | AA33: -4.5870968 | AB33: -0.43225806 | AC33: -8.1225806 | AD33: 8.1 | AE33: -17 | AF33: 84.283871 | AG33: 67.796774 | AH33: 63.5 | AI33: 15.2 | AJ33: 1.1096774 | AK33: 5.3322581 | AL33: 12.1 | AM33: -999 | AN33: -0.15806452 | AO33: -999 | AP33: -999 | AQ33: 0.38977419 | AR33: 0.21974194 | AS33: 0.856 | AT33: 671 | AU33: -999
A34: 33501 | B34: 263 | C34: 8.1 | D34: 5 | E34: 9.7 | F34: -0.5 | G34: 59 | H34: 46.1 | I34: 1.4 | J34: 5.2 | K34: 0 | L34: -999 | M34: -999 | N34: -999 | O34: -999 | P34: -999 | Q34: 10.6 | R34: 0.555 | S34: =ROUND((0.6105*(EXP((17.273*E34)/(E34+237.3))))*(100-H34)/100,3) -> 0.648 | T34: =IF(V34<V35,L34,0) -> 0 | U34: =IF(T34>0,M34,-999) -> -999 | V34: 199109 | W34: 1991 | Y34: 199401 | Z34: 2.976129 | AA34: -2.7774194 | AB34: 0.41290323 | AC34: -5.3548387 | AD34: 8.2 | AE34: -12.4 | AF34: 86.474194 | AG34: 70.709677 | AH34: 37.1 | AI34: 13.1 | AJ34: 1.1967742 | AK34: 5.4225806 | AL34: 8.8 | AM34: -999 | AN34: 0.04516129 | AO34: -999 | AP34: -999 | AQ34: 0.44196774 | AR34: 0.20354839 | AS34: 0.533 | AT34: 659 | AU34: -999
A35: 33502 | B35: 264 | C35: 14.67 | D35: 1.8 | E35: 8.5 | F35: -3.1 | G35: 62.6 | H35: 44.6 | I35: 1.6 | J35: 7 | K35: 0 | L35: -999 | M35: -999 | N35: -999 | O35: -999 | P35: -999 | Q35: 10 | R35: 0.495 | S35: =ROUND((0.6105*(EXP((17.273*E35)/(E35+237.3))))*(100-H35)/100,3) -> 0.615 | T35: =IF(V35<V36,L35,0) -> 0 | U35: =IF(T35>0,M35,-999) -> -999 | V35: 199109 | W35: 1991 | Y35: 199402 | Z35: 5.6025 | AA35: -7.425 | AB35: -2.9964286 | AC35: -11.835714 | AD35: 3.4 | AE35: -24.5 | AF35: 82.760714 | AG35: 64.632143 | AH35: 87.3 | AI35: 32.8 | AJ35: 1.3642857 | AK35: 5.7285714 | AL35: 10.5 | AM35: -999 | AN35: -0.014285714 | AO35: -999 | AP35: -999 | AQ35: 0.32364286 | AR35: 0.18789286 | AS35: 0.501 | AT35: 1142 | AU35: -999
A36: 33503 | B36: 265 | C36: 8.32 | D36: 2.9 | E36: 9.3 | F36: -3.3 | G36: 67.8 | H36: 40.9 | I36: 1.4 | J36: 7.7 | K36: 0.8 | L36: -999 | M36: -999 | N36: -999 | O36: -999 | P36: -999 | Q36: 9.5 | R36: 0.479 | S36: =ROUND((0.6105*(EXP((17.273*E36)/(E36+237.3))))*(100-H36)/100,3) -> 0.692 | T36: =IF(V36<V37,L36,0) -> 0 | U36: =IF(T36>0,M36,-999) -> -999 | V36: 199109 | W36: 1991 | Y36: 199403 | Z36: 12.212903 | AA36: -0.98064516 | AB36: 5.0387097 | AC36: -6.2290323 | AD36: 16.1 | AE36: -14.9 | AF36: 62.045161 | AG36: 37.570968 | AH36: 30.2 | AI36: 6.6 | AJ36: 1.2129032 | AK36: 5.3483871 | AL36: 9.6 | AM36: -999 | AN36: -0.012903226 | AO36: -999 | AP36: -999 | AQ36: 0.31670968 | AR36: 0.61967742 | AS36: 1.555 | AT36: 744 | AU36: -999
... A221: 33688 | B221: 85 | C221: 18.32 | D221: 4.1 | E221: 11.7 | F221: -2.6 | G221: 53.7 | H221: 26.2 | I221: 1.2 | J221: 4.3 | K221: 0 | L221: -999 | M221: -999 | N221: -999 | O221: -999 | P221: -999 | Q221: 1.2 | R221: 0.36 | S221: =ROUND((0.6105*(EXP((17.273*E221)/(E221+237.3))))*(100-H221)/100,3) -> 1.014 | T221: =IF(V221<V222,L221,0) -> 0 | U221: =IF(T221>0,M221,-999) -> -999 | V221: 199203 | W221: 1992 | Y221: 200908 | Z221: -999 | AA221: 13.396774 | AB221: 20.629032 | AC221: 6.7354839 | AD221: 28.6 | AE221: -0.1 | AF221: 59.3 | AG221: 34.274194 | AH221: 46.458 | AI221: 24.564 | AJ221: 0.9483871 | AK221: 2.6303226 | AL221: 3.7 | AM221: -999 | AN221: -999 | AO221: 12.177419 | AP221: -999 | AQ221: 0.76487097 | AR221: 1.7723548 | AS221: 3.459 | AT221: 0 | AU221: -999
A222: 33689 | B222: 86 | C222: 18.19 | D222: 4.1 | E222: 10.3 | F222: -2.1 | G222: 59.2 | H222: 41 | I222: 1.3 | J222: 5.2 | K222: 5.8 | L222: -999 | M222: -999 | N222: -999 | O222: -999 | P222: -999 | Q222: 1.2 | R222: 0.515 | S222: =ROUND((0.6105*(EXP((17.273*E222)/(E222+237.3))))*(100-H222)/100,3) -> 0.739 | T222: =IF(V222<V223,L222,0) -> 0 | U222: =IF(T222>0,M222,-999) -> -999 | V222: 199203 | W222: 1992 | Y222: Grand Total | Z222: -264.4647 | AA222: 2.3035991 | AB222: 7.9931207 | AC222: -2.4931663 | AD222: 31.3 | AE222: -31.6 | AF222: 75.590099 | AG222: 53.281109 | AH222: 13173.967 | AI222: 40.7 | AJ222: -322.97127 | AK222: -320.97378 | AL222: 17.8 | AM222: -570.21432 | AN222: -396.06372 | AO222: -630.71845 | AP222: -861.7942 | AQ222: 0.55346424 | AR222: 0.73139499 | AS222: 4.053 | AT222: 1284 | AU222: 1
A223: 33690 | B223: 87 | C223: 9.1 | D223: -3.4 | E223: 1.3 | F223: -9.3 | G223: 81.2 | H223: 59.6 | I223: 1.5 | J223: 7.1 | K223: 0 | L223: -999 | M223: -999 | N223: -999 | O223: -999 | P223: -999 | Q223: 1.2 | R223: 0.4 | S223: =ROUND((0.6105*(EXP((17.273*E223)/(E223+237.3))))*(100-H223)/100,3) -> 0.271 | T223: =IF(V223<V224,L223,0) -> 0 | U223: =IF(T223>0,M223,-999) -> -999 | V223: 199203 | W223: 1992
A224: 33691 | B224: 88 | C224: 17.63 | D224: -4.3 | E224: 3.4 | F224: -10.9 | G224: 51.7 | H224: 30.5 | I224: 1.3 | J224: 4.4 | K224: 0 | L224: -999 | M224: -999 | N224: -999 | O224: -999 | P224: -999 | Q224: 1.2 | R224: 0.238 | S224: =ROUND((0.6105*(EXP((17.273*E224)/(E224+237.3))))*(100-H224)/100,3) -> 0.542 | T224: =IF(V224<V225,L224,0) -> 0 | U224: =IF(T224>0,M224,-999) -> -999 | V224: 199203 | W224: 1992
A225: 33692 | B225: 89 | C225: 19.28 | D225: 0.5 | E225: 8.3 | F225: -7.3 | G225: 39.9 | H225: 24.9 | I225: 1.7 | J225: 4.7 | K225: 0 | L225: -999 | M225: -999 | N225: -999 | O225: -999 | P225: -999 | Q225: 1.2 | R225: 0.273 | S225: =ROUND((0.6105*(EXP((17.273*E225)/(E225+237.3))))*(100-H225)/100,3) -> 0.822 | T225: =IF(V225<V226,L225,0) -> 0 | U225: =IF(T225>0,M225,-999) -> -999 | V225: 199203 | W225: 1992
A226: 33693 | B226: 90 | C226: 18.16 | D226: 4.9 | E226: 13.3 | F226: -2.1 | G226: 49.4 | H226: 35.2 | I226: 1.1 | J226: 4.4 | K226: 0 | L226: -999 | M226: -999 | N226: -999 | O226: -999 | P226: -999 | Q226: 1.2 | R226: 0.536 | S226: =ROUND((0.6105*(EXP((17.273*E226)/(E226+237.3))))*(100-H226)/100,3) -> 0.989 | T226: =IF(V226<V227,L226,0) -> 0 | U226: =IF(T226>0,M226,-999) -> -999 | V226: 199203 | W226: 1992
A227: 33694 | B227: 91 | C227: 16.05 | D227: 5.8 | E227: 11.4 | F227: 1 | G227: 56.6 | H227: 35.9 | I227: 1.3 | J227: 5.2 | K227: 0 | L227: -999 | M227: -999 | N227: -999 | O227: -999 | P227: -999 | Q227: 1.2 | R227: 0.482 | S227: =ROUND((0.6105*(EXP((17.273*E227)/(E227+237.3))))*(100-H227)/100,3) -> 0.864 | T227: =IF(V227<V228,L227,0) -> -999 | U227: =IF(T227>0,M227,-999) -> -999 | V227: 199203 | W227: 1992
A228: 33695 | B228: 92 | C228: 18.39 | D228: 8.1 | E228: 15.7 | F228: -0.5 | G228: 57.4 | H228: 37.6 | I228: 1 | J228: 3.7 | K228: 0 | L228: -999 | M228: -999 | N228: -999 | O228: -999 | P228: -999 | Q228: 1.1 | R228: 0.67 | S228: =ROUND((0.6105*(EXP((17.273*E228)/(E228+237.3))))*(100-H228)/100,3) -> 1.113 | T228: =IF(V228<V229,L228,0) -> 0 | U228: =IF(T228>0,M228,-999) -> -999 | V228: 199204 | W228: 1992
A229: 33696 | B229: 93 | C229: 19.74 | D229: 9.9 | E229: 15.6 | F229: 5 | G229: 52.7 | H229: 38.7 | I229: 2 | J229: 6.5 | K229: 0 | L229: -999 | M229: -999 | N229: -999 | O229: -999 | P229: -999 | Q229: 1.1 | R229: 0.687 | S229: =ROUND((0.6105*(EXP((17.273*E229)/(E229+237.3))))*(100-H229)/100,3) -> 1.086 | T229: =IF(V229<V230,L229,0) -> 0 | U229: =IF(T229>0,M229,-999) -> -999 | V229: 199204 | W229: 1992
A230: 33697 | B230: 94 | C230: 10.93 | D230: 1.9 | E230: 5.9 | F230: -2.6 | G230: 65.6 | H230: 40.9 | I230: 1.5 | J230: 6 | K230: 0 | L230: -999 | M230: -999 | N230: -999 | O230: -999 | P230: -999 | Q230: 1.1 | R230: 0.379 | S230: =ROUND((0.6105*(EXP((17.273*E230)/(E230+237.3))))*(100-H230)/100,3) -> 0.549 | T230: =IF(V230<V231,L230,0) -> 0 | U230: =IF(T230>0,M230,-999) -> -999 | V230: 199204 | W230: 1992
A231: 33698 | B231: 95 | C231: 13.66 | D231: -2.2 | E231: 3.3 | F231: -5.6 | G231: 76 | H231: 47.1 | I231: 1.3 | J231: 6.7 | K231: 0 | L231: -999 | M231: -999 | N231: -999 | O231: -999 | P231: -999 | Q231: 1.1 | R231: 0.365 | S231: =ROUND((0.6105*(EXP((17.273*E231)/(E231+237.3))))*(100-H231)/100,3) -> 0.409 | T231: =IF(V231<V232,L231,0) -> 0 | U231: =IF(T231>0,M231,-999) -> -999 | V231: 199204 | W231: 1992
A232: 33699 | B232: 96 | C232: 6.99 | D232: -5 | E232: -0.7 | F232: -8.7 | G232: 89.9 | H232: 68.5 | I232: 0.9 | J232: 4.6 | K232: 3.3 | L232: -999 | M232: -999 | N232: -999 | O232: -999 | P232: -999 | Q232: 1.1 | R232: 0.399 | S232: =ROUND((0.6105*(EXP((17.273*E232)/(E232+237.3))))*(100-H232)/100,3) -> 0.183 | T232: =IF(V232<V233,L232,0) -> 0 | U232: =IF(T232>0,M232,-999) -> -999 | V232: 199204 | W232: 1992
A233: 33700 | B233: 97 | C233: 13.56 | D233: -5.4 | E233: 0.9 | F233: -10.4 | G233: 77.4 | H233: 51.6 | I233: 1.7 | J233: 6.1 | K233: 4.3 | L233: -999 | M233: -999 | N233: -999 | O233: -999 | P233: -999 | Q233: 1.1 | R233: 0.337 | S233: =ROUND((0.6105*(EXP((17.273*E233)/(E233+237.3))))*(100-H233)/100,3) -> 0.315 | T233: =IF(V233<V234,L233,0) -> 0 | U233: =IF(T233>0,M233,-999) -> -999 | V233: 199204 | W233: 1992
A234: 33701 | B234: 98 | C234: 14.62 | D234: -4.5 | E234: 3.4 | F234: -11.4 | G234: 61.3 | H234: 32 | I234: 0.9 | J234: 4.4 | K234: 0 | L234: -999 | M234: -999 | N234: -999 | O234: -999 | P234: -999 | Q234: 1.1 | R234: 0.249 | S234: =ROUND((0.6105*(EXP((17.273*E234)/(E234+237.3))))*(100-H234)/100,3) -> 0.53 | T234: =IF(V234<V235,L234,0) -> 0 | U234: =IF(T234>0,M234,-999) -> -999 | V234: 199204 | W234: 1992
... A6589: 40056 | B6589: 243 | C6589: -999 | D6589: 17.9 | E6589: 26.6 | F6589: 9 | G6589: 55.5 | H6589: 27.4 | I6589: 0.8 | J6589: 2.5 | K6589: 0 | L6589: 0 | M6589: 0 | N6589: -999 | O6589: -999 | P6589: 11 | Q6589: -999 | R6589: 0.954 | S6589: =ROUND((0.6105*(EXP((17.273*E6589)/(E6589+237.3))))*(100-H6589)/100,3) -> 2.528 | T6589: =IF(V6589<V6590,L6589,0) -> 0 | U6589: =IF(T6589>0,M6589,-999) -> -999 | V6589: 200908 | W6589: 2009

Sheet Monthly
A1: Monthly data | AE1: Select variable
A2: Last edit 5/11/19 | Y2: =(1.19-0.0067*Meta!D3) -> 0.8575125 | AE2: 3 | BF2: Lat | BG2: =Meta!D3 -> 49.625 | BH2: sin(Lat) | BI2: @cos(Lat) | BJ2: @tan(lat)
B3: 2 | C3: 3 | D3: 4 | E3: 5 | F3: 6 | G3: 7 | H3: 8 | I3: 9 | J3: 10 | K3: 11 | L3: 12 | M3: 13 | N3: 14 | O3: 15 | P3: 16 | Q3: 17 | R3: 18 | S3: 19 | T3: 20 | U3: 21 | V3: 22 | W3: 23 | X3: 24 | Y3: 25 | Z3: 26 | BF3: Solar lookup table | BH3: =SIN(BG2*0.01745) -> 0.76171518 | BI3: =COS(BG2*0.01745) -> 0.64791202 | BJ3: =TAN(0.01745*BG2) -> 1.175646
A4: YrMn | B4: Solar | C4: Tav | D4: Tmax | E4: Tmin | F4: Txmax | G4: Tmin | H4: Rhav | I4: Rhmin | J4: PPT | K4: 1dXppt | L4: Wind | M4: WindX | N4: WindXX | O4: Tsoil005 | P4: Tsoil5 | Q4: Tsoil20 | R4: Tsoil50 | S4: Vapres | T4: vpdX | U4: vpdXx | V4: SoG | W4: Tsog | X4: Trange | Y4: Eref | Z4: CMD | AA4: Month | AB4: Year | AD4: Year | AE4: 1 | AF4: 2 | AG4: 3 | AH4: 4 | AI4: 5 | AJ4: 6 | AK4: 7 | AL4: 8 | AM4: 9 | AN4: 10 | AO4: 11 | AP4: 12 | BF4: Month | BG4: DoM | BH4: Dim | BI4: Declination | BJ4: RelDistSun | BK4: Scratch | BL4: SunsetHrAngle | BM4: daylength | BN4: SolarTop | BO4: d*So
A5: =Data!Y5 -> 199108 | AA5: 8 | AB5: 1991 | AD5: 1991 | AM5: =VLOOKUP(AZ5,$A$5:$AA$221,$AE$2) -> 9.6 | AN5: =VLOOKUP(BA5,$A$5:$AA$221,$AE$2) -> 1.7 | AO5: =VLOOKUP(BB5,$A$5:$AA$221,$AE$2) -> -3.8 | AP5: =VLOOKUP(BC5,$A$5:$AA$221,$AE$2) -> -4.1 | AR5: 199101 | AS5: =AR5+1 -> 199102 | AT5: =AS5+1 -> 199103 | AU5: =AT5+1 -> 199104 | AV5: =AU5+1 -> 199105 | AW5: =AV5+1 -> 199106 | AX5: =AW5+1 -> 199107 | AY5: =AX5+1 -> 199108 | AZ5: =AY5+1 -> 199109 | ... BC5: =BB5+1 -> 199112 | BF5: 1 | BG5: 16 | BH5: 31 | BI5: -0.3681 | BJ5: 1.032 | BK5: =(BJ$5*TAN(BI5)) -> -0.39802066 | BL5: =IF(BK5<-1,0,IF(BK5>1,3.14,ACOS(-BK5))) -> 1.1614381 | BM5: =0.636*BL5 -> 0.73867463 | BN5: =ROUND(15.392*BJ5*(BL5*BH$3*SIN(BI5)+BI$3*COS(BI5)*SIN(BL5)),2) -> 3.75 | BO5: =BH5*BN5 -> 116.25
A6: =Data!Y6 -> 199109 | B6: =ROUND(Data!Z6,2) -> 16.08 | C6: =ROUND(Data!AA6,1) -> 9.6 | D6: =ROUND(Data!AB6,1) -> 16.3 | E6: =ROUND(Data!AC6,1) -> 3.4 | F6: =ROUND(Data!AD6,1) -> 23.1 | G6: =ROUND(Data!AE6,1) -> -3.3 | H6: =ROUND(Data!AF6,1) -> 61.8 | I6: =ROUND(Data!AG6,1) -> 42.4 | J6: =ROUND(Data!AH6,1) -> 2.1 | ... N6: =ROUND(Data!AL6,1) -> 8.6 | R6: =ROUND(Data!AP6,1) -> 10.3 | S6: =ROUND(Data!AQ6,3) -> 0.772 | T6: =ROUND(Data!AR6,3) -> 1.136 | U6: =ROUND(Data!AS6,3) -> 2.146 | X6: =D6-E6 -> 12.9 | Y6: =IF(C6<0,0,ROUND(0.0023*VLOOKUP(AA6,$BF$5:$BO$16,10)*(C6+17.8)*(D6-E6)^0.5*Y$2,0)) -> 61 | Z6: =IF(Y6>F6,Y6-F6,0) -> 37.9 | AA6: 9 | AB6: 1991 | AD6: =AD5+1 -> 1992 | AE6: =VLOOKUP(AR6,$A$5:$AA$221,$AE$2) -> -4 | AF6: =VLOOKUP(AS6,$A$5:$AA$221,$AE$2) -> -0.8 | AG6: =VLOOKUP(AT6,$A$5:$AA$221,$AE$2) -> 1.8 | AH6: =VLOOKUP(AU6,$A$5:$AA$221,$AE$2) -> 1.9 | AI6: =VLOOKUP(AV6,$A$5:$AA$221,$AE$2) -> 7.1 | AJ6: =VLOOKUP(AW6,$A$5:$AA$221,$AE$2) -> 12.6 | AK6: =VLOOKUP(AX6,$A$5:$AA$221,$AE$2) -> 12.1 | AL6: =VLOOKUP(AY6,$A$5:$AA$221,$AE$2) -> 12.5 | ... AP6: =VLOOKUP(BC6,$A$5:$AA$221,$AE$2) -> -9.1 | AR6: =AR5+100 -> 199201 | AS6: =AR6+1 -> 199202 | AT6: =AS6+1 -> 199203 | AU6: =AT6+1 -> 199204 | AV6: =AU6+1 -> 199205 | AW6: =AV6+1 -> 199206 | AX6: =AW6+1 -> 199207 | AY6: =AX6+1 -> 199208 | AZ6: =AY6+1 -> 199209 | ... BC6: =BB6+1 -> 199212 | BF6: 2 | BG6: 46 | BH6: 28 | BI6: -0.2259 | BJ6: 1.023 | BK6: =(BJ$5*TAN(BI6)) -> -0.23717704 | BL6: =IF(BK6<-1,0,IF(BK6>1,3.14,ACOS(-BK6))) -> 1.3313374 | BM6: =0.636*BL6 -> 0.84673058 | BN6: =ROUND(15.392*BJ6*(BL6*BH$3*SIN(BI6)+BI$3*COS(BI6)*SIN(BL6)),2) -> 6.08 | BO6: =BH6*BN6 -> 170.24
A7: =Data!Y7 -> 199110 | B7: =ROUND(Data!Z7,2) -> 8.89 | C7: =ROUND(Data!AA7,1) -> 1.7 | D7: =ROUND(Data!AB7,1) -> 7.5 | E7: =ROUND(Data!AC7,1) -> -3.8 | F7: =ROUND(Data!AD7,1) -> 22.5 | G7: =ROUND(Data!AE7,1) -> -21.7 | H7: =ROUND(Data!AF7,1) -> 66.3 | I7: =ROUND(Data!AG7,1) -> 51.4 | J7: =ROUND(Data!AH7,1) -> 22.5 | ... N7: =ROUND(Data!AL7,1) -> 17.8 | R7: =ROUND(Data!AP7,1) -> 7.2 | S7: =ROUND(Data!AQ7,3) -> 0.506 | T7: =ROUND(Data!AR7,3) -> 0.702 | U7: =ROUND(Data!AS7,3) -> 1.976 | X7: =D7-E7 -> 11.3 | Y7: =IF(C7<0,0,ROUND(0.0023*VLOOKUP(AA7,$BF$5:$BO$16,10)*(C7+17.8)*(D7-E7)^0.5*Y$2,0)) -> 28 | Z7: =IF(Y7>F7,Y7-F7,0) -> 5.5 | AA7: 10 | AB7: 1991 | AD7: =AD6+1 -> 1993 | AE7: =VLOOKUP(AR7,$A$5:$AA$221,$AE$2) -> -8.4 | AF7: =VLOOKUP(AS7,$A$5:$AA$221,$AE$2) -> -6.8 | AG7: =VLOOKUP(AT7,$A$5:$AA$221,$AE$2) -> -2.7 | AH7: =VLOOKUP(AU7,$A$5:$AA$221,$AE$2) -> -0.1 | AI7: =VLOOKUP(AV7,$A$5:$AA$221,$AE$2) -> 9.1 | AJ7: =VLOOKUP(AW7,$A$5:$AA$221,$AE$2) -> 7.5 | AK7: =VLOOKUP(AX7,$A$5:$AA$221,$AE$2) -> 8.3 | AL7: =VLOOKUP(AY7,$A$5:$AA$221,$AE$2) -> 10.5 | ... AP7: =VLOOKUP(BC7,$A$5:$AA$221,$AE$2) -> -4.6 | AR7: =AR6+100 -> 199301 | AS7: =AR7+1 -> 199302 | AT7: =AS7+1 -> 199303 | AU7: =AT7+1 -> 199304 | AV7: =AU7+1 -> 199305 | AW7: =AV7+1 -> 199306 | AX7: =AW7+1 -> 199307 | AY7: =AX7+1 -> 199308 | AZ7: =AY7+1 -> 199309 | ... BC7: =BB7+1 -> 199312 | BF7: 3 | BG7: 75 | BH7: 31 | BI7: -0.0422 | BJ7: 1.01 | BK7: =(BJ$5*TAN(BI7)) -> -0.043576271 | BL7: =IF(BK7<-1,0,IF(BK7>1,3.14,ACOS(-BK7))) -> 1.5272063 | BM7: =0.636*BL7 -> 0.97130318 | BN7: =ROUND(15.392*BJ7*(BL7*BH$3*SIN(BI7)+BI$3*COS(BI7)*SIN(BL7)),2) -> 9.29 | BO7: =BH7*BN7 -> 287.99
A8: =Data!Y8 -> 199111 | B8: =ROUND(Data!Z8,2) -> 2.69 | C8: =ROUND(Data!AA8,1) -> -3.8 | D8: =ROUND(Data!AB8,1) -> -0.5 | E8: =ROUND(Data!AC8,1) -> -6.7 | F8: =ROUND(Data!AD8,1) -> 4.3 | G8: =ROUND(Data!AE8,1) -> -13.8 | H8: =ROUND(Data!AF8,1) -> 85.8 | I8: =ROUND(Data!AG8,1) -> 73.4 | J8: =ROUND(Data!AH8,1) -> 82.5 | ... N8: =ROUND(Data!AL8,1) -> 13.6 | R8: =ROUND(Data!AP8,1) -> 3.2 | S8: =ROUND(Data!AQ8,3) -> 0.443 | T8: =ROUND(Data!AR8,3) -> 0.159 | U8: =ROUND(Data!AS8,3) -> 0.356 | X8: =D8-E8 -> 6.2 | Y8: =IF(C8<0,0,ROUND(0.0023*VLOOKUP(AA8,$BF$5:$BO$16,10)*(C8+17.8)*(D8-E8)^0.5*Y$2,0)) -> 0 | Z8: =IF(Y8>F8,Y8-F8,0) -> 0 | AA8: 11 | AB8: 1991 | AD8: =AD7+1 -> 1994 | AE8: =VLOOKUP(AR8,$A$5:$AA$221,$AE$2) -> -2.8 | AF8: =VLOOKUP(AS8,$A$5:$AA$221,$AE$2) -> -7.4 | AG8: =VLOOKUP(AT8,$A$5:$AA$221,$AE$2) -> -1 | AH8: =VLOOKUP(AU8,$A$5:$AA$221,$AE$2) -> 2.5 | AI8: =VLOOKUP(AV8,$A$5:$AA$221,$AE$2) -> 6.1 | AJ8: =VLOOKUP(AW8,$A$5:$AA$221,$AE$2) -> 8 | AK8: =VLOOKUP(AX8,$A$5:$AA$221,$AE$2) -> 14.8 | AL8: =VLOOKUP(AY8,$A$5:$AA$221,$AE$2) -> 12.8 | ... AP8: =VLOOKUP(BC8,$A$5:$AA$221,$AE$2) -> -6.8 | AR8: =AR7+100 -> 199401 | AS8: =AR8+1 -> 199402 | AT8: =AS8+1 -> 199403 | AU8: =AT8+1 -> 199404 | AV8: =AU8+1 -> 199405 | AW8: =AV8+1 -> 199406 | AX8: =AW8+1 -> 199407 | AY8: =AX8+1 -> 199408 | AZ8: =AY8+1 -> 199409 | ... BC8: =BB8+1 -> 199412 | BF8: 4 | BG8: 105 | BH8: 30 | BI8: 0.1706 | BJ8: 0.992 | BK8: =(BJ$5*TAN(BI8)) -> 0.17778735 | BL8: =IF(BK8<-1,0,IF(BK8>1,3.14,ACOS(-BK8))) -> 1.7495339 | BM8: =0.636*BL8 -> 1.1127035 | BN8: =ROUND(15.392*BJ8*(BL8*BH$3*SIN(BI8)+BI$3*COS(BI8)*SIN(BL8)),2) -> 13.05 | BO8: =BH8*BN8 -> 391.5
A9: =Data!Y9 -> 199112 | B9: =ROUND(Data!Z9,2) -> 2.11 | C9: =ROUND(Data!AA9,1) -> -4.1 | D9: =ROUND(Data!AB9,1) -> -1 | E9: =ROUND(Data!AC9,1) -> -7.1 | F9: =ROUND(Data!AD9,1) -> 5.6 | G9: =ROUND(Data!AE9,1) -> -14.3 | H9: =ROUND(Data!AF9,1) -> 82.6 | I9: =ROUND(Data!AG9,1) -> 71.7 | J9: =ROUND(Data!AH9,1) -> 31 | ... N9: =ROUND(Data!AL9,1) -> 12.1 | R9: =ROUND(Data!AP9,1) -> 2.3 | S9: =ROUND(Data!AQ9,3) -> 0.406 | T9: =ROUND(Data!AR9,3) -> 0.173 | U9: =ROUND(Data!AS9,3) -> 0.525 | X9: =D9-E9 -> 6.1 | Y9: =IF(C9<0,0,ROUND(0.0023*VLOOKUP(AA9,$BF$5:$BO$16,10)*(C9+17.8)*(D9-E9)^0.5*Y$2,0)) -> 0 | Z9: =IF(Y9>F9,Y9-F9,0) -> 0 | AA9: 12 | AB9: 1991 | AD9: =AD8+1 -> 1995 | AE9: =VLOOKUP(AR9,$A$5:$AA$221,$AE$2) -> -3.8 | AF9: =VLOOKUP(AS9,$A$5:$AA$221,$AE$2) -> -4.3 | AG9: =VLOOKUP(AT9,$A$5:$AA$221,$AE$2) -> -3.1 | AH9: =VLOOKUP(AU9,$A$5:$AA$221,$AE$2) -> 0 | AI9: =VLOOKUP(AV9,$A$5:$AA$221,$AE$2) -> 6.8 | AJ9: =VLOOKUP(AW9,$A$5:$AA$221,$AE$2) -> 9.2 | AK9: =VLOOKUP(AX9,$A$5:$AA$221,$AE$2) -> 11.6 | AL9: =VLOOKUP(AY9,$A$5:$AA$221,$AE$2) -> 8.7 | ... AP9: =VLOOKUP(BC9,$A$5:$AA$221,$AE$2) -> -6.8 | AR9: =AR8+100 -> 199501 | AS9: =AR9+1 -> 199502 | AT9: =AS9+1 -> 199503 | AU9: =AT9+1 -> 199504 | AV9: =AU9+1 -> 199505 | AW9: =AV9+1 -> 199506 | AX9: =AW9+1 -> 199507 | AY9: =AX9+1 -> 199508 | AZ9: =AY9+1 -> 199509 | ... BC9: =BB9+1 -> 199512 | BF9: 5 | BG9: 135 | BH9: 31 | BI9: 0.332 | BJ9: 0.977 | BK9: =(BJ$5*TAN(BI9)) -> 0.3557934 | BL9: =IF(BK9<-1,0,IF(BK9>1,3.14,ACOS(-BK9))) -> 1.9345592 | BM9: =0.636*BL9 -> 1.2303797 | BN9: =ROUND(15.392*BJ9*(BL9*BH$3*SIN(BI9)+BI$3*COS(BI9)*SIN(BL9)),2) -> 15.83 | BO9: =BH9*BN9 -> 490.73
A10: =Data!Y10 -> 199201 | B10: =ROUND(Data!Z10,2) -> 2.55 | C10: =ROUND(Data!AA10,1) -> -4 | D10: =ROUND(Data!AB10,1) -> -0.4 | E10: =ROUND(Data!AC10,1) -> -7 | F10: =ROUND(Data!AD10,1) -> 5.7 | G10: =ROUND(Data!AE10,1) -> -17.2 | H10: =ROUND(Data!AF10,1) -> 87.8 | I10: =ROUND(Data!AG10,1) -> 74.7 | J10: =ROUND(Data!AH10,1) -> 60.2 | ... N10: =ROUND(Data!AL10,1) -> 12.8 | R10: =ROUND(Data!AP10,1) -> 1.8 | S10: =ROUND(Data!AQ10,3) -> 0.442 | T10: =ROUND(Data!AR10,3) -> 0.163 | U10: =ROUND(Data!AS10,3) -> 0.467 | X10: =D10-E10 -> 6.6 | Y10: =IF(C10<0,0,ROUND(0.0023*VLOOKUP(AA10,$BF$5:$BO$16,10)*(C10+17.8)*(D10-E10)^0.5*Y$2,0)) -> 0 | Z10: =IF(Y10>F10,Y10-F10,0) -> 0 | AA10: 1 | AB10: 1992 | AD10: =AD9+1 -> 1996 | AE10: =VLOOKUP(AR10,$A$5:$AA$221,$AE$2) -> -9.5 | AF10: =VLOOKUP(AS10,$A$5:$AA$221,$AE$2) -> -5.2 | AG10: =VLOOKUP(AT10,$A$5:$AA$221,$AE$2) -> -3.6 | AH10: =VLOOKUP(AU10,$A$5:$AA$221,$AE$2) -> 0.9 | AI10: =VLOOKUP(AV10,$A$5:$AA$221,$AE$2) -> 1.8 | AJ10: =VLOOKUP(AW10,$A$5:$AA$221,$AE$2) -> 7.7 | AK10: =VLOOKUP(AX10,$A$5:$AA$221,$AE$2) -> 13.6 | AL10: =VLOOKUP(AY10,$A$5:$AA$221,$AE$2) -> 12.8 | ... AP10: =VLOOKUP(BC10,$A$5:$AA$221,$AE$2) -> -9.6 | AR10: =AR9+100 -> 199601 | AS10: =AR10+1 -> 199602 | AT10: =AS10+1 -> 199603 | AU10: =AT10+1 -> 199604 | AV10: =AU10+1 -> 199605 | AW10: =AV10+1 -> 199606 | AX10: =AW10+1 -> 199607 | AY10: =AX10+1 -> 199608 | AZ10: =AY10+1 -> 199609 | ... BC10: =BB10+1 -> 199612 | BF10: 6 | BG10: 162 | BH10: 30 | BI10: 0.4076 | BJ10: 0.968 | BK10: =(BJ$5*TAN(BI10)) -> 0.44559779 | BL10: =IF(BK10<-1,0,IF(BK10>1,3.14,ACOS(-BK10))) -> 2.0326382 | BM10: =0.636*BL10 -> 1.2927579 | BN10: =ROUND(15.392*BJ10*(BL10*BH$3*SIN(BI10)+BI$3*COS(BI10)*SIN(BL10)),2) -> 17.08 | BO10: =BH10*BN10 -> 512.4
A11: =Data!Y11 -> 199202 | B11: =ROUND(Data!Z11,2) -> 6.29 | C11: =ROUND(Data!AA11,1) -> -0.8 | D11: =ROUND(Data!AB11,1) -> 4 | E11: =ROUND(Data!AC11,1) -> -4.9 | F11: =ROUND(Data!AD11,1) -> 15.5 | G11: =ROUND(Data!AE11,1) -> -12.3 | H11: =ROUND(Data!AF11,1) -> 81 | I11: =ROUND(Data!AG11,1) -> 65.8 | J11: =ROUND(Data!AH11,1) -> 52.5 | ... N11: =ROUND(Data!AL11,1) -> 14 | R11: =ROUND(Data!AP11,1) -> 1.5 | S11: =ROUND(Data!AQ11,3) -> 0.509 | T11: =ROUND(Data!AR11,3) -> 0.355 | U11: =ROUND(Data!AS11,3) -> 1.294 | X11: =D11-E11 -> 8.9 | Y11: =IF(C11<0,0,ROUND(0.0023*VLOOKUP(AA11,$BF$5:$BO$16,10)*(C11+17.8)*(D11-E11)^0.5*Y$2,0)) -> 0 | Z11: =IF(Y11>F11,Y11-F11,0) -> 0 | AA11: 2 | AB11: 1992 | AD11: =AD10+1 -> 1997 | AE11: =VLOOKUP(AR11,$A$5:$AA$221,$AE$2) -> -6.5 | AF11: =VLOOKUP(AS11,$A$5:$AA$221,$AE$2) -> -5.3 | AG11: =VLOOKUP(AT11,$A$5:$AA$221,$AE$2) -> -3.6 | AH11: =VLOOKUP(AU11,$A$5:$AA$221,$AE$2) -> -0.6 | AI11: =VLOOKUP(AV11,$A$5:$AA$221,$AE$2) -> 6 | AJ11: =VLOOKUP(AW11,$A$5:$AA$221,$AE$2) -> 7.7 | AK11: =VLOOKUP(AX11,$A$5:$AA$221,$AE$2) -> 11.1 | AL11: =VLOOKUP(AY11,$A$5:$AA$221,$AE$2) -> 12.7 | ... AP11: =VLOOKUP(BC11,$A$5:$AA$221,$AE$2) -> -4.8 | AR11: =AR10+100 -> 199701 | AS11: =AR11+1 -> 199702 | AT11: =AS11+1 -> 199703 | AU11: =AT11+1 -> 199704 | AV11: =AU11+1 -> 199705 | AW11: =AV11+1 -> 199706 | AX11: =AW11+1 -> 199707 | AY11: =AX11+1 -> 199708 | AZ11: =AY11+1 -> 199709 | ... BC11: =BB11+1 -> 199712 | BF11: 7 | BG11: 199 | BH11: 31 | BI11: 0.373 | BJ11: 0.968 | BK11: =(BJ$5*TAN(BI11)) -> 0.4038407 | BL11: =IF(BK11<-1,0,IF(BK11>1,3.14,ACOS(-BK11))) -> 1.9865076 | BM11: =0.636*BL11 -> 1.2634188 | BN11: =ROUND(15.392*BJ11*(BL11*BH$3*SIN(BI11)+BI$3*COS(BI11)*SIN(BL11)),2) -> 16.44 | BO11: =BH11*BN11 -> 509.64
A12: =Data!Y12 -> 199203 | B12: =ROUND(Data!Z12,2) -> 13.21 | C12: =ROUND(Data!AA12,1) -> 1.8 | D12: =ROUND(Data!AB12,1) -> 8.3 | E12: =ROUND(Data!AC12,1) -> -3.5 | F12: =ROUND(Data!AD12,1) -> 14.4 | G12: =ROUND(Data!AE12,1) -> -10.9 | H12: =ROUND(Data!AF12,1) -> 64 | I12: =ROUND(Data!AG12,1) -> 43 | J12: =ROUND(Data!AH12,1) -> 29.9 | ... N12: =ROUND(Data!AL12,1) -> 9.2 | R12: =ROUND(Data!AP12,1) -> 1.3 | S12: =ROUND(Data!AQ12,3) -> 0.447 | T12: =ROUND(Data!AR12,3) -> 0.674 | U12: =ROUND(Data!AS12,3) -> 1.293 | X12: =D12-E12 -> 11.8 | Y12: =IF(C12<0,0,ROUND(0.0023*VLOOKUP(AA12,$BF$5:$BO$16,10)*(C12+17.8)*(D12-E12)^0.5*Y$2,0)) -> 38 | Z12: =IF(Y12>F12,Y12-F12,0) -> 23.6 | AA12: 3 | AB12: 1992 | AD12: =AD11+1 -> 1998 | AE12: =VLOOKUP(AR12,$A$5:$AA$221,$AE$2) -> -7.4 | AF12: =VLOOKUP(AS12,$A$5:$AA$221,$AE$2) -> -4 | AG12: =VLOOKUP(AT12,$A$5:$AA$221,$AE$2) -> -2.6 | AH12: =VLOOKUP(AU12,$A$5:$AA$221,$AE$2) -> 1.6 | AI12: =VLOOKUP(AV12,$A$5:$AA$221,$AE$2) -> 7.7 | AJ12: =VLOOKUP(AW12,$A$5:$AA$221,$AE$2) -> 8.5 | AK12: =VLOOKUP(AX12,$A$5:$AA$221,$AE$2) -> 15.1 | AL12: =VLOOKUP(AY12,$A$5:$AA$221,$AE$2) -> 14.6 | ... AP12: =VLOOKUP(BC12,$A$5:$AA$221,$AE$2) -> -8 | AR12: =AR11+100 -> 199801 | AS12: =AR12+1 -> 199802 | AT12: =AS12+1 -> 199803 | AU12: =AT12+1 -> 199804 | AV12: =AU12+1 -> 199805 | AW12: =AV12+1 -> 199806 | AX12: =AW12+1 -> 199807 | AY12: =AX12+1 -> 199808 | AZ12: =AY12+1 -> 199809 | ... BC12: =BB12+1 -> 199812 | BF12: 8 | BG12: 229 | BH12: 31 | BI12: 0.2355 | BJ12: 0.976 | BK12: =(BJ$5*TAN(BI12)) -> 0.24763091 | BL12: =IF(BK12<-1,0,IF(BK12>1,3.14,ACOS(-BK12))) -> 1.8210306 | BM12: =0.636*BL12 -> 1.1581754 | BN12: =ROUND(15.392*BJ12*(BL12*BH$3*SIN(BI12)+BI$3*COS(BI12)*SIN(BL12)),2) -> 14.03 | BO12: =BH12*BN12 -> 434.93
A13: =Data!Y13 -> 199204 | B13: =ROUND(Data!Z13,2) -> 13.63 | C13: =ROUND(Data!AA13,1) -> 1.9 | D13: =ROUND(Data!AB13,1) -> 7.1 | E13: =ROUND(Data!AC13,1) -> -3 | F13: =ROUND(Data!AD13,1) -> 15.7 | G13: =ROUND(Data!AE13,1) -> -11.4 | H13: =ROUND(Data!AF13,1) -> 72.6 | I13: =ROUND(Data!AG13,1) -> 53 | J13: =ROUND(Data!AH13,1) -> 56.2 | ... N13: =ROUND(Data!AL13,1) -> 11.6 | R13: =ROUND(Data!AP13,1) -> 1.4 | S13: =ROUND(Data!AQ13,3) -> 0.54 | T13: =ROUND(Data!AR13,3) -> 0.51 | U13: =ROUND(Data!AS13,3) -> 1.197 | X13: =D13-E13 -> 10.1 | Y13: =IF(C13<0,0,ROUND(0.0023*VLOOKUP(AA13,$BF$5:$BO$16,10)*(C13+17.8)*(D13-E13)^0.5*Y$2,0)) -> 48 | Z13: =IF(Y13>F13,Y13-F13,0) -> 32.3 | AA13: 4 | AB13: 1992 | AD13: =AD12+1 -> 1999 | AE13: =VLOOKUP(AR13,$A$5:$AA$221,$AE$2) -> -5.5 | AF13: =VLOOKUP(AS13,$A$5:$AA$221,$AE$2) -> -6.2 | AG13: =VLOOKUP(AT13,$A$5:$AA$221,$AE$2) -> -3.8 | AH13: =VLOOKUP(AU13,$A$5:$AA$221,$AE$2) -> 0.2 | AI13: =VLOOKUP(AV13,$A$5:$AA$221,$AE$2) -> 2.5 | AJ13: =VLOOKUP(AW13,$A$5:$AA$221,$AE$2) -> 7.9 | AK13: =VLOOKUP(AX13,$A$5:$AA$221,$AE$2) -> 13.4 | AL13: =VLOOKUP(AY13,$A$5:$AA$221,$AE$2) -> 13 | ... AP13: =VLOOKUP(BC13,$A$5:$AA$221,$AE$2) -> -3 | AR13: =AR12+100 -> 199901 | AS13: =AR13+1 -> 199902 | AT13: =AS13+1 -> 199903 | AU13: =AT13+1 -> 199904 | AV13: =AU13+1 -> 199905 | AW13: =AV13+1 -> 199906 | AX13: =AW13+1 -> 199907 | AY13: =AX13+1 -> 199908 | AZ13: =AY13+1 -> 199909 | ... BC13: =BB13+1 -> 199912 | BF13: 9 | BG13: 259 | BH13: 30 | BI13: 0.0327 | BJ13: 0.991 | BK13: =(BJ$5*TAN(BI13)) -> 0.033758433 | BL13: =IF(BK13<-1,0,IF(BK13>1,3.14,ACOS(-BK13))) -> 1.6045612 | BM13: =0.636*BL13 -> 1.0205009 | BN13: =ROUND(15.392*BJ13*(BL13*BH$3*SIN(BI13)+BI$3*COS(BI13)*SIN(BL13)),2) -> 10.48 | BO13: =BH13*BN13 -> 314.4
A14: =Data!Y14 -> 199205 | B14: =ROUND(Data!Z14,2) -> 19.99 | C14: =ROUND(Data!AA14,1) -> 7.1 | D14: =ROUND(Data!AB14,1) -> 13.4 | E14: =ROUND(Data!AC14,1) -> 1 | F14: =ROUND(Data!AD14,1) -> 24.2 | G14: =ROUND(Data!AE14,1) -> -6.1 | H14: =ROUND(Data!AF14,1) -> 62.4 | I14: =ROUND(Data!AG14,1) -> 40.6 | J14: =ROUND(Data!AH14,1) -> 38.1 | ... N14: =ROUND(Data!AL14,1) -> 11.5 | R14: =ROUND(Data!AP14,1) -> 6.6 | S14: =ROUND(Data!AQ14,3) -> 0.579 | T14: =ROUND(Data!AR14,3) -> 1.07 | U14: =ROUND(Data!AS14,3) -> 2.3 | X14: =D14-E14 -> 12.4 | Y14: =IF(C14<0,0,ROUND(0.0023*VLOOKUP(AA14,$BF$5:$BO$16,10)*(C14+17.8)*(D14-E14)^0.5*Y$2,0)) -> 85 | Z14: =IF(Y14>F14,Y14-F14,0) -> 60.8 | AA14: 5 | AB14: 1992 | AD14: =AD13+1 -> 2000 | AE14: =VLOOKUP(AR14,$A$5:$AA$221,$AE$2) -> -7 | AF14: =VLOOKUP(AS14,$A$5:$AA$221,$AE$2) -> -5 | AG14: =VLOOKUP(AT14,$A$5:$AA$221,$AE$2) -> -3.2 | AH14: =VLOOKUP(AU14,$A$5:$AA$221,$AE$2) -> 2.1 | AI14: =VLOOKUP(AV14,$A$5:$AA$221,$AE$2) -> 3.3 | AJ14: =VLOOKUP(AW14,$A$5:$AA$221,$AE$2) -> 8.6 | AK14: =VLOOKUP(AX14,$A$5:$AA$221,$AE$2) -> 11.7 | AL14: =VLOOKUP(AY14,$A$5:$AA$221,$AE$2) -> 11.9 | ... AP14: =VLOOKUP(BC14,$A$5:$AA$221,$AE$2) -> -7.6 | AR14: =AR13+100 -> 200001 | AS14: =AR14+1 -> 200002 | AT14: =AS14+1 -> 200003 | AU14: =AT14+1 -> 200004 | AV14: =AU14+1 -> 200005 | AW14: =AV14+1 -> 200006 | AX14: =AW14+1 -> 200007 | AY14: =AX14+1 -> 200008 | AZ14: =AY14+1 -> 200009 | ... BC14: =BB14+1 -> 200012 | BF14: 10 | BG14: 288 | BH14: 31 | BI14: -0.1729 | BJ14: 1.008 | BK14: =(BJ$5*TAN(BI14)) -> -0.18023237 | BL14: =IF(BK14<-1,0,IF(BK14>1,3.14,ACOS(-BK14))) -> 1.3895736 | BM14: =0.636*BL14 -> 0.88376884 | BN14: =ROUND(15.392*BJ14*(BL14*BH$3*SIN(BI14)+BI$3*COS(BI14)*SIN(BL14)),2) -> 6.92 | BO14: =BH14*BN14 -> 214.52
A15: =Data!Y15 -> 199206 | B15: =ROUND(Data!Z15,2) -> 21.1 | C15: =ROUND(Data!AA15,1) -> 12.6 | D15: =ROUND(Data!AB15,1) -> 19 | E15: =ROUND(Data!AC15,1) -> 5.6 | F15: =ROUND(Data!AD15,1) -> 27.8 | G15: =ROUND(Data!AE15,1) -> -0.1 | H15: =ROUND(Data!AF15,1) -> 58.5 | I15: =ROUND(Data!AG15,1) -> 38.9 | J15: =ROUND(Data!AH15,1) -> 93.3 | ... N15: =ROUND(Data!AL15,1) -> 10 | R15: =ROUND(Data!AP15,1) -> 11.1 | S15: =ROUND(Data!AQ15,3) -> 0.791 | T15: =ROUND(Data!AR15,3) -> 1.519 | U15: =ROUND(Data!AS15,3) -> 3.086 | X15: =D15-E15 -> 13.4 | Y15: =IF(C15<0,0,ROUND(0.0023*VLOOKUP(AA15,$BF$5:$BO$16,10)*(C15+17.8)*(D15-E15)^0.5*Y$2,0)) -> 112 | Z15: =IF(Y15>F15,Y15-F15,0) -> 84.2 | AA15: 6 | AB15: 1992 | AD15: =AD14+1 -> 2001 | AE15: =VLOOKUP(AR15,$A$5:$AA$221,$AE$2) -> -4.5 | AF15: =VLOOKUP(AS15,$A$5:$AA$221,$AE$2) -> -7.1 | AG15: =VLOOKUP(AT15,$A$5:$AA$221,$AE$2) -> -2.3 | AH15: =VLOOKUP(AU15,$A$5:$AA$221,$AE$2) -> -0.5 | AI15: =VLOOKUP(AV15,$A$5:$AA$221,$AE$2) -> 5.6 | AJ15: =VLOOKUP(AW15,$A$5:$AA$221,$AE$2) -> 6.8 | AK15: =VLOOKUP(AX15,$A$5:$AA$221,$AE$2) -> 11.8 | AL15: =VLOOKUP(AY15,$A$5:$AA$221,$AE$2) -> 13.7 | ... AP15: =VLOOKUP(BC15,$A$5:$AA$221,$AE$2) -> -6.6 | AR15: =AR14+100 -> 200101 | AS15: =AR15+1 -> 200102 | AT15: =AS15+1 -> 200103 | AU15: =AT15+1 -> 200104 | AV15: =AU15+1 -> 200105 | AW15: =AV15+1 -> 200106 | AX15: =AW15+1 -> 200107 | AY15: =AX15+1 -> 200108 | AZ15: =AY15+1 -> 200109 | ... BC15: =BB15+1 -> 200112 | BF15: 11 | BG15: 318 | BH15: 30 | BI15: -0.3374 | BJ15: 1.023 | BK15: =(BJ$5*TAN(BI15)) -> -0.36204028 | BL15: =IF(BK15<-1,0,IF(BK15>1,3.14,ACOS(-BK15))) -> 1.2003406 | BM15: =0.636*BL15 -> 0.76341662 | BN15: =ROUND(15.392*BJ15*(BL15*BH$3*SIN(BI15)+BI$3*COS(BI15)*SIN(BL15)),2) -> 4.21 | BO15: =BH15*BN15 -> 126.3
A16: =Data!Y16 -> 199207 | B16: =ROUND(Data!Z16,2) -> 17.79 | C16: =ROUND(Data!AA16,1) -> 12.1 | D16: =ROUND(Data!AB16,1) -> 17.5 | E16: =ROUND(Data!AC16,1) -> 6.9 | F16: =ROUND(Data!AD16,1) -> 26.9 | G16: =ROUND(Data!AE16,1) -> 3.2 | H16: =ROUND(Data!AF16,1) -> 76.6 | I16: =ROUND(Data!AG16,1) -> 47.5 | J16: =ROUND(Data!AH16,1) -> 92.1 | ... N16: =ROUND(Data!AL16,1) -> 8.1 | S16: =ROUND(Data!AQ16,3) -> 0.941 | T16: =ROUND(Data!AR16,3) -> 1.135 | U16: =ROUND(Data!AS16,3) -> 2.268 | V16: =ROUND(Data!AT16,0) -> 0 | X16: =D16-E16 -> 10.6 | Y16: =IF(C16<0,0,ROUND(0.0023*VLOOKUP(AA16,$BF$5:$BO$16,10)*(C16+17.8)*(D16-E16)^0.5*Y$2,0)) -> 98 | Z16: =IF(Y16>F16,Y16-F16,0) -> 71.1 | AA16: 7 | AB16: 1992 | AD16: =AD15+1 -> 2002 | AE16: =VLOOKUP(AR16,$A$5:$AA$221,$AE$2) -> -6.8 | AF16: =VLOOKUP(AS16,$A$5:$AA$221,$AE$2) -> -6 | AG16: =VLOOKUP(AT16,$A$5:$AA$221,$AE$2) -> -6.5 | AH16: =VLOOKUP(AU16,$A$5:$AA$221,$AE$2) -> 0.2 | AI16: =VLOOKUP(AV16,$A$5:$AA$221,$AE$2) -> 3.1 | AJ16: =VLOOKUP(AW16,$A$5:$AA$221,$AE$2) -> 10.3 | AK16: =VLOOKUP(AX16,$A$5:$AA$221,$AE$2) -> 13.6 | AL16: =VLOOKUP(AY16,$A$5:$AA$221,$AE$2) -> 12 | ... AP16: =VLOOKUP(BC16,$A$5:$AA$221,$AE$2) -> -4.6 | AR16: =AR15+100 -> 200201 | AS16: =AR16+1 -> 200202 | AT16: =AS16+1 -> 200203 | AU16: =AT16+1 -> 200204 | AV16: =AU16+1 -> 200205 | AW16: =AV16+1 -> 200206 | AX16: =AW16+1 -> 200207 | AY16: =AX16+1 -> 200208 | AZ16: =AY16+1 -> 200209 | ... BC16: =BB16+1 -> 200212 | BF16: 12 | BG16: 343 | BH16: 31 | BI16: -0.4071 | BJ16: 1.032 | BK16: =(BJ$5*TAN(BI16)) -> -0.44498572 | BL16: =IF(BK16<-1,0,IF(BK16>1,3.14,ACOS(-BK16))) -> 1.109638 | BM16: =0.636*BL16 -> 0.70572978 | BN16: =ROUND(15.392*BJ16*(BL16*BH$3*SIN(BI16)+BI$3*COS(BI16)*SIN(BL16)),2) -> 3.15 | BO16: =BH16*BN16 -> 97.65
A17: =Data!Y17 -> 199208 | B17: =ROUND(Data!Z17,2) -> 18.74 | C17: =ROUND(Data!AA17,1) -> 12.5 | D17: =ROUND(Data!AB17,1) -> 19.2 | E17: =ROUND(Data!AC17,1) -> 5.9 | F17: =ROUND(Data!AD17,1) -> 26.9 | G17: =ROUND(Data!AE17,1) -> -2.5 | H17: =ROUND(Data!AF17,1) -> 62.9 | I17: =ROUND(Data!AG17,1) -> 35.5 | J17: =ROUND(Data!AH17,1) -> 28.4 | ... N17: =ROUND(Data!AL17,1) -> 7.2 | S17: =ROUND(Data!AQ17,3) -> 0.786 | T17: =ROUND(Data!AR17,3) -> 1.546 | U17: =ROUND(Data!AS17,3) -> 2.86 | V17: =ROUND(Data!AT17,0) -> 0 | X17: =D17-E17 -> 13.3 | Y17: =IF(C17<0,0,ROUND(0.0023*VLOOKUP(AA17,$BF$5:$BO$16,10)*(C17+17.8)*(D17-E17)^0.5*Y$2,0)) -> 95 | Z17: =IF(Y17>F17,Y17-F17,0) -> 68.1 | AA17: 8 | AB17: 1992 | AD17: =AD16+1 -> 2003 | AE17: =VLOOKUP(AR17,$A$5:$AA$221,$AE$2) -> -3 | AF17: =VLOOKUP(AS17,$A$5:$AA$221,$AE$2) -> -4.8 | AG17: =VLOOKUP(AT17,$A$5:$AA$221,$AE$2) -> -3.2 | AH17: =VLOOKUP(AU17,$A$5:$AA$221,$AE$2) -> 0.6 | AI17: =VLOOKUP(AV17,$A$5:$AA$221,$AE$2) -> 4.2 | AJ17: =VLOOKUP(AW17,$A$5:$AA$221,$AE$2) -> 10.3 | AK17: =VLOOKUP(AX17,$A$5:$AA$221,$AE$2) -> 15.2 | AL17: =VLOOKUP(AY17,$A$5:$AA$221,$AE$2) -> 14.6 | ... AP17: =VLOOKUP(BC17,$A$5:$AA$221,$AE$2) -> -6.4 | AR17: =AR16+100 -> 200301 | AS17: =AR17+1 -> 200302 | AT17: =AS17+1 -> 200303 | AU17: =AT17+1 -> 200304 | AV17: =AU17+1 -> 200305 | AW17: =AV17+1 -> 200306 | AX17: =AW17+1 -> 200307 | AY17: =AX17+1 -> 200308 | AZ17: =AY17+1 -> 200309 | ... BC17: =BB17+1 -> 200312
A18: =Data!Y18 -> 199209 | B18: =ROUND(Data!Z18,2) -> 10.89 | C18: =ROUND(Data!AA18,1) -> 5.8 | D18: =ROUND(Data!AB18,1) -> 11.6 | E18: =ROUND(Data!AC18,1) -> 0.6 | F18: =ROUND(Data!AD18,1) -> 21.2 | G18: =ROUND(Data!AE18,1) -> -6.2 | H18: =ROUND(Data!AF18,1) -> 71.8 | I18: =ROUND(Data!AG18,1) -> 50.6 | J18: =ROUND(Data!AH18,1) -> 48.7 | ... N18: =ROUND(Data!AL18,1) -> 11.8 | P18: =ROUND(Data!AN18,1) -> 12.1 | R18: =ROUND(Data!AP18,1) -> 9.1 | S18: =ROUND(Data!AQ18,3) -> 0.671 | T18: =ROUND(Data!AR18,3) -> 0.78 | U18: =ROUND(Data!AS18,3) -> 2.021 | V18: =ROUND(Data!AT18,0) -> 0 | X18: =D18-E18 -> 11 | Y18: =IF(C18<0,0,ROUND(0.0023*VLOOKUP(AA18,$BF$5:$BO$16,10)*(C18+17.8)*(D18-E18)^0.5*Y$2,0)) -> 49 | Z18: =IF(Y18>F18,Y18-F18,0) -> 27.8 | AA18: 9 | AB18: 1992 | AD18: =AD17+1 -> 2004 | AE18: =VLOOKUP(AR18,$A$5:$AA$221,$AE$2) -> -7 | AF18: =VLOOKUP(AS18,$A$5:$AA$221,$AE$2) -> -4.3 | AG18: =VLOOKUP(AT18,$A$5:$AA$221,$AE$2) -> -1.1 | AH18: =VLOOKUP(AU18,$A$5:$AA$221,$AE$2) -> 3.6 | AI18: =VLOOKUP(AV18,$A$5:$AA$221,$AE$2) -> 4.8 | AJ18: =VLOOKUP(AW18,$A$5:$AA$221,$AE$2) -> 10.8 | AK18: =VLOOKUP(AX18,$A$5:$AA$221,$AE$2) -> 14 | AL18: =VLOOKUP(AY18,$A$5:$AA$221,$AE$2) -> 13.7 | ... AP18: =VLOOKUP(BC18,$A$5:$AA$221,$AE$2) -> -3.7 | AR18: =AR17+100 -> 200401 | AS18: =AR18+1 -> 200402 | AT18: =AS18+1 -> 200403 | AU18: =AT18+1 -> 200404 | AV18: =AU18+1 -> 200405 | AW18: =AV18+1 -> 200406 | AX18: =AW18+1 -> 200407 | AY18: =AX18+1 -> 200408 | AZ18: =AY18+1 -> 200409 | ... BC18: =BB18+1 -> 200412
A19: =Data!Y19 -> 199210 | B19: =ROUND(Data!Z19,2) -> 6.44 | C19: =ROUND(Data!AA19,1) -> 2.9 | D19: =ROUND(Data!AB19,1) -> 7.7 | E19: =ROUND(Data!AC19,1) -> -1.5 | F19: =ROUND(Data!AD19,1) -> 23.1 | G19: =ROUND(Data!AE19,1) -> -11.1 | H19: =ROUND(Data!AF19,1) -> 74.7 | I19: =ROUND(Data!AG19,1) -> 57.1 | J19: =ROUND(Data!AH19,1) -> 37.7 | ... N19: =ROUND(Data!AL19,1) -> 8.5 | P19: =ROUND(Data!AN19,1) -> 8 | R19: =ROUND(Data!AP19,1) -> 5.7 | S19: =ROUND(Data!AQ19,3) -> 0.571 | T19: =ROUND(Data!AR19,3) -> 0.558 | U19: =ROUND(Data!AS19,3) -> 2.196 | V19: =ROUND(Data!AT19,0) -> 48 | X19: =D19-E19 -> 9.2 | Y19: =IF(C19<0,0,ROUND(0.0023*VLOOKUP(AA19,$BF$5:$BO$16,10)*(C19+17.8)*(D19-E19)^0.5*Y$2,0)) -> 27 | Z19: =IF(Y19>F19,Y19-F19,0) -> 3.9 | AA19: 10 | AB19: 1992 | AD19: =AD18+1 -> 2005 | AE19: =VLOOKUP(AR19,$A$5:$AA$221,$AE$2) -> -5.9 | AF19: =VLOOKUP(AS19,$A$5:$AA$221,$AE$2) -> -3.6 | AG19: =VLOOKUP(AT19,$A$5:$AA$221,$AE$2) -> -1.6 | AH19: =VLOOKUP(AU19,$A$5:$AA$221,$AE$2) -> 1.6 | AI19: =VLOOKUP(AV19,$A$5:$AA$221,$AE$2) -> 6.9 | AJ19: =VLOOKUP(AW19,$A$5:$AA$221,$AE$2) -> 7.2 | AK19: =VLOOKUP(AX19,$A$5:$AA$221,$AE$2) -> 12.2 | AL19: =VLOOKUP(AY19,$A$5:$AA$221,$AE$2) -> 13.1 | ... AP19: =VLOOKUP(BC19,$A$5:$AA$221,$AE$2) -> -5.5 | AR19: =AR18+100 -> 200501 | AS19: =AR19+1 -> 200502 | AT19: =AS19+1 -> 200503 | AU19: =AT19+1 -> 200504 | AV19: =AU19+1 -> 200505 | AW19: =AV19+1 -> 200506 | AX19: =AW19+1 -> 200507 | AY19: =AX19+1 -> 200508 | AZ19: =AY19+1 -> 200509 | ... BC19: =BB19+1 -> 200512
A20: =Data!Y20 -> 199211 | B20: =ROUND(Data!Z20,2) -> 3.1 | C20: =ROUND(Data!AA20,1) -> -4.1 | D20: =ROUND(Data!AB20,1) -> -0.1 | E20: =ROUND(Data!AC20,1) -> -8.3 | F20: =ROUND(Data!AD20,1) -> 6.4 | G20: =ROUND(Data!AE20,1) -> -15 | H20: =ROUND(Data!AF20,1) -> 90 | I20: =ROUND(Data!AG20,1) -> 75.4 | J20: =ROUND(Data!AH20,1) -> 105 | ... N20: =ROUND(Data!AL20,1) -> 9.2 | P20: =ROUND(Data!AN20,1) -> 0.4 | R20: =ROUND(Data!AP20,1) -> 1.5 | S20: =ROUND(Data!AQ20,3) -> 0.456 | T20: =ROUND(Data!AR20,3) -> 0.161 | U20: =ROUND(Data!AS20,3) -> 0.482 | V20: =ROUND(Data!AT20,0) -> 478 | X20: =D20-E20 -> 8.2 | Y20: =IF(C20<0,0,ROUND(0.0023*VLOOKUP(AA20,$BF$5:$BO$16,10)*(C20+17.8)*(D20-E20)^0.5*Y$2,0)) -> 0 | Z20: =IF(Y20>F20,Y20-F20,0) -> 0 | AA20: 11 | AB20: 1992 | AD20: =AD19+1 -> 2006 | AE20: =VLOOKUP(AR20,$A$5:$AA$221,$AE$2) -> -4.4 | AF20: =VLOOKUP(AS20,$A$5:$AA$221,$AE$2) -> -7.2 | AG20: =VLOOKUP(AT20,$A$5:$AA$221,$AE$2) -> -4.1 | AH20: =VLOOKUP(AU20,$A$5:$AA$221,$AE$2) -> 1.4 | AI20: =VLOOKUP(AV20,$A$5:$AA$221,$AE$2) -> 6 | AJ20: =VLOOKUP(AW20,$A$5:$AA$221,$AE$2) -> 10.2 | AK20: =VLOOKUP(AX20,$A$5:$AA$221,$AE$2) -> 14.4 | AL20: =VLOOKUP(AY20,$A$5:$AA$221,$AE$2) -> 12.9 | ... AP20: =VLOOKUP(BC20,$A$5:$AA$221,$AE$2) -> -5.9 | AR20: =AR19+100 -> 200601 | AS20: =AR20+1 -> 200602 | AT20: =AS20+1 -> 200603 | AU20: =AT20+1 -> 200604 | AV20: =AU20+1 -> 200605 | AW20: =AV20+1 -> 200606 | AX20: =AW20+1 -> 200607 | AY20: =AX20+1 -> 200608 | AZ20: =AY20+1 -> 200609 | ... BC20: =BB20+1 -> 200612
A21: =Data!Y21 -> 199212 | B21: =ROUND(Data!Z21,2) -> 2.43 | C21: =ROUND(Data!AA21,1) -> -9.1 | D21: =ROUND(Data!AB21,1) -> -5.3 | E21: =ROUND(Data!AC21,1) -> -13.3 | F21: =ROUND(Data!AD21,1) -> -0.5 | G21: =ROUND(Data!AE21,1) -> -23.8 | H21: =ROUND(Data!AF21,1) -> 84.7 | I21: =ROUND(Data!AG21,1) -> 72.8 | J21: =ROUND(Data!AH21,1) -> 74.3 | ... N21: =ROUND(Data!AL21,1) -> 10.1 | P21: =ROUND(Data!AN21,1) -> 0.3 | S21: =ROUND(Data!AQ21,3) -> 0.298 | T21: =ROUND(Data!AR21,3) -> 0.125 | U21: =ROUND(Data!AS21,3) -> 0.45 | V21: =ROUND(Data!AT21,0) -> 880 | X21: =D21-E21 -> 8 | Y21: =IF(C21<0,0,ROUND(0.0023*VLOOKUP(AA21,$BF$5:$BO$16,10)*(C21+17.8)*(D21-E21)^0.5*Y$2,0)) -> 0 | Z21: =IF(Y21>F21,Y21-F21,0) -> 0.5 | AA21: 12 | AB21: 1992 | AD21: =AD20+1 -> 2007 | AE21: =VLOOKUP(AR21,$A$5:$AA$221,$AE$2) -> -6.8 | AF21: =VLOOKUP(AS21,$A$5:$AA$221,$AE$2) -> -3.9 | AG21: =VLOOKUP(AT21,$A$5:$AA$221,$AE$2) -> -1.4 | AH21: =VLOOKUP(AU21,$A$5:$AA$221,$AE$2) -> 0.4 | AI21: =VLOOKUP(AV21,$A$5:$AA$221,$AE$2) -> 6.3 | AJ21: =VLOOKUP(AW21,$A$5:$AA$221,$AE$2) -> 8.3 | AK21: =VLOOKUP(AX21,$A$5:$AA$221,$AE$2) -> 15 | AL21: =VLOOKUP(AY21,$A$5:$AA$221,$AE$2) -> 11.3 | ... AP21: =VLOOKUP(BC21,$A$5:$AA$221,$AE$2) -> -8 | AR21: =AR20+100 -> 200701 | AS21: =AR21+1 -> 200702 | AT21: =AS21+1 -> 200703 | AU21: =AT21+1 -> 200704 | AV21: =AU21+1 -> 200705 | AW21: =AV21+1 -> 200706 | AX21: =AW21+1 -> 200707 | AY21: =AX21+1 -> 200708 | AZ21: =AY21+1 -> 200709 | ... BC21: =BB21+1 -> 200712
A22: =Data!Y22 -> 199301 | B22: =ROUND(Data!Z22,2) -> 4.13 | C22: =ROUND(Data!AA22,1) -> -8.4 | D22: =ROUND(Data!AB22,1) -> -3.9 | E22: =ROUND(Data!AC22,1) -> -12.2 | F22: =ROUND(Data!AD22,1) -> 10.1 | G22: =ROUND(Data!AE22,1) -> -25.1 | H22: =ROUND(Data!AF22,1) -> 86.6 | I22: =ROUND(Data!AG22,1) -> 72.3 | J22: =ROUND(Data!AH22,1) -> 35 | ... N22: =ROUND(Data!AL22,1) -> 12.4 | P22: =ROUND(Data!AN22,1) -> 0.1 | S22: =ROUND(Data!AQ22,3) -> 0.348 | T22: =ROUND(Data!AR22,3) -> 0.151 | U22: =ROUND(Data!AS22,3) -> 0.819 | V22: =ROUND(Data!AT22,0) -> 928 | X22: =D22-E22 -> 8.3 | Y22: =IF(C22<0,0,ROUND(0.0023*VLOOKUP(AA22,$BF$5:$BO$16,10)*(C22+17.8)*(D22-E22)^0.5*Y$2,0)) -> 0 | Z22: =IF(Y22>F22,Y22-F22,0) -> 0 | AA22: 1 | AB22: 1993 | AD22: =AD21+1 -> 2008 | AE22: =VLOOKUP(AR22,$A$5:$AA$221,$AE$2) -> -8.3 | AF22: =VLOOKUP(AS22,$A$5:$AA$221,$AE$2) -> -4.2 | AG22: =VLOOKUP(AT22,$A$5:$AA$221,$AE$2) -> -5 | AH22: =VLOOKUP(AU22,$A$5:$AA$221,$AE$2) -> -2.7 | AI22: =VLOOKUP(AV22,$A$5:$AA$221,$AE$2) -> 5.5 | AJ22: =VLOOKUP(AW22,$A$5:$AA$221,$AE$2) -> 7.9 | AK22: =VLOOKUP(AX22,$A$5:$AA$221,$AE$2) -> 13.1 | AL22: =VLOOKUP(AY22,$A$5:$AA$221,$AE$2) -> 11.8 | ... AP22: =VLOOKUP(BC22,$A$5:$AA$221,$AE$2) -> -10.9 | AR22: =AR21+100 -> 200801 | AS22: =AR22+1 -> 200802 | AT22: =AS22+1 -> 200803 | AU22: =AT22+1 -> 200804 | AV22: =AU22+1 -> 200805 | AW22: =AV22+1 -> 200806 | AX22: =AW22+1 -> 200807 | AY22: =AX22+1 -> 200808 | AZ22: =AY22+1 -> 200809 | ... BC22: =BB22+1 -> 200812
A23: =Data!Y23 -> 199302 | B23: =ROUND(Data!Z23,2) -> 7.85 | C23: =ROUND(Data!AA23,1) -> -6.8 | D23: =ROUND(Data!AB23,1) -> -1.2 | E23: =ROUND(Data!AC23,1) -> -11 | F23: =ROUND(Data!AD23,1) -> 8.3 | G23: =ROUND(Data!AE23,1) -> -21.8 | H23: =ROUND(Data!AF23,1) -> 74.7 | I23: =ROUND(Data!AG23,1) -> 57.8 | J23: =ROUND(Data!AH23,1) -> 30.2 | ... N23: =ROUND(Data!AL23,1) -> 7.7 | P23: =ROUND(Data!AN23,1) -> 0.1 | S23: =ROUND(Data!AQ23,3) -> 0.342 | T23: =ROUND(Data!AR23,3) -> 0.257 | U23: =ROUND(Data!AS23,3) -> 0.707 | V23: =ROUND(Data!AT23,0) -> 924 | X23: =D23-E23 -> 9.8 | Y23: =IF(C23<0,0,ROUND(0.0023*VLOOKUP(AA23,$BF$5:$BO$16,10)*(C23+17.8)*(D23-E23)^0.5*Y$2,0)) -> 0 | Z23: =IF(Y23>F23,Y23-F23,0) -> 0 | AA23: 2 | AB23: 1993 | AD23: =AD22+1 -> 2009 | AE23: =VLOOKUP(AR23,$A$5:$AA$221,$AE$2) -> -5.1 | AF23: =VLOOKUP(AS23,$A$5:$AA$221,$AE$2) -> -5.3 | AG23: =VLOOKUP(AT23,$A$5:$AA$221,$AE$2) -> -6.4 | AH23: =VLOOKUP(AU23,$A$5:$AA$221,$AE$2) -> -0.3 | AI23: =VLOOKUP(AV23,$A$5:$AA$221,$AE$2) -> 5 | AJ23: =VLOOKUP(AW23,$A$5:$AA$221,$AE$2) -> 9.1 | AK23: =VLOOKUP(AX23,$A$5:$AA$221,$AE$2) -> 14.3 | AL23: =VLOOKUP(AY23,$A$5:$AA$221,$AE$2) -> 13.4 | AR23: =AR22+100 -> 200901 | AS23: =AR23+1 -> 200902 | AT23: =AS23+1 -> 200903 | AU23: =AT23+1 -> 200904 | AV23: =AU23+1 -> 200905 | AW23: =AV23+1 -> 200906 | AX23: =AW23+1 -> 200907 | AY23: =AX23+1 -> 200908 | AZ23: =AY23+1 -> 200909 | ... BC23: =BB23+1 -> 200912
A24: =Data!Y24 -> 199303 | B24: =ROUND(Data!Z24,2) -> 10.79 | C24: =ROUND(Data!AA24,1) -> -2.7 | D24: =ROUND(Data!AB24,1) -> 3.1 | E24: =ROUND(Data!AC24,1) -> -7.8 | F24: =ROUND(Data!AD24,1) -> 9.4 | G24: =ROUND(Data!AE24,1) -> -16.7 | H24: =ROUND(Data!AF24,1) -> 73.6 | I24: =ROUND(Data!AG24,1) -> 51.2 | J24: =ROUND(Data!AH24,1) -> 31.3 | ... N24: =ROUND(Data!AL24,1) -> 10.1 | P24: =ROUND(Data!AN24,1) -> 0 | S24: =ROUND(Data!AQ24,3) -> 0.397 | T24: =ROUND(Data!AR24,3) -> 0.377 | U24: =ROUND(Data!AS24,3) -> 0.666 | V24: =ROUND(Data!AT24,0) -> 837 | X24: =D24-E24 -> 10.9 | Y24: =IF(C24<0,0,ROUND(0.0023*VLOOKUP(AA24,$BF$5:$BO$16,10)*(C24+17.8)*(D24-E24)^0.5*Y$2,0)) -> 0 | Z24: =IF(Y24>F24,Y24-F24,0) -> 0 | AA24: 3 | AB24: 1993
A25: =Data!Y25 -> 199304 | B25: =ROUND(Data!Z25,2) -> 13.17 | C25: =ROUND(Data!AA25,1) -> -0.1 | D25: =ROUND(Data!AB25,1) -> 4.9 | E25: =ROUND(Data!AC25,1) -> -4.1 | F25: =ROUND(Data!AD25,1) -> 9.2 | G25: =ROUND(Data!AE25,1) -> -8.4 | H25: =ROUND(Data!AF25,1) -> 86.3 | I25: =ROUND(Data!AG25,1) -> 63.5 | J25: =ROUND(Data!AH25,1) -> 63.9 | ... N25: =ROUND(Data!AL25,1) -> 9.1 | P25: =ROUND(Data!AN25,1) -> 0 | S25: =ROUND(Data!AQ25,3) -> 0.541 | T25: =ROUND(Data!AR25,3) -> 0.331 | U25: =ROUND(Data!AS25,3) -> 0.722 | V25: =ROUND(Data!AT25,0) -> 672 | X25: =D25-E25 -> 9 | Y25: =IF(C25<0,0,ROUND(0.0023*VLOOKUP(AA25,$BF$5:$BO$16,10)*(C25+17.8)*(D25-E25)^0.5*Y$2,0)) -> 0 | Z25: =IF(Y25>F25,Y25-F25,0) -> 0 | AA25: 4 | AB25: 1993
A26: =Data!Y26 -> 199305 | B26: =ROUND(Data!Z26,2) -> 20.8 | C26: =ROUND(Data!AA26,1) -> 9.1 | D26: =ROUND(Data!AB26,1) -> 15.1 | E26: =ROUND(Data!AC26,1) -> 2.7 | F26: =ROUND(Data!AD26,1) -> 25.6 | G26: =ROUND(Data!AE26,1) -> -4.6 | H26: =ROUND(Data!AF26,1) -> 62.2 | I26: =ROUND(Data!AG26,1) -> 39.9 | J26: =ROUND(Data!AH26,1) -> 49.1 | ... N26: =ROUND(Data!AL26,1) -> 9.4 | P26: =ROUND(Data!AN26,1) -> 7.3 | S26: =ROUND(Data!AQ26,3) -> 0.637 | T26: =ROUND(Data!AR26,3) -> 1.2 | U26: =ROUND(Data!AS26,3) -> 2.855 | V26: =ROUND(Data!AT26,0) -> 0 | X26: =D26-E26 -> 12.4 | Y26: =IF(C26<0,0,ROUND(0.0023*VLOOKUP(AA26,$BF$5:$BO$16,10)*(C26+17.8)*(D26-E26)^0.5*Y$2,0)) -> 92 | Z26: =IF(Y26>F26,Y26-F26,0) -> 66.4 | AA26: 5 | AB26: 1993
A27: =Data!Y27 -> 199306 | B27: =ROUND(Data!Z27,2) -> 16.81 | C27: =ROUND(Data!AA27,1) -> 7.5 | D27: =ROUND(Data!AB27,1) -> 13.3 | E27: =ROUND(Data!AC27,1) -> 2.1 | F27: =ROUND(Data!AD27,1) -> 20.5 | G27: =ROUND(Data!AE27,1) -> -1.6 | H27: =ROUND(Data!AF27,1) -> 78.3 | I27: =ROUND(Data!AG27,1) -> 55 | J27: =ROUND(Data!AH27,1) -> 116.8 | ... N27: =ROUND(Data!AL27,1) -> 10.3 | P27: =ROUND(Data!AN27,1) -> 10.8 | S27: =ROUND(Data!AQ27,3) -> 0.796 | T27: =ROUND(Data!AR27,3) -> 0.787 | U27: =ROUND(Data!AS27,3) -> 1.975 | V27: =ROUND(Data!AT27,0) -> 0 | X27: =D27-E27 -> 11.2 | Y27: =IF(C27<0,0,ROUND(0.0023*VLOOKUP(AA27,$BF$5:$BO$16,10)*(C27+17.8)*(D27-E27)^0.5*Y$2,0)) -> 86 | Z27: =IF(Y27>F27,Y27-F27,0) -> 65.5 | AA27: 6 | AB27: 1993
A28: =Data!Y28 -> 199307 | B28: =ROUND(Data!Z28,2) -> 15.97 | C28: =ROUND(Data!AA28,1) -> 8.3 | D28: =ROUND(Data!AB28,1) -> 14.3 | E28: =ROUND(Data!AC28,1) -> 3.5 | F28: =ROUND(Data!AD28,1) -> 20.1 | G28: =ROUND(Data!AE28,1) -> 0.5 | H28: =ROUND(Data!AF28,1) -> 84.6 | I28: =ROUND(Data!AG28,1) -> 62 | J28: =ROUND(Data!AH28,1) -> 173.5 | ... N28: =ROUND(Data!AL28,1) -> 8.7 | S28: =ROUND(Data!AQ28,3) -> 0.988 | T28: =ROUND(Data!AR28,3) -> 0.657 | U28: =ROUND(Data!AS28,3) -> 1.39 | V28: =ROUND(Data!AT28,0) -> 0 | X28: =D28-E28 -> 10.8 | Y28: =IF(C28<0,0,ROUND(0.0023*VLOOKUP(AA28,$BF$5:$BO$16,10)*(C28+17.8)*(D28-E28)^0.5*Y$2,0)) -> 86 | Z28: =IF(Y28>F28,Y28-F28,0) -> 65.9 | AA28: 7 | AB28: 1993
A29: =Data!Y29 -> 199308 | B29: =ROUND(Data!Z29,2) -> 17.94 | C29: =ROUND(Data!AA29,1) -> 10.5 | D29: =ROUND(Data!AB29,1) -> 16.8 | E29: =ROUND(Data!AC29,1) -> 4.7 | F29: =ROUND(Data!AD29,1) -> 22.1 | G29: =ROUND(Data!AE29,1) -> 0.1 | H29: =ROUND(Data!AF29,1) -> 73.6 | I29: =ROUND(Data!AG29,1) -> 50 | J29: =ROUND(Data!AH29,1) -> 48.5 | ... N29: =ROUND(Data!AL29,1) -> 7 | S29: =ROUND(Data!AQ29,3) -> 0.932 | T29: =ROUND(Data!AR29,3) -> 1.05 | U29: =ROUND(Data!AS29,3) -> 1.819 | V29: =ROUND(Data!AT29,0) -> 0 | X29: =D29-E29 -> 12.1 | Y29: =IF(C29<0,0,ROUND(0.0023*VLOOKUP(AA29,$BF$5:$BO$16,10)*(C29+17.8)*(D29-E29)^0.5*Y$2,0)) -> 84 | Z29: =IF(Y29>F29,Y29-F29,0) -> 61.9 | AA29: 8 | AB29: 1993
A30: =Data!Y30 -> 199309 | B30: =ROUND(Data!Z30,2) -> 15.11 | C30: =ROUND(Data!AA30,1) -> 8.9 | D30: =ROUND(Data!AB30,1) -> 15.8 | E30: =ROUND(Data!AC30,1) -> 3 | F30: =ROUND(Data!AD30,1) -> 24.2 | G30: =ROUND(Data!AE30,1) -> -2.6 | H30: =ROUND(Data!AF30,1) -> 62.4 | I30: =ROUND(Data!AG30,1) -> 39.4 | J30: =ROUND(Data!AH30,1) -> 17.2 | ... N30: =ROUND(Data!AL30,1) -> 8.2 | P30: =ROUND(Data!AN30,1) -> 9.9 | S30: =ROUND(Data!AQ30,3) -> 0.658 | T30: =ROUND(Data!AR30,3) -> 1.251 | U30: =ROUND(Data!AS30,3) -> 2.533 | V30: =ROUND(Data!AT30,0) -> 0 | X30: =D30-E30 -> 12.8 | Y30: =IF(C30<0,0,ROUND(0.0023*VLOOKUP(AA30,$BF$5:$BO$16,10)*(C30+17.8)*(D30-E30)^0.5*Y$2,0)) -> 59 | Z30: =IF(Y30>F30,Y30-F30,0) -> 34.8 | AA30: 9 | AB30: 1993
A31: =Data!Y31 -> 199310 | B31: =ROUND(Data!Z31,2) -> 8.19 | C31: =ROUND(Data!AA31,1) -> 4 | D31: =ROUND(Data!AB31,1) -> 9.6 | E31: =ROUND(Data!AC31,1) -> -0.8 | F31: =ROUND(Data!AD31,1) -> 20.9 | G31: =ROUND(Data!AE31,1) -> -6.2 | H31: =ROUND(Data!AF31,1) -> 73.2 | I31: =ROUND(Data!AG31,1) -> 51.5 | J31: =ROUND(Data!AH31,1) -> 44.9 | ... N31: =ROUND(Data!AL31,1) -> 9.2 | P31: =ROUND(Data!AN31,1) -> 4.3 | S31: =ROUND(Data!AQ31,3) -> 0.594 | T31: =ROUND(Data!AR31,3) -> 0.676 | U31: =ROUND(Data!AS31,3) -> 1.543 | V31: =ROUND(Data!AT31,0) -> 50 | X31: =D31-E31 -> 10.4 | Y31: =IF(C31<0,0,ROUND(0.0023*VLOOKUP(AA31,$BF$5:$BO$16,10)*(C31+17.8)*(D31-E31)^0.5*Y$2,0)) -> 30 | Z31: =IF(Y31>F31,Y31-F31,0) -> 9.1 | AA31: 10 | AB31: 1993
A32: =Data!Y32 -> 199311 | B32: =ROUND(Data!Z32,2) -> 4.09 | C32: =ROUND(Data!AA32,1) -> -5.4 | D32: =ROUND(Data!AB32,1) -> -0.7 | E32: =ROUND(Data!AC32,1) -> -9.6 | F32: =ROUND(Data!AD32,1) -> 6.8 | G32: =ROUND(Data!AE32,1) -> -25.2 | H32: =ROUND(Data!AF32,1) -> 79.1 | I32: =ROUND(Data!AG32,1) -> 58.2 | J32: =ROUND(Data!AH32,1) -> 51.8 | ... N32: =ROUND(Data!AL32,1) -> 8.3 | P32: =ROUND(Data!AN32,1) -> -0.1 | S32: =ROUND(Data!AQ32,3) -> 0.336 | T32: =ROUND(Data!AR32,3) -> 0.268 | U32: =ROUND(Data!AS32,3) -> 0.666 | V32: =ROUND(Data!AT32,0) -> 150 | X32: =D32-E32 -> 8.9 | Y32: =IF(C32<0,0,ROUND(0.0023*VLOOKUP(AA32,$BF$5:$BO$16,10)*(C32+17.8)*(D32-E32)^0.5*Y$2,0)) -> 0 | Z32: =IF(Y32>F32,Y32-F32,0) -> 0 | AA32: 11 | AB32: 1993
A33: =Data!Y33 -> 199312 | B33: =ROUND(Data!Z33,2) -> 2.35 | C33: =ROUND(Data!AA33,1) -> -4.6 | D33: =ROUND(Data!AB33,1) -> -0.4 | E33: =ROUND(Data!AC33,1) -> -8.1 | F33: =ROUND(Data!AD33,1) -> 8.1 | G33: =ROUND(Data!AE33,1) -> -17 | H33: =ROUND(Data!AF33,1) -> 84.3 | I33: =ROUND(Data!AG33,1) -> 67.8 | J33: =ROUND(Data!AH33,1) -> 63.5 | ... N33: =ROUND(Data!AL33,1) -> 12.1 | P33: =ROUND(Data!AN33,1) -> -0.2 | S33: =ROUND(Data!AQ33,3) -> 0.39 | T33: =ROUND(Data!AR33,3) -> 0.22 | U33: =ROUND(Data!AS33,3) -> 0.856 | V33: =ROUND(Data!AT33,0) -> 671 | X33: =D33-E33 -> 7.7 | Y33: =IF(C33<0,0,ROUND(0.0023*VLOOKUP(AA33,$BF$5:$BO$16,10)*(C33+17.8)*(D33-E33)^0.5*Y$2,0)) -> 0 | Z33: =IF(Y33>F33,Y33-F33,0) -> 0 | AA33: 12 | AB33: 1993
A34: =Data!Y34 -> 199401 | B34: =ROUND(Data!Z34,2) -> 2.98 | C34: =ROUND(Data!AA34,1) -> -2.8 | D34: =ROUND(Data!AB34,1) -> 0.4 | E34: =ROUND(Data!AC34,1) -> -5.4 | F34: =ROUND(Data!AD34,1) -> 8.2 | G34: =ROUND(Data!AE34,1) -> -12.4 | H34: =ROUND(Data!AF34,1) -> 86.5 | I34: =ROUND(Data!AG34,1) -> 70.7 | J34: =ROUND(Data!AH34,1) -> 37.1 | ... N34: =ROUND(Data!AL34,1) -> 8.8 | P34: =ROUND(Data!AN34,1) -> 0 | S34: =ROUND(Data!AQ34,3) -> 0.442 | T34: =ROUND(Data!AR34,3) -> 0.204 | U34: =ROUND(Data!AS34,3) -> 0.533 | V34: =ROUND(Data!AT34,0) -> 659 | X34: =D34-E34 -> 5.8 | Y34: =IF(C34<0,0,ROUND(0.0023*VLOOKUP(AA34,$BF$5:$BO$16,10)*(C34+17.8)*(D34-E34)^0.5*Y$2,0)) -> 0 | Z34: =IF(Y34>F34,Y34-F34,0) -> 0 | AA34: 1 | AB34: 1994
A35: =Data!Y35 -> 199402 | B35: =ROUND(Data!Z35,2) -> 5.6 | C35: =ROUND(Data!AA35,1) -> -7.4 | D35: =ROUND(Data!AB35,1) -> -3 | E35: =ROUND(Data!AC35,1) -> -11.8 | F35: =ROUND(Data!AD35,1) -> 3.4 | G35: =ROUND(Data!AE35,1) -> -24.5 | H35: =ROUND(Data!AF35,1) -> 82.8 | I35: =ROUND(Data!AG35,1) -> 64.6 | J35: =ROUND(Data!AH35,1) -> 87.3 | ... N35: =ROUND(Data!AL35,1) -> 10.5 | P35: =ROUND(Data!AN35,1) -> 0 | S35: =ROUND(Data!AQ35,3) -> 0.324 | T35: =ROUND(Data!AR35,3) -> 0.188 | U35: =ROUND(Data!AS35,3) -> 0.501 | V35: =ROUND(Data!AT35,0) -> 1142 | X35: =D35-E35 -> 8.8 | Y35: =IF(C35<0,0,ROUND(0.0023*VLOOKUP(AA35,$BF$5:$BO$16,10)*(C35+17.8)*(D35-E35)^0.5*Y$2,0)) -> 0 | Z35: =IF(Y35>F35,Y35-F35,0) -> 0 | AA35: 2 | AB35: 1994
A36: =Data!Y36 -> 199403 | B36: =ROUND(Data!Z36,2) -> 12.21 | C36: =ROUND(Data!AA36,1) -> -1 | D36: =ROUND(Data!AB36,1) -> 5 | E36: =ROUND(Data!AC36,1) -> -6.2 | F36: =ROUND(Data!AD36,1) -> 16.1 | G36: =ROUND(Data!AE36,1) -> -14.9 | H36: =ROUND(Data!AF36,1) -> 62 | I36: =ROUND(Data!AG36,1) -> 37.6 | J36: =ROUND(Data!AH36,1) -> 30.2 | ... N36: =ROUND(Data!AL36,1) -> 9.6 | P36: =ROUND(Data!AN36,1) -> 0 | S36: =ROUND(Data!AQ36,3) -> 0.317 | T36: =ROUND(Data!AR36,3) -> 0.62 | U36: =ROUND(Data!AS36,3) -> 1.555 | V36: =ROUND(Data!AT36,0) -> 744 | X36: =D36-E36 -> 11.2 | Y36: =IF(C36<0,0,ROUND(0.0023*VLOOKUP(AA36,$BF$5:$BO$16,10)*(C36+17.8)*(D36-E36)^0.5*Y$2,0)) -> 0 | Z36: =IF(Y36>F36,Y36-F36,0) -> 0 | AA36: 3 | AB36: 1994
A37: =Data!Y37 -> 199404 | B37: =ROUND(Data!Z37,2) -> 13.84 | C37: =ROUND(Data!AA37,1) -> 2.5 | D37: =ROUND(Data!AB37,1) -> 8 | E37: =ROUND(Data!AC37,1) -> -2 | F37: =ROUND(Data!AD37,1) -> 16.3 | G37: =ROUND(Data!AE37,1) -> -5.8 | H37: =ROUND(Data!AF37,1) -> 73.3 | I37: =ROUND(Data!AG37,1) -> 45.4 | J37: =ROUND(Data!AH37,1) -> 83 | ... N37: =ROUND(Data!AL37,1) -> 8.5 | P37: =ROUND(Data!AN37,1) -> 0.2 | S37: =ROUND(Data!AQ37,3) -> 0.467 | T37: =ROUND(Data!AR37,3) -> 0.659 | U37: =ROUND(Data!AS37,3) -> 1.212 | V37: =ROUND(Data!AT37,0) -> 316 | X37: =D37-E37 -> 10 | Y37: =IF(C37<0,0,ROUND(0.0023*VLOOKUP(AA37,$BF$5:$BO$16,10)*(C37+17.8)*(D37-E37)^0.5*Y$2,0)) -> 50 | Z37: =IF(Y37>F37,Y37-F37,0) -> 33.7 | AA37: 4 | AB37: 1994
A38: =Data!Y38 -> 199405 | B38: =ROUND(Data!Z38,2) -> 18.27 | C38: =ROUND(Data!AA38,1) -> 6.1 | D38: =ROUND(Data!AB38,1) -> 12.6 | E38: =ROUND(Data!AC38,1) -> 0.6 | F38: =ROUND(Data!AD38,1) -> 21.9 | G38: =ROUND(Data!AE38,1) -> -4.3 | H38: =ROUND(Data!AF38,1) -> 68.4 | I38: =ROUND(Data!AG38,1) -> 40.5 | J38: =ROUND(Data!AH38,1) -> 35.9 | ... N38: =ROUND(Data!AL38,1) -> 7.8 | P38: =ROUND(Data!AN38,1) -> 8 | S38: =ROUND(Data!AQ38,3) -> 0.562 | T38: =ROUND(Data!AR38,3) -> 0.961 | U38: =ROUND(Data!AS38,3) -> 2.236 | V38: =ROUND(Data!AT38,0) -> 0 | X38: =D38-E38 -> 12 | Y38: =IF(C38<0,0,ROUND(0.0023*VLOOKUP(AA38,$BF$5:$BO$16,10)*(C38+17.8)*(D38-E38)^0.5*Y$2,0)) -> 80 | Z38: =IF(Y38>F38,Y38-F38,0) -> 58.1 | AA38: 5 | AB38: 1994
A39: =Data!Y39 -> 199406 | B39: =ROUND(Data!Z39,2) -> 19.75 | C39: =ROUND(Data!AA39,1) -> 8 | D39: =ROUND(Data!AB39,1) -> 14.6 | E39: =ROUND(Data!AC39,1) -> 1.7 | F39: =ROUND(Data!AD39,1) -> 23.9 | G39: =ROUND(Data!AE39,1) -> -2.7 | H39: =ROUND(Data!AF39,1) -> 70.8 | I39: =ROUND(Data!AG39,1) -> 42.4 | J39: =ROUND(Data!AH39,1) -> 83.2 | ... N39: =ROUND(Data!AL39,1) -> 6.7 | P39: =ROUND(Data!AN39,1) -> 11.3 | S39: =ROUND(Data!AQ39,3) -> 0.658 | T39: =ROUND(Data!AR39,3) -> 1.08 | U39: =ROUND(Data!AS39,3) -> 2.5 | V39: =ROUND(Data!AT39,0) -> 0 | X39: =D39-E39 -> 12.9 | Y39: =IF(C39<0,0,ROUND(0.0023*VLOOKUP(AA39,$BF$5:$BO$16,10)*(C39+17.8)*(D39-E39)^0.5*Y$2,0)) -> 94 | Z39: =IF(Y39>F39,Y39-F39,0) -> 70.1 | AA39: 6 | AB39: 1994
A40: =Data!Y40 -> 199407 | B40: =ROUND(Data!Z40,2) -> 23.14 | C40: =ROUND(Data!AA40,1) -> 14.8 | D40: =ROUND(Data!AB40,1) -> 22 | E40: =ROUND(Data!AC40,1) -> 8 | F40: =ROUND(Data!AD40,1) -> 30.9 | G40: =ROUND(Data!AE40,1) -> -0.3 | H40: =ROUND(Data!AF40,1) -> 51 | I40: =ROUND(Data!AG40,1) -> 29.1 | J40: =ROUND(Data!AH40,1) -> 14 | ... N40: =ROUND(Data!AL40,1) -> 11.3 | P40: =ROUND(Data!AN40,1) -> 15.7 | S40: =ROUND(Data!AQ40,3) -> 0.706 | T40: =ROUND(Data!AR40,3) -> 2.065 | U40: =ROUND(Data!AS40,3) -> 3.805 | V40: =ROUND(Data!AT40,0) -> 0 | X40: =D40-E40 -> 14 | Y40: =IF(C40<0,0,ROUND(0.0023*VLOOKUP(AA40,$BF$5:$BO$16,10)*(C40+17.8)*(D40-E40)^0.5*Y$2,0)) -> 123 | Z40: =IF(Y40>F40,Y40-F40,0) -> 92.1 | AA40: 7 | AB40: 1994
A41: =Data!Y41 -> 199408 | B41: =ROUND(Data!Z41,2) -> 17.51 | C41: =ROUND(Data!AA41,1) -> 12.8 | D41: =ROUND(Data!AB41,1) -> 20.1 | E41: =ROUND(Data!AC41,1) -> 6 | F41: =ROUND(Data!AD41,1) -> 27.9 | G41: =ROUND(Data!AE41,1) -> 1.3 | H41: =ROUND(Data!AF41,1) -> 60.6 | I41: =ROUND(Data!AG41,1) -> 32.9 | J41: =ROUND(Data!AH41,1) -> 48.5 | ... N41: =ROUND(Data!AL41,1) -> 10.3 | P41: =ROUND(Data!AN41,1) -> 13.8 | S41: =ROUND(Data!AQ41,3) -> 0.73 | T41: =ROUND(Data!AR41,3) -> 1.699 | U41: =ROUND(Data!AS41,3) -> 3.04 | V41: =ROUND(Data!AT41,0) -> 0 | X41: =D41-E41 -> 14.1 | Y41: =IF(C41<0,0,ROUND(0.0023*VLOOKUP(AA41,$BF$5:$BO$16,10)*(C41+17.8)*(D41-E41)^0.5*Y$2,0)) -> 99 | Z41: =IF(Y41>F41,Y41-F41,0) -> 71.1 | AA41: 8 | AB41: 1994
... A66: =Data!Y66 -> 199609 | B66: =ROUND(Data!Z66,2) -> 10.82 | C66: =ROUND(Data!AA66,1) -> 5.7 | D66: =ROUND(Data!AB66,1) -> 12 | E66: =ROUND(Data!AC66,1) -> 1.1 | F66: =ROUND(Data!AD66,1) -> 25.2 | G66: =ROUND(Data!AE66,1) -> -6.5 | H66: =ROUND(Data!AF66,1) -> 79.3 | I66: =ROUND(Data!AG66,1) -> 53.8 | J66: =ROUND(Data!AH66,1) -> 82.9 | ... N66: =ROUND(Data!AL66,1) -> 5.8 | P66: =ROUND(Data!AN66,1) -> 7.4 | S66: =ROUND(Data!AQ66,3) -> 0.721 | T66: =ROUND(Data!AR66,3) -> 0.76 | U66: =ROUND(Data!AS66,3) -> 2.606 | V66: =ROUND(Data!AT66,0) -> 0 | X66: =D66-E66 -> 10.9 | Y66: =IF(C66<0,0,ROUND(0.0023*VLOOKUP(AA66,$BF$5:$BO$16,10)*(C66+17.8)*(D66-E66)^0.5*Y$2,0)) -> 48 | Z66: =IF(Y66>F66,Y66-F66,0) -> 22.8 | AA66: 9 | AB66: 1996
A67: =Data!Y67 -> 199610 | B67: =ROUND(Data!Z67,2) -> 6.69 | C67: =ROUND(Data!AA67,1) -> 0.6 | D67: =ROUND(Data!AB67,1) -> 5.7 | E67: =ROUND(Data!AC67,1) -> -3.9 | F67: =ROUND(Data!AD67,1) -> 17.5 | G67: =ROUND(Data!AE67,1) -> -12.8 | H67: =ROUND(Data!AF67,1) -> 81.6 | I67: =ROUND(Data!AG67,1) -> 60.3 | J67: =ROUND(Data!AH67,1) -> 98 | ... N67: =ROUND(Data!AL67,1) -> 10 | P67: =ROUND(Data!AN67,1) -> 3.6 | S67: =ROUND(Data!AQ67,3) -> 0.537 | T67: =ROUND(Data!AR67,3) -> 0.469 | U67: =ROUND(Data!AS67,3) -> 1.418 | V67: =ROUND(Data!AT67,0) -> 151 | W67: =ROUND(Data!AU67,1) -> 0.2 | X67: =D67-E67 -> 9.6 | Y67: =IF(C67<0,0,ROUND(0.0023*VLOOKUP(AA67,$BF$5:$BO$16,10)*(C67+17.8)*(D67-E67)^0.5*Y$2,0)) -> 24 | Z67: =IF(Y67>F67,Y67-F67,0) -> 6.5 | AA67: 10 | AB67: 1996
A68: =Data!Y68 -> 199611 | B68: =ROUND(Data!Z68,2) -> 2.86 | C68: =ROUND(Data!AA68,1) -> -4.6 | D68: =ROUND(Data!AB68,1) -> -0.7 | E68: =ROUND(Data!AC68,1) -> -7.9 | F68: =ROUND(Data!AD68,1) -> 13.3 | G68: =ROUND(Data!AE68,1) -> -20.7 | H68: =ROUND(Data!AF68,1) -> 89.7 | I68: =ROUND(Data!AG68,1) -> 79.7 | J68: =ROUND(Data!AH68,1) -> 102.3 | ... P68: =ROUND(Data!AN68,1) -> 1 | S68: =ROUND(Data!AQ68,3) -> 0.457 | T68: =ROUND(Data!AR68,3) -> 0.185 | U68: =ROUND(Data!AS68,3) -> 0.893 | V68: =ROUND(Data!AT68,0) -> 576 | W68: =ROUND(Data!AS68,1) -> 0.9 | X68: =D68-E68 -> 7.2 | Y68: =IF(C68<0,0,ROUND(0.0023*VLOOKUP(AA68,$BF$5:$BO$16,10)*(C68+17.8)*(D68-E68)^0.5*Y$2,0)) -> 0 | Z68: =IF(Y68>F68,Y68-F68,0) -> 0 | AA68: 11 | AB68: 1996
A69: =Data!Y69 -> 199612 | B69: =ROUND(Data!Z69,2) -> 1.65 | C69: =ROUND(Data!AA69,1) -> -9.6 | D69: =ROUND(Data!AB69,1) -> -5.8 | E69: =ROUND(Data!AC69,1) -> -13.1 | F69: =ROUND(Data!AD69,1) -> 4.3 | G69: =ROUND(Data!AE69,1) -> -27.8 | H69: =ROUND(Data!AF69,1) -> 90.7 | I69: =ROUND(Data!AG69,1) -> 82 | J69: =ROUND(Data!AH69,1) -> 83.1 | ... P69: =ROUND(Data!AN69,1) -> 0.7 | S69: =ROUND(Data!AQ69,3) -> 0.349 | T69: =ROUND(Data!AR69,3) -> 0.073 | U69: =ROUND(Data!AS69,3) -> 0.27 | V69: =ROUND(Data!AT69,0) -> 939 | W69: =ROUND(Data!AS69,1) -> 0.3 | X69: =D69-E69 -> 7.3 | Y69: =IF(C69<0,0,ROUND(0.0023*VLOOKUP(AA69,$BF$5:$BO$16,10)*(C69+17.8)*(D69-E69)^0.5*Y$2,0)) -> 0 | Z69: =IF(Y69>F69,Y69-F69,0) -> 0 | AA69: 12 | AB69: 1996
A70: =Data!Y70 -> 199701 | B70: =ROUND(Data!Z70,2) -> 3.77 | C70: =ROUND(Data!AA70,1) -> -6.5 | D70: =ROUND(Data!AB70,1) -> -2.6 | E70: =ROUND(Data!AC70,1) -> -9.3 | F70: =ROUND(Data!AD70,1) -> 3.7 | G70: =ROUND(Data!AE70,1) -> -25.9 | H70: =ROUND(Data!AF70,1) -> 84 | I70: =ROUND(Data!AG70,1) -> 67 | J70: =ROUND(Data!AH70,1) -> 86.4 | ... N70: =ROUND(Data!AL70,1) -> 6.3 | S70: =ROUND(Data!AQ70,3) -> 0.358 | T70: =ROUND(Data!AR70,3) -> 0.17 | U70: =ROUND(Data!AS70,3) -> 0.344 | V70: =ROUND(Data!AT70,0) -> 1112 | X70: =D70-E70 -> 6.7 | Y70: =IF(C70<0,0,ROUND(0.0023*VLOOKUP(AA70,$BF$5:$BO$16,10)*(C70+17.8)*(D70-E70)^0.5*Y$2,0)) -> 0 | Z70: =IF(Y70>F70,Y70-F70,0) -> 0 | AA70: 1 | AB70: 1997
A71: =Data!Y71 -> 199702 | B71: =ROUND(Data!Z71,2) -> 6.35 | C71: =ROUND(Data!AA71,1) -> -5.3 | D71: =ROUND(Data!AB71,1) -> 0.2 | E71: =ROUND(Data!AC71,1) -> -9.4 | F71: =ROUND(Data!AD71,1) -> 6.1 | G71: =ROUND(Data!AE71,1) -> -17.1 | H71: =ROUND(Data!AF71,1) -> 79.2 | I71: =ROUND(Data!AG71,1) -> 54.9 | J71: =ROUND(Data!AH71,1) -> 68.2 | ... N71: =ROUND(Data!AL71,1) -> 6.7 | S71: =ROUND(Data!AQ71,3) -> 0.34 | T71: =ROUND(Data!AR71,3) -> 0.288 | U71: =ROUND(Data!AS71,3) -> 0.632 | V71: =ROUND(Data!AT71,0) -> 1284 | X71: =D71-E71 -> 9.6 | Y71: =IF(C71<0,0,ROUND(0.0023*VLOOKUP(AA71,$BF$5:$BO$16,10)*(C71+17.8)*(D71-E71)^0.5*Y$2,0)) -> 0 | Z71: =IF(Y71>F71,Y71-F71,0) -> 0 | AA71: 2 | AB71: 1997
A72: =Data!Y72 -> 199703 | B72: =ROUND(Data!Z72,2) -> 9.46 | C72: =ROUND(Data!AA72,1) -> -3.6 | D72: =ROUND(Data!AB72,1) -> 0.7 | E72: =ROUND(Data!AC72,1) -> -7.3 | F72: =ROUND(Data!AD72,1) -> 9.6 | G72: =ROUND(Data!AE72,1) -> -15.9 | H72: =ROUND(Data!AF72,1) -> 77.2 | I72: =ROUND(Data!AG72,1) -> 52.8 | J72: =ROUND(Data!AH72,1) -> 66.3 | ... N72: =ROUND(Data!AL72,1) -> 7.1 | S72: =ROUND(Data!AQ72,3) -> 0.34 | T72: =ROUND(Data!AR72,3) -> 0.328 | U72: =ROUND(Data!AS72,3) -> 0.741 | V72: =ROUND(Data!AT72,0) -> 1177 | X72: =D72-E72 -> 8 | Y72: =IF(C72<0,0,ROUND(0.0023*VLOOKUP(AA72,$BF$5:$BO$16,10)*(C72+17.8)*(D72-E72)^0.5*Y$2,0)) -> 0 | Z72: =IF(Y72>F72,Y72-F72,0) -> 0 | AA72: 3 | AB72: 1997
A73: =Data!Y73 -> 199704 | B73: =ROUND(Data!Z73,2) -> 15.89 | C73: =ROUND(Data!AA73,1) -> -0.6 | D73: =ROUND(Data!AB73,1) -> 5.3 | E73: =ROUND(Data!AC73,1) -> -5.9 | F73: =ROUND(Data!AD73,1) -> 10.9 | G73: =ROUND(Data!AE73,1) -> -14.7 | H73: =ROUND(Data!AF73,1) -> 67.7 | I73: =ROUND(Data!AG73,1) -> 42.1 | J73: =ROUND(Data!AH73,1) -> 57.5 | ... N73: =ROUND(Data!AL73,1) -> 7.3 | S73: =ROUND(Data!AQ73,3) -> 0.373 | T73: =ROUND(Data!AR73,3) -> 0.527 | U73: =ROUND(Data!AS73,3) -> 0.882 | V73: =ROUND(Data!AT73,0) -> 783 | W73: =ROUND(Data!AU73,1) -> 0 | X73: =D73-E73 -> 11.2 | Y73: =IF(C73<0,0,ROUND(0.0023*VLOOKUP(AA73,$BF$5:$BO$16,10)*(C73+17.8)*(D73-E73)^0.5*Y$2,0)) -> 0 | Z73: =IF(Y73>F73,Y73-F73,0) -> 0 | AA73: 4 | AB73: 1997
A74: =Data!Y74 -> 199705 | B74: =ROUND(Data!Z74,2) -> 17.34 | C74: =ROUND(Data!AA74,1) -> 6 | D74: =ROUND(Data!AB74,1) -> 11.9 | E74: =ROUND(Data!AC74,1) -> 1.1 | F74: =ROUND(Data!AD74,1) -> 20.8 | G74: =ROUND(Data!AE74,1) -> -4.8 | H74: =ROUND(Data!AF74,1) -> 72.1 | I74: =ROUND(Data!AG74,1) -> 47.8 | J74: =ROUND(Data!AH74,1) -> 96.9 | ... P74: =ROUND(Data!AN74,1) -> 3.1 | S74: =ROUND(Data!AQ74,3) -> 0.638 | T74: =ROUND(Data!AR74,3) -> 0.821 | U74: =ROUND(Data!AS74,3) -> 2.029 | V74: =ROUND(Data!AT74,0) -> 0 | X74: =D74-E74 -> 10.8 | Y74: =IF(C74<0,0,ROUND(0.0023*VLOOKUP(AA74,$BF$5:$BO$16,10)*(C74+17.8)*(D74-E74)^0.5*Y$2,0)) -> 76 | Z74: =IF(Y74>F74,Y74-F74,0) -> 55.2 | AA74: 5 | AB74: 1997
A75: =Data!Y75 -> 199706 | B75: =ROUND(Data!Z75,2) -> 17.58 | C75: =ROUND(Data!AA75,1) -> 7.7 | D75: =ROUND(Data!AB75,1) -> 14.1 | E75: =ROUND(Data!AC75,1) -> 2.4 | F75: =ROUND(Data!AD75,1) -> 22.3 | G75: =ROUND(Data!AE75,1) -> -1.5 | H75: =ROUND(Data!AF75,1) -> 78.3 | I75: =ROUND(Data!AG75,1) -> 49.1 | J75: =ROUND(Data!AH75,1) -> 137.7 | ... P75: =ROUND(Data!AN75,1) -> 9 | S75: =ROUND(Data!AQ75,3) -> 0.753 | T75: =ROUND(Data!AR75,3) -> 0.903 | U75: =ROUND(Data!AS75,3) -> 2.032 | V75: =ROUND(Data!AT75,0) -> 0 | X75: =D75-E75 -> 11.7 | Y75: =IF(C75<0,0,ROUND(0.0023*VLOOKUP(AA75,$BF$5:$BO$16,10)*(C75+17.8)*(D75-E75)^0.5*Y$2,0)) -> 88 | Z75: =IF(Y75>F75,Y75-F75,0) -> 65.7 | AA75: 6 | AB75: 1997
A76: =Data!Y76 -> 199707 | B76: =ROUND(Data!Z76,2) -> 19.47 | C76: =ROUND(Data!AA76,1) -> 11.1 | D76: =ROUND(Data!AB76,1) -> 18 | E76: =ROUND(Data!AC76,1) -> 4.8 | F76: =ROUND(Data!AD76,1) -> 25.4 | G76: =ROUND(Data!AE76,1) -> 0.7 | H76: =ROUND(Data!AF76,1) -> 73.8 | I76: =ROUND(Data!AG76,1) -> 46 | J76: =ROUND(Data!AH76,1) -> 106.7 | ... P76: =ROUND(Data!AN76,1) -> 11.5 | S76: =ROUND(Data!AQ76,3) -> 0.903 | T76: =ROUND(Data!AR76,3) -> 1.228 | U76: =ROUND(Data!AS76,3) -> 2.264 | V76: =ROUND(Data!AT76,0) -> 0 | X76: =D76-E76 -> 13.2 | Y76: =IF(C76<0,0,ROUND(0.0023*VLOOKUP(AA76,$BF$5:$BO$16,10)*(C76+17.8)*(D76-E76)^0.5*Y$2,0)) -> 106 | Z76: =IF(Y76>F76,Y76-F76,0) -> 80.6 | AA76: 7 | AB76: 1997
A77: =Data!Y77 -> 199708 | B77: =ROUND(Data!Z77,2) -> 17.71 | C77: =ROUND(Data!AA77,1) -> 12.7 | D77: =ROUND(Data!AB77,1) -> 19.7 | E77: =ROUND(Data!AC77,1) -> 6.8 | F77: =ROUND(Data!AD77,1) -> 27.7 | G77: =ROUND(Data!AE77,1) -> 2.2 | H77: =ROUND(Data!AF77,1) -> 70.4 | I77: =ROUND(Data!AG77,1) -> 41.9 | J77: =ROUND(Data!AH77,1) -> 30 | ... P77: =ROUND(Data!AN77,1) -> 13 | S77: =ROUND(Data!AQ77,3) -> 0.929 | T77: =ROUND(Data!AR77,3) -> 1.439 | U77: =ROUND(Data!AS77,3) -> 3.064 | V77: =ROUND(Data!AT77,0) -> 0 | X77: =D77-E77 -> 12.9 | Y77: =IF(C77<0,0,ROUND(0.0023*VLOOKUP(AA77,$BF$5:$BO$16,10)*(C77+17.8)*(D77-E77)^0.5*Y$2,0)) -> 94 | Z77: =IF(Y77>F77,Y77-F77,0) -> 66.3 | AA77: 8 | AB77: 1997
A78: =Data!Y78 -> 199709 | B78: =ROUND(Data!Z78,2) -> 12.68 | C78: =ROUND(Data!AA78,1) -> 9.1 | D78: =ROUND(Data!AB78,1) -> 15.6 | E78: =ROUND(Data!AC78,1) -> 3.9 | F78: =ROUND(Data!AD78,1) -> 24 | G78: =ROUND(Data!AE78,1) -> -2.7 | H78: =ROUND(Data!AF78,1) -> 75.6 | I78: =ROUND(Data!AG78,1) -> 51.5 | J78: =ROUND(Data!AH78,1) -> 109.6 | ... P78: =ROUND(Data!AN78,1) -> 9.7 | S78: =ROUND(Data!AQ78,3) -> 0.849 | T78: =ROUND(Data!AR78,3) -> 1.027 | U78: =ROUND(Data!AS78,3) -> 2.333 | V78: =ROUND(Data!AT78,0) -> 0 | X78: =D78-E78 -> 11.7 | Y78: =IF(C78<0,0,ROUND(0.0023*VLOOKUP(AA78,$BF$5:$BO$16,10)*(C78+17.8)*(D78-E78)^0.5*Y$2,0)) -> 57 | Z78: =IF(Y78>F78,Y78-F78,0) -> 33 | AA78: 9 | AB78: 1997
A79: =Data!Y79 -> 199710 | B79: =ROUND(Data!Z79,2) -> 5.87 | C79: =ROUND(Data!AA79,1) -> 0.9 | D79: =ROUND(Data!AB79,1) -> 5.3 | E79: =ROUND(Data!AC79,1) -> -2.1 | F79: =ROUND(Data!AD79,1) -> 18.1 | G79: =ROUND(Data!AE79,1) -> -6.8 | H79: =ROUND(Data!AF79,1) -> 86.5 | I79: =ROUND(Data!AG79,1) -> 67.5 | J79: =ROUND(Data!AH79,1) -> 73.1 | ... P79: =ROUND(Data!AN79,1) -> 3.2 | S79: =ROUND(Data!AQ79,3) -> 0.583 | T79: =ROUND(Data!AR79,3) -> 0.347 | U79: =ROUND(Data!AS79,3) -> 1.226 | V79: =ROUND(Data!AT79,0) -> 52 | W79: =ROUND(Data!AU79,1) -> 0 | X79: =D79-E79 -> 7.4 | Y79: =IF(C79<0,0,ROUND(0.0023*VLOOKUP(AA79,$BF$5:$BO$16,10)*(C79+17.8)*(D79-E79)^0.5*Y$2,0)) -> 22 | Z79: =IF(Y79>F79,Y79-F79,0) -> 3.9 | AA79: 10 | AB79: 1997
A80: =Data!Y80 -> 199711 | B80: =ROUND(Data!Z80,2) -> 3.93 | C80: =ROUND(Data!AA80,1) -> -1.3 | D80: =ROUND(Data!AB80,1) -> 3.2 | E80: =ROUND(Data!AC80,1) -> -4.4 | F80: =ROUND(Data!AD80,1) -> 10.9 | G80: =ROUND(Data!AE80,1) -> -8.8 | H80: =ROUND(Data!AF80,1) -> 77.5 | I80: =ROUND(Data!AG80,1) -> 62.1 | J80: =ROUND(Data!AH80,1) -> 42.8 | ... P80: =ROUND(Data!AN80,1) -> 0.5 | S80: =ROUND(Data!AQ80,3) -> 0.439 | T80: =ROUND(Data!AR80,3) -> 0.356 | U80: =ROUND(Data!AS80,3) -> 1.174 | V80: =ROUND(Data!AT80,0) -> 161 | W80: =ROUND(Data!AS80,1) -> 1.2 | X80: =D80-E80 -> 7.6 | Y80: =IF(C80<0,0,ROUND(0.0023*VLOOKUP(AA80,$BF$5:$BO$16,10)*(C80+17.8)*(D80-E80)^0.5*Y$2,0)) -> 0 | Z80: =IF(Y80>F80,Y80-F80,0) -> 0 | AA80: 11 | AB80: 1997
A81: =Data!Y81 -> 199712 | B81: =ROUND(Data!Z81,2) -> 2.46 | C81: =ROUND(Data!AA81,1) -> -4.8 | D81: =ROUND(Data!AB81,1) -> -0.5 | E81: =ROUND(Data!AC81,1) -> -8.2 | F81: =ROUND(Data!AD81,1) -> 6.1 | G81: =ROUND(Data!AE81,1) -> -15.6 | H81: =ROUND(Data!AF81,1) -> 84.2 | I81: =ROUND(Data!AG81,1) -> 65.2 | J81: =ROUND(Data!AH81,1) -> 58.6 | ... P81: =ROUND(Data!AN81,1) -> -0.1 | S81: =ROUND(Data!AQ81,3) -> 0.379 | T81: =ROUND(Data!AR81,3) -> 0.225 | U81: =ROUND(Data!AS81,3) -> 0.608 | V81: =ROUND(Data!AT81,0) -> 438 | W81: =ROUND(Data!AS81,1) -> 0.6 | X81: =D81-E81 -> 7.7 | Y81: =IF(C81<0,0,ROUND(0.0023*VLOOKUP(AA81,$BF$5:$BO$16,10)*(C81+17.8)*(D81-E81)^0.5*Y$2,0)) -> 0 | Z81: =IF(Y81>F81,Y81-F81,0) -> 0 | AA81: 12 | AB81: 1997
A82: =Data!Y82 -> 199801 | B82: =ROUND(Data!Z82,2) -> 2.42 | C82: =ROUND(Data!AA82,1) -> -7.4 | D82: =ROUND(Data!AB82,1) -> -3.2 | E82: =ROUND(Data!AC82,1) -> -11 | F82: =ROUND(Data!AD82,1) -> 4.4 | G82: =ROUND(Data!AE82,1) -> -28.2 | H82: =ROUND(Data!AF82,1) -> 91.6 | I82: =ROUND(Data!AG82,1) -> 78.4 | J82: =ROUND(Data!AH82,1) -> 86.8 | ... P82: =ROUND(Data!AN82,1) -> -0.2 | S82: =ROUND(Data!AQ82,3) -> 0.398 | T82: =ROUND(Data!AR82,3) -> 0.112 | U82: =ROUND(Data!AS82,3) -> 0.393 | V82: =ROUND(Data!AT82,0) -> 782 | W82: =ROUND(Data!AS82,1) -> 0.4 | X82: =D82-E82 -> 7.8 | Y82: =IF(C82<0,0,ROUND(0.0023*VLOOKUP(AA82,$BF$5:$BO$16,10)*(C82+17.8)*(D82-E82)^0.5*Y$2,0)) -> 0 | Z82: =IF(Y82>F82,Y82-F82,0) -> 0 | AA82: 1 | AB82: 1998
A83: =Data!Y83 -> 199802 | B83: =ROUND(Data!Z83,2) -> 4.92 | C83: =ROUND(Data!AA83,1) -> -4 | D83: =ROUND(Data!AB83,1) -> 0.2 | E83: =ROUND(Data!AC83,1) -> -6.8 | F83: =ROUND(Data!AD83,1) -> 4.7 | G83: =ROUND(Data!AE83,1) -> -13.9 | H83: =ROUND(Data!AF83,1) -> 90.2 | I83: =ROUND(Data!AG83,1) -> 69.9 | J83: =ROUND(Data!AH83,1) -> 27.9 | ... P83: =ROUND(Data!AN83,1) -> -0.1 | S83: =ROUND(Data!AQ83,3) -> 0.434 | T83: =ROUND(Data!AR83,3) -> 0.194 | U83: =ROUND(Data!AS83,3) -> 0.461 | V83: =ROUND(Data!AT83,0) -> 863 | W83: =ROUND(Data!AS83,1) -> 0.5 | X83: =D83-E83 -> 7 | Y83: =IF(C83<0,0,ROUND(0.0023*VLOOKUP(AA83,$BF$5:$BO$16,10)*(C83+17.8)*(D83-E83)^0.5*Y$2,0)) -> 0 | Z83: =IF(Y83>F83,Y83-F83,0) -> 0 | AA83: 2 | AB83: 1998
A84: =Data!Y84 -> 199803 | B84: =ROUND(Data!Z84,2) -> 7.88 | C84: =ROUND(Data!AA84,1) -> -2.6 | D84: =ROUND(Data!AB84,1) -> 2.6 | E84: =ROUND(Data!AC84,1) -> -6.6 | F84: =ROUND(Data!AD84,1) -> 11.1 | G84: =ROUND(Data!AE84,1) -> -13.4 | H84: =ROUND(Data!AF84,1) -> 85.6 | I84: =ROUND(Data!AG84,1) -> 64.4 | J84: =ROUND(Data!AH84,1) -> 80.2 | ... P84: =ROUND(Data!AN84,1) -> 0 | S84: =ROUND(Data!AQ84,3) -> 0.471 | T84: =ROUND(Data!AR84,3) -> 0.3 | U84: =ROUND(Data!AS84,3) -> 0.701 | V84: =ROUND(Data!AT84,0) -> 938 | W84: =ROUND(Data!AS84,1) -> 0.7 | X84: =D84-E84 -> 9.2 | Y84: =IF(C84<0,0,ROUND(0.0023*VLOOKUP(AA84,$BF$5:$BO$16,10)*(C84+17.8)*(D84-E84)^0.5*Y$2,0)) -> 0 | Z84: =IF(Y84>F84,Y84-F84,0) -> 0 | AA84: 3 | AB84: 1998
A85: =Data!Y85 -> 199804 | B85: =ROUND(Data!Z85,2) -> 15.67 | C85: =ROUND(Data!AA85,1) -> 1.6 | D85: =ROUND(Data!AB85,1) -> 8.4 | E85: =ROUND(Data!AC85,1) -> -4 | F85: =ROUND(Data!AD85,1) -> 21 | G85: =ROUND(Data!AE85,1) -> -11 | H85: =ROUND(Data!AF85,1) -> 71.4 | I85: =ROUND(Data!AG85,1) -> 43.2 | J85: =ROUND(Data!AH85,1) -> 55.3 | ... P85: =ROUND(Data!AN85,1) -> 0.1 | S85: =ROUND(Data!AQ85,3) -> 0.452 | T85: =ROUND(Data!AR85,3) -> 0.716 | U85: =ROUND(Data!AS85,3) -> 2.021 | V85: =ROUND(Data!AT85,0) -> 430 | W85: =ROUND(Data!AS85,1) -> 2 | X85: =D85-E85 -> 12.4 | Y85: =IF(C85<0,0,ROUND(0.0023*VLOOKUP(AA85,$BF$5:$BO$16,10)*(C85+17.8)*(D85-E85)^0.5*Y$2,0)) -> 53 | Z85: =IF(Y85>F85,Y85-F85,0) -> 32 | AA85: 4 | AB85: 1998
A86: =Data!Y86 -> 199805 | B86: =ROUND(Data!Z86,2) -> 18.05 | C86: =ROUND(Data!AA86,1) -> 7.7 | D86: =ROUND(Data!AB86,1) -> 14.7 | E86: =ROUND(Data!AC86,1) -> 2 | F86: =ROUND(Data!AD86,1) -> 22.5 | G86: =ROUND(Data!AE86,1) -> -4.3 | H86: =ROUND(Data!AF86,1) -> 74.5 | I86: =ROUND(Data!AG86,1) -> 46.9 | J86: =ROUND(Data!AH86,1) -> 73.8 | ... P86: =ROUND(Data!AN86,1) -> 6.9 | S86: =ROUND(Data!AQ86,3) -> 0.713 | T86: =ROUND(Data!AR86,3) -> 1.035 | U86: =ROUND(Data!AS86,3) -> 2.191 | V86: =ROUND(Data!AT86,0) -> 0 | X86: =D86-E86 -> 12.7 | Y86: =IF(C86<0,0,ROUND(0.0023*VLOOKUP(AA86,$BF$5:$BO$16,10)*(C86+17.8)*(D86-E86)^0.5*Y$2,0)) -> 88 | Z86: =IF(Y86>F86,Y86-F86,0) -> 65.5 | AA86: 5 | AB86: 1998
A87: =Data!Y87 -> 199806 | B87: =ROUND(Data!Z87,2) -> 17.02 | C87: =ROUND(Data!AA87,1) -> 8.5 | D87: =ROUND(Data!AB87,1) -> 15.1 | E87: =ROUND(Data!AC87,1) -> 3.3 | F87: =ROUND(Data!AD87,1) -> 23.3 | G87: =ROUND(Data!AE87,1) -> 0.4 | H87: =ROUND(Data!AF87,1) -> 82.5 | I87: =ROUND(Data!AG87,1) -> 52.9 | J87: =ROUND(Data!AH87,1) -> 125 | ... P87: =ROUND(Data!AN87,1) -> 9.1 | S87: =ROUND(Data!AQ87,3) -> 0.884 | T87: =ROUND(Data!AR87,3) -> 0.869 | U87: =ROUND(Data!AS87,3) -> 2.102 | V87: =ROUND(Data!AT87,0) -> 0 | X87: =D87-E87 -> 11.8 | Y87: =IF(C87<0,0,ROUND(0.0023*VLOOKUP(AA87,$BF$5:$BO$16,10)*(C87+17.8)*(D87-E87)^0.5*Y$2,0)) -> 91 | Z87: =IF(Y87>F87,Y87-F87,0) -> 67.7 | AA87: 6 | AB87: 1998
A88: =Data!Y88 -> 199807 | B88: =ROUND(Data!Z88,2) -> 21.95 | C88: =ROUND(Data!AA88,1) -> 15.1 | D88: =ROUND(Data!AB88,1) -> 22.7 | E88: =ROUND(Data!AC88,1) -> 8.6 | F88: =ROUND(Data!AD88,1) -> 30 | G88: =ROUND(Data!AE88,1) -> 1.1 | H88: =ROUND(Data!AF88,1) -> 65.9 | I88: =ROUND(Data!AG88,1) -> 37.5 | J88: =ROUND(Data!AH88,1) -> 60 | ... P88: =ROUND(Data!AN88,1) -> 15.4 | S88: =ROUND(Data!AQ88,3) -> 0.989 | T88: =ROUND(Data!AR88,3) -> 1.851 | U88: =ROUND(Data!AS88,3) -> 3.139 | V88: =ROUND(Data!AT88,0) -> 0 | X88: =D88-E88 -> 14.1 | Y88: =IF(C88<0,0,ROUND(0.0023*VLOOKUP(AA88,$BF$5:$BO$16,10)*(C88+17.8)*(D88-E88)^0.5*Y$2,0)) -> 124 | Z88: =IF(Y88>F88,Y88-F88,0) -> 94 | AA88: 7 | AB88: 1998
A89: =Data!Y89 -> 199808 | B89: =ROUND(Data!Z89,2) -> 20.55 | C89: =ROUND(Data!AA89,1) -> 14.6 | D89: =ROUND(Data!AB89,1) -> 23 | E89: =ROUND(Data!AC89,1) -> 7.2 | F89: =ROUND(Data!AD89,1) -> 30.7 | G89: =ROUND(Data!AE89,1) -> -1.5 | H89: =ROUND(Data!AF89,1) -> 56.4 | I89: =ROUND(Data!AG89,1) -> 29.4 | J89: =ROUND(Data!AH89,1) -> 7.5 | ... P89: =ROUND(Data!AN89,1) -> 15 | S89: =ROUND(Data!AQ89,3) -> 0.792 | T89: =ROUND(Data!AR89,3) -> 2.116 | U89: =ROUND(Data!AS89,3) -> 3.652 | V89: =ROUND(Data!AT89,0) -> 0 | X89: =D89-E89 -> 15.8 | Y89: =IF(C89<0,0,ROUND(0.0023*VLOOKUP(AA89,$BF$5:$BO$16,10)*(C89+17.8)*(D89-E89)^0.5*Y$2,0)) -> 110 | Z89: =IF(Y89>F89,Y89-F89,0) -> 79.3 | AA89: 8 | AB89: 1998
A90: =Data!Y90 -> 199809 | B90: =ROUND(Data!Z90,2) -> 16.39 | C90: =ROUND(Data!AA90,1) -> 11.4 | D90: =ROUND(Data!AB90,1) -> 19.4 | E90: =ROUND(Data!AC90,1) -> 4.4 | F90: =ROUND(Data!AD90,1) -> 28.2 | G90: =ROUND(Data!AE90,1) -> -0.2 | H90: =ROUND(Data!AF90,1) -> 59 | I90: =ROUND(Data!AG90,1) -> 32.5 | J90: =ROUND(Data!AH90,1) -> 35.2 | ... P90: =ROUND(Data!AN90,1) -> 3.5 | S90: =ROUND(Data!AQ90,3) -> 0.663 | T90: =ROUND(Data!AR90,3) -> 1.703 | U90: =ROUND(Data!AS90,3) -> 3.223 | V90: =ROUND(Data!AT90,0) -> 0 | X90: =D90-E90 -> 15 | Y90: =IF(C90<0,0,ROUND(0.0023*VLOOKUP(AA90,$BF$5:$BO$16,10)*(C90+17.8)*(D90-E90)^0.5*Y$2,0)) -> 70 | Z90: =IF(Y90>F90,Y90-F90,0) -> 41.8 | AA90: 9 | AB90: 1998
A91: =Data!Y91 -> 199810 | B91: =ROUND(Data!Z91,2) -> 7.26 | C91: =ROUND(Data!AA91,1) -> 2.7 | D91: =ROUND(Data!AB91,1) -> 8.7 | E91: =ROUND(Data!AC91,1) -> -1.5 | F91: =ROUND(Data!AD91,1) -> 19.6 | G91: =ROUND(Data!AE91,1) -> -8.1 | H91: =ROUND(Data!AF91,1) -> 80.7 | I91: =ROUND(Data!AG91,1) -> 57.6 | J91: =ROUND(Data!AH91,1) -> 77.5 | ... P91: =ROUND(Data!AN91,1) -> 2.6 | S91: =ROUND(Data!AQ91,3) -> 0.617 | T91: =ROUND(Data!AR91,3) -> 0.579 | U91: =ROUND(Data!AS91,3) -> 2.034 | V91: =ROUND(Data!AT91,0) -> 8 | W91: =ROUND(Data!AU91,1) -> 0 | X91: =D91-E91 -> 10.2 | Y91: =IF(C91<0,0,ROUND(0.0023*VLOOKUP(AA91,$BF$5:$BO$16,10)*(C91+17.8)*(D91-E91)^0.5*Y$2,0)) -> 28 | Z91: =IF(Y91>F91,Y91-F91,0) -> 8.4 | AA91: 10 | AB91: 1998
A92: =Data!Y92 -> 199811 | B92: =ROUND(Data!Z92,2) -> 2.69 | C92: =ROUND(Data!AA92,1) -> -3 | D92: =ROUND(Data!AB92,1) -> 0.2 | E92: =ROUND(Data!AC92,1) -> -5.3 | F92: =ROUND(Data!AD92,1) -> 8.1 | G92: =ROUND(Data!AE92,1) -> -10.5 | H92: =ROUND(Data!AF92,1) -> 94.6 | I92: =ROUND(Data!AG92,1) -> 81.9 | J92: =ROUND(Data!AH92,1) -> 68.3 | ... P92: =ROUND(Data!AN92,1) -> 0.1 | S92: =ROUND(Data!AQ92,3) -> 0.51 | T92: =ROUND(Data!AR92,3) -> 0.123 | U92: =ROUND(Data!AS92,3) -> 0.438 | V92: =ROUND(Data!AT92,0) -> 202 | W92: =ROUND(Data!AU92,1) -> -0.1 | X92: =D92-E92 -> 5.5 | Y92: =IF(C92<0,0,ROUND(0.0023*VLOOKUP(AA92,$BF$5:$BO$16,10)*(C92+17.8)*(D92-E92)^0.5*Y$2,0)) -> 0 | Z92: =IF(Y92>F92,Y92-F92,0) -> 0 | AA92: 11 | AB92: 1998
A93: =Data!Y93 -> 199812 | B93: =ROUND(Data!Z93,2) -> 1.09 | C93: =ROUND(Data!AA93,1) -> -8 | D93: =ROUND(Data!AB93,1) -> -5.1 | E93: =ROUND(Data!AC93,1) -> -10.7 | F93: =ROUND(Data!AD93,1) -> 1.7 | G93: =ROUND(Data!AE93,1) -> -26.8 | H93: =ROUND(Data!AF93,1) -> 93.3 | I93: =ROUND(Data!AG93,1) -> 86.2 | J93: =ROUND(Data!AH93,1) -> 92.5 | ... P93: =ROUND(Data!AN93,1) -> -0.1 | S93: =ROUND(Data!AQ93,3) -> 0.391 | T93: =ROUND(Data!AR93,3) -> 0.057 | U93: =ROUND(Data!AS93,3) -> 0.154 | V93: =ROUND(Data!AT93,0) -> 757 | W93: =ROUND(Data!AU93,1) -> -1.5 | X93: =D93-E93 -> 5.6 | Y93: =IF(C93<0,0,ROUND(0.0023*VLOOKUP(AA93,$BF$5:$BO$16,10)*(C93+17.8)*(D93-E93)^0.5*Y$2,0)) -> 0 | Z93: =IF(Y93>F93,Y93-F93,0) -> 0 | AA93: 12 | AB93: 1998
A94: =Data!Y94 -> 199901 | B94: =ROUND(Data!Z94,2) -> 1.86 | C94: =ROUND(Data!AA94,1) -> -5.5 | D94: =ROUND(Data!AB94,1) -> -2.3 | E94: =ROUND(Data!AC94,1) -> -8.5 | F94: =ROUND(Data!AD94,1) -> 3.7 | G94: =ROUND(Data!AE94,1) -> -21.1 | H94: =ROUND(Data!AF94,1) -> 93.1 | I94: =ROUND(Data!AG94,1) -> 81 | J94: =ROUND(Data!AH94,1) -> 82.4 | ... P94: =ROUND(Data!AN94,1) -> 0.1 | S94: =ROUND(Data!AQ94,3) -> 0.422 | T94: =ROUND(Data!AR94,3) -> 0.101 | U94: =ROUND(Data!AS94,3) -> 0.307 | V94: =ROUND(Data!AT94,0) -> 1012 | W94: =ROUND(Data!AU94,1) -> -2 | X94: =D94-E94 -> 6.2 | Y94: =IF(C94<0,0,ROUND(0.0023*VLOOKUP(AA94,$BF$5:$BO$16,10)*(C94+17.8)*(D94-E94)^0.5*Y$2,0)) -> 0 | Z94: =IF(Y94>F94,Y94-F94,0) -> 0 | AA94: 1 | AB94: 1999
A95: =Data!Y95 -> 199902 | B95: =ROUND(Data!Z95,2) -> 5.65 | C95: =ROUND(Data!AA95,1) -> -6.2 | D95: =ROUND(Data!AB95,1) -> -1.8 | E95: =ROUND(Data!AC95,1) -> -10 | F95: =ROUND(Data!AD95,1) -> 4 | G95: =ROUND(Data!AE95,1) -> -16.9 | H95: =ROUND(Data!AF95,1) -> 88.4 | I95: =ROUND(Data!AG95,1) -> 70.5 | J95: =ROUND(Data!AH95,1) -> 42.8 | ... P95: =ROUND(Data!AN95,1) -> 0.2 | S95: =ROUND(Data!AQ95,3) -> 0.376 | T95: =ROUND(Data!AR95,3) -> 0.172 | U95: =ROUND(Data!AS95,3) -> 0.428 | V95: =ROUND(Data!AT95,0) -> 1165 | W95: =ROUND(Data!AU95,1) -> -1.3 | X95: =D95-E95 -> 8.2 | Y95: =IF(C95<0,0,ROUND(0.0023*VLOOKUP(AA95,$BF$5:$BO$16,10)*(C95+17.8)*(D95-E95)^0.5*Y$2,0)) -> 0 | Z95: =IF(Y95>F95,Y95-F95,0) -> 0 | AA95: 2 | AB95: 1999
A96: =Data!Y96 -> 199903 | B96: =ROUND(Data!Z96,2) -> 8.52 | C96: =ROUND(Data!AA96,1) -> -3.8 | D96: =ROUND(Data!AB96,1) -> 1.6 | E96: =ROUND(Data!AC96,1) -> -8.4 | F96: =ROUND(Data!AD96,1) -> 14.8 | G96: =ROUND(Data!AE96,1) -> -13.7 | H96: =ROUND(Data!AF96,1) -> 84.3 | I96: =ROUND(Data!AG96,1) -> 62.4 | J96: =ROUND(Data!AH96,1) -> 61 | ... P96: =ROUND(Data!AN96,1) -> 0.2 | S96: =ROUND(Data!AQ96,3) -> 0.408 | T96: =ROUND(Data!AR96,3) -> 0.322 | U96: =ROUND(Data!AS96,3) -> 1.25 | V96: =ROUND(Data!AT96,0) -> 1061 | W96: =ROUND(Data!AU96,1) -> -0.9 | X96: =D96-E96 -> 10 | Y96: =IF(C96<0,0,ROUND(0.0023*VLOOKUP(AA96,$BF$5:$BO$16,10)*(C96+17.8)*(D96-E96)^0.5*Y$2,0)) -> 0 | Z96: =IF(Y96>F96,Y96-F96,0) -> 0 | AA96: 3 | AB96: 1999
A97: =Data!Y97 -> 199904 | B97: =ROUND(Data!Z97,2) -> 16.7 | C97: =ROUND(Data!AA97,1) -> 0.2 | D97: =ROUND(Data!AB97,1) -> 7.2 | E97: =ROUND(Data!AC97,1) -> -5.8 | F97: =ROUND(Data!AD97,1) -> 18.6 | G97: =ROUND(Data!AE97,1) -> -12.6 | H97: =ROUND(Data!AF97,1) -> 68.2 | I97: =ROUND(Data!AG97,1) -> 39.5 | J97: =ROUND(Data!AH97,1) -> 29.6 | ... P97: =ROUND(Data!AN97,1) -> 0.3 | S97: =ROUND(Data!AQ97,3) -> 0.376 | T97: =ROUND(Data!AR97,3) -> 0.7 | U97: =ROUND(Data!AS97,3) -> 1.678 | V97: =ROUND(Data!AT97,0) -> 563 | W97: =ROUND(Data!AU97,1) -> 0.2 | X97: =D97-E97 -> 13 | Y97: =IF(C97<0,0,ROUND(0.0023*VLOOKUP(AA97,$BF$5:$BO$16,10)*(C97+17.8)*(D97-E97)^0.5*Y$2,0)) -> 50 | Z97: =IF(Y97>F97,Y97-F97,0) -> 31.4 | AA97: 4 | AB97: 1999
A98: =Data!Y98 -> 199905 | B98: =ROUND(Data!Z98,2) -> 17.28 | C98: =ROUND(Data!AA98,1) -> 2.5 | D98: =ROUND(Data!AB98,1) -> 9.1 | E98: =ROUND(Data!AC98,1) -> -3.6 | F98: =ROUND(Data!AD98,1) -> 22.9 | G98: =ROUND(Data!AE98,1) -> -10.8 | H98: =ROUND(Data!AF98,1) -> 73.9 | I98: =ROUND(Data!AG98,1) -> 46.6 | J98: =ROUND(Data!AH98,1) -> 71.1 | ... P98: =ROUND(Data!AN98,1) -> 0.5 | S98: =ROUND(Data!AQ98,3) -> 0.498 | T98: =ROUND(Data!AR98,3) -> 0.738 | U98: =ROUND(Data!AS98,3) -> 2.186 | V98: =ROUND(Data!AT98,0) -> 0 | X98: =D98-E98 -> 12.7 | Y98: =IF(C98<0,0,ROUND(0.0023*VLOOKUP(AA98,$BF$5:$BO$16,10)*(C98+17.8)*(D98-E98)^0.5*Y$2,0)) -> 70 | Z98: =IF(Y98>F98,Y98-F98,0) -> 47.1 | AA98: 5 | AB98: 1999
A99: =Data!Y99 -> 199906 | B99: =ROUND(Data!Z99,2) -> 18.74 | C99: =ROUND(Data!AA99,1) -> 7.9 | D99: =ROUND(Data!AB99,1) -> 14.5 | E99: =ROUND(Data!AC99,1) -> 2.3 | F99: =ROUND(Data!AD99,1) -> 25.5 | G99: =ROUND(Data!AE99,1) -> -3.9 | H99: =ROUND(Data!AF99,1) -> 76.4 | I99: =ROUND(Data!AG99,1) -> 47.4 | J99: =ROUND(Data!AH99,1) -> 53.4 | ... P99: =ROUND(Data!AN99,1) -> 6.8 | S99: =ROUND(Data!AQ99,3) -> 0.765 | T99: =ROUND(Data!AR99,3) -> 0.981 | U99: =ROUND(Data!AS99,3) -> 2.235 | V99: =ROUND(Data!AT99,0) -> 0 | X99: =D99-E99 -> 12.2 | Y99: =IF(C99<0,0,ROUND(0.0023*VLOOKUP(AA99,$BF$5:$BO$16,10)*(C99+17.8)*(D99-E99)^0.5*Y$2,0)) -> 91 | Z99: =IF(Y99>F99,Y99-F99,0) -> 65.5 | AA99: 6 | AB99: 1999
A100: =Data!Y100 -> 199907 | B100: =ROUND(Data!Z100,2) -> 21.83 | C100: =ROUND(Data!AA100,1) -> 13.4 | D100: =ROUND(Data!AB100,1) -> 20.2 | E100: =ROUND(Data!AC100,1) -> 6.2 | F100: =ROUND(Data!AD100,1) -> 26 | G100: =ROUND(Data!AE100,1) -> 1.9 | H100: =ROUND(Data!AF100,1) -> 66.6 | I100: =ROUND(Data!AG100,1) -> 38.2 | J100: =ROUND(Data!AH100,1) -> 73.3 | ... P100: =ROUND(Data!AN100,1) -> 4.1 | S100: =ROUND(Data!AQ100,3) -> 0.874 | T100: =ROUND(Data!AR100,3) -> 1.553 | U100: =ROUND(Data!AS100,3) -> 2.87 | V100: =ROUND(Data!AT100,0) -> 0 | X100: =D100-E100 -> 14 | Y100: =IF(C100<0,0,ROUND(0.0023*VLOOKUP(AA100,$BF$5:$BO$16,10)*(C100+17.8)*(D100-E100)^0.5*Y$2,0)) -> 117 | Z100: =IF(Y100>F100,Y100-F100,0) -> 91 | AA100: 7 | AB100: 1999
A101: =Data!Y101 -> 199908 | B101: =ROUND(Data!Z101,2) -> 16.7 | C101: =ROUND(Data!AA101,1) -> 13 | D101: =ROUND(Data!AB101,1) -> 20.1 | E101: =ROUND(Data!AC101,1) -> 7.3 | F101: =ROUND(Data!AD101,1) -> 28.1 | G101: =ROUND(Data!AE101,1) -> -1.8 | H101: =ROUND(Data!AF101,1) -> 72.2 | I101: =ROUND(Data!AG101,1) -> 46.9 | J101: =ROUND(Data!AH101,1) -> 85.8 | ... P101: =ROUND(Data!AN101,1) -> 13.3 | S101: =ROUND(Data!AQ101,3) -> 1.029 | T101: =ROUND(Data!AR101,3) -> 1.438 | U101: =ROUND(Data!AS101,3) -> 2.752 | V101: =ROUND(Data!AT101,0) -> 0 | X101: =D101-E101 -> 12.8 | Y101: =IF(C101<0,0,ROUND(0.0023*VLOOKUP(AA101,$BF$5:$BO$16,10)*(C101+17.8)*(D101-E101)^0.5*Y$2,0)) -> 95 | Z101: =IF(Y101>F101,Y101-F101,0) -> 66.9 | AA101: 8 | AB101: 1999
A102: =Data!Y102 -> 199909 | B102: =ROUND(Data!Z102,2) -> 13.87 | C102: =ROUND(Data!AA102,1) -> 7.3 | D102: =ROUND(Data!AB102,1) -> 14.4 | E102: =ROUND(Data!AC102,1) -> 1.8 | F102: =ROUND(Data!AD102,1) -> 24.7 | G102: =ROUND(Data!AE102,1) -> -5.8 | H102: =ROUND(Data!AF102,1) -> 68.2 | I102: =ROUND(Data!AG102,1) -> 43.3 | J102: =ROUND(Data!AH102,1) -> 35.5 | ... P102: =ROUND(Data!AN102,1) -> 7.4 | S102: =ROUND(Data!AQ102,3) -> 0.673 | T102: =ROUND(Data!AR102,3) -> 1.104 | U102: =ROUND(Data!AS102,3) -> 2.29 | V102: =ROUND(Data!AT102,0) -> 0 | X102: =D102-E102 -> 12.6 | Y102: =IF(C102<0,0,ROUND(0.0023*VLOOKUP(AA102,$BF$5:$BO$16,10)*(C102+17.8)*(D102-E102)^0.5*Y$2,0)) -> 55 | Z102: =IF(Y102>F102,Y102-F102,0) -> 30.3 | AA102: 9 | AB102: 1999
A103: =Data!Y103 -> 199910 | B103: =ROUND(Data!Z103,2) -> 7.65 | C103: =ROUND(Data!AA103,1) -> 1.9 | D103: =ROUND(Data!AB103,1) -> 7.6 | E103: =ROUND(Data!AC103,1) -> -2.3 | F103: =ROUND(Data!AD103,1) -> 18.8 | G103: =ROUND(Data!AE103,1) -> -9.8 | H103: =ROUND(Data!AF103,1) -> 76.1 | I103: =ROUND(Data!AG103,1) -> 53.4 | J103: =ROUND(Data!AH103,1) -> 40.7 | ... P103: =ROUND(Data!AN103,1) -> 1.8 | S103: =ROUND(Data!AQ103,3) -> 0.527 | T103: =ROUND(Data!AR103,3) -> 0.591 | U103: =ROUND(Data!AS103,3) -> 1.456 | V103: =ROUND(Data!AT103,0) -> 45 | W103: =ROUND(Data!AU103,1) -> 0 | X103: =D103-E103 -> 9.9 | Y103: =IF(C103<0,0,ROUND(0.0023*VLOOKUP(AA103,$BF$5:$BO$16,10)*(C103+17.8)*(D103-E103)^0.5*Y$2,0)) -> 26 | Z103: =IF(Y103>F103,Y103-F103,0) -> 7.2 | AA103: 10 | AB103: 1999
A104: =Data!Y104 -> 199911 | B104: =ROUND(Data!Z104,2) -> 2.78 | C104: =ROUND(Data!AA104,1) -> -1.2 | D104: =ROUND(Data!AB104,1) -> 2.3 | E104: =ROUND(Data!AC104,1) -> -4.5 | F104: =ROUND(Data!AD104,1) -> 12.7 | G104: =ROUND(Data!AE104,1) -> -13.2 | H104: =ROUND(Data!AF104,1) -> 88.1 | I104: =ROUND(Data!AG104,1) -> 71.8 | J104: =ROUND(Data!AH104,1) -> 90.5 | ... P104: =ROUND(Data!AN104,1) -> 0.4 | S104: =ROUND(Data!AQ104,3) -> 0.516 | T104: =ROUND(Data!AR104,3) -> 0.24 | U104: =ROUND(Data!AS104,3) -> 0.925 | V104: =ROUND(Data!AT104,0) -> 197 | W104: =ROUND(Data!AU104,1) -> 0.2 | X104: =D104-E104 -> 6.8 | Y104: =IF(C104<0,0,ROUND(0.0023*VLOOKUP(AA104,$BF$5:$BO$16,10)*(C104+17.8)*(D104-E104)^0.5*Y$2,0)) -> 0 | Z104: =IF(Y104>F104,Y104-F104,0) -> 0 | AA104: 11 | AB104: 1999
A105: =Data!Y105 -> 199912 | B105: =ROUND(Data!Z105,2) -> 2.73 | C105: =ROUND(Data!AA105,1) -> -3 | D105: =ROUND(Data!AB105,1) -> 1.3 | E105: =ROUND(Data!AC105,1) -> -6.5 | F105: =ROUND(Data!AD105,1) -> 17.2 | G105: =ROUND(Data!AE105,1) -> -13.6 | H105: =ROUND(Data!AF105,1) -> 82.5 | I105: =ROUND(Data!AG105,1) -> 66.5 | J105: =ROUND(Data!AH105,1) -> 74.6 | ... P105: =ROUND(Data!AN105,1) -> -0.1 | S105: =ROUND(Data!AQ105,3) -> 0.407 | T105: =ROUND(Data!AR105,3) -> 0.333 | U105: =ROUND(Data!AS105,3) -> 1.65 | V105: =ROUND(Data!AT105,0) -> 460 | W105: =ROUND(Data!AU105,1) -> -1.8 | X105: =D105-E105 -> 7.8 | Y105: =IF(C105<0,0,ROUND(0.0023*VLOOKUP(AA105,$BF$5:$BO$16,10)*(C105+17.8)*(D105-E105)^0.5*Y$2,0)) -> 0 | Z105: =IF(Y105>F105,Y105-F105,0) -> 0 | AA105: 12 | AB105: 1999
A106: =Data!Y106 -> 200001 | B106: =ROUND(Data!Z106,2) -> 3.56 | C106: =ROUND(Data!AA106,1) -> -7 | D106: =ROUND(Data!AB106,1) -> -2.7 | E106: =ROUND(Data!AC106,1) -> -10.3 | F106: =ROUND(Data!AD106,1) -> 2.2 | G106: =ROUND(Data!AE106,1) -> -16.8 | H106: =ROUND(Data!AF106,1) -> 87 | I106: =ROUND(Data!AG106,1) -> 68.4 | J106: =ROUND(Data!AH106,1) -> 72 | ... P106: =ROUND(Data!AN106,1) -> -0.1 | S106: =ROUND(Data!AQ106,3) -> 0.336 | T106: =ROUND(Data!AR106,3) -> 0.172 | U106: =ROUND(Data!AS106,3) -> 0.593 | V106: =ROUND(Data!AT106,0) -> 709 | W106: =ROUND(Data!AU106,1) -> -3.2 | X106: =D106-E106 -> 7.6 | Y106: =IF(C106<0,0,ROUND(0.0023*VLOOKUP(AA106,$BF$5:$BO$16,10)*(C106+17.8)*(D106-E106)^0.5*Y$2,0)) -> 0 | Z106: =IF(Y106>F106,Y106-F106,0) -> 0 | AA106: 1 | AB106: 2000
A107: =Data!Y107 -> 200002 | B107: =ROUND(Data!Z107,2) -> 5.61 | C107: =ROUND(Data!AA107,1) -> -5 | D107: =ROUND(Data!AB107,1) -> -0.5 | E107: =ROUND(Data!AC107,1) -> -8.7 | F107: =ROUND(Data!AD107,1) -> 4.5 | G107: =ROUND(Data!AE107,1) -> -14.2 | H107: =ROUND(Data!AF107,1) -> 86.5 | I107: =ROUND(Data!AG107,1) -> 68.7 | J107: =ROUND(Data!AH107,1) -> 51.3 | ... P107: =ROUND(Data!AN107,1) -> -0.1 | S107: =ROUND(Data!AQ107,3) -> 0.402 | T107: =ROUND(Data!AR107,3) -> 0.195 | U107: =ROUND(Data!AS107,3) -> 0.641 | V107: =ROUND(Data!AT107,0) -> 864 | W107: =ROUND(Data!AU107,1) -> -1.2 | X107: =D107-E107 -> 8.2 | Y107: =IF(C107<0,0,ROUND(0.0023*VLOOKUP(AA107,$BF$5:$BO$16,10)*(C107+17.8)*(D107-E107)^0.5*Y$2,0)) -> 0 | Z107: =IF(Y107>F107,Y107-F107,0) -> 0 | AA107: 2 | AB107: 2000
A108: =Data!Y108 -> 200003 | B108: =ROUND(Data!Z108,2) -> 10.2 | C108: =ROUND(Data!AA108,1) -> -3.2 | D108: =ROUND(Data!AB108,1) -> 2.5 | E108: =ROUND(Data!AC108,1) -> -7.8 | F108: =ROUND(Data!AD108,1) -> 10.6 | G108: =ROUND(Data!AE108,1) -> -12.4 | H108: =ROUND(Data!AF108,1) -> 81.8 | I108: =ROUND(Data!AG108,1) -> 56.1 | J108: =ROUND(Data!AH108,1) -> 71.8 | ... P108: =ROUND(Data!AN108,1) -> 0.1 | S108: =ROUND(Data!AQ108,3) -> 0.395 | T108: =ROUND(Data!AR108,3) -> 0.352 | U108: =ROUND(Data!AS108,3) -> 0.847 | V108: =ROUND(Data!AT108,0) -> 902 | W108: =ROUND(Data!AU108,1) -> -0.5 | X108: =D108-E108 -> 10.3 | Y108: =IF(C108<0,0,ROUND(0.0023*VLOOKUP(AA108,$BF$5:$BO$16,10)*(C108+17.8)*(D108-E108)^0.5*Y$2,0)) -> 0 | Z108: =IF(Y108>F108,Y108-F108,0) -> 0 | AA108: 3 | AB108: 2000
A109: =Data!Y109 -> 200004 | B109: =ROUND(Data!Z109,2) -> 16.55 | C109: =ROUND(Data!AA109,1) -> 2.1 | D109: =ROUND(Data!AB109,1) -> 8.6 | E109: =ROUND(Data!AC109,1) -> -3.5 | F109: =ROUND(Data!AD109,1) -> 14.7 | G109: =ROUND(Data!AE109,1) -> -10.3 | H109: =ROUND(Data!AF109,1) -> 71.1 | I109: =ROUND(Data!AG109,1) -> 42.4 | J109: =ROUND(Data!AH109,1) -> 97.6 | ... P109: =ROUND(Data!AN109,1) -> 0.1 | S109: =ROUND(Data!AQ109,3) -> 0.455 | T109: =ROUND(Data!AR109,3) -> 0.705 | U109: =ROUND(Data!AS109,3) -> 1.442 | V109: =ROUND(Data!AT109,0) -> 274 | W109: =ROUND(Data!AU109,1) -> 0.1 | X109: =D109-E109 -> 12.1 | Y109: =IF(C109<0,0,ROUND(0.0023*VLOOKUP(AA109,$BF$5:$BO$16,10)*(C109+17.8)*(D109-E109)^0.5*Y$2,0)) -> 53 | Z109: =IF(Y109>F109,Y109-F109,0) -> 38.3 | AA109: 4 | AB109: 2000
A110: =Data!Y110 -> 200005 | B110: =ROUND(Data!Z110,2) -> 16.62 | C110: =ROUND(Data!AA110,1) -> 3.3 | D110: =ROUND(Data!AB110,1) -> 9.4 | E110: =ROUND(Data!AC110,1) -> -1.8 | F110: =ROUND(Data!AD110,1) -> 17.6 | G110: =ROUND(Data!AE110,1) -> -7.7 | H110: =ROUND(Data!AF110,1) -> 76.5 | I110: =ROUND(Data!AG110,1) -> 48.2 | J110: =ROUND(Data!AH110,1) -> 85.9 | ... P110: =ROUND(Data!AN110,1) -> 3.4 | S110: =ROUND(Data!AQ110,3) -> 0.548 | T110: =ROUND(Data!AR110,3) -> 0.666 | U110: =ROUND(Data!AS110,3) -> 1.447 | V110: =ROUND(Data!AT110,0) -> 0 | X110: =D110-E110 -> 11.2 | Y110: =IF(C110<0,0,ROUND(0.0023*VLOOKUP(AA110,$BF$5:$BO$16,10)*(C110+17.8)*(D110-E110)^0.5*Y$2,0)) -> 68 | Z110: =IF(Y110>F110,Y110-F110,0) -> 50.4 | AA110: 5 | AB110: 2000
A111: =Data!Y111 -> 200006 | B111: =ROUND(Data!Z111,2) -> 19.84 | C111: =ROUND(Data!AA111,1) -> 8.6 | D111: =ROUND(Data!AB111,1) -> 14.9 | E111: =ROUND(Data!AC111,1) -> 2.7 | F111: =ROUND(Data!AD111,1) -> 24 | G111: =ROUND(Data!AE111,1) -> -1.6 | H111: =ROUND(Data!AF111,1) -> 69.9 | I111: =ROUND(Data!AG111,1) -> 43.2 | J111: =ROUND(Data!AH111,1) -> 52.4 | ... P111: =ROUND(Data!AN111,1) -> 8.2 | S111: =ROUND(Data!AQ111,3) -> 0.688 | T111: =ROUND(Data!AR111,3) -> 1.076 | U111: =ROUND(Data!AS111,3) -> 2.348 | V111: =ROUND(Data!AT111,0) -> 0 | X111: =D111-E111 -> 12.2 | Y111: =IF(C111<0,0,ROUND(0.0023*VLOOKUP(AA111,$BF$5:$BO$16,10)*(C111+17.8)*(D111-E111)^0.5*Y$2,0)) -> 93 | Z111: =IF(Y111>F111,Y111-F111,0) -> 69 | AA111: 6 | AB111: 2000
A112: =Data!Y112 -> 200007 | B112: =ROUND(Data!Z112,2) -> 20.08 | C112: =ROUND(Data!AA112,1) -> 11.7 | D112: =ROUND(Data!AB112,1) -> 19.3 | E112: =ROUND(Data!AC112,1) -> 5.2 | F112: =ROUND(Data!AD112,1) -> 27.6 | G112: =ROUND(Data!AE112,1) -> -1.2 | H112: =ROUND(Data!AF112,1) -> 69 | I112: =ROUND(Data!AG112,1) -> 40.6 | J112: =ROUND(Data!AH112,1) -> 58.5 | ... P112: =ROUND(Data!AN112,1) -> 13.5 | S112: =ROUND(Data!AQ112,3) -> 0.853 | T112: =ROUND(Data!AR112,3) -> 1.477 | U112: =ROUND(Data!AS112,3) -> 2.713 | V112: =ROUND(Data!AT112,0) -> 0 | X112: =D112-E112 -> 14.1 | Y112: =IF(C112<0,0,ROUND(0.0023*VLOOKUP(AA112,$BF$5:$BO$16,10)*(C112+17.8)*(D112-E112)^0.5*Y$2,0)) -> 111 | Z112: =IF(Y112>F112,Y112-F112,0) -> 83.4 | AA112: 7 | AB112: 2000
A113: =Data!Y113 -> 200008 | B113: =ROUND(Data!Z113,2) -> 19.96 | C113: =ROUND(Data!AA113,1) -> 11.9 | D113: =ROUND(Data!AB113,1) -> 19.3 | E113: =ROUND(Data!AC113,1) -> 5.6 | F113: =ROUND(Data!AD113,1) -> 26.4 | G113: =ROUND(Data!AE113,1) -> -1.9 | H113: =ROUND(Data!AF113,1) -> 60.6 | I113: =ROUND(Data!AG113,1) -> 34.5 | J113: =ROUND(Data!AH113,1) -> 16.3 | ... P113: =ROUND(Data!AN113,1) -> 12.7 | S113: =ROUND(Data!AQ113,3) -> 0.747 | T113: =ROUND(Data!AR113,3) -> 1.584 | U113: =ROUND(Data!AS113,3) -> 2.584 | V113: =ROUND(Data!AT113,0) -> 0 | X113: =D113-E113 -> 13.7 | Y113: =IF(C113<0,0,ROUND(0.0023*VLOOKUP(AA113,$BF$5:$BO$16,10)*(C113+17.8)*(D113-E113)^0.5*Y$2,0)) -> 94 | Z113: =IF(Y113>F113,Y113-F113,0) -> 67.6 | AA113: 8 | AB113: 2000
A114: =Data!Y114 -> 200009 | B114: =ROUND(Data!Z114,2) -> 12.11 | C114: =ROUND(Data!AA114,1) -> 7.1 | D114: =ROUND(Data!AB114,1) -> 13.2 | E114: =ROUND(Data!AC114,1) -> 2.4 | F114: =ROUND(Data!AD114,1) -> 24.7 | G114: =ROUND(Data!AE114,1) -> -6.8 | H114: =ROUND(Data!AF114,1) -> 74.3 | I114: =ROUND(Data!AG114,1) -> 50.5 | J114: =ROUND(Data!AH114,1) -> 80 | ... P114: =ROUND(Data!AN114,1) -> 7.6 | S114: =ROUND(Data!AQ114,3) -> 0.728 | T114: =ROUND(Data!AR114,3) -> 0.874 | U114: =ROUND(Data!AS114,3) -> 2.417 | V114: =ROUND(Data!AT114,0) -> 0 | X114: =D114-E114 -> 10.8 | Y114: =IF(C114<0,0,ROUND(0.0023*VLOOKUP(AA114,$BF$5:$BO$16,10)*(C114+17.8)*(D114-E114)^0.5*Y$2,0)) -> 51 | Z114: =IF(Y114>F114,Y114-F114,0) -> 26.3 | AA114: 9 | AB114: 2000
A115: =Data!Y115 -> 200010 | B115: =ROUND(Data!Z115,2) -> 7.9 | C115: =ROUND(Data!AA115,1) -> 2.4 | D115: =ROUND(Data!AB115,1) -> 8 | E115: =ROUND(Data!AC115,1) -> -2 | F115: =ROUND(Data!AD115,1) -> 17.4 | G115: =ROUND(Data!AE115,1) -> -7.2 | H115: =ROUND(Data!AF115,1) -> 74.1 | I115: =ROUND(Data!AG115,1) -> 51.2 | J115: =ROUND(Data!AH115,1) -> 46.8 | ... P115: =ROUND(Data!AN115,1) -> 2.7 | S115: =ROUND(Data!AQ115,3) -> 0.514 | T115: =ROUND(Data!AR115,3) -> 0.6 | U115: =ROUND(Data!AS115,3) -> 1.655 | V115: =ROUND(Data!AT115,0) -> 82 | W115: =ROUND(Data!AU115,1) -> 0 | X115: =D115-E115 -> 10 | Y115: =IF(C115<0,0,ROUND(0.0023*VLOOKUP(AA115,$BF$5:$BO$16,10)*(C115+17.8)*(D115-E115)^0.5*Y$2,0)) -> 27 | Z115: =IF(Y115>F115,Y115-F115,0) -> 9.6 | AA115: 10 | AB115: 2000
A116: =Data!Y116 -> 200011 | B116: =ROUND(Data!Z116,2) -> 4.32 | C116: =ROUND(Data!AA116,1) -> -5.2 | D116: =ROUND(Data!AB116,1) -> -0.8 | E116: =ROUND(Data!AC116,1) -> -8.7 | F116: =ROUND(Data!AD116,1) -> 7.4 | G116: =ROUND(Data!AE116,1) -> -15.5 | H116: =ROUND(Data!AF116,1) -> 89.9 | I116: =ROUND(Data!AG116,1) -> 74.2 | J116: =ROUND(Data!AH116,1) -> 51.7 | ... P116: =ROUND(Data!AN116,1) -> 0 | S116: =ROUND(Data!AQ116,3) -> 0.422 | T116: =ROUND(Data!AR116,3) -> 0.174 | U116: =ROUND(Data!AS116,3) -> 0.76 | V116: =ROUND(Data!AT116,0) -> 356 | W116: =ROUND(Data!AU116,1) -> -2.1 | X116: =D116-E116 -> 7.9 | Y116: =IF(C116<0,0,ROUND(0.0023*VLOOKUP(AA116,$BF$5:$BO$16,10)*(C116+17.8)*(D116-E116)^0.5*Y$2,0)) -> 0 | Z116: =IF(Y116>F116,Y116-F116,0) -> 0 | AA116: 11 | AB116: 2000
A117: =Data!Y117 -> 200012 | B117: =ROUND(Data!Z117,2) -> 2.29 | C117: =ROUND(Data!AA117,1) -> -7.6 | D117: =ROUND(Data!AB117,1) -> -2.8 | E117: =ROUND(Data!AC117,1) -> -11 | F117: =ROUND(Data!AD117,1) -> 7.6 | G117: =ROUND(Data!AE117,1) -> -24.9 | H117: =ROUND(Data!AF117,1) -> 88.9 | I117: =ROUND(Data!AG117,1) -> 71.1 | J117: =ROUND(Data!AH117,1) -> 46.8 | ... P117: =ROUND(Data!AN117,1) -> -0.3 | S117: =ROUND(Data!AQ117,3) -> 0.366 | T117: =ROUND(Data!AR117,3) -> 0.162 | U117: =ROUND(Data!AS117,3) -> 0.513 | V117: =ROUND(Data!AT117,0) -> 567 | W117: =ROUND(Data!AU117,1) -> -3.7 | X117: =D117-E117 -> 8.2 | Y117: =IF(C117<0,0,ROUND(0.0023*VLOOKUP(AA117,$BF$5:$BO$16,10)*(C117+17.8)*(D117-E117)^0.5*Y$2,0)) -> 0 | Z117: =IF(Y117>F117,Y117-F117,0) -> 0 | AA117: 12 | AB117: 2000
A118: =Data!Y118 -> 200101 | B118: =ROUND(Data!Z118,2) -> 3.34 | C118: =ROUND(Data!AA118,1) -> -4.5 | D118: =ROUND(Data!AB118,1) -> -0.1 | E118: =ROUND(Data!AC118,1) -> -7.9 | F118: =ROUND(Data!AD118,1) -> 5.6 | G118: =ROUND(Data!AE118,1) -> -14.2 | H118: =ROUND(Data!AF118,1) -> 82.3 | I118: =ROUND(Data!AG118,1) -> 59.9 | J118: =ROUND(Data!AH118,1) -> 31.2 | ... P118: =ROUND(Data!AN118,1) -> -0.2 | S118: =ROUND(Data!AQ118,3) -> 0.351 | T118: =ROUND(Data!AR118,3) -> 0.267 | U118: =ROUND(Data!AS118,3) -> 0.62 | V118: =ROUND(Data!AT118,0) -> 683 | W118: =ROUND(Data!AU118,1) -> -2.2 | X118: =D118-E118 -> 7.8 | Y118: =IF(C118<0,0,ROUND(0.0023*VLOOKUP(AA118,$BF$5:$BO$16,10)*(C118+17.8)*(D118-E118)^0.5*Y$2,0)) -> 0 | Z118: =IF(Y118>F118,Y118-F118,0) -> 0 | AA118: 1 | AB118: 2001
A119: =Data!Y119 -> 200102 | B119: =ROUND(Data!Z119,2) -> 6.5 | C119: =ROUND(Data!AA119,1) -> -7.1 | D119: =ROUND(Data!AB119,1) -> -1.6 | E119: =ROUND(Data!AC119,1) -> -11.2 | F119: =ROUND(Data!AD119,1) -> 5.3 | G119: =ROUND(Data!AE119,1) -> -18.9 | H119: =ROUND(Data!AF119,1) -> 83.5 | I119: =ROUND(Data!AG119,1) -> 58.5 | J119: =ROUND(Data!AH119,1) -> 31 | ... P119: =ROUND(Data!AN119,1) -> -0.1 | S119: =ROUND(Data!AQ119,3) -> 0.32 | T119: =ROUND(Data!AR119,3) -> 0.249 | U119: =ROUND(Data!AS119,3) -> 0.58 | V119: =ROUND(Data!AT119,0) -> 764 | W119: =ROUND(Data!AU119,1) -> -3.3 | X119: =D119-E119 -> 9.6 | Y119: =IF(C119<0,0,ROUND(0.0023*VLOOKUP(AA119,$BF$5:$BO$16,10)*(C119+17.8)*(D119-E119)^0.5*Y$2,0)) -> 0 | Z119: =IF(Y119>F119,Y119-F119,0) -> 0 | AA119: 2 | AB119: 2001
A120: =Data!Y120 -> 200103 | B120: =ROUND(Data!Z120,2) -> 10.57 | C120: =ROUND(Data!AA120,1) -> -2.3 | D120: =ROUND(Data!AB120,1) -> 3.2 | E120: =ROUND(Data!AC120,1) -> -6.8 | F120: =ROUND(Data!AD120,1) -> 11.5 | G120: =ROUND(Data!AE120,1) -> -13.2 | H120: =ROUND(Data!AF120,1) -> 78.2 | I120: =ROUND(Data!AG120,1) -> 50.9 | J120: =ROUND(Data!AH120,1) -> 73.4 | ... P120: =ROUND(Data!AN120,1) -> 0 | S120: =ROUND(Data!AQ120,3) -> 0.383 | T120: =ROUND(Data!AR120,3) -> 0.411 | U120: =ROUND(Data!AS120,3) -> 1.168 | V120: =ROUND(Data!AT120,0) -> 848 | W120: =ROUND(Data!AU120,1) -> -0.8 | X120: =D120-E120 -> 10 | Y120: =IF(C120<0,0,ROUND(0.0023*VLOOKUP(AA120,$BF$5:$BO$16,10)*(C120+17.8)*(D120-E120)^0.5*Y$2,0)) -> 0 | Z120: =IF(Y120>F120,Y120-F120,0) -> 0 | AA120: 3 | AB120: 2001
A121: =Data!Y121 -> 200104 | B121: =ROUND(Data!Z121,2) -> 13.78 | C121: =ROUND(Data!AA121,1) -> -0.5 | D121: =ROUND(Data!AB121,1) -> 5.2 | E121: =ROUND(Data!AC121,1) -> -5.3 | F121: =ROUND(Data!AD121,1) -> 17 | G121: =ROUND(Data!AE121,1) -> -11.4 | H121: =ROUND(Data!AF121,1) -> 77.4 | I121: =ROUND(Data!AG121,1) -> 52.7 | J121: =ROUND(Data!AH121,1) -> 97.4 | ... P121: =ROUND(Data!AN121,1) -> 0 | S121: =ROUND(Data!AQ121,3) -> 0.443 | T121: =ROUND(Data!AR121,3) -> 0.493 | U121: =ROUND(Data!AS121,3) -> 1.346 | V121: =ROUND(Data!AT121,0) -> 636 | W121: =ROUND(Data!AU121,1) -> -0.2 | X121: =D121-E121 -> 10.5 | Y121: =IF(C121<0,0,ROUND(0.0023*VLOOKUP(AA121,$BF$5:$BO$16,10)*(C121+17.8)*(D121-E121)^0.5*Y$2,0)) -> 0 | Z121: =IF(Y121>F121,Y121-F121,0) -> 0 | AA121: 4 | AB121: 2001
A122: =Data!Y122 -> 200105 | B122: =ROUND(Data!Z122,2) -> 19.49 | C122: =ROUND(Data!AA122,1) -> 5.6 | D122: =ROUND(Data!AB122,1) -> 12.4 | E122: =ROUND(Data!AC122,1) -> -0.6 | F122: =ROUND(Data!AD122,1) -> 24.9 | G122: =ROUND(Data!AE122,1) -> -7 | H122: =ROUND(Data!AF122,1) -> 66.2 | I122: =ROUND(Data!AG122,1) -> 37 | J122: =ROUND(Data!AH122,1) -> 69 | ... P122: =ROUND(Data!AN122,1) -> 4.4 | S122: =ROUND(Data!AQ122,3) -> 0.519 | T122: =ROUND(Data!AR122,3) -> 1.037 | U122: =ROUND(Data!AS122,3) -> 2.445 | V122: =ROUND(Data!AT122,0) -> 0 | X122: =D122-E122 -> 13 | Y122: =IF(C122<0,0,ROUND(0.0023*VLOOKUP(AA122,$BF$5:$BO$16,10)*(C122+17.8)*(D122-E122)^0.5*Y$2,0)) -> 82 | Z122: =IF(Y122>F122,Y122-F122,0) -> 57.1 | AA122: 5 | AB122: 2001
A123: =Data!Y123 -> 200106 | B123: =ROUND(Data!Z123,2) -> 17.25 | C123: =ROUND(Data!AA123,1) -> 6.8 | D123: =ROUND(Data!AB123,1) -> 13.1 | E123: =ROUND(Data!AC123,1) -> 1.5 | F123: =ROUND(Data!AD123,1) -> 21.3 | G123: =ROUND(Data!AE123,1) -> -3.7 | H123: =ROUND(Data!AF123,1) -> 76.8 | I123: =ROUND(Data!AG123,1) -> 48.3 | J123: =ROUND(Data!AH123,1) -> 86.4 | ... P123: =ROUND(Data!AN123,1) -> 9.9 | S123: =ROUND(Data!AQ123,3) -> 0.699 | T123: =ROUND(Data!AR123,3) -> 0.87 | U123: =ROUND(Data!AS123,3) -> 1.809 | V123: =ROUND(Data!AT123,0) -> 0 | X123: =D123-E123 -> 11.6 | Y123: =IF(C123<0,0,ROUND(0.0023*VLOOKUP(AA123,$BF$5:$BO$16,10)*(C123+17.8)*(D123-E123)^0.5*Y$2,0)) -> 85 | Z123: =IF(Y123>F123,Y123-F123,0) -> 63.7 | AA123: 6 | AB123: 2001
A124: =Data!Y124 -> 200107 | B124: =ROUND(Data!Z124,2) -> 20.73 | C124: =ROUND(Data!AA124,1) -> 11.8 | D124: =ROUND(Data!AB124,1) -> 18.9 | E124: =ROUND(Data!AC124,1) -> 5.5 | F124: =ROUND(Data!AD124,1) -> 28.2 | G124: =ROUND(Data!AE124,1) -> 0.2 | H124: =ROUND(Data!AF124,1) -> 68.1 | I124: =ROUND(Data!AG124,1) -> 41.6 | J124: =ROUND(Data!AH124,1) -> 68.7 | ... P124: =ROUND(Data!AN124,1) -> 13.7 | S124: =ROUND(Data!AQ124,3) -> 0.83 | T124: =ROUND(Data!AR124,3) -> 1.451 | U124: =ROUND(Data!AS124,3) -> 3.139 | V124: =ROUND(Data!AT124,0) -> 0 | X124: =D124-E124 -> 13.4 | Y124: =IF(C124<0,0,ROUND(0.0023*VLOOKUP(AA124,$BF$5:$BO$16,10)*(C124+17.8)*(D124-E124)^0.5*Y$2,0)) -> 109 | Z124: =IF(Y124>F124,Y124-F124,0) -> 80.8 | AA124: 7 | AB124: 2001
...

Sheet MGraphs

Sheet AGraphs

Sheet Meta
A1: Met data for P3 daily | D1: Lat | E1: Long | F1: Elev
A2: Last edit 5/11/19 | D2: 49 37 30 | E2: 119 23 45 | F2: 1750
D3: =49.625 -> 49.625
A4: Solar radiation MJ/m2/d
B5: 28-31 Dec 1996 , 1 Jan - 6 April 1997 gap filled form P1 | H5: 6-9 June, 5 -24 Sept 1998 | K5: 24-June-21 July 1999 | M5: 4-12 June 2000 | O5: 16-17 Oct 2002
B6: P3 = P1
C7: Solar removed September 2004 - shading by trees
A8: Tair C
B9: 28-31 Dec 1996 , 1 Jan - 6 April 1997 gap filled form P1 | H9: 6-9 June, 5 -24 Sept 1998 | K9: 24-June-21 July 1999 | M9: 4-12 June 2000 | O9: 16-17 Oct 2002 | Q9: 29 June- 29 July 2008
B10: Ave P3=P1+0.35 | Q10: 18-21 Aug 2009
B11: Max P3=1.01*P1+0.39
B12: Min P3=P1*0.94+0.79
A14: Relative Humidity %
B15: 28-31 Dec 1996 , 1 Jan - 6 April 1997 gap filled form P1 | H15: 6-9 June, 5 -24 Sept 1998 | K15: 24-June-21 July 1999 | M15: 4-12 June 2000 | O15: 16-17 Oct 2002 | Q15: 29 June- 29 July 2008
B16: Ave P3=P1*0.72 | Q16: 18-21 Aug 2009
B17: Min P3=P1*0.63
A19: Vapour pressure kPa
B20: vapres = esat(Tmax)*Rhmin/100 | F20: In most cases this is an afternoon value and would be somewhat different from a daily average
F21: Daily average must be calculated from hourly data
A22: Maximum vapour pressure deficit (kPa)
B23: vpdX = esat(Tmax)*(1-RHmin/100) | F23: In most cases this is an afternoon value and would be greater than a daily average
F24: Daily average must be calculated from hourly data
A25: Precipitation (mm)
B26: From precip analysis
A28: Snow depth mm
B29: Filled Dec 28-31 from snowfall estimate at P1
B30: Filled 1 Jan to 6 April 1997 from from mass balance model using P1 snowfall in precipitation analyis spreadsheet
A32: Soil temperature C
B33: Nominally at 0.005, 0.15, 0.2 1ne 0.5 m depths
B34: Not gap filled except estimated for 28-31 Dec 1996
A35: Wind speed m/s
B36: 28-31 Dec 1996 , 1 Jan - 6 April 1997 gap filled form P1 | H36: 6-9 June, 5 -24 Sept 1998 | K36: 24-June-21 July 1999 | M36: 4-12 June 2000 | O36: 16-17 Oct 2002 | Q36: 18-21 Aug 2009
B37: P3 ave =P1*0.73
B38: P3 max = P1max*0.63
