Workbook

Sheet Data
A1: P3 daily data 22 Aug 1991 to 31 Aug 2009
A2: Last edit 5/11/19 | R2: =ROUND((0.6105*(EXP((17.273*E2)/(E2+237.3))))*H2/100,3) -> 0 | S2: =ROUND((0.6105*(EXP((17.273*E2)/(E2+237.3))))*(100-H2)/100,3) -> 0.611
C3: MJ/m2/d | D3: C | E3: C | F3: C | G3: % | H3: % | I3: m/s | J3: m/s | K3: mm | L3: mm | M3: C | N3: C | O3: C | P3: C | Q3: C | R3: kPa | S3: kPa
A4: Date | B4: DOY | C4: Solar | D4: Tav | E4: Tmax | F4: Tmin | G4: Rhav | H4: Rhmin | I4: Wind | J4: WindX | K4: PPT | L4: SnowD | M4: Tsnow | N4: Tsoil005 | O4: Tsoil5 | P4: Tsoil20 | Q4: Tsoil50 | R4: Vapres | S4: vpdX | T4: SoG | U4: TSoG | V4: YrMn | W4: Year | Y4: Row Labels | Z4: Average of Solar | AA4: Average of Tav | AB4: Average of Tmax | AC4: Average of Tmin | AD4: Max of Tmax | AE4: Min of Tmin | AF4: Average of Rhav | AG4: Average of Rhmin | AH4: Sum of PPT | AI4: Max of PPT | AJ4: Average of Wind | AK4: Average of WindX | AL4: Max of WindX | AM4: Average of Tsoil005 | AN4: Average of Tsoil5 | AO4: Average of Tsoil20 | AP4: Average of Tsoil50 | AQ4: Average of Vapres | AR4: Average of vpdX | AS4: Max of vpdX | AT4: Max of SoG | AU4: Max of TSoG | AW4: Row Labels | AX4: Average of Solar | AY4: Average of Tav | AZ4: Average of Tmax | BA4: Average of Tmin | BB4: Max of Tmax | BC4: Min of Tmin | BD4: Average of Rhav | BE4: Average of Rhmin | BF4: Sum of PPT | BG4: Max of PPT | BH4: Max of SnowD | BI4: Average of Wind | BJ4: Average of WindX | BK4: Max of WindX | BL4: Average of Tsoil005 | BM4: Average of Tsoil20 | BN4: Average of Tsoil50 | BO4: Average of Vapres | BP4: Average of vpdX | BQ4: Max of vpdX | BS4: Year | BT4: Solar | BU4: Tav | BV4: Tmax | BW4: Tmin | BX4: TmaxX | BY4: TminN | BZ4: Rhav | CA4: Rhmin | CB4: PPT | CC4: 1dPPTX | CD4: SnowDX | CE4: WindAve | CF4: WindXAve | CG4: WindXX | CH4: Tsoil005 | CI4: Tsoil20 | CJ4: Tsoil50 | CK4: Vapres | CL4: vpdX | CM4: vpdXx | CN4: Trange | CO4: Eref | CP4: CMD | CR4: Row Labels | CS4: Sum of Eref | CT4: Sum of CMD
A5: 33472 | B5: 234 | C5: 23.49 | D5: 16.3 | E5: 23.4 | F5: 9.3 | G5: 41.8 | H5: 21.5 | I5: 1.2 | J5: 5.5 | K5: 0.8 | L5: -999 | M5: -999 | N5: -999 | O5: -999 | P5: -999 | Q5: 13 | R5: 0.618 | S5: =ROUND((0.6105*(EXP((17.273*E5)/(E5+237.3))))*(100-H5)/100,3) -> 2.259 | T5: -999 | U5: =IF(T5>0,M5,-999) -> -999 | V5: 199108 | W5: 1991 | Y5: 199108 | Z5: 13.845 | AA5: 10.14 | AB5: 15.2 | AC5: 5.37 | AD5: 23.4 | AE5: 1 | AF5: 66.01 | AG5: 47.3 | AH5: 30.5 | AI5: 17.5 | AJ5: 2.1 | AK5: 7.7 | AL5: 11.3 | AM5: -999 | AN5: -999 | AO5: -999 | AP5: 11.92 | AQ5: 0.7871 | AR5: 0.9952 | AS5: 2.259 | AT5: 0 | AU5: -999 | AW5: 1991 | AX5: 7.8991667 | AY5: 1.5287879 | AZ5: 6.2765152 | BA5: -2.8886364 | BB5: 23.4 | BC5: -21.7 | BD5: 73.514394 | BE5: 58.795455 | BF5: 168.6 | BG5: 23.1 | BH5: -999 | BI5: 1.6431818 | BJ5: 6.3992424 | BK5: 17.8 | BL5: -999 | BM5: -999 | BN5: 6.2015152 | BO5: 0.5500303 | BP5: 0.57534091 | BQ5: 2.259 | BS5: =AW5 -> 1991 | CR5: 1991 | CS5: 89 | CT5: 43.4
A6: 33473 | B6: 235 | C6: 21.66 | D6: 12.4 | E6: 18.8 | F6: 7.7 | G6: 52.2 | H6: 36.1 | I6: 1.4 | J6: 6.4 | K6: 0 | L6: -999 | M6: -999 | N6: -999 | O6: -999 | P6: -999 | Q6: 13.1 | R6: 0.782 | S6: =ROUND((0.6105*(EXP((17.273*E6)/(E6+237.3))))*(100-H6)/100,3) -> 1.386 | T6: =IF(V6<V7,L6,0) -> 0 | U6: =IF(T6>0,M6,-999) -> -999 | V6: 199108 | W6: 1991 | Y6: 199109 | Z6: 16.082667 | AA6: 9.62 | AB6: 16.3 | AC6: 3.4033333 | AD6: 23.1 | AE6: -3.3 | AF6: 61.78 | AG6: 42.383333 | AH6: 2.1 | AI6: 1 | AJ6: 1.2933333 | AK6: 5.2166667 | AL6: 8.6 | AM6: -999 | AN6: -999 | AO6: -999 | AP6: 10.333333 | AQ6: 0.77243333 | AR6: 1.1358 | AS6: 2.146 | AT6: 0 | AU6: -999 | AW6: 1992 | AX6: 11.363388 | AY6: 3.2114754 | AZ6: 8.5046448 | BA6: -1.7691257 | BB6: 27.8 | BC6: -23.8 | BD6: 73.888525 | BE6: 54.509563 | BF6: 716.4 | BG6: 34.3 | BH6: 980 | BI6: 1.3726776 | BJ6: 5.9144809 | BK6: 14 | BL6: -999 | BM6: -999 | BN6: -99.455464 | BO6: 0.58604372 | BP6: 0.71807923 | BQ6: 3.086 | BS6: =AW6 -> 1992 | BT6: =ROUND(AX6,1) -> 11.4 | BU6: =ROUND(AY6,1) -> 3.2 | BV6: =ROUND(AZ6,1) -> 8.5 | BW6: =ROUND(BA6,1) -> -1.8 | BX6: =ROUND(BB6,1) -> 27.8 | BY6: =ROUND(BC6,1) -> -23.8 | BZ6: =ROUND(BD6,1) -> 73.9 | CA6: =ROUND(BE6,1) -> 54.5 | ... CG6: =ROUND(BK6,1) -> 14 | CK6: =ROUND(BO6,3) -> 0.586 | CL6: =ROUND(BP6,3) -> 0.718 | CM6: =ROUND(BQ6,3) -> 3.086 | CN6: =BV6-BW6 -> 10.3 | CO6: =CS6 -> 552 | CP6: =CT6 -> 372.3 | CR6: 1992 | CS6: 552 | CT6: 372.3
A7: 33474 | B7: 236 | C7: 22.86 | D7: 8.6 | E7: 15.5 | F7: 1.6 | G7: 53.1 | H7: 36.6 | I7: 1.1 | J7: 5.8 | K7: 0 | L7: -999 | M7: -999 | N7: -999 | O7: -999 | P7: -999 | Q7: 13 | R7: 0.646 | S7: =ROUND((0.6105*(EXP((17.273*E7)/(E7+237.3))))*(100-H7)/100,3) -> 1.116 | T7: =IF(V7<V8,L7,0) -> 0 | U7: =IF(T7>0,M7,-999) -> -999 | V7: 199108 | W7: 1991 | Y7: 199110 | Z7: 8.8867742 | AA7: 1.683871 | AB7: 7.5032258 | AC7: -3.783871 | AD7: 22.5 | AE7: -21.7 | AF7: 66.329032 | AG7: 51.435484 | AH7: 22.5 | AI7: 8.2 | AJ7: 1.3225806 | AK7: 5.8064516 | AL7: 17.8 | AM7: -999 | AN7: -999 | AO7: -999 | AP7: 7.1967742 | AQ7: 0.50554839 | AR7: 0.7023871 | AS7: 1.976 | AT7: 0 | AU7: -999 | AW7: 1993 | AX7: 11.453507 | AY7: 1.7509589 | AZ7: 7.2772603 | BA7: -3.0945205 | BB7: 25.6 | BC7: -25.2 | BD7: 76.594521 | BE7: 55.724932 | BF7: 725.7 | BG7: 32 | BH7: 1006 | BI7: 1.0761644 | BJ7: 5.0909589 | BK7: 12.4 | BL7: -999 | BM7: -999 | BN7: -999 | BO7: 0.58182466 | BP7: 0.60426301 | BQ7: 2.855 | BS7: =AW7 -> 1993 | BT7: =ROUND(AX7,1) -> 11.5 | BU7: =ROUND(AY7,1) -> 1.8 | BV7: =ROUND(AZ7,1) -> 7.3 | BW7: =ROUND(BA7,1) -> -3.1 | BX7: =ROUND(BB7,1) -> 25.6 | BY7: =ROUND(BC7,1) -> -25.2 | BZ7: =ROUND(BD7,1) -> 76.6 | CA7: =ROUND(BE7,1) -> 55.7 | ... CG7: =ROUND(BK7,1) -> 12.4 | CK7: =ROUND(BO7,3) -> 0.582 | CL7: =ROUND(BP7,3) -> 0.604 | CM7: =ROUND(BQ7,3) -> 2.855 | CN7: =BV7-BW7 -> 10.4 | CO7: =CS7 -> 437 | CP7: =CT7 -> 303.6 | CR7: 1993 | CS7: 437 | CT7: 303.6
A8: 33475 | B8: 237 | C8: 18.42 | D8: 7.3 | E8: 14.9 | F8: 1 | G8: 65.4 | H8: 40.5 | I8: 1.2 | J8: 6.1 | K8: 0 | L8: -999 | M8: -999 | N8: -999 | O8: -999 | P8: -999 | Q8: 12.8 | R8: 0.686 | S8: =ROUND((0.6105*(EXP((17.273*E8)/(E8+237.3))))*(100-H8)/100,3) -> 1.008 | T8: =IF(V8<V9,L8,0) -> 0 | U8: =IF(T8>0,M8,-999) -> -999 | V8: 199108 | W8: 1991 | Y8: 199111 | Z8: 2.692 | AA8: -3.75 | AB8: -0.50333333 | AC8: -6.7066667 | AD8: 4.3 | AE8: -13.8 | AF8: 85.763333 | AG8: 73.35 | AH8: 82.5 | AI8: 23.1 | AJ8: 1.6933333 | AK8: 6.71 | AL8: 13.6 | AM8: -999 | AN8: -999 | AO8: -999 | AP8: 3.2 | AQ8: 0.44323333 | AR8: 0.15896667 | AS8: 0.356 | AT8: 0 | AU8: -999 | AW8: 1994 | AX8: 11.642082 | AY8: 2.6520548 | AZ8: 8.1531507 | BA8: -2.2221918 | BB8: 30.9 | BC8: -24.5 | BD8: 72.694795 | BE8: 50.278082 | BF8: 713.5 | BG8: 40.7 | BH8: 1208 | BI8: 1.0010959 | BJ8: 5.1076712 | BK8: 11.3 | BL8: -999 | BM8: -999 | BN8: -999 | BO8: 0.51033151 | BP8: 0.80825205 | BQ8: 3.805 | BS8: =AW8 -> 1994 | BT8: =ROUND(AX8,1) -> 11.6 | BU8: =ROUND(AY8,1) -> 2.7 | BV8: =ROUND(AZ8,1) -> 8.2 | BW8: =ROUND(BA8,1) -> -2.2 | BX8: =ROUND(BB8,1) -> 30.9 | BY8: =ROUND(BC8,1) -> -24.5 | BZ8: =ROUND(BD8,1) -> 72.7 | CA8: =ROUND(BE8,1) -> 50.3 | ... CG8: =ROUND(BK8,1) -> 11.3 | CK8: =ROUND(BO8,3) -> 0.51 | CL8: =ROUND(BP8,3) -> 0.808 | CM8: =ROUND(BQ8,3) -> 3.805 | CN8: =BV8-BW8 -> 10.4 | CO8: =CS8 -> 534 | CP8: =CT8 -> 374.6 | CR8: 1994 | CS8: 534 | CT8: 374.6
A9: 33476 | B9: 238 | C9: 6.14 | D9: 6.7 | E9: 9.5 | F9: 2.2 | G9: 66.2 | H9: 47.2 | I9: 1.9 | J9: 9.7 | K9: 4.1 | L9: -999 | M9: -999 | N9: -999 | O9: -999 | P9: -999 | Q9: 12.3 | R9: 0.561 | S9: =ROUND((0.6105*(EXP((17.273*E9)/(E9+237.3))))*(100-H9)/100,3) -> 0.627 | T9: =IF(V9<V10,L9,0) -> 0 | U9: =IF(T9>0,M9,-999) -> -999 | V9: 199108 | W9: 1991 | Y9: 199112 | Z9: 2.1132258 | AA9: -4.1258065 | AB9: -0.96774194 | AC9: -7.0516129 | AD9: 5.6 | AE9: -14.3 | AF9: 82.622581 | AG9: 71.66129 | AH9: 31 | AI9: 5.8 | AJ9: 2.1064516 | AK9: 7.416129 | AL9: 12.1 | AM9: -999 | AN9: -999 | AO9: -999 | AP9: 2.2677419 | AQ9: 0.40616129 | AR9: 0.17341935 | AS9: 0.525 | AT9: 0 | AU9: -999 | AW9: 1995 | AX9: 11.500959 | AY9: 2.270137 | AZ9: 7.8942466 | BA9: -2.5484932 | BB9: 25.7 | BC9: -28.7 | BD9: 72.900822 | BE9: 49.848767 | BF9: 735.9 | BG9: 25.4 | BH9: 0 | BI9: 1.0342466 | BJ9: 4.8191781 | BK9: 12.7 | BL9: -999 | BM9: -999 | BN9: -999 | BO9: 0.51773151 | BP9: 0.71016164 | BQ9: 2.78 | BS9: =AW9 -> 1995 | BT9: =ROUND(AX9,1) -> 11.5 | BU9: =ROUND(AY9,1) -> 2.3 | BV9: =ROUND(AZ9,1) -> 7.9 | BW9: =ROUND(BA9,1) -> -2.5 | BX9: =ROUND(BB9,1) -> 25.7 | BY9: =ROUND(BC9,1) -> -28.7 | BZ9: =ROUND(BD9,1) -> 72.9 | CA9: =ROUND(BE9,1) -> 49.8 | ... CC9: =ROUND(BG9,1) -> 25.4 | CE9: =ROUND(BI9,1) -> 1 | CF9: =ROUND(BJ9,1) -> 4.8 | CG9: =ROUND(BK9,1) -> 12.7 | CK9: =ROUND(BO9,3) -> 0.518 | CL9: =ROUND(BP9,3) -> 0.71 | CM9: =ROUND(BQ9,3) -> 2.78 | CN9: =BV9-BW9 -> 10.4 | CO9: =CS9 -> 495 | CP9: =CT9 -> 344.2 | CR9: 1995 | CS9: 495 | CT9: 344.2
A10: 33477 | B10: 239 | C10: 5.34 | D10: 7.7 | E10: 11.3 | F10: 5.2 | G10: 84.1 | H10: 53.4 | I10: 2.4 | J10: 8.1 | K10: 17.5 | L10: -999 | M10: -999 | N10: -999 | O10: -999 | P10: -999 | Q10: 11.6 | R10: 0.717 | S10: =ROUND((0.6105*(EXP((17.273*E10)/(E10+237.3))))*(100-H10)/100,3) -> 0.624 | T10: =IF(V10<V11,L10,0) -> 0 | U10: =IF(T10>0,M10,-999) -> -999 | V10: 199108 | W10: 1991 | Y10: 199201 | Z10: 2.5503226 | AA10: -3.9677419 | AB10: -0.4483871 | AC10: -7.0064516 | AD10: 5.7 | AE10: -17.2 | AF10: 87.770968 | AG10: 74.741935 | AH10: 60.2 | AI10: 10.2 | AJ10: 1.7516129 | AK10: 6.983871 | AL10: 12.8 | AM10: -999 | AN10: -999 | AO10: -999 | AP10: 1.7967742 | AQ10: 0.44183871 | AR10: 0.1633871 | AS10: 0.467 | AT10: 0 | AU10: -999 | AW10: 1996 | AX10: 11.032131 | AY10: 0.89180328 | AZ10: 6.6153005 | BA10: -4.0122951 | BB10: 29.8 | BC10: -31.6 | BD10: 75.998087 | BE10: 54.482514 | BF10: 804.5 | BG10: 28.7 | BH10: 977 | BI10: 1.1319672 | BJ10: 4.1210383 | BK10: 11.1 | BL10: -772.37158 | BM10: -999 | BN10: -999 | BO10: 0.51832787 | BP10: 0.68128689 | BQ10: 3.585 | BS10: =AW10 -> 1996 | BT10: =ROUND(AX10,1) -> 11 | BU10: =ROUND(AY10,1) -> 0.9 | BV10: =ROUND(AZ10,1) -> 6.6 | BW10: =ROUND(BA10,1) -> -4 | BX10: =ROUND(BB10,1) -> 29.8 | BY10: =ROUND(BC10,1) -> -31.6 | BZ10: =ROUND(BD10,1) -> 76 | CA10: =ROUND(BE10,1) -> 54.5 | ... CG10: =ROUND(BK10,1) -> 11.1 | CK10: =ROUND(BO10,3) -> 0.518 | CL10: =ROUND(BP10,3) -> 0.681 | CM10: =ROUND(BQ10,3) -> 3.585 | CN10: =BV10-BW10 -> 10.6 | CO10: =CS10 -> 491 | CP10: =CT10 -> 335.8 | CR10: 1996 | CS10: 491 | CT10: 335.8
A11: 33478 | B11: 240 | C11: 7.63 | D11: 7.3 | E11: 10.1 | F11: 5.7 | G11: 85.8 | H11: 78.1 | I11: 2.8 | J11: 7.9 | K11: 0.5 | L11: -999 | M11: -999 | N11: -999 | O11: -999 | P11: -999 | Q11: 11.1 | R11: 0.963 | S11: =ROUND((0.6105*(EXP((17.273*E11)/(E11+237.3))))*(100-H11)/100,3) -> 0.271 | T11: =IF(V11<V12,L11,0) -> 0 | U11: =IF(T11>0,M11,-999) -> -999 | V11: 199108 | W11: 1991 | Y11: 199202 | Z11: 6.2865517 | AA11: -0.82758621 | AB11: 4.0344828 | AC11: -4.9344828 | AD11: 15.5 | AE11: -12.3 | AF11: 80.996552 | AG11: 65.762069 | AH11: 52.5 | AI11: 11.3 | AJ11: 1.6034483 | AK11: 6.1137931 | AL11: 14 | AM11: -999 | AN11: -999 | AO11: -999 | AP11: 1.5206897 | AQ11: 0.50910345 | AR11: 0.35524138 | AS11: 1.294 | AT11: 0 | AU11: -999 | AW11: 1997 | AX11: 11.06463 | AY11: 2.1558904 | AZ11: 7.6126027 | BA11: -2.2534247 | BB11: 27.7 | BC11: -25.9 | BD11: 77.218356 | BE11: 54.008767 | BF11: 933.8 | BG11: 29 | BH11: 1504 | BI11: 1.270137 | BJ11: 3.8249315 | BK11: 8.2 | BL11: -255.87781 | BM11: -999 | BN11: -999 | BO11: 0.57527397 | BP11: 0.64047671 | BQ11: 3.064 | BS11: =AW11 -> 1997 | BT11: =ROUND(AX11,1) -> 11.1 | BU11: =ROUND(AY11,1) -> 2.2 | BV11: =ROUND(AZ11,1) -> 7.6 | BW11: =ROUND(BA11,1) -> -2.3 | BX11: =ROUND(BB11,1) -> 27.7 | BY11: =ROUND(BC11,1) -> -25.9 | BZ11: =ROUND(BD11,1) -> 77.2 | CA11: =ROUND(BE11,1) -> 54 | ... CG11: =ROUND(BK11,1) -> 8.2 | CK11: =ROUND(BO11,3) -> 0.575 | CL11: =ROUND(BP11,3) -> 0.64 | CM11: =ROUND(BQ11,3) -> 3.064 | CN11: =BV11-BW11 -> 9.9 | CO11: =CS11 -> 443 | CP11: =CT11 -> 304.7 | CR11: 1997 | CS11: 443 | CT11: 304.7
A12: 33479 | B12: 241 | C12: 8.16 | D12: 9 | E12: 13.4 | F12: 4.7 | G12: 85.3 | H12: 64.1 | I12: 4.2 | J12: 10.7 | K12: 1 | L12: -999 | M12: -999 | N12: -999 | O12: -999 | P12: -999 | Q12: 10.8 | R12: 0.985 | S12: =ROUND((0.6105*(EXP((17.273*E12)/(E12+237.3))))*(100-H12)/100,3) -> 0.552 | T12: =IF(V12<V13,L12,0) -> 0 | U12: =IF(T12>0,M12,-999) -> -999 | V12: 199108 | W12: 1991 | Y12: 199203 | Z12: 13.210645 | AA12: 1.7548387 | AB12: 8.2548387 | AC12: -3.4741935 | AD12: 14.4 | AE12: -10.9 | AF12: 63.977419 | AG12: 43.035484 | AH12: 29.9 | AI12: 11.3 | AJ12: 1.3129032 | AK12: 5.2129032 | AL12: 9.2 | AM12: -999 | AN12: -999 | AO12: -999 | AP12: 1.3096774 | AQ12: 0.44716129 | AR12: 0.67441935 | AS12: 1.293 | AT12: 0 | AU12: -999 | AW12: 1998 | AX12: 11.359808 | AY12: 3.1008219 | AZ12: 8.9558904 | BA12: -1.6821918 | BB12: 30.7 | BC12: -28.2 | BD12: 78.721096 | BE12: 56.66274 | BF12: 790 | BG12: 26.2 | BH12: 1060 | BI12: 1.0983562 | BJ12: 3.3361644 | BK12: 7.4 | BL12: 3.1008219 | BM12: -999 | BN12: -999 | BO12: 0.61068767 | BP12: 0.80904384 | BQ12: 3.652 | BS12: =AW12 -> 1998 | BT12: =ROUND(AX12,1) -> 11.4 | BU12: =ROUND(AY12,1) -> 3.1 | BV12: =ROUND(AZ12,1) -> 9 | BW12: =ROUND(BA12,1) -> -1.7 | BX12: =ROUND(BB12,1) -> 30.7 | BY12: =ROUND(BC12,1) -> -28.2 | BZ12: =ROUND(BD12,1) -> 78.7 | CA12: =ROUND(BE12,1) -> 56.7 | ... CH12: =ROUND(BL12,1) -> 3.1 | CK12: =ROUND(BO12,3) -> 0.611 | CL12: =ROUND(BP12,3) -> 0.809 | CM12: =ROUND(BQ12,3) -> 3.652 | CN12: =BV12-BW12 -> 10.7 | CO12: =CS12 -> 564 | CP12: =CT12 -> 388.7 | CR12: 1998 | CS12: 564 | CT12: 388.7
A13: 33480 | B13: 242 | C13: 15.7 | D13: 14.4 | E13: 18.7 | F13: 11.1 | G13: 56.4 | H13: 45 | I13: 3.6 | J13: 11.3 | K13: 0 | L13: -999 | M13: -999 | N13: -999 | O13: -999 | P13: -999 | Q13: 10.7 | R13: 0.971 | S13: =ROUND((0.6105*(EXP((17.273*E13)/(E13+237.3))))*(100-H13)/100,3) -> 1.186 | T13: =IF(V13<V14,L13,0) -> 0 | U13: =IF(T13>0,M13,-999) -> -999 | V13: 199108 | W13: 1991 | Y13: 199204 | Z13: 13.628 | AA13: 1.86 | AB13: 7.1266667 | AC13: -2.9866667 | AD13: 15.7 | AE13: -11.4 | AF13: 72.556667 | AG13: 52.96 | AH13: 56.2 | AI13: 9.4 | AJ13: 1.8533333 | AK13: 6.6433333 | AL13: 11.6 | AM13: -999 | AN13: -999 | AO13: -999 | AP13: 1.3533333 | AQ13: 0.5402 | AR13: 0.50983333 | AS13: 1.197 | AT13: 0 | AU13: -999 | AW13: 1999 | AX13: 11.218329 | AY13: 2.2619178 | AZ13: 7.9131507 | BA13: -2.620274 | BB13: 28.1 | BC13: -21.1 | BD13: 78.103836 | BE13: 55.561096 | BF13: 740.7 | BG13: 26.2 | BH13: 1430 | BI13: 1.1175342 | BJ13: 3.2863014 | BK13: 8.7 | BL13: 2.2619178 | BM13: -999 | BN13: -999 | BO13: 0.57407945 | BP13: 0.69286575 | BQ13: 2.87 | BS13: =AW13 -> 1999 | BT13: =ROUND(AX13,1) -> 11.2 | BU13: =ROUND(AY13,1) -> 2.3 | BV13: =ROUND(AZ13,1) -> 7.9 | BW13: =ROUND(BA13,1) -> -2.6 | BX13: =ROUND(BB13,1) -> 28.1 | BY13: =ROUND(BC13,1) -> -21.1 | BZ13: =ROUND(BD13,1) -> 78.1 | CA13: =ROUND(BE13,1) -> 55.6 | ... CH13: =ROUND(BL13,1) -> 2.3 | CK13: =ROUND(BO13,3) -> 0.574 | CL13: =ROUND(BP13,3) -> 0.693 | CM13: =ROUND(BQ13,3) -> 2.87 | CN13: =BV13-BW13 -> 10.5 | CO13: =CS13 -> 504 | CP13: =CT13 -> 339.4 | CR13: 1999 | CS13: 504 | CT13: 339.4
A14: 33481 | B14: 243 | C14: 9.05 | D14: 11.7 | E14: 16.4 | F14: 5.2 | G14: 69.8 | H14: 50.5 | I14: 1.2 | J14: 5.5 | K14: 6.6 | L14: -999 | M14: -999 | N14: -999 | O14: -999 | P14: -999 | Q14: 10.8 | R14: 0.942 | S14: =ROUND((0.6105*(EXP((17.273*E14)/(E14+237.3))))*(100-H14)/100,3) -> 0.923 | T14: =IF(V14<V15,L14,0) -> -999 | U14: =IF(T14>0,M14,-999) -> -999 | V14: 199108 | W14: 1991 | Y14: 199205 | Z14: 19.985161 | AA14: 7.0516129 | AB14: 13.4 | AC14: 1.0322581 | AD14: 24.2 | AE14: -6.1 | AF14: 62.445161 | AG14: 40.580645 | AH14: 38.1 | AI14: 7.4 | AJ14: 1.5225806 | AK14: 6.0548387 | AL14: 11.5 | AM14: -999 | AN14: -999 | AO14: -999 | AP14: 6.6451613 | AQ14: 0.5786129 | AR14: 1.0700645 | AS14: 2.3 | AT14: 0 | AU14: -999 | AW14: 2000 | AX14: 11.601557 | AY14: 1.6054645 | AZ14: 7.3885246 | BA14: -3.1497268 | BB14: 27.6 | BC14: -24.9 | BD14: 77.421858 | BE14: 54.020765 | BF14: 731.1 | BG14: 20 | BH14: 1048 | BI14: 1.1428962 | BJ14: 3.6379781 | BK14: 8.5 | BL14: 1.6054645 | BM14: -999 | BN14: -999 | BO14: 0.5382541 | BP14: 0.6718224 | BQ14: 2.713 | BS14: =AW14 -> 2000 | BT14: =ROUND(AX14,1) -> 11.6 | BU14: =ROUND(AY14,1) -> 1.6 | BV14: =ROUND(AZ14,1) -> 7.4 | BW14: =ROUND(BA14,1) -> -3.1 | BX14: =ROUND(BB14,1) -> 27.6 | BY14: =ROUND(BC14,1) -> -24.9 | BZ14: =ROUND(BD14,1) -> 77.4 | CA14: =ROUND(BE14,1) -> 54 | ... CH14: =ROUND(BL14,1) -> 1.6 | CK14: =ROUND(BO14,3) -> 0.538 | CL14: =ROUND(BP14,3) -> 0.672 | CM14: =ROUND(BQ14,3) -> 2.713 | CN14: =BV14-BW14 -> 10.5 | CO14: =CS14 -> 497 | CP14: =CT14 -> 344.6 | CR14: 2000 | CS14: 497 | CT14: 344.6
A15: 33482 | B15: 244 | C15: 17.54 | D15: 5.2 | E15: 11.3 | F15: -0.2 | G15: 76.1 | H15: 51.5 | I15: 1.5 | J15: 6.5 | K15: 0.3 | L15: -999 | M15: -999 | N15: -999 | O15: -999 | P15: -999 | Q15: 10.9 | R15: 0.687 | S15: =ROUND((0.6105*(EXP((17.273*E15)/(E15+237.3))))*(100-H15)/100,3) -> 0.649 | T15: =IF(V15<V16,L15,0) -> 0 | U15: =IF(T15>0,M15,-999) -> -999 | V15: 199109 | W15: 1991 | Y15: 199206 | Z15: 21.102 | AA15: 12.56 | AB15: 19.003333 | AC15: 5.63 | AD15: 27.8 | AE15: -0.1 | AF15: 58.513333 | AG15: 38.923333 | AH15: 93.3 | AI15: 34.3 | AJ15: 1.3533333 | AK15: 6.3 | AL15: 10 | AM15: -999 | AN15: -999 | AO15: -999 | AP15: 11.123333 | AQ15: 0.7907 | AR15: 1.5188333 | AS15: 3.086 | AT15: 0 | AU15: -999 | AW15: 2001 | AX15: 11.512795 | AY15: 2.1553425 | AZ15: 7.7350685 | BA15: -2.5331507 | BB15: 28.6 | BC15: -18.9 | BD15: 75.988219 | BE15: 52.893151 | BF15: 715.5 | BG15: 19.5 | BH15: 1115 | BI15: 1.1909589 | BJ15: 3.5109589 | BK15: 8.6 | BL15: 2.1553425 | BM15: -999 | BN15: -999 | BO15: 0.53563288 | BP15: 0.719 | BQ15: 3.139 | BS15: =AW15 -> 2001 | BT15: =ROUND(AX15,1) -> 11.5 | BU15: =ROUND(AY15,1) -> 2.2 | BV15: =ROUND(AZ15,1) -> 7.7 | BW15: =ROUND(BA15,1) -> -2.5 | BX15: =ROUND(BB15,1) -> 28.6 | BY15: =ROUND(BC15,1) -> -18.9 | BZ15: =ROUND(BD15,1) -> 76 | CA15: =ROUND(BE15,1) -> 52.9 | ... CH15: =ROUND(BL15,1) -> 2.2 | CK15: =ROUND(BO15,3) -> 0.536 | CL15: =ROUND(BP15,3) -> 0.719 | CM15: =ROUND(BQ15,3) -> 3.139 | CN15: =BV15-BW15 -> 10.2 | CO15: =CS15 -> 459 | CP15: =CT15 -> 314 | CR15: 2001 | CS15: 459 | CT15: 314
A16: 33483 | B16: 245 | C16: 20.66 | D16: 5.8 | E16: 13.3 | F16: -1.6 | G16: 73.2 | H16: 50.1 | I16: 1.2 | J16: 4.7 | K16: 0 | L16: -999 | M16: -999 | N16: -999 | O16: -999 | P16: -999 | Q16: 10.7 | R16: 0.765 | S16: =ROUND((0.6105*(EXP((17.273*E16)/(E16+237.3))))*(100-H16)/100,3) -> 0.762 | T16: =IF(V16<V17,L16,0) -> 0 | U16: =IF(T16>0,M16,-999) -> -999 | V16: 199109 | W16: 1991 | Y16: 199207 | Z16: 17.787742 | AA16: 12.054839 | AB16: 17.480645 | AC16: 6.9032258 | AD16: 26.9 | AE16: 3.2 | AF16: 76.63871 | AG16: 47.458065 | AH16: 92.1 | AI16: 25.9 | AJ16: 1.0387097 | AK16: 5.1870968 | AL16: 8.1 | AM16: -999 | AN16: -999 | AO16: -999 | AP16: -900.93226 | AQ16: 0.94119355 | AR16: 1.1350645 | AS16: 2.268 | AT16: 0 | AU16: -999 | AW16: 2002 | AX16: 11.659041 | AY16: 2.1134247 | AZ16: 8.0208219 | BA16: -2.7671233 | BB16: 29.8 | BC16: -22.7 | BD16: 76.032877 | BE16: 53.186301 | BF16: 569.4 | BG16: 27.8 | BH16: 1219 | BI16: -209.94356 | BJ16: -208.79589 | BK16: 6.6 | BL16: 4.32 | BM16: -793.49397 | BN16: -793.2789 | BO16: 0.5520274 | BP16: 0.73657534 | BQ16: 3.329 | BS16: =AW16 -> 2002 | BT16: =ROUND(AX16,1) -> 11.7 | BU16: =ROUND(AY16,1) -> 2.1 | BV16: =ROUND(AZ16,1) -> 8 | BW16: =ROUND(BA16,1) -> -2.8 | BX16: =ROUND(BB16,1) -> 29.8 | BY16: =ROUND(BC16,1) -> -22.7 | BZ16: =ROUND(BD16,1) -> 76 | CA16: =ROUND(BE16,1) -> 53.2 | ... CD16: =ROUND(BH16,1) -> 1219 | CG16: =ROUND(BK16,1) -> 6.6 | CH16: =ROUND(BL16,1) -> 4.3 | CK16: =ROUND(BO16,3) -> 0.552 | CL16: =ROUND(BP16,3) -> 0.737 | CM16: =ROUND(BQ16,3) -> 3.329 | CN16: =BV16-BW16 -> 10.8 | CO16: =CS16 -> 533 | CP16: =CT16 -> 360.5 | CR16: 2002 | CS16: 533 | CT16: 360.5
A17: 33484 | B17: 246 | C17: 21.46 | D17: 9.3 | E17: 17 | F17: 1.8 | G17: 59.3 | H17: 34.8 | I17: 1.3 | J17: 4.1 | K17: 0 | L17: -999 | M17: -999 | N17: -999 | O17: -999 | P17: -999 | Q17: 10.6 | R17: 0.674 | S17: =ROUND((0.6105*(EXP((17.273*E17)/(E17+237.3))))*(100-H17)/100,3) -> 1.263 | T17: =IF(V17<V18,L17,0) -> 0 | U17: =IF(T17>0,M17,-999) -> -999 | V17: 199109 | W17: 1991 | Y17: 199208 | Z17: 18.73871 | AA17: 12.458065 | AB17: 19.16129 | AC17: 5.9258065 | AD17: 26.9 | AE17: -2.5 | AF17: 62.935484 | AG17: 35.509677 | AH17: 28.4 | AI17: 7.6 | AJ17: 1.0483871 | AK17: 5.2451613 | AL17: 7.2 | AM17: -999 | AN17: -312.25161 | AO17: -999 | AP17: -313.48387 | AQ17: 0.7863871 | AR17: 1.5457742 | AS17: 2.86 | AT17: 0 | AU17: -999 | AW17: 2003 | AX17: 11.592219 | AY17: 2.9657534 | AZ17: 8.9578082 | BA17: -1.9863014 | BB17: 31.3 | BC17: -22.6 | BD17: 75.308767 | BE17: 52.403562 | BF17: 690.5 | BG17: 27.2 | BH17: 1028 | BI17: -999 | BJ17: -999 | BK17: -999 | BL17: 5.7205479 | BM17: 5.1690411 | BN17: 5.0879452 | BO17: 0.55313699 | BP17: 0.85714521 | BQ17: 4.053 | BS17: =AW17 -> 2003 | BT17: =ROUND(AX17,1) -> 11.6 | BU17: =ROUND(AY17,1) -> 3 | BV17: =ROUND(AZ17,1) -> 9 | BW17: =ROUND(BA17,1) -> -2 | BX17: =ROUND(BB17,1) -> 31.3 | BY17: =ROUND(BC17,1) -> -22.6 | BZ17: =ROUND(BD17,1) -> 75.3 | CA17: =ROUND(BE17,1) -> 52.4 | ... CD17: =ROUND(BH17,1) -> 1028 | CH17: =ROUND(BL17,1) -> 5.7 | CI17: =ROUND(BM17,1) -> 5.2 | CJ17: =ROUND(BN17,1) -> 5.1 | CK17: =ROUND(BO17,3) -> 0.553 | CL17: =ROUND(BP17,3) -> 0.857 | CM17: =ROUND(BQ17,3) -> 4.053 | CN17: =BV17-BW17 -> 11 | CO17: =CS17 -> 557 | CP17: =CT17 -> 380.5 | CR17: 2003 | CS17: 557 | CT17: 380.5
A18: 33485 | B18: 247 | C18: 21.67 | D18: 12.7 | E18: 19.1 | F18: 3.2 | G18: 50.5 | H18: 40.1 | I18: 1.3 | J18: 4.6 | K18: 0 | L18: -999 | M18: -999 | N18: -999 | O18: -999 | P18: -999 | Q18: 10.6 | R18: 0.887 | S18: =ROUND((0.6105*(EXP((17.273*E18)/(E18+237.3))))*(100-H18)/100,3) -> 1.324 | T18: =IF(V18<V19,L18,0) -> 0 | U18: =IF(T18>0,M18,-999) -> -999 | V18: 199109 | W18: 1991 | Y18: 199209 | Z18: 10.885667 | AA18: 5.7733333 | AB18: 11.626667 | AC18: 0.58666667 | AD18: 21.2 | AE18: -6.2 | AF18: 71.84 | AG18: 50.573333 | AH18: 48.7 | AI18: 9.4 | AJ18: 1.5233333 | AK18: 6.4633333 | AL18: 11.8 | AM18: -999 | AN18: 12.133333 | AO18: -999 | AP18: 9.0933333 | AQ18: 0.6713 | AR18: 0.7804 | AS18: 2.021 | AT18: 0 | AU18: -999 | AW18: 2004 | AX18: -246.6827 | AY18: 3.1057377 | AZ18: 8.8087432 | BA18: -1.4379781 | BB18: 29.6 | BC18: -28.8 | BD18: 79.347268 | BE18: 57.018852 | BF18: 860.9 | BG18: 31 | BH18: 1191 | BI18: -999 | BJ18: -999 | BK18: -999 | BL18: -251.5612 | BM18: -252.14973 | BN18: -999 | BO18: 0.62755738 | BP18: 0.7172623 | BQ18: 3.184 | BS18: =AW18 -> 2004 | BU18: =ROUND(AY18,1) -> 3.1 | BV18: =ROUND(AZ18,1) -> 8.8 | BW18: =ROUND(BA18,1) -> -1.4 | BX18: =ROUND(BB18,1) -> 29.6 | BY18: =ROUND(BC18,1) -> -28.8 | BZ18: =ROUND(BD18,1) -> 79.3 | CA18: =ROUND(BE18,1) -> 57 | CB18: =ROUND(BF18,1) -> 860.9 | ... CD18: =ROUND(BH18,1) -> 1191 | CK18: =ROUND(BO18,3) -> 0.628 | CL18: =ROUND(BP18,3) -> 0.717 | CM18: =ROUND(BQ18,3) -> 3.184 | CN18: =BV18-BW18 -> 10.2 | CO18: =CS18 -> 522 | CP18: =CT18 -> 358.2 | CR18: 2004 | CS18: 522 | CT18: 358.2
A19: 33486 | B19: 248 | C19: 21.57 | D19: 14 | E19: 21.7 | F19: 5.7 | G19: 50.7 | H19: 17.3 | I19: 1.2 | J19: 4.6 | K19: 0 | L19: -999 | M19: -999 | N19: -999 | O19: -999 | P19: -999 | Q19: 10.8 | R19: 0.45 | S19: =ROUND((0.6105*(EXP((17.273*E19)/(E19+237.3))))*(100-H19)/100,3) -> 2.146 | T19: =IF(V19<V20,L19,0) -> 0 | U19: =IF(T19>0,M19,-999) -> -999 | V19: 199109 | W19: 1991 | Y19: 199210 | Z19: 6.4351613 | AA19: 2.8548387 | AB19: 7.6774194 | AC19: -1.483871 | AD19: 23.1 | AE19: -11.1 | AF19: 74.716129 | AG19: 57.103226 | AH19: 37.7 | AI19: 7.1 | AJ19: 1.3129032 | AK19: 5.8903226 | AL19: 8.5 | AM19: -999 | AN19: 8.0387097 | AO19: -999 | AP19: 5.6741935 | AQ19: 0.57132258 | AR19: 0.55777419 | AS19: 2.196 | AT19: 48 | AU19: -999 | AW19: 2005 | AX19: -999 | AY19: 2.5523288 | AZ19: 8.3391781 | BA19: -2.1482192 | BB19: 26.5 | BC19: -25.5 | BD19: 77.838904 | BE19: 55.257534 | BF19: 630 | BG19: 31.2 | BH19: 816 | BI19: -999 | BJ19: -999 | BK19: -999 | BL19: -999 | BM19: 5.1868493 | BN19: -999 | BO19: 0.58766849 | BP19: 0.69372877 | BQ19: 2.894 | BS19: =AW19 -> 2005 | BU19: =ROUND(AY19,1) -> 2.6 | BV19: =ROUND(AZ19,1) -> 8.3 | BW19: =ROUND(BA19,1) -> -2.1 | BX19: =ROUND(BB19,1) -> 26.5 | BY19: =ROUND(BC19,1) -> -25.5 | BZ19: =ROUND(BD19,1) -> 77.8 | CA19: =ROUND(BE19,1) -> 55.3 | CB19: =ROUND(BF19,1) -> 630 | ... CD19: =ROUND(BH19,1) -> 816 | CK19: =ROUND(BO19,3) -> 0.588 | CL19: =ROUND(BP19,3) -> 0.694 | CM19: =ROUND(BQ19,3) -> 2.894 | CN19: =BV19-BW19 -> 10.4 | CO19: =CS19 -> 506 | CP19: =CT19 -> 346.3 | CR19: 2005 | CS19: 506 | CT19: 346.3
A20: 33487 | B20: 249 | C20: 19.42 | D20: 13.5 | E20: 21.1 | F20: 6.7 | G20: 48.7 | H20: 29.1 | I20: 1.2 | J20: 4.5 | K20: 0 | L20: -999 | M20: -999 | N20: -999 | O20: -999 | P20: -999 | Q20: 11 | R20: 0.727 | S20: =ROUND((0.6105*(EXP((17.273*E20)/(E20+237.3))))*(100-H20)/100,3) -> 1.774 | T20: =IF(V20<V21,L20,0) -> 0 | U20: =IF(T20>0,M20,-999) -> -999 | V20: 199109 | W20: 1991 | Y20: 199211 | Z20: 3.1023333 | AA20: -4.08 | AB20: -0.14333333 | AC20: -8.3 | AD20: 6.4 | AE20: -15 | AF20: 89.95 | AG20: 75.43 | AH20: 105 | AI20: 19.8 | AJ20: 0.81 | AK20: 4.3133333 | AL20: 9.2 | AM20: -999 | AN20: 0.41666667 | AO20: -999 | AP20: 1.4566667 | AQ20: 0.4555 | AR20: 0.1612 | AS20: 0.482 | AT20: 478 | AU20: -999 | AW20: 2006 | AX20: -999 | AY20: 2.5424658 | AZ20: 8.2832877 | BA20: -2.1323288 | BB20: 31 | BC20: -29.5 | BD20: 78.571507 | BE20: 57.325205 | BF20: 816.6 | BG20: 28 | BH20: 1270 | BI20: -999 | BJ20: -999 | BK20: -999 | BL20: -999 | BM20: 5.2457534 | BN20: -999 | BO20: 0.60234521 | BP20: 0.75351233 | BQ20: 3.42 | BS20: =AW20 -> 2006 | BU20: =ROUND(AY20,1) -> 2.5 | BV20: =ROUND(AZ20,1) -> 8.3 | BW20: =ROUND(BA20,1) -> -2.1 | BX20: =ROUND(BB20,1) -> 31 | BY20: =ROUND(BC20,1) -> -29.5 | BZ20: =ROUND(BD20,1) -> 78.6 | CA20: =ROUND(BE20,1) -> 57.3 | CB20: =ROUND(BF20,1) -> 816.6 | ... CD20: =ROUND(BH20,1) -> 1270 | CK20: =ROUND(BO20,3) -> 0.602 | CL20: =ROUND(BP20,3) -> 0.754 | CM20: =ROUND(BQ20,3) -> 3.42 | CN20: =BV20-BW20 -> 10.4 | CO20: =CS20 -> 540 | CP20: =CT20 -> 361.2 | CR20: 2006 | CS20: 540 | CT20: 361.2
A21: 33488 | B21: 250 | C21: 12.07 | D21: 9.4 | E21: 15 | F21: 4.5 | G21: 75.4 | H21: 56.1 | I21: 1.3 | J21: 4.9 | K21: 0 | L21: -999 | M21: -999 | N21: -999 | O21: -999 | P21: -999 | Q21: 11.2 | R21: 0.957 | S21: =ROUND((0.6105*(EXP((17.273*E21)/(E21+237.3))))*(100-H21)/100,3) -> 0.748 | T21: =IF(V21<V22,L21,0) -> 0 | U21: =IF(T21>0,M21,-999) -> -999 | V21: 199109 | W21: 1991 | Y21: 199212 | Z21: 2.426129 | AA21: -9.1096774 | AB21: -5.2903226 | AC21: -13.26129 | AD21: -0.5 | AE21: -23.8 | AF21: 84.693548 | AG21: 72.758065 | AH21: 74.3 | AI21: 21.5 | AJ21: 1.3580645 | AK21: 6.5806452 | AL21: 10.1 | AM21: -999 | AN21: 0.26774194 | AO21: -999 | AP21: 1.0677419 | AQ21: 0.29790323 | AR21: 0.12470968 | AS21: 0.45 | AT21: 880 | AU21: -999 | AW21: 2007 | AX21: -999 | AY21: 2.0769863 | AZ21: 7.6972603 | BA21: -2.700274 | BB21: 29.6 | BC21: -22.2 | BD21: 75.065479 | BE21: 51.825479 | BF21: 671.6 | BG21: 33.5 | BH21: 1060 | BI21: -999 | BJ21: -999 | BK21: -999 | BL21: -999 | BM21: 4.9161644 | BN21: -999 | BO21: 0.52578082 | BP21: 0.73683014 | BQ21: 3.255 | BS21: =AW21 -> 2007 | BU21: =ROUND(AY21,1) -> 2.1 | BV21: =ROUND(AZ21,1) -> 7.7 | BW21: =ROUND(BA21,1) -> -2.7 | BX21: =ROUND(BB21,1) -> 29.6 | BY21: =ROUND(BC21,1) -> -22.2 | BZ21: =ROUND(BD21,1) -> 75.1 | CA21: =ROUND(BE21,1) -> 51.8 | CB21: =ROUND(BF21,1) -> 671.6 | ... CD21: =ROUND(BH21,1) -> 1060 | CK21: =ROUND(BO21,3) -> 0.526 | CL21: =ROUND(BP21,3) -> 0.737 | CM21: =ROUND(BQ21,3) -> 3.255 | CN21: =BV21-BW21 -> 10.4 | CO21: =CS21 -> 516 | CP21: =CT21 -> 351.3 | CR21: 2007 | CS21: 516 | CT21: 351.3
A22: 33489 | B22: 251 | C22: 16.83 | D22: 5.7 | E22: 10.5 | F22: 1.3 | G22: 76.2 | H22: 53.9 | I22: 1.6 | J22: 5.8 | K22: 0 | L22: -999 | M22: -999 | N22: -999 | O22: -999 | P22: -999 | Q22: 11.1 | R22: 0.683 | S22: =ROUND((0.6105*(EXP((17.273*E22)/(E22+237.3))))*(100-H22)/100,3) -> 0.585 | T22: =IF(V22<V23,L22,0) -> 0 | U22: =IF(T22>0,M22,-999) -> -999 | V22: 199109 | W22: 1991 | Y22: 199301 | Z22: 4.1296774 | AA22: -8.4129032 | AB22: -3.8741935 | AC22: -12.190323 | AD22: 10.1 | AE22: -25.1 | AF22: 86.616129 | AG22: 72.303226 | AH22: 35 | AI22: 8.2 | AJ22: 1.1612903 | AK22: 5.2677419 | AL22: 12.4 | AM22: -999 | AN22: 0.12580645 | AO22: -999 | AP22: -999 | AQ22: 0.34783871 | AR22: 0.15093548 | AS22: 0.819 | AT22: 928 | AU22: -999 | AW22: 2008 | AX22: -999 | AY22: 1.4502732 | AZ22: 7.2144809 | BA22: -3.3811475 | BB22: 30.4 | BC22: -30.1 | BD22: 70.584699 | BE22: 47.396721 | BF22: 718.598 | BG22: 25.27 | BH22: 1079 | BI22: -630.09995 | BJ22: -629.36601 | BK22: 6.91 | BL22: -999 | BM22: 3.2385246 | BN22: -999 | BO22: 0.46493169 | BP22: 0.77362022 | BQ22: 3.611 | BS22: =AW22 -> 2008 | BU22: =ROUND(AY22,1) -> 1.5 | BV22: =ROUND(AZ22,1) -> 7.2 | BW22: =ROUND(BA22,1) -> -3.4 | BX22: =ROUND(BB22,1) -> 30.4 | BY22: =ROUND(BC22,1) -> -30.1 | BZ22: =ROUND(BD22,1) -> 70.6 | CA22: =ROUND(BE22,1) -> 47.4 | CB22: =ROUND(BF22,1) -> 718.6 | ... CD22: =ROUND(BH22,1) -> 1079 | CK22: =ROUND(BO22,3) -> 0.465 | CL22: =ROUND(BP22,3) -> 0.774 | CM22: =ROUND(BQ22,3) -> 3.611 | CN22: =BV22-BW22 -> 10.6 | CO22: =CS22 -> 465 | CP22: =CT22 -> 304.3 | CR22: 2008 | CS22: 465 | CT22: 304.3
A23: 33490 | B23: 252 | C23: 16.59 | D23: 8 | E23: 15.7 | F23: 0.4 | G23: 71.9 | H23: 51.5 | I23: 1.2 | J23: 5.3 | K23: 0 | L23: -999 | M23: -999 | N23: -999 | O23: -999 | P23: -999 | Q23: 10.9 | R23: 0.918 | S23: =ROUND((0.6105*(EXP((17.273*E23)/(E23+237.3))))*(100-H23)/100,3) -> 0.865 | T23: =IF(V23<V24,L23,0) -> 0 | U23: =IF(T23>0,M23,-999) -> -999 | V23: 199109 | W23: 1991 | Y23: 199302 | Z23: 7.8514286 | AA23: -6.7535714 | AB23: -1.225 | AC23: -10.967857 | AD23: 8.3 | AE23: -21.8 | AF23: 74.725 | AG23: 57.792857 | AH23: 30.2 | AI23: 10.5 | AJ23: 1.0678571 | AK23: 4.85 | AL23: 7.7 | AM23: -999 | AN23: 0.067857143 | AO23: -999 | AP23: -999 | AQ23: 0.34203571 | AR23: 0.25660714 | AS23: 0.707 | AT23: 924 | AU23: -999 | AW23: 2009 | AX23: -999 | AY23: 3.1777778 | AZ23: 9.7 | BA23: -2.190535 | BB23: 28.6 | BC23: -27.2 | BD23: 65.833745 | BE23: 40.330041 | BF23: 440.669 | BG23: 24.564 | BH23: 1311 | BI23: 1.0677366 | BJ23: 2.8585597 | BK23: 6.14 | BL23: -999 | BM23: 4.8222222 | BN23: -999 | BO23: 0.47623868 | BP23: 0.98146502 | BQ23: 3.459 | BS23: =AW23 -> 2009 | CR23: 2009 | CS23: 399 | CT23: 296.3
A24: 33491 | B24: 253 | C24: 18.3 | D24: 9.9 | E24: 16.3 | F24: 4.2 | G24: 60.9 | H24: 42 | I24: 1.2 | J24: 5.8 | K24: 0 | L24: -999 | M24: -999 | N24: -999 | O24: -999 | P24: -999 | Q24: 10.8 | R24: 0.777 | S24: =ROUND((0.6105*(EXP((17.273*E24)/(E24+237.3))))*(100-H24)/100,3) -> 1.075 | T24: =IF(V24<V25,L24,0) -> 0 | U24: =IF(T24>0,M24,-999) -> -999 | V24: 199109 | W24: 1991 | Y24: 199303 | Z24: 10.785806 | AA24: -2.6774194 | AB24: 3.116129 | AC24: -7.8354839 | AD24: 9.4 | AE24: -16.7 | AF24: 73.564516 | AG24: 51.212903 | AH24: 31.3 | AI24: 12.2 | AJ24: 1.3709677 | AK24: 5.7419355 | AL24: 10.1 | AM24: -999 | AN24: 0 | AO24: -999 | AP24: -999 | AQ24: 0.39680645 | AR24: 0.37748387 | AS24: 0.666 | AT24: 837 | AU24: -999 | AW24: Grand Total | AX24: -264.4647 | AY24: 2.3035991 | AZ24: 7.9931207 | BA24: -2.4931663 | BB24: 31.3 | BC24: -31.6 | BD24: 75.590099 | BE24: 53.281109 | BF24: 13173.967 | BG24: 40.7 | BH24: 1504 | BI24: -322.97127 | BJ24: -320.97378 | BK24: 17.8 | BL24: -570.21432 | BM24: -630.71845 | BN24: -861.7942 | BO24: 0.55346424 | BP24: 0.73139499 | BQ24: 4.053 | CR24: Grand Total | CS24: 9103 | CT24: 6223.9
A25: 33492 | B25: 254 | C25: 18.01 | D25: 12 | E25: 19.5 | F25: 5.5 | G25: 56.9 | H25: 37.1 | I25: 1.2 | J25: 5 | K25: 0 | L25: -999 | M25: -999 | N25: -999 | O25: -999 | P25: -999 | Q25: 10.7 | R25: 0.841 | S25: =ROUND((0.6105*(EXP((17.273*E25)/(E25+237.3))))*(100-H25)/100,3) -> 1.425 | T25: =IF(V25<V26,L25,0) -> 0 | U25: =IF(T25>0,M25,-999) -> -999 | V25: 199109 | W25: 1991 | Y25: 199304 | Z25: 13.174333 | AA25: -0.063333333 | AB25: 4.8666667 | AC25: -4.12 | AD25: 9.2 | AE25: -8.4 | AF25: 86.296667 | AG25: 63.54 | AH25: 63.9 | AI25: 15 | AJ25: 1.4 | AK25: 5.84 | AL25: 9.1 | AM25: -999 | AN25: -0.02 | AO25: -999 | AP25: -999 | AQ25: 0.54126667 | AR25: 0.3306 | AS25: 0.722 | AT25: 672 | AU25: -999
A26: 33493 | B26: 255 | C26: 16.27 | D26: 12.8 | E26: 19 | F26: 7.8 | G26: 54.7 | H26: 38.8 | I26: 1.3 | J26: 5.8 | K26: 0 | L26: -999 | M26: -999 | N26: -999 | O26: -999 | P26: -999 | Q26: 10.8 | R26: 0.851 | S26: =ROUND((0.6105*(EXP((17.273*E26)/(E26+237.3))))*(100-H26)/100,3) -> 1.344 | T26: =IF(V26<V27,L26,0) -> 0 | U26: =IF(T26>0,M26,-999) -> -999 | V26: 199109 | W26: 1991 | Y26: 199305 | Z26: 20.799677 | AA26: 9.1129032 | AB26: 15.067742 | AC26: 2.7032258 | AD26: 25.6 | AE26: -4.6 | AF26: 62.167742 | AG26: 39.877419 | AH26: 49.1 | AI26: 8 | AJ26: 1.5935484 | AK26: 6.1774194 | AL26: 9.4 | AM26: -999 | AN26: 7.3129032 | AO26: -999 | AP26: -999 | AQ26: 0.63706452 | AR26: 1.1999032 | AS26: 2.855 | AT26: 0 | AU26: -999
A27: 33494 | B27: 256 | C27: 7.53 | D27: 4.8 | E27: 8.5 | F27: 1.8 | G27: 79.7 | H27: 66.2 | I27: 2 | J27: 8 | K27: 1 | L27: -999 | M27: -999 | N27: -999 | O27: -999 | P27: -999 | Q27: 10.8 | R27: 0.734 | S27: =ROUND((0.6105*(EXP((17.273*E27)/(E27+237.3))))*(100-H27)/100,3) -> 0.375 | T27: =IF(V27<V28,L27,0) -> 0 | U27: =IF(T27>0,M27,-999) -> -999 | V27: 199109 | W27: 1991 | Y27: 199306 | Z27: 16.813 | AA27: 7.4766667 | AB27: 13.273333 | AC27: 2.1 | AD27: 20.5 | AE27: -1.6 | AF27: 78.25 | AG27: 54.983333 | AH27: 116.8 | AI27: 20.6 | AJ27: 1.2066667 | AK27: 5.53 | AL27: 10.3 | AM27: -999 | AN27: 10.846667 | AO27: -999 | AP27: -999 | AQ27: 0.79583333 | AR27: 0.787 | AS27: 1.975 | AT27: 0 | AU27: -999
A28: 33495 | B28: 257 | C28: 18.81 | D28: 6.1 | E28: 13.6 | F28: 0.5 | G28: 71.8 | H28: 43.7 | I28: 1.3 | J28: 5.7 | K28: 0 | L28: -999 | M28: -999 | N28: -999 | O28: -999 | P28: -999 | Q28: 10.4 | R28: 0.681 | S28: =ROUND((0.6105*(EXP((17.273*E28)/(E28+237.3))))*(100-H28)/100,3) -> 0.877 | T28: =IF(V28<V29,L28,0) -> 0 | U28: =IF(T28>0,M28,-999) -> -999 | V28: 199109 | W28: 1991 | Y28: 199307 | Z28: 15.970968 | AA28: 8.2677419 | AB28: 14.274194 | AC28: 3.5064516 | AD28: 20.1 | AE28: 0.5 | AF28: 84.648387 | AG28: 62.019355 | AH28: 173.5 | AI28: 32 | AJ28: 0.8483871 | AK28: 4.8548387 | AL28: 8.7 | AM28: -999 | AN28: -542.4129 | AO28: -999 | AP28: -999 | AQ28: 0.98845161 | AR28: 0.65651613 | AS28: 1.39 | AT28: 0 | AU28: -999
A29: 33496 | B29: 258 | C29: 18.56 | D29: 9.8 | E29: 16.9 | F29: 2 | G29: 64.6 | H29: 46.9 | I29: 1 | J29: 4 | K29: 0 | L29: -999 | M29: -999 | N29: -999 | O29: -999 | P29: -999 | Q29: 10.2 | R29: 0.905 | S29: =ROUND((0.6105*(EXP((17.273*E29)/(E29+237.3))))*(100-H29)/100,3) -> 1.022 | T29: =IF(V29<V30,L29,0) -> 0 | U29: =IF(T29>0,M29,-999) -> -999 | V29: 199109 | W29: 1991 | Y29: 199308 | Z29: 17.93871 | AA29: 10.5 | AB29: 16.848387 | AC29: 4.6548387 | AD29: 22.1 | AE29: 0.1 | AF29: 73.635484 | AG29: 50.041935 | AH29: 48.5 | AI29: 18.8 | AJ29: 0.85483871 | AK29: 4.7516129 | AL29: 7 | AM29: -999 | AN29: -509.6 | AO29: -999 | AP29: -999 | AQ29: 0.93158065 | AR29: 1.0501935 | AS29: 1.819 | AT29: 0 | AU29: -999
A30: 33497 | B30: 259 | C30: 16.2 | D30: 10.2 | E30: 15.5 | F30: 6.6 | G30: 64.9 | H30: 46.7 | I30: 1.3 | J30: 6.8 | K30: 0 | L30: -999 | M30: -999 | N30: -999 | O30: -999 | P30: -999 | Q30: 10.3 | R30: 0.821 | S30: =ROUND((0.6105*(EXP((17.273*E30)/(E30+237.3))))*(100-H30)/100,3) -> 0.938 | T30: =IF(V30<V31,L30,0) -> 0 | U30: =IF(T30>0,M30,-999) -> -999 | V30: 199109 | W30: 1991 | Y30: 199309 | Z30: 15.105667 | AA30: 8.8866667 | AB30: 15.846667 | AC30: 2.9666667 | AD30: 24.2 | AE30: -2.6 | AF30: 62.396667 | AG30: 39.42 | AH30: 17.2 | AI30: 7 | AJ30: 0.75 | AK30: 4.2133333 | AL30: 8.2 | AM30: -999 | AN30: 9.86 | AO30: -999 | AP30: -999 | AQ30: 0.65826667 | AR30: 1.251 | AS30: 2.533 | AT30: 0 | AU30: -999
A31: 33498 | B31: 260 | C31: 17.81 | D31: 9.9 | E31: 16.5 | F31: 1.6 | G31: 64.7 | H31: 48.3 | I31: 1.3 | J31: 3.9 | K31: 0 | L31: -999 | M31: -999 | N31: -999 | O31: -999 | P31: -999 | Q31: 10.3 | R31: 0.908 | S31: =ROUND((0.6105*(EXP((17.273*E31)/(E31+237.3))))*(100-H31)/100,3) -> 0.97 | T31: =IF(V31<V32,L31,0) -> 0 | U31: =IF(T31>0,M31,-999) -> -999 | V31: 199109 | W31: 1991 | Y31: 199310 | Z31: 8.1893548 | AA31: 4.0032258 | AB31: 9.5967742 | AC31: -0.84516129 | AD31: 20.9 | AE31: -6.2 | AF31: 73.225806 | AG31: 51.516129 | AH31: 44.9 | AI31: 13 | AJ31: 0.64516129 | AK31: 3.8677419 | AL31: 9.2 | AM31: -999 | AN31: 4.2645161 | AO31: -999 | AP31: -999 | AQ31: 0.59435484 | AR31: 0.67645161 | AS31: 1.543 | AT31: 50 | AU31: -999
A32: 33499 | B32: 261 | C32: 17.79 | D32: 12.4 | E32: 19.9 | F32: 7.4 | G32: 53.9 | H32: 35.3 | I32: 1.1 | J32: 3.6 | K32: 0 | L32: -999 | M32: -999 | N32: -999 | O32: -999 | P32: -999 | Q32: 10.4 | R32: 0.822 | S32: =ROUND((0.6105*(EXP((17.273*E32)/(E32+237.3))))*(100-H32)/100,3) -> 1.503 | T32: =IF(V32<V33,L32,0) -> 0 | U32: =IF(T32>0,M32,-999) -> -999 | V32: 199109 | W32: 1991 | Y32: 199311 | Z32: 4.0903333 | AA32: -5.44 | AB32: -0.72 | AC32: -9.6266667 | AD32: 6.8 | AE32: -25.2 | AF32: 79.133333 | AG32: 58.176667 | AH32: 51.8 | AI32: 19.5 | AJ32: 0.90333333 | AK32: 4.6366667 | AL32: 8.3 | AM32: -999 | AN32: -0.13 | AO32: -999 | AP32: -999 | AQ32: 0.33553333 | AR32: 0.26816667 | AS32: 0.666 | AT32: 150 | AU32: -999
A33: 33500 | B33: 262 | C33: 17.84 | D33: 13.4 | E33: 20.1 | F33: 5.5 | G33: 47 | H33: 31.3 | I33: 1.1 | J33: 4.7 | K33: 0 | L33: -999 | M33: -999 | N33: -999 | O33: -999 | P33: -999 | Q33: 10.6 | R33: 0.738 | S33: =ROUND((0.6105*(EXP((17.273*E33)/(E33+237.3))))*(100-H33)/100,3) -> 1.616 | T33: =IF(V33<V34,L33,0) -> 0 | U33: =IF(T33>0,M33,-999) -> -999 | V33: 199109 | W33: 1991 | Y33: 199312 | Z33: 2.3532258 | AA33: -4.5870968 | AB33: -0.43225806 | AC33: -8.1225806 | AD33: 8.1 | AE33: -17 | AF33: 84.283871 | AG33: 67.796774 | AH33: 63.5 | AI33: 15.2 | AJ33: 1.1096774 | AK33: 5.3322581 | AL33: 12.1 | AM33: -999 | AN33: -0.15806452 | AO33: -999 | AP33: -999 | AQ33: 0.38977419 | AR33: 0.21974194 | AS33: 0.856 | AT33: 671 | AU33: -999
A34: 33501 | B34: 263 | C34: 8.1 | D34: 5 | E34: 9.7 | F34: -0.5 | G34: 59 | H34: 46.1 | I34: 1.4 | J34: 5.2 | K34: 0 | L34: -999 | M34: -999 | N34: -999 | O34: -999 | P34: -999 | Q34: 10.6 | R34: 0.555 | S34: =ROUND((0.6105*(EXP((17.273*E34)/(E34+237.3))))*(100-H34)/100,3) -> 0.648 | T34: =IF(V34<V35,L34,0) -> 0 | U34: =IF(T34>0,M34,-999) -> -999 | V34: 199109 | W34: 1991 | Y34: 199401 | Z34: 2.976129 | AA34: -2.7774194 | AB34: 0.41290323 | AC34: -5.3548387 | AD34: 8.2 | AE34: -12.4 | AF34: 86.474194 | AG34: 70.709677 | AH34: 37.1 | AI34: 13.1 | AJ34: 1.1967742 | AK34: 5.4225806 | AL34: 8.8 | AM34: -999 | AN34: 0.04516129 | AO34: -999 | AP34: -999 | AQ34: 0.44196774 | AR34: 0.20354839 | AS34: 0.533 | AT34: 659 | AU34: -999
A35: 33502 | B35: 264 | C35: 14.67 | D35: 1.8 | E35: 8.5 | F35: -3.1 | G35: 62.6 | H35: 44.6 | I35: 1.6 | J35: 7 | K35: 0 | L35: -999 | M35: -999 | N35: -999 | O35: -999 | P35: -999 | Q35: 10 | R35: 0.495 | S35: =ROUND((0.6105*(EXP((17.273*E35)/(E35+237.3))))*(100-H35)/100,3) -> 0.615 | T35: =IF(V35<V36,L35,0) -> 0 | U35: =IF(T35>0,M35,-999) -> -999 | V35: 199109 | W35: 1991 | Y35: 199402 | Z35: 5.6025 | AA35: -7.425 | AB35: -2.9964286 | AC35: -11.835714 | AD35: 3.4 | AE35: -24.5 | AF35: 82.760714 | AG35: 64.632143 | AH35: 87.3 | AI35: 32.8 | AJ35: 1.3642857 | AK35: 5.7285714 | AL35: 10.5 | AM35: -999 | AN35: -0.014285714 | AO35: -999 | AP35: -999 | AQ35: 0.32364286 | AR35: 0.18789286 | AS35: 0.501 | AT35: 1142 | AU35: -999
A36: 33503 | B36: 265 | C36: 8.32 | D36: 2.9 | E36: 9.3 | F36: -3.3 | G36: 67.8 | H36: 40.9 | I36: 1.4 | J36: 7.7 | K36: 0.8 | L36: -999 | M36: -999 | N36: -999 | O36: -999 | P36: -999 | Q36: 9.5 | R36: 0.479 | S36: =ROUND((0.6105*(EXP((17.273*E36)/(E36+237.3))))*(100-H36)/100,3) -> 0.692 | T36: =IF(V36<V37,L36,0) -> 0 | U36: =IF(T36>0,M36,-999) -> -999 | V36: 199109 | W36: 1991 | Y36: 199403 | Z36: 12.212903 | AA36: -0.98064516 | AB36: 5.0387097 | AC36: -6.2290323 | AD36: 16.1 | AE36: -14.9 | AF36: 62.045161 | AG36: 37.570968 | AH36: 30.2 | AI36: 6.6 | AJ36: 1.2129032 | AK36: 5.3483871 | AL36: 9.6 | AM36: -999 | AN36: -0.012903226 | AO36: -999 | AP36: -999 | AQ36: 0.31670968 | AR36: 0.61967742 | AS36: 1.555 | AT36: 744 | AU36: -999
... A221: 33688 | B221: 85 | C221: 18.32 | D221: 4.1 | E221: 11.7 | F221: -2.6 | G221: 53.7 | H221: 26.2 | I221: 1.2 | J221: 4.3 | K221: 0 | L221: -999 | M221: -999 | N221: -999 | O221: -999 | P221: -999 | Q221: 1.2 | R221: 0.36 | S221: =ROUND((0.6105*(EXP((17.273*E221)/(E221+237.3))))*(100-H221)/100,3) -> 1.014 | T221: =IF(V221<V222,L221,0) -> 0 | U221: =IF(T221>0,M221,-999) -> -999 | V221: 199203 | W221: 1992 | Y221: 200908 | Z221: -999 | AA221: 13.396774 | AB221: 20.629032 | AC221: 6.7354839 | AD221: 28.6 | AE221: -0.1 | AF221: 59.3 | AG221: 34.274194 | AH221: 46.458 | AI221: 24.564 | AJ221: 0.9483871 | AK221: 2.6303226 | AL221: 3.7 | AM221: -999 | AN221: -999 | AO221: 12.177419 | AP221: -999 | AQ221: 0.76487097 | AR221: 1.7723548 | AS221: 3.459 | AT221: 0 | AU221: -999
A222: 33689 | B222: 86 | C222: 18.19 | D222: 4.1 | E222: 10.3 | F222: -2.1 | G222: 59.2 | H222: 41 | I222: 1.3 | J222: 5.2 | K222: 5.8 | L222: -999 | M222: -999 | N222: -999 | O222: -999 | P222: -999 | Q222: 1.2 | R222: 0.515 | S222: =ROUND((0.6105*(EXP((17.273*E222)/(E222+237.3))))*(100-H222)/100,3) -> 0.739 | T222: =IF(V222<V223,L222,0) -> 0 | U222: =IF(T222>0,M222,-999) -> -999 | V222: 199203 | W222: 1992 | Y222: Grand Total | Z222: -264.4647 | AA222: 2.3035991 | AB222: 7.9931207 | AC222: -2.4931663 | AD222: 31.3 | AE222: -31.6 | AF222: 75.590099 | AG222: 53.281109 | AH222: 13173.967 | AI222: 40.7 | AJ222: -322.97127 | AK222: -320.97378 | AL222: 17.8 | AM222: -570.21432 | AN222: -396.06372 | AO222: -630.71845 | AP222: -861.7942 | AQ222: 0.55346424 | AR222: 0.73139499 | AS222: 4.053 | AT222: 1284 | AU222: 1
A223: 33690 | B223: 87 | C223: 9.1 | D223: -3.4 | E223: 1.3 | F223: -9.3 | G223: 81.2 | H223: 59.6 | I223: 1.5 | J223: 7.1 | K223: 0 | L223: -999 | M223: -999 | N223: -999 | O223: -999 | P223: -999 | Q223: 1.2 | R223: 0.4 | S223: =ROUND((0.6105*(EXP((17.273*E223)/(E223+237.3))))*(100-H223)/100,3) -> 0.271 | T223: =IF(V223<V224,L223,0) -> 0 | U223: =IF(T223>0,M223,-999) -> -999 | V223: 199203 | W223: 1992
A224: 33691 | B224: 88 | C224: 17.63 | D224: -4.3 | E224: 3.4 | F224: -10.9 | G224: 51.7 | H224: 30.5 | I224: 1.3 | J224: 4.4 | K224: 0 | L224: -999 | M224: -999 | N224: -999 | O224: -999 | P224: -999 | Q224: 1.2 | R224: 0.238 | S224: =ROUND((0.6105*(EXP((17.273*E224)/(E224+237.3))))*(100-H224)/100,3) -> 0.542 | T224: =IF(V224<V225,L224,0) -> 0 | U224: =IF(T224>0,M224,-999) -> -999 | V224: 199203 | W224: 1992
...

Sheet Monthly
A1: Monthly data | AE1: Select variable
A2: Last edit 5/11/19 | Y2: =(1.19-0.0067*Meta!D3) -> 0.8575125 | AE2: 3 | BF2: Lat | BG2: =Meta!D3 -> 49.625 | BH2: sin(Lat) | BI2: @cos(Lat) | BJ2: @tan(lat)
B3: 2 | C3: 3 | D3: 4 | E3: 5 | F3: 6 | G3: 7 | H3: 8 | I3: 9 | J3: 10 | K3: 11 | L3: 12 | M3: 13 | N3: 14 | O3: 15 | P3: 16 | Q3: 17 | R3: 18 | S3: 19 | T3: 20 | U3: 21 | V3: 22 | W3: 23 | X3: 24 | Y3: 25 | Z3: 26 | BF3: Solar lookup table | BH3: =SIN(BG2*0.01745) -> 0.76171518 | BI3: =COS(BG2*0.01745) -> 0.64791202 | BJ3: =TAN(0.01745*BG2) -> 1.175646
A4: YrMn | B4: Solar | C4: Tav | D4: Tmax | E4: Tmin | F4: Txmax | G4: Tmin | H4: Rhav | I4: Rhmin | J4: PPT | K4: 1dXppt | L4: Wind | M4: WindX | N4: WindXX | O4: Tsoil005 | P4: Tsoil5 | Q4: Tsoil20 | R4: Tsoil50 | S4: Vapres | T4: vpdX | U4: vpdXx | V4: SoG | W4: Tsog | X4: Trange | Y4: Eref | Z4: CMD | AA4: Month | AB4: Year | AD4: Year | AE4: 1 | AF4: 2 | AG4: 3 | AH4: 4 | AI4: 5 | AJ4: 6 | AK4: 7 | AL4: 8 | AM4: 9 | AN4: 10 | AO4: 11 | AP4: 12 | BF4: Month | BG4: DoM | BH4: Dim | BI4: Declination | BJ4: RelDistSun | BK4: Scratch | BL4: SunsetHrAngle | BM4: daylength | BN4: SolarTop | BO4: d*So
A5: =Data!Y5 -> 199108 | AA5: 8 | AB5: 1991 | AD5: 1991 | AM5: =VLOOKUP(AZ5,$A$5:$AA$221,$AE$2) -> 9.6 | AN5: =VLOOKUP(BA5,$A$5:$AA$221,$AE$2) -> 1.7 | AO5: =VLOOKUP(BB5,$A$5:$AA$221,$AE$2) -> -3.8 | AP5: =VLOOKUP(BC5,$A$5:$AA$221,$AE$2) -> -4.1 | AR5: 199101 | AS5: =AR5+1 -> 199102 | AT5: =AS5+1 -> 199103 | AU5: =AT5+1 -> 199104 | AV5: =AU5+1 -> 199105 | AW5: =AV5+1 -> 199106 | AX5: =AW5+1 -> 199107 | AY5: =AX5+1 -> 199108 | AZ5: =AY5+1 -> 199109 | ... BC5: =BB5+1 -> 199112 | BF5: 1 | BG5: 16 | BH5: 31 | BI5: -0.3681 | BJ5: 1.032 | BK5: =(BJ$5*TAN(BI5)) -> -0.39802066 | BL5: =IF(BK5<-1,0,IF(BK5>1,3.14,ACOS(-BK5))) -> 1.1614381 | BM5: =0.636*BL5 -> 0.73867463 | BN5: =ROUND(15.392*BJ5*(BL5*BH$3*SIN(BI5)+BI$3*COS(BI5)*SIN(BL5)),2) -> 3.75 | BO5: =BH5*BN5 -> 116.25
A6: =Data!Y6 -> 199109 | B6: =ROUND(Data!Z6,2) -> 16.08 | C6: =ROUND(Data!AA6,1) -> 9.6 | D6: =ROUND(Data!AB6,1) -> 16.3 | E6: =ROUND(Data!AC6,1) -> 3.4 | F6: =ROUND(Data!AD6,1) -> 23.1 | G6: =ROUND(Data!AE6,1) -> -3.3 | H6: =ROUND(Data!AF6,1) -> 61.8 | I6: =ROUND(Data!AG6,1) -> 42.4 | J6: =ROUND(Data!AH6,1) -> 2.1 | ... N6: =ROUND(Data!AL6,1) -> 8.6 | R6: =ROUND(Data!AP6,1) -> 10.3 | S6: =ROUND(Data!AQ6,3) -> 0.772 | T6: =ROUND(Data!AR6,3) -> 1.136 | U6: =ROUND(Data!AS6,3) -> 2.146 | X6: =D6-E6 -> 12.9 | Y6: =IF(C6<0,0,ROUND(0.0023*VLOOKUP(AA6,$BF$5:$BO$16,10)*(C6+17.8)*(D6-E6)^0.5*Y$2,0)) -> 61 | Z6: =IF(Y6>F6,Y6-F6,0) -> 37.9 | AA6: 9 | AB6: 1991 | AD6: =AD5+1 -> 1992 | AE6: =VLOOKUP(AR6,$A$5:$AA$221,$AE$2) -> -4 | AF6: =VLOOKUP(AS6,$A$5:$AA$221,$AE$2) -> -0.8 | AG6: =VLOOKUP(AT6,$A$5:$AA$221,$AE$2) -> 1.8 | AH6: =VLOOKUP(AU6,$A$5:$AA$221,$AE$2) -> 1.9 | AI6: =VLOOKUP(AV6,$A$5:$AA$221,$AE$2) -> 7.1 | AJ6: =VLOOKUP(AW6,$A$5:$AA$221,$AE$2) -> 12.6 | AK6: =VLOOKUP(AX6,$A$5:$AA$221,$AE$2) -> 12.1 | AL6: =VLOOKUP(AY6,$A$5:$AA$221,$AE$2) -> 12.5 | ... AP6: =VLOOKUP(BC6,$A$5:$AA$221,$AE$2) -> -9.1 | AR6: =AR5+100 -> 199201 | AS6: =AR6+1 -> 199202 | AT6: =AS6+1 -> 199203 | AU6: =AT6+1 -> 199204 | AV6: =AU6+1 -> 199205 | AW6: =AV6+1 -> 199206 | AX6: =AW6+1 -> 199207 | AY6: =AX6+1 -> 199208 | AZ6: =AY6+1 -> 199209 | ... BC6: =BB6+1 -> 199212 | BF6: 2 | BG6: 46 | BH6: 28 | BI6: -0.2259 | BJ6: 1.023 | BK6: =(BJ$5*TAN(BI6)) -> -0.23717704 | BL6: =IF(BK6<-1,0,IF(BK6>1,3.14,ACOS(-BK6))) -> 1.3313374 | BM6: =0.636*BL6 -> 0.84673058 | BN6: =ROUND(15.392*BJ6*(BL6*BH$3*SIN(BI6)+BI$3*COS(BI6)*SIN(BL6)),2) -> 6.08 | BO6: =BH6*BN6 -> 170.24
A7: =Data!Y7 -> 199110 | B7: =ROUND(Data!Z7,2) -> 8.89 | C7: =ROUND(Data!AA7,1) -> 1.7 | D7: =ROUND(Data!AB7,1) -> 7.5 | E7: =ROUND(Data!AC7,1) -> -3.8 | F7: =ROUND(Data!AD7,1) -> 22.5 | G7: =ROUND(Data!AE7,1) -> -21.7 | H7: =ROUND(Data!AF7,1) -> 66.3 | I7: =ROUND(Data!AG7,1) -> 51.4 | J7: =ROUND(Data!AH7,1) -> 22.5 | ... N7: =ROUND(Data!AL7,1) -> 17.8 | R7: =ROUND(Data!AP7,1) -> 7.2 | S7: =ROUND(Data!AQ7,3) -> 0.506 | T7: =ROUND(Data!AR7,3) -> 0.702 | U7: =ROUND(Data!AS7,3) -> 1.976 | X7: =D7-E7 -> 11.3 | Y7: =IF(C7<0,0,ROUND(0.0023*VLOOKUP(AA7,$BF$5:$BO$16,10)*(C7+17.8)*(D7-E7)^0.5*Y$2,0)) -> 28 | Z7: =IF(Y7>F7,Y7-F7,0) -> 5.5 | AA7: 10 | AB7: 1991 | AD7: =AD6+1 -> 1993 | AE7: =VLOOKUP(AR7,$A$5:$AA$221,$AE$2) -> -8.4 | AF7: =VLOOKUP(AS7,$A$5:$AA$221,$AE$2) -> -6.8 | AG7: =VLOOKUP(AT7,$A$5:$AA$221,$AE$2) -> -2.7 | AH7: =VLOOKUP(AU7,$A$5:$AA$221,$AE$2) -> -0.1 | AI7: =VLOOKUP(AV7,$A$5:$AA$221,$AE$2) -> 9.1 | AJ7: =VLOOKUP(AW7,$A$5:$AA$221,$AE$2) -> 7.5 | AK7: =VLOOKUP(AX7,$A$5:$AA$221,$AE$2) -> 8.3 | AL7: =VLOOKUP(AY7,$A$5:$AA$221,$AE$2) -> 10.5 | ... AP7: =VLOOKUP(BC7,$A$5:$AA$221,$AE$2) -> -4.6 | AR7: =AR6+100 -> 199301 | AS7: =AR7+1 -> 199302 | AT7: =AS7+1 -> 199303 | AU7: =AT7+1 -> 199304 | AV7: =AU7+1 -> 199305 | AW7: =AV7+1 -> 199306 | AX7: =AW7+1 -> 199307 | AY7: =AX7+1 -> 199308 | AZ7: =AY7+1 -> 199309 | ... BC7: =BB7+1 -> 199312 | BF7: 3 | BG7: 75 | BH7: 31 | BI7: -0.0422 | BJ7: 1.01 | BK7: =(BJ$5*TAN(BI7)) -> -0.043576271 | BL7: =IF(BK7<-1,0,IF(BK7>1,3.14,ACOS(-BK7))) -> 1.5272063 | BM7: =0.636*BL7 -> 0.97130318 | BN7: =ROUND(15.392*BJ7*(BL7*BH$3*SIN(BI7)+BI$3*COS(BI7)*SIN(BL7)),2) -> 9.29 | BO7: =BH7*BN7 -> 287.99
A8: =Data!Y8 -> 199111 | B8: =ROUND(Data!Z8,2) -> 2.69 | C8: =ROUND(Data!AA8,1) -> -3.8 | D8: =ROUND(Data!AB8,1) -> -0.5 | E8: =ROUND(Data!AC8,1) -> -6.7 | F8: =ROUND(Data!AD8,1) -> 4.3 | G8: =ROUND(Data!AE8,1) -> -13.8 | H8: =ROUND(Data!AF8,1) -> 85.8 | I8: =ROUND(Data!AG8,1) -> 73.4 | J8: =ROUND(Data!AH8,1) -> 82.5 | ... N8: =ROUND(Data!AL8,1) -> 13.6 | R8: =ROUND(Data!AP8,1) -> 3.2 | S8: =ROUND(Data!AQ8,3) -> 0.443 | T8: =ROUND(Data!AR8,3) -> 0.159 | U8: =ROUND(Data!AS8,3) -> 0.356 | X8: =D8-E8 -> 6.2 | Y8: =IF(C8<0,0,ROUND(0.0023*VLOOKUP(AA8,$BF$5:$BO$16,10)*(C8+17.8)*(D8-E8)^0.5*Y$2,0)) -> 0 | Z8: =IF(Y8>F8,Y8-F8,0) -> 0 | AA8: 11 | AB8: 1991 | AD8: =AD7+1 -> 1994 | AE8: =VLOOKUP(AR8,$A$5:$AA$221,$AE$2) -> -2.8 | AF8: =VLOOKUP(AS8,$A$5:$AA$221,$AE$2) -> -7.4 | AG8: =VLOOKUP(AT8,$A$5:$AA$221,$AE$2) -> -1 | AH8: =VLOOKUP(AU8,$A$5:$AA$221,$AE$2) -> 2.5 | AI8: =VLOOKUP(AV8,$A$5:$AA$221,$AE$2) -> 6.1 | AJ8: =VLOOKUP(AW8,$A$5:$AA$221,$AE$2) -> 8 | AK8: =VLOOKUP(AX8,$A$5:$AA$221,$AE$2) -> 14.8 | AL8: =VLOOKUP(AY8,$A$5:$AA$221,$AE$2) -> 12.8 | ... AP8: =VLOOKUP(BC8,$A$5:$AA$221,$AE$2) -> -6.8 | AR8: =AR7+100 -> 199401 | AS8: =AR8+1 -> 199402 | AT8: =AS8+1 -> 199403 | AU8: =AT8+1 -> 199404 | AV8: =AU8+1 -> 199405 | AW8: =AV8+1 -> 199406 | AX8: =AW8+1 -> 199407 | AY8: =AX8+1 -> 199408 | AZ8: =AY8+1 -> 199409 | ... BC8: =BB8+1 -> 199412 | BF8: 4 | BG8: 105 | BH8: 30 | BI8: 0.1706 | BJ8: 0.992 | BK8: =(BJ$5*TAN(BI8)) -> 0.17778735 | BL8: =IF(BK8<-1,0,IF(BK8>1,3.14,ACOS(-BK8))) -> 1.7495339 | BM8: =0.636*BL8 -> 1.1127035 | BN8: =ROUND(15.392*BJ8*(BL8*BH$3*SIN(BI8)+BI$3*COS(BI8)*SIN(BL8)),2) -> 13.05 | BO8: =BH8*BN8 -> 391.5
A9: =Data!Y9 -> 199112 | B9: =ROUND(Data!Z9,2) -> 2.11 | C9: =ROUND(Data!AA9,1) -> -4.1 | D9: =ROUND(Data!AB9,1) -> -1 | E9: =ROUND(Data!AC9,1) -> -7.1 | F9: =ROUND(Data!AD9,1) -> 5.6 | G9: =ROUND(Data!AE9,1) -> -14.3 | H9: =ROUND(Data!AF9,1) -> 82.6 | I9: =ROUND(Data!AG9,1) -> 71.7 | J9: =ROUND(Data!AH9,1) -> 31 | ... N9: =ROUND(Data!AL9,1) -> 12.1 | R9: =ROUND(Data!AP9,1) -> 2.3 | S9: =ROUND(Data!AQ9,3) -> 0.406 | T9: =ROUND(Data!AR9,3) -> 0.173 | U9: =ROUND(Data!AS9,3) -> 0.525 | X9: =D9-E9 -> 6.1 | Y9: =IF(C9<0,0,ROUND(0.0023*VLOOKUP(AA9,$BF$5:$BO$16,10)*(C9+17.8)*(D9-E9)^0.5*Y$2,0)) -> 0 | Z9: =IF(Y9>F9,Y9-F9,0) -> 0 | AA9: 12 | AB9: 1991 | AD9: =AD8+1 -> 1995 | AE9: =VLOOKUP(AR9,$A$5:$AA$221,$AE$2) -> -3.8 | AF9: =VLOOKUP(AS9,$A$5:$AA$221,$AE$2) -> -4.3 | AG9: =VLOOKUP(AT9,$A$5:$AA$221,$AE$2) -> -3.1 | AH9: =VLOOKUP(AU9,$A$5:$AA$221,$AE$2) -> 0 | AI9: =VLOOKUP(AV9,$A$5:$AA$221,$AE$2) -> 6.8 | AJ9: =VLOOKUP(AW9,$A$5:$AA$221,$AE$2) -> 9.2 | AK9: =VLOOKUP(AX9,$A$5:$AA$221,$AE$2) -> 11.6 | AL9: =VLOOKUP(AY9,$A$5:$AA$221,$AE$2) -> 8.7 | ... AP9: =VLOOKUP(BC9,$A$5:$AA$221,$AE$2) -> -6.8 | AR9: =AR8+100 -> 199501 | AS9: =AR9+1 -> 199502 | AT9: =AS9+1 -> 199503 | AU9: =AT9+1 -> 199504 | AV9: =AU9+1 -> 199505 | AW9: =AV9+1 -> 199506 | AX9: =AW9+1 -> 199507 | AY9: =AX9+1 -> 199508 | AZ9: =AY9+1 -> 199509 | ... BC9: =BB9+1 -> 199512 | BF9: 5 | BG9: 135 | BH9: 31 | BI9: 0.332 | BJ9: 0.977 | BK9: =(BJ$5*TAN(BI9)) -> 0.3557934 | BL9: =IF(BK9<-1,0,IF(BK9>1,3.14,ACOS(-BK9))) -> 1.9345592 | BM9: =0.636*BL9 -> 1.2303797 | BN9: =ROUND(15.392*BJ9*(BL9*BH$3*SIN(BI9)+BI$3*COS(BI9)*SIN(BL9)),2) -> 15.83 | BO9: =BH9*BN9 -> 490.73
A10: =Data!Y10 -> 199201 | B10: =ROUND(Data!Z10,2) -> 2.55 | C10: =ROUND(Data!AA10,1) -> -4 | D10: =ROUND(Data!AB10,1) -> -0.4 | E10: =ROUND(Data!AC10,1) -> -7 | F10: =ROUND(Data!AD10,1) -> 5.7 | G10: =ROUND(Data!AE10,1) -> -17.2 | H10: =ROUND(Data!AF10,1) -> 87.8 | I10: =ROUND(Data!AG10,1) -> 74.7 | J10: =ROUND(Data!AH10,1) -> 60.2 | ... N10: =ROUND(Data!AL10,1) -> 12.8 | R10: =ROUND(Data!AP10,1) -> 1.8 | S10: =ROUND(Data!AQ10,3) -> 0.442 | T10: =ROUND(Data!AR10,3) -> 0.163 | U10: =ROUND(Data!AS10,3) -> 0.467 | X10: =D10-E10 -> 6.6 | Y10: =IF(C10<0,0,ROUND(0.0023*VLOOKUP(AA10,$BF$5:$BO$16,10)*(C10+17.8)*(D10-E10)^0.5*Y$2,0)) -> 0 | Z10: =IF(Y10>F10,Y10-F10,0) -> 0 | AA10: 1 | AB10: 1992 | AD10: =AD9+1 -> 1996 | AE10: =VLOOKUP(AR10,$A$5:$AA$221,$AE$2) -> -9.5 | AF10: =VLOOKUP(AS10,$A$5:$AA$221,$AE$2) -> -5.2 | AG10: =VLOOKUP(AT10,$A$5:$AA$221,$AE$2) -> -3.6 | AH10: =VLOOKUP(AU10,$A$5:$AA$221,$AE$2) -> 0.9 | AI10: =VLOOKUP(AV10,$A$5:$AA$221,$AE$2) -> 1.8 | AJ10: =VLOOKUP(AW10,$A$5:$AA$221,$AE$2) -> 7.7 | AK10: =VLOOKUP(AX10,$A$5:$AA$221,$AE$2) -> 13.6 | AL10: =VLOOKUP(AY10,$A$5:$AA$221,$AE$2) -> 12.8 | ... AP10: =VLOOKUP(BC10,$A$5:$AA$221,$AE$2) -> -9.6 | AR10: =AR9+100 -> 199601 | AS10: =AR10+1 -> 199602 | AT10: =AS10+1 -> 199603 | AU10: =AT10+1 -> 199604 | AV10: =AU10+1 -> 199605 | AW10: =AV10+1 -> 199606 | AX10: =AW10+1 -> 199607 | AY10: =AX10+1 -> 199608 | AZ10: =AY10+1 -> 199609 | ... BC10: =BB10+1 -> 199612 | BF10: 6 | BG10: 162 | BH10: 30 | BI10: 0.4076 | BJ10: 0.968 | BK10: =(BJ$5*TAN(BI10)) -> 0.44559779 | BL10: =IF(BK10<-1,0,IF(BK10>1,3.14,ACOS(-BK10))) -> 2.0326382 | BM10: =0.636*BL10 -> 1.2927579 | BN10: =ROUND(15.392*BJ10*(BL10*BH$3*SIN(BI10)+BI$3*COS(BI10)*SIN(BL10)),2) -> 17.08 | BO10: =BH10*BN10 -> 512.4
A11: =Data!Y11 -> 199202 | B11: =ROUND(Data!Z11,2) -> 6.29 | C11: =ROUND(Data!AA11,1) -> -0.8 | D11: =ROUND(Data!AB11,1) -> 4 | E11: =ROUND(Data!AC11,1) -> -4.9 | F11: =ROUND(Data!AD11,1) -> 15.5 | G11: =ROUND(Data!AE11,1) -> -12.3 | H11: =ROUND(Data!AF11,1) -> 81 | I11: =ROUND(Data!AG11,1) -> 65.8 | J11: =ROUND(Data!AH11,1) -> 52.5 | ... N11: =ROUND(Data!AL11,1) -> 14 | R11: =ROUND(Data!AP11,1) -> 1.5 | S11: =ROUND(Data!AQ11,3) -> 0.509 | T11: =ROUND(Data!AR11,3) -> 0.355 | U11: =ROUND(Data!AS11,3) -> 1.294 | X11: =D11-E11 -> 8.9 | Y11: =IF(C11<0,0,ROUND(0.0023*VLOOKUP(AA11,$BF$5:$BO$16,10)*(C11+17.8)*(D11-E11)^0.5*Y$2,0)) -> 0 | Z11: =IF(Y11>F11,Y11-F11,0) -> 0 | AA11: 2 | AB11: 1992 | AD11: =AD10+1 -> 1997 | AE11: =VLOOKUP(AR11,$A$5:$AA$221,$AE$2) -> -6.5 | AF11: =VLOOKUP(AS11,$A$5:$AA$221,$AE$2) -> -5.3 | AG11: =VLOOKUP(AT11,$A$5:$AA$221,$AE$2) -> -3.6 | AH11: =VLOOKUP(AU11,$A$5:$AA$221,$AE$2) -> -0.6 | AI11: =VLOOKUP(AV11,$A$5:$AA$221,$AE$2) -> 6 | AJ11: =VLOOKUP(AW11,$A$5:$AA$221,$AE$2) -> 7.7 | AK11: =VLOOKUP(AX11,$A$5:$AA$221,$AE$2) -> 11.1 | AL11: =VLOOKUP(AY11,$A$5:$AA$221,$AE$2) -> 12.7 | ... AP11: =VLOOKUP(BC11,$A$5:$AA$221,$AE$2) -> -4.8 | AR11: =AR10+100 -> 199701 | AS11: =AR11+1 -> 199702 | AT11: =AS11+1 -> 199703 | AU11: =AT11+1 -> 199704 | AV11: =AU11+1 -> 199705 | AW11: =AV11+1 -> 199706 | AX11: =AW11+1 -> 199707 | AY11: =AX11+1 -> 199708 | AZ11: =AY11+1 -> 199709 | ... BC11: =BB11+1 -> 199712 | BF11: 7 | BG11: 199 | BH11: 31 | BI11: 0.373 | BJ11: 0.968 | BK11: =(BJ$5*TAN(BI11)) -> 0.4038407 | BL11: =IF(BK11<-1,0,IF(BK11>1,3.14,ACOS(-BK11))) -> 1.9865076 | BM11: =0.636*BL11 -> 1.2634188 | BN11: =ROUND(15.392*BJ11*(BL11*BH$3*SIN(BI11)+BI$3*COS(BI11)*SIN(BL11)),2) -> 16.44 | BO11: =BH11*BN11 -> 509.64
A12: =Data!Y12 -> 199203 | B12: =ROUND(Data!Z12,2) -> 13.21 | C12: =ROUND(Data!AA12,1) -> 1.8 | D12: =ROUND(Data!AB12,1) -> 8.3 | E12: =ROUND(Data!AC12,1) -> -3.5 | F12: =ROUND(Data!AD12,1) -> 14.4 | G12: =ROUND(Data!AE12,1) -> -10.9 | H12: =ROUND(Data!AF12,1) -> 64 | I12: =ROUND(Data!AG12,1) -> 43 | J12: =ROUND(Data!AH12,1) -> 29.9 | ... N12: =ROUND(Data!AL12,1) -> 9.2 | R12: =ROUND(Data!AP12,1) -> 1.3 | S12: =ROUND(Data!AQ12,3) -> 0.447 | T12: =ROUND(Data!AR12,3) -> 0.674 | U12: =ROUND(Data!AS12,3) -> 1.293 | X12: =D12-E12 -> 11.8 | Y12: =IF(C12<0,0,ROUND(0.0023*VLOOKUP(AA12,$BF$5:$BO$16,10)*(C12+17.8)*(D12-E12)^0.5*Y$2,0)) -> 38 | Z12: =IF(Y12>F12,Y12-F12,0) -> 23.6 | AA12: 3 | AB12: 1992 | AD12: =AD11+1 -> 1998 | AE12: =VLOOKUP(AR12,$A$5:$AA$221,$AE$2) -> -7.4 | AF12: =VLOOKUP(AS12,$A$5:$AA$221,$AE$2) -> -4 | AG12: =VLOOKUP(AT12,$A$5:$AA$221,$AE$2) -> -2.6 | AH12: =VLOOKUP(AU12,$A$5:$AA$221,$AE$2) -> 1.6 | AI12: =VLOOKUP(AV12,$A$5:$AA$221,$AE$2) -> 7.7 | AJ12: =VLOOKUP(AW12,$A$5:$AA$221,$AE$2) -> 8.5 | AK12: =VLOOKUP(AX12,$A$5:$AA$221,$AE$2) -> 15.1 | AL12: =VLOOKUP(AY12,$A$5:$AA$221,$AE$2) -> 14.6 | ... AP12: =VLOOKUP(BC12,$A$5:$AA$221,$AE$2) -> -8 | AR12: =AR11+100 -> 199801 | AS12: =AR12+1 -> 199802 | AT12: =AS12+1 -> 199803 | AU12: =AT12+1 -> 199804 | AV12: =AU12+1 -> 199805 | AW12: =AV12+1 -> 199806 | AX12: =AW12+1 -> 199807 | AY12: =AX12+1 -> 199808 | AZ12: =AY12+1 -> 199809 | ... BC12: =BB12+1 -> 199812 | BF12: 8 | BG12: 229 | BH12: 31 | BI12: 0.2355 | BJ12: 0.976 | BK12: =(BJ$5*TAN(BI12)) -> 0.24763091 | BL12: =IF(BK12<-1,0,IF(BK12>1,3.14,ACOS(-BK12))) -> 1.8210306 | BM12: =0.636*BL12 -> 1.1581754 | BN12: =ROUND(15.392*BJ12*(BL12*BH$3*SIN(BI12)+BI$3*COS(BI12)*SIN(BL12)),2) -> 14.03 | BO12: =BH12*BN12 -> 434.93
A13: =Data!Y13 -> 199204 | B13: =ROUND(Data!Z13,2) -> 13.63 | C13: =ROUND(Data!AA13,1) -> 1.9 | D13: =ROUND(Data!AB13,1) -> 7.1 | E13: =ROUND(Data!AC13,1) -> -3 | F13: =ROUND(Data!AD13,1) -> 15.7 | G13: =ROUND(Data!AE13,1) -> -11.4 | H13: =ROUND(Data!AF13,1) -> 72.6 | I13: =ROUND(Data!AG13,1) -> 53 | J13: =ROUND(Data!AH13,1) -> 56.2 | ... N13: =ROUND(Data!AL13,1) -> 11.6 | R13: =ROUND(Data!AP13,1) -> 1.4 | S13: =ROUND(Data!AQ13,3) -> 0.54 | T13: =ROUND(Data!AR13,3) -> 0.51 | U13: =ROUND(Data!AS13,3) -> 1.197 | X13: =D13-E13 -> 10.1 | Y13: =IF(C13<0,0,ROUND(0.0023*VLOOKUP(AA13,$BF$5:$BO$16,10)*(C13+17.8)*(D13-E13)^0.5*Y$2,0)) -> 48 | Z13: =IF(Y13>F13,Y13-F13,0) -> 32.3 | AA13: 4 | AB13: 1992 | AD13: =AD12+1 -> 1999 | AE13: =VLOOKUP(AR13,$A$5:$AA$221,$AE$2) -> -5.5 | AF13: =VLOOKUP(AS13,$A$5:$AA$221,$AE$2) -> -6.2 | AG13: =VLOOKUP(AT13,$A$5:$AA$221,$AE$2) -> -3.8 | AH13: =VLOOKUP(AU13,$A$5:$AA$221,$AE$2) -> 0.2 | AI13: =VLOOKUP(AV13,$A$5:$AA$221,$AE$2) -> 2.5 | AJ13: =VLOOKUP(AW13,$A$5:$AA$221,$AE$2) -> 7.9 | AK13: =VLOOKUP(AX13,$A$5:$AA$221,$AE$2) -> 13.4 | AL13: =VLOOKUP(AY13,$A$5:$AA$221,$AE$2) -> 13 | ... AP13: =VLOOKUP(BC13,$A$5:$AA$221,$AE$2) -> -3 | AR13: =AR12+100 -> 199901 | AS13: =AR13+1 -> 199902 | AT13: =AS13+1 -> 199903 | AU13: =AT13+1 -> 199904 | AV13: =AU13+1 -> 199905 | AW13: =AV13+1 -> 199906 | AX13: =AW13+1 -> 199907 | AY13: =AX13+1 -> 199908 | AZ13: =AY13+1 -> 199909 | ... BC13: =BB13+1 -> 199912 | BF13: 9 | BG13: 259 | BH13: 30 | BI13: 0.0327 | BJ13: 0.991 | BK13: =(BJ$5*TAN(BI13)) -> 0.033758433 | BL13: =IF(BK13<-1,0,IF(BK13>1,3.14,ACOS(-BK13))) -> 1.6045612 | BM13: =0.636*BL13 -> 1.0205009 | BN13: =ROUND(15.392*BJ13*(BL13*BH$3*SIN(BI13)+BI$3*COS(BI13)*SIN(BL13)),2) -> 10.48 | BO13: =BH13*BN13 -> 314.4
