Workbook

Sheet Data
A1: Cheng, Dennis and Penticton: 1983/10-1991/08 | H1: *****Note that coloured cells contain formulae***** | AW1: Extreme maximum and minimum emperature
A2: Last edit 14/11/19 | C2: UPC | D2: Cheng | H2: Dennis | L2: Penticton | R2: McCulloch | W2: Solar MJ/m2/d
A3: Date | B3: DoY | C3: Solar | D3: Tave | E3: Tmax | F3: Tmin | G3: Precip | H3: Tave | I3: Tmax | J3: Tmin | K3: Precip | L3: Tave | M3: Tmax | N3: Tmin | O3: Precip | P3: Key | Q3: blnk | R3: Tave | S3: Tmax | T3: Tmin | U3: Precip | W3: Summerland | X3: McCulloch | Z3: Row Labels | AA3: Average of CA | AB3: Average of CX | AC3: Average of CN | AD3: Sum of CP | AE3: Max of CP2 | AF3: Average of DA | AG3: Average of DX | AH3: Average of DN | AI3: Sum of DP | AJ3: Max of DP2 | AK3: Average of PA | AL3: Average of PX | AM3: Average of PN | AN3: Sum of PP | AO3: Max of PP2 | AP3: Average of MA | AQ3: Average of MX | AR3: Average of MN | AS3: Sum of MP | AT3: Max of MP2 | AU3: Average of Solar | AW3: Row Labels | AX3: Max of CX | AY3: Min of CN | AZ3: Max of DX | BA3: Min of DN | BB3: Max of PX | BC3: Min of PN | BD3: Max of MX | BE3: Min of MN
A4: Date | B4: DoY | C4: Solar | D4: CA | E4: CX | F4: CN | G4: CP | H4: DA | I4: DX | J4: DN | K4: DP | L4: PA | M4: PX | N4: PN | O4: PP | P4: Key | Q4: blnk | R4: MA | S4: MX | T4: MN | U4: MP | Z4: 8310 | AA4: 3.0483871 | AB4: 7.6548387 | AC4: -1.5967742 | AD4: 25 | AE4: 9 | AF4: 2.6419355 | AG4: 6.1774194 | AH4: -0.91290323 | AI4: 27 | AJ4: 9 | AK4: 1.816129 | AL4: 4.7806452 | AM4: -1.1774194 | AN4: 28.5 | AO4: 9 | AP4: 3.9612903 | AQ4: 9.1451613 | AR4: -1.2741935 | AS4: 22.7 | AT4: 6.4 | AU4: 7.9703226 | AW4: 8310 | AX4: 12.6 | AY4: -5.5 | AZ4: 12.3 | BA4: -5.8 | BB4: 10.7 | BC4: -5.7 | BD4: 15 | BE4: -8
A5: 30590 | B5: 274 | C5: =IF(W5="",X5,ROUND(0.95*W5,2)) -> 7.38 | D5: =ROUND(AVERAGE(E5:F5),1) -> 2.9 | E5: 10.4 | F5: -4.7 | G5: 0 | H5: =ROUND(AVERAGE(I5:J5),1) -> 2.9 | I5: 9.3 | J5: -3.6 | K5: 0 | L5: =ROUND(AVERAGE(M5:N5),1) -> 2.8 | M5: 8.2 | N5: -2.7 | O5: 0 | P5: 8310 | R5: =ROUND(AVERAGE(S5:T5),1) -> 2.3 | S5: 12.5 | T5: -8 | U5: 0 | X5: 7.38 | Z5: 8311 | AA5: -2.7633333 | AB5: -0.49333333 | AC5: -5.01 | AD5: 58.5 | AE5: 8.5 | AF5: -4.43 | AG5: -2.8766667 | AH5: -5.95 | AI5: 80 | AJ5: 8 | AK5: -4.3633333 | AL5: -2.9566667 | AM5: -5.7133333 | AN5: 80 | AO5: 8 | AP5: -0.13666667 | AQ5: 2.1166667 | AR5: -2.4 | AS5: 127.2 | AT5: 24 | AU5: 3.028 | AW5: 8311 | AX5: 6.7 | AY5: -16.9 | AZ5: 3.3 | BA5: -15.2 | BB5: 3.5 | BC5: -15 | BD5: 9 | BE5: -18
A6: 30591 | B6: 275 | C6: =IF(W6="",X6,ROUND(0.95*W6,2)) -> 8.04 | D6: =ROUND(AVERAGE(E6:F6),1) -> 4.1 | E6: 9.7 | F6: -1.5 | G6: 0 | H6: =ROUND(AVERAGE(I6:J6),1) -> 4.7 | I6: 8.6 | J6: 0.8 | K6: 0 | L6: =ROUND(AVERAGE(M6:N6),1) -> 4.4 | M6: 7.9 | N6: 0.9 | O6: 0 | P6: 8310 | R6: =ROUND(AVERAGE(S6:T6),1) -> 5.5 | S6: 11 | T6: 0 | U6: 0 | X6: 8.04 | Z6: 8312 | AA6: -14.390323 | AB6: -9.4709677 | AC6: -19.258065 | AD6: 119 | AE6: 21 | AF6: -13.425806 | AG6: -10.374194 | AH6: -16.43871 | AI6: 119 | AJ6: 21 | AK6: -14.277419 | AL6: -11.587097 | AM6: -16.925806 | AN6: 119 | AO6: 21 | AP6: -11.712903 | AQ6: -7.516129 | AR6: -15.887097 | AS6: 119 | AT6: 21 | AU6: 2.6180645 | AW6: 8312 | AX6: 1 | AY6: -33.8 | AZ6: -3 | BA6: -30.4 | BB6: -3.8 | BC6: -30.2 | BD6: 1 | BE6: -38
A7: 30592 | B7: 276 | C7: =IF(W7="",X7,ROUND(0.95*W7,2)) -> 9.73 | D7: =ROUND(AVERAGE(E7:F7),1) -> 7.2 | E7: 10.7 | F7: 3.7 | G7: 0 | H7: =ROUND(AVERAGE(I7:J7),1) -> 5.4 | I7: 8.7 | J7: 2.1 | K7: 0 | L7: =ROUND(AVERAGE(M7:N7),1) -> 5.1 | M7: 8.2 | N7: 2 | O7: 0 | P7: 8310 | R7: =ROUND(AVERAGE(S7:T7),1) -> 6 | S7: 12.5 | T7: -0.5 | U7: 0 | X7: 9.73 | Z7: 8401 | AA7: -6.3258065 | AB7: -2.3129032 | AC7: -10.322581 | AD7: 45.1 | AE7: 11 | AF7: -5.683871 | AG7: -2.616129 | AH7: -8.7096774 | AI7: 45.1 | AJ7: 11 | AK7: -6.8580645 | AL7: -4.3870968 | AM7: -9.2935484 | AN7: 45.1 | AO7: 11 | AP7: -5.8774194 | AQ7: -1.4032258 | AR7: -10.322581 | AS7: 67.1 | AT7: 11 | AU7: 2.9122581 | AW7: 8401 | AX7: 7.6 | AY7: -29 | AZ7: 6.3 | BA7: -22.8 | BB7: 4.2 | BC7: -21.5 | BD7: 7.5 | BE7: -31
A8: 30593 | B8: 277 | C8: =IF(W8="",X8,ROUND(0.95*W8,2)) -> 5.89 | D8: =ROUND(AVERAGE(E8:F8),1) -> 5.6 | E8: 7.9 | F8: 3.2 | G8: 0 | H8: =ROUND(AVERAGE(I8:J8),1) -> 3.4 | I8: 5.5 | J8: 1.3 | K8: 0 | L8: =ROUND(AVERAGE(M8:N8),1) -> 2.7 | M8: 4.2 | N8: 1.2 | O8: 0 | P8: 8310 | R8: =ROUND(AVERAGE(S8:T8),1) -> 6.5 | S8: 8 | T8: 5 | U8: 0 | X8: 5.89 | Z8: 8402 | AA8: -5.6586207 | AB8: -2.237931 | AC8: -9.0310345 | AD8: 31 | AE8: 6 | AF8: -5.1793103 | AG8: -2.3689655 | AH8: -7.9586207 | AI8: 31 | AJ8: 6 | AK8: -6.1931034 | AL8: -3.7 | AM8: -8.6586207 | AN8: 31 | AO8: 6 | AP8: -3.5310345 | AQ8: 1.3965517 | AR8: -8.4137931 | AS8: 66 | AT8: 11 | AU8: 5.3193103 | AW8: 8402 | AX8: 3.4 | AY8: -16.3 | AZ8: 10 | BA8: -15 | BB8: 7.1 | BC8: -14.8 | BD8: 9.5 | BE8: -18.5
A9: 30594 | B9: 278 | C9: =IF(W9="",X9,ROUND(0.95*W9,2)) -> 13.32 | D9: =ROUND(AVERAGE(E9:F9),1) -> 3 | E9: 9.4 | F9: -3.5 | G9: 0 | H9: =ROUND(AVERAGE(I9:J9),1) -> 2.7 | I9: 8 | J9: -2.6 | K9: 0 | L9: =ROUND(AVERAGE(M9:N9),1) -> 3.1 | M9: 7.8 | N9: -1.7 | O9: 0 | P9: 8310 | R9: =ROUND(AVERAGE(S9:T9),1) -> 2.8 | S9: 12 | T9: -6.5 | U9: 0 | X9: 13.32 | Z9: 8403 | AA9: -3.4 | AB9: 1.2483871 | AC9: -7.9935484 | AD9: 93.2 | AE9: 23.5 | AF9: -2.6483871 | AG9: -0.083870968 | AH9: -5.1677419 | AI9: 94.2 | AJ9: 23.5 | AK9: -1.983871 | AL9: 0.77741935 | AM9: -4.716129 | AN9: 94.2 | AO9: 23.5 | AP9: -0.22580645 | AQ9: 4.9032258 | AR9: -5.3548387 | AS9: 40.7 | AT9: 9.4 | AU9: 10.431935 | AW9: 8403 | AX9: 8.2 | AY9: -18.8 | AZ9: 6.9 | BA9: -10.5 | BB9: 7.5 | BC9: -9.3 | BD9: 10.5 | BE9: -17
A10: 30595 | B10: 279 | C10: =IF(W10="",X10,ROUND(0.95*W10,2)) -> 10.33 | D10: =ROUND(AVERAGE(E10:F10),1) -> 0.6 | E10: 4.3 | F10: -3.2 | G10: 0 | H10: =ROUND(AVERAGE(I10:J10),1) -> 0.3 | I10: 3.6 | J10: -3.1 | K10: 0 | L10: =ROUND(AVERAGE(M10:N10),1) -> 0.4 | M10: 2.4 | N10: -1.7 | O10: 0 | P10: 8310 | R10: =ROUND(AVERAGE(S10:T10),1) -> 1.3 | S10: 8 | T10: -5.5 | U10: 0 | X10: 10.33 | Z10: 8404 | AA10: -1.0566667 | AB10: 3.74 | AC10: -5.8333333 | AD10: 31.2 | AE10: 4.2 | AF10: -2.07 | AG10: 1.17 | AH10: -5.2666667 | AI10: 31.2 | AJ10: 4.2 | AK10: -1.3166667 | AL10: 2.08 | AM10: -4.6766667 | AN10: 31.2 | AO10: 4.2 | AP10: 1.1233333 | AQ10: 6.3166667 | AR10: -4.0833333 | AS10: 47.4 | AT10: 12.9 | AU10: 14.955333 | AW10: 8404 | AX10: 17 | AY10: -13.5 | AZ10: 13.5 | BA10: -11.1 | BB10: 16.9 | BC10: -10.4 | BD10: 18 | BE10: -11
A11: 30596 | B11: 280 | C11: =IF(W11="",X11,ROUND(0.95*W11,2)) -> 12.04 | D11: =ROUND(AVERAGE(E11:F11),1) -> 1.5 | E11: 8.3 | F11: -5.3 | G11: 0 | H11: =ROUND(AVERAGE(I11:J11),1) -> 0.5 | I11: 6.8 | J11: -5.8 | K11: 0 | L11: =ROUND(AVERAGE(M11:N11),1) -> 0.6 | M11: 5.6 | N11: -4.4 | O11: 0 | P11: 8310 | R11: =ROUND(AVERAGE(S11:T11),1) -> 2 | S11: 11 | T11: -7 | U11: 0 | X11: 12.04 | Z11: 8405 | AA11: 1.583871 | AB11: 5.9903226 | AC11: -2.8516129 | AD11: 98.3 | AE11: 12.3 | AF11: 0.61935484 | AG11: 4.1967742 | AH11: -2.9419355 | AI11: 95.3 | AJ11: 13 | AK11: 0.67741935 | AL11: 4.2709677 | AM11: -2.916129 | AN11: 95.3 | AO11: 13 | AP11: 4.1064516 | AQ11: 9 | AR11: -0.83870968 | AS11: 84.6 | AT11: 12.3 | AU11: 17.110968 | AW11: 8405 | AX11: 20.9 | AY11: -10.1 | AZ11: 16.6 | BA11: -9.4 | BB11: 18.2 | BC11: -8 | BD11: 15.5 | BE11: -8
A12: 30597 | B12: 281 | C12: =IF(W12="",X12,ROUND(0.95*W12,2)) -> 7.5 | D12: =ROUND(AVERAGE(E12:F12),1) -> 3.9 | E12: 10 | F12: -2.2 | G12: 0 | H12: =ROUND(AVERAGE(I12:J12),1) -> 5 | I12: 8.9 | J12: 1.1 | K12: 0 | L12: =ROUND(AVERAGE(M12:N12),1) -> 2.8 | M12: 7.4 | N12: -1.9 | O12: 0 | P12: 8310 | R12: =ROUND(AVERAGE(S12:T12),1) -> 4.8 | S12: 11.5 | T12: -2 | U12: 0 | X12: 7.5 | Z12: 8406 | AA12: 6.98 | AB12: 12.536667 | AC12: 1.3766667 | AD12: 84 | AE12: 12 | AF12: 6.4866667 | AG12: 10.936667 | AH12: 1.9866667 | AI12: 82.5 | AJ12: 14 | AK12: 5.8033333 | AL12: 10.113333 | AM12: 1.45 | AN12: 82.5 | AO12: 14 | AP12: 9.6166667 | AQ12: 15.65 | AR12: 3.5333333 | AS12: 81.4 | AT12: 22.1 | AU12: 19.635 | AW12: 8406 | AX12: 22.7 | AY12: -4.1 | AZ12: 20.7 | BA12: -4.3 | BB12: 21 | BC12: -3.8 | BD12: 25 | BE12: -3.5
A13: 30598 | B13: 282 | C13: =IF(W13="",X13,ROUND(0.95*W13,2)) -> 12.08 | D13: =ROUND(AVERAGE(E13:F13),1) -> 2.2 | E13: 6.2 | F13: -1.9 | G13: 0 | H13: =ROUND(AVERAGE(I13:J13),1) -> 1.4 | I13: 4.7 | J13: -1.9 | K13: 0 | L13: =ROUND(AVERAGE(M13:N13),1) -> 1.7 | M13: 4.1 | N13: -0.8 | O13: 0 | P13: 8310 | R13: =ROUND(AVERAGE(S13:T13),1) -> 4 | S13: 9 | T13: -1 | U13: 0 | X13: 12.08 | Z13: 8407 | AA13: 12.63871 | AB13: 20.525806 | AC13: 4.6935484 | AD13: 14.5 | AE13: 11.5 | AF13: 12.725806 | AG13: 18.990323 | AH13: 6.4258065 | AI13: 34 | AJ13: 20.5 | AK13: 12.119355 | AL13: 17.96129 | AM13: 6.2419355 | AN13: 34 | AO13: 20.5 | AP13: 13.754839 | AQ13: 23.403226 | AR13: 4.0483871 | AS13: 16.1 | AT13: 9.1 | AU13: 24.200645 | AW13: 8407 | AX13: 29.7 | AY13: -2 | AZ13: 26.4 | BA13: 0 | BB13: 27 | BC13: -0.3 | BD13: 30.5 | BE13: -2
A14: 30599 | B14: 283 | C14: =IF(W14="",X14,ROUND(0.95*W14,2)) -> 11.95 | D14: =ROUND(AVERAGE(E14:F14),1) -> 2 | E14: 7.7 | F14: -3.8 | G14: 0 | H14: =ROUND(AVERAGE(I14:J14),1) -> 0.8 | I14: 5.5 | J14: -3.9 | K14: 0 | L14: =ROUND(AVERAGE(M14:N14),1) -> 0.9 | M14: 5 | N14: -3.2 | O14: 0 | P14: 8310 | R14: =ROUND(AVERAGE(S14:T14),1) -> 4.5 | S14: 9 | T14: 0 | U14: 0 | X14: 11.95 | Z14: 8408 | AA14: 12.196774 | AB14: 19.387097 | AC14: 4.9548387 | AD14: 48 | AE14: 15.5 | AF14: 12.022581 | AG14: 17.532258 | AH14: 6.4516129 | AI14: 60.5 | AJ14: 18.5 | AK14: 11.454839 | AL14: 16.745161 | AM14: 6.1096774 | AN14: 60.5 | AO14: 18.5 | AP14: 13.793548 | AQ14: 22.354839 | AR14: 5.1774194 | AS14: 53.8 | AT14: 17 | AU14: 18.619355 | AW14: 8408 | AX14: 27.1 | AY14: -1.8 | AZ14: 24.7 | BA14: -0.9 | BB14: 24.7 | BC14: -1 | BD14: 29.5 | BE14: -2.5
A15: 30600 | B15: 284 | C15: =IF(W15="",X15,ROUND(0.95*W15,2)) -> 12.01 | D15: =ROUND(AVERAGE(E15:F15),1) -> 4 | E15: 10.5 | F15: -2.5 | G15: 0 | H15: =ROUND(AVERAGE(I15:J15),1) -> 4 | I15: 9.5 | J15: -1.5 | K15: 0 | L15: =ROUND(AVERAGE(M15:N15),1) -> 4.3 | M15: 8.5 | N15: 0.1 | O15: 0 | P15: 8310 | R15: =ROUND(AVERAGE(S15:T15),1) -> 2.3 | S15: 11.5 | T15: -7 | U15: 0 | X15: 12.01 | Z15: 8409 | AA15: 5.4566667 | AB15: 11.26 | AC15: -0.38 | AD15: 36.5 | AE15: 15 | AF15: 5.8366667 | AG15: 10.31 | AH15: 1.3233333 | AI15: 35 | AJ15: 16.5 | AK15: 5.3 | AL15: 9.4233333 | AM15: 1.1333333 | AN15: 35 | AO15: 16.5 | AP15: 7.14 | AQ15: 14.023333 | AR15: 0.19333333 | AS15: 35 | AT15: 16.5 | AU15: 13.108 | AW15: 8409 | AX15: 19.7 | AY15: -6.3 | AZ15: 18.9 | BA15: -6 | BB15: 18.2 | BC15: -5.7 | BD15: 23 | BE15: -6.4
A16: 30601 | B16: 285 | C16: =IF(W16="",X16,ROUND(0.95*W16,2)) -> 11.27 | D16: =ROUND(AVERAGE(E16:F16),1) -> 4.8 | E16: 11.2 | F16: -1.7 | G16: 0 | H16: =ROUND(AVERAGE(I16:J16),1) -> 6 | I16: 11.9 | J16: 0 | K16: 0 | L16: =ROUND(AVERAGE(M16:N16),1) -> 5.9 | M16: 10.7 | N16: 1 | O16: 0 | P16: 8310 | R16: =ROUND(AVERAGE(S16:T16),1) -> 5 | S16: 15 | T16: -5 | U16: 0 | W16: 11.86 | X16: 11.97 | Z16: 8410 | AA16: -1.1322581 | AB16: 3.2225806 | AC16: -5.4806452 | AD16: 55 | AE16: 14 | AF16: -0.63548387 | AG16: 2.9677419 | AH16: -4.2290323 | AI16: 55 | AJ16: 14 | AK16: -1.4419355 | AL16: 1.4903226 | AM16: -4.3677419 | AN16: 55 | AO16: 14 | AP16: 1.5258065 | AQ16: 6.8709677 | AR16: -3.8064516 | AS16: 86 | AT16: 20.3 | AU16: 7.6390323 | AW16: 8410 | AX16: 18.5 | AY16: -27.8 | AZ16: 17.6 | BA16: -25.6 | BB16: 16.3 | BC16: -25.2 | BD16: 20.5 | BE16: -22
A17: 30602 | B17: 286 | C17: =IF(W17="",X17,ROUND(0.95*W17,2)) -> 3.51 | D17: =ROUND(AVERAGE(E17:F17),1) -> 4.1 | E17: 8.3 | F17: -0.2 | G17: 0 | H17: =ROUND(AVERAGE(I17:J17),1) -> 4.5 | I17: 6.9 | J17: 2.1 | K17: 0 | L17: =ROUND(AVERAGE(M17:N17),1) -> 4.3 | M17: 6.7 | N17: 1.8 | O17: 0 | P17: 8310 | R17: =ROUND(AVERAGE(S17:T17),1) -> 4 | S17: 10 | T17: -2 | U17: 0 | X17: 3.51 | Z17: 8411 | AA17: -4.71 | AB17: -1.08 | AC17: -8.3 | AD17: 59 | AE17: 8 | AF17: -4.25 | AG17: -1.7966667 | AH17: -6.65 | AI17: 57 | AJ17: 8 | AK17: -6.4966667 | AL17: -4.47 | AM17: -8.4733333 | AN17: 58 | AO17: 8 | AP17: -2.7533333 | AQ17: 0.66666667 | AR17: -6.15 | AS17: 70.4 | AT17: 8 | AU17: 3.624 | AW17: 8411 | AX17: 2.4 | AY17: -18.9 | AZ17: 1.9 | BA17: -16.4 | BB17: -0.4 | BC17: -20 | BD17: 4 | BE17: -14.5
A18: 30603 | B18: 287 | C18: =IF(W18="",X18,ROUND(0.95*W18,2)) -> 2.83 | D18: =ROUND(AVERAGE(E18:F18),1) -> 0.7 | E18: 3.3 | F18: -1.9 | G18: 0 | H18: =ROUND(AVERAGE(I18:J18),1) -> -0.5 | I18: 1.4 | J18: -2.4 | K18: 0 | L18: =ROUND(AVERAGE(M18:N18),1) -> 0.3 | M18: 1.1 | N18: -0.6 | O18: 0 | P18: 8310 | R18: =ROUND(AVERAGE(S18:T18),1) -> 2.5 | S18: 5 | T18: 0 | U18: 1.2 | W18: 2.98 | X18: 3.45 | Z18: 8412 | AA18: -12.306452 | AB18: -8.5258065 | AC18: -16.019355 | AD18: 31.5 | AE18: 4.5 | AF18: -9.9935484 | AG18: -7.3 | AH18: -12.645161 | AI18: 38 | AJ18: 4 | AK18: -10.670968 | AL18: -7.9677419 | AM18: -13.306452 | AN18: 36.5 | AO18: 4.5 | AP18: -12.187097 | AQ18: -7.5483871 | AR18: -16.774194 | AS18: 101.5 | AT18: 23 | AU18: 2.3219355 | AW18: 8412 | AX18: -3.4 | AY18: -26.4 | AZ18: -1 | BA18: -24.9 | BB18: -1.8 | BC18: -25.8 | BD18: -1 | BE18: -33.5
A19: 30604 | B19: 288 | C19: =IF(W19="",X19,ROUND(0.95*W19,2)) -> 10.26 | D19: =ROUND(AVERAGE(E19:F19),1) -> 1.7 | E19: 6 | F19: -2.6 | G19: 0 | H19: =ROUND(AVERAGE(I19:J19),1) -> 0.9 | I19: 4.7 | J19: -2.9 | K19: 0 | L19: =ROUND(AVERAGE(M19:N19),1) -> 0.4 | M19: 4.1 | N19: -3.3 | O19: 0 | P19: 8310 | R19: =ROUND(AVERAGE(S19:T19),1) -> 1.8 | S19: 7.5 | T19: -4 | U19: 0 | W19: 10.8 | X19: 11.09 | Z19: 8501 | AA19: -7.2935484 | AB19: -2.7290323 | AC19: -11.829032 | AD19: 16 | AE19: 8.5 | AF19: -5.3 | AG19: -3.1096774 | AH19: -7.4483871 | AI19: 21.5 | AJ19: 9 | AK19: -4.9387097 | AL19: -2.6935484 | AM19: -7.1548387 | AN19: 14.4 | AO19: 6.5 | AP19: -7.683871 | AQ19: -3.8870968 | AR19: -11.435484 | AS19: 9.4 | AT19: 3.2 | AU19: 2.8132258 | AW19: 8501 | AX19: 4.5 | AY19: -22.1 | AZ19: 5.2 | BA19: -19.1 | BB19: 6.2 | BC19: -17.6 | BD19: 4.5 | BE19: -25
A20: 30605 | B20: 289 | C20: =IF(W20="",X20,ROUND(0.95*W20,2)) -> 10.25 | D20: =ROUND(AVERAGE(E20:F20),1) -> 1.2 | E20: 7 | F20: -4.7 | G20: 0 | H20: =ROUND(AVERAGE(I20:J20),1) -> 2.3 | I20: 6.8 | J20: -2.3 | K20: 0 | L20: =ROUND(AVERAGE(M20:N20),1) -> 0.4 | M20: 4.6 | N20: -3.8 | O20: 0 | P20: 8310 | R20: =ROUND(AVERAGE(S20:T20),1) -> 1 | S20: 8 | T20: -6 | U20: 0 | W20: 10.79 | X20: 9.85 | Z20: 8502 | AA20: -8.9214286 | AB20: -3.8428571 | AC20: -13.939286 | AD20: 30.5 | AE20: 5 | AF20: -8.7714286 | AG20: -5.7392857 | AH20: -11.753571 | AI20: 33 | AJ20: 6.5 | AK20: -8.775 | AL20: -6.3071429 | AM20: -11.196429 | AN20: 29.8 | AO20: 3.5 | AP20: -6.9678571 | AQ20: -1.9285714 | AR20: -11.946429 | AS20: 116.6 | AT20: 15.1 | AU20: 6.3117857 | AW20: 8502 | AX20: 6 | AY20: -27.1 | AZ20: 3.6 | BA20: -23.5 | BB20: 3.5 | BC20: -22.5 | BD20: 7 | BE20: -28.5
A21: 30606 | B21: 290 | C21: =IF(W21="",X21,ROUND(0.95*W21,2)) -> 4.84 | D21: =ROUND(AVERAGE(E21:F21),1) -> 1.7 | E21: 3.9 | F21: -0.5 | G21: 9 | H21: =ROUND(AVERAGE(I21:J21),1) -> -0.5 | I21: 0.6 | J21: -1.5 | K21: 6 | L21: =ROUND(AVERAGE(M21:N21),1) -> -0.6 | M21: 0.4 | N21: -1.6 | O21: 2 | P21: 8310 | R21: =ROUND(AVERAGE(S21:T21),1) -> 2 | S21: 5 | T21: -1 | U21: 4.4 | W21: 5.09 | X21: 3.56 | Z21: 8503 | AA21: -5.8903226 | AB21: 0.81290323 | AC21: -12.551613 | AD21: 38 | AE21: 10 | AF21: -4.8354839 | AG21: -0.99354839 | AH21: -8.6483871 | AI21: 28.5 | AJ21: 8.5 | AK21: -4.816129 | AL21: -1.2483871 | AM21: -8.3548387 | AN21: 30.5 | AO21: 6 | AP21: -4.5709677 | AQ21: 3.2419355 | AR21: -12.33871 | AS21: 44.9 | AT21: 8.4 | AU21: 11.685161 | AW21: 8503 | AX21: 9.7 | AY21: -19.6 | AZ21: 8.5 | BA21: -13 | BB21: 7.5 | BC21: -12.7 | BD21: 11.5 | BE21: -19.5
A22: 30607 | B22: 291 | C22: =IF(W22="",X22,ROUND(0.95*W22,2)) -> 10.04 | D22: =ROUND(AVERAGE(E22:F22),1) -> 1.4 | E22: 4.7 | F22: -1.9 | G22: 2 | H22: =ROUND(AVERAGE(I22:J22),1) -> -0.3 | I22: 3.1 | J22: -3.7 | K22: 4 | L22: =ROUND(AVERAGE(M22:N22),1) -> -1.3 | M22: 1.7 | N22: -4.3 | O22: 6.5 | P22: 8310 | R22: =ROUND(AVERAGE(S22:T22),1) -> 3.5 | S22: 7 | T22: 0 | U22: 1.1 | W22: 10.57 | X22: 8.97 | Z22: 8504 | AA22: 0.79666667 | AB22: 6.24 | AC22: -4.6566667 | AD22: 36.5 | AE22: 5 | AF22: -0.50333333 | AG22: 3.1366667 | AH22: -4.1366667 | AI22: 40 | AJ22: 14.5 | AK22: 0.076666667 | AL22: 3.6833333 | AM22: -3.5366667 | AN22: 39.4 | AO22: 7 | AP22: 2.3566667 | AQ22: 8.5333333 | AR22: -3.85 | AS22: 38 | AT22: 5.9 | AU22: 14.716 | AW22: 8504 | AX22: 15.4 | AY22: -13 | AZ22: 11.7 | BA22: -10.5 | BB22: 12.9 | BC22: -9.3 | BD22: 18 | BE22: -10
A23: 30608 | B23: 292 | C23: =IF(W23="",X23,ROUND(0.95*W23,2)) -> 2.84 | D23: =ROUND(AVERAGE(E23:F23),1) -> 1.9 | E23: 3.8 | F23: 0 | G23: 2 | H23: =ROUND(AVERAGE(I23:J23),1) -> -0.3 | I23: 1.4 | J23: -1.9 | K23: 2 | L23: =ROUND(AVERAGE(M23:N23),1) -> -1.4 | M23: -0.2 | N23: -2.5 | O23: 2 | P23: 8310 | R23: =ROUND(AVERAGE(S23:T23),1) -> 3.3 | S23: 5 | T23: 1.5 | U23: 1 | W23: 2.99 | X23: 3.17 | Z23: 8505 | AA23: 5.8387097 | AB23: 12.316129 | AC23: -0.67096774 | AD23: 51.5 | AE23: 15 | AF23: 4.9612903 | AG23: 10.187097 | AH23: -0.3 | AI23: 67 | AJ23: 14 | AK23: 5.5387097 | AL23: 10.187097 | AM23: 0.8483871 | AN23: 63 | AO23: 11 | AP23: 7.9 | AQ23: 15.225806 | AR23: 0.53225806 | AS23: 60.5 | AT23: 11.2 | AU23: 20.478387 | AW23: 8505 | AX23: 22.5 | AY23: -10.5 | AZ23: 20.5 | BA23: -11 | BB23: 19.7 | BC23: -9 | BD23: 24 | BE23: -8
A24: 30609 | B24: 293 | C24: =IF(W24="",X24,ROUND(0.95*W24,2)) -> 8.58 | D24: =ROUND(AVERAGE(E24:F24),1) -> 2.7 | E24: 5.7 | F24: -0.3 | G24: 0 | H24: =ROUND(AVERAGE(I24:J24),1) -> 1.4 | I24: 4.2 | J24: -1.5 | K24: 2 | L24: =ROUND(AVERAGE(M24:N24),1) -> -0.6 | M24: 1.3 | N24: -2.5 | O24: 4 | P24: 8310 | R24: =ROUND(AVERAGE(S24:T24),1) -> 4.8 | S24: 6.5 | T24: 3 | U24: 1.2 | W24: 9.03 | X24: 3.12 | Z24: 8506 | AA24: 8.6966667 | AB24: 15.123333 | AC24: 2.21 | AD24: 43 | AE24: 15 | AF24: 8.2566667 | AG24: 13.546667 | AH24: 2.9233333 | AI24: 38 | AJ24: 16 | AK24: 8.5166667 | AL24: 13.413333 | AM24: 3.56 | AN24: 39.5 | AO24: 13.5 | AP24: 9.8666667 | AQ24: 17.383333 | AR24: 2.3 | AS24: 40.9 | AT24: 8.9 | AU24: 22.828 | AW24: 8506 | AX24: 26.5 | AY24: -3 | AZ24: 25 | BA24: -2.5 | BB24: 24.8 | BC24: -2 | BD24: 27.5 | BE24: -2.5
A25: 30610 | B25: 294 | C25: =IF(W25="",X25,ROUND(0.95*W25,2)) -> 5.98 | D25: =ROUND(AVERAGE(E25:F25),1) -> 4.9 | E25: 9.2 | F25: 0.6 | G25: 3 | H25: =ROUND(AVERAGE(I25:J25),1) -> 3.7 | I25: 6.3 | J25: 1 | K25: 2 | L25: =ROUND(AVERAGE(M25:N25),1) -> 1.4 | M25: 2.9 | N25: -0.1 | O25: 4 | P25: 8310 | R25: =ROUND(AVERAGE(S25:T25),1) -> 6 | S25: 7.5 | T25: 4.5 | U25: 4.2 | W25: 6.29 | X25: 3.33 | Z25: 8507 | AA25: 15.554839 | AB25: 24.335484 | AC25: 6.7290323 | AD25: 8 | AE25: 4 | AF25: 15.56129 | AG25: 22.119355 | AH25: 8.9612903 | AI25: 4 | AJ25: 2 | AK25: 15.948387 | AL25: 21.741935 | AM25: 10.103226 | AN25: 5 | AO25: 4.5 | AP25: 15.309677 | AQ25: 25.741935 | AR25: 4.8387097 | AS25: 5.8 | AT25: 5 | AU25: 25.297419 | AW25: 8507 | AX25: 30 | AY25: 1 | AZ25: 27.5 | BA25: 3 | BB25: 27.5 | BC25: 3.2 | BD25: 30.5 | BE25: 0
A26: 30611 | B26: 295 | C26: =IF(W26="",X26,ROUND(0.95*W26,2)) -> 7.14 | D26: =ROUND(AVERAGE(E26:F26),1) -> 2.9 | E26: 5.2 | F26: 0.5 | G26: 0 | H26: =ROUND(AVERAGE(I26:J26),1) -> 1.1 | I26: 3.4 | J26: -1.2 | K26: 0 | L26: =ROUND(AVERAGE(M26:N26),1) -> 1.3 | M26: 2.1 | N26: 0.5 | O26: 0 | P26: 8310 | R26: =ROUND(AVERAGE(S26:T26),1) -> 5.8 | S26: 8 | T26: 3.5 | U26: 0 | W26: 7.52 | X26: 3.01 | Z26: 8508 | AA26: 10.854839 | AB26: 17.564516 | AC26: 4.0935484 | AD26: 52 | AE26: 34 | AF26: 10.287097 | AG26: 15.764516 | AH26: 4.7580645 | AI26: 36.5 | AJ26: 17 | AK26: 10.477419 | AL26: 15.293548 | AM26: 5.6064516 | AN26: 38 | AO26: 19 | AP26: 11.806452 | AQ26: 20.612903 | AR26: 2.9516129 | AS26: 45.6 | AT26: 17.2 | AU26: 18.099677 | AW26: 8508 | AX26: 23.5 | AY26: -1.3 | AZ26: 21.6 | BA26: -0.2 | BB26: 21 | BC26: 1.5 | BD26: 29.5 | BE26: -2
A27: 30612 | B27: 296 | C27: =IF(W27="",X27,ROUND(0.95*W27,2)) -> 9.03 | D27: =ROUND(AVERAGE(E27:F27),1) -> 0.5 | E27: 4.4 | F27: -3.4 | G27: 0.5 | H27: =ROUND(AVERAGE(I27:J27),1) -> 0.1 | I27: 3.1 | J27: -3 | K27: 0 | L27: =ROUND(AVERAGE(M27:N27),1) -> -1.1 | M27: 1.4 | N27: -3.6 | O27: 0 | P27: 8310 | R27: =ROUND(AVERAGE(S27:T27),1) -> 0.8 | S27: 6.5 | T27: -5 | U27: 0 | W27: 9.51 | X27: 8.92 | Z27: 8509 | AA27: 4.55 | AB27: 9.4466667 | AC27: -0.39666667 | AD27: 95.5 | AE27: 24 | AF27: 4.4833333 | AG27: 8.3933333 | AH27: 0.51666667 | AI27: 93 | AJ27: 23 | AK27: 4.2733333 | AL27: 7.7266667 | AM27: 0.76333333 | AN27: 99.5 | AO27: 28 | AP27: 5.8166667 | AQ27: 12.133333 | AR27: -0.55 | AS27: 131.5 | AT27: 33 | AU27: 11.341333 | AW27: 8509 | AX27: 17 | AY27: -6.5 | AZ27: 16.5 | BA27: -5 | BB27: 15.5 | BC27: -3.5 | BD27: 19 | BE27: -8
A28: 30613 | B28: 297 | C28: =IF(W28="",X28,ROUND(0.95*W28,2)) -> 4.04 | D28: =ROUND(AVERAGE(E28:F28),1) -> -0.8 | E28: 4 | F28: -5.5 | G28: 1 | H28: =ROUND(AVERAGE(I28:J28),1) -> -0.9 | I28: 3.2 | J28: -4.9 | K28: 1.5 | L28: =ROUND(AVERAGE(M28:N28),1) -> -3.1 | M28: -0.5 | N28: -5.7 | O28: 0 | P28: 8310 | R28: =ROUND(AVERAGE(S28:T28),1) -> -1 | S28: 4.5 | T28: -6.5 | U28: 2.8 | W28: 4.25 | X28: 3.42 | Z28: 8510 | AA28: 0.5 | AB28: 4.0096774 | AC28: -3.0193548 | AD28: 93 | AE28: 18 | AF28: -0.56774194 | AG28: 2.3064516 | AH28: -3.4580645 | AI28: 92.5 | AJ28: 15.5 | AK28: -1.3870968 | AL28: 0.99032258 | AM28: -3.7483871 | AN28: 91 | AO28: 16 | AP28: 2.0064516 | AQ28: 6.7741935 | AR28: -2.7903226 | AS28: 99.4 | AT28: 20 | AU28: 7.0829032 | AW28: 8510 | AX28: 12 | AY28: -12.5 | AZ28: 11 | BA28: -12.5 | BB28: 9 | BC28: -10.5 | BD28: 13.5 | BE28: -10
A29: 30614 | B29: 298 | C29: =IF(W29="",X29,ROUND(0.95*W29,2)) -> 6.64 | D29: =ROUND(AVERAGE(E29:F29),1) -> 4.3 | E29: 8.7 | F29: -0.1 | G29: 0 | H29: =ROUND(AVERAGE(I29:J29),1) -> 4.3 | I29: 8.3 | J29: 0.2 | K29: 0 | L29: =ROUND(AVERAGE(M29:N29),1) -> 0.2 | M29: 4.2 | N29: -3.8 | O29: 0.5 | P29: 8310 | R29: =ROUND(AVERAGE(S29:T29),1) -> 6.5 | S29: 10 | T29: 3 | U29: 0 | W29: 6.99 | X29: 6.18 | Z29: 8511 | AA29: -14.33 | AB29: -10.583333 | AC29: -18.023333 | AD29: 51.5 | AE29: 9 | AF29: -13.05 | AG29: -10.173333 | AH29: -15.9 | AI29: 53.5 | AJ29: 13.5 | AK29: -13.033333 | AL29: -10.9 | AM29: -15.136667 | AN29: 49 | AO29: 9 | AP29: -12.646667 | AQ29: -9.0333333 | AR29: -16.216667 | AS29: 53.5 | AT29: 13.5 | AU29: 3.914 | AW29: 8511 | AX29: 3.9 | AY29: -34.5 | AZ29: 2 | BA29: -31.5 | BB29: 1.2 | BC29: -30 | BD29: 4 | BE29: -34
A30: 30615 | B30: 299 | C30: =IF(W30="",X30,ROUND(0.95*W30,2)) -> 7.88 | D30: =ROUND(AVERAGE(E30:F30),1) -> 5.9 | E30: 12.6 | F30: -0.8 | G30: 0 | H30: =ROUND(AVERAGE(I30:J30),1) -> 8 | I30: 12.3 | J30: 3.7 | K30: =O30 -> 0.5 | L30: =ROUND(AVERAGE(M30:N30),1) -> 3.9 | M30: 7.4 | N30: 0.4 | O30: 0.5 | P30: 8310 | R30: =ROUND(AVERAGE(S30:T30),1) -> 8.3 | S30: 13.5 | T30: 3 | U30: 0 | W30: 8.29 | X30: 8.38 | Z30: 8512 | AA30: -6.5290323 | AB30: -1.1645161 | AC30: -11.841935 | AD30: 12 | AE30: 4 | AF30: -4.6290323 | AG30: -1.7870968 | AH30: -7.4387097 | AI30: 14 | AJ30: 4 | AK30: -5.4064516 | AL30: -2.7774194 | AM30: -7.9935484 | AN30: 25.5 | AO30: 5.5 | AP30: -8.4516129 | AQ30: -3.8387097 | AR30: -13.032258 | AS30: 14 | AT30: 4 | AU30: 2.2525806 | AW30: 8512 | AX30: 6.5 | AY30: -30.6 | AZ30: 6.3 | BA30: -26.3 | BB30: 4.5 | BC30: -24.7 | BD30: 2 | BE30: -33
A31: 30616 | B31: 300 | C31: =IF(W31="",X31,ROUND(0.95*W31,2)) -> 8.64 | D31: =ROUND(AVERAGE(E31:F31),1) -> 3.4 | E31: 8.2 | F31: -1.4 | G31: 0 | H31: =ROUND(AVERAGE(I31:J31),1) -> 3.4 | I31: 5.9 | J31: 0.8 | K31: =O31 -> 0 | L31: =ROUND(AVERAGE(M31:N31),1) -> 3.2 | M31: 5.8 | N31: 0.5 | O31: 0 | P31: 8310 | R31: =ROUND(AVERAGE(S31:T31),1) -> 5.3 | S31: 8.5 | T31: 2 | U31: 0 | W31: 9.09 | X31: 8.96 | Z31: 8601 | AA31: -5.2774194 | AB31: -1.1419355 | AC31: -9.3677419 | AD31: 40 | AE31: 10.5 | AF31: -4.1258065 | AG31: -1.7193548 | AH31: -6.4903226 | AI31: 41.5 | AJ31: 16.5 | AK31: -6.2870968 | AL31: -4.0354839 | AM31: -8.4967742 | AN31: 40 | AO31: 16.5 | AP31: -3.5354839 | AQ31: 0.041935484 | AR31: -7.0806452 | AS31: 82.3 | AT31: 13.2 | AU31: 2.8829032 | AW31: 8601 | AX31: 6.5 | AY31: -18.5 | AZ31: 4.9 | BA31: -11.7 | BB31: 4.1 | BC31: -14.6 | BD31: 4 | BE31: -20
A32: 30617 | B32: 301 | C32: =IF(W32="",X32,ROUND(0.95*W32,2)) -> 7.63 | D32: =ROUND(AVERAGE(E32:F32),1) -> 3 | E32: 9.8 | F32: -3.8 | G32: 0 | H32: =ROUND(AVERAGE(I32:J32),1) -> 3.8 | I32: 8.3 | J32: -0.7 | K32: =O32 -> 0 | L32: =ROUND(AVERAGE(M32:N32),1) -> 3.2 | M32: 6.8 | N32: -0.4 | O32: 0 | P32: 8310 | R32: =ROUND(AVERAGE(S32:T32),1) -> 2.8 | S32: 10.5 | T32: -5 | U32: 0 | W32: 8.03 | X32: 7.63 | Z32: 8602 | AA32: -7.4142857 | AB32: -2.7035714 | AC32: -12.096429 | AD32: 38 | AE32: 8 | AF32: -7.1035714 | AG32: -4.45 | AH32: -9.7321429 | AI32: 22.5 | AJ32: 6 | AK32: -7.0642857 | AL32: -4.3107143 | AM32: -9.7857143 | AN32: 28.5 | AO32: 9 | AP32: -6.2392857 | AQ32: -1.0714286 | AR32: -11.392857 | AS32: 65.6 | AT32: 16.1 | AU32: 6.4342857 | AW32: 8602 | AX32: 12 | AY32: -24.8 | AZ32: 9.5 | BA32: -23.5 | BB32: 8.5 | BC32: -22 | BD32: 11 | BE32: -33.5
A33: 30618 | B33: 302 | C33: =IF(W33="",X33,ROUND(0.95*W33,2)) -> 7.83 | D33: =ROUND(AVERAGE(E33:F33),1) -> 4.9 | E33: 11.9 | F33: -2.2 | G33: 0 | H33: =ROUND(AVERAGE(I33:J33),1) -> 6.1 | I33: 10.3 | J33: 1.9 | K33: =O33 -> 0 | L33: =ROUND(AVERAGE(M33:N33),1) -> 4.5 | M33: 8.4 | N33: 0.6 | O33: 0 | P33: 8310 | R33: =ROUND(AVERAGE(S33:T33),1) -> 5.8 | S33: 13 | T33: -1.5 | U33: 0 | W33: 8.24 | X33: 9.11 | Z33: 8603 | AA33: -0.35483871 | AB33: 4.3032258 | AC33: -4.9935484 | AD33: 53 | AE33: 8.5 | AF33: -1.1548387 | AG33: 2.2903226 | AH33: -4.5870968 | AI33: 50 | AJ33: 8 | AK33: -1.1064516 | AL33: 1.8741935 | AM33: -4.0645161 | AN33: 64 | AO33: 13 | AP33: 1.0870968 | AQ33: 6.2741935 | AR33: -4.1129032 | AS33: 48.5 | AT33: 10 | AU33: 9.5693548 | AW33: 8603 | AX33: 11.7 | AY33: -12 | AZ33: 8.6 | BA33: -9.9 | BB33: 8.7 | BC33: -9 | BD33: 14 | BE33: -10.5
A34: 30619 | B34: 303 | C34: =IF(W34="",X34,ROUND(0.95*W34,2)) -> 2.48 | D34: =ROUND(AVERAGE(E34:F34),1) -> 5.6 | E34: 9.3 | F34: 1.8 | G34: 6.5 | H34: =ROUND(AVERAGE(I34:J34),1) -> 6.2 | I34: 7.3 | J34: 5.1 | K34: =O34 -> 9 | L34: =ROUND(AVERAGE(M34:N34),1) -> 4.5 | M34: 6.3 | N34: 2.7 | O34: 9 | P34: 8310 | R34: =ROUND(AVERAGE(S34:T34),1) -> 6.3 | S34: 9 | T34: 3.5 | U34: 6.4 | W34: 2.61 | X34: 2.66 | Z34: 8604 | AA34: -0.09 | AB34: 4.4166667 | AC34: -4.59 | AD34: 100 | AE34: 13 | AF34: -1.6766667 | AG34: 1.8866667 | AH34: -5.2033333 | AI34: 96.5 | AJ34: 12.5 | AK34: -1.46 | AL34: 1.7066667 | AM34: -4.6166667 | AN34: 99.5 | AO34: 18 | AP34: 1.98 | AQ34: 7.05 | AR34: -3.1333333 | AS34: 91.2 | AT34: 17 | AU34: 12.851667 | AW34: 8604 | AX34: 15 | AY34: -13 | AZ34: 13 | BA34: -12.5 | BB34: 13 | BC34: -12.3 | BD34: 16 | BE34: -8.5
A35: 30620 | B35: 304 | C35: =IF(W35="",X35,ROUND(0.95*W35,2)) -> 5.1 | D35: =ROUND(AVERAGE(E35:F35),1) -> 2.7 | E35: 5 | F35: 0.3 | G35: 1 | H35: =ROUND(AVERAGE(I35:J35),1) -> 1.5 | I35: 3 | J35: 0 | K35: =O35 -> 0 | L35: =ROUND(AVERAGE(M35:N35),1) -> 2.1 | M35: 3.7 | N35: 0.4 | O35: 0 | P35: 8310 | R35: =ROUND(AVERAGE(S35:T35),1) -> 6.3 | S35: 7.5 | T35: 5 | U35: 0.4 | W35: 5.37 | X35: 4.96 | Z35: 8605 | AA35: 4.7193548 | AB35: 10.380645 | AC35: -0.97096774 | AD35: 55 | AE35: 10 | AF35: 4.2935484 | AG35: 8.8322581 | AH35: -0.26451613 | AI35: 57 | AJ35: 9 | AK35: 4.4193548 | AL35: 8.5741935 | AM35: 0.26774194 | AN35: 56.5 | AO35: 8.5 | AP35: 7.6612903 | AQ35: 14.516129 | AR35: 0.75806452 | AS35: 49.8 | AT35: 9.3 | AU35: 17.804516 | AW35: 8605 | AX35: 28.5 | AY35: -6.6 | AZ35: 26 | BA35: -7 | BB35: 24.5 | BC35: -6 | BD35: 29.5 | BE35: -6
A36: 30621 | B36: 305 | C36: =IF(W36="",X36,ROUND(0.95*W36,2)) -> 3.35 | D36: =ROUND(AVERAGE(E36:F36),1) -> 2.1 | E36: 6.7 | F36: -2.6 | G36: 8.5 | H36: =ROUND(AVERAGE(I36:J36),1) -> 0.9 | I36: 3.3 | J36: -1.6 | K36: =O36 -> 8 | L36: =ROUND(AVERAGE(M36:N36),1) -> 1.1 | M36: 3.2 | N36: -1 | O36: 8 | P36: 8311 | R36: =ROUND(AVERAGE(S36:T36),1) -> 3 | S36: 9 | T36: -3 | U36: 5.2 | W36: 3.53 | X36: 5.62 | Z36: 8606 | AA36: 10.79 | AB36: 17.52 | AC36: 4.0233333 | AD36: 70.5 | AE36: 17.5 | AF36: 10.27 | AG36: 16.12 | AH36: 4.3866667 | AI36: 57.5 | AJ36: 15.5 | AK36: 10.073333 | AL36: 15.35 | AM36: 4.7533333 | AN36: 63.5 | AO36: 18.5 | AP36: 12.18 | AQ36: 20.383333 | AR36: 3.9166667 | AS36: 92.3 | AT36: 27.8 | AU36: 20.959 | AW36: 8606 | AX36: 25.1 | AY36: -1.5 | AZ36: 23 | BA36: -1.5 | BB36: 21.6 | BC36: -1 | BD36: 27 | BE36: -1
A37: 30622 | B37: 306 | C37: =IF(W37="",X37,ROUND(0.95*W37,2)) -> 4.31 | D37: =ROUND(AVERAGE(E37:F37),1) -> 1.5 | E37: 4 | F37: -1 | G37: 0.5 | H37: =ROUND(AVERAGE(I37:J37),1) -> -0.2 | I37: 1.4 | J37: -1.8 | K37: =O37 -> 8 | L37: =ROUND(AVERAGE(M37:N37),1) -> 0.6 | M37: 2.1 | N37: -0.9 | O37: 8 | P37: 8311 | R37: =ROUND(AVERAGE(S37:T37),1) -> 4.3 | S37: 6.5 | T37: 2 | U37: 7 | W37: 4.54 | X37: 3.17 | Z37: 8607 | AA37: 9.4677419 | AB37: 15.329032 | AC37: 3.5419355 | AD37: 65 | AE37: 13.5 | AF37: 8.8516129 | AG37: 13.919355 | AH37: 3.7483871 | AI37: 42 | AJ37: 8.5 | AK37: 9.0354839 | AL37: 13.335484 | AM37: 4.6870968 | AN37: 49 | AO37: 7 | AP37: 11.464516 | AQ37: 18.967742 | AR37: 3.9354839 | AS37: 52.4 | AT37: 10.1 | AU37: 18.985161 | AW37: 8607 | AX37: 24 | AY37: -0.5 | AZ37: 21 | BA37: -0.3 | BB37: 20.2 | BC37: -0.8 | BD37: 25 | BE37: 0
A38: 30623 | B38: 307 | C38: =IF(W38="",X38,ROUND(0.95*W38,2)) -> 1.61 | D38: =ROUND(AVERAGE(E38:F38),1) -> 3 | E38: 4.6 | F38: 1.4 | G38: 1.5 | H38: =ROUND(AVERAGE(I38:J38),1) -> 1.2 | I38: 2.9 | J38: -0.5 | K38: =O38 -> 2.5 | L38: =ROUND(AVERAGE(M38:N38),1) -> 1.9 | M38: 3.5 | N38: 0.3 | O38: 2.5 | P38: 8311 | R38: =ROUND(AVERAGE(S38:T38),1) -> 5.3 | S38: 7.5 | T38: 3 | U38: 2 | W38: 1.69 | X38: 4.39 | Z38: 8608 | AA38: 13.912903 | AB38: 22.154839 | AC38: 5.6193548 | AD38: 12 | AE38: 9.5 | AF38: 14.503226 | AG38: 20.729032 | AH38: 8.2387097 | AI38: 9.5 | AJ38: 8 | AK38: 14.554839 | AL38: 20.077419 | AM38: 8.9645161 | AN38: 20 | AO38: 20 | AP38: 14.654839 | AQ38: 25.129032 | AR38: 4.1290323 | AS38: 6.2 | AT38: 6.2 | AU38: 20.423548 | AW38: 8608 | AX38: 29 | AY38: 0 | AZ38: 27 | BA38: 4.8 | BB38: 26.5 | BC38: 5 | BD38: 32 | BE38: -2.5
A39: 30624 | B39: 308 | C39: =IF(W39="",X39,ROUND(0.95*W39,2)) -> 5.42 | D39: =ROUND(AVERAGE(E39:F39),1) -> 1.2 | E39: 2.7 | F39: -0.4 | G39: 2 | H39: =ROUND(AVERAGE(I39:J39),1) -> -1.5 | I39: -0.1 | J39: -2.9 | K39: =O39 -> 2.5 | L39: =ROUND(AVERAGE(M39:N39),1) -> -0.7 | M39: 0 | N39: -1.3 | O39: 2.5 | P39: 8311 | R39: =ROUND(AVERAGE(S39:T39),1) -> 2.8 | S39: 5.5 | T39: 0 | U39: 0 | W39: 5.7 | X39: 4.56 | Z39: 8609 | AA39: 4.6266667 | AB39: 9.0433333 | AC39: 0.14666667 | AD39: 107.5 | AE39: 22 | AF39: 4.47 | AG39: 8.2233333 | AH39: 0.68 | AI39: 93 | AJ39: 18 | AK39: 4.4166667 | AL39: 7.4366667 | AM39: 1.3533333 | AN39: 89.5 | AO39: 18 | AP39: 6.8933333 | AQ39: 12.866667 | AR39: 0.86666667 | AS39: 98.8 | AT39: 14.4 | AU39: 11.532667 | AW39: 8609 | AX39: 17.9 | AY39: -6.3 | AZ39: 17.2 | BA39: -3 | BB39: 15.4 | BC39: -2.5 | BD39: 21 | BE39: -6
A40: 30625 | B40: 309 | C40: =IF(W40="",X40,ROUND(0.95*W40,2)) -> 4.34 | D40: =ROUND(AVERAGE(E40:F40),1) -> -2.6 | E40: 1.5 | F40: -6.6 | G40: 0.5 | H40: =ROUND(AVERAGE(I40:J40),1) -> -4.6 | I40: -1.9 | J40: -7.2 | K40: =O40 -> 1 | L40: =ROUND(AVERAGE(M40:N40),1) -> -3.4 | M40: -0.7 | N40: -6 | O40: 1 | P40: 8311 | R40: =ROUND(AVERAGE(S40:T40),1) -> 0 | S40: 3.5 | T40: -3.5 | U40: 0 | W40: 4.57 | X40: 2.96 | Z40: 8610 | AA40: 4.9064516 | AB40: 11.335484 | AC40: -1.5645161 | AD40: 39 | AE40: 10.5 | AF40: 6.1 | AG40: 10.93871 | AH40: 1.2354839 | AI40: 40 | AJ40: 13 | AK40: 6.1806452 | AL40: 10.216129 | AM40: 2.1032258 | AN40: 40 | AO40: 13 | AP40: 5.5516129 | AQ40: 13.741935 | AR40: -2.6935484 | AS40: 19.1 | AT40: 6.4 | AU40: 8.9096774 | AW40: 8610 | AX40: 19 | AY40: -5.5 | AZ40: 17.5 | BA40: -6.1 | BB40: 17 | BC40: -4.9 | BD40: 21 | BE40: -7.5
A41: 30626 | B41: 310 | C41: =IF(W41="",X41,ROUND(0.95*W41,2)) -> 4.16 | D41: =ROUND(AVERAGE(E41:F41),1) -> -1.4 | E41: 1.5 | F41: -4.3 | G41: 5.5 | H41: =ROUND(AVERAGE(I41:J41),1) -> -3.1 | I41: -2.1 | J41: -4.1 | K41: =O41 -> 4 | L41: =ROUND(AVERAGE(M41:N41),1) -> -3.3 | M41: -1 | N41: -5.6 | O41: 4 | P41: 8311 | R41: =ROUND(AVERAGE(S41:T41),1) -> 0.3 | S41: 3.5 | T41: -3 | U41: 7 | W41: 4.38 | X41: 4.84 | Z41: 8611 | AA41: -5.58 | AB41: -1.67 | AC41: -9.4633333 | AD41: 61 | AE41: 22.5 | AF41: -5.4166667 | AG41: -2.0333333 | AH41: -8.7633333 | AI41: 61.5 | AJ41: 22.5 | AK41: -5.7833333 | AL41: -3.08 | AM41: -8.45 | AN41: 61.5 | AO41: 22.5 | AP41: -4.4266667 | AQ41: 0.26666667 | AR41: -9.1 | AS41: 67.2 | AT41: 20 | AU41: 4.0686667 | AW41: 8611 | AX41: 10 | AY41: -24 | AZ41: 9.5 | BA41: -22 | BB41: 8 | BC41: -21.5 | BD41: 10 | BE41: -22.5
... A48: 30633 | B48: 317 | C48: =IF(W48="",X48,ROUND(0.95*W48,2)) -> 2.34 | D48: =ROUND(AVERAGE(E48:F48),1) -> -3.9 | E48: -1.2 | F48: -6.6 | G48: 2 | H48: =ROUND(AVERAGE(I48:J48),1) -> -4.5 | I48: -3.3 | J48: -5.6 | K48: =O48 -> 4.5 | L48: =ROUND(AVERAGE(M48:N48),1) -> -4.8 | M48: -3.7 | N48: -5.9 | O48: 4.5 | P48: 8311 | R48: =ROUND(AVERAGE(S48:T48),1) -> 0.8 | S48: 2 | T48: -0.5 | U48: 1 | W48: 2.46 | X48: 3.15 | Z48: 8706 | AA48: 11.326667 | AB48: 18.543333 | AC48: 4.0733333 | AD48: 33 | AE48: 16 | AF48: 11.043333 | AG48: 17.053333 | AH48: 4.9933333 | AI48: 39 | AJ48: 17.5 | AK48: 10.773333 | AL48: 16.23 | AM48: 5.2833333 | AN48: 41 | AO48: 19 | AP48: 12.573333 | AQ48: 21.233333 | AR48: 3.8666667 | AS48: 25.4 | AT48: 10.7 | AU48: 22.366333 | AW48: 8706 | AX48: 28.4 | AY48: -2.5 | AZ48: 26.5 | BA48: -2.5 | BB48: 25.3 | BC48: -2.3 | BD48: 30.5 | BE48: -2.5
A49: 30634 | B49: 318 | C49: =IF(W49="",X49,ROUND(0.95*W49,2)) -> 2.55 | D49: =ROUND(AVERAGE(E49:F49),1) -> -1.3 | E49: 0.4 | F49: -3 | G49: 5 | H49: =ROUND(AVERAGE(I49:J49),1) -> -3.3 | I49: -2.3 | J49: -4.3 | K49: =G49 -> 5 | L49: =ROUND(AVERAGE(M49:N49),1) -> -3.5 | M49: -2.5 | N49: -4.4 | O49: =G49 -> 5 | P49: 8311 | R49: =ROUND(AVERAGE(S49:T49),1) -> 1 | S49: 2 | T49: 0 | U49: 14 | W49: 2.68 | X49: 3.32 | Z49: 8707 | AA49: 11.551613 | AB49: 17.819355 | AC49: 5.2354839 | AD49: 40 | AE49: 5.5 | AF49: 11.387097 | AG49: 16.503226 | AH49: 6.216129 | AI49: 48 | AJ49: 6 | AK49: 11.141935 | AL49: 15.654839 | AM49: 6.5806452 | AN49: 57 | AO49: 7.5 | AP49: 13.641935 | AQ49: 21.629032 | AR49: 5.6290323 | AS49: 59 | AT49: 9.9 | AU49: 20.004194 | AW49: 8707 | AX49: 28.5 | AY49: -0.5 | AZ49: 26 | BA49: 0.5 | BB49: 25.5 | BC49: 1.8 | BD49: 30.5 | BE49: 1
A50: 30635 | B50: 319 | C50: =IF(W50="",X50,ROUND(0.95*W50,2)) -> 1.58 | D50: =ROUND(AVERAGE(E50:F50),1) -> -0.8 | E50: 1.2 | F50: -2.7 | G50: 1 | H50: =ROUND(AVERAGE(I50:J50),1) -> -2.3 | I50: -0.1 | J50: -4.5 | K50: =G50 -> 1 | L50: =ROUND(AVERAGE(M50:N50),1) -> -2.4 | M50: -0.1 | N50: -4.7 | O50: =G50 -> 1 | P50: 8311 | R50: =ROUND(AVERAGE(S50:T50),1) -> 2 | S50: 3.5 | T50: 0.5 | U50: 12 | W50: 1.66 | X50: 2.07 | Z50: 8708 | AA50: 11.329032 | AB50: 18.709677 | AC50: 3.8935484 | AD50: 21.5 | AE50: 11 | AF50: 10.83871 | AG50: 16.841935 | AH50: 4.7677419 | AI50: 17.5 | AJ50: 7.5 | AK50: 10.758065 | AL50: 15.825806 | AM50: 5.6419355 | AN50: 13.5 | AO50: 5.5 | AP50: 12.003226 | AQ50: 21.516129 | AR50: 2.4516129 | AS50: 48.1 | AT50: 29.6 | AU50: 19.213226 | AW50: 8708 | AX50: 28.5 | AY50: -1 | AZ50: 25.5 | BA50: -1.1 | BB50: 25 | BC50: 0.9 | BD50: 30 | BE50: -2
A51: 30636 | B51: 320 | C51: =IF(W51="",X51,ROUND(0.95*W51,2)) -> 3.29 | D51: =ROUND(AVERAGE(E51:F51),1) -> 0.1 | E51: 1.5 | F51: -1.4 | G51: 1 | H51: =ROUND(AVERAGE(I51:J51),1) -> -1.3 | I51: -0.3 | J51: -2.2 | K51: =G51 -> 1 | L51: =ROUND(AVERAGE(M51:N51),1) -> -1 | M51: -0.8 | N51: -1.1 | O51: =G51 -> 1 | P51: 8311 | R51: =ROUND(AVERAGE(S51:T51),1) -> 2.8 | S51: 3.5 | T51: 2 | U51: 4 | W51: 3.46 | X51: 2.04 | Z51: 8709 | AA51: 10.683333 | AB51: 19.16 | AC51: 2.1566667 | AD51: 11.5 | AE51: 7 | AF51: 11.156667 | AG51: 17.696667 | AH51: 4.5766667 | AI51: 9 | AJ51: 4 | AK51: 11.293333 | AL51: 17 | AM51: 5.5466667 | AN51: 7 | AO51: 3 | AP51: 10.816667 | AQ51: 21.566667 | AR51: 0.033333333 | AS51: 10.8 | AT51: 4.6 | AU51: 15.555667 | AW51: 8709 | AX51: 29 | AY51: -5.3 | AZ51: 26.4 | BA51: -4.7 | BB51: 26 | BC51: -2.1 | BD51: 30.5 | BE51: -7
A52: 30637 | B52: 321 | C52: =IF(W52="",X52,ROUND(0.95*W52,2)) -> 5.06 | D52: =ROUND(AVERAGE(E52:F52),1) -> 0 | E52: 2.1 | F52: -2.1 | G52: 3 | H52: =ROUND(AVERAGE(I52:J52),1) -> -2.1 | I52: -1.1 | J52: -3.1 | K52: =G52 -> 3 | L52: =ROUND(AVERAGE(M52:N52),1) -> -2.5 | M52: -1 | N52: -4 | O52: =G52 -> 3 | P52: 8311 | R52: =ROUND(AVERAGE(S52:T52),1) -> 2.5 | S52: 4 | T52: 1 | U52: 2 | W52: 5.33 | X52: 3.76 | Z52: 8710 | AA52: 4.4516129 | AB52: 11.419355 | AC52: -2.5516129 | AD52: 15.5 | AE52: 6 | AF52: 5.4967742 | AG52: 10.883871 | AH52: 0.074193548 | AI52: 12 | AJ52: 3 | AK52: 5.083871 | AL52: 9.2903226 | AM52: 0.82903226 | AN52: 11.5 | AO52: 5.5 | AP52: 4.5548387 | AQ52: 13.66129 | AR52: -4.5967742 | AS52: 14.9 | AT52: 6 | AU52: 9.3819355 | AW52: 8710 | AX52: 23.3 | AY52: -9.5 | AZ52: 21.8 | BA52: -6.7 | BB52: 20.8 | BC52: -5.5 | BD52: 25 | BE52: -11
A53: 30638 | B53: 322 | C53: =IF(W53="",X53,ROUND(0.95*W53,2)) -> 3.28 | D53: =ROUND(AVERAGE(E53:F53),1) -> -2 | E53: 0 | F53: -4 | G53: 0 | H53: =ROUND(AVERAGE(I53:J53),1) -> -3.5 | I53: -2.5 | J53: -4.4 | K53: =G53 -> 0 | L53: =ROUND(AVERAGE(M53:N53),1) -> -4 | M53: -2.7 | N53: -5.3 | O53: =G53 -> 0 | P53: 8311 | R53: =ROUND(AVERAGE(S53:T53),1) -> 1.8 | S53: 3.5 | T53: 0 | U53: 1 | W53: 3.45 | X53: 3.44 | Z53: 8711 | AA53: -1.5533333 | AB53: 2.0033333 | AC53: -5.1033333 | AD53: 32 | AE53: 8 | AF53: -1.3766667 | AG53: 1.3 | AH53: -4.0633333 | AI53: 37 | AJ53: 9.5 | AK53: -2.55 | AL53: -0.41333333 | AM53: -4.68 | AN53: 34 | AO53: 9.5 | AP53: -0.68 | AQ53: 3.4833333 | AR53: -4.85 | AS53: 42 | AT53: 11 | AU53: 3.357 | AW53: 8711 | AX53: 11.6 | AY53: -16 | AZ53: 11 | BA53: -12.5 | BB53: 6.9 | BC53: -12 | BD53: 12.5 | BE53: -16
A54: 30639 | B54: 323 | C54: =IF(W54="",X54,ROUND(0.95*W54,2)) -> 1.53 | D54: =ROUND(AVERAGE(E54:F54),1) -> -5.6 | E54: -2.9 | F54: -8.3 | G54: 2 | H54: =ROUND(AVERAGE(I54:J54),1) -> -6.2 | I54: -4.8 | J54: -7.6 | K54: =G54 -> 2 | L54: =ROUND(AVERAGE(M54:N54),1) -> -5.8 | M54: -5.3 | N54: -6.2 | O54: =G54 -> 2 | P54: 8311 | R54: =ROUND(AVERAGE(S54:T54),1) -> 1.3 | S54: 3 | T54: -0.5 | U54: 6 | W54: 1.61 | X54: 1.95 | Z54: 8712 | AA54: -7.3387097 | AB54: -3.3677419 | AC54: -11.267742 | AD54: 45 | AE54: 14 | AF54: -7.5096774 | AG54: -4.7193548 | AH54: -10.241935 | AI54: 45 | AJ54: 14 | AK54: -8.0870968 | AL54: -5.6258065 | AM54: -10.5 | AN54: 45 | AO54: 14 | AP54: -7.3741935 | AQ54: -2.8064516 | AR54: -11.903226 | AS54: 97 | AT54: 15.8 | AU54: 2.5109677 | AW54: 8712 | AX54: 2.4 | AY54: -22 | AZ54: 0.8 | BA54: -19.5 | BB54: 0.6 | BC54: -18.5 | BD54: 3.5 | BE54: -22
A55: 30640 | B55: 324 | C55: =IF(W55="",X55,ROUND(0.95*W55,2)) -> 3.1 | D55: =ROUND(AVERAGE(E55:F55),1) -> -3 | E55: -1.8 | F55: -4.2 | G55: 1.5 | H55: =ROUND(AVERAGE(I55:J55),1) -> -4.8 | I55: -3.5 | J55: -6.1 | K55: =G55 -> 1.5 | L55: =ROUND(AVERAGE(M55:N55),1) -> -4.7 | M55: -3.6 | N55: -5.8 | O55: =G55 -> 1.5 | P55: 8311 | R55: =ROUND(AVERAGE(S55:T55),1) -> -0.3 | S55: 2 | T55: -2.5 | U55: 5 | W55: 3.26 | X55: 1.93 | Z55: 8801 | AA55: -8.1451613 | AB55: -3.2548387 | AC55: -12.996774 | AD55: 25 | AE55: 5 | AF55: -8.4677419 | AG55: -5.5580645 | AH55: -11.306452 | AI55: 18 | AJ55: 4.5 | AK55: -9.0935484 | AL55: -6.5 | AM55: -11.625806 | AN55: 19 | AO55: 4.5 | AP55: -8.4193548 | AQ55: -3.6612903 | AR55: -13.145161 | AS55: 68.9 | AT55: 10.6 | AU55: 3.4135484 | AW55: 8801 | AX55: 4.5 | AY55: -29.3 | AZ55: 2.5 | BA55: -24 | BB55: 0 | BC55: -22 | BD55: 5 | BE55: -32
A56: 30641 | B56: 325 | C56: =IF(W56="",X56,ROUND(0.95*W56,2)) -> 2.3 | D56: =ROUND(AVERAGE(E56:F56),1) -> -4.2 | E56: -3.3 | F56: -5.1 | G56: 3 | H56: =ROUND(AVERAGE(I56:J56),1) -> -5.9 | I56: -5 | J56: -6.7 | K56: =G56 -> 3 | L56: =ROUND(AVERAGE(M56:N56),1) -> -5.7 | M56: -5.2 | N56: -6.1 | O56: =G56 -> 3 | P56: 8311 | R56: =ROUND(AVERAGE(S56:T56),1) -> -0.3 | S56: 1.5 | T56: -2 | U56: 4 | W56: 2.42 | X56: 1.9 | Z56: 8802 | AA56: -4.8413793 | AB56: 0.41724138 | AC56: -10.07931 | AD56: 29.5 | AE56: 5 | AF56: -4.0517241 | AG56: -0.33103448 | AH56: -7.7517241 | AI56: 30 | AJ56: 4.5 | AK56: -4.237931 | AL56: -1.0689655 | AM56: -7.3758621 | AN56: 30 | AO56: 4.5 | AP56: -4.2517241 | AQ56: 1.1206897 | AR56: -9.6034483 | AS56: 62 | AT56: 13 | AU56: 6.8486207 | AW56: 8802 | AX56: 12.5 | AY56: -31 | AZ56: 12 | BA56: -23.7 | BB56: 9 | BC56: -21.7 | BD56: 10.5 | BE56: -23.5
A57: 30642 | B57: 326 | C57: =IF(W57="",X57,ROUND(0.95*W57,2)) -> 1.34 | D57: =ROUND(AVERAGE(E57:F57),1) -> -6.4 | E57: -4.1 | F57: -8.7 | G57: 2.5 | H57: =ROUND(AVERAGE(I57:J57),1) -> -7.3 | I57: -5.2 | J57: -9.3 | K57: =G57 -> 2.5 | L57: =ROUND(AVERAGE(M57:N57),1) -> -7.1 | M57: -5.1 | N57: -9 | O57: =G57 -> 2.5 | P57: 8311 | R57: =ROUND(AVERAGE(S57:T57),1) -> -1 | S57: 0 | T57: -2 | U57: 0 | W57: 1.41 | X57: 1.87 | Z57: 8803 | AA57: -3.5322581 | AB57: 1.9193548 | AC57: -8.9516129 | AD57: 62 | AE57: 9.5 | AF57: -3.7387097 | AG57: -0.56129032 | AH57: -6.8774194 | AI57: 61.5 | AJ57: 9.5 | AK57: -3.3387097 | AL57: -0.25483871 | AM57: -6.3870968 | AN57: 60.5 | AO57: 9.5 | AP57: -1.6483871 | AQ57: 3.983871 | AR57: -7.2580645 | AS57: 48.8 | AT57: 8 | AU57: 10.123871 | AW57: 8803 | AX57: 10.1 | AY57: -17.5 | AZ57: 5.6 | BA57: -12.8 | BB57: 6.6 | BC57: -11 | BD57: 11 | BE57: -16.5
A58: 30643 | B58: 327 | C58: =IF(W58="",X58,ROUND(0.95*W58,2)) -> 2.61 | D58: =ROUND(AVERAGE(E58:F58),1) -> -5.8 | E58: -4.1 | F58: -7.4 | G58: 5 | H58: =ROUND(AVERAGE(I58:J58),1) -> -6.6 | I58: -5.2 | J58: -8 | K58: =G58 -> 5 | L58: =ROUND(AVERAGE(M58:N58),1) -> -6.2 | M58: -5.3 | N58: -7 | O58: =G58 -> 5 | P58: 8311 | R58: =ROUND(AVERAGE(S58:T58),1) -> -3 | S58: -2 | T58: -4 | U58: 6 | W58: 2.75 | X58: 2.44 | Z58: 8804 | AA58: 2.3533333 | AB58: 7.8433333 | AC58: -3.1566667 | AD58: 102.5 | AE58: 31 | AF58: 1.6966667 | AG58: 5.9133333 | AH58: -2.5266667 | AI58: 99 | AJ58: 31.5 | AK58: 1.8866667 | AL58: 5.8033333 | AM58: -2.0333333 | AN58: 97 | AO58: 31.5 | AP58: 4.2366667 | AQ58: 10.483333 | AR58: -2.0333333 | AS58: 92.9 | AT58: 26.2 | AU58: 15.951667 | AW58: 8804 | AX58: 20 | AY58: -13.5 | AZ58: 18.5 | BA58: -11.9 | BB58: 17.5 | BC58: -10.5 | BD58: 22 | BE58: -10.5
A59: 30644 | B59: 328 | C59: =IF(W59="",X59,ROUND(0.95*W59,2)) -> 0.86 | D59: =ROUND(AVERAGE(E59:F59),1) -> -4 | E59: -2.2 | F59: -5.8 | G59: 0 | H59: =ROUND(AVERAGE(I59:J59),1) -> -5.9 | I59: -3.5 | J59: -8.2 | K59: =G59 -> 0 | L59: =ROUND(AVERAGE(M59:N59),1) -> -5.8 | M59: -4 | N59: -7.5 | O59: =G59 -> 0 | P59: 8311 | R59: =ROUND(AVERAGE(S59:T59),1) -> -2.5 | S59: 0 | T59: -5 | U59: 12 | W59: 0.91 | X59: 1.82 | Z59: 8805 | AA59: 5.3225806 | AB59: 11.170968 | AC59: -0.57741935 | AD59: 69.5 | AE59: 19 | AF59: 4.2387097 | AG59: 9.4548387 | AH59: -1.0129032 | AI59: 62 | AJ59: 19.5 | AK59: 4.1806452 | AL59: 8.9419355 | AM59: -0.61290323 | AN59: 77 | AO59: 19.5 | AP59: 7.2645161 | AQ59: 14.887097 | AR59: -0.40322581 | AS59: 51.7 | AT59: 18.4 | AU59: 20.000645 | AW59: 8805 | AX59: 23.4 | AY59: -5 | AZ59: 20.5 | BA59: -6.6 | BB59: 20 | BC59: -6.5 | BD59: 25 | BE59: -4
A60: 30645 | B60: 329 | C60: =IF(W60="",X60,ROUND(0.95*W60,2)) -> 3.31 | D60: =ROUND(AVERAGE(E60:F60),1) -> -3.8 | E60: -2.8 | F60: -4.8 | G60: 6 | H60: =ROUND(AVERAGE(I60:J60),1) -> -6.1 | I60: -5.6 | J60: -6.6 | K60: =G60 -> 6 | L60: =ROUND(AVERAGE(M60:N60),1) -> -5.3 | M60: -5 | N60: -5.6 | O60: =G60 -> 6 | P60: 8311 | R60: =ROUND(AVERAGE(S60:T60),1) -> -1.8 | S60: -0.5 | T60: -3 | U60: 0 | W60: 3.48 | X60: 2.26 | Z60: 8806 | AA60: 9.12 | AB60: 14.916667 | AC60: 3.2466667 | AD60: 64 | AE60: 19 | AF60: 8.0933333 | AG60: 12.743333 | AH60: 3.39 | AI60: 67 | AJ60: 19 | AK60: 8.2366667 | AL60: 12.946667 | AM60: 3.4633333 | AN60: 106.5 | AO60: 25.5 | AP60: 10.62 | AQ60: 17.7 | AR60: 3.5 | AS60: 79.6 | AT60: 18 | AU60: 20.584 | AW60: 8806 | AX60: 25 | AY60: -4.5 | AZ60: 21.9 | BA60: -4.5 | BB60: 23 | BC60: -4 | BD60: 26 | BE60: -4
A61: 30646 | B61: 330 | C61: =IF(W61="",X61,ROUND(0.95*W61,2)) -> 1.24 | D61: =ROUND(AVERAGE(E61:F61),1) -> -3.9 | E61: -3 | F61: -4.7 | G61: 0 | H61: =ROUND(AVERAGE(I61:J61),1) -> -6 | I61: -4.7 | J61: -7.3 | K61: =G61 -> 0 | L61: =ROUND(AVERAGE(M61:N61),1) -> -5.4 | M61: -3.9 | N61: -6.9 | O61: =G61 -> 0 | P61: 8311 | R61: =ROUND(AVERAGE(S61:T61),1) -> -1.8 | S61: -0.5 | T61: -3 | U61: 24 | W61: 1.31 | X61: 1.78 | Z61: 8807 | AA61: 11.816129 | AB61: 19.064516 | AC61: 4.5129032 | AD61: 53.5 | AE61: 16 | AF61: 11.977419 | AG61: 17.835484 | AH61: 6.0451613 | AI61: 51 | AJ61: 15.5 | AK61: 11.693548 | AL61: 16.996774 | AM61: 6.3483871 | AN61: 41 | AO61: 15 | AP61: 12.558065 | AQ61: 21.596774 | AR61: 3.4677419 | AS61: 66.6 | AT61: 18 | AU61: 23.261613 | AW61: 8807 | AX61: 28 | AY61: -1.2 | AZ61: 26 | BA61: -0.5 | BB61: 25 | BC61: -0.2 | BD61: 29 | BE61: -1.5
A62: 30647 | B62: 331 | C62: =IF(W62="",X62,ROUND(0.95*W62,2)) -> 4.45 | D62: =ROUND(AVERAGE(E62:F62),1) -> -1.9 | E62: 0.8 | F62: -4.6 | G62: =U62 -> 0 | H62: =ROUND(AVERAGE(I62:J62),1) -> -5 | I62: =ROUND(M62*0.98-0.9,1) -> -4.2 | J62: -5.8 | K62: =U62 -> 0 | L62: =ROUND(AVERAGE(M62:N62),1) -> -4.8 | M62: -3.4 | N62: -6.1 | O62: =U62 -> 0 | P62: 8311 | R62: =ROUND(AVERAGE(S62:T62),1) -> -0.5 | S62: 2 | T62: -3 | U62: 0 | W62: 4.68 | X62: 4.73 | Z62: 8808 | AA62: 11.158065 | AB62: 18.296774 | AC62: 3.9612903 | AD62: 11.5 | AE62: 7 | AF62: 10.977419 | AG62: 17.135484 | AH62: 4.7645161 | AI62: 11.5 | AJ62: 7 | AK62: 11.187097 | AL62: 16.487097 | AM62: 5.8290323 | AN62: 22 | AO62: 9 | AP62: 12.196774 | AQ62: 21.532258 | AR62: 2.8225806 | AS62: 47 | AT62: 18.8 | AU62: 19.012903 | AW62: 8808 | AX62: 28.1 | AY62: 0.1 | AZ62: 26.2 | BA62: 0.4 | BB62: 25.7 | BC62: 1.8 | BD62: 28.5 | BE62: -1.5
A63: 30648 | B63: 332 | C63: =IF(W63="",X63,ROUND(0.95*W63,2)) -> 1.86 | D63: =ROUND(AVERAGE(E63:F63),1) -> -5.9 | E63: -5.1 | F63: -6.7 | G63: =U63 -> 0 | H63: =ROUND(AVERAGE(I63:J63),1) -> -11.4 | I63: -11 | J63: =ROUND(N63*0.96-0.4,1) -> -11.7 | K63: =U63 -> 0 | L63: =ROUND(AVERAGE(M63:N63),1) -> -11.4 | M63: -10.9 | N63: -11.8 | O63: =U63 -> 0 | P63: 8311 | R63: =ROUND(AVERAGE(S63:T63),1) -> -2.8 | S63: -2.5 | T63: -3 | U63: 0 | W63: 1.96 | X63: 1.73 | Z63: 8809 | AA63: 7.57 | AB63: 13.903333 | AC63: 1.1666667 | AD63: 53 | AE63: 15.5 | AF63: 7.6133333 | AG63: 12.423333 | AH63: 2.76 | AI63: 62 | AJ63: 22 | AK63: 7.4433333 | AL63: 11.79 | AM63: 3.0433333 | AN63: 76 | AO63: 23 | AP63: 8.6366667 | AQ63: 16.55 | AR63: 0.68333333 | AS63: 47.1 | AT63: 8.2 | AU63: 13.369333 | AW63: 8809 | AX63: 32 | AY63: -5 | AZ63: 30 | BA63: -4.5 | BB63: 29 | BC63: -3.5 | BD63: 32.5 | BE63: -4
A64: 30649 | B64: 333 | C64: =IF(W64="",X64,ROUND(0.95*W64,2)) -> 1.31 | D64: =ROUND(AVERAGE(E64:F64),1) -> -8.9 | E64: -8.6 | F64: -9.1 | G64: =U64 -> 0 | H64: =ROUND(AVERAGE(I64:J64),1) -> -11.2 | I64: -11 | J64: -11.4 | K64: =U64 -> 0 | L64: =ROUND(AVERAGE(M64:N64),1) -> -13.4 | M64: -12 | N64: -14.7 | O64: =U64 -> 0 | P64: 8311 | R64: =ROUND(AVERAGE(S64:T64),1) -> -5.3 | S64: -4.5 | T64: -6 | U64: 0 | W64: 1.38 | X64: 1.71 | Z64: 8810 | AA64: 5.2258065 | AB64: 11.13871 | AC64: -0.72258065 | AD64: 37.5 | AE64: 11.5 | AF64: 6.0419355 | AG64: 10.425806 | AH64: 1.6419355 | AI64: 35 | AJ64: 11.5 | AK64: 5.2354839 | AL64: 9.0516129 | AM64: 1.383871 | AN64: 44 | AO64: 14 | AP64: 6.0806452 | AQ64: 13.145161 | AR64: -1.016129 | AS64: 35.3 | AT64: 12.6 | AU64: 7.7074194 | AW64: 8810 | AX64: 22.5 | AY64: -10.5 | AZ64: 21.5 | BA64: -9.5 | BB64: 20.5 | BC64: -9 | BD64: 24 | BE64: -10
A65: 30650 | B65: 334 | C65: =IF(W65="",X65,ROUND(0.95*W65,2)) -> 4.52 | D65: =ROUND(AVERAGE(E65:F65),1) -> -11.3 | E65: -5.6 | F65: -16.9 | G65: =U65 -> 0 | H65: =ROUND(AVERAGE(I65:J65),1) -> -10.6 | I65: -6 | J65: -15.2 | K65: =U65 -> 0 | L65: =ROUND(AVERAGE(M65:N65),1) -> -10.9 | M65: =I65-0.8 -> -6.8 | N65: =J65+0.2 -> -15 | O65: =U65 -> 0 | P65: 8311 | R65: =ROUND(AVERAGE(S65:T65),1) -> -12 | S65: -6 | T65: -18 | U65: 0 | W65: 4.76 | X65: 5.04 | Z65: 8811 | AA65: -5.2766667 | AB65: -1.9166667 | AC65: -8.5933333 | AD65: 48 | AE65: 6.5 | AF65: -5.09 | AG65: -2.7666667 | AH65: -7.37 | AI65: 44 | AJ65: 6.5 | AK65: -5.2866667 | AL65: -3.1633333 | AM65: -7.3633333 | AN65: 51.5 | AO65: 14.5 | AP65: -2.0033333 | AQ65: 1.3166667 | AR65: -5.2833333 | AS65: 82.4 | AT65: 9.1 | AU65: 3.6383333 | AW65: 8811 | AX65: 6.3 | AY65: -17 | AZ65: 6.2 | BA65: -13.5 | BB65: 5 | BC65: -13 | BD65: 11 | BE65: -17.5
A66: 30651 | B66: 335 | C66: =IF(W66="",X66,ROUND(0.95*W66,2)) -> 3.53 | D66: =ROUND(AVERAGE(E66:F66),1) -> -13.8 | E66: -5.8 | F66: -21.8 | G66: =U66 -> 0 | H66: =ROUND(AVERAGE(I66:J66),1) -> -11.3 | I66: -5.1 | J66: -17.4 | K66: =U66 -> 0 | L66: =ROUND(AVERAGE(M66:N66),1) -> -10.8 | M66: =I66-0.8 -> -5.9 | N66: -15.7 | O66: =U66 -> 0 | P66: 8312 | R66: =ROUND(AVERAGE(S66:T66),1) -> -11 | S66: -7 | T66: -15 | U66: 0 | W66: 3.72 | X66: 3.88 | Z66: 8812 | AA66: -6.9645161 | AB66: -2.0387097 | AC66: -11.835484 | AD66: 42 | AE66: 9.5 | AF66: -5.7290323 | AG66: -2.3129032 | AH66: -9.116129 | AI66: 43.5 | AJ66: 7 | AK66: -6.7580645 | AL66: -3.5322581 | AM66: -9.9451613 | AN66: 43.5 | AO66: 7 | AP66: -7.0580645 | AQ66: -2.8225806 | AR66: -11.258065 | AS66: 100.7 | AT66: 11.9 | AU66: 2.7177419 | AW66: 8812 | AX66: 5 | AY66: -24.5 | AZ66: 7.6 | BA66: -19.5 | BB66: 5.2 | BC66: -18.5 | BD66: 3.5 | BE66: -25
A67: 30652 | B67: 336 | C67: =IF(W67="",X67,ROUND(0.95*W67,2)) -> 2.18 | D67: =ROUND(AVERAGE(E67:F67),1) -> -13.4 | E67: -9 | F67: -17.7 | G67: =U67 -> 6 | H67: =ROUND(AVERAGE(I67:J67),1) -> -11.6 | I67: -9.5 | J67: -13.7 | K67: =U67 -> 6 | L67: =ROUND(AVERAGE(M67:N67),1) -> -12.6 | M67: -8.9 | N67: -16.2 | O67: =U67 -> 6 | P67: 8312 | R67: =ROUND(AVERAGE(S67:T67),1) -> -10.8 | S67: -7 | T67: -14.5 | U67: 6 | W67: 2.29 | X67: 1.97 | Z67: 8901 | AA67: -9.1903226 | AB67: -4.1774194 | AC67: -14.148387 | AD67: 64.3 | AE67: 17 | AF67: -7.9516129 | AG67: -4.5064516 | AH67: -11.364516 | AI67: 64.3 | AJ67: 17 | AK67: -8.2354839 | AL67: -5.1290323 | AM67: -11.296774 | AN67: 64.3 | AO67: 17 | AP67: -7.4677419 | AQ67: -2.3709677 | AR67: -12.516129 | AS67: 65.5 | AT67: 17 | AU67: 3.5119355 | AW67: 8901 | AX67: 8 | AY67: -30.4 | AZ67: 5 | BA67: -25.5 | BB67: 5 | BC67: -24 | BD67: 4.5 | BE67: -28
A68: 30653 | B68: 337 | C68: =IF(W68="",X68,ROUND(0.95*W68,2)) -> 3.03 | D68: =ROUND(AVERAGE(E68:F68),1) -> -7.7 | E68: -5 | F68: -10.3 | G68: =U68 -> 4 | H68: =ROUND(AVERAGE(I68:J68),1) -> -9.7 | I68: -7.7 | J68: -11.7 | K68: =U68 -> 4 | L68: =ROUND(AVERAGE(M68:N68),1) -> -10.9 | M68: -9.9 | N68: -11.9 | O68: =U68 -> 4 | P68: 8312 | R68: =ROUND(AVERAGE(S68:T68),1) -> -7.8 | S68: -5 | T68: -10.5 | U68: 4 | W68: 3.19 | X68: 2.39 | Z68: 8902 | AA68: -11.507143 | AB68: -5.3928571 | AC68: -17.585714 | AD68: 29.5 | AE68: 5 | AF68: -11.046429 | AG68: -7.1107143 | AH68: -14.953571 | AI68: 35 | AJ68: 5.5 | AK68: -11.957143 | AL68: -8.7964286 | AM68: -15.078571 | AN68: 35 | AO68: 5.5 | AP68: -11.567857 | AQ68: -4.5 | AR68: -18.589286 | AS68: 73 | AT68: 14 | AU68: 6.8678571 | AW68: 8902 | AX68: 3 | AY68: -33.1 | AZ68: -0.3 | BA68: -32 | BB68: -2.6 | BC68: -31 | BD68: 3.5 | BE68: -38
A69: 30654 | B69: 338 | C69: =IF(W69="",X69,ROUND(0.95*W69,2)) -> 4.09 | D69: =ROUND(AVERAGE(E69:F69),1) -> -14.5 | E69: -8.2 | F69: -20.8 | G69: =U69 -> 1 | H69: =ROUND(AVERAGE(I69:J69),1) -> -14 | I69: -10.8 | J69: -17.2 | K69: =U69 -> 1 | L69: =ROUND(AVERAGE(M69:N69),1) -> -13.2 | M69: -11 | N69: -15.4 | O69: =U69 -> 1 | P69: 8312 | R69: =ROUND(AVERAGE(S69:T69),1) -> -10.3 | S69: -5.5 | T69: -15 | U69: 1 | W69: 4.31 | X69: 1.62 | Z69: 8903 | AA69: -4.7580645 | AB69: 0.16129032 | AC69: -9.6258065 | AD69: 43 | AE69: 6 | AF69: -5.2483871 | AG69: -2.1225806 | AH69: -8.3354839 | AI69: 45 | AJ69: 6 | AK69: -5.0322581 | AL69: -1.7129032 | AM69: -8.316129 | AN69: 45 | AO69: 6 | AP69: -2.9709677 | AQ69: 1.8548387 | AR69: -7.7903226 | AS69: 66.1 | AT69: 10 | AU69: 10.327419 | AW69: 8903 | AX69: 6.5 | AY69: -28 | AZ69: 3.2 | BA69: -22 | BB69: 5 | BC69: -21.8 | BD69: 7.5 | BE69: -32
A70: 30655 | B70: 339 | C70: =IF(W70="",X70,ROUND(0.95*W70,2)) -> 2.86 | D70: =ROUND(AVERAGE(E70:F70),1) -> -13.1 | E70: -9.7 | F70: -16.5 | G70: =U70 -> 2 | H70: =ROUND(AVERAGE(I70:J70),1) -> -12.4 | I70: -10.5 | J70: -14.3 | K70: =U70 -> 2 | L70: =ROUND(AVERAGE(M70:N70),1) -> -14.4 | M70: -12.6 | N70: -16.1 | O70: =U70 -> 2 | P70: 8312 | R70: =ROUND(AVERAGE(S70:T70),1) -> -11.3 | S70: -7.5 | T70: -15 | U70: 2 | W70: 3.01 | X70: 2.16 | Z70: 8904 | AA70: 2.2966667 | AB70: 8.54 | AC70: -3.98 | AD70: 25.5 | AE70: 8.5 | AF70: 1.9533333 | AG70: 6.4866667 | AH70: -2.6033333 | AI70: 26.5 | AJ70: 7 | AK70: 2.3133333 | AL70: 6.5833333 | AM70: -1.9766667 | AN70: 26.5 | AO70: 7 | AP70: 3.88 | AQ70: 11.283333 | AR70: -3.55 | AS70: 22.7 | AT70: 4.4 | AU70: 16.783333 | AW70: 8904 | AX70: 16.9 | AY70: -13.5 | AZ70: 14.9 | BA70: -9.5 | BB70: 14.6 | BC70: -9 | BD70: 21.5 | BE70: -12
A71: 30656 | B71: 340 | C71: =IF(W71="",X71,ROUND(0.95*W71,2)) -> 3.16 | D71: =ROUND(AVERAGE(E71:F71),1) -> -13.5 | E71: -8.1 | F71: -18.9 | G71: =U71 -> 1 | H71: =ROUND(AVERAGE(I71:J71),1) -> -13.6 | I71: -10.1 | J71: -17.1 | K71: =U71 -> 1 | L71: =ROUND(AVERAGE(M71:N71),1) -> -14.4 | M71: -11.8 | N71: -16.9 | O71: =U71 -> 1 | P71: 8312 | R71: =ROUND(AVERAGE(S71:T71),1) -> -12.3 | S71: -7 | T71: -17.5 | U71: 1 | W71: 3.33 | X71: 1.59 | Z71: 8905 | AA71: 4.8935484 | AB71: 10.93871 | AC71: -1.2064516 | AD71: 70 | AE71: 21.5 | AF71: 4.0903226 | AG71: 9.0451613 | AH71: -0.90645161 | AI71: 69.5 | AJ71: 21.5 | AK71: 4.016129 | AL71: 8.3612903 | AM71: -0.36451613 | AN71: 69.5 | AO71: 21.5 | AP71: 6.616129 | AQ71: 13.693548 | AR71: -0.5 | AS71: 62.6 | AT71: 13.7 | AU71: 18.291935 | AW71: 8905 | AX71: 19 | AY71: -6 | AZ71: 17.5 | BA71: -7.5 | BB71: 16.3 | BC71: -5.5 | BD71: 21 | BE71: -5.5
A72: 30657 | B72: 341 | C72: =IF(W72="",X72,ROUND(0.95*W72,2)) -> 1.59 | D72: =ROUND(AVERAGE(E72:F72),1) -> -17.3 | E72: -11.8 | F72: -22.7 | G72: =U72 -> 5 | H72: =ROUND(AVERAGE(I72:J72),1) -> -13.4 | I72: -9.2 | J72: -17.6 | K72: =U72 -> 5 | L72: =ROUND(AVERAGE(M72:N72),1) -> -16 | M72: -13.5 | N72: -18.5 | O72: =U72 -> 5 | P72: 8312 | R72: =ROUND(AVERAGE(S72:T72),1) -> -12.5 | S72: -8 | T72: -17 | U72: 5 | W72: 1.67 | X72: 1.58 | Z72: 8906 | AA72: 9.9766667 | AB72: 16.856667 | AC72: 3.0666667 | AD72: 59.5 | AE72: 31.5 | AF72: 9.5033333 | AG72: 14.996667 | AH72: 3.96 | AI72: 59.5 | AJ72: 31.5 | AK72: 9.45 | AL72: 14.516667 | AM72: 4.33 | AN72: 59.5 | AO72: 31.5 | AP72: 11.456667 | AQ72: 19.633333 | AR72: 3.2333333 | AS72: 62 | AT72: 27.8 | AU72: 20.640333 | AW72: 8906 | AX72: 24.5 | AY72: -2 | AZ72: 22 | BA72: -2 | BB72: 21.2 | BC72: -1.5 | BD72: 26 | BE72: -1.5
A73: 30658 | B73: 342 | C73: =IF(W73="",X73,ROUND(0.95*W73,2)) -> 1.57 | D73: =ROUND(AVERAGE(E73:F73),1) -> -10.3 | E73: -5.9 | F73: -14.6 | G73: =U73 -> 0 | H73: =ROUND(AVERAGE(I73:J73),1) -> -9.2 | I73: -4.4 | J73: -13.9 | K73: =U73 -> 0 | L73: =ROUND(AVERAGE(M73:N73),1) -> -10.2 | M73: -5.7 | N73: -14.7 | O73: =U73 -> 0 | P73: 8312 | R73: =ROUND(AVERAGE(S73:T73),1) -> -9.5 | S73: -5 | T73: -14 | U73: 0 | X73: 1.57 | Z73: 8907 | AA73: 12.522581 | AB73: 20.667742 | AC73: 4.3225806 | AD73: 58.5 | AE73: 22.5 | AF73: 11.996774 | AG73: 18.380645 | AH73: 5.5774194 | AI73: 65 | AJ73: 22.5 | AK73: 12.43871 | AL73: 18.422581 | AM73: 6.3903226 | AN73: 65 | AO73: 22.5 | AP73: 13.370968 | AQ73: 22.822581 | AR73: 3.8709677 | AS73: 77.9 | AT73: 26.6 | AU73: 22.900645 | AW73: 8907 | AX73: 28 | AY73: -2 | AZ73: 25.4 | BA73: -2 | BB73: 26 | BC73: -0.5 | BD73: 29 | BE73: -2
A74: 30659 | B74: 343 | C74: =IF(W74="",X74,ROUND(0.95*W74,2)) -> 1.56 | D74: =ROUND(AVERAGE(E74:F74),1) -> -5.8 | E74: -2.9 | F74: -8.6 | G74: =U74 -> 21 | H74: =ROUND(AVERAGE(I74:J74),1) -> -5.2 | I74: -4.3 | J74: -6 | K74: =U74 -> 21 | L74: =ROUND(AVERAGE(M74:N74),1) -> -7.5 | M74: -5.7 | N74: -9.2 | O74: =U74 -> 21 | P74: 8312 | R74: =ROUND(AVERAGE(S74:T74),1) -> -6 | S74: -3 | T74: -9 | U74: 21 | X74: 1.56 | Z74: 8908 | AA74: 10.635484 | AB74: 17.012903 | AC74: 4.2032258 | AD74: 87 | AE74: 12.5 | AF74: 9.8774194 | AG74: 15.251613 | AH74: 4.4451613 | AI74: 95 | AJ74: 19.5 | AK74: 10.283871 | AL74: 14.741935 | AM74: 5.7741935 | AN74: 95 | AO74: 19.5 | AP74: 12.025806 | AQ74: 19.725806 | AR74: 4.2903226 | AS74: 91.4 | AT74: 30.5 | AU74: 16.547419 | AW74: 8908 | AX74: 27.2 | AY74: 0.1 | AZ74: 25.5 | BA74: 0.5 | BB74: 24.1 | BC74: 1.5 | BD74: 29 | BE74: -0.5
A75: 30660 | B75: 344 | C75: =IF(W75="",X75,ROUND(0.95*W75,2)) -> 1.79 | D75: =ROUND(AVERAGE(E75:F75),1) -> -7.2 | E75: -3.7 | F75: -10.7 | G75: =U75 -> 4 | H75: =ROUND(AVERAGE(I75:J75),1) -> -7.2 | I75: -5.4 | J75: -9 | K75: =U75 -> 4 | L75: =ROUND(AVERAGE(M75:N75),1) -> -8.2 | M75: -6.7 | N75: -9.7 | O75: =U75 -> 4 | P75: 8312 | R75: =ROUND(AVERAGE(S75:T75),1) -> -3.5 | S75: 1 | T75: -8 | U75: 4 | X75: 1.79 | Z75: 8909 | AA75: 8.2566667 | AB75: 15.446667 | AC75: 1.0066667 | AD75: 26.5 | AE75: 22.5 | AF75: 8.3766667 | AG75: 13.7 | AH75: 3.0066667 | AI75: 22 | AJ75: 16 | AK75: 8.7666667 | AL75: 13.66 | AM75: 3.82 | AN75: 22 | AO75: 16 | AP75: 9.6533333 | AQ75: 19.166667 | AR75: 0.1 | AS75: 20.6 | AT75: 13.9 | AU75: 15.177 | AW75: 8909 | AX75: 22.5 | AY75: -3.2 | AZ75: 20.5 | BA75: -2.4 | BB75: 20.5 | BC75: -1.3 | BD75: 24 | BE75: -4
A76: 30661 | B76: 345 | C76: =IF(W76="",X76,ROUND(0.95*W76,2)) -> 1.54 | D76: =ROUND(AVERAGE(E76:F76),1) -> -8.5 | E76: -2.8 | F76: -14.2 | G76: =U76 -> 0 | H76: =ROUND(AVERAGE(I76:J76),1) -> -6.3 | I76: -4.5 | J76: -8.1 | K76: =U76 -> 0 | L76: =ROUND(AVERAGE(M76:N76),1) -> -7.4 | M76: -5.9 | N76: -8.9 | O76: =U76 -> 0 | P76: 8312 | R76: =ROUND(AVERAGE(S76:T76),1) -> -2.5 | S76: 0 | T76: -5 | U76: 0 | X76: 1.54 | Z76: 8910 | AA76: 1.7935484 | AB76: 6.7096774 | AC76: -3.1451613 | AD76: 35 | AE76: 8.5 | AF76: 1.2225806 | AG76: 4.716129 | AH76: -2.2645161 | AI76: 35 | AJ76: 8.5 | AK76: 1.2967742 | AL76: 4.5193548 | AM76: -1.9354839 | AN76: 32.5 | AO76: 8.5 | AP76: 3.416129 | AQ76: 9.1612903 | AR76: -2.3548387 | AS76: 30.3 | AT76: 6 | AU76: 7.6516129 | AW76: 8910 | AX76: 15.8 | AY76: -11 | AZ76: 13.2 | BA76: -9.5 | BB76: 14.4 | BC76: -8 | BD76: 19 | BE76: -10
A77: 30662 | B77: 346 | C77: =IF(W77="",X77,ROUND(0.95*W77,2)) -> 1.64 | D77: =ROUND(AVERAGE(E77:F77),1) -> -9.8 | E77: -4.4 | F77: -15.2 | G77: =U77 -> 5 | H77: =ROUND(AVERAGE(I77:J77),1) -> -7.7 | I77: -4.7 | J77: -10.6 | K77: =U77 -> 5 | L77: =ROUND(AVERAGE(M77:N77),1) -> -9.5 | M77: -7.7 | N77: -11.2 | O77: =U77 -> 5 | P77: 8312 | R77: =ROUND(AVERAGE(S77:T77),1) -> -7 | S77: -3 | T77: -11 | U77: 5 | W77: 1.73 | X77: 1.95 | Z77: 8911 | AA77: -2.71 | AB77: 1.01 | AC77: -6.3966667 | AD77: 61.5 | AE77: 17.5 | AF77: -2.8833333 | AG77: 0.24666667 | AH77: -6.0066667 | AI77: 61.5 | AJ77: 17.5 | AK77: -3.55 | AL77: -0.98333333 | AM77: -6.0866667 | AN77: 61.5 | AO77: 17.5 | AP77: -1.8466667 | AQ77: 1.7 | AR77: -5.3833333 | AS77: 48.2 | AT77: 9.9 | AU77: 3.4503333 | AW77: 8911 | AX77: 9.5 | AY77: -14 | AZ77: 7.5 | BA77: -14 | BB77: 7 | BC77: -12.5 | BD77: 12 | BE77: -15
A78: 30663 | B78: 347 | C78: =IF(W78="",X78,ROUND(0.95*W78,2)) -> 3.85 | D78: =ROUND(AVERAGE(E78:F78),1) -> -5.6 | E78: -2.2 | F78: -9 | G78: =U78 -> 5 | H78: =ROUND(AVERAGE(I78:J78),1) -> -5.7 | I78: -3 | J78: -8.4 | K78: =U78 -> 5 | L78: =ROUND(AVERAGE(M78:N78),1) -> -6 | M78: =I78-0.8 -> -3.8 | N78: =J78+0.2 -> -8.2 | O78: =U78 -> 5 | P78: 8312 | R78: =ROUND(AVERAGE(S78:T78),1) -> -2.5 | S78: 1 | T78: -6 | U78: 5 | W78: 4.05 | X78: 1.52 | Z78: 8912 | AA78: -4.0516129 | AB78: -0.23548387 | AC78: -7.8387097 | AD78: 55.5 | AE78: 13.5 | AF78: -3.6258065 | AG78: -0.64516129 | AH78: -6.5741935 | AI78: 55.5 | AJ78: 13.5 | AK78: -4.2967742 | AL78: -1.6258065 | AM78: -6.9193548 | AN78: 55.5 | AO78: 13.5 | AP78: -4.283871 | AQ78: -0.83870968 | AR78: -7.6774194 | AS78: 60.1 | AT78: 13.1 | AU78: 2.1467742 | AW78: 8912 | AX78: 6 | AY78: -19.5 | AZ78: 6 | BA78: -16 | BB78: 5 | BC78: -15 | BD78: 4.5 | BE78: -19
A79: 30664 | B79: 348 | C79: =IF(W79="",X79,ROUND(0.95*W79,2)) -> 1.51 | D79: =ROUND(AVERAGE(E79:F79),1) -> -5.6 | E79: -2.4 | F79: -8.7 | G79: =U79 -> 3 | H79: =ROUND(AVERAGE(I79:J79),1) -> -5.6 | I79: -4.4 | J79: -6.7 | K79: =U79 -> 3 | L79: =ROUND(AVERAGE(M79:N79),1) -> -5.9 | M79: =I79-0.8 -> -5.2 | N79: =J79+0.2 -> -6.5 | O79: =U79 -> 3 | P79: 8312 | R79: =ROUND(AVERAGE(S79:T79),1) -> -4.5 | S79: -3 | T79: -6 | U79: 3 | X79: 1.51 | Z79: 9001 | AA79: -6.3096774 | AB79: -2.2258065 | AC79: -10.354839 | AD79: 68.5 | AE79: 10 | AF79: -7.0580645 | AG79: -4.2064516 | AH79: -9.8741935 | AI79: 68.5 | AJ79: 10 | AK79: -6.7354839 | AL79: -4.3225806 | AM79: -9.0903226 | AN79: 68.5 | AO79: 10 | AP79: -5.4225806 | AQ79: -1.2258065 | AR79: -9.5806452 | AS79: 86 | AT79: 24 | AU79: 2.8483871 | AW79: 9001 | AX79: 2.5 | AY79: -19.8 | AZ79: 2.1 | BA79: -21.7 | BB79: 0.5 | BC79: -14.8 | BD79: 4.5 | BE79: -22
A80: 30665 | B80: 349 | C80: =IF(W80="",X80,ROUND(0.95*W80,2)) -> 4.19 | D80: =ROUND(AVERAGE(E80:F80),1) -> -9.5 | E80: -4.9 | F80: -14.1 | G80: =U80 -> 2 | H80: =ROUND(AVERAGE(I80:J80),1) -> -10.1 | I80: -8.5 | J80: -11.6 | K80: =U80 -> 2 | L80: =ROUND(AVERAGE(M80:N80),1) -> -10.4 | M80: =I80-0.8 -> -9.3 | N80: =J80+0.2 -> -11.4 | O80: =U80 -> 2 | P80: 8312 | R80: =ROUND(AVERAGE(S80:T80),1) -> -6.5 | S80: -3 | T80: -10 | U80: 2 | W80: 4.41 | X80: 2.46 | Z80: 9002 | AA80: -8.1892857 | AB80: -2.5 | AC80: -13.832143 | AD80: 36.5 | AE80: 7.5 | AF80: -7.8607143 | AG80: -3.7214286 | AH80: -11.957143 | AI80: 30.6 | AJ80: 5.2 | AK80: -8.0607143 | AL80: -4.4464286 | AM80: -11.639286 | AN80: 30.6 | AO80: 5.2 | AP80: -6.9642857 | AQ80: -1.1071429 | AR80: -12.785714 | AS80: 47.4 | AT80: 11 | AU80: 6.5042857 | AW80: 9002 | AX80: 9.5 | AY80: -28.5 | AZ80: 11 | BA80: -26.5 | BB80: 7 | BC80: -24 | BD80: 10.5 | BE80: -25
A81: 30666 | B81: 350 | C81: =IF(W81="",X81,ROUND(0.95*W81,2)) -> 4.34 | D81: =ROUND(AVERAGE(E81:F81),1) -> -13.9 | E81: -10.8 | F81: -16.9 | G81: =U81 -> 0 | H81: =ROUND(AVERAGE(I81:J81),1) -> -14.3 | I81: -12.6 | J81: -16 | K81: =U81 -> 0 | L81: =ROUND(AVERAGE(M81:N81),1) -> -14.6 | M81: =I81-0.8 -> -13.4 | N81: =J81+0.2 -> -15.8 | O81: =U81 -> 0 | P81: 8312 | R81: =ROUND(AVERAGE(S81:T81),1) -> -10.5 | S81: -9 | T81: -12 | U81: 0 | W81: 4.57 | X81: 3.63 | Z81: 9003 | AA81: -2.7483871 | AB81: 3.9193548 | AC81: -9.3935484 | AD81: 37 | AE81: 17 | AF81: -1.9419355 | AG81: 2.8935484 | AH81: -6.7612903 | AI81: 33 | AJ81: 13 | AK81: -2.2580645 | AL81: 1.4645161 | AM81: -5.9645161 | AN81: 33 | AO81: 13 | AP81: -1.9580645 | AQ81: 5.6935484 | AR81: -9.5967742 | AS81: 37.1 | AT81: 11.8 | AU81: 11.29 | AW81: 9003 | AX81: 12.7 | AY81: -18.5 | AZ81: 10.3 | BA81: -14 | BB81: 9.4 | BC81: -13 | BD81: 12.5 | BE81: -19
A82: 30667 | B82: 351 | C82: =IF(W82="",X82,ROUND(0.95*W82,2)) -> 2.23 | D82: =ROUND(AVERAGE(E82:F82),1) -> -19 | E82: -11.8 | F82: -26.1 | G82: =U82 -> 0 | H82: =ROUND(AVERAGE(I82:J82),1) -> -17.3 | I82: -12.3 | J82: -22.3 | K82: =U82 -> 0 | L82: =ROUND(AVERAGE(M82:N82),1) -> -17.6 | M82: =I82-0.8 -> -13.1 | N82: =J82+0.2 -> -22.1 | O82: =U82 -> 0 | P82: 8312 | R82: =ROUND(AVERAGE(S82:T82),1) -> -15 | S82: -10 | T82: -20 | U82: 0 | W82: 2.35 | X82: 1.68 | Z82: 9004 | AA82: 2.3733333 | AB82: 8.02 | AC82: -3.3066667 | AD82: 67 | AE82: 32.5 | AF82: 2.2366667 | AG82: 6.4933333 | AH82: -2.06 | AI82: 68 | AJ82: 32.5 | AK82: 1.61 | AL82: 5.42 | AM82: -2.2266667 | AN82: 68 | AO82: 32.5 | AP82: 4.4066667 | AQ82: 10.766667 | AR82: -2 | AS82: 50.7 | AT82: 11.9 | AU82: 14.987333 | AW82: 9004 | AX82: 15.5 | AY82: -9.5 | AZ82: 13 | BA82: -8 | BB82: 12.5 | BC82: -8 | BD82: 17.5 | BE82: -6.5
A83: 30668 | B83: 352 | C83: =IF(W83="",X83,ROUND(0.95*W83,2)) -> 2.62 | D83: =ROUND(AVERAGE(E83:F83),1) -> -17.7 | E83: -13.9 | F83: -21.5 | G83: =U83 -> 2 | H83: =ROUND(AVERAGE(I83:J83),1) -> -18.8 | I83: -17 | J83: -20.6 | K83: =U83 -> 2 | L83: =ROUND(AVERAGE(M83:N83),1) -> -19.1 | M83: =I83-0.8 -> -17.8 | N83: =J83+0.2 -> -20.4 | O83: =U83 -> 2 | P83: 8312 | R83: =ROUND(AVERAGE(S83:T83),1) -> -12.5 | S83: -12 | T83: -13 | U83: 2 | X83: 2.62 | Z83: 9005 | AA83: 4.5258065 | AB83: 9.4419355 | AC83: -0.44193548 | AD83: 147.5 | AE83: 17.5 | AF83: 3.3903226 | AG83: 7.2580645 | AH83: -0.52903226 | AI83: 147.5 | AJ83: 17.5 | AK83: 2.9290323 | AL83: 6.3580645 | AM83: -0.53548387 | AN83: 147.5 | AO83: 17.5 | AP83: 6.816129 | AQ83: 12.403226 | AR83: 1.1774194 | AS83: 134.1 | AT83: 21 | AU83: 16.007742 | AW83: 9005 | AX83: 21 | AY83: -3.5 | AZ83: 18.5 | BA83: -4.9 | BB83: 18 | BC83: -5.3 | BD83: 23 | BE83: -3
A84: 30669 | B84: 353 | C84: =IF(W84="",X84,ROUND(0.95*W84,2)) -> 1.5 | D84: =ROUND(AVERAGE(E84:F84),1) -> -20.8 | E84: -17.7 | F84: -23.8 | G84: =U84 -> 3 | H84: =ROUND(AVERAGE(I84:J84),1) -> -21.6 | I84: -19.5 | J84: -23.6 | K84: =U84 -> 3 | L84: =ROUND(AVERAGE(M84:N84),1) -> -21.9 | M84: =I84-0.8 -> -20.3 | N84: =J84+0.2 -> -23.4 | O84: =U84 -> 3 | P84: 8312 | R84: =ROUND(AVERAGE(S84:T84),1) -> -14.5 | S84: -13 | T84: -16 | U84: 3 | X84: 1.5 | Z84: 9006 | AA84: 8.2666667 | AB84: 13.996667 | AC84: 2.4733333 | AD84: 158 | AE84: 26.5 | AF84: 6.44 | AG84: 11.776667 | AH84: 1.07 | AI84: 158 | AJ84: 26.5 | AK84: 7.1366667 | AL84: 11.766667 | AM84: 2.4566667 | AN84: 158 | AO84: 26.5 | AP84: 10.04 | AQ84: 16.35 | AR84: 3.6833333 | AS84: 144.6 | AT84: 23 | AU84: 18.363333 | AW84: 9006 | AX84: 22.2 | AY84: -4 | AZ84: 21.1 | BA84: -3.7 | BB84: 21 | BC84: -2.3 | BD84: 24 | BE84: -3
A85: 30670 | B85: 354 | C85: =IF(W85="",X85,ROUND(0.95*W85,2)) -> 1.73 | D85: =ROUND(AVERAGE(E85:F85),1) -> -23.6 | E85: -21.2 | F85: -26 | G85: =U85 -> 1 | H85: =ROUND(AVERAGE(I85:J85),1) -> -24.3 | I85: -21.6 | J85: -26.9 | K85: =U85 -> 1 | L85: =ROUND(AVERAGE(M85:N85),1) -> -24.6 | M85: =I85-0.8 -> -22.4 | N85: =J85+0.2 -> -26.7 | O85: =U85 -> 1 | P85: 8312 | R85: =ROUND(AVERAGE(S85:T85),1) -> -17.8 | S85: -15 | T85: -20.5 | U85: 1 | W85: 1.82 | X85: 1.85 | Z85: 9007 | AA85: 13.193548 | AB85: 20.519355 | AC85: 5.8096774 | AD85: 69 | AE85: 33.5 | AF85: 13.33871 | AG85: 19.880645 | AH85: 6.7516129 | AI85: 65 | AJ85: 33.5 | AK85: 13.1 | AL85: 18.319355 | AM85: 7.8290323 | AN85: 65 | AO85: 33.5 | AP85: 14.364516 | AQ85: 22.870968 | AR85: 5.8225806 | AS85: 57.1 | AT85: 23.6 | AU85: 22.044516 | AW85: 9007 | AX85: 29.5 | AY85: -0.5 | AZ85: 30.9 | BA85: -2.1 | BB85: 27.5 | BC85: 0.5 | BD85: 30.5 | BE85: 1
A86: 30671 | B86: 355 | C86: =IF(W86="",X86,ROUND(0.95*W86,2)) -> 2.4 | D86: =ROUND(AVERAGE(E86:F86),1) -> -26.7 | E86: =ROUND(I86*1.02+1.2,1) -> -19.6 | F86: -33.8 | G86: =U86 -> 0 | H86: =ROUND(AVERAGE(I86:J86),1) -> -24.2 | I86: -20.4 | J86: -28 | K86: =U86 -> 0 | L86: =ROUND(AVERAGE(M86:N86),1) -> -24.5 | M86: =I86-0.8 -> -21.2 | N86: =J86+0.2 -> -27.8 | O86: =U86 -> 0 | P86: 8312 | R86: =ROUND(AVERAGE(S86:T86),1) -> -21 | S86: -19 | T86: -23 | U86: 0 | W86: 2.53 | X86: 1.49 | Z86: 9008 | AA86: 14.551613 | AB86: 21.812903 | AC86: 7.2258065 | AD86: 74.5 | AE86: 15 | AF86: 11.180645 | AG86: 17.793548 | AH86: 4.5354839 | AI86: 75 | AJ86: 15 | AK86: 13.167742 | AL86: 18.409677 | AM86: 7.8870968 | AN86: 75 | AO86: 15 | AP86: 14.13871 | AQ86: 22.967742 | AR86: 5.2741935 | AS86: 71.9 | AT86: 21.8 | AU86: 19.103871 | AW86: 9008 | AX86: 31.7 | AY86: 1.2 | AZ86: 26.7 | BA86: -5.6 | BB86: 27.5 | BC86: -0.5 | BD86: 30 | BE86: -1.5
A87: 30672 | B87: 356 | C87: =IF(W87="",X87,ROUND(0.95*W87,2)) -> 4.18 | D87: =ROUND(AVERAGE(E87:F87),1) -> -28.2 | E87: -24.5 | F87: =ROUND(J87*1.01-1.1,1) -> -31.8 | G87: =U87 -> 0 | H87: =ROUND(AVERAGE(I87:J87),1) -> -27.4 | I87: -24.4 | J87: -30.4 | K87: =U87 -> 0 | L87: =ROUND(AVERAGE(M87:N87),1) -> -27.7 | M87: =I87-0.8 -> -25.2 | N87: =J87+0.2 -> -30.2 | O87: =U87 -> 0 | P87: 8312 | R87: =ROUND(AVERAGE(S87:T87),1) -> -25.8 | S87: -22 | T87: -29.5 | U87: 0 | W87: 4.4 | X87: 3.79 | Z87: 9009 | AA87: 10.93 | AB87: 19.026667 | AC87: 2.7733333 | AD87: 21.5 | AE87: 12.5 | AF87: 9.4133333 | AG87: 16.96 | AH87: 1.8133333 | AI87: 21.5 | AJ87: 12.5 | AK87: 11.103333 | AL87: 16.67 | AM87: 5.4833333 | AN87: 21.5 | AO87: 12.5 | AP87: 10.713333 | AQ87: 20.816667 | AR87: 0.55 | AS87: 16.1 | AT87: 10.2 | AU87: 16.019667 | AW87: 9009 | AX87: 26.7 | AY87: -2.9 | AZ87: 22.5 | BA87: -3.7 | BB87: 22.4 | BC87: -0.5 | BD87: 25.5 | BE87: -3.5
A88: 30673 | B88: 357 | C88: =IF(W88="",X88,ROUND(0.95*W88,2)) -> 3.92 | D88: =ROUND(AVERAGE(E88:F88),1) -> -27.4 | E88: -23.3 | F88: -31.5 | G88: =U88 -> 0 | H88: =ROUND(AVERAGE(I88:J88),1) -> -26.2 | I88: -23.3 | J88: -29.1 | K88: =U88 -> 0 | L88: =ROUND(AVERAGE(M88:N88),1) -> -26.9 | M88: -25.3 | N88: -28.5 | O88: =U88 -> 0 | P88: 8312 | R88: =ROUND(AVERAGE(S88:T88),1) -> -25 | S88: -22 | T88: -28 | U88: 0 | W88: 4.13 | X88: 4.62 | Z88: 9010 | AA88: 0.035483871 | AB88: 4.2387097 | AC88: -4.1741935 | AD88: 68 | AE88: 10 | AF88: -1.8967742 | AG88: 2.2 | AH88: -5.9645161 | AI88: 68 | AJ88: 10 | AK88: -1.1548387 | AL88: 1.8612903 | AM88: -4.1741935 | AN88: 68 | AO88: 10 | AP88: 2.2354839 | AQ88: 6.6451613 | AR88: -2.2032258 | AS88: 52.6 | AT88: 8 | AU88: 6.903871 | AW88: 9010 | AX88: 11.1 | AY88: -9.8 | AZ88: 10.6 | BA88: -12.4 | BB88: 9.1 | BC88: -8.4 | BD88: 13.5 | BE88: -8.5
A89: 30674 | B89: 358 | C89: =IF(W89="",X89,ROUND(0.95*W89,2)) -> 2.43 | D89: =ROUND(AVERAGE(E89:F89),1) -> -21.9 | E89: -10.7 | F89: -33.1 | G89: =U89 -> 0 | H89: =ROUND(AVERAGE(I89:J89),1) -> -20.3 | I89: -12.7 | J89: -27.8 | K89: =U89 -> 0 | L89: =ROUND(AVERAGE(M89:N89),1) -> -20.1 | M89: -11.8 | N89: -28.4 | O89: =U89 -> 0 | P89: 8312 | R89: =ROUND(AVERAGE(S89:T89),1) -> -24.5 | S89: -11 | T89: -38 | U89: 0 | W89: 2.56 | X89: 1.5 | Z89: 9011 | AA89: -3.82 | AB89: 0.23 | AC89: -7.8433333 | AD89: 87 | AE89: 19 | AF89: -5.2366667 | AG89: -1.8766667 | AH89: -8.57 | AI89: 87 | AJ89: 19 | AK89: -5.0366667 | AL89: -2.27 | AM89: -7.77 | AN89: 87 | AO89: 19 | AP89: -1.8433333 | AQ89: 2.2333333 | AR89: -5.9 | AS89: 67.6 | AT89: 12 | AU89: 3.5853333 | AW89: 9011 | AX89: 10 | AY89: -20.5 | AZ89: 8.5 | BA89: -20.4 | BB89: 4.7 | BC89: -16 | BD89: 11 | BE89: -24
A90: 30675 | B90: 359 | C90: =IF(W90="",X90,ROUND(0.95*W90,2)) -> 2.36 | D90: =ROUND(AVERAGE(E90:F90),1) -> -14.5 | E90: -5.9 | F90: -23 | G90: =U90 -> 19 | H90: =ROUND(AVERAGE(I90:J90),1) -> -12.6 | I90: -6.9 | J90: -18.3 | K90: =U90 -> 19 | L90: =ROUND(AVERAGE(M90:N90),1) -> -12.1 | M90: -6.3 | N90: -17.8 | O90: =U90 -> 19 | P90: 8312 | R90: =ROUND(AVERAGE(S90:T90),1) -> -18.5 | S90: -7 | T90: -30 | U90: 19 | W90: 2.48 | X90: 3.63 | Z90: 9012 | AA90: -12.525806 | AB90: -8.0193548 | AC90: -17.003226 | AD90: 126.9 | AE90: 19.1 | AF90: -12.193548 | AG90: -8.6483871 | AH90: -15.667742 | AI90: 126.9 | AJ90: 19.1 | AK90: -12.422581 | AL90: -9.4516129 | AM90: -15.332258 | AN90: 126.9 | AO90: 19.1 | AP90: -11.887097 | AQ90: -8.2580645 | AR90: -15.483871 | AS90: 131.1 | AT90: 19.1 | AU90: 2.5251613 | AW90: 9012 | AX90: 0.8 | AY90: -34.7 | AZ90: 0.8 | BA90: -33.3 | BB90: 0 | BC90: -33.1 | BD90: 1.5 | BE90: -42
A91: 30676 | B91: 360 | C91: =IF(W91="",X91,ROUND(0.95*W91,2)) -> 3.52 | D91: =ROUND(AVERAGE(E91:F91),1) -> -10.1 | E91: -6.9 | F91: -13.2 | G91: =U91 -> 4 | H91: =ROUND(AVERAGE(I91:J91),1) -> -9.7 | I91: -6.9 | J91: -12.4 | K91: =U91 -> 4 | L91: =ROUND(AVERAGE(M91:N91),1) -> -9.8 | M91: -7.4 | N91: -12.2 | O91: =U91 -> 4 | P91: 8312 | R91: =ROUND(AVERAGE(S91:T91),1) -> -8.5 | S91: -6 | T91: -11 | U91: 4 | X91: 3.52 | Z91: 9101 | AA91: -8.7032258 | AB91: -3.4870968 | AC91: -13.874194 | AD91: 57.7 | AE91: 16.2 | AF91: -8.2741935 | AG91: -4.8612903 | AH91: -11.619355 | AI91: 57.7 | AJ91: 16.2 | AK91: -9.2806452 | AL91: -6.2322581 | AM91: -12.274194 | AN91: 57.7 | AO91: 16.2 | AP91: -10.132258 | AQ91: -4.8709677 | AR91: -15.33871 | AS91: 54.7 | AT91: 16.2 | AU91: 3.1264516 | AW91: 9101 | AX91: 4 | AY91: -31.1 | AZ91: 3.6 | BA91: -23 | BB91: 0.7 | BC91: -22 | BD91: 3.5 | BE91: -27
A92: 30677 | B92: 361 | C92: =IF(W92="",X92,ROUND(0.95*W92,2)) -> 2.87 | D92: =ROUND(AVERAGE(E92:F92),1) -> -16.5 | E92: -12.6 | F92: -20.3 | G92: =U92 -> 6 | H92: =ROUND(AVERAGE(I92:J92),1) -> -15.1 | I92: -13.6 | J92: -16.6 | K92: =U92 -> 6 | L92: =ROUND(AVERAGE(M92:N92),1) -> -17.5 | M92: -15.3 | N92: -19.7 | O92: =U92 -> 6 | P92: 8312 | R92: =ROUND(AVERAGE(S92:T92),1) -> -16.5 | S92: -7 | T92: -26 | U92: 6 | X92: 2.87 | Z92: 9102 | AA92: -1.4035714 | AB92: 3.5357143 | AC92: -6.3214286 | AD92: 28 | AE92: 9.5 | AF92: -3.2285714 | AG92: -0.48928571 | AH92: -5.9142857 | AI92: 28 | AJ92: 9.5 | AK92: -2.6785714 | AL92: 0.30357143 | AM92: -5.6107143 | AN92: 28 | AO92: 9.5 | AP92: -0.75 | AQ92: 3.5535714 | AR92: -5.0535714 | AS92: 51.6 | AT92: 19.3 | AU92: 5.5446429 | AW92: 9102 | AX92: 8.5 | AY92: -13 | AZ92: 6.9 | BA92: -9.7 | BB92: 6.2 | BC92: -9.7 | BD92: 7 | BE92: -13.5
A93: 30678 | B93: 362 | C93: =IF(W93="",X93,ROUND(0.95*W93,2)) -> 3.18 | D93: =ROUND(AVERAGE(E93:F93),1) -> -19.7 | E93: -11.7 | F93: -27.6 | G93: =U93 -> 4 | H93: =ROUND(AVERAGE(I93:J93),1) -> -16.3 | I93: -12.2 | J93: -20.3 | K93: =U93 -> 4 | L93: =ROUND(AVERAGE(M93:N93),1) -> -18.2 | M93: -15.3 | N93: -21 | O93: =U93 -> 4 | P93: 8312 | R93: =ROUND(AVERAGE(S93:T93),1) -> -14 | S93: -6 | T93: -22 | U93: 4 | X93: 3.18 | Z93: 9103 | AA93: -4.6677419 | AB93: 1.5258065 | AC93: -10.806452 | AD93: 63.7 | AE93: 7.8 | AF93: -4.6709677 | AG93: 0.31935484 | AH93: -9.6096774 | AI93: 63.7 | AJ93: 7.8 | AK93: -4.4064516 | AL93: -0.58387097 | AM93: -8.1935484 | AN93: 63.7 | AO93: 7.8 | AP93: -3.6967742 | AQ93: 3.1322581 | AR93: -10.487097 | AS93: 63.7 | AT93: 7.8 | AU93: 9.9658065 | AW93: 9103 | AX93: 11.5 | AY93: -23.4 | AZ93: 10.1 | BA93: -22.1 | BB93: 9.2 | BC93: -20.5 | BD93: 14 | BE93: -25.5
A94: 30679 | B94: 363 | C94: =IF(W94="",X94,ROUND(0.95*W94,2)) -> 1.52 | D94: =ROUND(AVERAGE(E94:F94),1) -> -15.2 | E94: -10.5 | F94: -19.8 | G94: =U94 -> 15 | H94: =ROUND(AVERAGE(I94:J94),1) -> -12 | I94: -8 | J94: -16 | K94: =U94 -> 15 | L94: =ROUND(AVERAGE(M94:N94),1) -> -15.2 | M94: -12.3 | N94: -18.1 | O94: =U94 -> 15 | P94: 8312 | R94: =ROUND(AVERAGE(S94:T94),1) -> -8.5 | S94: -6 | T94: -11 | U94: 15 | X94: 1.52 | Z94: 9104 | AA94: 0.7 | AB94: 7.06 | AC94: -5.68 | AD94: 41.3 | AE94: 10 | AF94: 0.62333333 | AG94: 5.7433333 | AH94: -4.5333333 | AI94: 41.3 | AJ94: 10 | AK94: 0.84 | AL94: 4.84 | AM94: -3.1766667 | AN94: 41.3 | AO94: 10 | AP94: 2.39 | AQ94: 9.1333333 | AR94: -4.3666667 | AS94: 41.3 | AT94: 10 | AU94: 16.106 | AW94: 9104 | AX94: 15.2 | AY94: -12.1 | AZ94: 13.7 | BA94: -10.9 | BB94: 12.8 | BC94: -9.4 | BD94: 18 | BE94: -12
A95: 30680 | B95: 364 | C95: =IF(W95="",X95,ROUND(0.95*W95,2)) -> 1.77 | D95: =ROUND(AVERAGE(E95:F95),1) -> -9.2 | E95: -6.7 | F95: -11.6 | G95: =U95 -> 6 | H95: =ROUND(AVERAGE(I95:J95),1) -> -7.6 | I95: -4.2 | J95: -11 | K95: =U95 -> 6 | L95: =ROUND(AVERAGE(M95:N95),1) -> -9.1 | M95: -4.6 | N95: -13.5 | O95: =U95 -> 6 | P95: 8312 | R95: =ROUND(AVERAGE(S95:T95),1) -> -7 | S95: -3 | T95: -11 | U95: 6 | X95: 1.77 | Z95: 9105 | AA95: 4.1322581 | AB95: 10.154839 | AC95: -1.9451613 | AD95: 114 | AE95: 23.9 | AF95: 3.9870968 | AG95: 8.7709677 | AH95: -0.83870968 | AI95: 114 | AJ95: 23.9 | AK95: 4.183871 | AL95: 7.8709677 | AM95: 0.45483871 | AN95: 114 | AO95: 23.9 | AP95: 6.3096774 | AQ95: 12.5 | AR95: 0.064516129 | AS95: 114 | AT95: 23.9 | AU95: 17.15129 | AW95: 9105 | AX95: 17.9 | AY95: -7.1 | AZ95: 16.4 | BA95: -5.9 | BB95: 15.5 | BC95: -4.5 | BD95: 21 | BE95: -6
A96: 30681 | B96: 365 | C96: =IF(W96="",X96,ROUND(0.95*W96,2)) -> 2.5 | D96: =ROUND(AVERAGE(E96:F96),1) -> -6.1 | E96: 1 | F96: -13.2 | G96: =U96 -> 0 | H96: =ROUND(AVERAGE(I96:J96),1) -> -5.5 | I96: -3.9 | J96: -7 | K96: =U96 -> 0 | L96: =ROUND(AVERAGE(M96:N96),1) -> -6.3 | M96: -3.9 | N96: -8.6 | O96: =U96 -> 0 | P96: 8312 | R96: =ROUND(AVERAGE(S96:T96),1) -> -5.5 | S96: -3 | T96: -8 | U96: 0 | X96: 2.5 | Z96: 9106 | AA96: 6.3966667 | AB96: 12.806667 | AC96: -0.053333333 | AD96: 79.7 | AE96: 12.6 | AF96: 6.2366667 | AG96: 11.383333 | AH96: 1.0433333 | AI96: 79.7 | AJ96: 12.6 | AK96: 6.4266667 | AL96: 10.483333 | AM96: 2.3133333 | AN96: 79.7 | AO96: 12.6 | AP96: 8.8933333 | AQ96: 15.4 | AR96: 2.3333333 | AS96: 79.7 | AT96: 12.6 | AU96: 17.973333 | AW96: 9106 | AX96: 18.4 | AY96: -6.7 | AZ96: 16.9 | BA96: -5.5 | BB96: 16 | BC96: -4.1 | BD96: 21.5 | BE96: -5.5
A97: 30682 | B97: 1 | C97: =IF(W97="",X97,ROUND(0.95*W97,2)) -> 0.33 | D97: =ROUND(AVERAGE(E97:F97),1) -> -8.8 | E97: -4.4 | F97: -13.2 | G97: =U97 -> 4 | H97: =ROUND(AVERAGE(I97:J97),1) -> -4.1 | I97: -1.2 | J97: -6.9 | K97: =U97 -> 4 | L97: =ROUND(AVERAGE(M97:N97),1) -> -7 | M97: -5.7 | N97: -8.2 | O97: =U97 -> 4 | P97: 8401 | R97: =ROUND(AVERAGE(S97:T97),1) -> -6 | S97: -2 | T97: -10 | U97: 4 | W97: 0.35 | X97: 1.61 | Z97: 9107 | AA97: 10.419355 | AB97: 18.387097 | AC97: 2.4193548 | AD97: 31.4 | AE97: 10.4 | AF97: 10.193548 | AG97: 16.83871 | AH97: 3.4903226 | AI97: 31.4 | AJ97: 10.4 | AK97: 10.367742 | AL97: 15.93871 | AM97: 4.7419355 | AN97: 31.4 | AO97: 10.4 | AP97: 13.4 | AQ97: 21.467742 | AR97: 5.2903226 | AS97: 31.4 | AT97: 10.4 | AU97: 22.377097 | AW97: 9107 | AX97: 24.9 | AY97: -2.4 | AZ97: 23.2 | BA97: -1.3 | BB97: 22.3 | BC97: 0 | BD97: 28.5 | BE97: -0.5
A98: 30683 | B98: 2 | C98: =IF(W98="",X98,ROUND(0.95*W98,2)) -> 1.48 | D98: =ROUND(AVERAGE(E98:F98),1) -> -4.8 | E98: -3.5 | F98: -6.1 | G98: =U98 -> 6.4 | H98: =ROUND(AVERAGE(I98:J98),1) -> -2.5 | I98: -0.1 | J98: -4.9 | K98: =U98 -> 6.4 | L98: =ROUND(AVERAGE(M98:N98),1) -> -4.6 | M98: -1.8 | N98: -7.3 | O98: =U98 -> 6.4 | P98: 8401 | R98: =ROUND(AVERAGE(S98:T98),1) -> -1.3 | S98: 3 | T98: -5.5 | U98: 6.4 | W98: 1.56 | X98: 1.56 | Z98: 9108 | AA98: 11.2 | AB98: 19.216129 | AC98: 3.1290323 | AD98: 73.1 | AE98: 17.4 | AF98: 10.964516 | AG98: 17.66129 | AH98: 4.2096774 | AI98: 73.1 | AJ98: 17.4 | AK98: 11.116129 | AL98: 16.76129 | AM98: 5.4290323 | AN98: 73.1 | AO98: 17.4 | AP98: 14.277419 | AQ98: 22.370968 | AR98: 6.1451613 | AS98: 73.1 | AT98: 17.4 | AU98: 17.604839 | AW98: 9108 | AX98: 25.3 | AY98: -2.8 | AZ98: 23.6 | BA98: -1.7 | BB98: 22.7 | BC98: -0.4 | BD98: 29 | BE98: -1
A99: 30684 | B99: 3 | C99: =IF(W99="",X99,ROUND(0.95*W99,2)) -> 0.89 | D99: =ROUND(AVERAGE(E99:F99),1) -> -1 | E99: 3.4 | F99: -5.4 | G99: =U99 -> 0 | H99: =ROUND(AVERAGE(I99:J99),1) -> 0.3 | I99: 4.6 | J99: -4.1 | K99: =U99 -> 0 | L99: =ROUND(AVERAGE(M99:N99),1) -> -1.3 | M99: 3.2 | N99: -5.8 | O99: =U99 -> 0 | P99: 8401 | R99: =ROUND(AVERAGE(S99:T99),1) -> 0.5 | S99: 3 | T99: -2 | U99: 0 | W99: 0.94 | X99: 1.57 | Z99: Grand Total | AA99: 1.4340941 | AB99: 7.0140733 | AC99: -4.1540802 | AD99: 5080.6 | AE99: 35.5 | AF99: 1.3126556 | AG99: 5.5792877 | AH99: -2.9580567 | AI99: 5057.7 | AJ99: 33.5 | AK99: 1.1857192 | AL99: 4.9092669 | AM99: -2.5422545 | AN99: 5202.3 | AO99: 42 | AP99: 2.7588866 | AQ99: 9.0819848 | AR99: -3.5759336 | AS99: 5829.6 | AT99: 33 | AU99: 11.877289 | AW99: Grand Total | AX99: 32 | AY99: -34.7 | AZ99: 30.9 | BA99: -33.3 | BB99: 29 | BC99: -33.1 | BD99: 32.5 | BE99: -42
A100: 30685 | B100: 4 | C100: =IF(W100="",X100,ROUND(0.95*W100,2)) -> 1.91 | D100: =ROUND(AVERAGE(E100:F100),1) -> 1.3 | E100: 3.1 | F100: -0.6 | G100: =U100 -> 2.5 | H100: =ROUND(AVERAGE(I100:J100),1) -> 1.9 | I100: 2.7 | J100: 1.1 | K100: =U100 -> 2.5 | L100: =ROUND(AVERAGE(M100:N100),1) -> 1.8 | M100: 4.2 | N100: -0.6 | O100: =U100 -> 2.5 | P100: 8401 | R100: =ROUND(AVERAGE(S100:T100),1) -> -0.8 | S100: 2.5 | T100: -4 | U100: 2.5 | W100: 2.01 | X100: 1.59
A101: 30686 | B101: 5 | C101: =IF(W101="",X101,ROUND(0.95*W101,2)) -> 3.05 | D101: =ROUND(AVERAGE(E101:F101),1) -> -2.1 | E101: 1.5 | F101: -5.6 | G101: =U101 -> 2.2 | H101: =ROUND(AVERAGE(I101:J101),1) -> -1.2 | I101: 1.7 | J101: -4 | K101: =U101 -> 2.2 | L101: =ROUND(AVERAGE(M101:N101),1) -> -1.2 | M101: 1.5 | N101: -3.9 | O101: =U101 -> 2.2 | P101: 8401 | R101: =ROUND(AVERAGE(S101:T101),1) -> -1.5 | S101: 2 | T101: -5 | U101: 2.2 | W101: 3.21 | X101: 3.81
A102: 30687 | B102: 6 | C102: =IF(W102="",X102,ROUND(0.95*W102,2)) -> 1.3 | D102: =ROUND(AVERAGE(E102:F102),1) -> -0.7 | E102: 1.8 | F102: -3.1 | G102: =U102 -> 1 | H102: =ROUND(AVERAGE(I102:J102),1) -> 0.9 | I102: 2.6 | J102: -0.9 | K102: =U102 -> 1 | L102: =ROUND(AVERAGE(M102:N102),1) -> 0.9 | M102: 3.1 | N102: -1.3 | O102: =U102 -> 1 | P102: 8401 | R102: =ROUND(AVERAGE(S102:T102),1) -> 0.5 | S102: 2 | T102: -1 | U102: 1 | W102: 1.37 | X102: 1.62
A103: 30688 | B103: 7 | C103: =IF(W103="",X103,ROUND(0.95*W103,2)) -> 1.5 | D103: =ROUND(AVERAGE(E103:F103),1) -> 0.6 | E103: 3.3 | F103: -2.1 | G103: =U103 -> 0 | H103: =ROUND(AVERAGE(I103:J103),1) -> -0.4 | I103: 2.6 | J103: -3.3 | K103: =U103 -> 0 | L103: =ROUND(AVERAGE(M103:N103),1) -> -1.4 | M103: -0.6 | N103: -2.1 | O103: =U103 -> 0 | P103: 8401 | R103: =ROUND(AVERAGE(S103:T103),1) -> 0 | S103: 3 | T103: -3 | U103: 0 | W103: 1.58 | X103: 1.63
A104: 30689 | B104: 8 | C104: =IF(W104="",X104,ROUND(0.95*W104,2)) -> 3.28 | D104: =ROUND(AVERAGE(E104:F104),1) -> -3.2 | E104: 0.5 | F104: -6.8 | G104: =U104 -> 0 | H104: =ROUND(AVERAGE(I104:J104),1) -> -3.6 | I104: -1.4 | J104: -5.8 | K104: =U104 -> 0 | L104: =ROUND(AVERAGE(M104:N104),1) -> -4 | M104: -3.2 | N104: -4.7 | O104: =U104 -> 0 | P104: 8401 | R104: =ROUND(AVERAGE(S104:T104),1) -> -3 | S104: -1 | T104: -5 | U104: 0 | W104: 3.45 | X104: 2.52
A105: 30690 | B105: 9 | C105: =IF(W105="",X105,ROUND(0.95*W105,2)) -> 2.31 | D105: =ROUND(AVERAGE(E105:F105),1) -> -7.8 | E105: -3.7 | F105: -11.9 | G105: =U105 -> 6 | H105: =ROUND(AVERAGE(I105:J105),1) -> -4.2 | I105: -1.3 | J105: -7 | K105: =U105 -> 6 | L105: =ROUND(AVERAGE(M105:N105),1) -> -7.2 | M105: -5.7 | N105: -8.6 | O105: =U105 -> 6 | P105: 8401 | R105: =ROUND(AVERAGE(S105:T105),1) -> -1.5 | S105: -0.5 | T105: -2.5 | U105: 6 | W105: 2.43 | X105: 1.66
A106: 30691 | B106: 10 | C106: =IF(W106="",X106,ROUND(0.95*W106,2)) -> 0.88 | D106: =ROUND(AVERAGE(E106:F106),1) -> -3.5 | E106: -2.7 | F106: -4.2 | G106: =U106 -> 11 | H106: =ROUND(AVERAGE(I106:J106),1) -> -4.7 | I106: -3.7 | J106: -5.7 | K106: =U106 -> 11 | L106: =ROUND(AVERAGE(M106:N106),1) -> -5 | M106: -3.9 | N106: -6 | O106: =U106 -> 11 | P106: 8401 | R106: =ROUND(AVERAGE(S106:T106),1) -> -1.5 | S106: -0.5 | T106: -2.5 | U106: 11 | W106: 0.93 | X106: 1.68
...

Sheet Monthly
A1: Monthly summary for Cheng, Dennis, Penticton, McClloch and UPC solar
A2: Last edit 14/11/19 | X2: =(1.19-0.0067*AP2) -> 0.8575125 | AB2: Extremes | AM2: Station | AN2: =Meta!N3 -> Dennis | AO2: Lat | AP2: =Meta!O3 -> 49.625 | AQ2: sin(Lat) | AR2: @cos(Lat) | AS2: @tan(lat)
C3: Cheng | H3: Dennis | M3: Penticton | R3: McCulloch | W3: UPC | X3: =AN2 -> Dennis | AB3: Cheng | AD3: Dennis | AF3: Penticton | AH3: McCulloch | AO3: Solar lookup table | AQ3: =SIN(AP2*0.01745) -> 0.76171518 | AR3: =COS(AP2*0.01745) -> 0.64791202 | AS3: =TAN(0.01745*AP2) -> 1.175646
B4: YrMn | C4: Tave | D4: Tmax | E4: Tmin | F4: Precip | G4: 1dayX | H4: Tave | I4: Tmax | J4: Tmin | K4: Precip | L4: 1dayX | M4: Tave | N4: Tmax | O4: Tmin | P4: Precip | Q4: 1dayX | R4: Tave | S4: Tmax | T4: Tmin | U4: Precip | V4: 1dayX | W4: Solar | X4: Eref | Y4: CMD | Z4: Month | AA4: Year | AB4: TmaxX | AC4: TminN | AD4: TmaxX | AE4: TminN | AF4: TmaxX | AG4: TminN | AH4: TmaxX | AI4: TminN | AO4: Month | AP4: DoM | AQ4: Dim | AR4: Declination | AS4: RelDistSun | AT4: Scratch | AU4: SunsetHrAngle | AV4: daylength | AW4: SolarTop | AX4: d*So
B5: =Data!Z4 -> 8310 | C5: =ROUND(Data!AA4,1) -> 3 | D5: =ROUND(Data!AB4,1) -> 7.7 | E5: =ROUND(Data!AC4,1) -> -1.6 | F5: =Data!AD4 -> 25 | G5: =Data!AE4 -> 9 | H5: =ROUND(Data!AF4,1) -> 2.6 | I5: =ROUND(Data!AG4,1) -> 6.2 | J5: =ROUND(Data!AH4,1) -> -0.9 | K5: =Data!AI4 -> 27 | L5: =Data!AJ4 -> 9 | M5: =ROUND(Data!AK4,1) -> 1.8 | N5: =ROUND(Data!AL4,1) -> 4.8 | O5: =ROUND(Data!AM4,1) -> -1.2 | P5: =Data!AN4 -> 28.5 | Q5: =Data!AO4 -> 9 | R5: =ROUND(Data!AP4,1) -> 4 | S5: =ROUND(Data!AQ4,1) -> 9.1 | T5: =ROUND(Data!AR4,1) -> -1.3 | U5: =Data!AS4 -> 22.7 | V5: =Data!AT4 -> 6.4 | W5: =ROUND(Data!AQ4,2) -> 9.15 | X5: =IF(H5<0,0,ROUND(0.0023*VLOOKUP(Z5,$AO$6:$AJG$17,10)*(H5+17.8)*(I5-J5)^0.5*X$2,0)) -> 23 | Y5: =IF(X5>K5,X5-K5,0) -> 0 | Z5: 10 | AA5: 1983 | AO5: 1 | AP5: 16 | AQ5: 31 | AR5: -0.3681 | AS5: 1.032 | AT5: =(AS$6*TAN(AR5)) -> -0.39454955 | AU5: =IF(AT5<-1,0,IF(AT5>1,3.14,ACOS(-AT5))) -> 1.1652187 | AV5: =0.636*AU5 -> 0.74107912 | AW5: =ROUND(15.392*AS5*(AU5*AQ$3*SIN(AR5)+AR$3*COS(AR5)*SIN(AU5)),2) -> 3.75 | AX5: =AQ5*AW5 -> 116.25
B6: =Data!Z5 -> 8311 | C6: =ROUND(Data!AA5,1) -> -2.8 | D6: =ROUND(Data!AB5,1) -> -0.5 | E6: =ROUND(Data!AC5,1) -> -5 | F6: =Data!AD5 -> 58.5 | G6: =Data!AE5 -> 8.5 | H6: =ROUND(Data!AF5,1) -> -4.4 | I6: =ROUND(Data!AG5,1) -> -2.9 | J6: =ROUND(Data!AH5,1) -> -6 | K6: =Data!AI5 -> 80 | L6: =Data!AJ5 -> 8 | M6: =ROUND(Data!AK5,1) -> -4.4 | N6: =ROUND(Data!AL5,1) -> -3 | O6: =ROUND(Data!AM5,1) -> -5.7 | P6: =Data!AN5 -> 80 | Q6: =Data!AO5 -> 8 | R6: =ROUND(Data!AP5,1) -> -0.1 | S6: =ROUND(Data!AQ5,1) -> 2.1 | T6: =ROUND(Data!AR5,1) -> -2.4 | U6: =Data!AS5 -> 127.2 | V6: =Data!AT5 -> 24 | W6: =ROUND(Data!AQ5,2) -> 2.12 | X6: =IF(H6<0,0,ROUND(0.0023*VLOOKUP(Z6,$AO$6:$AJG$17,10)*(H6+17.8)*(I6-J6)^0.5*X$2,0)) -> 0 | Y6: =IF(X6>K6,X6-K6,0) -> 0 | Z6: 11 | AA6: 1983 | AO6: 2 | AP6: 46 | AQ6: 28 | AR6: -0.2259 | AS6: 1.023 | AT6: =(AS$6*TAN(AR6)) -> -0.23510863 | AU6: =IF(AT6<-1,0,IF(AT6>1,3.14,ACOS(-AT6))) -> 1.333466 | AV6: =0.636*AU6 -> 0.84808437 | AW6: =ROUND(15.392*AS6*(AU6*AQ$3*SIN(AR6)+AR$3*COS(AR6)*SIN(AU6)),2) -> 6.08 | AX6: =AQ6*AW6 -> 170.24
B7: =Data!Z6 -> 8312 | C7: =ROUND(Data!AA6,1) -> -14.4 | D7: =ROUND(Data!AB6,1) -> -9.5 | E7: =ROUND(Data!AC6,1) -> -19.3 | F7: =Data!AD6 -> 119 | G7: =Data!AE6 -> 21 | H7: =ROUND(Data!AF6,1) -> -13.4 | I7: =ROUND(Data!AG6,1) -> -10.4 | J7: =ROUND(Data!AH6,1) -> -16.4 | K7: =Data!AI6 -> 119 | L7: =Data!AJ6 -> 21 | M7: =ROUND(Data!AK6,1) -> -14.3 | N7: =ROUND(Data!AL6,1) -> -11.6 | O7: =ROUND(Data!AM6,1) -> -16.9 | P7: =Data!AN6 -> 119 | Q7: =Data!AO6 -> 21 | R7: =ROUND(Data!AP6,1) -> -11.7 | S7: =ROUND(Data!AQ6,1) -> -7.5 | T7: =ROUND(Data!AR6,1) -> -15.9 | U7: =Data!AS6 -> 119 | V7: =Data!AT6 -> 21 | W7: =ROUND(Data!AQ6,2) -> -7.52 | X7: =IF(H7<0,0,ROUND(0.0023*VLOOKUP(Z7,$AO$6:$AJG$17,10)*(H7+17.8)*(I7-J7)^0.5*X$2,0)) -> 0 | Y7: =IF(X7>K7,X7-K7,0) -> 0 | Z7: 12 | AA7: 1983 | AB7: =Data!AX4 -> 12.6 | AC7: =Data!AY4 -> -5.5 | AD7: =Data!AZ4 -> 12.3 | AE7: =Data!BA4 -> -5.8 | AF7: =Data!BB4 -> 10.7 | AG7: =Data!BC4 -> -5.7 | AH7: =Data!BD4 -> 15 | AI7: =Data!BE4 -> -8 | AO7: 3 | AP7: 75 | AQ7: 31 | AR7: -0.0422 | AS7: 1.01 | AT7: =(AS$6*TAN(AR7)) -> -0.043196245 | AU7: =IF(AT7<-1,0,IF(AT7>1,3.14,ACOS(-AT7))) -> 1.5275866 | AV7: =0.636*AU7 -> 0.9715451 | AW7: =ROUND(15.392*AS7*(AU7*AQ$3*SIN(AR7)+AR$3*COS(AR7)*SIN(AU7)),2) -> 9.29 | AX7: =AQ7*AW7 -> 287.99
B8: =Data!Z7 -> 8401 | C8: =ROUND(Data!AA7,1) -> -6.3 | D8: =ROUND(Data!AB7,1) -> -2.3 | E8: =ROUND(Data!AC7,1) -> -10.3 | F8: =Data!AD7 -> 45.1 | G8: =Data!AE7 -> 11 | H8: =ROUND(Data!AF7,1) -> -5.7 | I8: =ROUND(Data!AG7,1) -> -2.6 | J8: =ROUND(Data!AH7,1) -> -8.7 | K8: =Data!AI7 -> 45.1 | L8: =Data!AJ7 -> 11 | M8: =ROUND(Data!AK7,1) -> -6.9 | N8: =ROUND(Data!AL7,1) -> -4.4 | O8: =ROUND(Data!AM7,1) -> -9.3 | P8: =Data!AN7 -> 45.1 | Q8: =Data!AO7 -> 11 | R8: =ROUND(Data!AP7,1) -> -5.9 | S8: =ROUND(Data!AQ7,1) -> -1.4 | T8: =ROUND(Data!AR7,1) -> -10.3 | U8: =Data!AS7 -> 67.1 | V8: =Data!AT7 -> 11 | W8: =ROUND(Data!AQ7,2) -> -1.4 | X8: =IF(H8<0,0,ROUND(0.0023*VLOOKUP(Z8,$AO$6:$AJG$17,10)*(H8+17.8)*(I8-J8)^0.5*X$2,0)) -> 0 | Y8: =IF(X8>K8,X8-K8,0) -> 0 | Z8: 1 | AA8: 1984 | AB8: =Data!AX5 -> 6.7 | AC8: =Data!AY5 -> -16.9 | AD8: =Data!AZ5 -> 3.3 | AE8: =Data!BA5 -> -15.2 | AF8: =Data!BB5 -> 3.5 | AG8: =Data!BC5 -> -15 | AH8: =Data!BD5 -> 9 | AI8: =Data!BE5 -> -18 | AO8: 4 | AP8: 105 | AQ8: 30 | AR8: 0.1706 | AS8: 0.992 | AT8: =(AS$6*TAN(AR8)) -> 0.17623688 | AU8: =IF(AT8<-1,0,IF(AT8>1,3.14,ACOS(-AT8))) -> 1.7479585 | AV8: =0.636*AU8 -> 1.1117016 | AW8: =ROUND(15.392*AS8*(AU8*AQ$3*SIN(AR8)+AR$3*COS(AR8)*SIN(AU8)),2) -> 13.05 | AX8: =AQ8*AW8 -> 391.5
B9: =Data!Z8 -> 8402 | C9: =ROUND(Data!AA8,1) -> -5.7 | D9: =ROUND(Data!AB8,1) -> -2.2 | E9: =ROUND(Data!AC8,1) -> -9 | F9: =Data!AD8 -> 31 | G9: =Data!AE8 -> 6 | H9: =ROUND(Data!AF8,1) -> -5.2 | I9: =ROUND(Data!AG8,1) -> -2.4 | J9: =ROUND(Data!AH8,1) -> -8 | K9: =Data!AI8 -> 31 | L9: =Data!AJ8 -> 6 | M9: =ROUND(Data!AK8,1) -> -6.2 | N9: =ROUND(Data!AL8,1) -> -3.7 | O9: =ROUND(Data!AM8,1) -> -8.7 | P9: =Data!AN8 -> 31 | Q9: =Data!AO8 -> 6 | R9: =ROUND(Data!AP8,1) -> -3.5 | S9: =ROUND(Data!AQ8,1) -> 1.4 | T9: =ROUND(Data!AR8,1) -> -8.4 | U9: =Data!AS8 -> 66 | V9: =Data!AT8 -> 11 | W9: =ROUND(Data!AQ8,2) -> 1.4 | X9: =IF(H9<0,0,ROUND(0.0023*VLOOKUP(Z9,$AO$6:$AJG$17,10)*(H9+17.8)*(I9-J9)^0.5*X$2,0)) -> 0 | Y9: =IF(X9>K9,X9-K9,0) -> 0 | Z9: 2 | AA9: 1984 | AB9: =Data!AX6 -> 1 | AC9: =Data!AY6 -> -33.8 | AD9: =Data!AZ6 -> -3 | AE9: =Data!BA6 -> -30.4 | AF9: =Data!BB6 -> -3.8 | AG9: =Data!BC6 -> -30.2 | AH9: =Data!BD6 -> 1 | AI9: =Data!BE6 -> -38 | AO9: 5 | AP9: 135 | AQ9: 31 | AR9: 0.332 | AS9: 0.977 | AT9: =(AS$6*TAN(AR9)) -> 0.35269055 | AU9: =IF(AT9<-1,0,IF(AT9>1,3.14,ACOS(-AT9))) -> 1.9312412 | AV9: =0.636*AU9 -> 1.2282694 | AW9: =ROUND(15.392*AS9*(AU9*AQ$3*SIN(AR9)+AR$3*COS(AR9)*SIN(AU9)),2) -> 15.83 | AX9: =AQ9*AW9 -> 490.73
B10: =Data!Z9 -> 8403 | C10: =ROUND(Data!AA9,1) -> -3.4 | D10: =ROUND(Data!AB9,1) -> 1.2 | E10: =ROUND(Data!AC9,1) -> -8 | F10: =Data!AD9 -> 93.2 | G10: =Data!AE9 -> 23.5 | H10: =ROUND(Data!AF9,1) -> -2.6 | I10: =ROUND(Data!AG9,1) -> -0.1 | J10: =ROUND(Data!AH9,1) -> -5.2 | K10: =Data!AI9 -> 94.2 | L10: =Data!AJ9 -> 23.5 | M10: =ROUND(Data!AK9,1) -> -2 | N10: =ROUND(Data!AL9,1) -> 0.8 | O10: =ROUND(Data!AM9,1) -> -4.7 | P10: =Data!AN9 -> 94.2 | Q10: =Data!AO9 -> 23.5 | R10: =ROUND(Data!AP9,1) -> -0.2 | S10: =ROUND(Data!AQ9,1) -> 4.9 | T10: =ROUND(Data!AR9,1) -> -5.4 | U10: =Data!AS9 -> 40.7 | V10: =Data!AT9 -> 9.4 | W10: =ROUND(Data!AQ9,2) -> 4.9 | X10: =IF(H10<0,0,ROUND(0.0023*VLOOKUP(Z10,$AO$6:$AJG$17,10)*(H10+17.8)*(I10-J10)^0.5*X$2,0)) -> 0 | Y10: =IF(X10>K10,X10-K10,0) -> 0 | Z10: 3 | AA10: 1984 | AB10: =Data!AX7 -> 7.6 | AC10: =Data!AY7 -> -29 | AD10: =Data!AZ7 -> 6.3 | AE10: =Data!BA7 -> -22.8 | AF10: =Data!BB7 -> 4.2 | AG10: =Data!BC7 -> -21.5 | AH10: =Data!BD7 -> 7.5 | AI10: =Data!BE7 -> -31 | AO10: 6 | AP10: 162 | AQ10: 30 | AR10: 0.4076 | AS10: 0.968 | AT10: =(AS$6*TAN(AR10)) -> 0.44171176 | AU10: =IF(AT10<-1,0,IF(AT10>1,3.14,ACOS(-AT10))) -> 2.0283021 | AV10: =0.636*AU10 -> 1.2900001 | AW10: =ROUND(15.392*AS10*(AU10*AQ$3*SIN(AR10)+AR$3*COS(AR10)*SIN(AU10)),2) -> 17.08 | AX10: =AQ10*AW10 -> 512.4
B11: =Data!Z10 -> 8404 | C11: =ROUND(Data!AA10,1) -> -1.1 | D11: =ROUND(Data!AB10,1) -> 3.7 | E11: =ROUND(Data!AC10,1) -> -5.8 | F11: =Data!AD10 -> 31.2 | G11: =Data!AE10 -> 4.2 | H11: =ROUND(Data!AF10,1) -> -2.1 | I11: =ROUND(Data!AG10,1) -> 1.2 | J11: =ROUND(Data!AH10,1) -> -5.3 | K11: =Data!AI10 -> 31.2 | L11: =Data!AJ10 -> 4.2 | M11: =ROUND(Data!AK10,1) -> -1.3 | N11: =ROUND(Data!AL10,1) -> 2.1 | O11: =ROUND(Data!AM10,1) -> -4.7 | P11: =Data!AN10 -> 31.2 | Q11: =Data!AO10 -> 4.2 | R11: =ROUND(Data!AP10,1) -> 1.1 | S11: =ROUND(Data!AQ10,1) -> 6.3 | T11: =ROUND(Data!AR10,1) -> -4.1 | U11: =Data!AS10 -> 47.4 | V11: =Data!AT10 -> 12.9 | W11: =ROUND(Data!AQ10,2) -> 6.32 | X11: =IF(H11<0,0,ROUND(0.0023*VLOOKUP(Z11,$AO$6:$AJG$17,10)*(H11+17.8)*(I11-J11)^0.5*X$2,0)) -> 0 | Y11: =IF(X11>K11,X11-K11,0) -> 0 | Z11: 4 | AA11: 1984 | AB11: =Data!AX8 -> 3.4 | AC11: =Data!AY8 -> -16.3 | AD11: =Data!AZ8 -> 10 | AE11: =Data!BA8 -> -15 | AF11: =Data!BB8 -> 7.1 | AG11: =Data!BC8 -> -14.8 | AH11: =Data!BD8 -> 9.5 | AI11: =Data!BE8 -> -18.5 | AO11: 7 | AP11: 199 | AQ11: 31 | AR11: 0.373 | AS11: 0.968 | AT11: =(AS$6*TAN(AR11)) -> 0.40031883 | AU11: =IF(AT11<-1,0,IF(AT11>1,3.14,ACOS(-AT11))) -> 1.9826611 | AV11: =0.636*AU11 -> 1.2609724 | AW11: =ROUND(15.392*AS11*(AU11*AQ$3*SIN(AR11)+AR$3*COS(AR11)*SIN(AU11)),2) -> 16.44 | AX11: =AQ11*AW11 -> 509.64
B12: =Data!Z11 -> 8405 | C12: =ROUND(Data!AA11,1) -> 1.6 | D12: =ROUND(Data!AB11,1) -> 6 | E12: =ROUND(Data!AC11,1) -> -2.9 | F12: =Data!AD11 -> 98.3 | G12: =Data!AE11 -> 12.3 | H12: =ROUND(Data!AF11,1) -> 0.6 | I12: =ROUND(Data!AG11,1) -> 4.2 | J12: =ROUND(Data!AH11,1) -> -2.9 | K12: =Data!AI11 -> 95.3 | L12: =Data!AJ11 -> 13 | M12: =ROUND(Data!AK11,1) -> 0.7 | N12: =ROUND(Data!AL11,1) -> 4.3 | O12: =ROUND(Data!AM11,1) -> -2.9 | P12: =Data!AN11 -> 95.3 | Q12: =Data!AO11 -> 13 | R12: =ROUND(Data!AP11,1) -> 4.1 | S12: =ROUND(Data!AQ11,1) -> 9 | T12: =ROUND(Data!AR11,1) -> -0.8 | U12: =Data!AS11 -> 84.6 | V12: =Data!AT11 -> 12.3 | W12: =ROUND(Data!AQ11,2) -> 9 | X12: =IF(H12<0,0,ROUND(0.0023*VLOOKUP(Z12,$AO$6:$AJG$17,10)*(H12+17.8)*(I12-J12)^0.5*X$2,0)) -> 47 | Y12: =IF(X12>K12,X12-K12,0) -> 0 | Z12: 5 | AA12: 1984 | AB12: =Data!AX9 -> 8.2 | AC12: =Data!AY9 -> -18.8 | AD12: =Data!AZ9 -> 6.9 | AE12: =Data!BA9 -> -10.5 | AF12: =Data!BB9 -> 7.5 | AG12: =Data!BC9 -> -9.3 | AH12: =Data!BD9 -> 10.5 | AI12: =Data!BE9 -> -17 | AO12: 8 | AP12: 229 | AQ12: 31 | AR12: 0.2355 | AS12: 0.976 | AT12: =(AS$6*TAN(AR12)) -> 0.24547133 | AU12: =IF(AT12<-1,0,IF(AT12>1,3.14,ACOS(-AT12))) -> 1.8188022 | AV12: =0.636*AU12 -> 1.1567582 | AW12: =ROUND(15.392*AS12*(AU12*AQ$3*SIN(AR12)+AR$3*COS(AR12)*SIN(AU12)),2) -> 14.03 | AX12: =AQ12*AW12 -> 434.93
B13: =Data!Z12 -> 8406 | C13: =ROUND(Data!AA12,1) -> 7 | D13: =ROUND(Data!AB12,1) -> 12.5 | E13: =ROUND(Data!AC12,1) -> 1.4 | F13: =Data!AD12 -> 84 | G13: =Data!AE12 -> 12 | H13: =ROUND(Data!AF12,1) -> 6.5 | I13: =ROUND(Data!AG12,1) -> 10.9 | J13: =ROUND(Data!AH12,1) -> 2 | K13: =Data!AI12 -> 82.5 | L13: =Data!AJ12 -> 14 | M13: =ROUND(Data!AK12,1) -> 5.8 | N13: =ROUND(Data!AL12,1) -> 10.1 | O13: =ROUND(Data!AM12,1) -> 1.5 | P13: =Data!AN12 -> 82.5 | Q13: =Data!AO12 -> 14 | R13: =ROUND(Data!AP12,1) -> 9.6 | S13: =ROUND(Data!AQ12,1) -> 15.7 | T13: =ROUND(Data!AR12,1) -> 3.5 | U13: =Data!AS12 -> 81.4 | V13: =Data!AT12 -> 22.1 | W13: =ROUND(Data!AQ12,2) -> 15.65 | X13: =IF(H13<0,0,ROUND(0.0023*VLOOKUP(Z13,$AO$6:$AJG$17,10)*(H13+17.8)*(I13-J13)^0.5*X$2,0)) -> 73 | Y13: =IF(X13>K13,X13-K13,0) -> 0 | Z13: 6 | AA13: 1984 | AB13: =Data!AX10 -> 17 | AC13: =Data!AY10 -> -13.5 | AD13: =Data!AZ10 -> 13.5 | AE13: =Data!BA10 -> -11.1 | AF13: =Data!BB10 -> 16.9 | AG13: =Data!BC10 -> -10.4 | AH13: =Data!BD10 -> 18 | AI13: =Data!BE10 -> -11 | AO13: 9 | AP13: 259 | AQ13: 30 | AR13: 0.0327 | AS13: 0.991 | AT13: =(AS$6*TAN(AR13)) -> 0.033464028 | AU13: =IF(AT13<-1,0,IF(AT13>1,3.14,ACOS(-AT13))) -> 1.6042666 | AV13: =0.636*AU13 -> 1.0203136 | AW13: =ROUND(15.392*AS13*(AU13*AQ$3*SIN(AR13)+AR$3*COS(AR13)*SIN(AU13)),2) -> 10.48 | AX13: =AQ13*AW13 -> 314.4
B14: =Data!Z13 -> 8407 | C14: =ROUND(Data!AA13,1) -> 12.6 | D14: =ROUND(Data!AB13,1) -> 20.5 | E14: =ROUND(Data!AC13,1) -> 4.7 | F14: =Data!AD13 -> 14.5 | G14: =Data!AE13 -> 11.5 | H14: =ROUND(Data!AF13,1) -> 12.7 | I14: =ROUND(Data!AG13,1) -> 19 | J14: =ROUND(Data!AH13,1) -> 6.4 | K14: =Data!AI13 -> 34 | L14: =Data!AJ13 -> 20.5 | M14: =ROUND(Data!AK13,1) -> 12.1 | N14: =ROUND(Data!AL13,1) -> 18 | O14: =ROUND(Data!AM13,1) -> 6.2 | P14: =Data!AN13 -> 34 | Q14: =Data!AO13 -> 20.5 | R14: =ROUND(Data!AP13,1) -> 13.8 | S14: =ROUND(Data!AQ13,1) -> 23.4 | T14: =ROUND(Data!AR13,1) -> 4 | U14: =Data!AS13 -> 16.1 | V14: =Data!AT13 -> 9.1 | W14: =ROUND(Data!AQ13,2) -> 23.4 | X14: =IF(H14<0,0,ROUND(0.0023*VLOOKUP(Z14,$AO$6:$AJG$17,10)*(H14+17.8)*(I14-J14)^0.5*X$2,0)) -> 109 | Y14: =IF(X14>K14,X14-K14,0) -> 75 | Z14: 7 | AA14: 1984 | AB14: =Data!AX11 -> 20.9 | AC14: =Data!AY11 -> -10.1 | AD14: =Data!AZ11 -> 16.6 | AE14: =Data!BA11 -> -9.4 | AF14: =Data!BB11 -> 18.2 | AG14: =Data!BC11 -> -8 | AH14: =Data!BD11 -> 15.5 | AI14: =Data!BE11 -> -8 | AO14: 10 | AP14: 288 | AQ14: 31 | AR14: -0.1729 | AS14: 1.008 | AT14: =(AS$6*TAN(AR14)) -> -0.17866058 | AU14: =IF(AT14<-1,0,IF(AT14>1,3.14,ACOS(-AT14))) -> 1.3911714 | AV14: =0.636*AU14 -> 0.88478499 | AW14: =ROUND(15.392*AS14*(AU14*AQ$3*SIN(AR14)+AR$3*COS(AR14)*SIN(AU14)),2) -> 6.91 | AX14: =AQ14*AW14 -> 214.21
B15: =Data!Z14 -> 8408 | C15: =ROUND(Data!AA14,1) -> 12.2 | D15: =ROUND(Data!AB14,1) -> 19.4 | E15: =ROUND(Data!AC14,1) -> 5 | F15: =Data!AD14 -> 48 | G15: =Data!AE14 -> 15.5 | H15: =ROUND(Data!AF14,1) -> 12 | I15: =ROUND(Data!AG14,1) -> 17.5 | J15: =ROUND(Data!AH14,1) -> 6.5 | K15: =Data!AI14 -> 60.5 | L15: =Data!AJ14 -> 18.5 | M15: =ROUND(Data!AK14,1) -> 11.5 | N15: =ROUND(Data!AL14,1) -> 16.7 | O15: =ROUND(Data!AM14,1) -> 6.1 | P15: =Data!AN14 -> 60.5 | Q15: =Data!AO14 -> 18.5 | R15: =ROUND(Data!AP14,1) -> 13.8 | S15: =ROUND(Data!AQ14,1) -> 22.4 | T15: =ROUND(Data!AR14,1) -> 5.2 | U15: =Data!AS14 -> 53.8 | V15: =Data!AT14 -> 17 | W15: =ROUND(Data!AQ14,2) -> 22.35 | X15: =IF(H15<0,0,ROUND(0.0023*VLOOKUP(Z15,$AO$6:$AJG$17,10)*(H15+17.8)*(I15-J15)^0.5*X$2,0)) -> 85 | Y15: =IF(X15>K15,X15-K15,0) -> 24.5 | Z15: 8 | AA15: 1984 | AB15: =Data!AX12 -> 22.7 | AC15: =Data!AY12 -> -4.1 | AD15: =Data!AZ12 -> 20.7 | AE15: =Data!BA12 -> -4.3 | AF15: =Data!BB12 -> 21 | AG15: =Data!BC12 -> -3.8 | AH15: =Data!BD12 -> 25 | AI15: =Data!BE12 -> -3.5 | AO15: 11 | AP15: 318 | AQ15: 30 | AR15: -0.3374 | AS15: 1.023 | AT15: =(AS$6*TAN(AR15)) -> -0.35888295 | AU15: =IF(AT15<-1,0,IF(AT15>1,3.14,ACOS(-AT15))) -> 1.2037255 | AV15: =0.636*AU15 -> 0.76556941 | AW15: =ROUND(15.392*AS15*(AU15*AQ$3*SIN(AR15)+AR$3*COS(AR15)*SIN(AU15)),2) -> 4.21 | AX15: =AQ15*AW15 -> 126.3
B16: =Data!Z15 -> 8409 | C16: =ROUND(Data!AA15,1) -> 5.5 | D16: =ROUND(Data!AB15,1) -> 11.3 | E16: =ROUND(Data!AC15,1) -> -0.4 | F16: =Data!AD15 -> 36.5 | G16: =Data!AE15 -> 15 | H16: =ROUND(Data!AF15,1) -> 5.8 | I16: =ROUND(Data!AG15,1) -> 10.3 | J16: =ROUND(Data!AH15,1) -> 1.3 | K16: =Data!AI15 -> 35 | L16: =Data!AJ15 -> 16.5 | M16: =ROUND(Data!AK15,1) -> 5.3 | N16: =ROUND(Data!AL15,1) -> 9.4 | O16: =ROUND(Data!AM15,1) -> 1.1 | P16: =Data!AN15 -> 35 | Q16: =Data!AO15 -> 16.5 | R16: =ROUND(Data!AP15,1) -> 7.1 | S16: =ROUND(Data!AQ15,1) -> 14 | T16: =ROUND(Data!AR15,1) -> 0.2 | U16: =Data!AS15 -> 35 | V16: =Data!AT15 -> 16.5 | W16: =ROUND(Data!AQ15,2) -> 14.02 | X16: =IF(H16<0,0,ROUND(0.0023*VLOOKUP(Z16,$AO$6:$AJG$17,10)*(H16+17.8)*(I16-J16)^0.5*X$2,0)) -> 44 | Y16: =IF(X16>K16,X16-K16,0) -> 9 | Z16: 9 | AA16: 1984 | AB16: =Data!AX13 -> 29.7 | AC16: =Data!AY13 -> -2 | AD16: =Data!AZ13 -> 26.4 | AE16: =Data!BA13 -> 0 | AF16: =Data!BB13 -> 27 | AG16: =Data!BC13 -> -0.3 | AH16: =Data!BD13 -> 30.5 | AI16: =Data!BE13 -> -2 | AO16: 12 | AP16: 343 | AQ16: 31 | AR16: -0.4071 | AS16: 1.032 | AT16: =(AS$6*TAN(AR16)) -> -0.44110503 | AU16: =IF(AT16<-1,0,IF(AT16>1,3.14,ACOS(-AT16))) -> 1.1139667 | AV16: =0.636*AU16 -> 0.70848284 | AW16: =ROUND(15.392*AS16*(AU16*AQ$3*SIN(AR16)+AR$3*COS(AR16)*SIN(AU16)),2) -> 3.14 | AX16: =AQ16*AW16 -> 97.34
B17: =Data!Z16 -> 8410 | C17: =ROUND(Data!AA16,1) -> -1.1 | D17: =ROUND(Data!AB16,1) -> 3.2 | E17: =ROUND(Data!AC16,1) -> -5.5 | F17: =Data!AD16 -> 55 | G17: =Data!AE16 -> 14 | H17: =ROUND(Data!AF16,1) -> -0.6 | I17: =ROUND(Data!AG16,1) -> 3 | J17: =ROUND(Data!AH16,1) -> -4.2 | K17: =Data!AI16 -> 55 | L17: =Data!AJ16 -> 14 | M17: =ROUND(Data!AK16,1) -> -1.4 | N17: =ROUND(Data!AL16,1) -> 1.5 | O17: =ROUND(Data!AM16,1) -> -4.4 | P17: =Data!AN16 -> 55 | Q17: =Data!AO16 -> 14 | R17: =ROUND(Data!AP16,1) -> 1.5 | S17: =ROUND(Data!AQ16,1) -> 6.9 | T17: =ROUND(Data!AR16,1) -> -3.8 | U17: =Data!AS16 -> 86 | V17: =Data!AT16 -> 20.3 | W17: =ROUND(Data!AQ16,2) -> 6.87 | X17: =IF(H17<0,0,ROUND(0.0023*VLOOKUP(Z17,$AO$6:$AJG$17,10)*(H17+17.8)*(I17-J17)^0.5*X$2,0)) -> 0 | Y17: =IF(X17>K17,X17-K17,0) -> 0 | Z17: 10 | AA17: 1984 | AB17: =Data!AX14 -> 27.1 | AC17: =Data!AY14 -> -1.8 | AD17: =Data!AZ14 -> 24.7 | AE17: =Data!BA14 -> -0.9 | AF17: =Data!BB14 -> 24.7 | AG17: =Data!BC14 -> -1 | AH17: =Data!BD14 -> 29.5 | AI17: =Data!BE14 -> -2.5 | AM17: Annual
B18: =Data!Z17 -> 8411 | C18: =ROUND(Data!AA17,1) -> -4.7 | D18: =ROUND(Data!AB17,1) -> -1.1 | E18: =ROUND(Data!AC17,1) -> -8.3 | F18: =Data!AD17 -> 59 | G18: =Data!AE17 -> 8 | H18: =ROUND(Data!AF17,1) -> -4.3 | I18: =ROUND(Data!AG17,1) -> -1.8 | J18: =ROUND(Data!AH17,1) -> -6.7 | K18: =Data!AI17 -> 57 | L18: =Data!AJ17 -> 8 | M18: =ROUND(Data!AK17,1) -> -6.5 | N18: =ROUND(Data!AL17,1) -> -4.5 | O18: =ROUND(Data!AM17,1) -> -8.5 | P18: =Data!AN17 -> 58 | Q18: =Data!AO17 -> 8 | R18: =ROUND(Data!AP17,1) -> -2.8 | S18: =ROUND(Data!AQ17,1) -> 0.7 | T18: =ROUND(Data!AR17,1) -> -6.2 | U18: =Data!AS17 -> 70.4 | V18: =Data!AT17 -> 8 | W18: =ROUND(Data!AQ17,2) -> 0.67 | X18: =IF(H18<0,0,ROUND(0.0023*VLOOKUP(Z18,$AO$6:$AJG$17,10)*(H18+17.8)*(I18-J18)^0.5*X$2,0)) -> 0 | Y18: =IF(X18>K18,X18-K18,0) -> 0 | Z18: 11 | AA18: 1984 | AB18: =Data!AX15 -> 19.7 | AC18: =Data!AY15 -> -6.3 | AD18: =Data!AZ15 -> 18.9 | AE18: =Data!BA15 -> -6 | AF18: =Data!BB15 -> 18.2 | AG18: =Data!BC15 -> -5.7 | AH18: =Data!BD15 -> 23 | AI18: =Data!BE15 -> -6.4
B19: =Data!Z18 -> 8412 | C19: =ROUND(Data!AA18,1) -> -12.3 | D19: =ROUND(Data!AB18,1) -> -8.5 | E19: =ROUND(Data!AC18,1) -> -16 | F19: =Data!AD18 -> 31.5 | G19: =Data!AE18 -> 4.5 | H19: =ROUND(Data!AF18,1) -> -10 | I19: =ROUND(Data!AG18,1) -> -7.3 | J19: =ROUND(Data!AH18,1) -> -12.6 | K19: =Data!AI18 -> 38 | L19: =Data!AJ18 -> 4 | M19: =ROUND(Data!AK18,1) -> -10.7 | N19: =ROUND(Data!AL18,1) -> -8 | O19: =ROUND(Data!AM18,1) -> -13.3 | P19: =Data!AN18 -> 36.5 | Q19: =Data!AO18 -> 4.5 | R19: =ROUND(Data!AP18,1) -> -12.2 | S19: =ROUND(Data!AQ18,1) -> -7.5 | T19: =ROUND(Data!AR18,1) -> -16.8 | U19: =Data!AS18 -> 101.5 | V19: =Data!AT18 -> 23 | W19: =ROUND(Data!AQ18,2) -> -7.55 | X19: =IF(H19<0,0,ROUND(0.0023*VLOOKUP(Z19,$AO$6:$AJG$17,10)*(H19+17.8)*(I19-J19)^0.5*X$2,0)) -> 0 | Y19: =IF(X19>K19,X19-K19,0) -> 0 | Z19: 12 | AA19: 1984 | AB19: =Data!AX16 -> 18.5 | AC19: =Data!AY16 -> -27.8 | AD19: =Data!AZ16 -> 17.6 | AE19: =Data!BA16 -> -25.6 | AF19: =Data!BB16 -> 16.3 | AG19: =Data!BC16 -> -25.2 | AH19: =Data!BD16 -> 20.5 | AI19: =Data!BE16 -> -22 | AM19: Row Labels | AN19: Sum of Eref | AO19: Sum of CMD | AQ19: Year | AR19: Eref | AS19: CMD
B20: =Data!Z19 -> 8501 | C20: =ROUND(Data!AA19,1) -> -7.3 | D20: =ROUND(Data!AB19,1) -> -2.7 | E20: =ROUND(Data!AC19,1) -> -11.8 | F20: =Data!AD19 -> 16 | G20: =Data!AE19 -> 8.5 | H20: =ROUND(Data!AF19,1) -> -5.3 | I20: =ROUND(Data!AG19,1) -> -3.1 | J20: =ROUND(Data!AH19,1) -> -7.4 | K20: =Data!AI19 -> 21.5 | L20: =Data!AJ19 -> 9 | M20: =ROUND(Data!AK19,1) -> -4.9 | N20: =ROUND(Data!AL19,1) -> -2.7 | O20: =ROUND(Data!AM19,1) -> -7.2 | P20: =Data!AN19 -> 14.4 | Q20: =Data!AO19 -> 6.5 | R20: =ROUND(Data!AP19,1) -> -7.7 | S20: =ROUND(Data!AQ19,1) -> -3.9 | T20: =ROUND(Data!AR19,1) -> -11.4 | U20: =Data!AS19 -> 9.4 | V20: =Data!AT19 -> 3.2 | W20: =ROUND(Data!AQ19,2) -> -3.89 | X20: =IF(H20<0,0,ROUND(0.0023*VLOOKUP(Z20,$AO$6:$AJG$17,10)*(H20+17.8)*(I20-J20)^0.5*X$2,0)) -> 0 | Y20: =IF(X20>K20,X20-K20,0) -> 0 | Z20: 1 | AA20: 1985 | AB20: =Data!AX17 -> 2.4 | AC20: =Data!AY17 -> -18.9 | AD20: =Data!AZ17 -> 1.9 | AE20: =Data!BA17 -> -16.4 | AF20: =Data!BB17 -> -0.4 | AG20: =Data!BC17 -> -20 | AH20: =Data!BD17 -> 4 | AI20: =Data!BE17 -> -14.5 | AM20: 1983 | AN20: 23 | AO20: 0 | AQ20: =AM20 -> 1983
B21: =Data!Z20 -> 8502 | C21: =ROUND(Data!AA20,1) -> -8.9 | D21: =ROUND(Data!AB20,1) -> -3.8 | E21: =ROUND(Data!AC20,1) -> -13.9 | F21: =Data!AD20 -> 30.5 | G21: =Data!AE20 -> 5 | H21: =ROUND(Data!AF20,1) -> -8.8 | I21: =ROUND(Data!AG20,1) -> -5.7 | J21: =ROUND(Data!AH20,1) -> -11.8 | K21: =Data!AI20 -> 33 | L21: =Data!AJ20 -> 6.5 | M21: =ROUND(Data!AK20,1) -> -8.8 | N21: =ROUND(Data!AL20,1) -> -6.3 | O21: =ROUND(Data!AM20,1) -> -11.2 | P21: =Data!AN20 -> 29.8 | Q21: =Data!AO20 -> 3.5 | R21: =ROUND(Data!AP20,1) -> -7 | S21: =ROUND(Data!AQ20,1) -> -1.9 | T21: =ROUND(Data!AR20,1) -> -11.9 | U21: =Data!AS20 -> 116.6 | V21: =Data!AT20 -> 15.1 | W21: =ROUND(Data!AQ20,2) -> -1.93 | X21: =IF(H21<0,0,ROUND(0.0023*VLOOKUP(Z21,$AO$6:$AJG$17,10)*(H21+17.8)*(I21-J21)^0.5*X$2,0)) -> 0 | Y21: =IF(X21>K21,X21-K21,0) -> 0 | Z21: 2 | AA21: 1985 | AB21: =Data!AX18 -> -3.4 | AC21: =Data!AY18 -> -26.4 | AD21: =Data!AZ18 -> -1 | AE21: =Data!BA18 -> -24.9 | AF21: =Data!BB18 -> -1.8 | AG21: =Data!BC18 -> -25.8 | AH21: =Data!BD18 -> -1 | AI21: =Data!BE18 -> -33.5 | AM21: 1984 | AN21: 358 | AO21: 108.5 | AQ21: =AM21 -> 1984 | AR21: =AN21 -> 358 | AS21: =AO21 -> 108.5
B22: =Data!Z21 -> 8503 | C22: =ROUND(Data!AA21,1) -> -5.9 | D22: =ROUND(Data!AB21,1) -> 0.8 | E22: =ROUND(Data!AC21,1) -> -12.6 | F22: =Data!AD21 -> 38 | G22: =Data!AE21 -> 10 | H22: =ROUND(Data!AF21,1) -> -4.8 | I22: =ROUND(Data!AG21,1) -> -1 | J22: =ROUND(Data!AH21,1) -> -8.6 | K22: =Data!AI21 -> 28.5 | L22: =Data!AJ21 -> 8.5 | M22: =ROUND(Data!AK21,1) -> -4.8 | N22: =ROUND(Data!AL21,1) -> -1.2 | O22: =ROUND(Data!AM21,1) -> -8.4 | P22: =Data!AN21 -> 30.5 | Q22: =Data!AO21 -> 6 | R22: =ROUND(Data!AP21,1) -> -4.6 | S22: =ROUND(Data!AQ21,1) -> 3.2 | T22: =ROUND(Data!AR21,1) -> -12.3 | U22: =Data!AS21 -> 44.9 | V22: =Data!AT21 -> 8.4 | W22: =ROUND(Data!AQ21,2) -> 3.24 | X22: =IF(H22<0,0,ROUND(0.0023*VLOOKUP(Z22,$AO$6:$AJG$17,10)*(H22+17.8)*(I22-J22)^0.5*X$2,0)) -> 0 | Y22: =IF(X22>K22,X22-K22,0) -> 0 | Z22: 3 | AA22: 1985 | AB22: =Data!AX19 -> 4.5 | AC22: =Data!AY19 -> -22.1 | AD22: =Data!AZ19 -> 5.2 | AE22: =Data!BA19 -> -19.1 | AF22: =Data!BB19 -> 6.2 | AG22: =Data!BC19 -> -17.6 | AH22: =Data!BD19 -> 4.5 | AI22: =Data!BE19 -> -25 | AM22: 1985 | AN22: 399 | AO22: 214.5 | AQ22: =AM22 -> 1985 | AR22: =AN22 -> 399 | AS22: =AO22 -> 214.5
B23: =Data!Z22 -> 8504 | C23: =ROUND(Data!AA22,1) -> 0.8 | D23: =ROUND(Data!AB22,1) -> 6.2 | E23: =ROUND(Data!AC22,1) -> -4.7 | F23: =Data!AD22 -> 36.5 | G23: =Data!AE22 -> 5 | H23: =ROUND(Data!AF22,1) -> -0.5 | I23: =ROUND(Data!AG22,1) -> 3.1 | J23: =ROUND(Data!AH22,1) -> -4.1 | K23: =Data!AI22 -> 40 | L23: =Data!AJ22 -> 14.5 | M23: =ROUND(Data!AK22,1) -> 0.1 | N23: =ROUND(Data!AL22,1) -> 3.7 | O23: =ROUND(Data!AM22,1) -> -3.5 | P23: =Data!AN22 -> 39.4 | Q23: =Data!AO22 -> 7 | R23: =ROUND(Data!AP22,1) -> 2.4 | S23: =ROUND(Data!AQ22,1) -> 8.5 | T23: =ROUND(Data!AR22,1) -> -3.9 | U23: =Data!AS22 -> 38 | V23: =Data!AT22 -> 5.9 | W23: =ROUND(Data!AQ22,2) -> 8.53 | X23: =IF(H23<0,0,ROUND(0.0023*VLOOKUP(Z23,$AO$6:$AJG$17,10)*(H23+17.8)*(I23-J23)^0.5*X$2,0)) -> 0 | Y23: =IF(X23>K23,X23-K23,0) -> 0 | Z23: 4 | AA23: 1985 | AB23: =Data!AX20 -> 6 | AC23: =Data!AY20 -> -27.1 | AD23: =Data!AZ20 -> 3.6 | AE23: =Data!BA20 -> -23.5 | AF23: =Data!BB20 -> 3.5 | AG23: =Data!BC20 -> -22.5 | AH23: =Data!BD20 -> 7 | AI23: =Data!BE20 -> -28.5 | AM23: 1986 | AN23: 415 | AO23: 180 | AQ23: =AM23 -> 1986 | AR23: =AN23 -> 415 | AS23: =AO23 -> 180
B24: =Data!Z23 -> 8505 | C24: =ROUND(Data!AA23,1) -> 5.8 | D24: =ROUND(Data!AB23,1) -> 12.3 | E24: =ROUND(Data!AC23,1) -> -0.7 | F24: =Data!AD23 -> 51.5 | G24: =Data!AE23 -> 15 | H24: =ROUND(Data!AF23,1) -> 5 | I24: =ROUND(Data!AG23,1) -> 10.2 | J24: =ROUND(Data!AH23,1) -> -0.3 | K24: =Data!AI23 -> 67 | L24: =Data!AJ23 -> 14 | M24: =ROUND(Data!AK23,1) -> 5.5 | N24: =ROUND(Data!AL23,1) -> 10.2 | O24: =ROUND(Data!AM23,1) -> 0.8 | P24: =Data!AN23 -> 63 | Q24: =Data!AO23 -> 11 | R24: =ROUND(Data!AP23,1) -> 7.9 | S24: =ROUND(Data!AQ23,1) -> 15.2 | T24: =ROUND(Data!AR23,1) -> 0.5 | U24: =Data!AS23 -> 60.5 | V24: =Data!AT23 -> 11.2 | W24: =ROUND(Data!AQ23,2) -> 15.23 | X24: =IF(H24<0,0,ROUND(0.0023*VLOOKUP(Z24,$AO$6:$AJG$17,10)*(H24+17.8)*(I24-J24)^0.5*X$2,0)) -> 72 | Y24: =IF(X24>K24,X24-K24,0) -> 5 | Z24: 5 | AA24: 1985 | AB24: =Data!AX21 -> 9.7 | AC24: =Data!AY21 -> -19.6 | AD24: =Data!AZ21 -> 8.5 | AE24: =Data!BA21 -> -13 | AF24: =Data!BB21 -> 7.5 | AG24: =Data!BC21 -> -12.7 | AH24: =Data!BD21 -> 11.5 | AI24: =Data!BE21 -> -19.5 | AM24: 1987 | AN24: 498 | AO24: 269 | AQ24: =AM24 -> 1987 | AR24: =AN24 -> 498 | AS24: =AO24 -> 269
B25: =Data!Z24 -> 8506 | C25: =ROUND(Data!AA24,1) -> 8.7 | D25: =ROUND(Data!AB24,1) -> 15.1 | E25: =ROUND(Data!AC24,1) -> 2.2 | F25: =Data!AD24 -> 43 | G25: =Data!AE24 -> 15 | H25: =ROUND(Data!AF24,1) -> 8.3 | I25: =ROUND(Data!AG24,1) -> 13.5 | J25: =ROUND(Data!AH24,1) -> 2.9 | K25: =Data!AI24 -> 38 | L25: =Data!AJ24 -> 16 | M25: =ROUND(Data!AK24,1) -> 8.5 | N25: =ROUND(Data!AL24,1) -> 13.4 | O25: =ROUND(Data!AM24,1) -> 3.6 | P25: =Data!AN24 -> 39.5 | Q25: =Data!AO24 -> 13.5 | R25: =ROUND(Data!AP24,1) -> 9.9 | S25: =ROUND(Data!AQ24,1) -> 17.4 | T25: =ROUND(Data!AR24,1) -> 2.3 | U25: =Data!AS24 -> 40.9 | V25: =Data!AT24 -> 8.9 | W25: =ROUND(Data!AQ24,2) -> 17.38 | X25: =IF(H25<0,0,ROUND(0.0023*VLOOKUP(Z25,$AO$6:$AJG$17,10)*(H25+17.8)*(I25-J25)^0.5*X$2,0)) -> 86 | Y25: =IF(X25>K25,X25-K25,0) -> 48 | Z25: 6 | AA25: 1985 | AB25: =Data!AX22 -> 15.4 | AC25: =Data!AY22 -> -13 | AD25: =Data!AZ22 -> 11.7 | AE25: =Data!BA22 -> -10.5 | AF25: =Data!BB22 -> 12.9 | AG25: =Data!BC22 -> -9.3 | AH25: =Data!BD22 -> 18 | AI25: =Data!BE22 -> -10 | AM25: 1988 | AN25: 462 | AO25: 147.5 | AQ25: =AM25 -> 1988 | AR25: =AN25 -> 462 | AS25: =AO25 -> 147.5
B26: =Data!Z25 -> 8507 | C26: =ROUND(Data!AA25,1) -> 15.6 | D26: =ROUND(Data!AB25,1) -> 24.3 | E26: =ROUND(Data!AC25,1) -> 6.7 | F26: =Data!AD25 -> 8 | G26: =Data!AE25 -> 4 | H26: =ROUND(Data!AF25,1) -> 15.6 | I26: =ROUND(Data!AG25,1) -> 22.1 | J26: =ROUND(Data!AH25,1) -> 9 | K26: =Data!AI25 -> 4 | L26: =Data!AJ25 -> 2 | M26: =ROUND(Data!AK25,1) -> 15.9 | N26: =ROUND(Data!AL25,1) -> 21.7 | O26: =ROUND(Data!AM25,1) -> 10.1 | P26: =Data!AN25 -> 5 | Q26: =Data!AO25 -> 4.5 | R26: =ROUND(Data!AP25,1) -> 15.3 | S26: =ROUND(Data!AQ25,1) -> 25.7 | T26: =ROUND(Data!AR25,1) -> 4.8 | U26: =Data!AS25 -> 5.8 | V26: =Data!AT25 -> 5 | W26: =ROUND(Data!AQ25,2) -> 25.74 | X26: =IF(H26<0,0,ROUND(0.0023*VLOOKUP(Z26,$AO$6:$AJG$17,10)*(H26+17.8)*(I26-J26)^0.5*X$2,0)) -> 122 | Y26: =IF(X26>K26,X26-K26,0) -> 118 | Z26: 7 | AA26: 1985 | AB26: =Data!AX23 -> 22.5 | AC26: =Data!AY23 -> -10.5 | AD26: =Data!AZ23 -> 20.5 | AE26: =Data!BA23 -> -11 | AF26: =Data!BB23 -> 19.7 | AG26: =Data!BC23 -> -9 | AH26: =Data!BD23 -> 24 | AI26: =Data!BE23 -> -8 | AM26: 1989 | AN26: 464 | AO26: 125 | AQ26: =AM26 -> 1989 | AR26: =AN26 -> 464 | AS26: =AO26 -> 125
B27: =Data!Z26 -> 8508 | C27: =ROUND(Data!AA26,1) -> 10.9 | D27: =ROUND(Data!AB26,1) -> 17.6 | E27: =ROUND(Data!AC26,1) -> 4.1 | F27: =Data!AD26 -> 52 | G27: =Data!AE26 -> 34 | H27: =ROUND(Data!AF26,1) -> 10.3 | I27: =ROUND(Data!AG26,1) -> 15.8 | J27: =ROUND(Data!AH26,1) -> 4.8 | K27: =Data!AI26 -> 36.5 | L27: =Data!AJ26 -> 17 | M27: =ROUND(Data!AK26,1) -> 10.5 | N27: =ROUND(Data!AL26,1) -> 15.3 | O27: =ROUND(Data!AM26,1) -> 5.6 | P27: =Data!AN26 -> 38 | Q27: =Data!AO26 -> 19 | R27: =ROUND(Data!AP26,1) -> 11.8 | S27: =ROUND(Data!AQ26,1) -> 20.6 | T27: =ROUND(Data!AR26,1) -> 3 | U27: =Data!AS26 -> 45.6 | V27: =Data!AT26 -> 17.2 | W27: =ROUND(Data!AQ26,2) -> 20.61 | X27: =IF(H27<0,0,ROUND(0.0023*VLOOKUP(Z27,$AO$6:$AJG$17,10)*(H27+17.8)*(I27-J27)^0.5*X$2,0)) -> 80 | Y27: =IF(X27>K27,X27-K27,0) -> 43.5 | Z27: 8 | AA27: 1985 | AB27: =Data!AX24 -> 26.5 | AC27: =Data!AY24 -> -3 | AD27: =Data!AZ24 -> 25 | AE27: =Data!BA24 -> -2.5 | AF27: =Data!BB24 -> 24.8 | AG27: =Data!BC24 -> -2 | AH27: =Data!BD24 -> 27.5 | AI27: =Data!BE24 -> -2.5 | AM27: 1990 | AN27: 452 | AO27: 108.5 | AQ27: =AM27 -> 1990 | AR27: =AN27 -> 452 | AS27: =AO27 -> 108.5
B28: =Data!Z27 -> 8509 | C28: =ROUND(Data!AA27,1) -> 4.6 | D28: =ROUND(Data!AB27,1) -> 9.4 | E28: =ROUND(Data!AC27,1) -> -0.4 | F28: =Data!AD27 -> 95.5 | G28: =Data!AE27 -> 24 | H28: =ROUND(Data!AF27,1) -> 4.5 | I28: =ROUND(Data!AG27,1) -> 8.4 | J28: =ROUND(Data!AH27,1) -> 0.5 | K28: =Data!AI27 -> 93 | L28: =Data!AJ27 -> 23 | M28: =ROUND(Data!AK27,1) -> 4.3 | N28: =ROUND(Data!AL27,1) -> 7.7 | O28: =ROUND(Data!AM27,1) -> 0.8 | P28: =Data!AN27 -> 99.5 | Q28: =Data!AO27 -> 28 | R28: =ROUND(Data!AP27,1) -> 5.8 | S28: =ROUND(Data!AQ27,1) -> 12.1 | T28: =ROUND(Data!AR27,1) -> -0.6 | U28: =Data!AS27 -> 131.5 | V28: =Data!AT27 -> 33 | W28: =ROUND(Data!AQ27,2) -> 12.13 | X28: =IF(H28<0,0,ROUND(0.0023*VLOOKUP(Z28,$AO$6:$AJG$17,10)*(H28+17.8)*(I28-J28)^0.5*X$2,0)) -> 39 | Y28: =IF(X28>K28,X28-K28,0) -> 0 | Z28: 9 | AA28: 1985 | AB28: =Data!AX25 -> 30 | AC28: =Data!AY25 -> 1 | AD28: =Data!AZ25 -> 27.5 | AE28: =Data!BA25 -> 3 | AF28: =Data!BB25 -> 27.5 | AG28: =Data!BC25 -> 3.2 | AH28: =Data!BD25 -> 30.5 | AI28: =Data!BE25 -> 0 | AM28: 1991 | AN28: 382 | AO28: 93.2 | AQ28: =AM28 -> 1991
B29: =Data!Z28 -> 8510 | C29: =ROUND(Data!AA28,1) -> 0.5 | D29: =ROUND(Data!AB28,1) -> 4 | E29: =ROUND(Data!AC28,1) -> -3 | F29: =Data!AD28 -> 93 | G29: =Data!AE28 -> 18 | H29: =ROUND(Data!AF28,1) -> -0.6 | I29: =ROUND(Data!AG28,1) -> 2.3 | J29: =ROUND(Data!AH28,1) -> -3.5 | K29: =Data!AI28 -> 92.5 | L29: =Data!AJ28 -> 15.5 | M29: =ROUND(Data!AK28,1) -> -1.4 | N29: =ROUND(Data!AL28,1) -> 1 | O29: =ROUND(Data!AM28,1) -> -3.7 | P29: =Data!AN28 -> 91 | Q29: =Data!AO28 -> 16 | R29: =ROUND(Data!AP28,1) -> 2 | S29: =ROUND(Data!AQ28,1) -> 6.8 | T29: =ROUND(Data!AR28,1) -> -2.8 | U29: =Data!AS28 -> 99.4 | V29: =Data!AT28 -> 20 | W29: =ROUND(Data!AQ28,2) -> 6.77 | X29: =IF(H29<0,0,ROUND(0.0023*VLOOKUP(Z29,$AO$6:$AJG$17,10)*(H29+17.8)*(I29-J29)^0.5*X$2,0)) -> 0 | Y29: =IF(X29>K29,X29-K29,0) -> 0 | Z29: 10 | AA29: 1985 | AB29: =Data!AX26 -> 23.5 | AC29: =Data!AY26 -> -1.3 | AD29: =Data!AZ26 -> 21.6 | AE29: =Data!BA26 -> -0.2 | AF29: =Data!BB26 -> 21 | AG29: =Data!BC26 -> 1.5 | AH29: =Data!BD26 -> 29.5 | AI29: =Data!BE26 -> -2 | AM29: Grand Total | AN29: 3453 | AO29: 1246.2
B30: =Data!Z29 -> 8511 | C30: =ROUND(Data!AA29,1) -> -14.3 | D30: =ROUND(Data!AB29,1) -> -10.6 | E30: =ROUND(Data!AC29,1) -> -18 | F30: =Data!AD29 -> 51.5 | G30: =Data!AE29 -> 9 | H30: =ROUND(Data!AF29,1) -> -13.1 | I30: =ROUND(Data!AG29,1) -> -10.2 | J30: =ROUND(Data!AH29,1) -> -15.9 | K30: =Data!AI29 -> 53.5 | L30: =Data!AJ29 -> 13.5 | M30: =ROUND(Data!AK29,1) -> -13 | N30: =ROUND(Data!AL29,1) -> -10.9 | O30: =ROUND(Data!AM29,1) -> -15.1 | P30: =Data!AN29 -> 49 | Q30: =Data!AO29 -> 9 | R30: =ROUND(Data!AP29,1) -> -12.6 | S30: =ROUND(Data!AQ29,1) -> -9 | T30: =ROUND(Data!AR29,1) -> -16.2 | U30: =Data!AS29 -> 53.5 | V30: =Data!AT29 -> 13.5 | W30: =ROUND(Data!AQ29,2) -> -9.03 | X30: =IF(H30<0,0,ROUND(0.0023*VLOOKUP(Z30,$AO$6:$AJG$17,10)*(H30+17.8)*(I30-J30)^0.5*X$2,0)) -> 0 | Y30: =IF(X30>K30,X30-K30,0) -> 0 | Z30: 11 | AA30: 1985 | AB30: =Data!AX27 -> 17 | AC30: =Data!AY27 -> -6.5 | AD30: =Data!AZ27 -> 16.5 | AE30: =Data!BA27 -> -5 | AF30: =Data!BB27 -> 15.5 | AG30: =Data!BC27 -> -3.5 | AH30: =Data!BD27 -> 19 | AI30: =Data!BE27 -> -8
B31: =Data!Z30 -> 8512 | C31: =ROUND(Data!AA30,1) -> -6.5 | D31: =ROUND(Data!AB30,1) -> -1.2 | E31: =ROUND(Data!AC30,1) -> -11.8 | F31: =Data!AD30 -> 12 | G31: =Data!AE30 -> 4 | H31: =ROUND(Data!AF30,1) -> -4.6 | I31: =ROUND(Data!AG30,1) -> -1.8 | J31: =ROUND(Data!AH30,1) -> -7.4 | K31: =Data!AI30 -> 14 | L31: =Data!AJ30 -> 4 | M31: =ROUND(Data!AK30,1) -> -5.4 | N31: =ROUND(Data!AL30,1) -> -2.8 | O31: =ROUND(Data!AM30,1) -> -8 | P31: =Data!AN30 -> 25.5 | Q31: =Data!AO30 -> 5.5 | R31: =ROUND(Data!AP30,1) -> -8.5 | S31: =ROUND(Data!AQ30,1) -> -3.8 | T31: =ROUND(Data!AR30,1) -> -13 | U31: =Data!AS30 -> 14 | V31: =Data!AT30 -> 4 | W31: =ROUND(Data!AQ30,2) -> -3.84 | X31: =IF(H31<0,0,ROUND(0.0023*VLOOKUP(Z31,$AO$6:$AJG$17,10)*(H31+17.8)*(I31-J31)^0.5*X$2,0)) -> 0 | Y31: =IF(X31>K31,X31-K31,0) -> 0 | Z31: 12 | AA31: 1985 | AB31: =Data!AX28 -> 12 | AC31: =Data!AY28 -> -12.5 | AD31: =Data!AZ28 -> 11 | AE31: =Data!BA28 -> -12.5 | AF31: =Data!BB28 -> 9 | AG31: =Data!BC28 -> -10.5 | AH31: =Data!BD28 -> 13.5 | AI31: =Data!BE28 -> -10
B32: =Data!Z31 -> 8601 | C32: =ROUND(Data!AA31,1) -> -5.3 | D32: =ROUND(Data!AB31,1) -> -1.1 | E32: =ROUND(Data!AC31,1) -> -9.4 | F32: =Data!AD31 -> 40 | G32: =Data!AE31 -> 10.5 | H32: =ROUND(Data!AF31,1) -> -4.1 | I32: =ROUND(Data!AG31,1) -> -1.7 | J32: =ROUND(Data!AH31,1) -> -6.5 | K32: =Data!AI31 -> 41.5 | L32: =Data!AJ31 -> 16.5 | M32: =ROUND(Data!AK31,1) -> -6.3 | N32: =ROUND(Data!AL31,1) -> -4 | O32: =ROUND(Data!AM31,1) -> -8.5 | P32: =Data!AN31 -> 40 | Q32: =Data!AO31 -> 16.5 | R32: =ROUND(Data!AP31,1) -> -3.5 | S32: =ROUND(Data!AQ31,1) -> 0 | T32: =ROUND(Data!AR31,1) -> -7.1 | U32: =Data!AS31 -> 82.3 | V32: =Data!AT31 -> 13.2 | W32: =ROUND(Data!AQ31,2) -> 0.04 | X32: =IF(H32<0,0,ROUND(0.0023*VLOOKUP(Z32,$AO$6:$AJG$17,10)*(H32+17.8)*(I32-J32)^0.5*X$2,0)) -> 0 | Y32: =IF(X32>K32,X32-K32,0) -> 0 | Z32: 1 | AA32: 1986 | AB32: =Data!AX29 -> 3.9 | AC32: =Data!AY29 -> -34.5 | AD32: =Data!AZ29 -> 2 | AE32: =Data!BA29 -> -31.5 | AF32: =Data!BB29 -> 1.2 | AG32: =Data!BC29 -> -30 | AH32: =Data!BD29 -> 4 | AI32: =Data!BE29 -> -34
B33: =Data!Z32 -> 8602 | C33: =ROUND(Data!AA32,1) -> -7.4 | D33: =ROUND(Data!AB32,1) -> -2.7 | E33: =ROUND(Data!AC32,1) -> -12.1 | F33: =Data!AD32 -> 38 | G33: =Data!AE32 -> 8 | H33: =ROUND(Data!AF32,1) -> -7.1 | I33: =ROUND(Data!AG32,1) -> -4.5 | J33: =ROUND(Data!AH32,1) -> -9.7 | K33: =Data!AI32 -> 22.5 | L33: =Data!AJ32 -> 6 | M33: =ROUND(Data!AK32,1) -> -7.1 | N33: =ROUND(Data!AL32,1) -> -4.3 | O33: =ROUND(Data!AM32,1) -> -9.8 | P33: =Data!AN32 -> 28.5 | Q33: =Data!AO32 -> 9 | R33: =ROUND(Data!AP32,1) -> -6.2 | S33: =ROUND(Data!AQ32,1) -> -1.1 | T33: =ROUND(Data!AR32,1) -> -11.4 | U33: =Data!AS32 -> 65.6 | V33: =Data!AT32 -> 16.1 | W33: =ROUND(Data!AQ32,2) -> -1.07 | X33: =IF(H33<0,0,ROUND(0.0023*VLOOKUP(Z33,$AO$6:$AJG$17,10)*(H33+17.8)*(I33-J33)^0.5*X$2,0)) -> 0 | Y33: =IF(X33>K33,X33-K33,0) -> 0 | Z33: 2 | AA33: 1986 | AB33: =Data!AX30 -> 6.5 | AC33: =Data!AY30 -> -30.6 | AD33: =Data!AZ30 -> 6.3 | AE33: =Data!BA30 -> -26.3 | AF33: =Data!BB30 -> 4.5 | AG33: =Data!BC30 -> -24.7 | AH33: =Data!BD30 -> 2 | AI33: =Data!BE30 -> -33
B34: =Data!Z33 -> 8603 | C34: =ROUND(Data!AA33,1) -> -0.4 | D34: =ROUND(Data!AB33,1) -> 4.3 | E34: =ROUND(Data!AC33,1) -> -5 | F34: =Data!AD33 -> 53 | G34: =Data!AE33 -> 8.5 | H34: =ROUND(Data!AF33,1) -> -1.2 | I34: =ROUND(Data!AG33,1) -> 2.3 | J34: =ROUND(Data!AH33,1) -> -4.6 | K34: =Data!AI33 -> 50 | L34: =Data!AJ33 -> 8 | M34: =ROUND(Data!AK33,1) -> -1.1 | N34: =ROUND(Data!AL33,1) -> 1.9 | O34: =ROUND(Data!AM33,1) -> -4.1 | P34: =Data!AN33 -> 64 | Q34: =Data!AO33 -> 13 | R34: =ROUND(Data!AP33,1) -> 1.1 | S34: =ROUND(Data!AQ33,1) -> 6.3 | T34: =ROUND(Data!AR33,1) -> -4.1 | U34: =Data!AS33 -> 48.5 | V34: =Data!AT33 -> 10 | W34: =ROUND(Data!AQ33,2) -> 6.27 | X34: =IF(H34<0,0,ROUND(0.0023*VLOOKUP(Z34,$AO$6:$AJG$17,10)*(H34+17.8)*(I34-J34)^0.5*X$2,0)) -> 0 | Y34: =IF(X34>K34,X34-K34,0) -> 0 | Z34: 3 | AA34: 1986 | AB34: =Data!AX31 -> 6.5 | AC34: =Data!AY31 -> -18.5 | AD34: =Data!AZ31 -> 4.9 | AE34: =Data!BA31 -> -11.7 | AF34: =Data!BB31 -> 4.1 | AG34: =Data!BC31 -> -14.6 | AH34: =Data!BD31 -> 4 | AI34: =Data!BE31 -> -20
B35: =Data!Z34 -> 8604 | C35: =ROUND(Data!AA34,1) -> -0.1 | D35: =ROUND(Data!AB34,1) -> 4.4 | E35: =ROUND(Data!AC34,1) -> -4.6 | F35: =Data!AD34 -> 100 | G35: =Data!AE34 -> 13 | H35: =ROUND(Data!AF34,1) -> -1.7 | I35: =ROUND(Data!AG34,1) -> 1.9 | J35: =ROUND(Data!AH34,1) -> -5.2 | K35: =Data!AI34 -> 96.5 | L35: =Data!AJ34 -> 12.5 | M35: =ROUND(Data!AK34,1) -> -1.5 | N35: =ROUND(Data!AL34,1) -> 1.7 | O35: =ROUND(Data!AM34,1) -> -4.6 | P35: =Data!AN34 -> 99.5 | Q35: =Data!AO34 -> 18 | R35: =ROUND(Data!AP34,1) -> 2 | S35: =ROUND(Data!AQ34,1) -> 7.1 | T35: =ROUND(Data!AR34,1) -> -3.1 | U35: =Data!AS34 -> 91.2 | V35: =Data!AT34 -> 17 | W35: =ROUND(Data!AQ34,2) -> 7.05 | X35: =IF(H35<0,0,ROUND(0.0023*VLOOKUP(Z35,$AO$6:$AJG$17,10)*(H35+17.8)*(I35-J35)^0.5*X$2,0)) -> 0 | Y35: =IF(X35>K35,X35-K35,0) -> 0 | Z35: 4 | AA35: 1986 | AB35: =Data!AX32 -> 12 | AC35: =Data!AY32 -> -24.8 | AD35: =Data!AZ32 -> 9.5 | AE35: =Data!BA32 -> -23.5 | AF35: =Data!BB32 -> 8.5 | AG35: =Data!BC32 -> -22 | AH35: =Data!BD32 -> 11 | AI35: =Data!BE32 -> -33.5
B36: =Data!Z35 -> 8605 | C36: =ROUND(Data!AA35,1) -> 4.7 | D36: =ROUND(Data!AB35,1) -> 10.4 | E36: =ROUND(Data!AC35,1) -> -1 | F36: =Data!AD35 -> 55 | G36: =Data!AE35 -> 10 | H36: =ROUND(Data!AF35,1) -> 4.3 | I36: =ROUND(Data!AG35,1) -> 8.8 | J36: =ROUND(Data!AH35,1) -> -0.3 | K36: =Data!AI35 -> 57 | L36: =Data!AJ35 -> 9 | M36: =ROUND(Data!AK35,1) -> 4.4 | N36: =ROUND(Data!AL35,1) -> 8.6 | O36: =ROUND(Data!AM35,1) -> 0.3 | P36: =Data!AN35 -> 56.5 | Q36: =Data!AO35 -> 8.5 | R36: =ROUND(Data!AP35,1) -> 7.7 | S36: =ROUND(Data!AQ35,1) -> 14.5 | T36: =ROUND(Data!AR35,1) -> 0.8 | U36: =Data!AS35 -> 49.8 | V36: =Data!AT35 -> 9.3 | W36: =ROUND(Data!AQ35,2) -> 14.52 | X36: =IF(H36<0,0,ROUND(0.0023*VLOOKUP(Z36,$AO$6:$AJG$17,10)*(H36+17.8)*(I36-J36)^0.5*X$2,0)) -> 65 | Y36: =IF(X36>K36,X36-K36,0) -> 8 | Z36: 5 | AA36: 1986 | AB36: =Data!AX33 -> 11.7 | AC36: =Data!AY33 -> -12 | AD36: =Data!AZ33 -> 8.6 | AE36: =Data!BA33 -> -9.9 | AF36: =Data!BB33 -> 8.7 | AG36: =Data!BC33 -> -9 | AH36: =Data!BD33 -> 14 | AI36: =Data!BE33 -> -10.5
B37: =Data!Z36 -> 8606 | C37: =ROUND(Data!AA36,1) -> 10.8 | D37: =ROUND(Data!AB36,1) -> 17.5 | E37: =ROUND(Data!AC36,1) -> 4 | F37: =Data!AD36 -> 70.5 | G37: =Data!AE36 -> 17.5 | H37: =ROUND(Data!AF36,1) -> 10.3 | I37: =ROUND(Data!AG36,1) -> 16.1 | J37: =ROUND(Data!AH36,1) -> 4.4 | K37: =Data!AI36 -> 57.5 | L37: =Data!AJ36 -> 15.5 | M37: =ROUND(Data!AK36,1) -> 10.1 | N37: =ROUND(Data!AL36,1) -> 15.4 | O37: =ROUND(Data!AM36,1) -> 4.8 | P37: =Data!AN36 -> 63.5 | Q37: =Data!AO36 -> 18.5 | R37: =ROUND(Data!AP36,1) -> 12.2 | S37: =ROUND(Data!AQ36,1) -> 20.4 | T37: =ROUND(Data!AR36,1) -> 3.9 | U37: =Data!AS36 -> 92.3 | V37: =Data!AT36 -> 27.8 | W37: =ROUND(Data!AQ36,2) -> 20.38 | X37: =IF(H37<0,0,ROUND(0.0023*VLOOKUP(Z37,$AO$6:$AJG$17,10)*(H37+17.8)*(I37-J37)^0.5*X$2,0)) -> 97 | Y37: =IF(X37>K37,X37-K37,0) -> 39.5 | Z37: 6 | AA37: 1986 | AB37: =Data!AX34 -> 15 | AC37: =Data!AY34 -> -13 | AD37: =Data!AZ34 -> 13 | AE37: =Data!BA34 -> -12.5 | AF37: =Data!BB34 -> 13 | AG37: =Data!BC34 -> -12.3 | AH37: =Data!BD34 -> 16 | AI37: =Data!BE34 -> -8.5
B38: =Data!Z37 -> 8607 | C38: =ROUND(Data!AA37,1) -> 9.5 | D38: =ROUND(Data!AB37,1) -> 15.3 | E38: =ROUND(Data!AC37,1) -> 3.5 | F38: =Data!AD37 -> 65 | G38: =Data!AE37 -> 13.5 | H38: =ROUND(Data!AF37,1) -> 8.9 | I38: =ROUND(Data!AG37,1) -> 13.9 | J38: =ROUND(Data!AH37,1) -> 3.7 | K38: =Data!AI37 -> 42 | L38: =Data!AJ37 -> 8.5 | M38: =ROUND(Data!AK37,1) -> 9 | N38: =ROUND(Data!AL37,1) -> 13.3 | O38: =ROUND(Data!AM37,1) -> 4.7 | P38: =Data!AN37 -> 49 | Q38: =Data!AO37 -> 7 | R38: =ROUND(Data!AP37,1) -> 11.5 | S38: =ROUND(Data!AQ37,1) -> 19 | T38: =ROUND(Data!AR37,1) -> 3.9 | U38: =Data!AS37 -> 52.4 | V38: =Data!AT37 -> 10.1 | W38: =ROUND(Data!AQ37,2) -> 18.97 | X38: =IF(H38<0,0,ROUND(0.0023*VLOOKUP(Z38,$AO$6:$AJG$17,10)*(H38+17.8)*(I38-J38)^0.5*X$2,0)) -> 86 | Y38: =IF(X38>K38,X38-K38,0) -> 44 | Z38: 7 | AA38: 1986 | AB38: =Data!AX35 -> 28.5 | AC38: =Data!AY35 -> -6.6 | AD38: =Data!AZ35 -> 26 | AE38: =Data!BA35 -> -7 | AF38: =Data!BB35 -> 24.5 | AG38: =Data!BC35 -> -6 | AH38: =Data!BD35 -> 29.5 | AI38: =Data!BE35 -> -6
B39: =Data!Z38 -> 8608 | C39: =ROUND(Data!AA38,1) -> 13.9 | D39: =ROUND(Data!AB38,1) -> 22.2 | E39: =ROUND(Data!AC38,1) -> 5.6 | F39: =Data!AD38 -> 12 | G39: =Data!AE38 -> 9.5 | H39: =ROUND(Data!AF38,1) -> 14.5 | I39: =ROUND(Data!AG38,1) -> 20.7 | J39: =ROUND(Data!AH38,1) -> 8.2 | K39: =Data!AI38 -> 9.5 | L39: =Data!AJ38 -> 8 | M39: =ROUND(Data!AK38,1) -> 14.6 | N39: =ROUND(Data!AL38,1) -> 20.1 | O39: =ROUND(Data!AM38,1) -> 9 | P39: =Data!AN38 -> 20 | Q39: =Data!AO38 -> 20 | R39: =ROUND(Data!AP38,1) -> 14.7 | S39: =ROUND(Data!AQ38,1) -> 25.1 | T39: =ROUND(Data!AR38,1) -> 4.1 | U39: =Data!AS38 -> 6.2 | V39: =Data!AT38 -> 6.2 | W39: =ROUND(Data!AQ38,2) -> 25.13 | X39: =IF(H39<0,0,ROUND(0.0023*VLOOKUP(Z39,$AO$6:$AJG$17,10)*(H39+17.8)*(I39-J39)^0.5*X$2,0)) -> 98 | Y39: =IF(X39>K39,X39-K39,0) -> 88.5 | Z39: 8 | AA39: 1986 | AB39: =Data!AX36 -> 25.1 | AC39: =Data!AY36 -> -1.5 | AD39: =Data!AZ36 -> 23 | AE39: =Data!BA36 -> -1.5 | AF39: =Data!BB36 -> 21.6 | AG39: =Data!BC36 -> -1 | AH39: =Data!BD36 -> 27 | AI39: =Data!BE36 -> -1
B40: =Data!Z39 -> 8609 | C40: =ROUND(Data!AA39,1) -> 4.6 | D40: =ROUND(Data!AB39,1) -> 9 | E40: =ROUND(Data!AC39,1) -> 0.1 | F40: =Data!AD39 -> 107.5 | G40: =Data!AE39 -> 22 | H40: =ROUND(Data!AF39,1) -> 4.5 | I40: =ROUND(Data!AG39,1) -> 8.2 | J40: =ROUND(Data!AH39,1) -> 0.7 | K40: =Data!AI39 -> 93 | L40: =Data!AJ39 -> 18 | M40: =ROUND(Data!AK39,1) -> 4.4 | N40: =ROUND(Data!AL39,1) -> 7.4 | O40: =ROUND(Data!AM39,1) -> 1.4 | P40: =Data!AN39 -> 89.5 | Q40: =Data!AO39 -> 18 | R40: =ROUND(Data!AP39,1) -> 6.9 | S40: =ROUND(Data!AQ39,1) -> 12.9 | T40: =ROUND(Data!AR39,1) -> 0.9 | U40: =Data!AS39 -> 98.8 | V40: =Data!AT39 -> 14.4 | W40: =ROUND(Data!AQ39,2) -> 12.87 | X40: =IF(H40<0,0,ROUND(0.0023*VLOOKUP(Z40,$AO$6:$AJG$17,10)*(H40+17.8)*(I40-J40)^0.5*X$2,0)) -> 38 | Y40: =IF(X40>K40,X40-K40,0) -> 0 | Z40: 9 | AA40: 1986 | AB40: =Data!AX37 -> 24 | AC40: =Data!AY37 -> -0.5 | AD40: =Data!AZ37 -> 21 | AE40: =Data!BA37 -> -0.3 | AF40: =Data!BB37 -> 20.2 | AG40: =Data!BC37 -> -0.8 | AH40: =Data!BD37 -> 25 | AI40: =Data!BE37 -> 0
B41: =Data!Z40 -> 8610 | C41: =ROUND(Data!AA40,1) -> 4.9 | D41: =ROUND(Data!AB40,1) -> 11.3 | E41: =ROUND(Data!AC40,1) -> -1.6 | F41: =Data!AD40 -> 39 | G41: =Data!AE40 -> 10.5 | H41: =ROUND(Data!AF40,1) -> 6.1 | I41: =ROUND(Data!AG40,1) -> 10.9 | J41: =ROUND(Data!AH40,1) -> 1.2 | K41: =Data!AI40 -> 40 | L41: =Data!AJ40 -> 13 | M41: =ROUND(Data!AK40,1) -> 6.2 | N41: =ROUND(Data!AL40,1) -> 10.2 | O41: =ROUND(Data!AM40,1) -> 2.1 | P41: =Data!AN40 -> 40 | Q41: =Data!AO40 -> 13 | R41: =ROUND(Data!AP40,1) -> 5.6 | S41: =ROUND(Data!AQ40,1) -> 13.7 | T41: =ROUND(Data!AR40,1) -> -2.7 | U41: =Data!AS40 -> 19.1 | V41: =Data!AT40 -> 6.4 | W41: =ROUND(Data!AQ40,2) -> 13.74 | X41: =IF(H41<0,0,ROUND(0.0023*VLOOKUP(Z41,$AO$6:$AJG$17,10)*(H41+17.8)*(I41-J41)^0.5*X$2,0)) -> 31 | Y41: =IF(X41>K41,X41-K41,0) -> 0 | Z41: 10 | AA41: 1986 | AB41: =Data!AX38 -> 29 | AC41: =Data!AY38 -> 0 | AD41: =Data!AZ38 -> 27 | AE41: =Data!BA38 -> 4.8 | AF41: =Data!BB38 -> 26.5 | AG41: =Data!BC38 -> 5 | AH41: =Data!BD38 -> 32 | AI41: =Data!BE38 -> -2.5
... B98: =Data!Z97 -> 9107 | C98: =ROUND(Data!AA97,1) -> 10.4 | D98: =ROUND(Data!AB97,1) -> 18.4 | E98: =ROUND(Data!AC97,1) -> 2.4 | F98: =Data!AD97 -> 31.4 | G98: =Data!AE97 -> 10.4 | H98: =ROUND(Data!AF97,1) -> 10.2 | I98: =ROUND(Data!AG97,1) -> 16.8 | J98: =ROUND(Data!AH97,1) -> 3.5 | K98: =Data!AI97 -> 31.4 | L98: =Data!AJ97 -> 10.4 | M98: =ROUND(Data!AK97,1) -> 10.4 | N98: =ROUND(Data!AL97,1) -> 15.9 | O98: =ROUND(Data!AM97,1) -> 4.7 | P98: =Data!AN97 -> 31.4 | Q98: =Data!AO97 -> 10.4 | R98: =ROUND(Data!AP97,1) -> 13.4 | S98: =ROUND(Data!AQ97,1) -> 21.5 | T98: =ROUND(Data!AR97,1) -> 5.3 | U98: =Data!AS97 -> 31.4 | V98: =Data!AT97 -> 10.4 | W98: =ROUND(Data!AQ97,2) -> 21.47 | X98: =IF(H98<0,0,ROUND(0.0023*VLOOKUP(Z98,$AO$6:$AJG$17,10)*(H98+17.8)*(I98-J98)^0.5*X$2,0)) -> 103 | Y98: =IF(X98>K98,X98-K98,0) -> 71.6 | Z98: 7 | AA98: 1991 | AB98: =Data!AX95 -> 17.9 | AC98: =Data!AY95 -> -7.1 | AD98: =Data!AZ95 -> 16.4 | AE98: =Data!BA95 -> -5.9 | AF98: =Data!BB95 -> 15.5 | AG98: =Data!BC95 -> -4.5 | AH98: =Data!BD95 -> 21 | AI98: =Data!BE95 -> -6
B99: =Data!Z98 -> 9108 | C99: =ROUND(Data!AA98,1) -> 11.2 | D99: =ROUND(Data!AB98,1) -> 19.2 | E99: =ROUND(Data!AC98,1) -> 3.1 | F99: =Data!AD98 -> 73.1 | G99: =Data!AE98 -> 17.4 | H99: =ROUND(Data!AF98,1) -> 11 | I99: =ROUND(Data!AG98,1) -> 17.7 | J99: =ROUND(Data!AH98,1) -> 4.2 | K99: =Data!AI98 -> 73.1 | L99: =Data!AJ98 -> 17.4 | M99: =ROUND(Data!AK98,1) -> 11.1 | N99: =ROUND(Data!AL98,1) -> 16.8 | O99: =ROUND(Data!AM98,1) -> 5.4 | P99: =Data!AN98 -> 73.1 | Q99: =Data!AO98 -> 17.4 | R99: =ROUND(Data!AP98,1) -> 14.3 | S99: =ROUND(Data!AQ98,1) -> 22.4 | T99: =ROUND(Data!AR98,1) -> 6.1 | U99: =Data!AS98 -> 73.1 | V99: =Data!AT98 -> 17.4 | W99: =ROUND(Data!AQ98,2) -> 22.37 | X99: =IF(H99<0,0,ROUND(0.0023*VLOOKUP(Z99,$AO$6:$AJG$17,10)*(H99+17.8)*(I99-J99)^0.5*X$2,0)) -> 91 | Y99: =IF(X99>K99,X99-K99,0) -> 17.9 | Z99: 8 | AA99: =AA87+1 -> 1991 | AB99: =Data!AX96 -> 18.4 | AC99: =Data!AY96 -> -6.7 | AD99: =Data!AZ96 -> 16.9 | AE99: =Data!BA96 -> -5.5 | AF99: =Data!BB96 -> 16 | AG99: =Data!BC96 -> -4.1 | AH99: =Data!BD96 -> 21.5 | AI99: =Data!BE96 -> -5.5

Sheet MGraphs

Sheet Meta
A1: Meta data for Cheng, Dennis, Penticton October 1983 to August 1991 | N1: Latitude for Hargreaves evaporation calculation
A2: Last edit 14/11/19 | D2: Cheng | E2: 49 36 30N, 119 25 30W, 1530 | I2: McCulloch | J2: 49°47′35″N, 119°11′31″W; 1250 | N2: Cheng | O2: 49.608
D3: Dennis | E3: 49 37 30N, 119 23 45W, 1750 | I3: Summerland | J3: 49°34’N, 119°39’W, 455 m | N3: Dennis | O3: 49.625
D4: Penticton | E4: 49 39 N, 119 21 W, 1770 | N4: Penticton | O4: 49.65
B5: Gap filled using Cheng, Dennis, Penticton, McCulloch and Summerland (Solar) | N5: McCulloch | O5: 49.793
B6: Gap filling in order of station availablity | N6: Summerland | O6: 49.567
B7: Cheng = | C7: Dennis, Penticton, McCulloch
B8: Dennis = | C8: Penticton, Cheng, McCulloch
B9: Penticton = | C9: Dennis, Cheng, McCulloch
B10: Colours indicate data source | D10: Cheng | E10: Dennis | F10: Penticton | G10: McCulloch | H10: Solar Summerland/McCulloch
A11: Temperature C
B12: Thermograph in Stevenson Screen with daily maximum and minimum temperature extracted to 0.1 C. Likely maximum and minimum thermometers to check the extremes between chart changes and adjust chart record as necessary.
C13: Checked to ensure estimated Tmax>Tmin is >0.5C
B14: Daily average temperature calculated in Data worksheet as the average of the maximum and minimum temperature for a station. This follows the standard WMO procedure.
B15: Following equations were used for gap filling missing maximum and minimum tempeature data for a station
B17: Dennis | C17: Tmax= Penticton*0.98 + 0.9 | F17: Tmax= Cheng*0.96 -1.05 | I17: Tmax=0.9*McCulloch-2.55
C18: Tmin = 0.96*Penticton - 0.4 | F18: Tmin = Cheng*0.88 + 0.71 | I18: Tmin=0.83*McCulloch+0.9
B20: Penticton | D20: Slope | E20: intc | F20: R2 | G20: se | H20: n | K20: Slope | L20: intc | M20: R2 | N20: se | O20: n
B21: Tmax | C21: Dennis | D21: 1 | E21: -0.8 | F21: 0.982 | G21: 1.4 | H21: 695 | J21: Tmin | K21: Dennis | L21: 1 | M21: 0.2 | N21: 0.968 | O21: 1.4 | P21: 693
C22: Cheng | D22: 0.96 | E22: -1.75 | F22: 0.974 | G22: 1.7 | H22: 695 | K22: Cheng | L22: 0.89 | M22: 1.14 | N22: 0.885 | O22: 2.6 | P22: 693
C23: McCulloch | D23: 0.9 | E23: -3.38 | F23: 0.935 | G23: 2.8 | H23: 695 | K23: McCulloch | L23: 0.82 | M23: 0.42 | N23: 0.715 | O23: 3.7 | P23: 693
B25: Cheng | C25: Slope | D25: intc | E25: R2 | I25: Slope | J25: intc | K25: R2
B26: Tmax | C26: Dennis | D26: 1.02 | E26: 1.2 | F26: 0.977 | H26: Tmin | I26: Dennis | J26: 1.1 | K26: -1.1 | L26: 0.894
C27: Penticton | D27: 1.01 | E27: 2 | F27: 0.924 | I27: Penticton | J27: 0.99 | K27: -1.5 | L27: 0.886
B29: McCulloch | D29: Slope | E29: intc | F29: R2 | H29: Slope | I29: intc | J29: R2
B30: Tmax | C30: Dennis | D30: 1.04 | E30: 3.3 | F30: 0.935 | H30: Tmin | I30: Dennis | J30: 0.9 | K30: -1 | L30: 0.745
B31: McCulloch data have 0.5 C resolution
A33: Precipitation (mm)
B34: Belfort gauge
B35: Missing data filled with values from other stations without adjustment
B37: Site gauges appear to be working OK and usually agree. Also often show snow when McCulloch does but not as much on some of the big snow storms at McCulloch
B38: Perhaps there is a catch efficency that should be applied to the Belforts for snow?
A40: Solar radiation MJ/m2/d
B41: Daily solar from Summerland and sunshine hours from McCulloch.
B42: UPC = 0.95*Summerland used for 1983 to 1989 with McCulloch filling in for missing days.
B43: UPC = McCulloch for missing Summerland 1983-1989 and all 1990-1991
B44: McCulloch coverted to solar based on coeffcients generated from overlapping daily record of UPC solar at P3: Solar= {(0.51*n/N'+0.2)*Ko] MJ/m2/d. Ko for UPC
B45: Overlapping daily McCulloch calculated solar and Summerland measured solar (edited) records used to determine relationship to adjust Summerland.
B46: Used McCulloch solar 1990 to 1991. Summerland may be in error for 1990-91 because it is lower than McCulloch (analysis from monthly totals).
B47: McCulloch=0.95* Summerland MJ/m2/d. Based on monthly averages 1968-1989.
A49: Monthly Hargreaves reference evaporation (mm)
B50: Calculated in Monthly worksheet fromair temperature for indicated station. Annual values calculated in monthly worksheet.
A51: Monthly climatic water deficit (m)
B52: Calculated Monthly worksheet from monthly Hargreaves reference evaporation and precipitation for indicated station. Annual values calculated in Monthly worksheet.
