Workbook

Sheet Data
A1: Cheng, Dennis and Penticton: 1983/10-1991/08 | H1: *****Note that coloured cells contain formulae***** | AW1: Extreme maximum and minimum emperature
A2: Last edit 14/11/19 | C2: UPC | D2: Cheng | H2: Dennis | L2: Penticton | R2: McCulloch | W2: Solar MJ/m2/d
A3: Date | B3: DoY | C3: Solar | D3: Tave | E3: Tmax | F3: Tmin | G3: Precip | H3: Tave | I3: Tmax | J3: Tmin | K3: Precip | L3: Tave | M3: Tmax | N3: Tmin | O3: Precip | P3: Key | Q3: blnk | R3: Tave | S3: Tmax | T3: Tmin | U3: Precip | W3: Summerland | X3: McCulloch | Z3: Row Labels | AA3: Average of CA | AB3: Average of CX | AC3: Average of CN | AD3: Sum of CP | AE3: Max of CP2 | AF3: Average of DA | AG3: Average of DX | AH3: Average of DN | AI3: Sum of DP | AJ3: Max of DP2 | AK3: Average of PA | AL3: Average of PX | AM3: Average of PN | AN3: Sum of PP | AO3: Max of PP2 | AP3: Average of MA | AQ3: Average of MX | AR3: Average of MN | AS3: Sum of MP | AT3: Max of MP2 | AU3: Average of Solar | AW3: Row Labels | AX3: Max of CX | AY3: Min of CN | AZ3: Max of DX | BA3: Min of DN | BB3: Max of PX | BC3: Min of PN | BD3: Max of MX | BE3: Min of MN
A4: Date | B4: DoY | C4: Solar | D4: CA | E4: CX | F4: CN | G4: CP | H4: DA | I4: DX | J4: DN | K4: DP | L4: PA | M4: PX | N4: PN | O4: PP | P4: Key | Q4: blnk | R4: MA | S4: MX | T4: MN | U4: MP | Z4: 8310 | AA4: 3.0483871 | AB4: 7.6548387 | AC4: -1.5967742 | AD4: 25 | AE4: 9 | AF4: 2.6419355 | AG4: 6.1774194 | AH4: -0.91290323 | AI4: 27 | AJ4: 9 | AK4: 1.816129 | AL4: 4.7806452 | AM4: -1.1774194 | AN4: 28.5 | AO4: 9 | AP4: 3.9612903 | AQ4: 9.1451613 | AR4: -1.2741935 | AS4: 22.7 | AT4: 6.4 | AU4: 7.9703226 | AW4: 8310 | AX4: 12.6 | AY4: -5.5 | AZ4: 12.3 | BA4: -5.8 | BB4: 10.7 | BC4: -5.7 | BD4: 15 | BE4: -8
A5: 30590 | B5: 274 | C5: =IF(W5="",X5,ROUND(0.95*W5,2)) -> 7.38 | D5: =ROUND(AVERAGE(E5:F5),1) -> 2.9 | E5: 10.4 | F5: -4.7 | G5: 0 | H5: =ROUND(AVERAGE(I5:J5),1) -> 2.9 | I5: 9.3 | J5: -3.6 | K5: 0 | L5: =ROUND(AVERAGE(M5:N5),1) -> 2.8 | M5: 8.2 | N5: -2.7 | O5: 0 | P5: 8310 | R5: =ROUND(AVERAGE(S5:T5),1) -> 2.3 | S5: 12.5 | T5: -8 | U5: 0 | X5: 7.38 | Z5: 8311 | AA5: -2.7633333 | AB5: -0.49333333 | AC5: -5.01 | AD5: 58.5 | AE5: 8.5 | AF5: -4.43 | AG5: -2.8766667 | AH5: -5.95 | AI5: 80 | AJ5: 8 | AK5: -4.3633333 | AL5: -2.9566667 | AM5: -5.7133333 | AN5: 80 | AO5: 8 | AP5: -0.13666667 | AQ5: 2.1166667 | AR5: -2.4 | AS5: 127.2 | AT5: 24 | AU5: 3.028 | AW5: 8311 | AX5: 6.7 | AY5: -16.9 | AZ5: 3.3 | BA5: -15.2 | BB5: 3.5 | BC5: -15 | BD5: 9 | BE5: -18
A6: 30591 | B6: 275 | C6: =IF(W6="",X6,ROUND(0.95*W6,2)) -> 8.04 | D6: =ROUND(AVERAGE(E6:F6),1) -> 4.1 | E6: 9.7 | F6: -1.5 | G6: 0 | H6: =ROUND(AVERAGE(I6:J6),1) -> 4.7 | I6: 8.6 | J6: 0.8 | K6: 0 | L6: =ROUND(AVERAGE(M6:N6),1) -> 4.4 | M6: 7.9 | N6: 0.9 | O6: 0 | P6: 8310 | R6: =ROUND(AVERAGE(S6:T6),1) -> 5.5 | S6: 11 | T6: 0 | U6: 0 | X6: 8.04 | Z6: 8312 | AA6: -14.390323 | AB6: -9.4709677 | AC6: -19.258065 | AD6: 119 | AE6: 21 | AF6: -13.425806 | AG6: -10.374194 | AH6: -16.43871 | AI6: 119 | AJ6: 21 | AK6: -14.277419 | AL6: -11.587097 | AM6: -16.925806 | AN6: 119 | AO6: 21 | AP6: -11.712903 | AQ6: -7.516129 | AR6: -15.887097 | AS6: 119 | AT6: 21 | AU6: 2.6180645 | AW6: 8312 | AX6: 1 | AY6: -33.8 | AZ6: -3 | BA6: -30.4 | BB6: -3.8 | BC6: -30.2 | BD6: 1 | BE6: -38
A7: 30592 | B7: 276 | C7: =IF(W7="",X7,ROUND(0.95*W7,2)) -> 9.73 | D7: =ROUND(AVERAGE(E7:F7),1) -> 7.2 | E7: 10.7 | F7: 3.7 | G7: 0 | H7: =ROUND(AVERAGE(I7:J7),1) -> 5.4 | I7: 8.7 | J7: 2.1 | K7: 0 | L7: =ROUND(AVERAGE(M7:N7),1) -> 5.1 | M7: 8.2 | N7: 2 | O7: 0 | P7: 8310 | R7: =ROUND(AVERAGE(S7:T7),1) -> 6 | S7: 12.5 | T7: -0.5 | U7: 0 | X7: 9.73 | Z7: 8401 | AA7: -6.3258065 | AB7: -2.3129032 | AC7: -10.322581 | AD7: 45.1 | AE7: 11 | AF7: -5.683871 | AG7: -2.616129 | AH7: -8.7096774 | AI7: 45.1 | AJ7: 11 | AK7: -6.8580645 | AL7: -4.3870968 | AM7: -9.2935484 | AN7: 45.1 | AO7: 11 | AP7: -5.8774194 | AQ7: -1.4032258 | AR7: -10.322581 | AS7: 67.1 | AT7: 11 | AU7: 2.9122581 | AW7: 8401 | AX7: 7.6 | AY7: -29 | AZ7: 6.3 | BA7: -22.8 | BB7: 4.2 | BC7: -21.5 | BD7: 7.5 | BE7: -31
A8: 30593 | B8: 277 | C8: =IF(W8="",X8,ROUND(0.95*W8,2)) -> 5.89 | D8: =ROUND(AVERAGE(E8:F8),1) -> 5.6 | E8: 7.9 | F8: 3.2 | G8: 0 | H8: =ROUND(AVERAGE(I8:J8),1) -> 3.4 | I8: 5.5 | J8: 1.3 | K8: 0 | L8: =ROUND(AVERAGE(M8:N8),1) -> 2.7 | M8: 4.2 | N8: 1.2 | O8: 0 | P8: 8310 | R8: =ROUND(AVERAGE(S8:T8),1) -> 6.5 | S8: 8 | T8: 5 | U8: 0 | X8: 5.89 | Z8: 8402 | AA8: -5.6586207 | AB8: -2.237931 | AC8: -9.0310345 | AD8: 31 | AE8: 6 | AF8: -5.1793103 | AG8: -2.3689655 | AH8: -7.9586207 | AI8: 31 | AJ8: 6 | AK8: -6.1931034 | AL8: -3.7 | AM8: -8.6586207 | AN8: 31 | AO8: 6 | AP8: -3.5310345 | AQ8: 1.3965517 | AR8: -8.4137931 | AS8: 66 | AT8: 11 | AU8: 5.3193103 | AW8: 8402 | AX8: 3.4 | AY8: -16.3 | AZ8: 10 | BA8: -15 | BB8: 7.1 | BC8: -14.8 | BD8: 9.5 | BE8: -18.5
A9: 30594 | B9: 278 | C9: =IF(W9="",X9,ROUND(0.95*W9,2)) -> 13.32 | D9: =ROUND(AVERAGE(E9:F9),1) -> 3 | E9: 9.4 | F9: -3.5 | G9: 0 | H9: =ROUND(AVERAGE(I9:J9),1) -> 2.7 | I9: 8 | J9: -2.6 | K9: 0 | L9: =ROUND(AVERAGE(M9:N9),1) -> 3.1 | M9: 7.8 | N9: -1.7 | O9: 0 | P9: 8310 | R9: =ROUND(AVERAGE(S9:T9),1) -> 2.8 | S9: 12 | T9: -6.5 | U9: 0 | X9: 13.32 | Z9: 8403 | AA9: -3.4 | AB9: 1.2483871 | AC9: -7.9935484 | AD9: 93.2 | AE9: 23.5 | AF9: -2.6483871 | AG9: -0.083870968 | AH9: -5.1677419 | AI9: 94.2 | AJ9: 23.5 | AK9: -1.983871 | AL9: 0.77741935 | AM9: -4.716129 | AN9: 94.2 | AO9: 23.5 | AP9: -0.22580645 | AQ9: 4.9032258 | AR9: -5.3548387 | AS9: 40.7 | AT9: 9.4 | AU9: 10.431935 | AW9: 8403 | AX9: 8.2 | AY9: -18.8 | AZ9: 6.9 | BA9: -10.5 | BB9: 7.5 | BC9: -9.3 | BD9: 10.5 | BE9: -17
A10: 30595 | B10: 279 | C10: =IF(W10="",X10,ROUND(0.95*W10,2)) -> 10.33 | D10: =ROUND(AVERAGE(E10:F10),1) -> 0.6 | E10: 4.3 | F10: -3.2 | G10: 0 | H10: =ROUND(AVERAGE(I10:J10),1) -> 0.3 | I10: 3.6 | J10: -3.1 | K10: 0 | L10: =ROUND(AVERAGE(M10:N10),1) -> 0.4 | M10: 2.4 | N10: -1.7 | O10: 0 | P10: 8310 | R10: =ROUND(AVERAGE(S10:T10),1) -> 1.3 | S10: 8 | T10: -5.5 | U10: 0 | X10: 10.33 | Z10: 8404 | AA10: -1.0566667 | AB10: 3.74 | AC10: -5.8333333 | AD10: 31.2 | AE10: 4.2 | AF10: -2.07 | AG10: 1.17 | AH10: -5.2666667 | AI10: 31.2 | AJ10: 4.2 | AK10: -1.3166667 | AL10: 2.08 | AM10: -4.6766667 | AN10: 31.2 | AO10: 4.2 | AP10: 1.1233333 | AQ10: 6.3166667 | AR10: -4.0833333 | AS10: 47.4 | AT10: 12.9 | AU10: 14.955333 | AW10: 8404 | AX10: 17 | AY10: -13.5 | AZ10: 13.5 | BA10: -11.1 | BB10: 16.9 | BC10: -10.4 | BD10: 18 | BE10: -11
A11: 30596 | B11: 280 | C11: =IF(W11="",X11,ROUND(0.95*W11,2)) -> 12.04 | D11: =ROUND(AVERAGE(E11:F11),1) -> 1.5 | E11: 8.3 | F11: -5.3 | G11: 0 | H11: =ROUND(AVERAGE(I11:J11),1) -> 0.5 | I11: 6.8 | J11: -5.8 | K11: 0 | L11: =ROUND(AVERAGE(M11:N11),1) -> 0.6 | M11: 5.6 | N11: -4.4 | O11: 0 | P11: 8310 | R11: =ROUND(AVERAGE(S11:T11),1) -> 2 | S11: 11 | T11: -7 | U11: 0 | X11: 12.04 | Z11: 8405 | AA11: 1.583871 | AB11: 5.9903226 | AC11: -2.8516129 | AD11: 98.3 | AE11: 12.3 | AF11: 0.61935484 | AG11: 4.1967742 | AH11: -2.9419355 | AI11: 95.3 | AJ11: 13 | AK11: 0.67741935 | AL11: 4.2709677 | AM11: -2.916129 | AN11: 95.3 | AO11: 13 | AP11: 4.1064516 | AQ11: 9 | AR11: -0.83870968 | AS11: 84.6 | AT11: 12.3 | AU11: 17.110968 | AW11: 8405 | AX11: 20.9 | AY11: -10.1 | AZ11: 16.6 | BA11: -9.4 | BB11: 18.2 | BC11: -8 | BD11: 15.5 | BE11: -8
A12: 30597 | B12: 281 | C12: =IF(W12="",X12,ROUND(0.95*W12,2)) -> 7.5 | D12: =ROUND(AVERAGE(E12:F12),1) -> 3.9 | E12: 10 | F12: -2.2 | G12: 0 | H12: =ROUND(AVERAGE(I12:J12),1) -> 5 | I12: 8.9 | J12: 1.1 | K12: 0 | L12: =ROUND(AVERAGE(M12:N12),1) -> 2.8 | M12: 7.4 | N12: -1.9 | O12: 0 | P12: 8310 | R12: =ROUND(AVERAGE(S12:T12),1) -> 4.8 | S12: 11.5 | T12: -2 | U12: 0 | X12: 7.5 | Z12: 8406 | AA12: 6.98 | AB12: 12.536667 | AC12: 1.3766667 | AD12: 84 | AE12: 12 | AF12: 6.4866667 | AG12: 10.936667 | AH12: 1.9866667 | AI12: 82.5 | AJ12: 14 | AK12: 5.8033333 | AL12: 10.113333 | AM12: 1.45 | AN12: 82.5 | AO12: 14 | AP12: 9.6166667 | AQ12: 15.65 | AR12: 3.5333333 | AS12: 81.4 | AT12: 22.1 | AU12: 19.635 | AW12: 8406 | AX12: 22.7 | AY12: -4.1 | AZ12: 20.7 | BA12: -4.3 | BB12: 21 | BC12: -3.8 | BD12: 25 | BE12: -3.5
A13: 30598 | B13: 282 | C13: =IF(W13="",X13,ROUND(0.95*W13,2)) -> 12.08 | D13: =ROUND(AVERAGE(E13:F13),1) -> 2.2 | E13: 6.2 | F13: -1.9 | G13: 0 | H13: =ROUND(AVERAGE(I13:J13),1) -> 1.4 | I13: 4.7 | J13: -1.9 | K13: 0 | L13: =ROUND(AVERAGE(M13:N13),1) -> 1.7 | M13: 4.1 | N13: -0.8 | O13: 0 | P13: 8310 | R13: =ROUND(AVERAGE(S13:T13),1) -> 4 | S13: 9 | T13: -1 | U13: 0 | X13: 12.08 | Z13: 8407 | AA13: 12.63871 | AB13: 20.525806 | AC13: 4.6935484 | AD13: 14.5 | AE13: 11.5 | AF13: 12.725806 | AG13: 18.990323 | AH13: 6.4258065 | AI13: 34 | AJ13: 20.5 | AK13: 12.119355 | AL13: 17.96129 | AM13: 6.2419355 | AN13: 34 | AO13: 20.5 | AP13: 13.754839 | AQ13: 23.403226 | AR13: 4.0483871 | AS13: 16.1 | AT13: 9.1 | AU13: 24.200645 | AW13: 8407 | AX13: 29.7 | AY13: -2 | AZ13: 26.4 | BA13: 0 | BB13: 27 | BC13: -0.3 | BD13: 30.5 | BE13: -2
A14: 30599 | B14: 283 | C14: =IF(W14="",X14,ROUND(0.95*W14,2)) -> 11.95 | D14: =ROUND(AVERAGE(E14:F14),1) -> 2 | E14: 7.7 | F14: -3.8 | G14: 0 | H14: =ROUND(AVERAGE(I14:J14),1) -> 0.8 | I14: 5.5 | J14: -3.9 | K14: 0 | L14: =ROUND(AVERAGE(M14:N14),1) -> 0.9 | M14: 5 | N14: -3.2 | O14: 0 | P14: 8310 | R14: =ROUND(AVERAGE(S14:T14),1) -> 4.5 | S14: 9 | T14: 0 | U14: 0 | X14: 11.95 | Z14: 8408 | AA14: 12.196774 | AB14: 19.387097 | AC14: 4.9548387 | AD14: 48 | AE14: 15.5 | AF14: 12.022581 | AG14: 17.532258 | AH14: 6.4516129 | AI14: 60.5 | AJ14: 18.5 | AK14: 11.454839 | AL14: 16.745161 | AM14: 6.1096774 | AN14: 60.5 | AO14: 18.5 | AP14: 13.793548 | AQ14: 22.354839 | AR14: 5.1774194 | AS14: 53.8 | AT14: 17 | AU14: 18.619355 | AW14: 8408 | AX14: 27.1 | AY14: -1.8 | AZ14: 24.7 | BA14: -0.9 | BB14: 24.7 | BC14: -1 | BD14: 29.5 | BE14: -2.5
A15: 30600 | B15: 284 | C15: =IF(W15="",X15,ROUND(0.95*W15,2)) -> 12.01 | D15: =ROUND(AVERAGE(E15:F15),1) -> 4 | E15: 10.5 | F15: -2.5 | G15: 0 | H15: =ROUND(AVERAGE(I15:J15),1) -> 4 | I15: 9.5 | J15: -1.5 | K15: 0 | L15: =ROUND(AVERAGE(M15:N15),1) -> 4.3 | M15: 8.5 | N15: 0.1 | O15: 0 | P15: 8310 | R15: =ROUND(AVERAGE(S15:T15),1) -> 2.3 | S15: 11.5 | T15: -7 | U15: 0 | X15: 12.01 | Z15: 8409 | AA15: 5.4566667 | AB15: 11.26 | AC15: -0.38 | AD15: 36.5 | AE15: 15 | AF15: 5.8366667 | AG15: 10.31 | AH15: 1.3233333 | AI15: 35 | AJ15: 16.5 | AK15: 5.3 | AL15: 9.4233333 | AM15: 1.1333333 | AN15: 35 | AO15: 16.5 | AP15: 7.14 | AQ15: 14.023333 | AR15: 0.19333333 | AS15: 35 | AT15: 16.5 | AU15: 13.108 | AW15: 8409 | AX15: 19.7 | AY15: -6.3 | AZ15: 18.9 | BA15: -6 | BB15: 18.2 | BC15: -5.7 | BD15: 23 | BE15: -6.4
A16: 30601 | B16: 285 | C16: =IF(W16="",X16,ROUND(0.95*W16,2)) -> 11.27 | D16: =ROUND(AVERAGE(E16:F16),1) -> 4.8 | E16: 11.2 | F16: -1.7 | G16: 0 | H16: =ROUND(AVERAGE(I16:J16),1) -> 6 | I16: 11.9 | J16: 0 | K16: 0 | L16: =ROUND(AVERAGE(M16:N16),1) -> 5.9 | M16: 10.7 | N16: 1 | O16: 0 | P16: 8310 | R16: =ROUND(AVERAGE(S16:T16),1) -> 5 | S16: 15 | T16: -5 | U16: 0 | W16: 11.86 | X16: 11.97 | Z16: 8410 | AA16: -1.1322581 | AB16: 3.2225806 | AC16: -5.4806452 | AD16: 55 | AE16: 14 | AF16: -0.63548387 | AG16: 2.9677419 | AH16: -4.2290323 | AI16: 55 | AJ16: 14 | AK16: -1.4419355 | AL16: 1.4903226 | AM16: -4.3677419 | AN16: 55 | AO16: 14 | AP16: 1.5258065 | AQ16: 6.8709677 | AR16: -3.8064516 | AS16: 86 | AT16: 20.3 | AU16: 7.6390323 | AW16: 8410 | AX16: 18.5 | AY16: -27.8 | AZ16: 17.6 | BA16: -25.6 | BB16: 16.3 | BC16: -25.2 | BD16: 20.5 | BE16: -22
A17: 30602 | B17: 286 | C17: =IF(W17="",X17,ROUND(0.95*W17,2)) -> 3.51 | D17: =ROUND(AVERAGE(E17:F17),1) -> 4.1 | E17: 8.3 | F17: -0.2 | G17: 0 | H17: =ROUND(AVERAGE(I17:J17),1) -> 4.5 | I17: 6.9 | J17: 2.1 | K17: 0 | L17: =ROUND(AVERAGE(M17:N17),1) -> 4.3 | M17: 6.7 | N17: 1.8 | O17: 0 | P17: 8310 | R17: =ROUND(AVERAGE(S17:T17),1) -> 4 | S17: 10 | T17: -2 | U17: 0 | X17: 3.51 | Z17: 8411 | AA17: -4.71 | AB17: -1.08 | AC17: -8.3 | AD17: 59 | AE17: 8 | AF17: -4.25 | AG17: -1.7966667 | AH17: -6.65 | AI17: 57 | AJ17: 8 | AK17: -6.4966667 | AL17: -4.47 | AM17: -8.4733333 | AN17: 58 | AO17: 8 | AP17: -2.7533333 | AQ17: 0.66666667 | AR17: -6.15 | AS17: 70.4 | AT17: 8 | AU17: 3.624 | AW17: 8411 | AX17: 2.4 | AY17: -18.9 | AZ17: 1.9 | BA17: -16.4 | BB17: -0.4 | BC17: -20 | BD17: 4 | BE17: -14.5
A18: 30603 | B18: 287 | C18: =IF(W18="",X18,ROUND(0.95*W18,2)) -> 2.83 | D18: =ROUND(AVERAGE(E18:F18),1) -> 0.7 | E18: 3.3 | F18: -1.9 | G18: 0 | H18: =ROUND(AVERAGE(I18:J18),1) -> -0.5 | I18: 1.4 | J18: -2.4 | K18: 0 | L18: =ROUND(AVERAGE(M18:N18),1) -> 0.3 | M18: 1.1 | N18: -0.6 | O18: 0 | P18: 8310 | R18: =ROUND(AVERAGE(S18:T18),1) -> 2.5 | S18: 5 | T18: 0 | U18: 1.2 | W18: 2.98 | X18: 3.45 | Z18: 8412 | AA18: -12.306452 | AB18: -8.5258065 | AC18: -16.019355 | AD18: 31.5 | AE18: 4.5 | AF18: -9.9935484 | AG18: -7.3 | AH18: -12.645161 | AI18: 38 | AJ18: 4 | AK18: -10.670968 | AL18: -7.9677419 | AM18: -13.306452 | AN18: 36.5 | AO18: 4.5 | AP18: -12.187097 | AQ18: -7.5483871 | AR18: -16.774194 | AS18: 101.5 | AT18: 23 | AU18: 2.3219355 | AW18: 8412 | AX18: -3.4 | AY18: -26.4 | AZ18: -1 | BA18: -24.9 | BB18: -1.8 | BC18: -25.8 | BD18: -1 | BE18: -33.5
A19: 30604 | B19: 288 | C19: =IF(W19="",X19,ROUND(0.95*W19,2)) -> 10.26 | D19: =ROUND(AVERAGE(E19:F19),1) -> 1.7 | E19: 6 | F19: -2.6 | G19: 0 | H19: =ROUND(AVERAGE(I19:J19),1) -> 0.9 | I19: 4.7 | J19: -2.9 | K19: 0 | L19: =ROUND(AVERAGE(M19:N19),1) -> 0.4 | M19: 4.1 | N19: -3.3 | O19: 0 | P19: 8310 | R19: =ROUND(AVERAGE(S19:T19),1) -> 1.8 | S19: 7.5 | T19: -4 | U19: 0 | W19: 10.8 | X19: 11.09 | Z19: 8501 | AA19: -7.2935484 | AB19: -2.7290323 | AC19: -11.829032 | AD19: 16 | AE19: 8.5 | AF19: -5.3 | AG19: -3.1096774 | AH19: -7.4483871 | AI19: 21.5 | AJ19: 9 | AK19: -4.9387097 | AL19: -2.6935484 | AM19: -7.1548387 | AN19: 14.4 | AO19: 6.5 | AP19: -7.683871 | AQ19: -3.8870968 | AR19: -11.435484 | AS19: 9.4 | AT19: 3.2 | AU19: 2.8132258 | AW19: 8501 | AX19: 4.5 | AY19: -22.1 | AZ19: 5.2 | BA19: -19.1 | BB19: 6.2 | BC19: -17.6 | BD19: 4.5 | BE19: -25
A20: 30605 | B20: 289 | C20: =IF(W20="",X20,ROUND(0.95*W20,2)) -> 10.25 | D20: =ROUND(AVERAGE(E20:F20),1) -> 1.2 | E20: 7 | F20: -4.7 | G20: 0 | H20: =ROUND(AVERAGE(I20:J20),1) -> 2.3 | I20: 6.8 | J20: -2.3 | K20: 0 | L20: =ROUND(AVERAGE(M20:N20),1) -> 0.4 | M20: 4.6 | N20: -3.8 | O20: 0 | P20: 8310 | R20: =ROUND(AVERAGE(S20:T20),1) -> 1 | S20: 8 | T20: -6 | U20: 0 | W20: 10.79 | X20: 9.85 | Z20: 8502 | AA20: -8.9214286 | AB20: -3.8428571 | AC20: -13.939286 | AD20: 30.5 | AE20: 5 | AF20: -8.7714286 | AG20: -5.7392857 | AH20: -11.753571 | AI20: 33 | AJ20: 6.5 | AK20: -8.775 | AL20: -6.3071429 | AM20: -11.196429 | AN20: 29.8 | AO20: 3.5 | AP20: -6.9678571 | AQ20: -1.9285714 | AR20: -11.946429 | AS20: 116.6 | AT20: 15.1 | AU20: 6.3117857 | AW20: 8502 | AX20: 6 | AY20: -27.1 | AZ20: 3.6 | BA20: -23.5 | BB20: 3.5 | BC20: -22.5 | BD20: 7 | BE20: -28.5
A21: 30606 | B21: 290 | C21: =IF(W21="",X21,ROUND(0.95*W21,2)) -> 4.84 | D21: =ROUND(AVERAGE(E21:F21),1) -> 1.7 | E21: 3.9 | F21: -0.5 | G21: 9 | H21: =ROUND(AVERAGE(I21:J21),1) -> -0.5 | I21: 0.6 | J21: -1.5 | K21: 6 | L21: =ROUND(AVERAGE(M21:N21),1) -> -0.6 | M21: 0.4 | N21: -1.6 | O21: 2 | P21: 8310 | R21: =ROUND(AVERAGE(S21:T21),1) -> 2 | S21: 5 | T21: -1 | U21: 4.4 | W21: 5.09 | X21: 3.56 | Z21: 8503 | AA21: -5.8903226 | AB21: 0.81290323 | AC21: -12.551613 | AD21: 38 | AE21: 10 | AF21: -4.8354839 | AG21: -0.99354839 | AH21: -8.6483871 | AI21: 28.5 | AJ21: 8.5 | AK21: -4.816129 | AL21: -1.2483871 | AM21: -8.3548387 | AN21: 30.5 | AO21: 6 | AP21: -4.5709677 | AQ21: 3.2419355 | AR21: -12.33871 | AS21: 44.9 | AT21: 8.4 | AU21: 11.685161 | AW21: 8503 | AX21: 9.7 | AY21: -19.6 | AZ21: 8.5 | BA21: -13 | BB21: 7.5 | BC21: -12.7 | BD21: 11.5 | BE21: -19.5
A22: 30607 | B22: 291 | C22: =IF(W22="",X22,ROUND(0.95*W22,2)) -> 10.04 | D22: =ROUND(AVERAGE(E22:F22),1) -> 1.4 | E22: 4.7 | F22: -1.9 | G22: 2 | H22: =ROUND(AVERAGE(I22:J22),1) -> -0.3 | I22: 3.1 | J22: -3.7 | K22: 4 | L22: =ROUND(AVERAGE(M22:N22),1) -> -1.3 | M22: 1.7 | N22: -4.3 | O22: 6.5 | P22: 8310 | R22: =ROUND(AVERAGE(S22:T22),1) -> 3.5 | S22: 7 | T22: 0 | U22: 1.1 | W22: 10.57 | X22: 8.97 | Z22: 8504 | AA22: 0.79666667 | AB22: 6.24 | AC22: -4.6566667 | AD22: 36.5 | AE22: 5 | AF22: -0.50333333 | AG22: 3.1366667 | AH22: -4.1366667 | AI22: 40 | AJ22: 14.5 | AK22: 0.076666667 | AL22: 3.6833333 | AM22: -3.5366667 | AN22: 39.4 | AO22: 7 | AP22: 2.3566667 | AQ22: 8.5333333 | AR22: -3.85 | AS22: 38 | AT22: 5.9 | AU22: 14.716 | AW22: 8504 | AX22: 15.4 | AY22: -13 | AZ22: 11.7 | BA22: -10.5 | BB22: 12.9 | BC22: -9.3 | BD22: 18 | BE22: -10
A23: 30608 | B23: 292 | C23: =IF(W23="",X23,ROUND(0.95*W23,2)) -> 2.84 | D23: =ROUND(AVERAGE(E23:F23),1) -> 1.9 | E23: 3.8 | F23: 0 | G23: 2 | H23: =ROUND(AVERAGE(I23:J23),1) -> -0.3 | I23: 1.4 | J23: -1.9 | K23: 2 | L23: =ROUND(AVERAGE(M23:N23),1) -> -1.4 | M23: -0.2 | N23: -2.5 | O23: 2 | P23: 8310 | R23: =ROUND(AVERAGE(S23:T23),1) -> 3.3 | S23: 5 | T23: 1.5 | U23: 1 | W23: 2.99 | X23: 3.17 | Z23: 8505 | AA23: 5.8387097 | AB23: 12.316129 | AC23: -0.67096774 | AD23: 51.5 | AE23: 15 | AF23: 4.9612903 | AG23: 10.187097 | AH23: -0.3 | AI23: 67 | AJ23: 14 | AK23: 5.5387097 | AL23: 10.187097 | AM23: 0.8483871 | AN23: 63 | AO23: 11 | AP23: 7.9 | AQ23: 15.225806 | AR23: 0.53225806 | AS23: 60.5 | AT23: 11.2 | AU23: 20.478387 | AW23: 8505 | AX23: 22.5 | AY23: -10.5 | AZ23: 20.5 | BA23: -11 | BB23: 19.7 | BC23: -9 | BD23: 24 | BE23: -8
A24: 30609 | B24: 293 | C24: =IF(W24="",X24,ROUND(0.95*W24,2)) -> 8.58 | D24: =ROUND(AVERAGE(E24:F24),1) -> 2.7 | E24: 5.7 | F24: -0.3 | G24: 0 | H24: =ROUND(AVERAGE(I24:J24),1) -> 1.4 | I24: 4.2 | J24: -1.5 | K24: 2 | L24: =ROUND(AVERAGE(M24:N24),1) -> -0.6 | M24: 1.3 | N24: -2.5 | O24: 4 | P24: 8310 | R24: =ROUND(AVERAGE(S24:T24),1) -> 4.8 | S24: 6.5 | T24: 3 | U24: 1.2 | W24: 9.03 | X24: 3.12 | Z24: 8506 | AA24: 8.6966667 | AB24: 15.123333 | AC24: 2.21 | AD24: 43 | AE24: 15 | AF24: 8.2566667 | AG24: 13.546667 | AH24: 2.9233333 | AI24: 38 | AJ24: 16 | AK24: 8.5166667 | AL24: 13.413333 | AM24: 3.56 | AN24: 39.5 | AO24: 13.5 | AP24: 9.8666667 | AQ24: 17.383333 | AR24: 2.3 | AS24: 40.9 | AT24: 8.9 | AU24: 22.828 | AW24: 8506 | AX24: 26.5 | AY24: -3 | AZ24: 25 | BA24: -2.5 | BB24: 24.8 | BC24: -2 | BD24: 27.5 | BE24: -2.5
A25: 30610 | B25: 294 | C25: =IF(W25="",X25,ROUND(0.95*W25,2)) -> 5.98 | D25: =ROUND(AVERAGE(E25:F25),1) -> 4.9 | E25: 9.2 | F25: 0.6 | G25: 3 | H25: =ROUND(AVERAGE(I25:J25),1) -> 3.7 | I25: 6.3 | J25: 1 | K25: 2 | L25: =ROUND(AVERAGE(M25:N25),1) -> 1.4 | M25: 2.9 | N25: -0.1 | O25: 4 | P25: 8310 | R25: =ROUND(AVERAGE(S25:T25),1) -> 6 | S25: 7.5 | T25: 4.5 | U25: 4.2 | W25: 6.29 | X25: 3.33 | Z25: 8507 | AA25: 15.554839 | AB25: 24.335484 | AC25: 6.7290323 | AD25: 8 | AE25: 4 | AF25: 15.56129 | AG25: 22.119355 | AH25: 8.9612903 | AI25: 4 | AJ25: 2 | AK25: 15.948387 | AL25: 21.741935 | AM25: 10.103226 | AN25: 5 | AO25: 4.5 | AP25: 15.309677 | AQ25: 25.741935 | AR25: 4.8387097 | AS25: 5.8 | AT25: 5 | AU25: 25.297419 | AW25: 8507 | AX25: 30 | AY25: 1 | AZ25: 27.5 | BA25: 3 | BB25: 27.5 | BC25: 3.2 | BD25: 30.5 | BE25: 0
A26: 30611 | B26: 295 | C26: =IF(W26="",X26,ROUND(0.95*W26,2)) -> 7.14 | D26: =ROUND(AVERAGE(E26:F26),1) -> 2.9 | E26: 5.2 | F26: 0.5 | G26: 0 | H26: =ROUND(AVERAGE(I26:J26),1) -> 1.1 | I26: 3.4 | J26: -1.2 | K26: 0 | L26: =ROUND(AVERAGE(M26:N26),1) -> 1.3 | M26: 2.1 | N26: 0.5 | O26: 0 | P26: 8310 | R26: =ROUND(AVERAGE(S26:T26),1) -> 5.8 | S26: 8 | T26: 3.5 | U26: 0 | W26: 7.52 | X26: 3.01 | Z26: 8508 | AA26: 10.854839 | AB26: 17.564516 | AC26: 4.0935484 | AD26: 52 | AE26: 34 | AF26: 10.287097 | AG26: 15.764516 | AH26: 4.7580645 | AI26: 36.5 | AJ26: 17 | AK26: 10.477419 | AL26: 15.293548 | AM26: 5.6064516 | AN26: 38 | AO26: 19 | AP26: 11.806452 | AQ26: 20.612903 | AR26: 2.9516129 | AS26: 45.6 | AT26: 17.2 | AU26: 18.099677 | AW26: 8508 | AX26: 23.5 | AY26: -1.3 | AZ26: 21.6 | BA26: -0.2 | BB26: 21 | BC26: 1.5 | BD26: 29.5 | BE26: -2
A27: 30612 | B27: 296 | C27: =IF(W27="",X27,ROUND(0.95*W27,2)) -> 9.03 | D27: =ROUND(AVERAGE(E27:F27),1) -> 0.5 | E27: 4.4 | F27: -3.4 | G27: 0.5 | H27: =ROUND(AVERAGE(I27:J27),1) -> 0.1 | I27: 3.1 | J27: -3 | K27: 0 | L27: =ROUND(AVERAGE(M27:N27),1) -> -1.1 | M27: 1.4 | N27: -3.6 | O27: 0 | P27: 8310 | R27: =ROUND(AVERAGE(S27:T27),1) -> 0.8 | S27: 6.5 | T27: -5 | U27: 0 | W27: 9.51 | X27: 8.92 | Z27: 8509 | AA27: 4.55 | AB27: 9.4466667 | AC27: -0.39666667 | AD27: 95.5 | AE27: 24 | AF27: 4.4833333 | AG27: 8.3933333 | AH27: 0.51666667 | AI27: 93 | AJ27: 23 | AK27: 4.2733333 | AL27: 7.7266667 | AM27: 0.76333333 | AN27: 99.5 | AO27: 28 | AP27: 5.8166667 | AQ27: 12.133333 | AR27: -0.55 | AS27: 131.5 | AT27: 33 | AU27: 11.341333 | AW27: 8509 | AX27: 17 | AY27: -6.5 | AZ27: 16.5 | BA27: -5 | BB27: 15.5 | BC27: -3.5 | BD27: 19 | BE27: -8
A28: 30613 | B28: 297 | C28: =IF(W28="",X28,ROUND(0.95*W28,2)) -> 4.04 | D28: =ROUND(AVERAGE(E28:F28),1) -> -0.8 | E28: 4 | F28: -5.5 | G28: 1 | H28: =ROUND(AVERAGE(I28:J28),1) -> -0.9 | I28: 3.2 | J28: -4.9 | K28: 1.5 | L28: =ROUND(AVERAGE(M28:N28),1) -> -3.1 | M28: -0.5 | N28: -5.7 | O28: 0 | P28: 8310 | R28: =ROUND(AVERAGE(S28:T28),1) -> -1 | S28: 4.5 | T28: -6.5 | U28: 2.8 | W28: 4.25 | X28: 3.42 | Z28: 8510 | AA28: 0.5 | AB28: 4.0096774 | AC28: -3.0193548 | AD28: 93 | AE28: 18 | AF28: -0.56774194 | AG28: 2.3064516 | AH28: -3.4580645 | AI28: 92.5 | AJ28: 15.5 | AK28: -1.3870968 | AL28: 0.99032258 | AM28: -3.7483871 | AN28: 91 | AO28: 16 | AP28: 2.0064516 | AQ28: 6.7741935 | AR28: -2.7903226 | AS28: 99.4 | AT28: 20 | AU28: 7.0829032 | AW28: 8510 | AX28: 12 | AY28: -12.5 | AZ28: 11 | BA28: -12.5 | BB28: 9 | BC28: -10.5 | BD28: 13.5 | BE28: -10
A29: 30614 | B29: 298 | C29: =IF(W29="",X29,ROUND(0.95*W29,2)) -> 6.64 | D29: =ROUND(AVERAGE(E29:F29),1) -> 4.3 | E29: 8.7 | F29: -0.1 | G29: 0 | H29: =ROUND(AVERAGE(I29:J29),1) -> 4.3 | I29: 8.3 | J29: 0.2 | K29: 0 | L29: =ROUND(AVERAGE(M29:N29),1) -> 0.2 | M29: 4.2 | N29: -3.8 | O29: 0.5 | P29: 8310 | R29: =ROUND(AVERAGE(S29:T29),1) -> 6.5 | S29: 10 | T29: 3 | U29: 0 | W29: 6.99 | X29: 6.18 | Z29: 8511 | AA29: -14.33 | AB29: -10.583333 | AC29: -18.023333 | AD29: 51.5 | AE29: 9 | AF29: -13.05 | AG29: -10.173333 | AH29: -15.9 | AI29: 53.5 | AJ29: 13.5 | AK29: -13.033333 | AL29: -10.9 | AM29: -15.136667 | AN29: 49 | AO29: 9 | AP29: -12.646667 | AQ29: -9.0333333 | AR29: -16.216667 | AS29: 53.5 | AT29: 13.5 | AU29: 3.914 | AW29: 8511 | AX29: 3.9 | AY29: -34.5 | AZ29: 2 | BA29: -31.5 | BB29: 1.2 | BC29: -30 | BD29: 4 | BE29: -34
A30: 30615 | B30: 299 | C30: =IF(W30="",X30,ROUND(0.95*W30,2)) -> 7.88 | D30: =ROUND(AVERAGE(E30:F30),1) -> 5.9 | E30: 12.6 | F30: -0.8 | G30: 0 | H30: =ROUND(AVERAGE(I30:J30),1) -> 8 | I30: 12.3 | J30: 3.7 | K30: =O30 -> 0.5 | L30: =ROUND(AVERAGE(M30:N30),1) -> 3.9 | M30: 7.4 | N30: 0.4 | O30: 0.5 | P30: 8310 | R30: =ROUND(AVERAGE(S30:T30),1) -> 8.3 | S30: 13.5 | T30: 3 | U30: 0 | W30: 8.29 | X30: 8.38 | Z30: 8512 | AA30: -6.5290323 | AB30: -1.1645161 | AC30: -11.841935 | AD30: 12 | AE30: 4 | AF30: -4.6290323 | AG30: -1.7870968 | AH30: -7.4387097 | AI30: 14 | AJ30: 4 | AK30: -5.4064516 | AL30: -2.7774194 | AM30: -7.9935484 | AN30: 25.5 | AO30: 5.5 | AP30: -8.4516129 | AQ30: -3.8387097 | AR30: -13.032258 | AS30: 14 | AT30: 4 | AU30: 2.2525806 | AW30: 8512 | AX30: 6.5 | AY30: -30.6 | AZ30: 6.3 | BA30: -26.3 | BB30: 4.5 | BC30: -24.7 | BD30: 2 | BE30: -33
A31: 30616 | B31: 300 | C31: =IF(W31="",X31,ROUND(0.95*W31,2)) -> 8.64 | D31: =ROUND(AVERAGE(E31:F31),1) -> 3.4 | E31: 8.2 | F31: -1.4 | G31: 0 | H31: =ROUND(AVERAGE(I31:J31),1) -> 3.4 | I31: 5.9 | J31: 0.8 | K31: =O31 -> 0 | L31: =ROUND(AVERAGE(M31:N31),1) -> 3.2 | M31: 5.8 | N31: 0.5 | O31: 0 | P31: 8310 | R31: =ROUND(AVERAGE(S31:T31),1) -> 5.3 | S31: 8.5 | T31: 2 | U31: 0 | W31: 9.09 | X31: 8.96 | Z31: 8601 | AA31: -5.2774194 | AB31: -1.1419355 | AC31: -9.3677419 | AD31: 40 | AE31: 10.5 | AF31: -4.1258065 | AG31: -1.7193548 | AH31: -6.4903226 | AI31: 41.5 | AJ31: 16.5 | AK31: -6.2870968 | AL31: -4.0354839 | AM31: -8.4967742 | AN31: 40 | AO31: 16.5 | AP31: -3.5354839 | AQ31: 0.041935484 | AR31: -7.0806452 | AS31: 82.3 | AT31: 13.2 | AU31: 2.8829032 | AW31: 8601 | AX31: 6.5 | AY31: -18.5 | AZ31: 4.9 | BA31: -11.7 | BB31: 4.1 | BC31: -14.6 | BD31: 4 | BE31: -20
A32: 30617 | B32: 301 | C32: =IF(W32="",X32,ROUND(0.95*W32,2)) -> 7.63 | D32: =ROUND(AVERAGE(E32:F32),1) -> 3 | E32: 9.8 | F32: -3.8 | G32: 0 | H32: =ROUND(AVERAGE(I32:J32),1) -> 3.8 | I32: 8.3 | J32: -0.7 | K32: =O32 -> 0 | L32: =ROUND(AVERAGE(M32:N32),1) -> 3.2 | M32: 6.8 | N32: -0.4 | O32: 0 | P32: 8310 | R32: =ROUND(AVERAGE(S32:T32),1) -> 2.8 | S32: 10.5 | T32: -5 | U32: 0 | W32: 8.03 | X32: 7.63 | Z32: 8602 | AA32: -7.4142857 | AB32: -2.7035714 | AC32: -12.096429 | AD32: 38 | AE32: 8 | AF32: -7.1035714 | AG32: -4.45 | AH32: -9.7321429 | AI32: 22.5 | AJ32: 6 | AK32: -7.0642857 | AL32: -4.3107143 | AM32: -9.7857143 | AN32: 28.5 | AO32: 9 | AP32: -6.2392857 | AQ32: -1.0714286 | AR32: -11.392857 | AS32: 65.6 | AT32: 16.1 | AU32: 6.4342857 | AW32: 8602 | AX32: 12 | AY32: -24.8 | AZ32: 9.5 | BA32: -23.5 | BB32: 8.5 | BC32: -22 | BD32: 11 | BE32: -33.5
A33: 30618 | B33: 302 | C33: =IF(W33="",X33,ROUND(0.95*W33,2)) -> 7.83 | D33: =ROUND(AVERAGE(E33:F33),1) -> 4.9 | E33: 11.9 | F33: -2.2 | G33: 0 | H33: =ROUND(AVERAGE(I33:J33),1) -> 6.1 | I33: 10.3 | J33: 1.9 | K33: =O33 -> 0 | L33: =ROUND(AVERAGE(M33:N33),1) -> 4.5 | M33: 8.4 | N33: 0.6 | O33: 0 | P33: 8310 | R33: =ROUND(AVERAGE(S33:T33),1) -> 5.8 | S33: 13 | T33: -1.5 | U33: 0 | W33: 8.24 | X33: 9.11 | Z33: 8603 | AA33: -0.35483871 | AB33: 4.3032258 | AC33: -4.9935484 | AD33: 53 | AE33: 8.5 | AF33: -1.1548387 | AG33: 2.2903226 | AH33: -4.5870968 | AI33: 50 | AJ33: 8 | AK33: -1.1064516 | AL33: 1.8741935 | AM33: -4.0645161 | AN33: 64 | AO33: 13 | AP33: 1.0870968 | AQ33: 6.2741935 | AR33: -4.1129032 | AS33: 48.5 | AT33: 10 | AU33: 9.5693548 | AW33: 8603 | AX33: 11.7 | AY33: -12 | AZ33: 8.6 | BA33: -9.9 | BB33: 8.7 | BC33: -9 | BD33: 14 | BE33: -10.5
A34: 30619 | B34: 303 | C34: =IF(W34="",X34,ROUND(0.95*W34,2)) -> 2.48 | D34: =ROUND(AVERAGE(E34:F34),1) -> 5.6 | E34: 9.3 | F34: 1.8 | G34: 6.5 | H34: =ROUND(AVERAGE(I34:J34),1) -> 6.2 | I34: 7.3 | J34: 5.1 | K34: =O34 -> 9 | L34: =ROUND(AVERAGE(M34:N34),1) -> 4.5 | M34: 6.3 | N34: 2.7 | O34: 9 | P34: 8310 | R34: =ROUND(AVERAGE(S34:T34),1) -> 6.3 | S34: 9 | T34: 3.5 | U34: 6.4 | W34: 2.61 | X34: 2.66 | Z34: 8604 | AA34: -0.09 | AB34: 4.4166667 | AC34: -4.59 | AD34: 100 | AE34: 13 | AF34: -1.6766667 | AG34: 1.8866667 | AH34: -5.2033333 | AI34: 96.5 | AJ34: 12.5 | AK34: -1.46 | AL34: 1.7066667 | AM34: -4.6166667 | AN34: 99.5 | AO34: 18 | AP34: 1.98 | AQ34: 7.05 | AR34: -3.1333333 | AS34: 91.2 | AT34: 17 | AU34: 12.851667 | AW34: 8604 | AX34: 15 | AY34: -13 | AZ34: 13 | BA34: -12.5 | BB34: 13 | BC34: -12.3 | BD34: 16 | BE34: -8.5
A35: 30620 | B35: 304 | C35: =IF(W35="",X35,ROUND(0.95*W35,2)) -> 5.1 | D35: =ROUND(AVERAGE(E35:F35),1) -> 2.7 | E35: 5 | F35: 0.3 | G35: 1 | H35: =ROUND(AVERAGE(I35:J35),1) -> 1.5 | I35: 3 | J35: 0 | K35: =O35 -> 0 | L35: =ROUND(AVERAGE(M35:N35),1) -> 2.1 | M35: 3.7 | N35: 0.4 | O35: 0 | P35: 8310 | R35: =ROUND(AVERAGE(S35:T35),1) -> 6.3 | S35: 7.5 | T35: 5 | U35: 0.4 | W35: 5.37 | X35: 4.96 | Z35: 8605 | AA35: 4.7193548 | AB35: 10.380645 | AC35: -0.97096774 | AD35: 55 | AE35: 10 | AF35: 4.2935484 | AG35: 8.8322581 | AH35: -0.26451613 | AI35: 57 | AJ35: 9 | AK35: 4.4193548 | AL35: 8.5741935 | AM35: 0.26774194 | AN35: 56.5 | AO35: 8.5 | AP35: 7.6612903 | AQ35: 14.516129 | AR35: 0.75806452 | AS35: 49.8 | AT35: 9.3 | AU35: 17.804516 | AW35: 8605 | AX35: 28.5 | AY35: -6.6 | AZ35: 26 | BA35: -7 | BB35: 24.5 | BC35: -6 | BD35: 29.5 | BE35: -6
A36: 30621 | B36: 305 | C36: =IF(W36="",X36,ROUND(0.95*W36,2)) -> 3.35 | D36: =ROUND(AVERAGE(E36:F36),1) -> 2.1 | E36: 6.7 | F36: -2.6 | G36: 8.5 | H36: =ROUND(AVERAGE(I36:J36),1) -> 0.9 | I36: 3.3 | J36: -1.6 | K36: =O36 -> 8 | L36: =ROUND(AVERAGE(M36:N36),1) -> 1.1 | M36: 3.2 | N36: -1 | O36: 8 | P36: 8311 | R36: =ROUND(AVERAGE(S36:T36),1) -> 3 | S36: 9 | T36: -3 | U36: 5.2 | W36: 3.53 | X36: 5.62 | Z36: 8606 | AA36: 10.79 | AB36: 17.52 | AC36: 4.0233333 | AD36: 70.5 | AE36: 17.5 | AF36: 10.27 | AG36: 16.12 | AH36: 4.3866667 | AI36: 57.5 | AJ36: 15.5 | AK36: 10.073333 | AL36: 15.35 | AM36: 4.7533333 | AN36: 63.5 | AO36: 18.5 | AP36: 12.18 | AQ36: 20.383333 | AR36: 3.9166667 | AS36: 92.3 | AT36: 27.8 | AU36: 20.959 | AW36: 8606 | AX36: 25.1 | AY36: -1.5 | AZ36: 23 | BA36: -1.5 | BB36: 21.6 | BC36: -1 | BD36: 27 | BE36: -1
A37: 30622 | B37: 306 | C37: =IF(W37="",X37,ROUND(0.95*W37,2)) -> 4.31 | D37: =ROUND(AVERAGE(E37:F37),1) -> 1.5 | E37: 4 | F37: -1 | G37: 0.5 | H37: =ROUND(AVERAGE(I37:J37),1) -> -0.2 | I37: 1.4 | J37: -1.8 | K37: =O37 -> 8 | L37: =ROUND(AVERAGE(M37:N37),1) -> 0.6 | M37: 2.1 | N37: -0.9 | O37: 8 | P37: 8311 | R37: =ROUND(AVERAGE(S37:T37),1) -> 4.3 | S37: 6.5 | T37: 2 | U37: 7 | W37: 4.54 | X37: 3.17 | Z37: 8607 | AA37: 9.4677419 | AB37: 15.329032 | AC37: 3.5419355 | AD37: 65 | AE37: 13.5 | AF37: 8.8516129 | AG37: 13.919355 | AH37: 3.7483871 | AI37: 42 | AJ37: 8.5 | AK37: 9.0354839 | AL37: 13.335484 | AM37: 4.6870968 | AN37: 49 | AO37: 7 | AP37: 11.464516 | AQ37: 18.967742 | AR37: 3.9354839 | AS37: 52.4 | AT37: 10.1 | AU37: 18.985161 | AW37: 8607 | AX37: 24 | AY37: -0.5 | AZ37: 21 | BA37: -0.3 | BB37: 20.2 | BC37: -0.8 | BD37: 25 | BE37: 0
A38: 30623 | B38: 307 | C38: =IF(W38="",X38,ROUND(0.95*W38,2)) -> 1.61 | D38: =ROUND(AVERAGE(E38:F38),1) -> 3 | E38: 4.6 | F38: 1.4 | G38: 1.5 | H38: =ROUND(AVERAGE(I38:J38),1) -> 1.2 | I38: 2.9 | J38: -0.5 | K38: =O38 -> 2.5 | L38: =ROUND(AVERAGE(M38:N38),1) -> 1.9 | M38: 3.5 | N38: 0.3 | O38: 2.5 | P38: 8311 | R38: =ROUND(AVERAGE(S38:T38),1) -> 5.3 | S38: 7.5 | T38: 3 | U38: 2 | W38: 1.69 | X38: 4.39 | Z38: 8608 | AA38: 13.912903 | AB38: 22.154839 | AC38: 5.6193548 | AD38: 12 | AE38: 9.5 | AF38: 14.503226 | AG38: 20.729032 | AH38: 8.2387097 | AI38: 9.5 | AJ38: 8 | AK38: 14.554839 | AL38: 20.077419 | AM38: 8.9645161 | AN38: 20 | AO38: 20 | AP38: 14.654839 | AQ38: 25.129032 | AR38: 4.1290323 | AS38: 6.2 | AT38: 6.2 | AU38: 20.423548 | AW38: 8608 | AX38: 29 | AY38: 0 | AZ38: 27 | BA38: 4.8 | BB38: 26.5 | BC38: 5 | BD38: 32 | BE38: -2.5
A39: 30624 | B39: 308 | C39: =IF(W39="",X39,ROUND(0.95*W39,2)) -> 5.42 | D39: =ROUND(AVERAGE(E39:F39),1) -> 1.2 | E39: 2.7 | F39: -0.4 | G39: 2 | H39: =ROUND(AVERAGE(I39:J39),1) -> -1.5 | I39: -0.1 | J39: -2.9 | K39: =O39 -> 2.5 | L39: =ROUND(AVERAGE(M39:N39),1) -> -0.7 | M39: 0 | N39: -1.3 | O39: 2.5 | P39: 8311 | R39: =ROUND(AVERAGE(S39:T39),1) -> 2.8 | S39: 5.5 | T39: 0 | U39: 0 | W39: 5.7 | X39: 4.56 | Z39: 8609 | AA39: 4.6266667 | AB39: 9.0433333 | AC39: 0.14666667 | AD39: 107.5 | AE39: 22 | AF39: 4.47 | AG39: 8.2233333 | AH39: 0.68 | AI39: 93 | AJ39: 18 | AK39: 4.4166667 | AL39: 7.4366667 | AM39: 1.3533333 | AN39: 89.5 | AO39: 18 | AP39: 6.8933333 | AQ39: 12.866667 | AR39: 0.86666667 | AS39: 98.8 | AT39: 14.4 | AU39: 11.532667 | AW39: 8609 | AX39: 17.9 | AY39: -6.3 | AZ39: 17.2 | BA39: -3 | BB39: 15.4 | BC39: -2.5 | BD39: 21 | BE39: -6
A40: 30625 | B40: 309 | C40: =IF(W40="",X40,ROUND(0.95*W40,2)) -> 4.34 | D40: =ROUND(AVERAGE(E40:F40),1) -> -2.6 | E40: 1.5 | F40: -6.6 | G40: 0.5 | H40: =ROUND(AVERAGE(I40:J40),1) -> -4.6 | I40: -1.9 | J40: -7.2 | K40: =O40 -> 1 | L40: =ROUND(AVERAGE(M40:N40),1) -> -3.4 | M40: -0.7 | N40: -6 | O40: 1 | P40: 8311 | R40: =ROUND(AVERAGE(S40:T40),1) -> 0 | S40: 3.5 | T40: -3.5 | U40: 0 | W40: 4.57 | X40: 2.96 | Z40: 8610 | AA40: 4.9064516 | AB40: 11.335484 | AC40: -1.5645161 | AD40: 39 | AE40: 10.5 | AF40: 6.1 | AG40: 10.93871 | AH40: 1.2354839 | AI40: 40 | AJ40: 13 | AK40: 6.1806452 | AL40: 10.216129 | AM40: 2.1032258 | AN40: 40 | AO40: 13 | AP40: 5.5516129 | AQ40: 13.741935 | AR40: -2.6935484 | AS40: 19.1 | AT40: 6.4 | AU40: 8.9096774 | AW40: 8610 | AX40: 19 | AY40: -5.5 | AZ40: 17.5 | BA40: -6.1 | BB40: 17 | BC40: -4.9 | BD40: 21 | BE40: -7.5
...

Sheet Monthly
A1: Monthly summary for Cheng, Dennis, Penticton, McClloch and UPC solar
A2: Last edit 14/11/19 | X2: =(1.19-0.0067*AP2) -> 0.8575125 | AB2: Extremes | AM2: Station | AN2: =Meta!N3 -> Dennis | AO2: Lat | AP2: =Meta!O3 -> 49.625 | AQ2: sin(Lat) | AR2: @cos(Lat) | AS2: @tan(lat)
C3: Cheng | H3: Dennis | M3: Penticton | R3: McCulloch | W3: UPC | X3: =AN2 -> Dennis | AB3: Cheng | AD3: Dennis | AF3: Penticton | AH3: McCulloch | AO3: Solar lookup table | AQ3: =SIN(AP2*0.01745) -> 0.76171518 | AR3: =COS(AP2*0.01745) -> 0.64791202 | AS3: =TAN(0.01745*AP2) -> 1.175646
B4: YrMn | C4: Tave | D4: Tmax | E4: Tmin | F4: Precip | G4: 1dayX | H4: Tave | I4: Tmax | J4: Tmin | K4: Precip | L4: 1dayX | M4: Tave | N4: Tmax | O4: Tmin | P4: Precip | Q4: 1dayX | R4: Tave | S4: Tmax | T4: Tmin | U4: Precip | V4: 1dayX | W4: Solar | X4: Eref | Y4: CMD | Z4: Month | AA4: Year | AB4: TmaxX | AC4: TminN | AD4: TmaxX | AE4: TminN | AF4: TmaxX | AG4: TminN | AH4: TmaxX | AI4: TminN | AO4: Month | AP4: DoM | AQ4: Dim | AR4: Declination | AS4: RelDistSun | AT4: Scratch | AU4: SunsetHrAngle | AV4: daylength | AW4: SolarTop | AX4: d*So
B5: =Data!Z4 -> 8310 | C5: =ROUND(Data!AA4,1) -> 3 | D5: =ROUND(Data!AB4,1) -> 7.7 | E5: =ROUND(Data!AC4,1) -> -1.6 | F5: =Data!AD4 -> 25 | G5: =Data!AE4 -> 9 | H5: =ROUND(Data!AF4,1) -> 2.6 | I5: =ROUND(Data!AG4,1) -> 6.2 | J5: =ROUND(Data!AH4,1) -> -0.9 | K5: =Data!AI4 -> 27 | L5: =Data!AJ4 -> 9 | M5: =ROUND(Data!AK4,1) -> 1.8 | N5: =ROUND(Data!AL4,1) -> 4.8 | O5: =ROUND(Data!AM4,1) -> -1.2 | P5: =Data!AN4 -> 28.5 | Q5: =Data!AO4 -> 9 | R5: =ROUND(Data!AP4,1) -> 4 | S5: =ROUND(Data!AQ4,1) -> 9.1 | T5: =ROUND(Data!AR4,1) -> -1.3 | U5: =Data!AS4 -> 22.7 | V5: =Data!AT4 -> 6.4 | W5: =ROUND(Data!AQ4,2) -> 9.15 | X5: =IF(H5<0,0,ROUND(0.0023*VLOOKUP(Z5,$AO$6:$AJG$17,10)*(H5+17.8)*(I5-J5)^0.5*X$2,0)) -> 23 | Y5: =IF(X5>K5,X5-K5,0) -> 0 | Z5: 10 | AA5: 1983 | AO5: 1 | AP5: 16 | AQ5: 31 | AR5: -0.3681 | AS5: 1.032 | AT5: =(AS$6*TAN(AR5)) -> -0.39454955 | AU5: =IF(AT5<-1,0,IF(AT5>1,3.14,ACOS(-AT5))) -> 1.1652187 | AV5: =0.636*AU5 -> 0.74107912 | AW5: =ROUND(15.392*AS5*(AU5*AQ$3*SIN(AR5)+AR$3*COS(AR5)*SIN(AU5)),2) -> 3.75 | AX5: =AQ5*AW5 -> 116.25
B6: =Data!Z5 -> 8311 | C6: =ROUND(Data!AA5,1) -> -2.8 | D6: =ROUND(Data!AB5,1) -> -0.5 | E6: =ROUND(Data!AC5,1) -> -5 | F6: =Data!AD5 -> 58.5 | G6: =Data!AE5 -> 8.5 | H6: =ROUND(Data!AF5,1) -> -4.4 | I6: =ROUND(Data!AG5,1) -> -2.9 | J6: =ROUND(Data!AH5,1) -> -6 | K6: =Data!AI5 -> 80 | L6: =Data!AJ5 -> 8 | M6: =ROUND(Data!AK5,1) -> -4.4 | N6: =ROUND(Data!AL5,1) -> -3 | O6: =ROUND(Data!AM5,1) -> -5.7 | P6: =Data!AN5 -> 80 | Q6: =Data!AO5 -> 8 | R6: =ROUND(Data!AP5,1) -> -0.1 | S6: =ROUND(Data!AQ5,1) -> 2.1 | T6: =ROUND(Data!AR5,1) -> -2.4 | U6: =Data!AS5 -> 127.2 | V6: =Data!AT5 -> 24 | W6: =ROUND(Data!AQ5,2) -> 2.12 | X6: =IF(H6<0,0,ROUND(0.0023*VLOOKUP(Z6,$AO$6:$AJG$17,10)*(H6+17.8)*(I6-J6)^0.5*X$2,0)) -> 0 | Y6: =IF(X6>K6,X6-K6,0) -> 0 | Z6: 11 | AA6: 1983 | AO6: 2 | AP6: 46 | AQ6: 28 | AR6: -0.2259 | AS6: 1.023 | AT6: =(AS$6*TAN(AR6)) -> -0.23510863 | AU6: =IF(AT6<-1,0,IF(AT6>1,3.14,ACOS(-AT6))) -> 1.333466 | AV6: =0.636*AU6 -> 0.84808437 | AW6: =ROUND(15.392*AS6*(AU6*AQ$3*SIN(AR6)+AR$3*COS(AR6)*SIN(AU6)),2) -> 6.08 | AX6: =AQ6*AW6 -> 170.24
B7: =Data!Z6 -> 8312 | C7: =ROUND(Data!AA6,1) -> -14.4 | D7: =ROUND(Data!AB6,1) -> -9.5 | E7: =ROUND(Data!AC6,1) -> -19.3 | F7: =Data!AD6 -> 119 | G7: =Data!AE6 -> 21 | H7: =ROUND(Data!AF6,1) -> -13.4 | I7: =ROUND(Data!AG6,1) -> -10.4 | J7: =ROUND(Data!AH6,1) -> -16.4 | K7: =Data!AI6 -> 119 | L7: =Data!AJ6 -> 21 | M7: =ROUND(Data!AK6,1) -> -14.3 | N7: =ROUND(Data!AL6,1) -> -11.6 | O7: =ROUND(Data!AM6,1) -> -16.9 | P7: =Data!AN6 -> 119 | Q7: =Data!AO6 -> 21 | R7: =ROUND(Data!AP6,1) -> -11.7 | S7: =ROUND(Data!AQ6,1) -> -7.5 | T7: =ROUND(Data!AR6,1) -> -15.9 | U7: =Data!AS6 -> 119 | V7: =Data!AT6 -> 21 | W7: =ROUND(Data!AQ6,2) -> -7.52 | X7: =IF(H7<0,0,ROUND(0.0023*VLOOKUP(Z7,$AO$6:$AJG$17,10)*(H7+17.8)*(I7-J7)^0.5*X$2,0)) -> 0 | Y7: =IF(X7>K7,X7-K7,0) -> 0 | Z7: 12 | AA7: 1983 | AB7: =Data!AX4 -> 12.6 | AC7: =Data!AY4 -> -5.5 | AD7: =Data!AZ4 -> 12.3 | AE7: =Data!BA4 -> -5.8 | AF7: =Data!BB4 -> 10.7 | AG7: =Data!BC4 -> -5.7 | AH7: =Data!BD4 -> 15 | AI7: =Data!BE4 -> -8 | AO7: 3 | AP7: 75 | AQ7: 31 | AR7: -0.0422 | AS7: 1.01 | AT7: =(AS$6*TAN(AR7)) -> -0.043196245 | AU7: =IF(AT7<-1,0,IF(AT7>1,3.14,ACOS(-AT7))) -> 1.5275866 | AV7: =0.636*AU7 -> 0.9715451 | AW7: =ROUND(15.392*AS7*(AU7*AQ$3*SIN(AR7)+AR$3*COS(AR7)*SIN(AU7)),2) -> 9.29 | AX7: =AQ7*AW7 -> 287.99
B8: =Data!Z7 -> 8401 | C8: =ROUND(Data!AA7,1) -> -6.3 | D8: =ROUND(Data!AB7,1) -> -2.3 | E8: =ROUND(Data!AC7,1) -> -10.3 | F8: =Data!AD7 -> 45.1 | G8: =Data!AE7 -> 11 | H8: =ROUND(Data!AF7,1) -> -5.7 | I8: =ROUND(Data!AG7,1) -> -2.6 | J8: =ROUND(Data!AH7,1) -> -8.7 | K8: =Data!AI7 -> 45.1 | L8: =Data!AJ7 -> 11 | M8: =ROUND(Data!AK7,1) -> -6.9 | N8: =ROUND(Data!AL7,1) -> -4.4 | O8: =ROUND(Data!AM7,1) -> -9.3 | P8: =Data!AN7 -> 45.1 | Q8: =Data!AO7 -> 11 | R8: =ROUND(Data!AP7,1) -> -5.9 | S8: =ROUND(Data!AQ7,1) -> -1.4 | T8: =ROUND(Data!AR7,1) -> -10.3 | U8: =Data!AS7 -> 67.1 | V8: =Data!AT7 -> 11 | W8: =ROUND(Data!AQ7,2) -> -1.4 | X8: =IF(H8<0,0,ROUND(0.0023*VLOOKUP(Z8,$AO$6:$AJG$17,10)*(H8+17.8)*(I8-J8)^0.5*X$2,0)) -> 0 | Y8: =IF(X8>K8,X8-K8,0) -> 0 | Z8: 1 | AA8: 1984 | AB8: =Data!AX5 -> 6.7 | AC8: =Data!AY5 -> -16.9 | AD8: =Data!AZ5 -> 3.3 | AE8: =Data!BA5 -> -15.2 | AF8: =Data!BB5 -> 3.5 | AG8: =Data!BC5 -> -15 | AH8: =Data!BD5 -> 9 | AI8: =Data!BE5 -> -18 | AO8: 4 | AP8: 105 | AQ8: 30 | AR8: 0.1706 | AS8: 0.992 | AT8: =(AS$6*TAN(AR8)) -> 0.17623688 | AU8: =IF(AT8<-1,0,IF(AT8>1,3.14,ACOS(-AT8))) -> 1.7479585 | AV8: =0.636*AU8 -> 1.1117016 | AW8: =ROUND(15.392*AS8*(AU8*AQ$3*SIN(AR8)+AR$3*COS(AR8)*SIN(AU8)),2) -> 13.05 | AX8: =AQ8*AW8 -> 391.5
B9: =Data!Z8 -> 8402 | C9: =ROUND(Data!AA8,1) -> -5.7 | D9: =ROUND(Data!AB8,1) -> -2.2 | E9: =ROUND(Data!AC8,1) -> -9 | F9: =Data!AD8 -> 31 | G9: =Data!AE8 -> 6 | H9: =ROUND(Data!AF8,1) -> -5.2 | I9: =ROUND(Data!AG8,1) -> -2.4 | J9: =ROUND(Data!AH8,1) -> -8 | K9: =Data!AI8 -> 31 | L9: =Data!AJ8 -> 6 | M9: =ROUND(Data!AK8,1) -> -6.2 | N9: =ROUND(Data!AL8,1) -> -3.7 | O9: =ROUND(Data!AM8,1) -> -8.7 | P9: =Data!AN8 -> 31 | Q9: =Data!AO8 -> 6 | R9: =ROUND(Data!AP8,1) -> -3.5 | S9: =ROUND(Data!AQ8,1) -> 1.4 | T9: =ROUND(Data!AR8,1) -> -8.4 | U9: =Data!AS8 -> 66 | V9: =Data!AT8 -> 11 | W9: =ROUND(Data!AQ8,2) -> 1.4 | X9: =IF(H9<0,0,ROUND(0.0023*VLOOKUP(Z9,$AO$6:$AJG$17,10)*(H9+17.8)*(I9-J9)^0.5*X$2,0)) -> 0 | Y9: =IF(X9>K9,X9-K9,0) -> 0 | Z9: 2 | AA9: 1984 | AB9: =Data!AX6 -> 1 | AC9: =Data!AY6 -> -33.8 | AD9: =Data!AZ6 -> -3 | AE9: =Data!BA6 -> -30.4 | AF9: =Data!BB6 -> -3.8 | AG9: =Data!BC6 -> -30.2 | AH9: =Data!BD6 -> 1 | AI9: =Data!BE6 -> -38 | AO9: 5 | AP9: 135 | AQ9: 31 | AR9: 0.332 | AS9: 0.977 | AT9: =(AS$6*TAN(AR9)) -> 0.35269055 | AU9: =IF(AT9<-1,0,IF(AT9>1,3.14,ACOS(-AT9))) -> 1.9312412 | AV9: =0.636*AU9 -> 1.2282694 | AW9: =ROUND(15.392*AS9*(AU9*AQ$3*SIN(AR9)+AR$3*COS(AR9)*SIN(AU9)),2) -> 15.83 | AX9: =AQ9*AW9 -> 490.73
B10: =Data!Z9 -> 8403 | C10: =ROUND(Data!AA9,1) -> -3.4 | D10: =ROUND(Data!AB9,1) -> 1.2 | E10: =ROUND(Data!AC9,1) -> -8 | F10: =Data!AD9 -> 93.2 | G10: =Data!AE9 -> 23.5 | H10: =ROUND(Data!AF9,1) -> -2.6 | I10: =ROUND(Data!AG9,1) -> -0.1 | J10: =ROUND(Data!AH9,1) -> -5.2 | K10: =Data!AI9 -> 94.2 | L10: =Data!AJ9 -> 23.5 | M10: =ROUND(Data!AK9,1) -> -2 | N10: =ROUND(Data!AL9,1) -> 0.8 | O10: =ROUND(Data!AM9,1) -> -4.7 | P10: =Data!AN9 -> 94.2 | Q10: =Data!AO9 -> 23.5 | R10: =ROUND(Data!AP9,1) -> -0.2 | S10: =ROUND(Data!AQ9,1) -> 4.9 | T10: =ROUND(Data!AR9,1) -> -5.4 | U10: =Data!AS9 -> 40.7 | V10: =Data!AT9 -> 9.4 | W10: =ROUND(Data!AQ9,2) -> 4.9 | X10: =IF(H10<0,0,ROUND(0.0023*VLOOKUP(Z10,$AO$6:$AJG$17,10)*(H10+17.8)*(I10-J10)^0.5*X$2,0)) -> 0 | Y10: =IF(X10>K10,X10-K10,0) -> 0 | Z10: 3 | AA10: 1984 | AB10: =Data!AX7 -> 7.6 | AC10: =Data!AY7 -> -29 | AD10: =Data!AZ7 -> 6.3 | AE10: =Data!BA7 -> -22.8 | AF10: =Data!BB7 -> 4.2 | AG10: =Data!BC7 -> -21.5 | AH10: =Data!BD7 -> 7.5 | AI10: =Data!BE7 -> -31 | AO10: 6 | AP10: 162 | AQ10: 30 | AR10: 0.4076 | AS10: 0.968 | AT10: =(AS$6*TAN(AR10)) -> 0.44171176 | AU10: =IF(AT10<-1,0,IF(AT10>1,3.14,ACOS(-AT10))) -> 2.0283021 | AV10: =0.636*AU10 -> 1.2900001 | AW10: =ROUND(15.392*AS10*(AU10*AQ$3*SIN(AR10)+AR$3*COS(AR10)*SIN(AU10)),2) -> 17.08 | AX10: =AQ10*AW10 -> 512.4
B11: =Data!Z10 -> 8404 | C11: =ROUND(Data!AA10,1) -> -1.1 | D11: =ROUND(Data!AB10,1) -> 3.7 | E11: =ROUND(Data!AC10,1) -> -5.8 | F11: =Data!AD10 -> 31.2 | G11: =Data!AE10 -> 4.2 | H11: =ROUND(Data!AF10,1) -> -2.1 | I11: =ROUND(Data!AG10,1) -> 1.2 | J11: =ROUND(Data!AH10,1) -> -5.3 | K11: =Data!AI10 -> 31.2 | L11: =Data!AJ10 -> 4.2 | M11: =ROUND(Data!AK10,1) -> -1.3 | N11: =ROUND(Data!AL10,1) -> 2.1 | O11: =ROUND(Data!AM10,1) -> -4.7 | P11: =Data!AN10 -> 31.2 | Q11: =Data!AO10 -> 4.2 | R11: =ROUND(Data!AP10,1) -> 1.1 | S11: =ROUND(Data!AQ10,1) -> 6.3 | T11: =ROUND(Data!AR10,1) -> -4.1 | U11: =Data!AS10 -> 47.4 | V11: =Data!AT10 -> 12.9 | W11: =ROUND(Data!AQ10,2) -> 6.32 | X11: =IF(H11<0,0,ROUND(0.0023*VLOOKUP(Z11,$AO$6:$AJG$17,10)*(H11+17.8)*(I11-J11)^0.5*X$2,0)) -> 0 | Y11: =IF(X11>K11,X11-K11,0) -> 0 | Z11: 4 | AA11: 1984 | AB11: =Data!AX8 -> 3.4 | AC11: =Data!AY8 -> -16.3 | AD11: =Data!AZ8 -> 10 | AE11: =Data!BA8 -> -15 | AF11: =Data!BB8 -> 7.1 | AG11: =Data!BC8 -> -14.8 | AH11: =Data!BD8 -> 9.5 | AI11: =Data!BE8 -> -18.5 | AO11: 7 | AP11: 199 | AQ11: 31 | AR11: 0.373 | AS11: 0.968 | AT11: =(AS$6*TAN(AR11)) -> 0.40031883 | AU11: =IF(AT11<-1,0,IF(AT11>1,3.14,ACOS(-AT11))) -> 1.9826611 | AV11: =0.636*AU11 -> 1.2609724 | AW11: =ROUND(15.392*AS11*(AU11*AQ$3*SIN(AR11)+AR$3*COS(AR11)*SIN(AU11)),2) -> 16.44 | AX11: =AQ11*AW11 -> 509.64
B12: =Data!Z11 -> 8405 | C12: =ROUND(Data!AA11,1) -> 1.6 | D12: =ROUND(Data!AB11,1) -> 6 | E12: =ROUND(Data!AC11,1) -> -2.9 | F12: =Data!AD11 -> 98.3 | G12: =Data!AE11 -> 12.3 | H12: =ROUND(Data!AF11,1) -> 0.6 | I12: =ROUND(Data!AG11,1) -> 4.2 | J12: =ROUND(Data!AH11,1) -> -2.9 | K12: =Data!AI11 -> 95.3 | L12: =Data!AJ11 -> 13 | M12: =ROUND(Data!AK11,1) -> 0.7 | N12: =ROUND(Data!AL11,1) -> 4.3 | O12: =ROUND(Data!AM11,1) -> -2.9 | P12: =Data!AN11 -> 95.3 | Q12: =Data!AO11 -> 13 | R12: =ROUND(Data!AP11,1) -> 4.1 | S12: =ROUND(Data!AQ11,1) -> 9 | T12: =ROUND(Data!AR11,1) -> -0.8 | U12: =Data!AS11 -> 84.6 | V12: =Data!AT11 -> 12.3 | W12: =ROUND(Data!AQ11,2) -> 9 | X12: =IF(H12<0,0,ROUND(0.0023*VLOOKUP(Z12,$AO$6:$AJG$17,10)*(H12+17.8)*(I12-J12)^0.5*X$2,0)) -> 47 | Y12: =IF(X12>K12,X12-K12,0) -> 0 | Z12: 5 | AA12: 1984 | AB12: =Data!AX9 -> 8.2 | AC12: =Data!AY9 -> -18.8 | AD12: =Data!AZ9 -> 6.9 | AE12: =Data!BA9 -> -10.5 | AF12: =Data!BB9 -> 7.5 | AG12: =Data!BC9 -> -9.3 | AH12: =Data!BD9 -> 10.5 | AI12: =Data!BE9 -> -17 | AO12: 8 | AP12: 229 | AQ12: 31 | AR12: 0.2355 | AS12: 0.976 | AT12: =(AS$6*TAN(AR12)) -> 0.24547133 | AU12: =IF(AT12<-1,0,IF(AT12>1,3.14,ACOS(-AT12))) -> 1.8188022 | AV12: =0.636*AU12 -> 1.1567582 | AW12: =ROUND(15.392*AS12*(AU12*AQ$3*SIN(AR12)+AR$3*COS(AR12)*SIN(AU12)),2) -> 14.03 | AX12: =AQ12*AW12 -> 434.93
B13: =Data!Z12 -> 8406 | C13: =ROUND(Data!AA12,1) -> 7 | D13: =ROUND(Data!AB12,1) -> 12.5 | E13: =ROUND(Data!AC12,1) -> 1.4 | F13: =Data!AD12 -> 84 | G13: =Data!AE12 -> 12 | H13: =ROUND(Data!AF12,1) -> 6.5 | I13: =ROUND(Data!AG12,1) -> 10.9 | J13: =ROUND(Data!AH12,1) -> 2 | K13: =Data!AI12 -> 82.5 | L13: =Data!AJ12 -> 14 | M13: =ROUND(Data!AK12,1) -> 5.8 | N13: =ROUND(Data!AL12,1) -> 10.1 | O13: =ROUND(Data!AM12,1) -> 1.5 | P13: =Data!AN12 -> 82.5 | Q13: =Data!AO12 -> 14 | R13: =ROUND(Data!AP12,1) -> 9.6 | S13: =ROUND(Data!AQ12,1) -> 15.7 | T13: =ROUND(Data!AR12,1) -> 3.5 | U13: =Data!AS12 -> 81.4 | V13: =Data!AT12 -> 22.1 | W13: =ROUND(Data!AQ12,2) -> 15.65 | X13: =IF(H13<0,0,ROUND(0.0023*VLOOKUP(Z13,$AO$6:$AJG$17,10)*(H13+17.8)*(I13-J13)^0.5*X$2,0)) -> 73 | Y13: =IF(X13>K13,X13-K13,0) -> 0 | Z13: 6 | AA13: 1984 | AB13: =Data!AX10 -> 17 | AC13: =Data!AY10 -> -13.5 | AD13: =Data!AZ10 -> 13.5 | AE13: =Data!BA10 -> -11.1 | AF13: =Data!BB10 -> 16.9 | AG13: =Data!BC10 -> -10.4 | AH13: =Data!BD10 -> 18 | AI13: =Data!BE10 -> -11 | AO13: 9 | AP13: 259 | AQ13: 30 | AR13: 0.0327 | AS13: 0.991 | AT13: =(AS$6*TAN(AR13)) -> 0.033464028 | AU13: =IF(AT13<-1,0,IF(AT13>1,3.14,ACOS(-AT13))) -> 1.6042666 | AV13: =0.636*AU13 -> 1.0203136 | AW13: =ROUND(15.392*AS13*(AU13*AQ$3*SIN(AR13)+AR$3*COS(AR13)*SIN(AU13)),2) -> 10.48 | AX13: =AQ13*AW13 -> 314.4
B14: =Data!Z13 -> 8407 | C14: =ROUND(Data!AA13,1) -> 12.6 | D14: =ROUND(Data!AB13,1) -> 20.5 | E14: =ROUND(Data!AC13,1) -> 4.7 | F14: =Data!AD13 -> 14.5 | G14: =Data!AE13 -> 11.5 | H14: =ROUND(Data!AF13,1) -> 12.7 | I14: =ROUND(Data!AG13,1) -> 19 | J14: =ROUND(Data!AH13,1) -> 6.4 | K14: =Data!AI13 -> 34 | L14: =Data!AJ13 -> 20.5 | M14: =ROUND(Data!AK13,1) -> 12.1 | N14: =ROUND(Data!AL13,1) -> 18 | O14: =ROUND(Data!AM13,1) -> 6.2 | P14: =Data!AN13 -> 34 | Q14: =Data!AO13 -> 20.5 | R14: =ROUND(Data!AP13,1) -> 13.8 | S14: =ROUND(Data!AQ13,1) -> 23.4 | T14: =ROUND(Data!AR13,1) -> 4 | U14: =Data!AS13 -> 16.1 | V14: =Data!AT13 -> 9.1 | W14: =ROUND(Data!AQ13,2) -> 23.4 | X14: =IF(H14<0,0,ROUND(0.0023*VLOOKUP(Z14,$AO$6:$AJG$17,10)*(H14+17.8)*(I14-J14)^0.5*X$2,0)) -> 109 | Y14: =IF(X14>K14,X14-K14,0) -> 75 | Z14: 7 | AA14: 1984 | AB14: =Data!AX11 -> 20.9 | AC14: =Data!AY11 -> -10.1 | AD14: =Data!AZ11 -> 16.6 | AE14: =Data!BA11 -> -9.4 | AF14: =Data!BB11 -> 18.2 | AG14: =Data!BC11 -> -8 | AH14: =Data!BD11 -> 15.5 | AI14: =Data!BE11 -> -8 | AO14: 10 | AP14: 288 | AQ14: 31 | AR14: -0.1729 | AS14: 1.008 | AT14: =(AS$6*TAN(AR14)) -> -0.17866058 | AU14: =IF(AT14<-1,0,IF(AT14>1,3.14,ACOS(-AT14))) -> 1.3911714 | AV14: =0.636*AU14 -> 0.88478499 | AW14: =ROUND(15.392*AS14*(AU14*AQ$3*SIN(AR14)+AR$3*COS(AR14)*SIN(AU14)),2) -> 6.91 | AX14: =AQ14*AW14 -> 214.21
B15: =Data!Z14 -> 8408 | C15: =ROUND(Data!AA14,1) -> 12.2 | D15: =ROUND(Data!AB14,1) -> 19.4 | E15: =ROUND(Data!AC14,1) -> 5 | F15: =Data!AD14 -> 48 | G15: =Data!AE14 -> 15.5 | H15: =ROUND(Data!AF14,1) -> 12 | I15: =ROUND(Data!AG14,1) -> 17.5 | J15: =ROUND(Data!AH14,1) -> 6.5 | K15: =Data!AI14 -> 60.5 | L15: =Data!AJ14 -> 18.5 | M15: =ROUND(Data!AK14,1) -> 11.5 | N15: =ROUND(Data!AL14,1) -> 16.7 | O15: =ROUND(Data!AM14,1) -> 6.1 | P15: =Data!AN14 -> 60.5 | Q15: =Data!AO14 -> 18.5 | R15: =ROUND(Data!AP14,1) -> 13.8 | S15: =ROUND(Data!AQ14,1) -> 22.4 | T15: =ROUND(Data!AR14,1) -> 5.2 | U15: =Data!AS14 -> 53.8 | V15: =Data!AT14 -> 17 | W15: =ROUND(Data!AQ14,2) -> 22.35 | X15: =IF(H15<0,0,ROUND(0.0023*VLOOKUP(Z15,$AO$6:$AJG$17,10)*(H15+17.8)*(I15-J15)^0.5*X$2,0)) -> 85 | Y15: =IF(X15>K15,X15-K15,0) -> 24.5 | Z15: 8 | AA15: 1984 | AB15: =Data!AX12 -> 22.7 | AC15: =Data!AY12 -> -4.1 | AD15: =Data!AZ12 -> 20.7 | AE15: =Data!BA12 -> -4.3 | AF15: =Data!BB12 -> 21 | AG15: =Data!BC12 -> -3.8 | AH15: =Data!BD12 -> 25 | AI15: =Data!BE12 -> -3.5 | AO15: 11 | AP15: 318 | AQ15: 30 | AR15: -0.3374 | AS15: 1.023 | AT15: =(AS$6*TAN(AR15)) -> -0.35888295 | AU15: =IF(AT15<-1,0,IF(AT15>1,3.14,ACOS(-AT15))) -> 1.2037255 | AV15: =0.636*AU15 -> 0.76556941 | AW15: =ROUND(15.392*AS15*(AU15*AQ$3*SIN(AR15)+AR$3*COS(AR15)*SIN(AU15)),2) -> 4.21 | AX15: =AQ15*AW15 -> 126.3
B16: =Data!Z15 -> 8409 | C16: =ROUND(Data!AA15,1) -> 5.5 | D16: =ROUND(Data!AB15,1) -> 11.3 | E16: =ROUND(Data!AC15,1) -> -0.4 | F16: =Data!AD15 -> 36.5 | G16: =Data!AE15 -> 15 | H16: =ROUND(Data!AF15,1) -> 5.8 | I16: =ROUND(Data!AG15,1) -> 10.3 | J16: =ROUND(Data!AH15,1) -> 1.3 | K16: =Data!AI15 -> 35 | L16: =Data!AJ15 -> 16.5 | M16: =ROUND(Data!AK15,1) -> 5.3 | N16: =ROUND(Data!AL15,1) -> 9.4 | O16: =ROUND(Data!AM15,1) -> 1.1 | P16: =Data!AN15 -> 35 | Q16: =Data!AO15 -> 16.5 | R16: =ROUND(Data!AP15,1) -> 7.1 | S16: =ROUND(Data!AQ15,1) -> 14 | T16: =ROUND(Data!AR15,1) -> 0.2 | U16: =Data!AS15 -> 35 | V16: =Data!AT15 -> 16.5 | W16: =ROUND(Data!AQ15,2) -> 14.02 | X16: =IF(H16<0,0,ROUND(0.0023*VLOOKUP(Z16,$AO$6:$AJG$17,10)*(H16+17.8)*(I16-J16)^0.5*X$2,0)) -> 44 | Y16: =IF(X16>K16,X16-K16,0) -> 9 | Z16: 9 | AA16: 1984 | AB16: =Data!AX13 -> 29.7 | AC16: =Data!AY13 -> -2 | AD16: =Data!AZ13 -> 26.4 | AE16: =Data!BA13 -> 0 | AF16: =Data!BB13 -> 27 | AG16: =Data!BC13 -> -0.3 | AH16: =Data!BD13 -> 30.5 | AI16: =Data!BE13 -> -2 | AO16: 12 | AP16: 343 | AQ16: 31 | AR16: -0.4071 | AS16: 1.032 | AT16: =(AS$6*TAN(AR16)) -> -0.44110503 | AU16: =IF(AT16<-1,0,IF(AT16>1,3.14,ACOS(-AT16))) -> 1.1139667 | AV16: =0.636*AU16 -> 0.70848284 | AW16: =ROUND(15.392*AS16*(AU16*AQ$3*SIN(AR16)+AR$3*COS(AR16)*SIN(AU16)),2) -> 3.14 | AX16: =AQ16*AW16 -> 97.34
B17: =Data!Z16 -> 8410 | C17: =ROUND(Data!AA16,1) -> -1.1 | D17: =ROUND(Data!AB16,1) -> 3.2 | E17: =ROUND(Data!AC16,1) -> -5.5 | F17: =Data!AD16 -> 55 | G17: =Data!AE16 -> 14 | H17: =ROUND(Data!AF16,1) -> -0.6 | I17: =ROUND(Data!AG16,1) -> 3 | J17: =ROUND(Data!AH16,1) -> -4.2 | K17: =Data!AI16 -> 55 | L17: =Data!AJ16 -> 14 | M17: =ROUND(Data!AK16,1) -> -1.4 | N17: =ROUND(Data!AL16,1) -> 1.5 | O17: =ROUND(Data!AM16,1) -> -4.4 | P17: =Data!AN16 -> 55 | Q17: =Data!AO16 -> 14 | R17: =ROUND(Data!AP16,1) -> 1.5 | S17: =ROUND(Data!AQ16,1) -> 6.9 | T17: =ROUND(Data!AR16,1) -> -3.8 | U17: =Data!AS16 -> 86 | V17: =Data!AT16 -> 20.3 | W17: =ROUND(Data!AQ16,2) -> 6.87 | X17: =IF(H17<0,0,ROUND(0.0023*VLOOKUP(Z17,$AO$6:$AJG$17,10)*(H17+17.8)*(I17-J17)^0.5*X$2,0)) -> 0 | Y17: =IF(X17>K17,X17-K17,0) -> 0 | Z17: 10 | AA17: 1984 | AB17: =Data!AX14 -> 27.1 | AC17: =Data!AY14 -> -1.8 | AD17: =Data!AZ14 -> 24.7 | AE17: =Data!BA14 -> -0.9 | AF17: =Data!BB14 -> 24.7 | AG17: =Data!BC14 -> -1 | AH17: =Data!BD14 -> 29.5 | AI17: =Data!BE14 -> -2.5 | AM17: Annual
B18: =Data!Z17 -> 8411 | C18: =ROUND(Data!AA17,1) -> -4.7 | D18: =ROUND(Data!AB17,1) -> -1.1 | E18: =ROUND(Data!AC17,1) -> -8.3 | F18: =Data!AD17 -> 59 | G18: =Data!AE17 -> 8 | H18: =ROUND(Data!AF17,1) -> -4.3 | I18: =ROUND(Data!AG17,1) -> -1.8 | J18: =ROUND(Data!AH17,1) -> -6.7 | K18: =Data!AI17 -> 57 | L18: =Data!AJ17 -> 8 | M18: =ROUND(Data!AK17,1) -> -6.5 | N18: =ROUND(Data!AL17,1) -> -4.5 | O18: =ROUND(Data!AM17,1) -> -8.5 | P18: =Data!AN17 -> 58 | Q18: =Data!AO17 -> 8 | R18: =ROUND(Data!AP17,1) -> -2.8 | S18: =ROUND(Data!AQ17,1) -> 0.7 | T18: =ROUND(Data!AR17,1) -> -6.2 | U18: =Data!AS17 -> 70.4 | V18: =Data!AT17 -> 8 | W18: =ROUND(Data!AQ17,2) -> 0.67 | X18: =IF(H18<0,0,ROUND(0.0023*VLOOKUP(Z18,$AO$6:$AJG$17,10)*(H18+17.8)*(I18-J18)^0.5*X$2,0)) -> 0 | Y18: =IF(X18>K18,X18-K18,0) -> 0 | Z18: 11 | AA18: 1984 | AB18: =Data!AX15 -> 19.7 | AC18: =Data!AY15 -> -6.3 | AD18: =Data!AZ15 -> 18.9 | AE18: =Data!BA15 -> -6 | AF18: =Data!BB15 -> 18.2 | AG18: =Data!BC15 -> -5.7 | AH18: =Data!BD15 -> 23 | AI18: =Data!BE15 -> -6.4
B19: =Data!Z18 -> 8412 | C19: =ROUND(Data!AA18,1) -> -12.3 | D19: =ROUND(Data!AB18,1) -> -8.5 | E19: =ROUND(Data!AC18,1) -> -16 | F19: =Data!AD18 -> 31.5 | G19: =Data!AE18 -> 4.5 | H19: =ROUND(Data!AF18,1) -> -10 | I19: =ROUND(Data!AG18,1) -> -7.3 | J19: =ROUND(Data!AH18,1) -> -12.6 | K19: =Data!AI18 -> 38 | L19: =Data!AJ18 -> 4 | M19: =ROUND(Data!AK18,1) -> -10.7 | N19: =ROUND(Data!AL18,1) -> -8 | O19: =ROUND(Data!AM18,1) -> -13.3 | P19: =Data!AN18 -> 36.5 | Q19: =Data!AO18 -> 4.5 | R19: =ROUND(Data!AP18,1) -> -12.2 | S19: =ROUND(Data!AQ18,1) -> -7.5 | T19: =ROUND(Data!AR18,1) -> -16.8 | U19: =Data!AS18 -> 101.5 | V19: =Data!AT18 -> 23 | W19: =ROUND(Data!AQ18,2) -> -7.55 | X19: =IF(H19<0,0,ROUND(0.0023*VLOOKUP(Z19,$AO$6:$AJG$17,10)*(H19+17.8)*(I19-J19)^0.5*X$2,0)) -> 0 | Y19: =IF(X19>K19,X19-K19,0) -> 0 | Z19: 12 | AA19: 1984 | AB19: =Data!AX16 -> 18.5 | AC19: =Data!AY16 -> -27.8 | AD19: =Data!AZ16 -> 17.6 | AE19: =Data!BA16 -> -25.6 | AF19: =Data!BB16 -> 16.3 | AG19: =Data!BC16 -> -25.2 | AH19: =Data!BD16 -> 20.5 | AI19: =Data!BE16 -> -22 | AM19: Row Labels | AN19: Sum of Eref | AO19: Sum of CMD | AQ19: Year | AR19: Eref | AS19: CMD
B20: =Data!Z19 -> 8501 | C20: =ROUND(Data!AA19,1) -> -7.3 | D20: =ROUND(Data!AB19,1) -> -2.7 | E20: =ROUND(Data!AC19,1) -> -11.8 | F20: =Data!AD19 -> 16 | G20: =Data!AE19 -> 8.5 | H20: =ROUND(Data!AF19,1) -> -5.3 | I20: =ROUND(Data!AG19,1) -> -3.1 | J20: =ROUND(Data!AH19,1) -> -7.4 | K20: =Data!AI19 -> 21.5 | L20: =Data!AJ19 -> 9 | M20: =ROUND(Data!AK19,1) -> -4.9 | N20: =ROUND(Data!AL19,1) -> -2.7 | O20: =ROUND(Data!AM19,1) -> -7.2 | P20: =Data!AN19 -> 14.4 | Q20: =Data!AO19 -> 6.5 | R20: =ROUND(Data!AP19,1) -> -7.7 | S20: =ROUND(Data!AQ19,1) -> -3.9 | T20: =ROUND(Data!AR19,1) -> -11.4 | U20: =Data!AS19 -> 9.4 | V20: =Data!AT19 -> 3.2 | W20: =ROUND(Data!AQ19,2) -> -3.89 | X20: =IF(H20<0,0,ROUND(0.0023*VLOOKUP(Z20,$AO$6:$AJG$17,10)*(H20+17.8)*(I20-J20)^0.5*X$2,0)) -> 0 | Y20: =IF(X20>K20,X20-K20,0) -> 0 | Z20: 1 | AA20: 1985 | AB20: =Data!AX17 -> 2.4 | AC20: =Data!AY17 -> -18.9 | AD20: =Data!AZ17 -> 1.9 | AE20: =Data!BA17 -> -16.4 | AF20: =Data!BB17 -> -0.4 | AG20: =Data!BC17 -> -20 | AH20: =Data!BD17 -> 4 | AI20: =Data!BE17 -> -14.5 | AM20: 1983 | AN20: 23 | AO20: 0 | AQ20: =AM20 -> 1983
B21: =Data!Z20 -> 8502 | C21: =ROUND(Data!AA20,1) -> -8.9 | D21: =ROUND(Data!AB20,1) -> -3.8 | E21: =ROUND(Data!AC20,1) -> -13.9 | F21: =Data!AD20 -> 30.5 | G21: =Data!AE20 -> 5 | H21: =ROUND(Data!AF20,1) -> -8.8 | I21: =ROUND(Data!AG20,1) -> -5.7 | J21: =ROUND(Data!AH20,1) -> -11.8 | K21: =Data!AI20 -> 33 | L21: =Data!AJ20 -> 6.5 | M21: =ROUND(Data!AK20,1) -> -8.8 | N21: =ROUND(Data!AL20,1) -> -6.3 | O21: =ROUND(Data!AM20,1) -> -11.2 | P21: =Data!AN20 -> 29.8 | Q21: =Data!AO20 -> 3.5 | R21: =ROUND(Data!AP20,1) -> -7 | S21: =ROUND(Data!AQ20,1) -> -1.9 | T21: =ROUND(Data!AR20,1) -> -11.9 | U21: =Data!AS20 -> 116.6 | V21: =Data!AT20 -> 15.1 | W21: =ROUND(Data!AQ20,2) -> -1.93 | X21: =IF(H21<0,0,ROUND(0.0023*VLOOKUP(Z21,$AO$6:$AJG$17,10)*(H21+17.8)*(I21-J21)^0.5*X$2,0)) -> 0 | Y21: =IF(X21>K21,X21-K21,0) -> 0 | Z21: 2 | AA21: 1985 | AB21: =Data!AX18 -> -3.4 | AC21: =Data!AY18 -> -26.4 | AD21: =Data!AZ18 -> -1 | AE21: =Data!BA18 -> -24.9 | AF21: =Data!BB18 -> -1.8 | AG21: =Data!BC18 -> -25.8 | AH21: =Data!BD18 -> -1 | AI21: =Data!BE18 -> -33.5 | AM21: 1984 | AN21: 358 | AO21: 108.5 | AQ21: =AM21 -> 1984 | AR21: =AN21 -> 358 | AS21: =AO21 -> 108.5
B22: =Data!Z21 -> 8503 | C22: =ROUND(Data!AA21,1) -> -5.9 | D22: =ROUND(Data!AB21,1) -> 0.8 | E22: =ROUND(Data!AC21,1) -> -12.6 | F22: =Data!AD21 -> 38 | G22: =Data!AE21 -> 10 | H22: =ROUND(Data!AF21,1) -> -4.8 | I22: =ROUND(Data!AG21,1) -> -1 | J22: =ROUND(Data!AH21,1) -> -8.6 | K22: =Data!AI21 -> 28.5 | L22: =Data!AJ21 -> 8.5 | M22: =ROUND(Data!AK21,1) -> -4.8 | N22: =ROUND(Data!AL21,1) -> -1.2 | O22: =ROUND(Data!AM21,1) -> -8.4 | P22: =Data!AN21 -> 30.5 | Q22: =Data!AO21 -> 6 | R22: =ROUND(Data!AP21,1) -> -4.6 | S22: =ROUND(Data!AQ21,1) -> 3.2 | T22: =ROUND(Data!AR21,1) -> -12.3 | U22: =Data!AS21 -> 44.9 | V22: =Data!AT21 -> 8.4 | W22: =ROUND(Data!AQ21,2) -> 3.24 | X22: =IF(H22<0,0,ROUND(0.0023*VLOOKUP(Z22,$AO$6:$AJG$17,10)*(H22+17.8)*(I22-J22)^0.5*X$2,0)) -> 0 | Y22: =IF(X22>K22,X22-K22,0) -> 0 | Z22: 3 | AA22: 1985 | AB22: =Data!AX19 -> 4.5 | AC22: =Data!AY19 -> -22.1 | AD22: =Data!AZ19 -> 5.2 | AE22: =Data!BA19 -> -19.1 | AF22: =Data!BB19 -> 6.2 | AG22: =Data!BC19 -> -17.6 | AH22: =Data!BD19 -> 4.5 | AI22: =Data!BE19 -> -25 | AM22: 1985 | AN22: 399 | AO22: 214.5 | AQ22: =AM22 -> 1985 | AR22: =AN22 -> 399 | AS22: =AO22 -> 214.5
B23: =Data!Z22 -> 8504 | C23: =ROUND(Data!AA22,1) -> 0.8 | D23: =ROUND(Data!AB22,1) -> 6.2 | E23: =ROUND(Data!AC22,1) -> -4.7 | F23: =Data!AD22 -> 36.5 | G23: =Data!AE22 -> 5 | H23: =ROUND(Data!AF22,1) -> -0.5 | I23: =ROUND(Data!AG22,1) -> 3.1 | J23: =ROUND(Data!AH22,1) -> -4.1 | K23: =Data!AI22 -> 40 | L23: =Data!AJ22 -> 14.5 | M23: =ROUND(Data!AK22,1) -> 0.1 | N23: =ROUND(Data!AL22,1) -> 3.7 | O23: =ROUND(Data!AM22,1) -> -3.5 | P23: =Data!AN22 -> 39.4 | Q23: =Data!AO22 -> 7 | R23: =ROUND(Data!AP22,1) -> 2.4 | S23: =ROUND(Data!AQ22,1) -> 8.5 | T23: =ROUND(Data!AR22,1) -> -3.9 | U23: =Data!AS22 -> 38 | V23: =Data!AT22 -> 5.9 | W23: =ROUND(Data!AQ22,2) -> 8.53 | X23: =IF(H23<0,0,ROUND(0.0023*VLOOKUP(Z23,$AO$6:$AJG$17,10)*(H23+17.8)*(I23-J23)^0.5*X$2,0)) -> 0 | Y23: =IF(X23>K23,X23-K23,0) -> 0 | Z23: 4 | AA23: 1985 | AB23: =Data!AX20 -> 6 | AC23: =Data!AY20 -> -27.1 | AD23: =Data!AZ20 -> 3.6 | AE23: =Data!BA20 -> -23.5 | AF23: =Data!BB20 -> 3.5 | AG23: =Data!BC20 -> -22.5 | AH23: =Data!BD20 -> 7 | AI23: =Data!BE20 -> -28.5 | AM23: 1986 | AN23: 415 | AO23: 180 | AQ23: =AM23 -> 1986 | AR23: =AN23 -> 415 | AS23: =AO23 -> 180
B24: =Data!Z23 -> 8505 | C24: =ROUND(Data!AA23,1) -> 5.8 | D24: =ROUND(Data!AB23,1) -> 12.3 | E24: =ROUND(Data!AC23,1) -> -0.7 | F24: =Data!AD23 -> 51.5 | G24: =Data!AE23 -> 15 | H24: =ROUND(Data!AF23,1) -> 5 | I24: =ROUND(Data!AG23,1) -> 10.2 | J24: =ROUND(Data!AH23,1) -> -0.3 | K24: =Data!AI23 -> 67 | L24: =Data!AJ23 -> 14 | M24: =ROUND(Data!AK23,1) -> 5.5 | N24: =ROUND(Data!AL23,1) -> 10.2 | O24: =ROUND(Data!AM23,1) -> 0.8 | P24: =Data!AN23 -> 63 | Q24: =Data!AO23 -> 11 | R24: =ROUND(Data!AP23,1) -> 7.9 | S24: =ROUND(Data!AQ23,1) -> 15.2 | T24: =ROUND(Data!AR23,1) -> 0.5 | U24: =Data!AS23 -> 60.5 | V24: =Data!AT23 -> 11.2 | W24: =ROUND(Data!AQ23,2) -> 15.23 | X24: =IF(H24<0,0,ROUND(0.0023*VLOOKUP(Z24,$AO$6:$AJG$17,10)*(H24+17.8)*(I24-J24)^0.5*X$2,0)) -> 72 | Y24: =IF(X24>K24,X24-K24,0) -> 5 | Z24: 5 | AA24: 1985 | AB24: =Data!AX21 -> 9.7 | AC24: =Data!AY21 -> -19.6 | AD24: =Data!AZ21 -> 8.5 | AE24: =Data!BA21 -> -13 | AF24: =Data!BB21 -> 7.5 | AG24: =Data!BC21 -> -12.7 | AH24: =Data!BD21 -> 11.5 | AI24: =Data!BE21 -> -19.5 | AM24: 1987 | AN24: 498 | AO24: 269 | AQ24: =AM24 -> 1987 | AR24: =AN24 -> 498 | AS24: =AO24 -> 269
B25: =Data!Z24 -> 8506 | C25: =ROUND(Data!AA24,1) -> 8.7 | D25: =ROUND(Data!AB24,1) -> 15.1 | E25: =ROUND(Data!AC24,1) -> 2.2 | F25: =Data!AD24 -> 43 | G25: =Data!AE24 -> 15 | H25: =ROUND(Data!AF24,1) -> 8.3 | I25: =ROUND(Data!AG24,1) -> 13.5 | J25: =ROUND(Data!AH24,1) -> 2.9 | K25: =Data!AI24 -> 38 | L25: =Data!AJ24 -> 16 | M25: =ROUND(Data!AK24,1) -> 8.5 | N25: =ROUND(Data!AL24,1) -> 13.4 | O25: =ROUND(Data!AM24,1) -> 3.6 | P25: =Data!AN24 -> 39.5 | Q25: =Data!AO24 -> 13.5 | R25: =ROUND(Data!AP24,1) -> 9.9 | S25: =ROUND(Data!AQ24,1) -> 17.4 | T25: =ROUND(Data!AR24,1) -> 2.3 | U25: =Data!AS24 -> 40.9 | V25: =Data!AT24 -> 8.9 | W25: =ROUND(Data!AQ24,2) -> 17.38 | X25: =IF(H25<0,0,ROUND(0.0023*VLOOKUP(Z25,$AO$6:$AJG$17,10)*(H25+17.8)*(I25-J25)^0.5*X$2,0)) -> 86 | Y25: =IF(X25>K25,X25-K25,0) -> 48 | Z25: 6 | AA25: 1985 | AB25: =Data!AX22 -> 15.4 | AC25: =Data!AY22 -> -13 | AD25: =Data!AZ22 -> 11.7 | AE25: =Data!BA22 -> -10.5 | AF25: =Data!BB22 -> 12.9 | AG25: =Data!BC22 -> -9.3 | AH25: =Data!BD22 -> 18 | AI25: =Data!BE22 -> -10 | AM25: 1988 | AN25: 462 | AO25: 147.5 | AQ25: =AM25 -> 1988 | AR25: =AN25 -> 462 | AS25: =AO25 -> 147.5
B26: =Data!Z25 -> 8507 | C26: =ROUND(Data!AA25,1) -> 15.6 | D26: =ROUND(Data!AB25,1) -> 24.3 | E26: =ROUND(Data!AC25,1) -> 6.7 | F26: =Data!AD25 -> 8 | G26: =Data!AE25 -> 4 | H26: =ROUND(Data!AF25,1) -> 15.6 | I26: =ROUND(Data!AG25,1) -> 22.1 | J26: =ROUND(Data!AH25,1) -> 9 | K26: =Data!AI25 -> 4 | L26: =Data!AJ25 -> 2 | M26: =ROUND(Data!AK25,1) -> 15.9 | N26: =ROUND(Data!AL25,1) -> 21.7 | O26: =ROUND(Data!AM25,1) -> 10.1 | P26: =Data!AN25 -> 5 | Q26: =Data!AO25 -> 4.5 | R26: =ROUND(Data!AP25,1) -> 15.3 | S26: =ROUND(Data!AQ25,1) -> 25.7 | T26: =ROUND(Data!AR25,1) -> 4.8 | U26: =Data!AS25 -> 5.8 | V26: =Data!AT25 -> 5 | W26: =ROUND(Data!AQ25,2) -> 25.74 | X26: =IF(H26<0,0,ROUND(0.0023*VLOOKUP(Z26,$AO$6:$AJG$17,10)*(H26+17.8)*(I26-J26)^0.5*X$2,0)) -> 122 | Y26: =IF(X26>K26,X26-K26,0) -> 118 | Z26: 7 | AA26: 1985 | AB26: =Data!AX23 -> 22.5 | AC26: =Data!AY23 -> -10.5 | AD26: =Data!AZ23 -> 20.5 | AE26: =Data!BA23 -> -11 | AF26: =Data!BB23 -> 19.7 | AG26: =Data!BC23 -> -9 | AH26: =Data!BD23 -> 24 | AI26: =Data!BE23 -> -8 | AM26: 1989 | AN26: 464 | AO26: 125 | AQ26: =AM26 -> 1989 | AR26: =AN26 -> 464 | AS26: =AO26 -> 125
