Workbook

Sheet data
A1: Date/Time | B1: Logger type | C1: Atmospheric P [psi] | D1: Pressure P [see metadata for units] | E1: Temperature [degC] | F1: Water column above logger [m] | G1: Watertable [m below TOC] | H1: Watertable Elevation [masl] | I1: Manual water table depth [m below TOC]
A2: 39755.625 | B2: H | C2: 11.7264 | D2: 39.9557 | E2: 4.415 | F2: =(D2-C2)*6897/9807 -> 19.852909 | G2: =metadata!$A$49-F2 -> 0.14709064 | H2: =metadata!$A$5-G2 -> 1624.3229 | I2: well observed to flow periodically
A3: 39755.667 | B3: H | C3: 11.7219 | D3: 39.9659 | E3: 4.415 | F3: =(D3-C3)*6897/9807 -> 19.863247 | G3: =metadata!$A$49-F3 -> 0.13675252 | H3: =metadata!$A$5-G3 -> 1624.3332
A4: 39755.708 | B4: H | C4: 11.7173 | D4: 39.971 | E4: 4.415 | F4: =(D4-C4)*6897/9807 -> 19.870069 | G4: =metadata!$A$49-F4 -> 0.12993077 | H4: =metadata!$A$5-G4 -> 1624.3401
A5: 39755.75 | B5: H | C5: 11.7128 | D5: 39.9717 | E5: 4.519 | F5: =(D5-C5)*6897/9807 -> 19.873726 | G5: =metadata!$A$49-F5 -> 0.12627375 | H5: =metadata!$A$5-G5 -> 1624.3437
A6: 39755.792 | B6: H | C6: 11.7037 | D6: 39.9615 | E6: 4.519 | F6: =(D6-C6)*6897/9807 -> 19.872953 | G6: =metadata!$A$49-F6 -> 0.12704735 | H6: =metadata!$A$5-G6 -> 1624.343
A7: 39755.833 | B7: H | C7: 11.6992 | D7: 39.9615 | E7: 4.519 | F7: =(D7-C7)*6897/9807 -> 19.876117 | G7: =metadata!$A$49-F7 -> 0.12388262 | H7: =metadata!$A$5-G7 -> 1624.3461
A8: 39755.875 | B8: H | C8: 11.6947 | D8: 39.9564 | E8: 4.519 | F8: =(D8-C8)*6897/9807 -> 19.875695 | G8: =metadata!$A$49-F8 -> 0.12430459 | H8: =metadata!$A$5-G8 -> 1624.3457
A9: 39755.917 | B9: H | C9: 11.6902 | D9: 39.9464 | E9: 4.519 | F9: =(D9-C9)*6897/9807 -> 19.871827 | G9: =metadata!$A$49-F9 -> 0.12817259 | H9: =metadata!$A$5-G9 -> 1624.3418
A10: 39755.958 | B10: H | C10: 11.6721 | D10: 39.9414 | E10: 4.519 | F10: =(D10-C10)*6897/9807 -> 19.88104 | G10: =metadata!$A$49-F10 -> 0.11895971 | H10: =metadata!$A$5-G10 -> 1624.351
A11: 39756 | B11: H | C11: 11.6674 | D11: 39.9256 | E11: 4.415 | F11: =(D11-C11)*6897/9807 -> 19.873234 | G11: =metadata!$A$49-F11 -> 0.12676604 | H11: =metadata!$A$5-G11 -> 1624.3432
A12: 39756.042 | B12: H | C12: 11.6584 | D12: 39.9155 | E12: 4.415 | F12: =(D12-C12)*6897/9807 -> 19.87246 | G12: =metadata!$A$49-F12 -> 0.12753965 | H12: =metadata!$A$5-G12 -> 1624.3425
A13: 39756.083 | B13: H | C13: 11.6448 | D13: 39.9155 | E13: 4.415 | F13: =(D13-C13)*6897/9807 -> 19.882025 | G13: =metadata!$A$49-F13 -> 0.11797513 | H13: =metadata!$A$5-G13 -> 1624.352
A14: 39756.125 | B14: H | C14: 11.6403 | D14: 39.9054 | E14: 4.415 | F14: =(D14-C14)*6897/9807 -> 19.878087 | G14: =metadata!$A$49-F14 -> 0.12191346 | H14: =metadata!$A$5-G14 -> 1624.3481
... A5525: 39985.75 | B5525: H | C5525: 11.8029 | D5525: 40.9134 | E5525: 4.519 | F5525: =(D5525-C5525)*6897/9807 -> 20.472634 | G5525: =metadata!$A$49-F5525 -> -0.47263368 | H5525: =metadata!$A$5-G5525 -> 1624.9426
A5526: 39985.792 | B5526: H | C5526: 11.8075 | D5526: 40.9134 | E5526: 4.519 | F5526: =(D5526-C5526)*6897/9807 -> 20.469399 | G5526: =metadata!$A$49-F5526 -> -0.46939862 | H5526: =metadata!$A$5-G5526 -> 1624.9394 | I5526: flowing out of well
A5527: 39986.792 | B5527: H | C5527: 11.812 | D5527: 40.8682 | E5527: 4.519 | F5527: =(D5527-C5527)*6897/9807 -> 20.434446 | G5527: =metadata!$A$49-F5527 -> -0.43444595 | H5527: =metadata!$A$5-G5527 -> 1624.9044 | I5527: flowing out of well
A5528: 39986.833 | B5528: H | C5528: 11.812 | D5528: 40.8832 | E5528: 4.519 | F5528: =(D5528-C5528)*6897/9807 -> 20.444995 | G5528: =metadata!$A$49-F5528 -> -0.44499504 | H5528: =metadata!$A$5-G5528 -> 1624.915
A5529: 39986.875 | B5529: H | C5529: 11.812 | D5529: 40.8934 | E5529: 4.519 | F5529: =(D5529-C5529)*6897/9807 -> 20.452168 | G5529: =metadata!$A$49-F5529 -> -0.45216843 | H5529: =metadata!$A$5-G5529 -> 1624.9222
A5530: 39986.917 | B5530: H | C5530: 11.812 | D5530: 40.9134 | E5530: 4.519 | F5530: =(D5530-C5530)*6897/9807 -> 20.466234 | G5530: =metadata!$A$49-F5530 -> -0.46623389 | H5530: =metadata!$A$5-G5530 -> 1624.9362
A5531: 39986.958 | B5531: H | C5531: 11.812 | D5531: 40.9134 | E5531: 4.519 | F5531: =(D5531-C5531)*6897/9807 -> 20.466234 | G5531: =metadata!$A$49-F5531 -> -0.46623389 | H5531: =metadata!$A$5-G5531 -> 1624.9362
A5532: 39987 | B5532: H | C5532: 11.812 | D5532: 40.9185 | E5532: 4.519 | F5532: =(D5532-C5532)*6897/9807 -> 20.469821 | G5532: =metadata!$A$49-F5532 -> -0.46982059 | H5532: =metadata!$A$5-G5532 -> 1624.9398
A5533: 39987.042 | B5533: H | C5533: 11.8165 | D5533: 40.9185 | E5533: 4.519 | F5533: =(D5533-C5533)*6897/9807 -> 20.466656 | G5533: =metadata!$A$49-F5533 -> -0.46665586 | H5533: =metadata!$A$5-G5533 -> 1624.9367
A5534: 39987.083 | B5534: H | C5534: 11.8165 | D5534: 40.9185 | E5534: 4.519 | F5534: =(D5534-C5534)*6897/9807 -> 20.466656 | G5534: =metadata!$A$49-F5534 -> -0.46665586 | H5534: =metadata!$A$5-G5534 -> 1624.9367
A5535: 39987.125 | B5535: H | C5535: 11.8165 | D5535: 40.9185 | E5535: 4.519 | F5535: =(D5535-C5535)*6897/9807 -> 20.466656 | G5535: =metadata!$A$49-F5535 -> -0.46665586 | H5535: =metadata!$A$5-G5535 -> 1624.9367
A5536: 39987.167 | B5536: H | C5536: 11.8165 | D5536: 40.9185 | E5536: 4.519 | F5536: =(D5536-C5536)*6897/9807 -> 20.466656 | G5536: =metadata!$A$49-F5536 -> -0.46665586 | H5536: =metadata!$A$5-G5536 -> 1624.9367
A5537: 39987.208 | B5537: H | C5537: 11.8257 | D5537: 40.9236 | E5537: 4.519 | F5537: =(D5537-C5537)*6897/9807 -> 20.463772 | G5537: =metadata!$A$49-F5537 -> -0.46377244 | H5537: =metadata!$A$5-G5537 -> 1624.9338
A5538: 39987.25 | B5538: H | C5538: 11.8301 | D5538: 40.9236 | E5538: 4.519 | F5538: =(D5538-C5538)*6897/9807 -> 20.460678 | G5538: =metadata!$A$49-F5538 -> -0.46067804 | H5538: =metadata!$A$5-G5538 -> 1624.9307
A5539: 39987.292 | B5539: H | C5539: 11.8346 | D5539: 40.9286 | E5539: 4.519 | F5539: =(D5539-C5539)*6897/9807 -> 20.46103 | G5539: =metadata!$A$49-F5539 -> -0.46102967 | H5539: =metadata!$A$5-G5539 -> 1624.931
... A7777: 40080.542 | B7777: H | C7777: 11.9247 | D7777: 40.58424 | E7777: 4.519 | F7777: =(D7777-C7777)*6897/9807 -> 20.155486 | G7777: =metadata!$A$49-F7777 -> -0.15548561 | H7777: =metadata!$A$5-G7777 -> 1624.6255
A7778: 40080.583 | B7778: H | C7778: 11.9513 | D7778: 40.57972 | E7778: 4.519 | F7778: =(D7778-C7778)*6897/9807 -> 20.1336 | G7778: =metadata!$A$49-F7778 -> -0.13359975 | H7778: =metadata!$A$5-G7778 -> 1624.6036 | I7778: 0.253
A7779: 40080.625 | B7779: H | C7779: 11.952 | D7779: 40.5752 | E7779: 4.519 | F7779: =(D7779-C7779)*6897/9807 -> 20.129929 | G7779: =metadata!$A$49-F7779 -> -0.12992866 | H7779: =metadata!$A$5-G7779 -> 1624.5999
A7780: 40080.667 | B7780: H | C7780: 11.9555 | D7780: 40.5818 | E7780: 4.519 | F7780: =(D7780-C7780)*6897/9807 -> 20.132109 | G7780: =metadata!$A$49-F7780 -> -0.13210881 | H7780: =metadata!$A$5-G7780 -> 1624.6021
A7781: 40080.708 | B7781: H | C7781: 11.9598 | D7781: 40.6011 | E7781: 4.519 | F7781: =(D7781-C7781)*6897/9807 -> 20.142658 | G7781: =metadata!$A$49-F7781 -> -0.14265791 | H7781: =metadata!$A$5-G7781 -> 1624.6127
A7782: 40080.75 | B7782: H | C7782: 11.9553 | D7782: 40.6062 | E7782: 4.519 | F7782: =(D7782-C7782)*6897/9807 -> 20.149409 | G7782: =metadata!$A$49-F7782 -> -0.14940933 | H7782: =metadata!$A$5-G7782 -> 1624.6194
A7783: 40080.792 | B7783: H | C7783: 11.9643 | D7783: 40.6164 | E7783: 4.519 | F7783: =(D7783-C7783)*6897/9807 -> 20.150253 | G7783: =metadata!$A$49-F7783 -> -0.15025326 | H7783: =metadata!$A$5-G7783 -> 1624.6203
A7784: 40080.833 | B7784: H | C7784: 11.9598 | D7784: 40.6264 | E7784: 4.519 | F7784: =(D7784-C7784)*6897/9807 -> 20.160451 | G7784: =metadata!$A$49-F7784 -> -0.16045072 | H7784: =metadata!$A$5-G7784 -> 1624.6305
A7785: 40080.875 | B7785: H | C7785: 11.9689 | D7785: 40.6264 | E7785: 4.519 | F7785: =(D7785-C7785)*6897/9807 -> 20.154051 | G7785: =metadata!$A$49-F7785 -> -0.15405093 | H7785: =metadata!$A$5-G7785 -> 1624.6241
A7786: 40080.917 | B7786: H | C7786: 11.9734 | D7786: 40.6315 | E7786: 4.519 | F7786: =(D7786-C7786)*6897/9807 -> 20.154473 | G7786: =metadata!$A$49-F7786 -> -0.1544729 | H7786: =metadata!$A$5-G7786 -> 1624.6245
A7787: 40080.958 | B7787: H | C7787: 11.9689 | D7787: 40.6365 | E7787: 4.519 | F7787: =(D7787-C7787)*6897/9807 -> 20.161154 | G7787: =metadata!$A$49-F7787 -> -0.16115399 | H7787: =metadata!$A$5-G7787 -> 1624.6312
A7788: 40081 | B7788: H | C7788: 11.9779 | D7788: 40.6365 | E7788: 4.519 | F7788: =(D7788-C7788)*6897/9807 -> 20.154825 | G7788: =metadata!$A$49-F7788 -> -0.15482453 | H7788: =metadata!$A$5-G7788 -> 1624.6248
A7789: 40081.042 | B7789: H | C7789: 11.9734 | D7789: 40.6365 | E7789: 4.519 | F7789: =(D7789-C7789)*6897/9807 -> 20.157989 | G7789: =metadata!$A$49-F7789 -> -0.15798926 | H7789: =metadata!$A$5-G7789 -> 1624.628
A7790: 40081.083 | B7790: H | C7790: 11.9824 | D7790: 40.6415 | E7790: 4.519 | F7790: =(D7790-C7790)*6897/9807 -> 20.155176 | G7790: =metadata!$A$49-F7790 -> -0.15517617 | H7790: =metadata!$A$5-G7790 -> 1624.6252
... A15774: 40413.75 | B15774: H | C15774: 12.0419 | D15774: 40.7826 | E15774: 4.519 | F15774: =(D15774-C15774)*6897/9807 -> 20.212563 | G15774: =metadata!$A$49-F15774 -> -0.21256326 | H15774: =metadata!$A$5-G15774 -> 1624.6826

Sheet metadata
A1: W3
A2: Location (UTM)
A3: Zone 11; East : 327379; North : 5503001
A4: Elevation TOC [m.a.s.l.]
A5: 1624.47
A6: Depth of well
A7: 30.48 m (100 feet)
A9: LOGGING INTERVAL 1
A11: Logger Type
A12: SensorSN
A13: Sensor Type
A14: Sensor Name
A17: Sensor Range
A18: Minimum
A19: Maximum
A20: Mean
A21: Variance
... A25: End date
A26: Logging interval | B26: daily to twice daily
A29: Depth of Logger Below TOC [m]
A31: Pressure units [psig / psia] | B31: psi gauge / psi atmospheric
A34: LOGGING INTERVAL 2
A36: Logger Type | B36: H, Onset HOBO, non-vented
A37: Barologger | B37: Onset HOBO, non-vented
A38: Barologger location | B38: Inside W1 casing
A41: Sensor Range | B41: 0-58 psi
A43: Start date | B43: 39755.625
A44: End date | B44: 40413.75
A45: Logging interval | B45: hourly
A48: Depth of Logger Below TOC [m]
A49: 20
A51: Pressure units [psi] | B51: psi total
