Workbook

Sheet data
A1: Date/Time | B1: Logger type | C1: Atmospheric P [psi] | D1: Pressure P [see metadata for units] | E1: Temperature [degC] | F1: Water column above logger [m] | G1: Watertable [m below TOC] | H1: Watertable Elevation [masl] | I1: Manual water table depth [m below TOC]
A2: 39290.75 | B2: P | D2: 5.682 | E2: 4.3 | F2: =D2/0.145/9.81 -> 3.9945165 | G2: =metadata!$A$30-$F2 -> 5.0054835 | H2: =metadata!$A$5-G2 -> 1800.8045 | I2: 5.10 (at 12.24 a.m.)
A3: 39291.75 | B3: P | D3: 5.682 | E3: 4.2 | F3: =D3/0.145/9.81 -> 3.9945165 | G3: =metadata!$A$30-$F3 -> 5.0054835 | H3: =metadata!$A$5-G3 -> 1800.8045
A4: 39292.75 | B4: P | D4: 5.682 | E4: 4.2 | F4: =D4/0.145/9.81 -> 3.9945165 | G4: =metadata!$A$30-$F4 -> 5.0054835 | H4: =metadata!$A$5-G4 -> 1800.8045
A5: 39293.75 | B5: P | D5: 5.682 | E5: 4.2 | F5: =D5/0.145/9.81 -> 3.9945165 | G5: =metadata!$A$30-$F5 -> 5.0054835 | H5: =metadata!$A$5-G5 -> 1800.8045
A6: 39294.75 | B6: P | D6: 5.682 | E6: 4.2 | F6: =D6/0.145/9.81 -> 3.9945165 | G6: =metadata!$A$30-$F6 -> 5.0054835 | H6: =metadata!$A$5-G6 -> 1800.8045
A7: 39295.75 | B7: P | D7: 5.682 | E7: 4.2 | F7: =D7/0.145/9.81 -> 3.9945165 | G7: =metadata!$A$30-$F7 -> 5.0054835 | H7: =metadata!$A$5-G7 -> 1800.8045
A8: 39296.75 | B8: P | D8: 5.682 | E8: 4.2 | F8: =D8/0.145/9.81 -> 3.9945165 | G8: =metadata!$A$30-$F8 -> 5.0054835 | H8: =metadata!$A$5-G8 -> 1800.8045
A9: 39297.75 | B9: P | D9: 5.682 | E9: 4.3 | F9: =D9/0.145/9.81 -> 3.9945165 | G9: =metadata!$A$30-$F9 -> 5.0054835 | H9: =metadata!$A$5-G9 -> 1800.8045
A10: 39298.75 | B10: P | D10: 5.682 | E10: 4.3 | F10: =D10/0.145/9.81 -> 3.9945165 | G10: =metadata!$A$30-$F10 -> 5.0054835 | H10: =metadata!$A$5-G10 -> 1800.8045
A11: 39299.75 | B11: P | D11: 5.682 | E11: 4.3 | F11: =D11/0.145/9.81 -> 3.9945165 | G11: =metadata!$A$30-$F11 -> 5.0054835 | H11: =metadata!$A$5-G11 -> 1800.8045
A12: 39300.75 | B12: P | D12: 5.682 | E12: 4.3 | F12: =D12/0.145/9.81 -> 3.9945165 | G12: =metadata!$A$30-$F12 -> 5.0054835 | H12: =metadata!$A$5-G12 -> 1800.8045
A13: 39301.75 | B13: P | D13: 5.682 | E13: 4.2 | F13: =D13/0.145/9.81 -> 3.9945165 | G13: =metadata!$A$30-$F13 -> 5.0054835 | H13: =metadata!$A$5-G13 -> 1800.8045
A14: 39302.75 | B14: P | D14: 5.682 | E14: 4.3 | F14: =D14/0.145/9.81 -> 3.9945165 | G14: =metadata!$A$30-$F14 -> 5.0054835 | H14: =metadata!$A$5-G14 -> 1800.8045
... A139: 39427.75 | B139: P | D139: 5.683 | E139: 4.9 | F139: =D139/0.145/9.81 -> 3.9952195 | G139: =metadata!$A$30-$F139 -> 5.0047805 | H139: =metadata!$A$5-G139 -> 1800.8052
A140: 39429.75 | B140: P | D140: 2.839 | E140: 5.2 | F140: =D140/0.145/9.81 -> 1.9958522 | G140: =metadata!$A$30-$F140 -> 7.0041478 | H140: =metadata!$A$5-G140 -> 1798.8059 | I140: 5.12 (at 10.14 a.m.)
A141: 39430.25 | B141: P | D141: 2.819 | E141: 5.2 | F141: =D141/0.145/9.81 -> 1.981792 | G141: =metadata!$A$30-$F141 -> 7.018208 | H141: =metadata!$A$5-G141 -> 1798.7918
A142: 39430.75 | B142: P | D142: 2.81 | E142: 5.2 | F142: =D142/0.145/9.81 -> 1.9754649 | G142: =metadata!$A$30-$F142 -> 7.0245351 | H142: =metadata!$A$5-G142 -> 1798.7855
A143: 39431.25 | B143: P | D143: 2.803 | E143: 5.2 | F143: =D143/0.145/9.81 -> 1.9705438 | G143: =metadata!$A$30-$F143 -> 7.0294562 | H143: =metadata!$A$5-G143 -> 1798.7805
A144: 39431.75 | B144: P | D144: 2.769 | E144: 5.2 | F144: =D144/0.145/9.81 -> 1.9466414 | G144: =metadata!$A$30-$F144 -> 7.0533586 | H144: =metadata!$A$5-G144 -> 1798.7566
A145: 39432.25 | B145: P | D145: 2.738 | E145: 5.1 | F145: =D145/0.145/9.81 -> 1.924848 | G145: =metadata!$A$30-$F145 -> 7.075152 | H145: =metadata!$A$5-G145 -> 1798.7348
A146: 39432.75 | B146: P | D146: 2.736 | E146: 5.1 | F146: =D146/0.145/9.81 -> 1.9234419 | G146: =metadata!$A$30-$F146 -> 7.0765581 | H146: =metadata!$A$5-G146 -> 1798.7334
A147: 39433.25 | B147: P | D147: 2.721 | E147: 5.1 | F147: =D147/0.145/9.81 -> 1.9128968 | G147: =metadata!$A$30-$F147 -> 7.0871032 | H147: =metadata!$A$5-G147 -> 1798.7229
A148: 39433.75 | B148: P | D148: 2.676 | E148: 5.1 | F148: =D148/0.145/9.81 -> 1.8812612 | G148: =metadata!$A$30-$F148 -> 7.1187388 | H148: =metadata!$A$5-G148 -> 1798.6913
A149: 39434.25 | B149: P | D149: 2.655 | E149: 5.1 | F149: =D149/0.145/9.81 -> 1.8664979 | G149: =metadata!$A$30-$F149 -> 7.1335021 | H149: =metadata!$A$5-G149 -> 1798.6765
A150: 39434.75 | B150: P | D150: 2.65 | E150: 5.1 | F150: =D150/0.145/9.81 -> 1.8629829 | G150: =metadata!$A$30-$F150 -> 7.1370171 | H150: =metadata!$A$5-G150 -> 1798.673
A151: 39435.25 | B151: P | D151: 2.624 | E151: 5 | F151: =D151/0.145/9.81 -> 1.8447046 | G151: =metadata!$A$30-$F151 -> 7.1552954 | H151: =metadata!$A$5-G151 -> 1798.6547
A152: 39435.75 | B152: P | D152: 2.604 | E152: 5 | F152: =D152/0.145/9.81 -> 1.8306443 | G152: =metadata!$A$30-$F152 -> 7.1693557 | H152: =metadata!$A$5-G152 -> 1798.6406
... A577: 39648.25 | B577: P | D577: 0.005 | E577: 3.4 | F577: =D577/0.145/9.81 -> 0.003515062 | G577: =metadata!$A$30-$F577 -> 8.9964849 | H577: =metadata!$A$5-G577 -> 1796.8135
A578: 39648.75 | B578: P | D578: 0.021 | F578: =D578/0.145/9.81 -> 0.014763261 | G578: =metadata!$A$30-$F578 -> 8.9852367 | H578: =metadata!$A$5-G578 -> 1796.8248
A579: 39649.25 | B579: P | D579: 0.02 | E579: 3.4 | F579: =D579/0.145/9.81 -> 0.014060248 | G579: =metadata!$A$30-$F579 -> 8.9859398 | H579: =metadata!$A$5-G579 -> 1796.8241
A580: 39649.75 | B580: P | D580: 0.021 | F580: =D580/0.145/9.81 -> 0.014763261 | G580: =metadata!$A$30-$F580 -> 8.9852367 | H580: =metadata!$A$5-G580 -> 1796.8248
A581: 39650.25 | B581: P | D581: 0.022 | E581: 5.1 | F581: =D581/0.145/9.81 -> 0.015466273 | G581: =metadata!$A$30-$F581 -> 8.9845337 | H581: =metadata!$A$5-G581 -> 1796.8255
A582: 39650.75 | B582: P | D582: 0.021 | F582: =D582/0.145/9.81 -> 0.014763261 | G582: =metadata!$A$30-$F582 -> 8.9852367 | H582: =metadata!$A$5-G582 -> 1796.8248
A583: 39651.25 | B583: P | D583: 0.022 | E583: 6.1 | F583: =D583/0.145/9.81 -> 0.015466273 | G583: =metadata!$A$30-$F583 -> 8.9845337 | H583: =metadata!$A$5-G583 -> 1796.8255
A584: 39651.75 | B584: P | D584: 0.014 | E584: 3.5 | F584: =D584/0.145/9.81 -> 0.0098421737 | G584: =metadata!$A$30-$F584 -> 8.9901578 | H584: =metadata!$A$5-G584 -> 1796.8198
A585: 39652.25 | B585: P | D585: 0.014 | E585: 3.5 | F585: =D585/0.145/9.81 -> 0.0098421737 | G585: =metadata!$A$30-$F585 -> 8.9901578 | H585: =metadata!$A$5-G585 -> 1796.8198
A586: 39652.75 | B586: P | D586: 0.014 | E586: 3.5 | F586: =D586/0.145/9.81 -> 0.0098421737 | G586: =metadata!$A$30-$F586 -> 8.9901578 | H586: =metadata!$A$5-G586 -> 1796.8198
A587: 39653.25 | B587: P | D587: 0.014 | E587: 3.5 | F587: =D587/0.145/9.81 -> 0.0098421737 | G587: =metadata!$A$30-$F587 -> 8.9901578 | H587: =metadata!$A$5-G587 -> 1796.8198
A588: 39653.75 | B588: P | D588: 0.014 | E588: 3.5 | F588: =D588/0.145/9.81 -> 0.0098421737 | G588: =metadata!$A$30-$F588 -> 8.9901578 | H588: =metadata!$A$5-G588 -> 1796.8198
A589: 39654.25 | B589: P | D589: 0.014 | E589: 3.6 | F589: =D589/0.145/9.81 -> 0.0098421737 | G589: =metadata!$A$30-$F589 -> 8.9901578 | H589: =metadata!$A$5-G589 -> 1796.8198
A590: 39755.542 | B590: H | C590: 11.7412 | D590: 23.3316 | E590: 4.519 | F590: =(D590-C590)*6897/9807 -> 8.1512174 | G590: =metadata!$A$49-$F590 -> 11.848783 | H590: =metadata!$A$5-G590 -> 1793.9612
A591: 39755.583 | B591: H | C591: 11.7357 | D591: 23.4391 | E591: 4.415 | F591: =(D591-C591)*6897/9807 -> 8.2306872 | G591: =metadata!$A$49-$F591 -> 11.769313 | H591: =metadata!$A$5-G591 -> 1794.0407
A592: 39755.625 | B592: H | C592: 11.7264 | D592: 23.4438 | E592: 4.415 | F592: =(D592-C592)*6897/9807 -> 8.2405331 | G592: =metadata!$A$49-$F592 -> 11.759467 | H592: =metadata!$A$5-G592 -> 1794.0505
A593: 39755.667 | B593: H | C593: 11.7219 | D593: 23.4438 | E593: 4.415 | F593: =(D593-C593)*6897/9807 -> 8.2436978 | G593: =metadata!$A$49-$F593 -> 11.756302 | H593: =metadata!$A$5-G593 -> 1794.0537
A594: 39755.708 | B594: H | C594: 11.7173 | D594: 23.4438 | E594: 4.415 | F594: =(D594-C594)*6897/9807 -> 8.2469329 | G594: =metadata!$A$49-$F594 -> 11.753067 | H594: =metadata!$A$5-G594 -> 1794.0569
A595: 39755.75 | B595: H | C595: 11.7128 | D595: 23.4391 | E595: 4.415 | F595: =(D595-C595)*6897/9807 -> 8.2467922 | G595: =metadata!$A$49-$F595 -> 11.753208 | H595: =metadata!$A$5-G595 -> 1794.0568
A596: 39755.792 | B596: H | C596: 11.7037 | D596: 23.4391 | E596: 4.415 | F596: =(D596-C596)*6897/9807 -> 8.253192 | G596: =metadata!$A$49-$F596 -> 11.746808 | H596: =metadata!$A$5-G596 -> 1794.0632
A597: 39755.833 | B597: H | C597: 11.6992 | D597: 23.4297 | E597: 4.415 | F597: =(D597-C597)*6897/9807 -> 8.2497459 | G597: =metadata!$A$49-$F597 -> 11.750254 | H597: =metadata!$A$5-G597 -> 1794.0597
A598: 39755.875 | B598: H | C598: 11.6947 | D598: 23.4297 | E598: 4.415 | F598: =(D598-C598)*6897/9807 -> 8.2529107 | G598: =metadata!$A$49-$F598 -> 11.747089 | H598: =metadata!$A$5-G598 -> 1794.0629
A599: 39755.917 | B599: H | C599: 11.6902 | D599: 23.4204 | E599: 4.415 | F599: =(D599-C599)*6897/9807 -> 8.249535 | G599: =metadata!$A$49-$F599 -> 11.750465 | H599: =metadata!$A$5-G599 -> 1794.0595
A600: 39755.958 | B600: H | C600: 11.6721 | D600: 23.411 | E600: 4.415 | F600: =(D600-C600)*6897/9807 -> 8.2556534 | G600: =metadata!$A$49-$F600 -> 11.744347 | H600: =metadata!$A$5-G600 -> 1794.0657
A601: 39756 | B601: H | C601: 11.6674 | D601: 23.4017 | E601: 4.415 | F601: =(D601-C601)*6897/9807 -> 8.2524184 | G601: =metadata!$A$49-$F601 -> 11.747582 | H601: =metadata!$A$5-G601 -> 1794.0624
... A6130: 39986.375 | B6130: H | C6130: 11.8436 | D6130: 33.8865 | E6130: 4.311 | F6130: =(D6130-C6130)*6897/9807 -> 15.50218 | G6130: =metadata!$A$49-$F6130 -> 4.4978198 | H6130: =metadata!$A$5-G6130 -> 1801.3122
A6131: 39986.417 | B6131: H | C6131: 11.8483 | D6131: 33.9664 | E6131: 4.311 | F6131: =(D6131-C6131)*6897/9807 -> 15.555066 | G6131: =metadata!$A$49-$F6131 -> 4.4449336 | H6131: =metadata!$A$5-G6131 -> 1801.3651 | I6131: 4.59
A6132: 39987.792 | B6132: H | C6132: 11.8621 | D6132: 34.2765 | E6132: 4.207 | F6132: =(D6132-C6132)*6897/9807 -> 15.763446 | G6132: =metadata!$A$49-$F6132 -> 4.2365538 | H6132: =metadata!$A$5-G6132 -> 1801.5734 | I6132: 4.59
A6133: 39987.833 | B6133: H | C6133: 11.8619 | D6133: 34.3 | E6133: 4.207 | F6133: =(D6133-C6133)*6897/9807 -> 15.780114 | G6133: =metadata!$A$49-$F6133 -> 4.2198862 | H6133: =metadata!$A$5-G6133 -> 1801.5901
A6134: 39987.875 | B6134: H | C6134: 11.871 | D6134: 34.3048 | E6134: 4.207 | F6134: =(D6134-C6134)*6897/9807 -> 15.77709 | G6134: =metadata!$A$49-$F6134 -> 4.2229103 | H6134: =metadata!$A$5-G6134 -> 1801.5871
A6135: 39987.917 | B6135: H | C6135: 11.871 | D6135: 34.3094 | E6135: 4.207 | F6135: =(D6135-C6135)*6897/9807 -> 15.780325 | G6135: =metadata!$A$49-$F6135 -> 4.2196753 | H6135: =metadata!$A$5-G6135 -> 1801.5903
A6136: 39987.958 | B6136: H | C6136: 11.8664 | D6136: 34.3188 | E6136: 4.207 | F6136: =(D6136-C6136)*6897/9807 -> 15.790171 | G6136: =metadata!$A$49-$F6136 -> 4.2098294 | H6136: =metadata!$A$5-G6136 -> 1801.6002
A6137: 39988 | B6137: H | C6137: 11.8619 | D6137: 34.3142 | E6137: 4.207 | F6137: =(D6137-C6137)*6897/9807 -> 15.7901 | G6137: =metadata!$A$49-$F6137 -> 4.2098998 | H6137: =metadata!$A$5-G6137 -> 1801.6001
A6138: 39988.042 | B6138: H | C6138: 11.8574 | D6138: 34.3188 | E6138: 4.207 | F6138: =(D6138-C6138)*6897/9807 -> 15.7965 | G6138: =metadata!$A$49-$F6138 -> 4.2035 | H6138: =metadata!$A$5-G6138 -> 1801.6065
A6139: 39988.083 | B6139: H | C6139: 11.8483 | D6139: 34.3142 | E6139: 4.207 | F6139: =(D6139-C6139)*6897/9807 -> 15.799665 | G6139: =metadata!$A$49-$F6139 -> 4.2003352 | H6139: =metadata!$A$5-G6139 -> 1801.6097
A6140: 39988.125 | B6140: H | C6140: 11.8484 | D6140: 34.3094 | E6140: 4.207 | F6140: =(D6140-C6140)*6897/9807 -> 15.796219 | G6140: =metadata!$A$49-$F6140 -> 4.2037813 | H6140: =metadata!$A$5-G6140 -> 1801.6062
A6141: 39988.167 | B6141: H | C6141: 11.8438 | D6141: 34.3052 | E6141: 4.311 | F6141: =(D6141-C6141)*6897/9807 -> 15.7965 | G6141: =metadata!$A$49-$F6141 -> 4.2035 | H6141: =metadata!$A$5-G6141 -> 1801.6065
A6142: 39988.208 | B6142: H | C6142: 11.8393 | D6142: 34.3052 | E6142: 4.311 | F6142: =(D6142-C6142)*6897/9807 -> 15.799665 | G6142: =metadata!$A$49-$F6142 -> 4.2003352 | H6142: =metadata!$A$5-G6142 -> 1801.6097
A6143: 39988.25 | B6143: H | C6143: 11.8438 | D6143: 34.3004 | E6143: 4.311 | F6143: =(D6143-C6143)*6897/9807 -> 15.793124 | G6143: =metadata!$A$49-$F6143 -> 4.2068757 | H6143: =metadata!$A$5-G6143 -> 1801.6031
A6144: 39988.292 | B6144: H | C6144: 11.8438 | D6144: 34.3 | E6144: 4.207 | F6144: =(D6144-C6144)*6897/9807 -> 15.792843 | G6144: =metadata!$A$49-$F6144 -> 4.207157 | H6144: =metadata!$A$5-G6144 -> 1801.6028
... A8357: 40080.5 | B8357: H | C8357: 11.9553 | D8357: 26.5977 | E8357: 4.519 | F8357: =(D8357-C8357)*6897/9807 -> 10.297607 | G8357: =metadata!$A$49-$F8357 -> 9.7023929 | H8357: =metadata!$A$5-G8357 -> 1796.1076
A8358: 40080.542 | B8358: H | E8358: 4.5 | G8358: 9.705 | H8358: =metadata!$A$5-data!G8358 -> 1796.105
A8359: 40080.583 | B8359: H | E8359: 4.5 | G8359: 9.705 | H8359: =metadata!$A$5-data!G8359 -> 1796.105
A8360: 40080.625 | B8360: H | E8360: 4.5 | G8360: 9.705 | H8360: =metadata!$A$5-data!G8360 -> 1796.105
A8361: 40080.667 | B8361: H | E8361: 4.5 | G8361: 9.716 | H8361: =metadata!$A$5-data!G8361 -> 1796.094
A8362: 40080.708 | B8362: H | E8362: 4.5 | G8362: 9.716 | H8362: =metadata!$A$5-data!G8362 -> 1796.094
A8363: 40080.75 | B8363: H | E8363: 4.5 | G8363: 9.726 | H8363: =metadata!$A$5-data!G8363 -> 1796.084
A8364: 40080.792 | B8364: H | E8364: 4.5 | G8364: 9.735 | H8364: =metadata!$A$5-data!G8364 -> 1796.075
A8365: 40080.833 | B8365: H | E8365: 4.5 | G8365: 9.734 | H8365: =metadata!$A$5-data!G8365 -> 1796.076
A8366: 40080.875 | B8366: H | E8366: 4.5 | G8366: 9.737 | H8366: =metadata!$A$5-data!G8366 -> 1796.073
A8367: 40080.917 | B8367: H | E8367: 4.5 | G8367: 9.746 | H8367: =metadata!$A$5-data!G8367 -> 1796.064
A8368: 40080.958 | B8368: H | E8368: 4.5 | G8368: 9.752 | H8368: =metadata!$A$5-data!G8368 -> 1796.058
A8369: 40081 | B8369: H | E8369: 4.5 | G8369: 9.756 | H8369: =metadata!$A$5-data!G8369 -> 1796.054
... A15328: 40370.958 | B15328: H | E15328: 4.41 | G15328: 4.954 | H15328: =metadata!$A$5-data!G15328 -> 1800.856

Sheet metadata
A1: W2
A2: Location (UTM)
A3: Zone 11; East : 328259; North : 5504625
A4: Elevation TOC [m.a.s.l.]
A5: 1805.81
A6: Depth of well
A7: 30.48 m (100 feet)
A9: LOGGING INTERVAL 1
A11: Logger Type | B11: P, Seametrics PT2X, vented
A12: SensorSN | B12: 2520032
A13: Sensor Type | B13: PT2X
A14: Sensor Name | B14: INW Smart Sensor
B16: Pressure(psi) | C16: Temperature(degC)
A17: Sensor Range | B17: 5 psig (3.5m range +/- ~3.5mm) | C17: -40 - +125 degC
A18: Minimum | B18: -1.001 | C18: -2.3
A19: Maximum | B19: 5.683 | C19: 5.3
A20: Mean | B20: 5.556 | C20: 4.6
A21: Variance | B21: 0.3559 | C21: 0.52
A22: Std Deviation | B22: 0.5966 | C22: 0.72
A24: Start date | B24: 39290.75
A25: End date | B25: 39427.75
A26: Logging interval | B26: daily to twice daily
A29: Depth of Logger Below TOC [m]
A30: 9
A31: Pressure units [psig / psia] | B31: psi gauge / psi atmospheric
A34: LOGGING INTERVAL 2
A36: Logger Type | B36: H, Onset HOBO, non-vented
A37: Barologger | B37: Onset HOBO, non-vented
A38: Barologger location | B38: Inside W1 casing
A41: Sensor Range | B41: 0-58 psi
A43: Start date | B43: 39755.542
A44: End date | B44: 40413.75 | C44: Note: raw data not included
A45: Logging interval | B45: hourly | C45: from Sept 24, 2009 to end of record.
A48: Depth of Logger Below TOC [m]
A49: 20
A51: Pressure units [psi] | B51: psi total
