Workbook

Sheet data
A1: Date/Time | B1: Logger type | C1: Atmospheric P [psi] | D1: Pressure P [see metadata for units] | E1: Temperature [degC] | F1: Water column above logger [m] | G1: Watertable [m below TOC] | H1: Watertable Elevation [masl] | I1: Manual water table depth [m below TOC]
A2: 39290.75 | B2: P | D2: 14.656 | E2: 5.1 | F2: =D2/0.145/9.81 -> 10.30335 | G2: =metadata!$A$30-$F2 -> 4.6966501 | H2: =metadata!$A$5-G2 -> 1800.7733 | I2: 4.76 (at 12.32 a.m.)
A3: 39291.75 | B3: P | D3: 14.741 | E3: 5.1 | F3: =D3/0.145/9.81 -> 10.363106 | G3: =metadata!$A$30-$F3 -> 4.6368941 | H3: =metadata!$A$5-G3 -> 1800.8331
A4: 39292.75 | B4: P | D4: 14.732 | E4: 5.1 | F4: =D4/0.145/9.81 -> 10.356779 | G4: =metadata!$A$30-$F4 -> 4.6432212 | H4: =metadata!$A$5-G4 -> 1800.8268
A5: 39293.75 | B5: P | D5: 14.677 | E5: 5.1 | F5: =D5/0.145/9.81 -> 10.318113 | G5: =metadata!$A$30-$F5 -> 4.6818869 | H5: =metadata!$A$5-G5 -> 1800.7881
A6: 39294.75 | B6: P | D6: 14.614 | E6: 5.1 | F6: =D6/0.145/9.81 -> 10.273823 | G6: =metadata!$A$30-$F6 -> 4.7261767 | H6: =metadata!$A$5-G6 -> 1800.7438
A7: 39295.75 | B7: P | D7: 14.53 | E7: 5.1 | F7: =D7/0.145/9.81 -> 10.21477 | G7: =metadata!$A$30-$F7 -> 4.7852297 | H7: =metadata!$A$5-G7 -> 1800.6848
A8: 39296.75 | B8: P | D8: 14.416 | E8: 5.1 | F8: =D8/0.145/9.81 -> 10.134627 | G8: =metadata!$A$30-$F8 -> 4.8653731 | H8: =metadata!$A$5-G8 -> 1800.6046
A9: 39297.75 | B9: P | D9: 14.269 | E9: 5.1 | F9: =D9/0.145/9.81 -> 10.031284 | G9: =metadata!$A$30-$F9 -> 4.9687159 | H9: =metadata!$A$5-G9 -> 1800.5013
A10: 39298.75 | B10: P | D10: 14.116 | E10: 5.1 | F10: =D10/0.145/9.81 -> 9.9237232 | G10: =metadata!$A$30-$F10 -> 5.0762768 | H10: =metadata!$A$5-G10 -> 1800.3937
A11: 39299.75 | B11: P | D11: 13.831 | E11: 5.1 | F11: =D11/0.145/9.81 -> 9.7233646 | G11: =metadata!$A$30-$F11 -> 5.2766354 | H11: =metadata!$A$5-G11 -> 1800.1934
A12: 39300.75 | B12: P | D12: 13.415 | E12: 5.1 | F12: =D12/0.145/9.81 -> 9.4309115 | G12: =metadata!$A$30-$F12 -> 5.5690885 | H12: =metadata!$A$5-G12 -> 1799.9009
A13: 39301.75 | B13: P | D13: 12.914 | E13: 5.1 | F13: =D13/0.145/9.81 -> 9.0787022 | G13: =metadata!$A$30-$F13 -> 5.9212978 | H13: =metadata!$A$5-G13 -> 1799.5487
A14: 39302.75 | B14: P | D14: 12.399 | E14: 5.1 | F14: =D14/0.145/9.81 -> 8.7166508 | G14: =metadata!$A$30-$F14 -> 6.2833492 | H14: =metadata!$A$5-G14 -> 1799.1867
... A139: 39427.75 | B139: P | D139: 14.696 | E139: 5.6 | F139: =D139/0.145/9.81 -> 10.33147 | G139: =metadata!$A$30-$F139 -> 4.6685296 | H139: =metadata!$A$5-G139 -> 1800.8015
A140: 39428.75 | B140: P | D140: 14.674 | E140: 5.6 | F140: =D140/0.145/9.81 -> 10.316004 | G140: =metadata!$A$30-$F140 -> 4.6839959 | H140: =metadata!$A$5-G140 -> 1800.786 | I140: 4.765 (at 11.12 a.m.)
A141: 39429.75 | B141: P | D141: 14.652 | E141: 5.7 | F141: =D141/0.145/9.81 -> 10.300538 | G141: =metadata!$A$30-$F141 -> 4.6994622 | H141: =metadata!$A$5-G141 -> 1800.7705
A142: 39430.25 | B142: P | D142: 14.635 | E142: 5.7 | F142: =D142/0.145/9.81 -> 10.288587 | G142: =metadata!$A$30-$F142 -> 4.7114134 | H142: =metadata!$A$5-G142 -> 1800.7586
A143: 39430.75 | B143: P | D143: 14.62 | E143: 5.7 | F143: =D143/0.145/9.81 -> 10.278041 | G143: =metadata!$A$30-$F143 -> 4.7219586 | H143: =metadata!$A$5-G143 -> 1800.748
A144: 39431.25 | B144: P | D144: 14.621 | E144: 5.7 | F144: =D144/0.145/9.81 -> 10.278744 | G144: =metadata!$A$30-$F144 -> 4.7212556 | H144: =metadata!$A$5-G144 -> 1800.7487
A145: 39431.75 | B145: P | D145: 14.591 | E145: 5.7 | F145: =D145/0.145/9.81 -> 10.257654 | G145: =metadata!$A$30-$F145 -> 4.742346 | H145: =metadata!$A$5-G145 -> 1800.7277
A146: 39432.25 | B146: P | D146: 14.56 | E146: 5.7 | F146: =D146/0.145/9.81 -> 10.235861 | G146: =metadata!$A$30-$F146 -> 4.7641393 | H146: =metadata!$A$5-G146 -> 1800.7059
A147: 39432.75 | B147: P | D147: 14.556 | E147: 5.6 | F147: =D147/0.145/9.81 -> 10.233049 | G147: =metadata!$A$30-$F147 -> 4.7669514 | H147: =metadata!$A$5-G147 -> 1800.703
A148: 39433.25 | B148: P | D148: 14.55 | E148: 5.7 | F148: =D148/0.145/9.81 -> 10.228831 | G148: =metadata!$A$30-$F148 -> 4.7711695 | H148: =metadata!$A$5-G148 -> 1800.6988
A149: 39433.75 | B149: P | D149: 14.509 | E149: 5.6 | F149: =D149/0.145/9.81 -> 10.200007 | G149: =metadata!$A$30-$F149 -> 4.799993 | H149: =metadata!$A$5-G149 -> 1800.67
A150: 39434.25 | B150: P | D150: 14.485 | E150: 5.6 | F150: =D150/0.145/9.81 -> 10.183135 | G150: =metadata!$A$30-$F150 -> 4.8168653 | H150: =metadata!$A$5-G150 -> 1800.6531
A151: 39434.75 | B151: P | D151: 14.485 | E151: 5.7 | F151: =D151/0.145/9.81 -> 10.183135 | G151: =metadata!$A$30-$F151 -> 4.8168653 | H151: =metadata!$A$5-G151 -> 1800.6531
A152: 39435.25 | B152: P | D152: 14.459 | E152: 5.6 | F152: =D152/0.145/9.81 -> 10.164856 | G152: =metadata!$A$30-$F152 -> 4.8351436 | H152: =metadata!$A$5-G152 -> 1800.6349
... A578: 39648.25 | B578: P | D578: 11.85 | E578: 4.9 | F578: =D578/0.145/9.81 -> 8.330697 | G578: =metadata!$A$30-$F578 -> 6.669303 | H578: =metadata!$A$5-G578 -> 1798.8007
A579: 39648.75 | B579: P
A580: 39649.25 | B580: P
A581: 39649.75 | B581: P
A582: 39650.25 | B582: P
A583: 39650.75 | B583: P
A584: 39651.25 | B584: P
A585: 39651.75 | B585: P | D585: 9.274 | E585: 4.9 | F585: =D585/0.145/9.81 -> 6.5197371 | G585: =metadata!$A$30-$F585 -> 8.4802629 | H585: =metadata!$A$5-G585 -> 1796.9897
A586: 39652.25 | B586: P | D586: 9.315 | E586: 4.9 | F586: =D586/0.145/9.81 -> 6.5485606 | G586: =metadata!$A$30-$F586 -> 8.4514394 | H586: =metadata!$A$5-G586 -> 1797.0186
A587: 39652.75 | B587: P | D587: 9.304 | E587: 4.9 | F587: =D587/0.145/9.81 -> 6.5408274 | G587: =metadata!$A$30-$F587 -> 8.4591726 | H587: =metadata!$A$5-G587 -> 1797.0108
A588: 39653.25 | B588: P | D588: 9.262 | E588: 4.9 | F588: =D588/0.145/9.81 -> 6.5113009 | G588: =metadata!$A$30-$F588 -> 8.4886991 | H588: =metadata!$A$5-G588 -> 1796.9813
A589: 39653.75 | B589: P | D589: 9.221 | E589: 4.9 | F589: =D589/0.145/9.81 -> 6.4824774 | G589: =metadata!$A$30-$F589 -> 8.5175226 | H589: =metadata!$A$5-G589 -> 1796.9525
...

Sheet metadata
A1: W1
A2: Location (UTM)
A3: Zone 11; East: 328254; North : 5504627
A4: Elevation TOC [m.a.s.l.]
A5: 1805.47
A6: Depth of well
A7: 45.72 m (150 feet)
A9: LOGGING INTERVAL 1
A11: Logger Type | B11: P, Seametrics PT2X, vented
A12: SensorSN | B12: 2510014
A13: Sensor Type | B13: PT2X
A14: Sensor Name | B14: INW Smart Sensor
B16: Pressure(psi) | C16: Temperature(degC)
A17: Sensor Range | B17: 30 psig (21m range +/- ~21mm) | C17: -40 - +125 degC
A18: Minimum | B18: -8.148 | C18: -1.3
A19: Maximum | B19: 15.415 | C19: 5.9
A20: Mean | B20: 11.002 | C20: 5.3
A21: Variance | B21: 17.8014 | C21: 0.4
A22: Std Deviation | B22: 4.2192 | C22: 0.64
A24: Start date | B24: 39290.75
A25: End date | B25: 39654.25
A26: Logging interval | B26: daily to twice daily
A29: Depth of Logger Below TOC [m]
A30: 15
A31: Pressure units [psig / psia] | B31: psi gauge / psi atmospheric
A34: LOGGING INTERVAL 2
A36: Logger Type | B36: H, Onset HOBO, non-vented
A37: Barologger | B37: Onset HOBO, non-vented
A38: Barologger location | B38: Inside W1 casing
A41: Sensor Range | B41: 0-58 psi
A43: Start date | B43: 39755.542
A44: End date | B44: 40413.75
A45: Logging interval | B45: hourly
A48: Depth of Logger Below TOC [m]
A49: 20
A51: Pressure units [psi] | B51: psi total
