Workbook

Sheet data
A1: Date/Time | B1: Logger type | C1: Atmospheric P [psi] | D1: Pressure P [see metadata for units] | E1: Temperature [degC] | F1: Water column above logger [m] | G1: Watertable [m below TOC] | H1: Watertable Elevation [masl] | I1: Manual water table depth [m below TOC]
A2: 39290.75 | B2: P | D2: 14.656 | E2: 5.1 | F2: =D2/0.145/9.81 -> 10.30335 | G2: =metadata!$A$30-$F2 -> 4.6966501 | H2: =metadata!$A$5-G2 -> 1800.7733 | I2: 4.76 (at 12.32 a.m.)
A3: 39291.75 | B3: P | D3: 14.741 | E3: 5.1 | F3: =D3/0.145/9.81 -> 10.363106 | G3: =metadata!$A$30-$F3 -> 4.6368941 | H3: =metadata!$A$5-G3 -> 1800.8331
A4: 39292.75 | B4: P | D4: 14.732 | E4: 5.1 | F4: =D4/0.145/9.81 -> 10.356779 | G4: =metadata!$A$30-$F4 -> 4.6432212 | H4: =metadata!$A$5-G4 -> 1800.8268
A5: 39293.75 | B5: P | D5: 14.677 | E5: 5.1 | F5: =D5/0.145/9.81 -> 10.318113 | G5: =metadata!$A$30-$F5 -> 4.6818869 | H5: =metadata!$A$5-G5 -> 1800.7881
A6: 39294.75 | B6: P | D6: 14.614 | E6: 5.1 | F6: =D6/0.145/9.81 -> 10.273823 | G6: =metadata!$A$30-$F6 -> 4.7261767 | H6: =metadata!$A$5-G6 -> 1800.7438
A7: 39295.75 | B7: P | D7: 14.53 | E7: 5.1 | F7: =D7/0.145/9.81 -> 10.21477 | G7: =metadata!$A$30-$F7 -> 4.7852297 | H7: =metadata!$A$5-G7 -> 1800.6848
A8: 39296.75 | B8: P | D8: 14.416 | E8: 5.1 | F8: =D8/0.145/9.81 -> 10.134627 | G8: =metadata!$A$30-$F8 -> 4.8653731 | H8: =metadata!$A$5-G8 -> 1800.6046
A9: 39297.75 | B9: P | D9: 14.269 | E9: 5.1 | F9: =D9/0.145/9.81 -> 10.031284 | G9: =metadata!$A$30-$F9 -> 4.9687159 | H9: =metadata!$A$5-G9 -> 1800.5013
A10: 39298.75 | B10: P | D10: 14.116 | E10: 5.1 | F10: =D10/0.145/9.81 -> 9.9237232 | G10: =metadata!$A$30-$F10 -> 5.0762768 | H10: =metadata!$A$5-G10 -> 1800.3937
A11: 39299.75 | B11: P | D11: 13.831 | E11: 5.1 | F11: =D11/0.145/9.81 -> 9.7233646 | G11: =metadata!$A$30-$F11 -> 5.2766354 | H11: =metadata!$A$5-G11 -> 1800.1934
A12: 39300.75 | B12: P | D12: 13.415 | E12: 5.1 | F12: =D12/0.145/9.81 -> 9.4309115 | G12: =metadata!$A$30-$F12 -> 5.5690885 | H12: =metadata!$A$5-G12 -> 1799.9009
A13: 39301.75 | B13: P | D13: 12.914 | E13: 5.1 | F13: =D13/0.145/9.81 -> 9.0787022 | G13: =metadata!$A$30-$F13 -> 5.9212978 | H13: =metadata!$A$5-G13 -> 1799.5487
A14: 39302.75 | B14: P | D14: 12.399 | E14: 5.1 | F14: =D14/0.145/9.81 -> 8.7166508 | G14: =metadata!$A$30-$F14 -> 6.2833492 | H14: =metadata!$A$5-G14 -> 1799.1867
... A139: 39427.75 | B139: P | D139: 14.696 | E139: 5.6 | F139: =D139/0.145/9.81 -> 10.33147 | G139: =metadata!$A$30-$F139 -> 4.6685296 | H139: =metadata!$A$5-G139 -> 1800.8015
A140: 39428.75 | B140: P | D140: 14.674 | E140: 5.6 | F140: =D140/0.145/9.81 -> 10.316004 | G140: =metadata!$A$30-$F140 -> 4.6839959 | H140: =metadata!$A$5-G140 -> 1800.786 | I140: 4.765 (at 11.12 a.m.)
A141: 39429.75 | B141: P | D141: 14.652 | E141: 5.7 | F141: =D141/0.145/9.81 -> 10.300538 | G141: =metadata!$A$30-$F141 -> 4.6994622 | H141: =metadata!$A$5-G141 -> 1800.7705
A142: 39430.25 | B142: P | D142: 14.635 | E142: 5.7 | F142: =D142/0.145/9.81 -> 10.288587 | G142: =metadata!$A$30-$F142 -> 4.7114134 | H142: =metadata!$A$5-G142 -> 1800.7586
A143: 39430.75 | B143: P | D143: 14.62 | E143: 5.7 | F143: =D143/0.145/9.81 -> 10.278041 | G143: =metadata!$A$30-$F143 -> 4.7219586 | H143: =metadata!$A$5-G143 -> 1800.748
A144: 39431.25 | B144: P | D144: 14.621 | E144: 5.7 | F144: =D144/0.145/9.81 -> 10.278744 | G144: =metadata!$A$30-$F144 -> 4.7212556 | H144: =metadata!$A$5-G144 -> 1800.7487
A145: 39431.75 | B145: P | D145: 14.591 | E145: 5.7 | F145: =D145/0.145/9.81 -> 10.257654 | G145: =metadata!$A$30-$F145 -> 4.742346 | H145: =metadata!$A$5-G145 -> 1800.7277
A146: 39432.25 | B146: P | D146: 14.56 | E146: 5.7 | F146: =D146/0.145/9.81 -> 10.235861 | G146: =metadata!$A$30-$F146 -> 4.7641393 | H146: =metadata!$A$5-G146 -> 1800.7059
A147: 39432.75 | B147: P | D147: 14.556 | E147: 5.6 | F147: =D147/0.145/9.81 -> 10.233049 | G147: =metadata!$A$30-$F147 -> 4.7669514 | H147: =metadata!$A$5-G147 -> 1800.703
A148: 39433.25 | B148: P | D148: 14.55 | E148: 5.7 | F148: =D148/0.145/9.81 -> 10.228831 | G148: =metadata!$A$30-$F148 -> 4.7711695 | H148: =metadata!$A$5-G148 -> 1800.6988
A149: 39433.75 | B149: P | D149: 14.509 | E149: 5.6 | F149: =D149/0.145/9.81 -> 10.200007 | G149: =metadata!$A$30-$F149 -> 4.799993 | H149: =metadata!$A$5-G149 -> 1800.67
A150: 39434.25 | B150: P | D150: 14.485 | E150: 5.6 | F150: =D150/0.145/9.81 -> 10.183135 | G150: =metadata!$A$30-$F150 -> 4.8168653 | H150: =metadata!$A$5-G150 -> 1800.6531
A151: 39434.75 | B151: P | D151: 14.485 | E151: 5.7 | F151: =D151/0.145/9.81 -> 10.183135 | G151: =metadata!$A$30-$F151 -> 4.8168653 | H151: =metadata!$A$5-G151 -> 1800.6531
A152: 39435.25 | B152: P | D152: 14.459 | E152: 5.6 | F152: =D152/0.145/9.81 -> 10.164856 | G152: =metadata!$A$30-$F152 -> 4.8351436 | H152: =metadata!$A$5-G152 -> 1800.6349
... A578: 39648.25 | B578: P | D578: 11.85 | E578: 4.9 | F578: =D578/0.145/9.81 -> 8.330697 | G578: =metadata!$A$30-$F578 -> 6.669303 | H578: =metadata!$A$5-G578 -> 1798.8007
A579: 39648.75 | B579: P
A580: 39649.25 | B580: P
A581: 39649.75 | B581: P
A582: 39650.25 | B582: P
A583: 39650.75 | B583: P
A584: 39651.25 | B584: P
A585: 39651.75 | B585: P | D585: 9.274 | E585: 4.9 | F585: =D585/0.145/9.81 -> 6.5197371 | G585: =metadata!$A$30-$F585 -> 8.4802629 | H585: =metadata!$A$5-G585 -> 1796.9897
A586: 39652.25 | B586: P | D586: 9.315 | E586: 4.9 | F586: =D586/0.145/9.81 -> 6.5485606 | G586: =metadata!$A$30-$F586 -> 8.4514394 | H586: =metadata!$A$5-G586 -> 1797.0186
A587: 39652.75 | B587: P | D587: 9.304 | E587: 4.9 | F587: =D587/0.145/9.81 -> 6.5408274 | G587: =metadata!$A$30-$F587 -> 8.4591726 | H587: =metadata!$A$5-G587 -> 1797.0108
A588: 39653.25 | B588: P | D588: 9.262 | E588: 4.9 | F588: =D588/0.145/9.81 -> 6.5113009 | G588: =metadata!$A$30-$F588 -> 8.4886991 | H588: =metadata!$A$5-G588 -> 1796.9813
A589: 39653.75 | B589: P | D589: 9.221 | E589: 4.9 | F589: =D589/0.145/9.81 -> 6.4824774 | G589: =metadata!$A$30-$F589 -> 8.5175226 | H589: =metadata!$A$5-G589 -> 1796.9525
A590: 39654.25 | B590: P | D590: 9.163 | E590: 4.9 | F590: =D590/0.145/9.81 -> 6.4417027 | G590: =metadata!$A$30-$F590 -> 8.5582973 | H590: =metadata!$A$5-G590 -> 1796.9117
A591: 39755.542 | B591: H | C591: 11.7412 | D591: 23.6126 | E591: 4.415 | F591: =(D591-C591)*6897/9807 -> 8.3488371 | G591: =metadata!$A$49-F591 -> 11.651163 | H591: =metadata!$A$5-G591 -> 1793.8188
A592: 39755.583 | B592: H | C592: 11.7357 | D592: 23.7903 | E592: 4.311 | F592: =(D592-C592)*6897/9807 -> 8.4776768 | G592: =metadata!$A$49-F592 -> 11.522323 | H592: =metadata!$A$5-G592 -> 1793.9477
A593: 39755.625 | B593: H | C593: 11.7264 | D593: 23.8039 | E593: 4.311 | F593: =(D593-C593)*6897/9807 -> 8.4937817 | G593: =metadata!$A$49-F593 -> 11.506218 | H593: =metadata!$A$5-G593 -> 1793.9638
A594: 39755.667 | B594: H | C594: 11.7219 | D594: 23.8039 | E594: 4.311 | F594: =(D594-C594)*6897/9807 -> 8.4969465 | G594: =metadata!$A$49-F594 -> 11.503054 | H594: =metadata!$A$5-G594 -> 1793.9669
A595: 39755.708 | B595: H | C595: 11.7173 | D595: 23.8084 | E595: 4.311 | F595: =(D595-C595)*6897/9807 -> 8.5033463 | G595: =metadata!$A$49-F595 -> 11.496654 | H595: =metadata!$A$5-G595 -> 1793.9733
A596: 39755.75 | B596: H | C596: 11.7128 | D596: 23.8084 | E596: 4.311 | F596: =(D596-C596)*6897/9807 -> 8.506511 | G596: =metadata!$A$49-F596 -> 11.493489 | H596: =metadata!$A$5-G596 -> 1793.9765
A597: 39755.792 | B597: H | C597: 11.7037 | D597: 23.7992 | E597: 4.311 | F597: =(D597-C597)*6897/9807 -> 8.5064407 | G597: =metadata!$A$49-F597 -> 11.493559 | H597: =metadata!$A$5-G597 -> 1793.9764
A598: 39755.833 | B598: H | C598: 11.6992 | D598: 23.7947 | E598: 4.311 | F598: =(D598-C598)*6897/9807 -> 8.5064407 | G598: =metadata!$A$49-F598 -> 11.493559 | H598: =metadata!$A$5-G598 -> 1793.9764
A599: 39755.875 | B599: H | C599: 11.6947 | D599: 23.7903 | E599: 4.311 | F599: =(D599-C599)*6897/9807 -> 8.506511 | G599: =metadata!$A$49-F599 -> 11.493489 | H599: =metadata!$A$5-G599 -> 1793.9765
A600: 39755.917 | B600: H | C600: 11.6902 | D600: 23.7811 | E600: 4.311 | F600: =(D600-C600)*6897/9807 -> 8.5032056 | G600: =metadata!$A$49-F600 -> 11.496794 | H600: =metadata!$A$5-G600 -> 1793.9732
A601: 39755.958 | B601: H | C601: 11.6721 | D601: 23.772 | E601: 4.311 | F601: =(D601-C601)*6897/9807 -> 8.5095351 | G601: =metadata!$A$49-F601 -> 11.490465 | H601: =metadata!$A$5-G601 -> 1793.9795
A602: 39756 | B602: H | C602: 11.6674 | D602: 23.7628 | E602: 4.311 | F602: =(D602-C602)*6897/9807 -> 8.5063703 | G602: =metadata!$A$49-F602 -> 11.49363 | H602: =metadata!$A$5-G602 -> 1793.9764
... A6131: 39986.375 | B6131: H | C6131: 11.8436 | D6131: 34.3245 | E6131: 4.207 | F6131: =(D6131-C6131)*6897/9807 -> 15.810214 | G6131: =metadata!$A$49-F6131 -> 4.1897861 | H6131: =metadata!$A$5-G6131 -> 1801.2802
A6132: 39986.417 | B6132: H | C6132: 11.8483 | D6132: 34.4111 | E6132: 4.207 | F6132: =(D6132-C6132)*6897/9807 -> 15.867812 | G6132: =metadata!$A$49-F6132 -> 4.1321881 | H6132: =metadata!$A$5-G6132 -> 1801.3378 | I6132: 4.24
A6133: 39987.833 | B6133: H | C6133: 11.8621 | D6133: 34.6565 | E6133: 4.102 | F6133: =(D6133-C6133)*6897/9807 -> 16.03069 | G6133: =metadata!$A$49-F6133 -> 3.96931 | H6133: =metadata!$A$5-G6133 -> 1801.5007 | I6133: 4.24
A6134: 39987.875 | B6134: H | C6134: 11.8619 | D6134: 34.6701 | E6134: 4.102 | F6134: =(D6134-C6134)*6897/9807 -> 16.040395 | G6134: =metadata!$A$49-F6134 -> 3.9596048 | H6134: =metadata!$A$5-G6134 -> 1801.5104
A6135: 39987.917 | B6135: H | C6135: 11.871 | D6135: 34.6845 | E6135: 4.207 | F6135: =(D6135-C6135)*6897/9807 -> 16.044123 | G6135: =metadata!$A$49-F6135 -> 3.9558775 | H6135: =metadata!$A$5-G6135 -> 1801.5141
A6136: 39987.958 | B6136: H | C6136: 11.871 | D6136: 34.6845 | E6136: 4.207 | F6136: =(D6136-C6136)*6897/9807 -> 16.044123 | G6136: =metadata!$A$49-F6136 -> 3.9558775 | H6136: =metadata!$A$5-G6136 -> 1801.5141
A6137: 39988 | B6137: H | C6137: 11.8664 | D6137: 34.6929 | E6137: 4.102 | F6137: =(D6137-C6137)*6897/9807 -> 16.053265 | G6137: =metadata!$A$49-F6137 -> 3.9467349 | H6137: =metadata!$A$5-G6137 -> 1801.5233
A6138: 39988.042 | B6138: H | C6138: 11.8619 | D6138: 34.6884 | E6138: 4.102 | F6138: =(D6138-C6138)*6897/9807 -> 16.053265 | G6138: =metadata!$A$49-F6138 -> 3.9467349 | H6138: =metadata!$A$5-G6138 -> 1801.5233
A6139: 39988.083 | B6139: H | C6139: 11.8574 | D6139: 34.6792 | E6139: 4.102 | F6139: =(D6139-C6139)*6897/9807 -> 16.04996 | G6139: =metadata!$A$49-F6139 -> 3.9500403 | H6139: =metadata!$A$5-G6139 -> 1801.52
A6140: 39988.125 | B6140: H | C6140: 11.8483 | D6140: 34.6798 | E6140: 4.207 | F6140: =(D6140-C6140)*6897/9807 -> 16.056781 | G6140: =metadata!$A$49-F6140 -> 3.9432186 | H6140: =metadata!$A$5-G6140 -> 1801.5268
A6141: 39988.167 | B6141: H | C6141: 11.8484 | D6141: 34.6753 | E6141: 4.207 | F6141: =(D6141-C6141)*6897/9807 -> 16.053546 | G6141: =metadata!$A$49-F6141 -> 3.9464536 | H6141: =metadata!$A$5-G6141 -> 1801.5235
A6142: 39988.208 | B6142: H | C6142: 11.8438 | D6142: 34.6753 | E6142: 4.207 | F6142: =(D6142-C6142)*6897/9807 -> 16.056781 | G6142: =metadata!$A$49-F6142 -> 3.9432186 | H6142: =metadata!$A$5-G6142 -> 1801.5268
A6143: 39988.25 | B6143: H | C6143: 11.8393 | D6143: 34.6707 | E6143: 4.207 | F6143: =(D6143-C6143)*6897/9807 -> 16.056711 | G6143: =metadata!$A$49-F6143 -> 3.9432889 | H6143: =metadata!$A$5-G6143 -> 1801.5267
A6144: 39988.292 | B6144: H | C6144: 11.8438 | D6144: 34.6707 | E6144: 4.207 | F6144: =(D6144-C6144)*6897/9807 -> 16.053546 | G6144: =metadata!$A$49-F6144 -> 3.9464536 | H6144: =metadata!$A$5-G6144 -> 1801.5235
A6145: 39988.333 | B6145: H | C6145: 11.8438 | D6145: 34.6707 | E6145: 4.207 | F6145: =(D6145-C6145)*6897/9807 -> 16.053546 | G6145: =metadata!$A$49-F6145 -> 3.9464536 | H6145: =metadata!$A$5-G6145 -> 1801.5235
... A8358: 40080.542 | B8358: H | C8358: 11.9553 | D8358: 26.9296 | E8358: 4.311 | F8358: =(D8358-C8358)*6897/9807 -> 10.531023 | G8358: =metadata!$A$49-F8358 -> 9.4689765 | H8358: =metadata!$A$5-G8358 -> 1796.001
A8359: 40080.583 | B8359: H | C8359: 11.9513 | D8359: 26.9196 | E8359: 4.311 | F8359: =(D8359-C8359)*6897/9807 -> 10.526804 | G8359: =metadata!$A$49-F8359 -> 9.4731962 | H8359: =metadata!$A$5-G8359 -> 1795.9968 | I8359: 9.46
A8360: 40080.625 | B8360: H | C8360: 11.952 | D8360: 26.7653 | E8360: 4.311 | F8360: =(D8360-C8360)*6897/9807 -> 10.417796 | G8360: =metadata!$A$49-F8360 -> 9.5822035 | H8360: =metadata!$A$5-G8360 -> 1795.8878
A8361: 40080.667 | B8361: H | C8361: 11.9555 | D8361: 26.8429 | E8361: 4.311 | F8361: =(D8361-C8361)*6897/9807 -> 10.469909 | G8361: =metadata!$A$49-F8361 -> 9.530091 | H8361: =metadata!$A$5-G8361 -> 1795.9399
A8362: 40080.708 | B8362: H | C8362: 11.9598 | D8362: 26.8474 | E8362: 4.311 | F8362: =(D8362-C8362)*6897/9807 -> 10.47005 | G8362: =metadata!$A$49-F8362 -> 9.5299503 | H8362: =metadata!$A$5-G8362 -> 1795.94
A8363: 40080.75 | B8363: H | C8363: 11.9553 | D8363: 26.852 | E8363: 4.311 | F8363: =(D8363-C8363)*6897/9807 -> 10.476449 | G8363: =metadata!$A$49-F8363 -> 9.5235505 | H8363: =metadata!$A$5-G8363 -> 1795.9464
A8364: 40080.792 | B8364: H | C8364: 11.9643 | D8364: 26.8474 | E8364: 4.311 | F8364: =(D8364-C8364)*6897/9807 -> 10.466885 | G8364: =metadata!$A$49-F8364 -> 9.5331151 | H8364: =metadata!$A$5-G8364 -> 1795.9369
A8365: 40080.833 | B8365: H | C8365: 11.9598 | D8365: 26.8474 | E8365: 4.311 | F8365: =(D8365-C8365)*6897/9807 -> 10.47005 | G8365: =metadata!$A$49-F8365 -> 9.5299503 | H8365: =metadata!$A$5-G8365 -> 1795.94
A8366: 40080.875 | B8366: H | C8366: 11.9689 | D8366: 26.852 | E8366: 4.311 | F8366: =(D8366-C8366)*6897/9807 -> 10.466885 | G8366: =metadata!$A$49-F8366 -> 9.5331151 | H8366: =metadata!$A$5-G8366 -> 1795.9369
A8367: 40080.917 | B8367: H | C8367: 11.9734 | D8367: 26.8474 | E8367: 4.311 | F8367: =(D8367-C8367)*6897/9807 -> 10.460485 | G8367: =metadata!$A$49-F8367 -> 9.5395148 | H8367: =metadata!$A$5-G8367 -> 1795.9305
A8368: 40080.958 | B8368: H | C8368: 11.9689 | D8368: 26.8474 | E8368: 4.311 | F8368: =(D8368-C8368)*6897/9807 -> 10.46365 | G8368: =metadata!$A$49-F8368 -> 9.5363501 | H8368: =metadata!$A$5-G8368 -> 1795.9336
A8369: 40081 | B8369: H | C8369: 11.9779 | D8369: 26.8429 | E8369: 4.311 | F8369: =(D8369-C8369)*6897/9807 -> 10.454156 | G8369: =metadata!$A$49-F8369 -> 9.5458443 | H8369: =metadata!$A$5-G8369 -> 1795.9242
A8370: 40081.042 | B8370: H | C8370: 11.9734 | D8370: 26.8382 | E8370: 4.311 | F8370: =(D8370-C8370)*6897/9807 -> 10.454015 | G8370: =metadata!$A$49-F8370 -> 9.5459849 | H8370: =metadata!$A$5-G8370 -> 1795.924
A8371: 40081.083 | B8371: H | C8371: 11.9824 | D8371: 26.8337 | E8371: 4.311 | F8371: =(D8371-C8371)*6897/9807 -> 10.444521 | G8371: =metadata!$A$49-F8371 -> 9.5554791 | H8371: =metadata!$A$5-G8371 -> 1795.9145
... A16355: 40413.75 | B16355: H | C16355: 12.0419 | D16355: 26.4916 | E16355: 4.311 | F16355: =(D16355-C16355)*6897/9807 -> 10.162086 | G16355: =metadata!$A$49-F16355 -> 9.8379136 | H16355: =metadata!$A$5-G16355 -> 1795.6321

Sheet metadata
A1: W1
A2: Location (UTM)
A3: Zone 11; East: 328254; North : 5504627
A4: Elevation TOC [m.a.s.l.]
A5: 1805.47
A6: Depth of well
A7: 45.72 m (150 feet)
A9: LOGGING INTERVAL 1
A11: Logger Type | B11: P, Seametrics PT2X, vented
A12: SensorSN | B12: 2510014
A13: Sensor Type | B13: PT2X
A14: Sensor Name | B14: INW Smart Sensor
B16: Pressure(psi) | C16: Temperature(degC)
A17: Sensor Range | B17: 30 psig (21m range +/- ~21mm) | C17: -40 - +125 degC
A18: Minimum | B18: -8.148 | C18: -1.3
A19: Maximum | B19: 15.415 | C19: 5.9
A20: Mean | B20: 11.002 | C20: 5.3
A21: Variance | B21: 17.8014 | C21: 0.4
A22: Std Deviation | B22: 4.2192 | C22: 0.64
A24: Start date | B24: 39290.75
A25: End date | B25: 39654.25
A26: Logging interval | B26: daily to twice daily
A29: Depth of Logger Below TOC [m]
A30: 15
A31: Pressure units [psig / psia] | B31: psi gauge / psi atmospheric
A34: LOGGING INTERVAL 2
A36: Logger Type | B36: H, Onset HOBO, non-vented
A37: Barologger | B37: Onset HOBO, non-vented
A38: Barologger location | B38: Inside W1 casing
A41: Sensor Range | B41: 0-58 psi
A43: Start date | B43: 39755.542
A44: End date | B44: 40413.75
A45: Logging interval | B45: hourly
A48: Depth of Logger Below TOC [m]
A49: 20
A51: Pressure units [psi] | B51: psi total
