{"text_format":"1","workbook":"xlsx","n_sheets":7,"sheets":["Naming","SETS","Parameters","ToDataFile","DS","Your RES ","DS (2)"],"not_rendered":{"charts":0,"images":2,"macros":1,"external_links":0,"defined_names":0,"comments":0,"pivot_tables":0},"unopened":[],"bounds":{"document_bytes":16777216,"sheet_cells":100000,"rows_first":2000,"rows_last":500,"rows_between":2000,"halvings":0,"cell_chars":16384,"cell_head_chars":4096},"cells_cut":0,"cells_raw":0,"read":"whole","date_system":"1900"}

{"sheet":"Naming","index":0,"n_rows":201,"n_cols":4,"rows_kept":201,"cut":false,"hidden":false,"merged":[[1,1,1,3],[190,2,190,3],[108,2,108,3],[113,2,113,3],[18,2,18,3],[3,2,3,3],[2,1,2,3],[146,2,146,3],[153,2,153,3],[175,2,175,3],[176,2,176,3],[103,2,103,3]]}
[]
[null,"Descriptions of SETS/Parameters/Variables used in SAND Interface from OSeMOSYS (https://osemosys.readthedocs.io/en/latest/manual/Structure%20of%20OSeMOSYS.html)"]
[null,"Important Note: NOT all the Sets, Parameters and Variables presented here are used in SAND Interface. "]
[null,"Sets","The ‘sets’ define the physical structure of a model, usually independent from the specific scenarios which will be run. They define the time domain and time split, the spatial coverage, the technologies and energy vectors to be considered, etc. For instance, when a variable is defined as a function of the set ‘YEAR’ it will be indicated as variablename[y] at it will be computed for every year listed in the set. The sets of OSeMOSYS are presented in the Table below."]
[null,"Name","Description","Index"]
[null,"YEAR","It represents the time frame of the model, it contains all the years to be considered in the study.","y"]
[null,"TECHNOLOGY","It includes any element of the energy system that changes a commodity from one form to another, uses it or supplies it. All system components are set up as a ‘technology’ in OSeMOSYS. As the model is an abstraction, the modeller is free to interpret the role of a technology at will, where relevant. It may for example represent a single real technology (such as a power plant) or can represent a heavily aggregated collection of technologies (such as the stock of several million light bulbs), or may even simply be a ‘dummy technology’, perhaps used for accounting purposes.","t"]
[null,"TIMESLICE","It represents the time split of each modelled year, therefore the time resolution of the model. Common to several energy systems modelling tools (incl. MESSAGE / MARKAL / TIMES), the annual demand is ‘sliced’ into representative fractions of the year. It is necessary to assess times of the year when demand is high separately from times when demand is low, for fuels that are expensive to store. In order to reduce the computation time, these ‘slices’ are often grouped. Thus, the annual demand may be split into aggregate seasons where demand levels are similar (such as ‘summer, winter and intermediate’). Those seasons may be subdivided into aggregate ‘day types’ (such as workdays and weekends), and the day further sub divided (such as into day and night) depending on the level of demand.","l"]
[null,"FUEL","It includes any energy vector, energy service or proxies entering or exiting technologies. These can be aggregate groups, individual flows or artificially separated, depending on the requirements of the analysis.","f"]
[null,"EMISSION","It includes any kind of emission potentially deriving from the operation of the defined technologies. Typical examples would include atmospheric emissions of greenhouse gasses, such as CO2.","e"]
[null,"MODE_OF_OPERATION","It defines the number of modes of operation that the technologies can have. If a technology can have various input or output fuels and it can choose the mix (i.e. any linear combination) of these input or output fuels, each mix can be accounted as a separate mode of operation. For example, a CHP plant may produce heat in one mode of operation and electricity in another.","m"]
[null,"REGION","It sets the regions to be modelled, e.g. different countries. For each of them, the supply-demand balances for all the energy vectors are ensured, including trades with other regions. In some occasions it might be computationally more convenient to model different countries within the same region and differentiate them simply by creating ad hoc fuels and technologies for each of them.","r"]
[null,"SEASON","It gives indication (by successive numerical values) of how many seasons (e.g. winter, intermediate, summer) are accounted for and in which order. This set is needed if storage facilities are included in the model.","ls"]
[null,"DAYTYPE","It gives indication (by successive numerical values) of how many day types (e.g. workday, weekend) are accounted for and in which order. This set is needed if storage facilities are included in the model.","ld"]
[null,"DAILYTIMEBRACKET","It gives indication (by successive numerical values) of how many parts the day is split into (e.g. night, morning, afternoon, evening) and in which order these parts are sorted. This set is needed if storage facilities are included in the model.","lh"]
[null,"STORAGE","It includes storage facilities in the model."]
[]
[]
[null,"Parameters","The parameters are the user-defined numerical inputs to the model. While usually the structure of a model, therefore the sets, remains fixed across scenarios, it is common practice to change the values of some parameters when running different scenarios and/or sensitivity analyses. As will be clear in the following, each parameter is a function of the elements in one or more sets. For instance, CapitalCost[r,t,y] indicates that the capital cost is a function of the region (r), the technology (t) and the year (y) [1] . A list and brief description of the parameters declared in the master version of OSeMOSYS is given in the Table below."]
[null,"Global parameters"]
[null,"Name","Description","Index"]
[null,"YearSplit[l,y]","Duration of a modelled time slice, expressed as a fraction of the year. The sum of each entry over one modelled year should equal 1.","y"]
[null,"DiscountRate[r]","Region specific value for the discount rate, expressed in decimals (e.g. 0.05)","t"]
[null,"DaySplit[lh,y]","Length of one DailyTimeBracket in one specific day as a fraction of the year (e.g., when distinguishing between days and night: 12h/(24h*365d)).","l"]
[null,"Conversionls[l,ls]","Binary parameter linking one TimeSlice to a certain Season. It has value 0 if the TimeSlice does not pertain to the specific season, 1 if it does.","f"]
[null,"Conversionld[ld,l]","Binary parameter linking one TimeSlice to a certain DayType. It has value 0 if the TimeSlice does not pertain to the specific DayType, 1 if it does.","e"]
[null,"Conversionlh[lh,l]","Binary parameter linking one TimeSlice to a certain DaylyTimeBracket. It has value 0 if the TimeSlice does not pertain to the specific DaylyTimeBracket, 1 if it does.","m"]
[null,"DaysInDayType[ls,ld,y]","Number of days for each day type, within one week (natural number, ranging from 1 to 7)","r"]
[null,"TradeRoute[r,rr,f,y]","Binary parameter defining the links between region r and region rr, to enable or disable trading of a specific commodity. It has value 1 when two regions are linked, 0 otherwise","ls"]
[null,"DepreciationMethod[r]","Binary parameter defining the type of depreciation to be applied. It has value 1 for sinking fund depreciation, value 2 for straight-line depreciation.","ld"]
[]
[null,"Demands"]
[null,"Name","Description"]
[null,"SpecifiedAnnualDemand[r,f,y]","Total specified demand for the year, linked to a specific ‘time of use’ during the year."]
[null,"SpecifiedDemandProfile[r,f,l,y]","Annual fraction of energy-service or commodity demand that is required in each time slice. For each year, all the defined SpecifiedDemandProfile input values should sum up to 1."]
[null,"AccumulatedAnnualDemand[r,f,y]","Accumulated Demand for a certain commodity in one specific year. It cannot be defined for a commodity if its SpecifiedAnnualDemand for the same year is already defined and vice versa."]
[]
[null,"Performance"]
[null,"Name","Description"]
[null,"CapacityToActivityUnit[r,t]","Conversion factor relating the energy that would be produced when one unit of capacity is fully used in one year."]
[null,"CapacityFactor[r,t,l,y]","Capacity available per each TimeSlice expressed as a fraction of the total installed capacity, with values ranging from 0 to 1. It gives the possibility to account for forced outages."]
[null,"AvailabilityFactor[r,t,y]","Maximum time a technology can run in the whole year, as a fraction of the year ranging from 0 to 1. It gives the possibility to account for planned outages.OperationalLife[r,t]Useful lifetime of a technology, expressed in years.ResidualCapacity[r,t,y]Remained capacity available from before the modelling period.InputActivityRatio[r,t,f,m,y]Rate of use of a commodity by a technology, as a ratio of the rate of activity.OutputActivityRatio[r,t,f,m,y]Rate of commodity output from a technology, as a ratio of the rate of activity."]
[null,"OperationalLife[r,t]","Useful lifetime of a technology, expressed in years."]
[null,"ResidualCapacity[r,t,y]","Remained capacity available from before the modelling period.InputActivityRatio[r,t,f,m,y]Rate of use of a commodity by a technology, as a ratio of the rate of activity.OutputActivityRatio[r,t,f,m,y]Rate of commodity output from a technology, as a ratio of the rate of activity."]
[null,"InputActivityRatio[r,t,f,m,y]","Rate of use of a commodity by a technology, as a ratio of the rate of activity.OutputActivityRatio[r,t,f,m,y]Rate of commodity output from a technology, as a ratio of the rate of activity."]
[null,"OutputActivityRatio[r,t,f,m,y]","Rate of commodity output from a technology, as a ratio of the rate of activity."]
[]
[null,"Technology costs"]
[null,"Name","Description"]
[null,"CapitalCost[r,t,y]","Capital investment cost of a technology, per unit of capacity."]
[null,"VariableCost[r,t,m,y]","Cost of a technology for a given mode of operation (Variable O&M cost), per unit of activity."]
[null,"FixedCost[r,t,y]","Fixed O&M cost of a technology, per unit of capacity."]
[]
[null,"Storage"]
[null,"Name","Description"]
[null,"TechnologyToStorage[r,t,s,m]","Binary parameter linking a technology to the storage facility it charges. It has value 1 if the technology and the storage facility are linked, 0 otherwise."]
[null,"TechnologyFromStorage[r,t,s,m]","Binary parameter linking a storage facility to the technology it feeds. It has value 1 if the technology and the storage facility are linked, 0 otherwise."]
[null,"StorageLevelStart[r,s]","Level of storage at the beginning of first modelled year, in units of activity."]
[null,"StorageMaxChargeRate[r,s]","Maximum charging rate for the storage, in units of activity per year."]
[null,"StorageMaxDischargeRate[r,s]","Maximum discharging rate for the storage, in units of activity per year."]
[null,"MinStorageCharge[r,s,y]","It sets a lower bound to the amount of energy stored, as a fraction of the maximum, with a number reanging between 0 and 1. The storage facility cannot be emptied below this level."]
[null,"OperationalLifeStorage[r,s]","Useful lifetime of the storage facility."]
[null,"CapitalCostStorage[r,s,y]","Binary parameter linking a technology to the storage facility it charges. It has value 0 if the technology and the storage facility are not linked, 1 if they are."]
[null,"ResidualStorageCapacity[r,s,y]","Binary parameter linking a storage facility to the technology it feeds. It has value 0 if the technology and the storage facility are not linked, 1 if they are."]
[]
[]
[null,"Capacity constraints"]
[null,"Name","Description"]
[null,"CapacityOfOneTechnologyUnit[r,t,y]","Capacity of one new unit of a technology. In case the user sets this parameter, the related technology will be installed only in batches of the specified capacity and the problem will turn into a Mixed Integer Linear Problem."]
[null,"TotalAnnualMaxCapacity[r,t,y]","Total maximum existing (residual plus cumulatively installed) capacity allowed for a technology in a specified year."]
[null,"TotalAnnualMinCapacity[r,t,y]","Total minimum existing (residual plus cumulatively installed) capacity allowed for a technology in a specified year."]
[null,"Investment constraints"]
[null,"TotalAnnualMaxCapacityInvestment[r,t,y]","Maximum capacity of a technology, expressed in power units."]
[null,"TotalAnnualMaxCapacityInvestment[r,t,y]","Maximum capacity of a technology, expressed in power units."]
[]
[null,"Activity constraints"]
[null,"Name","Description"]
[null,"TotalTechnologyAnnualActivityUpperLimit[r,t,y]","Total maximum level of activity allowed for a technology in one year."]
[null,"TotalTechnologyAnnualActivityLowerLimit[r,t,y]","Total minimum level of activity allowed for a technology in one year."]
[null,"TotalTechnologyModelPeriodActivityUpperLimit[r,t]","Total maximum level of activity allowed for a technology in the entire modelled period."]
[null,"TotalTechnologyModelPeriodActivityLowerLimit[r,t]","Total minimum level of activity allowed for a technology in the entire modelled period."]
[]
[null,"Reserve margin"]
[null,"Name","Description"]
[null,"ReserveMarginTagTechnology[r,t,y]","Binary parameter tagging the technologies that are allowed to contribute to the reserve margin. It has value 1 for the technologies allowed, 0 otherwise."]
[null,"ReserveMarginTagFuel[r,f,y]","Binary parameter tagging the fuels to which the reserve margin applies. It has value 1 if the reserve margin applies to the fuel, 0 otherwise."]
[null,"ReserveMargin[r,y]","Minimum level of the reserve margin required to be provided for all the tagged commodities, by the tagged technologies. If no reserve margin is required, the parameter will have value 1; if, for instance, 20% reserve margin is required, the parameter will have value 1.2."]
[]
[null,"RE Generation target"]
[null,"Name","Description"]
[null,"RETagTechnology[r,t,y]","Binary parameter tagging the renewable technologies that must contribute to reaching the indicated minimum renewable production target. It has value 1 for thetechnologies contributing, 0 otherwise."]
[null,"RETagFuel[r,f,y]","Binary parameter tagging the fuels to which the renewable target applies to. It has value 1 if the target applies, 0 otherwise."]
[null,"REMinProductionTarget[r,y]","Minimum ratio of all renewable commodities tagged in the RETagCommodity parameter, to be produced by the technologies tagged with the RETechnology parameter."]
[]
[null,"Emissions"]
[null,"Name","Description"]
[null,"EmissionActivityRatio[r,t,e,m,y]","Emission factor of a technology per unit of activity, per mode of operation."]
[null,"EmissionsPenalty[r,e,y]","Penalty per unit of emission."]
[null,"AnnualExogenousEmission[r,e,y]","It allows the user to account for additional annual emissions, on top of those computed endogenously by the model (e.g. emissions generated outside the region)."]
[null,"AnnualEmissionLimit[r,e,y]","Annual upper limit for a specific emission generated in the whole modelled region."]
[null,"ModelPeriodExogenousEmission[r,e]","It allows the user to account for additional emissions over the entire modelled period, on top of those computed endogenously by the model (e.g. generated outside the region)."]
[null,"ModelPeriodEmissionLimit[r,e]","Annual upper limit for a specific emission generated in the whole modelled region, over the entire modelled period."]
[]
[null,"Variables","The variables are the outputs computed by the code. As much as the parameters, also the variables are functions of the elements in one or more sets. In the following Table, a list and brief description of all the variables computed by the code of OSeMOSYS (in its full version) is given. As will be explained next in this manual, a shortened version of OSeMOSYS has been created, to improve the computational capability at the expenses of the readability of the code. In such version, only some of the variables here listed are computed. When reasonable, the domain of several variables has been constrained to be positive, in order to decrease the size of the solution space and therefore the computational effort."]
[]
[]
[null,"Demands"]
[null,"Name","Description"]
[null,"RateOfDemand[r,l,f,y]>=0","Intermediate variable. It represents the energy that would be demanded in one time slice l if the latter lasted the whole year. It is a function of the parameters SpecifiedAnnualDemand and SpecifiedDemandProfile. | Energy (per year)"]
[null,"Demand[r,l,f,y]>=0","Demand for one fuel in one time slice.","Energy"]
[]
[null,"Storage"]
[null,"Name","Description"]
[null,"RateOfStorageCharge[r,s,ls,ld,lh,y]","Intermediate variable. It represents the commodity that would be charged to the storage facility s in one time slice if the latter lasted the whole year. It is a function of the RateOfActivity and the parameter TechnologyToStorage. | Energy (per year)"]
[null,"RateOfStorageDischarge[r,s,ls,ld,lh,y]","Intermediate variable. It represents the commodity that would be discharged from storage facility s in one time slice if the latter lasted the whole year. It is a function of the RateOfActivity and the parameter TechnologyFromStorage.","Energy (per year)"]
[null,"NetChargeWithinYear[r,s,ls,ld,lh,y]","Net quantity of commodity charged to storage facility s in year y. It is a function of the RateOfStorageCharge and the RateOfStorageDischarge and it can be negative.","Energy"]
[null,"NetChargeWithinDay[r,s,ls,ld,lh,y]","Net quantity of commodity charged to storage facility s in daytype ld. It is a function of the RateOfStorageCharge and the RateOfStorageDischarge and can be negative.","Energy"]
[null,"StorageLevelYearStart[r,s,y]>=0","Level of stored commodity in storage facility s in the first time step of year y.","Energy"]
[null,"StorageLevelYearFinish[r,s,y]>=0","Level of stored commodity in storage facility s in the last time step of year y.","Energy"]
[null,"StorageLevelSeasonStart[r,s,ls,y]>=0","Level of stored commodity in storage facility s in the first time step of season ls.","Energy"]
[null,"StorageLevelDayTypeStart[r,s,ls,ld,y]>=0","Level of stored commodity in storage facility s in the first time step of daytype ld.","Energy"]
[null,"StorageLevelDayTypeFinish[r,s,ls,ld,y]>=0","Level of stored commodity in storage facility s in the last time step of daytype ld.","Energy"]
[null,"StorageLowerLimit[r,s,y]>=0","Minimum allowed level of stored commodity in storage facility s, as a function of the storage capacity and the user-defined MinStorageCharge ratio.","Energy"]
[null,"StorageUpperLimit[r,s,y]>=0","Maximum allowed level of stored commodity in storage facility s. It corresponds to the total existing capacity of storage facility s (summing newly installed and pre-existing capacities).","Energy"]
[null,"AccumulatedNewStorageCapacity[r,s,y]>=0","Cumulative capacity of newly installed storage from the beginning of the time domain to year y.","Energy"]
[null,"NewStorageCapacity[r,s,y]>=0","Capacity of newly installed storage in year y.","Energy"]
[null,"CapitalInvestmentStorage[r,s,y]>=0","Undiscounted investment in new capacity for storage facility s. Derived from the NewStorageCapacity and the parameter CapitalCostStorage.","Monetary units"]
[null,"DiscountedCapitalInvestmentStorage[r,s,y]>=0","Investment in new capacity for storage facility s, discounted through the parameter DiscountRate.","Monetary units"]
[null,"SalvageValueStorage[r,s,y]>=0","Salvage value of storage facility s in year y, as a function of the parameters OperationalLifeStorage and DepreciationMethod.","Monetary units"]
[null,"DiscountedSalvageValueStorage[r,s,y]>=0","Salvage value of storage facility s, discounted through the parameter DiscountRate.","Monetary units"]
[null,"TotalDiscountedStorageCost[r,s,y]>=0","Difference between the discounted capital investment in new storage facilities and the salvage value in year y.","Monetary units"]
[null,"ProductionByTechnologyAnnual[r,t,f,y] >=0","Annual production of fuel f by technology t.","Energy"]
[null,"RateOfProduction[r,l,f,y] >=0","Sum of the RateOfProductionByTechnology over all the technologies.","Energy (per year)"]
[null,"Production[r,l,f,y] >=0","Total production of fuel f in time slice l. It is the sum of the ProductionByTechnology over all technologies.","Energy"]
[null,"RateOfUseByTechnologyByMode[r,l,t,m,f,y] >=0","Intermediate variable. It represents the quantity of fuel f that technology t would use in one mode of operation and in time slice l, if the latter lasted the whole year. It is the function of the variable RateOfActivity and the parameter InputActivityRatio.","Energy (per year)"]
[null,"RateOfUseByTechnology[r,l,t,f,y] >=0","Sum of the RateOfUseByTechnologyByMode over the modes of operation.","Energy (per year)"]
[null,"UseByTechnologyAnnual[r,t,f,y] >=0","Annual use of fuel f by technology t.","Energy"]
[null,"UseByTechnology[r,l,t,f,y] >=0","Use of fuel f by technology t in time slice l.","Energy"]
[null,"Use[r,l,f,y] >=0","Total use of fuel f in time slice l. It is the sum of the UseByTechnology over all technologies.","Energy"]
[null,"Trade[r,rr,l,f,y]","Quantity of fuel f traded between region r and rr in time slice l.","Energy"]
[null,"TradeAnnual[r,rr,f,y]","Annual quantity of fuel f traded between region r and rr. It is the sum of the variable Trade over all the time slices.","Energy"]
[null,"ProductionAnnual[r,f,y] >=0","Total annual production of fuel f. It is the sum of the variable Production over all technologies.","Energy"]
[null,"UseAnnual[r,f,y] >=0","Total annual use of fuel f. It is the sum of the variable Use over all technologies.","Energy"]
[]
[null,"Capacity variables"]
[null,"Name","Description"]
[null,"NumberOfNewTechnologyUnits[r,t,y]>=0, integer","Number of newly installed units of technology t in year y, as a function of the parameter CapacityOfOneTechnologyUnit. | No unit"]
[null,"NewCapacity[r,t,y]>=0","Newly installed capacity of technology t in year y.","Power"]
[null,"AccumulatedNewCapacity[r,t,y]>=0","Cumulative newly installed capacity of technology t from the beginning of the time domain to year y.","Power"]
[null,"TotalCapacityAnnual[r,t,y]>=0","Total existing capacity of technology t in year y (sum of cumulative newly installed and pre-existing capacity).","Power"]
[]
[null,"Activity variables"]
[null,"Name","Description"]
[null,"RateOfActivity[r,l,t,m,y] >=0","Intermediate variable. It represents the activity of technology t in one mode of operation and in time slice l, if the latter lasted the whole year. | Energy (per year)"]
[null,"RateOfTotalActivity[r,t,l,y] >=0","Sum of the RateOfActivity of a technology over the modes of operation.","Energy (per year)"]
[null,"TotalTechnologyAnnualActivity[r,t,y] >=0","Total annual activity of technology t.","Energy"]
[null,"TotalAnnualTechnologyActivityByMode[r,t,m,y] >=0","Annual activity of technology t in mode of operation m.","Energy"]
[null,"TotalTechnologyModelPeriodActivity[r,t]","Sum of the TotalTechnologyAnnualActivity over the years of the modelled period.","Energy"]
[null,"RateOfProductionByTechnologyByMode[r,l,t,m,f,y] >=0","Intermediate variable. It represents the quantity of fuel f that technology t would produce in one mode of operation and in time slice l, if the latter lasted the whole year. It is a function of the variable RateOfActivity and the parameter OutputActivityRatio.","Energy (per year)"]
[null,"RateOfProductionByTechnology[r,l,t,f,y] >=0","Sum of the RateOfProductionByTechnologyByMode over the modes of operation.","Energy (per year)"]
[null,"ProductionByTechnology[r,l,t,f,y] >=0","Production of fuel f by technology t in time slice l.","Energy"]
[null,"ProductionByTechnologyAnnual[r,t,f,y] >=0","Annual production of fuel f by technology t.","Energy"]
[null,"RateOfProduction[r,l,f,y] >=0","Sum of the RateOfProductionByTechnology over all the technologies.","Energy (per year)"]
[null,"Production[r,l,f,y] >=0","Total production of fuel f in time slice l. It is the sum of the ProductionByTechnology over all technologies.","Energy"]
[null,"RateOfUseByTechnologyByMode[r,l,t,m,f,y] >=0","Intermediate variable. It represents the quantity of fuel f that technology t would use in one mode of operation and in time slice l, if the latter lasted the whole year. It is the function of the variable RateOfActivity and the parameter InputActivityRatio.","Energy (per year)"]
[null,"RateOfUseByTechnology[r,l,t,f,y] >=0","Sum of the RateOfUseByTechnologyByMode over the modes of operation.","Energy (per year)"]
[null,"UseByTechnologyAnnual[r,t,f,y] >=0","Annual use of fuel f by technology t.","Energy"]
[null,"UseByTechnology[r,l,t,f,y] >=0","Use of fuel f by technology t in time slice l.","Energy"]
[null,"Use[r,l,f,y] >=0","Total use of fuel f in time slice l. It is the sum of the UseByTechnology over all technologies.","Energy"]
[null,"Trade[r,rr,l,f,y]","Quantity of fuel f traded between region r and rr in time slice l.","Energy"]
[null,"TradeAnnual[r,rr,f,y]","Annual quantity of fuel f traded between region r and rr. It is the sum of the variable Trade over all the time slices.","Energy"]
[null,"ProductionAnnual[r,f,y] >=0","Total annual production of fuel f. It is the sum of the variable Production over all technologies.","Energy"]
[null,"UseAnnual[r,f,y] >=0","Total annual use of fuel f. It is the sum of the variable Use over all technologies.","Energy"]
[null,null,null,"Monetary units"]
[null,"Costing variables"]
[null,"Name","Description"]
[null,"CapitalInvestment[r,t,y] >=0","Undiscounted investment in new capacity of technology t. It is a function of the NewCapacity and the parameter CapitalCost. | Monetary units"]
[null,"DiscountedCapitalInvestment[r,t,y] >=0","Investment in new capacity of technology t, discounted through the parameter DiscountRate.","Monetary units"]
[null,"SalvageValue[r,t,y] >=0","Salvage value of technology t in year y, as a function of the parameters OperationalLife and DepreciationMethod.","Monetary units"]
[null,"DiscountedSalvageValue[r,t,y] >=0","Salvage value of technology t, discounted through the parameter DiscountRate.","Monetary units"]
[null,"OperatingCost[r,t,y] >=0","Undiscounted sum of the annual variable and fixed operating costs of technology t.","Monetary units"]
[null,"DiscountedOperatingCost[r,t,y] >=0","Annual OperatingCost of technology t, discounted through the parameter DiscountRate.","Monetary units"]
[null,"AnnualVariableOperatingCost[r,t,y] >=0","Annual variable operating cost of technology t. Derived from the TotalAnnualTechnologyActivityByMode and the parameter VariableCost.","Monetary units"]
[null,"AnnualFixedOperatingCost[r,t,y] >=0","Annual fixed operating cost of technology t. Derived from the TotalCapacityAnnual and the parameter FixedCost.","Monetary units"]
[null,"TotalDiscountedCostByTechnology[r,t,y] >=0","Difference between the sum of discounted operating cost / capital cost / emission penalties and the salvage value.","Monetary units"]
[null,"TotalDiscountedCost[r,y] >=0","Sum of the TotalDiscountedCostByTechnology over all the technologies.","Monetary units"]
[null,"ModelPeriodCostByRegion[r] >=0","Sum of the TotalDiscountedCost over all modelled years.","Monetary units"]
[]
[null,"Reserve margin"]
[null,"Name","Description","Units"]
[null,"TotalCapacityInReserveMargin[r,y] >=0","Total available capacity of the technologies required to provide reserve margin. It is derived from the TotalCapacityAnnual and the parameter ReserveMarginTagTechnology. | Energy"]
[null,"DemandNeedingReserveMargin[r,l,y] >=0","Quantity of fuel produced that is assigned to a target of reserve margin. Derived from the RateOfProduction and the parameter ReserveMarginTagFuel.","Energy (per year)"]
[null,"TotalREProductionAnnual[r,y]","Annual production by all technologies tagged as renewable in the model. Derived from the ProductionByTechnologyAnnual and the parameter RETagTechnology.","Energy"]
[null,"RETotalProductionOfTargetFuelAnnual[r,y]","Annual production of fuels tagged as renewable in the model. Derived from the RateOfProduction and the parameter RETagFuel.","Energy"]
[null,"AnnualTechnologyEmissionByMode[r,t,e,m,y] >=0","Annual emission of agent e by technology t in mode of operation m. Derived from the RateOfActivity and the parameter EmissionActivityRatio.","Quantity of emission"]
[null,"AnnualTechnologyEmission[r,t,e,y] >=0","Sum of the AnnualTechnologyEmissionByMode over the modes of operation.","Quantity of emission"]
[null,"AnnualTechnologyEmissionPenaltyByEmission[r,t,e,y] >=0","Undiscounted annual cost of emission e by technology t. It is a function of the AnnualTechnologyEmission and the parameter EmissionPenalty.","Monetary units"]
[null,"AnnualTechnologyEmissionsPenalty[r,t,y] >=0","Total undiscounted annual cost of all emissions generated by technology t. Sum of the AnnualTechnologyEmissionPenaltyByEmission over all the emitted agents.","Monetary units"]
[null,"DiscountedTechnologyEmissionsPenalty[r,t,y] >=0","Annual cost of emissions by technology t, discounted through the DiscountRate.","Monetary units"]
[null,"AnnualEmissions[r,e,y] >=0","Sum of the AnnualTechnologyEmission over all technologies.","Quantity of emission"]
[null,"ModelPeriodEmissions[r,e] >=0","Total system emissions of agent e in the model period, accounting for both the emissions by technologies and the user defined ModelPeriodExogenousEmission.","Quantity of emission"]

{"sheet":"SETS","index":1,"n_rows":201,"n_cols":9,"rows_kept":201,"cut":false,"hidden":false,"merged":[[10,7,10,8],[0,1,0,2],[0,4,0,5],[0,7,0,8],[7,7,7,8],[9,7,9,8]]}
[null,"Technologies",null,null,"Commodities",null,null,"Emissions"]
[null,"Code","Description",null,"Code","Description",null,"Code","Description"]
[null,"IMPOIL","Crude Oil Imports",null,"OIL","Crude Oil",null,"EMIC02","Emission factor for CO2"]
[null,"MINOIL","Crude Oil Extraction",null,"BIO","Biomass",null,"EMICH4","Emission factor for  methane"]
[null,"IMPBIO","Biomass Imports",null,"COA","Coal",null,"EMIFGA","Emission factor for Fluorinated gases"]
[null,"MINBIO","Biomass Extraction",null,"LFO","Light Fuel Oil ",null,"EMIN2O","Emission factor for Nitrous Oxide"]
[null,"IMPCOA","Coal Imports",null,"NGS","Natural Gas",null,"EMIREN","Emission factor for RET targets "]
[null,"MINCOA","Coal Extraction",null,"HFO","Heavy Fuel Oil",null,"Region"]
[null,"IMPLFO","Light Fuel Oil Imports",null,"SOL","Solar ",null,"RE1","Region 1"]
[null,"IMPHFO","Heavy Fuel Oil Imports",null,"HYD","Hydro",null,"ResultsPath \"C:\\..\\res\\csv\" (change it before running)"]
[null,"UPSREF001","Crude Oil Refinery Option 1",null,"WND","Wind",null,":=\"C:\\Users\\Carla\\Desktop\\Runs\\2020\\UN\\CLEWSO\\2B\\res\\csv\";"]
[null,"UPSREF002","Crude Oil Refinery Option 2",null,"URN","Uranium"]
[null,"IMPNGS","Natural Gas Imports",null,"GEO","Geothermal"]
[null,"MINNGS","Natural Gas Extraction",null,"ELC001","Electricity from power plants"]
[null,"MINSOL","Solar Potential",null,"ELC002","Electricity after transmission"]
[null,"MINWND","Wind Potential",null,"ELC003","Electricity after distribution"]
[null,"IMPURN","Uranium Imports",null,"ELCEV","Electricity for EVs"]
[null,"MINURN","Uranium Extraction",null,"TRAMCY","Motorcycle Transport Demand"]
[null,"MINGEO","Geothermal Potential",null,"TRACAR","Car Transport Demand"]
[null,"MINHYD","Hydro Potential",null,"TRABUS","Bus + Rail Transport Demand"]
[null,"PWRBIO001","Biomass Power Plant",null,"INDELC","Industrial Electricity Demand"]
[null,"PWRCOA001","Coal Power Plant",null,"INDHEH","Industry High Heat Demand"]
[null,"TEC021","No longer used",null,"INDHEL","Industry Low Heat Demand"]
[null,"PWRGEO","Geothermal Power Plant",null,"RESELC","Residential Electricity Demand"]
[null,"PWROHC001","Light Fuel Oil Power Plant",null,"RESCKN","Residential Cooking Demand"]
[null,"PWROHC002","Oil Fired Gas Turbine (SCGT)",null,"RESHEL","Residential Low Heat Demand"]
[null,"PWRNGS001","Gas Power Plant (CCGT)",null,"COMELC","Commercial Electricity Demand"]
[null,"PWRNGS002","Gas Power Plant (SCGT)",null,"COMHEL","Commercial Low Heat Demand"]
[null,"PWRSOL001","Solar PV (Utility)",null,"COM027","Additional Fuel"]
[null,"TEC027","No longer used",null,"COM028","Additional Fuel"]
[null,"PWRCSP002","CSP with Storage",null,"COM029","Additional Fuel"]
[null,"PWRHYD001","Large Hydropower Plant (Dam) (>100MW)",null,"COM030","Additional Fuel"]
[null,"PWRHYD002","Medium Hydropower Plant (10-100MW)",null,"COM031","Additional Fuel"]
[null,"PWRHYD003","Small Hydropower Plant (<10MW)",null,"COM032","Additional Fuel"]
[null,"PWRWND001","Onshore Wind",null,"COM033","Additional Fuel"]
[null,"PWRWND002","Offshore Wind",null,"COM034","Additional Fuel"]
[null,"PWRNUC","Nuclear Power Plant",null,"COM035","Additional Fuel"]
[null,"PWRSOL001S","Utility-scale PV with 2 hour storage",null,"COM036","Additional Fuel"]
[null,"PWRWND001S","Onshore Wind power plant with storage",null,"COM037","Additional Fuel"]
[null,"PWRTRNIMP","Electricity Imports",null,"COM038","Additional Fuel"]
[null,"BACKSTOP001","Backstop Technology for ELC001",null,"COM039","Additional Fuel"]
[null,"PWRTRN","Electricity Transmission",null,"COM040","Additional Fuel"]
[null,"PWRDIST","Electricity Distribution",null,"COM041","Additional Fuel"]
[null,"PWROHC003","Light Fuel Oil Standalone Generator (1kW)",null,"COM042","Additional Fuel"]
[null,"PWRSOL002","Solar PV (Distributed with Storage)",null,"COM043","Additional Fuel"]
[null,"PWRHYD004","Off-grid Hydropower",null,"COM044","Additional Fuel"]
[null,"PWRTRNEXP","Electricity Exports",null,"COM045","Additional Fuel"]
[null,"BACKSTOP002"," Backstop for ELC003",null,"COM046","Additional Fuel"]
[null,"DEMTRAEVC","EV Charger",null,"COM047","Additional Fuel"]
[null,"DEMTRAMCYELC","Electric Motorcycle",null,"COM048","Additional Fuel"]
[null,"DEMTRACARELC","Electric Car",null,"COM049","Additional Fuel"]
[null,"DEMTRABUSELC","Electric Bus + Rail",null,"COM050","Additional Fuel"]
[null,"DEMTRAMCYGSL","Gasoline Motorcycle"]
[null,"DEMTRACARGSL","Gasoline Car"]
[null,"DEMTRABUSGSL","Gasoline Bus + Rail"]
[null,"DEMINDELC","Industry Standard Efficiency Appliances"]
[null,"INDENEFFGD","Industry Good Efficiency"]
[null,"INDENEFFDP","Industry Deep Efficiency"]
[null,"DEMINDHEEH","Industry Electric Heating High"]
[null,"DEMINDHEEL","Industry Electric Heating Low"]
[null,"DEMINDHENGS","Industry Natural Gas Heating"]
[null,"DEMINDHEOIL","Industry Oil Heating"]
[null,"DEMINDHEBIO","Industry Biomass Heating "]
[null,"DEMRESELC","Residential Standard Efficiency Appliances"]
[null,"RESENEFFGD","Residential Good Efficiency"]
[null,"RESENEFFDP","Residential Deep Efficiency"]
[null,"DEMRESCKNELC","Residential Electric Stove"]
[null,"DEMRESCKNOIL","Residential LPG/Kerosene Stove"]
[null,"DEMRESCKNBIO","Residential Biomass Stove"]
[null,"DEMRESHEBIO","Residential Biomass Heating"]
[null,"DEMRESHEOIL","Residential Oil Heating"]
[null,"DEMRESHEEL","Residential Electric Heating Low"]
[null,"DEMCOMELC","Commercial Standard Efficiency Appliances"]
[null,"COMENEFFGD","Commercial Good Efficiency"]
[null,"COMENEFFDP","Commercial Deep Efficiency"]
[null,"DEMCOMHEOIL","Commercial Oil Heating"]
[null,"DEMCOMHEBIO","Commercial Biomass Heating "]
[null,"DEMCOMHEEL","Commercial Electric Heating Low"]
[null,"BSTOPMCY","Backstop for TRACMCY"]
[null,"BSTOPCAR","Backstop for TRACAR"]
[null,"BSTOPBUS","Backstop for TRABUS"]
[null,"BSTOPINDELC","Backstop for INDELC"]
[null,"BSTOPINHEH","Backstop for INDHEH"]
[null,"BSTOPINDHEL","Backstop for INDHEL"]
[null,"BSTOPRESELC","Backstop for RESELC"]
[null,"BSTOPRESCKN","Backstop for RESCKN"]
[null,"BSTOPRESHEL","Backstop for RESHEL"]
[null,"BSTOPCOMELC","Backstop for COMELC"]
[null,"BSTOPCOMHEL","Backstop for COMHEL"]
[null,"DEMINDHECOA","Industry Coal Heating"]
[null,"TEC088","Additional Technology"]
[null,"TEC089","Additional Technology"]
[null,"TEC090","Additional Technology"]
[null,"TEC091","Additional Technology"]
[null,"TEC092","Additional Technology"]
[null,"TEC093","Additional Technology"]
[null,"TEC094","Additional Technology"]
[null,"TEC095","Additional Technology"]
[null,"TEC096","Additional Technology"]
[null,"TEC097","Additional Technology"]
[null,"TEC098","Additional Technology"]
[null,"TEC099","Additional Technology"]
[null,"TEC100","Additional Technology"]
[null,"TEC101","Additional Technology"]
[null,"TEC102","Additional Technology"]
[null,"TEC103","Additional Technology"]
[null,"TEC104","Additional Technology"]
[null,"TEC105","Additional Technology"]
[null,"TEC106","Additional Technology"]
[null,"TEC107","Additional Technology"]
[null,"TEC108","Additional Technology"]
[null,"TEC109","Additional Technology"]
[null,"TEC110","Additional Technology"]
[null,"TEC111","Additional Technology"]
[null,"TEC112","Additional Technology"]
[null,"TEC113","Additional Technology"]
[null,"TEC114","Additional Technology"]
[null,"TEC115","Additional Technology"]
[null,"TEC116","Additional Technology"]
[null,"TEC117","Additional Technology"]
[null,"TEC118","Additional Technology"]
[null,"TEC119","Additional Technology"]
[null,"TEC120","Additional Technology"]
[null,"TEC121","Additional Technology"]
[null,"TEC122","Additional Technology"]
[null,"TEC123","Additional Technology"]
[null,"TEC124","Additional Technology"]
[null,"TEC125","Additional Technology"]
[null,"TEC126","Additional Technology"]
[null,"TEC127","Additional Technology"]
[null,"TEC128","Additional Technology"]
[null,"TEC129","Additional Technology"]
[null,"TEC130","Additional Technology"]
[null,"TEC131","Additional Technology"]
[null,"TEC132","Additional Technology"]
[null,"TEC133","Additional Technology"]
[null,"TEC134","Additional Technology"]
[null,"TEC135","Additional Technology"]
[null,"TEC136","Additional Technology"]
[null,"TEC137","Additional Technology"]
[null,"TEC138","Additional Technology"]
[null,"TEC139","Additional Technology"]
[null,"TEC140","Additional Technology"]
[null,"TEC141","Additional Technology"]
[null,"TEC142","Additional Technology"]
[null,"TEC143","Additional Technology"]
[null,"TEC144","Additional Technology"]
[null,"TEC145","Additional Technology"]
[null,"TEC146","Additional Technology"]
[null,"TEC147","Additional Technology"]
[null,"TEC148","Additional Technology"]
[null,"TEC149","Additional Technology"]
[null,"TEC150","Additional Technology"]
[null,"TEC151","Additional Technology"]
[null,"TEC152","Additional Technology"]
[null,"TEC153","Additional Technology"]
[null,"TEC154","Additional Technology"]
[null,"TEC155","Additional Technology"]
[null,"TEC156","Additional Technology"]
[null,"TEC157","Additional Technology"]
[null,"TEC158","Additional Technology"]
[null,"TEC159","Additional Technology"]
[null,"TEC160","Additional Technology"]
[null,"TEC161","Additional Technology"]
[null,"TEC162","Additional Technology"]
[null,"TEC163","Additional Technology"]
[null,"TEC164","Additional Technology"]
[null,"TEC165","Additional Technology"]
[null,"TEC166","Additional Technology"]
[null,"TEC167","Additional Technology"]
[null,"TEC168","Additional Technology"]
[null,"TEC169","Additional Technology"]
[null,"TEC170","Additional Technology"]
[null,"TEC171","Additional Technology"]
[null,"TEC172","Additional Technology"]
[null,"TEC173","Additional Technology"]
[null,"TEC174","Additional Technology"]
[null,"TEC175","Additional Technology"]
[null,"TEC176","Additional Technology"]
[null,"TEC177","Additional Technology"]
[null,"TEC178","Additional Technology"]
[null,"TEC179","Additional Technology"]
[null,"TEC180","Additional Technology"]
[null,"TEC181","Additional Technology"]
[null,"TEC182","Additional Technology"]
[null,"TEC183","Additional Technology"]
[null,"TEC184","Additional Technology"]
[null,"TEC185","Additional Technology"]
[null,"TEC186","Additional Technology"]
[null,"TEC187","Additional Technology"]
[null,"TEC188","Additional Technology"]
[null,"TEC189","Additional Technology"]
[null,"TEC190","Additional Technology"]
[null,"TEC191","Additional Technology"]
[null,"TEC192","Additional Technology"]
[null,"TEC193","Additional Technology"]
[null,"TEC194","Additional Technology"]
[null,"TEC195","Additional Technology"]
[null,"TEC196","Additional Technology"]
[null,"TEC197","Additional Technology"]
[null,"TEC198","Additional Technology"]

{"sheet":"Parameters","index":2,"n_rows":48757,"n_cols":66,"rows_kept":1125,"cut":true,"hidden":false,"merged":[],"bounds":{"rows_first":500,"rows_last":125,"rows_between":500,"halvings":2}}
["Parameter","REGION","TECHNOLOGY","EMISSION","MODE_OF_OPERATION","FUEL","TIMESLICE","STORAGE","REGION2","Time indipendent variables","2015","2016","2017","2018","2019","2020","2021","2022","2023","2024","2025","2026","2027","2028","2029","2030","2031","2032","2033","2034","2035","2036","2037","2038","2039","2040","2041","2042","2043","2044","2045","2046","2047","2048","2049","2050","2051","2052","2053","2054","2055","2056","2057","2058","2059","2060","2061","2062","2063","2064","2065","2066","2067","2068","2069","2070"]
["AccumulatedAnnualDemand","RE1",null,null,null,"OIL",null,null,null,null,0,0,0,0,0,0,0,0,0,0,0,0,0,0,0,0,0,0,0,0,0,0,0,0,0,0,0,0,0,0,0,0,0,0,0,0,0,0,0,0,0,0,0,0,0,0,0,0,0,0,0,0,0,0,0,0]
["AccumulatedAnnualDemand","RE1",null,null,null,"BIO",null,null,null,null,0,0,0,0,0,0,0,0,0,0,0,0,0,0,0,0,0,0,0,0,0,0,0,0,0,0,0,0,0,0,0,0,0,0,0,0,0,0,0,0,0,0,0,0,0,0,0,0,0,0,0,0,0,0,0,0]
["AccumulatedAnnualDemand","RE1",null,null,null,"COA",null,null,null,null,0,0,0,0,0,0,0,0,0,0,0,0,0,0,0,0,0,0,0,0,0,0,0,0,0,0,0,0,0,0,0,0,0,0,0,0,0,0,0,0,0,0,0,0,0,0,0,0,0,0,0,0,0,0,0,0]
["AccumulatedAnnualDemand","RE1",null,null,null,"LFO",null,null,null,null,0,0,0,0,0,0,0,0,0,0,0,0,0,0,0,0,0,0,0,0,0,0,0,0,0,0,0,0,0,0,0,0,0,0,0,0,0,0,0,0,0,0,0,0,0,0,0,0,0,0,0,0,0,0,0,0]
["AccumulatedAnnualDemand","RE1",null,null,null,"NGS",null,null,null,null,0,0,0,0,0,0,0,0,0,0,0,0,0,0,0,0,0,0,0,0,0,0,0,0,0,0,0,0,0,0,0,0,0,0,0,0,0,0,0,0,0,0,0,0,0,0,0,0,0,0,0,0,0,0,0,0]
["AccumulatedAnnualDemand","RE1",null,null,null,"HFO",null,null,null,null,0,0,0,0,0,0,0,0,0,0,0,0,0,0,0,0,0,0,0,0,0,0,0,0,0,0,0,0,0,0,0,0,0,0,0,0,0,0,0,0,0,0,0,0,0,0,0,0,0,0,0,0,0,0,0,0]
["AccumulatedAnnualDemand","RE1",null,null,null,"SOL",null,null,null,null,0,0,0,0,0,0,0,0,0,0,0,0,0,0,0,0,0,0,0,0,0,0,0,0,0,0,0,0,0,0,0,0,0,0,0,0,0,0,0,0,0,0,0,0,0,0,0,0,0,0,0,0,0,0,0,0]
["AccumulatedAnnualDemand","RE1",null,null,null,"HYD",null,null,null,null,0,0,0,0,0,0,0,0,0,0,0,0,0,0,0,0,0,0,0,0,0,0,0,0,0,0,0,0,0,0,0,0,0,0,0,0,0,0,0,0,0,0,0,0,0,0,0,0,0,0,0,0,0,0,0,0]
["AccumulatedAnnualDemand","RE1",null,null,null,"WND",null,null,null,null,0,0,0,0,0,0,0,0,0,0,0,0,0,0,0,0,0,0,0,0,0,0,0,0,0,0,0,0,0,0,0,0,0,0,0,0,0,0,0,0,0,0,0,0,0,0,0,0,0,0,0,0,0,0,0,0]
["AccumulatedAnnualDemand","RE1",null,null,null,"URN",null,null,null,null,0,0,0,0,0,0,0,0,0,0,0,0,0,0,0,0,0,0,0,0,0,0,0,0,0,0,0,0,0,0,0,0,0,0,0,0,0,0,0,0,0,0,0,0,0,0,0,0,0,0,0,0,0,0,0,0]
["AccumulatedAnnualDemand","RE1",null,null,null,"GEO",null,null,null,null,0,0,0,0,0,0,0,0,0,0,0,0,0,0,0,0,0,0,0,0,0,0,0,0,0,0,0,0,0,0,0,0,0,0,0,0,0,0,0,0,0,0,0,0,0,0,0,0,0,0,0,0,0,0,0,0]
["AccumulatedAnnualDemand","RE1",null,null,null,"ELC001",null,null,null,null,0,0,0,0,0,0,0,0,0,0,0,0,0,0,0,0,0,0,0,0,0,0,0,0,0,0,0,0,0,0,0,0,0,0,0,0,0,0,0,0,0,0,0,0,0,0,0,0,0,0,0,0,0,0,0,0]
["AccumulatedAnnualDemand","RE1",null,null,null,"ELC002",null,null,null,null,0,0,0,0,0,0,0,0,0,0,0,0,0,0,0,0,0,0,0,0,0,0,0,0,0,0,0,0,0,0,0,0,0,0,0,0,0,0,0,0,0,0,0,0,0,0,0,0,0,0,0,0,0,0,0,0]
["AccumulatedAnnualDemand","RE1",null,null,null,"ELC003",null,null,null,null,0,0,0,0,0,0,0,0,0,0,0,0,0,0,0,0,0,0,0,0,0,0,0,0,0,0,0,0,0,0,0,0,0,0,0,0,0,0,0,0,0,0,0,0,0,0,0,0,0,0,0,0,0,0,0,0]
["AccumulatedAnnualDemand","RE1",null,null,null,"ELCEV",null,null,null,null,0,0,0,0,0,0,0,0,0,0,0,0,0,0,0,0,0,0,0,0,0,0,0,0,0,0,0,0,0,0,0,0,0,0,0,0,0,0,0,0,0,0,0,0,0,0,0,0,0,0,0,0,0,0,0,0]
["AccumulatedAnnualDemand","RE1",null,null,null,"TRAMCY",null,null,null,null,13.655459470521283,14.029935295737012,14.352346117495996,14.946388405181716,16.140049495360255,16.521986680171917,16.944393708770637,17.406122632125236,17.823856196959831,18.285634159954807,18.747412122949779,19.27143591846237,19.720243359915397,20.182021322910373,20.599754887744965,21.501124494874318,22.198259738065886,22.615993302900492,23.077771265895461,23.495504830730056,24.969205765166468,25.8219065500117,26.252610636388244,26.701418077841272,27.132122164217819,29.307221475479892,29.787151833191725,30.217855919568269,30.679633882563248,31.097367447397836,31.719335376170218,32.34960036272043,33.002642168111244,33.637629658065954,34.254924123074211,34.920936450006963,35.538230915015227,36.173218404969937,36.826260210360743,37.45652519691096,38.078493125683337,38.70880715187392,39.361848957264733,39.996787407579063,40.614130912227701,41.280143239160466,41.902111167932844,42.532376154483046,43.154393122895812,43.815731986064442,44.437699914836827,45.059667843609212,45.72105574641823,46.343023675190608,46.973288661740824,47.626379506772004]
["AccumulatedAnnualDemand","RE1",null,null,null,"TRACAR",null,null,null,null,29.359237861620755,30.164360885834572,30.857544152616391,32.134735071140689,34.70110641502454,35.522271362369622,36.430446473856868,37.423163659069253,38.321290823463634,39.314113443902826,40.306936064342018,41.433587224694094,42.398523223818103,43.391345844257295,44.289473008651669,46.227417663979786,47.726258436841654,48.62438560123605,49.617208221675241,50.515335386069623,53.683792395107901,55.517099082525164,56.443112868234721,57.40804886735873,58.334062653068294,63.010526172281757,64.042376441362208,64.968390227071765,65.961212847510978,66.859340011905346,68.196571058765969,69.55164077984891,70.95568066143916,72.320903764841788,73.648086864609553,75.080013367514979,76.407196467282731,77.772419570685372,79.176459452275594,80.53152917335855,81.868760220219173,83.223935376528914,84.627975258119179,85.993092926294992,87.320381461289557,88.752307964194998,90.089539011055621,91.444608732138548,92.781945214225985,94.203823770038539,95.541054816899177,96.8782858637598,98.300269854799183,99.637500901659806,100.99257062274276,102.3967159395598]
["AccumulatedAnnualDemand","RE1",null,null,null,"TRABUS",null,null,null,null,31.578250025580463,32.44422537139183,33.189800396709487,34.563523186982714,37.32386445802058,38.207094197897561,39.183910451532093,40.251658586789603,41.217667455469602,42.285528994895479,43.353390534321356,44.56519556144422,45.603062769804346,46.670924309230223,47.636933177910223,49.721350394396858,51.333475644277357,52.299484512957378,53.367346052383247,54.333354921063254,57.741288331947452,59.713158896902051,60.709162096647816,61.747029305007928,62.743032504753693,67.772949662047239,68.882788614255858,69.878791814001616,70.946653353427507,71.912662222107485,73.350963057393628,74.808450838790989,76.318610013757237,77.787018584277504,79.214512034609101,80.754665540641099,82.182158990972709,83.650567561492977,85.16072673645921,86.618214517856572,88.056515353142714,89.514116538708436,91.024275713674683,92.492570880026577,93.920177734526547,95.46033124055856,96.898632075844702,98.356119857242035,99.794534096696552,101.32388021777402,102.76218105306015,104.20048188834629,105.72994141359214,107.16824224887827,108.62573003027563,110.13600260941026]
["AccumulatedAnnualDemand","RE1",null,null,null,"INDELC",null,null,null,null,0,0,0,0,0,0,0,0,0,0,0,0,0,0,0,0,0,0,0,0,0,0,0,0,0,0,0,0,0,0,0,0,0,0,0,0,0,0,0,0,0,0,0,0,0,0,0,0,0,0,0,0,0,0,0,0]
["AccumulatedAnnualDemand","RE1",null,null,null,"INDHEH",null,null,null,null,65.13056061505803,63.670942966283583,64.172139389443018,67.421685472256215,74.347880305685038,75.040023667488597,76.402247301374757,78.032751795950375,79.32790124962159,80.958405744197208,82.58891023877284,84.803478556653857,86.14675992197779,87.777264416553393,89.072413870224622,93.012827835218658,96.31015302082983,97.605302474501045,99.235806969076663,100.53095642274789,107.68175645380792,111.21974119768264,112.80211378060554,114.14539514592946,115.72776772885238,126.83635565280419,128.7155689297808,130.29794151270372,131.92844600727932,133.22359546095055,135.64963369400462,138.29582087609549,140.76999102080225,143.48325238310801,145.84221643594717,148.60360970990564,150.9625737627448,153.67583512505055,156.15000526975732,158.79619245184816,161.22223068490226,163.86841786699307,166.34258801169986,169.05584937400565,171.41481342684477,174.17620670080325,176.60224493385735,179.24843211594816,181.67447034900226,184.36878944274579,186.79482767579984,189.70866590885393,192.40298500259749,194.82902323565153,197.47521041774237,199.94938056244916]
["AccumulatedAnnualDemand","RE1",null,null,null,"INDHEL",null,null,null,null,43.79422689983403,42.81277017823087,43.149778023241716,45.334794659491671,49.992014637688996,50.457416488184222,51.373384819292582,52.469747005067084,53.340614206387627,54.436976392162137,55.53333857793664,57.022429205786118,57.925660628144144,59.022022813918653,59.892890015239196,62.542450860909632,64.759594487150864,65.630461688471414,66.726823874245895,67.597691075566445,72.405937098911451,74.784901830340118,75.848899795077116,76.752131217435149,77.816129182172176,85.285618397129525,86.54921404052503,87.613212005262028,88.709574191036538,89.580441392357073,91.211725813106852,92.991039867485284,94.654688509272532,96.479103693438773,98.065286984400728,99.922066389604467,101.50824968056641,103.33266486473265,104.99631350651991,106.77562756089831,108.40691198164811,110.1862260360265,111.84987467781376,113.67428986198004,115.26047315294196,117.11725255814569,118.74853697889547,120.52785103327389,122.15913545402368,123.97081372943957,125.60209815018932,127.56138257093912,129.37306084635506,131.00434526710481,132.78365932148319,134.44730796327048]
["AccumulatedAnnualDemand","RE1",null,null,null,"RESELC",null,null,null,null,0,0,0,0,0,0,0,0,0,0,0,0,0,0,0,0,0,0,0,0,0,0,0,0,0,0,0,0,0,0,0,0,0,0,0,0,0,0,0,0,0,0,0,0,0,0,0,0,0,0,0,0,0,0,0,0]
["AccumulatedAnnualDemand","RE1",null,null,null,"RESCKN",null,null,null,null,27.299911263596606,27.996777516912822,27.412159612534644,28.471490983799313,30.058986168498762,30.350950318011122,30.857283788354493,31.330335863150964,31.748201987117923,32.221254061914394,32.694306136710878,33.242227467663731,33.697528219708886,34.170580294505356,34.588446418472316,35.760585996540769,36.601899137012317,37.019765260979284,37.492817335775754,37.910683459742714,39.860933029770806,40.889419310633329,41.325036757351604,41.780337509396759,42.215954956115041,45.182520376791977,45.67525575691532,46.110873203633602,46.58392527843008,47.001791402397039,47.750483963960896,48.428460501899636,49.214587691541681,49.981031575856854,50.641256791044299,51.445135303437667,52.105360518625091,52.871804402940256,53.657931592582315,54.335908130521076,55.084600692084912,55.762577230023659,56.548704419665718,57.315148303980884,57.975373519168329,58.779252031561683,59.527944593125547,60.205921131064287,60.954613692628143,61.6700248586451,62.418717420208949,63.167409981772792,63.882821147789763,64.631513709353598,65.309490247292345,66.09561743693439]
["AccumulatedAnnualDemand","RE1",null,null,null,"RESHEL",null,null,null,null,33.918301535693324,34.752500949925889,33.029217279245096,34.236833127095636,35.615466813973953,35.613476067998832,35.984348895626958,36.22292167851306,36.421072544168197,36.659645327054307,36.898218109940416,37.191630192141069,37.417200707453475,37.655773490339584,37.853924355994721,38.820401043518764,39.436635603552467,39.634786469207612,39.873359252093714,40.071510117748844,41.715849614140623,42.469182422460705,42.680335555689531,42.905906071001944,43.117059204230777,45.721662070092378,45.974652235062067,46.185805368290893,46.424378151176995,46.622529016832132,47.170922009977602,47.559595308723772,48.13540795152651,48.696803212245683,49.072474243418156,49.661289153794584,50.036960184967057,50.598355445686224,51.174168088488969,51.562841387235139,52.111234380380601,52.499907679126764,53.075720321929523,53.637115582648683,54.012786613821156,54.601601524197591,55.149994517343075,55.538667816089237,56.0870608092347,56.503153757638145,57.051546750783615,57.599939743929085,58.01603269233253,58.564425685477985,58.953098984224155,59.528911627026901]
["AccumulatedAnnualDemand","RE1",null,null,null,"COMELC",null,null,null,null,0,0,0,0,0,0,0,0,0,0,0,0,0,0,0,0,0,0,0,0,0,0,0,0,0,0,0,0,0,0,0,0,0,0,0,0,0,0,0,0,0,0,0,0,0,0,0,0,0,0,0,0,0,0,0,0]
["AccumulatedAnnualDemand","RE1",null,null,null,"COMHEL",null,null,null,null,17.600205332713671,17.976309223262589,18.136478719258751,18.919311117541667,19.772314065624897,19.995525426570691,20.315753323771709,20.66426121879887,20.948787820877271,21.297295715904433,21.645803610931591,22.045539397978725,22.355679946067113,22.704187841094271,22.988714443172675,23.818340920452442,24.420215079610898,24.704741681689303,25.053249576716464,25.337776178794858,26.753643074183341,27.483586963391726,27.806480912408901,28.116621460497285,28.43951540951446,30.579779802174208,30.915534296272583,31.238428245289757,31.586936140316912,31.871462742395316,32.383741662595028,32.89868663461089,33.436579500820585,33.987225767959075,34.463803393036166,35.040063606184638,35.51664123126173,36.067287498400219,36.605180364609922,37.120125336625783,37.632404256825495,38.14734922884135,38.685242095051052,39.235888362189542,39.712465987266633,40.288726200415105,40.801005120614818,41.315950092630679,41.828229012830398,42.368787930856243,42.881066851055955,43.393345771255667,43.933904689281519,44.446183609481231,44.9611285814971,45.499021447706795]
["AccumulatedAnnualDemand","RE1",null,null,null,"COM027",null,null,null,null,0,0,0,0,0,0,0,0,0,0,0,0,0,0,0,0,0,0,0,0,0,0,0,0,0,0,0,0,0,0,0,0,0,0,0,0,0,0,0,0,0,0,0,0,0,0,0,0,0,0,0,0,0,0,0,0]
["AccumulatedAnnualDemand","RE1",null,null,null,"COM028",null,null,null,null,0,0,0,0,0,0,0,0,0,0,0,0,0,0,0,0,0,0,0,0,0,0,0,0,0,0,0,0,0,0,0,0,0,0,0,0,0,0,0,0,0,0,0,0,0,0,0,0,0,0,0,0,0,0,0,0]
["AccumulatedAnnualDemand","RE1",null,null,null,"COM029",null,null,null,null,0,0,0,0,0,0,0,0,0,0,0,0,0,0,0,0,0,0,0,0,0,0,0,0,0,0,0,0,0,0,0,0,0,0,0,0,0,0,0,0,0,0,0,0,0,0,0,0,0,0,0,0,0,0,0,0]
["AccumulatedAnnualDemand","RE1",null,null,null,"COM030",null,null,null,null,0,0,0,0,0,0,0,0,0,0,0,0,0,0,0,0,0,0,0,0,0,0,0,0,0,0,0,0,0,0,0,0,0,0,0,0,0,0,0,0,0,0,0,0,0,0,0,0,0,0,0,0,0,0,0,0]
["AccumulatedAnnualDemand","RE1",null,null,null,"COM031",null,null,null,null,0,0,0,0,0,0,0,0,0,0,0,0,0,0,0,0,0,0,0,0,0,0,0,0,0,0,0,0,0,0,0,0,0,0,0,0,0,0,0,0,0,0,0,0,0,0,0,0,0,0,0,0,0,0,0,0]
["AccumulatedAnnualDemand","RE1",null,null,null,"COM032",null,null,null,null,0,0,0,0,0,0,0,0,0,0,0,0,0,0,0,0,0,0,0,0,0,0,0,0,0,0,0,0,0,0,0,0,0,0,0,0,0,0,0,0,0,0,0,0,0,0,0,0,0,0,0,0,0,0,0,0]
["AccumulatedAnnualDemand","RE1",null,null,null,"COM033",null,null,null,null,0,0,0,0,0,0,0,0,0,0,0,0,0,0,0,0,0,0,0,0,0,0,0,0,0,0,0,0,0,0,0,0,0,0,0,0,0,0,0,0,0,0,0,0,0,0,0,0,0,0,0,0,0,0,0,0]
["AccumulatedAnnualDemand","RE1",null,null,null,"COM034",null,null,null,null,0,0,0,0,0,0,0,0,0,0,0,0,0,0,0,0,0,0,0,0,0,0,0,0,0,0,0,0,0,0,0,0,0,0,0,0,0,0,0,0,0,0,0,0,0,0,0,0,0,0,0,0,0,0,0,0]
["AccumulatedAnnualDemand","RE1",null,null,null,"COM035",null,null,null,null,0,0,0,0,0,0,0,0,0,0,0,0,0,0,0,0,0,0,0,0,0,0,0,0,0,0,0,0,0,0,0,0,0,0,0,0,0,0,0,0,0,0,0,0,0,0,0,0,0,0,0,0,0,0,0,0]
["AccumulatedAnnualDemand","RE1",null,null,null,"COM036",null,null,null,null,0,0,0,0,0,0,0,0,0,0,0,0,0,0,0,0,0,0,0,0,0,0,0,0,0,0,0,0,0,0,0,0,0,0,0,0,0,0,0,0,0,0,0,0,0,0,0,0,0,0,0,0,0,0,0,0]
["AccumulatedAnnualDemand","RE1",null,null,null,"COM037",null,null,null,null,0,0,0,0,0,0,0,0,0,0,0,0,0,0,0,0,0,0,0,0,0,0,0,0,0,0,0,0,0,0,0,0,0,0,0,0,0,0,0,0,0,0,0,0,0,0,0,0,0,0,0,0,0,0,0,0]
["AccumulatedAnnualDemand","RE1",null,null,null,"COM038",null,null,null,null,0,0,0,0,0,0,0,0,0,0,0,0,0,0,0,0,0,0,0,0,0,0,0,0,0,0,0,0,0,0,0,0,0,0,0,0,0,0,0,0,0,0,0,0,0,0,0,0,0,0,0,0,0,0,0,0]
["AccumulatedAnnualDemand","RE1",null,null,null,"COM039",null,null,null,null,0,0,0,0,0,0,0,0,0,0,0,0,0,0,0,0,0,0,0,0,0,0,0,0,0,0,0,0,0,0,0,0,0,0,0,0,0,0,0,0,0,0,0,0,0,0,0,0,0,0,0,0,0,0,0,0]
["AccumulatedAnnualDemand","RE1",null,null,null,"COM040",null,null,null,null,0,0,0,0,0,0,0,0,0,0,0,0,0,0,0,0,0,0,0,0,0,0,0,0,0,0,0,0,0,0,0,0,0,0,0,0,0,0,0,0,0,0,0,0,0,0,0,0,0,0,0,0,0,0,0,0]
["AccumulatedAnnualDemand","RE1",null,null,null,"COM041",null,null,null,null,0,0,0,0,0,0,0,0,0,0,0,0,0,0,0,0,0,0,0,0,0,0,0,0,0,0,0,0,0,0,0,0,0,0,0,0,0,0,0,0,0,0,0,0,0,0,0,0,0,0,0,0,0,0,0,0]
["AccumulatedAnnualDemand","RE1",null,null,null,"COM042",null,null,null,null,0,0,0,0,0,0,0,0,0,0,0,0,0,0,0,0,0,0,0,0,0,0,0,0,0,0,0,0,0,0,0,0,0,0,0,0,0,0,0,0,0,0,0,0,0,0,0,0,0,0,0,0,0,0,0,0]
["AccumulatedAnnualDemand","RE1",null,null,null,"COM043",null,null,null,null,0,0,0,0,0,0,0,0,0,0,0,0,0,0,0,0,0,0,0,0,0,0,0,0,0,0,0,0,0,0,0,0,0,0,0,0,0,0,0,0,0,0,0,0,0,0,0,0,0,0,0,0,0,0,0,0]
["AccumulatedAnnualDemand","RE1",null,null,null,"COM044",null,null,null,null,0,0,0,0,0,0,0,0,0,0,0,0,0,0,0,0,0,0,0,0,0,0,0,0,0,0,0,0,0,0,0,0,0,0,0,0,0,0,0,0,0,0,0,0,0,0,0,0,0,0,0,0,0,0,0,0]
["AccumulatedAnnualDemand","RE1",null,null,null,"COM045",null,null,null,null,0,0,0,0,0,0,0,0,0,0,0,0,0,0,0,0,0,0,0,0,0,0,0,0,0,0,0,0,0,0,0,0,0,0,0,0,0,0,0,0,0,0,0,0,0,0,0,0,0,0,0,0,0,0,0,0]
["AccumulatedAnnualDemand","RE1",null,null,null,"COM046",null,null,null,null,0,0,0,0,0,0,0,0,0,0,0,0,0,0,0,0,0,0,0,0,0,0,0,0,0,0,0,0,0,0,0,0,0,0,0,0,0,0,0,0,0,0,0,0,0,0,0,0,0,0,0,0,0,0,0,0]
["AccumulatedAnnualDemand","RE1",null,null,null,"COM047",null,null,null,null,0,0,0,0,0,0,0,0,0,0,0,0,0,0,0,0,0,0,0,0,0,0,0,0,0,0,0,0,0,0,0,0,0,0,0,0,0,0,0,0,0,0,0,0,0,0,0,0,0,0,0,0,0,0,0,0]
["AccumulatedAnnualDemand","RE1",null,null,null,"COM048",null,null,null,null,0,0,0,0,0,0,0,0,0,0,0,0,0,0,0,0,0,0,0,0,0,0,0,0,0,0,0,0,0,0,0,0,0,0,0,0,0,0,0,0,0,0,0,0,0,0,0,0,0,0,0,0,0,0,0,0]
["AccumulatedAnnualDemand","RE1",null,null,null,"COM049",null,null,null,null,0,0,0,0,0,0,0,0,0,0,0,0,0,0,0,0,0,0,0,0,0,0,0,0,0,0,0,0,0,0,0,0,0,0,0,0,0,0,0,0,0,0,0,0,0,0,0,0,0,0,0,0,0,0,0,0]
["AccumulatedAnnualDemand","RE1",null,null,null,"COM050",null,null,null,null,0,0,0,0,0,0,0,0,0,0,0,0,0,0,0,0,0,0,0,0,0,0,0,0,0,0,0,0,0,0,0,0,0,0,0,0,0,0,0,0,0,0,0,0,0,0,0,0,0,0,0,0,0,0,0,0]
["AnnualEmissionLimit","RE1",null,"EMIC02",null,null,null,null,null,null,99999999,99999999,99999999,99999999,99999999,99999999,99999999,99999999,99999999,99999999,99999999,99999999,99999999,99999999,99999999,99999999,99999999,99999999,99999999,99999999,99999999,99999999,99999999,99999999,99999999,99999999,99999999,99999999,99999999,99999999,99999999,99999999,99999999,99999999,99999999,99999999,99999999,99999999,99999999,99999999,99999999,99999999,99999999,99999999,99999999,99999999,99999999,99999999,99999999,99999999,99999999,99999999,99999999,99999999,99999999,99999999]
["AnnualEmissionLimit","RE1",null,"EMICH4",null,null,null,null,null,null,99999,99999,99999,99999,99999,99999,99999,99999,99999,99999,99999,99999,99999,99999,99999,99999,99999,99999,99999,99999,99999,99999,99999,99999,99999,99999,99999,99999,99999,99999,99999,99999,99999,99999,99999,99999,99999,99999,99999,99999,99999,99999,99999,99999,99999,99999,99999,99999,99999,99999,99999,99999,99999,99999,99999,99999]
["AnnualEmissionLimit","RE1",null,"EMIFGA",null,null,null,null,null,null,99999,99999,99999,99999,99999,99999,99999,99999,99999,99999,99999,99999,99999,99999,99999,99999,99999,99999,99999,99999,99999,99999,99999,99999,99999,99999,99999,99999,99999,99999,99999,99999,99999,99999,99999,99999,99999,99999,99999,99999,99999,99999,99999,99999,99999,99999,99999,99999,99999,99999,99999,99999,99999,99999,99999,99999]
["AnnualEmissionLimit","RE1",null,"EMIN2O",null,null,null,null,null,null,99999,99999,99999,99999,99999,99999,99999,99999,99999,99999,99999,99999,99999,99999,99999,99999,99999,99999,99999,99999,99999,99999,99999,99999,99999,99999,99999,99999,99999,99999,99999,99999,99999,99999,99999,99999,99999,99999,99999,99999,99999,99999,99999,99999,99999,99999,99999,99999,99999,99999,99999,99999,99999,99999,99999,99999]
["AnnualEmissionLimit","RE1",null,"EMIREN",null,null,null,null,null,null,99999,99999,99999,99999,99999,99999,99999,99999,99999,99999,99999,99999,99999,99999,99999,99999,99999,99999,99999,99999,99999,99999,99999,99999,99999,99999,99999,99999,99999,99999,99999,99999,99999,99999,99999,99999,99999,99999,99999,99999,99999,99999,99999,99999,99999,99999,99999,99999,99999,99999,99999,99999,99999,99999,99999,99999]
["AnnualExogenousEmission","RE1",null,"EMIC02",null,null,null,null,null,null,0,0,0,0,0,0,0,0,0,0,0,0,0,0,0,0,0,0,0,0,0,0,0,0,0,0,0,0,0,0,0,0,0,0,0,0,0,0,0,0,0,0,0,0,0,0,0,0,0,0,0,0,0,0,0,0]
["AnnualExogenousEmission","RE1",null,"EMICH4",null,null,null,null,null,null,0,0,0,0,0,0,0,0,0,0,0,0,0,0,0,0,0,0,0,0,0,0,0,0,0,0,0,0,0,0,0,0,0,0,0,0,0,0,0,0,0,0,0,0,0,0,0,0,0,0,0,0,0,0,0,0]
["AnnualExogenousEmission","RE1",null,"EMIFGA",null,null,null,null,null,null,0,0,0,0,0,0,0,0,0,0,0,0,0,0,0,0,0,0,0,0,0,0,0,0,0,0,0,0,0,0,0,0,0,0,0,0,0,0,0,0,0,0,0,0,0,0,0,0,0,0,0,0,0,0,0,0]
["AnnualExogenousEmission","RE1",null,"EMIN2O",null,null,null,null,null,null,0,0,0,0,0,0,0,0,0,0,0,0,0,0,0,0,0,0,0,0,0,0,0,0,0,0,0,0,0,0,0,0,0,0,0,0,0,0,0,0,0,0,0,0,0,0,0,0,0,0,0,0,0,0,0,0]
["AnnualExogenousEmission","RE1",null,"EMIREN",null,null,null,null,null,null,0,0,0,0,0,0,0,0,0,0,0,0,0,0,0,0,0,0,0,0,0,0,0,0,0,0,0,0,0,0,0,0,0,0,0,0,0,0,0,0,0,0,0,0,0,0,0,0,0,0,0,0,0,0,0,0]
["AvailabilityFactor","RE1","IMPOIL",null,null,null,null,null,null,null,1,1,1,1,1,1,1,1,1,1,1,1,1,1,1,1,1,1,1,1,1,1,1,1,1,1,1,1,1,1,1,1,1,1,1,1,1,1,1,1,1,1,1,1,1,1,1,1,1,1,1,1,1,1,1,1]
["AvailabilityFactor","RE1","MINOIL",null,null,null,null,null,null,null,1,1,1,1,1,1,1,1,1,1,1,1,1,1,1,1,1,1,1,1,1,1,1,1,1,1,1,1,1,1,1,1,1,1,1,1,1,1,1,1,1,1,1,1,1,1,1,1,1,1,1,1,1,1,1,1]
["AvailabilityFactor","RE1","IMPBIO",null,null,null,null,null,null,null,1,1,1,1,1,1,1,1,1,1,1,1,1,1,1,1,1,1,1,1,1,1,1,1,1,1,1,1,1,1,1,1,1,1,1,1,1,1,1,1,1,1,1,1,1,1,1,1,1,1,1,1,1,1,1,1]
["AvailabilityFactor","RE1","MINBIO",null,null,null,null,null,null,null,1,1,1,1,1,1,1,1,1,1,1,1,1,1,1,1,1,1,1,1,1,1,1,1,1,1,1,1,1,1,1,1,1,1,1,1,1,1,1,1,1,1,1,1,1,1,1,1,1,1,1,1,1,1,1,1]
["AvailabilityFactor","RE1","IMPCOA",null,null,null,null,null,null,null,1,1,1,1,1,1,1,1,1,1,1,1,1,1,1,1,1,1,1,1,1,1,1,1,1,1,1,1,1,1,1,1,1,1,1,1,1,1,1,1,1,1,1,1,1,1,1,1,1,1,1,1,1,1,1,1]
["AvailabilityFactor","RE1","MINCOA",null,null,null,null,null,null,null,1,1,1,1,1,1,1,1,1,1,1,1,1,1,1,1,1,1,1,1,1,1,1,1,1,1,1,1,1,1,1,1,1,1,1,1,1,1,1,1,1,1,1,1,1,1,1,1,1,1,1,1,1,1,1,1]
["AvailabilityFactor","RE1","IMPLFO",null,null,null,null,null,null,null,1,1,1,1,1,1,1,1,1,1,1,1,1,1,1,1,1,1,1,1,1,1,1,1,1,1,1,1,1,1,1,1,1,1,1,1,1,1,1,1,1,1,1,1,1,1,1,1,1,1,1,1,1,1,1,1]
["AvailabilityFactor","RE1","IMPHFO",null,null,null,null,null,null,null,1,1,1,1,1,1,1,1,1,1,1,1,1,1,1,1,1,1,1,1,1,1,1,1,1,1,1,1,1,1,1,1,1,1,1,1,1,1,1,1,1,1,1,1,1,1,1,1,1,1,1,1,1,1,1,1]
["AvailabilityFactor","RE1","UPSREF001",null,null,null,null,null,null,null,1,1,1,1,1,1,1,1,1,1,1,1,1,1,1,1,1,1,1,1,1,1,1,1,1,1,1,1,1,1,1,1,1,1,1,1,1,1,1,1,1,1,1,1,1,1,1,1,1,1,1,1,1,1,1,1]
["AvailabilityFactor","RE1","UPSREF002",null,null,null,null,null,null,null,1,1,1,1,1,1,1,1,1,1,1,1,1,1,1,1,1,1,1,1,1,1,1,1,1,1,1,1,1,1,1,1,1,1,1,1,1,1,1,1,1,1,1,1,1,1,1,1,1,1,1,1,1,1,1,1]
["AvailabilityFactor","RE1","IMPNGS",null,null,null,null,null,null,null,1,1,1,1,1,1,1,1,1,1,1,1,1,1,1,1,1,1,1,1,1,1,1,1,1,1,1,1,1,1,1,1,1,1,1,1,1,1,1,1,1,1,1,1,1,1,1,1,1,1,1,1,1,1,1,1]
["AvailabilityFactor","RE1","MINNGS",null,null,null,null,null,null,null,1,1,1,1,1,1,1,1,1,1,1,1,1,1,1,1,1,1,1,1,1,1,1,1,1,1,1,1,1,1,1,1,1,1,1,1,1,1,1,1,1,1,1,1,1,1,1,1,1,1,1,1,1,1,1,1]
["AvailabilityFactor","RE1","MINSOL",null,null,null,null,null,null,null,1,1,1,1,1,1,1,1,1,1,1,1,1,1,1,1,1,1,1,1,1,1,1,1,1,1,1,1,1,1,1,1,1,1,1,1,1,1,1,1,1,1,1,1,1,1,1,1,1,1,1,1,1,1,1,1]
["AvailabilityFactor","RE1","MINWND",null,null,null,null,null,null,null,1,1,1,1,1,1,1,1,1,1,1,1,1,1,1,1,1,1,1,1,1,1,1,1,1,1,1,1,1,1,1,1,1,1,1,1,1,1,1,1,1,1,1,1,1,1,1,1,1,1,1,1,1,1,1,1]
["AvailabilityFactor","RE1","IMPURN",null,null,null,null,null,null,null,1,1,1,1,1,1,1,1,1,1,1,1,1,1,1,1,1,1,1,1,1,1,1,1,1,1,1,1,1,1,1,1,1,1,1,1,1,1,1,1,1,1,1,1,1,1,1,1,1,1,1,1,1,1,1,1]
["AvailabilityFactor","RE1","MINURN",null,null,null,null,null,null,null,1,1,1,1,1,1,1,1,1,1,1,1,1,1,1,1,1,1,1,1,1,1,1,1,1,1,1,1,1,1,1,1,1,1,1,1,1,1,1,1,1,1,1,1,1,1,1,1,1,1,1,1,1,1,1,1]
["AvailabilityFactor","RE1","MINGEO",null,null,null,null,null,null,null,1,1,1,1,1,1,1,1,1,1,1,1,1,1,1,1,1,1,1,1,1,1,1,1,1,1,1,1,1,1,1,1,1,1,1,1,1,1,1,1,1,1,1,1,1,1,1,1,1,1,1,1,1,1,1,1]
["AvailabilityFactor","RE1","MINHYD",null,null,null,null,null,null,null,1,1,1,1,1,1,1,1,1,1,1,1,1,1,1,1,1,1,1,1,1,1,1,1,1,1,1,1,1,1,1,1,1,1,1,1,1,1,1,1,1,1,1,1,1,1,1,1,1,1,1,1,1,1,1,1]
["AvailabilityFactor","RE1","PWRBIO001",null,null,null,null,null,null,null,1,1,1,1,1,1,1,1,1,1,1,1,1,1,1,1,1,1,1,1,1,1,1,1,1,1,1,1,1,1,1,1,1,1,1,1,1,1,1,1,1,1,1,1,1,1,1,1,1,1,1,1,1,1,1,1]
["AvailabilityFactor","RE1","PWRCOA001",null,null,null,null,null,null,null,1,1,1,1,1,1,1,1,1,1,1,1,1,1,1,1,1,1,1,1,1,1,1,1,1,1,1,1,1,1,1,1,1,1,1,1,1,1,1,1,1,1,1,1,1,1,1,1,1,1,1,1,1,1,1,1]
["AvailabilityFactor","RE1","TEC021",null,null,null,null,null,null,null,1,1,1,1,1,1,1,1,1,1,1,1,1,1,1,1,1,1,1,1,1,1,1,1,1,1,1,1,1,1,1,1,1,1,1,1,1,1,1,1,1,1,1,1,1,1,1,1,1,1,1,1,1,1,1,1]
["AvailabilityFactor","RE1","PWRGEO",null,null,null,null,null,null,null,1,1,1,1,1,1,1,1,1,1,1,1,1,1,1,1,1,1,1,1,1,1,1,1,1,1,1,1,1,1,1,1,1,1,1,1,1,1,1,1,1,1,1,1,1,1,1,1,1,1,1,1,1,1,1,1]
["AvailabilityFactor","RE1","PWROHC001",null,null,null,null,null,null,null,1,1,1,1,1,1,1,1,1,1,1,1,1,1,1,1,1,1,1,1,1,1,1,1,1,1,1,1,1,1,1,1,1,1,1,1,1,1,1,1,1,1,1,1,1,1,1,1,1,1,1,1,1,1,1,1]
["AvailabilityFactor","RE1","PWROHC002",null,null,null,null,null,null,null,1,1,1,1,1,1,1,1,1,1,1,1,1,1,1,1,1,1,1,1,1,1,1,1,1,1,1,1,1,1,1,1,1,1,1,1,1,1,1,1,1,1,1,1,1,1,1,1,1,1,1,1,1,1,1,1]
["AvailabilityFactor","RE1","PWRNGS001",null,null,null,null,null,null,null,1,1,1,1,1,1,1,1,1,1,1,1,1,1,1,1,1,1,1,1,1,1,1,1,1,1,1,1,1,1,1,1,1,1,1,1,1,1,1,1,1,1,1,1,1,1,1,1,1,1,1,1,1,1,1,1]
["AvailabilityFactor","RE1","PWRNGS002",null,null,null,null,null,null,null,1,1,1,1,1,1,1,1,1,1,1,1,1,1,1,1,1,1,1,1,1,1,1,1,1,1,1,1,1,1,1,1,1,1,1,1,1,1,1,1,1,1,1,1,1,1,1,1,1,1,1,1,1,1,1,1]
["AvailabilityFactor","RE1","PWRSOL001",null,null,null,null,null,null,null,1,1,1,1,1,1,1,1,1,1,1,1,1,1,1,1,1,1,1,1,1,1,1,1,1,1,1,1,1,1,1,1,1,1,1,1,1,1,1,1,1,1,1,1,1,1,1,1,1,1,1,1,1,1,1,1]
["AvailabilityFactor","RE1","TEC027",null,null,null,null,null,null,null,1,1,1,1,1,1,1,1,1,1,1,1,1,1,1,1,1,1,1,1,1,1,1,1,1,1,1,1,1,1,1,1,1,1,1,1,1,1,1,1,1,1,1,1,1,1,1,1,1,1,1,1,1,1,1,1]
["AvailabilityFactor","RE1","PWRCSP002",null,null,null,null,null,null,null,1,1,1,1,1,1,1,1,1,1,1,1,1,1,1,1,1,1,1,1,1,1,1,1,1,1,1,1,1,1,1,1,1,1,1,1,1,1,1,1,1,1,1,1,1,1,1,1,1,1,1,1,1,1,1,1]
["AvailabilityFactor","RE1","PWRHYD001",null,null,null,null,null,null,null,1,1,1,1,1,1,1,1,1,1,1,1,1,1,1,1,1,1,1,1,1,1,1,1,1,1,1,1,1,1,1,1,1,1,1,1,1,1,1,1,1,1,1,1,1,1,1,1,1,1,1,1,1,1,1,1]
["AvailabilityFactor","RE1","PWRHYD002",null,null,null,null,null,null,null,1,1,1,1,1,1,1,1,1,1,1,1,1,1,1,1,1,1,1,1,1,1,1,1,1,1,1,1,1,1,1,1,1,1,1,1,1,1,1,1,1,1,1,1,1,1,1,1,1,1,1,1,1,1,1,1]
["AvailabilityFactor","RE1","PWRHYD003",null,null,null,null,null,null,null,1,1,1,1,1,1,1,1,1,1,1,1,1,1,1,1,1,1,1,1,1,1,1,1,1,1,1,1,1,1,1,1,1,1,1,1,1,1,1,1,1,1,1,1,1,1,1,1,1,1,1,1,1,1,1,1]
["AvailabilityFactor","RE1","PWRWND001",null,null,null,null,null,null,null,1,1,1,1,1,1,1,1,1,1,1,1,1,1,1,1,1,1,1,1,1,1,1,1,1,1,1,1,1,1,1,1,1,1,1,1,1,1,1,1,1,1,1,1,1,1,1,1,1,1,1,1,1,1,1,1]
["AvailabilityFactor","RE1","PWRWND002",null,null,null,null,null,null,null,1,1,1,1,1,1,1,1,1,1,1,1,1,1,1,1,1,1,1,1,1,1,1,1,1,1,1,1,1,1,1,1,1,1,1,1,1,1,1,1,1,1,1,1,1,1,1,1,1,1,1,1,1,1,1,1]
["AvailabilityFactor","RE1","PWRNUC",null,null,null,null,null,null,null,1,1,1,1,1,1,1,1,1,1,1,1,1,1,1,1,1,1,1,1,1,1,1,1,1,1,1,1,1,1,1,1,1,1,1,1,1,1,1,1,1,1,1,1,1,1,1,1,1,1,1,1,1,1,1,1]
["AvailabilityFactor","RE1","PWRSOL001S",null,null,null,null,null,null,null,1,1,1,1,1,1,1,1,1,1,1,1,1,1,1,1,1,1,1,1,1,1,1,1,1,1,1,1,1,1,1,1,1,1,1,1,1,1,1,1,1,1,1,1,1,1,1,1,1,1,1,1,1,1,1,1]
["AvailabilityFactor","RE1","PWRWND001S",null,null,null,null,null,null,null,1,1,1,1,1,1,1,1,1,1,1,1,1,1,1,1,1,1,1,1,1,1,1,1,1,1,1,1,1,1,1,1,1,1,1,1,1,1,1,1,1,1,1,1,1,1,1,1,1,1,1,1,1,1,1,1]
["AvailabilityFactor","RE1","PWRTRNIMP",null,null,null,null,null,null,null,1,1,1,1,1,1,1,1,1,1,1,1,1,1,1,1,1,1,1,1,1,1,1,1,1,1,1,1,1,1,1,1,1,1,1,1,1,1,1,1,1,1,1,1,1,1,1,1,1,1,1,1,1,1,1,1]
["AvailabilityFactor","RE1","BACKSTOP001",null,null,null,null,null,null,null,1,1,1,1,1,1,1,1,1,1,1,1,1,1,1,1,1,1,1,1,1,1,1,1,1,1,1,1,1,1,1,1,1,1,1,1,1,1,1,1,1,1,1,1,1,1,1,1,1,1,1,1,1,1,1,1]
["AvailabilityFactor","RE1","PWRTRN",null,null,null,null,null,null,null,1,1,1,1,1,1,1,1,1,1,1,1,1,1,1,1,1,1,1,1,1,1,1,1,1,1,1,1,1,1,1,1,1,1,1,1,1,1,1,1,1,1,1,1,1,1,1,1,1,1,1,1,1,1,1,1]
["AvailabilityFactor","RE1","PWRDIST",null,null,null,null,null,null,null,1,1,1,1,1,1,1,1,1,1,1,1,1,1,1,1,1,1,1,1,1,1,1,1,1,1,1,1,1,1,1,1,1,1,1,1,1,1,1,1,1,1,1,1,1,1,1,1,1,1,1,1,1,1,1,1]
["AvailabilityFactor","RE1","PWROHC003",null,null,null,null,null,null,null,1,1,1,1,1,1,1,1,1,1,1,1,1,1,1,1,1,1,1,1,1,1,1,1,1,1,1,1,1,1,1,1,1,1,1,1,1,1,1,1,1,1,1,1,1,1,1,1,1,1,1,1,1,1,1,1]
["AvailabilityFactor","RE1","PWRSOL002",null,null,null,null,null,null,null,1,1,1,1,1,1,1,1,1,1,1,1,1,1,1,1,1,1,1,1,1,1,1,1,1,1,1,1,1,1,1,1,1,1,1,1,1,1,1,1,1,1,1,1,1,1,1,1,1,1,1,1,1,1,1,1]
["AvailabilityFactor","RE1","PWRHYD004",null,null,null,null,null,null,null,1,1,1,1,1,1,1,1,1,1,1,1,1,1,1,1,1,1,1,1,1,1,1,1,1,1,1,1,1,1,1,1,1,1,1,1,1,1,1,1,1,1,1,1,1,1,1,1,1,1,1,1,1,1,1,1]
["AvailabilityFactor","RE1","PWRTRNEXP",null,null,null,null,null,null,null,1,1,1,1,1,1,1,1,1,1,1,1,1,1,1,1,1,1,1,1,1,1,1,1,1,1,1,1,1,1,1,1,1,1,1,1,1,1,1,1,1,1,1,1,1,1,1,1,1,1,1,1,1,1,1,1]
["AvailabilityFactor","RE1","BACKSTOP002",null,null,null,null,null,null,null,1,1,1,1,1,1,1,1,1,1,1,1,1,1,1,1,1,1,1,1,1,1,1,1,1,1,1,1,1,1,1,1,1,1,1,1,1,1,1,1,1,1,1,1,1,1,1,1,1,1,1,1,1,1,1,1]
["AvailabilityFactor","RE1","DEMTRAEVC",null,null,null,null,null,null,null,1,1,1,1,1,1,1,1,1,1,1,1,1,1,1,1,1,1,1,1,1,1,1,1,1,1,1,1,1,1,1,1,1,1,1,1,1,1,1,1,1,1,1,1,1,1,1,1,1,1,1,1,1,1,1,1]
["AvailabilityFactor","RE1","DEMTRAMCYELC",null,null,null,null,null,null,null,1,1,1,1,1,1,1,1,1,1,1,1,1,1,1,1,1,1,1,1,1,1,1,1,1,1,1,1,1,1,1,1,1,1,1,1,1,1,1,1,1,1,1,1,1,1,1,1,1,1,1,1,1,1,1,1]
["AvailabilityFactor","RE1","DEMTRACARELC",null,null,null,null,null,null,null,1,1,1,1,1,1,1,1,1,1,1,1,1,1,1,1,1,1,1,1,1,1,1,1,1,1,1,1,1,1,1,1,1,1,1,1,1,1,1,1,1,1,1,1,1,1,1,1,1,1,1,1,1,1,1,1]
["AvailabilityFactor","RE1","DEMTRABUSELC",null,null,null,null,null,null,null,1,1,1,1,1,1,1,1,1,1,1,1,1,1,1,1,1,1,1,1,1,1,1,1,1,1,1,1,1,1,1,1,1,1,1,1,1,1,1,1,1,1,1,1,1,1,1,1,1,1,1,1,1,1,1,1]
["AvailabilityFactor","RE1","DEMTRAMCYGSL",null,null,null,null,null,null,null,1,1,1,1,1,1,1,1,1,1,1,1,1,1,1,1,1,1,1,1,1,1,1,1,1,1,1,1,1,1,1,1,1,1,1,1,1,1,1,1,1,1,1,1,1,1,1,1,1,1,1,1,1,1,1,1]
["AvailabilityFactor","RE1","DEMTRACARGSL",null,null,null,null,null,null,null,1,1,1,1,1,1,1,1,1,1,1,1,1,1,1,1,1,1,1,1,1,1,1,1,1,1,1,1,1,1,1,1,1,1,1,1,1,1,1,1,1,1,1,1,1,1,1,1,1,1,1,1,1,1,1,1]
["AvailabilityFactor","RE1","DEMTRABUSGSL",null,null,null,null,null,null,null,1,1,1,1,1,1,1,1,1,1,1,1,1,1,1,1,1,1,1,1,1,1,1,1,1,1,1,1,1,1,1,1,1,1,1,1,1,1,1,1,1,1,1,1,1,1,1,1,1,1,1,1,1,1,1,1]
["AvailabilityFactor","RE1","DEMINDELC",null,null,null,null,null,null,null,1,1,1,1,1,1,1,1,1,1,1,1,1,1,1,1,1,1,1,1,1,1,1,1,1,1,1,1,1,1,1,1,1,1,1,1,1,1,1,1,1,1,1,1,1,1,1,1,1,1,1,1,1,1,1,1]
["AvailabilityFactor","RE1","INDENEFFGD",null,null,null,null,null,null,null,1,1,1,1,1,1,1,1,1,1,1,1,1,1,1,1,1,1,1,1,1,1,1,1,1,1,1,1,1,1,1,1,1,1,1,1,1,1,1,1,1,1,1,1,1,1,1,1,1,1,1,1,1,1,1,1]
["AvailabilityFactor","RE1","INDENEFFDP",null,null,null,null,null,null,null,1,1,1,1,1,1,1,1,1,1,1,1,1,1,1,1,1,1,1,1,1,1,1,1,1,1,1,1,1,1,1,1,1,1,1,1,1,1,1,1,1,1,1,1,1,1,1,1,1,1,1,1,1,1,1,1]
["AvailabilityFactor","RE1","DEMINDHEEH",null,null,null,null,null,null,null,1,1,1,1,1,1,1,1,1,1,1,1,1,1,1,1,1,1,1,1,1,1,1,1,1,1,1,1,1,1,1,1,1,1,1,1,1,1,1,1,1,1,1,1,1,1,1,1,1,1,1,1,1,1,1,1]
["AvailabilityFactor","RE1","DEMINDHEEL",null,null,null,null,null,null,null,1,1,1,1,1,1,1,1,1,1,1,1,1,1,1,1,1,1,1,1,1,1,1,1,1,1,1,1,1,1,1,1,1,1,1,1,1,1,1,1,1,1,1,1,1,1,1,1,1,1,1,1,1,1,1,1]
["AvailabilityFactor","RE1","DEMINDHENGS",null,null,null,null,null,null,null,1,1,1,1,1,1,1,1,1,1,1,1,1,1,1,1,1,1,1,1,1,1,1,1,1,1,1,1,1,1,1,1,1,1,1,1,1,1,1,1,1,1,1,1,1,1,1,1,1,1,1,1,1,1,1,1]
["AvailabilityFactor","RE1","DEMINDHEOIL",null,null,null,null,null,null,null,1,1,1,1,1,1,1,1,1,1,1,1,1,1,1,1,1,1,1,1,1,1,1,1,1,1,1,1,1,1,1,1,1,1,1,1,1,1,1,1,1,1,1,1,1,1,1,1,1,1,1,1,1,1,1,1]
["AvailabilityFactor","RE1","DEMINDHEBIO",null,null,null,null,null,null,null,1,1,1,1,1,1,1,1,1,1,1,1,1,1,1,1,1,1,1,1,1,1,1,1,1,1,1,1,1,1,1,1,1,1,1,1,1,1,1,1,1,1,1,1,1,1,1,1,1,1,1,1,1,1,1,1]
["AvailabilityFactor","RE1","DEMRESELC",null,null,null,null,null,null,null,1,1,1,1,1,1,1,1,1,1,1,1,1,1,1,1,1,1,1,1,1,1,1,1,1,1,1,1,1,1,1,1,1,1,1,1,1,1,1,1,1,1,1,1,1,1,1,1,1,1,1,1,1,1,1,1]
["AvailabilityFactor","RE1","RESENEFFGD",null,null,null,null,null,null,null,1,1,1,1,1,1,1,1,1,1,1,1,1,1,1,1,1,1,1,1,1,1,1,1,1,1,1,1,1,1,1,1,1,1,1,1,1,1,1,1,1,1,1,1,1,1,1,1,1,1,1,1,1,1,1,1]
["AvailabilityFactor","RE1","RESENEFFDP",null,null,null,null,null,null,null,1,1,1,1,1,1,1,1,1,1,1,1,1,1,1,1,1,1,1,1,1,1,1,1,1,1,1,1,1,1,1,1,1,1,1,1,1,1,1,1,1,1,1,1,1,1,1,1,1,1,1,1,1,1,1,1]
["AvailabilityFactor","RE1","DEMRESCKNELC",null,null,null,null,null,null,null,1,1,1,1,1,1,1,1,1,1,1,1,1,1,1,1,1,1,1,1,1,1,1,1,1,1,1,1,1,1,1,1,1,1,1,1,1,1,1,1,1,1,1,1,1,1,1,1,1,1,1,1,1,1,1,1]
["AvailabilityFactor","RE1","DEMRESCKNOIL",null,null,null,null,null,null,null,1,1,1,1,1,1,1,1,1,1,1,1,1,1,1,1,1,1,1,1,1,1,1,1,1,1,1,1,1,1,1,1,1,1,1,1,1,1,1,1,1,1,1,1,1,1,1,1,1,1,1,1,1,1,1,1]
["AvailabilityFactor","RE1","DEMRESCKNBIO",null,null,null,null,null,null,null,1,1,1,1,1,1,1,1,1,1,1,1,1,1,1,1,1,1,1,1,1,1,1,1,1,1,1,1,1,1,1,1,1,1,1,1,1,1,1,1,1,1,1,1,1,1,1,1,1,1,1,1,1,1,1,1]
["AvailabilityFactor","RE1","DEMRESHEBIO",null,null,null,null,null,null,null,1,1,1,1,1,1,1,1,1,1,1,1,1,1,1,1,1,1,1,1,1,1,1,1,1,1,1,1,1,1,1,1,1,1,1,1,1,1,1,1,1,1,1,1,1,1,1,1,1,1,1,1,1,1,1,1]
["AvailabilityFactor","RE1","DEMRESHEOIL",null,null,null,null,null,null,null,1,1,1,1,1,1,1,1,1,1,1,1,1,1,1,1,1,1,1,1,1,1,1,1,1,1,1,1,1,1,1,1,1,1,1,1,1,1,1,1,1,1,1,1,1,1,1,1,1,1,1,1,1,1,1,1]
["AvailabilityFactor","RE1","DEMRESHEEL",null,null,null,null,null,null,null,1,1,1,1,1,1,1,1,1,1,1,1,1,1,1,1,1,1,1,1,1,1,1,1,1,1,1,1,1,1,1,1,1,1,1,1,1,1,1,1,1,1,1,1,1,1,1,1,1,1,1,1,1,1,1,1]
["AvailabilityFactor","RE1","DEMCOMELC",null,null,null,null,null,null,null,1,1,1,1,1,1,1,1,1,1,1,1,1,1,1,1,1,1,1,1,1,1,1,1,1,1,1,1,1,1,1,1,1,1,1,1,1,1,1,1,1,1,1,1,1,1,1,1,1,1,1,1,1,1,1,1]
["AvailabilityFactor","RE1","COMENEFFGD",null,null,null,null,null,null,null,1,1,1,1,1,1,1,1,1,1,1,1,1,1,1,1,1,1,1,1,1,1,1,1,1,1,1,1,1,1,1,1,1,1,1,1,1,1,1,1,1,1,1,1,1,1,1,1,1,1,1,1,1,1,1,1]
["AvailabilityFactor","RE1","COMENEFFDP",null,null,null,null,null,null,null,1,1,1,1,1,1,1,1,1,1,1,1,1,1,1,1,1,1,1,1,1,1,1,1,1,1,1,1,1,1,1,1,1,1,1,1,1,1,1,1,1,1,1,1,1,1,1,1,1,1,1,1,1,1,1,1]
["AvailabilityFactor","RE1","DEMCOMHEOIL",null,null,null,null,null,null,null,1,1,1,1,1,1,1,1,1,1,1,1,1,1,1,1,1,1,1,1,1,1,1,1,1,1,1,1,1,1,1,1,1,1,1,1,1,1,1,1,1,1,1,1,1,1,1,1,1,1,1,1,1,1,1,1]
["AvailabilityFactor","RE1","DEMCOMHEBIO",null,null,null,null,null,null,null,1,1,1,1,1,1,1,1,1,1,1,1,1,1,1,1,1,1,1,1,1,1,1,1,1,1,1,1,1,1,1,1,1,1,1,1,1,1,1,1,1,1,1,1,1,1,1,1,1,1,1,1,1,1,1,1]
["AvailabilityFactor","RE1","DEMCOMHEEL",null,null,null,null,null,null,null,1,1,1,1,1,1,1,1,1,1,1,1,1,1,1,1,1,1,1,1,1,1,1,1,1,1,1,1,1,1,1,1,1,1,1,1,1,1,1,1,1,1,1,1,1,1,1,1,1,1,1,1,1,1,1,1]
["AvailabilityFactor","RE1","BSTOPMCY",null,null,null,null,null,null,null,1,1,1,1,1,1,1,1,1,1,1,1,1,1,1,1,1,1,1,1,1,1,1,1,1,1,1,1,1,1,1,1,1,1,1,1,1,1,1,1,1,1,1,1,1,1,1,1,1,1,1,1,1,1,1,1]
["AvailabilityFactor","RE1","BSTOPCAR",null,null,null,null,null,null,null,1,1,1,1,1,1,1,1,1,1,1,1,1,1,1,1,1,1,1,1,1,1,1,1,1,1,1,1,1,1,1,1,1,1,1,1,1,1,1,1,1,1,1,1,1,1,1,1,1,1,1,1,1,1,1,1]
["AvailabilityFactor","RE1","BSTOPBUS",null,null,null,null,null,null,null,1,1,1,1,1,1,1,1,1,1,1,1,1,1,1,1,1,1,1,1,1,1,1,1,1,1,1,1,1,1,1,1,1,1,1,1,1,1,1,1,1,1,1,1,1,1,1,1,1,1,1,1,1,1,1,1]
["AvailabilityFactor","RE1","BSTOPINDELC",null,null,null,null,null,null,null,1,1,1,1,1,1,1,1,1,1,1,1,1,1,1,1,1,1,1,1,1,1,1,1,1,1,1,1,1,1,1,1,1,1,1,1,1,1,1,1,1,1,1,1,1,1,1,1,1,1,1,1,1,1,1,1]
["AvailabilityFactor","RE1","BSTOPINHEH",null,null,null,null,null,null,null,1,1,1,1,1,1,1,1,1,1,1,1,1,1,1,1,1,1,1,1,1,1,1,1,1,1,1,1,1,1,1,1,1,1,1,1,1,1,1,1,1,1,1,1,1,1,1,1,1,1,1,1,1,1,1,1]
["AvailabilityFactor","RE1","BSTOPINDHEL",null,null,null,null,null,null,null,1,1,1,1,1,1,1,1,1,1,1,1,1,1,1,1,1,1,1,1,1,1,1,1,1,1,1,1,1,1,1,1,1,1,1,1,1,1,1,1,1,1,1,1,1,1,1,1,1,1,1,1,1,1,1,1]
["AvailabilityFactor","RE1","BSTOPRESELC",null,null,null,null,null,null,null,1,1,1,1,1,1,1,1,1,1,1,1,1,1,1,1,1,1,1,1,1,1,1,1,1,1,1,1,1,1,1,1,1,1,1,1,1,1,1,1,1,1,1,1,1,1,1,1,1,1,1,1,1,1,1,1]
["AvailabilityFactor","RE1","BSTOPRESCKN",null,null,null,null,null,null,null,1,1,1,1,1,1,1,1,1,1,1,1,1,1,1,1,1,1,1,1,1,1,1,1,1,1,1,1,1,1,1,1,1,1,1,1,1,1,1,1,1,1,1,1,1,1,1,1,1,1,1,1,1,1,1,1]
["AvailabilityFactor","RE1","BSTOPRESHEL",null,null,null,null,null,null,null,1,1,1,1,1,1,1,1,1,1,1,1,1,1,1,1,1,1,1,1,1,1,1,1,1,1,1,1,1,1,1,1,1,1,1,1,1,1,1,1,1,1,1,1,1,1,1,1,1,1,1,1,1,1,1,1]
["AvailabilityFactor","RE1","BSTOPCOMELC",null,null,null,null,null,null,null,1,1,1,1,1,1,1,1,1,1,1,1,1,1,1,1,1,1,1,1,1,1,1,1,1,1,1,1,1,1,1,1,1,1,1,1,1,1,1,1,1,1,1,1,1,1,1,1,1,1,1,1,1,1,1,1]
["AvailabilityFactor","RE1","BSTOPCOMHEL",null,null,null,null,null,null,null,1,1,1,1,1,1,1,1,1,1,1,1,1,1,1,1,1,1,1,1,1,1,1,1,1,1,1,1,1,1,1,1,1,1,1,1,1,1,1,1,1,1,1,1,1,1,1,1,1,1,1,1,1,1,1,1]
["AvailabilityFactor","RE1","DEMINDHECOA",null,null,null,null,null,null,null,1,1,1,1,1,1,1,1,1,1,1,1,1,1,1,1,1,1,1,1,1,1,1,1,1,1,1,1,1,1,1,1,1,1,1,1,1,1,1,1,1,1,1,1,1,1,1,1,1,1,1,1,1,1,1,1]
["AvailabilityFactor","RE1","TEC088",null,null,null,null,null,null,null,1,1,1,1,1,1,1,1,1,1,1,1,1,1,1,1,1,1,1,1,1,1,1,1,1,1,1,1,1,1,1,1,1,1,1,1,1,1,1,1,1,1,1,1,1,1,1,1,1,1,1,1,1,1,1,1]
["AvailabilityFactor","RE1","TEC089",null,null,null,null,null,null,null,1,1,1,1,1,1,1,1,1,1,1,1,1,1,1,1,1,1,1,1,1,1,1,1,1,1,1,1,1,1,1,1,1,1,1,1,1,1,1,1,1,1,1,1,1,1,1,1,1,1,1,1,1,1,1,1]
["AvailabilityFactor","RE1","TEC090",null,null,null,null,null,null,null,1,1,1,1,1,1,1,1,1,1,1,1,1,1,1,1,1,1,1,1,1,1,1,1,1,1,1,1,1,1,1,1,1,1,1,1,1,1,1,1,1,1,1,1,1,1,1,1,1,1,1,1,1,1,1,1]
["AvailabilityFactor","RE1","TEC091",null,null,null,null,null,null,null,1,1,1,1,1,1,1,1,1,1,1,1,1,1,1,1,1,1,1,1,1,1,1,1,1,1,1,1,1,1,1,1,1,1,1,1,1,1,1,1,1,1,1,1,1,1,1,1,1,1,1,1,1,1,1,1]
["AvailabilityFactor","RE1","TEC092",null,null,null,null,null,null,null,1,1,1,1,1,1,1,1,1,1,1,1,1,1,1,1,1,1,1,1,1,1,1,1,1,1,1,1,1,1,1,1,1,1,1,1,1,1,1,1,1,1,1,1,1,1,1,1,1,1,1,1,1,1,1,1]
["AvailabilityFactor","RE1","TEC093",null,null,null,null,null,null,null,1,1,1,1,1,1,1,1,1,1,1,1,1,1,1,1,1,1,1,1,1,1,1,1,1,1,1,1,1,1,1,1,1,1,1,1,1,1,1,1,1,1,1,1,1,1,1,1,1,1,1,1,1,1,1,1]
["AvailabilityFactor","RE1","TEC094",null,null,null,null,null,null,null,1,1,1,1,1,1,1,1,1,1,1,1,1,1,1,1,1,1,1,1,1,1,1,1,1,1,1,1,1,1,1,1,1,1,1,1,1,1,1,1,1,1,1,1,1,1,1,1,1,1,1,1,1,1,1,1]
["AvailabilityFactor","RE1","TEC095",null,null,null,null,null,null,null,1,1,1,1,1,1,1,1,1,1,1,1,1,1,1,1,1,1,1,1,1,1,1,1,1,1,1,1,1,1,1,1,1,1,1,1,1,1,1,1,1,1,1,1,1,1,1,1,1,1,1,1,1,1,1,1]
["AvailabilityFactor","RE1","TEC096",null,null,null,null,null,null,null,1,1,1,1,1,1,1,1,1,1,1,1,1,1,1,1,1,1,1,1,1,1,1,1,1,1,1,1,1,1,1,1,1,1,1,1,1,1,1,1,1,1,1,1,1,1,1,1,1,1,1,1,1,1,1,1]
["AvailabilityFactor","RE1","TEC097",null,null,null,null,null,null,null,1,1,1,1,1,1,1,1,1,1,1,1,1,1,1,1,1,1,1,1,1,1,1,1,1,1,1,1,1,1,1,1,1,1,1,1,1,1,1,1,1,1,1,1,1,1,1,1,1,1,1,1,1,1,1,1]
["AvailabilityFactor","RE1","TEC098",null,null,null,null,null,null,null,1,1,1,1,1,1,1,1,1,1,1,1,1,1,1,1,1,1,1,1,1,1,1,1,1,1,1,1,1,1,1,1,1,1,1,1,1,1,1,1,1,1,1,1,1,1,1,1,1,1,1,1,1,1,1,1]
["AvailabilityFactor","RE1","TEC099",null,null,null,null,null,null,null,1,1,1,1,1,1,1,1,1,1,1,1,1,1,1,1,1,1,1,1,1,1,1,1,1,1,1,1,1,1,1,1,1,1,1,1,1,1,1,1,1,1,1,1,1,1,1,1,1,1,1,1,1,1,1,1]
["AvailabilityFactor","RE1","TEC100",null,null,null,null,null,null,null,1,1,1,1,1,1,1,1,1,1,1,1,1,1,1,1,1,1,1,1,1,1,1,1,1,1,1,1,1,1,1,1,1,1,1,1,1,1,1,1,1,1,1,1,1,1,1,1,1,1,1,1,1,1,1,1]
["AvailabilityFactor","RE1","TEC101",null,null,null,null,null,null,null,1,1,1,1,1,1,1,1,1,1,1,1,1,1,1,1,1,1,1,1,1,1,1,1,1,1,1,1,1,1,1,1,1,1,1,1,1,1,1,1,1,1,1,1,1,1,1,1,1,1,1,1,1,1,1,1]
["AvailabilityFactor","RE1","TEC102",null,null,null,null,null,null,null,1,1,1,1,1,1,1,1,1,1,1,1,1,1,1,1,1,1,1,1,1,1,1,1,1,1,1,1,1,1,1,1,1,1,1,1,1,1,1,1,1,1,1,1,1,1,1,1,1,1,1,1,1,1,1,1]
["AvailabilityFactor","RE1","TEC103",null,null,null,null,null,null,null,1,1,1,1,1,1,1,1,1,1,1,1,1,1,1,1,1,1,1,1,1,1,1,1,1,1,1,1,1,1,1,1,1,1,1,1,1,1,1,1,1,1,1,1,1,1,1,1,1,1,1,1,1,1,1,1]
["AvailabilityFactor","RE1","TEC104",null,null,null,null,null,null,null,1,1,1,1,1,1,1,1,1,1,1,1,1,1,1,1,1,1,1,1,1,1,1,1,1,1,1,1,1,1,1,1,1,1,1,1,1,1,1,1,1,1,1,1,1,1,1,1,1,1,1,1,1,1,1,1]
["AvailabilityFactor","RE1","TEC105",null,null,null,null,null,null,null,1,1,1,1,1,1,1,1,1,1,1,1,1,1,1,1,1,1,1,1,1,1,1,1,1,1,1,1,1,1,1,1,1,1,1,1,1,1,1,1,1,1,1,1,1,1,1,1,1,1,1,1,1,1,1,1]
["AvailabilityFactor","RE1","TEC106",null,null,null,null,null,null,null,1,1,1,1,1,1,1,1,1,1,1,1,1,1,1,1,1,1,1,1,1,1,1,1,1,1,1,1,1,1,1,1,1,1,1,1,1,1,1,1,1,1,1,1,1,1,1,1,1,1,1,1,1,1,1,1]
["AvailabilityFactor","RE1","TEC107",null,null,null,null,null,null,null,1,1,1,1,1,1,1,1,1,1,1,1,1,1,1,1,1,1,1,1,1,1,1,1,1,1,1,1,1,1,1,1,1,1,1,1,1,1,1,1,1,1,1,1,1,1,1,1,1,1,1,1,1,1,1,1]
["AvailabilityFactor","RE1","TEC108",null,null,null,null,null,null,null,1,1,1,1,1,1,1,1,1,1,1,1,1,1,1,1,1,1,1,1,1,1,1,1,1,1,1,1,1,1,1,1,1,1,1,1,1,1,1,1,1,1,1,1,1,1,1,1,1,1,1,1,1,1,1,1]
["AvailabilityFactor","RE1","TEC109",null,null,null,null,null,null,null,1,1,1,1,1,1,1,1,1,1,1,1,1,1,1,1,1,1,1,1,1,1,1,1,1,1,1,1,1,1,1,1,1,1,1,1,1,1,1,1,1,1,1,1,1,1,1,1,1,1,1,1,1,1,1,1]
["AvailabilityFactor","RE1","TEC110",null,null,null,null,null,null,null,1,1,1,1,1,1,1,1,1,1,1,1,1,1,1,1,1,1,1,1,1,1,1,1,1,1,1,1,1,1,1,1,1,1,1,1,1,1,1,1,1,1,1,1,1,1,1,1,1,1,1,1,1,1,1,1]
["AvailabilityFactor","RE1","TEC111",null,null,null,null,null,null,null,1,1,1,1,1,1,1,1,1,1,1,1,1,1,1,1,1,1,1,1,1,1,1,1,1,1,1,1,1,1,1,1,1,1,1,1,1,1,1,1,1,1,1,1,1,1,1,1,1,1,1,1,1,1,1,1]
["AvailabilityFactor","RE1","TEC112",null,null,null,null,null,null,null,1,1,1,1,1,1,1,1,1,1,1,1,1,1,1,1,1,1,1,1,1,1,1,1,1,1,1,1,1,1,1,1,1,1,1,1,1,1,1,1,1,1,1,1,1,1,1,1,1,1,1,1,1,1,1,1]
["AvailabilityFactor","RE1","TEC113",null,null,null,null,null,null,null,1,1,1,1,1,1,1,1,1,1,1,1,1,1,1,1,1,1,1,1,1,1,1,1,1,1,1,1,1,1,1,1,1,1,1,1,1,1,1,1,1,1,1,1,1,1,1,1,1,1,1,1,1,1,1,1]
["AvailabilityFactor","RE1","TEC114",null,null,null,null,null,null,null,1,1,1,1,1,1,1,1,1,1,1,1,1,1,1,1,1,1,1,1,1,1,1,1,1,1,1,1,1,1,1,1,1,1,1,1,1,1,1,1,1,1,1,1,1,1,1,1,1,1,1,1,1,1,1,1]
["AvailabilityFactor","RE1","TEC115",null,null,null,null,null,null,null,1,1,1,1,1,1,1,1,1,1,1,1,1,1,1,1,1,1,1,1,1,1,1,1,1,1,1,1,1,1,1,1,1,1,1,1,1,1,1,1,1,1,1,1,1,1,1,1,1,1,1,1,1,1,1,1]
["AvailabilityFactor","RE1","TEC116",null,null,null,null,null,null,null,1,1,1,1,1,1,1,1,1,1,1,1,1,1,1,1,1,1,1,1,1,1,1,1,1,1,1,1,1,1,1,1,1,1,1,1,1,1,1,1,1,1,1,1,1,1,1,1,1,1,1,1,1,1,1,1]
["AvailabilityFactor","RE1","TEC117",null,null,null,null,null,null,null,1,1,1,1,1,1,1,1,1,1,1,1,1,1,1,1,1,1,1,1,1,1,1,1,1,1,1,1,1,1,1,1,1,1,1,1,1,1,1,1,1,1,1,1,1,1,1,1,1,1,1,1,1,1,1,1]
["AvailabilityFactor","RE1","TEC118",null,null,null,null,null,null,null,1,1,1,1,1,1,1,1,1,1,1,1,1,1,1,1,1,1,1,1,1,1,1,1,1,1,1,1,1,1,1,1,1,1,1,1,1,1,1,1,1,1,1,1,1,1,1,1,1,1,1,1,1,1,1,1]
["AvailabilityFactor","RE1","TEC119",null,null,null,null,null,null,null,1,1,1,1,1,1,1,1,1,1,1,1,1,1,1,1,1,1,1,1,1,1,1,1,1,1,1,1,1,1,1,1,1,1,1,1,1,1,1,1,1,1,1,1,1,1,1,1,1,1,1,1,1,1,1,1]
["AvailabilityFactor","RE1","TEC120",null,null,null,null,null,null,null,1,1,1,1,1,1,1,1,1,1,1,1,1,1,1,1,1,1,1,1,1,1,1,1,1,1,1,1,1,1,1,1,1,1,1,1,1,1,1,1,1,1,1,1,1,1,1,1,1,1,1,1,1,1,1,1]
["AvailabilityFactor","RE1","TEC121",null,null,null,null,null,null,null,1,1,1,1,1,1,1,1,1,1,1,1,1,1,1,1,1,1,1,1,1,1,1,1,1,1,1,1,1,1,1,1,1,1,1,1,1,1,1,1,1,1,1,1,1,1,1,1,1,1,1,1,1,1,1,1]
["AvailabilityFactor","RE1","TEC122",null,null,null,null,null,null,null,1,1,1,1,1,1,1,1,1,1,1,1,1,1,1,1,1,1,1,1,1,1,1,1,1,1,1,1,1,1,1,1,1,1,1,1,1,1,1,1,1,1,1,1,1,1,1,1,1,1,1,1,1,1,1,1]
["AvailabilityFactor","RE1","TEC123",null,null,null,null,null,null,null,1,1,1,1,1,1,1,1,1,1,1,1,1,1,1,1,1,1,1,1,1,1,1,1,1,1,1,1,1,1,1,1,1,1,1,1,1,1,1,1,1,1,1,1,1,1,1,1,1,1,1,1,1,1,1,1]
["AvailabilityFactor","RE1","TEC124",null,null,null,null,null,null,null,1,1,1,1,1,1,1,1,1,1,1,1,1,1,1,1,1,1,1,1,1,1,1,1,1,1,1,1,1,1,1,1,1,1,1,1,1,1,1,1,1,1,1,1,1,1,1,1,1,1,1,1,1,1,1,1]
["AvailabilityFactor","RE1","TEC125",null,null,null,null,null,null,null,1,1,1,1,1,1,1,1,1,1,1,1,1,1,1,1,1,1,1,1,1,1,1,1,1,1,1,1,1,1,1,1,1,1,1,1,1,1,1,1,1,1,1,1,1,1,1,1,1,1,1,1,1,1,1,1]
["AvailabilityFactor","RE1","TEC126",null,null,null,null,null,null,null,1,1,1,1,1,1,1,1,1,1,1,1,1,1,1,1,1,1,1,1,1,1,1,1,1,1,1,1,1,1,1,1,1,1,1,1,1,1,1,1,1,1,1,1,1,1,1,1,1,1,1,1,1,1,1,1]
["AvailabilityFactor","RE1","TEC127",null,null,null,null,null,null,null,1,1,1,1,1,1,1,1,1,1,1,1,1,1,1,1,1,1,1,1,1,1,1,1,1,1,1,1,1,1,1,1,1,1,1,1,1,1,1,1,1,1,1,1,1,1,1,1,1,1,1,1,1,1,1,1]
["AvailabilityFactor","RE1","TEC128",null,null,null,null,null,null,null,1,1,1,1,1,1,1,1,1,1,1,1,1,1,1,1,1,1,1,1,1,1,1,1,1,1,1,1,1,1,1,1,1,1,1,1,1,1,1,1,1,1,1,1,1,1,1,1,1,1,1,1,1,1,1,1]
["AvailabilityFactor","RE1","TEC129",null,null,null,null,null,null,null,1,1,1,1,1,1,1,1,1,1,1,1,1,1,1,1,1,1,1,1,1,1,1,1,1,1,1,1,1,1,1,1,1,1,1,1,1,1,1,1,1,1,1,1,1,1,1,1,1,1,1,1,1,1,1,1]
["AvailabilityFactor","RE1","TEC130",null,null,null,null,null,null,null,1,1,1,1,1,1,1,1,1,1,1,1,1,1,1,1,1,1,1,1,1,1,1,1,1,1,1,1,1,1,1,1,1,1,1,1,1,1,1,1,1,1,1,1,1,1,1,1,1,1,1,1,1,1,1,1]
["AvailabilityFactor","RE1","TEC131",null,null,null,null,null,null,null,1,1,1,1,1,1,1,1,1,1,1,1,1,1,1,1,1,1,1,1,1,1,1,1,1,1,1,1,1,1,1,1,1,1,1,1,1,1,1,1,1,1,1,1,1,1,1,1,1,1,1,1,1,1,1,1]
["AvailabilityFactor","RE1","TEC132",null,null,null,null,null,null,null,1,1,1,1,1,1,1,1,1,1,1,1,1,1,1,1,1,1,1,1,1,1,1,1,1,1,1,1,1,1,1,1,1,1,1,1,1,1,1,1,1,1,1,1,1,1,1,1,1,1,1,1,1,1,1,1]
["AvailabilityFactor","RE1","TEC133",null,null,null,null,null,null,null,1,1,1,1,1,1,1,1,1,1,1,1,1,1,1,1,1,1,1,1,1,1,1,1,1,1,1,1,1,1,1,1,1,1,1,1,1,1,1,1,1,1,1,1,1,1,1,1,1,1,1,1,1,1,1,1]
["AvailabilityFactor","RE1","TEC134",null,null,null,null,null,null,null,1,1,1,1,1,1,1,1,1,1,1,1,1,1,1,1,1,1,1,1,1,1,1,1,1,1,1,1,1,1,1,1,1,1,1,1,1,1,1,1,1,1,1,1,1,1,1,1,1,1,1,1,1,1,1,1]
["AvailabilityFactor","RE1","TEC135",null,null,null,null,null,null,null,1,1,1,1,1,1,1,1,1,1,1,1,1,1,1,1,1,1,1,1,1,1,1,1,1,1,1,1,1,1,1,1,1,1,1,1,1,1,1,1,1,1,1,1,1,1,1,1,1,1,1,1,1,1,1,1]
["AvailabilityFactor","RE1","TEC136",null,null,null,null,null,null,null,1,1,1,1,1,1,1,1,1,1,1,1,1,1,1,1,1,1,1,1,1,1,1,1,1,1,1,1,1,1,1,1,1,1,1,1,1,1,1,1,1,1,1,1,1,1,1,1,1,1,1,1,1,1,1,1]
["AvailabilityFactor","RE1","TEC137",null,null,null,null,null,null,null,1,1,1,1,1,1,1,1,1,1,1,1,1,1,1,1,1,1,1,1,1,1,1,1,1,1,1,1,1,1,1,1,1,1,1,1,1,1,1,1,1,1,1,1,1,1,1,1,1,1,1,1,1,1,1,1]
["AvailabilityFactor","RE1","TEC138",null,null,null,null,null,null,null,1,1,1,1,1,1,1,1,1,1,1,1,1,1,1,1,1,1,1,1,1,1,1,1,1,1,1,1,1,1,1,1,1,1,1,1,1,1,1,1,1,1,1,1,1,1,1,1,1,1,1,1,1,1,1,1]
["AvailabilityFactor","RE1","TEC139",null,null,null,null,null,null,null,1,1,1,1,1,1,1,1,1,1,1,1,1,1,1,1,1,1,1,1,1,1,1,1,1,1,1,1,1,1,1,1,1,1,1,1,1,1,1,1,1,1,1,1,1,1,1,1,1,1,1,1,1,1,1,1]
["AvailabilityFactor","RE1","TEC140",null,null,null,null,null,null,null,1,1,1,1,1,1,1,1,1,1,1,1,1,1,1,1,1,1,1,1,1,1,1,1,1,1,1,1,1,1,1,1,1,1,1,1,1,1,1,1,1,1,1,1,1,1,1,1,1,1,1,1,1,1,1,1]
["AvailabilityFactor","RE1","TEC141",null,null,null,null,null,null,null,1,1,1,1,1,1,1,1,1,1,1,1,1,1,1,1,1,1,1,1,1,1,1,1,1,1,1,1,1,1,1,1,1,1,1,1,1,1,1,1,1,1,1,1,1,1,1,1,1,1,1,1,1,1,1,1]
["AvailabilityFactor","RE1","TEC142",null,null,null,null,null,null,null,1,1,1,1,1,1,1,1,1,1,1,1,1,1,1,1,1,1,1,1,1,1,1,1,1,1,1,1,1,1,1,1,1,1,1,1,1,1,1,1,1,1,1,1,1,1,1,1,1,1,1,1,1,1,1,1]
["AvailabilityFactor","RE1","TEC143",null,null,null,null,null,null,null,1,1,1,1,1,1,1,1,1,1,1,1,1,1,1,1,1,1,1,1,1,1,1,1,1,1,1,1,1,1,1,1,1,1,1,1,1,1,1,1,1,1,1,1,1,1,1,1,1,1,1,1,1,1,1,1]
["AvailabilityFactor","RE1","TEC144",null,null,null,null,null,null,null,1,1,1,1,1,1,1,1,1,1,1,1,1,1,1,1,1,1,1,1,1,1,1,1,1,1,1,1,1,1,1,1,1,1,1,1,1,1,1,1,1,1,1,1,1,1,1,1,1,1,1,1,1,1,1,1]
["AvailabilityFactor","RE1","TEC145",null,null,null,null,null,null,null,1,1,1,1,1,1,1,1,1,1,1,1,1,1,1,1,1,1,1,1,1,1,1,1,1,1,1,1,1,1,1,1,1,1,1,1,1,1,1,1,1,1,1,1,1,1,1,1,1,1,1,1,1,1,1,1]
["AvailabilityFactor","RE1","TEC146",null,null,null,null,null,null,null,1,1,1,1,1,1,1,1,1,1,1,1,1,1,1,1,1,1,1,1,1,1,1,1,1,1,1,1,1,1,1,1,1,1,1,1,1,1,1,1,1,1,1,1,1,1,1,1,1,1,1,1,1,1,1,1]
["AvailabilityFactor","RE1","TEC147",null,null,null,null,null,null,null,1,1,1,1,1,1,1,1,1,1,1,1,1,1,1,1,1,1,1,1,1,1,1,1,1,1,1,1,1,1,1,1,1,1,1,1,1,1,1,1,1,1,1,1,1,1,1,1,1,1,1,1,1,1,1,1]
["AvailabilityFactor","RE1","TEC148",null,null,null,null,null,null,null,1,1,1,1,1,1,1,1,1,1,1,1,1,1,1,1,1,1,1,1,1,1,1,1,1,1,1,1,1,1,1,1,1,1,1,1,1,1,1,1,1,1,1,1,1,1,1,1,1,1,1,1,1,1,1,1]
["AvailabilityFactor","RE1","TEC149",null,null,null,null,null,null,null,1,1,1,1,1,1,1,1,1,1,1,1,1,1,1,1,1,1,1,1,1,1,1,1,1,1,1,1,1,1,1,1,1,1,1,1,1,1,1,1,1,1,1,1,1,1,1,1,1,1,1,1,1,1,1,1]
["AvailabilityFactor","RE1","TEC150",null,null,null,null,null,null,null,1,1,1,1,1,1,1,1,1,1,1,1,1,1,1,1,1,1,1,1,1,1,1,1,1,1,1,1,1,1,1,1,1,1,1,1,1,1,1,1,1,1,1,1,1,1,1,1,1,1,1,1,1,1,1,1]
["AvailabilityFactor","RE1","TEC151",null,null,null,null,null,null,null,1,1,1,1,1,1,1,1,1,1,1,1,1,1,1,1,1,1,1,1,1,1,1,1,1,1,1,1,1,1,1,1,1,1,1,1,1,1,1,1,1,1,1,1,1,1,1,1,1,1,1,1,1,1,1,1]
["AvailabilityFactor","RE1","TEC152",null,null,null,null,null,null,null,1,1,1,1,1,1,1,1,1,1,1,1,1,1,1,1,1,1,1,1,1,1,1,1,1,1,1,1,1,1,1,1,1,1,1,1,1,1,1,1,1,1,1,1,1,1,1,1,1,1,1,1,1,1,1,1]
["AvailabilityFactor","RE1","TEC153",null,null,null,null,null,null,null,1,1,1,1,1,1,1,1,1,1,1,1,1,1,1,1,1,1,1,1,1,1,1,1,1,1,1,1,1,1,1,1,1,1,1,1,1,1,1,1,1,1,1,1,1,1,1,1,1,1,1,1,1,1,1,1]
["AvailabilityFactor","RE1","TEC154",null,null,null,null,null,null,null,1,1,1,1,1,1,1,1,1,1,1,1,1,1,1,1,1,1,1,1,1,1,1,1,1,1,1,1,1,1,1,1,1,1,1,1,1,1,1,1,1,1,1,1,1,1,1,1,1,1,1,1,1,1,1,1]
["AvailabilityFactor","RE1","TEC155",null,null,null,null,null,null,null,1,1,1,1,1,1,1,1,1,1,1,1,1,1,1,1,1,1,1,1,1,1,1,1,1,1,1,1,1,1,1,1,1,1,1,1,1,1,1,1,1,1,1,1,1,1,1,1,1,1,1,1,1,1,1,1]
["AvailabilityFactor","RE1","TEC156",null,null,null,null,null,null,null,1,1,1,1,1,1,1,1,1,1,1,1,1,1,1,1,1,1,1,1,1,1,1,1,1,1,1,1,1,1,1,1,1,1,1,1,1,1,1,1,1,1,1,1,1,1,1,1,1,1,1,1,1,1,1,1]
["AvailabilityFactor","RE1","TEC157",null,null,null,null,null,null,null,1,1,1,1,1,1,1,1,1,1,1,1,1,1,1,1,1,1,1,1,1,1,1,1,1,1,1,1,1,1,1,1,1,1,1,1,1,1,1,1,1,1,1,1,1,1,1,1,1,1,1,1,1,1,1,1]
["AvailabilityFactor","RE1","TEC158",null,null,null,null,null,null,null,1,1,1,1,1,1,1,1,1,1,1,1,1,1,1,1,1,1,1,1,1,1,1,1,1,1,1,1,1,1,1,1,1,1,1,1,1,1,1,1,1,1,1,1,1,1,1,1,1,1,1,1,1,1,1,1]
["AvailabilityFactor","RE1","TEC159",null,null,null,null,null,null,null,1,1,1,1,1,1,1,1,1,1,1,1,1,1,1,1,1,1,1,1,1,1,1,1,1,1,1,1,1,1,1,1,1,1,1,1,1,1,1,1,1,1,1,1,1,1,1,1,1,1,1,1,1,1,1,1]
["AvailabilityFactor","RE1","TEC160",null,null,null,null,null,null,null,1,1,1,1,1,1,1,1,1,1,1,1,1,1,1,1,1,1,1,1,1,1,1,1,1,1,1,1,1,1,1,1,1,1,1,1,1,1,1,1,1,1,1,1,1,1,1,1,1,1,1,1,1,1,1,1]
["AvailabilityFactor","RE1","TEC161",null,null,null,null,null,null,null,1,1,1,1,1,1,1,1,1,1,1,1,1,1,1,1,1,1,1,1,1,1,1,1,1,1,1,1,1,1,1,1,1,1,1,1,1,1,1,1,1,1,1,1,1,1,1,1,1,1,1,1,1,1,1,1]
["AvailabilityFactor","RE1","TEC162",null,null,null,null,null,null,null,1,1,1,1,1,1,1,1,1,1,1,1,1,1,1,1,1,1,1,1,1,1,1,1,1,1,1,1,1,1,1,1,1,1,1,1,1,1,1,1,1,1,1,1,1,1,1,1,1,1,1,1,1,1,1,1]
["AvailabilityFactor","RE1","TEC163",null,null,null,null,null,null,null,1,1,1,1,1,1,1,1,1,1,1,1,1,1,1,1,1,1,1,1,1,1,1,1,1,1,1,1,1,1,1,1,1,1,1,1,1,1,1,1,1,1,1,1,1,1,1,1,1,1,1,1,1,1,1,1]
["AvailabilityFactor","RE1","TEC164",null,null,null,null,null,null,null,1,1,1,1,1,1,1,1,1,1,1,1,1,1,1,1,1,1,1,1,1,1,1,1,1,1,1,1,1,1,1,1,1,1,1,1,1,1,1,1,1,1,1,1,1,1,1,1,1,1,1,1,1,1,1,1]
["AvailabilityFactor","RE1","TEC165",null,null,null,null,null,null,null,1,1,1,1,1,1,1,1,1,1,1,1,1,1,1,1,1,1,1,1,1,1,1,1,1,1,1,1,1,1,1,1,1,1,1,1,1,1,1,1,1,1,1,1,1,1,1,1,1,1,1,1,1,1,1,1]
["AvailabilityFactor","RE1","TEC166",null,null,null,null,null,null,null,1,1,1,1,1,1,1,1,1,1,1,1,1,1,1,1,1,1,1,1,1,1,1,1,1,1,1,1,1,1,1,1,1,1,1,1,1,1,1,1,1,1,1,1,1,1,1,1,1,1,1,1,1,1,1,1]
["AvailabilityFactor","RE1","TEC167",null,null,null,null,null,null,null,1,1,1,1,1,1,1,1,1,1,1,1,1,1,1,1,1,1,1,1,1,1,1,1,1,1,1,1,1,1,1,1,1,1,1,1,1,1,1,1,1,1,1,1,1,1,1,1,1,1,1,1,1,1,1,1]
["AvailabilityFactor","RE1","TEC168",null,null,null,null,null,null,null,1,1,1,1,1,1,1,1,1,1,1,1,1,1,1,1,1,1,1,1,1,1,1,1,1,1,1,1,1,1,1,1,1,1,1,1,1,1,1,1,1,1,1,1,1,1,1,1,1,1,1,1,1,1,1,1]
["AvailabilityFactor","RE1","TEC169",null,null,null,null,null,null,null,1,1,1,1,1,1,1,1,1,1,1,1,1,1,1,1,1,1,1,1,1,1,1,1,1,1,1,1,1,1,1,1,1,1,1,1,1,1,1,1,1,1,1,1,1,1,1,1,1,1,1,1,1,1,1,1]
["AvailabilityFactor","RE1","TEC170",null,null,null,null,null,null,null,1,1,1,1,1,1,1,1,1,1,1,1,1,1,1,1,1,1,1,1,1,1,1,1,1,1,1,1,1,1,1,1,1,1,1,1,1,1,1,1,1,1,1,1,1,1,1,1,1,1,1,1,1,1,1,1]
["AvailabilityFactor","RE1","TEC171",null,null,null,null,null,null,null,1,1,1,1,1,1,1,1,1,1,1,1,1,1,1,1,1,1,1,1,1,1,1,1,1,1,1,1,1,1,1,1,1,1,1,1,1,1,1,1,1,1,1,1,1,1,1,1,1,1,1,1,1,1,1,1]
["AvailabilityFactor","RE1","TEC172",null,null,null,null,null,null,null,1,1,1,1,1,1,1,1,1,1,1,1,1,1,1,1,1,1,1,1,1,1,1,1,1,1,1,1,1,1,1,1,1,1,1,1,1,1,1,1,1,1,1,1,1,1,1,1,1,1,1,1,1,1,1,1]
["AvailabilityFactor","RE1","TEC173",null,null,null,null,null,null,null,1,1,1,1,1,1,1,1,1,1,1,1,1,1,1,1,1,1,1,1,1,1,1,1,1,1,1,1,1,1,1,1,1,1,1,1,1,1,1,1,1,1,1,1,1,1,1,1,1,1,1,1,1,1,1,1]
["AvailabilityFactor","RE1","TEC174",null,null,null,null,null,null,null,1,1,1,1,1,1,1,1,1,1,1,1,1,1,1,1,1,1,1,1,1,1,1,1,1,1,1,1,1,1,1,1,1,1,1,1,1,1,1,1,1,1,1,1,1,1,1,1,1,1,1,1,1,1,1,1]
["AvailabilityFactor","RE1","TEC175",null,null,null,null,null,null,null,1,1,1,1,1,1,1,1,1,1,1,1,1,1,1,1,1,1,1,1,1,1,1,1,1,1,1,1,1,1,1,1,1,1,1,1,1,1,1,1,1,1,1,1,1,1,1,1,1,1,1,1,1,1,1,1]
["AvailabilityFactor","RE1","TEC176",null,null,null,null,null,null,null,1,1,1,1,1,1,1,1,1,1,1,1,1,1,1,1,1,1,1,1,1,1,1,1,1,1,1,1,1,1,1,1,1,1,1,1,1,1,1,1,1,1,1,1,1,1,1,1,1,1,1,1,1,1,1,1]
["AvailabilityFactor","RE1","TEC177",null,null,null,null,null,null,null,1,1,1,1,1,1,1,1,1,1,1,1,1,1,1,1,1,1,1,1,1,1,1,1,1,1,1,1,1,1,1,1,1,1,1,1,1,1,1,1,1,1,1,1,1,1,1,1,1,1,1,1,1,1,1,1]
["AvailabilityFactor","RE1","TEC178",null,null,null,null,null,null,null,1,1,1,1,1,1,1,1,1,1,1,1,1,1,1,1,1,1,1,1,1,1,1,1,1,1,1,1,1,1,1,1,1,1,1,1,1,1,1,1,1,1,1,1,1,1,1,1,1,1,1,1,1,1,1,1]
["AvailabilityFactor","RE1","TEC179",null,null,null,null,null,null,null,1,1,1,1,1,1,1,1,1,1,1,1,1,1,1,1,1,1,1,1,1,1,1,1,1,1,1,1,1,1,1,1,1,1,1,1,1,1,1,1,1,1,1,1,1,1,1,1,1,1,1,1,1,1,1,1]
["AvailabilityFactor","RE1","TEC180",null,null,null,null,null,null,null,1,1,1,1,1,1,1,1,1,1,1,1,1,1,1,1,1,1,1,1,1,1,1,1,1,1,1,1,1,1,1,1,1,1,1,1,1,1,1,1,1,1,1,1,1,1,1,1,1,1,1,1,1,1,1,1]
["AvailabilityFactor","RE1","TEC181",null,null,null,null,null,null,null,1,1,1,1,1,1,1,1,1,1,1,1,1,1,1,1,1,1,1,1,1,1,1,1,1,1,1,1,1,1,1,1,1,1,1,1,1,1,1,1,1,1,1,1,1,1,1,1,1,1,1,1,1,1,1,1]
["AvailabilityFactor","RE1","TEC182",null,null,null,null,null,null,null,1,1,1,1,1,1,1,1,1,1,1,1,1,1,1,1,1,1,1,1,1,1,1,1,1,1,1,1,1,1,1,1,1,1,1,1,1,1,1,1,1,1,1,1,1,1,1,1,1,1,1,1,1,1,1,1]
["AvailabilityFactor","RE1","TEC183",null,null,null,null,null,null,null,1,1,1,1,1,1,1,1,1,1,1,1,1,1,1,1,1,1,1,1,1,1,1,1,1,1,1,1,1,1,1,1,1,1,1,1,1,1,1,1,1,1,1,1,1,1,1,1,1,1,1,1,1,1,1,1]
["AvailabilityFactor","RE1","TEC184",null,null,null,null,null,null,null,1,1,1,1,1,1,1,1,1,1,1,1,1,1,1,1,1,1,1,1,1,1,1,1,1,1,1,1,1,1,1,1,1,1,1,1,1,1,1,1,1,1,1,1,1,1,1,1,1,1,1,1,1,1,1,1]
["AvailabilityFactor","RE1","TEC185",null,null,null,null,null,null,null,1,1,1,1,1,1,1,1,1,1,1,1,1,1,1,1,1,1,1,1,1,1,1,1,1,1,1,1,1,1,1,1,1,1,1,1,1,1,1,1,1,1,1,1,1,1,1,1,1,1,1,1,1,1,1,1]
["AvailabilityFactor","RE1","TEC186",null,null,null,null,null,null,null,1,1,1,1,1,1,1,1,1,1,1,1,1,1,1,1,1,1,1,1,1,1,1,1,1,1,1,1,1,1,1,1,1,1,1,1,1,1,1,1,1,1,1,1,1,1,1,1,1,1,1,1,1,1,1,1]
["AvailabilityFactor","RE1","TEC187",null,null,null,null,null,null,null,1,1,1,1,1,1,1,1,1,1,1,1,1,1,1,1,1,1,1,1,1,1,1,1,1,1,1,1,1,1,1,1,1,1,1,1,1,1,1,1,1,1,1,1,1,1,1,1,1,1,1,1,1,1,1,1]
["AvailabilityFactor","RE1","TEC188",null,null,null,null,null,null,null,1,1,1,1,1,1,1,1,1,1,1,1,1,1,1,1,1,1,1,1,1,1,1,1,1,1,1,1,1,1,1,1,1,1,1,1,1,1,1,1,1,1,1,1,1,1,1,1,1,1,1,1,1,1,1,1]
["AvailabilityFactor","RE1","TEC189",null,null,null,null,null,null,null,1,1,1,1,1,1,1,1,1,1,1,1,1,1,1,1,1,1,1,1,1,1,1,1,1,1,1,1,1,1,1,1,1,1,1,1,1,1,1,1,1,1,1,1,1,1,1,1,1,1,1,1,1,1,1,1]
["AvailabilityFactor","RE1","TEC190",null,null,null,null,null,null,null,1,1,1,1,1,1,1,1,1,1,1,1,1,1,1,1,1,1,1,1,1,1,1,1,1,1,1,1,1,1,1,1,1,1,1,1,1,1,1,1,1,1,1,1,1,1,1,1,1,1,1,1,1,1,1,1]
["AvailabilityFactor","RE1","TEC191",null,null,null,null,null,null,null,1,1,1,1,1,1,1,1,1,1,1,1,1,1,1,1,1,1,1,1,1,1,1,1,1,1,1,1,1,1,1,1,1,1,1,1,1,1,1,1,1,1,1,1,1,1,1,1,1,1,1,1,1,1,1,1]
["AvailabilityFactor","RE1","TEC192",null,null,null,null,null,null,null,1,1,1,1,1,1,1,1,1,1,1,1,1,1,1,1,1,1,1,1,1,1,1,1,1,1,1,1,1,1,1,1,1,1,1,1,1,1,1,1,1,1,1,1,1,1,1,1,1,1,1,1,1,1,1,1]
["AvailabilityFactor","RE1","TEC193",null,null,null,null,null,null,null,1,1,1,1,1,1,1,1,1,1,1,1,1,1,1,1,1,1,1,1,1,1,1,1,1,1,1,1,1,1,1,1,1,1,1,1,1,1,1,1,1,1,1,1,1,1,1,1,1,1,1,1,1,1,1,1]
["AvailabilityFactor","RE1","TEC194",null,null,null,null,null,null,null,1,1,1,1,1,1,1,1,1,1,1,1,1,1,1,1,1,1,1,1,1,1,1,1,1,1,1,1,1,1,1,1,1,1,1,1,1,1,1,1,1,1,1,1,1,1,1,1,1,1,1,1,1,1,1,1]
["AvailabilityFactor","RE1","TEC195",null,null,null,null,null,null,null,1,1,1,1,1,1,1,1,1,1,1,1,1,1,1,1,1,1,1,1,1,1,1,1,1,1,1,1,1,1,1,1,1,1,1,1,1,1,1,1,1,1,1,1,1,1,1,1,1,1,1,1,1,1,1,1]
["AvailabilityFactor","RE1","TEC196",null,null,null,null,null,null,null,1,1,1,1,1,1,1,1,1,1,1,1,1,1,1,1,1,1,1,1,1,1,1,1,1,1,1,1,1,1,1,1,1,1,1,1,1,1,1,1,1,1,1,1,1,1,1,1,1,1,1,1,1,1,1,1]
["AvailabilityFactor","RE1","TEC197",null,null,null,null,null,null,null,1,1,1,1,1,1,1,1,1,1,1,1,1,1,1,1,1,1,1,1,1,1,1,1,1,1,1,1,1,1,1,1,1,1,1,1,1,1,1,1,1,1,1,1,1,1,1,1,1,1,1,1,1,1,1,1]
["AvailabilityFactor","RE1","TEC198",null,null,null,null,null,null,null,1,1,1,1,1,1,1,1,1,1,1,1,1,1,1,1,1,1,1,1,1,1,1,1,1,1,1,1,1,1,1,1,1,1,1,1,1,1,1,1,1,1,1,1,1,1,1,1,1,1,1,1,1,1,1,1]
["CapacityFactor","RE1","IMPOIL",null,null,null,"S101",null,null,null,1,1,1,1,1,1,1,1,1,1,1,1,1,1,1,1,1,1,1,1,1,1,1,1,1,1,1,1,1,1,1,1,1,1,1,1,1,1,1,1,1,1,1,1,1,1,1,1,1,1,1,1,1,1,1,1]
["CapacityFactor","RE1","IMPOIL",null,null,null,"S102",null,null,null,1,1,1,1,1,1,1,1,1,1,1,1,1,1,1,1,1,1,1,1,1,1,1,1,1,1,1,1,1,1,1,1,1,1,1,1,1,1,1,1,1,1,1,1,1,1,1,1,1,1,1,1,1,1,1,1]
["CapacityFactor","RE1","IMPOIL",null,null,null,"S103",null,null,null,1,1,1,1,1,1,1,1,1,1,1,1,1,1,1,1,1,1,1,1,1,1,1,1,1,1,1,1,1,1,1,1,1,1,1,1,1,1,1,1,1,1,1,1,1,1,1,1,1,1,1,1,1,1,1,1]
["CapacityFactor","RE1","IMPOIL",null,null,null,"S104",null,null,null,1,1,1,1,1,1,1,1,1,1,1,1,1,1,1,1,1,1,1,1,1,1,1,1,1,1,1,1,1,1,1,1,1,1,1,1,1,1,1,1,1,1,1,1,1,1,1,1,1,1,1,1,1,1,1,1]
["CapacityFactor","RE1","IMPOIL",null,null,null,"S105",null,null,null,1,1,1,1,1,1,1,1,1,1,1,1,1,1,1,1,1,1,1,1,1,1,1,1,1,1,1,1,1,1,1,1,1,1,1,1,1,1,1,1,1,1,1,1,1,1,1,1,1,1,1,1,1,1,1,1]
["CapacityFactor","RE1","IMPOIL",null,null,null,"S106",null,null,null,1,1,1,1,1,1,1,1,1,1,1,1,1,1,1,1,1,1,1,1,1,1,1,1,1,1,1,1,1,1,1,1,1,1,1,1,1,1,1,1,1,1,1,1,1,1,1,1,1,1,1,1,1,1,1,1]
["CapacityFactor","RE1","IMPOIL",null,null,null,"S107",null,null,null,1,1,1,1,1,1,1,1,1,1,1,1,1,1,1,1,1,1,1,1,1,1,1,1,1,1,1,1,1,1,1,1,1,1,1,1,1,1,1,1,1,1,1,1,1,1,1,1,1,1,1,1,1,1,1,1]
["CapacityFactor","RE1","IMPOIL",null,null,null,"S108",null,null,null,1,1,1,1,1,1,1,1,1,1,1,1,1,1,1,1,1,1,1,1,1,1,1,1,1,1,1,1,1,1,1,1,1,1,1,1,1,1,1,1,1,1,1,1,1,1,1,1,1,1,1,1,1,1,1,1]
["CapacityFactor","RE1","IMPOIL",null,null,null,"S109",null,null,null,1,1,1,1,1,1,1,1,1,1,1,1,1,1,1,1,1,1,1,1,1,1,1,1,1,1,1,1,1,1,1,1,1,1,1,1,1,1,1,1,1,1,1,1,1,1,1,1,1,1,1,1,1,1,1,1]
["CapacityFactor","RE1","IMPOIL",null,null,null,"S110",null,null,null,1,1,1,1,1,1,1,1,1,1,1,1,1,1,1,1,1,1,1,1,1,1,1,1,1,1,1,1,1,1,1,1,1,1,1,1,1,1,1,1,1,1,1,1,1,1,1,1,1,1,1,1,1,1,1,1]
["CapacityFactor","RE1","IMPOIL",null,null,null,"S111",null,null,null,1,1,1,1,1,1,1,1,1,1,1,1,1,1,1,1,1,1,1,1,1,1,1,1,1,1,1,1,1,1,1,1,1,1,1,1,1,1,1,1,1,1,1,1,1,1,1,1,1,1,1,1,1,1,1,1]
["CapacityFactor","RE1","IMPOIL",null,null,null,"S112",null,null,null,1,1,1,1,1,1,1,1,1,1,1,1,1,1,1,1,1,1,1,1,1,1,1,1,1,1,1,1,1,1,1,1,1,1,1,1,1,1,1,1,1,1,1,1,1,1,1,1,1,1,1,1,1,1,1,1]
["CapacityFactor","RE1","IMPOIL",null,null,null,"S113",null,null,null,1,1,1,1,1,1,1,1,1,1,1,1,1,1,1,1,1,1,1,1,1,1,1,1,1,1,1,1,1,1,1,1,1,1,1,1,1,1,1,1,1,1,1,1,1,1,1,1,1,1,1,1,1,1,1,1]
["CapacityFactor","RE1","IMPOIL",null,null,null,"S114",null,null,null,1,1,1,1,1,1,1,1,1,1,1,1,1,1,1,1,1,1,1,1,1,1,1,1,1,1,1,1,1,1,1,1,1,1,1,1,1,1,1,1,1,1,1,1,1,1,1,1,1,1,1,1,1,1,1,1]
["CapacityFactor","RE1","IMPOIL",null,null,null,"S115",null,null,null,1,1,1,1,1,1,1,1,1,1,1,1,1,1,1,1,1,1,1,1,1,1,1,1,1,1,1,1,1,1,1,1,1,1,1,1,1,1,1,1,1,1,1,1,1,1,1,1,1,1,1,1,1,1,1,1]
["CapacityFactor","RE1","IMPOIL",null,null,null,"S116",null,null,null,1,1,1,1,1,1,1,1,1,1,1,1,1,1,1,1,1,1,1,1,1,1,1,1,1,1,1,1,1,1,1,1,1,1,1,1,1,1,1,1,1,1,1,1,1,1,1,1,1,1,1,1,1,1,1,1]
["CapacityFactor","RE1","IMPOIL",null,null,null,"S117",null,null,null,1,1,1,1,1,1,1,1,1,1,1,1,1,1,1,1,1,1,1,1,1,1,1,1,1,1,1,1,1,1,1,1,1,1,1,1,1,1,1,1,1,1,1,1,1,1,1,1,1,1,1,1,1,1,1,1]
["CapacityFactor","RE1","IMPOIL",null,null,null,"S118",null,null,null,1,1,1,1,1,1,1,1,1,1,1,1,1,1,1,1,1,1,1,1,1,1,1,1,1,1,1,1,1,1,1,1,1,1,1,1,1,1,1,1,1,1,1,1,1,1,1,1,1,1,1,1,1,1,1,1]
["CapacityFactor","RE1","IMPOIL",null,null,null,"S119",null,null,null,1,1,1,1,1,1,1,1,1,1,1,1,1,1,1,1,1,1,1,1,1,1,1,1,1,1,1,1,1,1,1,1,1,1,1,1,1,1,1,1,1,1,1,1,1,1,1,1,1,1,1,1,1,1,1,1]
["CapacityFactor","RE1","IMPOIL",null,null,null,"S120",null,null,null,1,1,1,1,1,1,1,1,1,1,1,1,1,1,1,1,1,1,1,1,1,1,1,1,1,1,1,1,1,1,1,1,1,1,1,1,1,1,1,1,1,1,1,1,1,1,1,1,1,1,1,1,1,1,1,1]
["CapacityFactor","RE1","IMPOIL",null,null,null,"S121",null,null,null,1,1,1,1,1,1,1,1,1,1,1,1,1,1,1,1,1,1,1,1,1,1,1,1,1,1,1,1,1,1,1,1,1,1,1,1,1,1,1,1,1,1,1,1,1,1,1,1,1,1,1,1,1,1,1,1]
["CapacityFactor","RE1","IMPOIL",null,null,null,"S122",null,null,null,1,1,1,1,1,1,1,1,1,1,1,1,1,1,1,1,1,1,1,1,1,1,1,1,1,1,1,1,1,1,1,1,1,1,1,1,1,1,1,1,1,1,1,1,1,1,1,1,1,1,1,1,1,1,1,1]
["CapacityFactor","RE1","IMPOIL",null,null,null,"S123",null,null,null,1,1,1,1,1,1,1,1,1,1,1,1,1,1,1,1,1,1,1,1,1,1,1,1,1,1,1,1,1,1,1,1,1,1,1,1,1,1,1,1,1,1,1,1,1,1,1,1,1,1,1,1,1,1,1,1]
["CapacityFactor","RE1","IMPOIL",null,null,null,"S124",null,null,null,1,1,1,1,1,1,1,1,1,1,1,1,1,1,1,1,1,1,1,1,1,1,1,1,1,1,1,1,1,1,1,1,1,1,1,1,1,1,1,1,1,1,1,1,1,1,1,1,1,1,1,1,1,1,1,1]
["CapacityFactor","RE1","IMPOIL",null,null,null,"S201",null,null,null,1,1,1,1,1,1,1,1,1,1,1,1,1,1,1,1,1,1,1,1,1,1,1,1,1,1,1,1,1,1,1,1,1,1,1,1,1,1,1,1,1,1,1,1,1,1,1,1,1,1,1,1,1,1,1,1]
["CapacityFactor","RE1","IMPOIL",null,null,null,"S202",null,null,null,1,1,1,1,1,1,1,1,1,1,1,1,1,1,1,1,1,1,1,1,1,1,1,1,1,1,1,1,1,1,1,1,1,1,1,1,1,1,1,1,1,1,1,1,1,1,1,1,1,1,1,1,1,1,1,1]
["CapacityFactor","RE1","IMPOIL",null,null,null,"S203",null,null,null,1,1,1,1,1,1,1,1,1,1,1,1,1,1,1,1,1,1,1,1,1,1,1,1,1,1,1,1,1,1,1,1,1,1,1,1,1,1,1,1,1,1,1,1,1,1,1,1,1,1,1,1,1,1,1,1]
["CapacityFactor","RE1","IMPOIL",null,null,null,"S204",null,null,null,1,1,1,1,1,1,1,1,1,1,1,1,1,1,1,1,1,1,1,1,1,1,1,1,1,1,1,1,1,1,1,1,1,1,1,1,1,1,1,1,1,1,1,1,1,1,1,1,1,1,1,1,1,1,1,1]
["CapacityFactor","RE1","IMPOIL",null,null,null,"S205",null,null,null,1,1,1,1,1,1,1,1,1,1,1,1,1,1,1,1,1,1,1,1,1,1,1,1,1,1,1,1,1,1,1,1,1,1,1,1,1,1,1,1,1,1,1,1,1,1,1,1,1,1,1,1,1,1,1,1]
["CapacityFactor","RE1","IMPOIL",null,null,null,"S206",null,null,null,1,1,1,1,1,1,1,1,1,1,1,1,1,1,1,1,1,1,1,1,1,1,1,1,1,1,1,1,1,1,1,1,1,1,1,1,1,1,1,1,1,1,1,1,1,1,1,1,1,1,1,1,1,1,1,1]
["CapacityFactor","RE1","IMPOIL",null,null,null,"S207",null,null,null,1,1,1,1,1,1,1,1,1,1,1,1,1,1,1,1,1,1,1,1,1,1,1,1,1,1,1,1,1,1,1,1,1,1,1,1,1,1,1,1,1,1,1,1,1,1,1,1,1,1,1,1,1,1,1,1]
["CapacityFactor","RE1","IMPOIL",null,null,null,"S208",null,null,null,1,1,1,1,1,1,1,1,1,1,1,1,1,1,1,1,1,1,1,1,1,1,1,1,1,1,1,1,1,1,1,1,1,1,1,1,1,1,1,1,1,1,1,1,1,1,1,1,1,1,1,1,1,1,1,1]
["CapacityFactor","RE1","IMPOIL",null,null,null,"S209",null,null,null,1,1,1,1,1,1,1,1,1,1,1,1,1,1,1,1,1,1,1,1,1,1,1,1,1,1,1,1,1,1,1,1,1,1,1,1,1,1,1,1,1,1,1,1,1,1,1,1,1,1,1,1,1,1,1,1]
["CapacityFactor","RE1","IMPOIL",null,null,null,"S210",null,null,null,1,1,1,1,1,1,1,1,1,1,1,1,1,1,1,1,1,1,1,1,1,1,1,1,1,1,1,1,1,1,1,1,1,1,1,1,1,1,1,1,1,1,1,1,1,1,1,1,1,1,1,1,1,1,1,1]
["CapacityFactor","RE1","IMPOIL",null,null,null,"S211",null,null,null,1,1,1,1,1,1,1,1,1,1,1,1,1,1,1,1,1,1,1,1,1,1,1,1,1,1,1,1,1,1,1,1,1,1,1,1,1,1,1,1,1,1,1,1,1,1,1,1,1,1,1,1,1,1,1,1]
["CapacityFactor","RE1","IMPOIL",null,null,null,"S212",null,null,null,1,1,1,1,1,1,1,1,1,1,1,1,1,1,1,1,1,1,1,1,1,1,1,1,1,1,1,1,1,1,1,1,1,1,1,1,1,1,1,1,1,1,1,1,1,1,1,1,1,1,1,1,1,1,1,1]
["CapacityFactor","RE1","IMPOIL",null,null,null,"S213",null,null,null,1,1,1,1,1,1,1,1,1,1,1,1,1,1,1,1,1,1,1,1,1,1,1,1,1,1,1,1,1,1,1,1,1,1,1,1,1,1,1,1,1,1,1,1,1,1,1,1,1,1,1,1,1,1,1,1]
["CapacityFactor","RE1","IMPOIL",null,null,null,"S214",null,null,null,1,1,1,1,1,1,1,1,1,1,1,1,1,1,1,1,1,1,1,1,1,1,1,1,1,1,1,1,1,1,1,1,1,1,1,1,1,1,1,1,1,1,1,1,1,1,1,1,1,1,1,1,1,1,1,1]
["CapacityFactor","RE1","IMPOIL",null,null,null,"S215",null,null,null,1,1,1,1,1,1,1,1,1,1,1,1,1,1,1,1,1,1,1,1,1,1,1,1,1,1,1,1,1,1,1,1,1,1,1,1,1,1,1,1,1,1,1,1,1,1,1,1,1,1,1,1,1,1,1,1]
["CapacityFactor","RE1","IMPOIL",null,null,null,"S216",null,null,null,1,1,1,1,1,1,1,1,1,1,1,1,1,1,1,1,1,1,1,1,1,1,1,1,1,1,1,1,1,1,1,1,1,1,1,1,1,1,1,1,1,1,1,1,1,1,1,1,1,1,1,1,1,1,1,1]
["CapacityFactor","RE1","IMPOIL",null,null,null,"S217",null,null,null,1,1,1,1,1,1,1,1,1,1,1,1,1,1,1,1,1,1,1,1,1,1,1,1,1,1,1,1,1,1,1,1,1,1,1,1,1,1,1,1,1,1,1,1,1,1,1,1,1,1,1,1,1,1,1,1]
["CapacityFactor","RE1","IMPOIL",null,null,null,"S218",null,null,null,1,1,1,1,1,1,1,1,1,1,1,1,1,1,1,1,1,1,1,1,1,1,1,1,1,1,1,1,1,1,1,1,1,1,1,1,1,1,1,1,1,1,1,1,1,1,1,1,1,1,1,1,1,1,1,1]
["CapacityFactor","RE1","IMPOIL",null,null,null,"S219",null,null,null,1,1,1,1,1,1,1,1,1,1,1,1,1,1,1,1,1,1,1,1,1,1,1,1,1,1,1,1,1,1,1,1,1,1,1,1,1,1,1,1,1,1,1,1,1,1,1,1,1,1,1,1,1,1,1,1]
["CapacityFactor","RE1","IMPOIL",null,null,null,"S220",null,null,null,1,1,1,1,1,1,1,1,1,1,1,1,1,1,1,1,1,1,1,1,1,1,1,1,1,1,1,1,1,1,1,1,1,1,1,1,1,1,1,1,1,1,1,1,1,1,1,1,1,1,1,1,1,1,1,1]
["CapacityFactor","RE1","IMPOIL",null,null,null,"S221",null,null,null,1,1,1,1,1,1,1,1,1,1,1,1,1,1,1,1,1,1,1,1,1,1,1,1,1,1,1,1,1,1,1,1,1,1,1,1,1,1,1,1,1,1,1,1,1,1,1,1,1,1,1,1,1,1,1,1]
["CapacityFactor","RE1","IMPOIL",null,null,null,"S222",null,null,null,1,1,1,1,1,1,1,1,1,1,1,1,1,1,1,1,1,1,1,1,1,1,1,1,1,1,1,1,1,1,1,1,1,1,1,1,1,1,1,1,1,1,1,1,1,1,1,1,1,1,1,1,1,1,1,1]
["CapacityFactor","RE1","IMPOIL",null,null,null,"S223",null,null,null,1,1,1,1,1,1,1,1,1,1,1,1,1,1,1,1,1,1,1,1,1,1,1,1,1,1,1,1,1,1,1,1,1,1,1,1,1,1,1,1,1,1,1,1,1,1,1,1,1,1,1,1,1,1,1,1]
["CapacityFactor","RE1","IMPOIL",null,null,null,"S224",null,null,null,1,1,1,1,1,1,1,1,1,1,1,1,1,1,1,1,1,1,1,1,1,1,1,1,1,1,1,1,1,1,1,1,1,1,1,1,1,1,1,1,1,1,1,1,1,1,1,1,1,1,1,1,1,1,1,1]
["CapacityFactor","RE1","IMPOIL",null,null,null,"S301",null,null,null,1,1,1,1,1,1,1,1,1,1,1,1,1,1,1,1,1,1,1,1,1,1,1,1,1,1,1,1,1,1,1,1,1,1,1,1,1,1,1,1,1,1,1,1,1,1,1,1,1,1,1,1,1,1,1,1]
["CapacityFactor","RE1","IMPOIL",null,null,null,"S302",null,null,null,1,1,1,1,1,1,1,1,1,1,1,1,1,1,1,1,1,1,1,1,1,1,1,1,1,1,1,1,1,1,1,1,1,1,1,1,1,1,1,1,1,1,1,1,1,1,1,1,1,1,1,1,1,1,1,1]
["CapacityFactor","RE1","IMPOIL",null,null,null,"S303",null,null,null,1,1,1,1,1,1,1,1,1,1,1,1,1,1,1,1,1,1,1,1,1,1,1,1,1,1,1,1,1,1,1,1,1,1,1,1,1,1,1,1,1,1,1,1,1,1,1,1,1,1,1,1,1,1,1,1]
["CapacityFactor","RE1","IMPOIL",null,null,null,"S304",null,null,null,1,1,1,1,1,1,1,1,1,1,1,1,1,1,1,1,1,1,1,1,1,1,1,1,1,1,1,1,1,1,1,1,1,1,1,1,1,1,1,1,1,1,1,1,1,1,1,1,1,1,1,1,1,1,1,1]
["CapacityFactor","RE1","IMPOIL",null,null,null,"S305",null,null,null,1,1,1,1,1,1,1,1,1,1,1,1,1,1,1,1,1,1,1,1,1,1,1,1,1,1,1,1,1,1,1,1,1,1,1,1,1,1,1,1,1,1,1,1,1,1,1,1,1,1,1,1,1,1,1,1]
["CapacityFactor","RE1","IMPOIL",null,null,null,"S306",null,null,null,1,1,1,1,1,1,1,1,1,1,1,1,1,1,1,1,1,1,1,1,1,1,1,1,1,1,1,1,1,1,1,1,1,1,1,1,1,1,1,1,1,1,1,1,1,1,1,1,1,1,1,1,1,1,1,1]
["CapacityFactor","RE1","IMPOIL",null,null,null,"S307",null,null,null,1,1,1,1,1,1,1,1,1,1,1,1,1,1,1,1,1,1,1,1,1,1,1,1,1,1,1,1,1,1,1,1,1,1,1,1,1,1,1,1,1,1,1,1,1,1,1,1,1,1,1,1,1,1,1,1]
["CapacityFactor","RE1","IMPOIL",null,null,null,"S308",null,null,null,1,1,1,1,1,1,1,1,1,1,1,1,1,1,1,1,1,1,1,1,1,1,1,1,1,1,1,1,1,1,1,1,1,1,1,1,1,1,1,1,1,1,1,1,1,1,1,1,1,1,1,1,1,1,1,1]
["CapacityFactor","RE1","IMPOIL",null,null,null,"S309",null,null,null,1,1,1,1,1,1,1,1,1,1,1,1,1,1,1,1,1,1,1,1,1,1,1,1,1,1,1,1,1,1,1,1,1,1,1,1,1,1,1,1,1,1,1,1,1,1,1,1,1,1,1,1,1,1,1,1]
["CapacityFactor","RE1","IMPOIL",null,null,null,"S310",null,null,null,1,1,1,1,1,1,1,1,1,1,1,1,1,1,1,1,1,1,1,1,1,1,1,1,1,1,1,1,1,1,1,1,1,1,1,1,1,1,1,1,1,1,1,1,1,1,1,1,1,1,1,1,1,1,1,1]
["CapacityFactor","RE1","IMPOIL",null,null,null,"S311",null,null,null,1,1,1,1,1,1,1,1,1,1,1,1,1,1,1,1,1,1,1,1,1,1,1,1,1,1,1,1,1,1,1,1,1,1,1,1,1,1,1,1,1,1,1,1,1,1,1,1,1,1,1,1,1,1,1,1]
["CapacityFactor","RE1","IMPOIL",null,null,null,"S312",null,null,null,1,1,1,1,1,1,1,1,1,1,1,1,1,1,1,1,1,1,1,1,1,1,1,1,1,1,1,1,1,1,1,1,1,1,1,1,1,1,1,1,1,1,1,1,1,1,1,1,1,1,1,1,1,1,1,1]
["CapacityFactor","RE1","IMPOIL",null,null,null,"S313",null,null,null,1,1,1,1,1,1,1,1,1,1,1,1,1,1,1,1,1,1,1,1,1,1,1,1,1,1,1,1,1,1,1,1,1,1,1,1,1,1,1,1,1,1,1,1,1,1,1,1,1,1,1,1,1,1,1,1]
["CapacityFactor","RE1","IMPOIL",null,null,null,"S314",null,null,null,1,1,1,1,1,1,1,1,1,1,1,1,1,1,1,1,1,1,1,1,1,1,1,1,1,1,1,1,1,1,1,1,1,1,1,1,1,1,1,1,1,1,1,1,1,1,1,1,1,1,1,1,1,1,1,1]
["CapacityFactor","RE1","IMPOIL",null,null,null,"S315",null,null,null,1,1,1,1,1,1,1,1,1,1,1,1,1,1,1,1,1,1,1,1,1,1,1,1,1,1,1,1,1,1,1,1,1,1,1,1,1,1,1,1,1,1,1,1,1,1,1,1,1,1,1,1,1,1,1,1]
["CapacityFactor","RE1","IMPOIL",null,null,null,"S316",null,null,null,1,1,1,1,1,1,1,1,1,1,1,1,1,1,1,1,1,1,1,1,1,1,1,1,1,1,1,1,1,1,1,1,1,1,1,1,1,1,1,1,1,1,1,1,1,1,1,1,1,1,1,1,1,1,1,1]
["CapacityFactor","RE1","IMPOIL",null,null,null,"S317",null,null,null,1,1,1,1,1,1,1,1,1,1,1,1,1,1,1,1,1,1,1,1,1,1,1,1,1,1,1,1,1,1,1,1,1,1,1,1,1,1,1,1,1,1,1,1,1,1,1,1,1,1,1,1,1,1,1,1]
["CapacityFactor","RE1","IMPOIL",null,null,null,"S318",null,null,null,1,1,1,1,1,1,1,1,1,1,1,1,1,1,1,1,1,1,1,1,1,1,1,1,1,1,1,1,1,1,1,1,1,1,1,1,1,1,1,1,1,1,1,1,1,1,1,1,1,1,1,1,1,1,1,1]
["CapacityFactor","RE1","IMPOIL",null,null,null,"S319",null,null,null,1,1,1,1,1,1,1,1,1,1,1,1,1,1,1,1,1,1,1,1,1,1,1,1,1,1,1,1,1,1,1,1,1,1,1,1,1,1,1,1,1,1,1,1,1,1,1,1,1,1,1,1,1,1,1,1]
["CapacityFactor","RE1","IMPOIL",null,null,null,"S320",null,null,null,1,1,1,1,1,1,1,1,1,1,1,1,1,1,1,1,1,1,1,1,1,1,1,1,1,1,1,1,1,1,1,1,1,1,1,1,1,1,1,1,1,1,1,1,1,1,1,1,1,1,1,1,1,1,1,1]
["CapacityFactor","RE1","IMPOIL",null,null,null,"S321",null,null,null,1,1,1,1,1,1,1,1,1,1,1,1,1,1,1,1,1,1,1,1,1,1,1,1,1,1,1,1,1,1,1,1,1,1,1,1,1,1,1,1,1,1,1,1,1,1,1,1,1,1,1,1,1,1,1,1]
["CapacityFactor","RE1","IMPOIL",null,null,null,"S322",null,null,null,1,1,1,1,1,1,1,1,1,1,1,1,1,1,1,1,1,1,1,1,1,1,1,1,1,1,1,1,1,1,1,1,1,1,1,1,1,1,1,1,1,1,1,1,1,1,1,1,1,1,1,1,1,1,1,1]
["CapacityFactor","RE1","IMPOIL",null,null,null,"S323",null,null,null,1,1,1,1,1,1,1,1,1,1,1,1,1,1,1,1,1,1,1,1,1,1,1,1,1,1,1,1,1,1,1,1,1,1,1,1,1,1,1,1,1,1,1,1,1,1,1,1,1,1,1,1,1,1,1,1]
["CapacityFactor","RE1","IMPOIL",null,null,null,"S324",null,null,null,1,1,1,1,1,1,1,1,1,1,1,1,1,1,1,1,1,1,1,1,1,1,1,1,1,1,1,1,1,1,1,1,1,1,1,1,1,1,1,1,1,1,1,1,1,1,1,1,1,1,1,1,1,1,1,1]
["CapacityFactor","RE1","IMPOIL",null,null,null,"S401",null,null,null,1,1,1,1,1,1,1,1,1,1,1,1,1,1,1,1,1,1,1,1,1,1,1,1,1,1,1,1,1,1,1,1,1,1,1,1,1,1,1,1,1,1,1,1,1,1,1,1,1,1,1,1,1,1,1,1]
["CapacityFactor","RE1","IMPOIL",null,null,null,"S402",null,null,null,1,1,1,1,1,1,1,1,1,1,1,1,1,1,1,1,1,1,1,1,1,1,1,1,1,1,1,1,1,1,1,1,1,1,1,1,1,1,1,1,1,1,1,1,1,1,1,1,1,1,1,1,1,1,1,1]
["CapacityFactor","RE1","IMPOIL",null,null,null,"S403",null,null,null,1,1,1,1,1,1,1,1,1,1,1,1,1,1,1,1,1,1,1,1,1,1,1,1,1,1,1,1,1,1,1,1,1,1,1,1,1,1,1,1,1,1,1,1,1,1,1,1,1,1,1,1,1,1,1,1]
["CapacityFactor","RE1","IMPOIL",null,null,null,"S404",null,null,null,1,1,1,1,1,1,1,1,1,1,1,1,1,1,1,1,1,1,1,1,1,1,1,1,1,1,1,1,1,1,1,1,1,1,1,1,1,1,1,1,1,1,1,1,1,1,1,1,1,1,1,1,1,1,1,1]
["CapacityFactor","RE1","IMPOIL",null,null,null,"S405",null,null,null,1,1,1,1,1,1,1,1,1,1,1,1,1,1,1,1,1,1,1,1,1,1,1,1,1,1,1,1,1,1,1,1,1,1,1,1,1,1,1,1,1,1,1,1,1,1,1,1,1,1,1,1,1,1,1,1]
["CapacityFactor","RE1","IMPOIL",null,null,null,"S406",null,null,null,1,1,1,1,1,1,1,1,1,1,1,1,1,1,1,1,1,1,1,1,1,1,1,1,1,1,1,1,1,1,1,1,1,1,1,1,1,1,1,1,1,1,1,1,1,1,1,1,1,1,1,1,1,1,1,1]
["CapacityFactor","RE1","IMPOIL",null,null,null,"S407",null,null,null,1,1,1,1,1,1,1,1,1,1,1,1,1,1,1,1,1,1,1,1,1,1,1,1,1,1,1,1,1,1,1,1,1,1,1,1,1,1,1,1,1,1,1,1,1,1,1,1,1,1,1,1,1,1,1,1]
["CapacityFactor","RE1","IMPOIL",null,null,null,"S408",null,null,null,1,1,1,1,1,1,1,1,1,1,1,1,1,1,1,1,1,1,1,1,1,1,1,1,1,1,1,1,1,1,1,1,1,1,1,1,1,1,1,1,1,1,1,1,1,1,1,1,1,1,1,1,1,1,1,1]
["CapacityFactor","RE1","IMPOIL",null,null,null,"S409",null,null,null,1,1,1,1,1,1,1,1,1,1,1,1,1,1,1,1,1,1,1,1,1,1,1,1,1,1,1,1,1,1,1,1,1,1,1,1,1,1,1,1,1,1,1,1,1,1,1,1,1,1,1,1,1,1,1,1]
["CapacityFactor","RE1","IMPOIL",null,null,null,"S410",null,null,null,1,1,1,1,1,1,1,1,1,1,1,1,1,1,1,1,1,1,1,1,1,1,1,1,1,1,1,1,1,1,1,1,1,1,1,1,1,1,1,1,1,1,1,1,1,1,1,1,1,1,1,1,1,1,1,1]
["CapacityFactor","RE1","IMPOIL",null,null,null,"S411",null,null,null,1,1,1,1,1,1,1,1,1,1,1,1,1,1,1,1,1,1,1,1,1,1,1,1,1,1,1,1,1,1,1,1,1,1,1,1,1,1,1,1,1,1,1,1,1,1,1,1,1,1,1,1,1,1,1,1]
["CapacityFactor","RE1","IMPOIL",null,null,null,"S412",null,null,null,1,1,1,1,1,1,1,1,1,1,1,1,1,1,1,1,1,1,1,1,1,1,1,1,1,1,1,1,1,1,1,1,1,1,1,1,1,1,1,1,1,1,1,1,1,1,1,1,1,1,1,1,1,1,1,1]
["CapacityFactor","RE1","IMPOIL",null,null,null,"S413",null,null,null,1,1,1,1,1,1,1,1,1,1,1,1,1,1,1,1,1,1,1,1,1,1,1,1,1,1,1,1,1,1,1,1,1,1,1,1,1,1,1,1,1,1,1,1,1,1,1,1,1,1,1,1,1,1,1,1]
["CapacityFactor","RE1","IMPOIL",null,null,null,"S414",null,null,null,1,1,1,1,1,1,1,1,1,1,1,1,1,1,1,1,1,1,1,1,1,1,1,1,1,1,1,1,1,1,1,1,1,1,1,1,1,1,1,1,1,1,1,1,1,1,1,1,1,1,1,1,1,1,1,1]
["CapacityFactor","RE1","IMPOIL",null,null,null,"S415",null,null,null,1,1,1,1,1,1,1,1,1,1,1,1,1,1,1,1,1,1,1,1,1,1,1,1,1,1,1,1,1,1,1,1,1,1,1,1,1,1,1,1,1,1,1,1,1,1,1,1,1,1,1,1,1,1,1,1]
["CapacityFactor","RE1","IMPOIL",null,null,null,"S416",null,null,null,1,1,1,1,1,1,1,1,1,1,1,1,1,1,1,1,1,1,1,1,1,1,1,1,1,1,1,1,1,1,1,1,1,1,1,1,1,1,1,1,1,1,1,1,1,1,1,1,1,1,1,1,1,1,1,1]
["CapacityFactor","RE1","IMPOIL",null,null,null,"S417",null,null,null,1,1,1,1,1,1,1,1,1,1,1,1,1,1,1,1,1,1,1,1,1,1,1,1,1,1,1,1,1,1,1,1,1,1,1,1,1,1,1,1,1,1,1,1,1,1,1,1,1,1,1,1,1,1,1,1]
["CapacityFactor","RE1","IMPOIL",null,null,null,"S418",null,null,null,1,1,1,1,1,1,1,1,1,1,1,1,1,1,1,1,1,1,1,1,1,1,1,1,1,1,1,1,1,1,1,1,1,1,1,1,1,1,1,1,1,1,1,1,1,1,1,1,1,1,1,1,1,1,1,1]
["CapacityFactor","RE1","IMPOIL",null,null,null,"S419",null,null,null,1,1,1,1,1,1,1,1,1,1,1,1,1,1,1,1,1,1,1,1,1,1,1,1,1,1,1,1,1,1,1,1,1,1,1,1,1,1,1,1,1,1,1,1,1,1,1,1,1,1,1,1,1,1,1,1]
["CapacityFactor","RE1","IMPOIL",null,null,null,"S420",null,null,null,1,1,1,1,1,1,1,1,1,1,1,1,1,1,1,1,1,1,1,1,1,1,1,1,1,1,1,1,1,1,1,1,1,1,1,1,1,1,1,1,1,1,1,1,1,1,1,1,1,1,1,1,1,1,1,1]
["CapacityFactor","RE1","IMPOIL",null,null,null,"S421",null,null,null,1,1,1,1,1,1,1,1,1,1,1,1,1,1,1,1,1,1,1,1,1,1,1,1,1,1,1,1,1,1,1,1,1,1,1,1,1,1,1,1,1,1,1,1,1,1,1,1,1,1,1,1,1,1,1,1]
["CapacityFactor","RE1","IMPOIL",null,null,null,"S422",null,null,null,1,1,1,1,1,1,1,1,1,1,1,1,1,1,1,1,1,1,1,1,1,1,1,1,1,1,1,1,1,1,1,1,1,1,1,1,1,1,1,1,1,1,1,1,1,1,1,1,1,1,1,1,1,1,1,1]
["CapacityFactor","RE1","IMPOIL",null,null,null,"S423",null,null,null,1,1,1,1,1,1,1,1,1,1,1,1,1,1,1,1,1,1,1,1,1,1,1,1,1,1,1,1,1,1,1,1,1,1,1,1,1,1,1,1,1,1,1,1,1,1,1,1,1,1,1,1,1,1,1,1]
["CapacityFactor","RE1","IMPOIL",null,null,null,"S424",null,null,null,1,1,1,1,1,1,1,1,1,1,1,1,1,1,1,1,1,1,1,1,1,1,1,1,1,1,1,1,1,1,1,1,1,1,1,1,1,1,1,1,1,1,1,1,1,1,1,1,1,1,1,1,1,1,1,1]
["CapacityFactor","RE1","MINOIL",null,null,null,"S101",null,null,null,1,1,1,1,1,1,1,1,1,1,1,1,1,1,1,1,1,1,1,1,1,1,1,1,1,1,1,1,1,1,1,1,1,1,1,1,1,1,1,1,1,1,1,1,1,1,1,1,1,1,1,1,1,1,1,1]
["CapacityFactor","RE1","MINOIL",null,null,null,"S102",null,null,null,1,1,1,1,1,1,1,1,1,1,1,1,1,1,1,1,1,1,1,1,1,1,1,1,1,1,1,1,1,1,1,1,1,1,1,1,1,1,1,1,1,1,1,1,1,1,1,1,1,1,1,1,1,1,1,1]
["CapacityFactor","RE1","MINOIL",null,null,null,"S103",null,null,null,1,1,1,1,1,1,1,1,1,1,1,1,1,1,1,1,1,1,1,1,1,1,1,1,1,1,1,1,1,1,1,1,1,1,1,1,1,1,1,1,1,1,1,1,1,1,1,1,1,1,1,1,1,1,1,1]
["CapacityFactor","RE1","MINOIL",null,null,null,"S104",null,null,null,1,1,1,1,1,1,1,1,1,1,1,1,1,1,1,1,1,1,1,1,1,1,1,1,1,1,1,1,1,1,1,1,1,1,1,1,1,1,1,1,1,1,1,1,1,1,1,1,1,1,1,1,1,1,1,1]
["CapacityFactor","RE1","MINOIL",null,null,null,"S105",null,null,null,1,1,1,1,1,1,1,1,1,1,1,1,1,1,1,1,1,1,1,1,1,1,1,1,1,1,1,1,1,1,1,1,1,1,1,1,1,1,1,1,1,1,1,1,1,1,1,1,1,1,1,1,1,1,1,1]
["CapacityFactor","RE1","MINOIL",null,null,null,"S106",null,null,null,1,1,1,1,1,1,1,1,1,1,1,1,1,1,1,1,1,1,1,1,1,1,1,1,1,1,1,1,1,1,1,1,1,1,1,1,1,1,1,1,1,1,1,1,1,1,1,1,1,1,1,1,1,1,1,1]
["CapacityFactor","RE1","MINOIL",null,null,null,"S107",null,null,null,1,1,1,1,1,1,1,1,1,1,1,1,1,1,1,1,1,1,1,1,1,1,1,1,1,1,1,1,1,1,1,1,1,1,1,1,1,1,1,1,1,1,1,1,1,1,1,1,1,1,1,1,1,1,1,1]
["CapacityFactor","RE1","MINOIL",null,null,null,"S108",null,null,null,1,1,1,1,1,1,1,1,1,1,1,1,1,1,1,1,1,1,1,1,1,1,1,1,1,1,1,1,1,1,1,1,1,1,1,1,1,1,1,1,1,1,1,1,1,1,1,1,1,1,1,1,1,1,1,1]
["CapacityFactor","RE1","MINOIL",null,null,null,"S109",null,null,null,1,1,1,1,1,1,1,1,1,1,1,1,1,1,1,1,1,1,1,1,1,1,1,1,1,1,1,1,1,1,1,1,1,1,1,1,1,1,1,1,1,1,1,1,1,1,1,1,1,1,1,1,1,1,1,1]
["CapacityFactor","RE1","MINOIL",null,null,null,"S110",null,null,null,1,1,1,1,1,1,1,1,1,1,1,1,1,1,1,1,1,1,1,1,1,1,1,1,1,1,1,1,1,1,1,1,1,1,1,1,1,1,1,1,1,1,1,1,1,1,1,1,1,1,1,1,1,1,1,1]
["CapacityFactor","RE1","MINOIL",null,null,null,"S111",null,null,null,1,1,1,1,1,1,1,1,1,1,1,1,1,1,1,1,1,1,1,1,1,1,1,1,1,1,1,1,1,1,1,1,1,1,1,1,1,1,1,1,1,1,1,1,1,1,1,1,1,1,1,1,1,1,1,1]
["CapacityFactor","RE1","MINOIL",null,null,null,"S112",null,null,null,1,1,1,1,1,1,1,1,1,1,1,1,1,1,1,1,1,1,1,1,1,1,1,1,1,1,1,1,1,1,1,1,1,1,1,1,1,1,1,1,1,1,1,1,1,1,1,1,1,1,1,1,1,1,1,1]
["CapacityFactor","RE1","MINOIL",null,null,null,"S113",null,null,null,1,1,1,1,1,1,1,1,1,1,1,1,1,1,1,1,1,1,1,1,1,1,1,1,1,1,1,1,1,1,1,1,1,1,1,1,1,1,1,1,1,1,1,1,1,1,1,1,1,1,1,1,1,1,1,1]
["CapacityFactor","RE1","MINOIL",null,null,null,"S114",null,null,null,1,1,1,1,1,1,1,1,1,1,1,1,1,1,1,1,1,1,1,1,1,1,1,1,1,1,1,1,1,1,1,1,1,1,1,1,1,1,1,1,1,1,1,1,1,1,1,1,1,1,1,1,1,1,1,1]
["CapacityFactor","RE1","MINOIL",null,null,null,"S115",null,null,null,1,1,1,1,1,1,1,1,1,1,1,1,1,1,1,1,1,1,1,1,1,1,1,1,1,1,1,1,1,1,1,1,1,1,1,1,1,1,1,1,1,1,1,1,1,1,1,1,1,1,1,1,1,1,1,1]
["CapacityFactor","RE1","MINOIL",null,null,null,"S116",null,null,null,1,1,1,1,1,1,1,1,1,1,1,1,1,1,1,1,1,1,1,1,1,1,1,1,1,1,1,1,1,1,1,1,1,1,1,1,1,1,1,1,1,1,1,1,1,1,1,1,1,1,1,1,1,1,1,1]
["CapacityFactor","RE1","MINOIL",null,null,null,"S117",null,null,null,1,1,1,1,1,1,1,1,1,1,1,1,1,1,1,1,1,1,1,1,1,1,1,1,1,1,1,1,1,1,1,1,1,1,1,1,1,1,1,1,1,1,1,1,1,1,1,1,1,1,1,1,1,1,1,1]
["CapacityFactor","RE1","MINOIL",null,null,null,"S118",null,null,null,1,1,1,1,1,1,1,1,1,1,1,1,1,1,1,1,1,1,1,1,1,1,1,1,1,1,1,1,1,1,1,1,1,1,1,1,1,1,1,1,1,1,1,1,1,1,1,1,1,1,1,1,1,1,1,1]
["CapacityFactor","RE1","MINOIL",null,null,null,"S119",null,null,null,1,1,1,1,1,1,1,1,1,1,1,1,1,1,1,1,1,1,1,1,1,1,1,1,1,1,1,1,1,1,1,1,1,1,1,1,1,1,1,1,1,1,1,1,1,1,1,1,1,1,1,1,1,1,1,1]
["CapacityFactor","RE1","MINOIL",null,null,null,"S120",null,null,null,1,1,1,1,1,1,1,1,1,1,1,1,1,1,1,1,1,1,1,1,1,1,1,1,1,1,1,1,1,1,1,1,1,1,1,1,1,1,1,1,1,1,1,1,1,1,1,1,1,1,1,1,1,1,1,1]
["CapacityFactor","RE1","MINOIL",null,null,null,"S121",null,null,null,1,1,1,1,1,1,1,1,1,1,1,1,1,1,1,1,1,1,1,1,1,1,1,1,1,1,1,1,1,1,1,1,1,1,1,1,1,1,1,1,1,1,1,1,1,1,1,1,1,1,1,1,1,1,1,1]
["CapacityFactor","RE1","MINOIL",null,null,null,"S122",null,null,null,1,1,1,1,1,1,1,1,1,1,1,1,1,1,1,1,1,1,1,1,1,1,1,1,1,1,1,1,1,1,1,1,1,1,1,1,1,1,1,1,1,1,1,1,1,1,1,1,1,1,1,1,1,1,1,1]
["CapacityFactor","RE1","MINOIL",null,null,null,"S123",null,null,null,1,1,1,1,1,1,1,1,1,1,1,1,1,1,1,1,1,1,1,1,1,1,1,1,1,1,1,1,1,1,1,1,1,1,1,1,1,1,1,1,1,1,1,1,1,1,1,1,1,1,1,1,1,1,1,1]
["CapacityFactor","RE1","MINOIL",null,null,null,"S124",null,null,null,1,1,1,1,1,1,1,1,1,1,1,1,1,1,1,1,1,1,1,1,1,1,1,1,1,1,1,1,1,1,1,1,1,1,1,1,1,1,1,1,1,1,1,1,1,1,1,1,1,1,1,1,1,1,1,1]
["CapacityFactor","RE1","MINOIL",null,null,null,"S201",null,null,null,1,1,1,1,1,1,1,1,1,1,1,1,1,1,1,1,1,1,1,1,1,1,1,1,1,1,1,1,1,1,1,1,1,1,1,1,1,1,1,1,1,1,1,1,1,1,1,1,1,1,1,1,1,1,1,1]
["CapacityFactor","RE1","MINOIL",null,null,null,"S202",null,null,null,1,1,1,1,1,1,1,1,1,1,1,1,1,1,1,1,1,1,1,1,1,1,1,1,1,1,1,1,1,1,1,1,1,1,1,1,1,1,1,1,1,1,1,1,1,1,1,1,1,1,1,1,1,1,1,1]
["CapacityFactor","RE1","MINOIL",null,null,null,"S203",null,null,null,1,1,1,1,1,1,1,1,1,1,1,1,1,1,1,1,1,1,1,1,1,1,1,1,1,1,1,1,1,1,1,1,1,1,1,1,1,1,1,1,1,1,1,1,1,1,1,1,1,1,1,1,1,1,1,1]
["CapacityFactor","RE1","MINOIL",null,null,null,"S204",null,null,null,1,1,1,1,1,1,1,1,1,1,1,1,1,1,1,1,1,1,1,1,1,1,1,1,1,1,1,1,1,1,1,1,1,1,1,1,1,1,1,1,1,1,1,1,1,1,1,1,1,1,1,1,1,1,1,1]
["CapacityFactor","RE1","MINOIL",null,null,null,"S205",null,null,null,1,1,1,1,1,1,1,1,1,1,1,1,1,1,1,1,1,1,1,1,1,1,1,1,1,1,1,1,1,1,1,1,1,1,1,1,1,1,1,1,1,1,1,1,1,1,1,1,1,1,1,1,1,1,1,1]
["CapacityFactor","RE1","MINOIL",null,null,null,"S206",null,null,null,1,1,1,1,1,1,1,1,1,1,1,1,1,1,1,1,1,1,1,1,1,1,1,1,1,1,1,1,1,1,1,1,1,1,1,1,1,1,1,1,1,1,1,1,1,1,1,1,1,1,1,1,1,1,1,1]
["CapacityFactor","RE1","MINOIL",null,null,null,"S207",null,null,null,1,1,1,1,1,1,1,1,1,1,1,1,1,1,1,1,1,1,1,1,1,1,1,1,1,1,1,1,1,1,1,1,1,1,1,1,1,1,1,1,1,1,1,1,1,1,1,1,1,1,1,1,1,1,1,1]
["CapacityFactor","RE1","MINOIL",null,null,null,"S208",null,null,null,1,1,1,1,1,1,1,1,1,1,1,1,1,1,1,1,1,1,1,1,1,1,1,1,1,1,1,1,1,1,1,1,1,1,1,1,1,1,1,1,1,1,1,1,1,1,1,1,1,1,1,1,1,1,1,1]
["CapacityFactor","RE1","MINOIL",null,null,null,"S209",null,null,null,1,1,1,1,1,1,1,1,1,1,1,1,1,1,1,1,1,1,1,1,1,1,1,1,1,1,1,1,1,1,1,1,1,1,1,1,1,1,1,1,1,1,1,1,1,1,1,1,1,1,1,1,1,1,1,1]
["CapacityFactor","RE1","MINOIL",null,null,null,"S210",null,null,null,1,1,1,1,1,1,1,1,1,1,1,1,1,1,1,1,1,1,1,1,1,1,1,1,1,1,1,1,1,1,1,1,1,1,1,1,1,1,1,1,1,1,1,1,1,1,1,1,1,1,1,1,1,1,1,1]
["CapacityFactor","RE1","MINOIL",null,null,null,"S211",null,null,null,1,1,1,1,1,1,1,1,1,1,1,1,1,1,1,1,1,1,1,1,1,1,1,1,1,1,1,1,1,1,1,1,1,1,1,1,1,1,1,1,1,1,1,1,1,1,1,1,1,1,1,1,1,1,1,1]
["CapacityFactor","RE1","MINOIL",null,null,null,"S212",null,null,null,1,1,1,1,1,1,1,1,1,1,1,1,1,1,1,1,1,1,1,1,1,1,1,1,1,1,1,1,1,1,1,1,1,1,1,1,1,1,1,1,1,1,1,1,1,1,1,1,1,1,1,1,1,1,1,1]
["CapacityFactor","RE1","MINOIL",null,null,null,"S213",null,null,null,1,1,1,1,1,1,1,1,1,1,1,1,1,1,1,1,1,1,1,1,1,1,1,1,1,1,1,1,1,1,1,1,1,1,1,1,1,1,1,1,1,1,1,1,1,1,1,1,1,1,1,1,1,1,1,1]
["CapacityFactor","RE1","MINOIL",null,null,null,"S214",null,null,null,1,1,1,1,1,1,1,1,1,1,1,1,1,1,1,1,1,1,1,1,1,1,1,1,1,1,1,1,1,1,1,1,1,1,1,1,1,1,1,1,1,1,1,1,1,1,1,1,1,1,1,1,1,1,1,1]
["CapacityFactor","RE1","MINOIL",null,null,null,"S215",null,null,null,1,1,1,1,1,1,1,1,1,1,1,1,1,1,1,1,1,1,1,1,1,1,1,1,1,1,1,1,1,1,1,1,1,1,1,1,1,1,1,1,1,1,1,1,1,1,1,1,1,1,1,1,1,1,1,1]
["CapacityFactor","RE1","MINOIL",null,null,null,"S216",null,null,null,1,1,1,1,1,1,1,1,1,1,1,1,1,1,1,1,1,1,1,1,1,1,1,1,1,1,1,1,1,1,1,1,1,1,1,1,1,1,1,1,1,1,1,1,1,1,1,1,1,1,1,1,1,1,1,1]
["CapacityFactor","RE1","MINOIL",null,null,null,"S217",null,null,null,1,1,1,1,1,1,1,1,1,1,1,1,1,1,1,1,1,1,1,1,1,1,1,1,1,1,1,1,1,1,1,1,1,1,1,1,1,1,1,1,1,1,1,1,1,1,1,1,1,1,1,1,1,1,1,1]
["CapacityFactor","RE1","MINOIL",null,null,null,"S218",null,null,null,1,1,1,1,1,1,1,1,1,1,1,1,1,1,1,1,1,1,1,1,1,1,1,1,1,1,1,1,1,1,1,1,1,1,1,1,1,1,1,1,1,1,1,1,1,1,1,1,1,1,1,1,1,1,1,1]
["CapacityFactor","RE1","MINOIL",null,null,null,"S219",null,null,null,1,1,1,1,1,1,1,1,1,1,1,1,1,1,1,1,1,1,1,1,1,1,1,1,1,1,1,1,1,1,1,1,1,1,1,1,1,1,1,1,1,1,1,1,1,1,1,1,1,1,1,1,1,1,1,1]
["CapacityFactor","RE1","MINOIL",null,null,null,"S220",null,null,null,1,1,1,1,1,1,1,1,1,1,1,1,1,1,1,1,1,1,1,1,1,1,1,1,1,1,1,1,1,1,1,1,1,1,1,1,1,1,1,1,1,1,1,1,1,1,1,1,1,1,1,1,1,1,1,1]
["CapacityFactor","RE1","MINOIL",null,null,null,"S221",null,null,null,1,1,1,1,1,1,1,1,1,1,1,1,1,1,1,1,1,1,1,1,1,1,1,1,1,1,1,1,1,1,1,1,1,1,1,1,1,1,1,1,1,1,1,1,1,1,1,1,1,1,1,1,1,1,1,1]
["CapacityFactor","RE1","MINOIL",null,null,null,"S222",null,null,null,1,1,1,1,1,1,1,1,1,1,1,1,1,1,1,1,1,1,1,1,1,1,1,1,1,1,1,1,1,1,1,1,1,1,1,1,1,1,1,1,1,1,1,1,1,1,1,1,1,1,1,1,1,1,1,1]
["CapacityFactor","RE1","MINOIL",null,null,null,"S223",null,null,null,1,1,1,1,1,1,1,1,1,1,1,1,1,1,1,1,1,1,1,1,1,1,1,1,1,1,1,1,1,1,1,1,1,1,1,1,1,1,1,1,1,1,1,1,1,1,1,1,1,1,1,1,1,1,1,1]
["CapacityFactor","RE1","MINOIL",null,null,null,"S224",null,null,null,1,1,1,1,1,1,1,1,1,1,1,1,1,1,1,1,1,1,1,1,1,1,1,1,1,1,1,1,1,1,1,1,1,1,1,1,1,1,1,1,1,1,1,1,1,1,1,1,1,1,1,1,1,1,1,1]
["CapacityFactor","RE1","MINOIL",null,null,null,"S301",null,null,null,1,1,1,1,1,1,1,1,1,1,1,1,1,1,1,1,1,1,1,1,1,1,1,1,1,1,1,1,1,1,1,1,1,1,1,1,1,1,1,1,1,1,1,1,1,1,1,1,1,1,1,1,1,1,1,1]
["CapacityFactor","RE1","MINOIL",null,null,null,"S302",null,null,null,1,1,1,1,1,1,1,1,1,1,1,1,1,1,1,1,1,1,1,1,1,1,1,1,1,1,1,1,1,1,1,1,1,1,1,1,1,1,1,1,1,1,1,1,1,1,1,1,1,1,1,1,1,1,1,1]
["CapacityFactor","RE1","MINOIL",null,null,null,"S303",null,null,null,1,1,1,1,1,1,1,1,1,1,1,1,1,1,1,1,1,1,1,1,1,1,1,1,1,1,1,1,1,1,1,1,1,1,1,1,1,1,1,1,1,1,1,1,1,1,1,1,1,1,1,1,1,1,1,1]
["CapacityFactor","RE1","MINOIL",null,null,null,"S304",null,null,null,1,1,1,1,1,1,1,1,1,1,1,1,1,1,1,1,1,1,1,1,1,1,1,1,1,1,1,1,1,1,1,1,1,1,1,1,1,1,1,1,1,1,1,1,1,1,1,1,1,1,1,1,1,1,1,1]
["CapacityFactor","RE1","MINOIL",null,null,null,"S305",null,null,null,1,1,1,1,1,1,1,1,1,1,1,1,1,1,1,1,1,1,1,1,1,1,1,1,1,1,1,1,1,1,1,1,1,1,1,1,1,1,1,1,1,1,1,1,1,1,1,1,1,1,1,1,1,1,1,1]
["CapacityFactor","RE1","MINOIL",null,null,null,"S306",null,null,null,1,1,1,1,1,1,1,1,1,1,1,1,1,1,1,1,1,1,1,1,1,1,1,1,1,1,1,1,1,1,1,1,1,1,1,1,1,1,1,1,1,1,1,1,1,1,1,1,1,1,1,1,1,1,1,1]
["CapacityFactor","RE1","MINOIL",null,null,null,"S307",null,null,null,1,1,1,1,1,1,1,1,1,1,1,1,1,1,1,1,1,1,1,1,1,1,1,1,1,1,1,1,1,1,1,1,1,1,1,1,1,1,1,1,1,1,1,1,1,1,1,1,1,1,1,1,1,1,1,1]
["CapacityFactor","RE1","MINOIL",null,null,null,"S308",null,null,null,1,1,1,1,1,1,1,1,1,1,1,1,1,1,1,1,1,1,1,1,1,1,1,1,1,1,1,1,1,1,1,1,1,1,1,1,1,1,1,1,1,1,1,1,1,1,1,1,1,1,1,1,1,1,1,1]
["CapacityFactor","RE1","MINOIL",null,null,null,"S309",null,null,null,1,1,1,1,1,1,1,1,1,1,1,1,1,1,1,1,1,1,1,1,1,1,1,1,1,1,1,1,1,1,1,1,1,1,1,1,1,1,1,1,1,1,1,1,1,1,1,1,1,1,1,1,1,1,1,1]
["CapacityFactor","RE1","MINOIL",null,null,null,"S310",null,null,null,1,1,1,1,1,1,1,1,1,1,1,1,1,1,1,1,1,1,1,1,1,1,1,1,1,1,1,1,1,1,1,1,1,1,1,1,1,1,1,1,1,1,1,1,1,1,1,1,1,1,1,1,1,1,1,1]
["CapacityFactor","RE1","MINOIL",null,null,null,"S311",null,null,null,1,1,1,1,1,1,1,1,1,1,1,1,1,1,1,1,1,1,1,1,1,1,1,1,1,1,1,1,1,1,1,1,1,1,1,1,1,1,1,1,1,1,1,1,1,1,1,1,1,1,1,1,1,1,1,1]
["CapacityFactor","RE1","MINOIL",null,null,null,"S312",null,null,null,1,1,1,1,1,1,1,1,1,1,1,1,1,1,1,1,1,1,1,1,1,1,1,1,1,1,1,1,1,1,1,1,1,1,1,1,1,1,1,1,1,1,1,1,1,1,1,1,1,1,1,1,1,1,1,1]
["CapacityFactor","RE1","MINOIL",null,null,null,"S313",null,null,null,1,1,1,1,1,1,1,1,1,1,1,1,1,1,1,1,1,1,1,1,1,1,1,1,1,1,1,1,1,1,1,1,1,1,1,1,1,1,1,1,1,1,1,1,1,1,1,1,1,1,1,1,1,1,1,1]
["CapacityFactor","RE1","MINOIL",null,null,null,"S314",null,null,null,1,1,1,1,1,1,1,1,1,1,1,1,1,1,1,1,1,1,1,1,1,1,1,1,1,1,1,1,1,1,1,1,1,1,1,1,1,1,1,1,1,1,1,1,1,1,1,1,1,1,1,1,1,1,1,1]
["CapacityFactor","RE1","MINOIL",null,null,null,"S315",null,null,null,1,1,1,1,1,1,1,1,1,1,1,1,1,1,1,1,1,1,1,1,1,1,1,1,1,1,1,1,1,1,1,1,1,1,1,1,1,1,1,1,1,1,1,1,1,1,1,1,1,1,1,1,1,1,1,1]
["CapacityFactor","RE1","MINOIL",null,null,null,"S316",null,null,null,1,1,1,1,1,1,1,1,1,1,1,1,1,1,1,1,1,1,1,1,1,1,1,1,1,1,1,1,1,1,1,1,1,1,1,1,1,1,1,1,1,1,1,1,1,1,1,1,1,1,1,1,1,1,1,1]
["CapacityFactor","RE1","MINOIL",null,null,null,"S317",null,null,null,1,1,1,1,1,1,1,1,1,1,1,1,1,1,1,1,1,1,1,1,1,1,1,1,1,1,1,1,1,1,1,1,1,1,1,1,1,1,1,1,1,1,1,1,1,1,1,1,1,1,1,1,1,1,1,1]
["CapacityFactor","RE1","MINOIL",null,null,null,"S318",null,null,null,1,1,1,1,1,1,1,1,1,1,1,1,1,1,1,1,1,1,1,1,1,1,1,1,1,1,1,1,1,1,1,1,1,1,1,1,1,1,1,1,1,1,1,1,1,1,1,1,1,1,1,1,1,1,1,1]
["CapacityFactor","RE1","MINOIL",null,null,null,"S319",null,null,null,1,1,1,1,1,1,1,1,1,1,1,1,1,1,1,1,1,1,1,1,1,1,1,1,1,1,1,1,1,1,1,1,1,1,1,1,1,1,1,1,1,1,1,1,1,1,1,1,1,1,1,1,1,1,1,1]
["CapacityFactor","RE1","MINOIL",null,null,null,"S320",null,null,null,1,1,1,1,1,1,1,1,1,1,1,1,1,1,1,1,1,1,1,1,1,1,1,1,1,1,1,1,1,1,1,1,1,1,1,1,1,1,1,1,1,1,1,1,1,1,1,1,1,1,1,1,1,1,1,1]
["CapacityFactor","RE1","MINOIL",null,null,null,"S321",null,null,null,1,1,1,1,1,1,1,1,1,1,1,1,1,1,1,1,1,1,1,1,1,1,1,1,1,1,1,1,1,1,1,1,1,1,1,1,1,1,1,1,1,1,1,1,1,1,1,1,1,1,1,1,1,1,1,1]
["CapacityFactor","RE1","MINOIL",null,null,null,"S322",null,null,null,1,1,1,1,1,1,1,1,1,1,1,1,1,1,1,1,1,1,1,1,1,1,1,1,1,1,1,1,1,1,1,1,1,1,1,1,1,1,1,1,1,1,1,1,1,1,1,1,1,1,1,1,1,1,1,1]
["CapacityFactor","RE1","MINOIL",null,null,null,"S323",null,null,null,1,1,1,1,1,1,1,1,1,1,1,1,1,1,1,1,1,1,1,1,1,1,1,1,1,1,1,1,1,1,1,1,1,1,1,1,1,1,1,1,1,1,1,1,1,1,1,1,1,1,1,1,1,1,1,1]
["CapacityFactor","RE1","MINOIL",null,null,null,"S324",null,null,null,1,1,1,1,1,1,1,1,1,1,1,1,1,1,1,1,1,1,1,1,1,1,1,1,1,1,1,1,1,1,1,1,1,1,1,1,1,1,1,1,1,1,1,1,1,1,1,1,1,1,1,1,1,1,1,1]
["CapacityFactor","RE1","MINOIL",null,null,null,"S401",null,null,null,1,1,1,1,1,1,1,1,1,1,1,1,1,1,1,1,1,1,1,1,1,1,1,1,1,1,1,1,1,1,1,1,1,1,1,1,1,1,1,1,1,1,1,1,1,1,1,1,1,1,1,1,1,1,1,1]
["CapacityFactor","RE1","MINOIL",null,null,null,"S402",null,null,null,1,1,1,1,1,1,1,1,1,1,1,1,1,1,1,1,1,1,1,1,1,1,1,1,1,1,1,1,1,1,1,1,1,1,1,1,1,1,1,1,1,1,1,1,1,1,1,1,1,1,1,1,1,1,1,1]
["CapacityFactor","RE1","MINOIL",null,null,null,"S403",null,null,null,1,1,1,1,1,1,1,1,1,1,1,1,1,1,1,1,1,1,1,1,1,1,1,1,1,1,1,1,1,1,1,1,1,1,1,1,1,1,1,1,1,1,1,1,1,1,1,1,1,1,1,1,1,1,1,1]
["CapacityFactor","RE1","MINOIL",null,null,null,"S404",null,null,null,1,1,1,1,1,1,1,1,1,1,1,1,1,1,1,1,1,1,1,1,1,1,1,1,1,1,1,1,1,1,1,1,1,1,1,1,1,1,1,1,1,1,1,1,1,1,1,1,1,1,1,1,1,1,1,1]
["CapacityFactor","RE1","MINOIL",null,null,null,"S405",null,null,null,1,1,1,1,1,1,1,1,1,1,1,1,1,1,1,1,1,1,1,1,1,1,1,1,1,1,1,1,1,1,1,1,1,1,1,1,1,1,1,1,1,1,1,1,1,1,1,1,1,1,1,1,1,1,1,1]
["CapacityFactor","RE1","MINOIL",null,null,null,"S406",null,null,null,1,1,1,1,1,1,1,1,1,1,1,1,1,1,1,1,1,1,1,1,1,1,1,1,1,1,1,1,1,1,1,1,1,1,1,1,1,1,1,1,1,1,1,1,1,1,1,1,1,1,1,1,1,1,1,1]
["CapacityFactor","RE1","MINOIL",null,null,null,"S407",null,null,null,1,1,1,1,1,1,1,1,1,1,1,1,1,1,1,1,1,1,1,1,1,1,1,1,1,1,1,1,1,1,1,1,1,1,1,1,1,1,1,1,1,1,1,1,1,1,1,1,1,1,1,1,1,1,1,1]
["CapacityFactor","RE1","MINOIL",null,null,null,"S408",null,null,null,1,1,1,1,1,1,1,1,1,1,1,1,1,1,1,1,1,1,1,1,1,1,1,1,1,1,1,1,1,1,1,1,1,1,1,1,1,1,1,1,1,1,1,1,1,1,1,1,1,1,1,1,1,1,1,1]
["CapacityFactor","RE1","MINOIL",null,null,null,"S409",null,null,null,1,1,1,1,1,1,1,1,1,1,1,1,1,1,1,1,1,1,1,1,1,1,1,1,1,1,1,1,1,1,1,1,1,1,1,1,1,1,1,1,1,1,1,1,1,1,1,1,1,1,1,1,1,1,1,1]
["CapacityFactor","RE1","MINOIL",null,null,null,"S410",null,null,null,1,1,1,1,1,1,1,1,1,1,1,1,1,1,1,1,1,1,1,1,1,1,1,1,1,1,1,1,1,1,1,1,1,1,1,1,1,1,1,1,1,1,1,1,1,1,1,1,1,1,1,1,1,1,1,1]
["CapacityFactor","RE1","MINOIL",null,null,null,"S411",null,null,null,1,1,1,1,1,1,1,1,1,1,1,1,1,1,1,1,1,1,1,1,1,1,1,1,1,1,1,1,1,1,1,1,1,1,1,1,1,1,1,1,1,1,1,1,1,1,1,1,1,1,1,1,1,1,1,1]
["CapacityFactor","RE1","MINOIL",null,null,null,"S412",null,null,null,1,1,1,1,1,1,1,1,1,1,1,1,1,1,1,1,1,1,1,1,1,1,1,1,1,1,1,1,1,1,1,1,1,1,1,1,1,1,1,1,1,1,1,1,1,1,1,1,1,1,1,1,1,1,1,1]
["CapacityFactor","RE1","MINOIL",null,null,null,"S413",null,null,null,1,1,1,1,1,1,1,1,1,1,1,1,1,1,1,1,1,1,1,1,1,1,1,1,1,1,1,1,1,1,1,1,1,1,1,1,1,1,1,1,1,1,1,1,1,1,1,1,1,1,1,1,1,1,1,1]
["CapacityFactor","RE1","MINOIL",null,null,null,"S414",null,null,null,1,1,1,1,1,1,1,1,1,1,1,1,1,1,1,1,1,1,1,1,1,1,1,1,1,1,1,1,1,1,1,1,1,1,1,1,1,1,1,1,1,1,1,1,1,1,1,1,1,1,1,1,1,1,1,1]
["CapacityFactor","RE1","MINOIL",null,null,null,"S415",null,null,null,1,1,1,1,1,1,1,1,1,1,1,1,1,1,1,1,1,1,1,1,1,1,1,1,1,1,1,1,1,1,1,1,1,1,1,1,1,1,1,1,1,1,1,1,1,1,1,1,1,1,1,1,1,1,1,1]
["CapacityFactor","RE1","MINOIL",null,null,null,"S416",null,null,null,1,1,1,1,1,1,1,1,1,1,1,1,1,1,1,1,1,1,1,1,1,1,1,1,1,1,1,1,1,1,1,1,1,1,1,1,1,1,1,1,1,1,1,1,1,1,1,1,1,1,1,1,1,1,1,1]
["CapacityFactor","RE1","MINOIL",null,null,null,"S417",null,null,null,1,1,1,1,1,1,1,1,1,1,1,1,1,1,1,1,1,1,1,1,1,1,1,1,1,1,1,1,1,1,1,1,1,1,1,1,1,1,1,1,1,1,1,1,1,1,1,1,1,1,1,1,1,1,1,1]
["CapacityFactor","RE1","MINOIL",null,null,null,"S418",null,null,null,1,1,1,1,1,1,1,1,1,1,1,1,1,1,1,1,1,1,1,1,1,1,1,1,1,1,1,1,1,1,1,1,1,1,1,1,1,1,1,1,1,1,1,1,1,1,1,1,1,1,1,1,1,1,1,1]
["CapacityFactor","RE1","MINOIL",null,null,null,"S419",null,null,null,1,1,1,1,1,1,1,1,1,1,1,1,1,1,1,1,1,1,1,1,1,1,1,1,1,1,1,1,1,1,1,1,1,1,1,1,1,1,1,1,1,1,1,1,1,1,1,1,1,1,1,1,1,1,1,1]
["CapacityFactor","RE1","MINOIL",null,null,null,"S420",null,null,null,1,1,1,1,1,1,1,1,1,1,1,1,1,1,1,1,1,1,1,1,1,1,1,1,1,1,1,1,1,1,1,1,1,1,1,1,1,1,1,1,1,1,1,1,1,1,1,1,1,1,1,1,1,1,1,1]
["CapacityFactor","RE1","MINOIL",null,null,null,"S421",null,null,null,1,1,1,1,1,1,1,1,1,1,1,1,1,1,1,1,1,1,1,1,1,1,1,1,1,1,1,1,1,1,1,1,1,1,1,1,1,1,1,1,1,1,1,1,1,1,1,1,1,1,1,1,1,1,1,1]
["CapacityFactor","RE1","MINOIL",null,null,null,"S422",null,null,null,1,1,1,1,1,1,1,1,1,1,1,1,1,1,1,1,1,1,1,1,1,1,1,1,1,1,1,1,1,1,1,1,1,1,1,1,1,1,1,1,1,1,1,1,1,1,1,1,1,1,1,1,1,1,1,1]
["CapacityFactor","RE1","MINOIL",null,null,null,"S423",null,null,null,1,1,1,1,1,1,1,1,1,1,1,1,1,1,1,1,1,1,1,1,1,1,1,1,1,1,1,1,1,1,1,1,1,1,1,1,1,1,1,1,1,1,1,1,1,1,1,1,1,1,1,1,1,1,1,1]
["CapacityFactor","RE1","MINOIL",null,null,null,"S424",null,null,null,1,1,1,1,1,1,1,1,1,1,1,1,1,1,1,1,1,1,1,1,1,1,1,1,1,1,1,1,1,1,1,1,1,1,1,1,1,1,1,1,1,1,1,1,1,1,1,1,1,1,1,1,1,1,1,1]
["CapacityFactor","RE1","IMPBIO",null,null,null,"S101",null,null,null,1,1,1,1,1,1,1,1,1,1,1,1,1,1,1,1,1,1,1,1,1,1,1,1,1,1,1,1,1,1,1,1,1,1,1,1,1,1,1,1,1,1,1,1,1,1,1,1,1,1,1,1,1,1,1,1]
["CapacityFactor","RE1","IMPBIO",null,null,null,"S102",null,null,null,1,1,1,1,1,1,1,1,1,1,1,1,1,1,1,1,1,1,1,1,1,1,1,1,1,1,1,1,1,1,1,1,1,1,1,1,1,1,1,1,1,1,1,1,1,1,1,1,1,1,1,1,1,1,1,1]
["CapacityFactor","RE1","IMPBIO",null,null,null,"S103",null,null,null,1,1,1,1,1,1,1,1,1,1,1,1,1,1,1,1,1,1,1,1,1,1,1,1,1,1,1,1,1,1,1,1,1,1,1,1,1,1,1,1,1,1,1,1,1,1,1,1,1,1,1,1,1,1,1,1]
["CapacityFactor","RE1","IMPBIO",null,null,null,"S104",null,null,null,1,1,1,1,1,1,1,1,1,1,1,1,1,1,1,1,1,1,1,1,1,1,1,1,1,1,1,1,1,1,1,1,1,1,1,1,1,1,1,1,1,1,1,1,1,1,1,1,1,1,1,1,1,1,1,1]
["CapacityFactor","RE1","IMPBIO",null,null,null,"S105",null,null,null,1,1,1,1,1,1,1,1,1,1,1,1,1,1,1,1,1,1,1,1,1,1,1,1,1,1,1,1,1,1,1,1,1,1,1,1,1,1,1,1,1,1,1,1,1,1,1,1,1,1,1,1,1,1,1,1]
["CapacityFactor","RE1","IMPBIO",null,null,null,"S106",null,null,null,1,1,1,1,1,1,1,1,1,1,1,1,1,1,1,1,1,1,1,1,1,1,1,1,1,1,1,1,1,1,1,1,1,1,1,1,1,1,1,1,1,1,1,1,1,1,1,1,1,1,1,1,1,1,1,1]
["CapacityFactor","RE1","IMPBIO",null,null,null,"S107",null,null,null,1,1,1,1,1,1,1,1,1,1,1,1,1,1,1,1,1,1,1,1,1,1,1,1,1,1,1,1,1,1,1,1,1,1,1,1,1,1,1,1,1,1,1,1,1,1,1,1,1,1,1,1,1,1,1,1]
["CapacityFactor","RE1","IMPBIO",null,null,null,"S108",null,null,null,1,1,1,1,1,1,1,1,1,1,1,1,1,1,1,1,1,1,1,1,1,1,1,1,1,1,1,1,1,1,1,1,1,1,1,1,1,1,1,1,1,1,1,1,1,1,1,1,1,1,1,1,1,1,1,1]
["CapacityFactor","RE1","IMPBIO",null,null,null,"S109",null,null,null,1,1,1,1,1,1,1,1,1,1,1,1,1,1,1,1,1,1,1,1,1,1,1,1,1,1,1,1,1,1,1,1,1,1,1,1,1,1,1,1,1,1,1,1,1,1,1,1,1,1,1,1,1,1,1,1]
["CapacityFactor","RE1","IMPBIO",null,null,null,"S110",null,null,null,1,1,1,1,1,1,1,1,1,1,1,1,1,1,1,1,1,1,1,1,1,1,1,1,1,1,1,1,1,1,1,1,1,1,1,1,1,1,1,1,1,1,1,1,1,1,1,1,1,1,1,1,1,1,1,1]
["CapacityFactor","RE1","IMPBIO",null,null,null,"S111",null,null,null,1,1,1,1,1,1,1,1,1,1,1,1,1,1,1,1,1,1,1,1,1,1,1,1,1,1,1,1,1,1,1,1,1,1,1,1,1,1,1,1,1,1,1,1,1,1,1,1,1,1,1,1,1,1,1,1]
["CapacityFactor","RE1","IMPBIO",null,null,null,"S112",null,null,null,1,1,1,1,1,1,1,1,1,1,1,1,1,1,1,1,1,1,1,1,1,1,1,1,1,1,1,1,1,1,1,1,1,1,1,1,1,1,1,1,1,1,1,1,1,1,1,1,1,1,1,1,1,1,1,1]
["CapacityFactor","RE1","IMPBIO",null,null,null,"S113",null,null,null,1,1,1,1,1,1,1,1,1,1,1,1,1,1,1,1,1,1,1,1,1,1,1,1,1,1,1,1,1,1,1,1,1,1,1,1,1,1,1,1,1,1,1,1,1,1,1,1,1,1,1,1,1,1,1,1]
["CapacityFactor","RE1","IMPBIO",null,null,null,"S114",null,null,null,1,1,1,1,1,1,1,1,1,1,1,1,1,1,1,1,1,1,1,1,1,1,1,1,1,1,1,1,1,1,1,1,1,1,1,1,1,1,1,1,1,1,1,1,1,1,1,1,1,1,1,1,1,1,1,1]
["CapacityFactor","RE1","IMPBIO",null,null,null,"S115",null,null,null,1,1,1,1,1,1,1,1,1,1,1,1,1,1,1,1,1,1,1,1,1,1,1,1,1,1,1,1,1,1,1,1,1,1,1,1,1,1,1,1,1,1,1,1,1,1,1,1,1,1,1,1,1,1,1,1]
["CapacityFactor","RE1","IMPBIO",null,null,null,"S116",null,null,null,1,1,1,1,1,1,1,1,1,1,1,1,1,1,1,1,1,1,1,1,1,1,1,1,1,1,1,1,1,1,1,1,1,1,1,1,1,1,1,1,1,1,1,1,1,1,1,1,1,1,1,1,1,1,1,1]
["CapacityFactor","RE1","IMPBIO",null,null,null,"S117",null,null,null,1,1,1,1,1,1,1,1,1,1,1,1,1,1,1,1,1,1,1,1,1,1,1,1,1,1,1,1,1,1,1,1,1,1,1,1,1,1,1,1,1,1,1,1,1,1,1,1,1,1,1,1,1,1,1,1]
["CapacityFactor","RE1","IMPBIO",null,null,null,"S118",null,null,null,1,1,1,1,1,1,1,1,1,1,1,1,1,1,1,1,1,1,1,1,1,1,1,1,1,1,1,1,1,1,1,1,1,1,1,1,1,1,1,1,1,1,1,1,1,1,1,1,1,1,1,1,1,1,1,1]
["CapacityFactor","RE1","IMPBIO",null,null,null,"S119",null,null,null,1,1,1,1,1,1,1,1,1,1,1,1,1,1,1,1,1,1,1,1,1,1,1,1,1,1,1,1,1,1,1,1,1,1,1,1,1,1,1,1,1,1,1,1,1,1,1,1,1,1,1,1,1,1,1,1]
["CapacityFactor","RE1","IMPBIO",null,null,null,"S120",null,null,null,1,1,1,1,1,1,1,1,1,1,1,1,1,1,1,1,1,1,1,1,1,1,1,1,1,1,1,1,1,1,1,1,1,1,1,1,1,1,1,1,1,1,1,1,1,1,1,1,1,1,1,1,1,1,1,1]
["CapacityFactor","RE1","IMPBIO",null,null,null,"S121",null,null,null,1,1,1,1,1,1,1,1,1,1,1,1,1,1,1,1,1,1,1,1,1,1,1,1,1,1,1,1,1,1,1,1,1,1,1,1,1,1,1,1,1,1,1,1,1,1,1,1,1,1,1,1,1,1,1,1]
["CapacityFactor","RE1","IMPBIO",null,null,null,"S122",null,null,null,1,1,1,1,1,1,1,1,1,1,1,1,1,1,1,1,1,1,1,1,1,1,1,1,1,1,1,1,1,1,1,1,1,1,1,1,1,1,1,1,1,1,1,1,1,1,1,1,1,1,1,1,1,1,1,1]
["CapacityFactor","RE1","IMPBIO",null,null,null,"S123",null,null,null,1,1,1,1,1,1,1,1,1,1,1,1,1,1,1,1,1,1,1,1,1,1,1,1,1,1,1,1,1,1,1,1,1,1,1,1,1,1,1,1,1,1,1,1,1,1,1,1,1,1,1,1,1,1,1,1]
["CapacityFactor","RE1","IMPBIO",null,null,null,"S124",null,null,null,1,1,1,1,1,1,1,1,1,1,1,1,1,1,1,1,1,1,1,1,1,1,1,1,1,1,1,1,1,1,1,1,1,1,1,1,1,1,1,1,1,1,1,1,1,1,1,1,1,1,1,1,1,1,1,1]
["CapacityFactor","RE1","IMPBIO",null,null,null,"S201",null,null,null,1,1,1,1,1,1,1,1,1,1,1,1,1,1,1,1,1,1,1,1,1,1,1,1,1,1,1,1,1,1,1,1,1,1,1,1,1,1,1,1,1,1,1,1,1,1,1,1,1,1,1,1,1,1,1,1]
["CapacityFactor","RE1","IMPBIO",null,null,null,"S202",null,null,null,1,1,1,1,1,1,1,1,1,1,1,1,1,1,1,1,1,1,1,1,1,1,1,1,1,1,1,1,1,1,1,1,1,1,1,1,1,1,1,1,1,1,1,1,1,1,1,1,1,1,1,1,1,1,1,1]
["CapacityFactor","RE1","IMPBIO",null,null,null,"S203",null,null,null,1,1,1,1,1,1,1,1,1,1,1,1,1,1,1,1,1,1,1,1,1,1,1,1,1,1,1,1,1,1,1,1,1,1,1,1,1,1,1,1,1,1,1,1,1,1,1,1,1,1,1,1,1,1,1,1]
["CapacityFactor","RE1","IMPBIO",null,null,null,"S204",null,null,null,1,1,1,1,1,1,1,1,1,1,1,1,1,1,1,1,1,1,1,1,1,1,1,1,1,1,1,1,1,1,1,1,1,1,1,1,1,1,1,1,1,1,1,1,1,1,1,1,1,1,1,1,1,1,1,1]
["CapacityFactor","RE1","IMPBIO",null,null,null,"S205",null,null,null,1,1,1,1,1,1,1,1,1,1,1,1,1,1,1,1,1,1,1,1,1,1,1,1,1,1,1,1,1,1,1,1,1,1,1,1,1,1,1,1,1,1,1,1,1,1,1,1,1,1,1,1,1,1,1,1]
["CapacityFactor","RE1","IMPBIO",null,null,null,"S206",null,null,null,1,1,1,1,1,1,1,1,1,1,1,1,1,1,1,1,1,1,1,1,1,1,1,1,1,1,1,1,1,1,1,1,1,1,1,1,1,1,1,1,1,1,1,1,1,1,1,1,1,1,1,1,1,1,1,1]
["CapacityFactor","RE1","IMPBIO",null,null,null,"S207",null,null,null,1,1,1,1,1,1,1,1,1,1,1,1,1,1,1,1,1,1,1,1,1,1,1,1,1,1,1,1,1,1,1,1,1,1,1,1,1,1,1,1,1,1,1,1,1,1,1,1,1,1,1,1,1,1,1,1]
["CapacityFactor","RE1","IMPBIO",null,null,null,"S208",null,null,null,1,1,1,1,1,1,1,1,1,1,1,1,1,1,1,1,1,1,1,1,1,1,1,1,1,1,1,1,1,1,1,1,1,1,1,1,1,1,1,1,1,1,1,1,1,1,1,1,1,1,1,1,1,1,1,1]
["CapacityFactor","RE1","IMPBIO",null,null,null,"S209",null,null,null,1,1,1,1,1,1,1,1,1,1,1,1,1,1,1,1,1,1,1,1,1,1,1,1,1,1,1,1,1,1,1,1,1,1,1,1,1,1,1,1,1,1,1,1,1,1,1,1,1,1,1,1,1,1,1,1]
["CapacityFactor","RE1","IMPBIO",null,null,null,"S210",null,null,null,1,1,1,1,1,1,1,1,1,1,1,1,1,1,1,1,1,1,1,1,1,1,1,1,1,1,1,1,1,1,1,1,1,1,1,1,1,1,1,1,1,1,1,1,1,1,1,1,1,1,1,1,1,1,1,1]
["CapacityFactor","RE1","IMPBIO",null,null,null,"S211",null,null,null,1,1,1,1,1,1,1,1,1,1,1,1,1,1,1,1,1,1,1,1,1,1,1,1,1,1,1,1,1,1,1,1,1,1,1,1,1,1,1,1,1,1,1,1,1,1,1,1,1,1,1,1,1,1,1,1]
["CapacityFactor","RE1","IMPBIO",null,null,null,"S212",null,null,null,1,1,1,1,1,1,1,1,1,1,1,1,1,1,1,1,1,1,1,1,1,1,1,1,1,1,1,1,1,1,1,1,1,1,1,1,1,1,1,1,1,1,1,1,1,1,1,1,1,1,1,1,1,1,1,1]
["CapacityFactor","RE1","IMPBIO",null,null,null,"S213",null,null,null,1,1,1,1,1,1,1,1,1,1,1,1,1,1,1,1,1,1,1,1,1,1,1,1,1,1,1,1,1,1,1,1,1,1,1,1,1,1,1,1,1,1,1,1,1,1,1,1,1,1,1,1,1,1,1,1]
["CapacityFactor","RE1","IMPBIO",null,null,null,"S214",null,null,null,1,1,1,1,1,1,1,1,1,1,1,1,1,1,1,1,1,1,1,1,1,1,1,1,1,1,1,1,1,1,1,1,1,1,1,1,1,1,1,1,1,1,1,1,1,1,1,1,1,1,1,1,1,1,1,1]
["CapacityFactor","RE1","IMPBIO",null,null,null,"S215",null,null,null,1,1,1,1,1,1,1,1,1,1,1,1,1,1,1,1,1,1,1,1,1,1,1,1,1,1,1,1,1,1,1,1,1,1,1,1,1,1,1,1,1,1,1,1,1,1,1,1,1,1,1,1,1,1,1,1]
["CapacityFactor","RE1","IMPBIO",null,null,null,"S216",null,null,null,1,1,1,1,1,1,1,1,1,1,1,1,1,1,1,1,1,1,1,1,1,1,1,1,1,1,1,1,1,1,1,1,1,1,1,1,1,1,1,1,1,1,1,1,1,1,1,1,1,1,1,1,1,1,1,1]
["CapacityFactor","RE1","IMPBIO",null,null,null,"S217",null,null,null,1,1,1,1,1,1,1,1,1,1,1,1,1,1,1,1,1,1,1,1,1,1,1,1,1,1,1,1,1,1,1,1,1,1,1,1,1,1,1,1,1,1,1,1,1,1,1,1,1,1,1,1,1,1,1,1]
["CapacityFactor","RE1","IMPBIO",null,null,null,"S218",null,null,null,1,1,1,1,1,1,1,1,1,1,1,1,1,1,1,1,1,1,1,1,1,1,1,1,1,1,1,1,1,1,1,1,1,1,1,1,1,1,1,1,1,1,1,1,1,1,1,1,1,1,1,1,1,1,1,1]
["CapacityFactor","RE1","IMPBIO",null,null,null,"S219",null,null,null,1,1,1,1,1,1,1,1,1,1,1,1,1,1,1,1,1,1,1,1,1,1,1,1,1,1,1,1,1,1,1,1,1,1,1,1,1,1,1,1,1,1,1,1,1,1,1,1,1,1,1,1,1,1,1,1]
["CapacityFactor","RE1","IMPBIO",null,null,null,"S220",null,null,null,1,1,1,1,1,1,1,1,1,1,1,1,1,1,1,1,1,1,1,1,1,1,1,1,1,1,1,1,1,1,1,1,1,1,1,1,1,1,1,1,1,1,1,1,1,1,1,1,1,1,1,1,1,1,1,1]
["CapacityFactor","RE1","IMPBIO",null,null,null,"S221",null,null,null,1,1,1,1,1,1,1,1,1,1,1,1,1,1,1,1,1,1,1,1,1,1,1,1,1,1,1,1,1,1,1,1,1,1,1,1,1,1,1,1,1,1,1,1,1,1,1,1,1,1,1,1,1,1,1,1]
["CapacityFactor","RE1","IMPBIO",null,null,null,"S222",null,null,null,1,1,1,1,1,1,1,1,1,1,1,1,1,1,1,1,1,1,1,1,1,1,1,1,1,1,1,1,1,1,1,1,1,1,1,1,1,1,1,1,1,1,1,1,1,1,1,1,1,1,1,1,1,1,1,1]
["CapacityFactor","RE1","IMPBIO",null,null,null,"S223",null,null,null,1,1,1,1,1,1,1,1,1,1,1,1,1,1,1,1,1,1,1,1,1,1,1,1,1,1,1,1,1,1,1,1,1,1,1,1,1,1,1,1,1,1,1,1,1,1,1,1,1,1,1,1,1,1,1,1]
["CapacityFactor","RE1","IMPBIO",null,null,null,"S224",null,null,null,1,1,1,1,1,1,1,1,1,1,1,1,1,1,1,1,1,1,1,1,1,1,1,1,1,1,1,1,1,1,1,1,1,1,1,1,1,1,1,1,1,1,1,1,1,1,1,1,1,1,1,1,1,1,1,1]
["CapacityFactor","RE1","MINBIO",null,null,null,"S110",null,null,null,1,1,1,1,1,1,1,1,1,1,1,1,1,1,1,1,1,1,1,1,1,1,1,1,1,1,1,1,1,1,1,1,1,1,1,1,1,1,1,1,1,1,1,1,1,1,1,1,1,1,1,1,1,1,1,1]
["CapacityFactor","RE1","MINBIO",null,null,null,"S311",null,null,null,1,1,1,1,1,1,1,1,1,1,1,1,1,1,1,1,1,1,1,1,1,1,1,1,1,1,1,1,1,1,1,1,1,1,1,1,1,1,1,1,1,1,1,1,1,1,1,1,1,1,1,1,1,1,1,1]
["CapacityFactor","RE1","MINCOA",null,null,null,"S220",null,null,null,1,1,1,1,1,1,1,1,1,1,1,1,1,1,1,1,1,1,1,1,1,1,1,1,1,1,1,1,1,1,1,1,1,1,1,1,1,1,1,1,1,1,1,1,1,1,1,1,1,1,1,1,1,1,1,1]
["CapacityFactor","RE1","MINCOA",null,null,null,"S404",null,null,null,1,1,1,1,1,1,1,1,1,1,1,1,1,1,1,1,1,1,1,1,1,1,1,1,1,1,1,1,1,1,1,1,1,1,1,1,1,1,1,1,1,1,1,1,1,1,1,1,1,1,1,1,1,1,1,1]
["CapacityFactor","RE1","IMPLFO",null,null,null,"S407",null,null,null,1,1,1,1,1,1,1,1,1,1,1,1,1,1,1,1,1,1,1,1,1,1,1,1,1,1,1,1,1,1,1,1,1,1,1,1,1,1,1,1,1,1,1,1,1,1,1,1,1,1,1,1,1,1,1,1]
["CapacityFactor","RE1","IMPHFO",null,null,null,"S316",null,null,null,1,1,1,1,1,1,1,1,1,1,1,1,1,1,1,1,1,1,1,1,1,1,1,1,1,1,1,1,1,1,1,1,1,1,1,1,1,1,1,1,1,1,1,1,1,1,1,1,1,1,1,1,1,1,1,1]
["CapacityFactor","RE1","UPSREF002",null,null,null,"S117",null,null,null,1,1,1,1,1,1,1,1,1,1,1,1,1,1,1,1,1,1,1,1,1,1,1,1,1,1,1,1,1,1,1,1,1,1,1,1,1,1,1,1,1,1,1,1,1,1,1,1,1,1,1,1,1,1,1,1]
["CapacityFactor","RE1","IMPNGS",null,null,null,"S121",null,null,null,1,1,1,1,1,1,1,1,1,1,1,1,1,1,1,1,1,1,1,1,1,1,1,1,1,1,1,1,1,1,1,1,1,1,1,1,1,1,1,1,1,1,1,1,1,1,1,1,1,1,1,1,1,1,1,1]
["CapacityFactor","RE1","IMPNGS",null,null,null,"S304",null,null,null,1,1,1,1,1,1,1,1,1,1,1,1,1,1,1,1,1,1,1,1,1,1,1,1,1,1,1,1,1,1,1,1,1,1,1,1,1,1,1,1,1,1,1,1,1,1,1,1,1,1,1,1,1,1,1,1]
["CapacityFactor","RE1","MINSOL",null,null,null,"S213",null,null,null,1,1,1,1,1,1,1,1,1,1,1,1,1,1,1,1,1,1,1,1,1,1,1,1,1,1,1,1,1,1,1,1,1,1,1,1,1,1,1,1,1,1,1,1,1,1,1,1,1,1,1,1,1,1,1,1]
["CapacityFactor","RE1","MINWND",null,null,null,"S122",null,null,null,1,1,1,1,1,1,1,1,1,1,1,1,1,1,1,1,1,1,1,1,1,1,1,1,1,1,1,1,1,1,1,1,1,1,1,1,1,1,1,1,1,1,1,1,1,1,1,1,1,1,1,1,1,1,1,1]
["CapacityFactor","RE1","MINWND",null,null,null,"S424",null,null,null,1,1,1,1,1,1,1,1,1,1,1,1,1,1,1,1,1,1,1,1,1,1,1,1,1,1,1,1,1,1,1,1,1,1,1,1,1,1,1,1,1,1,1,1,1,1,1,1,1,1,1,1,1,1,1,1]
["CapacityFactor","RE1","IMPURN",null,null,null,"S309",null,null,null,1,1,1,1,1,1,1,1,1,1,1,1,1,1,1,1,1,1,1,1,1,1,1,1,1,1,1,1,1,1,1,1,1,1,1,1,1,1,1,1,1,1,1,1,1,1,1,1,1,1,1,1,1,1,1,1]
["CapacityFactor","RE1","MINGEO",null,null,null,"S218",null,null,null,1,1,1,1,1,1,1,1,1,1,1,1,1,1,1,1,1,1,1,1,1,1,1,1,1,1,1,1,1,1,1,1,1,1,1,1,1,1,1,1,1,1,1,1,1,1,1,1,1,1,1,1,1,1,1,1]
["CapacityFactor","RE1","MINGEO",null,null,null,"S419",null,null,null,1,1,1,1,1,1,1,1,1,1,1,1,1,1,1,1,1,1,1,1,1,1,1,1,1,1,1,1,1,1,1,1,1,1,1,1,1,1,1,1,1,1,1,1,1,1,1,1,1,1,1,1,1,1,1,1]
["CapacityFactor","RE1","PWRBIO001",null,null,null,"S217",null,null,null,0.66,0.66,0.66,0.66,0.66,0.66,0.66,0.66,0.66,0.66,0.66,0.66,0.66,0.66,0.66,0.66,0.66,0.66,0.66,0.66,0.66,0.66,0.66,0.66,0.66,0.66,0.66,0.66,0.66,0.66,0.66,0.66,0.66,0.66,0.66,0.66,0.66,0.66,0.66,0.66,0.66,0.66,0.66,0.66,0.66,0.66,0.66,0.66,0.66,0.66,0.66,0.66,0.66,0.66,0.66,0.66]
["CapacityFactor","RE1","PWRCOA001",null,null,null,"S206",null,null,null,0.85,0.85,0.85,0.85,0.85,0.85,0.85,0.85,0.85,0.85,0.85,0.85,0.85,0.85,0.85,0.85,0.85,0.85,0.85,0.85,0.85,0.85,0.85,0.85,0.85,0.85,0.85,0.85,0.85,0.85,0.85,0.85,0.85,0.85,0.85,0.85,0.85,0.85,0.85,0.85,0.85,0.85,0.85,0.85,0.85,0.85,0.85,0.85,0.85,0.85,0.85,0.85,0.85,0.85,0.85,0.85]
["CapacityFactor","RE1","TEC021",null,null,null,"S115",null,null,null,1,1,1,1,1,1,1,1,1,1,1,1,1,1,1,1,1,1,1,1,1,1,1,1,1,1,1,1,1,1,1,1,1,1,1,1,1,1,1,1,1,1,1,1,1,1,1,1,1,1,1,1,1,1,1,1]
["CapacityFactor","RE1","PWRGEO",null,null,null,"S108",null,null,null,0.85,0.85,0.85,0.85,0.85,0.85,0.85,0.85,0.85,0.85,0.85,0.85,0.85,0.85,0.85,0.85,0.85,0.85,0.85,0.85,0.85,0.85,0.85,0.85,0.85,0.85,0.85,0.85,0.85,0.85,0.85,0.85,0.85,0.85,0.85,0.85,0.85,0.85,0.85,0.85,0.85,0.85,0.85,0.85,0.85,0.85,0.85,0.85,0.85,0.85,0.85,0.85,0.85,0.85,0.85,0.85]
["CapacityFactor","RE1","PWROHC001",null,null,null,"S302",null,null,null,0.85,0.85,0.85,0.85,0.85,0.85,0.85,0.85,0.85,0.85,0.85,0.85,0.85,0.85,0.85,0.85,0.85,0.85,0.85,0.85,0.85,0.85,0.85,0.85,0.85,0.85,0.85,0.85,0.85,0.85,0.85,0.85,0.85,0.85,0.85,0.85,0.85,0.85,0.85,0.85,0.85,0.85,0.85,0.85,0.85,0.85,0.85,0.85,0.85,0.85,0.85,0.85,0.85,0.85,0.85,0.85]
["CapacityFactor","RE1","PWROHC002",null,null,null,"S211",null,null,null,0.85,0.85,0.85,0.85,0.85,0.85,0.85,0.85,0.85,0.85,0.85,0.85,0.85,0.85,0.85,0.85,0.85,0.85,0.85,0.85,0.85,0.85,0.85,0.85,0.85,0.85,0.85,0.85,0.85,0.85,0.85,0.85,0.85,0.85,0.85,0.85,0.85,0.85,0.85,0.85,0.85,0.85,0.85,0.85,0.85,0.85,0.85,0.85,0.85,0.85,0.85,0.85,0.85,0.85,0.85,0.85]
["CapacityFactor","RE1","PWROHC002",null,null,null,"S412",null,null,null,0.85,0.85,0.85,0.85,0.85,0.85,0.85,0.85,0.85,0.85,0.85,0.85,0.85,0.85,0.85,0.85,0.85,0.85,0.85,0.85,0.85,0.85,0.85,0.85,0.85,0.85,0.85,0.85,0.85,0.85,0.85,0.85,0.85,0.85,0.85,0.85,0.85,0.85,0.85,0.85,0.85,0.85,0.85,0.85,0.85,0.85,0.85,0.85,0.85,0.85,0.85,0.85,0.85,0.85,0.85,0.85]
["CapacityFactor","RE1","PWRNGS001",null,null,null,"S411",null,null,null,0.85,0.85,0.85,0.85,0.85,0.85,0.85,0.85,0.85,0.85,0.85,0.85,0.85,0.85,0.85,0.85,0.85,0.85,0.85,0.85,0.85,0.85,0.85,0.85,0.85,0.85,0.85,0.85,0.85,0.85,0.85,0.85,0.85,0.85,0.85,0.85,0.85,0.85,0.85,0.85,0.85,0.85,0.85,0.85,0.85,0.85,0.85,0.85,0.85,0.85,0.85,0.85,0.85,0.85,0.85,0.85]
["CapacityFactor","RE1","PWRNGS002",null,null,null,"S307",null,null,null,0.85,0.85,0.85,0.85,0.85,0.85,0.85,0.85,0.85,0.85,0.85,0.85,0.85,0.85,0.85,0.85,0.85,0.85,0.85,0.85,0.85,0.85,0.85,0.85,0.85,0.85,0.85,0.85,0.85,0.85,0.85,0.85,0.85,0.85,0.85,0.85,0.85,0.85,0.85,0.85,0.85,0.85,0.85,0.85,0.85,0.85,0.85,0.85,0.85,0.85,0.85,0.85,0.85,0.85,0.85,0.85]
["CapacityFactor","RE1","TEC027",null,null,null,"S108",null,null,null,1,1,1,1,1,1,1,1,1,1,1,1,1,1,1,1,1,1,1,1,1,1,1,1,1,1,1,1,1,1,1,1,1,1,1,1,1,1,1,1,1,1,1,1,1,1,1,1,1,1,1,1,1,1,1,1]
["CapacityFactor","RE1","TEC027",null,null,null,"S417",null,null,null,1,1,1,1,1,1,1,1,1,1,1,1,1,1,1,1,1,1,1,1,1,1,1,1,1,1,1,1,1,1,1,1,1,1,1,1,1,1,1,1,1,1,1,1,1,1,1,1,1,1,1,1,1,1,1,1]
["CapacityFactor","RE1","PWRHYD001",null,null,null,"S204",null,null,null,0.72502958721333299,0.72502958721333299,0.72502958721333299,0.72502958721333299,0.72502958721333299,0.72502958721333299,0.72502958721333299,0.72502958721333299,0.72502958721333299,0.72502958721333299,0.72502958721333299,0.72502958721333299,0.72502958721333299,0.72502958721333299,0.72502958721333299,0.72502958721333299,0.72502958721333299,0.72502958721333299,0.72502958721333299,0.72502958721333299,0.72502958721333299,0.72502958721333299,0.72502958721333299,0.72502958721333299,0.72502958721333299,0.72502958721333299,0.72502958721333299,0.72502958721333299,0.72502958721333299,0.72502958721333299,0.72502958721333299,0.72502958721333299,0.72502958721333299,0.72502958721333299,0.72502958721333299,0.72502958721333299,0.72502958721333299,0.72502958721333299,0.72502958721333299,0.72502958721333299,0.72502958721333299,0.72502958721333299,0.72502958721333299,0.72502958721333299,0.72502958721333299,0.72502958721333299,0.72502958721333299,0.72502958721333299,0.72502958721333299,0.72502958721333299,0.72502958721333299,0.72502958721333299,0.72502958721333299,0.72502958721333299,0.72502958721333299,0.72502958721333299]
["CapacityFactor","RE1","PWRHYD002",null,null,null,"S204",null,null,null,0.72502958721333299,0.72502958721333299,0.72502958721333299,0.72502958721333299,0.72502958721333299,0.72502958721333299,0.72502958721333299,0.72502958721333299,0.72502958721333299,0.72502958721333299,0.72502958721333299,0.72502958721333299,0.72502958721333299,0.72502958721333299,0.72502958721333299,0.72502958721333299,0.72502958721333299,0.72502958721333299,0.72502958721333299,0.72502958721333299,0.72502958721333299,0.72502958721333299,0.72502958721333299,0.72502958721333299,0.72502958721333299,0.72502958721333299,0.72502958721333299,0.72502958721333299,0.72502958721333299,0.72502958721333299,0.72502958721333299,0.72502958721333299,0.72502958721333299,0.72502958721333299,0.72502958721333299,0.72502958721333299,0.72502958721333299,0.72502958721333299,0.72502958721333299,0.72502958721333299,0.72502958721333299,0.72502958721333299,0.72502958721333299,0.72502958721333299,0.72502958721333299,0.72502958721333299,0.72502958721333299,0.72502958721333299,0.72502958721333299,0.72502958721333299,0.72502958721333299,0.72502958721333299,0.72502958721333299,0.72502958721333299,0.72502958721333299,0.72502958721333299]
["CapacityFactor","RE1","PWRHYD003",null,null,null,"S113",null,null,null,0.75223394180666603,0.75223394180666603,0.75223394180666603,0.75223394180666603,0.75223394180666603,0.75223394180666603,0.75223394180666603,0.75223394180666603,0.75223394180666603,0.75223394180666603,0.75223394180666603,0.75223394180666603,0.75223394180666603,0.75223394180666603,0.75223394180666603,0.75223394180666603,0.75223394180666603,0.75223394180666603,0.75223394180666603,0.75223394180666603,0.75223394180666603,0.75223394180666603,0.75223394180666603,0.75223394180666603,0.75223394180666603,0.75223394180666603,0.75223394180666603,0.75223394180666603,0.75223394180666603,0.75223394180666603,0.75223394180666603,0.75223394180666603,0.75223394180666603,0.75223394180666603,0.75223394180666603,0.75223394180666603,0.75223394180666603,0.75223394180666603,0.75223394180666603,0.75223394180666603,0.75223394180666603,0.75223394180666603,0.75223394180666603,0.75223394180666603,0.75223394180666603,0.75223394180666603,0.75223394180666603,0.75223394180666603,0.75223394180666603,0.75223394180666603,0.75223394180666603,0.75223394180666603,0.75223394180666603,0.75223394180666603,0.75223394180666603,0.75223394180666603]
["CapacityFactor","RE1","PWRHYD003",null,null,null,"S314",null,null,null,0.55735292443555495,0.55735292443555495,0.55735292443555495,0.55735292443555495,0.55735292443555495,0.55735292443555495,0.55735292443555495,0.55735292443555495,0.55735292443555495,0.55735292443555495,0.55735292443555495,0.55735292443555495,0.55735292443555495,0.55735292443555495,0.55735292443555495,0.55735292443555495,0.55735292443555495,0.55735292443555495,0.55735292443555495,0.55735292443555495,0.55735292443555495,0.55735292443555495,0.55735292443555495,0.55735292443555495,0.55735292443555495,0.55735292443555495,0.55735292443555495,0.55735292443555495,0.55735292443555495,0.55735292443555495,0.55735292443555495,0.55735292443555495,0.55735292443555495,0.55735292443555495,0.55735292443555495,0.55735292443555495,0.55735292443555495,0.55735292443555495,0.55735292443555495,0.55735292443555495,0.55735292443555495,0.55735292443555495,0.55735292443555495,0.55735292443555495,0.55735292443555495,0.55735292443555495,0.55735292443555495,0.55735292443555495,0.55735292443555495,0.55735292443555495,0.55735292443555495,0.55735292443555495,0.55735292443555495,0.55735292443555495,0.55735292443555495,0.55735292443555495]
["CapacityFactor","RE1","PWRWND002",null,null,null,"S107",null,null,null,0,0,0,0,0,0,0,0,0,0,0,0,0,0,0,0,0,0,0,0,0,0,0,0,0,0,0,0,0,0,0,0,0,0,0,0,0,0,0,0,0,0,0,0,0,0,0,0,0,0,0,0,0,0,0,0]
["CapacityFactor","RE1","PWRNUC",null,null,null,"S209",null,null,null,0.85,0.85,0.85,0.85,0.85,0.85,0.85,0.85,0.85,0.85,0.85,0.85,0.85,0.85,0.85,0.85,0.85,0.85,0.85,0.85,0.85,0.85,0.85,0.85,0.85,0.85,0.85,0.85,0.85,0.85,0.85,0.85,0.85,0.85,0.85,0.85,0.85,0.85,0.85,0.85,0.85,0.85,0.85,0.85,0.85,0.85,0.85,0.85,0.85,0.85,0.85,0.85,0.85,0.85,0.85,0.85]
["CapacityFactor","RE1","PWRNUC",null,null,null,"S410",null,null,null,0.85,0.85,0.85,0.85,0.85,0.85,0.85,0.85,0.85,0.85,0.85,0.85,0.85,0.85,0.85,0.85,0.85,0.85,0.85,0.85,0.85,0.85,0.85,0.85,0.85,0.85,0.85,0.85,0.85,0.85,0.85,0.85,0.85,0.85,0.85,0.85,0.85,0.85,0.85,0.85,0.85,0.85,0.85,0.85,0.85,0.85,0.85,0.85,0.85,0.85,0.85,0.85,0.85,0.85,0.85,0.85]
["CapacityFactor","RE1","PWRSOL001S",null,null,null,"S319",null,null,null,0.43412228260869501,0.43412228260869501,0.43412228260869501,0.43412228260869501,0.43412228260869501,0.43412228260869501,0.43412228260869501,0.43412228260869501,0.43412228260869501,0.43412228260869501,0.43412228260869501,0.43412228260869501,0.43412228260869501,0.43412228260869501,0.43412228260869501,0.43412228260869501,0.43412228260869501,0.43412228260869501,0.43412228260869501,0.43412228260869501,0.43412228260869501,0.43412228260869501,0.43412228260869501,0.43412228260869501,0.43412228260869501,0.43412228260869501,0.43412228260869501,0.43412228260869501,0.43412228260869501,0.43412228260869501,0.43412228260869501,0.43412228260869501,0.43412228260869501,0.43412228260869501,0.43412228260869501,0.43412228260869501,0.43412228260869501,0.43412228260869501,0.43412228260869501,0.43412228260869501,0.43412228260869501,0.43412228260869501,0.43412228260869501,0.43412228260869501,0.43412228260869501,0.43412228260869501,0.43412228260869501,0.43412228260869501,0.43412228260869501,0.43412228260869501,0.43412228260869501,0.43412228260869501,0.43412228260869501,0.43412228260869501,0.43412228260869501,0.43412228260869501]
["CapacityFactor","RE1","PWRTRNIMP",null,null,null,"S224",null,null,null,1,1,1,1,1,1,1,1,1,1,1,1,1,1,1,1,1,1,1,1,1,1,1,1,1,1,1,1,1,1,1,1,1,1,1,1,1,1,1,1,1,1,1,1,1,1,1,1,1,1,1,1,1,1,1,1]
["CapacityFactor","RE1","BACKSTOP001",null,null,null,"S106",null,null,null,1,1,1,1,1,1,1,1,1,1,1,1,1,1,1,1,1,1,1,1,1,1,1,1,1,1,1,1,1,1,1,1,1,1,1,1,1,1,1,1,1,1,1,1,1,1,1,1,1,1,1,1,1,1,1,1]
["CapacityFactor","RE1","BACKSTOP001",null,null,null,"S415",null,null,null,1,1,1,1,1,1,1,1,1,1,1,1,1,1,1,1,1,1,1,1,1,1,1,1,1,1,1,1,1,1,1,1,1,1,1,1,1,1,1,1,1,1,1,1,1,1,1,1,1,1,1,1,1,1,1,1]
["CapacityFactor","RE1","PWRDIST",null,null,null,"S302",null,null,null,1,1,1,1,1,1,1,1,1,1,1,1,1,1,1,1,1,1,1,1,1,1,1,1,1,1,1,1,1,1,1,1,1,1,1,1,1,1,1,1,1,1,1,1,1,1,1,1,1,1,1,1,1,1,1,1]
["CapacityFactor","RE1","PWROHC003",null,null,null,"S202",null,null,null,0.4,0.4,0.4,0.4,0.4,0.4,0.4,0.4,0.4,0.4,0.4,0.4,0.4,0.4,0.4,0.4,0.4,0.4,0.4,0.4,0.4,0.4,0.4,0.4,0.4,0.4,0.4,0.4,0.4,0.4,0.4,0.4,0.4,0.4,0.4,0.4,0.4,0.4,0.4,0.4,0.4,0.4,0.4,0.4,0.4,0.4,0.4,0.4,0.4,0.4,0.4,0.4,0.4,0.4,0.4,0.4]
["CapacityFactor","RE1","PWRSOL002",null,null,null,"S111",null,null,null,0.42995444444444397,0.42995444444444397,0.42995444444444397,0.42995444444444397,0.42995444444444397,0.42995444444444397,0.42995444444444397,0.42995444444444397,0.42995444444444397,0.42995444444444397,0.42995444444444397,0.42995444444444397,0.42995444444444397,0.42995444444444397,0.42995444444444397,0.42995444444444397,0.42995444444444397,0.42995444444444397,0.42995444444444397,0.42995444444444397,0.42995444444444397,0.42995444444444397,0.42995444444444397,0.42995444444444397,0.42995444444444397,0.42995444444444397,0.42995444444444397,0.42995444444444397,0.42995444444444397,0.42995444444444397,0.42995444444444397,0.42995444444444397,0.42995444444444397,0.42995444444444397,0.42995444444444397,0.42995444444444397,0.42995444444444397,0.42995444444444397,0.42995444444444397,0.42995444444444397,0.42995444444444397,0.42995444444444397,0.42995444444444397,0.42995444444444397,0.42995444444444397,0.42995444444444397,0.42995444444444397,0.42995444444444397,0.42995444444444397,0.42995444444444397,0.42995444444444397,0.42995444444444397,0.42995444444444397,0.42995444444444397,0.42995444444444397,0.42995444444444397]
["CapacityFactor","RE1","PWRSOL002",null,null,null,"S312",null,null,null,0.43412228260869501,0.43412228260869501,0.43412228260869501,0.43412228260869501,0.43412228260869501,0.43412228260869501,0.43412228260869501,0.43412228260869501,0.43412228260869501,0.43412228260869501,0.43412228260869501,0.43412228260869501,0.43412228260869501,0.43412228260869501,0.43412228260869501,0.43412228260869501,0.43412228260869501,0.43412228260869501,0.43412228260869501,0.43412228260869501,0.43412228260869501,0.43412228260869501,0.43412228260869501,0.43412228260869501,0.43412228260869501,0.43412228260869501,0.43412228260869501,0.43412228260869501,0.43412228260869501,0.43412228260869501,0.43412228260869501,0.43412228260869501,0.43412228260869501,0.43412228260869501,0.43412228260869501,0.43412228260869501,0.43412228260869501,0.43412228260869501,0.43412228260869501,0.43412228260869501,0.43412228260869501,0.43412228260869501,0.43412228260869501,0.43412228260869501,0.43412228260869501,0.43412228260869501,0.43412228260869501,0.43412228260869501,0.43412228260869501,0.43412228260869501,0.43412228260869501,0.43412228260869501,0.43412228260869501,0.43412228260869501,0.43412228260869501,0.43412228260869501]
["CapacityFactor","RE1","PWRHYD004",null,null,null,"S418",null,null,null,0.61702974999555504,0.61702974999555504,0.61702974999555504,0.61702974999555504,0.61702974999555504,0.61702974999555504,0.61702974999555504,0.61702974999555504,0.61702974999555504,0.61702974999555504,0.61702974999555504,0.61702974999555504,0.61702974999555504,0.61702974999555504,0.61702974999555504,0.61702974999555504,0.61702974999555504,0.61702974999555504,0.61702974999555504,0.61702974999555504,0.61702974999555504,0.61702974999555504,0.61702974999555504,0.61702974999555504,0.61702974999555504,0.61702974999555504,0.61702974999555504,0.61702974999555504,0.61702974999555504,0.61702974999555504,0.61702974999555504,0.61702974999555504,0.61702974999555504,0.61702974999555504,0.61702974999555504,0.61702974999555504,0.61702974999555504,0.61702974999555504,0.61702974999555504,0.61702974999555504,0.61702974999555504,0.61702974999555504,0.61702974999555504,0.61702974999555504,0.61702974999555504,0.61702974999555504,0.61702974999555504,0.61702974999555504,0.61702974999555504,0.61702974999555504,0.61702974999555504,0.61702974999555504,0.61702974999555504,0.61702974999555504,0.61702974999555504,0.61702974999555504]
["CapacityFactor","RE1","PWRTRNEXP",null,null,null,"S423",null,null,null,1,1,1,1,1,1,1,1,1,1,1,1,1,1,1,1,1,1,1,1,1,1,1,1,1,1,1,1,1,1,1,1,1,1,1,1,1,1,1,1,1,1,1,1,1,1,1,1,1,1,1,1,1,1,1,1]
["CapacityFactor","RE1","BACKSTOP002",null,null,null,"S408",null,null,null,1,1,1,1,1,1,1,1,1,1,1,1,1,1,1,1,1,1,1,1,1,1,1,1,1,1,1,1,1,1,1,1,1,1,1,1,1,1,1,1,1,1,1,1,1,1,1,1,1,1,1,1,1,1,1,1]
["CapacityFactor","RE1","DEMTRAEVC",null,null,null,"S317",null,null,null,1,1,1,1,1,1,1,1,1,1,1,1,1,1,1,1,1,1,1,1,1,1,1,1,1,1,1,1,1,1,1,1,1,1,1,1,1,1,1,1,1,1,1,1,1,1,1,1,1,1,1,1,1,1,1,1]
["CapacityFactor","RE1","DEMTRAMCYELC",null,null,null,"S321",null,null,null,1,1,1,1,1,1,1,1,1,1,1,1,1,1,1,1,1,1,1,1,1,1,1,1,1,1,1,1,1,1,1,1,1,1,1,1,1,1,1,1,1,1,1,1,1,1,1,1,1,1,1,1,1,1,1,1]
["CapacityFactor","RE1","DEMTRABUSELC",null,null,null,"S104",null,null,null,1,1,1,1,1,1,1,1,1,1,1,1,1,1,1,1,1,1,1,1,1,1,1,1,1,1,1,1,1,1,1,1,1,1,1,1,1,1,1,1,1,1,1,1,1,1,1,1,1,1,1,1,1,1,1,1]
["CapacityFactor","RE1","DEMTRABUSELC",null,null,null,"S413",null,null,null,1,1,1,1,1,1,1,1,1,1,1,1,1,1,1,1,1,1,1,1,1,1,1,1,1,1,1,1,1,1,1,1,1,1,1,1,1,1,1,1,1,1,1,1,1,1,1,1,1,1,1,1,1,1,1,1]
["CapacityFactor","RE1","DEMTRACARGSL",null,null,null,"S214",null,null,null,1,1,1,1,1,1,1,1,1,1,1,1,1,1,1,1,1,1,1,1,1,1,1,1,1,1,1,1,1,1,1,1,1,1,1,1,1,1,1,1,1,1,1,1,1,1,1,1,1,1,1,1,1,1,1,1]
["CapacityFactor","RE1","DEMTRABUSGSL",null,null,null,"S114",null,null,null,1,1,1,1,1,1,1,1,1,1,1,1,1,1,1,1,1,1,1,1,1,1,1,1,1,1,1,1,1,1,1,1,1,1,1,1,1,1,1,1,1,1,1,1,1,1,1,1,1,1,1,1,1,1,1,1]
["CapacityFactor","RE1","DEMTRABUSGSL",null,null,null,"S401",null,null,null,1,1,1,1,1,1,1,1,1,1,1,1,1,1,1,1,1,1,1,1,1,1,1,1,1,1,1,1,1,1,1,1,1,1,1,1,1,1,1,1,1,1,1,1,1,1,1,1,1,1,1,1,1,1,1,1]
["CapacityFactor","RE1","INDENEFFGD",null,null,null,"S310",null,null,null,1,1,1,1,1,1,1,1,1,1,1,1,1,1,1,1,1,1,1,1,1,1,1,1,1,1,1,1,1,1,1,1,1,1,1,1,1,1,1,1,1,1,1,1,1,1,1,1,1,1,1,1,1,1,1,1]
["CapacityFactor","RE1","INDENEFFDP",null,null,null,"S219",null,null,null,1,1,1,1,1,1,1,1,1,1,1,1,1,1,1,1,1,1,1,1,1,1,1,1,1,1,1,1,1,1,1,1,1,1,1,1,1,1,1,1,1,1,1,1,1,1,1,1,1,1,1,1,1,1,1,1]
["CapacityFactor","RE1","INDENEFFDP",null,null,null,"S417",null,null,null,1,1,1,1,1,1,1,1,1,1,1,1,1,1,1,1,1,1,1,1,1,1,1,1,1,1,1,1,1,1,1,1,1,1,1,1,1,1,1,1,1,1,1,1,1,1,1,1,1,1,1,1,1,1,1,1]
["CapacityFactor","RE1","DEMINDHEEH",null,null,null,"S406",null,null,null,0.8,0.8,0.8,0.8,0.8,0.8,0.8,0.8,0.8,0.8,0.8,0.8,0.8,0.8,0.8,0.8,0.8,0.8,0.8,0.8,0.8,0.8,0.8,0.8,0.8,0.8,0.8,0.8,0.8,0.8,0.8,0.8,0.8,0.8,0.8,0.8,0.8,0.8,0.8,0.8,0.8,0.8,0.8,0.8,0.8,0.8,0.8,0.8,0.8,0.8,0.8,0.8,0.8,0.8,0.8,0.8]
["CapacityFactor","RE1","DEMINDHENGS",null,null,null,"S207",null,null,null,0.8,0.8,0.8,0.8,0.8,0.8,0.8,0.8,0.8,0.8,0.8,0.8,0.8,0.8,0.8,0.8,0.8,0.8,0.8,0.8,0.8,0.8,0.8,0.8,0.8,0.8,0.8,0.8,0.8,0.8,0.8,0.8,0.8,0.8,0.8,0.8,0.8,0.8,0.8,0.8,0.8,0.8,0.8,0.8,0.8,0.8,0.8,0.8,0.8,0.8,0.8,0.8,0.8,0.8,0.8,0.8]
["CapacityFactor","RE1","DEMINDHEOIL",null,null,null,"S309",null,null,null,0.8,0.8,0.8,0.8,0.8,0.8,0.8,0.8,0.8,0.8,0.8,0.8,0.8,0.8,0.8,0.8,0.8,0.8,0.8,0.8,0.8,0.8,0.8,0.8,0.8,0.8,0.8,0.8,0.8,0.8,0.8,0.8,0.8,0.8,0.8,0.8,0.8,0.8,0.8,0.8,0.8,0.8,0.8,0.8,0.8,0.8,0.8,0.8,0.8,0.8,0.8,0.8,0.8,0.8,0.8,0.8]
["CapacityFactor","RE1","DEMINDHEBIO",null,null,null,"S102",null,null,null,0.8,0.8,0.8,0.8,0.8,0.8,0.8,0.8,0.8,0.8,0.8,0.8,0.8,0.8,0.8,0.8,0.8,0.8,0.8,0.8,0.8,0.8,0.8,0.8,0.8,0.8,0.8,0.8,0.8,0.8,0.8,0.8,0.8,0.8,0.8,0.8,0.8,0.8,0.8,0.8,0.8,0.8,0.8,0.8,0.8,0.8,0.8,0.8,0.8,0.8,0.8,0.8,0.8,0.8,0.8,0.8]
["CapacityFactor","RE1","DEMRESELC",null,null,null,"S303",null,null,null,1,1,1,1,1,1,1,1,1,1,1,1,1,1,1,1,1,1,1,1,1,1,1,1,1,1,1,1,1,1,1,1,1,1,1,1,1,1,1,1,1,1,1,1,1,1,1,1,1,1,1,1,1,1,1,1]
["CapacityFactor","RE1","RESENEFFGD",null,null,null,"S212",null,null,null,1,1,1,1,1,1,1,1,1,1,1,1,1,1,1,1,1,1,1,1,1,1,1,1,1,1,1,1,1,1,1,1,1,1,1,1,1,1,1,1,1,1,1,1,1,1,1,1,1,1,1,1,1,1,1,1]
["CapacityFactor","RE1","RESENEFFDP",null,null,null,"S101",null,null,null,1,1,1,1,1,1,1,1,1,1,1,1,1,1,1,1,1,1,1,1,1,1,1,1,1,1,1,1,1,1,1,1,1,1,1,1,1,1,1,1,1,1,1,1,1,1,1,1,1,1,1,1,1,1,1,1]
["CapacityFactor","RE1","RESENEFFDP",null,null,null,"S323",null,null,null,1,1,1,1,1,1,1,1,1,1,1,1,1,1,1,1,1,1,1,1,1,1,1,1,1,1,1,1,1,1,1,1,1,1,1,1,1,1,1,1,1,1,1,1,1,1,1,1,1,1,1,1,1,1,1,1]
["CapacityFactor","RE1","DEMRESCKNOIL",null,null,null,"S308",null,null,null,0.125,0.125,0.125,0.125,0.125,0.125,0.125,0.125,0.125,0.125,0.125,0.125,0.125,0.125,0.125,0.125,0.125,0.125,0.125,0.125,0.125,0.125,0.125,0.125,0.125,0.125,0.125,0.125,0.125,0.125,0.125,0.125,0.125,0.125,0.125,0.125,0.125,0.125,0.125,0.125,0.125,0.125,0.125,0.125,0.125,0.125,0.125,0.125,0.125,0.125,0.125,0.125,0.125,0.125,0.125,0.125]
["CapacityFactor","RE1","DEMRESCKNBIO",null,null,null,"S109",null,null,null,0.125,0.125,0.125,0.125,0.125,0.125,0.125,0.125,0.125,0.125,0.125,0.125,0.125,0.125,0.125,0.125,0.125,0.125,0.125,0.125,0.125,0.125,0.125,0.125,0.125,0.125,0.125,0.125,0.125,0.125,0.125,0.125,0.125,0.125,0.125,0.125,0.125,0.125,0.125,0.125,0.125,0.125,0.125,0.125,0.125,0.125,0.125,0.125,0.125,0.125,0.125,0.125,0.125,0.125,0.125,0.125]
["CapacityFactor","RE1","DEMRESCKNBIO",null,null,null,"S404",null,null,null,0.125,0.125,0.125,0.125,0.125,0.125,0.125,0.125,0.125,0.125,0.125,0.125,0.125,0.125,0.125,0.125,0.125,0.125,0.125,0.125,0.125,0.125,0.125,0.125,0.125,0.125,0.125,0.125,0.125,0.125,0.125,0.125,0.125,0.125,0.125,0.125,0.125,0.125,0.125,0.125,0.125,0.125,0.125,0.125,0.125,0.125,0.125,0.125,0.125,0.125,0.125,0.125,0.125,0.125,0.125,0.125]
["CapacityFactor","RE1","DEMRESHEBIO",null,null,null,"S404",null,null,null,0.8,0.8,0.8,0.8,0.8,0.8,0.8,0.8,0.8,0.8,0.8,0.8,0.8,0.8,0.8,0.8,0.8,0.8,0.8,0.8,0.8,0.8,0.8,0.8,0.8,0.8,0.8,0.8,0.8,0.8,0.8,0.8,0.8,0.8,0.8,0.8,0.8,0.8,0.8,0.8,0.8,0.8,0.8,0.8,0.8,0.8,0.8,0.8,0.8,0.8,0.8,0.8,0.8,0.8,0.8,0.8]
["CapacityFactor","RE1","DEMRESHEEL",null,null,null,"S205",null,null,null,0.8,0.8,0.8,0.8,0.8,0.8,0.8,0.8,0.8,0.8,0.8,0.8,0.8,0.8,0.8,0.8,0.8,0.8,0.8,0.8,0.8,0.8,0.8,0.8,0.8,0.8,0.8,0.8,0.8,0.8,0.8,0.8,0.8,0.8,0.8,0.8,0.8,0.8,0.8,0.8,0.8,0.8,0.8,0.8,0.8,0.8,0.8,0.8,0.8,0.8,0.8,0.8,0.8,0.8,0.8,0.8]
["CapacityFactor","RE1","DEMCOMELC",null,null,null,"S114",null,null,null,1,1,1,1,1,1,1,1,1,1,1,1,1,1,1,1,1,1,1,1,1,1,1,1,1,1,1,1,1,1,1,1,1,1,1,1,1,1,1,1,1,1,1,1,1,1,1,1,1,1,1,1,1,1,1,1]
["CapacityFactor","RE1","COMENEFFGD",null,null,null,"S121",null,null,null,1,1,1,1,1,1,1,1,1,1,1,1,1,1,1,1,1,1,1,1,1,1,1,1,1,1,1,1,1,1,1,1,1,1,1,1,1,1,1,1,1,1,1,1,1,1,1,1,1,1,1,1,1,1,1,1]
["CapacityFactor","RE1","COMENEFFDP",null,null,null,"S301",null,null,null,1,1,1,1,1,1,1,1,1,1,1,1,1,1,1,1,1,1,1,1,1,1,1,1,1,1,1,1,1,1,1,1,1,1,1,1,1,1,1,1,1,1,1,1,1,1,1,1,1,1,1,1,1,1,1,1]
["CapacityFactor","RE1","DEMCOMHEOIL",null,null,null,"S210",null,null,null,0.8,0.8,0.8,0.8,0.8,0.8,0.8,0.8,0.8,0.8,0.8,0.8,0.8,0.8,0.8,0.8,0.8,0.8,0.8,0.8,0.8,0.8,0.8,0.8,0.8,0.8,0.8,0.8,0.8,0.8,0.8,0.8,0.8,0.8,0.8,0.8,0.8,0.8,0.8,0.8,0.8,0.8,0.8,0.8,0.8,0.8,0.8,0.8,0.8,0.8,0.8,0.8,0.8,0.8,0.8,0.8]
["CapacityFactor","RE1","DEMCOMHEBIO",null,null,null,"S123",null,null,null,0.8,0.8,0.8,0.8,0.8,0.8,0.8,0.8,0.8,0.8,0.8,0.8,0.8,0.8,0.8,0.8,0.8,0.8,0.8,0.8,0.8,0.8,0.8,0.8,0.8,0.8,0.8,0.8,0.8,0.8,0.8,0.8,0.8,0.8,0.8,0.8,0.8,0.8,0.8,0.8,0.8,0.8,0.8,0.8,0.8,0.8,0.8,0.8,0.8,0.8,0.8,0.8,0.8,0.8,0.8,0.8]
["CapacityFactor","RE1","DEMCOMHEBIO",null,null,null,"S321",null,null,null,0.8,0.8,0.8,0.8,0.8,0.8,0.8,0.8,0.8,0.8,0.8,0.8,0.8,0.8,0.8,0.8,0.8,0.8,0.8,0.8,0.8,0.8,0.8,0.8,0.8,0.8,0.8,0.8,0.8,0.8,0.8,0.8,0.8,0.8,0.8,0.8,0.8,0.8,0.8,0.8,0.8,0.8,0.8,0.8,0.8,0.8,0.8,0.8,0.8,0.8,0.8,0.8,0.8,0.8,0.8,0.8]
["CapacityFactor","RE1","BSTOPMCY",null,null,null,"S306",null,null,null,1,1,1,1,1,1,1,1,1,1,1,1,1,1,1,1,1,1,1,1,1,1,1,1,1,1,1,1,1,1,1,1,1,1,1,1,1,1,1,1,1,1,1,1,1,1,1,1,1,1,1,1,1,1,1,1]
["CapacityFactor","RE1","BSTOPCAR",null,null,null,"S107",null,null,null,1,1,1,1,1,1,1,1,1,1,1,1,1,1,1,1,1,1,1,1,1,1,1,1,1,1,1,1,1,1,1,1,1,1,1,1,1,1,1,1,1,1,1,1,1,1,1,1,1,1,1,1,1,1,1,1]
["CapacityFactor","RE1","BSTOPBUS",null,null,null,"S316",null,null,null,1,1,1,1,1,1,1,1,1,1,1,1,1,1,1,1,1,1,1,1,1,1,1,1,1,1,1,1,1,1,1,1,1,1,1,1,1,1,1,1,1,1,1,1,1,1,1,1,1,1,1,1,1,1,1,1]
["CapacityFactor","RE1","BSTOPINDELC",null,null,null,"S218",null,null,null,1,1,1,1,1,1,1,1,1,1,1,1,1,1,1,1,1,1,1,1,1,1,1,1,1,1,1,1,1,1,1,1,1,1,1,1,1,1,1,1,1,1,1,1,1,1,1,1,1,1,1,1,1,1,1,1]
["CapacityFactor","RE1","BSTOPINHEH",null,null,null,"S203",null,null,null,1,1,1,1,1,1,1,1,1,1,1,1,1,1,1,1,1,1,1,1,1,1,1,1,1,1,1,1,1,1,1,1,1,1,1,1,1,1,1,1,1,1,1,1,1,1,1,1,1,1,1,1,1,1,1,1]
["CapacityFactor","RE1","BSTOPINDHEL",null,null,null,"S112",null,null,null,1,1,1,1,1,1,1,1,1,1,1,1,1,1,1,1,1,1,1,1,1,1,1,1,1,1,1,1,1,1,1,1,1,1,1,1,1,1,1,1,1,1,1,1,1,1,1,1,1,1,1,1,1,1,1,1]
["CapacityFactor","RE1","BSTOPRESELC",null,null,null,"S219",null,null,null,1,1,1,1,1,1,1,1,1,1,1,1,1,1,1,1,1,1,1,1,1,1,1,1,1,1,1,1,1,1,1,1,1,1,1,1,1,1,1,1,1,1,1,1,1,1,1,1,1,1,1,1,1,1,1,1]
["CapacityFactor","RE1","BSTOPRESCKN",null,null,null,"S223",null,null,null,1,1,1,1,1,1,1,1,1,1,1,1,1,1,1,1,1,1,1,1,1,1,1,1,1,1,1,1,1,1,1,1,1,1,1,1,1,1,1,1,1,1,1,1,1,1,1,1,1,1,1,1,1,1,1,1]
["CapacityFactor","RE1","BSTOPRESHEL",null,null,null,"S208",null,null,null,1,1,1,1,1,1,1,1,1,1,1,1,1,1,1,1,1,1,1,1,1,1,1,1,1,1,1,1,1,1,1,1,1,1,1,1,1,1,1,1,1,1,1,1,1,1,1,1,1,1,1,1,1,1,1,1]
["CapacityFactor","RE1","BSTOPRESHEL",null,null,null,"S409",null,null,null,1,1,1,1,1,1,1,1,1,1,1,1,1,1,1,1,1,1,1,1,1,1,1,1,1,1,1,1,1,1,1,1,1,1,1,1,1,1,1,1,1,1,1,1,1,1,1,1,1,1,1,1,1,1,1,1]
["CapacityFactor","RE1","BSTOPCOMELC",null,null,null,"S411",null,null,null,1,1,1,1,1,1,1,1,1,1,1,1,1,1,1,1,1,1,1,1,1,1,1,1,1,1,1,1,1,1,1,1,1,1,1,1,1,1,1,1,1,1,1,1,1,1,1,1,1,1,1,1,1,1,1,1]
["CapacityFactor","RE1","DEMINDHECOA",null,null,null,"S120",null,null,null,0.8,0.8,0.8,0.8,0.8,0.8,0.8,0.8,0.8,0.8,0.8,0.8,0.8,0.8,0.8,0.8,0.8,0.8,0.8,0.8,0.8,0.8,0.8,0.8,0.8,0.8,0.8,0.8,0.8,0.8,0.8,0.8,0.8,0.8,0.8,0.8,0.8,0.8,0.8,0.8,0.8,0.8,0.8,0.8,0.8,0.8,0.8,0.8,0.8,0.8,0.8,0.8,0.8,0.8,0.8,0.8]
["CapacityFactor","RE1","TEC088",null,null,null,"S105",null,null,null,1,1,1,1,1,1,1,1,1,1,1,1,1,1,1,1,1,1,1,1,1,1,1,1,1,1,1,1,1,1,1,1,1,1,1,1,1,1,1,1,1,1,1,1,1,1,1,1,1,1,1,1,1,1,1,1]
["CapacityFactor","RE1","TEC088",null,null,null,"S414",null,null,null,1,1,1,1,1,1,1,1,1,1,1,1,1,1,1,1,1,1,1,1,1,1,1,1,1,1,1,1,1,1,1,1,1,1,1,1,1,1,1,1,1,1,1,1,1,1,1,1,1,1,1,1,1,1,1,1]
["CapacityFactor","RE1","TEC090",null,null,null,"S315",null,null,null,1,1,1,1,1,1,1,1,1,1,1,1,1,1,1,1,1,1,1,1,1,1,1,1,1,1,1,1,1,1,1,1,1,1,1,1,1,1,1,1,1,1,1,1,1,1,1,1,1,1,1,1,1,1,1,1]
["CapacityFactor","RE1","TEC091",null,null,null,"S201",null,null,null,1,1,1,1,1,1,1,1,1,1,1,1,1,1,1,1,1,1,1,1,1,1,1,1,1,1,1,1,1,1,1,1,1,1,1,1,1,1,1,1,1,1,1,1,1,1,1,1,1,1,1,1,1,1,1,1]
["CapacityFactor","RE1","TEC092",null,null,null,"S110",null,null,null,1,1,1,1,1,1,1,1,1,1,1,1,1,1,1,1,1,1,1,1,1,1,1,1,1,1,1,1,1,1,1,1,1,1,1,1,1,1,1,1,1,1,1,1,1,1,1,1,1,1,1,1,1,1,1,1]
["CapacityFactor","RE1","TEC093",null,null,null,"S206",null,null,null,1,1,1,1,1,1,1,1,1,1,1,1,1,1,1,1,1,1,1,1,1,1,1,1,1,1,1,1,1,1,1,1,1,1,1,1,1,1,1,1,1,1,1,1,1,1,1,1,1,1,1,1,1,1,1,1]
["CapacityFactor","RE1","TEC094",null,null,null,"S221",null,null,null,1,1,1,1,1,1,1,1,1,1,1,1,1,1,1,1,1,1,1,1,1,1,1,1,1,1,1,1,1,1,1,1,1,1,1,1,1,1,1,1,1,1,1,1,1,1,1,1,1,1,1,1,1,1,1,1]
["CapacityFactor","RE1","TEC094",null,null,null,"S422",null,null,null,1,1,1,1,1,1,1,1,1,1,1,1,1,1,1,1,1,1,1,1,1,1,1,1,1,1,1,1,1,1,1,1,1,1,1,1,1,1,1,1,1,1,1,1,1,1,1,1,1,1,1,1,1,1,1,1]
["CapacityFactor","RE1","TEC095",null,null,null,"S407",null,null,null,1,1,1,1,1,1,1,1,1,1,1,1,1,1,1,1,1,1,1,1,1,1,1,1,1,1,1,1,1,1,1,1,1,1,1,1,1,1,1,1,1,1,1,1,1,1,1,1,1,1,1,1,1,1,1,1]
["CapacityFactor","RE1","TEC097",null,null,null,"S323",null,null,null,1,1,1,1,1,1,1,1,1,1,1,1,1,1,1,1,1,1,1,1,1,1,1,1,1,1,1,1,1,1,1,1,1,1,1,1,1,1,1,1,1,1,1,1,1,1,1,1,1,1,1,1,1,1,1,1]
["CapacityFactor","RE1","TEC098",null,null,null,"S118",null,null,null,1,1,1,1,1,1,1,1,1,1,1,1,1,1,1,1,1,1,1,1,1,1,1,1,1,1,1,1,1,1,1,1,1,1,1,1,1,1,1,1,1,1,1,1,1,1,1,1,1,1,1,1,1,1,1,1]
["CapacityFactor","RE1","TEC099",null,null,null,"S103",null,null,null,1,1,1,1,1,1,1,1,1,1,1,1,1,1,1,1,1,1,1,1,1,1,1,1,1,1,1,1,1,1,1,1,1,1,1,1,1,1,1,1,1,1,1,1,1,1,1,1,1,1,1,1,1,1,1,1]
["CapacityFactor","RE1","TEC100",null,null,null,"S304",null,null,null,1,1,1,1,1,1,1,1,1,1,1,1,1,1,1,1,1,1,1,1,1,1,1,1,1,1,1,1,1,1,1,1,1,1,1,1,1,1,1,1,1,1,1,1,1,1,1,1,1,1,1,1,1,1,1,1]
["CapacityFactor","RE1","TEC101",null,null,null,"S302",null,null,null,1,1,1,1,1,1,1,1,1,1,1,1,1,1,1,1,1,1,1,1,1,1,1,1,1,1,1,1,1,1,1,1,1,1,1,1,1,1,1,1,1,1,1,1,1,1,1,1,1,1,1,1,1,1,1,1]
["CapacityFactor","RE1","TEC102",null,null,null,"S123",null,null,null,1,1,1,1,1,1,1,1,1,1,1,1,1,1,1,1,1,1,1,1,1,1,1,1,1,1,1,1,1,1,1,1,1,1,1,1,1,1,1,1,1,1,1,1,1,1,1,1,1,1,1,1,1,1,1,1]
["CapacityFactor","RE1","TEC103",null,null,null,"S324",null,null,null,1,1,1,1,1,1,1,1,1,1,1,1,1,1,1,1,1,1,1,1,1,1,1,1,1,1,1,1,1,1,1,1,1,1,1,1,1,1,1,1,1,1,1,1,1,1,1,1,1,1,1,1,1,1,1,1]
["CapacityFactor","RE1","TEC104",null,null,null,"S309",null,null,null,1,1,1,1,1,1,1,1,1,1,1,1,1,1,1,1,1,1,1,1,1,1,1,1,1,1,1,1,1,1,1,1,1,1,1,1,1,1,1,1,1,1,1,1,1,1,1,1,1,1,1,1,1,1,1,1]
["CapacityFactor","RE1","TEC104",null,null,null,"S418",null,null,null,1,1,1,1,1,1,1,1,1,1,1,1,1,1,1,1,1,1,1,1,1,1,1,1,1,1,1,1,1,1,1,1,1,1,1,1,1,1,1,1,1,1,1,1,1,1,1,1,1,1,1,1,1,1,1,1]
["CapacityFactor","RE1","TEC105",null,null,null,"S420",null,null,null,1,1,1,1,1,1,1,1,1,1,1,1,1,1,1,1,1,1,1,1,1,1,1,1,1,1,1,1,1,1,1,1,1,1,1,1,1,1,1,1,1,1,1,1,1,1,1,1,1,1,1,1,1,1,1,1]
["CapacityFactor","RE1","TEC106",null,null,null,"S405",null,null,null,1,1,1,1,1,1,1,1,1,1,1,1,1,1,1,1,1,1,1,1,1,1,1,1,1,1,1,1,1,1,1,1,1,1,1,1,1,1,1,1,1,1,1,1,1,1,1,1,1,1,1,1,1,1,1,1]
["CapacityFactor","RE1","TEC108",null,null,null,"S206",null,null,null,1,1,1,1,1,1,1,1,1,1,1,1,1,1,1,1,1,1,1,1,1,1,1,1,1,1,1,1,1,1,1,1,1,1,1,1,1,1,1,1,1,1,1,1,1,1,1,1,1,1,1,1,1,1,1,1]
["CapacityFactor","RE1","TEC109",null,null,null,"S322",null,null,null,1,1,1,1,1,1,1,1,1,1,1,1,1,1,1,1,1,1,1,1,1,1,1,1,1,1,1,1,1,1,1,1,1,1,1,1,1,1,1,1,1,1,1,1,1,1,1,1,1,1,1,1,1,1,1,1]
["CapacityFactor","RE1","TEC110",null,null,null,"S101",null,null,null,1,1,1,1,1,1,1,1,1,1,1,1,1,1,1,1,1,1,1,1,1,1,1,1,1,1,1,1,1,1,1,1,1,1,1,1,1,1,1,1,1,1,1,1,1,1,1,1,1,1,1,1,1,1,1,1]
["CapacityFactor","RE1","TEC111",null,null,null,"S302",null,null,null,1,1,1,1,1,1,1,1,1,1,1,1,1,1,1,1,1,1,1,1,1,1,1,1,1,1,1,1,1,1,1,1,1,1,1,1,1,1,1,1,1,1,1,1,1,1,1,1,1,1,1,1,1,1,1,1]
["CapacityFactor","RE1","TEC112",null,null,null,"S213",null,null,null,1,1,1,1,1,1,1,1,1,1,1,1,1,1,1,1,1,1,1,1,1,1,1,1,1,1,1,1,1,1,1,1,1,1,1,1,1,1,1,1,1,1,1,1,1,1,1,1,1,1,1,1,1,1,1,1]
["CapacityFactor","RE1","TEC112",null,null,null,"S413",null,null,null,1,1,1,1,1,1,1,1,1,1,1,1,1,1,1,1,1,1,1,1,1,1,1,1,1,1,1,1,1,1,1,1,1,1,1,1,1,1,1,1,1,1,1,1,1,1,1,1,1,1,1,1,1,1,1,1]
["CapacityFactor","RE1","TEC114",null,null,null,"S322",null,null,null,1,1,1,1,1,1,1,1,1,1,1,1,1,1,1,1,1,1,1,1,1,1,1,1,1,1,1,1,1,1,1,1,1,1,1,1,1,1,1,1,1,1,1,1,1,1,1,1,1,1,1,1,1,1,1,1]
["CapacityFactor","RE1","TEC115",null,null,null,"S307",null,null,null,1,1,1,1,1,1,1,1,1,1,1,1,1,1,1,1,1,1,1,1,1,1,1,1,1,1,1,1,1,1,1,1,1,1,1,1,1,1,1,1,1,1,1,1,1,1,1,1,1,1,1,1,1,1,1,1]
["CapacityFactor","RE1","TEC116",null,null,null,"S116",null,null,null,1,1,1,1,1,1,1,1,1,1,1,1,1,1,1,1,1,1,1,1,1,1,1,1,1,1,1,1,1,1,1,1,1,1,1,1,1,1,1,1,1,1,1,1,1,1,1,1,1,1,1,1,1,1,1,1]
["CapacityFactor","RE1","TEC116",null,null,null,"S418",null,null,null,1,1,1,1,1,1,1,1,1,1,1,1,1,1,1,1,1,1,1,1,1,1,1,1,1,1,1,1,1,1,1,1,1,1,1,1,1,1,1,1,1,1,1,1,1,1,1,1,1,1,1,1,1,1,1,1]
["CapacityFactor","RE1","TEC118",null,null,null,"S403",null,null,null,1,1,1,1,1,1,1,1,1,1,1,1,1,1,1,1,1,1,1,1,1,1,1,1,1,1,1,1,1,1,1,1,1,1,1,1,1,1,1,1,1,1,1,1,1,1,1,1,1,1,1,1,1,1,1,1]
["CapacityFactor","RE1","TEC119",null,null,null,"S204",null,null,null,1,1,1,1,1,1,1,1,1,1,1,1,1,1,1,1,1,1,1,1,1,1,1,1,1,1,1,1,1,1,1,1,1,1,1,1,1,1,1,1,1,1,1,1,1,1,1,1,1,1,1,1,1,1,1,1]
["CapacityFactor","RE1","TEC120",null,null,null,"S309",null,null,null,1,1,1,1,1,1,1,1,1,1,1,1,1,1,1,1,1,1,1,1,1,1,1,1,1,1,1,1,1,1,1,1,1,1,1,1,1,1,1,1,1,1,1,1,1,1,1,1,1,1,1,1,1,1,1,1]
["CapacityFactor","RE1","TEC121",null,null,null,"S315",null,null,null,1,1,1,1,1,1,1,1,1,1,1,1,1,1,1,1,1,1,1,1,1,1,1,1,1,1,1,1,1,1,1,1,1,1,1,1,1,1,1,1,1,1,1,1,1,1,1,1,1,1,1,1,1,1,1,1]
["CapacityFactor","RE1","TEC122",null,null,null,"S224",null,null,null,1,1,1,1,1,1,1,1,1,1,1,1,1,1,1,1,1,1,1,1,1,1,1,1,1,1,1,1,1,1,1,1,1,1,1,1,1,1,1,1,1,1,1,1,1,1,1,1,1,1,1,1,1,1,1,1]
["CapacityFactor","RE1","TEC123",null,null,null,"S209",null,null,null,1,1,1,1,1,1,1,1,1,1,1,1,1,1,1,1,1,1,1,1,1,1,1,1,1,1,1,1,1,1,1,1,1,1,1,1,1,1,1,1,1,1,1,1,1,1,1,1,1,1,1,1,1,1,1,1]
["CapacityFactor","RE1","TEC124",null,null,null,"S212",null,null,null,1,1,1,1,1,1,1,1,1,1,1,1,1,1,1,1,1,1,1,1,1,1,1,1,1,1,1,1,1,1,1,1,1,1,1,1,1,1,1,1,1,1,1,1,1,1,1,1,1,1,1,1,1,1,1,1]
["CapacityFactor","RE1","TEC125",null,null,null,"S320",null,null,null,1,1,1,1,1,1,1,1,1,1,1,1,1,1,1,1,1,1,1,1,1,1,1,1,1,1,1,1,1,1,1,1,1,1,1,1,1,1,1,1,1,1,1,1,1,1,1,1,1,1,1,1,1,1,1,1]
["CapacityFactor","RE1","TEC126",null,null,null,"S305",null,null,null,1,1,1,1,1,1,1,1,1,1,1,1,1,1,1,1,1,1,1,1,1,1,1,1,1,1,1,1,1,1,1,1,1,1,1,1,1,1,1,1,1,1,1,1,1,1,1,1,1,1,1,1,1,1,1,1]
["CapacityFactor","RE1","TEC127",null,null,null,"S103",null,null,null,1,1,1,1,1,1,1,1,1,1,1,1,1,1,1,1,1,1,1,1,1,1,1,1,1,1,1,1,1,1,1,1,1,1,1,1,1,1,1,1,1,1,1,1,1,1,1,1,1,1,1,1,1,1,1,1]
["CapacityFactor","RE1","TEC127",null,null,null,"S416",null,null,null,1,1,1,1,1,1,1,1,1,1,1,1,1,1,1,1,1,1,1,1,1,1,1,1,1,1,1,1,1,1,1,1,1,1,1,1,1,1,1,1,1,1,1,1,1,1,1,1,1,1,1,1,1,1,1,1]
["CapacityFactor","RE1","TEC129",null,null,null,"S217",null,null,null,1,1,1,1,1,1,1,1,1,1,1,1,1,1,1,1,1,1,1,1,1,1,1,1,1,1,1,1,1,1,1,1,1,1,1,1,1,1,1,1,1,1,1,1,1,1,1,1,1,1,1,1,1,1,1,1]
["CapacityFactor","RE1","TEC130",null,null,null,"S202",null,null,null,1,1,1,1,1,1,1,1,1,1,1,1,1,1,1,1,1,1,1,1,1,1,1,1,1,1,1,1,1,1,1,1,1,1,1,1,1,1,1,1,1,1,1,1,1,1,1,1,1,1,1,1,1,1,1,1]
["CapacityFactor","RE1","TEC131",null,null,null,"S220",null,null,null,1,1,1,1,1,1,1,1,1,1,1,1,1,1,1,1,1,1,1,1,1,1,1,1,1,1,1,1,1,1,1,1,1,1,1,1,1,1,1,1,1,1,1,1,1,1,1,1,1,1,1,1,1,1,1,1]
["CapacityFactor","RE1","TEC132",null,null,null,"S313",null,null,null,1,1,1,1,1,1,1,1,1,1,1,1,1,1,1,1,1,1,1,1,1,1,1,1,1,1,1,1,1,1,1,1,1,1,1,1,1,1,1,1,1,1,1,1,1,1,1,1,1,1,1,1,1,1,1,1]
["CapacityFactor","RE1","TEC133",null,null,null,"S222",null,null,null,1,1,1,1,1,1,1,1,1,1,1,1,1,1,1,1,1,1,1,1,1,1,1,1,1,1,1,1,1,1,1,1,1,1,1,1,1,1,1,1,1,1,1,1,1,1,1,1,1,1,1,1,1,1,1,1]
["CapacityFactor","RE1","TEC133",null,null,null,"S423",null,null,null,1,1,1,1,1,1,1,1,1,1,1,1,1,1,1,1,1,1,1,1,1,1,1,1,1,1,1,1,1,1,1,1,1,1,1,1,1,1,1,1,1,1,1,1,1,1,1,1,1,1,1,1,1,1,1,1]
["CapacityFactor","RE1","TEC135",null,null,null,"S123",null,null,null,1,1,1,1,1,1,1,1,1,1,1,1,1,1,1,1,1,1,1,1,1,1,1,1,1,1,1,1,1,1,1,1,1,1,1,1,1,1,1,1,1,1,1,1,1,1,1,1,1,1,1,1,1,1,1,1]
["CapacityFactor","RE1","TEC136",null,null,null,"S318",null,null,null,1,1,1,1,1,1,1,1,1,1,1,1,1,1,1,1,1,1,1,1,1,1,1,1,1,1,1,1,1,1,1,1,1,1,1,1,1,1,1,1,1,1,1,1,1,1,1,1,1,1,1,1,1,1,1,1]
["CapacityFactor","RE1","TEC137",null,null,null,"S119",null,null,null,1,1,1,1,1,1,1,1,1,1,1,1,1,1,1,1,1,1,1,1,1,1,1,1,1,1,1,1,1,1,1,1,1,1,1,1,1,1,1,1,1,1,1,1,1,1,1,1,1,1,1,1,1,1,1,1]
["CapacityFactor","RE1","TEC138",null,null,null,"S104",null,null,null,1,1,1,1,1,1,1,1,1,1,1,1,1,1,1,1,1,1,1,1,1,1,1,1,1,1,1,1,1,1,1,1,1,1,1,1,1,1,1,1,1,1,1,1,1,1,1,1,1,1,1,1,1,1,1,1]
["CapacityFactor","RE1","TEC139",null,null,null,"S316",null,null,null,1,1,1,1,1,1,1,1,1,1,1,1,1,1,1,1,1,1,1,1,1,1,1,1,1,1,1,1,1,1,1,1,1,1,1,1,1,1,1,1,1,1,1,1,1,1,1,1,1,1,1,1,1,1,1,1]
["CapacityFactor","RE1","TEC140",null,null,null,"S215",null,null,null,1,1,1,1,1,1,1,1,1,1,1,1,1,1,1,1,1,1,1,1,1,1,1,1,1,1,1,1,1,1,1,1,1,1,1,1,1,1,1,1,1,1,1,1,1,1,1,1,1,1,1,1,1,1,1,1]
["CapacityFactor","RE1","TEC141",null,null,null,"S124",null,null,null,1,1,1,1,1,1,1,1,1,1,1,1,1,1,1,1,1,1,1,1,1,1,1,1,1,1,1,1,1,1,1,1,1,1,1,1,1,1,1,1,1,1,1,1,1,1,1,1,1,1,1,1,1,1,1,1]
["CapacityFactor","RE1","TEC142",null,null,null,"S401",null,null,null,1,1,1,1,1,1,1,1,1,1,1,1,1,1,1,1,1,1,1,1,1,1,1,1,1,1,1,1,1,1,1,1,1,1,1,1,1,1,1,1,1,1,1,1,1,1,1,1,1,1,1,1,1,1,1,1]
["CapacityFactor","RE1","TEC143",null,null,null,"S219",null,null,null,1,1,1,1,1,1,1,1,1,1,1,1,1,1,1,1,1,1,1,1,1,1,1,1,1,1,1,1,1,1,1,1,1,1,1,1,1,1,1,1,1,1,1,1,1,1,1,1,1,1,1,1,1,1,1,1]
["CapacityFactor","RE1","TEC144",null,null,null,"S220",null,null,null,1,1,1,1,1,1,1,1,1,1,1,1,1,1,1,1,1,1,1,1,1,1,1,1,1,1,1,1,1,1,1,1,1,1,1,1,1,1,1,1,1,1,1,1,1,1,1,1,1,1,1,1,1,1,1,1]
["CapacityFactor","RE1","TEC144",null,null,null,"S421",null,null,null,1,1,1,1,1,1,1,1,1,1,1,1,1,1,1,1,1,1,1,1,1,1,1,1,1,1,1,1,1,1,1,1,1,1,1,1,1,1,1,1,1,1,1,1,1,1,1,1,1,1,1,1,1,1,1,1]
["CapacityFactor","RE1","TEC146",null,null,null,"S110",null,null,null,1,1,1,1,1,1,1,1,1,1,1,1,1,1,1,1,1,1,1,1,1,1,1,1,1,1,1,1,1,1,1,1,1,1,1,1,1,1,1,1,1,1,1,1,1,1,1,1,1,1,1,1,1,1,1,1]
["CapacityFactor","RE1","TEC147",null,null,null,"S208",null,null,null,1,1,1,1,1,1,1,1,1,1,1,1,1,1,1,1,1,1,1,1,1,1,1,1,1,1,1,1,1,1,1,1,1,1,1,1,1,1,1,1,1,1,1,1,1,1,1,1,1,1,1,1,1,1,1,1]
["CapacityFactor","RE1","TEC148",null,null,null,"S117",null,null,null,1,1,1,1,1,1,1,1,1,1,1,1,1,1,1,1,1,1,1,1,1,1,1,1,1,1,1,1,1,1,1,1,1,1,1,1,1,1,1,1,1,1,1,1,1,1,1,1,1,1,1,1,1,1,1,1]
["CapacityFactor","RE1","TEC149",null,null,null,"S102",null,null,null,1,1,1,1,1,1,1,1,1,1,1,1,1,1,1,1,1,1,1,1,1,1,1,1,1,1,1,1,1,1,1,1,1,1,1,1,1,1,1,1,1,1,1,1,1,1,1,1,1,1,1,1,1,1,1,1]
["CapacityFactor","RE1","TEC150",null,null,null,"S414",null,null,null,1,1,1,1,1,1,1,1,1,1,1,1,1,1,1,1,1,1,1,1,1,1,1,1,1,1,1,1,1,1,1,1,1,1,1,1,1,1,1,1,1,1,1,1,1,1,1,1,1,1,1,1,1,1,1,1]
["CapacityFactor","RE1","TEC151",null,null,null,"S213",null,null,null,1,1,1,1,1,1,1,1,1,1,1,1,1,1,1,1,1,1,1,1,1,1,1,1,1,1,1,1,1,1,1,1,1,1,1,1,1,1,1,1,1,1,1,1,1,1,1,1,1,1,1,1,1,1,1,1]
["CapacityFactor","RE1","TEC152",null,null,null,"S122",null,null,null,1,1,1,1,1,1,1,1,1,1,1,1,1,1,1,1,1,1,1,1,1,1,1,1,1,1,1,1,1,1,1,1,1,1,1,1,1,1,1,1,1,1,1,1,1,1,1,1,1,1,1,1,1,1,1,1]
["CapacityFactor","RE1","TEC153",null,null,null,"S323",null,null,null,1,1,1,1,1,1,1,1,1,1,1,1,1,1,1,1,1,1,1,1,1,1,1,1,1,1,1,1,1,1,1,1,1,1,1,1,1,1,1,1,1,1,1,1,1,1,1,1,1,1,1,1,1,1,1,1]
["CapacityFactor","RE1","TEC154",null,null,null,"S206",null,null,null,1,1,1,1,1,1,1,1,1,1,1,1,1,1,1,1,1,1,1,1,1,1,1,1,1,1,1,1,1,1,1,1,1,1,1,1,1,1,1,1,1,1,1,1,1,1,1,1,1,1,1,1,1,1,1,1]
["CapacityFactor","RE1","TEC155",null,null,null,"S110",null,null,null,1,1,1,1,1,1,1,1,1,1,1,1,1,1,1,1,1,1,1,1,1,1,1,1,1,1,1,1,1,1,1,1,1,1,1,1,1,1,1,1,1,1,1,1,1,1,1,1,1,1,1,1,1,1,1,1]
["CapacityFactor","RE1","TEC155",null,null,null,"S419",null,null,null,1,1,1,1,1,1,1,1,1,1,1,1,1,1,1,1,1,1,1,1,1,1,1,1,1,1,1,1,1,1,1,1,1,1,1,1,1,1,1,1,1,1,1,1,1,1,1,1,1,1,1,1,1,1,1,1]
["CapacityFactor","RE1","TEC157",null,null,null,"S404",null,null,null,1,1,1,1,1,1,1,1,1,1,1,1,1,1,1,1,1,1,1,1,1,1,1,1,1,1,1,1,1,1,1,1,1,1,1,1,1,1,1,1,1,1,1,1,1,1,1,1,1,1,1,1,1,1,1,1]
["CapacityFactor","RE1","TEC158",null,null,null,"S109",null,null,null,1,1,1,1,1,1,1,1,1,1,1,1,1,1,1,1,1,1,1,1,1,1,1,1,1,1,1,1,1,1,1,1,1,1,1,1,1,1,1,1,1,1,1,1,1,1,1,1,1,1,1,1,1,1,1,1]
["CapacityFactor","RE1","TEC159",null,null,null,"S115",null,null,null,1,1,1,1,1,1,1,1,1,1,1,1,1,1,1,1,1,1,1,1,1,1,1,1,1,1,1,1,1,1,1,1,1,1,1,1,1,1,1,1,1,1,1,1,1,1,1,1,1,1,1,1,1,1,1,1]
["CapacityFactor","RE1","TEC159",null,null,null,"S424",null,null,null,1,1,1,1,1,1,1,1,1,1,1,1,1,1,1,1,1,1,1,1,1,1,1,1,1,1,1,1,1,1,1,1,1,1,1,1,1,1,1,1,1,1,1,1,1,1,1,1,1,1,1,1,1,1,1,1]
["CapacityFactor","RE1","TEC161",null,null,null,"S301",null,null,null,1,1,1,1,1,1,1,1,1,1,1,1,1,1,1,1,1,1,1,1,1,1,1,1,1,1,1,1,1,1,1,1,1,1,1,1,1,1,1,1,1,1,1,1,1,1,1,1,1,1,1,1,1,1,1,1]
["CapacityFactor","RE1","TEC162",null,null,null,"S302",null,null,null,1,1,1,1,1,1,1,1,1,1,1,1,1,1,1,1,1,1,1,1,1,1,1,1,1,1,1,1,1,1,1,1,1,1,1,1,1,1,1,1,1,1,1,1,1,1,1,1,1,1,1,1,1,1,1,1]
["CapacityFactor","RE1","TEC163",null,null,null,"S412",null,null,null,1,1,1,1,1,1,1,1,1,1,1,1,1,1,1,1,1,1,1,1,1,1,1,1,1,1,1,1,1,1,1,1,1,1,1,1,1,1,1,1,1,1,1,1,1,1,1,1,1,1,1,1,1,1,1,1]
["CapacityFactor","RE1","TEC164",null,null,null,"S321",null,null,null,1,1,1,1,1,1,1,1,1,1,1,1,1,1,1,1,1,1,1,1,1,1,1,1,1,1,1,1,1,1,1,1,1,1,1,1,1,1,1,1,1,1,1,1,1,1,1,1,1,1,1,1,1,1,1,1]
["CapacityFactor","RE1","TEC165",null,null,null,"S117",null,null,null,1,1,1,1,1,1,1,1,1,1,1,1,1,1,1,1,1,1,1,1,1,1,1,1,1,1,1,1,1,1,1,1,1,1,1,1,1,1,1,1,1,1,1,1,1,1,1,1,1,1,1,1,1,1,1,1]
["CapacityFactor","RE1","TEC166",null,null,null,"S108",null,null,null,1,1,1,1,1,1,1,1,1,1,1,1,1,1,1,1,1,1,1,1,1,1,1,1,1,1,1,1,1,1,1,1,1,1,1,1,1,1,1,1,1,1,1,1,1,1,1,1,1,1,1,1,1,1,1,1]
["CapacityFactor","RE1","TEC167",null,null,null,"S417",null,null,null,1,1,1,1,1,1,1,1,1,1,1,1,1,1,1,1,1,1,1,1,1,1,1,1,1,1,1,1,1,1,1,1,1,1,1,1,1,1,1,1,1,1,1,1,1,1,1,1,1,1,1,1,1,1,1,1]
["CapacityFactor","RE1","TEC168",null,null,null,"S218",null,null,null,1,1,1,1,1,1,1,1,1,1,1,1,1,1,1,1,1,1,1,1,1,1,1,1,1,1,1,1,1,1,1,1,1,1,1,1,1,1,1,1,1,1,1,1,1,1,1,1,1,1,1,1,1,1,1,1]
["CapacityFactor","RE1","TEC168",null,null,null,"S420",null,null,null,1,1,1,1,1,1,1,1,1,1,1,1,1,1,1,1,1,1,1,1,1,1,1,1,1,1,1,1,1,1,1,1,1,1,1,1,1,1,1,1,1,1,1,1,1,1,1,1,1,1,1,1,1,1,1,1]
["CapacityFactor","RE1","TEC170",null,null,null,"S113",null,null,null,1,1,1,1,1,1,1,1,1,1,1,1,1,1,1,1,1,1,1,1,1,1,1,1,1,1,1,1,1,1,1,1,1,1,1,1,1,1,1,1,1,1,1,1,1,1,1,1,1,1,1,1,1,1,1,1]
["CapacityFactor","RE1","TEC171",null,null,null,"S314",null,null,null,1,1,1,1,1,1,1,1,1,1,1,1,1,1,1,1,1,1,1,1,1,1,1,1,1,1,1,1,1,1,1,1,1,1,1,1,1,1,1,1,1,1,1,1,1,1,1,1,1,1,1,1,1,1,1,1]
["CapacityFactor","RE1","TEC172",null,null,null,"S223",null,null,null,1,1,1,1,1,1,1,1,1,1,1,1,1,1,1,1,1,1,1,1,1,1,1,1,1,1,1,1,1,1,1,1,1,1,1,1,1,1,1,1,1,1,1,1,1,1,1,1,1,1,1,1,1,1,1,1]
["CapacityFactor","RE1","TEC173",null,null,null,"S213",null,null,null,1,1,1,1,1,1,1,1,1,1,1,1,1,1,1,1,1,1,1,1,1,1,1,1,1,1,1,1,1,1,1,1,1,1,1,1,1,1,1,1,1,1,1,1,1,1,1,1,1,1,1,1,1,1,1,1]
["CapacityFactor","RE1","TEC174",null,null,null,"S410",null,null,null,1,1,1,1,1,1,1,1,1,1,1,1,1,1,1,1,1,1,1,1,1,1,1,1,1,1,1,1,1,1,1,1,1,1,1,1,1,1,1,1,1,1,1,1,1,1,1,1,1,1,1,1,1,1,1,1]
["CapacityFactor","RE1","TEC175",null,null,null,"S319",null,null,null,1,1,1,1,1,1,1,1,1,1,1,1,1,1,1,1,1,1,1,1,1,1,1,1,1,1,1,1,1,1,1,1,1,1,1,1,1,1,1,1,1,1,1,1,1,1,1,1,1,1,1,1,1,1,1,1]
["CapacityFactor","RE1","TEC176",null,null,null,"S120",null,null,null,1,1,1,1,1,1,1,1,1,1,1,1,1,1,1,1,1,1,1,1,1,1,1,1,1,1,1,1,1,1,1,1,1,1,1,1,1,1,1,1,1,1,1,1,1,1,1,1,1,1,1,1,1,1,1,1]
["CapacityFactor","RE1","TEC177",null,null,null,"S116",null,null,null,1,1,1,1,1,1,1,1,1,1,1,1,1,1,1,1,1,1,1,1,1,1,1,1,1,1,1,1,1,1,1,1,1,1,1,1,1,1,1,1,1,1,1,1,1,1,1,1,1,1,1,1,1,1,1,1]
["CapacityFactor","RE1","TEC178",null,null,null,"S415",null,null,null,1,1,1,1,1,1,1,1,1,1,1,1,1,1,1,1,1,1,1,1,1,1,1,1,1,1,1,1,1,1,1,1,1,1,1,1,1,1,1,1,1,1,1,1,1,1,1,1,1,1,1,1,1,1,1,1]
["CapacityFactor","RE1","TEC179",null,null,null,"S216",null,null,null,1,1,1,1,1,1,1,1,1,1,1,1,1,1,1,1,1,1,1,1,1,1,1,1,1,1,1,1,1,1,1,1,1,1,1,1,1,1,1,1,1,1,1,1,1,1,1,1,1,1,1,1,1,1,1,1]
["CapacityFactor","RE1","TEC180",null,null,null,"S201",null,null,null,1,1,1,1,1,1,1,1,1,1,1,1,1,1,1,1,1,1,1,1,1,1,1,1,1,1,1,1,1,1,1,1,1,1,1,1,1,1,1,1,1,1,1,1,1,1,1,1,1,1,1,1,1,1,1,1]
["CapacityFactor","RE1","TEC181",null,null,null,"S309",null,null,null,1,1,1,1,1,1,1,1,1,1,1,1,1,1,1,1,1,1,1,1,1,1,1,1,1,1,1,1,1,1,1,1,1,1,1,1,1,1,1,1,1,1,1,1,1,1,1,1,1,1,1,1,1,1,1,1]
["CapacityFactor","RE1","TEC182",null,null,null,"S312",null,null,null,1,1,1,1,1,1,1,1,1,1,1,1,1,1,1,1,1,1,1,1,1,1,1,1,1,1,1,1,1,1,1,1,1,1,1,1,1,1,1,1,1,1,1,1,1,1,1,1,1,1,1,1,1,1,1,1]
["CapacityFactor","RE1","TEC183",null,null,null,"S221",null,null,null,1,1,1,1,1,1,1,1,1,1,1,1,1,1,1,1,1,1,1,1,1,1,1,1,1,1,1,1,1,1,1,1,1,1,1,1,1,1,1,1,1,1,1,1,1,1,1,1,1,1,1,1,1,1,1,1]
["CapacityFactor","RE1","TEC184",null,null,null,"S311",null,null,null,1,1,1,1,1,1,1,1,1,1,1,1,1,1,1,1,1,1,1,1,1,1,1,1,1,1,1,1,1,1,1,1,1,1,1,1,1,1,1,1,1,1,1,1,1,1,1,1,1,1,1,1,1,1,1,1]
["CapacityFactor","RE1","TEC185",null,null,null,"S408",null,null,null,1,1,1,1,1,1,1,1,1,1,1,1,1,1,1,1,1,1,1,1,1,1,1,1,1,1,1,1,1,1,1,1,1,1,1,1,1,1,1,1,1,1,1,1,1,1,1,1,1,1,1,1,1,1,1,1]
["CapacityFactor","RE1","TEC186",null,null,null,"S317",null,null,null,1,1,1,1,1,1,1,1,1,1,1,1,1,1,1,1,1,1,1,1,1,1,1,1,1,1,1,1,1,1,1,1,1,1,1,1,1,1,1,1,1,1,1,1,1,1,1,1,1,1,1,1,1,1,1,1]
["CapacityFactor","RE1","TEC187",null,null,null,"S118",null,null,null,1,1,1,1,1,1,1,1,1,1,1,1,1,1,1,1,1,1,1,1,1,1,1,1,1,1,1,1,1,1,1,1,1,1,1,1,1,1,1,1,1,1,1,1,1,1,1,1,1,1,1,1,1,1,1,1]
["CapacityFactor","RE1","TEC188",null,null,null,"S103",null,null,null,1,1,1,1,1,1,1,1,1,1,1,1,1,1,1,1,1,1,1,1,1,1,1,1,1,1,1,1,1,1,1,1,1,1,1,1,1,1,1,1,1,1,1,1,1,1,1,1,1,1,1,1,1,1,1,1]
["CapacityFactor","RE1","TEC189",null,null,null,"S305",null,null,null,1,1,1,1,1,1,1,1,1,1,1,1,1,1,1,1,1,1,1,1,1,1,1,1,1,1,1,1,1,1,1,1,1,1,1,1,1,1,1,1,1,1,1,1,1,1,1,1,1,1,1,1,1,1,1,1]
["CapacityFactor","RE1","TEC190",null,null,null,"S214",null,null,null,1,1,1,1,1,1,1,1,1,1,1,1,1,1,1,1,1,1,1,1,1,1,1,1,1,1,1,1,1,1,1,1,1,1,1,1,1,1,1,1,1,1,1,1,1,1,1,1,1,1,1,1,1,1,1,1]
["CapacityFactor","RE1","TEC191",null,null,null,"S123",null,null,null,1,1,1,1,1,1,1,1,1,1,1,1,1,1,1,1,1,1,1,1,1,1,1,1,1,1,1,1,1,1,1,1,1,1,1,1,1,1,1,1,1,1,1,1,1,1,1,1,1,1,1,1,1,1,1,1]
["CapacityFactor","RE1","TEC192",null,null,null,"S407",null,null,null,1,1,1,1,1,1,1,1,1,1,1,1,1,1,1,1,1,1,1,1,1,1,1,1,1,1,1,1,1,1,1,1,1,1,1,1,1,1,1,1,1,1,1,1,1,1,1,1,1,1,1,1,1,1,1,1]
["CapacityFactor","RE1","TEC193",null,null,null,"S310",null,null,null,1,1,1,1,1,1,1,1,1,1,1,1,1,1,1,1,1,1,1,1,1,1,1,1,1,1,1,1,1,1,1,1,1,1,1,1,1,1,1,1,1,1,1,1,1,1,1,1,1,1,1,1,1,1,1,1]
["CapacityFactor","RE1","TEC194",null,null,null,"S219",null,null,null,1,1,1,1,1,1,1,1,1,1,1,1,1,1,1,1,1,1,1,1,1,1,1,1,1,1,1,1,1,1,1,1,1,1,1,1,1,1,1,1,1,1,1,1,1,1,1,1,1,1,1,1,1,1,1,1]
["CapacityFactor","RE1","TEC195",null,null,null,"S420",null,null,null,1,1,1,1,1,1,1,1,1,1,1,1,1,1,1,1,1,1,1,1,1,1,1,1,1,1,1,1,1,1,1,1,1,1,1,1,1,1,1,1,1,1,1,1,1,1,1,1,1,1,1,1,1,1,1,1]
["CapacityFactor","RE1","TEC196",null,null,null,"S123",null,null,null,1,1,1,1,1,1,1,1,1,1,1,1,1,1,1,1,1,1,1,1,1,1,1,1,1,1,1,1,1,1,1,1,1,1,1,1,1,1,1,1,1,1,1,1,1,1,1,1,1,1,1,1,1,1,1,1]
["CapacityFactor","RE1","TEC197",null,null,null,"S207",null,null,null,1,1,1,1,1,1,1,1,1,1,1,1,1,1,1,1,1,1,1,1,1,1,1,1,1,1,1,1,1,1,1,1,1,1,1,1,1,1,1,1,1,1,1,1,1,1,1,1,1,1,1,1,1,1,1,1]
["CapacityFactor","RE1","TEC198",null,null,null,"S116",null,null,null,1,1,1,1,1,1,1,1,1,1,1,1,1,1,1,1,1,1,1,1,1,1,1,1,1,1,1,1,1,1,1,1,1,1,1,1,1,1,1,1,1,1,1,1,1,1,1,1,1,1,1,1,1,1,1,1]
["CapacityOfOneTechnologyUnit","RE1","BSTOPCOMHEL",null,null,null,null,null,null,null,0,0,0,0,0,0,0,0,0,0,0,0,0,0,0,0,0,0,0,0,0,0,0,0,0,0,0,0,0,0,0,0,0,0,0,0,0,0,0,0,0,0,0,0,0,0,0,0,0,0,0,0,0,0,0,0]
["CapacityOfOneTechnologyUnit","RE1","TEC146",null,null,null,null,null,null,null,0,0,0,0,0,0,0,0,0,0,0,0,0,0,0,0,0,0,0,0,0,0,0,0,0,0,0,0,0,0,0,0,0,0,0,0,0,0,0,0,0,0,0,0,0,0,0,0,0,0,0,0,0,0,0,0]
["CapacityToActivityUnit","RE1","PWRCSP002",null,null,null,null,null,null,31.536000000000001]
["CapacityToActivityUnit","RE1","TEC173",null,null,null,null,null,null,0]
["CapitalCost","RE1","DEMTRACARGSL",null,null,null,null,null,null,null,1E-4,1E-4,1E-4,1E-4,1E-4,1E-4,1E-4,1E-4,1E-4,1E-4,1E-4,1E-4,1E-4,1E-4,1E-4,1E-4,1E-4,1E-4,1E-4,1E-4,1E-4,1E-4,1E-4,1E-4,1E-4,1E-4,1E-4,1E-4,1E-4,1E-4,1E-4,1E-4,1E-4,1E-4,1E-4,975.0971323,975.0971323,975.0971323,975.0971323,975.0971323,975.0971323,975.0971323,975.0971323,975.0971323,975.0971323,975.0971323,975.0971323,975.0971323,975.0971323,975.0971323,975.0971323,975.0971323,975.0971323,975.0971323,975.0971323,975.0971323]
["CapitalCost","RE1","TEC137",null,null,null,null,null,null,null,1E-4,1E-4,1E-4,1E-4,1E-4,1E-4,1E-4,1E-4,1E-4,1E-4,1E-4,1E-4,1E-4,1E-4,1E-4,1E-4,1E-4,1E-4,1E-4,1E-4,1E-4,1E-4,1E-4,1E-4,1E-4,1E-4,1E-4,1E-4,1E-4,1E-4,1E-4,1E-4,1E-4,1E-4,1E-4,1E-4,1E-4,1E-4,1E-4,1E-4,1E-4,1E-4,1E-4,1E-4,1E-4,1E-4,1E-4,1E-4,1E-4,1E-4,1E-4,1E-4,1E-4,1E-4,1E-4,1E-4]
["CapitalCost","RE1","TEC186",null,null,null,null,null,null,null,1E-4,1E-4,1E-4,1E-4,1E-4,1E-4,1E-4,1E-4,1E-4,1E-4,1E-4,1E-4,1E-4,1E-4,1E-4,1E-4,1E-4,1E-4,1E-4,1E-4,1E-4,1E-4,1E-4,1E-4,1E-4,1E-4,1E-4,1E-4,1E-4,1E-4,1E-4,1E-4,1E-4,1E-4,1E-4,1E-4,1E-4,1E-4,1E-4,1E-4,1E-4,1E-4,1E-4,1E-4,1E-4,1E-4,1E-4,1E-4,1E-4,1E-4,1E-4,1E-4,1E-4,1E-4,1E-4,1E-4]
["EmissionActivityRatio","RE1","PWRWND001","EMIFGA",1,null,null,null,null,null,0,0,0,0,0,0,0,0,0,0,0,0,0,0,0,0,0,0,0,0,0,0,0,0,0,0,0,0,0,0,0,0,0,0,0,0,0,0,0,0,0,0,0,0,0,0,0,0,0,0,0,0,0,0,0,0]
["EmissionActivityRatio","RE1","PWRSOL001S","EMIN2O",1,null,null,null,null,null,0,0,0,0,0,0,0,0,0,0,0,0,0,0,0,0,0,0,0,0,0,0,0,0,0,0,0,0,0,0,0,0,0,0,0,0,0,0,0,0,0,0,0,0,0,0,0,0,0,0,0,0,0,0,0,0]
["EmissionActivityRatio","RE1","DEMINDHENGS","EMIN2O",1,null,null,null,null,null,0,0,0,0,0,0,0,0,0,0,0,0,0,0,0,0,0,0,0,0,0,0,0,0,0,0,0,0,0,0,0,0,0,0,0,0,0,0,0,0,0,0,0,0,0,0,0,0,0,0,0,0,0,0,0,0]
["EmissionActivityRatio","RE1","DEMCOMHEBIO","EMIREN",1,null,null,null,null,null,0,0,0,0,0,0,0,0,0,0,0,0,0,0,0,0,0,0,0,0,0,0,0,0,0,0,0,0,0,0,0,0,0,0,0,0,0,0,0,0,0,0,0,0,0,0,0,0,0,0,0,0,0,0,0,0]
["EmissionActivityRatio","RE1","TEC103","EMIREN",1,null,null,null,null,null,0,0,0,0,0,0,0,0,0,0,0,0,0,0,0,0,0,0,0,0,0,0,0,0,0,0,0,0,0,0,0,0,0,0,0,0,0,0,0,0,0,0,0,0,0,0,0,0,0,0,0,0,0,0,0,0]
["EmissionActivityRatio","RE1","TEC127","EMIN2O",1,null,null,null,null,null,0,0,0,0,0,0,0,0,0,0,0,0,0,0,0,0,0,0,0,0,0,0,0,0,0,0,0,0,0,0,0,0,0,0,0,0,0,0,0,0,0,0,0,0,0,0,0,0,0,0,0,0,0,0,0,0]
["EmissionActivityRatio","RE1","TEC136","EMIFGA",1,null,null,null,null,null,0,0,0,0,0,0,0,0,0,0,0,0,0,0,0,0,0,0,0,0,0,0,0,0,0,0,0,0,0,0,0,0,0,0,0,0,0,0,0,0,0,0,0,0,0,0,0,0,0,0,0,0,0,0,0,0]
["EmissionActivityRatio","RE1","TEC165","EMIFGA",1,null,null,null,null,null,0,0,0,0,0,0,0,0,0,0,0,0,0,0,0,0,0,0,0,0,0,0,0,0,0,0,0,0,0,0,0,0,0,0,0,0,0,0,0,0,0,0,0,0,0,0,0,0,0,0,0,0,0,0,0,0]
["EmissionActivityRatio","RE1","TEC181","EMIN2O",1,null,null,null,null,null,0,0,0,0,0,0,0,0,0,0,0,0,0,0,0,0,0,0,0,0,0,0,0,0,0,0,0,0,0,0,0,0,0,0,0,0,0,0,0,0,0,0,0,0,0,0,0,0,0,0,0,0,0,0,0,0]
["EmissionActivityRatio","RE1","TEC193","EMICH4",1,null,null,null,null,null,0,0,0,0,0,0,0,0,0,0,0,0,0,0,0,0,0,0,0,0,0,0,0,0,0,0,0,0,0,0,0,0,0,0,0,0,0,0,0,0,0,0,0,0,0,0,0,0,0,0,0,0,0,0,0,0]
["FixedCost","RE1","TEC135",null,null,null,null,null,null,null,0,0,0,0,0,0,0,0,0,0,0,0,0,0,0,0,0,0,0,0,0,0,0,0,0,0,0,0,0,0,0,0,0,0,0,0,0,0,0,0,0,0,0,0,0,0,0,0,0,0,0,0,0,0,0,0]
["InputActivityRatio","RE1","IMPOIL",null,1,"TRABUS",null,null,null,null,0,0,0,0,0,0,0,0,0,0,0,0,0,0,0,0,0,0,0,0,0,0,0,0,0,0,0,0,0,0,0,0,0,0,0,0,0,0,0,0,0,0,0,0,0,0,0,0,0,0,0,0,0,0,0,0]
["InputActivityRatio","RE1","MINOIL",null,1,"HYD",null,null,null,null,0,0,0,0,0,0,0,0,0,0,0,0,0,0,0,0,0,0,0,0,0,0,0,0,0,0,0,0,0,0,0,0,0,0,0,0,0,0,0,0,0,0,0,0,0,0,0,0,0,0,0,0,0,0,0,0]
["InputActivityRatio","RE1","IMPBIO",null,1,"COM049",null,null,null,null,0,0,0,0,0,0,0,0,0,0,0,0,0,0,0,0,0,0,0,0,0,0,0,0,0,0,0,0,0,0,0,0,0,0,0,0,0,0,0,0,0,0,0,0,0,0,0,0,0,0,0,0,0,0,0,0]
["InputActivityRatio","RE1","IMPCOA",null,1,"COM030",null,null,null,null,0,0,0,0,0,0,0,0,0,0,0,0,0,0,0,0,0,0,0,0,0,0,0,0,0,0,0,0,0,0,0,0,0,0,0,0,0,0,0,0,0,0,0,0,0,0,0,0,0,0,0,0,0,0,0,0]
["InputActivityRatio","RE1","IMPHFO",null,1,"COMELC",null,null,null,null,0,0,0,0,0,0,0,0,0,0,0,0,0,0,0,0,0,0,0,0,0,0,0,0,0,0,0,0,0,0,0,0,0,0,0,0,0,0,0,0,0,0,0,0,0,0,0,0,0,0,0,0,0,0,0,0]
["InputActivityRatio","RE1","UPSREF002",null,1,"COM033",null,null,null,null,0,0,0,0,0,0,0,0,0,0,0,0,0,0,0,0,0,0,0,0,0,0,0,0,0,0,0,0,0,0,0,0,0,0,0,0,0,0,0,0,0,0,0,0,0,0,0,0,0,0,0,0,0,0,0,0]
["InputActivityRatio","RE1","MINSOL",null,1,"BIO",null,null,null,null,0,0,0,0,0,0,0,0,0,0,0,0,0,0,0,0,0,0,0,0,0,0,0,0,0,0,0,0,0,0,0,0,0,0,0,0,0,0,0,0,0,0,0,0,0,0,0,0,0,0,0,0,0,0,0,0]
["InputActivityRatio","RE1","MINWND",null,1,"COM033",null,null,null,null,0,0,0,0,0,0,0,0,0,0,0,0,0,0,0,0,0,0,0,0,0,0,0,0,0,0,0,0,0,0,0,0,0,0,0,0,0,0,0,0,0,0,0,0,0,0,0,0,0,0,0,0,0,0,0,0]
["InputActivityRatio","RE1","MINURN",null,1,"ELC003",null,null,null,null,0,0,0,0,0,0,0,0,0,0,0,0,0,0,0,0,0,0,0,0,0,0,0,0,0,0,0,0,0,0,0,0,0,0,0,0,0,0,0,0,0,0,0,0,0,0,0,0,0,0,0,0,0,0,0,0]
["InputActivityRatio","RE1","MINGEO",null,1,"COM046",null,null,null,null,0,0,0,0,0,0,0,0,0,0,0,0,0,0,0,0,0,0,0,0,0,0,0,0,0,0,0,0,0,0,0,0,0,0,0,0,0,0,0,0,0,0,0,0,0,0,0,0,0,0,0,0,0,0,0,0]
["InputActivityRatio","RE1","PWRCOA001",null,1,"COM041",null,null,null,null,0,0,0,0,0,0,0,0,0,0,0,0,0,0,0,0,0,0,0,0,0,0,0,0,0,0,0,0,0,0,0,0,0,0,0,0,0,0,0,0,0,0,0,0,0,0,0,0,0,0,0,0,0,0,0,0]
["InputActivityRatio","RE1","PWRGEO",null,1,"RESELC",null,null,null,null,0,0,0,0,0,0,0,0,0,0,0,0,0,0,0,0,0,0,0,0,0,0,0,0,0,0,0,0,0,0,0,0,0,0,0,0,0,0,0,0,0,0,0,0,0,0,0,0,0,0,0,0,0,0,0,0]
["InputActivityRatio","RE1","PWROHC001",null,1,"INDHEL",null,null,null,null,0,0,0,0,0,0,0,0,0,0,0,0,0,0,0,0,0,0,0,0,0,0,0,0,0,0,0,0,0,0,0,0,0,0,0,0,0,0,0,0,0,0,0,0,0,0,0,0,0,0,0,0,0,0,0,0]
["InputActivityRatio","RE1","PWRNGS002",null,1,"INDHEL",null,null,null,null,0,0,0,0,0,0,0,0,0,0,0,0,0,0,0,0,0,0,0,0,0,0,0,0,0,0,0,0,0,0,0,0,0,0,0,0,0,0,0,0,0,0,0,0,0,0,0,0,0,0,0,0,0,0,0,0]
["InputActivityRatio","RE1","PWRSOL001",null,1,"COM048",null,null,null,null,0,0,0,0,0,0,0,0,0,0,0,0,0,0,0,0,0,0,0,0,0,0,0,0,0,0,0,0,0,0,0,0,0,0,0,0,0,0,0,0,0,0,0,0,0,0,0,0,0,0,0,0,0,0,0,0]
["InputActivityRatio","RE1","PWRCSP002",null,1,"COM029",null,null,null,null,0,0,0,0,0,0,0,0,0,0,0,0,0,0,0,0,0,0,0,0,0,0,0,0,0,0,0,0,0,0,0,0,0,0,0,0,0,0,0,0,0,0,0,0,0,0,0,0,0,0,0,0,0,0,0,0]
["InputActivityRatio","RE1","PWRHYD002",null,1,"URN",null,null,null,null,0,0,0,0,0,0,0,0,0,0,0,0,0,0,0,0,0,0,0,0,0,0,0,0,0,0,0,0,0,0,0,0,0,0,0,0,0,0,0,0,0,0,0,0,0,0,0,0,0,0,0,0,0,0,0,0]
["InputActivityRatio","RE1","PWRWND001",null,1,"COM034",null,null,null,null,0,0,0,0,0,0,0,0,0,0,0,0,0,0,0,0,0,0,0,0,0,0,0,0,0,0,0,0,0,0,0,0,0,0,0,0,0,0,0,0,0,0,0,0,0,0,0,0,0,0,0,0,0,0,0,0]
["InputActivityRatio","RE1","PWRNUC",null,1,"COM037",null,null,null,null,0,0,0,0,0,0,0,0,0,0,0,0,0,0,0,0,0,0,0,0,0,0,0,0,0,0,0,0,0,0,0,0,0,0,0,0,0,0,0,0,0,0,0,0,0,0,0,0,0,0,0,0,0,0,0,0]
["InputActivityRatio","RE1","PWRWND001S",null,1,"TRABUS",null,null,null,null,0,0,0,0,0,0,0,0,0,0,0,0,0,0,0,0,0,0,0,0,0,0,0,0,0,0,0,0,0,0,0,0,0,0,0,0,0,0,0,0,0,0,0,0,0,0,0,0,0,0,0,0,0,0,0,0]
["InputActivityRatio","RE1","PWRTRNIMP",null,1,"COM039",null,null,null,null,0,0,0,0,0,0,0,0,0,0,0,0,0,0,0,0,0,0,0,0,0,0,0,0,0,0,0,0,0,0,0,0,0,0,0,0,0,0,0,0,0,0,0,0,0,0,0,0,0,0,0,0,0,0,0,0]
["InputActivityRatio","RE1","PWRDIST",null,1,"COM045",null,null,null,null,0,0,0,0,0,0,0,0,0,0,0,0,0,0,0,0,0,0,0,0,0,0,0,0,0,0,0,0,0,0,0,0,0,0,0,0,0,0,0,0,0,0,0,0,0,0,0,0,0,0,0,0,0,0,0,0]
["InputActivityRatio","RE1","PWROHC003",null,1,"COM044",null,null,null,null,0,0,0,0,0,0,0,0,0,0,0,0,0,0,0,0,0,0,0,0,0,0,0,0,0,0,0,0,0,0,0,0,0,0,0,0,0,0,0,0,0,0,0,0,0,0,0,0,0,0,0,0,0,0,0,0]
["InputActivityRatio","RE1","PWRHYD004",null,1,"COMELC",null,null,null,null,0,0,0,0,0,0,0,0,0,0,0,0,0,0,0,0,0,0,0,0,0,0,0,0,0,0,0,0,0,0,0,0,0,0,0,0,0,0,0,0,0,0,0,0,0,0,0,0,0,0,0,0,0,0,0,0]
["InputActivityRatio","RE1","DEMTRAEVC",null,1,"ELC003",null,null,null,null,1.1100000000000001,1.1100000000000001,1.1100000000000001,1.1100000000000001,1.1100000000000001,1.1100000000000001,1.1100000000000001,1.1100000000000001,1.1100000000000001,1.1100000000000001,1.1100000000000001,1.1100000000000001,1.1100000000000001,1.1100000000000001,1.1100000000000001,1.1100000000000001,1.1100000000000001,1.1100000000000001,1.1100000000000001,1.1100000000000001,1.1100000000000001,1.1100000000000001,1.1100000000000001,1.1100000000000001,1.1100000000000001,1.1100000000000001,1.1100000000000001,1.1100000000000001,1.1100000000000001,1.1100000000000001,1.1100000000000001,1.1100000000000001,1.1100000000000001,1.1100000000000001,1.1100000000000001,1.1100000000000001,1.1100000000000001,1.1100000000000001,1.1100000000000001,1.1100000000000001,1.1100000000000001,1.1100000000000001,1.1100000000000001,1.1100000000000001,1.1100000000000001,1.1100000000000001,1.1100000000000001,1.1100000000000001,1.1100000000000001,1.1100000000000001,1.1100000000000001,1.1100000000000001,1.1100000000000001,1.1100000000000001,1.1100000000000001,1.1100000000000001]
["InputActivityRatio","RE1","DEMTRACARELC",null,1,"BIO",null,null,null,null,0,0,0,0,0,0,0,0,0,0,0,0,0,0,0,0,0,0,0,0,0,0,0,0,0,0,0,0,0,0,0,0,0,0,0,0,0,0,0,0,0,0,0,0,0,0,0,0,0,0,0,0,0,0,0,0]
["InputActivityRatio","RE1","DEMTRABUSELC",null,1,"COM033",null,null,null,null,0,0,0,0,0,0,0,0,0,0,0,0,0,0,0,0,0,0,0,0,0,0,0,0,0,0,0,0,0,0,0,0,0,0,0,0,0,0,0,0,0,0,0,0,0,0,0,0,0,0,0,0,0,0,0,0]
["InputActivityRatio","RE1","DEMTRABUSGSL",null,1,"COM028",null,null,null,null,0,0,0,0,0,0,0,0,0,0,0,0,0,0,0,0,0,0,0,0,0,0,0,0,0,0,0,0,0,0,0,0,0,0,0,0,0,0,0,0,0,0,0,0,0,0,0,0,0,0,0,0,0,0,0,0]
["InputActivityRatio","RE1","DEMINDELC",null,1,"COM027",null,null,null,null,0,0,0,0,0,0,0,0,0,0,0,0,0,0,0,0,0,0,0,0,0,0,0,0,0,0,0,0,0,0,0,0,0,0,0,0,0,0,0,0,0,0,0,0,0,0,0,0,0,0,0,0,0,0,0,0]
["InputActivityRatio","RE1","INDENEFFDP",null,1,"COM041",null,null,null,null,0,0,0,0,0,0,0,0,0,0,0,0,0,0,0,0,0,0,0,0,0,0,0,0,0,0,0,0,0,0,0,0,0,0,0,0,0,0,0,0,0,0,0,0,0,0,0,0,0,0,0,0,0,0,0,0]
["InputActivityRatio","RE1","DEMINDHEEH",null,1,"COM040",null,null,null,null,0,0,0,0,0,0,0,0,0,0,0,0,0,0,0,0,0,0,0,0,0,0,0,0,0,0,0,0,0,0,0,0,0,0,0,0,0,0,0,0,0,0,0,0,0,0,0,0,0,0,0,0,0,0,0,0]
["InputActivityRatio","RE1","DEMINDHEBIO",null,1,"TRACAR",null,null,null,null,0,0,0,0,0,0,0,0,0,0,0,0,0,0,0,0,0,0,0,0,0,0,0,0,0,0,0,0,0,0,0,0,0,0,0,0,0,0,0,0,0,0,0,0,0,0,0,0,0,0,0,0,0,0,0,0]
["InputActivityRatio","RE1","RESENEFFGD",null,1,"BIO",null,null,null,null,0,0,0,0,0,0,0,0,0,0,0,0,0,0,0,0,0,0,0,0,0,0,0,0,0,0,0,0,0,0,0,0,0,0,0,0,0,0,0,0,0,0,0,0,0,0,0,0,0,0,0,0,0,0,0,0]
["InputActivityRatio","RE1","RESENEFFGD",null,1,"COM048",null,null,null,null,0,0,0,0,0,0,0,0,0,0,0,0,0,0,0,0,0,0,0,0,0,0,0,0,0,0,0,0,0,0,0,0,0,0,0,0,0,0,0,0,0,0,0,0,0,0,0,0,0,0,0,0,0,0,0,0]
["InputActivityRatio","RE1","DEMRESCKNELC",null,1,"COM029",null,null,null,null,0,0,0,0,0,0,0,0,0,0,0,0,0,0,0,0,0,0,0,0,0,0,0,0,0,0,0,0,0,0,0,0,0,0,0,0,0,0,0,0,0,0,0,0,0,0,0,0,0,0,0,0,0,0,0,0]
["InputActivityRatio","RE1","DEMRESHEBIO",null,1,"COM042",null,null,null,null,0,0,0,0,0,0,0,0,0,0,0,0,0,0,0,0,0,0,0,0,0,0,0,0,0,0,0,0,0,0,0,0,0,0,0,0,0,0,0,0,0,0,0,0,0,0,0,0,0,0,0,0,0,0,0,0]
["InputActivityRatio","RE1","DEMRESHEEL",null,1,"HFO",null,null,null,null,0,0,0,0,0,0,0,0,0,0,0,0,0,0,0,0,0,0,0,0,0,0,0,0,0,0,0,0,0,0,0,0,0,0,0,0,0,0,0,0,0,0,0,0,0,0,0,0,0,0,0,0,0,0,0,0]
["InputActivityRatio","RE1","DEMCOMELC",null,1,"COM037",null,null,null,null,0,0,0,0,0,0,0,0,0,0,0,0,0,0,0,0,0,0,0,0,0,0,0,0,0,0,0,0,0,0,0,0,0,0,0,0,0,0,0,0,0,0,0,0,0,0,0,0,0,0,0,0,0,0,0,0]
["InputActivityRatio","RE1","DEMCOMHEOIL",null,1,"COM032",null,null,null,null,0,0,0,0,0,0,0,0,0,0,0,0,0,0,0,0,0,0,0,0,0,0,0,0,0,0,0,0,0,0,0,0,0,0,0,0,0,0,0,0,0,0,0,0,0,0,0,0,0,0,0,0,0,0,0,0]
["InputActivityRatio","RE1","DEMCOMHEBIO",null,1,"INDHEH",null,null,null,null,0,0,0,0,0,0,0,0,0,0,0,0,0,0,0,0,0,0,0,0,0,0,0,0,0,0,0,0,0,0,0,0,0,0,0,0,0,0,0,0,0,0,0,0,0,0,0,0,0,0,0,0,0,0,0,0]
["InputActivityRatio","RE1","BSTOPMCY",null,1,"ELC002",null,null,null,null,0,0,0,0,0,0,0,0,0,0,0,0,0,0,0,0,0,0,0,0,0,0,0,0,0,0,0,0,0,0,0,0,0,0,0,0,0,0,0,0,0,0,0,0,0,0,0,0,0,0,0,0,0,0,0,0]
["InputActivityRatio","RE1","BSTOPCAR",null,1,"COM044",null,null,null,null,0,0,0,0,0,0,0,0,0,0,0,0,0,0,0,0,0,0,0,0,0,0,0,0,0,0,0,0,0,0,0,0,0,0,0,0,0,0,0,0,0,0,0,0,0,0,0,0,0,0,0,0,0,0,0,0]
["InputActivityRatio","RE1","BSTOPINDHEL",null,1,"INDHEL",null,null,null,null,0,0,0,0,0,0,0,0,0,0,0,0,0,0,0,0,0,0,0,0,0,0,0,0,0,0,0,0,0,0,0,0,0,0,0,0,0,0,0,0,0,0,0,0,0,0,0,0,0,0,0,0,0,0,0,0]
["InputActivityRatio","RE1","BSTOPINDHEL",null,1,"COM033",null,null,null,null,0,0,0,0,0,0,0,0,0,0,0,0,0,0,0,0,0,0,0,0,0,0,0,0,0,0,0,0,0,0,0,0,0,0,0,0,0,0,0,0,0,0,0,0,0,0,0,0,0,0,0,0,0,0,0,0]
["InputActivityRatio","RE1","BSTOPRESHEL",null,1,"BIO",null,null,null,null,0,0,0,0,0,0,0,0,0,0,0,0,0,0,0,0,0,0,0,0,0,0,0,0,0,0,0,0,0,0,0,0,0,0,0,0,0,0,0,0,0,0,0,0,0,0,0,0,0,0,0,0,0,0,0,0]
["InputActivityRatio","RE1","BSTOPCOMELC",null,1,"COM033",null,null,null,null,0,0,0,0,0,0,0,0,0,0,0,0,0,0,0,0,0,0,0,0,0,0,0,0,0,0,0,0,0,0,0,0,0,0,0,0,0,0,0,0,0,0,0,0,0,0,0,0,0,0,0,0,0,0,0,0]
["InputActivityRatio","RE1","TEC088",null,1,"COM028",null,null,null,null,0,0,0,0,0,0,0,0,0,0,0,0,0,0,0,0,0,0,0,0,0,0,0,0,0,0,0,0,0,0,0,0,0,0,0,0,0,0,0,0,0,0,0,0,0,0,0,0,0,0,0,0,0,0,0,0]
["InputActivityRatio","RE1","TEC090",null,1,"HYD",null,null,null,null,0,0,0,0,0,0,0,0,0,0,0,0,0,0,0,0,0,0,0,0,0,0,0,0,0,0,0,0,0,0,0,0,0,0,0,0,0,0,0,0,0,0,0,0,0,0,0,0,0,0,0,0,0,0,0,0]
["InputActivityRatio","RE1","TEC093",null,1,"NGS",null,null,null,null,0,0,0,0,0,0,0,0,0,0,0,0,0,0,0,0,0,0,0,0,0,0,0,0,0,0,0,0,0,0,0,0,0,0,0,0,0,0,0,0,0,0,0,0,0,0,0,0,0,0,0,0,0,0,0,0]
["InputActivityRatio","RE1","TEC094",null,1,"COM036",null,null,null,null,0,0,0,0,0,0,0,0,0,0,0,0,0,0,0,0,0,0,0,0,0,0,0,0,0,0,0,0,0,0,0,0,0,0,0,0,0,0,0,0,0,0,0,0,0,0,0,0,0,0,0,0,0,0,0,0]
["InputActivityRatio","RE1","TEC096",null,1,"TRACAR",null,null,null,null,0,0,0,0,0,0,0,0,0,0,0,0,0,0,0,0,0,0,0,0,0,0,0,0,0,0,0,0,0,0,0,0,0,0,0,0,0,0,0,0,0,0,0,0,0,0,0,0,0,0,0,0,0,0,0,0]
["InputActivityRatio","RE1","TEC097",null,1,"INDHEL",null,null,null,null,0,0,0,0,0,0,0,0,0,0,0,0,0,0,0,0,0,0,0,0,0,0,0,0,0,0,0,0,0,0,0,0,0,0,0,0,0,0,0,0,0,0,0,0,0,0,0,0,0,0,0,0,0,0,0,0]
["InputActivityRatio","RE1","TEC098",null,1,"COM048",null,null,null,null,0,0,0,0,0,0,0,0,0,0,0,0,0,0,0,0,0,0,0,0,0,0,0,0,0,0,0,0,0,0,0,0,0,0,0,0,0,0,0,0,0,0,0,0,0,0,0,0,0,0,0,0,0,0,0,0]
["InputActivityRatio","RE1","TEC102",null,1,"COMELC",null,null,null,null,0,0,0,0,0,0,0,0,0,0,0,0,0,0,0,0,0,0,0,0,0,0,0,0,0,0,0,0,0,0,0,0,0,0,0,0,0,0,0,0,0,0,0,0,0,0,0,0,0,0,0,0,0,0,0,0]
["InputActivityRatio","RE1","TEC104",null,1,"RESCKN",null,null,null,null,0,0,0,0,0,0,0,0,0,0,0,0,0,0,0,0,0,0,0,0,0,0,0,0,0,0,0,0,0,0,0,0,0,0,0,0,0,0,0,0,0,0,0,0,0,0,0,0,0,0,0,0,0,0,0,0]
["InputActivityRatio","RE1","TEC105",null,1,"HFO",null,null,null,null,0,0,0,0,0,0,0,0,0,0,0,0,0,0,0,0,0,0,0,0,0,0,0,0,0,0,0,0,0,0,0,0,0,0,0,0,0,0,0,0,0,0,0,0,0,0,0,0,0,0,0,0,0,0,0,0]
["InputActivityRatio","RE1","TEC108",null,1,"OIL",null,null,null,null,0,0,0,0,0,0,0,0,0,0,0,0,0,0,0,0,0,0,0,0,0,0,0,0,0,0,0,0,0,0,0,0,0,0,0,0,0,0,0,0,0,0,0,0,0,0,0,0,0,0,0,0,0,0,0,0]
["InputActivityRatio","RE1","TEC109",null,1,"COM032",null,null,null,null,0,0,0,0,0,0,0,0,0,0,0,0,0,0,0,0,0,0,0,0,0,0,0,0,0,0,0,0,0,0,0,0,0,0,0,0,0,0,0,0,0,0,0,0,0,0,0,0,0,0,0,0,0,0,0,0]
["InputActivityRatio","RE1","TEC111",null,1,"OIL",null,null,null,null,0,0,0,0,0,0,0,0,0,0,0,0,0,0,0,0,0,0,0,0,0,0,0,0,0,0,0,0,0,0,0,0,0,0,0,0,0,0,0,0,0,0,0,0,0,0,0,0,0,0,0,0,0,0,0,0]
["InputActivityRatio","RE1","TEC114",null,1,"WND",null,null,null,null,0,0,0,0,0,0,0,0,0,0,0,0,0,0,0,0,0,0,0,0,0,0,0,0,0,0,0,0,0,0,0,0,0,0,0,0,0,0,0,0,0,0,0,0,0,0,0,0,0,0,0,0,0,0,0,0]
["InputActivityRatio","RE1","TEC115",null,1,"COM040",null,null,null,null,0,0,0,0,0,0,0,0,0,0,0,0,0,0,0,0,0,0,0,0,0,0,0,0,0,0,0,0,0,0,0,0,0,0,0,0,0,0,0,0,0,0,0,0,0,0,0,0,0,0,0,0,0,0,0,0]
["InputActivityRatio","RE1","TEC116",null,1,"COM039",null,null,null,null,0,0,0,0,0,0,0,0,0,0,0,0,0,0,0,0,0,0,0,0,0,0,0,0,0,0,0,0,0,0,0,0,0,0,0,0,0,0,0,0,0,0,0,0,0,0,0,0,0,0,0,0,0,0,0,0]
["InputActivityRatio","RE1","TEC118",null,1,"ELC003",null,null,null,null,0,0,0,0,0,0,0,0,0,0,0,0,0,0,0,0,0,0,0,0,0,0,0,0,0,0,0,0,0,0,0,0,0,0,0,0,0,0,0,0,0,0,0,0,0,0,0,0,0,0,0,0,0,0,0,0]
["InputActivityRatio","RE1","TEC121",null,1,"COM048",null,null,null,null,0,0,0,0,0,0,0,0,0,0,0,0,0,0,0,0,0,0,0,0,0,0,0,0,0,0,0,0,0,0,0,0,0,0,0,0,0,0,0,0,0,0,0,0,0,0,0,0,0,0,0,0,0,0,0,0]
["InputActivityRatio","RE1","TEC122",null,1,"COM047",null,null,null,null,0,0,0,0,0,0,0,0,0,0,0,0,0,0,0,0,0,0,0,0,0,0,0,0,0,0,0,0,0,0,0,0,0,0,0,0,0,0,0,0,0,0,0,0,0,0,0,0,0,0,0,0,0,0,0,0]
["InputActivityRatio","RE1","TEC124",null,1,"COM028",null,null,null,null,0,0,0,0,0,0,0,0,0,0,0,0,0,0,0,0,0,0,0,0,0,0,0,0,0,0,0,0,0,0,0,0,0,0,0,0,0,0,0,0,0,0,0,0,0,0,0,0,0,0,0,0,0,0,0,0]
["InputActivityRatio","RE1","TEC126",null,1,"COM039",null,null,null,null,0,0,0,0,0,0,0,0,0,0,0,0,0,0,0,0,0,0,0,0,0,0,0,0,0,0,0,0,0,0,0,0,0,0,0,0,0,0,0,0,0,0,0,0,0,0,0,0,0,0,0,0,0,0,0,0]
["InputActivityRatio","RE1","TEC129",null,1,"NGS",null,null,null,null,0,0,0,0,0,0,0,0,0,0,0,0,0,0,0,0,0,0,0,0,0,0,0,0,0,0,0,0,0,0,0,0,0,0,0,0,0,0,0,0,0,0,0,0,0,0,0,0,0,0,0,0,0,0,0,0]
["InputActivityRatio","RE1","TEC130",null,1,"COM036",null,null,null,null,0,0,0,0,0,0,0,0,0,0,0,0,0,0,0,0,0,0,0,0,0,0,0,0,0,0,0,0,0,0,0,0,0,0,0,0,0,0,0,0,0,0,0,0,0,0,0,0,0,0,0,0,0,0,0,0]
["InputActivityRatio","RE1","TEC131",null,1,"COM035",null,null,null,null,0,0,0,0,0,0,0,0,0,0,0,0,0,0,0,0,0,0,0,0,0,0,0,0,0,0,0,0,0,0,0,0,0,0,0,0,0,0,0,0,0,0,0,0,0,0,0,0,0,0,0,0,0,0,0,0]
["InputActivityRatio","RE1","TEC134",null,1,"BIO",null,null,null,null,0,0,0,0,0,0,0,0,0,0,0,0,0,0,0,0,0,0,0,0,0,0,0,0,0,0,0,0,0,0,0,0,0,0,0,0,0,0,0,0,0,0,0,0,0,0,0,0,0,0,0,0,0,0,0,0]
["InputActivityRatio","RE1","TEC136",null,1,"COM044",null,null,null,null,0,0,0,0,0,0,0,0,0,0,0,0,0,0,0,0,0,0,0,0,0,0,0,0,0,0,0,0,0,0,0,0,0,0,0,0,0,0,0,0,0,0,0,0,0,0,0,0,0,0,0,0,0,0,0,0]
["InputActivityRatio","RE1","TEC137",null,1,"COM043",null,null,null,null,0,0,0,0,0,0,0,0,0,0,0,0,0,0,0,0,0,0,0,0,0,0,0,0,0,0,0,0,0,0,0,0,0,0,0,0,0,0,0,0,0,0,0,0,0,0,0,0,0,0,0,0,0,0,0,0]
["InputActivityRatio","RE1","TEC141",null,1,"LFO",null,null,null,null,0,0,0,0,0,0,0,0,0,0,0,0,0,0,0,0,0,0,0,0,0,0,0,0,0,0,0,0,0,0,0,0,0,0,0,0,0,0,0,0,0,0,0,0,0,0,0,0,0,0,0,0,0,0,0,0]
["InputActivityRatio","RE1","TEC142",null,1,"INDHEH",null,null,null,null,0,0,0,0,0,0,0,0,0,0,0,0,0,0,0,0,0,0,0,0,0,0,0,0,0,0,0,0,0,0,0,0,0,0,0,0,0,0,0,0,0,0,0,0,0,0,0,0,0,0,0,0,0,0,0,0]
["InputActivityRatio","RE1","TEC144",null,1,"OIL",null,null,null,null,0,0,0,0,0,0,0,0,0,0,0,0,0,0,0,0,0,0,0,0,0,0,0,0,0,0,0,0,0,0,0,0,0,0,0,0,0,0,0,0,0,0,0,0,0,0,0,0,0,0,0,0,0,0,0,0]
["InputActivityRatio","RE1","TEC145",null,1,"COM032",null,null,null,null,0,0,0,0,0,0,0,0,0,0,0,0,0,0,0,0,0,0,0,0,0,0,0,0,0,0,0,0,0,0,0,0,0,0,0,0,0,0,0,0,0,0,0,0,0,0,0,0,0,0,0,0,0,0,0,0]
["InputActivityRatio","RE1","TEC148",null,1,"TRACAR",null,null,null,null,0,0,0,0,0,0,0,0,0,0,0,0,0,0,0,0,0,0,0,0,0,0,0,0,0,0,0,0,0,0,0,0,0,0,0,0,0,0,0,0,0,0,0,0,0,0,0,0,0,0,0,0,0,0,0,0]
["InputActivityRatio","RE1","TEC150",null,1,"WND",null,null,null,null,0,0,0,0,0,0,0,0,0,0,0,0,0,0,0,0,0,0,0,0,0,0,0,0,0,0,0,0,0,0,0,0,0,0,0,0,0,0,0,0,0,0,0,0,0,0,0,0,0,0,0,0,0,0,0,0]
["InputActivityRatio","RE1","TEC151",null,1,"COM040",null,null,null,null,0,0,0,0,0,0,0,0,0,0,0,0,0,0,0,0,0,0,0,0,0,0,0,0,0,0,0,0,0,0,0,0,0,0,0,0,0,0,0,0,0,0,0,0,0,0,0,0,0,0,0,0,0,0,0,0]
["InputActivityRatio","RE1","TEC154",null,1,"COM035",null,null,null,null,0,0,0,0,0,0,0,0,0,0,0,0,0,0,0,0,0,0,0,0,0,0,0,0,0,0,0,0,0,0,0,0,0,0,0,0,0,0,0,0,0,0,0,0,0,0,0,0,0,0,0,0,0,0,0,0]
["InputActivityRatio","RE1","TEC154",null,1,"COM045",null,null,null,null,0,0,0,0,0,0,0,0,0,0,0,0,0,0,0,0,0,0,0,0,0,0,0,0,0,0,0,0,0,0,0,0,0,0,0,0,0,0,0,0,0,0,0,0,0,0,0,0,0,0,0,0,0,0,0,0]
["InputActivityRatio","RE1","TEC157",null,1,"TRAMCY",null,null,null,null,0,0,0,0,0,0,0,0,0,0,0,0,0,0,0,0,0,0,0,0,0,0,0,0,0,0,0,0,0,0,0,0,0,0,0,0,0,0,0,0,0,0,0,0,0,0,0,0,0,0,0,0,0,0,0,0]
["InputActivityRatio","RE1","TEC158",null,1,"COM047",null,null,null,null,0,0,0,0,0,0,0,0,0,0,0,0,0,0,0,0,0,0,0,0,0,0,0,0,0,0,0,0,0,0,0,0,0,0,0,0,0,0,0,0,0,0,0,0,0,0,0,0,0,0,0,0,0,0,0,0]
["InputActivityRatio","RE1","TEC160",null,1,"COM028",null,null,null,null,0,0,0,0,0,0,0,0,0,0,0,0,0,0,0,0,0,0,0,0,0,0,0,0,0,0,0,0,0,0,0,0,0,0,0,0,0,0,0,0,0,0,0,0,0,0,0,0,0,0,0,0,0,0,0,0]
["InputActivityRatio","RE1","TEC164",null,1,"NGS",null,null,null,null,0,0,0,0,0,0,0,0,0,0,0,0,0,0,0,0,0,0,0,0,0,0,0,0,0,0,0,0,0,0,0,0,0,0,0,0,0,0,0,0,0,0,0,0,0,0,0,0,0,0,0,0,0,0,0,0]
["InputActivityRatio","RE1","TEC165",null,1,"NGS",null,null,null,null,0,0,0,0,0,0,0,0,0,0,0,0,0,0,0,0,0,0,0,0,0,0,0,0,0,0,0,0,0,0,0,0,0,0,0,0,0,0,0,0,0,0,0,0,0,0,0,0,0,0,0,0,0,0,0,0]
["InputActivityRatio","RE1","TEC166",null,1,"COM036",null,null,null,null,0,0,0,0,0,0,0,0,0,0,0,0,0,0,0,0,0,0,0,0,0,0,0,0,0,0,0,0,0,0,0,0,0,0,0,0,0,0,0,0,0,0,0,0,0,0,0,0,0,0,0,0,0,0,0,0]
["InputActivityRatio","RE1","TEC169",null,1,"COM031",null,null,null,null,0,0,0,0,0,0,0,0,0,0,0,0,0,0,0,0,0,0,0,0,0,0,0,0,0,0,0,0,0,0,0,0,0,0,0,0,0,0,0,0,0,0,0,0,0,0,0,0,0,0,0,0,0,0,0,0]
["InputActivityRatio","RE1","TEC170",null,1,"COM033",null,null,null,null,0,0,0,0,0,0,0,0,0,0,0,0,0,0,0,0,0,0,0,0,0,0,0,0,0,0,0,0,0,0,0,0,0,0,0,0,0,0,0,0,0,0,0,0,0,0,0,0,0,0,0,0,0,0,0,0]
["InputActivityRatio","RE1","TEC172",null,1,"ELC001",null,null,null,null,0,0,0,0,0,0,0,0,0,0,0,0,0,0,0,0,0,0,0,0,0,0,0,0,0,0,0,0,0,0,0,0,0,0,0,0,0,0,0,0,0,0,0,0,0,0,0,0,0,0,0,0,0,0,0,0]
["InputActivityRatio","RE1","TEC175",null,1,"COM039",null,null,null,null,0,0,0,0,0,0,0,0,0,0,0,0,0,0,0,0,0,0,0,0,0,0,0,0,0,0,0,0,0,0,0,0,0,0,0,0,0,0,0,0,0,0,0,0,0,0,0,0,0,0,0,0,0,0,0,0]
["InputActivityRatio","RE1","TEC177",null,1,"COM035",null,null,null,null,0,0,0,0,0,0,0,0,0,0,0,0,0,0,0,0,0,0,0,0,0,0,0,0,0,0,0,0,0,0,0,0,0,0,0,0,0,0,0,0,0,0,0,0,0,0,0,0,0,0,0,0,0,0,0,0]
["InputActivityRatio","RE1","TEC178",null,1,"INDHEH",null,null,null,null,0,0,0,0,0,0,0,0,0,0,0,0,0,0,0,0,0,0,0,0,0,0,0,0,0,0,0,0,0,0,0,0,0,0,0,0,0,0,0,0,0,0,0,0,0,0,0,0,0,0,0,0,0,0,0,0]
["InputActivityRatio","RE1","TEC180",null,1,"OIL",null,null,null,null,0,0,0,0,0,0,0,0,0,0,0,0,0,0,0,0,0,0,0,0,0,0,0,0,0,0,0,0,0,0,0,0,0,0,0,0,0,0,0,0,0,0,0,0,0,0,0,0,0,0,0,0,0,0,0,0]
["InputActivityRatio","RE1","TEC182",null,1,"COM046",null,null,null,null,0,0,0,0,0,0,0,0,0,0,0,0,0,0,0,0,0,0,0,0,0,0,0,0,0,0,0,0,0,0,0,0,0,0,0,0,0,0,0,0,0,0,0,0,0,0,0,0,0,0,0,0,0,0,0,0]
["InputActivityRatio","RE1","TEC184",null,1,"COM048",null,null,null,null,0,0,0,0,0,0,0,0,0,0,0,0,0,0,0,0,0,0,0,0,0,0,0,0,0,0,0,0,0,0,0,0,0,0,0,0,0,0,0,0,0,0,0,0,0,0,0,0,0,0,0,0,0,0,0,0]
["InputActivityRatio","RE1","TEC186",null,1,"WND",null,null,null,null,0,0,0,0,0,0,0,0,0,0,0,0,0,0,0,0,0,0,0,0,0,0,0,0,0,0,0,0,0,0,0,0,0,0,0,0,0,0,0,0,0,0,0,0,0,0,0,0,0,0,0,0,0,0,0,0]
["InputActivityRatio","RE1","TEC189",null,1,"LFO",null,null,null,null,0,0,0,0,0,0,0,0,0,0,0,0,0,0,0,0,0,0,0,0,0,0,0,0,0,0,0,0,0,0,0,0,0,0,0,0,0,0,0,0,0,0,0,0,0,0,0,0,0,0,0,0,0,0,0,0]
["InputActivityRatio","RE1","TEC190",null,1,"COM035",null,null,null,null,0,0,0,0,0,0,0,0,0,0,0,0,0,0,0,0,0,0,0,0,0,0,0,0,0,0,0,0,0,0,0,0,0,0,0,0,0,0,0,0,0,0,0,0,0,0,0,0,0,0,0,0,0,0,0,0]
["InputActivityRatio","RE1","TEC191",null,1,"COMHEL",null,null,null,null,0,0,0,0,0,0,0,0,0,0,0,0,0,0,0,0,0,0,0,0,0,0,0,0,0,0,0,0,0,0,0,0,0,0,0,0,0,0,0,0,0,0,0,0,0,0,0,0,0,0,0,0,0,0,0,0]
["InputActivityRatio","RE1","TEC193",null,1,"TRAMCY",null,null,null,null,0,0,0,0,0,0,0,0,0,0,0,0,0,0,0,0,0,0,0,0,0,0,0,0,0,0,0,0,0,0,0,0,0,0,0,0,0,0,0,0,0,0,0,0,0,0,0,0,0,0,0,0,0,0,0,0]
["InputActivityRatio","RE1","TEC196",null,1,"COM043",null,null,null,null,0,0,0,0,0,0,0,0,0,0,0,0,0,0,0,0,0,0,0,0,0,0,0,0,0,0,0,0,0,0,0,0,0,0,0,0,0,0,0,0,0,0,0,0,0,0,0,0,0,0,0,0,0,0,0,0]
["InputActivityRatio","RE1","TEC197",null,1,"COM042",null,null,null,null,0,0,0,0,0,0,0,0,0,0,0,0,0,0,0,0,0,0,0,0,0,0,0,0,0,0,0,0,0,0,0,0,0,0,0,0,0,0,0,0,0,0,0,0,0,0,0,0,0,0,0,0,0,0,0,0]
["OperationalLife","RE1","DEMCOMHEEL",null,null,null,null,null,null,15]
["OperationalLife","RE1","TEC094",null,null,null,null,null,null,1]
["OutputActivityRatio","RE1","IMPOIL",null,1,"COM041",null,null,null,null,0,0,0,0,0,0,0,0,0,0,0,0,0,0,0,0,0,0,0,0,0,0,0,0,0,0,0,0,0,0,0,0,0,0,0,0,0,0,0,0,0,0,0,0,0,0,0,0,0,0,0,0,0,0,0,0]
["OutputActivityRatio","RE1","IMPBIO",null,1,"COM032",null,null,null,null,0,0,0,0,0,0,0,0,0,0,0,0,0,0,0,0,0,0,0,0,0,0,0,0,0,0,0,0,0,0,0,0,0,0,0,0,0,0,0,0,0,0,0,0,0,0,0,0,0,0,0,0,0,0,0,0]
["OutputActivityRatio","RE1","IMPCOA",null,1,"LFO",null,null,null,null,0,0,0,0,0,0,0,0,0,0,0,0,0,0,0,0,0,0,0,0,0,0,0,0,0,0,0,0,0,0,0,0,0,0,0,0,0,0,0,0,0,0,0,0,0,0,0,0,0,0,0,0,0,0,0,0]
["OutputActivityRatio","RE1","IMPLFO",null,1,"COM049",null,null,null,null,0,0,0,0,0,0,0,0,0,0,0,0,0,0,0,0,0,0,0,0,0,0,0,0,0,0,0,0,0,0,0,0,0,0,0,0,0,0,0,0,0,0,0,0,0,0,0,0,0,0,0,0,0,0,0,0]
["OutputActivityRatio","RE1","UPSREF001",null,1,"COM030",null,null,null,null,0,0,0,0,0,0,0,0,0,0,0,0,0,0,0,0,0,0,0,0,0,0,0,0,0,0,0,0,0,0,0,0,0,0,0,0,0,0,0,0,0,0,0,0,0,0,0,0,0,0,0,0,0,0,0,0]
["OutputActivityRatio","RE1","UPSREF002",null,1,"COM045",null,null,null,null,0,0,0,0,0,0,0,0,0,0,0,0,0,0,0,0,0,0,0,0,0,0,0,0,0,0,0,0,0,0,0,0,0,0,0,0,0,0,0,0,0,0,0,0,0,0,0,0,0,0,0,0,0,0,0,0]
["OutputActivityRatio","RE1","MINWND",null,1,"SOL",null,null,null,null,0,0,0,0,0,0,0,0,0,0,0,0,0,0,0,0,0,0,0,0,0,0,0,0,0,0,0,0,0,0,0,0,0,0,0,0,0,0,0,0,0,0,0,0,0,0,0,0,0,0,0,0,0,0,0,0]
["OutputActivityRatio","RE1","IMPURN",null,1,"COM038",null,null,null,null,0,0,0,0,0,0,0,0,0,0,0,0,0,0,0,0,0,0,0,0,0,0,0,0,0,0,0,0,0,0,0,0,0,0,0,0,0,0,0,0,0,0,0,0,0,0,0,0,0,0,0,0,0,0,0,0]
["OutputActivityRatio","RE1","MINURN",null,1,"COM037",null,null,null,null,0,0,0,0,0,0,0,0,0,0,0,0,0,0,0,0,0,0,0,0,0,0,0,0,0,0,0,0,0,0,0,0,0,0,0,0,0,0,0,0,0,0,0,0,0,0,0,0,0,0,0,0,0,0,0,0]
["OutputActivityRatio","RE1","PWRBIO001",null,1,"INDHEH",null,null,null,null,0,0,0,0,0,0,0,0,0,0,0,0,0,0,0,0,0,0,0,0,0,0,0,0,0,0,0,0,0,0,0,0,0,0,0,0,0,0,0,0,0,0,0,0,0,0,0,0,0,0,0,0,0,0,0,0]
["OutputActivityRatio","RE1","TEC021",null,1,"ELC003",null,null,null,null,0,0,0,0,0,0,0,0,0,0,0,0,0,0,0,0,0,0,0,0,0,0,0,0,0,0,0,0,0,0,0,0,0,0,0,0,0,0,0,0,0,0,0,0,0,0,0,0,0,0,0,0,0,0,0,0]
["OutputActivityRatio","RE1","PWRGEO",null,1,"COM045",null,null,null,null,0,0,0,0,0,0,0,0,0,0,0,0,0,0,0,0,0,0,0,0,0,0,0,0,0,0,0,0,0,0,0,0,0,0,0,0,0,0,0,0,0,0,0,0,0,0,0,0,0,0,0,0,0,0,0,0]
["OutputActivityRatio","RE1","PWROHC002",null,1,"COMHEL",null,null,null,null,0,0,0,0,0,0,0,0,0,0,0,0,0,0,0,0,0,0,0,0,0,0,0,0,0,0,0,0,0,0,0,0,0,0,0,0,0,0,0,0,0,0,0,0,0,0,0,0,0,0,0,0,0,0,0,0]
["OutputActivityRatio","RE1","PWRNGS002",null,1,"COM033",null,null,null,null,0,0,0,0,0,0,0,0,0,0,0,0,0,0,0,0,0,0,0,0,0,0,0,0,0,0,0,0,0,0,0,0,0,0,0,0,0,0,0,0,0,0,0,0,0,0,0,0,0,0,0,0,0,0,0,0]
["OutputActivityRatio","RE1","PWRCSP002",null,1,"COA",null,null,null,null,0,0,0,0,0,0,0,0,0,0,0,0,0,0,0,0,0,0,0,0,0,0,0,0,0,0,0,0,0,0,0,0,0,0,0,0,0,0,0,0,0,0,0,0,0,0,0,0,0,0,0,0,0,0,0,0]
["OutputActivityRatio","RE1","PWRHYD001",null,1,"COM034",null,null,null,null,0,0,0,0,0,0,0,0,0,0,0,0,0,0,0,0,0,0,0,0,0,0,0,0,0,0,0,0,0,0,0,0,0,0,0,0,0,0,0,0,0,0,0,0,0,0,0,0,0,0,0,0,0,0,0,0]
["OutputActivityRatio","RE1","PWRHYD002",null,1,"COM033",null,null,null,null,0,0,0,0,0,0,0,0,0,0,0,0,0,0,0,0,0,0,0,0,0,0,0,0,0,0,0,0,0,0,0,0,0,0,0,0,0,0,0,0,0,0,0,0,0,0,0,0,0,0,0,0,0,0,0,0]
["OutputActivityRatio","RE1","PWRNUC",null,1,"HYD",null,null,null,null,0,0,0,0,0,0,0,0,0,0,0,0,0,0,0,0,0,0,0,0,0,0,0,0,0,0,0,0,0,0,0,0,0,0,0,0,0,0,0,0,0,0,0,0,0,0,0,0,0,0,0,0,0,0,0,0]
["OutputActivityRatio","RE1","PWRSOL001S",null,1,"URN",null,null,null,null,0,0,0,0,0,0,0,0,0,0,0,0,0,0,0,0,0,0,0,0,0,0,0,0,0,0,0,0,0,0,0,0,0,0,0,0,0,0,0,0,0,0,0,0,0,0,0,0,0,0,0,0,0,0,0,0]
["OutputActivityRatio","RE1","PWRWND001S",null,1,"COM041",null,null,null,null,0,0,0,0,0,0,0,0,0,0,0,0,0,0,0,0,0,0,0,0,0,0,0,0,0,0,0,0,0,0,0,0,0,0,0,0,0,0,0,0,0,0,0,0,0,0,0,0,0,0,0,0,0,0,0,0]
["OutputActivityRatio","RE1","PWRTRN",null,1,"ELC002",null,null,null,null,0.95,0.95,0.95,0.95,0.95,0.95,0.95,0.95,0.95,0.95,0.95,0.95,0.95,0.95,0.95,0.96,0.96,0.96,0.96,0.96,0.96,0.96,0.96,0.96,0.96,0.96,0.96,0.96,0.96,0.96,0.96,0.96,0.96,0.96,0.96,0.96,0.96,0.96,0.96,0.96,0.96,0.96,0.96,0.96,0.96,0.96,0.96,0.96,0.97,0.97,0.97,0.97,0.97,0.97,0.97,0.97]
["OutputActivityRatio","RE1","PWROHC003",null,1,"TRABUS",null,null,null,null,0,0,0,0,0,0,0,0,0,0,0,0,0,0,0,0,0,0,0,0,0,0,0,0,0,0,0,0,0,0,0,0,0,0,0,0,0,0,0,0,0,0,0,0,0,0,0,0,0,0,0,0,0,0,0,0]
["OutputActivityRatio","RE1","PWRSOL002",null,1,"COM049",null,null,null,null,0,0,0,0,0,0,0,0,0,0,0,0,0,0,0,0,0,0,0,0,0,0,0,0,0,0,0,0,0,0,0,0,0,0,0,0,0,0,0,0,0,0,0,0,0,0,0,0,0,0,0,0,0,0,0,0]
["OutputActivityRatio","RE1","PWRHYD004",null,1,"COM048",null,null,null,null,0,0,0,0,0,0,0,0,0,0,0,0,0,0,0,0,0,0,0,0,0,0,0,0,0,0,0,0,0,0,0,0,0,0,0,0,0,0,0,0,0,0,0,0,0,0,0,0,0,0,0,0,0,0,0,0]
["OutputActivityRatio","RE1","DEMTRAEVC",null,1,"COMHEL",null,null,null,null,0,0,0,0,0,0,0,0,0,0,0,0,0,0,0,0,0,0,0,0,0,0,0,0,0,0,0,0,0,0,0,0,0,0,0,0,0,0,0,0,0,0,0,0,0,0,0,0,0,0,0,0,0,0,0,0]
["OutputActivityRatio","RE1","DEMTRABUSELC",null,1,"SOL",null,null,null,null,0,0,0,0,0,0,0,0,0,0,0,0,0,0,0,0,0,0,0,0,0,0,0,0,0,0,0,0,0,0,0,0,0,0,0,0,0,0,0,0,0,0,0,0,0,0,0,0,0,0,0,0,0,0,0,0]
["OutputActivityRatio","RE1","DEMTRAMCYGSL",null,1,"HFO",null,null,null,null,0,0,0,0,0,0,0,0,0,0,0,0,0,0,0,0,0,0,0,0,0,0,0,0,0,0,0,0,0,0,0,0,0,0,0,0,0,0,0,0,0,0,0,0,0,0,0,0,0,0,0,0,0,0,0,0]
["OutputActivityRatio","RE1","DEMTRACARGSL",null,1,"COM037",null,null,null,null,0,0,0,0,0,0,0,0,0,0,0,0,0,0,0,0,0,0,0,0,0,0,0,0,0,0,0,0,0,0,0,0,0,0,0,0,0,0,0,0,0,0,0,0,0,0,0,0,0,0,0,0,0,0,0,0]
["OutputActivityRatio","RE1","INDENEFFDP",null,1,"OIL",null,null,null,null,0,0,0,0,0,0,0,0,0,0,0,0,0,0,0,0,0,0,0,0,0,0,0,0,0,0,0,0,0,0,0,0,0,0,0,0,0,0,0,0,0,0,0,0,0,0,0,0,0,0,0,0,0,0,0,0]
["OutputActivityRatio","RE1","DEMINDHEEH",null,1,"ELC003",null,null,null,null,0,0,0,0,0,0,0,0,0,0,0,0,0,0,0,0,0,0,0,0,0,0,0,0,0,0,0,0,0,0,0,0,0,0,0,0,0,0,0,0,0,0,0,0,0,0,0,0,0,0,0,0,0,0,0,0]
["OutputActivityRatio","RE1","DEMINDHEEL",null,1,"COM045",null,null,null,null,0,0,0,0,0,0,0,0,0,0,0,0,0,0,0,0,0,0,0,0,0,0,0,0,0,0,0,0,0,0,0,0,0,0,0,0,0,0,0,0,0,0,0,0,0,0,0,0,0,0,0,0,0,0,0,0]
["OutputActivityRatio","RE1","DEMINDHEBIO",null,1,"COM040",null,null,null,null,0,0,0,0,0,0,0,0,0,0,0,0,0,0,0,0,0,0,0,0,0,0,0,0,0,0,0,0,0,0,0,0,0,0,0,0,0,0,0,0,0,0,0,0,0,0,0,0,0,0,0,0,0,0,0,0]
["OutputActivityRatio","RE1","RESENEFFGD",null,1,"ELC003",null,null,null,null,0,0,0,0,0,0,0,0,0,0,0,0,0,0,0,0,0,0,0,0,0,0,0,0,0,0,0,0,0,0,0,0,0,0,0,0,0,0,0,0,0,0,0,0,0,0,0,0,0,0,0,0,0,0,0,0]
["OutputActivityRatio","RE1","DEMRESCKNELC",null,1,"COA",null,null,null,null,0,0,0,0,0,0,0,0,0,0,0,0,0,0,0,0,0,0,0,0,0,0,0,0,0,0,0,0,0,0,0,0,0,0,0,0,0,0,0,0,0,0,0,0,0,0,0,0,0,0,0,0,0,0,0,0]
["OutputActivityRatio","RE1","DEMRESCKNBIO",null,1,"COM048",null,null,null,null,0,0,0,0,0,0,0,0,0,0,0,0,0,0,0,0,0,0,0,0,0,0,0,0,0,0,0,0,0,0,0,0,0,0,0,0,0,0,0,0,0,0,0,0,0,0,0,0,0,0,0,0,0,0,0,0]
["OutputActivityRatio","RE1","DEMRESHEOIL",null,1,"COM029",null,null,null,null,0,0,0,0,0,0,0,0,0,0,0,0,0,0,0,0,0,0,0,0,0,0,0,0,0,0,0,0,0,0,0,0,0,0,0,0,0,0,0,0,0,0,0,0,0,0,0,0,0,0,0,0,0,0,0,0]
["OutputActivityRatio","RE1","DEMCOMELC",null,1,"COM039",null,null,null,null,0,0,0,0,0,0,0,0,0,0,0,0,0,0,0,0,0,0,0,0,0,0,0,0,0,0,0,0,0,0,0,0,0,0,0,0,0,0,0,0,0,0,0,0,0,0,0,0,0,0,0,0,0,0,0,0]
["OutputActivityRatio","RE1","COMENEFFGD",null,1,"URN",null,null,null,null,0,0,0,0,0,0,0,0,0,0,0,0,0,0,0,0,0,0,0,0,0,0,0,0,0,0,0,0,0,0,0,0,0,0,0,0,0,0,0,0,0,0,0,0,0,0,0,0,0,0,0,0,0,0,0,0]
["OutputActivityRatio","RE1","DEMCOMHEBIO",null,1,"COM037",null,null,null,null,0,0,0,0,0,0,0,0,0,0,0,0,0,0,0,0,0,0,0,0,0,0,0,0,0,0,0,0,0,0,0,0,0,0,0,0,0,0,0,0,0,0,0,0,0,0,0,0,0,0,0,0,0,0,0,0]
["OutputActivityRatio","RE1","BSTOPMCY",null,1,"COM029",null,null,null,null,0,0,0,0,0,0,0,0,0,0,0,0,0,0,0,0,0,0,0,0,0,0,0,0,0,0,0,0,0,0,0,0,0,0,0,0,0,0,0,0,0,0,0,0,0,0,0,0,0,0,0,0,0,0,0,0]
["OutputActivityRatio","RE1","BSTOPCAR",null,1,"TRABUS",null,null,null,null,0,0,0,0,0,0,0,0,0,0,0,0,0,0,0,0,0,0,0,0,0,0,0,0,0,0,0,0,0,0,0,0,0,0,0,0,0,0,0,0,0,0,0,0,0,0,0,0,0,0,0,0,0,0,0,0]
["OutputActivityRatio","RE1","BSTOPBUS",null,1,"COM049",null,null,null,null,0,0,0,0,0,0,0,0,0,0,0,0,0,0,0,0,0,0,0,0,0,0,0,0,0,0,0,0,0,0,0,0,0,0,0,0,0,0,0,0,0,0,0,0,0,0,0,0,0,0,0,0,0,0,0,0]
["OutputActivityRatio","RE1","BSTOPINDHEL",null,1,"COM044",null,null,null,null,0,0,0,0,0,0,0,0,0,0,0,0,0,0,0,0,0,0,0,0,0,0,0,0,0,0,0,0,0,0,0,0,0,0,0,0,0,0,0,0,0,0,0,0,0,0,0,0,0,0,0,0,0,0,0,0]
["OutputActivityRatio","RE1","BSTOPRESCKN",null,1,"SOL",null,null,null,null,0,0,0,0,0,0,0,0,0,0,0,0,0,0,0,0,0,0,0,0,0,0,0,0,0,0,0,0,0,0,0,0,0,0,0,0,0,0,0,0,0,0,0,0,0,0,0,0,0,0,0,0,0,0,0,0]
["OutputActivityRatio","RE1","BSTOPRESHEL",null,1,"COMELC",null,null,null,null,0,0,0,0,0,0,0,0,0,0,0,0,0,0,0,0,0,0,0,0,0,0,0,0,0,0,0,0,0,0,0,0,0,0,0,0,0,0,0,0,0,0,0,0,0,0,0,0,0,0,0,0,0,0,0,0]
["OutputActivityRatio","RE1","TEC088",null,1,"BIO",null,null,null,null,0,0,0,0,0,0,0,0,0,0,0,0,0,0,0,0,0,0,0,0,0,0,0,0,0,0,0,0,0,0,0,0,0,0,0,0,0,0,0,0,0,0,0,0,0,0,0,0,0,0,0,0,0,0,0,0]
["OutputActivityRatio","RE1","TEC089",null,1,"COM033",null,null,null,null,0,0,0,0,0,0,0,0,0,0,0,0,0,0,0,0,0,0,0,0,0,0,0,0,0,0,0,0,0,0,0,0,0,0,0,0,0,0,0,0,0,0,0,0,0,0,0,0,0,0,0,0,0,0,0,0]
["OutputActivityRatio","RE1","TEC090",null,1,"INDHEH",null,null,null,null,0,0,0,0,0,0,0,0,0,0,0,0,0,0,0,0,0,0,0,0,0,0,0,0,0,0,0,0,0,0,0,0,0,0,0,0,0,0,0,0,0,0,0,0,0,0,0,0,0,0,0,0,0,0,0,0]
["OutputActivityRatio","RE1","TEC092",null,1,"ELC003",null,null,null,null,0,0,0,0,0,0,0,0,0,0,0,0,0,0,0,0,0,0,0,0,0,0,0,0,0,0,0,0,0,0,0,0,0,0,0,0,0,0,0,0,0,0,0,0,0,0,0,0,0,0,0,0,0,0,0,0]
["OutputActivityRatio","RE1","TEC095",null,1,"COM041",null,null,null,null,0,0,0,0,0,0,0,0,0,0,0,0,0,0,0,0,0,0,0,0,0,0,0,0,0,0,0,0,0,0,0,0,0,0,0,0,0,0,0,0,0,0,0,0,0,0,0,0,0,0,0,0,0,0,0,0]
["OutputActivityRatio","RE1","TEC096",null,1,"COM040",null,null,null,null,0,0,0,0,0,0,0,0,0,0,0,0,0,0,0,0,0,0,0,0,0,0,0,0,0,0,0,0,0,0,0,0,0,0,0,0,0,0,0,0,0,0,0,0,0,0,0,0,0,0,0,0,0,0,0,0]
["OutputActivityRatio","RE1","TEC098",null,1,"COM045",null,null,null,null,0,0,0,0,0,0,0,0,0,0,0,0,0,0,0,0,0,0,0,0,0,0,0,0,0,0,0,0,0,0,0,0,0,0,0,0,0,0,0,0,0,0,0,0,0,0,0,0,0,0,0,0,0,0,0,0]
["OutputActivityRatio","RE1","TEC101",null,1,"TRACAR",null,null,null,null,0,0,0,0,0,0,0,0,0,0,0,0,0,0,0,0,0,0,0,0,0,0,0,0,0,0,0,0,0,0,0,0,0,0,0,0,0,0,0,0,0,0,0,0,0,0,0,0,0,0,0,0,0,0,0,0]
["OutputActivityRatio","RE1","TEC102",null,1,"COM048",null,null,null,null,0,0,0,0,0,0,0,0,0,0,0,0,0,0,0,0,0,0,0,0,0,0,0,0,0,0,0,0,0,0,0,0,0,0,0,0,0,0,0,0,0,0,0,0,0,0,0,0,0,0,0,0,0,0,0,0]
["OutputActivityRatio","RE1","TEC103",null,1,"COM050",null,null,null,null,0,0,0,0,0,0,0,0,0,0,0,0,0,0,0,0,0,0,0,0,0,0,0,0,0,0,0,0,0,0,0,0,0,0,0,0,0,0,0,0,0,0,0,0,0,0,0,0,0,0,0,0,0,0,0,0]
["OutputActivityRatio","RE1","TEC105",null,1,"COM029",null,null,null,null,0,0,0,0,0,0,0,0,0,0,0,0,0,0,0,0,0,0,0,0,0,0,0,0,0,0,0,0,0,0,0,0,0,0,0,0,0,0,0,0,0,0,0,0,0,0,0,0,0,0,0,0,0,0,0,0]
["OutputActivityRatio","RE1","TEC109",null,1,"HFO",null,null,null,null,0,0,0,0,0,0,0,0,0,0,0,0,0,0,0,0,0,0,0,0,0,0,0,0,0,0,0,0,0,0,0,0,0,0,0,0,0,0,0,0,0,0,0,0,0,0,0,0,0,0,0,0,0,0,0,0]
["OutputActivityRatio","RE1","TEC110",null,1,"NGS",null,null,null,null,0,0,0,0,0,0,0,0,0,0,0,0,0,0,0,0,0,0,0,0,0,0,0,0,0,0,0,0,0,0,0,0,0,0,0,0,0,0,0,0,0,0,0,0,0,0,0,0,0,0,0,0,0,0,0,0]
["OutputActivityRatio","RE1","TEC113",null,1,"URN",null,null,null,null,0,0,0,0,0,0,0,0,0,0,0,0,0,0,0,0,0,0,0,0,0,0,0,0,0,0,0,0,0,0,0,0,0,0,0,0,0,0,0,0,0,0,0,0,0,0,0,0,0,0,0,0,0,0,0,0]
["OutputActivityRatio","RE1","TEC113",null,1,"TRABUS",null,null,null,null,0,0,0,0,0,0,0,0,0,0,0,0,0,0,0,0,0,0,0,0,0,0,0,0,0,0,0,0,0,0,0,0,0,0,0,0,0,0,0,0,0,0,0,0,0,0,0,0,0,0,0,0,0,0,0,0]
["OutputActivityRatio","RE1","TEC116",null,1,"ELC002",null,null,null,null,0,0,0,0,0,0,0,0,0,0,0,0,0,0,0,0,0,0,0,0,0,0,0,0,0,0,0,0,0,0,0,0,0,0,0,0,0,0,0,0,0,0,0,0,0,0,0,0,0,0,0,0,0,0,0,0]
["OutputActivityRatio","RE1","TEC117",null,1,"COM044",null,null,null,null,0,0,0,0,0,0,0,0,0,0,0,0,0,0,0,0,0,0,0,0,0,0,0,0,0,0,0,0,0,0,0,0,0,0,0,0,0,0,0,0,0,0,0,0,0,0,0,0,0,0,0,0,0,0,0,0]
["OutputActivityRatio","RE1","TEC119",null,1,"COM038",null,null,null,null,0,0,0,0,0,0,0,0,0,0,0,0,0,0,0,0,0,0,0,0,0,0,0,0,0,0,0,0,0,0,0,0,0,0,0,0,0,0,0,0,0,0,0,0,0,0,0,0,0,0,0,0,0,0,0,0]
["OutputActivityRatio","RE1","TEC122",null,1,"INDHEL",null,null,null,null,0,0,0,0,0,0,0,0,0,0,0,0,0,0,0,0,0,0,0,0,0,0,0,0,0,0,0,0,0,0,0,0,0,0,0,0,0,0,0,0,0,0,0,0,0,0,0,0,0,0,0,0,0,0,0,0]
["OutputActivityRatio","RE1","TEC124",null,1,"BIO",null,null,null,null,0,0,0,0,0,0,0,0,0,0,0,0,0,0,0,0,0,0,0,0,0,0,0,0,0,0,0,0,0,0,0,0,0,0,0,0,0,0,0,0,0,0,0,0,0,0,0,0,0,0,0,0,0,0,0,0]
["OutputActivityRatio","RE1","TEC125",null,1,"OIL",null,null,null,null,0,0,0,0,0,0,0,0,0,0,0,0,0,0,0,0,0,0,0,0,0,0,0,0,0,0,0,0,0,0,0,0,0,0,0,0,0,0,0,0,0,0,0,0,0,0,0,0,0,0,0,0,0,0,0,0]
["OutputActivityRatio","RE1","TEC127",null,1,"OIL",null,null,null,null,0,0,0,0,0,0,0,0,0,0,0,0,0,0,0,0,0,0,0,0,0,0,0,0,0,0,0,0,0,0,0,0,0,0,0,0,0,0,0,0,0,0,0,0,0,0,0,0,0,0,0,0,0,0,0,0]
["OutputActivityRatio","RE1","TEC130",null,1,"URN",null,null,null,null,0,0,0,0,0,0,0,0,0,0,0,0,0,0,0,0,0,0,0,0,0,0,0,0,0,0,0,0,0,0,0,0,0,0,0,0,0,0,0,0,0,0,0,0,0,0,0,0,0,0,0,0,0,0,0,0]
["OutputActivityRatio","RE1","TEC131",null,1,"WND",null,null,null,null,0,0,0,0,0,0,0,0,0,0,0,0,0,0,0,0,0,0,0,0,0,0,0,0,0,0,0,0,0,0,0,0,0,0,0,0,0,0,0,0,0,0,0,0,0,0,0,0,0,0,0,0,0,0,0,0]
["OutputActivityRatio","RE1","TEC132",null,1,"COM040",null,null,null,null,0,0,0,0,0,0,0,0,0,0,0,0,0,0,0,0,0,0,0,0,0,0,0,0,0,0,0,0,0,0,0,0,0,0,0,0,0,0,0,0,0,0,0,0,0,0,0,0,0,0,0,0,0,0,0,0]
["OutputActivityRatio","RE1","TEC135",null,1,"COMHEL",null,null,null,null,0,0,0,0,0,0,0,0,0,0,0,0,0,0,0,0,0,0,0,0,0,0,0,0,0,0,0,0,0,0,0,0,0,0,0,0,0,0,0,0,0,0,0,0,0,0,0,0,0,0,0,0,0,0,0,0]
["OutputActivityRatio","RE1","TEC137",null,1,"TRACAR",null,null,null,null,0,0,0,0,0,0,0,0,0,0,0,0,0,0,0,0,0,0,0,0,0,0,0,0,0,0,0,0,0,0,0,0,0,0,0,0,0,0,0,0,0,0,0,0,0,0,0,0,0,0,0,0,0,0,0,0]
["OutputActivityRatio","RE1","TEC138",null,1,"COM048",null,null,null,null,0,0,0,0,0,0,0,0,0,0,0,0,0,0,0,0,0,0,0,0,0,0,0,0,0,0,0,0,0,0,0,0,0,0,0,0,0,0,0,0,0,0,0,0,0,0,0,0,0,0,0,0,0,0,0,0]
["OutputActivityRatio","RE1","TEC141",null,1,"TRAMCY",null,null,null,null,0,0,0,0,0,0,0,0,0,0,0,0,0,0,0,0,0,0,0,0,0,0,0,0,0,0,0,0,0,0,0,0,0,0,0,0,0,0,0,0,0,0,0,0,0,0,0,0,0,0,0,0,0,0,0,0]
["OutputActivityRatio","RE1","TEC143",null,1,"COMELC",null,null,null,null,0,0,0,0,0,0,0,0,0,0,0,0,0,0,0,0,0,0,0,0,0,0,0,0,0,0,0,0,0,0,0,0,0,0,0,0,0,0,0,0,0,0,0,0,0,0,0,0,0,0,0,0,0,0,0,0]
["OutputActivityRatio","RE1","TEC145",null,1,"HFO",null,null,null,null,0,0,0,0,0,0,0,0,0,0,0,0,0,0,0,0,0,0,0,0,0,0,0,0,0,0,0,0,0,0,0,0,0,0,0,0,0,0,0,0,0,0,0,0,0,0,0,0,0,0,0,0,0,0,0,0]
["OutputActivityRatio","RE1","TEC146",null,1,"NGS",null,null,null,null,0,0,0,0,0,0,0,0,0,0,0,0,0,0,0,0,0,0,0,0,0,0,0,0,0,0,0,0,0,0,0,0,0,0,0,0,0,0,0,0,0,0,0,0,0,0,0,0,0,0,0,0,0,0,0,0]
["OutputActivityRatio","RE1","TEC149",null,1,"COM041",null,null,null,null,0,0,0,0,0,0,0,0,0,0,0,0,0,0,0,0,0,0,0,0,0,0,0,0,0,0,0,0,0,0,0,0,0,0,0,0,0,0,0,0,0,0,0,0,0,0,0,0,0,0,0,0,0,0,0,0]
["OutputActivityRatio","RE1","TEC150",null,1,"COM032",null,null,null,null,0,0,0,0,0,0,0,0,0,0,0,0,0,0,0,0,0,0,0,0,0,0,0,0,0,0,0,0,0,0,0,0,0,0,0,0,0,0,0,0,0,0,0,0,0,0,0,0,0,0,0,0,0,0,0,0]
["OutputActivityRatio","RE1","TEC152",null,1,"ELC002",null,null,null,null,0,0,0,0,0,0,0,0,0,0,0,0,0,0,0,0,0,0,0,0,0,0,0,0,0,0,0,0,0,0,0,0,0,0,0,0,0,0,0,0,0,0,0,0,0,0,0,0,0,0,0,0,0,0,0,0]
["OutputActivityRatio","RE1","TEC153",null,1,"COM044",null,null,null,null,0,0,0,0,0,0,0,0,0,0,0,0,0,0,0,0,0,0,0,0,0,0,0,0,0,0,0,0,0,0,0,0,0,0,0,0,0,0,0,0,0,0,0,0,0,0,0,0,0,0,0,0,0,0,0,0]
["OutputActivityRatio","RE1","TEC157",null,1,"LFO",null,null,null,null,0,0,0,0,0,0,0,0,0,0,0,0,0,0,0,0,0,0,0,0,0,0,0,0,0,0,0,0,0,0,0,0,0,0,0,0,0,0,0,0,0,0,0,0,0,0,0,0,0,0,0,0,0,0,0,0]
["OutputActivityRatio","RE1","TEC158",null,1,"INDHEL",null,null,null,null,0,0,0,0,0,0,0,0,0,0,0,0,0,0,0,0,0,0,0,0,0,0,0,0,0,0,0,0,0,0,0,0,0,0,0,0,0,0,0,0,0,0,0,0,0,0,0,0,0,0,0,0,0,0,0,0]
["OutputActivityRatio","RE1","TEC160",null,1,"BIO",null,null,null,null,0,0,0,0,0,0,0,0,0,0,0,0,0,0,0,0,0,0,0,0,0,0,0,0,0,0,0,0,0,0,0,0,0,0,0,0,0,0,0,0,0,0,0,0,0,0,0,0,0,0,0,0,0,0,0,0]
["OutputActivityRatio","RE1","TEC162",null,1,"COM047",null,null,null,null,0,0,0,0,0,0,0,0,0,0,0,0,0,0,0,0,0,0,0,0,0,0,0,0,0,0,0,0,0,0,0,0,0,0,0,0,0,0,0,0,0,0,0,0,0,0,0,0,0,0,0,0,0,0,0,0]
["OutputActivityRatio","RE1","TEC163",null,1,"COM032",null,null,null,null,0,0,0,0,0,0,0,0,0,0,0,0,0,0,0,0,0,0,0,0,0,0,0,0,0,0,0,0,0,0,0,0,0,0,0,0,0,0,0,0,0,0,0,0,0,0,0,0,0,0,0,0,0,0,0,0]
["OutputActivityRatio","RE1","TEC165",null,1,"COM028",null,null,null,null,0,0,0,0,0,0,0,0,0,0,0,0,0,0,0,0,0,0,0,0,0,0,0,0,0,0,0,0,0,0,0,0,0,0,0,0,0,0,0,0,0,0,0,0,0,0,0,0,0,0,0,0,0,0,0,0]
["OutputActivityRatio","RE1","TEC167",null,1,"WND",null,null,null,null,0,0,0,0,0,0,0,0,0,0,0,0,0,0,0,0,0,0,0,0,0,0,0,0,0,0,0,0,0,0,0,0,0,0,0,0,0,0,0,0,0,0,0,0,0,0,0,0,0,0,0,0,0,0,0,0]
["OutputActivityRatio","RE1","TEC170",null,1,"COM036",null,null,null,null,0,0,0,0,0,0,0,0,0,0,0,0,0,0,0,0,0,0,0,0,0,0,0,0,0,0,0,0,0,0,0,0,0,0,0,0,0,0,0,0,0,0,0,0,0,0,0,0,0,0,0,0,0,0,0,0]
["OutputActivityRatio","RE1","TEC172",null,1,"COM042",null,null,null,null,0,0,0,0,0,0,0,0,0,0,0,0,0,0,0,0,0,0,0,0,0,0,0,0,0,0,0,0,0,0,0,0,0,0,0,0,0,0,0,0,0,0,0,0,0,0,0,0,0,0,0,0,0,0,0,0]
["OutputActivityRatio","RE1","TEC173",null,1,"TRACAR",null,null,null,null,0,0,0,0,0,0,0,0,0,0,0,0,0,0,0,0,0,0,0,0,0,0,0,0,0,0,0,0,0,0,0,0,0,0,0,0,0,0,0,0,0,0,0,0,0,0,0,0,0,0,0,0,0,0,0,0]
["OutputActivityRatio","RE1","TEC174",null,1,"COM048",null,null,null,null,0,0,0,0,0,0,0,0,0,0,0,0,0,0,0,0,0,0,0,0,0,0,0,0,0,0,0,0,0,0,0,0,0,0,0,0,0,0,0,0,0,0,0,0,0,0,0,0,0,0,0,0,0,0,0,0]
["OutputActivityRatio","RE1","TEC177",null,1,"COM047",null,null,null,null,0,0,0,0,0,0,0,0,0,0,0,0,0,0,0,0,0,0,0,0,0,0,0,0,0,0,0,0,0,0,0,0,0,0,0,0,0,0,0,0,0,0,0,0,0,0,0,0,0,0,0,0,0,0,0,0]
["OutputActivityRatio","RE1","TEC179",null,1,"COMELC",null,null,null,null,0,0,0,0,0,0,0,0,0,0,0,0,0,0,0,0,0,0,0,0,0,0,0,0,0,0,0,0,0,0,0,0,0,0,0,0,0,0,0,0,0,0,0,0,0,0,0,0,0,0,0,0,0,0,0,0]
["OutputActivityRatio","RE1","TEC182",null,1,"INDHEH",null,null,null,null,0,0,0,0,0,0,0,0,0,0,0,0,0,0,0,0,0,0,0,0,0,0,0,0,0,0,0,0,0,0,0,0,0,0,0,0,0,0,0,0,0,0,0,0,0,0,0,0,0,0,0,0,0,0,0,0]
["OutputActivityRatio","RE1","TEC184",null,1,"OIL",null,null,null,null,0,0,0,0,0,0,0,0,0,0,0,0,0,0,0,0,0,0,0,0,0,0,0,0,0,0,0,0,0,0,0,0,0,0,0,0,0,0,0,0,0,0,0,0,0,0,0,0,0,0,0,0,0,0,0,0]
["OutputActivityRatio","RE1","TEC184",null,1,"COMELC",null,null,null,null,0,0,0,0,0,0,0,0,0,0,0,0,0,0,0,0,0,0,0,0,0,0,0,0,0,0,0,0,0,0,0,0,0,0,0,0,0,0,0,0,0,0,0,0,0,0,0,0,0,0,0,0,0,0,0,0]
["OutputActivityRatio","RE1","TEC186",null,1,"COM032",null,null,null,null,0,0,0,0,0,0,0,0,0,0,0,0,0,0,0,0,0,0,0,0,0,0,0,0,0,0,0,0,0,0,0,0,0,0,0,0,0,0,0,0,0,0,0,0,0,0,0,0,0,0,0,0,0,0,0,0]
["OutputActivityRatio","RE1","TEC190",null,1,"WND",null,null,null,null,0,0,0,0,0,0,0,0,0,0,0,0,0,0,0,0,0,0,0,0,0,0,0,0,0,0,0,0,0,0,0,0,0,0,0,0,0,0,0,0,0,0,0,0,0,0,0,0,0,0,0,0,0,0,0,0]
["OutputActivityRatio","RE1","TEC191",null,1,"HYD",null,null,null,null,0,0,0,0,0,0,0,0,0,0,0,0,0,0,0,0,0,0,0,0,0,0,0,0,0,0,0,0,0,0,0,0,0,0,0,0,0,0,0,0,0,0,0,0,0,0,0,0,0,0,0,0,0,0,0,0]
["OutputActivityRatio","RE1","TEC193",null,1,"COM035",null,null,null,null,0,0,0,0,0,0,0,0,0,0,0,0,0,0,0,0,0,0,0,0,0,0,0,0,0,0,0,0,0,0,0,0,0,0,0,0,0,0,0,0,0,0,0,0,0,0,0,0,0,0,0,0,0,0,0,0]
["OutputActivityRatio","RE1","TEC194",null,1,"INDHEL",null,null,null,null,0,0,0,0,0,0,0,0,0,0,0,0,0,0,0,0,0,0,0,0,0,0,0,0,0,0,0,0,0,0,0,0,0,0,0,0,0,0,0,0,0,0,0,0,0,0,0,0,0,0,0,0,0,0,0,0]
["OutputActivityRatio","RE1","TEC197",null,1,"TRAMCY",null,null,null,null,0,0,0,0,0,0,0,0,0,0,0,0,0,0,0,0,0,0,0,0,0,0,0,0,0,0,0,0,0,0,0,0,0,0,0,0,0,0,0,0,0,0,0,0,0,0,0,0,0,0,0,0,0,0,0,0]
["OutputActivityRatio","RE1","TEC198",null,1,"COM047",null,null,null,null,0,0,0,0,0,0,0,0,0,0,0,0,0,0,0,0,0,0,0,0,0,0,0,0,0,0,0,0,0,0,0,0,0,0,0,0,0,0,0,0,0,0,0,0,0,0,0,0,0,0,0,0,0,0,0,0]
["RETagTechnology","RE1","MINNGS",null,null,null,null,null,null,null,0,0,0,0,0,0,0,0,0,0,0,0,0,0,0,0,0,0,0,0,0,0,0,0,0,0,0,0,0,0,0,0,0,0,0,0,0,0,0,0,0,0,0,0,0,0,0,0,0,0,0,0,0,0,0,0]
["RETagTechnology","RE1","TEC172",null,null,null,null,null,null,null,0,0,0,0,0,0,0,0,0,0,0,0,0,0,0,0,0,0,0,0,0,0,0,0,0,0,0,0,0,0,0,0,0,0,0,0,0,0,0,0,0,0,0,0,0,0,0,0,0,0,0,0,0,0,0,0]
["ReserveMarginTagTechnology","RE1","MINBIO",null,null,null,null,null,null,null,0,0,0,0,0,0,0,0,0,0,0,0,0,0,0,0,0,0,0,0,0,0,0,0,0,0,0,0,0,0,0,0,0,0,0,0,0,0,0,0,0,0,0,0,0,0,0,0,0,0,0,0,0,0,0,0]
["ReserveMarginTagTechnology","RE1","DEMTRABUSGSL",null,null,null,null,null,null,null,0,0,0,0,0,0,0,0,0,0,0,0,0,0,0,0,0,0,0,0,0,0,0,0,0,0,0,0,0,0,0,0,0,0,0,0,0,0,0,0,0,0,0,0,0,0,0,0,0,0,0,0,0,0,0,0]
["ResidualCapacity","RE1","PWROHC001",null,null,null,null,null,null,null,0,0,0,0,0,0,0,0,0,0,0,0,0,0,0,0,0,0,0,0,0,0,0,0,0,0,0,0,0,0,0,0,0,0,0,0,0,0,0,0,0,0,0,0,0,0,0,0,0,0,0,0,0,0,0,0]
["ResidualCapacity","RE1","TEC112",null,null,null,null,null,null,null,0,0,0,0,0,0,0,0,0,0,0,0,0,0,0,0,0,0,0,0,0,0,0,0,0,0,0,0,0,0,0,0,0,0,0,0,0,0,0,0,0,0,0,0,0,0,0,0,0,0,0,0,0,0,0,0]
["ResidualCapacity","RE1","TEC161",null,null,null,null,null,null,null,0,0,0,0,0,0,0,0,0,0,0,0,0,0,0,0,0,0,0,0,0,0,0,0,0,0,0,0,0,0,0,0,0,0,0,0,0,0,0,0,0,0,0,0,0,0,0,0,0,0,0,0,0,0,0,0]
["SpecifiedDemandProfile","RE1",null,null,null,"OIL","S205",null,null,null,0,0,0,0,0,0,0,0,0,0,0,0,0,0,0,0,0,0,0,0,0,0,0,0,0,0,0,0,0,0,0,0,0,0,0,0,0,0,0,0,0,0,0,0,0,0,0,0,0,0,0,0,0,0,0,0]
["SpecifiedDemandProfile","RE1",null,null,null,"BIO","S220",null,null,null,0,0,0,0,0,0,0,0,0,0,0,0,0,0,0,0,0,0,0,0,0,0,0,0,0,0,0,0,0,0,0,0,0,0,0,0,0,0,0,0,0,0,0,0,0,0,0,0,0,0,0,0,0,0,0,0]
["SpecifiedDemandProfile","RE1",null,null,null,"COA","S205",null,null,null,0,0,0,0,0,0,0,0,0,0,0,0,0,0,0,0,0,0,0,0,0,0,0,0,0,0,0,0,0,0,0,0,0,0,0,0,0,0,0,0,0,0,0,0,0,0,0,0,0,0,0,0,0,0,0,0]
["SpecifiedDemandProfile","RE1",null,null,null,"LFO","S114",null,null,null,0,0,0,0,0,0,0,0,0,0,0,0,0,0,0,0,0,0,0,0,0,0,0,0,0,0,0,0,0,0,0,0,0,0,0,0,0,0,0,0,0,0,0,0,0,0,0,0,0,0,0,0,0,0,0,0]
["SpecifiedDemandProfile","RE1",null,null,null,"NGS","S108",null,null,null,0,0,0,0,0,0,0,0,0,0,0,0,0,0,0,0,0,0,0,0,0,0,0,0,0,0,0,0,0,0,0,0,0,0,0,0,0,0,0,0,0,0,0,0,0,0,0,0,0,0,0,0,0,0,0,0]
["SpecifiedDemandProfile","RE1",null,null,null,"HFO","S301",null,null,null,0,0,0,0,0,0,0,0,0,0,0,0,0,0,0,0,0,0,0,0,0,0,0,0,0,0,0,0,0,0,0,0,0,0,0,0,0,0,0,0,0,0,0,0,0,0,0,0,0,0,0,0,0,0,0,0]
["SpecifiedDemandProfile","RE1",null,null,null,"SOL","S210",null,null,null,0,0,0,0,0,0,0,0,0,0,0,0,0,0,0,0,0,0,0,0,0,0,0,0,0,0,0,0,0,0,0,0,0,0,0,0,0,0,0,0,0,0,0,0,0,0,0,0,0,0,0,0,0,0,0,0]
["SpecifiedDemandProfile","RE1",null,null,null,"SOL","S411",null,null,null,0,0,0,0,0,0,0,0,0,0,0,0,0,0,0,0,0,0,0,0,0,0,0,0,0,0,0,0,0,0,0,0,0,0,0,0,0,0,0,0,0,0,0,0,0,0,0,0,0,0,0,0,0,0,0,0]
["SpecifiedDemandProfile","RE1",null,null,null,"WND","S301",null,null,null,0,0,0,0,0,0,0,0,0,0,0,0,0,0,0,0,0,0,0,0,0,0,0,0,0,0,0,0,0,0,0,0,0,0,0,0,0,0,0,0,0,0,0,0,0,0,0,0,0,0,0,0,0,0,0,0]
["SpecifiedDemandProfile","RE1",null,null,null,"URN","S122",null,null,null,0,0,0,0,0,0,0,0,0,0,0,0,0,0,0,0,0,0,0,0,0,0,0,0,0,0,0,0,0,0,0,0,0,0,0,0,0,0,0,0,0,0,0,0,0,0,0,0,0,0,0,0,0,0,0,0]
["SpecifiedDemandProfile","RE1",null,null,null,"GEO","S107",null,null,null,0,0,0,0,0,0,0,0,0,0,0,0,0,0,0,0,0,0,0,0,0,0,0,0,0,0,0,0,0,0,0,0,0,0,0,0,0,0,0,0,0,0,0,0,0,0,0,0,0,0,0,0,0,0,0,0]
["SpecifiedDemandProfile","RE1",null,null,null,"GEO","S416",null,null,null,0,0,0,0,0,0,0,0,0,0,0,0,0,0,0,0,0,0,0,0,0,0,0,0,0,0,0,0,0,0,0,0,0,0,0,0,0,0,0,0,0,0,0,0,0,0,0,0,0,0,0,0,0,0,0,0]
["SpecifiedDemandProfile","RE1",null,null,null,"ELC002","S204",null,null,null,0,0,0,0,0,0,0,0,0,0,0,0,0,0,0,0,0,0,0,0,0,0,0,0,0,0,0,0,0,0,0,0,0,0,0,0,0,0,0,0,0,0,0,0,0,0,0,0,0,0,0,0,0,0,0,0]
["SpecifiedDemandProfile","RE1",null,null,null,"ELC003","S203",null,null,null,0,0,0,0,0,0,0,0,0,0,0,0,0,0,0,0,0,0,0,0,0,0,0,0,0,0,0,0,0,0,0,0,0,0,0,0,0,0,0,0,0,0,0,0,0,0,0,0,0,0,0,0,0,0,0,0]
["SpecifiedDemandProfile","RE1",null,null,null,"ELCEV","S112",null,null,null,0,0,0,0,0,0,0,0,0,0,0,0,0,0,0,0,0,0,0,0,0,0,0,0,0,0,0,0,0,0,0,0,0,0,0,0,0,0,0,0,0,0,0,0,0,0,0,0,0,0,0,0,0,0,0,0]
["SpecifiedDemandProfile","RE1",null,null,null,"ELCEV","S419",null,null,null,0,0,0,0,0,0,0,0,0,0,0,0,0,0,0,0,0,0,0,0,0,0,0,0,0,0,0,0,0,0,0,0,0,0,0,0,0,0,0,0,0,0,0,0,0,0,0,0,0,0,0,0,0,0,0,0]
["SpecifiedDemandProfile","RE1",null,null,null,"TRACAR","S223",null,null,null,0,0,0,0,0,0,0,0,0,0,0,0,0,0,0,0,0,0,0,0,0,0,0,0,0,0,0,0,0,0,0,0,0,0,0,0,0,0,0,0,0,0,0,0,0,0,0,0,0,0,0,0,0,0,0,0]
["SpecifiedDemandProfile","RE1",null,null,null,"TRACAR","S424",null,null,null,0,0,0,0,0,0,0,0,0,0,0,0,0,0,0,0,0,0,0,0,0,0,0,0,0,0,0,0,0,0,0,0,0,0,0,0,0,0,0,0,0,0,0,0,0,0,0,0,0,0,0,0,0,0,0,0]
["SpecifiedDemandProfile","RE1",null,null,null,"TRABUS","S409",null,null,null,0,0,0,0,0,0,0,0,0,0,0,0,0,0,0,0,0,0,0,0,0,0,0,0,0,0,0,0,0,0,0,0,0,0,0,0,0,0,0,0,0,0,0,0,0,0,0,0,0,0,0,0,0,0,0,0]
["SpecifiedDemandProfile","RE1",null,null,null,"INDHEH","S212",null,null,null,0,0,0,0,0,0,0,0,0,0,0,0,0,0,0,0,0,0,0,0,0,0,0,0,0,0,0,0,0,0,0,0,0,0,0,0,0,0,0,0,0,0,0,0,0,0,0,0,0,0,0,0,0,0,0,0]
["SpecifiedDemandProfile","RE1",null,null,null,"INDHEL","S120",null,null,null,0,0,0,0,0,0,0,0,0,0,0,0,0,0,0,0,0,0,0,0,0,0,0,0,0,0,0,0,0,0,0,0,0,0,0,0,0,0,0,0,0,0,0,0,0,0,0,0,0,0,0,0,0,0,0,0]
["SpecifiedDemandProfile","RE1",null,null,null,"RESELC","S105",null,null,null,1.0462456903179601E-2,1.0462456903179601E-2,1.0462456903179601E-2,1.0462456903179601E-2,1.0462456903179601E-2,1.0462456903179601E-2,1.0462456903179601E-2,1.0462456903179601E-2,1.0462456903179601E-2,1.0462456903179601E-2,1.0462456903179601E-2,1.0462456903179601E-2,1.0462456903179601E-2,1.0462456903179601E-2,1.0462456903179601E-2,1.0462456903179601E-2,1.0462456903179601E-2,1.0462456903179601E-2,1.0462456903179601E-2,1.0462456903179601E-2,1.0462456903179601E-2,1.0462456903179601E-2,1.0462456903179601E-2,1.0462456903179601E-2,1.0462456903179601E-2,1.0462456903179601E-2,1.0462456903179601E-2,1.0462456903179601E-2,1.0462456903179601E-2,1.0462456903179601E-2,1.0462456903179601E-2,1.0462456903179601E-2,1.0462456903179601E-2,1.0462456903179601E-2,1.0462456903179601E-2,1.0462456903179601E-2,1.0462456903179601E-2,1.0462456903179601E-2,1.0462456903179601E-2,1.0462456903179601E-2,1.0462456903179601E-2,1.0462456903179601E-2,1.0462456903179601E-2,1.0462456903179601E-2,1.0462456903179601E-2,1.0462456903179601E-2,1.0462456903179601E-2,1.0462456903179601E-2,1.0462456903179601E-2,1.0462456903179601E-2,1.0462456903179601E-2,1.0462456903179601E-2,1.0462456903179601E-2,1.0462456903179601E-2,1.0462456903179601E-2,1.0462456903179601E-2]
["SpecifiedDemandProfile","RE1",null,null,null,"RESCKN","S306",null,null,null,0,0,0,0,0,0,0,0,0,0,0,0,0,0,0,0,0,0,0,0,0,0,0,0,0,0,0,0,0,0,0,0,0,0,0,0,0,0,0,0,0,0,0,0,0,0,0,0,0,0,0,0,0,0,0,0]
["SpecifiedDemandProfile","RE1",null,null,null,"RESHEL","S115",null,null,null,0,0,0,0,0,0,0,0,0,0,0,0,0,0,0,0,0,0,0,0,0,0,0,0,0,0,0,0,0,0,0,0,0,0,0,0,0,0,0,0,0,0,0,0,0,0,0,0,0,0,0,0,0,0,0,0]
["SpecifiedDemandProfile","RE1",null,null,null,"COMELC","S201",null,null,null,1.05948580945051E-2,1.05948580945051E-2,1.05948580945051E-2,1.05948580945051E-2,1.05948580945051E-2,1.05948580945051E-2,1.05948580945051E-2,1.05948580945051E-2,1.05948580945051E-2,1.05948580945051E-2,1.05948580945051E-2,1.05948580945051E-2,1.05948580945051E-2,1.05948580945051E-2,1.05948580945051E-2,1.05948580945051E-2,1.05948580945051E-2,1.05948580945051E-2,1.05948580945051E-2,1.05948580945051E-2,1.05948580945051E-2,1.05948580945051E-2,1.05948580945051E-2,1.05948580945051E-2,1.05948580945051E-2,1.05948580945051E-2,1.05948580945051E-2,1.05948580945051E-2,1.05948580945051E-2,1.05948580945051E-2,1.05948580945051E-2,1.05948580945051E-2,1.05948580945051E-2,1.05948580945051E-2,1.05948580945051E-2,1.05948580945051E-2,1.05948580945051E-2,1.05948580945051E-2,1.05948580945051E-2,1.05948580945051E-2,1.05948580945051E-2,1.05948580945051E-2,1.05948580945051E-2,1.05948580945051E-2,1.05948580945051E-2,1.05948580945051E-2,1.05948580945051E-2,1.05948580945051E-2,1.05948580945051E-2,1.05948580945051E-2,1.05948580945051E-2,1.05948580945051E-2,1.05948580945051E-2,1.05948580945051E-2,1.05948580945051E-2,1.05948580945051E-2]
["SpecifiedDemandProfile","RE1",null,null,null,"COMELC","S402",null,null,null,1.07248561093776E-2,1.07248561093776E-2,1.07248561093776E-2,1.07248561093776E-2,1.07248561093776E-2,1.07248561093776E-2,1.07248561093776E-2,1.07248561093776E-2,1.07248561093776E-2,1.07248561093776E-2,1.07248561093776E-2,1.07248561093776E-2,1.07248561093776E-2,1.07248561093776E-2,1.07248561093776E-2,1.07248561093776E-2,1.07248561093776E-2,1.07248561093776E-2,1.07248561093776E-2,1.07248561093776E-2,1.07248561093776E-2,1.07248561093776E-2,1.07248561093776E-2,1.07248561093776E-2,1.07248561093776E-2,1.07248561093776E-2,1.07248561093776E-2,1.07248561093776E-2,1.07248561093776E-2,1.07248561093776E-2,1.07248561093776E-2,1.07248561093776E-2,1.07248561093776E-2,1.07248561093776E-2,1.07248561093776E-2,1.07248561093776E-2,1.07248561093776E-2,1.07248561093776E-2,1.07248561093776E-2,1.07248561093776E-2,1.07248561093776E-2,1.07248561093776E-2,1.07248561093776E-2,1.07248561093776E-2,1.07248561093776E-2,1.07248561093776E-2,1.07248561093776E-2,1.07248561093776E-2,1.07248561093776E-2,1.07248561093776E-2,1.07248561093776E-2,1.07248561093776E-2,1.07248561093776E-2,1.07248561093776E-2,1.07248561093776E-2,1.07248561093776E-2]
["SpecifiedDemandProfile","RE1",null,null,null,"COM027","S311",null,null,null,0,0,0,0,0,0,0,0,0,0,0,0,0,0,0,0,0,0,0,0,0,0,0,0,0,0,0,0,0,0,0,0,0,0,0,0,0,0,0,0,0,0,0,0,0,0,0,0,0,0,0,0,0,0,0,0]
["SpecifiedDemandProfile","RE1",null,null,null,"COM028","S308",null,null,null,0,0,0,0,0,0,0,0,0,0,0,0,0,0,0,0,0,0,0,0,0,0,0,0,0,0,0,0,0,0,0,0,0,0,0,0,0,0,0,0,0,0,0,0,0,0,0,0,0,0,0,0,0,0,0,0]
["SpecifiedDemandProfile","RE1",null,null,null,"COM028","S422",null,null,null,0,0,0,0,0,0,0,0,0,0,0,0,0,0,0,0,0,0,0,0,0,0,0,0,0,0,0,0,0,0,0,0,0,0,0,0,0,0,0,0,0,0,0,0,0,0,0,0,0,0,0,0,0,0,0,0]
["SpecifiedDemandProfile","RE1",null,null,null,"COM029","S407",null,null,null,0,0,0,0,0,0,0,0,0,0,0,0,0,0,0,0,0,0,0,0,0,0,0,0,0,0,0,0,0,0,0,0,0,0,0,0,0,0,0,0,0,0,0,0,0,0,0,0,0,0,0,0,0,0,0,0]
["SpecifiedDemandProfile","RE1",null,null,null,"COM031","S208",null,null,null,0,0,0,0,0,0,0,0,0,0,0,0,0,0,0,0,0,0,0,0,0,0,0,0,0,0,0,0,0,0,0,0,0,0,0,0,0,0,0,0,0,0,0,0,0,0,0,0,0,0,0,0,0,0,0,0]
["SpecifiedDemandProfile","RE1",null,null,null,"COM032","S211",null,null,null,0,0,0,0,0,0,0,0,0,0,0,0,0,0,0,0,0,0,0,0,0,0,0,0,0,0,0,0,0,0,0,0,0,0,0,0,0,0,0,0,0,0,0,0,0,0,0,0,0,0,0,0,0,0,0,0]
["SpecifiedDemandProfile","RE1",null,null,null,"COM033","S103",null,null,null,0,0,0,0,0,0,0,0,0,0,0,0,0,0,0,0,0,0,0,0,0,0,0,0,0,0,0,0,0,0,0,0,0,0,0,0,0,0,0,0,0,0,0,0,0,0,0,0,0,0,0,0,0,0,0,0]
["SpecifiedDemandProfile","RE1",null,null,null,"COM034","S304",null,null,null,0,0,0,0,0,0,0,0,0,0,0,0,0,0,0,0,0,0,0,0,0,0,0,0,0,0,0,0,0,0,0,0,0,0,0,0,0,0,0,0,0,0,0,0,0,0,0,0,0,0,0,0,0,0,0,0]
["SpecifiedDemandProfile","RE1",null,null,null,"COM035","S102",null,null,null,0,0,0,0,0,0,0,0,0,0,0,0,0,0,0,0,0,0,0,0,0,0,0,0,0,0,0,0,0,0,0,0,0,0,0,0,0,0,0,0,0,0,0,0,0,0,0,0,0,0,0,0,0,0,0,0]
["SpecifiedDemandProfile","RE1",null,null,null,"COM036","S123",null,null,null,0,0,0,0,0,0,0,0,0,0,0,0,0,0,0,0,0,0,0,0,0,0,0,0,0,0,0,0,0,0,0,0,0,0,0,0,0,0,0,0,0,0,0,0,0,0,0,0,0,0,0,0,0,0,0,0]
["SpecifiedDemandProfile","RE1",null,null,null,"COM037","S324",null,null,null,0,0,0,0,0,0,0,0,0,0,0,0,0,0,0,0,0,0,0,0,0,0,0,0,0,0,0,0,0,0,0,0,0,0,0,0,0,0,0,0,0,0,0,0,0,0,0,0,0,0,0,0,0,0,0,0]
["SpecifiedDemandProfile","RE1",null,null,null,"COM038","S309",null,null,null,0,0,0,0,0,0,0,0,0,0,0,0,0,0,0,0,0,0,0,0,0,0,0,0,0,0,0,0,0,0,0,0,0,0,0,0,0,0,0,0,0,0,0,0,0,0,0,0,0,0,0,0,0,0,0,0]
["SpecifiedDemandProfile","RE1",null,null,null,"COM038","S405",null,null,null,0,0,0,0,0,0,0,0,0,0,0,0,0,0,0,0,0,0,0,0,0,0,0,0,0,0,0,0,0,0,0,0,0,0,0,0,0,0,0,0,0,0,0,0,0,0,0,0,0,0,0,0,0,0,0,0]
["SpecifiedDemandProfile","RE1",null,null,null,"COM039","S420",null,null,null,0,0,0,0,0,0,0,0,0,0,0,0,0,0,0,0,0,0,0,0,0,0,0,0,0,0,0,0,0,0,0,0,0,0,0,0,0,0,0,0,0,0,0,0,0,0,0,0,0,0,0,0,0,0,0,0]
["SpecifiedDemandProfile","RE1",null,null,null,"COM040","S405",null,null,null,0,0,0,0,0,0,0,0,0,0,0,0,0,0,0,0,0,0,0,0,0,0,0,0,0,0,0,0,0,0,0,0,0,0,0,0,0,0,0,0,0,0,0,0,0,0,0,0,0,0,0,0,0,0,0,0]
["SpecifiedDemandProfile","RE1",null,null,null,"COM042","S206",null,null,null,0,0,0,0,0,0,0,0,0,0,0,0,0,0,0,0,0,0,0,0,0,0,0,0,0,0,0,0,0,0,0,0,0,0,0,0,0,0,0,0,0,0,0,0,0,0,0,0,0,0,0,0,0,0,0,0]
["SpecifiedDemandProfile","RE1",null,null,null,"COM043","S122",null,null,null,0,0,0,0,0,0,0,0,0,0,0,0,0,0,0,0,0,0,0,0,0,0,0,0,0,0,0,0,0,0,0,0,0,0,0,0,0,0,0,0,0,0,0,0,0,0,0,0,0,0,0,0,0,0,0,0]
["SpecifiedDemandProfile","RE1",null,null,null,"COM044","S317",null,null,null,0,0,0,0,0,0,0,0,0,0,0,0,0,0,0,0,0,0,0,0,0,0,0,0,0,0,0,0,0,0,0,0,0,0,0,0,0,0,0,0,0,0,0,0,0,0,0,0,0,0,0,0,0,0,0,0]
["SpecifiedDemandProfile","RE1",null,null,null,"COM045","S302",null,null,null,0,0,0,0,0,0,0,0,0,0,0,0,0,0,0,0,0,0,0,0,0,0,0,0,0,0,0,0,0,0,0,0,0,0,0,0,0,0,0,0,0,0,0,0,0,0,0,0,0,0,0,0,0,0,0,0]
["SpecifiedDemandProfile","RE1",null,null,null,"COM046","S211",null,null,null,0,0,0,0,0,0,0,0,0,0,0,0,0,0,0,0,0,0,0,0,0,0,0,0,0,0,0,0,0,0,0,0,0,0,0,0,0,0,0,0,0,0,0,0,0,0,0,0,0,0,0,0,0,0,0,0]
["SpecifiedDemandProfile","RE1",null,null,null,"COM047","S101",null,null,null,0,0,0,0,0,0,0,0,0,0,0,0,0,0,0,0,0,0,0,0,0,0,0,0,0,0,0,0,0,0,0,0,0,0,0,0,0,0,0,0,0,0,0,0,0,0,0,0,0,0,0,0,0,0,0,0]
["SpecifiedDemandProfile","RE1",null,null,null,"COM048","S322",null,null,null,0,0,0,0,0,0,0,0,0,0,0,0,0,0,0,0,0,0,0,0,0,0,0,0,0,0,0,0,0,0,0,0,0,0,0,0,0,0,0,0,0,0,0,0,0,0,0,0,0,0,0,0,0,0,0,0]
["SpecifiedDemandProfile","RE1",null,null,null,"COM049","S307",null,null,null,0,0,0,0,0,0,0,0,0,0,0,0,0,0,0,0,0,0,0,0,0,0,0,0,0,0,0,0,0,0,0,0,0,0,0,0,0,0,0,0,0,0,0,0,0,0,0,0,0,0,0,0,0,0,0,0]
["SpecifiedDemandProfile","RE1",null,null,null,"COM050","S108",null,null,null,0,0,0,0,0,0,0,0,0,0,0,0,0,0,0,0,0,0,0,0,0,0,0,0,0,0,0,0,0,0,0,0,0,0,0,0,0,0,0,0,0,0,0,0,0,0,0,0,0,0,0,0,0,0,0,0]
["TotalAnnualMaxCapacity","RE1","PWROHC003",null,null,null,null,null,null,null,99999,99999,99999,99999,99999,99999,99999,99999,99999,99999,99999,99999,99999,99999,99999,99999,99999,99999,99999,99999,99999,99999,99999,99999,99999,99999,99999,99999,99999,99999,99999,99999,99999,99999,99999,99999,99999,99999,99999,99999,99999,99999,99999,99999,99999,99999,99999,99999,99999,99999,99999,99999,99999,99999,99999,99999]
["TotalAnnualMaxCapacity","RE1","TEC138",null,null,null,null,null,null,null,99999,99999,99999,99999,99999,99999,99999,99999,99999,99999,99999,99999,99999,99999,99999,99999,99999,99999,99999,99999,99999,99999,99999,99999,99999,99999,99999,99999,99999,99999,99999,99999,99999,99999,99999,99999,99999,99999,99999,99999,99999,99999,99999,99999,99999,99999,99999,99999,99999,99999,99999,99999,99999,99999,99999,99999]
["TotalAnnualMaxCapacityInvestment","RE1","TEC021",null,null,null,null,null,null,null,99999,99999,99999,99999,99999,99999,99999,99999,99999,99999,99999,99999,99999,99999,99999,99999,99999,99999,99999,99999,99999,99999,99999,99999,99999,99999,99999,99999,99999,99999,99999,99999,99999,99999,99999,99999,99999,99999,99999,99999,99999,99999,99999,99999,99999,99999,99999,99999,99999,99999,99999,99999,99999,99999,99999,99999]
["TotalAnnualMaxCapacityInvestment","RE1","TEC097",null,null,null,null,null,null,null,99999,99999,99999,99999,99999,99999,99999,99999,99999,99999,99999,99999,99999,99999,99999,99999,99999,99999,99999,99999,99999,99999,99999,99999,99999,99999,99999,99999,99999,99999,99999,99999,99999,99999,99999,99999,99999,99999,99999,99999,99999,99999,99999,99999,99999,99999,99999,99999,99999,99999,99999,99999,99999,99999,99999,99999]
["TotalAnnualMinCapacity","RE1","DEMTRACARELC",null,null,null,null,null,null,null,0,0,0,0,0,0,0,0,0,0,0,0,0,0,0,0,0,0,0,0,0,0,0,0,0,0,0,0,0,0,0,0,0,0,0,0,0,0,0,0,0,0,0,0,0,0,0,0,0,0,0,0,0,0,0,0]
["TotalAnnualMinCapacity","RE1","TEC129",null,null,null,null,null,null,null,0,0,0,0,0,0,0,0,0,0,0,0,0,0,0,0,0,0,0,0,0,0,0,0,0,0,0,0,0,0,0,0,0,0,0,0,0,0,0,0,0,0,0,0,0,0,0,0,0,0,0,0,0,0,0,0]
["TotalAnnualMinCapacity","RE1","TEC178",null,null,null,null,null,null,null,0,0,0,0,0,0,0,0,0,0,0,0,0,0,0,0,0,0,0,0,0,0,0,0,0,0,0,0,0,0,0,0,0,0,0,0,0,0,0,0,0,0,0,0,0,0,0,0,0,0,0,0,0,0,0,0]
["TotalAnnualMinCapacityInvestment","RE1","RESENEFFGD",null,null,null,null,null,null,null,0,0,0,0,0,0,0,0,0,0,0,0,0,0,0,0,0,0,0,0,0,0,0,0,0,0,0,0,0,0,0,0,0,0,0,0,0,0,0,0,0,0,0,0,0,0,0,0,0,0,0,0,0,0,0,0]
["TotalTechnologyAnnualActivityLowerLimit","RE1","PWRTRN",null,null,null,null,null,null,null,0,0,0,0,0,0,0,0,0,0,0,0,0,0,0,0,0,0,0,0,0,0,0,0,0,0,0,0,0,0,0,0,0,0,0,0,0,0,0,0,0,0,0,0,0,0,0,0,0,0,0,0,0,0,0,0]
["TotalTechnologyAnnualActivityLowerLimit","RE1","TEC088",null,null,null,null,null,null,null,0,0,0,0,0,0,0,0,0,0,0,0,0,0,0,0,0,0,0,0,0,0,0,0,0,0,0,0,0,0,0,0,0,0,0,0,0,0,0,0,0,0,0,0,0,0,0,0,0,0,0,0,0,0,0,0]
["TotalTechnologyAnnualActivityLowerLimit","RE1","TEC169",null,null,null,null,null,null,null,0,0,0,0,0,0,0,0,0,0,0,0,0,0,0,0,0,0,0,0,0,0,0,0,0,0,0,0,0,0,0,0,0,0,0,0,0,0,0,0,0,0,0,0,0,0,0,0,0,0,0,0,0,0,0,0]
["TotalTechnologyAnnualActivityUpperLimit","RE1","TEC089",null,null,null,null,null,null,null,99999,99999,99999,99999,99999,99999,99999,99999,99999,99999,99999,99999,99999,99999,99999,99999,99999,99999,99999,99999,99999,99999,99999,99999,99999,99999,99999,99999,99999,99999,99999,99999,99999,99999,99999,99999,99999,99999,99999,99999,99999,99999,99999,99999,99999,99999,99999,99999,99999,99999,99999,99999,99999,99999,99999,99999]
["TotalTechnologyAnnualActivityUpperLimit","RE1","TEC197",null,null,null,null,null,null,null,99999,99999,99999,99999,99999,99999,99999,99999,99999,99999,99999,99999,99999,99999,99999,99999,99999,99999,99999,99999,99999,99999,99999,99999,99999,99999,99999,99999,99999,99999,99999,99999,99999,99999,99999,99999,99999,99999,99999,99999,99999,99999,99999,99999,99999,99999,99999,99999,99999,99999,99999,99999,99999,99999,99999,99999]
["TotalTechnologyModelPeriodActivityLowerLimit","RE1","BSTOPINDELC",null,null,null,null,null,null,0]
["TotalTechnologyModelPeriodActivityUpperLimit","RE1","PWRNGS002",null,null,null,null,null,null,999999999]
["TotalTechnologyModelPeriodActivityUpperLimit","RE1","INDENEFFGD",null,null,null,null,null,null,999999999]
["TotalTechnologyModelPeriodActivityUpperLimit","RE1","TEC188",null,null,null,null,null,null,99999]
["TradeRoute","RE1",null,null,null,"COM039",null,null,"RE1",null,0,0,0,0,0,0,0,0,0,0,0,0,0,0,0,0,0,0,0,0,0,0,0,0,0,0,0,0,0,0,0,0,0,0,0,0,0,0,0,0,0,0,0,0,0,0,0,0,0,0,0,0,0,0,0,0]
["VariableCost","RE1","TEC157",null,1,null,null,null,null,null,1E-4,1E-4,1E-4,1E-4,1E-4,1E-4,1E-4,1E-4,1E-4,1E-4,1E-4,1E-4,1E-4,1E-4,1E-4,1E-4,1E-4,1E-4,1E-4,1E-4,1E-4,1E-4,1E-4,1E-4,1E-4,1E-4,1E-4,1E-4,1E-4,1E-4,1E-4,1E-4,1E-4,1E-4,1E-4,1E-4,1E-4,1E-4,1E-4,1E-4,1E-4,1E-4,1E-4,1E-4,1E-4,1E-4,1E-4,1E-4,1E-4,1E-4,1E-4,1E-4,1E-4,1E-4,1E-4,1E-4]
["VariableCost","RE1","TEC170",null,1,null,null,null,null,null,1E-4,1E-4,1E-4,1E-4,1E-4,1E-4,1E-4,1E-4,1E-4,1E-4,1E-4,1E-4,1E-4,1E-4,1E-4,1E-4,1E-4,1E-4,1E-4,1E-4,1E-4,1E-4,1E-4,1E-4,1E-4,1E-4,1E-4,1E-4,1E-4,1E-4,1E-4,1E-4,1E-4,1E-4,1E-4,1E-4,1E-4,1E-4,1E-4,1E-4,1E-4,1E-4,1E-4,1E-4,1E-4,1E-4,1E-4,1E-4,1E-4,1E-4,1E-4,1E-4,1E-4,1E-4,1E-4,1E-4]
["VariableCost","RE1","TEC171",null,1,null,null,null,null,null,1E-4,1E-4,1E-4,1E-4,1E-4,1E-4,1E-4,1E-4,1E-4,1E-4,1E-4,1E-4,1E-4,1E-4,1E-4,1E-4,1E-4,1E-4,1E-4,1E-4,1E-4,1E-4,1E-4,1E-4,1E-4,1E-4,1E-4,1E-4,1E-4,1E-4,1E-4,1E-4,1E-4,1E-4,1E-4,1E-4,1E-4,1E-4,1E-4,1E-4,1E-4,1E-4,1E-4,1E-4,1E-4,1E-4,1E-4,1E-4,1E-4,1E-4,1E-4,1E-4,1E-4,1E-4,1E-4,1E-4]
["VariableCost","RE1","TEC172",null,1,null,null,null,null,null,1E-4,1E-4,1E-4,1E-4,1E-4,1E-4,1E-4,1E-4,1E-4,1E-4,1E-4,1E-4,1E-4,1E-4,1E-4,1E-4,1E-4,1E-4,1E-4,1E-4,1E-4,1E-4,1E-4,1E-4,1E-4,1E-4,1E-4,1E-4,1E-4,1E-4,1E-4,1E-4,1E-4,1E-4,1E-4,1E-4,1E-4,1E-4,1E-4,1E-4,1E-4,1E-4,1E-4,1E-4,1E-4,1E-4,1E-4,1E-4,1E-4,1E-4,1E-4,1E-4,1E-4,1E-4,1E-4,1E-4]
["VariableCost","RE1","TEC173",null,1,null,null,null,null,null,1E-4,1E-4,1E-4,1E-4,1E-4,1E-4,1E-4,1E-4,1E-4,1E-4,1E-4,1E-4,1E-4,1E-4,1E-4,1E-4,1E-4,1E-4,1E-4,1E-4,1E-4,1E-4,1E-4,1E-4,1E-4,1E-4,1E-4,1E-4,1E-4,1E-4,1E-4,1E-4,1E-4,1E-4,1E-4,1E-4,1E-4,1E-4,1E-4,1E-4,1E-4,1E-4,1E-4,1E-4,1E-4,1E-4,1E-4,1E-4,1E-4,1E-4,1E-4,1E-4,1E-4,1E-4,1E-4,1E-4]
["VariableCost","RE1","TEC174",null,1,null,null,null,null,null,1E-4,1E-4,1E-4,1E-4,1E-4,1E-4,1E-4,1E-4,1E-4,1E-4,1E-4,1E-4,1E-4,1E-4,1E-4,1E-4,1E-4,1E-4,1E-4,1E-4,1E-4,1E-4,1E-4,1E-4,1E-4,1E-4,1E-4,1E-4,1E-4,1E-4,1E-4,1E-4,1E-4,1E-4,1E-4,1E-4,1E-4,1E-4,1E-4,1E-4,1E-4,1E-4,1E-4,1E-4,1E-4,1E-4,1E-4,1E-4,1E-4,1E-4,1E-4,1E-4,1E-4,1E-4,1E-4,1E-4]
["VariableCost","RE1","TEC175",null,1,null,null,null,null,null,1E-4,1E-4,1E-4,1E-4,1E-4,1E-4,1E-4,1E-4,1E-4,1E-4,1E-4,1E-4,1E-4,1E-4,1E-4,1E-4,1E-4,1E-4,1E-4,1E-4,1E-4,1E-4,1E-4,1E-4,1E-4,1E-4,1E-4,1E-4,1E-4,1E-4,1E-4,1E-4,1E-4,1E-4,1E-4,1E-4,1E-4,1E-4,1E-4,1E-4,1E-4,1E-4,1E-4,1E-4,1E-4,1E-4,1E-4,1E-4,1E-4,1E-4,1E-4,1E-4,1E-4,1E-4,1E-4,1E-4]
["VariableCost","RE1","TEC176",null,1,null,null,null,null,null,1E-4,1E-4,1E-4,1E-4,1E-4,1E-4,1E-4,1E-4,1E-4,1E-4,1E-4,1E-4,1E-4,1E-4,1E-4,1E-4,1E-4,1E-4,1E-4,1E-4,1E-4,1E-4,1E-4,1E-4,1E-4,1E-4,1E-4,1E-4,1E-4,1E-4,1E-4,1E-4,1E-4,1E-4,1E-4,1E-4,1E-4,1E-4,1E-4,1E-4,1E-4,1E-4,1E-4,1E-4,1E-4,1E-4,1E-4,1E-4,1E-4,1E-4,1E-4,1E-4,1E-4,1E-4,1E-4,1E-4]
["VariableCost","RE1","TEC177",null,1,null,null,null,null,null,1E-4,1E-4,1E-4,1E-4,1E-4,1E-4,1E-4,1E-4,1E-4,1E-4,1E-4,1E-4,1E-4,1E-4,1E-4,1E-4,1E-4,1E-4,1E-4,1E-4,1E-4,1E-4,1E-4,1E-4,1E-4,1E-4,1E-4,1E-4,1E-4,1E-4,1E-4,1E-4,1E-4,1E-4,1E-4,1E-4,1E-4,1E-4,1E-4,1E-4,1E-4,1E-4,1E-4,1E-4,1E-4,1E-4,1E-4,1E-4,1E-4,1E-4,1E-4,1E-4,1E-4,1E-4,1E-4,1E-4]
["VariableCost","RE1","TEC178",null,1,null,null,null,null,null,1E-4,1E-4,1E-4,1E-4,1E-4,1E-4,1E-4,1E-4,1E-4,1E-4,1E-4,1E-4,1E-4,1E-4,1E-4,1E-4,1E-4,1E-4,1E-4,1E-4,1E-4,1E-4,1E-4,1E-4,1E-4,1E-4,1E-4,1E-4,1E-4,1E-4,1E-4,1E-4,1E-4,1E-4,1E-4,1E-4,1E-4,1E-4,1E-4,1E-4,1E-4,1E-4,1E-4,1E-4,1E-4,1E-4,1E-4,1E-4,1E-4,1E-4,1E-4,1E-4,1E-4,1E-4,1E-4,1E-4]
["VariableCost","RE1","TEC179",null,1,null,null,null,null,null,1E-4,1E-4,1E-4,1E-4,1E-4,1E-4,1E-4,1E-4,1E-4,1E-4,1E-4,1E-4,1E-4,1E-4,1E-4,1E-4,1E-4,1E-4,1E-4,1E-4,1E-4,1E-4,1E-4,1E-4,1E-4,1E-4,1E-4,1E-4,1E-4,1E-4,1E-4,1E-4,1E-4,1E-4,1E-4,1E-4,1E-4,1E-4,1E-4,1E-4,1E-4,1E-4,1E-4,1E-4,1E-4,1E-4,1E-4,1E-4,1E-4,1E-4,1E-4,1E-4,1E-4,1E-4,1E-4,1E-4]
["VariableCost","RE1","TEC180",null,1,null,null,null,null,null,1E-4,1E-4,1E-4,1E-4,1E-4,1E-4,1E-4,1E-4,1E-4,1E-4,1E-4,1E-4,1E-4,1E-4,1E-4,1E-4,1E-4,1E-4,1E-4,1E-4,1E-4,1E-4,1E-4,1E-4,1E-4,1E-4,1E-4,1E-4,1E-4,1E-4,1E-4,1E-4,1E-4,1E-4,1E-4,1E-4,1E-4,1E-4,1E-4,1E-4,1E-4,1E-4,1E-4,1E-4,1E-4,1E-4,1E-4,1E-4,1E-4,1E-4,1E-4,1E-4,1E-4,1E-4,1E-4,1E-4]
["VariableCost","RE1","TEC181",null,1,null,null,null,null,null,1E-4,1E-4,1E-4,1E-4,1E-4,1E-4,1E-4,1E-4,1E-4,1E-4,1E-4,1E-4,1E-4,1E-4,1E-4,1E-4,1E-4,1E-4,1E-4,1E-4,1E-4,1E-4,1E-4,1E-4,1E-4,1E-4,1E-4,1E-4,1E-4,1E-4,1E-4,1E-4,1E-4,1E-4,1E-4,1E-4,1E-4,1E-4,1E-4,1E-4,1E-4,1E-4,1E-4,1E-4,1E-4,1E-4,1E-4,1E-4,1E-4,1E-4,1E-4,1E-4,1E-4,1E-4,1E-4,1E-4]
["VariableCost","RE1","TEC182",null,1,null,null,null,null,null,1E-4,1E-4,1E-4,1E-4,1E-4,1E-4,1E-4,1E-4,1E-4,1E-4,1E-4,1E-4,1E-4,1E-4,1E-4,1E-4,1E-4,1E-4,1E-4,1E-4,1E-4,1E-4,1E-4,1E-4,1E-4,1E-4,1E-4,1E-4,1E-4,1E-4,1E-4,1E-4,1E-4,1E-4,1E-4,1E-4,1E-4,1E-4,1E-4,1E-4,1E-4,1E-4,1E-4,1E-4,1E-4,1E-4,1E-4,1E-4,1E-4,1E-4,1E-4,1E-4,1E-4,1E-4,1E-4,1E-4]
["VariableCost","RE1","TEC183",null,1,null,null,null,null,null,1E-4,1E-4,1E-4,1E-4,1E-4,1E-4,1E-4,1E-4,1E-4,1E-4,1E-4,1E-4,1E-4,1E-4,1E-4,1E-4,1E-4,1E-4,1E-4,1E-4,1E-4,1E-4,1E-4,1E-4,1E-4,1E-4,1E-4,1E-4,1E-4,1E-4,1E-4,1E-4,1E-4,1E-4,1E-4,1E-4,1E-4,1E-4,1E-4,1E-4,1E-4,1E-4,1E-4,1E-4,1E-4,1E-4,1E-4,1E-4,1E-4,1E-4,1E-4,1E-4,1E-4,1E-4,1E-4,1E-4]
["VariableCost","RE1","TEC184",null,1,null,null,null,null,null,1E-4,1E-4,1E-4,1E-4,1E-4,1E-4,1E-4,1E-4,1E-4,1E-4,1E-4,1E-4,1E-4,1E-4,1E-4,1E-4,1E-4,1E-4,1E-4,1E-4,1E-4,1E-4,1E-4,1E-4,1E-4,1E-4,1E-4,1E-4,1E-4,1E-4,1E-4,1E-4,1E-4,1E-4,1E-4,1E-4,1E-4,1E-4,1E-4,1E-4,1E-4,1E-4,1E-4,1E-4,1E-4,1E-4,1E-4,1E-4,1E-4,1E-4,1E-4,1E-4,1E-4,1E-4,1E-4,1E-4]
["VariableCost","RE1","TEC185",null,1,null,null,null,null,null,1E-4,1E-4,1E-4,1E-4,1E-4,1E-4,1E-4,1E-4,1E-4,1E-4,1E-4,1E-4,1E-4,1E-4,1E-4,1E-4,1E-4,1E-4,1E-4,1E-4,1E-4,1E-4,1E-4,1E-4,1E-4,1E-4,1E-4,1E-4,1E-4,1E-4,1E-4,1E-4,1E-4,1E-4,1E-4,1E-4,1E-4,1E-4,1E-4,1E-4,1E-4,1E-4,1E-4,1E-4,1E-4,1E-4,1E-4,1E-4,1E-4,1E-4,1E-4,1E-4,1E-4,1E-4,1E-4,1E-4]
["VariableCost","RE1","TEC186",null,1,null,null,null,null,null,1E-4,1E-4,1E-4,1E-4,1E-4,1E-4,1E-4,1E-4,1E-4,1E-4,1E-4,1E-4,1E-4,1E-4,1E-4,1E-4,1E-4,1E-4,1E-4,1E-4,1E-4,1E-4,1E-4,1E-4,1E-4,1E-4,1E-4,1E-4,1E-4,1E-4,1E-4,1E-4,1E-4,1E-4,1E-4,1E-4,1E-4,1E-4,1E-4,1E-4,1E-4,1E-4,1E-4,1E-4,1E-4,1E-4,1E-4,1E-4,1E-4,1E-4,1E-4,1E-4,1E-4,1E-4,1E-4,1E-4]
["VariableCost","RE1","TEC187",null,1,null,null,null,null,null,1E-4,1E-4,1E-4,1E-4,1E-4,1E-4,1E-4,1E-4,1E-4,1E-4,1E-4,1E-4,1E-4,1E-4,1E-4,1E-4,1E-4,1E-4,1E-4,1E-4,1E-4,1E-4,1E-4,1E-4,1E-4,1E-4,1E-4,1E-4,1E-4,1E-4,1E-4,1E-4,1E-4,1E-4,1E-4,1E-4,1E-4,1E-4,1E-4,1E-4,1E-4,1E-4,1E-4,1E-4,1E-4,1E-4,1E-4,1E-4,1E-4,1E-4,1E-4,1E-4,1E-4,1E-4,1E-4,1E-4]
["VariableCost","RE1","TEC188",null,1,null,null,null,null,null,1E-4,1E-4,1E-4,1E-4,1E-4,1E-4,1E-4,1E-4,1E-4,1E-4,1E-4,1E-4,1E-4,1E-4,1E-4,1E-4,1E-4,1E-4,1E-4,1E-4,1E-4,1E-4,1E-4,1E-4,1E-4,1E-4,1E-4,1E-4,1E-4,1E-4,1E-4,1E-4,1E-4,1E-4,1E-4,1E-4,1E-4,1E-4,1E-4,1E-4,1E-4,1E-4,1E-4,1E-4,1E-4,1E-4,1E-4,1E-4,1E-4,1E-4,1E-4,1E-4,1E-4,1E-4,1E-4,1E-4]
["VariableCost","RE1","TEC189",null,1,null,null,null,null,null,1E-4,1E-4,1E-4,1E-4,1E-4,1E-4,1E-4,1E-4,1E-4,1E-4,1E-4,1E-4,1E-4,1E-4,1E-4,1E-4,1E-4,1E-4,1E-4,1E-4,1E-4,1E-4,1E-4,1E-4,1E-4,1E-4,1E-4,1E-4,1E-4,1E-4,1E-4,1E-4,1E-4,1E-4,1E-4,1E-4,1E-4,1E-4,1E-4,1E-4,1E-4,1E-4,1E-4,1E-4,1E-4,1E-4,1E-4,1E-4,1E-4,1E-4,1E-4,1E-4,1E-4,1E-4,1E-4,1E-4]
["VariableCost","RE1","TEC190",null,1,null,null,null,null,null,1E-4,1E-4,1E-4,1E-4,1E-4,1E-4,1E-4,1E-4,1E-4,1E-4,1E-4,1E-4,1E-4,1E-4,1E-4,1E-4,1E-4,1E-4,1E-4,1E-4,1E-4,1E-4,1E-4,1E-4,1E-4,1E-4,1E-4,1E-4,1E-4,1E-4,1E-4,1E-4,1E-4,1E-4,1E-4,1E-4,1E-4,1E-4,1E-4,1E-4,1E-4,1E-4,1E-4,1E-4,1E-4,1E-4,1E-4,1E-4,1E-4,1E-4,1E-4,1E-4,1E-4,1E-4,1E-4,1E-4]
["VariableCost","RE1","TEC191",null,1,null,null,null,null,null,1E-4,1E-4,1E-4,1E-4,1E-4,1E-4,1E-4,1E-4,1E-4,1E-4,1E-4,1E-4,1E-4,1E-4,1E-4,1E-4,1E-4,1E-4,1E-4,1E-4,1E-4,1E-4,1E-4,1E-4,1E-4,1E-4,1E-4,1E-4,1E-4,1E-4,1E-4,1E-4,1E-4,1E-4,1E-4,1E-4,1E-4,1E-4,1E-4,1E-4,1E-4,1E-4,1E-4,1E-4,1E-4,1E-4,1E-4,1E-4,1E-4,1E-4,1E-4,1E-4,1E-4,1E-4,1E-4,1E-4]
["VariableCost","RE1","TEC192",null,1,null,null,null,null,null,1E-4,1E-4,1E-4,1E-4,1E-4,1E-4,1E-4,1E-4,1E-4,1E-4,1E-4,1E-4,1E-4,1E-4,1E-4,1E-4,1E-4,1E-4,1E-4,1E-4,1E-4,1E-4,1E-4,1E-4,1E-4,1E-4,1E-4,1E-4,1E-4,1E-4,1E-4,1E-4,1E-4,1E-4,1E-4,1E-4,1E-4,1E-4,1E-4,1E-4,1E-4,1E-4,1E-4,1E-4,1E-4,1E-4,1E-4,1E-4,1E-4,1E-4,1E-4,1E-4,1E-4,1E-4,1E-4,1E-4]
["VariableCost","RE1","TEC193",null,1,null,null,null,null,null,1E-4,1E-4,1E-4,1E-4,1E-4,1E-4,1E-4,1E-4,1E-4,1E-4,1E-4,1E-4,1E-4,1E-4,1E-4,1E-4,1E-4,1E-4,1E-4,1E-4,1E-4,1E-4,1E-4,1E-4,1E-4,1E-4,1E-4,1E-4,1E-4,1E-4,1E-4,1E-4,1E-4,1E-4,1E-4,1E-4,1E-4,1E-4,1E-4,1E-4,1E-4,1E-4,1E-4,1E-4,1E-4,1E-4,1E-4,1E-4,1E-4,1E-4,1E-4,1E-4,1E-4,1E-4,1E-4,1E-4]
["VariableCost","RE1","TEC194",null,1,null,null,null,null,null,1E-4,1E-4,1E-4,1E-4,1E-4,1E-4,1E-4,1E-4,1E-4,1E-4,1E-4,1E-4,1E-4,1E-4,1E-4,1E-4,1E-4,1E-4,1E-4,1E-4,1E-4,1E-4,1E-4,1E-4,1E-4,1E-4,1E-4,1E-4,1E-4,1E-4,1E-4,1E-4,1E-4,1E-4,1E-4,1E-4,1E-4,1E-4,1E-4,1E-4,1E-4,1E-4,1E-4,1E-4,1E-4,1E-4,1E-4,1E-4,1E-4,1E-4,1E-4,1E-4,1E-4,1E-4,1E-4,1E-4]
["VariableCost","RE1","TEC195",null,1,null,null,null,null,null,1E-4,1E-4,1E-4,1E-4,1E-4,1E-4,1E-4,1E-4,1E-4,1E-4,1E-4,1E-4,1E-4,1E-4,1E-4,1E-4,1E-4,1E-4,1E-4,1E-4,1E-4,1E-4,1E-4,1E-4,1E-4,1E-4,1E-4,1E-4,1E-4,1E-4,1E-4,1E-4,1E-4,1E-4,1E-4,1E-4,1E-4,1E-4,1E-4,1E-4,1E-4,1E-4,1E-4,1E-4,1E-4,1E-4,1E-4,1E-4,1E-4,1E-4,1E-4,1E-4,1E-4,1E-4,1E-4,1E-4]
["VariableCost","RE1","TEC196",null,1,null,null,null,null,null,1E-4,1E-4,1E-4,1E-4,1E-4,1E-4,1E-4,1E-4,1E-4,1E-4,1E-4,1E-4,1E-4,1E-4,1E-4,1E-4,1E-4,1E-4,1E-4,1E-4,1E-4,1E-4,1E-4,1E-4,1E-4,1E-4,1E-4,1E-4,1E-4,1E-4,1E-4,1E-4,1E-4,1E-4,1E-4,1E-4,1E-4,1E-4,1E-4,1E-4,1E-4,1E-4,1E-4,1E-4,1E-4,1E-4,1E-4,1E-4,1E-4,1E-4,1E-4,1E-4,1E-4,1E-4,1E-4,1E-4]
["VariableCost","RE1","TEC197",null,1,null,null,null,null,null,1E-4,1E-4,1E-4,1E-4,1E-4,1E-4,1E-4,1E-4,1E-4,1E-4,1E-4,1E-4,1E-4,1E-4,1E-4,1E-4,1E-4,1E-4,1E-4,1E-4,1E-4,1E-4,1E-4,1E-4,1E-4,1E-4,1E-4,1E-4,1E-4,1E-4,1E-4,1E-4,1E-4,1E-4,1E-4,1E-4,1E-4,1E-4,1E-4,1E-4,1E-4,1E-4,1E-4,1E-4,1E-4,1E-4,1E-4,1E-4,1E-4,1E-4,1E-4,1E-4,1E-4,1E-4,1E-4,1E-4]
["VariableCost","RE1","TEC198",null,1,null,null,null,null,null,1E-4,1E-4,1E-4,1E-4,1E-4,1E-4,1E-4,1E-4,1E-4,1E-4,1E-4,1E-4,1E-4,1E-4,1E-4,1E-4,1E-4,1E-4,1E-4,1E-4,1E-4,1E-4,1E-4,1E-4,1E-4,1E-4,1E-4,1E-4,1E-4,1E-4,1E-4,1E-4,1E-4,1E-4,1E-4,1E-4,1E-4,1E-4,1E-4,1E-4,1E-4,1E-4,1E-4,1E-4,1E-4,1E-4,1E-4,1E-4,1E-4,1E-4,1E-4,1E-4,1E-4,1E-4,1E-4,1E-4]
["YearSplit",null,null,null,null,null,"S101",null,null,null,1.0416666999999999E-2,1.0416666999999999E-2,1.0416666999999999E-2,1.0416666999999999E-2,1.0416666999999999E-2,1.0416666999999999E-2,1.0416666999999999E-2,1.0416666999999999E-2,1.0416666999999999E-2,1.0416666999999999E-2,1.0416666999999999E-2,1.0416666999999999E-2,1.0416666999999999E-2,1.0416666999999999E-2,1.0416666999999999E-2,1.0416666999999999E-2,1.0416666999999999E-2,1.0416666999999999E-2,1.0416666999999999E-2,1.0416666999999999E-2,1.0416666999999999E-2,1.0416666999999999E-2,1.0416666999999999E-2,1.0416666999999999E-2,1.0416666999999999E-2,1.0416666999999999E-2,1.0416666999999999E-2,1.0416666999999999E-2,1.0416666999999999E-2,1.0416666999999999E-2,1.0416666999999999E-2,1.0416666999999999E-2,1.0416666999999999E-2,1.0416666999999999E-2,1.0416666999999999E-2,1.0416666999999999E-2,1.0416666999999999E-2,1.0416666999999999E-2,1.0416666999999999E-2,1.0416666999999999E-2,1.0416666999999999E-2,1.0416666999999999E-2,1.0416666999999999E-2,1.0416666999999999E-2,1.0416666999999999E-2,1.0416666999999999E-2,1.0416666999999999E-2,1.0416666999999999E-2,1.0416666999999999E-2,1.0416666999999999E-2,1.0416666999999999E-2,1.0416666999999999E-2,1.0416666999999999E-2,1.0416666999999999E-2,1.0416666999999999E-2,1.0416666999999999E-2]
["YearSplit",null,null,null,null,null,"S102",null,null,null,1.0416666999999999E-2,1.0416666999999999E-2,1.0416666999999999E-2,1.0416666999999999E-2,1.0416666999999999E-2,1.0416666999999999E-2,1.0416666999999999E-2,1.0416666999999999E-2,1.0416666999999999E-2,1.0416666999999999E-2,1.0416666999999999E-2,1.0416666999999999E-2,1.0416666999999999E-2,1.0416666999999999E-2,1.0416666999999999E-2,1.0416666999999999E-2,1.0416666999999999E-2,1.0416666999999999E-2,1.0416666999999999E-2,1.0416666999999999E-2,1.0416666999999999E-2,1.0416666999999999E-2,1.0416666999999999E-2,1.0416666999999999E-2,1.0416666999999999E-2,1.0416666999999999E-2,1.0416666999999999E-2,1.0416666999999999E-2,1.0416666999999999E-2,1.0416666999999999E-2,1.0416666999999999E-2,1.0416666999999999E-2,1.0416666999999999E-2,1.0416666999999999E-2,1.0416666999999999E-2,1.0416666999999999E-2,1.0416666999999999E-2,1.0416666999999999E-2,1.0416666999999999E-2,1.0416666999999999E-2,1.0416666999999999E-2,1.0416666999999999E-2,1.0416666999999999E-2,1.0416666999999999E-2,1.0416666999999999E-2,1.0416666999999999E-2,1.0416666999999999E-2,1.0416666999999999E-2,1.0416666999999999E-2,1.0416666999999999E-2,1.0416666999999999E-2,1.0416666999999999E-2,1.0416666999999999E-2,1.0416666999999999E-2,1.0416666999999999E-2,1.0416666999999999E-2]
["YearSplit",null,null,null,null,null,"S103",null,null,null,1.0416666999999999E-2,1.0416666999999999E-2,1.0416666999999999E-2,1.0416666999999999E-2,1.0416666999999999E-2,1.0416666999999999E-2,1.0416666999999999E-2,1.0416666999999999E-2,1.0416666999999999E-2,1.0416666999999999E-2,1.0416666999999999E-2,1.0416666999999999E-2,1.0416666999999999E-2,1.0416666999999999E-2,1.0416666999999999E-2,1.0416666999999999E-2,1.0416666999999999E-2,1.0416666999999999E-2,1.0416666999999999E-2,1.0416666999999999E-2,1.0416666999999999E-2,1.0416666999999999E-2,1.0416666999999999E-2,1.0416666999999999E-2,1.0416666999999999E-2,1.0416666999999999E-2,1.0416666999999999E-2,1.0416666999999999E-2,1.0416666999999999E-2,1.0416666999999999E-2,1.0416666999999999E-2,1.0416666999999999E-2,1.0416666999999999E-2,1.0416666999999999E-2,1.0416666999999999E-2,1.0416666999999999E-2,1.0416666999999999E-2,1.0416666999999999E-2,1.0416666999999999E-2,1.0416666999999999E-2,1.0416666999999999E-2,1.0416666999999999E-2,1.0416666999999999E-2,1.0416666999999999E-2,1.0416666999999999E-2,1.0416666999999999E-2,1.0416666999999999E-2,1.0416666999999999E-2,1.0416666999999999E-2,1.0416666999999999E-2,1.0416666999999999E-2,1.0416666999999999E-2,1.0416666999999999E-2,1.0416666999999999E-2,1.0416666999999999E-2,1.0416666999999999E-2]
["YearSplit",null,null,null,null,null,"S104",null,null,null,1.0416666999999999E-2,1.0416666999999999E-2,1.0416666999999999E-2,1.0416666999999999E-2,1.0416666999999999E-2,1.0416666999999999E-2,1.0416666999999999E-2,1.0416666999999999E-2,1.0416666999999999E-2,1.0416666999999999E-2,1.0416666999999999E-2,1.0416666999999999E-2,1.0416666999999999E-2,1.0416666999999999E-2,1.0416666999999999E-2,1.0416666999999999E-2,1.0416666999999999E-2,1.0416666999999999E-2,1.0416666999999999E-2,1.0416666999999999E-2,1.0416666999999999E-2,1.0416666999999999E-2,1.0416666999999999E-2,1.0416666999999999E-2,1.0416666999999999E-2,1.0416666999999999E-2,1.0416666999999999E-2,1.0416666999999999E-2,1.0416666999999999E-2,1.0416666999999999E-2,1.0416666999999999E-2,1.0416666999999999E-2,1.0416666999999999E-2,1.0416666999999999E-2,1.0416666999999999E-2,1.0416666999999999E-2,1.0416666999999999E-2,1.0416666999999999E-2,1.0416666999999999E-2,1.0416666999999999E-2,1.0416666999999999E-2,1.0416666999999999E-2,1.0416666999999999E-2,1.0416666999999999E-2,1.0416666999999999E-2,1.0416666999999999E-2,1.0416666999999999E-2,1.0416666999999999E-2,1.0416666999999999E-2,1.0416666999999999E-2,1.0416666999999999E-2,1.0416666999999999E-2,1.0416666999999999E-2,1.0416666999999999E-2,1.0416666999999999E-2,1.0416666999999999E-2]
["YearSplit",null,null,null,null,null,"S105",null,null,null,1.0416666999999999E-2,1.0416666999999999E-2,1.0416666999999999E-2,1.0416666999999999E-2,1.0416666999999999E-2,1.0416666999999999E-2,1.0416666999999999E-2,1.0416666999999999E-2,1.0416666999999999E-2,1.0416666999999999E-2,1.0416666999999999E-2,1.0416666999999999E-2,1.0416666999999999E-2,1.0416666999999999E-2,1.0416666999999999E-2,1.0416666999999999E-2,1.0416666999999999E-2,1.0416666999999999E-2,1.0416666999999999E-2,1.0416666999999999E-2,1.0416666999999999E-2,1.0416666999999999E-2,1.0416666999999999E-2,1.0416666999999999E-2,1.0416666999999999E-2,1.0416666999999999E-2,1.0416666999999999E-2,1.0416666999999999E-2,1.0416666999999999E-2,1.0416666999999999E-2,1.0416666999999999E-2,1.0416666999999999E-2,1.0416666999999999E-2,1.0416666999999999E-2,1.0416666999999999E-2,1.0416666999999999E-2,1.0416666999999999E-2,1.0416666999999999E-2,1.0416666999999999E-2,1.0416666999999999E-2,1.0416666999999999E-2,1.0416666999999999E-2,1.0416666999999999E-2,1.0416666999999999E-2,1.0416666999999999E-2,1.0416666999999999E-2,1.0416666999999999E-2,1.0416666999999999E-2,1.0416666999999999E-2,1.0416666999999999E-2,1.0416666999999999E-2,1.0416666999999999E-2,1.0416666999999999E-2,1.0416666999999999E-2,1.0416666999999999E-2,1.0416666999999999E-2]
["YearSplit",null,null,null,null,null,"S106",null,null,null,1.0416666999999999E-2,1.0416666999999999E-2,1.0416666999999999E-2,1.0416666999999999E-2,1.0416666999999999E-2,1.0416666999999999E-2,1.0416666999999999E-2,1.0416666999999999E-2,1.0416666999999999E-2,1.0416666999999999E-2,1.0416666999999999E-2,1.0416666999999999E-2,1.0416666999999999E-2,1.0416666999999999E-2,1.0416666999999999E-2,1.0416666999999999E-2,1.0416666999999999E-2,1.0416666999999999E-2,1.0416666999999999E-2,1.0416666999999999E-2,1.0416666999999999E-2,1.0416666999999999E-2,1.0416666999999999E-2,1.0416666999999999E-2,1.0416666999999999E-2,1.0416666999999999E-2,1.0416666999999999E-2,1.0416666999999999E-2,1.0416666999999999E-2,1.0416666999999999E-2,1.0416666999999999E-2,1.0416666999999999E-2,1.0416666999999999E-2,1.0416666999999999E-2,1.0416666999999999E-2,1.0416666999999999E-2,1.0416666999999999E-2,1.0416666999999999E-2,1.0416666999999999E-2,1.0416666999999999E-2,1.0416666999999999E-2,1.0416666999999999E-2,1.0416666999999999E-2,1.0416666999999999E-2,1.0416666999999999E-2,1.0416666999999999E-2,1.0416666999999999E-2,1.0416666999999999E-2,1.0416666999999999E-2,1.0416666999999999E-2,1.0416666999999999E-2,1.0416666999999999E-2,1.0416666999999999E-2,1.0416666999999999E-2,1.0416666999999999E-2,1.0416666999999999E-2]
["YearSplit",null,null,null,null,null,"S107",null,null,null,1.0416666999999999E-2,1.0416666999999999E-2,1.0416666999999999E-2,1.0416666999999999E-2,1.0416666999999999E-2,1.0416666999999999E-2,1.0416666999999999E-2,1.0416666999999999E-2,1.0416666999999999E-2,1.0416666999999999E-2,1.0416666999999999E-2,1.0416666999999999E-2,1.0416666999999999E-2,1.0416666999999999E-2,1.0416666999999999E-2,1.0416666999999999E-2,1.0416666999999999E-2,1.0416666999999999E-2,1.0416666999999999E-2,1.0416666999999999E-2,1.0416666999999999E-2,1.0416666999999999E-2,1.0416666999999999E-2,1.0416666999999999E-2,1.0416666999999999E-2,1.0416666999999999E-2,1.0416666999999999E-2,1.0416666999999999E-2,1.0416666999999999E-2,1.0416666999999999E-2,1.0416666999999999E-2,1.0416666999999999E-2,1.0416666999999999E-2,1.0416666999999999E-2,1.0416666999999999E-2,1.0416666999999999E-2,1.0416666999999999E-2,1.0416666999999999E-2,1.0416666999999999E-2,1.0416666999999999E-2,1.0416666999999999E-2,1.0416666999999999E-2,1.0416666999999999E-2,1.0416666999999999E-2,1.0416666999999999E-2,1.0416666999999999E-2,1.0416666999999999E-2,1.0416666999999999E-2,1.0416666999999999E-2,1.0416666999999999E-2,1.0416666999999999E-2,1.0416666999999999E-2,1.0416666999999999E-2,1.0416666999999999E-2,1.0416666999999999E-2,1.0416666999999999E-2]
["YearSplit",null,null,null,null,null,"S108",null,null,null,1.0416666999999999E-2,1.0416666999999999E-2,1.0416666999999999E-2,1.0416666999999999E-2,1.0416666999999999E-2,1.0416666999999999E-2,1.0416666999999999E-2,1.0416666999999999E-2,1.0416666999999999E-2,1.0416666999999999E-2,1.0416666999999999E-2,1.0416666999999999E-2,1.0416666999999999E-2,1.0416666999999999E-2,1.0416666999999999E-2,1.0416666999999999E-2,1.0416666999999999E-2,1.0416666999999999E-2,1.0416666999999999E-2,1.0416666999999999E-2,1.0416666999999999E-2,1.0416666999999999E-2,1.0416666999999999E-2,1.0416666999999999E-2,1.0416666999999999E-2,1.0416666999999999E-2,1.0416666999999999E-2,1.0416666999999999E-2,1.0416666999999999E-2,1.0416666999999999E-2,1.0416666999999999E-2,1.0416666999999999E-2,1.0416666999999999E-2,1.0416666999999999E-2,1.0416666999999999E-2,1.0416666999999999E-2,1.0416666999999999E-2,1.0416666999999999E-2,1.0416666999999999E-2,1.0416666999999999E-2,1.0416666999999999E-2,1.0416666999999999E-2,1.0416666999999999E-2,1.0416666999999999E-2,1.0416666999999999E-2,1.0416666999999999E-2,1.0416666999999999E-2,1.0416666999999999E-2,1.0416666999999999E-2,1.0416666999999999E-2,1.0416666999999999E-2,1.0416666999999999E-2,1.0416666999999999E-2,1.0416666999999999E-2,1.0416666999999999E-2,1.0416666999999999E-2]
["YearSplit",null,null,null,null,null,"S109",null,null,null,1.0416666999999999E-2,1.0416666999999999E-2,1.0416666999999999E-2,1.0416666999999999E-2,1.0416666999999999E-2,1.0416666999999999E-2,1.0416666999999999E-2,1.0416666999999999E-2,1.0416666999999999E-2,1.0416666999999999E-2,1.0416666999999999E-2,1.0416666999999999E-2,1.0416666999999999E-2,1.0416666999999999E-2,1.0416666999999999E-2,1.0416666999999999E-2,1.0416666999999999E-2,1.0416666999999999E-2,1.0416666999999999E-2,1.0416666999999999E-2,1.0416666999999999E-2,1.0416666999999999E-2,1.0416666999999999E-2,1.0416666999999999E-2,1.0416666999999999E-2,1.0416666999999999E-2,1.0416666999999999E-2,1.0416666999999999E-2,1.0416666999999999E-2,1.0416666999999999E-2,1.0416666999999999E-2,1.0416666999999999E-2,1.0416666999999999E-2,1.0416666999999999E-2,1.0416666999999999E-2,1.0416666999999999E-2,1.0416666999999999E-2,1.0416666999999999E-2,1.0416666999999999E-2,1.0416666999999999E-2,1.0416666999999999E-2,1.0416666999999999E-2,1.0416666999999999E-2,1.0416666999999999E-2,1.0416666999999999E-2,1.0416666999999999E-2,1.0416666999999999E-2,1.0416666999999999E-2,1.0416666999999999E-2,1.0416666999999999E-2,1.0416666999999999E-2,1.0416666999999999E-2,1.0416666999999999E-2,1.0416666999999999E-2,1.0416666999999999E-2,1.0416666999999999E-2]
["YearSplit",null,null,null,null,null,"S110",null,null,null,1.0416666999999999E-2,1.0416666999999999E-2,1.0416666999999999E-2,1.0416666999999999E-2,1.0416666999999999E-2,1.0416666999999999E-2,1.0416666999999999E-2,1.0416666999999999E-2,1.0416666999999999E-2,1.0416666999999999E-2,1.0416666999999999E-2,1.0416666999999999E-2,1.0416666999999999E-2,1.0416666999999999E-2,1.0416666999999999E-2,1.0416666999999999E-2,1.0416666999999999E-2,1.0416666999999999E-2,1.0416666999999999E-2,1.0416666999999999E-2,1.0416666999999999E-2,1.0416666999999999E-2,1.0416666999999999E-2,1.0416666999999999E-2,1.0416666999999999E-2,1.0416666999999999E-2,1.0416666999999999E-2,1.0416666999999999E-2,1.0416666999999999E-2,1.0416666999999999E-2,1.0416666999999999E-2,1.0416666999999999E-2,1.0416666999999999E-2,1.0416666999999999E-2,1.0416666999999999E-2,1.0416666999999999E-2,1.0416666999999999E-2,1.0416666999999999E-2,1.0416666999999999E-2,1.0416666999999999E-2,1.0416666999999999E-2,1.0416666999999999E-2,1.0416666999999999E-2,1.0416666999999999E-2,1.0416666999999999E-2,1.0416666999999999E-2,1.0416666999999999E-2,1.0416666999999999E-2,1.0416666999999999E-2,1.0416666999999999E-2,1.0416666999999999E-2,1.0416666999999999E-2,1.0416666999999999E-2,1.0416666999999999E-2,1.0416666999999999E-2,1.0416666999999999E-2]
["YearSplit",null,null,null,null,null,"S111",null,null,null,1.0416666999999999E-2,1.0416666999999999E-2,1.0416666999999999E-2,1.0416666999999999E-2,1.0416666999999999E-2,1.0416666999999999E-2,1.0416666999999999E-2,1.0416666999999999E-2,1.0416666999999999E-2,1.0416666999999999E-2,1.0416666999999999E-2,1.0416666999999999E-2,1.0416666999999999E-2,1.0416666999999999E-2,1.0416666999999999E-2,1.0416666999999999E-2,1.0416666999999999E-2,1.0416666999999999E-2,1.0416666999999999E-2,1.0416666999999999E-2,1.0416666999999999E-2,1.0416666999999999E-2,1.0416666999999999E-2,1.0416666999999999E-2,1.0416666999999999E-2,1.0416666999999999E-2,1.0416666999999999E-2,1.0416666999999999E-2,1.0416666999999999E-2,1.0416666999999999E-2,1.0416666999999999E-2,1.0416666999999999E-2,1.0416666999999999E-2,1.0416666999999999E-2,1.0416666999999999E-2,1.0416666999999999E-2,1.0416666999999999E-2,1.0416666999999999E-2,1.0416666999999999E-2,1.0416666999999999E-2,1.0416666999999999E-2,1.0416666999999999E-2,1.0416666999999999E-2,1.0416666999999999E-2,1.0416666999999999E-2,1.0416666999999999E-2,1.0416666999999999E-2,1.0416666999999999E-2,1.0416666999999999E-2,1.0416666999999999E-2,1.0416666999999999E-2,1.0416666999999999E-2,1.0416666999999999E-2,1.0416666999999999E-2,1.0416666999999999E-2,1.0416666999999999E-2]
["YearSplit",null,null,null,null,null,"S112",null,null,null,1.0416666999999999E-2,1.0416666999999999E-2,1.0416666999999999E-2,1.0416666999999999E-2,1.0416666999999999E-2,1.0416666999999999E-2,1.0416666999999999E-2,1.0416666999999999E-2,1.0416666999999999E-2,1.0416666999999999E-2,1.0416666999999999E-2,1.0416666999999999E-2,1.0416666999999999E-2,1.0416666999999999E-2,1.0416666999999999E-2,1.0416666999999999E-2,1.0416666999999999E-2,1.0416666999999999E-2,1.0416666999999999E-2,1.0416666999999999E-2,1.0416666999999999E-2,1.0416666999999999E-2,1.0416666999999999E-2,1.0416666999999999E-2,1.0416666999999999E-2,1.0416666999999999E-2,1.0416666999999999E-2,1.0416666999999999E-2,1.0416666999999999E-2,1.0416666999999999E-2,1.0416666999999999E-2,1.0416666999999999E-2,1.0416666999999999E-2,1.0416666999999999E-2,1.0416666999999999E-2,1.0416666999999999E-2,1.0416666999999999E-2,1.0416666999999999E-2,1.0416666999999999E-2,1.0416666999999999E-2,1.0416666999999999E-2,1.0416666999999999E-2,1.0416666999999999E-2,1.0416666999999999E-2,1.0416666999999999E-2,1.0416666999999999E-2,1.0416666999999999E-2,1.0416666999999999E-2,1.0416666999999999E-2,1.0416666999999999E-2,1.0416666999999999E-2,1.0416666999999999E-2,1.0416666999999999E-2,1.0416666999999999E-2,1.0416666999999999E-2,1.0416666999999999E-2]
["YearSplit",null,null,null,null,null,"S113",null,null,null,1.0416666999999999E-2,1.0416666999999999E-2,1.0416666999999999E-2,1.0416666999999999E-2,1.0416666999999999E-2,1.0416666999999999E-2,1.0416666999999999E-2,1.0416666999999999E-2,1.0416666999999999E-2,1.0416666999999999E-2,1.0416666999999999E-2,1.0416666999999999E-2,1.0416666999999999E-2,1.0416666999999999E-2,1.0416666999999999E-2,1.0416666999999999E-2,1.0416666999999999E-2,1.0416666999999999E-2,1.0416666999999999E-2,1.0416666999999999E-2,1.0416666999999999E-2,1.0416666999999999E-2,1.0416666999999999E-2,1.0416666999999999E-2,1.0416666999999999E-2,1.0416666999999999E-2,1.0416666999999999E-2,1.0416666999999999E-2,1.0416666999999999E-2,1.0416666999999999E-2,1.0416666999999999E-2,1.0416666999999999E-2,1.0416666999999999E-2,1.0416666999999999E-2,1.0416666999999999E-2,1.0416666999999999E-2,1.0416666999999999E-2,1.0416666999999999E-2,1.0416666999999999E-2,1.0416666999999999E-2,1.0416666999999999E-2,1.0416666999999999E-2,1.0416666999999999E-2,1.0416666999999999E-2,1.0416666999999999E-2,1.0416666999999999E-2,1.0416666999999999E-2,1.0416666999999999E-2,1.0416666999999999E-2,1.0416666999999999E-2,1.0416666999999999E-2,1.0416666999999999E-2,1.0416666999999999E-2,1.0416666999999999E-2,1.0416666999999999E-2,1.0416666999999999E-2]
["YearSplit",null,null,null,null,null,"S114",null,null,null,1.0416666999999999E-2,1.0416666999999999E-2,1.0416666999999999E-2,1.0416666999999999E-2,1.0416666999999999E-2,1.0416666999999999E-2,1.0416666999999999E-2,1.0416666999999999E-2,1.0416666999999999E-2,1.0416666999999999E-2,1.0416666999999999E-2,1.0416666999999999E-2,1.0416666999999999E-2,1.0416666999999999E-2,1.0416666999999999E-2,1.0416666999999999E-2,1.0416666999999999E-2,1.0416666999999999E-2,1.0416666999999999E-2,1.0416666999999999E-2,1.0416666999999999E-2,1.0416666999999999E-2,1.0416666999999999E-2,1.0416666999999999E-2,1.0416666999999999E-2,1.0416666999999999E-2,1.0416666999999999E-2,1.0416666999999999E-2,1.0416666999999999E-2,1.0416666999999999E-2,1.0416666999999999E-2,1.0416666999999999E-2,1.0416666999999999E-2,1.0416666999999999E-2,1.0416666999999999E-2,1.0416666999999999E-2,1.0416666999999999E-2,1.0416666999999999E-2,1.0416666999999999E-2,1.0416666999999999E-2,1.0416666999999999E-2,1.0416666999999999E-2,1.0416666999999999E-2,1.0416666999999999E-2,1.0416666999999999E-2,1.0416666999999999E-2,1.0416666999999999E-2,1.0416666999999999E-2,1.0416666999999999E-2,1.0416666999999999E-2,1.0416666999999999E-2,1.0416666999999999E-2,1.0416666999999999E-2,1.0416666999999999E-2,1.0416666999999999E-2,1.0416666999999999E-2]
["YearSplit",null,null,null,null,null,"S115",null,null,null,1.0416666999999999E-2,1.0416666999999999E-2,1.0416666999999999E-2,1.0416666999999999E-2,1.0416666999999999E-2,1.0416666999999999E-2,1.0416666999999999E-2,1.0416666999999999E-2,1.0416666999999999E-2,1.0416666999999999E-2,1.0416666999999999E-2,1.0416666999999999E-2,1.0416666999999999E-2,1.0416666999999999E-2,1.0416666999999999E-2,1.0416666999999999E-2,1.0416666999999999E-2,1.0416666999999999E-2,1.0416666999999999E-2,1.0416666999999999E-2,1.0416666999999999E-2,1.0416666999999999E-2,1.0416666999999999E-2,1.0416666999999999E-2,1.0416666999999999E-2,1.0416666999999999E-2,1.0416666999999999E-2,1.0416666999999999E-2,1.0416666999999999E-2,1.0416666999999999E-2,1.0416666999999999E-2,1.0416666999999999E-2,1.0416666999999999E-2,1.0416666999999999E-2,1.0416666999999999E-2,1.0416666999999999E-2,1.0416666999999999E-2,1.0416666999999999E-2,1.0416666999999999E-2,1.0416666999999999E-2,1.0416666999999999E-2,1.0416666999999999E-2,1.0416666999999999E-2,1.0416666999999999E-2,1.0416666999999999E-2,1.0416666999999999E-2,1.0416666999999999E-2,1.0416666999999999E-2,1.0416666999999999E-2,1.0416666999999999E-2,1.0416666999999999E-2,1.0416666999999999E-2,1.0416666999999999E-2,1.0416666999999999E-2,1.0416666999999999E-2,1.0416666999999999E-2]
["YearSplit",null,null,null,null,null,"S116",null,null,null,1.0416666999999999E-2,1.0416666999999999E-2,1.0416666999999999E-2,1.0416666999999999E-2,1.0416666999999999E-2,1.0416666999999999E-2,1.0416666999999999E-2,1.0416666999999999E-2,1.0416666999999999E-2,1.0416666999999999E-2,1.0416666999999999E-2,1.0416666999999999E-2,1.0416666999999999E-2,1.0416666999999999E-2,1.0416666999999999E-2,1.0416666999999999E-2,1.0416666999999999E-2,1.0416666999999999E-2,1.0416666999999999E-2,1.0416666999999999E-2,1.0416666999999999E-2,1.0416666999999999E-2,1.0416666999999999E-2,1.0416666999999999E-2,1.0416666999999999E-2,1.0416666999999999E-2,1.0416666999999999E-2,1.0416666999999999E-2,1.0416666999999999E-2,1.0416666999999999E-2,1.0416666999999999E-2,1.0416666999999999E-2,1.0416666999999999E-2,1.0416666999999999E-2,1.0416666999999999E-2,1.0416666999999999E-2,1.0416666999999999E-2,1.0416666999999999E-2,1.0416666999999999E-2,1.0416666999999999E-2,1.0416666999999999E-2,1.0416666999999999E-2,1.0416666999999999E-2,1.0416666999999999E-2,1.0416666999999999E-2,1.0416666999999999E-2,1.0416666999999999E-2,1.0416666999999999E-2,1.0416666999999999E-2,1.0416666999999999E-2,1.0416666999999999E-2,1.0416666999999999E-2,1.0416666999999999E-2,1.0416666999999999E-2,1.0416666999999999E-2,1.0416666999999999E-2]
["YearSplit",null,null,null,null,null,"S117",null,null,null,1.0416666999999999E-2,1.0416666999999999E-2,1.0416666999999999E-2,1.0416666999999999E-2,1.0416666999999999E-2,1.0416666999999999E-2,1.0416666999999999E-2,1.0416666999999999E-2,1.0416666999999999E-2,1.0416666999999999E-2,1.0416666999999999E-2,1.0416666999999999E-2,1.0416666999999999E-2,1.0416666999999999E-2,1.0416666999999999E-2,1.0416666999999999E-2,1.0416666999999999E-2,1.0416666999999999E-2,1.0416666999999999E-2,1.0416666999999999E-2,1.0416666999999999E-2,1.0416666999999999E-2,1.0416666999999999E-2,1.0416666999999999E-2,1.0416666999999999E-2,1.0416666999999999E-2,1.0416666999999999E-2,1.0416666999999999E-2,1.0416666999999999E-2,1.0416666999999999E-2,1.0416666999999999E-2,1.0416666999999999E-2,1.0416666999999999E-2,1.0416666999999999E-2,1.0416666999999999E-2,1.0416666999999999E-2,1.0416666999999999E-2,1.0416666999999999E-2,1.0416666999999999E-2,1.0416666999999999E-2,1.0416666999999999E-2,1.0416666999999999E-2,1.0416666999999999E-2,1.0416666999999999E-2,1.0416666999999999E-2,1.0416666999999999E-2,1.0416666999999999E-2,1.0416666999999999E-2,1.0416666999999999E-2,1.0416666999999999E-2,1.0416666999999999E-2,1.0416666999999999E-2,1.0416666999999999E-2,1.0416666999999999E-2,1.0416666999999999E-2,1.0416666999999999E-2]
["YearSplit",null,null,null,null,null,"S118",null,null,null,1.0416666999999999E-2,1.0416666999999999E-2,1.0416666999999999E-2,1.0416666999999999E-2,1.0416666999999999E-2,1.0416666999999999E-2,1.0416666999999999E-2,1.0416666999999999E-2,1.0416666999999999E-2,1.0416666999999999E-2,1.0416666999999999E-2,1.0416666999999999E-2,1.0416666999999999E-2,1.0416666999999999E-2,1.0416666999999999E-2,1.0416666999999999E-2,1.0416666999999999E-2,1.0416666999999999E-2,1.0416666999999999E-2,1.0416666999999999E-2,1.0416666999999999E-2,1.0416666999999999E-2,1.0416666999999999E-2,1.0416666999999999E-2,1.0416666999999999E-2,1.0416666999999999E-2,1.0416666999999999E-2,1.0416666999999999E-2,1.0416666999999999E-2,1.0416666999999999E-2,1.0416666999999999E-2,1.0416666999999999E-2,1.0416666999999999E-2,1.0416666999999999E-2,1.0416666999999999E-2,1.0416666999999999E-2,1.0416666999999999E-2,1.0416666999999999E-2,1.0416666999999999E-2,1.0416666999999999E-2,1.0416666999999999E-2,1.0416666999999999E-2,1.0416666999999999E-2,1.0416666999999999E-2,1.0416666999999999E-2,1.0416666999999999E-2,1.0416666999999999E-2,1.0416666999999999E-2,1.0416666999999999E-2,1.0416666999999999E-2,1.0416666999999999E-2,1.0416666999999999E-2,1.0416666999999999E-2,1.0416666999999999E-2,1.0416666999999999E-2,1.0416666999999999E-2]
["YearSplit",null,null,null,null,null,"S119",null,null,null,1.0416666999999999E-2,1.0416666999999999E-2,1.0416666999999999E-2,1.0416666999999999E-2,1.0416666999999999E-2,1.0416666999999999E-2,1.0416666999999999E-2,1.0416666999999999E-2,1.0416666999999999E-2,1.0416666999999999E-2,1.0416666999999999E-2,1.0416666999999999E-2,1.0416666999999999E-2,1.0416666999999999E-2,1.0416666999999999E-2,1.0416666999999999E-2,1.0416666999999999E-2,1.0416666999999999E-2,1.0416666999999999E-2,1.0416666999999999E-2,1.0416666999999999E-2,1.0416666999999999E-2,1.0416666999999999E-2,1.0416666999999999E-2,1.0416666999999999E-2,1.0416666999999999E-2,1.0416666999999999E-2,1.0416666999999999E-2,1.0416666999999999E-2,1.0416666999999999E-2,1.0416666999999999E-2,1.0416666999999999E-2,1.0416666999999999E-2,1.0416666999999999E-2,1.0416666999999999E-2,1.0416666999999999E-2,1.0416666999999999E-2,1.0416666999999999E-2,1.0416666999999999E-2,1.0416666999999999E-2,1.0416666999999999E-2,1.0416666999999999E-2,1.0416666999999999E-2,1.0416666999999999E-2,1.0416666999999999E-2,1.0416666999999999E-2,1.0416666999999999E-2,1.0416666999999999E-2,1.0416666999999999E-2,1.0416666999999999E-2,1.0416666999999999E-2,1.0416666999999999E-2,1.0416666999999999E-2,1.0416666999999999E-2,1.0416666999999999E-2,1.0416666999999999E-2]
["YearSplit",null,null,null,null,null,"S120",null,null,null,1.0416666999999999E-2,1.0416666999999999E-2,1.0416666999999999E-2,1.0416666999999999E-2,1.0416666999999999E-2,1.0416666999999999E-2,1.0416666999999999E-2,1.0416666999999999E-2,1.0416666999999999E-2,1.0416666999999999E-2,1.0416666999999999E-2,1.0416666999999999E-2,1.0416666999999999E-2,1.0416666999999999E-2,1.0416666999999999E-2,1.0416666999999999E-2,1.0416666999999999E-2,1.0416666999999999E-2,1.0416666999999999E-2,1.0416666999999999E-2,1.0416666999999999E-2,1.0416666999999999E-2,1.0416666999999999E-2,1.0416666999999999E-2,1.0416666999999999E-2,1.0416666999999999E-2,1.0416666999999999E-2,1.0416666999999999E-2,1.0416666999999999E-2,1.0416666999999999E-2,1.0416666999999999E-2,1.0416666999999999E-2,1.0416666999999999E-2,1.0416666999999999E-2,1.0416666999999999E-2,1.0416666999999999E-2,1.0416666999999999E-2,1.0416666999999999E-2,1.0416666999999999E-2,1.0416666999999999E-2,1.0416666999999999E-2,1.0416666999999999E-2,1.0416666999999999E-2,1.0416666999999999E-2,1.0416666999999999E-2,1.0416666999999999E-2,1.0416666999999999E-2,1.0416666999999999E-2,1.0416666999999999E-2,1.0416666999999999E-2,1.0416666999999999E-2,1.0416666999999999E-2,1.0416666999999999E-2,1.0416666999999999E-2,1.0416666999999999E-2,1.0416666999999999E-2]
["YearSplit",null,null,null,null,null,"S121",null,null,null,1.0416666999999999E-2,1.0416666999999999E-2,1.0416666999999999E-2,1.0416666999999999E-2,1.0416666999999999E-2,1.0416666999999999E-2,1.0416666999999999E-2,1.0416666999999999E-2,1.0416666999999999E-2,1.0416666999999999E-2,1.0416666999999999E-2,1.0416666999999999E-2,1.0416666999999999E-2,1.0416666999999999E-2,1.0416666999999999E-2,1.0416666999999999E-2,1.0416666999999999E-2,1.0416666999999999E-2,1.0416666999999999E-2,1.0416666999999999E-2,1.0416666999999999E-2,1.0416666999999999E-2,1.0416666999999999E-2,1.0416666999999999E-2,1.0416666999999999E-2,1.0416666999999999E-2,1.0416666999999999E-2,1.0416666999999999E-2,1.0416666999999999E-2,1.0416666999999999E-2,1.0416666999999999E-2,1.0416666999999999E-2,1.0416666999999999E-2,1.0416666999999999E-2,1.0416666999999999E-2,1.0416666999999999E-2,1.0416666999999999E-2,1.0416666999999999E-2,1.0416666999999999E-2,1.0416666999999999E-2,1.0416666999999999E-2,1.0416666999999999E-2,1.0416666999999999E-2,1.0416666999999999E-2,1.0416666999999999E-2,1.0416666999999999E-2,1.0416666999999999E-2,1.0416666999999999E-2,1.0416666999999999E-2,1.0416666999999999E-2,1.0416666999999999E-2,1.0416666999999999E-2,1.0416666999999999E-2,1.0416666999999999E-2,1.0416666999999999E-2,1.0416666999999999E-2]
["YearSplit",null,null,null,null,null,"S122",null,null,null,1.0416666999999999E-2,1.0416666999999999E-2,1.0416666999999999E-2,1.0416666999999999E-2,1.0416666999999999E-2,1.0416666999999999E-2,1.0416666999999999E-2,1.0416666999999999E-2,1.0416666999999999E-2,1.0416666999999999E-2,1.0416666999999999E-2,1.0416666999999999E-2,1.0416666999999999E-2,1.0416666999999999E-2,1.0416666999999999E-2,1.0416666999999999E-2,1.0416666999999999E-2,1.0416666999999999E-2,1.0416666999999999E-2,1.0416666999999999E-2,1.0416666999999999E-2,1.0416666999999999E-2,1.0416666999999999E-2,1.0416666999999999E-2,1.0416666999999999E-2,1.0416666999999999E-2,1.0416666999999999E-2,1.0416666999999999E-2,1.0416666999999999E-2,1.0416666999999999E-2,1.0416666999999999E-2,1.0416666999999999E-2,1.0416666999999999E-2,1.0416666999999999E-2,1.0416666999999999E-2,1.0416666999999999E-2,1.0416666999999999E-2,1.0416666999999999E-2,1.0416666999999999E-2,1.0416666999999999E-2,1.0416666999999999E-2,1.0416666999999999E-2,1.0416666999999999E-2,1.0416666999999999E-2,1.0416666999999999E-2,1.0416666999999999E-2,1.0416666999999999E-2,1.0416666999999999E-2,1.0416666999999999E-2,1.0416666999999999E-2,1.0416666999999999E-2,1.0416666999999999E-2,1.0416666999999999E-2,1.0416666999999999E-2,1.0416666999999999E-2,1.0416666999999999E-2]
["YearSplit",null,null,null,null,null,"S123",null,null,null,1.0416666999999999E-2,1.0416666999999999E-2,1.0416666999999999E-2,1.0416666999999999E-2,1.0416666999999999E-2,1.0416666999999999E-2,1.0416666999999999E-2,1.0416666999999999E-2,1.0416666999999999E-2,1.0416666999999999E-2,1.0416666999999999E-2,1.0416666999999999E-2,1.0416666999999999E-2,1.0416666999999999E-2,1.0416666999999999E-2,1.0416666999999999E-2,1.0416666999999999E-2,1.0416666999999999E-2,1.0416666999999999E-2,1.0416666999999999E-2,1.0416666999999999E-2,1.0416666999999999E-2,1.0416666999999999E-2,1.0416666999999999E-2,1.0416666999999999E-2,1.0416666999999999E-2,1.0416666999999999E-2,1.0416666999999999E-2,1.0416666999999999E-2,1.0416666999999999E-2,1.0416666999999999E-2,1.0416666999999999E-2,1.0416666999999999E-2,1.0416666999999999E-2,1.0416666999999999E-2,1.0416666999999999E-2,1.0416666999999999E-2,1.0416666999999999E-2,1.0416666999999999E-2,1.0416666999999999E-2,1.0416666999999999E-2,1.0416666999999999E-2,1.0416666999999999E-2,1.0416666999999999E-2,1.0416666999999999E-2,1.0416666999999999E-2,1.0416666999999999E-2,1.0416666999999999E-2,1.0416666999999999E-2,1.0416666999999999E-2,1.0416666999999999E-2,1.0416666999999999E-2,1.0416666999999999E-2,1.0416666999999999E-2,1.0416666999999999E-2,1.0416666999999999E-2]
["YearSplit",null,null,null,null,null,"S124",null,null,null,1.0416666999999999E-2,1.0416666999999999E-2,1.0416666999999999E-2,1.0416666999999999E-2,1.0416666999999999E-2,1.0416666999999999E-2,1.0416666999999999E-2,1.0416666999999999E-2,1.0416666999999999E-2,1.0416666999999999E-2,1.0416666999999999E-2,1.0416666999999999E-2,1.0416666999999999E-2,1.0416666999999999E-2,1.0416666999999999E-2,1.0416666999999999E-2,1.0416666999999999E-2,1.0416666999999999E-2,1.0416666999999999E-2,1.0416666999999999E-2,1.0416666999999999E-2,1.0416666999999999E-2,1.0416666999999999E-2,1.0416666999999999E-2,1.0416666999999999E-2,1.0416666999999999E-2,1.0416666999999999E-2,1.0416666999999999E-2,1.0416666999999999E-2,1.0416666999999999E-2,1.0416666999999999E-2,1.0416666999999999E-2,1.0416666999999999E-2,1.0416666999999999E-2,1.0416666999999999E-2,1.0416666999999999E-2,1.0416666999999999E-2,1.0416666999999999E-2,1.0416666999999999E-2,1.0416666999999999E-2,1.0416666999999999E-2,1.0416666999999999E-2,1.0416666999999999E-2,1.0416666999999999E-2,1.0416666999999999E-2,1.0416666999999999E-2,1.0416666999999999E-2,1.0416666999999999E-2,1.0416666999999999E-2,1.0416666999999999E-2,1.0416666999999999E-2,1.0416666999999999E-2,1.0416666999999999E-2,1.0416666999999999E-2,1.0416666999999999E-2,1.0416666999999999E-2]
["YearSplit",null,null,null,null,null,"S201",null,null,null,1.0416666999999999E-2,1.0416666999999999E-2,1.0416666999999999E-2,1.0416666999999999E-2,1.0416666999999999E-2,1.0416666999999999E-2,1.0416666999999999E-2,1.0416666999999999E-2,1.0416666999999999E-2,1.0416666999999999E-2,1.0416666999999999E-2,1.0416666999999999E-2,1.0416666999999999E-2,1.0416666999999999E-2,1.0416666999999999E-2,1.0416666999999999E-2,1.0416666999999999E-2,1.0416666999999999E-2,1.0416666999999999E-2,1.0416666999999999E-2,1.0416666999999999E-2,1.0416666999999999E-2,1.0416666999999999E-2,1.0416666999999999E-2,1.0416666999999999E-2,1.0416666999999999E-2,1.0416666999999999E-2,1.0416666999999999E-2,1.0416666999999999E-2,1.0416666999999999E-2,1.0416666999999999E-2,1.0416666999999999E-2,1.0416666999999999E-2,1.0416666999999999E-2,1.0416666999999999E-2,1.0416666999999999E-2,1.0416666999999999E-2,1.0416666999999999E-2,1.0416666999999999E-2,1.0416666999999999E-2,1.0416666999999999E-2,1.0416666999999999E-2,1.0416666999999999E-2,1.0416666999999999E-2,1.0416666999999999E-2,1.0416666999999999E-2,1.0416666999999999E-2,1.0416666999999999E-2,1.0416666999999999E-2,1.0416666999999999E-2,1.0416666999999999E-2,1.0416666999999999E-2,1.0416666999999999E-2,1.0416666999999999E-2,1.0416666999999999E-2,1.0416666999999999E-2]
["YearSplit",null,null,null,null,null,"S202",null,null,null,1.0416666999999999E-2,1.0416666999999999E-2,1.0416666999999999E-2,1.0416666999999999E-2,1.0416666999999999E-2,1.0416666999999999E-2,1.0416666999999999E-2,1.0416666999999999E-2,1.0416666999999999E-2,1.0416666999999999E-2,1.0416666999999999E-2,1.0416666999999999E-2,1.0416666999999999E-2,1.0416666999999999E-2,1.0416666999999999E-2,1.0416666999999999E-2,1.0416666999999999E-2,1.0416666999999999E-2,1.0416666999999999E-2,1.0416666999999999E-2,1.0416666999999999E-2,1.0416666999999999E-2,1.0416666999999999E-2,1.0416666999999999E-2,1.0416666999999999E-2,1.0416666999999999E-2,1.0416666999999999E-2,1.0416666999999999E-2,1.0416666999999999E-2,1.0416666999999999E-2,1.0416666999999999E-2,1.0416666999999999E-2,1.0416666999999999E-2,1.0416666999999999E-2,1.0416666999999999E-2,1.0416666999999999E-2,1.0416666999999999E-2,1.0416666999999999E-2,1.0416666999999999E-2,1.0416666999999999E-2,1.0416666999999999E-2,1.0416666999999999E-2,1.0416666999999999E-2,1.0416666999999999E-2,1.0416666999999999E-2,1.0416666999999999E-2,1.0416666999999999E-2,1.0416666999999999E-2,1.0416666999999999E-2,1.0416666999999999E-2,1.0416666999999999E-2,1.0416666999999999E-2,1.0416666999999999E-2,1.0416666999999999E-2,1.0416666999999999E-2,1.0416666999999999E-2]
["YearSplit",null,null,null,null,null,"S203",null,null,null,1.0416666999999999E-2,1.0416666999999999E-2,1.0416666999999999E-2,1.0416666999999999E-2,1.0416666999999999E-2,1.0416666999999999E-2,1.0416666999999999E-2,1.0416666999999999E-2,1.0416666999999999E-2,1.0416666999999999E-2,1.0416666999999999E-2,1.0416666999999999E-2,1.0416666999999999E-2,1.0416666999999999E-2,1.0416666999999999E-2,1.0416666999999999E-2,1.0416666999999999E-2,1.0416666999999999E-2,1.0416666999999999E-2,1.0416666999999999E-2,1.0416666999999999E-2,1.0416666999999999E-2,1.0416666999999999E-2,1.0416666999999999E-2,1.0416666999999999E-2,1.0416666999999999E-2,1.0416666999999999E-2,1.0416666999999999E-2,1.0416666999999999E-2,1.0416666999999999E-2,1.0416666999999999E-2,1.0416666999999999E-2,1.0416666999999999E-2,1.0416666999999999E-2,1.0416666999999999E-2,1.0416666999999999E-2,1.0416666999999999E-2,1.0416666999999999E-2,1.0416666999999999E-2,1.0416666999999999E-2,1.0416666999999999E-2,1.0416666999999999E-2,1.0416666999999999E-2,1.0416666999999999E-2,1.0416666999999999E-2,1.0416666999999999E-2,1.0416666999999999E-2,1.0416666999999999E-2,1.0416666999999999E-2,1.0416666999999999E-2,1.0416666999999999E-2,1.0416666999999999E-2,1.0416666999999999E-2,1.0416666999999999E-2,1.0416666999999999E-2,1.0416666999999999E-2]
["YearSplit",null,null,null,null,null,"S204",null,null,null,1.0416666999999999E-2,1.0416666999999999E-2,1.0416666999999999E-2,1.0416666999999999E-2,1.0416666999999999E-2,1.0416666999999999E-2,1.0416666999999999E-2,1.0416666999999999E-2,1.0416666999999999E-2,1.0416666999999999E-2,1.0416666999999999E-2,1.0416666999999999E-2,1.0416666999999999E-2,1.0416666999999999E-2,1.0416666999999999E-2,1.0416666999999999E-2,1.0416666999999999E-2,1.0416666999999999E-2,1.0416666999999999E-2,1.0416666999999999E-2,1.0416666999999999E-2,1.0416666999999999E-2,1.0416666999999999E-2,1.0416666999999999E-2,1.0416666999999999E-2,1.0416666999999999E-2,1.0416666999999999E-2,1.0416666999999999E-2,1.0416666999999999E-2,1.0416666999999999E-2,1.0416666999999999E-2,1.0416666999999999E-2,1.0416666999999999E-2,1.0416666999999999E-2,1.0416666999999999E-2,1.0416666999999999E-2,1.0416666999999999E-2,1.0416666999999999E-2,1.0416666999999999E-2,1.0416666999999999E-2,1.0416666999999999E-2,1.0416666999999999E-2,1.0416666999999999E-2,1.0416666999999999E-2,1.0416666999999999E-2,1.0416666999999999E-2,1.0416666999999999E-2,1.0416666999999999E-2,1.0416666999999999E-2,1.0416666999999999E-2,1.0416666999999999E-2,1.0416666999999999E-2,1.0416666999999999E-2,1.0416666999999999E-2,1.0416666999999999E-2,1.0416666999999999E-2]
["YearSplit",null,null,null,null,null,"S205",null,null,null,1.0416666999999999E-2,1.0416666999999999E-2,1.0416666999999999E-2,1.0416666999999999E-2,1.0416666999999999E-2,1.0416666999999999E-2,1.0416666999999999E-2,1.0416666999999999E-2,1.0416666999999999E-2,1.0416666999999999E-2,1.0416666999999999E-2,1.0416666999999999E-2,1.0416666999999999E-2,1.0416666999999999E-2,1.0416666999999999E-2,1.0416666999999999E-2,1.0416666999999999E-2,1.0416666999999999E-2,1.0416666999999999E-2,1.0416666999999999E-2,1.0416666999999999E-2,1.0416666999999999E-2,1.0416666999999999E-2,1.0416666999999999E-2,1.0416666999999999E-2,1.0416666999999999E-2,1.0416666999999999E-2,1.0416666999999999E-2,1.0416666999999999E-2,1.0416666999999999E-2,1.0416666999999999E-2,1.0416666999999999E-2,1.0416666999999999E-2,1.0416666999999999E-2,1.0416666999999999E-2,1.0416666999999999E-2,1.0416666999999999E-2,1.0416666999999999E-2,1.0416666999999999E-2,1.0416666999999999E-2,1.0416666999999999E-2,1.0416666999999999E-2,1.0416666999999999E-2,1.0416666999999999E-2,1.0416666999999999E-2,1.0416666999999999E-2,1.0416666999999999E-2,1.0416666999999999E-2,1.0416666999999999E-2,1.0416666999999999E-2,1.0416666999999999E-2,1.0416666999999999E-2,1.0416666999999999E-2,1.0416666999999999E-2,1.0416666999999999E-2,1.0416666999999999E-2]
["YearSplit",null,null,null,null,null,"S206",null,null,null,1.0416666999999999E-2,1.0416666999999999E-2,1.0416666999999999E-2,1.0416666999999999E-2,1.0416666999999999E-2,1.0416666999999999E-2,1.0416666999999999E-2,1.0416666999999999E-2,1.0416666999999999E-2,1.0416666999999999E-2,1.0416666999999999E-2,1.0416666999999999E-2,1.0416666999999999E-2,1.0416666999999999E-2,1.0416666999999999E-2,1.0416666999999999E-2,1.0416666999999999E-2,1.0416666999999999E-2,1.0416666999999999E-2,1.0416666999999999E-2,1.0416666999999999E-2,1.0416666999999999E-2,1.0416666999999999E-2,1.0416666999999999E-2,1.0416666999999999E-2,1.0416666999999999E-2,1.0416666999999999E-2,1.0416666999999999E-2,1.0416666999999999E-2,1.0416666999999999E-2,1.0416666999999999E-2,1.0416666999999999E-2,1.0416666999999999E-2,1.0416666999999999E-2,1.0416666999999999E-2,1.0416666999999999E-2,1.0416666999999999E-2,1.0416666999999999E-2,1.0416666999999999E-2,1.0416666999999999E-2,1.0416666999999999E-2,1.0416666999999999E-2,1.0416666999999999E-2,1.0416666999999999E-2,1.0416666999999999E-2,1.0416666999999999E-2,1.0416666999999999E-2,1.0416666999999999E-2,1.0416666999999999E-2,1.0416666999999999E-2,1.0416666999999999E-2,1.0416666999999999E-2,1.0416666999999999E-2,1.0416666999999999E-2,1.0416666999999999E-2,1.0416666999999999E-2]
["YearSplit",null,null,null,null,null,"S207",null,null,null,1.0416666999999999E-2,1.0416666999999999E-2,1.0416666999999999E-2,1.0416666999999999E-2,1.0416666999999999E-2,1.0416666999999999E-2,1.0416666999999999E-2,1.0416666999999999E-2,1.0416666999999999E-2,1.0416666999999999E-2,1.0416666999999999E-2,1.0416666999999999E-2,1.0416666999999999E-2,1.0416666999999999E-2,1.0416666999999999E-2,1.0416666999999999E-2,1.0416666999999999E-2,1.0416666999999999E-2,1.0416666999999999E-2,1.0416666999999999E-2,1.0416666999999999E-2,1.0416666999999999E-2,1.0416666999999999E-2,1.0416666999999999E-2,1.0416666999999999E-2,1.0416666999999999E-2,1.0416666999999999E-2,1.0416666999999999E-2,1.0416666999999999E-2,1.0416666999999999E-2,1.0416666999999999E-2,1.0416666999999999E-2,1.0416666999999999E-2,1.0416666999999999E-2,1.0416666999999999E-2,1.0416666999999999E-2,1.0416666999999999E-2,1.0416666999999999E-2,1.0416666999999999E-2,1.0416666999999999E-2,1.0416666999999999E-2,1.0416666999999999E-2,1.0416666999999999E-2,1.0416666999999999E-2,1.0416666999999999E-2,1.0416666999999999E-2,1.0416666999999999E-2,1.0416666999999999E-2,1.0416666999999999E-2,1.0416666999999999E-2,1.0416666999999999E-2,1.0416666999999999E-2,1.0416666999999999E-2,1.0416666999999999E-2,1.0416666999999999E-2,1.0416666999999999E-2]
["YearSplit",null,null,null,null,null,"S208",null,null,null,1.0416666999999999E-2,1.0416666999999999E-2,1.0416666999999999E-2,1.0416666999999999E-2,1.0416666999999999E-2,1.0416666999999999E-2,1.0416666999999999E-2,1.0416666999999999E-2,1.0416666999999999E-2,1.0416666999999999E-2,1.0416666999999999E-2,1.0416666999999999E-2,1.0416666999999999E-2,1.0416666999999999E-2,1.0416666999999999E-2,1.0416666999999999E-2,1.0416666999999999E-2,1.0416666999999999E-2,1.0416666999999999E-2,1.0416666999999999E-2,1.0416666999999999E-2,1.0416666999999999E-2,1.0416666999999999E-2,1.0416666999999999E-2,1.0416666999999999E-2,1.0416666999999999E-2,1.0416666999999999E-2,1.0416666999999999E-2,1.0416666999999999E-2,1.0416666999999999E-2,1.0416666999999999E-2,1.0416666999999999E-2,1.0416666999999999E-2,1.0416666999999999E-2,1.0416666999999999E-2,1.0416666999999999E-2,1.0416666999999999E-2,1.0416666999999999E-2,1.0416666999999999E-2,1.0416666999999999E-2,1.0416666999999999E-2,1.0416666999999999E-2,1.0416666999999999E-2,1.0416666999999999E-2,1.0416666999999999E-2,1.0416666999999999E-2,1.0416666999999999E-2,1.0416666999999999E-2,1.0416666999999999E-2,1.0416666999999999E-2,1.0416666999999999E-2,1.0416666999999999E-2,1.0416666999999999E-2,1.0416666999999999E-2,1.0416666999999999E-2,1.0416666999999999E-2]
["YearSplit",null,null,null,null,null,"S209",null,null,null,1.0416666999999999E-2,1.0416666999999999E-2,1.0416666999999999E-2,1.0416666999999999E-2,1.0416666999999999E-2,1.0416666999999999E-2,1.0416666999999999E-2,1.0416666999999999E-2,1.0416666999999999E-2,1.0416666999999999E-2,1.0416666999999999E-2,1.0416666999999999E-2,1.0416666999999999E-2,1.0416666999999999E-2,1.0416666999999999E-2,1.0416666999999999E-2,1.0416666999999999E-2,1.0416666999999999E-2,1.0416666999999999E-2,1.0416666999999999E-2,1.0416666999999999E-2,1.0416666999999999E-2,1.0416666999999999E-2,1.0416666999999999E-2,1.0416666999999999E-2,1.0416666999999999E-2,1.0416666999999999E-2,1.0416666999999999E-2,1.0416666999999999E-2,1.0416666999999999E-2,1.0416666999999999E-2,1.0416666999999999E-2,1.0416666999999999E-2,1.0416666999999999E-2,1.0416666999999999E-2,1.0416666999999999E-2,1.0416666999999999E-2,1.0416666999999999E-2,1.0416666999999999E-2,1.0416666999999999E-2,1.0416666999999999E-2,1.0416666999999999E-2,1.0416666999999999E-2,1.0416666999999999E-2,1.0416666999999999E-2,1.0416666999999999E-2,1.0416666999999999E-2,1.0416666999999999E-2,1.0416666999999999E-2,1.0416666999999999E-2,1.0416666999999999E-2,1.0416666999999999E-2,1.0416666999999999E-2,1.0416666999999999E-2,1.0416666999999999E-2,1.0416666999999999E-2]
["YearSplit",null,null,null,null,null,"S210",null,null,null,1.0416666999999999E-2,1.0416666999999999E-2,1.0416666999999999E-2,1.0416666999999999E-2,1.0416666999999999E-2,1.0416666999999999E-2,1.0416666999999999E-2,1.0416666999999999E-2,1.0416666999999999E-2,1.0416666999999999E-2,1.0416666999999999E-2,1.0416666999999999E-2,1.0416666999999999E-2,1.0416666999999999E-2,1.0416666999999999E-2,1.0416666999999999E-2,1.0416666999999999E-2,1.0416666999999999E-2,1.0416666999999999E-2,1.0416666999999999E-2,1.0416666999999999E-2,1.0416666999999999E-2,1.0416666999999999E-2,1.0416666999999999E-2,1.0416666999999999E-2,1.0416666999999999E-2,1.0416666999999999E-2,1.0416666999999999E-2,1.0416666999999999E-2,1.0416666999999999E-2,1.0416666999999999E-2,1.0416666999999999E-2,1.0416666999999999E-2,1.0416666999999999E-2,1.0416666999999999E-2,1.0416666999999999E-2,1.0416666999999999E-2,1.0416666999999999E-2,1.0416666999999999E-2,1.0416666999999999E-2,1.0416666999999999E-2,1.0416666999999999E-2,1.0416666999999999E-2,1.0416666999999999E-2,1.0416666999999999E-2,1.0416666999999999E-2,1.0416666999999999E-2,1.0416666999999999E-2,1.0416666999999999E-2,1.0416666999999999E-2,1.0416666999999999E-2,1.0416666999999999E-2,1.0416666999999999E-2,1.0416666999999999E-2,1.0416666999999999E-2,1.0416666999999999E-2]
["YearSplit",null,null,null,null,null,"S211",null,null,null,1.0416666999999999E-2,1.0416666999999999E-2,1.0416666999999999E-2,1.0416666999999999E-2,1.0416666999999999E-2,1.0416666999999999E-2,1.0416666999999999E-2,1.0416666999999999E-2,1.0416666999999999E-2,1.0416666999999999E-2,1.0416666999999999E-2,1.0416666999999999E-2,1.0416666999999999E-2,1.0416666999999999E-2,1.0416666999999999E-2,1.0416666999999999E-2,1.0416666999999999E-2,1.0416666999999999E-2,1.0416666999999999E-2,1.0416666999999999E-2,1.0416666999999999E-2,1.0416666999999999E-2,1.0416666999999999E-2,1.0416666999999999E-2,1.0416666999999999E-2,1.0416666999999999E-2,1.0416666999999999E-2,1.0416666999999999E-2,1.0416666999999999E-2,1.0416666999999999E-2,1.0416666999999999E-2,1.0416666999999999E-2,1.0416666999999999E-2,1.0416666999999999E-2,1.0416666999999999E-2,1.0416666999999999E-2,1.0416666999999999E-2,1.0416666999999999E-2,1.0416666999999999E-2,1.0416666999999999E-2,1.0416666999999999E-2,1.0416666999999999E-2,1.0416666999999999E-2,1.0416666999999999E-2,1.0416666999999999E-2,1.0416666999999999E-2,1.0416666999999999E-2,1.0416666999999999E-2,1.0416666999999999E-2,1.0416666999999999E-2,1.0416666999999999E-2,1.0416666999999999E-2,1.0416666999999999E-2,1.0416666999999999E-2,1.0416666999999999E-2,1.0416666999999999E-2]
["YearSplit",null,null,null,null,null,"S212",null,null,null,1.0416666999999999E-2,1.0416666999999999E-2,1.0416666999999999E-2,1.0416666999999999E-2,1.0416666999999999E-2,1.0416666999999999E-2,1.0416666999999999E-2,1.0416666999999999E-2,1.0416666999999999E-2,1.0416666999999999E-2,1.0416666999999999E-2,1.0416666999999999E-2,1.0416666999999999E-2,1.0416666999999999E-2,1.0416666999999999E-2,1.0416666999999999E-2,1.0416666999999999E-2,1.0416666999999999E-2,1.0416666999999999E-2,1.0416666999999999E-2,1.0416666999999999E-2,1.0416666999999999E-2,1.0416666999999999E-2,1.0416666999999999E-2,1.0416666999999999E-2,1.0416666999999999E-2,1.0416666999999999E-2,1.0416666999999999E-2,1.0416666999999999E-2,1.0416666999999999E-2,1.0416666999999999E-2,1.0416666999999999E-2,1.0416666999999999E-2,1.0416666999999999E-2,1.0416666999999999E-2,1.0416666999999999E-2,1.0416666999999999E-2,1.0416666999999999E-2,1.0416666999999999E-2,1.0416666999999999E-2,1.0416666999999999E-2,1.0416666999999999E-2,1.0416666999999999E-2,1.0416666999999999E-2,1.0416666999999999E-2,1.0416666999999999E-2,1.0416666999999999E-2,1.0416666999999999E-2,1.0416666999999999E-2,1.0416666999999999E-2,1.0416666999999999E-2,1.0416666999999999E-2,1.0416666999999999E-2,1.0416666999999999E-2,1.0416666999999999E-2,1.0416666999999999E-2]
["YearSplit",null,null,null,null,null,"S213",null,null,null,1.0416666999999999E-2,1.0416666999999999E-2,1.0416666999999999E-2,1.0416666999999999E-2,1.0416666999999999E-2,1.0416666999999999E-2,1.0416666999999999E-2,1.0416666999999999E-2,1.0416666999999999E-2,1.0416666999999999E-2,1.0416666999999999E-2,1.0416666999999999E-2,1.0416666999999999E-2,1.0416666999999999E-2,1.0416666999999999E-2,1.0416666999999999E-2,1.0416666999999999E-2,1.0416666999999999E-2,1.0416666999999999E-2,1.0416666999999999E-2,1.0416666999999999E-2,1.0416666999999999E-2,1.0416666999999999E-2,1.0416666999999999E-2,1.0416666999999999E-2,1.0416666999999999E-2,1.0416666999999999E-2,1.0416666999999999E-2,1.0416666999999999E-2,1.0416666999999999E-2,1.0416666999999999E-2,1.0416666999999999E-2,1.0416666999999999E-2,1.0416666999999999E-2,1.0416666999999999E-2,1.0416666999999999E-2,1.0416666999999999E-2,1.0416666999999999E-2,1.0416666999999999E-2,1.0416666999999999E-2,1.0416666999999999E-2,1.0416666999999999E-2,1.0416666999999999E-2,1.0416666999999999E-2,1.0416666999999999E-2,1.0416666999999999E-2,1.0416666999999999E-2,1.0416666999999999E-2,1.0416666999999999E-2,1.0416666999999999E-2,1.0416666999999999E-2,1.0416666999999999E-2,1.0416666999999999E-2,1.0416666999999999E-2,1.0416666999999999E-2,1.0416666999999999E-2]
["YearSplit",null,null,null,null,null,"S214",null,null,null,1.0416666999999999E-2,1.0416666999999999E-2,1.0416666999999999E-2,1.0416666999999999E-2,1.0416666999999999E-2,1.0416666999999999E-2,1.0416666999999999E-2,1.0416666999999999E-2,1.0416666999999999E-2,1.0416666999999999E-2,1.0416666999999999E-2,1.0416666999999999E-2,1.0416666999999999E-2,1.0416666999999999E-2,1.0416666999999999E-2,1.0416666999999999E-2,1.0416666999999999E-2,1.0416666999999999E-2,1.0416666999999999E-2,1.0416666999999999E-2,1.0416666999999999E-2,1.0416666999999999E-2,1.0416666999999999E-2,1.0416666999999999E-2,1.0416666999999999E-2,1.0416666999999999E-2,1.0416666999999999E-2,1.0416666999999999E-2,1.0416666999999999E-2,1.0416666999999999E-2,1.0416666999999999E-2,1.0416666999999999E-2,1.0416666999999999E-2,1.0416666999999999E-2,1.0416666999999999E-2,1.0416666999999999E-2,1.0416666999999999E-2,1.0416666999999999E-2,1.0416666999999999E-2,1.0416666999999999E-2,1.0416666999999999E-2,1.0416666999999999E-2,1.0416666999999999E-2,1.0416666999999999E-2,1.0416666999999999E-2,1.0416666999999999E-2,1.0416666999999999E-2,1.0416666999999999E-2,1.0416666999999999E-2,1.0416666999999999E-2,1.0416666999999999E-2,1.0416666999999999E-2,1.0416666999999999E-2,1.0416666999999999E-2,1.0416666999999999E-2,1.0416666999999999E-2]
["YearSplit",null,null,null,null,null,"S215",null,null,null,1.0416666999999999E-2,1.0416666999999999E-2,1.0416666999999999E-2,1.0416666999999999E-2,1.0416666999999999E-2,1.0416666999999999E-2,1.0416666999999999E-2,1.0416666999999999E-2,1.0416666999999999E-2,1.0416666999999999E-2,1.0416666999999999E-2,1.0416666999999999E-2,1.0416666999999999E-2,1.0416666999999999E-2,1.0416666999999999E-2,1.0416666999999999E-2,1.0416666999999999E-2,1.0416666999999999E-2,1.0416666999999999E-2,1.0416666999999999E-2,1.0416666999999999E-2,1.0416666999999999E-2,1.0416666999999999E-2,1.0416666999999999E-2,1.0416666999999999E-2,1.0416666999999999E-2,1.0416666999999999E-2,1.0416666999999999E-2,1.0416666999999999E-2,1.0416666999999999E-2,1.0416666999999999E-2,1.0416666999999999E-2,1.0416666999999999E-2,1.0416666999999999E-2,1.0416666999999999E-2,1.0416666999999999E-2,1.0416666999999999E-2,1.0416666999999999E-2,1.0416666999999999E-2,1.0416666999999999E-2,1.0416666999999999E-2,1.0416666999999999E-2,1.0416666999999999E-2,1.0416666999999999E-2,1.0416666999999999E-2,1.0416666999999999E-2,1.0416666999999999E-2,1.0416666999999999E-2,1.0416666999999999E-2,1.0416666999999999E-2,1.0416666999999999E-2,1.0416666999999999E-2,1.0416666999999999E-2,1.0416666999999999E-2,1.0416666999999999E-2,1.0416666999999999E-2]
["YearSplit",null,null,null,null,null,"S216",null,null,null,1.0416666999999999E-2,1.0416666999999999E-2,1.0416666999999999E-2,1.0416666999999999E-2,1.0416666999999999E-2,1.0416666999999999E-2,1.0416666999999999E-2,1.0416666999999999E-2,1.0416666999999999E-2,1.0416666999999999E-2,1.0416666999999999E-2,1.0416666999999999E-2,1.0416666999999999E-2,1.0416666999999999E-2,1.0416666999999999E-2,1.0416666999999999E-2,1.0416666999999999E-2,1.0416666999999999E-2,1.0416666999999999E-2,1.0416666999999999E-2,1.0416666999999999E-2,1.0416666999999999E-2,1.0416666999999999E-2,1.0416666999999999E-2,1.0416666999999999E-2,1.0416666999999999E-2,1.0416666999999999E-2,1.0416666999999999E-2,1.0416666999999999E-2,1.0416666999999999E-2,1.0416666999999999E-2,1.0416666999999999E-2,1.0416666999999999E-2,1.0416666999999999E-2,1.0416666999999999E-2,1.0416666999999999E-2,1.0416666999999999E-2,1.0416666999999999E-2,1.0416666999999999E-2,1.0416666999999999E-2,1.0416666999999999E-2,1.0416666999999999E-2,1.0416666999999999E-2,1.0416666999999999E-2,1.0416666999999999E-2,1.0416666999999999E-2,1.0416666999999999E-2,1.0416666999999999E-2,1.0416666999999999E-2,1.0416666999999999E-2,1.0416666999999999E-2,1.0416666999999999E-2,1.0416666999999999E-2,1.0416666999999999E-2,1.0416666999999999E-2,1.0416666999999999E-2]
["YearSplit",null,null,null,null,null,"S217",null,null,null,1.0416666999999999E-2,1.0416666999999999E-2,1.0416666999999999E-2,1.0416666999999999E-2,1.0416666999999999E-2,1.0416666999999999E-2,1.0416666999999999E-2,1.0416666999999999E-2,1.0416666999999999E-2,1.0416666999999999E-2,1.0416666999999999E-2,1.0416666999999999E-2,1.0416666999999999E-2,1.0416666999999999E-2,1.0416666999999999E-2,1.0416666999999999E-2,1.0416666999999999E-2,1.0416666999999999E-2,1.0416666999999999E-2,1.0416666999999999E-2,1.0416666999999999E-2,1.0416666999999999E-2,1.0416666999999999E-2,1.0416666999999999E-2,1.0416666999999999E-2,1.0416666999999999E-2,1.0416666999999999E-2,1.0416666999999999E-2,1.0416666999999999E-2,1.0416666999999999E-2,1.0416666999999999E-2,1.0416666999999999E-2,1.0416666999999999E-2,1.0416666999999999E-2,1.0416666999999999E-2,1.0416666999999999E-2,1.0416666999999999E-2,1.0416666999999999E-2,1.0416666999999999E-2,1.0416666999999999E-2,1.0416666999999999E-2,1.0416666999999999E-2,1.0416666999999999E-2,1.0416666999999999E-2,1.0416666999999999E-2,1.0416666999999999E-2,1.0416666999999999E-2,1.0416666999999999E-2,1.0416666999999999E-2,1.0416666999999999E-2,1.0416666999999999E-2,1.0416666999999999E-2,1.0416666999999999E-2,1.0416666999999999E-2,1.0416666999999999E-2,1.0416666999999999E-2]
["YearSplit",null,null,null,null,null,"S218",null,null,null,1.0416666999999999E-2,1.0416666999999999E-2,1.0416666999999999E-2,1.0416666999999999E-2,1.0416666999999999E-2,1.0416666999999999E-2,1.0416666999999999E-2,1.0416666999999999E-2,1.0416666999999999E-2,1.0416666999999999E-2,1.0416666999999999E-2,1.0416666999999999E-2,1.0416666999999999E-2,1.0416666999999999E-2,1.0416666999999999E-2,1.0416666999999999E-2,1.0416666999999999E-2,1.0416666999999999E-2,1.0416666999999999E-2,1.0416666999999999E-2,1.0416666999999999E-2,1.0416666999999999E-2,1.0416666999999999E-2,1.0416666999999999E-2,1.0416666999999999E-2,1.0416666999999999E-2,1.0416666999999999E-2,1.0416666999999999E-2,1.0416666999999999E-2,1.0416666999999999E-2,1.0416666999999999E-2,1.0416666999999999E-2,1.0416666999999999E-2,1.0416666999999999E-2,1.0416666999999999E-2,1.0416666999999999E-2,1.0416666999999999E-2,1.0416666999999999E-2,1.0416666999999999E-2,1.0416666999999999E-2,1.0416666999999999E-2,1.0416666999999999E-2,1.0416666999999999E-2,1.0416666999999999E-2,1.0416666999999999E-2,1.0416666999999999E-2,1.0416666999999999E-2,1.0416666999999999E-2,1.0416666999999999E-2,1.0416666999999999E-2,1.0416666999999999E-2,1.0416666999999999E-2,1.0416666999999999E-2,1.0416666999999999E-2,1.0416666999999999E-2,1.0416666999999999E-2]
["YearSplit",null,null,null,null,null,"S219",null,null,null,1.0416666999999999E-2,1.0416666999999999E-2,1.0416666999999999E-2,1.0416666999999999E-2,1.0416666999999999E-2,1.0416666999999999E-2,1.0416666999999999E-2,1.0416666999999999E-2,1.0416666999999999E-2,1.0416666999999999E-2,1.0416666999999999E-2,1.0416666999999999E-2,1.0416666999999999E-2,1.0416666999999999E-2,1.0416666999999999E-2,1.0416666999999999E-2,1.0416666999999999E-2,1.0416666999999999E-2,1.0416666999999999E-2,1.0416666999999999E-2,1.0416666999999999E-2,1.0416666999999999E-2,1.0416666999999999E-2,1.0416666999999999E-2,1.0416666999999999E-2,1.0416666999999999E-2,1.0416666999999999E-2,1.0416666999999999E-2,1.0416666999999999E-2,1.0416666999999999E-2,1.0416666999999999E-2,1.0416666999999999E-2,1.0416666999999999E-2,1.0416666999999999E-2,1.0416666999999999E-2,1.0416666999999999E-2,1.0416666999999999E-2,1.0416666999999999E-2,1.0416666999999999E-2,1.0416666999999999E-2,1.0416666999999999E-2,1.0416666999999999E-2,1.0416666999999999E-2,1.0416666999999999E-2,1.0416666999999999E-2,1.0416666999999999E-2,1.0416666999999999E-2,1.0416666999999999E-2,1.0416666999999999E-2,1.0416666999999999E-2,1.0416666999999999E-2,1.0416666999999999E-2,1.0416666999999999E-2,1.0416666999999999E-2,1.0416666999999999E-2,1.0416666999999999E-2]
["YearSplit",null,null,null,null,null,"S220",null,null,null,1.0416666999999999E-2,1.0416666999999999E-2,1.0416666999999999E-2,1.0416666999999999E-2,1.0416666999999999E-2,1.0416666999999999E-2,1.0416666999999999E-2,1.0416666999999999E-2,1.0416666999999999E-2,1.0416666999999999E-2,1.0416666999999999E-2,1.0416666999999999E-2,1.0416666999999999E-2,1.0416666999999999E-2,1.0416666999999999E-2,1.0416666999999999E-2,1.0416666999999999E-2,1.0416666999999999E-2,1.0416666999999999E-2,1.0416666999999999E-2,1.0416666999999999E-2,1.0416666999999999E-2,1.0416666999999999E-2,1.0416666999999999E-2,1.0416666999999999E-2,1.0416666999999999E-2,1.0416666999999999E-2,1.0416666999999999E-2,1.0416666999999999E-2,1.0416666999999999E-2,1.0416666999999999E-2,1.0416666999999999E-2,1.0416666999999999E-2,1.0416666999999999E-2,1.0416666999999999E-2,1.0416666999999999E-2,1.0416666999999999E-2,1.0416666999999999E-2,1.0416666999999999E-2,1.0416666999999999E-2,1.0416666999999999E-2,1.0416666999999999E-2,1.0416666999999999E-2,1.0416666999999999E-2,1.0416666999999999E-2,1.0416666999999999E-2,1.0416666999999999E-2,1.0416666999999999E-2,1.0416666999999999E-2,1.0416666999999999E-2,1.0416666999999999E-2,1.0416666999999999E-2,1.0416666999999999E-2,1.0416666999999999E-2,1.0416666999999999E-2,1.0416666999999999E-2]
["YearSplit",null,null,null,null,null,"S221",null,null,null,1.0416666999999999E-2,1.0416666999999999E-2,1.0416666999999999E-2,1.0416666999999999E-2,1.0416666999999999E-2,1.0416666999999999E-2,1.0416666999999999E-2,1.0416666999999999E-2,1.0416666999999999E-2,1.0416666999999999E-2,1.0416666999999999E-2,1.0416666999999999E-2,1.0416666999999999E-2,1.0416666999999999E-2,1.0416666999999999E-2,1.0416666999999999E-2,1.0416666999999999E-2,1.0416666999999999E-2,1.0416666999999999E-2,1.0416666999999999E-2,1.0416666999999999E-2,1.0416666999999999E-2,1.0416666999999999E-2,1.0416666999999999E-2,1.0416666999999999E-2,1.0416666999999999E-2,1.0416666999999999E-2,1.0416666999999999E-2,1.0416666999999999E-2,1.0416666999999999E-2,1.0416666999999999E-2,1.0416666999999999E-2,1.0416666999999999E-2,1.0416666999999999E-2,1.0416666999999999E-2,1.0416666999999999E-2,1.0416666999999999E-2,1.0416666999999999E-2,1.0416666999999999E-2,1.0416666999999999E-2,1.0416666999999999E-2,1.0416666999999999E-2,1.0416666999999999E-2,1.0416666999999999E-2,1.0416666999999999E-2,1.0416666999999999E-2,1.0416666999999999E-2,1.0416666999999999E-2,1.0416666999999999E-2,1.0416666999999999E-2,1.0416666999999999E-2,1.0416666999999999E-2,1.0416666999999999E-2,1.0416666999999999E-2,1.0416666999999999E-2,1.0416666999999999E-2]
["YearSplit",null,null,null,null,null,"S222",null,null,null,1.0416666999999999E-2,1.0416666999999999E-2,1.0416666999999999E-2,1.0416666999999999E-2,1.0416666999999999E-2,1.0416666999999999E-2,1.0416666999999999E-2,1.0416666999999999E-2,1.0416666999999999E-2,1.0416666999999999E-2,1.0416666999999999E-2,1.0416666999999999E-2,1.0416666999999999E-2,1.0416666999999999E-2,1.0416666999999999E-2,1.0416666999999999E-2,1.0416666999999999E-2,1.0416666999999999E-2,1.0416666999999999E-2,1.0416666999999999E-2,1.0416666999999999E-2,1.0416666999999999E-2,1.0416666999999999E-2,1.0416666999999999E-2,1.0416666999999999E-2,1.0416666999999999E-2,1.0416666999999999E-2,1.0416666999999999E-2,1.0416666999999999E-2,1.0416666999999999E-2,1.0416666999999999E-2,1.0416666999999999E-2,1.0416666999999999E-2,1.0416666999999999E-2,1.0416666999999999E-2,1.0416666999999999E-2,1.0416666999999999E-2,1.0416666999999999E-2,1.0416666999999999E-2,1.0416666999999999E-2,1.0416666999999999E-2,1.0416666999999999E-2,1.0416666999999999E-2,1.0416666999999999E-2,1.0416666999999999E-2,1.0416666999999999E-2,1.0416666999999999E-2,1.0416666999999999E-2,1.0416666999999999E-2,1.0416666999999999E-2,1.0416666999999999E-2,1.0416666999999999E-2,1.0416666999999999E-2,1.0416666999999999E-2,1.0416666999999999E-2,1.0416666999999999E-2]
["YearSplit",null,null,null,null,null,"S223",null,null,null,1.0416666999999999E-2,1.0416666999999999E-2,1.0416666999999999E-2,1.0416666999999999E-2,1.0416666999999999E-2,1.0416666999999999E-2,1.0416666999999999E-2,1.0416666999999999E-2,1.0416666999999999E-2,1.0416666999999999E-2,1.0416666999999999E-2,1.0416666999999999E-2,1.0416666999999999E-2,1.0416666999999999E-2,1.0416666999999999E-2,1.0416666999999999E-2,1.0416666999999999E-2,1.0416666999999999E-2,1.0416666999999999E-2,1.0416666999999999E-2,1.0416666999999999E-2,1.0416666999999999E-2,1.0416666999999999E-2,1.0416666999999999E-2,1.0416666999999999E-2,1.0416666999999999E-2,1.0416666999999999E-2,1.0416666999999999E-2,1.0416666999999999E-2,1.0416666999999999E-2,1.0416666999999999E-2,1.0416666999999999E-2,1.0416666999999999E-2,1.0416666999999999E-2,1.0416666999999999E-2,1.0416666999999999E-2,1.0416666999999999E-2,1.0416666999999999E-2,1.0416666999999999E-2,1.0416666999999999E-2,1.0416666999999999E-2,1.0416666999999999E-2,1.0416666999999999E-2,1.0416666999999999E-2,1.0416666999999999E-2,1.0416666999999999E-2,1.0416666999999999E-2,1.0416666999999999E-2,1.0416666999999999E-2,1.0416666999999999E-2,1.0416666999999999E-2,1.0416666999999999E-2,1.0416666999999999E-2,1.0416666999999999E-2,1.0416666999999999E-2,1.0416666999999999E-2]
["YearSplit",null,null,null,null,null,"S224",null,null,null,1.0416666999999999E-2,1.0416666999999999E-2,1.0416666999999999E-2,1.0416666999999999E-2,1.0416666999999999E-2,1.0416666999999999E-2,1.0416666999999999E-2,1.0416666999999999E-2,1.0416666999999999E-2,1.0416666999999999E-2,1.0416666999999999E-2,1.0416666999999999E-2,1.0416666999999999E-2,1.0416666999999999E-2,1.0416666999999999E-2,1.0416666999999999E-2,1.0416666999999999E-2,1.0416666999999999E-2,1.0416666999999999E-2,1.0416666999999999E-2,1.0416666999999999E-2,1.0416666999999999E-2,1.0416666999999999E-2,1.0416666999999999E-2,1.0416666999999999E-2,1.0416666999999999E-2,1.0416666999999999E-2,1.0416666999999999E-2,1.0416666999999999E-2,1.0416666999999999E-2,1.0416666999999999E-2,1.0416666999999999E-2,1.0416666999999999E-2,1.0416666999999999E-2,1.0416666999999999E-2,1.0416666999999999E-2,1.0416666999999999E-2,1.0416666999999999E-2,1.0416666999999999E-2,1.0416666999999999E-2,1.0416666999999999E-2,1.0416666999999999E-2,1.0416666999999999E-2,1.0416666999999999E-2,1.0416666999999999E-2,1.0416666999999999E-2,1.0416666999999999E-2,1.0416666999999999E-2,1.0416666999999999E-2,1.0416666999999999E-2,1.0416666999999999E-2,1.0416666999999999E-2,1.0416666999999999E-2,1.0416666999999999E-2,1.0416666999999999E-2,1.0416666999999999E-2]
["YearSplit",null,null,null,null,null,"S301",null,null,null,1.0416666999999999E-2,1.0416666999999999E-2,1.0416666999999999E-2,1.0416666999999999E-2,1.0416666999999999E-2,1.0416666999999999E-2,1.0416666999999999E-2,1.0416666999999999E-2,1.0416666999999999E-2,1.0416666999999999E-2,1.0416666999999999E-2,1.0416666999999999E-2,1.0416666999999999E-2,1.0416666999999999E-2,1.0416666999999999E-2,1.0416666999999999E-2,1.0416666999999999E-2,1.0416666999999999E-2,1.0416666999999999E-2,1.0416666999999999E-2,1.0416666999999999E-2,1.0416666999999999E-2,1.0416666999999999E-2,1.0416666999999999E-2,1.0416666999999999E-2,1.0416666999999999E-2,1.0416666999999999E-2,1.0416666999999999E-2,1.0416666999999999E-2,1.0416666999999999E-2,1.0416666999999999E-2,1.0416666999999999E-2,1.0416666999999999E-2,1.0416666999999999E-2,1.0416666999999999E-2,1.0416666999999999E-2,1.0416666999999999E-2,1.0416666999999999E-2,1.0416666999999999E-2,1.0416666999999999E-2,1.0416666999999999E-2,1.0416666999999999E-2,1.0416666999999999E-2,1.0416666999999999E-2,1.0416666999999999E-2,1.0416666999999999E-2,1.0416666999999999E-2,1.0416666999999999E-2,1.0416666999999999E-2,1.0416666999999999E-2,1.0416666999999999E-2,1.0416666999999999E-2,1.0416666999999999E-2,1.0416666999999999E-2,1.0416666999999999E-2,1.0416666999999999E-2]
["YearSplit",null,null,null,null,null,"S302",null,null,null,1.0416666999999999E-2,1.0416666999999999E-2,1.0416666999999999E-2,1.0416666999999999E-2,1.0416666999999999E-2,1.0416666999999999E-2,1.0416666999999999E-2,1.0416666999999999E-2,1.0416666999999999E-2,1.0416666999999999E-2,1.0416666999999999E-2,1.0416666999999999E-2,1.0416666999999999E-2,1.0416666999999999E-2,1.0416666999999999E-2,1.0416666999999999E-2,1.0416666999999999E-2,1.0416666999999999E-2,1.0416666999999999E-2,1.0416666999999999E-2,1.0416666999999999E-2,1.0416666999999999E-2,1.0416666999999999E-2,1.0416666999999999E-2,1.0416666999999999E-2,1.0416666999999999E-2,1.0416666999999999E-2,1.0416666999999999E-2,1.0416666999999999E-2,1.0416666999999999E-2,1.0416666999999999E-2,1.0416666999999999E-2,1.0416666999999999E-2,1.0416666999999999E-2,1.0416666999999999E-2,1.0416666999999999E-2,1.0416666999999999E-2,1.0416666999999999E-2,1.0416666999999999E-2,1.0416666999999999E-2,1.0416666999999999E-2,1.0416666999999999E-2,1.0416666999999999E-2,1.0416666999999999E-2,1.0416666999999999E-2,1.0416666999999999E-2,1.0416666999999999E-2,1.0416666999999999E-2,1.0416666999999999E-2,1.0416666999999999E-2,1.0416666999999999E-2,1.0416666999999999E-2,1.0416666999999999E-2,1.0416666999999999E-2,1.0416666999999999E-2,1.0416666999999999E-2]
["YearSplit",null,null,null,null,null,"S303",null,null,null,1.0416666999999999E-2,1.0416666999999999E-2,1.0416666999999999E-2,1.0416666999999999E-2,1.0416666999999999E-2,1.0416666999999999E-2,1.0416666999999999E-2,1.0416666999999999E-2,1.0416666999999999E-2,1.0416666999999999E-2,1.0416666999999999E-2,1.0416666999999999E-2,1.0416666999999999E-2,1.0416666999999999E-2,1.0416666999999999E-2,1.0416666999999999E-2,1.0416666999999999E-2,1.0416666999999999E-2,1.0416666999999999E-2,1.0416666999999999E-2,1.0416666999999999E-2,1.0416666999999999E-2,1.0416666999999999E-2,1.0416666999999999E-2,1.0416666999999999E-2,1.0416666999999999E-2,1.0416666999999999E-2,1.0416666999999999E-2,1.0416666999999999E-2,1.0416666999999999E-2,1.0416666999999999E-2,1.0416666999999999E-2,1.0416666999999999E-2,1.0416666999999999E-2,1.0416666999999999E-2,1.0416666999999999E-2,1.0416666999999999E-2,1.0416666999999999E-2,1.0416666999999999E-2,1.0416666999999999E-2,1.0416666999999999E-2,1.0416666999999999E-2,1.0416666999999999E-2,1.0416666999999999E-2,1.0416666999999999E-2,1.0416666999999999E-2,1.0416666999999999E-2,1.0416666999999999E-2,1.0416666999999999E-2,1.0416666999999999E-2,1.0416666999999999E-2,1.0416666999999999E-2,1.0416666999999999E-2,1.0416666999999999E-2,1.0416666999999999E-2,1.0416666999999999E-2]
["YearSplit",null,null,null,null,null,"S304",null,null,null,1.0416666999999999E-2,1.0416666999999999E-2,1.0416666999999999E-2,1.0416666999999999E-2,1.0416666999999999E-2,1.0416666999999999E-2,1.0416666999999999E-2,1.0416666999999999E-2,1.0416666999999999E-2,1.0416666999999999E-2,1.0416666999999999E-2,1.0416666999999999E-2,1.0416666999999999E-2,1.0416666999999999E-2,1.0416666999999999E-2,1.0416666999999999E-2,1.0416666999999999E-2,1.0416666999999999E-2,1.0416666999999999E-2,1.0416666999999999E-2,1.0416666999999999E-2,1.0416666999999999E-2,1.0416666999999999E-2,1.0416666999999999E-2,1.0416666999999999E-2,1.0416666999999999E-2,1.0416666999999999E-2,1.0416666999999999E-2,1.0416666999999999E-2,1.0416666999999999E-2,1.0416666999999999E-2,1.0416666999999999E-2,1.0416666999999999E-2,1.0416666999999999E-2,1.0416666999999999E-2,1.0416666999999999E-2,1.0416666999999999E-2,1.0416666999999999E-2,1.0416666999999999E-2,1.0416666999999999E-2,1.0416666999999999E-2,1.0416666999999999E-2,1.0416666999999999E-2,1.0416666999999999E-2,1.0416666999999999E-2,1.0416666999999999E-2,1.0416666999999999E-2,1.0416666999999999E-2,1.0416666999999999E-2,1.0416666999999999E-2,1.0416666999999999E-2,1.0416666999999999E-2,1.0416666999999999E-2,1.0416666999999999E-2,1.0416666999999999E-2,1.0416666999999999E-2]
["YearSplit",null,null,null,null,null,"S305",null,null,null,1.0416666999999999E-2,1.0416666999999999E-2,1.0416666999999999E-2,1.0416666999999999E-2,1.0416666999999999E-2,1.0416666999999999E-2,1.0416666999999999E-2,1.0416666999999999E-2,1.0416666999999999E-2,1.0416666999999999E-2,1.0416666999999999E-2,1.0416666999999999E-2,1.0416666999999999E-2,1.0416666999999999E-2,1.0416666999999999E-2,1.0416666999999999E-2,1.0416666999999999E-2,1.0416666999999999E-2,1.0416666999999999E-2,1.0416666999999999E-2,1.0416666999999999E-2,1.0416666999999999E-2,1.0416666999999999E-2,1.0416666999999999E-2,1.0416666999999999E-2,1.0416666999999999E-2,1.0416666999999999E-2,1.0416666999999999E-2,1.0416666999999999E-2,1.0416666999999999E-2,1.0416666999999999E-2,1.0416666999999999E-2,1.0416666999999999E-2,1.0416666999999999E-2,1.0416666999999999E-2,1.0416666999999999E-2,1.0416666999999999E-2,1.0416666999999999E-2,1.0416666999999999E-2,1.0416666999999999E-2,1.0416666999999999E-2,1.0416666999999999E-2,1.0416666999999999E-2,1.0416666999999999E-2,1.0416666999999999E-2,1.0416666999999999E-2,1.0416666999999999E-2,1.0416666999999999E-2,1.0416666999999999E-2,1.0416666999999999E-2,1.0416666999999999E-2,1.0416666999999999E-2,1.0416666999999999E-2,1.0416666999999999E-2,1.0416666999999999E-2,1.0416666999999999E-2]
["YearSplit",null,null,null,null,null,"S306",null,null,null,1.0416666999999999E-2,1.0416666999999999E-2,1.0416666999999999E-2,1.0416666999999999E-2,1.0416666999999999E-2,1.0416666999999999E-2,1.0416666999999999E-2,1.0416666999999999E-2,1.0416666999999999E-2,1.0416666999999999E-2,1.0416666999999999E-2,1.0416666999999999E-2,1.0416666999999999E-2,1.0416666999999999E-2,1.0416666999999999E-2,1.0416666999999999E-2,1.0416666999999999E-2,1.0416666999999999E-2,1.0416666999999999E-2,1.0416666999999999E-2,1.0416666999999999E-2,1.0416666999999999E-2,1.0416666999999999E-2,1.0416666999999999E-2,1.0416666999999999E-2,1.0416666999999999E-2,1.0416666999999999E-2,1.0416666999999999E-2,1.0416666999999999E-2,1.0416666999999999E-2,1.0416666999999999E-2,1.0416666999999999E-2,1.0416666999999999E-2,1.0416666999999999E-2,1.0416666999999999E-2,1.0416666999999999E-2,1.0416666999999999E-2,1.0416666999999999E-2,1.0416666999999999E-2,1.0416666999999999E-2,1.0416666999999999E-2,1.0416666999999999E-2,1.0416666999999999E-2,1.0416666999999999E-2,1.0416666999999999E-2,1.0416666999999999E-2,1.0416666999999999E-2,1.0416666999999999E-2,1.0416666999999999E-2,1.0416666999999999E-2,1.0416666999999999E-2,1.0416666999999999E-2,1.0416666999999999E-2,1.0416666999999999E-2,1.0416666999999999E-2,1.0416666999999999E-2]
["YearSplit",null,null,null,null,null,"S307",null,null,null,1.0416666999999999E-2,1.0416666999999999E-2,1.0416666999999999E-2,1.0416666999999999E-2,1.0416666999999999E-2,1.0416666999999999E-2,1.0416666999999999E-2,1.0416666999999999E-2,1.0416666999999999E-2,1.0416666999999999E-2,1.0416666999999999E-2,1.0416666999999999E-2,1.0416666999999999E-2,1.0416666999999999E-2,1.0416666999999999E-2,1.0416666999999999E-2,1.0416666999999999E-2,1.0416666999999999E-2,1.0416666999999999E-2,1.0416666999999999E-2,1.0416666999999999E-2,1.0416666999999999E-2,1.0416666999999999E-2,1.0416666999999999E-2,1.0416666999999999E-2,1.0416666999999999E-2,1.0416666999999999E-2,1.0416666999999999E-2,1.0416666999999999E-2,1.0416666999999999E-2,1.0416666999999999E-2,1.0416666999999999E-2,1.0416666999999999E-2,1.0416666999999999E-2,1.0416666999999999E-2,1.0416666999999999E-2,1.0416666999999999E-2,1.0416666999999999E-2,1.0416666999999999E-2,1.0416666999999999E-2,1.0416666999999999E-2,1.0416666999999999E-2,1.0416666999999999E-2,1.0416666999999999E-2,1.0416666999999999E-2,1.0416666999999999E-2,1.0416666999999999E-2,1.0416666999999999E-2,1.0416666999999999E-2,1.0416666999999999E-2,1.0416666999999999E-2,1.0416666999999999E-2,1.0416666999999999E-2,1.0416666999999999E-2,1.0416666999999999E-2,1.0416666999999999E-2]
["YearSplit",null,null,null,null,null,"S308",null,null,null,1.0416666999999999E-2,1.0416666999999999E-2,1.0416666999999999E-2,1.0416666999999999E-2,1.0416666999999999E-2,1.0416666999999999E-2,1.0416666999999999E-2,1.0416666999999999E-2,1.0416666999999999E-2,1.0416666999999999E-2,1.0416666999999999E-2,1.0416666999999999E-2,1.0416666999999999E-2,1.0416666999999999E-2,1.0416666999999999E-2,1.0416666999999999E-2,1.0416666999999999E-2,1.0416666999999999E-2,1.0416666999999999E-2,1.0416666999999999E-2,1.0416666999999999E-2,1.0416666999999999E-2,1.0416666999999999E-2,1.0416666999999999E-2,1.0416666999999999E-2,1.0416666999999999E-2,1.0416666999999999E-2,1.0416666999999999E-2,1.0416666999999999E-2,1.0416666999999999E-2,1.0416666999999999E-2,1.0416666999999999E-2,1.0416666999999999E-2,1.0416666999999999E-2,1.0416666999999999E-2,1.0416666999999999E-2,1.0416666999999999E-2,1.0416666999999999E-2,1.0416666999999999E-2,1.0416666999999999E-2,1.0416666999999999E-2,1.0416666999999999E-2,1.0416666999999999E-2,1.0416666999999999E-2,1.0416666999999999E-2,1.0416666999999999E-2,1.0416666999999999E-2,1.0416666999999999E-2,1.0416666999999999E-2,1.0416666999999999E-2,1.0416666999999999E-2,1.0416666999999999E-2,1.0416666999999999E-2,1.0416666999999999E-2,1.0416666999999999E-2,1.0416666999999999E-2]
["YearSplit",null,null,null,null,null,"S309",null,null,null,1.0416666999999999E-2,1.0416666999999999E-2,1.0416666999999999E-2,1.0416666999999999E-2,1.0416666999999999E-2,1.0416666999999999E-2,1.0416666999999999E-2,1.0416666999999999E-2,1.0416666999999999E-2,1.0416666999999999E-2,1.0416666999999999E-2,1.0416666999999999E-2,1.0416666999999999E-2,1.0416666999999999E-2,1.0416666999999999E-2,1.0416666999999999E-2,1.0416666999999999E-2,1.0416666999999999E-2,1.0416666999999999E-2,1.0416666999999999E-2,1.0416666999999999E-2,1.0416666999999999E-2,1.0416666999999999E-2,1.0416666999999999E-2,1.0416666999999999E-2,1.0416666999999999E-2,1.0416666999999999E-2,1.0416666999999999E-2,1.0416666999999999E-2,1.0416666999999999E-2,1.0416666999999999E-2,1.0416666999999999E-2,1.0416666999999999E-2,1.0416666999999999E-2,1.0416666999999999E-2,1.0416666999999999E-2,1.0416666999999999E-2,1.0416666999999999E-2,1.0416666999999999E-2,1.0416666999999999E-2,1.0416666999999999E-2,1.0416666999999999E-2,1.0416666999999999E-2,1.0416666999999999E-2,1.0416666999999999E-2,1.0416666999999999E-2,1.0416666999999999E-2,1.0416666999999999E-2,1.0416666999999999E-2,1.0416666999999999E-2,1.0416666999999999E-2,1.0416666999999999E-2,1.0416666999999999E-2,1.0416666999999999E-2,1.0416666999999999E-2,1.0416666999999999E-2]
["YearSplit",null,null,null,null,null,"S310",null,null,null,1.0416666999999999E-2,1.0416666999999999E-2,1.0416666999999999E-2,1.0416666999999999E-2,1.0416666999999999E-2,1.0416666999999999E-2,1.0416666999999999E-2,1.0416666999999999E-2,1.0416666999999999E-2,1.0416666999999999E-2,1.0416666999999999E-2,1.0416666999999999E-2,1.0416666999999999E-2,1.0416666999999999E-2,1.0416666999999999E-2,1.0416666999999999E-2,1.0416666999999999E-2,1.0416666999999999E-2,1.0416666999999999E-2,1.0416666999999999E-2,1.0416666999999999E-2,1.0416666999999999E-2,1.0416666999999999E-2,1.0416666999999999E-2,1.0416666999999999E-2,1.0416666999999999E-2,1.0416666999999999E-2,1.0416666999999999E-2,1.0416666999999999E-2,1.0416666999999999E-2,1.0416666999999999E-2,1.0416666999999999E-2,1.0416666999999999E-2,1.0416666999999999E-2,1.0416666999999999E-2,1.0416666999999999E-2,1.0416666999999999E-2,1.0416666999999999E-2,1.0416666999999999E-2,1.0416666999999999E-2,1.0416666999999999E-2,1.0416666999999999E-2,1.0416666999999999E-2,1.0416666999999999E-2,1.0416666999999999E-2,1.0416666999999999E-2,1.0416666999999999E-2,1.0416666999999999E-2,1.0416666999999999E-2,1.0416666999999999E-2,1.0416666999999999E-2,1.0416666999999999E-2,1.0416666999999999E-2,1.0416666999999999E-2,1.0416666999999999E-2,1.0416666999999999E-2]
["YearSplit",null,null,null,null,null,"S311",null,null,null,1.0416666999999999E-2,1.0416666999999999E-2,1.0416666999999999E-2,1.0416666999999999E-2,1.0416666999999999E-2,1.0416666999999999E-2,1.0416666999999999E-2,1.0416666999999999E-2,1.0416666999999999E-2,1.0416666999999999E-2,1.0416666999999999E-2,1.0416666999999999E-2,1.0416666999999999E-2,1.0416666999999999E-2,1.0416666999999999E-2,1.0416666999999999E-2,1.0416666999999999E-2,1.0416666999999999E-2,1.0416666999999999E-2,1.0416666999999999E-2,1.0416666999999999E-2,1.0416666999999999E-2,1.0416666999999999E-2,1.0416666999999999E-2,1.0416666999999999E-2,1.0416666999999999E-2,1.0416666999999999E-2,1.0416666999999999E-2,1.0416666999999999E-2,1.0416666999999999E-2,1.0416666999999999E-2,1.0416666999999999E-2,1.0416666999999999E-2,1.0416666999999999E-2,1.0416666999999999E-2,1.0416666999999999E-2,1.0416666999999999E-2,1.0416666999999999E-2,1.0416666999999999E-2,1.0416666999999999E-2,1.0416666999999999E-2,1.0416666999999999E-2,1.0416666999999999E-2,1.0416666999999999E-2,1.0416666999999999E-2,1.0416666999999999E-2,1.0416666999999999E-2,1.0416666999999999E-2,1.0416666999999999E-2,1.0416666999999999E-2,1.0416666999999999E-2,1.0416666999999999E-2,1.0416666999999999E-2,1.0416666999999999E-2,1.0416666999999999E-2,1.0416666999999999E-2]
["YearSplit",null,null,null,null,null,"S312",null,null,null,1.0416666999999999E-2,1.0416666999999999E-2,1.0416666999999999E-2,1.0416666999999999E-2,1.0416666999999999E-2,1.0416666999999999E-2,1.0416666999999999E-2,1.0416666999999999E-2,1.0416666999999999E-2,1.0416666999999999E-2,1.0416666999999999E-2,1.0416666999999999E-2,1.0416666999999999E-2,1.0416666999999999E-2,1.0416666999999999E-2,1.0416666999999999E-2,1.0416666999999999E-2,1.0416666999999999E-2,1.0416666999999999E-2,1.0416666999999999E-2,1.0416666999999999E-2,1.0416666999999999E-2,1.0416666999999999E-2,1.0416666999999999E-2,1.0416666999999999E-2,1.0416666999999999E-2,1.0416666999999999E-2,1.0416666999999999E-2,1.0416666999999999E-2,1.0416666999999999E-2,1.0416666999999999E-2,1.0416666999999999E-2,1.0416666999999999E-2,1.0416666999999999E-2,1.0416666999999999E-2,1.0416666999999999E-2,1.0416666999999999E-2,1.0416666999999999E-2,1.0416666999999999E-2,1.0416666999999999E-2,1.0416666999999999E-2,1.0416666999999999E-2,1.0416666999999999E-2,1.0416666999999999E-2,1.0416666999999999E-2,1.0416666999999999E-2,1.0416666999999999E-2,1.0416666999999999E-2,1.0416666999999999E-2,1.0416666999999999E-2,1.0416666999999999E-2,1.0416666999999999E-2,1.0416666999999999E-2,1.0416666999999999E-2,1.0416666999999999E-2,1.0416666999999999E-2]
["YearSplit",null,null,null,null,null,"S313",null,null,null,1.0416666999999999E-2,1.0416666999999999E-2,1.0416666999999999E-2,1.0416666999999999E-2,1.0416666999999999E-2,1.0416666999999999E-2,1.0416666999999999E-2,1.0416666999999999E-2,1.0416666999999999E-2,1.0416666999999999E-2,1.0416666999999999E-2,1.0416666999999999E-2,1.0416666999999999E-2,1.0416666999999999E-2,1.0416666999999999E-2,1.0416666999999999E-2,1.0416666999999999E-2,1.0416666999999999E-2,1.0416666999999999E-2,1.0416666999999999E-2,1.0416666999999999E-2,1.0416666999999999E-2,1.0416666999999999E-2,1.0416666999999999E-2,1.0416666999999999E-2,1.0416666999999999E-2,1.0416666999999999E-2,1.0416666999999999E-2,1.0416666999999999E-2,1.0416666999999999E-2,1.0416666999999999E-2,1.0416666999999999E-2,1.0416666999999999E-2,1.0416666999999999E-2,1.0416666999999999E-2,1.0416666999999999E-2,1.0416666999999999E-2,1.0416666999999999E-2,1.0416666999999999E-2,1.0416666999999999E-2,1.0416666999999999E-2,1.0416666999999999E-2,1.0416666999999999E-2,1.0416666999999999E-2,1.0416666999999999E-2,1.0416666999999999E-2,1.0416666999999999E-2,1.0416666999999999E-2,1.0416666999999999E-2,1.0416666999999999E-2,1.0416666999999999E-2,1.0416666999999999E-2,1.0416666999999999E-2,1.0416666999999999E-2,1.0416666999999999E-2,1.0416666999999999E-2]
["YearSplit",null,null,null,null,null,"S314",null,null,null,1.0416666999999999E-2,1.0416666999999999E-2,1.0416666999999999E-2,1.0416666999999999E-2,1.0416666999999999E-2,1.0416666999999999E-2,1.0416666999999999E-2,1.0416666999999999E-2,1.0416666999999999E-2,1.0416666999999999E-2,1.0416666999999999E-2,1.0416666999999999E-2,1.0416666999999999E-2,1.0416666999999999E-2,1.0416666999999999E-2,1.0416666999999999E-2,1.0416666999999999E-2,1.0416666999999999E-2,1.0416666999999999E-2,1.0416666999999999E-2,1.0416666999999999E-2,1.0416666999999999E-2,1.0416666999999999E-2,1.0416666999999999E-2,1.0416666999999999E-2,1.0416666999999999E-2,1.0416666999999999E-2,1.0416666999999999E-2,1.0416666999999999E-2,1.0416666999999999E-2,1.0416666999999999E-2,1.0416666999999999E-2,1.0416666999999999E-2,1.0416666999999999E-2,1.0416666999999999E-2,1.0416666999999999E-2,1.0416666999999999E-2,1.0416666999999999E-2,1.0416666999999999E-2,1.0416666999999999E-2,1.0416666999999999E-2,1.0416666999999999E-2,1.0416666999999999E-2,1.0416666999999999E-2,1.0416666999999999E-2,1.0416666999999999E-2,1.0416666999999999E-2,1.0416666999999999E-2,1.0416666999999999E-2,1.0416666999999999E-2,1.0416666999999999E-2,1.0416666999999999E-2,1.0416666999999999E-2,1.0416666999999999E-2,1.0416666999999999E-2,1.0416666999999999E-2]
["YearSplit",null,null,null,null,null,"S315",null,null,null,1.0416666999999999E-2,1.0416666999999999E-2,1.0416666999999999E-2,1.0416666999999999E-2,1.0416666999999999E-2,1.0416666999999999E-2,1.0416666999999999E-2,1.0416666999999999E-2,1.0416666999999999E-2,1.0416666999999999E-2,1.0416666999999999E-2,1.0416666999999999E-2,1.0416666999999999E-2,1.0416666999999999E-2,1.0416666999999999E-2,1.0416666999999999E-2,1.0416666999999999E-2,1.0416666999999999E-2,1.0416666999999999E-2,1.0416666999999999E-2,1.0416666999999999E-2,1.0416666999999999E-2,1.0416666999999999E-2,1.0416666999999999E-2,1.0416666999999999E-2,1.0416666999999999E-2,1.0416666999999999E-2,1.0416666999999999E-2,1.0416666999999999E-2,1.0416666999999999E-2,1.0416666999999999E-2,1.0416666999999999E-2,1.0416666999999999E-2,1.0416666999999999E-2,1.0416666999999999E-2,1.0416666999999999E-2,1.0416666999999999E-2,1.0416666999999999E-2,1.0416666999999999E-2,1.0416666999999999E-2,1.0416666999999999E-2,1.0416666999999999E-2,1.0416666999999999E-2,1.0416666999999999E-2,1.0416666999999999E-2,1.0416666999999999E-2,1.0416666999999999E-2,1.0416666999999999E-2,1.0416666999999999E-2,1.0416666999999999E-2,1.0416666999999999E-2,1.0416666999999999E-2,1.0416666999999999E-2,1.0416666999999999E-2,1.0416666999999999E-2,1.0416666999999999E-2]
["YearSplit",null,null,null,null,null,"S316",null,null,null,1.0416666999999999E-2,1.0416666999999999E-2,1.0416666999999999E-2,1.0416666999999999E-2,1.0416666999999999E-2,1.0416666999999999E-2,1.0416666999999999E-2,1.0416666999999999E-2,1.0416666999999999E-2,1.0416666999999999E-2,1.0416666999999999E-2,1.0416666999999999E-2,1.0416666999999999E-2,1.0416666999999999E-2,1.0416666999999999E-2,1.0416666999999999E-2,1.0416666999999999E-2,1.0416666999999999E-2,1.0416666999999999E-2,1.0416666999999999E-2,1.0416666999999999E-2,1.0416666999999999E-2,1.0416666999999999E-2,1.0416666999999999E-2,1.0416666999999999E-2,1.0416666999999999E-2,1.0416666999999999E-2,1.0416666999999999E-2,1.0416666999999999E-2,1.0416666999999999E-2,1.0416666999999999E-2,1.0416666999999999E-2,1.0416666999999999E-2,1.0416666999999999E-2,1.0416666999999999E-2,1.0416666999999999E-2,1.0416666999999999E-2,1.0416666999999999E-2,1.0416666999999999E-2,1.0416666999999999E-2,1.0416666999999999E-2,1.0416666999999999E-2,1.0416666999999999E-2,1.0416666999999999E-2,1.0416666999999999E-2,1.0416666999999999E-2,1.0416666999999999E-2,1.0416666999999999E-2,1.0416666999999999E-2,1.0416666999999999E-2,1.0416666999999999E-2,1.0416666999999999E-2,1.0416666999999999E-2,1.0416666999999999E-2,1.0416666999999999E-2,1.0416666999999999E-2]
["YearSplit",null,null,null,null,null,"S317",null,null,null,1.0416666999999999E-2,1.0416666999999999E-2,1.0416666999999999E-2,1.0416666999999999E-2,1.0416666999999999E-2,1.0416666999999999E-2,1.0416666999999999E-2,1.0416666999999999E-2,1.0416666999999999E-2,1.0416666999999999E-2,1.0416666999999999E-2,1.0416666999999999E-2,1.0416666999999999E-2,1.0416666999999999E-2,1.0416666999999999E-2,1.0416666999999999E-2,1.0416666999999999E-2,1.0416666999999999E-2,1.0416666999999999E-2,1.0416666999999999E-2,1.0416666999999999E-2,1.0416666999999999E-2,1.0416666999999999E-2,1.0416666999999999E-2,1.0416666999999999E-2,1.0416666999999999E-2,1.0416666999999999E-2,1.0416666999999999E-2,1.0416666999999999E-2,1.0416666999999999E-2,1.0416666999999999E-2,1.0416666999999999E-2,1.0416666999999999E-2,1.0416666999999999E-2,1.0416666999999999E-2,1.0416666999999999E-2,1.0416666999999999E-2,1.0416666999999999E-2,1.0416666999999999E-2,1.0416666999999999E-2,1.0416666999999999E-2,1.0416666999999999E-2,1.0416666999999999E-2,1.0416666999999999E-2,1.0416666999999999E-2,1.0416666999999999E-2,1.0416666999999999E-2,1.0416666999999999E-2,1.0416666999999999E-2,1.0416666999999999E-2,1.0416666999999999E-2,1.0416666999999999E-2,1.0416666999999999E-2,1.0416666999999999E-2,1.0416666999999999E-2,1.0416666999999999E-2]
["YearSplit",null,null,null,null,null,"S318",null,null,null,1.0416666999999999E-2,1.0416666999999999E-2,1.0416666999999999E-2,1.0416666999999999E-2,1.0416666999999999E-2,1.0416666999999999E-2,1.0416666999999999E-2,1.0416666999999999E-2,1.0416666999999999E-2,1.0416666999999999E-2,1.0416666999999999E-2,1.0416666999999999E-2,1.0416666999999999E-2,1.0416666999999999E-2,1.0416666999999999E-2,1.0416666999999999E-2,1.0416666999999999E-2,1.0416666999999999E-2,1.0416666999999999E-2,1.0416666999999999E-2,1.0416666999999999E-2,1.0416666999999999E-2,1.0416666999999999E-2,1.0416666999999999E-2,1.0416666999999999E-2,1.0416666999999999E-2,1.0416666999999999E-2,1.0416666999999999E-2,1.0416666999999999E-2,1.0416666999999999E-2,1.0416666999999999E-2,1.0416666999999999E-2,1.0416666999999999E-2,1.0416666999999999E-2,1.0416666999999999E-2,1.0416666999999999E-2,1.0416666999999999E-2,1.0416666999999999E-2,1.0416666999999999E-2,1.0416666999999999E-2,1.0416666999999999E-2,1.0416666999999999E-2,1.0416666999999999E-2,1.0416666999999999E-2,1.0416666999999999E-2,1.0416666999999999E-2,1.0416666999999999E-2,1.0416666999999999E-2,1.0416666999999999E-2,1.0416666999999999E-2,1.0416666999999999E-2,1.0416666999999999E-2,1.0416666999999999E-2,1.0416666999999999E-2,1.0416666999999999E-2,1.0416666999999999E-2]
["YearSplit",null,null,null,null,null,"S319",null,null,null,1.0416666999999999E-2,1.0416666999999999E-2,1.0416666999999999E-2,1.0416666999999999E-2,1.0416666999999999E-2,1.0416666999999999E-2,1.0416666999999999E-2,1.0416666999999999E-2,1.0416666999999999E-2,1.0416666999999999E-2,1.0416666999999999E-2,1.0416666999999999E-2,1.0416666999999999E-2,1.0416666999999999E-2,1.0416666999999999E-2,1.0416666999999999E-2,1.0416666999999999E-2,1.0416666999999999E-2,1.0416666999999999E-2,1.0416666999999999E-2,1.0416666999999999E-2,1.0416666999999999E-2,1.0416666999999999E-2,1.0416666999999999E-2,1.0416666999999999E-2,1.0416666999999999E-2,1.0416666999999999E-2,1.0416666999999999E-2,1.0416666999999999E-2,1.0416666999999999E-2,1.0416666999999999E-2,1.0416666999999999E-2,1.0416666999999999E-2,1.0416666999999999E-2,1.0416666999999999E-2,1.0416666999999999E-2,1.0416666999999999E-2,1.0416666999999999E-2,1.0416666999999999E-2,1.0416666999999999E-2,1.0416666999999999E-2,1.0416666999999999E-2,1.0416666999999999E-2,1.0416666999999999E-2,1.0416666999999999E-2,1.0416666999999999E-2,1.0416666999999999E-2,1.0416666999999999E-2,1.0416666999999999E-2,1.0416666999999999E-2,1.0416666999999999E-2,1.0416666999999999E-2,1.0416666999999999E-2,1.0416666999999999E-2,1.0416666999999999E-2,1.0416666999999999E-2]
["YearSplit",null,null,null,null,null,"S320",null,null,null,1.0416666999999999E-2,1.0416666999999999E-2,1.0416666999999999E-2,1.0416666999999999E-2,1.0416666999999999E-2,1.0416666999999999E-2,1.0416666999999999E-2,1.0416666999999999E-2,1.0416666999999999E-2,1.0416666999999999E-2,1.0416666999999999E-2,1.0416666999999999E-2,1.0416666999999999E-2,1.0416666999999999E-2,1.0416666999999999E-2,1.0416666999999999E-2,1.0416666999999999E-2,1.0416666999999999E-2,1.0416666999999999E-2,1.0416666999999999E-2,1.0416666999999999E-2,1.0416666999999999E-2,1.0416666999999999E-2,1.0416666999999999E-2,1.0416666999999999E-2,1.0416666999999999E-2,1.0416666999999999E-2,1.0416666999999999E-2,1.0416666999999999E-2,1.0416666999999999E-2,1.0416666999999999E-2,1.0416666999999999E-2,1.0416666999999999E-2,1.0416666999999999E-2,1.0416666999999999E-2,1.0416666999999999E-2,1.0416666999999999E-2,1.0416666999999999E-2,1.0416666999999999E-2,1.0416666999999999E-2,1.0416666999999999E-2,1.0416666999999999E-2,1.0416666999999999E-2,1.0416666999999999E-2,1.0416666999999999E-2,1.0416666999999999E-2,1.0416666999999999E-2,1.0416666999999999E-2,1.0416666999999999E-2,1.0416666999999999E-2,1.0416666999999999E-2,1.0416666999999999E-2,1.0416666999999999E-2,1.0416666999999999E-2,1.0416666999999999E-2,1.0416666999999999E-2]
["YearSplit",null,null,null,null,null,"S321",null,null,null,1.0416666999999999E-2,1.0416666999999999E-2,1.0416666999999999E-2,1.0416666999999999E-2,1.0416666999999999E-2,1.0416666999999999E-2,1.0416666999999999E-2,1.0416666999999999E-2,1.0416666999999999E-2,1.0416666999999999E-2,1.0416666999999999E-2,1.0416666999999999E-2,1.0416666999999999E-2,1.0416666999999999E-2,1.0416666999999999E-2,1.0416666999999999E-2,1.0416666999999999E-2,1.0416666999999999E-2,1.0416666999999999E-2,1.0416666999999999E-2,1.0416666999999999E-2,1.0416666999999999E-2,1.0416666999999999E-2,1.0416666999999999E-2,1.0416666999999999E-2,1.0416666999999999E-2,1.0416666999999999E-2,1.0416666999999999E-2,1.0416666999999999E-2,1.0416666999999999E-2,1.0416666999999999E-2,1.0416666999999999E-2,1.0416666999999999E-2,1.0416666999999999E-2,1.0416666999999999E-2,1.0416666999999999E-2,1.0416666999999999E-2,1.0416666999999999E-2,1.0416666999999999E-2,1.0416666999999999E-2,1.0416666999999999E-2,1.0416666999999999E-2,1.0416666999999999E-2,1.0416666999999999E-2,1.0416666999999999E-2,1.0416666999999999E-2,1.0416666999999999E-2,1.0416666999999999E-2,1.0416666999999999E-2,1.0416666999999999E-2,1.0416666999999999E-2,1.0416666999999999E-2,1.0416666999999999E-2,1.0416666999999999E-2,1.0416666999999999E-2,1.0416666999999999E-2]
["YearSplit",null,null,null,null,null,"S322",null,null,null,1.0416666999999999E-2,1.0416666999999999E-2,1.0416666999999999E-2,1.0416666999999999E-2,1.0416666999999999E-2,1.0416666999999999E-2,1.0416666999999999E-2,1.0416666999999999E-2,1.0416666999999999E-2,1.0416666999999999E-2,1.0416666999999999E-2,1.0416666999999999E-2,1.0416666999999999E-2,1.0416666999999999E-2,1.0416666999999999E-2,1.0416666999999999E-2,1.0416666999999999E-2,1.0416666999999999E-2,1.0416666999999999E-2,1.0416666999999999E-2,1.0416666999999999E-2,1.0416666999999999E-2,1.0416666999999999E-2,1.0416666999999999E-2,1.0416666999999999E-2,1.0416666999999999E-2,1.0416666999999999E-2,1.0416666999999999E-2,1.0416666999999999E-2,1.0416666999999999E-2,1.0416666999999999E-2,1.0416666999999999E-2,1.0416666999999999E-2,1.0416666999999999E-2,1.0416666999999999E-2,1.0416666999999999E-2,1.0416666999999999E-2,1.0416666999999999E-2,1.0416666999999999E-2,1.0416666999999999E-2,1.0416666999999999E-2,1.0416666999999999E-2,1.0416666999999999E-2,1.0416666999999999E-2,1.0416666999999999E-2,1.0416666999999999E-2,1.0416666999999999E-2,1.0416666999999999E-2,1.0416666999999999E-2,1.0416666999999999E-2,1.0416666999999999E-2,1.0416666999999999E-2,1.0416666999999999E-2,1.0416666999999999E-2,1.0416666999999999E-2,1.0416666999999999E-2]
["YearSplit",null,null,null,null,null,"S323",null,null,null,1.0416666999999999E-2,1.0416666999999999E-2,1.0416666999999999E-2,1.0416666999999999E-2,1.0416666999999999E-2,1.0416666999999999E-2,1.0416666999999999E-2,1.0416666999999999E-2,1.0416666999999999E-2,1.0416666999999999E-2,1.0416666999999999E-2,1.0416666999999999E-2,1.0416666999999999E-2,1.0416666999999999E-2,1.0416666999999999E-2,1.0416666999999999E-2,1.0416666999999999E-2,1.0416666999999999E-2,1.0416666999999999E-2,1.0416666999999999E-2,1.0416666999999999E-2,1.0416666999999999E-2,1.0416666999999999E-2,1.0416666999999999E-2,1.0416666999999999E-2,1.0416666999999999E-2,1.0416666999999999E-2,1.0416666999999999E-2,1.0416666999999999E-2,1.0416666999999999E-2,1.0416666999999999E-2,1.0416666999999999E-2,1.0416666999999999E-2,1.0416666999999999E-2,1.0416666999999999E-2,1.0416666999999999E-2,1.0416666999999999E-2,1.0416666999999999E-2,1.0416666999999999E-2,1.0416666999999999E-2,1.0416666999999999E-2,1.0416666999999999E-2,1.0416666999999999E-2,1.0416666999999999E-2,1.0416666999999999E-2,1.0416666999999999E-2,1.0416666999999999E-2,1.0416666999999999E-2,1.0416666999999999E-2,1.0416666999999999E-2,1.0416666999999999E-2,1.0416666999999999E-2,1.0416666999999999E-2,1.0416666999999999E-2,1.0416666999999999E-2,1.0416666999999999E-2]
["YearSplit",null,null,null,null,null,"S324",null,null,null,1.0416666999999999E-2,1.0416666999999999E-2,1.0416666999999999E-2,1.0416666999999999E-2,1.0416666999999999E-2,1.0416666999999999E-2,1.0416666999999999E-2,1.0416666999999999E-2,1.0416666999999999E-2,1.0416666999999999E-2,1.0416666999999999E-2,1.0416666999999999E-2,1.0416666999999999E-2,1.0416666999999999E-2,1.0416666999999999E-2,1.0416666999999999E-2,1.0416666999999999E-2,1.0416666999999999E-2,1.0416666999999999E-2,1.0416666999999999E-2,1.0416666999999999E-2,1.0416666999999999E-2,1.0416666999999999E-2,1.0416666999999999E-2,1.0416666999999999E-2,1.0416666999999999E-2,1.0416666999999999E-2,1.0416666999999999E-2,1.0416666999999999E-2,1.0416666999999999E-2,1.0416666999999999E-2,1.0416666999999999E-2,1.0416666999999999E-2,1.0416666999999999E-2,1.0416666999999999E-2,1.0416666999999999E-2,1.0416666999999999E-2,1.0416666999999999E-2,1.0416666999999999E-2,1.0416666999999999E-2,1.0416666999999999E-2,1.0416666999999999E-2,1.0416666999999999E-2,1.0416666999999999E-2,1.0416666999999999E-2,1.0416666999999999E-2,1.0416666999999999E-2,1.0416666999999999E-2,1.0416666999999999E-2,1.0416666999999999E-2,1.0416666999999999E-2,1.0416666999999999E-2,1.0416666999999999E-2,1.0416666999999999E-2,1.0416666999999999E-2,1.0416666999999999E-2]
["YearSplit",null,null,null,null,null,"S401",null,null,null,1.0416666999999999E-2,1.0416666999999999E-2,1.0416666999999999E-2,1.0416666999999999E-2,1.0416666999999999E-2,1.0416666999999999E-2,1.0416666999999999E-2,1.0416666999999999E-2,1.0416666999999999E-2,1.0416666999999999E-2,1.0416666999999999E-2,1.0416666999999999E-2,1.0416666999999999E-2,1.0416666999999999E-2,1.0416666999999999E-2,1.0416666999999999E-2,1.0416666999999999E-2,1.0416666999999999E-2,1.0416666999999999E-2,1.0416666999999999E-2,1.0416666999999999E-2,1.0416666999999999E-2,1.0416666999999999E-2,1.0416666999999999E-2,1.0416666999999999E-2,1.0416666999999999E-2,1.0416666999999999E-2,1.0416666999999999E-2,1.0416666999999999E-2,1.0416666999999999E-2,1.0416666999999999E-2,1.0416666999999999E-2,1.0416666999999999E-2,1.0416666999999999E-2,1.0416666999999999E-2,1.0416666999999999E-2,1.0416666999999999E-2,1.0416666999999999E-2,1.0416666999999999E-2,1.0416666999999999E-2,1.0416666999999999E-2,1.0416666999999999E-2,1.0416666999999999E-2,1.0416666999999999E-2,1.0416666999999999E-2,1.0416666999999999E-2,1.0416666999999999E-2,1.0416666999999999E-2,1.0416666999999999E-2,1.0416666999999999E-2,1.0416666999999999E-2,1.0416666999999999E-2,1.0416666999999999E-2,1.0416666999999999E-2,1.0416666999999999E-2,1.0416666999999999E-2]
["YearSplit",null,null,null,null,null,"S402",null,null,null,1.0416666999999999E-2,1.0416666999999999E-2,1.0416666999999999E-2,1.0416666999999999E-2,1.0416666999999999E-2,1.0416666999999999E-2,1.0416666999999999E-2,1.0416666999999999E-2,1.0416666999999999E-2,1.0416666999999999E-2,1.0416666999999999E-2,1.0416666999999999E-2,1.0416666999999999E-2,1.0416666999999999E-2,1.0416666999999999E-2,1.0416666999999999E-2,1.0416666999999999E-2,1.0416666999999999E-2,1.0416666999999999E-2,1.0416666999999999E-2,1.0416666999999999E-2,1.0416666999999999E-2,1.0416666999999999E-2,1.0416666999999999E-2,1.0416666999999999E-2,1.0416666999999999E-2,1.0416666999999999E-2,1.0416666999999999E-2,1.0416666999999999E-2,1.0416666999999999E-2,1.0416666999999999E-2,1.0416666999999999E-2,1.0416666999999999E-2,1.0416666999999999E-2,1.0416666999999999E-2,1.0416666999999999E-2,1.0416666999999999E-2,1.0416666999999999E-2,1.0416666999999999E-2,1.0416666999999999E-2,1.0416666999999999E-2,1.0416666999999999E-2,1.0416666999999999E-2,1.0416666999999999E-2,1.0416666999999999E-2,1.0416666999999999E-2,1.0416666999999999E-2,1.0416666999999999E-2,1.0416666999999999E-2,1.0416666999999999E-2,1.0416666999999999E-2,1.0416666999999999E-2,1.0416666999999999E-2,1.0416666999999999E-2,1.0416666999999999E-2,1.0416666999999999E-2]
["YearSplit",null,null,null,null,null,"S403",null,null,null,1.0416666999999999E-2,1.0416666999999999E-2,1.0416666999999999E-2,1.0416666999999999E-2,1.0416666999999999E-2,1.0416666999999999E-2,1.0416666999999999E-2,1.0416666999999999E-2,1.0416666999999999E-2,1.0416666999999999E-2,1.0416666999999999E-2,1.0416666999999999E-2,1.0416666999999999E-2,1.0416666999999999E-2,1.0416666999999999E-2,1.0416666999999999E-2,1.0416666999999999E-2,1.0416666999999999E-2,1.0416666999999999E-2,1.0416666999999999E-2,1.0416666999999999E-2,1.0416666999999999E-2,1.0416666999999999E-2,1.0416666999999999E-2,1.0416666999999999E-2,1.0416666999999999E-2,1.0416666999999999E-2,1.0416666999999999E-2,1.0416666999999999E-2,1.0416666999999999E-2,1.0416666999999999E-2,1.0416666999999999E-2,1.0416666999999999E-2,1.0416666999999999E-2,1.0416666999999999E-2,1.0416666999999999E-2,1.0416666999999999E-2,1.0416666999999999E-2,1.0416666999999999E-2,1.0416666999999999E-2,1.0416666999999999E-2,1.0416666999999999E-2,1.0416666999999999E-2,1.0416666999999999E-2,1.0416666999999999E-2,1.0416666999999999E-2,1.0416666999999999E-2,1.0416666999999999E-2,1.0416666999999999E-2,1.0416666999999999E-2,1.0416666999999999E-2,1.0416666999999999E-2,1.0416666999999999E-2,1.0416666999999999E-2,1.0416666999999999E-2,1.0416666999999999E-2]
["YearSplit",null,null,null,null,null,"S404",null,null,null,1.0416666999999999E-2,1.0416666999999999E-2,1.0416666999999999E-2,1.0416666999999999E-2,1.0416666999999999E-2,1.0416666999999999E-2,1.0416666999999999E-2,1.0416666999999999E-2,1.0416666999999999E-2,1.0416666999999999E-2,1.0416666999999999E-2,1.0416666999999999E-2,1.0416666999999999E-2,1.0416666999999999E-2,1.0416666999999999E-2,1.0416666999999999E-2,1.0416666999999999E-2,1.0416666999999999E-2,1.0416666999999999E-2,1.0416666999999999E-2,1.0416666999999999E-2,1.0416666999999999E-2,1.0416666999999999E-2,1.0416666999999999E-2,1.0416666999999999E-2,1.0416666999999999E-2,1.0416666999999999E-2,1.0416666999999999E-2,1.0416666999999999E-2,1.0416666999999999E-2,1.0416666999999999E-2,1.0416666999999999E-2,1.0416666999999999E-2,1.0416666999999999E-2,1.0416666999999999E-2,1.0416666999999999E-2,1.0416666999999999E-2,1.0416666999999999E-2,1.0416666999999999E-2,1.0416666999999999E-2,1.0416666999999999E-2,1.0416666999999999E-2,1.0416666999999999E-2,1.0416666999999999E-2,1.0416666999999999E-2,1.0416666999999999E-2,1.0416666999999999E-2,1.0416666999999999E-2,1.0416666999999999E-2,1.0416666999999999E-2,1.0416666999999999E-2,1.0416666999999999E-2,1.0416666999999999E-2,1.0416666999999999E-2,1.0416666999999999E-2,1.0416666999999999E-2]
["YearSplit",null,null,null,null,null,"S405",null,null,null,1.0416666999999999E-2,1.0416666999999999E-2,1.0416666999999999E-2,1.0416666999999999E-2,1.0416666999999999E-2,1.0416666999999999E-2,1.0416666999999999E-2,1.0416666999999999E-2,1.0416666999999999E-2,1.0416666999999999E-2,1.0416666999999999E-2,1.0416666999999999E-2,1.0416666999999999E-2,1.0416666999999999E-2,1.0416666999999999E-2,1.0416666999999999E-2,1.0416666999999999E-2,1.0416666999999999E-2,1.0416666999999999E-2,1.0416666999999999E-2,1.0416666999999999E-2,1.0416666999999999E-2,1.0416666999999999E-2,1.0416666999999999E-2,1.0416666999999999E-2,1.0416666999999999E-2,1.0416666999999999E-2,1.0416666999999999E-2,1.0416666999999999E-2,1.0416666999999999E-2,1.0416666999999999E-2,1.0416666999999999E-2,1.0416666999999999E-2,1.0416666999999999E-2,1.0416666999999999E-2,1.0416666999999999E-2,1.0416666999999999E-2,1.0416666999999999E-2,1.0416666999999999E-2,1.0416666999999999E-2,1.0416666999999999E-2,1.0416666999999999E-2,1.0416666999999999E-2,1.0416666999999999E-2,1.0416666999999999E-2,1.0416666999999999E-2,1.0416666999999999E-2,1.0416666999999999E-2,1.0416666999999999E-2,1.0416666999999999E-2,1.0416666999999999E-2,1.0416666999999999E-2,1.0416666999999999E-2,1.0416666999999999E-2,1.0416666999999999E-2,1.0416666999999999E-2]
["YearSplit",null,null,null,null,null,"S406",null,null,null,1.0416666999999999E-2,1.0416666999999999E-2,1.0416666999999999E-2,1.0416666999999999E-2,1.0416666999999999E-2,1.0416666999999999E-2,1.0416666999999999E-2,1.0416666999999999E-2,1.0416666999999999E-2,1.0416666999999999E-2,1.0416666999999999E-2,1.0416666999999999E-2,1.0416666999999999E-2,1.0416666999999999E-2,1.0416666999999999E-2,1.0416666999999999E-2,1.0416666999999999E-2,1.0416666999999999E-2,1.0416666999999999E-2,1.0416666999999999E-2,1.0416666999999999E-2,1.0416666999999999E-2,1.0416666999999999E-2,1.0416666999999999E-2,1.0416666999999999E-2,1.0416666999999999E-2,1.0416666999999999E-2,1.0416666999999999E-2,1.0416666999999999E-2,1.0416666999999999E-2,1.0416666999999999E-2,1.0416666999999999E-2,1.0416666999999999E-2,1.0416666999999999E-2,1.0416666999999999E-2,1.0416666999999999E-2,1.0416666999999999E-2,1.0416666999999999E-2,1.0416666999999999E-2,1.0416666999999999E-2,1.0416666999999999E-2,1.0416666999999999E-2,1.0416666999999999E-2,1.0416666999999999E-2,1.0416666999999999E-2,1.0416666999999999E-2,1.0416666999999999E-2,1.0416666999999999E-2,1.0416666999999999E-2,1.0416666999999999E-2,1.0416666999999999E-2,1.0416666999999999E-2,1.0416666999999999E-2,1.0416666999999999E-2,1.0416666999999999E-2,1.0416666999999999E-2]
["YearSplit",null,null,null,null,null,"S407",null,null,null,1.0416666999999999E-2,1.0416666999999999E-2,1.0416666999999999E-2,1.0416666999999999E-2,1.0416666999999999E-2,1.0416666999999999E-2,1.0416666999999999E-2,1.0416666999999999E-2,1.0416666999999999E-2,1.0416666999999999E-2,1.0416666999999999E-2,1.0416666999999999E-2,1.0416666999999999E-2,1.0416666999999999E-2,1.0416666999999999E-2,1.0416666999999999E-2,1.0416666999999999E-2,1.0416666999999999E-2,1.0416666999999999E-2,1.0416666999999999E-2,1.0416666999999999E-2,1.0416666999999999E-2,1.0416666999999999E-2,1.0416666999999999E-2,1.0416666999999999E-2,1.0416666999999999E-2,1.0416666999999999E-2,1.0416666999999999E-2,1.0416666999999999E-2,1.0416666999999999E-2,1.0416666999999999E-2,1.0416666999999999E-2,1.0416666999999999E-2,1.0416666999999999E-2,1.0416666999999999E-2,1.0416666999999999E-2,1.0416666999999999E-2,1.0416666999999999E-2,1.0416666999999999E-2,1.0416666999999999E-2,1.0416666999999999E-2,1.0416666999999999E-2,1.0416666999999999E-2,1.0416666999999999E-2,1.0416666999999999E-2,1.0416666999999999E-2,1.0416666999999999E-2,1.0416666999999999E-2,1.0416666999999999E-2,1.0416666999999999E-2,1.0416666999999999E-2,1.0416666999999999E-2,1.0416666999999999E-2,1.0416666999999999E-2,1.0416666999999999E-2,1.0416666999999999E-2]
["YearSplit",null,null,null,null,null,"S408",null,null,null,1.0416666999999999E-2,1.0416666999999999E-2,1.0416666999999999E-2,1.0416666999999999E-2,1.0416666999999999E-2,1.0416666999999999E-2,1.0416666999999999E-2,1.0416666999999999E-2,1.0416666999999999E-2,1.0416666999999999E-2,1.0416666999999999E-2,1.0416666999999999E-2,1.0416666999999999E-2,1.0416666999999999E-2,1.0416666999999999E-2,1.0416666999999999E-2,1.0416666999999999E-2,1.0416666999999999E-2,1.0416666999999999E-2,1.0416666999999999E-2,1.0416666999999999E-2,1.0416666999999999E-2,1.0416666999999999E-2,1.0416666999999999E-2,1.0416666999999999E-2,1.0416666999999999E-2,1.0416666999999999E-2,1.0416666999999999E-2,1.0416666999999999E-2,1.0416666999999999E-2,1.0416666999999999E-2,1.0416666999999999E-2,1.0416666999999999E-2,1.0416666999999999E-2,1.0416666999999999E-2,1.0416666999999999E-2,1.0416666999999999E-2,1.0416666999999999E-2,1.0416666999999999E-2,1.0416666999999999E-2,1.0416666999999999E-2,1.0416666999999999E-2,1.0416666999999999E-2,1.0416666999999999E-2,1.0416666999999999E-2,1.0416666999999999E-2,1.0416666999999999E-2,1.0416666999999999E-2,1.0416666999999999E-2,1.0416666999999999E-2,1.0416666999999999E-2,1.0416666999999999E-2,1.0416666999999999E-2,1.0416666999999999E-2,1.0416666999999999E-2,1.0416666999999999E-2]
["YearSplit",null,null,null,null,null,"S409",null,null,null,1.0416666999999999E-2,1.0416666999999999E-2,1.0416666999999999E-2,1.0416666999999999E-2,1.0416666999999999E-2,1.0416666999999999E-2,1.0416666999999999E-2,1.0416666999999999E-2,1.0416666999999999E-2,1.0416666999999999E-2,1.0416666999999999E-2,1.0416666999999999E-2,1.0416666999999999E-2,1.0416666999999999E-2,1.0416666999999999E-2,1.0416666999999999E-2,1.0416666999999999E-2,1.0416666999999999E-2,1.0416666999999999E-2,1.0416666999999999E-2,1.0416666999999999E-2,1.0416666999999999E-2,1.0416666999999999E-2,1.0416666999999999E-2,1.0416666999999999E-2,1.0416666999999999E-2,1.0416666999999999E-2,1.0416666999999999E-2,1.0416666999999999E-2,1.0416666999999999E-2,1.0416666999999999E-2,1.0416666999999999E-2,1.0416666999999999E-2,1.0416666999999999E-2,1.0416666999999999E-2,1.0416666999999999E-2,1.0416666999999999E-2,1.0416666999999999E-2,1.0416666999999999E-2,1.0416666999999999E-2,1.0416666999999999E-2,1.0416666999999999E-2,1.0416666999999999E-2,1.0416666999999999E-2,1.0416666999999999E-2,1.0416666999999999E-2,1.0416666999999999E-2,1.0416666999999999E-2,1.0416666999999999E-2,1.0416666999999999E-2,1.0416666999999999E-2,1.0416666999999999E-2,1.0416666999999999E-2,1.0416666999999999E-2,1.0416666999999999E-2,1.0416666999999999E-2]
["YearSplit",null,null,null,null,null,"S410",null,null,null,1.0416666999999999E-2,1.0416666999999999E-2,1.0416666999999999E-2,1.0416666999999999E-2,1.0416666999999999E-2,1.0416666999999999E-2,1.0416666999999999E-2,1.0416666999999999E-2,1.0416666999999999E-2,1.0416666999999999E-2,1.0416666999999999E-2,1.0416666999999999E-2,1.0416666999999999E-2,1.0416666999999999E-2,1.0416666999999999E-2,1.0416666999999999E-2,1.0416666999999999E-2,1.0416666999999999E-2,1.0416666999999999E-2,1.0416666999999999E-2,1.0416666999999999E-2,1.0416666999999999E-2,1.0416666999999999E-2,1.0416666999999999E-2,1.0416666999999999E-2,1.0416666999999999E-2,1.0416666999999999E-2,1.0416666999999999E-2,1.0416666999999999E-2,1.0416666999999999E-2,1.0416666999999999E-2,1.0416666999999999E-2,1.0416666999999999E-2,1.0416666999999999E-2,1.0416666999999999E-2,1.0416666999999999E-2,1.0416666999999999E-2,1.0416666999999999E-2,1.0416666999999999E-2,1.0416666999999999E-2,1.0416666999999999E-2,1.0416666999999999E-2,1.0416666999999999E-2,1.0416666999999999E-2,1.0416666999999999E-2,1.0416666999999999E-2,1.0416666999999999E-2,1.0416666999999999E-2,1.0416666999999999E-2,1.0416666999999999E-2,1.0416666999999999E-2,1.0416666999999999E-2,1.0416666999999999E-2,1.0416666999999999E-2,1.0416666999999999E-2,1.0416666999999999E-2]
["YearSplit",null,null,null,null,null,"S411",null,null,null,1.0416666999999999E-2,1.0416666999999999E-2,1.0416666999999999E-2,1.0416666999999999E-2,1.0416666999999999E-2,1.0416666999999999E-2,1.0416666999999999E-2,1.0416666999999999E-2,1.0416666999999999E-2,1.0416666999999999E-2,1.0416666999999999E-2,1.0416666999999999E-2,1.0416666999999999E-2,1.0416666999999999E-2,1.0416666999999999E-2,1.0416666999999999E-2,1.0416666999999999E-2,1.0416666999999999E-2,1.0416666999999999E-2,1.0416666999999999E-2,1.0416666999999999E-2,1.0416666999999999E-2,1.0416666999999999E-2,1.0416666999999999E-2,1.0416666999999999E-2,1.0416666999999999E-2,1.0416666999999999E-2,1.0416666999999999E-2,1.0416666999999999E-2,1.0416666999999999E-2,1.0416666999999999E-2,1.0416666999999999E-2,1.0416666999999999E-2,1.0416666999999999E-2,1.0416666999999999E-2,1.0416666999999999E-2,1.0416666999999999E-2,1.0416666999999999E-2,1.0416666999999999E-2,1.0416666999999999E-2,1.0416666999999999E-2,1.0416666999999999E-2,1.0416666999999999E-2,1.0416666999999999E-2,1.0416666999999999E-2,1.0416666999999999E-2,1.0416666999999999E-2,1.0416666999999999E-2,1.0416666999999999E-2,1.0416666999999999E-2,1.0416666999999999E-2,1.0416666999999999E-2,1.0416666999999999E-2,1.0416666999999999E-2,1.0416666999999999E-2,1.0416666999999999E-2]
["YearSplit",null,null,null,null,null,"S412",null,null,null,1.0416666999999999E-2,1.0416666999999999E-2,1.0416666999999999E-2,1.0416666999999999E-2,1.0416666999999999E-2,1.0416666999999999E-2,1.0416666999999999E-2,1.0416666999999999E-2,1.0416666999999999E-2,1.0416666999999999E-2,1.0416666999999999E-2,1.0416666999999999E-2,1.0416666999999999E-2,1.0416666999999999E-2,1.0416666999999999E-2,1.0416666999999999E-2,1.0416666999999999E-2,1.0416666999999999E-2,1.0416666999999999E-2,1.0416666999999999E-2,1.0416666999999999E-2,1.0416666999999999E-2,1.0416666999999999E-2,1.0416666999999999E-2,1.0416666999999999E-2,1.0416666999999999E-2,1.0416666999999999E-2,1.0416666999999999E-2,1.0416666999999999E-2,1.0416666999999999E-2,1.0416666999999999E-2,1.0416666999999999E-2,1.0416666999999999E-2,1.0416666999999999E-2,1.0416666999999999E-2,1.0416666999999999E-2,1.0416666999999999E-2,1.0416666999999999E-2,1.0416666999999999E-2,1.0416666999999999E-2,1.0416666999999999E-2,1.0416666999999999E-2,1.0416666999999999E-2,1.0416666999999999E-2,1.0416666999999999E-2,1.0416666999999999E-2,1.0416666999999999E-2,1.0416666999999999E-2,1.0416666999999999E-2,1.0416666999999999E-2,1.0416666999999999E-2,1.0416666999999999E-2,1.0416666999999999E-2,1.0416666999999999E-2,1.0416666999999999E-2,1.0416666999999999E-2]
["YearSplit",null,null,null,null,null,"S413",null,null,null,1.0416666999999999E-2,1.0416666999999999E-2,1.0416666999999999E-2,1.0416666999999999E-2,1.0416666999999999E-2,1.0416666999999999E-2,1.0416666999999999E-2,1.0416666999999999E-2,1.0416666999999999E-2,1.0416666999999999E-2,1.0416666999999999E-2,1.0416666999999999E-2,1.0416666999999999E-2,1.0416666999999999E-2,1.0416666999999999E-2,1.0416666999999999E-2,1.0416666999999999E-2,1.0416666999999999E-2,1.0416666999999999E-2,1.0416666999999999E-2,1.0416666999999999E-2,1.0416666999999999E-2,1.0416666999999999E-2,1.0416666999999999E-2,1.0416666999999999E-2,1.0416666999999999E-2,1.0416666999999999E-2,1.0416666999999999E-2,1.0416666999999999E-2,1.0416666999999999E-2,1.0416666999999999E-2,1.0416666999999999E-2,1.0416666999999999E-2,1.0416666999999999E-2,1.0416666999999999E-2,1.0416666999999999E-2,1.0416666999999999E-2,1.0416666999999999E-2,1.0416666999999999E-2,1.0416666999999999E-2,1.0416666999999999E-2,1.0416666999999999E-2,1.0416666999999999E-2,1.0416666999999999E-2,1.0416666999999999E-2,1.0416666999999999E-2,1.0416666999999999E-2,1.0416666999999999E-2,1.0416666999999999E-2,1.0416666999999999E-2,1.0416666999999999E-2,1.0416666999999999E-2,1.0416666999999999E-2,1.0416666999999999E-2,1.0416666999999999E-2,1.0416666999999999E-2]
["YearSplit",null,null,null,null,null,"S414",null,null,null,1.0416666999999999E-2,1.0416666999999999E-2,1.0416666999999999E-2,1.0416666999999999E-2,1.0416666999999999E-2,1.0416666999999999E-2,1.0416666999999999E-2,1.0416666999999999E-2,1.0416666999999999E-2,1.0416666999999999E-2,1.0416666999999999E-2,1.0416666999999999E-2,1.0416666999999999E-2,1.0416666999999999E-2,1.0416666999999999E-2,1.0416666999999999E-2,1.0416666999999999E-2,1.0416666999999999E-2,1.0416666999999999E-2,1.0416666999999999E-2,1.0416666999999999E-2,1.0416666999999999E-2,1.0416666999999999E-2,1.0416666999999999E-2,1.0416666999999999E-2,1.0416666999999999E-2,1.0416666999999999E-2,1.0416666999999999E-2,1.0416666999999999E-2,1.0416666999999999E-2,1.0416666999999999E-2,1.0416666999999999E-2,1.0416666999999999E-2,1.0416666999999999E-2,1.0416666999999999E-2,1.0416666999999999E-2,1.0416666999999999E-2,1.0416666999999999E-2,1.0416666999999999E-2,1.0416666999999999E-2,1.0416666999999999E-2,1.0416666999999999E-2,1.0416666999999999E-2,1.0416666999999999E-2,1.0416666999999999E-2,1.0416666999999999E-2,1.0416666999999999E-2,1.0416666999999999E-2,1.0416666999999999E-2,1.0416666999999999E-2,1.0416666999999999E-2,1.0416666999999999E-2,1.0416666999999999E-2,1.0416666999999999E-2,1.0416666999999999E-2,1.0416666999999999E-2]
["YearSplit",null,null,null,null,null,"S415",null,null,null,1.0416666999999999E-2,1.0416666999999999E-2,1.0416666999999999E-2,1.0416666999999999E-2,1.0416666999999999E-2,1.0416666999999999E-2,1.0416666999999999E-2,1.0416666999999999E-2,1.0416666999999999E-2,1.0416666999999999E-2,1.0416666999999999E-2,1.0416666999999999E-2,1.0416666999999999E-2,1.0416666999999999E-2,1.0416666999999999E-2,1.0416666999999999E-2,1.0416666999999999E-2,1.0416666999999999E-2,1.0416666999999999E-2,1.0416666999999999E-2,1.0416666999999999E-2,1.0416666999999999E-2,1.0416666999999999E-2,1.0416666999999999E-2,1.0416666999999999E-2,1.0416666999999999E-2,1.0416666999999999E-2,1.0416666999999999E-2,1.0416666999999999E-2,1.0416666999999999E-2,1.0416666999999999E-2,1.0416666999999999E-2,1.0416666999999999E-2,1.0416666999999999E-2,1.0416666999999999E-2,1.0416666999999999E-2,1.0416666999999999E-2,1.0416666999999999E-2,1.0416666999999999E-2,1.0416666999999999E-2,1.0416666999999999E-2,1.0416666999999999E-2,1.0416666999999999E-2,1.0416666999999999E-2,1.0416666999999999E-2,1.0416666999999999E-2,1.0416666999999999E-2,1.0416666999999999E-2,1.0416666999999999E-2,1.0416666999999999E-2,1.0416666999999999E-2,1.0416666999999999E-2,1.0416666999999999E-2,1.0416666999999999E-2,1.0416666999999999E-2,1.0416666999999999E-2]
["YearSplit",null,null,null,null,null,"S416",null,null,null,1.0416666999999999E-2,1.0416666999999999E-2,1.0416666999999999E-2,1.0416666999999999E-2,1.0416666999999999E-2,1.0416666999999999E-2,1.0416666999999999E-2,1.0416666999999999E-2,1.0416666999999999E-2,1.0416666999999999E-2,1.0416666999999999E-2,1.0416666999999999E-2,1.0416666999999999E-2,1.0416666999999999E-2,1.0416666999999999E-2,1.0416666999999999E-2,1.0416666999999999E-2,1.0416666999999999E-2,1.0416666999999999E-2,1.0416666999999999E-2,1.0416666999999999E-2,1.0416666999999999E-2,1.0416666999999999E-2,1.0416666999999999E-2,1.0416666999999999E-2,1.0416666999999999E-2,1.0416666999999999E-2,1.0416666999999999E-2,1.0416666999999999E-2,1.0416666999999999E-2,1.0416666999999999E-2,1.0416666999999999E-2,1.0416666999999999E-2,1.0416666999999999E-2,1.0416666999999999E-2,1.0416666999999999E-2,1.0416666999999999E-2,1.0416666999999999E-2,1.0416666999999999E-2,1.0416666999999999E-2,1.0416666999999999E-2,1.0416666999999999E-2,1.0416666999999999E-2,1.0416666999999999E-2,1.0416666999999999E-2,1.0416666999999999E-2,1.0416666999999999E-2,1.0416666999999999E-2,1.0416666999999999E-2,1.0416666999999999E-2,1.0416666999999999E-2,1.0416666999999999E-2,1.0416666999999999E-2,1.0416666999999999E-2,1.0416666999999999E-2,1.0416666999999999E-2]
["YearSplit",null,null,null,null,null,"S417",null,null,null,1.0416666999999999E-2,1.0416666999999999E-2,1.0416666999999999E-2,1.0416666999999999E-2,1.0416666999999999E-2,1.0416666999999999E-2,1.0416666999999999E-2,1.0416666999999999E-2,1.0416666999999999E-2,1.0416666999999999E-2,1.0416666999999999E-2,1.0416666999999999E-2,1.0416666999999999E-2,1.0416666999999999E-2,1.0416666999999999E-2,1.0416666999999999E-2,1.0416666999999999E-2,1.0416666999999999E-2,1.0416666999999999E-2,1.0416666999999999E-2,1.0416666999999999E-2,1.0416666999999999E-2,1.0416666999999999E-2,1.0416666999999999E-2,1.0416666999999999E-2,1.0416666999999999E-2,1.0416666999999999E-2,1.0416666999999999E-2,1.0416666999999999E-2,1.0416666999999999E-2,1.0416666999999999E-2,1.0416666999999999E-2,1.0416666999999999E-2,1.0416666999999999E-2,1.0416666999999999E-2,1.0416666999999999E-2,1.0416666999999999E-2,1.0416666999999999E-2,1.0416666999999999E-2,1.0416666999999999E-2,1.0416666999999999E-2,1.0416666999999999E-2,1.0416666999999999E-2,1.0416666999999999E-2,1.0416666999999999E-2,1.0416666999999999E-2,1.0416666999999999E-2,1.0416666999999999E-2,1.0416666999999999E-2,1.0416666999999999E-2,1.0416666999999999E-2,1.0416666999999999E-2,1.0416666999999999E-2,1.0416666999999999E-2,1.0416666999999999E-2,1.0416666999999999E-2]
["YearSplit",null,null,null,null,null,"S418",null,null,null,1.0416666999999999E-2,1.0416666999999999E-2,1.0416666999999999E-2,1.0416666999999999E-2,1.0416666999999999E-2,1.0416666999999999E-2,1.0416666999999999E-2,1.0416666999999999E-2,1.0416666999999999E-2,1.0416666999999999E-2,1.0416666999999999E-2,1.0416666999999999E-2,1.0416666999999999E-2,1.0416666999999999E-2,1.0416666999999999E-2,1.0416666999999999E-2,1.0416666999999999E-2,1.0416666999999999E-2,1.0416666999999999E-2,1.0416666999999999E-2,1.0416666999999999E-2,1.0416666999999999E-2,1.0416666999999999E-2,1.0416666999999999E-2,1.0416666999999999E-2,1.0416666999999999E-2,1.0416666999999999E-2,1.0416666999999999E-2,1.0416666999999999E-2,1.0416666999999999E-2,1.0416666999999999E-2,1.0416666999999999E-2,1.0416666999999999E-2,1.0416666999999999E-2,1.0416666999999999E-2,1.0416666999999999E-2,1.0416666999999999E-2,1.0416666999999999E-2,1.0416666999999999E-2,1.0416666999999999E-2,1.0416666999999999E-2,1.0416666999999999E-2,1.0416666999999999E-2,1.0416666999999999E-2,1.0416666999999999E-2,1.0416666999999999E-2,1.0416666999999999E-2,1.0416666999999999E-2,1.0416666999999999E-2,1.0416666999999999E-2,1.0416666999999999E-2,1.0416666999999999E-2,1.0416666999999999E-2,1.0416666999999999E-2,1.0416666999999999E-2,1.0416666999999999E-2]
["YearSplit",null,null,null,null,null,"S419",null,null,null,1.0416666999999999E-2,1.0416666999999999E-2,1.0416666999999999E-2,1.0416666999999999E-2,1.0416666999999999E-2,1.0416666999999999E-2,1.0416666999999999E-2,1.0416666999999999E-2,1.0416666999999999E-2,1.0416666999999999E-2,1.0416666999999999E-2,1.0416666999999999E-2,1.0416666999999999E-2,1.0416666999999999E-2,1.0416666999999999E-2,1.0416666999999999E-2,1.0416666999999999E-2,1.0416666999999999E-2,1.0416666999999999E-2,1.0416666999999999E-2,1.0416666999999999E-2,1.0416666999999999E-2,1.0416666999999999E-2,1.0416666999999999E-2,1.0416666999999999E-2,1.0416666999999999E-2,1.0416666999999999E-2,1.0416666999999999E-2,1.0416666999999999E-2,1.0416666999999999E-2,1.0416666999999999E-2,1.0416666999999999E-2,1.0416666999999999E-2,1.0416666999999999E-2,1.0416666999999999E-2,1.0416666999999999E-2,1.0416666999999999E-2,1.0416666999999999E-2,1.0416666999999999E-2,1.0416666999999999E-2,1.0416666999999999E-2,1.0416666999999999E-2,1.0416666999999999E-2,1.0416666999999999E-2,1.0416666999999999E-2,1.0416666999999999E-2,1.0416666999999999E-2,1.0416666999999999E-2,1.0416666999999999E-2,1.0416666999999999E-2,1.0416666999999999E-2,1.0416666999999999E-2,1.0416666999999999E-2,1.0416666999999999E-2,1.0416666999999999E-2,1.0416666999999999E-2]
["YearSplit",null,null,null,null,null,"S420",null,null,null,1.0416666999999999E-2,1.0416666999999999E-2,1.0416666999999999E-2,1.0416666999999999E-2,1.0416666999999999E-2,1.0416666999999999E-2,1.0416666999999999E-2,1.0416666999999999E-2,1.0416666999999999E-2,1.0416666999999999E-2,1.0416666999999999E-2,1.0416666999999999E-2,1.0416666999999999E-2,1.0416666999999999E-2,1.0416666999999999E-2,1.0416666999999999E-2,1.0416666999999999E-2,1.0416666999999999E-2,1.0416666999999999E-2,1.0416666999999999E-2,1.0416666999999999E-2,1.0416666999999999E-2,1.0416666999999999E-2,1.0416666999999999E-2,1.0416666999999999E-2,1.0416666999999999E-2,1.0416666999999999E-2,1.0416666999999999E-2,1.0416666999999999E-2,1.0416666999999999E-2,1.0416666999999999E-2,1.0416666999999999E-2,1.0416666999999999E-2,1.0416666999999999E-2,1.0416666999999999E-2,1.0416666999999999E-2,1.0416666999999999E-2,1.0416666999999999E-2,1.0416666999999999E-2,1.0416666999999999E-2,1.0416666999999999E-2,1.0416666999999999E-2,1.0416666999999999E-2,1.0416666999999999E-2,1.0416666999999999E-2,1.0416666999999999E-2,1.0416666999999999E-2,1.0416666999999999E-2,1.0416666999999999E-2,1.0416666999999999E-2,1.0416666999999999E-2,1.0416666999999999E-2,1.0416666999999999E-2,1.0416666999999999E-2,1.0416666999999999E-2,1.0416666999999999E-2]
["YearSplit",null,null,null,null,null,"S421",null,null,null,1.0416666999999999E-2,1.0416666999999999E-2,1.0416666999999999E-2,1.0416666999999999E-2,1.0416666999999999E-2,1.0416666999999999E-2,1.0416666999999999E-2,1.0416666999999999E-2,1.0416666999999999E-2,1.0416666999999999E-2,1.0416666999999999E-2,1.0416666999999999E-2,1.0416666999999999E-2,1.0416666999999999E-2,1.0416666999999999E-2,1.0416666999999999E-2,1.0416666999999999E-2,1.0416666999999999E-2,1.0416666999999999E-2,1.0416666999999999E-2,1.0416666999999999E-2,1.0416666999999999E-2,1.0416666999999999E-2,1.0416666999999999E-2,1.0416666999999999E-2,1.0416666999999999E-2,1.0416666999999999E-2,1.0416666999999999E-2,1.0416666999999999E-2,1.0416666999999999E-2,1.0416666999999999E-2,1.0416666999999999E-2,1.0416666999999999E-2,1.0416666999999999E-2,1.0416666999999999E-2,1.0416666999999999E-2,1.0416666999999999E-2,1.0416666999999999E-2,1.0416666999999999E-2,1.0416666999999999E-2,1.0416666999999999E-2,1.0416666999999999E-2,1.0416666999999999E-2,1.0416666999999999E-2,1.0416666999999999E-2,1.0416666999999999E-2,1.0416666999999999E-2,1.0416666999999999E-2,1.0416666999999999E-2,1.0416666999999999E-2,1.0416666999999999E-2,1.0416666999999999E-2,1.0416666999999999E-2,1.0416666999999999E-2,1.0416666999999999E-2,1.0416666999999999E-2]
["YearSplit",null,null,null,null,null,"S422",null,null,null,1.0416666999999999E-2,1.0416666999999999E-2,1.0416666999999999E-2,1.0416666999999999E-2,1.0416666999999999E-2,1.0416666999999999E-2,1.0416666999999999E-2,1.0416666999999999E-2,1.0416666999999999E-2,1.0416666999999999E-2,1.0416666999999999E-2,1.0416666999999999E-2,1.0416666999999999E-2,1.0416666999999999E-2,1.0416666999999999E-2,1.0416666999999999E-2,1.0416666999999999E-2,1.0416666999999999E-2,1.0416666999999999E-2,1.0416666999999999E-2,1.0416666999999999E-2,1.0416666999999999E-2,1.0416666999999999E-2,1.0416666999999999E-2,1.0416666999999999E-2,1.0416666999999999E-2,1.0416666999999999E-2,1.0416666999999999E-2,1.0416666999999999E-2,1.0416666999999999E-2,1.0416666999999999E-2,1.0416666999999999E-2,1.0416666999999999E-2,1.0416666999999999E-2,1.0416666999999999E-2,1.0416666999999999E-2,1.0416666999999999E-2,1.0416666999999999E-2,1.0416666999999999E-2,1.0416666999999999E-2,1.0416666999999999E-2,1.0416666999999999E-2,1.0416666999999999E-2,1.0416666999999999E-2,1.0416666999999999E-2,1.0416666999999999E-2,1.0416666999999999E-2,1.0416666999999999E-2,1.0416666999999999E-2,1.0416666999999999E-2,1.0416666999999999E-2,1.0416666999999999E-2,1.0416666999999999E-2,1.0416666999999999E-2,1.0416666999999999E-2,1.0416666999999999E-2]
["YearSplit",null,null,null,null,null,"S423",null,null,null,1.0416666999999999E-2,1.0416666999999999E-2,1.0416666999999999E-2,1.0416666999999999E-2,1.0416666999999999E-2,1.0416666999999999E-2,1.0416666999999999E-2,1.0416666999999999E-2,1.0416666999999999E-2,1.0416666999999999E-2,1.0416666999999999E-2,1.0416666999999999E-2,1.0416666999999999E-2,1.0416666999999999E-2,1.0416666999999999E-2,1.0416666999999999E-2,1.0416666999999999E-2,1.0416666999999999E-2,1.0416666999999999E-2,1.0416666999999999E-2,1.0416666999999999E-2,1.0416666999999999E-2,1.0416666999999999E-2,1.0416666999999999E-2,1.0416666999999999E-2,1.0416666999999999E-2,1.0416666999999999E-2,1.0416666999999999E-2,1.0416666999999999E-2,1.0416666999999999E-2,1.0416666999999999E-2,1.0416666999999999E-2,1.0416666999999999E-2,1.0416666999999999E-2,1.0416666999999999E-2,1.0416666999999999E-2,1.0416666999999999E-2,1.0416666999999999E-2,1.0416666999999999E-2,1.0416666999999999E-2,1.0416666999999999E-2,1.0416666999999999E-2,1.0416666999999999E-2,1.0416666999999999E-2,1.0416666999999999E-2,1.0416666999999999E-2,1.0416666999999999E-2,1.0416666999999999E-2,1.0416666999999999E-2,1.0416666999999999E-2,1.0416666999999999E-2,1.0416666999999999E-2,1.0416666999999999E-2,1.0416666999999999E-2,1.0416666999999999E-2,1.0416666999999999E-2]
["YearSplit",null,null,null,null,null,"S424",null,null,null,1.0416666999999999E-2,1.0416666999999999E-2,1.0416666999999999E-2,1.0416666999999999E-2,1.0416666999999999E-2,1.0416666999999999E-2,1.0416666999999999E-2,1.0416666999999999E-2,1.0416666999999999E-2,1.0416666999999999E-2,1.0416666999999999E-2,1.0416666999999999E-2,1.0416666999999999E-2,1.0416666999999999E-2,1.0416666999999999E-2,1.0416666999999999E-2,1.0416666999999999E-2,1.0416666999999999E-2,1.0416666999999999E-2,1.0416666999999999E-2,1.0416666999999999E-2,1.0416666999999999E-2,1.0416666999999999E-2,1.0416666999999999E-2,1.0416666999999999E-2,1.0416666999999999E-2,1.0416666999999999E-2,1.0416666999999999E-2,1.0416666999999999E-2,1.0416666999999999E-2,1.0416666999999999E-2,1.0416666999999999E-2,1.0416666999999999E-2,1.0416666999999999E-2,1.0416666999999999E-2,1.0416666999999999E-2,1.0416666999999999E-2,1.0416666999999999E-2,1.0416666999999999E-2,1.0416666999999999E-2,1.0416666999999999E-2,1.0416666999999999E-2,1.0416666999999999E-2,1.0416666999999999E-2,1.0416666999999999E-2,1.0416666999999999E-2,1.0416666999999999E-2,1.0416666999999999E-2,1.0416666999999999E-2,1.0416666999999999E-2,1.0416666999999999E-2,1.0416666999999999E-2,1.0416666999999999E-2,1.0416666999999999E-2,1.0416666999999999E-2,1.0416666999999999E-2]

{"sheet":"ToDataFile","index":3,"n_rows":90834,"n_cols":203,"rows_kept":1125,"cut":true,"hidden":false,"merged":[],"bounds":{"rows_first":500,"rows_last":125,"rows_between":500,"halvings":2}}
["###############"]
["#","Sets","#"]
["###############"]
["#"]
["set","EMISSION",":=",{"$f":"SETS!H3","v":"EMIC02"},{"$f":"SETS!H4","v":"EMICH4"},{"$f":"SETS!H5","v":"EMIFGA"},{"$f":"SETS!H6","v":"EMIN2O"},{"$f":"SETS!H7","v":"EMIREN"},";"]
["set","REGION",":=",{"$f":"SETS!H9","v":"RE1"},";"]
["set","MODE_OF_OPERATION",":=",{"$f":"Parameters!E19964","v":1},";"]
["set","FUEL",":=",{"$f":"SETS!E3","v":"OIL"},{"$f":"SETS!E4","v":"BIO"},{"$f":"SETS!E5","v":"COA"},{"$f":"SETS!E6","v":"LFO"},{"$f":"SETS!E7","v":"NGS"},{"$f":"SETS!E8","v":"HFO"},{"$f":"SETS!E9","v":"SOL"},{"$f":"SETS!E10","v":"HYD"},{"$f":"SETS!E11","v":"WND"},{"$f":"SETS!E12","v":"URN"},{"$f":"SETS!E13","v":"GEO"},{"$f":"SETS!E14","v":"ELC001"},{"$f":"SETS!E15","v":"ELC002"},{"$f":"SETS!E16","v":"ELC003"},{"$f":"SETS!E17","v":"ELCEV"},{"$f":"SETS!E18","v":"TRAMCY"},{"$f":"SETS!E19","v":"TRACAR"},{"$f":"SETS!E20","v":"TRABUS"},{"$f":"SETS!E21","v":"INDELC"},{"$f":"SETS!E22","v":"INDHEH"},{"$f":"SETS!E23","v":"INDHEL"},{"$f":"SETS!E24","v":"RESELC"},{"$f":"SETS!E25","v":"RESCKN"},{"$f":"SETS!E26","v":"RESHEL"},{"$f":"SETS!E27","v":"COMELC"},{"$f":"SETS!E28","v":"COMHEL"},{"$f":"SETS!E29","v":"COM027"},{"$f":"SETS!E30","v":"COM028"},{"$f":"SETS!E31","v":"COM029"},{"$f":"SETS!E32","v":"COM030"},{"$f":"SETS!E33","v":"COM031"},{"$f":"SETS!E34","v":"COM032"},{"$f":"SETS!E35","v":"COM033"},{"$f":"SETS!E36","v":"COM034"},{"$f":"SETS!E37","v":"COM035"},{"$f":"SETS!E38","v":"COM036"},{"$f":"SETS!E39","v":"COM037"},{"$f":"SETS!E40","v":"COM038"},{"$f":"SETS!E41","v":"COM039"},{"$f":"SETS!E42","v":"COM040"},{"$f":"SETS!E43","v":"COM041"},{"$f":"SETS!E44","v":"COM042"},{"$f":"SETS!E45","v":"COM043"},{"$f":"SETS!E46","v":"COM044"},{"$f":"SETS!E47","v":"COM045"},{"$f":"SETS!E48","v":"COM046"},{"$f":"SETS!E49","v":"COM047"},{"$f":"SETS!E50","v":"COM048"},{"$f":"SETS!E51","v":"COM049"},{"$f":"SETS!E52","v":"COM050"},";"]
["set","STORAGE",":=",";"]
["set","TECHNOLOGY",":=",{"$f":"SETS!B3","v":"IMPOIL"},{"$f":"SETS!B4","v":"MINOIL"},{"$f":"SETS!B5","v":"IMPBIO"},{"$f":"SETS!B6","v":"MINBIO"},{"$f":"SETS!B7","v":"IMPCOA"},{"$f":"SETS!B8","v":"MINCOA"},{"$f":"SETS!B9","v":"IMPLFO"},{"$f":"SETS!B10","v":"IMPHFO"},{"$f":"SETS!B11","v":"UPSREF001"},{"$f":"SETS!B12","v":"UPSREF002"},{"$f":"SETS!B13","v":"IMPNGS"},{"$f":"SETS!B14","v":"MINNGS"},{"$f":"SETS!B15","v":"MINSOL"},{"$f":"SETS!B16","v":"MINWND"},{"$f":"SETS!B17","v":"IMPURN"},{"$f":"SETS!B18","v":"MINURN"},{"$f":"SETS!B19","v":"MINGEO"},{"$f":"SETS!B20","v":"MINHYD"},{"$f":"SETS!B21","v":"PWRBIO001"},{"$f":"SETS!B22","v":"PWRCOA001"},{"$f":"SETS!B23","v":"TEC021"},{"$f":"SETS!B24","v":"PWRGEO"},{"$f":"SETS!B25","v":"PWROHC001"},{"$f":"SETS!B26","v":"PWROHC002"},{"$f":"SETS!B27","v":"PWRNGS001"},{"$f":"SETS!B28","v":"PWRNGS002"},{"$f":"SETS!B29","v":"PWRSOL001"},{"$f":"SETS!B30","v":"TEC027"},{"$f":"SETS!B31","v":"PWRCSP002"},{"$f":"SETS!B32","v":"PWRHYD001"},{"$f":"SETS!B33","v":"PWRHYD002"},{"$f":"SETS!B34","v":"PWRHYD003"},{"$f":"SETS!B35","v":"PWRWND001"},{"$f":"SETS!B36","v":"PWRWND002"},{"$f":"SETS!B37","v":"PWRNUC"},{"$f":"SETS!B38","v":"PWRSOL001S"},{"$f":"SETS!B39","v":"PWRWND001S"},{"$f":"SETS!B40","v":"PWRTRNIMP"},{"$f":"SETS!B41","v":"BACKSTOP001"},{"$f":"SETS!B42","v":"PWRTRN"},{"$f":"SETS!B43","v":"PWRDIST"},{"$f":"SETS!B44","v":"PWROHC003"},{"$f":"SETS!B45","v":"PWRSOL002"},{"$f":"SETS!B46","v":"PWRHYD004"},{"$f":"SETS!B47","v":"PWRTRNEXP"},{"$f":"SETS!B48","v":"BACKSTOP002"},{"$f":"SETS!B49","v":"DEMTRAEVC"},{"$f":"SETS!B50","v":"DEMTRAMCYELC"},{"$f":"SETS!B51","v":"DEMTRACARELC"},{"$f":"SETS!B52","v":"DEMTRABUSELC"},{"$f":"SETS!B53","v":"DEMTRAMCYGSL"},{"$f":"SETS!B54","v":"DEMTRACARGSL"},{"$f":"SETS!B55","v":"DEMTRABUSGSL"},{"$f":"SETS!B56","v":"DEMINDELC"},{"$f":"SETS!B57","v":"INDENEFFGD"},{"$f":"SETS!B58","v":"INDENEFFDP"},{"$f":"SETS!B59","v":"DEMINDHEEH"},{"$f":"SETS!B60","v":"DEMINDHEEL"},{"$f":"SETS!B61","v":"DEMINDHENGS"},{"$f":"SETS!B62","v":"DEMINDHEOIL"},{"$f":"SETS!B63","v":"DEMINDHEBIO"},{"$f":"SETS!B64","v":"DEMRESELC"},{"$f":"SETS!B65","v":"RESENEFFGD"},{"$f":"SETS!B66","v":"RESENEFFDP"},{"$f":"SETS!B67","v":"DEMRESCKNELC"},{"$f":"SETS!B68","v":"DEMRESCKNOIL"},{"$f":"SETS!B69","v":"DEMRESCKNBIO"},{"$f":"SETS!B70","v":"DEMRESHEBIO"},{"$f":"SETS!B71","v":"DEMRESHEOIL"},{"$f":"SETS!B72","v":"DEMRESHEEL"},{"$f":"SETS!B73","v":"DEMCOMELC"},{"$f":"SETS!B74","v":"COMENEFFGD"},{"$f":"SETS!B75","v":"COMENEFFDP"},{"$f":"SETS!B76","v":"DEMCOMHEOIL"},{"$f":"SETS!B77","v":"DEMCOMHEBIO"},{"$f":"SETS!B78","v":"DEMCOMHEEL"},{"$f":"SETS!B79","v":"BSTOPMCY"},{"$f":"SETS!B80","v":"BSTOPCAR"},{"$f":"SETS!B81","v":"BSTOPBUS"},{"$f":"SETS!B82","v":"BSTOPINDELC"},{"$f":"SETS!B83","v":"BSTOPINHEH"},{"$f":"SETS!B84","v":"BSTOPINDHEL"},{"$f":"SETS!B85","v":"BSTOPRESELC"},{"$f":"SETS!B86","v":"BSTOPRESCKN"},{"$f":"SETS!B87","v":"BSTOPRESHEL"},{"$f":"SETS!B88","v":"BSTOPCOMELC"},{"$f":"SETS!B89","v":"BSTOPCOMHEL"},{"$f":"SETS!B90","v":"DEMINDHECOA"},{"$f":"SETS!B91","v":"TEC088"},{"$f":"SETS!B92","v":"TEC089"},{"$f":"SETS!B93","v":"TEC090"},{"$f":"SETS!B94","v":"TEC091"},{"$f":"SETS!B95","v":"TEC092"},{"$f":"SETS!B96","v":"TEC093"},{"$f":"SETS!B97","v":"TEC094"},{"$f":"SETS!B98","v":"TEC095"},{"$f":"SETS!B99","v":"TEC096"},{"$f":"SETS!B100","v":"TEC097"},{"$f":"SETS!B101","v":"TEC098"},{"$f":"SETS!B102","v":"TEC099"},{"$f":"SETS!B103","v":"TEC100"},{"$f":"SETS!B104","v":"TEC101"},{"$f":"SETS!B105","v":"TEC102"},{"$f":"SETS!B106","v":"TEC103"},{"$f":"SETS!B107","v":"TEC104"},{"$f":"SETS!B108","v":"TEC105"},{"$f":"SETS!B109","v":"TEC106"},{"$f":"SETS!B110","v":"TEC107"},{"$f":"SETS!B111","v":"TEC108"},{"$f":"SETS!B112","v":"TEC109"},{"$f":"SETS!B113","v":"TEC110"},{"$f":"SETS!B114","v":"TEC111"},{"$f":"SETS!B115","v":"TEC112"},{"$f":"SETS!B116","v":"TEC113"},{"$f":"SETS!B117","v":"TEC114"},{"$f":"SETS!B118","v":"TEC115"},{"$f":"SETS!B119","v":"TEC116"},{"$f":"SETS!B120","v":"TEC117"},{"$f":"SETS!B121","v":"TEC118"},{"$f":"SETS!B122","v":"TEC119"},{"$f":"SETS!B123","v":"TEC120"},{"$f":"SETS!B124","v":"TEC121"},{"$f":"SETS!B125","v":"TEC122"},{"$f":"SETS!B126","v":"TEC123"},{"$f":"SETS!B127","v":"TEC124"},{"$f":"SETS!B128","v":"TEC125"},{"$f":"SETS!B129","v":"TEC126"},{"$f":"SETS!B130","v":"TEC127"},{"$f":"SETS!B131","v":"TEC128"},{"$f":"SETS!B132","v":"TEC129"},{"$f":"SETS!B133","v":"TEC130"},{"$f":"SETS!B134","v":"TEC131"},{"$f":"SETS!B135","v":"TEC132"},{"$f":"SETS!B136","v":"TEC133"},{"$f":"SETS!B137","v":"TEC134"},{"$f":"SETS!B138","v":"TEC135"},{"$f":"SETS!B139","v":"TEC136"},{"$f":"SETS!B140","v":"TEC137"},{"$f":"SETS!B141","v":"TEC138"},{"$f":"SETS!B142","v":"TEC139"},{"$f":"SETS!B143","v":"TEC140"},{"$f":"SETS!B144","v":"TEC141"},{"$f":"SETS!B145","v":"TEC142"},{"$f":"SETS!B146","v":"TEC143"},{"$f":"SETS!B147","v":"TEC144"},{"$f":"SETS!B148","v":"TEC145"},{"$f":"SETS!B149","v":"TEC146"},{"$f":"SETS!B150","v":"TEC147"},{"$f":"SETS!B151","v":"TEC148"},{"$f":"SETS!B152","v":"TEC149"},{"$f":"SETS!B153","v":"TEC150"},{"$f":"SETS!B154","v":"TEC151"},{"$f":"SETS!B155","v":"TEC152"},{"$f":"SETS!B156","v":"TEC153"},{"$f":"SETS!B157","v":"TEC154"},{"$f":"SETS!B158","v":"TEC155"},{"$f":"SETS!B159","v":"TEC156"},{"$f":"SETS!B160","v":"TEC157"},{"$f":"SETS!B161","v":"TEC158"},{"$f":"SETS!B162","v":"TEC159"},{"$f":"SETS!B163","v":"TEC160"},{"$f":"SETS!B164","v":"TEC161"},{"$f":"SETS!B165","v":"TEC162"},{"$f":"SETS!B166","v":"TEC163"},{"$f":"SETS!B167","v":"TEC164"},{"$f":"SETS!B168","v":"TEC165"},{"$f":"SETS!B169","v":"TEC166"},{"$f":"SETS!B170","v":"TEC167"},{"$f":"SETS!B171","v":"TEC168"},{"$f":"SETS!B172","v":"TEC169"},{"$f":"SETS!B173","v":"TEC170"},{"$f":"SETS!B174","v":"TEC171"},{"$f":"SETS!B175","v":"TEC172"},{"$f":"SETS!B176","v":"TEC173"},{"$f":"SETS!B177","v":"TEC174"},{"$f":"SETS!B178","v":"TEC175"},{"$f":"SETS!B179","v":"TEC176"},{"$f":"SETS!B180","v":"TEC177"},{"$f":"SETS!B181","v":"TEC178"},{"$f":"SETS!B182","v":"TEC179"},{"$f":"SETS!B183","v":"TEC180"},{"$f":"SETS!B184","v":"TEC181"},{"$f":"SETS!B185","v":"TEC182"},{"$f":"SETS!B186","v":"TEC183"},{"$f":"SETS!B187","v":"TEC184"},{"$f":"SETS!B188","v":"TEC185"},{"$f":"SETS!B189","v":"TEC186"},{"$f":"SETS!B190","v":"TEC187"},{"$f":"SETS!B191","v":"TEC188"},{"$f":"SETS!B192","v":"TEC189"},{"$f":"SETS!B193","v":"TEC190"},{"$f":"SETS!B194","v":"TEC191"},{"$f":"SETS!B195","v":"TEC192"},{"$f":"SETS!B196","v":"TEC193"},{"$f":"SETS!B197","v":"TEC194"},{"$f":"SETS!B198","v":"TEC195"},{"$f":"SETS!B199","v":"TEC196"},{"$f":"SETS!B200","v":"TEC197"},{"$f":"SETS!B201","v":"TEC198"},";"]
["set","YEAR",":=",2015,2016,2017,2018,2019,2020,2021,2022,2023,2024,2025,2026,2027,2028,2029,2030,2031,2032,2033,2034,2035,2036,2037,2038,2039,2040,2041,2042,2043,2044,2045,2046,2047,2048,2049,2050,2051,2052,2053,2054,2055,2056,2057,2058,2059,2060,2061,2062,2063,2064,2065,2066,2067,2068,2069,2070,";"]
["set","TIMESLICE",":=","S101","S102","S103","S104","S105","S106","S107","S108","S109","S110","S111","S112","S113","S114","S115","S116","S117","S118","S119","S120","S121","S122","S123","S124","S201","S202","S203","S204","S205","S206","S207","S208","S209","S210","S211","S212","S213","S214","S215","S216","S217","S218","S219","S220","S221","S222","S223","S224","S301","S302","S303","S304","S305","S306","S307","S308","S309","S310","S311","S312","S313","S314","S315","S316","S317","S318","S319","S320","S321","S322","S323","S324","S401","S402","S403","S404","S405","S406","S407","S408","S409","S410","S411","S412","S413","S414","S415","S416","S417","S418","S419","S420","S421","S422","S423","S424",";"]
[]
[]
["#####################"]
["#","Parameters","#"]
["#####################"]
["#"]
["param ","ResultsPath",{"$f":"SETS!H11","v":":=\"C:\\Users\\Carla\\Desktop\\Runs\\2020\\UN\\CLEWSO\\2B\\res\\csv\";"}]
["param","AccumulatedAnnualDemand","default",0,":="]
[{"$f":"CONCATENATE(\"[\",SETS!H9,\",\",\"*\",\",\",\"*\",\"]:\")","v":"[RE1,*,*]:"}]
[null,2015,2016,2017,2018,2019,2020,2021,2022,2023,2024,2025,2026,2027,2028,2029,2030,2031,2032,2033,2034,2035,2036,2037,2038,2039,2040,2041,2042,2043,2044,2045,2046,2047,2048,2049,2050,2051,2052,2053,2054,2055,2056,2057,2058,2059,2060,2061,2062,2063,2064,2065,2066,2067,2068,2069,2070,":="]
[{"$f":"Parameters!F2","v":"OIL"},{"$f":"Parameters!K2","v":0},{"$f":"Parameters!L2","v":0},{"$f":"Parameters!M2","v":0},{"$f":"Parameters!N2","v":0},{"$f":"Parameters!O2","v":0},{"$f":"Parameters!P2","v":0},{"$f":"Parameters!Q2","v":0},{"$f":"Parameters!R2","v":0},{"$f":"Parameters!S2","v":0},{"$f":"Parameters!T2","v":0},{"$f":"Parameters!U2","v":0},{"$f":"Parameters!V2","v":0},{"$f":"Parameters!W2","v":0},{"$f":"Parameters!X2","v":0},{"$f":"Parameters!Y2","v":0},{"$f":"Parameters!Z2","v":0},{"$f":"Parameters!AA2","v":0},{"$f":"Parameters!AB2","v":0},{"$f":"Parameters!AC2","v":0},{"$f":"Parameters!AD2","v":0},{"$f":"Parameters!AE2","v":0},{"$f":"Parameters!AF2","v":0},{"$f":"Parameters!AG2","v":0},{"$f":"Parameters!AH2","v":0},{"$f":"Parameters!AI2","v":0},{"$f":"Parameters!AJ2","v":0},{"$f":"Parameters!AK2","v":0},{"$f":"Parameters!AL2","v":0},{"$f":"Parameters!AM2","v":0},{"$f":"Parameters!AN2","v":0},{"$f":"Parameters!AO2","v":0},{"$f":"Parameters!AP2","v":0},{"$f":"Parameters!AQ2","v":0},{"$f":"Parameters!AR2","v":0},{"$f":"Parameters!AS2","v":0},{"$f":"Parameters!AT2","v":0},{"$f":"Parameters!AU2","v":0},{"$f":"Parameters!AV2","v":0},{"$f":"Parameters!AW2","v":0},{"$f":"Parameters!AX2","v":0},{"$f":"Parameters!AY2","v":0},{"$f":"Parameters!AZ2","v":0},{"$f":"Parameters!BA2","v":0},{"$f":"Parameters!BB2","v":0},{"$f":"Parameters!BC2","v":0},{"$f":"Parameters!BD2","v":0},{"$f":"Parameters!BE2","v":0},{"$f":"Parameters!BF2","v":0},{"$f":"Parameters!BG2","v":0},{"$f":"Parameters!BH2","v":0},{"$f":"Parameters!BI2","v":0},{"$f":"Parameters!BJ2","v":0},{"$f":"Parameters!BK2","v":0},{"$f":"Parameters!BL2","v":0},{"$f":"Parameters!BM2","v":0},{"$f":"Parameters!BN2","v":0}]
[{"$f":"Parameters!F3","v":"BIO"},{"$f":"Parameters!K3","v":0},{"$f":"Parameters!L3","v":0},{"$f":"Parameters!M3","v":0},{"$f":"Parameters!N3","v":0},{"$f":"Parameters!O3","v":0},{"$f":"Parameters!P3","v":0},{"$f":"Parameters!Q3","v":0},{"$f":"Parameters!R3","v":0},{"$f":"Parameters!S3","v":0},{"$f":"Parameters!T3","v":0},{"$f":"Parameters!U3","v":0},{"$f":"Parameters!V3","v":0},{"$f":"Parameters!W3","v":0},{"$f":"Parameters!X3","v":0},{"$f":"Parameters!Y3","v":0},{"$f":"Parameters!Z3","v":0},{"$f":"Parameters!AA3","v":0},{"$f":"Parameters!AB3","v":0},{"$f":"Parameters!AC3","v":0},{"$f":"Parameters!AD3","v":0},{"$f":"Parameters!AE3","v":0},{"$f":"Parameters!AF3","v":0},{"$f":"Parameters!AG3","v":0},{"$f":"Parameters!AH3","v":0},{"$f":"Parameters!AI3","v":0},{"$f":"Parameters!AJ3","v":0},{"$f":"Parameters!AK3","v":0},{"$f":"Parameters!AL3","v":0},{"$f":"Parameters!AM3","v":0},{"$f":"Parameters!AN3","v":0},{"$f":"Parameters!AO3","v":0},{"$f":"Parameters!AP3","v":0},{"$f":"Parameters!AQ3","v":0},{"$f":"Parameters!AR3","v":0},{"$f":"Parameters!AS3","v":0},{"$f":"Parameters!AT3","v":0},{"$f":"Parameters!AU3","v":0},{"$f":"Parameters!AV3","v":0},{"$f":"Parameters!AW3","v":0},{"$f":"Parameters!AX3","v":0},{"$f":"Parameters!AY3","v":0},{"$f":"Parameters!AZ3","v":0},{"$f":"Parameters!BA3","v":0},{"$f":"Parameters!BB3","v":0},{"$f":"Parameters!BC3","v":0},{"$f":"Parameters!BD3","v":0},{"$f":"Parameters!BE3","v":0},{"$f":"Parameters!BF3","v":0},{"$f":"Parameters!BG3","v":0},{"$f":"Parameters!BH3","v":0},{"$f":"Parameters!BI3","v":0},{"$f":"Parameters!BJ3","v":0},{"$f":"Parameters!BK3","v":0},{"$f":"Parameters!BL3","v":0},{"$f":"Parameters!BM3","v":0},{"$f":"Parameters!BN3","v":0}]
[{"$f":"Parameters!F4","v":"COA"},{"$f":"Parameters!K4","v":0},{"$f":"Parameters!L4","v":0},{"$f":"Parameters!M4","v":0},{"$f":"Parameters!N4","v":0},{"$f":"Parameters!O4","v":0},{"$f":"Parameters!P4","v":0},{"$f":"Parameters!Q4","v":0},{"$f":"Parameters!R4","v":0},{"$f":"Parameters!S4","v":0},{"$f":"Parameters!T4","v":0},{"$f":"Parameters!U4","v":0},{"$f":"Parameters!V4","v":0},{"$f":"Parameters!W4","v":0},{"$f":"Parameters!X4","v":0},{"$f":"Parameters!Y4","v":0},{"$f":"Parameters!Z4","v":0},{"$f":"Parameters!AA4","v":0},{"$f":"Parameters!AB4","v":0},{"$f":"Parameters!AC4","v":0},{"$f":"Parameters!AD4","v":0},{"$f":"Parameters!AE4","v":0},{"$f":"Parameters!AF4","v":0},{"$f":"Parameters!AG4","v":0},{"$f":"Parameters!AH4","v":0},{"$f":"Parameters!AI4","v":0},{"$f":"Parameters!AJ4","v":0},{"$f":"Parameters!AK4","v":0},{"$f":"Parameters!AL4","v":0},{"$f":"Parameters!AM4","v":0},{"$f":"Parameters!AN4","v":0},{"$f":"Parameters!AO4","v":0},{"$f":"Parameters!AP4","v":0},{"$f":"Parameters!AQ4","v":0},{"$f":"Parameters!AR4","v":0},{"$f":"Parameters!AS4","v":0},{"$f":"Parameters!AT4","v":0},{"$f":"Parameters!AU4","v":0},{"$f":"Parameters!AV4","v":0},{"$f":"Parameters!AW4","v":0},{"$f":"Parameters!AX4","v":0},{"$f":"Parameters!AY4","v":0},{"$f":"Parameters!AZ4","v":0},{"$f":"Parameters!BA4","v":0},{"$f":"Parameters!BB4","v":0},{"$f":"Parameters!BC4","v":0},{"$f":"Parameters!BD4","v":0},{"$f":"Parameters!BE4","v":0},{"$f":"Parameters!BF4","v":0},{"$f":"Parameters!BG4","v":0},{"$f":"Parameters!BH4","v":0},{"$f":"Parameters!BI4","v":0},{"$f":"Parameters!BJ4","v":0},{"$f":"Parameters!BK4","v":0},{"$f":"Parameters!BL4","v":0},{"$f":"Parameters!BM4","v":0},{"$f":"Parameters!BN4","v":0}]
[{"$f":"Parameters!F5","v":"LFO"},{"$f":"Parameters!K5","v":0},{"$f":"Parameters!L5","v":0},{"$f":"Parameters!M5","v":0},{"$f":"Parameters!N5","v":0},{"$f":"Parameters!O5","v":0},{"$f":"Parameters!P5","v":0},{"$f":"Parameters!Q5","v":0},{"$f":"Parameters!R5","v":0},{"$f":"Parameters!S5","v":0},{"$f":"Parameters!T5","v":0},{"$f":"Parameters!U5","v":0},{"$f":"Parameters!V5","v":0},{"$f":"Parameters!W5","v":0},{"$f":"Parameters!X5","v":0},{"$f":"Parameters!Y5","v":0},{"$f":"Parameters!Z5","v":0},{"$f":"Parameters!AA5","v":0},{"$f":"Parameters!AB5","v":0},{"$f":"Parameters!AC5","v":0},{"$f":"Parameters!AD5","v":0},{"$f":"Parameters!AE5","v":0},{"$f":"Parameters!AF5","v":0},{"$f":"Parameters!AG5","v":0},{"$f":"Parameters!AH5","v":0},{"$f":"Parameters!AI5","v":0},{"$f":"Parameters!AJ5","v":0},{"$f":"Parameters!AK5","v":0},{"$f":"Parameters!AL5","v":0},{"$f":"Parameters!AM5","v":0},{"$f":"Parameters!AN5","v":0},{"$f":"Parameters!AO5","v":0},{"$f":"Parameters!AP5","v":0},{"$f":"Parameters!AQ5","v":0},{"$f":"Parameters!AR5","v":0},{"$f":"Parameters!AS5","v":0},{"$f":"Parameters!AT5","v":0},{"$f":"Parameters!AU5","v":0},{"$f":"Parameters!AV5","v":0},{"$f":"Parameters!AW5","v":0},{"$f":"Parameters!AX5","v":0},{"$f":"Parameters!AY5","v":0},{"$f":"Parameters!AZ5","v":0},{"$f":"Parameters!BA5","v":0},{"$f":"Parameters!BB5","v":0},{"$f":"Parameters!BC5","v":0},{"$f":"Parameters!BD5","v":0},{"$f":"Parameters!BE5","v":0},{"$f":"Parameters!BF5","v":0},{"$f":"Parameters!BG5","v":0},{"$f":"Parameters!BH5","v":0},{"$f":"Parameters!BI5","v":0},{"$f":"Parameters!BJ5","v":0},{"$f":"Parameters!BK5","v":0},{"$f":"Parameters!BL5","v":0},{"$f":"Parameters!BM5","v":0},{"$f":"Parameters!BN5","v":0}]
[{"$f":"Parameters!F6","v":"NGS"},{"$f":"Parameters!K6","v":0},{"$f":"Parameters!L6","v":0},{"$f":"Parameters!M6","v":0},{"$f":"Parameters!N6","v":0},{"$f":"Parameters!O6","v":0},{"$f":"Parameters!P6","v":0},{"$f":"Parameters!Q6","v":0},{"$f":"Parameters!R6","v":0},{"$f":"Parameters!S6","v":0},{"$f":"Parameters!T6","v":0},{"$f":"Parameters!U6","v":0},{"$f":"Parameters!V6","v":0},{"$f":"Parameters!W6","v":0},{"$f":"Parameters!X6","v":0},{"$f":"Parameters!Y6","v":0},{"$f":"Parameters!Z6","v":0},{"$f":"Parameters!AA6","v":0},{"$f":"Parameters!AB6","v":0},{"$f":"Parameters!AC6","v":0},{"$f":"Parameters!AD6","v":0},{"$f":"Parameters!AE6","v":0},{"$f":"Parameters!AF6","v":0},{"$f":"Parameters!AG6","v":0},{"$f":"Parameters!AH6","v":0},{"$f":"Parameters!AI6","v":0},{"$f":"Parameters!AJ6","v":0},{"$f":"Parameters!AK6","v":0},{"$f":"Parameters!AL6","v":0},{"$f":"Parameters!AM6","v":0},{"$f":"Parameters!AN6","v":0},{"$f":"Parameters!AO6","v":0},{"$f":"Parameters!AP6","v":0},{"$f":"Parameters!AQ6","v":0},{"$f":"Parameters!AR6","v":0},{"$f":"Parameters!AS6","v":0},{"$f":"Parameters!AT6","v":0},{"$f":"Parameters!AU6","v":0},{"$f":"Parameters!AV6","v":0},{"$f":"Parameters!AW6","v":0},{"$f":"Parameters!AX6","v":0},{"$f":"Parameters!AY6","v":0},{"$f":"Parameters!AZ6","v":0},{"$f":"Parameters!BA6","v":0},{"$f":"Parameters!BB6","v":0},{"$f":"Parameters!BC6","v":0},{"$f":"Parameters!BD6","v":0},{"$f":"Parameters!BE6","v":0},{"$f":"Parameters!BF6","v":0},{"$f":"Parameters!BG6","v":0},{"$f":"Parameters!BH6","v":0},{"$f":"Parameters!BI6","v":0},{"$f":"Parameters!BJ6","v":0},{"$f":"Parameters!BK6","v":0},{"$f":"Parameters!BL6","v":0},{"$f":"Parameters!BM6","v":0},{"$f":"Parameters!BN6","v":0}]
[{"$f":"Parameters!F7","v":"HFO"},{"$f":"Parameters!K7","v":0},{"$f":"Parameters!L7","v":0},{"$f":"Parameters!M7","v":0},{"$f":"Parameters!N7","v":0},{"$f":"Parameters!O7","v":0},{"$f":"Parameters!P7","v":0},{"$f":"Parameters!Q7","v":0},{"$f":"Parameters!R7","v":0},{"$f":"Parameters!S7","v":0},{"$f":"Parameters!T7","v":0},{"$f":"Parameters!U7","v":0},{"$f":"Parameters!V7","v":0},{"$f":"Parameters!W7","v":0},{"$f":"Parameters!X7","v":0},{"$f":"Parameters!Y7","v":0},{"$f":"Parameters!Z7","v":0},{"$f":"Parameters!AA7","v":0},{"$f":"Parameters!AB7","v":0},{"$f":"Parameters!AC7","v":0},{"$f":"Parameters!AD7","v":0},{"$f":"Parameters!AE7","v":0},{"$f":"Parameters!AF7","v":0},{"$f":"Parameters!AG7","v":0},{"$f":"Parameters!AH7","v":0},{"$f":"Parameters!AI7","v":0},{"$f":"Parameters!AJ7","v":0},{"$f":"Parameters!AK7","v":0},{"$f":"Parameters!AL7","v":0},{"$f":"Parameters!AM7","v":0},{"$f":"Parameters!AN7","v":0},{"$f":"Parameters!AO7","v":0},{"$f":"Parameters!AP7","v":0},{"$f":"Parameters!AQ7","v":0},{"$f":"Parameters!AR7","v":0},{"$f":"Parameters!AS7","v":0},{"$f":"Parameters!AT7","v":0},{"$f":"Parameters!AU7","v":0},{"$f":"Parameters!AV7","v":0},{"$f":"Parameters!AW7","v":0},{"$f":"Parameters!AX7","v":0},{"$f":"Parameters!AY7","v":0},{"$f":"Parameters!AZ7","v":0},{"$f":"Parameters!BA7","v":0},{"$f":"Parameters!BB7","v":0},{"$f":"Parameters!BC7","v":0},{"$f":"Parameters!BD7","v":0},{"$f":"Parameters!BE7","v":0},{"$f":"Parameters!BF7","v":0},{"$f":"Parameters!BG7","v":0},{"$f":"Parameters!BH7","v":0},{"$f":"Parameters!BI7","v":0},{"$f":"Parameters!BJ7","v":0},{"$f":"Parameters!BK7","v":0},{"$f":"Parameters!BL7","v":0},{"$f":"Parameters!BM7","v":0},{"$f":"Parameters!BN7","v":0}]
[{"$f":"Parameters!F8","v":"SOL"},{"$f":"Parameters!K8","v":0},{"$f":"Parameters!L8","v":0},{"$f":"Parameters!M8","v":0},{"$f":"Parameters!N8","v":0},{"$f":"Parameters!O8","v":0},{"$f":"Parameters!P8","v":0},{"$f":"Parameters!Q8","v":0},{"$f":"Parameters!R8","v":0},{"$f":"Parameters!S8","v":0},{"$f":"Parameters!T8","v":0},{"$f":"Parameters!U8","v":0},{"$f":"Parameters!V8","v":0},{"$f":"Parameters!W8","v":0},{"$f":"Parameters!X8","v":0},{"$f":"Parameters!Y8","v":0},{"$f":"Parameters!Z8","v":0},{"$f":"Parameters!AA8","v":0},{"$f":"Parameters!AB8","v":0},{"$f":"Parameters!AC8","v":0},{"$f":"Parameters!AD8","v":0},{"$f":"Parameters!AE8","v":0},{"$f":"Parameters!AF8","v":0},{"$f":"Parameters!AG8","v":0},{"$f":"Parameters!AH8","v":0},{"$f":"Parameters!AI8","v":0},{"$f":"Parameters!AJ8","v":0},{"$f":"Parameters!AK8","v":0},{"$f":"Parameters!AL8","v":0},{"$f":"Parameters!AM8","v":0},{"$f":"Parameters!AN8","v":0},{"$f":"Parameters!AO8","v":0},{"$f":"Parameters!AP8","v":0},{"$f":"Parameters!AQ8","v":0},{"$f":"Parameters!AR8","v":0},{"$f":"Parameters!AS8","v":0},{"$f":"Parameters!AT8","v":0},{"$f":"Parameters!AU8","v":0},{"$f":"Parameters!AV8","v":0},{"$f":"Parameters!AW8","v":0},{"$f":"Parameters!AX8","v":0},{"$f":"Parameters!AY8","v":0},{"$f":"Parameters!AZ8","v":0},{"$f":"Parameters!BA8","v":0},{"$f":"Parameters!BB8","v":0},{"$f":"Parameters!BC8","v":0},{"$f":"Parameters!BD8","v":0},{"$f":"Parameters!BE8","v":0},{"$f":"Parameters!BF8","v":0},{"$f":"Parameters!BG8","v":0},{"$f":"Parameters!BH8","v":0},{"$f":"Parameters!BI8","v":0},{"$f":"Parameters!BJ8","v":0},{"$f":"Parameters!BK8","v":0},{"$f":"Parameters!BL8","v":0},{"$f":"Parameters!BM8","v":0},{"$f":"Parameters!BN8","v":0}]
[{"$f":"Parameters!F9","v":"HYD"},{"$f":"Parameters!K9","v":0},{"$f":"Parameters!L9","v":0},{"$f":"Parameters!M9","v":0},{"$f":"Parameters!N9","v":0},{"$f":"Parameters!O9","v":0},{"$f":"Parameters!P9","v":0},{"$f":"Parameters!Q9","v":0},{"$f":"Parameters!R9","v":0},{"$f":"Parameters!S9","v":0},{"$f":"Parameters!T9","v":0},{"$f":"Parameters!U9","v":0},{"$f":"Parameters!V9","v":0},{"$f":"Parameters!W9","v":0},{"$f":"Parameters!X9","v":0},{"$f":"Parameters!Y9","v":0},{"$f":"Parameters!Z9","v":0},{"$f":"Parameters!AA9","v":0},{"$f":"Parameters!AB9","v":0},{"$f":"Parameters!AC9","v":0},{"$f":"Parameters!AD9","v":0},{"$f":"Parameters!AE9","v":0},{"$f":"Parameters!AF9","v":0},{"$f":"Parameters!AG9","v":0},{"$f":"Parameters!AH9","v":0},{"$f":"Parameters!AI9","v":0},{"$f":"Parameters!AJ9","v":0},{"$f":"Parameters!AK9","v":0},{"$f":"Parameters!AL9","v":0},{"$f":"Parameters!AM9","v":0},{"$f":"Parameters!AN9","v":0},{"$f":"Parameters!AO9","v":0},{"$f":"Parameters!AP9","v":0},{"$f":"Parameters!AQ9","v":0},{"$f":"Parameters!AR9","v":0},{"$f":"Parameters!AS9","v":0},{"$f":"Parameters!AT9","v":0},{"$f":"Parameters!AU9","v":0},{"$f":"Parameters!AV9","v":0},{"$f":"Parameters!AW9","v":0},{"$f":"Parameters!AX9","v":0},{"$f":"Parameters!AY9","v":0},{"$f":"Parameters!AZ9","v":0},{"$f":"Parameters!BA9","v":0},{"$f":"Parameters!BB9","v":0},{"$f":"Parameters!BC9","v":0},{"$f":"Parameters!BD9","v":0},{"$f":"Parameters!BE9","v":0},{"$f":"Parameters!BF9","v":0},{"$f":"Parameters!BG9","v":0},{"$f":"Parameters!BH9","v":0},{"$f":"Parameters!BI9","v":0},{"$f":"Parameters!BJ9","v":0},{"$f":"Parameters!BK9","v":0},{"$f":"Parameters!BL9","v":0},{"$f":"Parameters!BM9","v":0},{"$f":"Parameters!BN9","v":0}]
[{"$f":"Parameters!F10","v":"WND"},{"$f":"Parameters!K10","v":0},{"$f":"Parameters!L10","v":0},{"$f":"Parameters!M10","v":0},{"$f":"Parameters!N10","v":0},{"$f":"Parameters!O10","v":0},{"$f":"Parameters!P10","v":0},{"$f":"Parameters!Q10","v":0},{"$f":"Parameters!R10","v":0},{"$f":"Parameters!S10","v":0},{"$f":"Parameters!T10","v":0},{"$f":"Parameters!U10","v":0},{"$f":"Parameters!V10","v":0},{"$f":"Parameters!W10","v":0},{"$f":"Parameters!X10","v":0},{"$f":"Parameters!Y10","v":0},{"$f":"Parameters!Z10","v":0},{"$f":"Parameters!AA10","v":0},{"$f":"Parameters!AB10","v":0},{"$f":"Parameters!AC10","v":0},{"$f":"Parameters!AD10","v":0},{"$f":"Parameters!AE10","v":0},{"$f":"Parameters!AF10","v":0},{"$f":"Parameters!AG10","v":0},{"$f":"Parameters!AH10","v":0},{"$f":"Parameters!AI10","v":0},{"$f":"Parameters!AJ10","v":0},{"$f":"Parameters!AK10","v":0},{"$f":"Parameters!AL10","v":0},{"$f":"Parameters!AM10","v":0},{"$f":"Parameters!AN10","v":0},{"$f":"Parameters!AO10","v":0},{"$f":"Parameters!AP10","v":0},{"$f":"Parameters!AQ10","v":0},{"$f":"Parameters!AR10","v":0},{"$f":"Parameters!AS10","v":0},{"$f":"Parameters!AT10","v":0},{"$f":"Parameters!AU10","v":0},{"$f":"Parameters!AV10","v":0},{"$f":"Parameters!AW10","v":0},{"$f":"Parameters!AX10","v":0},{"$f":"Parameters!AY10","v":0},{"$f":"Parameters!AZ10","v":0},{"$f":"Parameters!BA10","v":0},{"$f":"Parameters!BB10","v":0},{"$f":"Parameters!BC10","v":0},{"$f":"Parameters!BD10","v":0},{"$f":"Parameters!BE10","v":0},{"$f":"Parameters!BF10","v":0},{"$f":"Parameters!BG10","v":0},{"$f":"Parameters!BH10","v":0},{"$f":"Parameters!BI10","v":0},{"$f":"Parameters!BJ10","v":0},{"$f":"Parameters!BK10","v":0},{"$f":"Parameters!BL10","v":0},{"$f":"Parameters!BM10","v":0},{"$f":"Parameters!BN10","v":0}]
[{"$f":"Parameters!F11","v":"URN"},{"$f":"Parameters!K11","v":0},{"$f":"Parameters!L11","v":0},{"$f":"Parameters!M11","v":0},{"$f":"Parameters!N11","v":0},{"$f":"Parameters!O11","v":0},{"$f":"Parameters!P11","v":0},{"$f":"Parameters!Q11","v":0},{"$f":"Parameters!R11","v":0},{"$f":"Parameters!S11","v":0},{"$f":"Parameters!T11","v":0},{"$f":"Parameters!U11","v":0},{"$f":"Parameters!V11","v":0},{"$f":"Parameters!W11","v":0},{"$f":"Parameters!X11","v":0},{"$f":"Parameters!Y11","v":0},{"$f":"Parameters!Z11","v":0},{"$f":"Parameters!AA11","v":0},{"$f":"Parameters!AB11","v":0},{"$f":"Parameters!AC11","v":0},{"$f":"Parameters!AD11","v":0},{"$f":"Parameters!AE11","v":0},{"$f":"Parameters!AF11","v":0},{"$f":"Parameters!AG11","v":0},{"$f":"Parameters!AH11","v":0},{"$f":"Parameters!AI11","v":0},{"$f":"Parameters!AJ11","v":0},{"$f":"Parameters!AK11","v":0},{"$f":"Parameters!AL11","v":0},{"$f":"Parameters!AM11","v":0},{"$f":"Parameters!AN11","v":0},{"$f":"Parameters!AO11","v":0},{"$f":"Parameters!AP11","v":0},{"$f":"Parameters!AQ11","v":0},{"$f":"Parameters!AR11","v":0},{"$f":"Parameters!AS11","v":0},{"$f":"Parameters!AT11","v":0},{"$f":"Parameters!AU11","v":0},{"$f":"Parameters!AV11","v":0},{"$f":"Parameters!AW11","v":0},{"$f":"Parameters!AX11","v":0},{"$f":"Parameters!AY11","v":0},{"$f":"Parameters!AZ11","v":0},{"$f":"Parameters!BA11","v":0},{"$f":"Parameters!BB11","v":0},{"$f":"Parameters!BC11","v":0},{"$f":"Parameters!BD11","v":0},{"$f":"Parameters!BE11","v":0},{"$f":"Parameters!BF11","v":0},{"$f":"Parameters!BG11","v":0},{"$f":"Parameters!BH11","v":0},{"$f":"Parameters!BI11","v":0},{"$f":"Parameters!BJ11","v":0},{"$f":"Parameters!BK11","v":0},{"$f":"Parameters!BL11","v":0},{"$f":"Parameters!BM11","v":0},{"$f":"Parameters!BN11","v":0}]
[{"$f":"Parameters!F12","v":"GEO"},{"$f":"Parameters!K12","v":0},{"$f":"Parameters!L12","v":0},{"$f":"Parameters!M12","v":0},{"$f":"Parameters!N12","v":0},{"$f":"Parameters!O12","v":0},{"$f":"Parameters!P12","v":0},{"$f":"Parameters!Q12","v":0},{"$f":"Parameters!R12","v":0},{"$f":"Parameters!S12","v":0},{"$f":"Parameters!T12","v":0},{"$f":"Parameters!U12","v":0},{"$f":"Parameters!V12","v":0},{"$f":"Parameters!W12","v":0},{"$f":"Parameters!X12","v":0},{"$f":"Parameters!Y12","v":0},{"$f":"Parameters!Z12","v":0},{"$f":"Parameters!AA12","v":0},{"$f":"Parameters!AB12","v":0},{"$f":"Parameters!AC12","v":0},{"$f":"Parameters!AD12","v":0},{"$f":"Parameters!AE12","v":0},{"$f":"Parameters!AF12","v":0},{"$f":"Parameters!AG12","v":0},{"$f":"Parameters!AH12","v":0},{"$f":"Parameters!AI12","v":0},{"$f":"Parameters!AJ12","v":0},{"$f":"Parameters!AK12","v":0},{"$f":"Parameters!AL12","v":0},{"$f":"Parameters!AM12","v":0},{"$f":"Parameters!AN12","v":0},{"$f":"Parameters!AO12","v":0},{"$f":"Parameters!AP12","v":0},{"$f":"Parameters!AQ12","v":0},{"$f":"Parameters!AR12","v":0},{"$f":"Parameters!AS12","v":0},{"$f":"Parameters!AT12","v":0},{"$f":"Parameters!AU12","v":0},{"$f":"Parameters!AV12","v":0},{"$f":"Parameters!AW12","v":0},{"$f":"Parameters!AX12","v":0},{"$f":"Parameters!AY12","v":0},{"$f":"Parameters!AZ12","v":0},{"$f":"Parameters!BA12","v":0},{"$f":"Parameters!BB12","v":0},{"$f":"Parameters!BC12","v":0},{"$f":"Parameters!BD12","v":0},{"$f":"Parameters!BE12","v":0},{"$f":"Parameters!BF12","v":0},{"$f":"Parameters!BG12","v":0},{"$f":"Parameters!BH12","v":0},{"$f":"Parameters!BI12","v":0},{"$f":"Parameters!BJ12","v":0},{"$f":"Parameters!BK12","v":0},{"$f":"Parameters!BL12","v":0},{"$f":"Parameters!BM12","v":0},{"$f":"Parameters!BN12","v":0}]
[{"$f":"Parameters!F13","v":"ELC001"},{"$f":"Parameters!K13","v":0},{"$f":"Parameters!L13","v":0},{"$f":"Parameters!M13","v":0},{"$f":"Parameters!N13","v":0},{"$f":"Parameters!O13","v":0},{"$f":"Parameters!P13","v":0},{"$f":"Parameters!Q13","v":0},{"$f":"Parameters!R13","v":0},{"$f":"Parameters!S13","v":0},{"$f":"Parameters!T13","v":0},{"$f":"Parameters!U13","v":0},{"$f":"Parameters!V13","v":0},{"$f":"Parameters!W13","v":0},{"$f":"Parameters!X13","v":0},{"$f":"Parameters!Y13","v":0},{"$f":"Parameters!Z13","v":0},{"$f":"Parameters!AA13","v":0},{"$f":"Parameters!AB13","v":0},{"$f":"Parameters!AC13","v":0},{"$f":"Parameters!AD13","v":0},{"$f":"Parameters!AE13","v":0},{"$f":"Parameters!AF13","v":0},{"$f":"Parameters!AG13","v":0},{"$f":"Parameters!AH13","v":0},{"$f":"Parameters!AI13","v":0},{"$f":"Parameters!AJ13","v":0},{"$f":"Parameters!AK13","v":0},{"$f":"Parameters!AL13","v":0},{"$f":"Parameters!AM13","v":0},{"$f":"Parameters!AN13","v":0},{"$f":"Parameters!AO13","v":0},{"$f":"Parameters!AP13","v":0},{"$f":"Parameters!AQ13","v":0},{"$f":"Parameters!AR13","v":0},{"$f":"Parameters!AS13","v":0},{"$f":"Parameters!AT13","v":0},{"$f":"Parameters!AU13","v":0},{"$f":"Parameters!AV13","v":0},{"$f":"Parameters!AW13","v":0},{"$f":"Parameters!AX13","v":0},{"$f":"Parameters!AY13","v":0},{"$f":"Parameters!AZ13","v":0},{"$f":"Parameters!BA13","v":0},{"$f":"Parameters!BB13","v":0},{"$f":"Parameters!BC13","v":0},{"$f":"Parameters!BD13","v":0},{"$f":"Parameters!BE13","v":0},{"$f":"Parameters!BF13","v":0},{"$f":"Parameters!BG13","v":0},{"$f":"Parameters!BH13","v":0},{"$f":"Parameters!BI13","v":0},{"$f":"Parameters!BJ13","v":0},{"$f":"Parameters!BK13","v":0},{"$f":"Parameters!BL13","v":0},{"$f":"Parameters!BM13","v":0},{"$f":"Parameters!BN13","v":0}]
[{"$f":"Parameters!F14","v":"ELC002"},{"$f":"Parameters!K14","v":0},{"$f":"Parameters!L14","v":0},{"$f":"Parameters!M14","v":0},{"$f":"Parameters!N14","v":0},{"$f":"Parameters!O14","v":0},{"$f":"Parameters!P14","v":0},{"$f":"Parameters!Q14","v":0},{"$f":"Parameters!R14","v":0},{"$f":"Parameters!S14","v":0},{"$f":"Parameters!T14","v":0},{"$f":"Parameters!U14","v":0},{"$f":"Parameters!V14","v":0},{"$f":"Parameters!W14","v":0},{"$f":"Parameters!X14","v":0},{"$f":"Parameters!Y14","v":0},{"$f":"Parameters!Z14","v":0},{"$f":"Parameters!AA14","v":0},{"$f":"Parameters!AB14","v":0},{"$f":"Parameters!AC14","v":0},{"$f":"Parameters!AD14","v":0},{"$f":"Parameters!AE14","v":0},{"$f":"Parameters!AF14","v":0},{"$f":"Parameters!AG14","v":0},{"$f":"Parameters!AH14","v":0},{"$f":"Parameters!AI14","v":0},{"$f":"Parameters!AJ14","v":0},{"$f":"Parameters!AK14","v":0},{"$f":"Parameters!AL14","v":0},{"$f":"Parameters!AM14","v":0},{"$f":"Parameters!AN14","v":0},{"$f":"Parameters!AO14","v":0},{"$f":"Parameters!AP14","v":0},{"$f":"Parameters!AQ14","v":0},{"$f":"Parameters!AR14","v":0},{"$f":"Parameters!AS14","v":0},{"$f":"Parameters!AT14","v":0},{"$f":"Parameters!AU14","v":0},{"$f":"Parameters!AV14","v":0},{"$f":"Parameters!AW14","v":0},{"$f":"Parameters!AX14","v":0},{"$f":"Parameters!AY14","v":0},{"$f":"Parameters!AZ14","v":0},{"$f":"Parameters!BA14","v":0},{"$f":"Parameters!BB14","v":0},{"$f":"Parameters!BC14","v":0},{"$f":"Parameters!BD14","v":0},{"$f":"Parameters!BE14","v":0},{"$f":"Parameters!BF14","v":0},{"$f":"Parameters!BG14","v":0},{"$f":"Parameters!BH14","v":0},{"$f":"Parameters!BI14","v":0},{"$f":"Parameters!BJ14","v":0},{"$f":"Parameters!BK14","v":0},{"$f":"Parameters!BL14","v":0},{"$f":"Parameters!BM14","v":0},{"$f":"Parameters!BN14","v":0}]
[{"$f":"Parameters!F15","v":"ELC003"},{"$f":"Parameters!K15","v":0},{"$f":"Parameters!L15","v":0},{"$f":"Parameters!M15","v":0},{"$f":"Parameters!N15","v":0},{"$f":"Parameters!O15","v":0},{"$f":"Parameters!P15","v":0},{"$f":"Parameters!Q15","v":0},{"$f":"Parameters!R15","v":0},{"$f":"Parameters!S15","v":0},{"$f":"Parameters!T15","v":0},{"$f":"Parameters!U15","v":0},{"$f":"Parameters!V15","v":0},{"$f":"Parameters!W15","v":0},{"$f":"Parameters!X15","v":0},{"$f":"Parameters!Y15","v":0},{"$f":"Parameters!Z15","v":0},{"$f":"Parameters!AA15","v":0},{"$f":"Parameters!AB15","v":0},{"$f":"Parameters!AC15","v":0},{"$f":"Parameters!AD15","v":0},{"$f":"Parameters!AE15","v":0},{"$f":"Parameters!AF15","v":0},{"$f":"Parameters!AG15","v":0},{"$f":"Parameters!AH15","v":0},{"$f":"Parameters!AI15","v":0},{"$f":"Parameters!AJ15","v":0},{"$f":"Parameters!AK15","v":0},{"$f":"Parameters!AL15","v":0},{"$f":"Parameters!AM15","v":0},{"$f":"Parameters!AN15","v":0},{"$f":"Parameters!AO15","v":0},{"$f":"Parameters!AP15","v":0},{"$f":"Parameters!AQ15","v":0},{"$f":"Parameters!AR15","v":0},{"$f":"Parameters!AS15","v":0},{"$f":"Parameters!AT15","v":0},{"$f":"Parameters!AU15","v":0},{"$f":"Parameters!AV15","v":0},{"$f":"Parameters!AW15","v":0},{"$f":"Parameters!AX15","v":0},{"$f":"Parameters!AY15","v":0},{"$f":"Parameters!AZ15","v":0},{"$f":"Parameters!BA15","v":0},{"$f":"Parameters!BB15","v":0},{"$f":"Parameters!BC15","v":0},{"$f":"Parameters!BD15","v":0},{"$f":"Parameters!BE15","v":0},{"$f":"Parameters!BF15","v":0},{"$f":"Parameters!BG15","v":0},{"$f":"Parameters!BH15","v":0},{"$f":"Parameters!BI15","v":0},{"$f":"Parameters!BJ15","v":0},{"$f":"Parameters!BK15","v":0},{"$f":"Parameters!BL15","v":0},{"$f":"Parameters!BM15","v":0},{"$f":"Parameters!BN15","v":0}]
[{"$f":"Parameters!F16","v":"ELCEV"},{"$f":"Parameters!K16","v":0},{"$f":"Parameters!L16","v":0},{"$f":"Parameters!M16","v":0},{"$f":"Parameters!N16","v":0},{"$f":"Parameters!O16","v":0},{"$f":"Parameters!P16","v":0},{"$f":"Parameters!Q16","v":0},{"$f":"Parameters!R16","v":0},{"$f":"Parameters!S16","v":0},{"$f":"Parameters!T16","v":0},{"$f":"Parameters!U16","v":0},{"$f":"Parameters!V16","v":0},{"$f":"Parameters!W16","v":0},{"$f":"Parameters!X16","v":0},{"$f":"Parameters!Y16","v":0},{"$f":"Parameters!Z16","v":0},{"$f":"Parameters!AA16","v":0},{"$f":"Parameters!AB16","v":0},{"$f":"Parameters!AC16","v":0},{"$f":"Parameters!AD16","v":0},{"$f":"Parameters!AE16","v":0},{"$f":"Parameters!AF16","v":0},{"$f":"Parameters!AG16","v":0},{"$f":"Parameters!AH16","v":0},{"$f":"Parameters!AI16","v":0},{"$f":"Parameters!AJ16","v":0},{"$f":"Parameters!AK16","v":0},{"$f":"Parameters!AL16","v":0},{"$f":"Parameters!AM16","v":0},{"$f":"Parameters!AN16","v":0},{"$f":"Parameters!AO16","v":0},{"$f":"Parameters!AP16","v":0},{"$f":"Parameters!AQ16","v":0},{"$f":"Parameters!AR16","v":0},{"$f":"Parameters!AS16","v":0},{"$f":"Parameters!AT16","v":0},{"$f":"Parameters!AU16","v":0},{"$f":"Parameters!AV16","v":0},{"$f":"Parameters!AW16","v":0},{"$f":"Parameters!AX16","v":0},{"$f":"Parameters!AY16","v":0},{"$f":"Parameters!AZ16","v":0},{"$f":"Parameters!BA16","v":0},{"$f":"Parameters!BB16","v":0},{"$f":"Parameters!BC16","v":0},{"$f":"Parameters!BD16","v":0},{"$f":"Parameters!BE16","v":0},{"$f":"Parameters!BF16","v":0},{"$f":"Parameters!BG16","v":0},{"$f":"Parameters!BH16","v":0},{"$f":"Parameters!BI16","v":0},{"$f":"Parameters!BJ16","v":0},{"$f":"Parameters!BK16","v":0},{"$f":"Parameters!BL16","v":0},{"$f":"Parameters!BM16","v":0},{"$f":"Parameters!BN16","v":0}]
[{"$f":"Parameters!F17","v":"TRAMCY"},{"$f":"Parameters!K17","v":13.655459470521283},{"$f":"Parameters!L17","v":14.029935295737012},{"$f":"Parameters!M17","v":14.352346117495996},{"$f":"Parameters!N17","v":14.946388405181716},{"$f":"Parameters!O17","v":16.140049495360255},{"$f":"Parameters!P17","v":16.521986680171917},{"$f":"Parameters!Q17","v":16.944393708770637},{"$f":"Parameters!R17","v":17.406122632125236},{"$f":"Parameters!S17","v":17.823856196959831},{"$f":"Parameters!T17","v":18.285634159954807},{"$f":"Parameters!U17","v":18.747412122949779},{"$f":"Parameters!V17","v":19.27143591846237},{"$f":"Parameters!W17","v":19.720243359915397},{"$f":"Parameters!X17","v":20.182021322910373},{"$f":"Parameters!Y17","v":20.599754887744965},{"$f":"Parameters!Z17","v":21.501124494874318},{"$f":"Parameters!AA17","v":22.198259738065886},{"$f":"Parameters!AB17","v":22.615993302900492},{"$f":"Parameters!AC17","v":23.077771265895461},{"$f":"Parameters!AD17","v":23.495504830730056},{"$f":"Parameters!AE17","v":24.969205765166468},{"$f":"Parameters!AF17","v":25.8219065500117},{"$f":"Parameters!AG17","v":26.252610636388244},{"$f":"Parameters!AH17","v":26.701418077841272},{"$f":"Parameters!AI17","v":27.132122164217819},{"$f":"Parameters!AJ17","v":29.307221475479892},{"$f":"Parameters!AK17","v":29.787151833191725},{"$f":"Parameters!AL17","v":30.217855919568269},{"$f":"Parameters!AM17","v":30.679633882563248},{"$f":"Parameters!AN17","v":31.097367447397836},{"$f":"Parameters!AO17","v":31.719335376170218},{"$f":"Parameters!AP17","v":32.34960036272043},{"$f":"Parameters!AQ17","v":33.002642168111244},{"$f":"Parameters!AR17","v":33.637629658065954},{"$f":"Parameters!AS17","v":34.254924123074211},{"$f":"Parameters!AT17","v":34.920936450006963},{"$f":"Parameters!AU17","v":35.538230915015227},{"$f":"Parameters!AV17","v":36.173218404969937},{"$f":"Parameters!AW17","v":36.826260210360743},{"$f":"Parameters!AX17","v":37.45652519691096},{"$f":"Parameters!AY17","v":38.078493125683337},{"$f":"Parameters!AZ17","v":38.70880715187392},{"$f":"Parameters!BA17","v":39.361848957264733},{"$f":"Parameters!BB17","v":39.996787407579063},{"$f":"Parameters!BC17","v":40.614130912227701},{"$f":"Parameters!BD17","v":41.280143239160466},{"$f":"Parameters!BE17","v":41.902111167932844},{"$f":"Parameters!BF17","v":42.532376154483046},{"$f":"Parameters!BG17","v":43.154393122895812},{"$f":"Parameters!BH17","v":43.815731986064442},{"$f":"Parameters!BI17","v":44.437699914836827},{"$f":"Parameters!BJ17","v":45.059667843609212},{"$f":"Parameters!BK17","v":45.72105574641823},{"$f":"Parameters!BL17","v":46.343023675190608},{"$f":"Parameters!BM17","v":46.973288661740824},{"$f":"Parameters!BN17","v":47.626379506772004}]
[{"$f":"Parameters!F18","v":"TRACAR"},{"$f":"Parameters!K18","v":29.359237861620755},{"$f":"Parameters!L18","v":30.164360885834572},{"$f":"Parameters!M18","v":30.857544152616391},{"$f":"Parameters!N18","v":32.134735071140689},{"$f":"Parameters!O18","v":34.70110641502454},{"$f":"Parameters!P18","v":35.522271362369622},{"$f":"Parameters!Q18","v":36.430446473856868},{"$f":"Parameters!R18","v":37.423163659069253},{"$f":"Parameters!S18","v":38.321290823463634},{"$f":"Parameters!T18","v":39.314113443902826},{"$f":"Parameters!U18","v":40.306936064342018},{"$f":"Parameters!V18","v":41.433587224694094},{"$f":"Parameters!W18","v":42.398523223818103},{"$f":"Parameters!X18","v":43.391345844257295},{"$f":"Parameters!Y18","v":44.289473008651669},{"$f":"Parameters!Z18","v":46.227417663979786},{"$f":"Parameters!AA18","v":47.726258436841654},{"$f":"Parameters!AB18","v":48.62438560123605},{"$f":"Parameters!AC18","v":49.617208221675241},{"$f":"Parameters!AD18","v":50.515335386069623},{"$f":"Parameters!AE18","v":53.683792395107901},{"$f":"Parameters!AF18","v":55.517099082525164},{"$f":"Parameters!AG18","v":56.443112868234721},{"$f":"Parameters!AH18","v":57.40804886735873},{"$f":"Parameters!AI18","v":58.334062653068294},{"$f":"Parameters!AJ18","v":63.010526172281757},{"$f":"Parameters!AK18","v":64.042376441362208},{"$f":"Parameters!AL18","v":64.968390227071765},{"$f":"Parameters!AM18","v":65.961212847510978},{"$f":"Parameters!AN18","v":66.859340011905346},{"$f":"Parameters!AO18","v":68.196571058765969},{"$f":"Parameters!AP18","v":69.55164077984891},{"$f":"Parameters!AQ18","v":70.95568066143916},{"$f":"Parameters!AR18","v":72.320903764841788},{"$f":"Parameters!AS18","v":73.648086864609553},{"$f":"Parameters!AT18","v":75.080013367514979},{"$f":"Parameters!AU18","v":76.407196467282731},{"$f":"Parameters!AV18","v":77.772419570685372},{"$f":"Parameters!AW18","v":79.176459452275594},{"$f":"Parameters!AX18","v":80.53152917335855},{"$f":"Parameters!AY18","v":81.868760220219173},{"$f":"Parameters!AZ18","v":83.223935376528914},{"$f":"Parameters!BA18","v":84.627975258119179},{"$f":"Parameters!BB18","v":85.993092926294992},{"$f":"Parameters!BC18","v":87.320381461289557},{"$f":"Parameters!BD18","v":88.752307964194998},{"$f":"Parameters!BE18","v":90.089539011055621},{"$f":"Parameters!BF18","v":91.444608732138548},{"$f":"Parameters!BG18","v":92.781945214225985},{"$f":"Parameters!BH18","v":94.203823770038539},{"$f":"Parameters!BI18","v":95.541054816899177},{"$f":"Parameters!BJ18","v":96.8782858637598},{"$f":"Parameters!BK18","v":98.300269854799183},{"$f":"Parameters!BL18","v":99.637500901659806},{"$f":"Parameters!BM18","v":100.99257062274276},{"$f":"Parameters!BN18","v":102.3967159395598}]
[{"$f":"Parameters!F19","v":"TRABUS"},{"$f":"Parameters!K19","v":31.578250025580463},{"$f":"Parameters!L19","v":32.44422537139183},{"$f":"Parameters!M19","v":33.189800396709487},{"$f":"Parameters!N19","v":34.563523186982714},{"$f":"Parameters!O19","v":37.32386445802058},{"$f":"Parameters!P19","v":38.207094197897561},{"$f":"Parameters!Q19","v":39.183910451532093},{"$f":"Parameters!R19","v":40.251658586789603},{"$f":"Parameters!S19","v":41.217667455469602},{"$f":"Parameters!T19","v":42.285528994895479},{"$f":"Parameters!U19","v":43.353390534321356},{"$f":"Parameters!V19","v":44.56519556144422},{"$f":"Parameters!W19","v":45.603062769804346},{"$f":"Parameters!X19","v":46.670924309230223},{"$f":"Parameters!Y19","v":47.636933177910223},{"$f":"Parameters!Z19","v":49.721350394396858},{"$f":"Parameters!AA19","v":51.333475644277357},{"$f":"Parameters!AB19","v":52.299484512957378},{"$f":"Parameters!AC19","v":53.367346052383247},{"$f":"Parameters!AD19","v":54.333354921063254},{"$f":"Parameters!AE19","v":57.741288331947452},{"$f":"Parameters!AF19","v":59.713158896902051},{"$f":"Parameters!AG19","v":60.709162096647816},{"$f":"Parameters!AH19","v":61.747029305007928},{"$f":"Parameters!AI19","v":62.743032504753693},{"$f":"Parameters!AJ19","v":67.772949662047239},{"$f":"Parameters!AK19","v":68.882788614255858},{"$f":"Parameters!AL19","v":69.878791814001616},{"$f":"Parameters!AM19","v":70.946653353427507},{"$f":"Parameters!AN19","v":71.912662222107485},{"$f":"Parameters!AO19","v":73.350963057393628},{"$f":"Parameters!AP19","v":74.808450838790989},{"$f":"Parameters!AQ19","v":76.318610013757237},{"$f":"Parameters!AR19","v":77.787018584277504},{"$f":"Parameters!AS19","v":79.214512034609101},{"$f":"Parameters!AT19","v":80.754665540641099},{"$f":"Parameters!AU19","v":82.182158990972709},{"$f":"Parameters!AV19","v":83.650567561492977},{"$f":"Parameters!AW19","v":85.16072673645921},{"$f":"Parameters!AX19","v":86.618214517856572},{"$f":"Parameters!AY19","v":88.056515353142714},{"$f":"Parameters!AZ19","v":89.514116538708436},{"$f":"Parameters!BA19","v":91.024275713674683},{"$f":"Parameters!BB19","v":92.492570880026577},{"$f":"Parameters!BC19","v":93.920177734526547},{"$f":"Parameters!BD19","v":95.46033124055856},{"$f":"Parameters!BE19","v":96.898632075844702},{"$f":"Parameters!BF19","v":98.356119857242035},{"$f":"Parameters!BG19","v":99.794534096696552},{"$f":"Parameters!BH19","v":101.32388021777402},{"$f":"Parameters!BI19","v":102.76218105306015},{"$f":"Parameters!BJ19","v":104.20048188834629},{"$f":"Parameters!BK19","v":105.72994141359214},{"$f":"Parameters!BL19","v":107.16824224887827},{"$f":"Parameters!BM19","v":108.62573003027563},{"$f":"Parameters!BN19","v":110.13600260941026}]
[{"$f":"Parameters!F20","v":"INDELC"},{"$f":"Parameters!K20","v":0},{"$f":"Parameters!L20","v":0},{"$f":"Parameters!M20","v":0},{"$f":"Parameters!N20","v":0},{"$f":"Parameters!O20","v":0},{"$f":"Parameters!P20","v":0},{"$f":"Parameters!Q20","v":0},{"$f":"Parameters!R20","v":0},{"$f":"Parameters!S20","v":0},{"$f":"Parameters!T20","v":0},{"$f":"Parameters!U20","v":0},{"$f":"Parameters!V20","v":0},{"$f":"Parameters!W20","v":0},{"$f":"Parameters!X20","v":0},{"$f":"Parameters!Y20","v":0},{"$f":"Parameters!Z20","v":0},{"$f":"Parameters!AA20","v":0},{"$f":"Parameters!AB20","v":0},{"$f":"Parameters!AC20","v":0},{"$f":"Parameters!AD20","v":0},{"$f":"Parameters!AE20","v":0},{"$f":"Parameters!AF20","v":0},{"$f":"Parameters!AG20","v":0},{"$f":"Parameters!AH20","v":0},{"$f":"Parameters!AI20","v":0},{"$f":"Parameters!AJ20","v":0},{"$f":"Parameters!AK20","v":0},{"$f":"Parameters!AL20","v":0},{"$f":"Parameters!AM20","v":0},{"$f":"Parameters!AN20","v":0},{"$f":"Parameters!AO20","v":0},{"$f":"Parameters!AP20","v":0},{"$f":"Parameters!AQ20","v":0},{"$f":"Parameters!AR20","v":0},{"$f":"Parameters!AS20","v":0},{"$f":"Parameters!AT20","v":0},{"$f":"Parameters!AU20","v":0},{"$f":"Parameters!AV20","v":0},{"$f":"Parameters!AW20","v":0},{"$f":"Parameters!AX20","v":0},{"$f":"Parameters!AY20","v":0},{"$f":"Parameters!AZ20","v":0},{"$f":"Parameters!BA20","v":0},{"$f":"Parameters!BB20","v":0},{"$f":"Parameters!BC20","v":0},{"$f":"Parameters!BD20","v":0},{"$f":"Parameters!BE20","v":0},{"$f":"Parameters!BF20","v":0},{"$f":"Parameters!BG20","v":0},{"$f":"Parameters!BH20","v":0},{"$f":"Parameters!BI20","v":0},{"$f":"Parameters!BJ20","v":0},{"$f":"Parameters!BK20","v":0},{"$f":"Parameters!BL20","v":0},{"$f":"Parameters!BM20","v":0},{"$f":"Parameters!BN20","v":0}]
[{"$f":"Parameters!F21","v":"INDHEH"},{"$f":"Parameters!K21","v":65.13056061505803},{"$f":"Parameters!L21","v":63.670942966283583},{"$f":"Parameters!M21","v":64.172139389443018},{"$f":"Parameters!N21","v":67.421685472256215},{"$f":"Parameters!O21","v":74.347880305685038},{"$f":"Parameters!P21","v":75.040023667488597},{"$f":"Parameters!Q21","v":76.402247301374757},{"$f":"Parameters!R21","v":78.032751795950375},{"$f":"Parameters!S21","v":79.32790124962159},{"$f":"Parameters!T21","v":80.958405744197208},{"$f":"Parameters!U21","v":82.58891023877284},{"$f":"Parameters!V21","v":84.803478556653857},{"$f":"Parameters!W21","v":86.14675992197779},{"$f":"Parameters!X21","v":87.777264416553393},{"$f":"Parameters!Y21","v":89.072413870224622},{"$f":"Parameters!Z21","v":93.012827835218658},{"$f":"Parameters!AA21","v":96.31015302082983},{"$f":"Parameters!AB21","v":97.605302474501045},{"$f":"Parameters!AC21","v":99.235806969076663},{"$f":"Parameters!AD21","v":100.53095642274789},{"$f":"Parameters!AE21","v":107.68175645380792},{"$f":"Parameters!AF21","v":111.21974119768264},{"$f":"Parameters!AG21","v":112.80211378060554},{"$f":"Parameters!AH21","v":114.14539514592946},{"$f":"Parameters!AI21","v":115.72776772885238},{"$f":"Parameters!AJ21","v":126.83635565280419},{"$f":"Parameters!AK21","v":128.7155689297808},{"$f":"Parameters!AL21","v":130.29794151270372},{"$f":"Parameters!AM21","v":131.92844600727932},{"$f":"Parameters!AN21","v":133.22359546095055},{"$f":"Parameters!AO21","v":135.64963369400462},{"$f":"Parameters!AP21","v":138.29582087609549},{"$f":"Parameters!AQ21","v":140.76999102080225},{"$f":"Parameters!AR21","v":143.48325238310801},{"$f":"Parameters!AS21","v":145.84221643594717},{"$f":"Parameters!AT21","v":148.60360970990564},{"$f":"Parameters!AU21","v":150.9625737627448},{"$f":"Parameters!AV21","v":153.67583512505055},{"$f":"Parameters!AW21","v":156.15000526975732},{"$f":"Parameters!AX21","v":158.79619245184816},{"$f":"Parameters!AY21","v":161.22223068490226},{"$f":"Parameters!AZ21","v":163.86841786699307},{"$f":"Parameters!BA21","v":166.34258801169986},{"$f":"Parameters!BB21","v":169.05584937400565},{"$f":"Parameters!BC21","v":171.41481342684477},{"$f":"Parameters!BD21","v":174.17620670080325},{"$f":"Parameters!BE21","v":176.60224493385735},{"$f":"Parameters!BF21","v":179.24843211594816},{"$f":"Parameters!BG21","v":181.67447034900226},{"$f":"Parameters!BH21","v":184.36878944274579},{"$f":"Parameters!BI21","v":186.79482767579984},{"$f":"Parameters!BJ21","v":189.70866590885393},{"$f":"Parameters!BK21","v":192.40298500259749},{"$f":"Parameters!BL21","v":194.82902323565153},{"$f":"Parameters!BM21","v":197.47521041774237},{"$f":"Parameters!BN21","v":199.94938056244916}]
[{"$f":"Parameters!F22","v":"INDHEL"},{"$f":"Parameters!K22","v":43.79422689983403},{"$f":"Parameters!L22","v":42.81277017823087},{"$f":"Parameters!M22","v":43.149778023241716},{"$f":"Parameters!N22","v":45.334794659491671},{"$f":"Parameters!O22","v":49.992014637688996},{"$f":"Parameters!P22","v":50.457416488184222},{"$f":"Parameters!Q22","v":51.373384819292582},{"$f":"Parameters!R22","v":52.469747005067084},{"$f":"Parameters!S22","v":53.340614206387627},{"$f":"Parameters!T22","v":54.436976392162137},{"$f":"Parameters!U22","v":55.53333857793664},{"$f":"Parameters!V22","v":57.022429205786118},{"$f":"Parameters!W22","v":57.925660628144144},{"$f":"Parameters!X22","v":59.022022813918653},{"$f":"Parameters!Y22","v":59.892890015239196},{"$f":"Parameters!Z22","v":62.542450860909632},{"$f":"Parameters!AA22","v":64.759594487150864},{"$f":"Parameters!AB22","v":65.630461688471414},{"$f":"Parameters!AC22","v":66.726823874245895},{"$f":"Parameters!AD22","v":67.597691075566445},{"$f":"Parameters!AE22","v":72.405937098911451},{"$f":"Parameters!AF22","v":74.784901830340118},{"$f":"Parameters!AG22","v":75.848899795077116},{"$f":"Parameters!AH22","v":76.752131217435149},{"$f":"Parameters!AI22","v":77.816129182172176},{"$f":"Parameters!AJ22","v":85.285618397129525},{"$f":"Parameters!AK22","v":86.54921404052503},{"$f":"Parameters!AL22","v":87.613212005262028},{"$f":"Parameters!AM22","v":88.709574191036538},{"$f":"Parameters!AN22","v":89.580441392357073},{"$f":"Parameters!AO22","v":91.211725813106852},{"$f":"Parameters!AP22","v":92.991039867485284},{"$f":"Parameters!AQ22","v":94.654688509272532},{"$f":"Parameters!AR22","v":96.479103693438773},{"$f":"Parameters!AS22","v":98.065286984400728},{"$f":"Parameters!AT22","v":99.922066389604467},{"$f":"Parameters!AU22","v":101.50824968056641},{"$f":"Parameters!AV22","v":103.33266486473265},{"$f":"Parameters!AW22","v":104.99631350651991},{"$f":"Parameters!AX22","v":106.77562756089831},{"$f":"Parameters!AY22","v":108.40691198164811},{"$f":"Parameters!AZ22","v":110.1862260360265},{"$f":"Parameters!BA22","v":111.84987467781376},{"$f":"Parameters!BB22","v":113.67428986198004},{"$f":"Parameters!BC22","v":115.26047315294196},{"$f":"Parameters!BD22","v":117.11725255814569},{"$f":"Parameters!BE22","v":118.74853697889547},{"$f":"Parameters!BF22","v":120.52785103327389},{"$f":"Parameters!BG22","v":122.15913545402368},{"$f":"Parameters!BH22","v":123.97081372943957},{"$f":"Parameters!BI22","v":125.60209815018932},{"$f":"Parameters!BJ22","v":127.56138257093912},{"$f":"Parameters!BK22","v":129.37306084635506},{"$f":"Parameters!BL22","v":131.00434526710481},{"$f":"Parameters!BM22","v":132.78365932148319},{"$f":"Parameters!BN22","v":134.44730796327048}]
[{"$f":"Parameters!F23","v":"RESELC"},{"$f":"Parameters!K23","v":0},{"$f":"Parameters!L23","v":0},{"$f":"Parameters!M23","v":0},{"$f":"Parameters!N23","v":0},{"$f":"Parameters!O23","v":0},{"$f":"Parameters!P23","v":0},{"$f":"Parameters!Q23","v":0},{"$f":"Parameters!R23","v":0},{"$f":"Parameters!S23","v":0},{"$f":"Parameters!T23","v":0},{"$f":"Parameters!U23","v":0},{"$f":"Parameters!V23","v":0},{"$f":"Parameters!W23","v":0},{"$f":"Parameters!X23","v":0},{"$f":"Parameters!Y23","v":0},{"$f":"Parameters!Z23","v":0},{"$f":"Parameters!AA23","v":0},{"$f":"Parameters!AB23","v":0},{"$f":"Parameters!AC23","v":0},{"$f":"Parameters!AD23","v":0},{"$f":"Parameters!AE23","v":0},{"$f":"Parameters!AF23","v":0},{"$f":"Parameters!AG23","v":0},{"$f":"Parameters!AH23","v":0},{"$f":"Parameters!AI23","v":0},{"$f":"Parameters!AJ23","v":0},{"$f":"Parameters!AK23","v":0},{"$f":"Parameters!AL23","v":0},{"$f":"Parameters!AM23","v":0},{"$f":"Parameters!AN23","v":0},{"$f":"Parameters!AO23","v":0},{"$f":"Parameters!AP23","v":0},{"$f":"Parameters!AQ23","v":0},{"$f":"Parameters!AR23","v":0},{"$f":"Parameters!AS23","v":0},{"$f":"Parameters!AT23","v":0},{"$f":"Parameters!AU23","v":0},{"$f":"Parameters!AV23","v":0},{"$f":"Parameters!AW23","v":0},{"$f":"Parameters!AX23","v":0},{"$f":"Parameters!AY23","v":0},{"$f":"Parameters!AZ23","v":0},{"$f":"Parameters!BA23","v":0},{"$f":"Parameters!BB23","v":0},{"$f":"Parameters!BC23","v":0},{"$f":"Parameters!BD23","v":0},{"$f":"Parameters!BE23","v":0},{"$f":"Parameters!BF23","v":0},{"$f":"Parameters!BG23","v":0},{"$f":"Parameters!BH23","v":0},{"$f":"Parameters!BI23","v":0},{"$f":"Parameters!BJ23","v":0},{"$f":"Parameters!BK23","v":0},{"$f":"Parameters!BL23","v":0},{"$f":"Parameters!BM23","v":0},{"$f":"Parameters!BN23","v":0}]
[{"$f":"Parameters!F24","v":"RESCKN"},{"$f":"Parameters!K24","v":27.299911263596606},{"$f":"Parameters!L24","v":27.996777516912822},{"$f":"Parameters!M24","v":27.412159612534644},{"$f":"Parameters!N24","v":28.471490983799313},{"$f":"Parameters!O24","v":30.058986168498762},{"$f":"Parameters!P24","v":30.350950318011122},{"$f":"Parameters!Q24","v":30.857283788354493},{"$f":"Parameters!R24","v":31.330335863150964},{"$f":"Parameters!S24","v":31.748201987117923},{"$f":"Parameters!T24","v":32.221254061914394},{"$f":"Parameters!U24","v":32.694306136710878},{"$f":"Parameters!V24","v":33.242227467663731},{"$f":"Parameters!W24","v":33.697528219708886},{"$f":"Parameters!X24","v":34.170580294505356},{"$f":"Parameters!Y24","v":34.588446418472316},{"$f":"Parameters!Z24","v":35.760585996540769},{"$f":"Parameters!AA24","v":36.601899137012317},{"$f":"Parameters!AB24","v":37.019765260979284},{"$f":"Parameters!AC24","v":37.492817335775754},{"$f":"Parameters!AD24","v":37.910683459742714},{"$f":"Parameters!AE24","v":39.860933029770806},{"$f":"Parameters!AF24","v":40.889419310633329},{"$f":"Parameters!AG24","v":41.325036757351604},{"$f":"Parameters!AH24","v":41.780337509396759},{"$f":"Parameters!AI24","v":42.215954956115041},{"$f":"Parameters!AJ24","v":45.182520376791977},{"$f":"Parameters!AK24","v":45.67525575691532},{"$f":"Parameters!AL24","v":46.110873203633602},{"$f":"Parameters!AM24","v":46.58392527843008},{"$f":"Parameters!AN24","v":47.001791402397039},{"$f":"Parameters!AO24","v":47.750483963960896},{"$f":"Parameters!AP24","v":48.428460501899636},{"$f":"Parameters!AQ24","v":49.214587691541681},{"$f":"Parameters!AR24","v":49.981031575856854},{"$f":"Parameters!AS24","v":50.641256791044299},{"$f":"Parameters!AT24","v":51.445135303437667},{"$f":"Parameters!AU24","v":52.105360518625091},{"$f":"Parameters!AV24","v":52.871804402940256},{"$f":"Parameters!AW24","v":53.657931592582315},{"$f":"Parameters!AX24","v":54.335908130521076},{"$f":"Parameters!AY24","v":55.084600692084912},{"$f":"Parameters!AZ24","v":55.762577230023659},{"$f":"Parameters!BA24","v":56.548704419665718},{"$f":"Parameters!BB24","v":57.315148303980884},{"$f":"Parameters!BC24","v":57.975373519168329},{"$f":"Parameters!BD24","v":58.779252031561683},{"$f":"Parameters!BE24","v":59.527944593125547},{"$f":"Parameters!BF24","v":60.205921131064287},{"$f":"Parameters!BG24","v":60.954613692628143},{"$f":"Parameters!BH24","v":61.6700248586451},{"$f":"Parameters!BI24","v":62.418717420208949},{"$f":"Parameters!BJ24","v":63.167409981772792},{"$f":"Parameters!BK24","v":63.882821147789763},{"$f":"Parameters!BL24","v":64.631513709353598},{"$f":"Parameters!BM24","v":65.309490247292345},{"$f":"Parameters!BN24","v":66.09561743693439}]
[{"$f":"Parameters!F25","v":"RESHEL"},{"$f":"Parameters!K25","v":33.918301535693324},{"$f":"Parameters!L25","v":34.752500949925889},{"$f":"Parameters!M25","v":33.029217279245096},{"$f":"Parameters!N25","v":34.236833127095636},{"$f":"Parameters!O25","v":35.615466813973953},{"$f":"Parameters!P25","v":35.613476067998832},{"$f":"Parameters!Q25","v":35.984348895626958},{"$f":"Parameters!R25","v":36.22292167851306},{"$f":"Parameters!S25","v":36.421072544168197},{"$f":"Parameters!T25","v":36.659645327054307},{"$f":"Parameters!U25","v":36.898218109940416},{"$f":"Parameters!V25","v":37.191630192141069},{"$f":"Parameters!W25","v":37.417200707453475},{"$f":"Parameters!X25","v":37.655773490339584},{"$f":"Parameters!Y25","v":37.853924355994721},{"$f":"Parameters!Z25","v":38.820401043518764},{"$f":"Parameters!AA25","v":39.436635603552467},{"$f":"Parameters!AB25","v":39.634786469207612},{"$f":"Parameters!AC25","v":39.873359252093714},{"$f":"Parameters!AD25","v":40.071510117748844},{"$f":"Parameters!AE25","v":41.715849614140623},{"$f":"Parameters!AF25","v":42.469182422460705},{"$f":"Parameters!AG25","v":42.680335555689531},{"$f":"Parameters!AH25","v":42.905906071001944},{"$f":"Parameters!AI25","v":43.117059204230777},{"$f":"Parameters!AJ25","v":45.721662070092378},{"$f":"Parameters!AK25","v":45.974652235062067},{"$f":"Parameters!AL25","v":46.185805368290893},{"$f":"Parameters!AM25","v":46.424378151176995},{"$f":"Parameters!AN25","v":46.622529016832132},{"$f":"Parameters!AO25","v":47.170922009977602},{"$f":"Parameters!AP25","v":47.559595308723772},{"$f":"Parameters!AQ25","v":48.13540795152651},{"$f":"Parameters!AR25","v":48.696803212245683},{"$f":"Parameters!AS25","v":49.072474243418156},{"$f":"Parameters!AT25","v":49.661289153794584},{"$f":"Parameters!AU25","v":50.036960184967057},{"$f":"Parameters!AV25","v":50.598355445686224},{"$f":"Parameters!AW25","v":51.174168088488969},{"$f":"Parameters!AX25","v":51.562841387235139},{"$f":"Parameters!AY25","v":52.111234380380601},{"$f":"Parameters!AZ25","v":52.499907679126764},{"$f":"Parameters!BA25","v":53.075720321929523},{"$f":"Parameters!BB25","v":53.637115582648683},{"$f":"Parameters!BC25","v":54.012786613821156},{"$f":"Parameters!BD25","v":54.601601524197591},{"$f":"Parameters!BE25","v":55.149994517343075},{"$f":"Parameters!BF25","v":55.538667816089237},{"$f":"Parameters!BG25","v":56.0870608092347},{"$f":"Parameters!BH25","v":56.503153757638145},{"$f":"Parameters!BI25","v":57.051546750783615},{"$f":"Parameters!BJ25","v":57.599939743929085},{"$f":"Parameters!BK25","v":58.01603269233253},{"$f":"Parameters!BL25","v":58.564425685477985},{"$f":"Parameters!BM25","v":58.953098984224155},{"$f":"Parameters!BN25","v":59.528911627026901}]
[{"$f":"Parameters!F26","v":"COMELC"},{"$f":"Parameters!K26","v":0},{"$f":"Parameters!L26","v":0},{"$f":"Parameters!M26","v":0},{"$f":"Parameters!N26","v":0},{"$f":"Parameters!O26","v":0},{"$f":"Parameters!P26","v":0},{"$f":"Parameters!Q26","v":0},{"$f":"Parameters!R26","v":0},{"$f":"Parameters!S26","v":0},{"$f":"Parameters!T26","v":0},{"$f":"Parameters!U26","v":0},{"$f":"Parameters!V26","v":0},{"$f":"Parameters!W26","v":0},{"$f":"Parameters!X26","v":0},{"$f":"Parameters!Y26","v":0},{"$f":"Parameters!Z26","v":0},{"$f":"Parameters!AA26","v":0},{"$f":"Parameters!AB26","v":0},{"$f":"Parameters!AC26","v":0},{"$f":"Parameters!AD26","v":0},{"$f":"Parameters!AE26","v":0},{"$f":"Parameters!AF26","v":0},{"$f":"Parameters!AG26","v":0},{"$f":"Parameters!AH26","v":0},{"$f":"Parameters!AI26","v":0},{"$f":"Parameters!AJ26","v":0},{"$f":"Parameters!AK26","v":0},{"$f":"Parameters!AL26","v":0},{"$f":"Parameters!AM26","v":0},{"$f":"Parameters!AN26","v":0},{"$f":"Parameters!AO26","v":0},{"$f":"Parameters!AP26","v":0},{"$f":"Parameters!AQ26","v":0},{"$f":"Parameters!AR26","v":0},{"$f":"Parameters!AS26","v":0},{"$f":"Parameters!AT26","v":0},{"$f":"Parameters!AU26","v":0},{"$f":"Parameters!AV26","v":0},{"$f":"Parameters!AW26","v":0},{"$f":"Parameters!AX26","v":0},{"$f":"Parameters!AY26","v":0},{"$f":"Parameters!AZ26","v":0},{"$f":"Parameters!BA26","v":0},{"$f":"Parameters!BB26","v":0},{"$f":"Parameters!BC26","v":0},{"$f":"Parameters!BD26","v":0},{"$f":"Parameters!BE26","v":0},{"$f":"Parameters!BF26","v":0},{"$f":"Parameters!BG26","v":0},{"$f":"Parameters!BH26","v":0},{"$f":"Parameters!BI26","v":0},{"$f":"Parameters!BJ26","v":0},{"$f":"Parameters!BK26","v":0},{"$f":"Parameters!BL26","v":0},{"$f":"Parameters!BM26","v":0},{"$f":"Parameters!BN26","v":0}]
[{"$f":"Parameters!F27","v":"COMHEL"},{"$f":"Parameters!K27","v":17.600205332713671},{"$f":"Parameters!L27","v":17.976309223262589},{"$f":"Parameters!M27","v":18.136478719258751},{"$f":"Parameters!N27","v":18.919311117541667},{"$f":"Parameters!O27","v":19.772314065624897},{"$f":"Parameters!P27","v":19.995525426570691},{"$f":"Parameters!Q27","v":20.315753323771709},{"$f":"Parameters!R27","v":20.66426121879887},{"$f":"Parameters!S27","v":20.948787820877271},{"$f":"Parameters!T27","v":21.297295715904433},{"$f":"Parameters!U27","v":21.645803610931591},{"$f":"Parameters!V27","v":22.045539397978725},{"$f":"Parameters!W27","v":22.355679946067113},{"$f":"Parameters!X27","v":22.704187841094271},{"$f":"Parameters!Y27","v":22.988714443172675},{"$f":"Parameters!Z27","v":23.818340920452442},{"$f":"Parameters!AA27","v":24.420215079610898},{"$f":"Parameters!AB27","v":24.704741681689303},{"$f":"Parameters!AC27","v":25.053249576716464},{"$f":"Parameters!AD27","v":25.337776178794858},{"$f":"Parameters!AE27","v":26.753643074183341},{"$f":"Parameters!AF27","v":27.483586963391726},{"$f":"Parameters!AG27","v":27.806480912408901},{"$f":"Parameters!AH27","v":28.116621460497285},{"$f":"Parameters!AI27","v":28.43951540951446},{"$f":"Parameters!AJ27","v":30.579779802174208},{"$f":"Parameters!AK27","v":30.915534296272583},{"$f":"Parameters!AL27","v":31.238428245289757},{"$f":"Parameters!AM27","v":31.586936140316912},{"$f":"Parameters!AN27","v":31.871462742395316},{"$f":"Parameters!AO27","v":32.383741662595028},{"$f":"Parameters!AP27","v":32.89868663461089},{"$f":"Parameters!AQ27","v":33.436579500820585},{"$f":"Parameters!AR27","v":33.987225767959075},{"$f":"Parameters!AS27","v":34.463803393036166},{"$f":"Parameters!AT27","v":35.040063606184638},{"$f":"Parameters!AU27","v":35.51664123126173},{"$f":"Parameters!AV27","v":36.067287498400219},{"$f":"Parameters!AW27","v":36.605180364609922},{"$f":"Parameters!AX27","v":37.120125336625783},{"$f":"Parameters!AY27","v":37.632404256825495},{"$f":"Parameters!AZ27","v":38.14734922884135},{"$f":"Parameters!BA27","v":38.685242095051052},{"$f":"Parameters!BB27","v":39.235888362189542},{"$f":"Parameters!BC27","v":39.712465987266633},{"$f":"Parameters!BD27","v":40.288726200415105},{"$f":"Parameters!BE27","v":40.801005120614818},{"$f":"Parameters!BF27","v":41.315950092630679},{"$f":"Parameters!BG27","v":41.828229012830398},{"$f":"Parameters!BH27","v":42.368787930856243},{"$f":"Parameters!BI27","v":42.881066851055955},{"$f":"Parameters!BJ27","v":43.393345771255667},{"$f":"Parameters!BK27","v":43.933904689281519},{"$f":"Parameters!BL27","v":44.446183609481231},{"$f":"Parameters!BM27","v":44.9611285814971},{"$f":"Parameters!BN27","v":45.499021447706795}]
[{"$f":"Parameters!F28","v":"COM027"},{"$f":"Parameters!K28","v":0},{"$f":"Parameters!L28","v":0},{"$f":"Parameters!M28","v":0},{"$f":"Parameters!N28","v":0},{"$f":"Parameters!O28","v":0},{"$f":"Parameters!P28","v":0},{"$f":"Parameters!Q28","v":0},{"$f":"Parameters!R28","v":0},{"$f":"Parameters!S28","v":0},{"$f":"Parameters!T28","v":0},{"$f":"Parameters!U28","v":0},{"$f":"Parameters!V28","v":0},{"$f":"Parameters!W28","v":0},{"$f":"Parameters!X28","v":0},{"$f":"Parameters!Y28","v":0},{"$f":"Parameters!Z28","v":0},{"$f":"Parameters!AA28","v":0},{"$f":"Parameters!AB28","v":0},{"$f":"Parameters!AC28","v":0},{"$f":"Parameters!AD28","v":0},{"$f":"Parameters!AE28","v":0},{"$f":"Parameters!AF28","v":0},{"$f":"Parameters!AG28","v":0},{"$f":"Parameters!AH28","v":0},{"$f":"Parameters!AI28","v":0},{"$f":"Parameters!AJ28","v":0},{"$f":"Parameters!AK28","v":0},{"$f":"Parameters!AL28","v":0},{"$f":"Parameters!AM28","v":0},{"$f":"Parameters!AN28","v":0},{"$f":"Parameters!AO28","v":0},{"$f":"Parameters!AP28","v":0},{"$f":"Parameters!AQ28","v":0},{"$f":"Parameters!AR28","v":0},{"$f":"Parameters!AS28","v":0},{"$f":"Parameters!AT28","v":0},{"$f":"Parameters!AU28","v":0},{"$f":"Parameters!AV28","v":0},{"$f":"Parameters!AW28","v":0},{"$f":"Parameters!AX28","v":0},{"$f":"Parameters!AY28","v":0},{"$f":"Parameters!AZ28","v":0},{"$f":"Parameters!BA28","v":0},{"$f":"Parameters!BB28","v":0},{"$f":"Parameters!BC28","v":0},{"$f":"Parameters!BD28","v":0},{"$f":"Parameters!BE28","v":0},{"$f":"Parameters!BF28","v":0},{"$f":"Parameters!BG28","v":0},{"$f":"Parameters!BH28","v":0},{"$f":"Parameters!BI28","v":0},{"$f":"Parameters!BJ28","v":0},{"$f":"Parameters!BK28","v":0},{"$f":"Parameters!BL28","v":0},{"$f":"Parameters!BM28","v":0},{"$f":"Parameters!BN28","v":0}]
[{"$f":"Parameters!F29","v":"COM028"},{"$f":"Parameters!K29","v":0},{"$f":"Parameters!L29","v":0},{"$f":"Parameters!M29","v":0},{"$f":"Parameters!N29","v":0},{"$f":"Parameters!O29","v":0},{"$f":"Parameters!P29","v":0},{"$f":"Parameters!Q29","v":0},{"$f":"Parameters!R29","v":0},{"$f":"Parameters!S29","v":0},{"$f":"Parameters!T29","v":0},{"$f":"Parameters!U29","v":0},{"$f":"Parameters!V29","v":0},{"$f":"Parameters!W29","v":0},{"$f":"Parameters!X29","v":0},{"$f":"Parameters!Y29","v":0},{"$f":"Parameters!Z29","v":0},{"$f":"Parameters!AA29","v":0},{"$f":"Parameters!AB29","v":0},{"$f":"Parameters!AC29","v":0},{"$f":"Parameters!AD29","v":0},{"$f":"Parameters!AE29","v":0},{"$f":"Parameters!AF29","v":0},{"$f":"Parameters!AG29","v":0},{"$f":"Parameters!AH29","v":0},{"$f":"Parameters!AI29","v":0},{"$f":"Parameters!AJ29","v":0},{"$f":"Parameters!AK29","v":0},{"$f":"Parameters!AL29","v":0},{"$f":"Parameters!AM29","v":0},{"$f":"Parameters!AN29","v":0},{"$f":"Parameters!AO29","v":0},{"$f":"Parameters!AP29","v":0},{"$f":"Parameters!AQ29","v":0},{"$f":"Parameters!AR29","v":0},{"$f":"Parameters!AS29","v":0},{"$f":"Parameters!AT29","v":0},{"$f":"Parameters!AU29","v":0},{"$f":"Parameters!AV29","v":0},{"$f":"Parameters!AW29","v":0},{"$f":"Parameters!AX29","v":0},{"$f":"Parameters!AY29","v":0},{"$f":"Parameters!AZ29","v":0},{"$f":"Parameters!BA29","v":0},{"$f":"Parameters!BB29","v":0},{"$f":"Parameters!BC29","v":0},{"$f":"Parameters!BD29","v":0},{"$f":"Parameters!BE29","v":0},{"$f":"Parameters!BF29","v":0},{"$f":"Parameters!BG29","v":0},{"$f":"Parameters!BH29","v":0},{"$f":"Parameters!BI29","v":0},{"$f":"Parameters!BJ29","v":0},{"$f":"Parameters!BK29","v":0},{"$f":"Parameters!BL29","v":0},{"$f":"Parameters!BM29","v":0},{"$f":"Parameters!BN29","v":0}]
[{"$f":"Parameters!F30","v":"COM029"},{"$f":"Parameters!K30","v":0},{"$f":"Parameters!L30","v":0},{"$f":"Parameters!M30","v":0},{"$f":"Parameters!N30","v":0},{"$f":"Parameters!O30","v":0},{"$f":"Parameters!P30","v":0},{"$f":"Parameters!Q30","v":0},{"$f":"Parameters!R30","v":0},{"$f":"Parameters!S30","v":0},{"$f":"Parameters!T30","v":0},{"$f":"Parameters!U30","v":0},{"$f":"Parameters!V30","v":0},{"$f":"Parameters!W30","v":0},{"$f":"Parameters!X30","v":0},{"$f":"Parameters!Y30","v":0},{"$f":"Parameters!Z30","v":0},{"$f":"Parameters!AA30","v":0},{"$f":"Parameters!AB30","v":0},{"$f":"Parameters!AC30","v":0},{"$f":"Parameters!AD30","v":0},{"$f":"Parameters!AE30","v":0},{"$f":"Parameters!AF30","v":0},{"$f":"Parameters!AG30","v":0},{"$f":"Parameters!AH30","v":0},{"$f":"Parameters!AI30","v":0},{"$f":"Parameters!AJ30","v":0},{"$f":"Parameters!AK30","v":0},{"$f":"Parameters!AL30","v":0},{"$f":"Parameters!AM30","v":0},{"$f":"Parameters!AN30","v":0},{"$f":"Parameters!AO30","v":0},{"$f":"Parameters!AP30","v":0},{"$f":"Parameters!AQ30","v":0},{"$f":"Parameters!AR30","v":0},{"$f":"Parameters!AS30","v":0},{"$f":"Parameters!AT30","v":0},{"$f":"Parameters!AU30","v":0},{"$f":"Parameters!AV30","v":0},{"$f":"Parameters!AW30","v":0},{"$f":"Parameters!AX30","v":0},{"$f":"Parameters!AY30","v":0},{"$f":"Parameters!AZ30","v":0},{"$f":"Parameters!BA30","v":0},{"$f":"Parameters!BB30","v":0},{"$f":"Parameters!BC30","v":0},{"$f":"Parameters!BD30","v":0},{"$f":"Parameters!BE30","v":0},{"$f":"Parameters!BF30","v":0},{"$f":"Parameters!BG30","v":0},{"$f":"Parameters!BH30","v":0},{"$f":"Parameters!BI30","v":0},{"$f":"Parameters!BJ30","v":0},{"$f":"Parameters!BK30","v":0},{"$f":"Parameters!BL30","v":0},{"$f":"Parameters!BM30","v":0},{"$f":"Parameters!BN30","v":0}]
[{"$f":"Parameters!F31","v":"COM030"},{"$f":"Parameters!K31","v":0},{"$f":"Parameters!L31","v":0},{"$f":"Parameters!M31","v":0},{"$f":"Parameters!N31","v":0},{"$f":"Parameters!O31","v":0},{"$f":"Parameters!P31","v":0},{"$f":"Parameters!Q31","v":0},{"$f":"Parameters!R31","v":0},{"$f":"Parameters!S31","v":0},{"$f":"Parameters!T31","v":0},{"$f":"Parameters!U31","v":0},{"$f":"Parameters!V31","v":0},{"$f":"Parameters!W31","v":0},{"$f":"Parameters!X31","v":0},{"$f":"Parameters!Y31","v":0},{"$f":"Parameters!Z31","v":0},{"$f":"Parameters!AA31","v":0},{"$f":"Parameters!AB31","v":0},{"$f":"Parameters!AC31","v":0},{"$f":"Parameters!AD31","v":0},{"$f":"Parameters!AE31","v":0},{"$f":"Parameters!AF31","v":0},{"$f":"Parameters!AG31","v":0},{"$f":"Parameters!AH31","v":0},{"$f":"Parameters!AI31","v":0},{"$f":"Parameters!AJ31","v":0},{"$f":"Parameters!AK31","v":0},{"$f":"Parameters!AL31","v":0},{"$f":"Parameters!AM31","v":0},{"$f":"Parameters!AN31","v":0},{"$f":"Parameters!AO31","v":0},{"$f":"Parameters!AP31","v":0},{"$f":"Parameters!AQ31","v":0},{"$f":"Parameters!AR31","v":0},{"$f":"Parameters!AS31","v":0},{"$f":"Parameters!AT31","v":0},{"$f":"Parameters!AU31","v":0},{"$f":"Parameters!AV31","v":0},{"$f":"Parameters!AW31","v":0},{"$f":"Parameters!AX31","v":0},{"$f":"Parameters!AY31","v":0},{"$f":"Parameters!AZ31","v":0},{"$f":"Parameters!BA31","v":0},{"$f":"Parameters!BB31","v":0},{"$f":"Parameters!BC31","v":0},{"$f":"Parameters!BD31","v":0},{"$f":"Parameters!BE31","v":0},{"$f":"Parameters!BF31","v":0},{"$f":"Parameters!BG31","v":0},{"$f":"Parameters!BH31","v":0},{"$f":"Parameters!BI31","v":0},{"$f":"Parameters!BJ31","v":0},{"$f":"Parameters!BK31","v":0},{"$f":"Parameters!BL31","v":0},{"$f":"Parameters!BM31","v":0},{"$f":"Parameters!BN31","v":0}]
[{"$f":"Parameters!F32","v":"COM031"},{"$f":"Parameters!K32","v":0},{"$f":"Parameters!L32","v":0},{"$f":"Parameters!M32","v":0},{"$f":"Parameters!N32","v":0},{"$f":"Parameters!O32","v":0},{"$f":"Parameters!P32","v":0},{"$f":"Parameters!Q32","v":0},{"$f":"Parameters!R32","v":0},{"$f":"Parameters!S32","v":0},{"$f":"Parameters!T32","v":0},{"$f":"Parameters!U32","v":0},{"$f":"Parameters!V32","v":0},{"$f":"Parameters!W32","v":0},{"$f":"Parameters!X32","v":0},{"$f":"Parameters!Y32","v":0},{"$f":"Parameters!Z32","v":0},{"$f":"Parameters!AA32","v":0},{"$f":"Parameters!AB32","v":0},{"$f":"Parameters!AC32","v":0},{"$f":"Parameters!AD32","v":0},{"$f":"Parameters!AE32","v":0},{"$f":"Parameters!AF32","v":0},{"$f":"Parameters!AG32","v":0},{"$f":"Parameters!AH32","v":0},{"$f":"Parameters!AI32","v":0},{"$f":"Parameters!AJ32","v":0},{"$f":"Parameters!AK32","v":0},{"$f":"Parameters!AL32","v":0},{"$f":"Parameters!AM32","v":0},{"$f":"Parameters!AN32","v":0},{"$f":"Parameters!AO32","v":0},{"$f":"Parameters!AP32","v":0},{"$f":"Parameters!AQ32","v":0},{"$f":"Parameters!AR32","v":0},{"$f":"Parameters!AS32","v":0},{"$f":"Parameters!AT32","v":0},{"$f":"Parameters!AU32","v":0},{"$f":"Parameters!AV32","v":0},{"$f":"Parameters!AW32","v":0},{"$f":"Parameters!AX32","v":0},{"$f":"Parameters!AY32","v":0},{"$f":"Parameters!AZ32","v":0},{"$f":"Parameters!BA32","v":0},{"$f":"Parameters!BB32","v":0},{"$f":"Parameters!BC32","v":0},{"$f":"Parameters!BD32","v":0},{"$f":"Parameters!BE32","v":0},{"$f":"Parameters!BF32","v":0},{"$f":"Parameters!BG32","v":0},{"$f":"Parameters!BH32","v":0},{"$f":"Parameters!BI32","v":0},{"$f":"Parameters!BJ32","v":0},{"$f":"Parameters!BK32","v":0},{"$f":"Parameters!BL32","v":0},{"$f":"Parameters!BM32","v":0},{"$f":"Parameters!BN32","v":0}]
[{"$f":"Parameters!F33","v":"COM032"},{"$f":"Parameters!K33","v":0},{"$f":"Parameters!L33","v":0},{"$f":"Parameters!M33","v":0},{"$f":"Parameters!N33","v":0},{"$f":"Parameters!O33","v":0},{"$f":"Parameters!P33","v":0},{"$f":"Parameters!Q33","v":0},{"$f":"Parameters!R33","v":0},{"$f":"Parameters!S33","v":0},{"$f":"Parameters!T33","v":0},{"$f":"Parameters!U33","v":0},{"$f":"Parameters!V33","v":0},{"$f":"Parameters!W33","v":0},{"$f":"Parameters!X33","v":0},{"$f":"Parameters!Y33","v":0},{"$f":"Parameters!Z33","v":0},{"$f":"Parameters!AA33","v":0},{"$f":"Parameters!AB33","v":0},{"$f":"Parameters!AC33","v":0},{"$f":"Parameters!AD33","v":0},{"$f":"Parameters!AE33","v":0},{"$f":"Parameters!AF33","v":0},{"$f":"Parameters!AG33","v":0},{"$f":"Parameters!AH33","v":0},{"$f":"Parameters!AI33","v":0},{"$f":"Parameters!AJ33","v":0},{"$f":"Parameters!AK33","v":0},{"$f":"Parameters!AL33","v":0},{"$f":"Parameters!AM33","v":0},{"$f":"Parameters!AN33","v":0},{"$f":"Parameters!AO33","v":0},{"$f":"Parameters!AP33","v":0},{"$f":"Parameters!AQ33","v":0},{"$f":"Parameters!AR33","v":0},{"$f":"Parameters!AS33","v":0},{"$f":"Parameters!AT33","v":0},{"$f":"Parameters!AU33","v":0},{"$f":"Parameters!AV33","v":0},{"$f":"Parameters!AW33","v":0},{"$f":"Parameters!AX33","v":0},{"$f":"Parameters!AY33","v":0},{"$f":"Parameters!AZ33","v":0},{"$f":"Parameters!BA33","v":0},{"$f":"Parameters!BB33","v":0},{"$f":"Parameters!BC33","v":0},{"$f":"Parameters!BD33","v":0},{"$f":"Parameters!BE33","v":0},{"$f":"Parameters!BF33","v":0},{"$f":"Parameters!BG33","v":0},{"$f":"Parameters!BH33","v":0},{"$f":"Parameters!BI33","v":0},{"$f":"Parameters!BJ33","v":0},{"$f":"Parameters!BK33","v":0},{"$f":"Parameters!BL33","v":0},{"$f":"Parameters!BM33","v":0},{"$f":"Parameters!BN33","v":0}]
[{"$f":"Parameters!F34","v":"COM033"},{"$f":"Parameters!K34","v":0},{"$f":"Parameters!L34","v":0},{"$f":"Parameters!M34","v":0},{"$f":"Parameters!N34","v":0},{"$f":"Parameters!O34","v":0},{"$f":"Parameters!P34","v":0},{"$f":"Parameters!Q34","v":0},{"$f":"Parameters!R34","v":0},{"$f":"Parameters!S34","v":0},{"$f":"Parameters!T34","v":0},{"$f":"Parameters!U34","v":0},{"$f":"Parameters!V34","v":0},{"$f":"Parameters!W34","v":0},{"$f":"Parameters!X34","v":0},{"$f":"Parameters!Y34","v":0},{"$f":"Parameters!Z34","v":0},{"$f":"Parameters!AA34","v":0},{"$f":"Parameters!AB34","v":0},{"$f":"Parameters!AC34","v":0},{"$f":"Parameters!AD34","v":0},{"$f":"Parameters!AE34","v":0},{"$f":"Parameters!AF34","v":0},{"$f":"Parameters!AG34","v":0},{"$f":"Parameters!AH34","v":0},{"$f":"Parameters!AI34","v":0},{"$f":"Parameters!AJ34","v":0},{"$f":"Parameters!AK34","v":0},{"$f":"Parameters!AL34","v":0},{"$f":"Parameters!AM34","v":0},{"$f":"Parameters!AN34","v":0},{"$f":"Parameters!AO34","v":0},{"$f":"Parameters!AP34","v":0},{"$f":"Parameters!AQ34","v":0},{"$f":"Parameters!AR34","v":0},{"$f":"Parameters!AS34","v":0},{"$f":"Parameters!AT34","v":0},{"$f":"Parameters!AU34","v":0},{"$f":"Parameters!AV34","v":0},{"$f":"Parameters!AW34","v":0},{"$f":"Parameters!AX34","v":0},{"$f":"Parameters!AY34","v":0},{"$f":"Parameters!AZ34","v":0},{"$f":"Parameters!BA34","v":0},{"$f":"Parameters!BB34","v":0},{"$f":"Parameters!BC34","v":0},{"$f":"Parameters!BD34","v":0},{"$f":"Parameters!BE34","v":0},{"$f":"Parameters!BF34","v":0},{"$f":"Parameters!BG34","v":0},{"$f":"Parameters!BH34","v":0},{"$f":"Parameters!BI34","v":0},{"$f":"Parameters!BJ34","v":0},{"$f":"Parameters!BK34","v":0},{"$f":"Parameters!BL34","v":0},{"$f":"Parameters!BM34","v":0},{"$f":"Parameters!BN34","v":0}]
[{"$f":"Parameters!F35","v":"COM034"},{"$f":"Parameters!K35","v":0},{"$f":"Parameters!L35","v":0},{"$f":"Parameters!M35","v":0},{"$f":"Parameters!N35","v":0},{"$f":"Parameters!O35","v":0},{"$f":"Parameters!P35","v":0},{"$f":"Parameters!Q35","v":0},{"$f":"Parameters!R35","v":0},{"$f":"Parameters!S35","v":0},{"$f":"Parameters!T35","v":0},{"$f":"Parameters!U35","v":0},{"$f":"Parameters!V35","v":0},{"$f":"Parameters!W35","v":0},{"$f":"Parameters!X35","v":0},{"$f":"Parameters!Y35","v":0},{"$f":"Parameters!Z35","v":0},{"$f":"Parameters!AA35","v":0},{"$f":"Parameters!AB35","v":0},{"$f":"Parameters!AC35","v":0},{"$f":"Parameters!AD35","v":0},{"$f":"Parameters!AE35","v":0},{"$f":"Parameters!AF35","v":0},{"$f":"Parameters!AG35","v":0},{"$f":"Parameters!AH35","v":0},{"$f":"Parameters!AI35","v":0},{"$f":"Parameters!AJ35","v":0},{"$f":"Parameters!AK35","v":0},{"$f":"Parameters!AL35","v":0},{"$f":"Parameters!AM35","v":0},{"$f":"Parameters!AN35","v":0},{"$f":"Parameters!AO35","v":0},{"$f":"Parameters!AP35","v":0},{"$f":"Parameters!AQ35","v":0},{"$f":"Parameters!AR35","v":0},{"$f":"Parameters!AS35","v":0},{"$f":"Parameters!AT35","v":0},{"$f":"Parameters!AU35","v":0},{"$f":"Parameters!AV35","v":0},{"$f":"Parameters!AW35","v":0},{"$f":"Parameters!AX35","v":0},{"$f":"Parameters!AY35","v":0},{"$f":"Parameters!AZ35","v":0},{"$f":"Parameters!BA35","v":0},{"$f":"Parameters!BB35","v":0},{"$f":"Parameters!BC35","v":0},{"$f":"Parameters!BD35","v":0},{"$f":"Parameters!BE35","v":0},{"$f":"Parameters!BF35","v":0},{"$f":"Parameters!BG35","v":0},{"$f":"Parameters!BH35","v":0},{"$f":"Parameters!BI35","v":0},{"$f":"Parameters!BJ35","v":0},{"$f":"Parameters!BK35","v":0},{"$f":"Parameters!BL35","v":0},{"$f":"Parameters!BM35","v":0},{"$f":"Parameters!BN35","v":0}]
[{"$f":"Parameters!F36","v":"COM035"},{"$f":"Parameters!K36","v":0},{"$f":"Parameters!L36","v":0},{"$f":"Parameters!M36","v":0},{"$f":"Parameters!N36","v":0},{"$f":"Parameters!O36","v":0},{"$f":"Parameters!P36","v":0},{"$f":"Parameters!Q36","v":0},{"$f":"Parameters!R36","v":0},{"$f":"Parameters!S36","v":0},{"$f":"Parameters!T36","v":0},{"$f":"Parameters!U36","v":0},{"$f":"Parameters!V36","v":0},{"$f":"Parameters!W36","v":0},{"$f":"Parameters!X36","v":0},{"$f":"Parameters!Y36","v":0},{"$f":"Parameters!Z36","v":0},{"$f":"Parameters!AA36","v":0},{"$f":"Parameters!AB36","v":0},{"$f":"Parameters!AC36","v":0},{"$f":"Parameters!AD36","v":0},{"$f":"Parameters!AE36","v":0},{"$f":"Parameters!AF36","v":0},{"$f":"Parameters!AG36","v":0},{"$f":"Parameters!AH36","v":0},{"$f":"Parameters!AI36","v":0},{"$f":"Parameters!AJ36","v":0},{"$f":"Parameters!AK36","v":0},{"$f":"Parameters!AL36","v":0},{"$f":"Parameters!AM36","v":0},{"$f":"Parameters!AN36","v":0},{"$f":"Parameters!AO36","v":0},{"$f":"Parameters!AP36","v":0},{"$f":"Parameters!AQ36","v":0},{"$f":"Parameters!AR36","v":0},{"$f":"Parameters!AS36","v":0},{"$f":"Parameters!AT36","v":0},{"$f":"Parameters!AU36","v":0},{"$f":"Parameters!AV36","v":0},{"$f":"Parameters!AW36","v":0},{"$f":"Parameters!AX36","v":0},{"$f":"Parameters!AY36","v":0},{"$f":"Parameters!AZ36","v":0},{"$f":"Parameters!BA36","v":0},{"$f":"Parameters!BB36","v":0},{"$f":"Parameters!BC36","v":0},{"$f":"Parameters!BD36","v":0},{"$f":"Parameters!BE36","v":0},{"$f":"Parameters!BF36","v":0},{"$f":"Parameters!BG36","v":0},{"$f":"Parameters!BH36","v":0},{"$f":"Parameters!BI36","v":0},{"$f":"Parameters!BJ36","v":0},{"$f":"Parameters!BK36","v":0},{"$f":"Parameters!BL36","v":0},{"$f":"Parameters!BM36","v":0},{"$f":"Parameters!BN36","v":0}]
[{"$f":"Parameters!F37","v":"COM036"},{"$f":"Parameters!K37","v":0},{"$f":"Parameters!L37","v":0},{"$f":"Parameters!M37","v":0},{"$f":"Parameters!N37","v":0},{"$f":"Parameters!O37","v":0},{"$f":"Parameters!P37","v":0},{"$f":"Parameters!Q37","v":0},{"$f":"Parameters!R37","v":0},{"$f":"Parameters!S37","v":0},{"$f":"Parameters!T37","v":0},{"$f":"Parameters!U37","v":0},{"$f":"Parameters!V37","v":0},{"$f":"Parameters!W37","v":0},{"$f":"Parameters!X37","v":0},{"$f":"Parameters!Y37","v":0},{"$f":"Parameters!Z37","v":0},{"$f":"Parameters!AA37","v":0},{"$f":"Parameters!AB37","v":0},{"$f":"Parameters!AC37","v":0},{"$f":"Parameters!AD37","v":0},{"$f":"Parameters!AE37","v":0},{"$f":"Parameters!AF37","v":0},{"$f":"Parameters!AG37","v":0},{"$f":"Parameters!AH37","v":0},{"$f":"Parameters!AI37","v":0},{"$f":"Parameters!AJ37","v":0},{"$f":"Parameters!AK37","v":0},{"$f":"Parameters!AL37","v":0},{"$f":"Parameters!AM37","v":0},{"$f":"Parameters!AN37","v":0},{"$f":"Parameters!AO37","v":0},{"$f":"Parameters!AP37","v":0},{"$f":"Parameters!AQ37","v":0},{"$f":"Parameters!AR37","v":0},{"$f":"Parameters!AS37","v":0},{"$f":"Parameters!AT37","v":0},{"$f":"Parameters!AU37","v":0},{"$f":"Parameters!AV37","v":0},{"$f":"Parameters!AW37","v":0},{"$f":"Parameters!AX37","v":0},{"$f":"Parameters!AY37","v":0},{"$f":"Parameters!AZ37","v":0},{"$f":"Parameters!BA37","v":0},{"$f":"Parameters!BB37","v":0},{"$f":"Parameters!BC37","v":0},{"$f":"Parameters!BD37","v":0},{"$f":"Parameters!BE37","v":0},{"$f":"Parameters!BF37","v":0},{"$f":"Parameters!BG37","v":0},{"$f":"Parameters!BH37","v":0},{"$f":"Parameters!BI37","v":0},{"$f":"Parameters!BJ37","v":0},{"$f":"Parameters!BK37","v":0},{"$f":"Parameters!BL37","v":0},{"$f":"Parameters!BM37","v":0},{"$f":"Parameters!BN37","v":0}]
[{"$f":"Parameters!F38","v":"COM037"},{"$f":"Parameters!K38","v":0},{"$f":"Parameters!L38","v":0},{"$f":"Parameters!M38","v":0},{"$f":"Parameters!N38","v":0},{"$f":"Parameters!O38","v":0},{"$f":"Parameters!P38","v":0},{"$f":"Parameters!Q38","v":0},{"$f":"Parameters!R38","v":0},{"$f":"Parameters!S38","v":0},{"$f":"Parameters!T38","v":0},{"$f":"Parameters!U38","v":0},{"$f":"Parameters!V38","v":0},{"$f":"Parameters!W38","v":0},{"$f":"Parameters!X38","v":0},{"$f":"Parameters!Y38","v":0},{"$f":"Parameters!Z38","v":0},{"$f":"Parameters!AA38","v":0},{"$f":"Parameters!AB38","v":0},{"$f":"Parameters!AC38","v":0},{"$f":"Parameters!AD38","v":0},{"$f":"Parameters!AE38","v":0},{"$f":"Parameters!AF38","v":0},{"$f":"Parameters!AG38","v":0},{"$f":"Parameters!AH38","v":0},{"$f":"Parameters!AI38","v":0},{"$f":"Parameters!AJ38","v":0},{"$f":"Parameters!AK38","v":0},{"$f":"Parameters!AL38","v":0},{"$f":"Parameters!AM38","v":0},{"$f":"Parameters!AN38","v":0},{"$f":"Parameters!AO38","v":0},{"$f":"Parameters!AP38","v":0},{"$f":"Parameters!AQ38","v":0},{"$f":"Parameters!AR38","v":0},{"$f":"Parameters!AS38","v":0},{"$f":"Parameters!AT38","v":0},{"$f":"Parameters!AU38","v":0},{"$f":"Parameters!AV38","v":0},{"$f":"Parameters!AW38","v":0},{"$f":"Parameters!AX38","v":0},{"$f":"Parameters!AY38","v":0},{"$f":"Parameters!AZ38","v":0},{"$f":"Parameters!BA38","v":0},{"$f":"Parameters!BB38","v":0},{"$f":"Parameters!BC38","v":0},{"$f":"Parameters!BD38","v":0},{"$f":"Parameters!BE38","v":0},{"$f":"Parameters!BF38","v":0},{"$f":"Parameters!BG38","v":0},{"$f":"Parameters!BH38","v":0},{"$f":"Parameters!BI38","v":0},{"$f":"Parameters!BJ38","v":0},{"$f":"Parameters!BK38","v":0},{"$f":"Parameters!BL38","v":0},{"$f":"Parameters!BM38","v":0},{"$f":"Parameters!BN38","v":0}]
[{"$f":"Parameters!F39","v":"COM038"},{"$f":"Parameters!K39","v":0},{"$f":"Parameters!L39","v":0},{"$f":"Parameters!M39","v":0},{"$f":"Parameters!N39","v":0},{"$f":"Parameters!O39","v":0},{"$f":"Parameters!P39","v":0},{"$f":"Parameters!Q39","v":0},{"$f":"Parameters!R39","v":0},{"$f":"Parameters!S39","v":0},{"$f":"Parameters!T39","v":0},{"$f":"Parameters!U39","v":0},{"$f":"Parameters!V39","v":0},{"$f":"Parameters!W39","v":0},{"$f":"Parameters!X39","v":0},{"$f":"Parameters!Y39","v":0},{"$f":"Parameters!Z39","v":0},{"$f":"Parameters!AA39","v":0},{"$f":"Parameters!AB39","v":0},{"$f":"Parameters!AC39","v":0},{"$f":"Parameters!AD39","v":0},{"$f":"Parameters!AE39","v":0},{"$f":"Parameters!AF39","v":0},{"$f":"Parameters!AG39","v":0},{"$f":"Parameters!AH39","v":0},{"$f":"Parameters!AI39","v":0},{"$f":"Parameters!AJ39","v":0},{"$f":"Parameters!AK39","v":0},{"$f":"Parameters!AL39","v":0},{"$f":"Parameters!AM39","v":0},{"$f":"Parameters!AN39","v":0},{"$f":"Parameters!AO39","v":0},{"$f":"Parameters!AP39","v":0},{"$f":"Parameters!AQ39","v":0},{"$f":"Parameters!AR39","v":0},{"$f":"Parameters!AS39","v":0},{"$f":"Parameters!AT39","v":0},{"$f":"Parameters!AU39","v":0},{"$f":"Parameters!AV39","v":0},{"$f":"Parameters!AW39","v":0},{"$f":"Parameters!AX39","v":0},{"$f":"Parameters!AY39","v":0},{"$f":"Parameters!AZ39","v":0},{"$f":"Parameters!BA39","v":0},{"$f":"Parameters!BB39","v":0},{"$f":"Parameters!BC39","v":0},{"$f":"Parameters!BD39","v":0},{"$f":"Parameters!BE39","v":0},{"$f":"Parameters!BF39","v":0},{"$f":"Parameters!BG39","v":0},{"$f":"Parameters!BH39","v":0},{"$f":"Parameters!BI39","v":0},{"$f":"Parameters!BJ39","v":0},{"$f":"Parameters!BK39","v":0},{"$f":"Parameters!BL39","v":0},{"$f":"Parameters!BM39","v":0},{"$f":"Parameters!BN39","v":0}]
[{"$f":"Parameters!F40","v":"COM039"},{"$f":"Parameters!K40","v":0},{"$f":"Parameters!L40","v":0},{"$f":"Parameters!M40","v":0},{"$f":"Parameters!N40","v":0},{"$f":"Parameters!O40","v":0},{"$f":"Parameters!P40","v":0},{"$f":"Parameters!Q40","v":0},{"$f":"Parameters!R40","v":0},{"$f":"Parameters!S40","v":0},{"$f":"Parameters!T40","v":0},{"$f":"Parameters!U40","v":0},{"$f":"Parameters!V40","v":0},{"$f":"Parameters!W40","v":0},{"$f":"Parameters!X40","v":0},{"$f":"Parameters!Y40","v":0},{"$f":"Parameters!Z40","v":0},{"$f":"Parameters!AA40","v":0},{"$f":"Parameters!AB40","v":0},{"$f":"Parameters!AC40","v":0},{"$f":"Parameters!AD40","v":0},{"$f":"Parameters!AE40","v":0},{"$f":"Parameters!AF40","v":0},{"$f":"Parameters!AG40","v":0},{"$f":"Parameters!AH40","v":0},{"$f":"Parameters!AI40","v":0},{"$f":"Parameters!AJ40","v":0},{"$f":"Parameters!AK40","v":0},{"$f":"Parameters!AL40","v":0},{"$f":"Parameters!AM40","v":0},{"$f":"Parameters!AN40","v":0},{"$f":"Parameters!AO40","v":0},{"$f":"Parameters!AP40","v":0},{"$f":"Parameters!AQ40","v":0},{"$f":"Parameters!AR40","v":0},{"$f":"Parameters!AS40","v":0},{"$f":"Parameters!AT40","v":0},{"$f":"Parameters!AU40","v":0},{"$f":"Parameters!AV40","v":0},{"$f":"Parameters!AW40","v":0},{"$f":"Parameters!AX40","v":0},{"$f":"Parameters!AY40","v":0},{"$f":"Parameters!AZ40","v":0},{"$f":"Parameters!BA40","v":0},{"$f":"Parameters!BB40","v":0},{"$f":"Parameters!BC40","v":0},{"$f":"Parameters!BD40","v":0},{"$f":"Parameters!BE40","v":0},{"$f":"Parameters!BF40","v":0},{"$f":"Parameters!BG40","v":0},{"$f":"Parameters!BH40","v":0},{"$f":"Parameters!BI40","v":0},{"$f":"Parameters!BJ40","v":0},{"$f":"Parameters!BK40","v":0},{"$f":"Parameters!BL40","v":0},{"$f":"Parameters!BM40","v":0},{"$f":"Parameters!BN40","v":0}]
[{"$f":"Parameters!F41","v":"COM040"},{"$f":"Parameters!K41","v":0},{"$f":"Parameters!L41","v":0},{"$f":"Parameters!M41","v":0},{"$f":"Parameters!N41","v":0},{"$f":"Parameters!O41","v":0},{"$f":"Parameters!P41","v":0},{"$f":"Parameters!Q41","v":0},{"$f":"Parameters!R41","v":0},{"$f":"Parameters!S41","v":0},{"$f":"Parameters!T41","v":0},{"$f":"Parameters!U41","v":0},{"$f":"Parameters!V41","v":0},{"$f":"Parameters!W41","v":0},{"$f":"Parameters!X41","v":0},{"$f":"Parameters!Y41","v":0},{"$f":"Parameters!Z41","v":0},{"$f":"Parameters!AA41","v":0},{"$f":"Parameters!AB41","v":0},{"$f":"Parameters!AC41","v":0},{"$f":"Parameters!AD41","v":0},{"$f":"Parameters!AE41","v":0},{"$f":"Parameters!AF41","v":0},{"$f":"Parameters!AG41","v":0},{"$f":"Parameters!AH41","v":0},{"$f":"Parameters!AI41","v":0},{"$f":"Parameters!AJ41","v":0},{"$f":"Parameters!AK41","v":0},{"$f":"Parameters!AL41","v":0},{"$f":"Parameters!AM41","v":0},{"$f":"Parameters!AN41","v":0},{"$f":"Parameters!AO41","v":0},{"$f":"Parameters!AP41","v":0},{"$f":"Parameters!AQ41","v":0},{"$f":"Parameters!AR41","v":0},{"$f":"Parameters!AS41","v":0},{"$f":"Parameters!AT41","v":0},{"$f":"Parameters!AU41","v":0},{"$f":"Parameters!AV41","v":0},{"$f":"Parameters!AW41","v":0},{"$f":"Parameters!AX41","v":0},{"$f":"Parameters!AY41","v":0},{"$f":"Parameters!AZ41","v":0},{"$f":"Parameters!BA41","v":0},{"$f":"Parameters!BB41","v":0},{"$f":"Parameters!BC41","v":0},{"$f":"Parameters!BD41","v":0},{"$f":"Parameters!BE41","v":0},{"$f":"Parameters!BF41","v":0},{"$f":"Parameters!BG41","v":0},{"$f":"Parameters!BH41","v":0},{"$f":"Parameters!BI41","v":0},{"$f":"Parameters!BJ41","v":0},{"$f":"Parameters!BK41","v":0},{"$f":"Parameters!BL41","v":0},{"$f":"Parameters!BM41","v":0},{"$f":"Parameters!BN41","v":0}]
[{"$f":"Parameters!F42","v":"COM041"},{"$f":"Parameters!K42","v":0},{"$f":"Parameters!L42","v":0},{"$f":"Parameters!M42","v":0},{"$f":"Parameters!N42","v":0},{"$f":"Parameters!O42","v":0},{"$f":"Parameters!P42","v":0},{"$f":"Parameters!Q42","v":0},{"$f":"Parameters!R42","v":0},{"$f":"Parameters!S42","v":0},{"$f":"Parameters!T42","v":0},{"$f":"Parameters!U42","v":0},{"$f":"Parameters!V42","v":0},{"$f":"Parameters!W42","v":0},{"$f":"Parameters!X42","v":0},{"$f":"Parameters!Y42","v":0},{"$f":"Parameters!Z42","v":0},{"$f":"Parameters!AA42","v":0},{"$f":"Parameters!AB42","v":0},{"$f":"Parameters!AC42","v":0},{"$f":"Parameters!AD42","v":0},{"$f":"Parameters!AE42","v":0},{"$f":"Parameters!AF42","v":0},{"$f":"Parameters!AG42","v":0},{"$f":"Parameters!AH42","v":0},{"$f":"Parameters!AI42","v":0},{"$f":"Parameters!AJ42","v":0},{"$f":"Parameters!AK42","v":0},{"$f":"Parameters!AL42","v":0},{"$f":"Parameters!AM42","v":0},{"$f":"Parameters!AN42","v":0},{"$f":"Parameters!AO42","v":0},{"$f":"Parameters!AP42","v":0},{"$f":"Parameters!AQ42","v":0},{"$f":"Parameters!AR42","v":0},{"$f":"Parameters!AS42","v":0},{"$f":"Parameters!AT42","v":0},{"$f":"Parameters!AU42","v":0},{"$f":"Parameters!AV42","v":0},{"$f":"Parameters!AW42","v":0},{"$f":"Parameters!AX42","v":0},{"$f":"Parameters!AY42","v":0},{"$f":"Parameters!AZ42","v":0},{"$f":"Parameters!BA42","v":0},{"$f":"Parameters!BB42","v":0},{"$f":"Parameters!BC42","v":0},{"$f":"Parameters!BD42","v":0},{"$f":"Parameters!BE42","v":0},{"$f":"Parameters!BF42","v":0},{"$f":"Parameters!BG42","v":0},{"$f":"Parameters!BH42","v":0},{"$f":"Parameters!BI42","v":0},{"$f":"Parameters!BJ42","v":0},{"$f":"Parameters!BK42","v":0},{"$f":"Parameters!BL42","v":0},{"$f":"Parameters!BM42","v":0},{"$f":"Parameters!BN42","v":0}]
[{"$f":"Parameters!F43","v":"COM042"},{"$f":"Parameters!K43","v":0},{"$f":"Parameters!L43","v":0},{"$f":"Parameters!M43","v":0},{"$f":"Parameters!N43","v":0},{"$f":"Parameters!O43","v":0},{"$f":"Parameters!P43","v":0},{"$f":"Parameters!Q43","v":0},{"$f":"Parameters!R43","v":0},{"$f":"Parameters!S43","v":0},{"$f":"Parameters!T43","v":0},{"$f":"Parameters!U43","v":0},{"$f":"Parameters!V43","v":0},{"$f":"Parameters!W43","v":0},{"$f":"Parameters!X43","v":0},{"$f":"Parameters!Y43","v":0},{"$f":"Parameters!Z43","v":0},{"$f":"Parameters!AA43","v":0},{"$f":"Parameters!AB43","v":0},{"$f":"Parameters!AC43","v":0},{"$f":"Parameters!AD43","v":0},{"$f":"Parameters!AE43","v":0},{"$f":"Parameters!AF43","v":0},{"$f":"Parameters!AG43","v":0},{"$f":"Parameters!AH43","v":0},{"$f":"Parameters!AI43","v":0},{"$f":"Parameters!AJ43","v":0},{"$f":"Parameters!AK43","v":0},{"$f":"Parameters!AL43","v":0},{"$f":"Parameters!AM43","v":0},{"$f":"Parameters!AN43","v":0},{"$f":"Parameters!AO43","v":0},{"$f":"Parameters!AP43","v":0},{"$f":"Parameters!AQ43","v":0},{"$f":"Parameters!AR43","v":0},{"$f":"Parameters!AS43","v":0},{"$f":"Parameters!AT43","v":0},{"$f":"Parameters!AU43","v":0},{"$f":"Parameters!AV43","v":0},{"$f":"Parameters!AW43","v":0},{"$f":"Parameters!AX43","v":0},{"$f":"Parameters!AY43","v":0},{"$f":"Parameters!AZ43","v":0},{"$f":"Parameters!BA43","v":0},{"$f":"Parameters!BB43","v":0},{"$f":"Parameters!BC43","v":0},{"$f":"Parameters!BD43","v":0},{"$f":"Parameters!BE43","v":0},{"$f":"Parameters!BF43","v":0},{"$f":"Parameters!BG43","v":0},{"$f":"Parameters!BH43","v":0},{"$f":"Parameters!BI43","v":0},{"$f":"Parameters!BJ43","v":0},{"$f":"Parameters!BK43","v":0},{"$f":"Parameters!BL43","v":0},{"$f":"Parameters!BM43","v":0},{"$f":"Parameters!BN43","v":0}]
[{"$f":"Parameters!F44","v":"COM043"},{"$f":"Parameters!K44","v":0},{"$f":"Parameters!L44","v":0},{"$f":"Parameters!M44","v":0},{"$f":"Parameters!N44","v":0},{"$f":"Parameters!O44","v":0},{"$f":"Parameters!P44","v":0},{"$f":"Parameters!Q44","v":0},{"$f":"Parameters!R44","v":0},{"$f":"Parameters!S44","v":0},{"$f":"Parameters!T44","v":0},{"$f":"Parameters!U44","v":0},{"$f":"Parameters!V44","v":0},{"$f":"Parameters!W44","v":0},{"$f":"Parameters!X44","v":0},{"$f":"Parameters!Y44","v":0},{"$f":"Parameters!Z44","v":0},{"$f":"Parameters!AA44","v":0},{"$f":"Parameters!AB44","v":0},{"$f":"Parameters!AC44","v":0},{"$f":"Parameters!AD44","v":0},{"$f":"Parameters!AE44","v":0},{"$f":"Parameters!AF44","v":0},{"$f":"Parameters!AG44","v":0},{"$f":"Parameters!AH44","v":0},{"$f":"Parameters!AI44","v":0},{"$f":"Parameters!AJ44","v":0},{"$f":"Parameters!AK44","v":0},{"$f":"Parameters!AL44","v":0},{"$f":"Parameters!AM44","v":0},{"$f":"Parameters!AN44","v":0},{"$f":"Parameters!AO44","v":0},{"$f":"Parameters!AP44","v":0},{"$f":"Parameters!AQ44","v":0},{"$f":"Parameters!AR44","v":0},{"$f":"Parameters!AS44","v":0},{"$f":"Parameters!AT44","v":0},{"$f":"Parameters!AU44","v":0},{"$f":"Parameters!AV44","v":0},{"$f":"Parameters!AW44","v":0},{"$f":"Parameters!AX44","v":0},{"$f":"Parameters!AY44","v":0},{"$f":"Parameters!AZ44","v":0},{"$f":"Parameters!BA44","v":0},{"$f":"Parameters!BB44","v":0},{"$f":"Parameters!BC44","v":0},{"$f":"Parameters!BD44","v":0},{"$f":"Parameters!BE44","v":0},{"$f":"Parameters!BF44","v":0},{"$f":"Parameters!BG44","v":0},{"$f":"Parameters!BH44","v":0},{"$f":"Parameters!BI44","v":0},{"$f":"Parameters!BJ44","v":0},{"$f":"Parameters!BK44","v":0},{"$f":"Parameters!BL44","v":0},{"$f":"Parameters!BM44","v":0},{"$f":"Parameters!BN44","v":0}]
[{"$f":"Parameters!F45","v":"COM044"},{"$f":"Parameters!K45","v":0},{"$f":"Parameters!L45","v":0},{"$f":"Parameters!M45","v":0},{"$f":"Parameters!N45","v":0},{"$f":"Parameters!O45","v":0},{"$f":"Parameters!P45","v":0},{"$f":"Parameters!Q45","v":0},{"$f":"Parameters!R45","v":0},{"$f":"Parameters!S45","v":0},{"$f":"Parameters!T45","v":0},{"$f":"Parameters!U45","v":0},{"$f":"Parameters!V45","v":0},{"$f":"Parameters!W45","v":0},{"$f":"Parameters!X45","v":0},{"$f":"Parameters!Y45","v":0},{"$f":"Parameters!Z45","v":0},{"$f":"Parameters!AA45","v":0},{"$f":"Parameters!AB45","v":0},{"$f":"Parameters!AC45","v":0},{"$f":"Parameters!AD45","v":0},{"$f":"Parameters!AE45","v":0},{"$f":"Parameters!AF45","v":0},{"$f":"Parameters!AG45","v":0},{"$f":"Parameters!AH45","v":0},{"$f":"Parameters!AI45","v":0},{"$f":"Parameters!AJ45","v":0},{"$f":"Parameters!AK45","v":0},{"$f":"Parameters!AL45","v":0},{"$f":"Parameters!AM45","v":0},{"$f":"Parameters!AN45","v":0},{"$f":"Parameters!AO45","v":0},{"$f":"Parameters!AP45","v":0},{"$f":"Parameters!AQ45","v":0},{"$f":"Parameters!AR45","v":0},{"$f":"Parameters!AS45","v":0},{"$f":"Parameters!AT45","v":0},{"$f":"Parameters!AU45","v":0},{"$f":"Parameters!AV45","v":0},{"$f":"Parameters!AW45","v":0},{"$f":"Parameters!AX45","v":0},{"$f":"Parameters!AY45","v":0},{"$f":"Parameters!AZ45","v":0},{"$f":"Parameters!BA45","v":0},{"$f":"Parameters!BB45","v":0},{"$f":"Parameters!BC45","v":0},{"$f":"Parameters!BD45","v":0},{"$f":"Parameters!BE45","v":0},{"$f":"Parameters!BF45","v":0},{"$f":"Parameters!BG45","v":0},{"$f":"Parameters!BH45","v":0},{"$f":"Parameters!BI45","v":0},{"$f":"Parameters!BJ45","v":0},{"$f":"Parameters!BK45","v":0},{"$f":"Parameters!BL45","v":0},{"$f":"Parameters!BM45","v":0},{"$f":"Parameters!BN45","v":0}]
[{"$f":"Parameters!F46","v":"COM045"},{"$f":"Parameters!K46","v":0},{"$f":"Parameters!L46","v":0},{"$f":"Parameters!M46","v":0},{"$f":"Parameters!N46","v":0},{"$f":"Parameters!O46","v":0},{"$f":"Parameters!P46","v":0},{"$f":"Parameters!Q46","v":0},{"$f":"Parameters!R46","v":0},{"$f":"Parameters!S46","v":0},{"$f":"Parameters!T46","v":0},{"$f":"Parameters!U46","v":0},{"$f":"Parameters!V46","v":0},{"$f":"Parameters!W46","v":0},{"$f":"Parameters!X46","v":0},{"$f":"Parameters!Y46","v":0},{"$f":"Parameters!Z46","v":0},{"$f":"Parameters!AA46","v":0},{"$f":"Parameters!AB46","v":0},{"$f":"Parameters!AC46","v":0},{"$f":"Parameters!AD46","v":0},{"$f":"Parameters!AE46","v":0},{"$f":"Parameters!AF46","v":0},{"$f":"Parameters!AG46","v":0},{"$f":"Parameters!AH46","v":0},{"$f":"Parameters!AI46","v":0},{"$f":"Parameters!AJ46","v":0},{"$f":"Parameters!AK46","v":0},{"$f":"Parameters!AL46","v":0},{"$f":"Parameters!AM46","v":0},{"$f":"Parameters!AN46","v":0},{"$f":"Parameters!AO46","v":0},{"$f":"Parameters!AP46","v":0},{"$f":"Parameters!AQ46","v":0},{"$f":"Parameters!AR46","v":0},{"$f":"Parameters!AS46","v":0},{"$f":"Parameters!AT46","v":0},{"$f":"Parameters!AU46","v":0},{"$f":"Parameters!AV46","v":0},{"$f":"Parameters!AW46","v":0},{"$f":"Parameters!AX46","v":0},{"$f":"Parameters!AY46","v":0},{"$f":"Parameters!AZ46","v":0},{"$f":"Parameters!BA46","v":0},{"$f":"Parameters!BB46","v":0},{"$f":"Parameters!BC46","v":0},{"$f":"Parameters!BD46","v":0},{"$f":"Parameters!BE46","v":0},{"$f":"Parameters!BF46","v":0},{"$f":"Parameters!BG46","v":0},{"$f":"Parameters!BH46","v":0},{"$f":"Parameters!BI46","v":0},{"$f":"Parameters!BJ46","v":0},{"$f":"Parameters!BK46","v":0},{"$f":"Parameters!BL46","v":0},{"$f":"Parameters!BM46","v":0},{"$f":"Parameters!BN46","v":0}]
[{"$f":"Parameters!F47","v":"COM046"},{"$f":"Parameters!K47","v":0},{"$f":"Parameters!L47","v":0},{"$f":"Parameters!M47","v":0},{"$f":"Parameters!N47","v":0},{"$f":"Parameters!O47","v":0},{"$f":"Parameters!P47","v":0},{"$f":"Parameters!Q47","v":0},{"$f":"Parameters!R47","v":0},{"$f":"Parameters!S47","v":0},{"$f":"Parameters!T47","v":0},{"$f":"Parameters!U47","v":0},{"$f":"Parameters!V47","v":0},{"$f":"Parameters!W47","v":0},{"$f":"Parameters!X47","v":0},{"$f":"Parameters!Y47","v":0},{"$f":"Parameters!Z47","v":0},{"$f":"Parameters!AA47","v":0},{"$f":"Parameters!AB47","v":0},{"$f":"Parameters!AC47","v":0},{"$f":"Parameters!AD47","v":0},{"$f":"Parameters!AE47","v":0},{"$f":"Parameters!AF47","v":0},{"$f":"Parameters!AG47","v":0},{"$f":"Parameters!AH47","v":0},{"$f":"Parameters!AI47","v":0},{"$f":"Parameters!AJ47","v":0},{"$f":"Parameters!AK47","v":0},{"$f":"Parameters!AL47","v":0},{"$f":"Parameters!AM47","v":0},{"$f":"Parameters!AN47","v":0},{"$f":"Parameters!AO47","v":0},{"$f":"Parameters!AP47","v":0},{"$f":"Parameters!AQ47","v":0},{"$f":"Parameters!AR47","v":0},{"$f":"Parameters!AS47","v":0},{"$f":"Parameters!AT47","v":0},{"$f":"Parameters!AU47","v":0},{"$f":"Parameters!AV47","v":0},{"$f":"Parameters!AW47","v":0},{"$f":"Parameters!AX47","v":0},{"$f":"Parameters!AY47","v":0},{"$f":"Parameters!AZ47","v":0},{"$f":"Parameters!BA47","v":0},{"$f":"Parameters!BB47","v":0},{"$f":"Parameters!BC47","v":0},{"$f":"Parameters!BD47","v":0},{"$f":"Parameters!BE47","v":0},{"$f":"Parameters!BF47","v":0},{"$f":"Parameters!BG47","v":0},{"$f":"Parameters!BH47","v":0},{"$f":"Parameters!BI47","v":0},{"$f":"Parameters!BJ47","v":0},{"$f":"Parameters!BK47","v":0},{"$f":"Parameters!BL47","v":0},{"$f":"Parameters!BM47","v":0},{"$f":"Parameters!BN47","v":0}]
[{"$f":"Parameters!F48","v":"COM047"},{"$f":"Parameters!K48","v":0},{"$f":"Parameters!L48","v":0},{"$f":"Parameters!M48","v":0},{"$f":"Parameters!N48","v":0},{"$f":"Parameters!O48","v":0},{"$f":"Parameters!P48","v":0},{"$f":"Parameters!Q48","v":0},{"$f":"Parameters!R48","v":0},{"$f":"Parameters!S48","v":0},{"$f":"Parameters!T48","v":0},{"$f":"Parameters!U48","v":0},{"$f":"Parameters!V48","v":0},{"$f":"Parameters!W48","v":0},{"$f":"Parameters!X48","v":0},{"$f":"Parameters!Y48","v":0},{"$f":"Parameters!Z48","v":0},{"$f":"Parameters!AA48","v":0},{"$f":"Parameters!AB48","v":0},{"$f":"Parameters!AC48","v":0},{"$f":"Parameters!AD48","v":0},{"$f":"Parameters!AE48","v":0},{"$f":"Parameters!AF48","v":0},{"$f":"Parameters!AG48","v":0},{"$f":"Parameters!AH48","v":0},{"$f":"Parameters!AI48","v":0},{"$f":"Parameters!AJ48","v":0},{"$f":"Parameters!AK48","v":0},{"$f":"Parameters!AL48","v":0},{"$f":"Parameters!AM48","v":0},{"$f":"Parameters!AN48","v":0},{"$f":"Parameters!AO48","v":0},{"$f":"Parameters!AP48","v":0},{"$f":"Parameters!AQ48","v":0},{"$f":"Parameters!AR48","v":0},{"$f":"Parameters!AS48","v":0},{"$f":"Parameters!AT48","v":0},{"$f":"Parameters!AU48","v":0},{"$f":"Parameters!AV48","v":0},{"$f":"Parameters!AW48","v":0},{"$f":"Parameters!AX48","v":0},{"$f":"Parameters!AY48","v":0},{"$f":"Parameters!AZ48","v":0},{"$f":"Parameters!BA48","v":0},{"$f":"Parameters!BB48","v":0},{"$f":"Parameters!BC48","v":0},{"$f":"Parameters!BD48","v":0},{"$f":"Parameters!BE48","v":0},{"$f":"Parameters!BF48","v":0},{"$f":"Parameters!BG48","v":0},{"$f":"Parameters!BH48","v":0},{"$f":"Parameters!BI48","v":0},{"$f":"Parameters!BJ48","v":0},{"$f":"Parameters!BK48","v":0},{"$f":"Parameters!BL48","v":0},{"$f":"Parameters!BM48","v":0},{"$f":"Parameters!BN48","v":0}]
[{"$f":"Parameters!F49","v":"COM048"},{"$f":"Parameters!K49","v":0},{"$f":"Parameters!L49","v":0},{"$f":"Parameters!M49","v":0},{"$f":"Parameters!N49","v":0},{"$f":"Parameters!O49","v":0},{"$f":"Parameters!P49","v":0},{"$f":"Parameters!Q49","v":0},{"$f":"Parameters!R49","v":0},{"$f":"Parameters!S49","v":0},{"$f":"Parameters!T49","v":0},{"$f":"Parameters!U49","v":0},{"$f":"Parameters!V49","v":0},{"$f":"Parameters!W49","v":0},{"$f":"Parameters!X49","v":0},{"$f":"Parameters!Y49","v":0},{"$f":"Parameters!Z49","v":0},{"$f":"Parameters!AA49","v":0},{"$f":"Parameters!AB49","v":0},{"$f":"Parameters!AC49","v":0},{"$f":"Parameters!AD49","v":0},{"$f":"Parameters!AE49","v":0},{"$f":"Parameters!AF49","v":0},{"$f":"Parameters!AG49","v":0},{"$f":"Parameters!AH49","v":0},{"$f":"Parameters!AI49","v":0},{"$f":"Parameters!AJ49","v":0},{"$f":"Parameters!AK49","v":0},{"$f":"Parameters!AL49","v":0},{"$f":"Parameters!AM49","v":0},{"$f":"Parameters!AN49","v":0},{"$f":"Parameters!AO49","v":0},{"$f":"Parameters!AP49","v":0},{"$f":"Parameters!AQ49","v":0},{"$f":"Parameters!AR49","v":0},{"$f":"Parameters!AS49","v":0},{"$f":"Parameters!AT49","v":0},{"$f":"Parameters!AU49","v":0},{"$f":"Parameters!AV49","v":0},{"$f":"Parameters!AW49","v":0},{"$f":"Parameters!AX49","v":0},{"$f":"Parameters!AY49","v":0},{"$f":"Parameters!AZ49","v":0},{"$f":"Parameters!BA49","v":0},{"$f":"Parameters!BB49","v":0},{"$f":"Parameters!BC49","v":0},{"$f":"Parameters!BD49","v":0},{"$f":"Parameters!BE49","v":0},{"$f":"Parameters!BF49","v":0},{"$f":"Parameters!BG49","v":0},{"$f":"Parameters!BH49","v":0},{"$f":"Parameters!BI49","v":0},{"$f":"Parameters!BJ49","v":0},{"$f":"Parameters!BK49","v":0},{"$f":"Parameters!BL49","v":0},{"$f":"Parameters!BM49","v":0},{"$f":"Parameters!BN49","v":0}]
[{"$f":"Parameters!F50","v":"COM049"},{"$f":"Parameters!K50","v":0},{"$f":"Parameters!L50","v":0},{"$f":"Parameters!M50","v":0},{"$f":"Parameters!N50","v":0},{"$f":"Parameters!O50","v":0},{"$f":"Parameters!P50","v":0},{"$f":"Parameters!Q50","v":0},{"$f":"Parameters!R50","v":0},{"$f":"Parameters!S50","v":0},{"$f":"Parameters!T50","v":0},{"$f":"Parameters!U50","v":0},{"$f":"Parameters!V50","v":0},{"$f":"Parameters!W50","v":0},{"$f":"Parameters!X50","v":0},{"$f":"Parameters!Y50","v":0},{"$f":"Parameters!Z50","v":0},{"$f":"Parameters!AA50","v":0},{"$f":"Parameters!AB50","v":0},{"$f":"Parameters!AC50","v":0},{"$f":"Parameters!AD50","v":0},{"$f":"Parameters!AE50","v":0},{"$f":"Parameters!AF50","v":0},{"$f":"Parameters!AG50","v":0},{"$f":"Parameters!AH50","v":0},{"$f":"Parameters!AI50","v":0},{"$f":"Parameters!AJ50","v":0},{"$f":"Parameters!AK50","v":0},{"$f":"Parameters!AL50","v":0},{"$f":"Parameters!AM50","v":0},{"$f":"Parameters!AN50","v":0},{"$f":"Parameters!AO50","v":0},{"$f":"Parameters!AP50","v":0},{"$f":"Parameters!AQ50","v":0},{"$f":"Parameters!AR50","v":0},{"$f":"Parameters!AS50","v":0},{"$f":"Parameters!AT50","v":0},{"$f":"Parameters!AU50","v":0},{"$f":"Parameters!AV50","v":0},{"$f":"Parameters!AW50","v":0},{"$f":"Parameters!AX50","v":0},{"$f":"Parameters!AY50","v":0},{"$f":"Parameters!AZ50","v":0},{"$f":"Parameters!BA50","v":0},{"$f":"Parameters!BB50","v":0},{"$f":"Parameters!BC50","v":0},{"$f":"Parameters!BD50","v":0},{"$f":"Parameters!BE50","v":0},{"$f":"Parameters!BF50","v":0},{"$f":"Parameters!BG50","v":0},{"$f":"Parameters!BH50","v":0},{"$f":"Parameters!BI50","v":0},{"$f":"Parameters!BJ50","v":0},{"$f":"Parameters!BK50","v":0},{"$f":"Parameters!BL50","v":0},{"$f":"Parameters!BM50","v":0},{"$f":"Parameters!BN50","v":0}]
[{"$f":"Parameters!F51","v":"COM050"},{"$f":"Parameters!K51","v":0},{"$f":"Parameters!L51","v":0},{"$f":"Parameters!M51","v":0},{"$f":"Parameters!N51","v":0},{"$f":"Parameters!O51","v":0},{"$f":"Parameters!P51","v":0},{"$f":"Parameters!Q51","v":0},{"$f":"Parameters!R51","v":0},{"$f":"Parameters!S51","v":0},{"$f":"Parameters!T51","v":0},{"$f":"Parameters!U51","v":0},{"$f":"Parameters!V51","v":0},{"$f":"Parameters!W51","v":0},{"$f":"Parameters!X51","v":0},{"$f":"Parameters!Y51","v":0},{"$f":"Parameters!Z51","v":0},{"$f":"Parameters!AA51","v":0},{"$f":"Parameters!AB51","v":0},{"$f":"Parameters!AC51","v":0},{"$f":"Parameters!AD51","v":0},{"$f":"Parameters!AE51","v":0},{"$f":"Parameters!AF51","v":0},{"$f":"Parameters!AG51","v":0},{"$f":"Parameters!AH51","v":0},{"$f":"Parameters!AI51","v":0},{"$f":"Parameters!AJ51","v":0},{"$f":"Parameters!AK51","v":0},{"$f":"Parameters!AL51","v":0},{"$f":"Parameters!AM51","v":0},{"$f":"Parameters!AN51","v":0},{"$f":"Parameters!AO51","v":0},{"$f":"Parameters!AP51","v":0},{"$f":"Parameters!AQ51","v":0},{"$f":"Parameters!AR51","v":0},{"$f":"Parameters!AS51","v":0},{"$f":"Parameters!AT51","v":0},{"$f":"Parameters!AU51","v":0},{"$f":"Parameters!AV51","v":0},{"$f":"Parameters!AW51","v":0},{"$f":"Parameters!AX51","v":0},{"$f":"Parameters!AY51","v":0},{"$f":"Parameters!AZ51","v":0},{"$f":"Parameters!BA51","v":0},{"$f":"Parameters!BB51","v":0},{"$f":"Parameters!BC51","v":0},{"$f":"Parameters!BD51","v":0},{"$f":"Parameters!BE51","v":0},{"$f":"Parameters!BF51","v":0},{"$f":"Parameters!BG51","v":0},{"$f":"Parameters!BH51","v":0},{"$f":"Parameters!BI51","v":0},{"$f":"Parameters!BJ51","v":0},{"$f":"Parameters!BK51","v":0},{"$f":"Parameters!BL51","v":0},{"$f":"Parameters!BM51","v":0},{"$f":"Parameters!BN51","v":0}]
[";"]
[]
["param","AnnualEmissionLimit","default",99999,":="]
["[RE1,*,*]:"]
[2015,2016,2017,2018,2019,2020,2021,2022,2023,2024,2025,2026,2027,2028,2029,2030,2031,2032,2033,2034,2035,2036,2037,2038,2039,2040,2041,2042,2043,2044,2045,2046,2047,2048,2049,2050,2051,2052,2053,2054,2055,2056,2057,2058,2059,2060,2061,2062,2063,2064,2065,2066,2067,2068,2069,"2070:="]
[{"$f":"SETS!H3","v":"EMIC02"},{"$f":"Parameters!K52","v":99999999},{"$f":"Parameters!L52","v":99999999},{"$f":"Parameters!M52","v":99999999},{"$f":"Parameters!N52","v":99999999},{"$f":"Parameters!O52","v":99999999},{"$f":"Parameters!P52","v":99999999},{"$f":"Parameters!Q52","v":99999999},{"$f":"Parameters!R52","v":99999999},{"$f":"Parameters!S52","v":99999999},{"$f":"Parameters!T52","v":99999999},{"$f":"Parameters!U52","v":99999999},{"$f":"Parameters!V52","v":99999999},{"$f":"Parameters!W52","v":99999999},{"$f":"Parameters!X52","v":99999999},{"$f":"Parameters!Y52","v":99999999},{"$f":"Parameters!Z52","v":99999999},{"$f":"Parameters!AA52","v":99999999},{"$f":"Parameters!AB52","v":99999999},{"$f":"Parameters!AC52","v":99999999},{"$f":"Parameters!AD52","v":99999999},{"$f":"Parameters!AE52","v":99999999},{"$f":"Parameters!AF52","v":99999999},{"$f":"Parameters!AG52","v":99999999},{"$f":"Parameters!AH52","v":99999999},{"$f":"Parameters!AI52","v":99999999},{"$f":"Parameters!AJ52","v":99999999},{"$f":"Parameters!AK52","v":99999999},{"$f":"Parameters!AL52","v":99999999},{"$f":"Parameters!AM52","v":99999999},{"$f":"Parameters!AN52","v":99999999},{"$f":"Parameters!AO52","v":99999999},{"$f":"Parameters!AP52","v":99999999},{"$f":"Parameters!AQ52","v":99999999},{"$f":"Parameters!AR52","v":99999999},{"$f":"Parameters!AS52","v":99999999},{"$f":"Parameters!AT52","v":99999999},{"$f":"Parameters!AU52","v":99999999},{"$f":"Parameters!AV52","v":99999999},{"$f":"Parameters!AW52","v":99999999},{"$f":"Parameters!AX52","v":99999999},{"$f":"Parameters!AY52","v":99999999},{"$f":"Parameters!AZ52","v":99999999},{"$f":"Parameters!BA52","v":99999999},{"$f":"Parameters!BB52","v":99999999},{"$f":"Parameters!BC52","v":99999999},{"$f":"Parameters!BD52","v":99999999},{"$f":"Parameters!BE52","v":99999999},{"$f":"Parameters!BF52","v":99999999},{"$f":"Parameters!BG52","v":99999999},{"$f":"Parameters!BH52","v":99999999},{"$f":"Parameters!BI52","v":99999999},{"$f":"Parameters!BJ52","v":99999999},{"$f":"Parameters!BK52","v":99999999},{"$f":"Parameters!BL52","v":99999999},{"$f":"Parameters!BM52","v":99999999},{"$f":"Parameters!BN52","v":99999999}]
[{"$f":"SETS!H4","v":"EMICH4"},{"$f":"Parameters!K53","v":99999},{"$f":"Parameters!L53","v":99999},{"$f":"Parameters!M53","v":99999},{"$f":"Parameters!N53","v":99999},{"$f":"Parameters!O53","v":99999},{"$f":"Parameters!P53","v":99999},{"$f":"Parameters!Q53","v":99999},{"$f":"Parameters!R53","v":99999},{"$f":"Parameters!S53","v":99999},{"$f":"Parameters!T53","v":99999},{"$f":"Parameters!U53","v":99999},{"$f":"Parameters!V53","v":99999},{"$f":"Parameters!W53","v":99999},{"$f":"Parameters!X53","v":99999},{"$f":"Parameters!Y53","v":99999},{"$f":"Parameters!Z53","v":99999},{"$f":"Parameters!AA53","v":99999},{"$f":"Parameters!AB53","v":99999},{"$f":"Parameters!AC53","v":99999},{"$f":"Parameters!AD53","v":99999},{"$f":"Parameters!AE53","v":99999},{"$f":"Parameters!AF53","v":99999},{"$f":"Parameters!AG53","v":99999},{"$f":"Parameters!AH53","v":99999},{"$f":"Parameters!AI53","v":99999},{"$f":"Parameters!AJ53","v":99999},{"$f":"Parameters!AK53","v":99999},{"$f":"Parameters!AL53","v":99999},{"$f":"Parameters!AM53","v":99999},{"$f":"Parameters!AN53","v":99999},{"$f":"Parameters!AO53","v":99999},{"$f":"Parameters!AP53","v":99999},{"$f":"Parameters!AQ53","v":99999},{"$f":"Parameters!AR53","v":99999},{"$f":"Parameters!AS53","v":99999},{"$f":"Parameters!AT53","v":99999},{"$f":"Parameters!AU53","v":99999},{"$f":"Parameters!AV53","v":99999},{"$f":"Parameters!AW53","v":99999},{"$f":"Parameters!AX53","v":99999},{"$f":"Parameters!AY53","v":99999},{"$f":"Parameters!AZ53","v":99999},{"$f":"Parameters!BA53","v":99999},{"$f":"Parameters!BB53","v":99999},{"$f":"Parameters!BC53","v":99999},{"$f":"Parameters!BD53","v":99999},{"$f":"Parameters!BE53","v":99999},{"$f":"Parameters!BF53","v":99999},{"$f":"Parameters!BG53","v":99999},{"$f":"Parameters!BH53","v":99999},{"$f":"Parameters!BI53","v":99999},{"$f":"Parameters!BJ53","v":99999},{"$f":"Parameters!BK53","v":99999},{"$f":"Parameters!BL53","v":99999},{"$f":"Parameters!BM53","v":99999},{"$f":"Parameters!BN53","v":99999}]
[{"$f":"SETS!H5","v":"EMIFGA"},{"$f":"Parameters!K54","v":99999},{"$f":"Parameters!L54","v":99999},{"$f":"Parameters!M54","v":99999},{"$f":"Parameters!N54","v":99999},{"$f":"Parameters!O54","v":99999},{"$f":"Parameters!P54","v":99999},{"$f":"Parameters!Q54","v":99999},{"$f":"Parameters!R54","v":99999},{"$f":"Parameters!S54","v":99999},{"$f":"Parameters!T54","v":99999},{"$f":"Parameters!U54","v":99999},{"$f":"Parameters!V54","v":99999},{"$f":"Parameters!W54","v":99999},{"$f":"Parameters!X54","v":99999},{"$f":"Parameters!Y54","v":99999},{"$f":"Parameters!Z54","v":99999},{"$f":"Parameters!AA54","v":99999},{"$f":"Parameters!AB54","v":99999},{"$f":"Parameters!AC54","v":99999},{"$f":"Parameters!AD54","v":99999},{"$f":"Parameters!AE54","v":99999},{"$f":"Parameters!AF54","v":99999},{"$f":"Parameters!AG54","v":99999},{"$f":"Parameters!AH54","v":99999},{"$f":"Parameters!AI54","v":99999},{"$f":"Parameters!AJ54","v":99999},{"$f":"Parameters!AK54","v":99999},{"$f":"Parameters!AL54","v":99999},{"$f":"Parameters!AM54","v":99999},{"$f":"Parameters!AN54","v":99999},{"$f":"Parameters!AO54","v":99999},{"$f":"Parameters!AP54","v":99999},{"$f":"Parameters!AQ54","v":99999},{"$f":"Parameters!AR54","v":99999},{"$f":"Parameters!AS54","v":99999},{"$f":"Parameters!AT54","v":99999},{"$f":"Parameters!AU54","v":99999},{"$f":"Parameters!AV54","v":99999},{"$f":"Parameters!AW54","v":99999},{"$f":"Parameters!AX54","v":99999},{"$f":"Parameters!AY54","v":99999},{"$f":"Parameters!AZ54","v":99999},{"$f":"Parameters!BA54","v":99999},{"$f":"Parameters!BB54","v":99999},{"$f":"Parameters!BC54","v":99999},{"$f":"Parameters!BD54","v":99999},{"$f":"Parameters!BE54","v":99999},{"$f":"Parameters!BF54","v":99999},{"$f":"Parameters!BG54","v":99999},{"$f":"Parameters!BH54","v":99999},{"$f":"Parameters!BI54","v":99999},{"$f":"Parameters!BJ54","v":99999},{"$f":"Parameters!BK54","v":99999},{"$f":"Parameters!BL54","v":99999},{"$f":"Parameters!BM54","v":99999},{"$f":"Parameters!BN54","v":99999}]
[{"$f":"SETS!H6","v":"EMIN2O"},{"$f":"Parameters!K55","v":99999},{"$f":"Parameters!L55","v":99999},{"$f":"Parameters!M55","v":99999},{"$f":"Parameters!N55","v":99999},{"$f":"Parameters!O55","v":99999},{"$f":"Parameters!P55","v":99999},{"$f":"Parameters!Q55","v":99999},{"$f":"Parameters!R55","v":99999},{"$f":"Parameters!S55","v":99999},{"$f":"Parameters!T55","v":99999},{"$f":"Parameters!U55","v":99999},{"$f":"Parameters!V55","v":99999},{"$f":"Parameters!W55","v":99999},{"$f":"Parameters!X55","v":99999},{"$f":"Parameters!Y55","v":99999},{"$f":"Parameters!Z55","v":99999},{"$f":"Parameters!AA55","v":99999},{"$f":"Parameters!AB55","v":99999},{"$f":"Parameters!AC55","v":99999},{"$f":"Parameters!AD55","v":99999},{"$f":"Parameters!AE55","v":99999},{"$f":"Parameters!AF55","v":99999},{"$f":"Parameters!AG55","v":99999},{"$f":"Parameters!AH55","v":99999},{"$f":"Parameters!AI55","v":99999},{"$f":"Parameters!AJ55","v":99999},{"$f":"Parameters!AK55","v":99999},{"$f":"Parameters!AL55","v":99999},{"$f":"Parameters!AM55","v":99999},{"$f":"Parameters!AN55","v":99999},{"$f":"Parameters!AO55","v":99999},{"$f":"Parameters!AP55","v":99999},{"$f":"Parameters!AQ55","v":99999},{"$f":"Parameters!AR55","v":99999},{"$f":"Parameters!AS55","v":99999},{"$f":"Parameters!AT55","v":99999},{"$f":"Parameters!AU55","v":99999},{"$f":"Parameters!AV55","v":99999},{"$f":"Parameters!AW55","v":99999},{"$f":"Parameters!AX55","v":99999},{"$f":"Parameters!AY55","v":99999},{"$f":"Parameters!AZ55","v":99999},{"$f":"Parameters!BA55","v":99999},{"$f":"Parameters!BB55","v":99999},{"$f":"Parameters!BC55","v":99999},{"$f":"Parameters!BD55","v":99999},{"$f":"Parameters!BE55","v":99999},{"$f":"Parameters!BF55","v":99999},{"$f":"Parameters!BG55","v":99999},{"$f":"Parameters!BH55","v":99999},{"$f":"Parameters!BI55","v":99999},{"$f":"Parameters!BJ55","v":99999},{"$f":"Parameters!BK55","v":99999},{"$f":"Parameters!BL55","v":99999},{"$f":"Parameters!BM55","v":99999},{"$f":"Parameters!BN55","v":99999}]
[{"$f":"SETS!H7","v":"EMIREN"},{"$f":"Parameters!K56","v":99999},{"$f":"Parameters!L56","v":99999},{"$f":"Parameters!M56","v":99999},{"$f":"Parameters!N56","v":99999},{"$f":"Parameters!O56","v":99999},{"$f":"Parameters!P56","v":99999},{"$f":"Parameters!Q56","v":99999},{"$f":"Parameters!R56","v":99999},{"$f":"Parameters!S56","v":99999},{"$f":"Parameters!T56","v":99999},{"$f":"Parameters!U56","v":99999},{"$f":"Parameters!V56","v":99999},{"$f":"Parameters!W56","v":99999},{"$f":"Parameters!X56","v":99999},{"$f":"Parameters!Y56","v":99999},{"$f":"Parameters!Z56","v":99999},{"$f":"Parameters!AA56","v":99999},{"$f":"Parameters!AB56","v":99999},{"$f":"Parameters!AC56","v":99999},{"$f":"Parameters!AD56","v":99999},{"$f":"Parameters!AE56","v":99999},{"$f":"Parameters!AF56","v":99999},{"$f":"Parameters!AG56","v":99999},{"$f":"Parameters!AH56","v":99999},{"$f":"Parameters!AI56","v":99999},{"$f":"Parameters!AJ56","v":99999},{"$f":"Parameters!AK56","v":99999},{"$f":"Parameters!AL56","v":99999},{"$f":"Parameters!AM56","v":99999},{"$f":"Parameters!AN56","v":99999},{"$f":"Parameters!AO56","v":99999},{"$f":"Parameters!AP56","v":99999},{"$f":"Parameters!AQ56","v":99999},{"$f":"Parameters!AR56","v":99999},{"$f":"Parameters!AS56","v":99999},{"$f":"Parameters!AT56","v":99999},{"$f":"Parameters!AU56","v":99999},{"$f":"Parameters!AV56","v":99999},{"$f":"Parameters!AW56","v":99999},{"$f":"Parameters!AX56","v":99999},{"$f":"Parameters!AY56","v":99999},{"$f":"Parameters!AZ56","v":99999},{"$f":"Parameters!BA56","v":99999},{"$f":"Parameters!BB56","v":99999},{"$f":"Parameters!BC56","v":99999},{"$f":"Parameters!BD56","v":99999},{"$f":"Parameters!BE56","v":99999},{"$f":"Parameters!BF56","v":99999},{"$f":"Parameters!BG56","v":99999},{"$f":"Parameters!BH56","v":99999},{"$f":"Parameters!BI56","v":99999},{"$f":"Parameters!BJ56","v":99999},{"$f":"Parameters!BK56","v":99999},{"$f":"Parameters!BL56","v":99999},{"$f":"Parameters!BM56","v":99999},{"$f":"Parameters!BN56","v":99999}]
[";"]
[]
["param","AnnualExogenousEmission","default",0,":="]
[{"$f":"CONCATENATE(\"[\",SETS!H9,,\",\",\"*\",,\",\",\"*\",\"]:\")","v":"[RE1,*,*]:"}]
[2015,2016,2017,2018,2019,2020,2021,2022,2023,2024,2025,2026,2027,2028,2029,2030,2031,2032,2033,2034,2035,2036,2037,2038,2039,2040,2041,2042,2043,2044,2045,2046,2047,2048,2049,2050,2051,2052,2053,2054,2055,2056,2057,2058,2059,2060,2061,2062,2063,2064,2065,2066,2067,2068,2069,"2070:="]
[{"$f":"SETS!H3","v":"EMIC02"},{"$f":"Parameters!K57","v":0},{"$f":"Parameters!L57","v":0},{"$f":"Parameters!M57","v":0},{"$f":"Parameters!N57","v":0},{"$f":"Parameters!O57","v":0},{"$f":"Parameters!P57","v":0},{"$f":"Parameters!Q57","v":0},{"$f":"Parameters!R57","v":0},{"$f":"Parameters!S57","v":0},{"$f":"Parameters!T57","v":0},{"$f":"Parameters!U57","v":0},{"$f":"Parameters!V57","v":0},{"$f":"Parameters!W57","v":0},{"$f":"Parameters!X57","v":0},{"$f":"Parameters!Y57","v":0},{"$f":"Parameters!Z57","v":0},{"$f":"Parameters!AA57","v":0},{"$f":"Parameters!AB57","v":0},{"$f":"Parameters!AC57","v":0},{"$f":"Parameters!AD57","v":0},{"$f":"Parameters!AE57","v":0},{"$f":"Parameters!AF57","v":0},{"$f":"Parameters!AG57","v":0},{"$f":"Parameters!AH57","v":0},{"$f":"Parameters!AI57","v":0},{"$f":"Parameters!AJ57","v":0},{"$f":"Parameters!AK57","v":0},{"$f":"Parameters!AL57","v":0},{"$f":"Parameters!AM57","v":0},{"$f":"Parameters!AN57","v":0},{"$f":"Parameters!AO57","v":0},{"$f":"Parameters!AP57","v":0},{"$f":"Parameters!AQ57","v":0},{"$f":"Parameters!AR57","v":0},{"$f":"Parameters!AS57","v":0},{"$f":"Parameters!AT57","v":0},{"$f":"Parameters!AU57","v":0},{"$f":"Parameters!AV57","v":0},{"$f":"Parameters!AW57","v":0},{"$f":"Parameters!AX57","v":0},{"$f":"Parameters!AY57","v":0},{"$f":"Parameters!AZ57","v":0},{"$f":"Parameters!BA57","v":0},{"$f":"Parameters!BB57","v":0},{"$f":"Parameters!BC57","v":0},{"$f":"Parameters!BD57","v":0},{"$f":"Parameters!BE57","v":0},{"$f":"Parameters!BF57","v":0},{"$f":"Parameters!BG57","v":0},{"$f":"Parameters!BH57","v":0},{"$f":"Parameters!BI57","v":0},{"$f":"Parameters!BJ57","v":0},{"$f":"Parameters!BK57","v":0},{"$f":"Parameters!BL57","v":0},{"$f":"Parameters!BM57","v":0},{"$f":"Parameters!BN57","v":0}]
[{"$f":"SETS!H4","v":"EMICH4"},{"$f":"Parameters!K58","v":0},{"$f":"Parameters!L58","v":0},{"$f":"Parameters!M58","v":0},{"$f":"Parameters!N58","v":0},{"$f":"Parameters!O58","v":0},{"$f":"Parameters!P58","v":0},{"$f":"Parameters!Q58","v":0},{"$f":"Parameters!R58","v":0},{"$f":"Parameters!S58","v":0},{"$f":"Parameters!T58","v":0},{"$f":"Parameters!U58","v":0},{"$f":"Parameters!V58","v":0},{"$f":"Parameters!W58","v":0},{"$f":"Parameters!X58","v":0},{"$f":"Parameters!Y58","v":0},{"$f":"Parameters!Z58","v":0},{"$f":"Parameters!AA58","v":0},{"$f":"Parameters!AB58","v":0},{"$f":"Parameters!AC58","v":0},{"$f":"Parameters!AD58","v":0},{"$f":"Parameters!AE58","v":0},{"$f":"Parameters!AF58","v":0},{"$f":"Parameters!AG58","v":0},{"$f":"Parameters!AH58","v":0},{"$f":"Parameters!AI58","v":0},{"$f":"Parameters!AJ58","v":0},{"$f":"Parameters!AK58","v":0},{"$f":"Parameters!AL58","v":0},{"$f":"Parameters!AM58","v":0},{"$f":"Parameters!AN58","v":0},{"$f":"Parameters!AO58","v":0},{"$f":"Parameters!AP58","v":0},{"$f":"Parameters!AQ58","v":0},{"$f":"Parameters!AR58","v":0},{"$f":"Parameters!AS58","v":0},{"$f":"Parameters!AT58","v":0},{"$f":"Parameters!AU58","v":0},{"$f":"Parameters!AV58","v":0},{"$f":"Parameters!AW58","v":0},{"$f":"Parameters!AX58","v":0},{"$f":"Parameters!AY58","v":0},{"$f":"Parameters!AZ58","v":0},{"$f":"Parameters!BA58","v":0},{"$f":"Parameters!BB58","v":0},{"$f":"Parameters!BC58","v":0},{"$f":"Parameters!BD58","v":0},{"$f":"Parameters!BE58","v":0},{"$f":"Parameters!BF58","v":0},{"$f":"Parameters!BG58","v":0},{"$f":"Parameters!BH58","v":0},{"$f":"Parameters!BI58","v":0},{"$f":"Parameters!BJ58","v":0},{"$f":"Parameters!BK58","v":0},{"$f":"Parameters!BL58","v":0},{"$f":"Parameters!BM58","v":0},{"$f":"Parameters!BN58","v":0}]
[{"$f":"SETS!H5","v":"EMIFGA"},{"$f":"Parameters!K59","v":0},{"$f":"Parameters!L59","v":0},{"$f":"Parameters!M59","v":0},{"$f":"Parameters!N59","v":0},{"$f":"Parameters!O59","v":0},{"$f":"Parameters!P59","v":0},{"$f":"Parameters!Q59","v":0},{"$f":"Parameters!R59","v":0},{"$f":"Parameters!S59","v":0},{"$f":"Parameters!T59","v":0},{"$f":"Parameters!U59","v":0},{"$f":"Parameters!V59","v":0},{"$f":"Parameters!W59","v":0},{"$f":"Parameters!X59","v":0},{"$f":"Parameters!Y59","v":0},{"$f":"Parameters!Z59","v":0},{"$f":"Parameters!AA59","v":0},{"$f":"Parameters!AB59","v":0},{"$f":"Parameters!AC59","v":0},{"$f":"Parameters!AD59","v":0},{"$f":"Parameters!AE59","v":0},{"$f":"Parameters!AF59","v":0},{"$f":"Parameters!AG59","v":0},{"$f":"Parameters!AH59","v":0},{"$f":"Parameters!AI59","v":0},{"$f":"Parameters!AJ59","v":0},{"$f":"Parameters!AK59","v":0},{"$f":"Parameters!AL59","v":0},{"$f":"Parameters!AM59","v":0},{"$f":"Parameters!AN59","v":0},{"$f":"Parameters!AO59","v":0},{"$f":"Parameters!AP59","v":0},{"$f":"Parameters!AQ59","v":0},{"$f":"Parameters!AR59","v":0},{"$f":"Parameters!AS59","v":0},{"$f":"Parameters!AT59","v":0},{"$f":"Parameters!AU59","v":0},{"$f":"Parameters!AV59","v":0},{"$f":"Parameters!AW59","v":0},{"$f":"Parameters!AX59","v":0},{"$f":"Parameters!AY59","v":0},{"$f":"Parameters!AZ59","v":0},{"$f":"Parameters!BA59","v":0},{"$f":"Parameters!BB59","v":0},{"$f":"Parameters!BC59","v":0},{"$f":"Parameters!BD59","v":0},{"$f":"Parameters!BE59","v":0},{"$f":"Parameters!BF59","v":0},{"$f":"Parameters!BG59","v":0},{"$f":"Parameters!BH59","v":0},{"$f":"Parameters!BI59","v":0},{"$f":"Parameters!BJ59","v":0},{"$f":"Parameters!BK59","v":0},{"$f":"Parameters!BL59","v":0},{"$f":"Parameters!BM59","v":0},{"$f":"Parameters!BN59","v":0}]
[{"$f":"SETS!H6","v":"EMIN2O"},{"$f":"Parameters!K60","v":0},{"$f":"Parameters!L60","v":0},{"$f":"Parameters!M60","v":0},{"$f":"Parameters!N60","v":0},{"$f":"Parameters!O60","v":0},{"$f":"Parameters!P60","v":0},{"$f":"Parameters!Q60","v":0},{"$f":"Parameters!R60","v":0},{"$f":"Parameters!S60","v":0},{"$f":"Parameters!T60","v":0},{"$f":"Parameters!U60","v":0},{"$f":"Parameters!V60","v":0},{"$f":"Parameters!W60","v":0},{"$f":"Parameters!X60","v":0},{"$f":"Parameters!Y60","v":0},{"$f":"Parameters!Z60","v":0},{"$f":"Parameters!AA60","v":0},{"$f":"Parameters!AB60","v":0},{"$f":"Parameters!AC60","v":0},{"$f":"Parameters!AD60","v":0},{"$f":"Parameters!AE60","v":0},{"$f":"Parameters!AF60","v":0},{"$f":"Parameters!AG60","v":0},{"$f":"Parameters!AH60","v":0},{"$f":"Parameters!AI60","v":0},{"$f":"Parameters!AJ60","v":0},{"$f":"Parameters!AK60","v":0},{"$f":"Parameters!AL60","v":0},{"$f":"Parameters!AM60","v":0},{"$f":"Parameters!AN60","v":0},{"$f":"Parameters!AO60","v":0},{"$f":"Parameters!AP60","v":0},{"$f":"Parameters!AQ60","v":0},{"$f":"Parameters!AR60","v":0},{"$f":"Parameters!AS60","v":0},{"$f":"Parameters!AT60","v":0},{"$f":"Parameters!AU60","v":0},{"$f":"Parameters!AV60","v":0},{"$f":"Parameters!AW60","v":0},{"$f":"Parameters!AX60","v":0},{"$f":"Parameters!AY60","v":0},{"$f":"Parameters!AZ60","v":0},{"$f":"Parameters!BA60","v":0},{"$f":"Parameters!BB60","v":0},{"$f":"Parameters!BC60","v":0},{"$f":"Parameters!BD60","v":0},{"$f":"Parameters!BE60","v":0},{"$f":"Parameters!BF60","v":0},{"$f":"Parameters!BG60","v":0},{"$f":"Parameters!BH60","v":0},{"$f":"Parameters!BI60","v":0},{"$f":"Parameters!BJ60","v":0},{"$f":"Parameters!BK60","v":0},{"$f":"Parameters!BL60","v":0},{"$f":"Parameters!BM60","v":0},{"$f":"Parameters!BN60","v":0}]
[{"$f":"SETS!H7","v":"EMIREN"},{"$f":"Parameters!K61","v":0},{"$f":"Parameters!L61","v":0},{"$f":"Parameters!M61","v":0},{"$f":"Parameters!N61","v":0},{"$f":"Parameters!O61","v":0},{"$f":"Parameters!P61","v":0},{"$f":"Parameters!Q61","v":0},{"$f":"Parameters!R61","v":0},{"$f":"Parameters!S61","v":0},{"$f":"Parameters!T61","v":0},{"$f":"Parameters!U61","v":0},{"$f":"Parameters!V61","v":0},{"$f":"Parameters!W61","v":0},{"$f":"Parameters!X61","v":0},{"$f":"Parameters!Y61","v":0},{"$f":"Parameters!Z61","v":0},{"$f":"Parameters!AA61","v":0},{"$f":"Parameters!AB61","v":0},{"$f":"Parameters!AC61","v":0},{"$f":"Parameters!AD61","v":0},{"$f":"Parameters!AE61","v":0},{"$f":"Parameters!AF61","v":0},{"$f":"Parameters!AG61","v":0},{"$f":"Parameters!AH61","v":0},{"$f":"Parameters!AI61","v":0},{"$f":"Parameters!AJ61","v":0},{"$f":"Parameters!AK61","v":0},{"$f":"Parameters!AL61","v":0},{"$f":"Parameters!AM61","v":0},{"$f":"Parameters!AN61","v":0},{"$f":"Parameters!AO61","v":0},{"$f":"Parameters!AP61","v":0},{"$f":"Parameters!AQ61","v":0},{"$f":"Parameters!AR61","v":0},{"$f":"Parameters!AS61","v":0},{"$f":"Parameters!AT61","v":0},{"$f":"Parameters!AU61","v":0},{"$f":"Parameters!AV61","v":0},{"$f":"Parameters!AW61","v":0},{"$f":"Parameters!AX61","v":0},{"$f":"Parameters!AY61","v":0},{"$f":"Parameters!AZ61","v":0},{"$f":"Parameters!BA61","v":0},{"$f":"Parameters!BB61","v":0},{"$f":"Parameters!BC61","v":0},{"$f":"Parameters!BD61","v":0},{"$f":"Parameters!BE61","v":0},{"$f":"Parameters!BF61","v":0},{"$f":"Parameters!BG61","v":0},{"$f":"Parameters!BH61","v":0},{"$f":"Parameters!BI61","v":0},{"$f":"Parameters!BJ61","v":0},{"$f":"Parameters!BK61","v":0},{"$f":"Parameters!BL61","v":0},{"$f":"Parameters!BM61","v":0},{"$f":"Parameters!BN61","v":0}]
[";"]
[]
["param","AvailabilityFactor","default",1,":="]
[{"$f":"CONCATENATE(\"[\",SETS!H9,,\",\",\"*\",,\",\",\"*\",\"]:\")","v":"[RE1,*,*]:"}]
[2015,2016,2017,2018,2019,2020,2021,2022,2023,2024,2025,2026,2027,2028,2029,2030,2031,2032,2033,2034,2035,2036,2037,2038,2039,2040,2041,2042,2043,2044,2045,2046,2047,2048,2049,2050,2051,2052,2053,2054,2055,2056,2057,2058,2059,2060,2061,2062,2063,2064,2065,2066,2067,2068,2069,"2070:="]
[{"$f":"SETS!B3","v":"IMPOIL"},{"$f":"Parameters!K62","v":1},{"$f":"Parameters!L62","v":1},{"$f":"Parameters!M62","v":1},{"$f":"Parameters!N62","v":1},{"$f":"Parameters!O62","v":1},{"$f":"Parameters!P62","v":1},{"$f":"Parameters!Q62","v":1},{"$f":"Parameters!R62","v":1},{"$f":"Parameters!S62","v":1},{"$f":"Parameters!T62","v":1},{"$f":"Parameters!U62","v":1},{"$f":"Parameters!V62","v":1},{"$f":"Parameters!W62","v":1},{"$f":"Parameters!X62","v":1},{"$f":"Parameters!Y62","v":1},{"$f":"Parameters!Z62","v":1},{"$f":"Parameters!AA62","v":1},{"$f":"Parameters!AB62","v":1},{"$f":"Parameters!AC62","v":1},{"$f":"Parameters!AD62","v":1},{"$f":"Parameters!AE62","v":1},{"$f":"Parameters!AF62","v":1},{"$f":"Parameters!AG62","v":1},{"$f":"Parameters!AH62","v":1},{"$f":"Parameters!AI62","v":1},{"$f":"Parameters!AJ62","v":1},{"$f":"Parameters!AK62","v":1},{"$f":"Parameters!AL62","v":1},{"$f":"Parameters!AM62","v":1},{"$f":"Parameters!AN62","v":1},{"$f":"Parameters!AO62","v":1},{"$f":"Parameters!AP62","v":1},{"$f":"Parameters!AQ62","v":1},{"$f":"Parameters!AR62","v":1},{"$f":"Parameters!AS62","v":1},{"$f":"Parameters!AT62","v":1},{"$f":"Parameters!AU62","v":1},{"$f":"Parameters!AV62","v":1},{"$f":"Parameters!AW62","v":1},{"$f":"Parameters!AX62","v":1},{"$f":"Parameters!AY62","v":1},{"$f":"Parameters!AZ62","v":1},{"$f":"Parameters!BA62","v":1},{"$f":"Parameters!BB62","v":1},{"$f":"Parameters!BC62","v":1},{"$f":"Parameters!BD62","v":1},{"$f":"Parameters!BE62","v":1},{"$f":"Parameters!BF62","v":1},{"$f":"Parameters!BG62","v":1},{"$f":"Parameters!BH62","v":1},{"$f":"Parameters!BI62","v":1},{"$f":"Parameters!BJ62","v":1},{"$f":"Parameters!BK62","v":1},{"$f":"Parameters!BL62","v":1},{"$f":"Parameters!BM62","v":1},{"$f":"Parameters!BN62","v":1}]
[{"$f":"SETS!B4","v":"MINOIL"},{"$f":"Parameters!K63","v":1},{"$f":"Parameters!L63","v":1},{"$f":"Parameters!M63","v":1},{"$f":"Parameters!N63","v":1},{"$f":"Parameters!O63","v":1},{"$f":"Parameters!P63","v":1},{"$f":"Parameters!Q63","v":1},{"$f":"Parameters!R63","v":1},{"$f":"Parameters!S63","v":1},{"$f":"Parameters!T63","v":1},{"$f":"Parameters!U63","v":1},{"$f":"Parameters!V63","v":1},{"$f":"Parameters!W63","v":1},{"$f":"Parameters!X63","v":1},{"$f":"Parameters!Y63","v":1},{"$f":"Parameters!Z63","v":1},{"$f":"Parameters!AA63","v":1},{"$f":"Parameters!AB63","v":1},{"$f":"Parameters!AC63","v":1},{"$f":"Parameters!AD63","v":1},{"$f":"Parameters!AE63","v":1},{"$f":"Parameters!AF63","v":1},{"$f":"Parameters!AG63","v":1},{"$f":"Parameters!AH63","v":1},{"$f":"Parameters!AI63","v":1},{"$f":"Parameters!AJ63","v":1},{"$f":"Parameters!AK63","v":1},{"$f":"Parameters!AL63","v":1},{"$f":"Parameters!AM63","v":1},{"$f":"Parameters!AN63","v":1},{"$f":"Parameters!AO63","v":1},{"$f":"Parameters!AP63","v":1},{"$f":"Parameters!AQ63","v":1},{"$f":"Parameters!AR63","v":1},{"$f":"Parameters!AS63","v":1},{"$f":"Parameters!AT63","v":1},{"$f":"Parameters!AU63","v":1},{"$f":"Parameters!AV63","v":1},{"$f":"Parameters!AW63","v":1},{"$f":"Parameters!AX63","v":1},{"$f":"Parameters!AY63","v":1},{"$f":"Parameters!AZ63","v":1},{"$f":"Parameters!BA63","v":1},{"$f":"Parameters!BB63","v":1},{"$f":"Parameters!BC63","v":1},{"$f":"Parameters!BD63","v":1},{"$f":"Parameters!BE63","v":1},{"$f":"Parameters!BF63","v":1},{"$f":"Parameters!BG63","v":1},{"$f":"Parameters!BH63","v":1},{"$f":"Parameters!BI63","v":1},{"$f":"Parameters!BJ63","v":1},{"$f":"Parameters!BK63","v":1},{"$f":"Parameters!BL63","v":1},{"$f":"Parameters!BM63","v":1},{"$f":"Parameters!BN63","v":1}]
[{"$f":"SETS!B5","v":"IMPBIO"},{"$f":"Parameters!K64","v":1},{"$f":"Parameters!L64","v":1},{"$f":"Parameters!M64","v":1},{"$f":"Parameters!N64","v":1},{"$f":"Parameters!O64","v":1},{"$f":"Parameters!P64","v":1},{"$f":"Parameters!Q64","v":1},{"$f":"Parameters!R64","v":1},{"$f":"Parameters!S64","v":1},{"$f":"Parameters!T64","v":1},{"$f":"Parameters!U64","v":1},{"$f":"Parameters!V64","v":1},{"$f":"Parameters!W64","v":1},{"$f":"Parameters!X64","v":1},{"$f":"Parameters!Y64","v":1},{"$f":"Parameters!Z64","v":1},{"$f":"Parameters!AA64","v":1},{"$f":"Parameters!AB64","v":1},{"$f":"Parameters!AC64","v":1},{"$f":"Parameters!AD64","v":1},{"$f":"Parameters!AE64","v":1},{"$f":"Parameters!AF64","v":1},{"$f":"Parameters!AG64","v":1},{"$f":"Parameters!AH64","v":1},{"$f":"Parameters!AI64","v":1},{"$f":"Parameters!AJ64","v":1},{"$f":"Parameters!AK64","v":1},{"$f":"Parameters!AL64","v":1},{"$f":"Parameters!AM64","v":1},{"$f":"Parameters!AN64","v":1},{"$f":"Parameters!AO64","v":1},{"$f":"Parameters!AP64","v":1},{"$f":"Parameters!AQ64","v":1},{"$f":"Parameters!AR64","v":1},{"$f":"Parameters!AS64","v":1},{"$f":"Parameters!AT64","v":1},{"$f":"Parameters!AU64","v":1},{"$f":"Parameters!AV64","v":1},{"$f":"Parameters!AW64","v":1},{"$f":"Parameters!AX64","v":1},{"$f":"Parameters!AY64","v":1},{"$f":"Parameters!AZ64","v":1},{"$f":"Parameters!BA64","v":1},{"$f":"Parameters!BB64","v":1},{"$f":"Parameters!BC64","v":1},{"$f":"Parameters!BD64","v":1},{"$f":"Parameters!BE64","v":1},{"$f":"Parameters!BF64","v":1},{"$f":"Parameters!BG64","v":1},{"$f":"Parameters!BH64","v":1},{"$f":"Parameters!BI64","v":1},{"$f":"Parameters!BJ64","v":1},{"$f":"Parameters!BK64","v":1},{"$f":"Parameters!BL64","v":1},{"$f":"Parameters!BM64","v":1},{"$f":"Parameters!BN64","v":1}]
[{"$f":"SETS!B6","v":"MINBIO"},{"$f":"Parameters!K65","v":1},{"$f":"Parameters!L65","v":1},{"$f":"Parameters!M65","v":1},{"$f":"Parameters!N65","v":1},{"$f":"Parameters!O65","v":1},{"$f":"Parameters!P65","v":1},{"$f":"Parameters!Q65","v":1},{"$f":"Parameters!R65","v":1},{"$f":"Parameters!S65","v":1},{"$f":"Parameters!T65","v":1},{"$f":"Parameters!U65","v":1},{"$f":"Parameters!V65","v":1},{"$f":"Parameters!W65","v":1},{"$f":"Parameters!X65","v":1},{"$f":"Parameters!Y65","v":1},{"$f":"Parameters!Z65","v":1},{"$f":"Parameters!AA65","v":1},{"$f":"Parameters!AB65","v":1},{"$f":"Parameters!AC65","v":1},{"$f":"Parameters!AD65","v":1},{"$f":"Parameters!AE65","v":1},{"$f":"Parameters!AF65","v":1},{"$f":"Parameters!AG65","v":1},{"$f":"Parameters!AH65","v":1},{"$f":"Parameters!AI65","v":1},{"$f":"Parameters!AJ65","v":1},{"$f":"Parameters!AK65","v":1},{"$f":"Parameters!AL65","v":1},{"$f":"Parameters!AM65","v":1},{"$f":"Parameters!AN65","v":1},{"$f":"Parameters!AO65","v":1},{"$f":"Parameters!AP65","v":1},{"$f":"Parameters!AQ65","v":1},{"$f":"Parameters!AR65","v":1},{"$f":"Parameters!AS65","v":1},{"$f":"Parameters!AT65","v":1},{"$f":"Parameters!AU65","v":1},{"$f":"Parameters!AV65","v":1},{"$f":"Parameters!AW65","v":1},{"$f":"Parameters!AX65","v":1},{"$f":"Parameters!AY65","v":1},{"$f":"Parameters!AZ65","v":1},{"$f":"Parameters!BA65","v":1},{"$f":"Parameters!BB65","v":1},{"$f":"Parameters!BC65","v":1},{"$f":"Parameters!BD65","v":1},{"$f":"Parameters!BE65","v":1},{"$f":"Parameters!BF65","v":1},{"$f":"Parameters!BG65","v":1},{"$f":"Parameters!BH65","v":1},{"$f":"Parameters!BI65","v":1},{"$f":"Parameters!BJ65","v":1},{"$f":"Parameters!BK65","v":1},{"$f":"Parameters!BL65","v":1},{"$f":"Parameters!BM65","v":1},{"$f":"Parameters!BN65","v":1}]
[{"$f":"SETS!B7","v":"IMPCOA"},{"$f":"Parameters!K66","v":1},{"$f":"Parameters!L66","v":1},{"$f":"Parameters!M66","v":1},{"$f":"Parameters!N66","v":1},{"$f":"Parameters!O66","v":1},{"$f":"Parameters!P66","v":1},{"$f":"Parameters!Q66","v":1},{"$f":"Parameters!R66","v":1},{"$f":"Parameters!S66","v":1},{"$f":"Parameters!T66","v":1},{"$f":"Parameters!U66","v":1},{"$f":"Parameters!V66","v":1},{"$f":"Parameters!W66","v":1},{"$f":"Parameters!X66","v":1},{"$f":"Parameters!Y66","v":1},{"$f":"Parameters!Z66","v":1},{"$f":"Parameters!AA66","v":1},{"$f":"Parameters!AB66","v":1},{"$f":"Parameters!AC66","v":1},{"$f":"Parameters!AD66","v":1},{"$f":"Parameters!AE66","v":1},{"$f":"Parameters!AF66","v":1},{"$f":"Parameters!AG66","v":1},{"$f":"Parameters!AH66","v":1},{"$f":"Parameters!AI66","v":1},{"$f":"Parameters!AJ66","v":1},{"$f":"Parameters!AK66","v":1},{"$f":"Parameters!AL66","v":1},{"$f":"Parameters!AM66","v":1},{"$f":"Parameters!AN66","v":1},{"$f":"Parameters!AO66","v":1},{"$f":"Parameters!AP66","v":1},{"$f":"Parameters!AQ66","v":1},{"$f":"Parameters!AR66","v":1},{"$f":"Parameters!AS66","v":1},{"$f":"Parameters!AT66","v":1},{"$f":"Parameters!AU66","v":1},{"$f":"Parameters!AV66","v":1},{"$f":"Parameters!AW66","v":1},{"$f":"Parameters!AX66","v":1},{"$f":"Parameters!AY66","v":1},{"$f":"Parameters!AZ66","v":1},{"$f":"Parameters!BA66","v":1},{"$f":"Parameters!BB66","v":1},{"$f":"Parameters!BC66","v":1},{"$f":"Parameters!BD66","v":1},{"$f":"Parameters!BE66","v":1},{"$f":"Parameters!BF66","v":1},{"$f":"Parameters!BG66","v":1},{"$f":"Parameters!BH66","v":1},{"$f":"Parameters!BI66","v":1},{"$f":"Parameters!BJ66","v":1},{"$f":"Parameters!BK66","v":1},{"$f":"Parameters!BL66","v":1},{"$f":"Parameters!BM66","v":1},{"$f":"Parameters!BN66","v":1}]
[{"$f":"SETS!B8","v":"MINCOA"},{"$f":"Parameters!K67","v":1},{"$f":"Parameters!L67","v":1},{"$f":"Parameters!M67","v":1},{"$f":"Parameters!N67","v":1},{"$f":"Parameters!O67","v":1},{"$f":"Parameters!P67","v":1},{"$f":"Parameters!Q67","v":1},{"$f":"Parameters!R67","v":1},{"$f":"Parameters!S67","v":1},{"$f":"Parameters!T67","v":1},{"$f":"Parameters!U67","v":1},{"$f":"Parameters!V67","v":1},{"$f":"Parameters!W67","v":1},{"$f":"Parameters!X67","v":1},{"$f":"Parameters!Y67","v":1},{"$f":"Parameters!Z67","v":1},{"$f":"Parameters!AA67","v":1},{"$f":"Parameters!AB67","v":1},{"$f":"Parameters!AC67","v":1},{"$f":"Parameters!AD67","v":1},{"$f":"Parameters!AE67","v":1},{"$f":"Parameters!AF67","v":1},{"$f":"Parameters!AG67","v":1},{"$f":"Parameters!AH67","v":1},{"$f":"Parameters!AI67","v":1},{"$f":"Parameters!AJ67","v":1},{"$f":"Parameters!AK67","v":1},{"$f":"Parameters!AL67","v":1},{"$f":"Parameters!AM67","v":1},{"$f":"Parameters!AN67","v":1},{"$f":"Parameters!AO67","v":1},{"$f":"Parameters!AP67","v":1},{"$f":"Parameters!AQ67","v":1},{"$f":"Parameters!AR67","v":1},{"$f":"Parameters!AS67","v":1},{"$f":"Parameters!AT67","v":1},{"$f":"Parameters!AU67","v":1},{"$f":"Parameters!AV67","v":1},{"$f":"Parameters!AW67","v":1},{"$f":"Parameters!AX67","v":1},{"$f":"Parameters!AY67","v":1},{"$f":"Parameters!AZ67","v":1},{"$f":"Parameters!BA67","v":1},{"$f":"Parameters!BB67","v":1},{"$f":"Parameters!BC67","v":1},{"$f":"Parameters!BD67","v":1},{"$f":"Parameters!BE67","v":1},{"$f":"Parameters!BF67","v":1},{"$f":"Parameters!BG67","v":1},{"$f":"Parameters!BH67","v":1},{"$f":"Parameters!BI67","v":1},{"$f":"Parameters!BJ67","v":1},{"$f":"Parameters!BK67","v":1},{"$f":"Parameters!BL67","v":1},{"$f":"Parameters!BM67","v":1},{"$f":"Parameters!BN67","v":1}]
[{"$f":"SETS!B9","v":"IMPLFO"},{"$f":"Parameters!K68","v":1},{"$f":"Parameters!L68","v":1},{"$f":"Parameters!M68","v":1},{"$f":"Parameters!N68","v":1},{"$f":"Parameters!O68","v":1},{"$f":"Parameters!P68","v":1},{"$f":"Parameters!Q68","v":1},{"$f":"Parameters!R68","v":1},{"$f":"Parameters!S68","v":1},{"$f":"Parameters!T68","v":1},{"$f":"Parameters!U68","v":1},{"$f":"Parameters!V68","v":1},{"$f":"Parameters!W68","v":1},{"$f":"Parameters!X68","v":1},{"$f":"Parameters!Y68","v":1},{"$f":"Parameters!Z68","v":1},{"$f":"Parameters!AA68","v":1},{"$f":"Parameters!AB68","v":1},{"$f":"Parameters!AC68","v":1},{"$f":"Parameters!AD68","v":1},{"$f":"Parameters!AE68","v":1},{"$f":"Parameters!AF68","v":1},{"$f":"Parameters!AG68","v":1},{"$f":"Parameters!AH68","v":1},{"$f":"Parameters!AI68","v":1},{"$f":"Parameters!AJ68","v":1},{"$f":"Parameters!AK68","v":1},{"$f":"Parameters!AL68","v":1},{"$f":"Parameters!AM68","v":1},{"$f":"Parameters!AN68","v":1},{"$f":"Parameters!AO68","v":1},{"$f":"Parameters!AP68","v":1},{"$f":"Parameters!AQ68","v":1},{"$f":"Parameters!AR68","v":1},{"$f":"Parameters!AS68","v":1},{"$f":"Parameters!AT68","v":1},{"$f":"Parameters!AU68","v":1},{"$f":"Parameters!AV68","v":1},{"$f":"Parameters!AW68","v":1},{"$f":"Parameters!AX68","v":1},{"$f":"Parameters!AY68","v":1},{"$f":"Parameters!AZ68","v":1},{"$f":"Parameters!BA68","v":1},{"$f":"Parameters!BB68","v":1},{"$f":"Parameters!BC68","v":1},{"$f":"Parameters!BD68","v":1},{"$f":"Parameters!BE68","v":1},{"$f":"Parameters!BF68","v":1},{"$f":"Parameters!BG68","v":1},{"$f":"Parameters!BH68","v":1},{"$f":"Parameters!BI68","v":1},{"$f":"Parameters!BJ68","v":1},{"$f":"Parameters!BK68","v":1},{"$f":"Parameters!BL68","v":1},{"$f":"Parameters!BM68","v":1},{"$f":"Parameters!BN68","v":1}]
[{"$f":"SETS!B10","v":"IMPHFO"},{"$f":"Parameters!K69","v":1},{"$f":"Parameters!L69","v":1},{"$f":"Parameters!M69","v":1},{"$f":"Parameters!N69","v":1},{"$f":"Parameters!O69","v":1},{"$f":"Parameters!P69","v":1},{"$f":"Parameters!Q69","v":1},{"$f":"Parameters!R69","v":1},{"$f":"Parameters!S69","v":1},{"$f":"Parameters!T69","v":1},{"$f":"Parameters!U69","v":1},{"$f":"Parameters!V69","v":1},{"$f":"Parameters!W69","v":1},{"$f":"Parameters!X69","v":1},{"$f":"Parameters!Y69","v":1},{"$f":"Parameters!Z69","v":1},{"$f":"Parameters!AA69","v":1},{"$f":"Parameters!AB69","v":1},{"$f":"Parameters!AC69","v":1},{"$f":"Parameters!AD69","v":1},{"$f":"Parameters!AE69","v":1},{"$f":"Parameters!AF69","v":1},{"$f":"Parameters!AG69","v":1},{"$f":"Parameters!AH69","v":1},{"$f":"Parameters!AI69","v":1},{"$f":"Parameters!AJ69","v":1},{"$f":"Parameters!AK69","v":1},{"$f":"Parameters!AL69","v":1},{"$f":"Parameters!AM69","v":1},{"$f":"Parameters!AN69","v":1},{"$f":"Parameters!AO69","v":1},{"$f":"Parameters!AP69","v":1},{"$f":"Parameters!AQ69","v":1},{"$f":"Parameters!AR69","v":1},{"$f":"Parameters!AS69","v":1},{"$f":"Parameters!AT69","v":1},{"$f":"Parameters!AU69","v":1},{"$f":"Parameters!AV69","v":1},{"$f":"Parameters!AW69","v":1},{"$f":"Parameters!AX69","v":1},{"$f":"Parameters!AY69","v":1},{"$f":"Parameters!AZ69","v":1},{"$f":"Parameters!BA69","v":1},{"$f":"Parameters!BB69","v":1},{"$f":"Parameters!BC69","v":1},{"$f":"Parameters!BD69","v":1},{"$f":"Parameters!BE69","v":1},{"$f":"Parameters!BF69","v":1},{"$f":"Parameters!BG69","v":1},{"$f":"Parameters!BH69","v":1},{"$f":"Parameters!BI69","v":1},{"$f":"Parameters!BJ69","v":1},{"$f":"Parameters!BK69","v":1},{"$f":"Parameters!BL69","v":1},{"$f":"Parameters!BM69","v":1},{"$f":"Parameters!BN69","v":1}]
[{"$f":"SETS!B11","v":"UPSREF001"},{"$f":"Parameters!K70","v":1},{"$f":"Parameters!L70","v":1},{"$f":"Parameters!M70","v":1},{"$f":"Parameters!N70","v":1},{"$f":"Parameters!O70","v":1},{"$f":"Parameters!P70","v":1},{"$f":"Parameters!Q70","v":1},{"$f":"Parameters!R70","v":1},{"$f":"Parameters!S70","v":1},{"$f":"Parameters!T70","v":1},{"$f":"Parameters!U70","v":1},{"$f":"Parameters!V70","v":1},{"$f":"Parameters!W70","v":1},{"$f":"Parameters!X70","v":1},{"$f":"Parameters!Y70","v":1},{"$f":"Parameters!Z70","v":1},{"$f":"Parameters!AA70","v":1},{"$f":"Parameters!AB70","v":1},{"$f":"Parameters!AC70","v":1},{"$f":"Parameters!AD70","v":1},{"$f":"Parameters!AE70","v":1},{"$f":"Parameters!AF70","v":1},{"$f":"Parameters!AG70","v":1},{"$f":"Parameters!AH70","v":1},{"$f":"Parameters!AI70","v":1},{"$f":"Parameters!AJ70","v":1},{"$f":"Parameters!AK70","v":1},{"$f":"Parameters!AL70","v":1},{"$f":"Parameters!AM70","v":1},{"$f":"Parameters!AN70","v":1},{"$f":"Parameters!AO70","v":1},{"$f":"Parameters!AP70","v":1},{"$f":"Parameters!AQ70","v":1},{"$f":"Parameters!AR70","v":1},{"$f":"Parameters!AS70","v":1},{"$f":"Parameters!AT70","v":1},{"$f":"Parameters!AU70","v":1},{"$f":"Parameters!AV70","v":1},{"$f":"Parameters!AW70","v":1},{"$f":"Parameters!AX70","v":1},{"$f":"Parameters!AY70","v":1},{"$f":"Parameters!AZ70","v":1},{"$f":"Parameters!BA70","v":1},{"$f":"Parameters!BB70","v":1},{"$f":"Parameters!BC70","v":1},{"$f":"Parameters!BD70","v":1},{"$f":"Parameters!BE70","v":1},{"$f":"Parameters!BF70","v":1},{"$f":"Parameters!BG70","v":1},{"$f":"Parameters!BH70","v":1},{"$f":"Parameters!BI70","v":1},{"$f":"Parameters!BJ70","v":1},{"$f":"Parameters!BK70","v":1},{"$f":"Parameters!BL70","v":1},{"$f":"Parameters!BM70","v":1},{"$f":"Parameters!BN70","v":1}]
[{"$f":"SETS!B12","v":"UPSREF002"},{"$f":"Parameters!K71","v":1},{"$f":"Parameters!L71","v":1},{"$f":"Parameters!M71","v":1},{"$f":"Parameters!N71","v":1},{"$f":"Parameters!O71","v":1},{"$f":"Parameters!P71","v":1},{"$f":"Parameters!Q71","v":1},{"$f":"Parameters!R71","v":1},{"$f":"Parameters!S71","v":1},{"$f":"Parameters!T71","v":1},{"$f":"Parameters!U71","v":1},{"$f":"Parameters!V71","v":1},{"$f":"Parameters!W71","v":1},{"$f":"Parameters!X71","v":1},{"$f":"Parameters!Y71","v":1},{"$f":"Parameters!Z71","v":1},{"$f":"Parameters!AA71","v":1},{"$f":"Parameters!AB71","v":1},{"$f":"Parameters!AC71","v":1},{"$f":"Parameters!AD71","v":1},{"$f":"Parameters!AE71","v":1},{"$f":"Parameters!AF71","v":1},{"$f":"Parameters!AG71","v":1},{"$f":"Parameters!AH71","v":1},{"$f":"Parameters!AI71","v":1},{"$f":"Parameters!AJ71","v":1},{"$f":"Parameters!AK71","v":1},{"$f":"Parameters!AL71","v":1},{"$f":"Parameters!AM71","v":1},{"$f":"Parameters!AN71","v":1},{"$f":"Parameters!AO71","v":1},{"$f":"Parameters!AP71","v":1},{"$f":"Parameters!AQ71","v":1},{"$f":"Parameters!AR71","v":1},{"$f":"Parameters!AS71","v":1},{"$f":"Parameters!AT71","v":1},{"$f":"Parameters!AU71","v":1},{"$f":"Parameters!AV71","v":1},{"$f":"Parameters!AW71","v":1},{"$f":"Parameters!AX71","v":1},{"$f":"Parameters!AY71","v":1},{"$f":"Parameters!AZ71","v":1},{"$f":"Parameters!BA71","v":1},{"$f":"Parameters!BB71","v":1},{"$f":"Parameters!BC71","v":1},{"$f":"Parameters!BD71","v":1},{"$f":"Parameters!BE71","v":1},{"$f":"Parameters!BF71","v":1},{"$f":"Parameters!BG71","v":1},{"$f":"Parameters!BH71","v":1},{"$f":"Parameters!BI71","v":1},{"$f":"Parameters!BJ71","v":1},{"$f":"Parameters!BK71","v":1},{"$f":"Parameters!BL71","v":1},{"$f":"Parameters!BM71","v":1},{"$f":"Parameters!BN71","v":1}]
[{"$f":"SETS!B13","v":"IMPNGS"},{"$f":"Parameters!K72","v":1},{"$f":"Parameters!L72","v":1},{"$f":"Parameters!M72","v":1},{"$f":"Parameters!N72","v":1},{"$f":"Parameters!O72","v":1},{"$f":"Parameters!P72","v":1},{"$f":"Parameters!Q72","v":1},{"$f":"Parameters!R72","v":1},{"$f":"Parameters!S72","v":1},{"$f":"Parameters!T72","v":1},{"$f":"Parameters!U72","v":1},{"$f":"Parameters!V72","v":1},{"$f":"Parameters!W72","v":1},{"$f":"Parameters!X72","v":1},{"$f":"Parameters!Y72","v":1},{"$f":"Parameters!Z72","v":1},{"$f":"Parameters!AA72","v":1},{"$f":"Parameters!AB72","v":1},{"$f":"Parameters!AC72","v":1},{"$f":"Parameters!AD72","v":1},{"$f":"Parameters!AE72","v":1},{"$f":"Parameters!AF72","v":1},{"$f":"Parameters!AG72","v":1},{"$f":"Parameters!AH72","v":1},{"$f":"Parameters!AI72","v":1},{"$f":"Parameters!AJ72","v":1},{"$f":"Parameters!AK72","v":1},{"$f":"Parameters!AL72","v":1},{"$f":"Parameters!AM72","v":1},{"$f":"Parameters!AN72","v":1},{"$f":"Parameters!AO72","v":1},{"$f":"Parameters!AP72","v":1},{"$f":"Parameters!AQ72","v":1},{"$f":"Parameters!AR72","v":1},{"$f":"Parameters!AS72","v":1},{"$f":"Parameters!AT72","v":1},{"$f":"Parameters!AU72","v":1},{"$f":"Parameters!AV72","v":1},{"$f":"Parameters!AW72","v":1},{"$f":"Parameters!AX72","v":1},{"$f":"Parameters!AY72","v":1},{"$f":"Parameters!AZ72","v":1},{"$f":"Parameters!BA72","v":1},{"$f":"Parameters!BB72","v":1},{"$f":"Parameters!BC72","v":1},{"$f":"Parameters!BD72","v":1},{"$f":"Parameters!BE72","v":1},{"$f":"Parameters!BF72","v":1},{"$f":"Parameters!BG72","v":1},{"$f":"Parameters!BH72","v":1},{"$f":"Parameters!BI72","v":1},{"$f":"Parameters!BJ72","v":1},{"$f":"Parameters!BK72","v":1},{"$f":"Parameters!BL72","v":1},{"$f":"Parameters!BM72","v":1},{"$f":"Parameters!BN72","v":1}]
[{"$f":"SETS!B14","v":"MINNGS"},{"$f":"Parameters!K73","v":1},{"$f":"Parameters!L73","v":1},{"$f":"Parameters!M73","v":1},{"$f":"Parameters!N73","v":1},{"$f":"Parameters!O73","v":1},{"$f":"Parameters!P73","v":1},{"$f":"Parameters!Q73","v":1},{"$f":"Parameters!R73","v":1},{"$f":"Parameters!S73","v":1},{"$f":"Parameters!T73","v":1},{"$f":"Parameters!U73","v":1},{"$f":"Parameters!V73","v":1},{"$f":"Parameters!W73","v":1},{"$f":"Parameters!X73","v":1},{"$f":"Parameters!Y73","v":1},{"$f":"Parameters!Z73","v":1},{"$f":"Parameters!AA73","v":1},{"$f":"Parameters!AB73","v":1},{"$f":"Parameters!AC73","v":1},{"$f":"Parameters!AD73","v":1},{"$f":"Parameters!AE73","v":1},{"$f":"Parameters!AF73","v":1},{"$f":"Parameters!AG73","v":1},{"$f":"Parameters!AH73","v":1},{"$f":"Parameters!AI73","v":1},{"$f":"Parameters!AJ73","v":1},{"$f":"Parameters!AK73","v":1},{"$f":"Parameters!AL73","v":1},{"$f":"Parameters!AM73","v":1},{"$f":"Parameters!AN73","v":1},{"$f":"Parameters!AO73","v":1},{"$f":"Parameters!AP73","v":1},{"$f":"Parameters!AQ73","v":1},{"$f":"Parameters!AR73","v":1},{"$f":"Parameters!AS73","v":1},{"$f":"Parameters!AT73","v":1},{"$f":"Parameters!AU73","v":1},{"$f":"Parameters!AV73","v":1},{"$f":"Parameters!AW73","v":1},{"$f":"Parameters!AX73","v":1},{"$f":"Parameters!AY73","v":1},{"$f":"Parameters!AZ73","v":1},{"$f":"Parameters!BA73","v":1},{"$f":"Parameters!BB73","v":1},{"$f":"Parameters!BC73","v":1},{"$f":"Parameters!BD73","v":1},{"$f":"Parameters!BE73","v":1},{"$f":"Parameters!BF73","v":1},{"$f":"Parameters!BG73","v":1},{"$f":"Parameters!BH73","v":1},{"$f":"Parameters!BI73","v":1},{"$f":"Parameters!BJ73","v":1},{"$f":"Parameters!BK73","v":1},{"$f":"Parameters!BL73","v":1},{"$f":"Parameters!BM73","v":1},{"$f":"Parameters!BN73","v":1}]
[{"$f":"SETS!B15","v":"MINSOL"},{"$f":"Parameters!K74","v":1},{"$f":"Parameters!L74","v":1},{"$f":"Parameters!M74","v":1},{"$f":"Parameters!N74","v":1},{"$f":"Parameters!O74","v":1},{"$f":"Parameters!P74","v":1},{"$f":"Parameters!Q74","v":1},{"$f":"Parameters!R74","v":1},{"$f":"Parameters!S74","v":1},{"$f":"Parameters!T74","v":1},{"$f":"Parameters!U74","v":1},{"$f":"Parameters!V74","v":1},{"$f":"Parameters!W74","v":1},{"$f":"Parameters!X74","v":1},{"$f":"Parameters!Y74","v":1},{"$f":"Parameters!Z74","v":1},{"$f":"Parameters!AA74","v":1},{"$f":"Parameters!AB74","v":1},{"$f":"Parameters!AC74","v":1},{"$f":"Parameters!AD74","v":1},{"$f":"Parameters!AE74","v":1},{"$f":"Parameters!AF74","v":1},{"$f":"Parameters!AG74","v":1},{"$f":"Parameters!AH74","v":1},{"$f":"Parameters!AI74","v":1},{"$f":"Parameters!AJ74","v":1},{"$f":"Parameters!AK74","v":1},{"$f":"Parameters!AL74","v":1},{"$f":"Parameters!AM74","v":1},{"$f":"Parameters!AN74","v":1},{"$f":"Parameters!AO74","v":1},{"$f":"Parameters!AP74","v":1},{"$f":"Parameters!AQ74","v":1},{"$f":"Parameters!AR74","v":1},{"$f":"Parameters!AS74","v":1},{"$f":"Parameters!AT74","v":1},{"$f":"Parameters!AU74","v":1},{"$f":"Parameters!AV74","v":1},{"$f":"Parameters!AW74","v":1},{"$f":"Parameters!AX74","v":1},{"$f":"Parameters!AY74","v":1},{"$f":"Parameters!AZ74","v":1},{"$f":"Parameters!BA74","v":1},{"$f":"Parameters!BB74","v":1},{"$f":"Parameters!BC74","v":1},{"$f":"Parameters!BD74","v":1},{"$f":"Parameters!BE74","v":1},{"$f":"Parameters!BF74","v":1},{"$f":"Parameters!BG74","v":1},{"$f":"Parameters!BH74","v":1},{"$f":"Parameters!BI74","v":1},{"$f":"Parameters!BJ74","v":1},{"$f":"Parameters!BK74","v":1},{"$f":"Parameters!BL74","v":1},{"$f":"Parameters!BM74","v":1},{"$f":"Parameters!BN74","v":1}]
[{"$f":"SETS!B16","v":"MINWND"},{"$f":"Parameters!K75","v":1},{"$f":"Parameters!L75","v":1},{"$f":"Parameters!M75","v":1},{"$f":"Parameters!N75","v":1},{"$f":"Parameters!O75","v":1},{"$f":"Parameters!P75","v":1},{"$f":"Parameters!Q75","v":1},{"$f":"Parameters!R75","v":1},{"$f":"Parameters!S75","v":1},{"$f":"Parameters!T75","v":1},{"$f":"Parameters!U75","v":1},{"$f":"Parameters!V75","v":1},{"$f":"Parameters!W75","v":1},{"$f":"Parameters!X75","v":1},{"$f":"Parameters!Y75","v":1},{"$f":"Parameters!Z75","v":1},{"$f":"Parameters!AA75","v":1},{"$f":"Parameters!AB75","v":1},{"$f":"Parameters!AC75","v":1},{"$f":"Parameters!AD75","v":1},{"$f":"Parameters!AE75","v":1},{"$f":"Parameters!AF75","v":1},{"$f":"Parameters!AG75","v":1},{"$f":"Parameters!AH75","v":1},{"$f":"Parameters!AI75","v":1},{"$f":"Parameters!AJ75","v":1},{"$f":"Parameters!AK75","v":1},{"$f":"Parameters!AL75","v":1},{"$f":"Parameters!AM75","v":1},{"$f":"Parameters!AN75","v":1},{"$f":"Parameters!AO75","v":1},{"$f":"Parameters!AP75","v":1},{"$f":"Parameters!AQ75","v":1},{"$f":"Parameters!AR75","v":1},{"$f":"Parameters!AS75","v":1},{"$f":"Parameters!AT75","v":1},{"$f":"Parameters!AU75","v":1},{"$f":"Parameters!AV75","v":1},{"$f":"Parameters!AW75","v":1},{"$f":"Parameters!AX75","v":1},{"$f":"Parameters!AY75","v":1},{"$f":"Parameters!AZ75","v":1},{"$f":"Parameters!BA75","v":1},{"$f":"Parameters!BB75","v":1},{"$f":"Parameters!BC75","v":1},{"$f":"Parameters!BD75","v":1},{"$f":"Parameters!BE75","v":1},{"$f":"Parameters!BF75","v":1},{"$f":"Parameters!BG75","v":1},{"$f":"Parameters!BH75","v":1},{"$f":"Parameters!BI75","v":1},{"$f":"Parameters!BJ75","v":1},{"$f":"Parameters!BK75","v":1},{"$f":"Parameters!BL75","v":1},{"$f":"Parameters!BM75","v":1},{"$f":"Parameters!BN75","v":1}]
[{"$f":"SETS!B17","v":"IMPURN"},{"$f":"Parameters!K76","v":1},{"$f":"Parameters!L76","v":1},{"$f":"Parameters!M76","v":1},{"$f":"Parameters!N76","v":1},{"$f":"Parameters!O76","v":1},{"$f":"Parameters!P76","v":1},{"$f":"Parameters!Q76","v":1},{"$f":"Parameters!R76","v":1},{"$f":"Parameters!S76","v":1},{"$f":"Parameters!T76","v":1},{"$f":"Parameters!U76","v":1},{"$f":"Parameters!V76","v":1},{"$f":"Parameters!W76","v":1},{"$f":"Parameters!X76","v":1},{"$f":"Parameters!Y76","v":1},{"$f":"Parameters!Z76","v":1},{"$f":"Parameters!AA76","v":1},{"$f":"Parameters!AB76","v":1},{"$f":"Parameters!AC76","v":1},{"$f":"Parameters!AD76","v":1},{"$f":"Parameters!AE76","v":1},{"$f":"Parameters!AF76","v":1},{"$f":"Parameters!AG76","v":1},{"$f":"Parameters!AH76","v":1},{"$f":"Parameters!AI76","v":1},{"$f":"Parameters!AJ76","v":1},{"$f":"Parameters!AK76","v":1},{"$f":"Parameters!AL76","v":1},{"$f":"Parameters!AM76","v":1},{"$f":"Parameters!AN76","v":1},{"$f":"Parameters!AO76","v":1},{"$f":"Parameters!AP76","v":1},{"$f":"Parameters!AQ76","v":1},{"$f":"Parameters!AR76","v":1},{"$f":"Parameters!AS76","v":1},{"$f":"Parameters!AT76","v":1},{"$f":"Parameters!AU76","v":1},{"$f":"Parameters!AV76","v":1},{"$f":"Parameters!AW76","v":1},{"$f":"Parameters!AX76","v":1},{"$f":"Parameters!AY76","v":1},{"$f":"Parameters!AZ76","v":1},{"$f":"Parameters!BA76","v":1},{"$f":"Parameters!BB76","v":1},{"$f":"Parameters!BC76","v":1},{"$f":"Parameters!BD76","v":1},{"$f":"Parameters!BE76","v":1},{"$f":"Parameters!BF76","v":1},{"$f":"Parameters!BG76","v":1},{"$f":"Parameters!BH76","v":1},{"$f":"Parameters!BI76","v":1},{"$f":"Parameters!BJ76","v":1},{"$f":"Parameters!BK76","v":1},{"$f":"Parameters!BL76","v":1},{"$f":"Parameters!BM76","v":1},{"$f":"Parameters!BN76","v":1}]
[{"$f":"SETS!B18","v":"MINURN"},{"$f":"Parameters!K77","v":1},{"$f":"Parameters!L77","v":1},{"$f":"Parameters!M77","v":1},{"$f":"Parameters!N77","v":1},{"$f":"Parameters!O77","v":1},{"$f":"Parameters!P77","v":1},{"$f":"Parameters!Q77","v":1},{"$f":"Parameters!R77","v":1},{"$f":"Parameters!S77","v":1},{"$f":"Parameters!T77","v":1},{"$f":"Parameters!U77","v":1},{"$f":"Parameters!V77","v":1},{"$f":"Parameters!W77","v":1},{"$f":"Parameters!X77","v":1},{"$f":"Parameters!Y77","v":1},{"$f":"Parameters!Z77","v":1},{"$f":"Parameters!AA77","v":1},{"$f":"Parameters!AB77","v":1},{"$f":"Parameters!AC77","v":1},{"$f":"Parameters!AD77","v":1},{"$f":"Parameters!AE77","v":1},{"$f":"Parameters!AF77","v":1},{"$f":"Parameters!AG77","v":1},{"$f":"Parameters!AH77","v":1},{"$f":"Parameters!AI77","v":1},{"$f":"Parameters!AJ77","v":1},{"$f":"Parameters!AK77","v":1},{"$f":"Parameters!AL77","v":1},{"$f":"Parameters!AM77","v":1},{"$f":"Parameters!AN77","v":1},{"$f":"Parameters!AO77","v":1},{"$f":"Parameters!AP77","v":1},{"$f":"Parameters!AQ77","v":1},{"$f":"Parameters!AR77","v":1},{"$f":"Parameters!AS77","v":1},{"$f":"Parameters!AT77","v":1},{"$f":"Parameters!AU77","v":1},{"$f":"Parameters!AV77","v":1},{"$f":"Parameters!AW77","v":1},{"$f":"Parameters!AX77","v":1},{"$f":"Parameters!AY77","v":1},{"$f":"Parameters!AZ77","v":1},{"$f":"Parameters!BA77","v":1},{"$f":"Parameters!BB77","v":1},{"$f":"Parameters!BC77","v":1},{"$f":"Parameters!BD77","v":1},{"$f":"Parameters!BE77","v":1},{"$f":"Parameters!BF77","v":1},{"$f":"Parameters!BG77","v":1},{"$f":"Parameters!BH77","v":1},{"$f":"Parameters!BI77","v":1},{"$f":"Parameters!BJ77","v":1},{"$f":"Parameters!BK77","v":1},{"$f":"Parameters!BL77","v":1},{"$f":"Parameters!BM77","v":1},{"$f":"Parameters!BN77","v":1}]
[{"$f":"SETS!B19","v":"MINGEO"},{"$f":"Parameters!K78","v":1},{"$f":"Parameters!L78","v":1},{"$f":"Parameters!M78","v":1},{"$f":"Parameters!N78","v":1},{"$f":"Parameters!O78","v":1},{"$f":"Parameters!P78","v":1},{"$f":"Parameters!Q78","v":1},{"$f":"Parameters!R78","v":1},{"$f":"Parameters!S78","v":1},{"$f":"Parameters!T78","v":1},{"$f":"Parameters!U78","v":1},{"$f":"Parameters!V78","v":1},{"$f":"Parameters!W78","v":1},{"$f":"Parameters!X78","v":1},{"$f":"Parameters!Y78","v":1},{"$f":"Parameters!Z78","v":1},{"$f":"Parameters!AA78","v":1},{"$f":"Parameters!AB78","v":1},{"$f":"Parameters!AC78","v":1},{"$f":"Parameters!AD78","v":1},{"$f":"Parameters!AE78","v":1},{"$f":"Parameters!AF78","v":1},{"$f":"Parameters!AG78","v":1},{"$f":"Parameters!AH78","v":1},{"$f":"Parameters!AI78","v":1},{"$f":"Parameters!AJ78","v":1},{"$f":"Parameters!AK78","v":1},{"$f":"Parameters!AL78","v":1},{"$f":"Parameters!AM78","v":1},{"$f":"Parameters!AN78","v":1},{"$f":"Parameters!AO78","v":1},{"$f":"Parameters!AP78","v":1},{"$f":"Parameters!AQ78","v":1},{"$f":"Parameters!AR78","v":1},{"$f":"Parameters!AS78","v":1},{"$f":"Parameters!AT78","v":1},{"$f":"Parameters!AU78","v":1},{"$f":"Parameters!AV78","v":1},{"$f":"Parameters!AW78","v":1},{"$f":"Parameters!AX78","v":1},{"$f":"Parameters!AY78","v":1},{"$f":"Parameters!AZ78","v":1},{"$f":"Parameters!BA78","v":1},{"$f":"Parameters!BB78","v":1},{"$f":"Parameters!BC78","v":1},{"$f":"Parameters!BD78","v":1},{"$f":"Parameters!BE78","v":1},{"$f":"Parameters!BF78","v":1},{"$f":"Parameters!BG78","v":1},{"$f":"Parameters!BH78","v":1},{"$f":"Parameters!BI78","v":1},{"$f":"Parameters!BJ78","v":1},{"$f":"Parameters!BK78","v":1},{"$f":"Parameters!BL78","v":1},{"$f":"Parameters!BM78","v":1},{"$f":"Parameters!BN78","v":1}]
[{"$f":"SETS!B20","v":"MINHYD"},{"$f":"Parameters!K79","v":1},{"$f":"Parameters!L79","v":1},{"$f":"Parameters!M79","v":1},{"$f":"Parameters!N79","v":1},{"$f":"Parameters!O79","v":1},{"$f":"Parameters!P79","v":1},{"$f":"Parameters!Q79","v":1},{"$f":"Parameters!R79","v":1},{"$f":"Parameters!S79","v":1},{"$f":"Parameters!T79","v":1},{"$f":"Parameters!U79","v":1},{"$f":"Parameters!V79","v":1},{"$f":"Parameters!W79","v":1},{"$f":"Parameters!X79","v":1},{"$f":"Parameters!Y79","v":1},{"$f":"Parameters!Z79","v":1},{"$f":"Parameters!AA79","v":1},{"$f":"Parameters!AB79","v":1},{"$f":"Parameters!AC79","v":1},{"$f":"Parameters!AD79","v":1},{"$f":"Parameters!AE79","v":1},{"$f":"Parameters!AF79","v":1},{"$f":"Parameters!AG79","v":1},{"$f":"Parameters!AH79","v":1},{"$f":"Parameters!AI79","v":1},{"$f":"Parameters!AJ79","v":1},{"$f":"Parameters!AK79","v":1},{"$f":"Parameters!AL79","v":1},{"$f":"Parameters!AM79","v":1},{"$f":"Parameters!AN79","v":1},{"$f":"Parameters!AO79","v":1},{"$f":"Parameters!AP79","v":1},{"$f":"Parameters!AQ79","v":1},{"$f":"Parameters!AR79","v":1},{"$f":"Parameters!AS79","v":1},{"$f":"Parameters!AT79","v":1},{"$f":"Parameters!AU79","v":1},{"$f":"Parameters!AV79","v":1},{"$f":"Parameters!AW79","v":1},{"$f":"Parameters!AX79","v":1},{"$f":"Parameters!AY79","v":1},{"$f":"Parameters!AZ79","v":1},{"$f":"Parameters!BA79","v":1},{"$f":"Parameters!BB79","v":1},{"$f":"Parameters!BC79","v":1},{"$f":"Parameters!BD79","v":1},{"$f":"Parameters!BE79","v":1},{"$f":"Parameters!BF79","v":1},{"$f":"Parameters!BG79","v":1},{"$f":"Parameters!BH79","v":1},{"$f":"Parameters!BI79","v":1},{"$f":"Parameters!BJ79","v":1},{"$f":"Parameters!BK79","v":1},{"$f":"Parameters!BL79","v":1},{"$f":"Parameters!BM79","v":1},{"$f":"Parameters!BN79","v":1}]
[{"$f":"SETS!B21","v":"PWRBIO001"},{"$f":"Parameters!K80","v":1},{"$f":"Parameters!L80","v":1},{"$f":"Parameters!M80","v":1},{"$f":"Parameters!N80","v":1},{"$f":"Parameters!O80","v":1},{"$f":"Parameters!P80","v":1},{"$f":"Parameters!Q80","v":1},{"$f":"Parameters!R80","v":1},{"$f":"Parameters!S80","v":1},{"$f":"Parameters!T80","v":1},{"$f":"Parameters!U80","v":1},{"$f":"Parameters!V80","v":1},{"$f":"Parameters!W80","v":1},{"$f":"Parameters!X80","v":1},{"$f":"Parameters!Y80","v":1},{"$f":"Parameters!Z80","v":1},{"$f":"Parameters!AA80","v":1},{"$f":"Parameters!AB80","v":1},{"$f":"Parameters!AC80","v":1},{"$f":"Parameters!AD80","v":1},{"$f":"Parameters!AE80","v":1},{"$f":"Parameters!AF80","v":1},{"$f":"Parameters!AG80","v":1},{"$f":"Parameters!AH80","v":1},{"$f":"Parameters!AI80","v":1},{"$f":"Parameters!AJ80","v":1},{"$f":"Parameters!AK80","v":1},{"$f":"Parameters!AL80","v":1},{"$f":"Parameters!AM80","v":1},{"$f":"Parameters!AN80","v":1},{"$f":"Parameters!AO80","v":1},{"$f":"Parameters!AP80","v":1},{"$f":"Parameters!AQ80","v":1},{"$f":"Parameters!AR80","v":1},{"$f":"Parameters!AS80","v":1},{"$f":"Parameters!AT80","v":1},{"$f":"Parameters!AU80","v":1},{"$f":"Parameters!AV80","v":1},{"$f":"Parameters!AW80","v":1},{"$f":"Parameters!AX80","v":1},{"$f":"Parameters!AY80","v":1},{"$f":"Parameters!AZ80","v":1},{"$f":"Parameters!BA80","v":1},{"$f":"Parameters!BB80","v":1},{"$f":"Parameters!BC80","v":1},{"$f":"Parameters!BD80","v":1},{"$f":"Parameters!BE80","v":1},{"$f":"Parameters!BF80","v":1},{"$f":"Parameters!BG80","v":1},{"$f":"Parameters!BH80","v":1},{"$f":"Parameters!BI80","v":1},{"$f":"Parameters!BJ80","v":1},{"$f":"Parameters!BK80","v":1},{"$f":"Parameters!BL80","v":1},{"$f":"Parameters!BM80","v":1},{"$f":"Parameters!BN80","v":1}]
[{"$f":"SETS!B22","v":"PWRCOA001"},{"$f":"Parameters!K81","v":1},{"$f":"Parameters!L81","v":1},{"$f":"Parameters!M81","v":1},{"$f":"Parameters!N81","v":1},{"$f":"Parameters!O81","v":1},{"$f":"Parameters!P81","v":1},{"$f":"Parameters!Q81","v":1},{"$f":"Parameters!R81","v":1},{"$f":"Parameters!S81","v":1},{"$f":"Parameters!T81","v":1},{"$f":"Parameters!U81","v":1},{"$f":"Parameters!V81","v":1},{"$f":"Parameters!W81","v":1},{"$f":"Parameters!X81","v":1},{"$f":"Parameters!Y81","v":1},{"$f":"Parameters!Z81","v":1},{"$f":"Parameters!AA81","v":1},{"$f":"Parameters!AB81","v":1},{"$f":"Parameters!AC81","v":1},{"$f":"Parameters!AD81","v":1},{"$f":"Parameters!AE81","v":1},{"$f":"Parameters!AF81","v":1},{"$f":"Parameters!AG81","v":1},{"$f":"Parameters!AH81","v":1},{"$f":"Parameters!AI81","v":1},{"$f":"Parameters!AJ81","v":1},{"$f":"Parameters!AK81","v":1},{"$f":"Parameters!AL81","v":1},{"$f":"Parameters!AM81","v":1},{"$f":"Parameters!AN81","v":1},{"$f":"Parameters!AO81","v":1},{"$f":"Parameters!AP81","v":1},{"$f":"Parameters!AQ81","v":1},{"$f":"Parameters!AR81","v":1},{"$f":"Parameters!AS81","v":1},{"$f":"Parameters!AT81","v":1},{"$f":"Parameters!AU81","v":1},{"$f":"Parameters!AV81","v":1},{"$f":"Parameters!AW81","v":1},{"$f":"Parameters!AX81","v":1},{"$f":"Parameters!AY81","v":1},{"$f":"Parameters!AZ81","v":1},{"$f":"Parameters!BA81","v":1},{"$f":"Parameters!BB81","v":1},{"$f":"Parameters!BC81","v":1},{"$f":"Parameters!BD81","v":1},{"$f":"Parameters!BE81","v":1},{"$f":"Parameters!BF81","v":1},{"$f":"Parameters!BG81","v":1},{"$f":"Parameters!BH81","v":1},{"$f":"Parameters!BI81","v":1},{"$f":"Parameters!BJ81","v":1},{"$f":"Parameters!BK81","v":1},{"$f":"Parameters!BL81","v":1},{"$f":"Parameters!BM81","v":1},{"$f":"Parameters!BN81","v":1}]
[{"$f":"SETS!B23","v":"TEC021"},{"$f":"Parameters!K82","v":1},{"$f":"Parameters!L82","v":1},{"$f":"Parameters!M82","v":1},{"$f":"Parameters!N82","v":1},{"$f":"Parameters!O82","v":1},{"$f":"Parameters!P82","v":1},{"$f":"Parameters!Q82","v":1},{"$f":"Parameters!R82","v":1},{"$f":"Parameters!S82","v":1},{"$f":"Parameters!T82","v":1},{"$f":"Parameters!U82","v":1},{"$f":"Parameters!V82","v":1},{"$f":"Parameters!W82","v":1},{"$f":"Parameters!X82","v":1},{"$f":"Parameters!Y82","v":1},{"$f":"Parameters!Z82","v":1},{"$f":"Parameters!AA82","v":1},{"$f":"Parameters!AB82","v":1},{"$f":"Parameters!AC82","v":1},{"$f":"Parameters!AD82","v":1},{"$f":"Parameters!AE82","v":1},{"$f":"Parameters!AF82","v":1},{"$f":"Parameters!AG82","v":1},{"$f":"Parameters!AH82","v":1},{"$f":"Parameters!AI82","v":1},{"$f":"Parameters!AJ82","v":1},{"$f":"Parameters!AK82","v":1},{"$f":"Parameters!AL82","v":1},{"$f":"Parameters!AM82","v":1},{"$f":"Parameters!AN82","v":1},{"$f":"Parameters!AO82","v":1},{"$f":"Parameters!AP82","v":1},{"$f":"Parameters!AQ82","v":1},{"$f":"Parameters!AR82","v":1},{"$f":"Parameters!AS82","v":1},{"$f":"Parameters!AT82","v":1},{"$f":"Parameters!AU82","v":1},{"$f":"Parameters!AV82","v":1},{"$f":"Parameters!AW82","v":1},{"$f":"Parameters!AX82","v":1},{"$f":"Parameters!AY82","v":1},{"$f":"Parameters!AZ82","v":1},{"$f":"Parameters!BA82","v":1},{"$f":"Parameters!BB82","v":1},{"$f":"Parameters!BC82","v":1},{"$f":"Parameters!BD82","v":1},{"$f":"Parameters!BE82","v":1},{"$f":"Parameters!BF82","v":1},{"$f":"Parameters!BG82","v":1},{"$f":"Parameters!BH82","v":1},{"$f":"Parameters!BI82","v":1},{"$f":"Parameters!BJ82","v":1},{"$f":"Parameters!BK82","v":1},{"$f":"Parameters!BL82","v":1},{"$f":"Parameters!BM82","v":1},{"$f":"Parameters!BN82","v":1}]
[{"$f":"SETS!B24","v":"PWRGEO"},{"$f":"Parameters!K83","v":1},{"$f":"Parameters!L83","v":1},{"$f":"Parameters!M83","v":1},{"$f":"Parameters!N83","v":1},{"$f":"Parameters!O83","v":1},{"$f":"Parameters!P83","v":1},{"$f":"Parameters!Q83","v":1},{"$f":"Parameters!R83","v":1},{"$f":"Parameters!S83","v":1},{"$f":"Parameters!T83","v":1},{"$f":"Parameters!U83","v":1},{"$f":"Parameters!V83","v":1},{"$f":"Parameters!W83","v":1},{"$f":"Parameters!X83","v":1},{"$f":"Parameters!Y83","v":1},{"$f":"Parameters!Z83","v":1},{"$f":"Parameters!AA83","v":1},{"$f":"Parameters!AB83","v":1},{"$f":"Parameters!AC83","v":1},{"$f":"Parameters!AD83","v":1},{"$f":"Parameters!AE83","v":1},{"$f":"Parameters!AF83","v":1},{"$f":"Parameters!AG83","v":1},{"$f":"Parameters!AH83","v":1},{"$f":"Parameters!AI83","v":1},{"$f":"Parameters!AJ83","v":1},{"$f":"Parameters!AK83","v":1},{"$f":"Parameters!AL83","v":1},{"$f":"Parameters!AM83","v":1},{"$f":"Parameters!AN83","v":1},{"$f":"Parameters!AO83","v":1},{"$f":"Parameters!AP83","v":1},{"$f":"Parameters!AQ83","v":1},{"$f":"Parameters!AR83","v":1},{"$f":"Parameters!AS83","v":1},{"$f":"Parameters!AT83","v":1},{"$f":"Parameters!AU83","v":1},{"$f":"Parameters!AV83","v":1},{"$f":"Parameters!AW83","v":1},{"$f":"Parameters!AX83","v":1},{"$f":"Parameters!AY83","v":1},{"$f":"Parameters!AZ83","v":1},{"$f":"Parameters!BA83","v":1},{"$f":"Parameters!BB83","v":1},{"$f":"Parameters!BC83","v":1},{"$f":"Parameters!BD83","v":1},{"$f":"Parameters!BE83","v":1},{"$f":"Parameters!BF83","v":1},{"$f":"Parameters!BG83","v":1},{"$f":"Parameters!BH83","v":1},{"$f":"Parameters!BI83","v":1},{"$f":"Parameters!BJ83","v":1},{"$f":"Parameters!BK83","v":1},{"$f":"Parameters!BL83","v":1},{"$f":"Parameters!BM83","v":1},{"$f":"Parameters!BN83","v":1}]
[{"$f":"SETS!B25","v":"PWROHC001"},{"$f":"Parameters!K84","v":1},{"$f":"Parameters!L84","v":1},{"$f":"Parameters!M84","v":1},{"$f":"Parameters!N84","v":1},{"$f":"Parameters!O84","v":1},{"$f":"Parameters!P84","v":1},{"$f":"Parameters!Q84","v":1},{"$f":"Parameters!R84","v":1},{"$f":"Parameters!S84","v":1},{"$f":"Parameters!T84","v":1},{"$f":"Parameters!U84","v":1},{"$f":"Parameters!V84","v":1},{"$f":"Parameters!W84","v":1},{"$f":"Parameters!X84","v":1},{"$f":"Parameters!Y84","v":1},{"$f":"Parameters!Z84","v":1},{"$f":"Parameters!AA84","v":1},{"$f":"Parameters!AB84","v":1},{"$f":"Parameters!AC84","v":1},{"$f":"Parameters!AD84","v":1},{"$f":"Parameters!AE84","v":1},{"$f":"Parameters!AF84","v":1},{"$f":"Parameters!AG84","v":1},{"$f":"Parameters!AH84","v":1},{"$f":"Parameters!AI84","v":1},{"$f":"Parameters!AJ84","v":1},{"$f":"Parameters!AK84","v":1},{"$f":"Parameters!AL84","v":1},{"$f":"Parameters!AM84","v":1},{"$f":"Parameters!AN84","v":1},{"$f":"Parameters!AO84","v":1},{"$f":"Parameters!AP84","v":1},{"$f":"Parameters!AQ84","v":1},{"$f":"Parameters!AR84","v":1},{"$f":"Parameters!AS84","v":1},{"$f":"Parameters!AT84","v":1},{"$f":"Parameters!AU84","v":1},{"$f":"Parameters!AV84","v":1},{"$f":"Parameters!AW84","v":1},{"$f":"Parameters!AX84","v":1},{"$f":"Parameters!AY84","v":1},{"$f":"Parameters!AZ84","v":1},{"$f":"Parameters!BA84","v":1},{"$f":"Parameters!BB84","v":1},{"$f":"Parameters!BC84","v":1},{"$f":"Parameters!BD84","v":1},{"$f":"Parameters!BE84","v":1},{"$f":"Parameters!BF84","v":1},{"$f":"Parameters!BG84","v":1},{"$f":"Parameters!BH84","v":1},{"$f":"Parameters!BI84","v":1},{"$f":"Parameters!BJ84","v":1},{"$f":"Parameters!BK84","v":1},{"$f":"Parameters!BL84","v":1},{"$f":"Parameters!BM84","v":1},{"$f":"Parameters!BN84","v":1}]
[{"$f":"SETS!B26","v":"PWROHC002"},{"$f":"Parameters!K85","v":1},{"$f":"Parameters!L85","v":1},{"$f":"Parameters!M85","v":1},{"$f":"Parameters!N85","v":1},{"$f":"Parameters!O85","v":1},{"$f":"Parameters!P85","v":1},{"$f":"Parameters!Q85","v":1},{"$f":"Parameters!R85","v":1},{"$f":"Parameters!S85","v":1},{"$f":"Parameters!T85","v":1},{"$f":"Parameters!U85","v":1},{"$f":"Parameters!V85","v":1},{"$f":"Parameters!W85","v":1},{"$f":"Parameters!X85","v":1},{"$f":"Parameters!Y85","v":1},{"$f":"Parameters!Z85","v":1},{"$f":"Parameters!AA85","v":1},{"$f":"Parameters!AB85","v":1},{"$f":"Parameters!AC85","v":1},{"$f":"Parameters!AD85","v":1},{"$f":"Parameters!AE85","v":1},{"$f":"Parameters!AF85","v":1},{"$f":"Parameters!AG85","v":1},{"$f":"Parameters!AH85","v":1},{"$f":"Parameters!AI85","v":1},{"$f":"Parameters!AJ85","v":1},{"$f":"Parameters!AK85","v":1},{"$f":"Parameters!AL85","v":1},{"$f":"Parameters!AM85","v":1},{"$f":"Parameters!AN85","v":1},{"$f":"Parameters!AO85","v":1},{"$f":"Parameters!AP85","v":1},{"$f":"Parameters!AQ85","v":1},{"$f":"Parameters!AR85","v":1},{"$f":"Parameters!AS85","v":1},{"$f":"Parameters!AT85","v":1},{"$f":"Parameters!AU85","v":1},{"$f":"Parameters!AV85","v":1},{"$f":"Parameters!AW85","v":1},{"$f":"Parameters!AX85","v":1},{"$f":"Parameters!AY85","v":1},{"$f":"Parameters!AZ85","v":1},{"$f":"Parameters!BA85","v":1},{"$f":"Parameters!BB85","v":1},{"$f":"Parameters!BC85","v":1},{"$f":"Parameters!BD85","v":1},{"$f":"Parameters!BE85","v":1},{"$f":"Parameters!BF85","v":1},{"$f":"Parameters!BG85","v":1},{"$f":"Parameters!BH85","v":1},{"$f":"Parameters!BI85","v":1},{"$f":"Parameters!BJ85","v":1},{"$f":"Parameters!BK85","v":1},{"$f":"Parameters!BL85","v":1},{"$f":"Parameters!BM85","v":1},{"$f":"Parameters!BN85","v":1}]
[{"$f":"SETS!B27","v":"PWRNGS001"},{"$f":"Parameters!K86","v":1},{"$f":"Parameters!L86","v":1},{"$f":"Parameters!M86","v":1},{"$f":"Parameters!N86","v":1},{"$f":"Parameters!O86","v":1},{"$f":"Parameters!P86","v":1},{"$f":"Parameters!Q86","v":1},{"$f":"Parameters!R86","v":1},{"$f":"Parameters!S86","v":1},{"$f":"Parameters!T86","v":1},{"$f":"Parameters!U86","v":1},{"$f":"Parameters!V86","v":1},{"$f":"Parameters!W86","v":1},{"$f":"Parameters!X86","v":1},{"$f":"Parameters!Y86","v":1},{"$f":"Parameters!Z86","v":1},{"$f":"Parameters!AA86","v":1},{"$f":"Parameters!AB86","v":1},{"$f":"Parameters!AC86","v":1},{"$f":"Parameters!AD86","v":1},{"$f":"Parameters!AE86","v":1},{"$f":"Parameters!AF86","v":1},{"$f":"Parameters!AG86","v":1},{"$f":"Parameters!AH86","v":1},{"$f":"Parameters!AI86","v":1},{"$f":"Parameters!AJ86","v":1},{"$f":"Parameters!AK86","v":1},{"$f":"Parameters!AL86","v":1},{"$f":"Parameters!AM86","v":1},{"$f":"Parameters!AN86","v":1},{"$f":"Parameters!AO86","v":1},{"$f":"Parameters!AP86","v":1},{"$f":"Parameters!AQ86","v":1},{"$f":"Parameters!AR86","v":1},{"$f":"Parameters!AS86","v":1},{"$f":"Parameters!AT86","v":1},{"$f":"Parameters!AU86","v":1},{"$f":"Parameters!AV86","v":1},{"$f":"Parameters!AW86","v":1},{"$f":"Parameters!AX86","v":1},{"$f":"Parameters!AY86","v":1},{"$f":"Parameters!AZ86","v":1},{"$f":"Parameters!BA86","v":1},{"$f":"Parameters!BB86","v":1},{"$f":"Parameters!BC86","v":1},{"$f":"Parameters!BD86","v":1},{"$f":"Parameters!BE86","v":1},{"$f":"Parameters!BF86","v":1},{"$f":"Parameters!BG86","v":1},{"$f":"Parameters!BH86","v":1},{"$f":"Parameters!BI86","v":1},{"$f":"Parameters!BJ86","v":1},{"$f":"Parameters!BK86","v":1},{"$f":"Parameters!BL86","v":1},{"$f":"Parameters!BM86","v":1},{"$f":"Parameters!BN86","v":1}]
[{"$f":"SETS!B28","v":"PWRNGS002"},{"$f":"Parameters!K87","v":1},{"$f":"Parameters!L87","v":1},{"$f":"Parameters!M87","v":1},{"$f":"Parameters!N87","v":1},{"$f":"Parameters!O87","v":1},{"$f":"Parameters!P87","v":1},{"$f":"Parameters!Q87","v":1},{"$f":"Parameters!R87","v":1},{"$f":"Parameters!S87","v":1},{"$f":"Parameters!T87","v":1},{"$f":"Parameters!U87","v":1},{"$f":"Parameters!V87","v":1},{"$f":"Parameters!W87","v":1},{"$f":"Parameters!X87","v":1},{"$f":"Parameters!Y87","v":1},{"$f":"Parameters!Z87","v":1},{"$f":"Parameters!AA87","v":1},{"$f":"Parameters!AB87","v":1},{"$f":"Parameters!AC87","v":1},{"$f":"Parameters!AD87","v":1},{"$f":"Parameters!AE87","v":1},{"$f":"Parameters!AF87","v":1},{"$f":"Parameters!AG87","v":1},{"$f":"Parameters!AH87","v":1},{"$f":"Parameters!AI87","v":1},{"$f":"Parameters!AJ87","v":1},{"$f":"Parameters!AK87","v":1},{"$f":"Parameters!AL87","v":1},{"$f":"Parameters!AM87","v":1},{"$f":"Parameters!AN87","v":1},{"$f":"Parameters!AO87","v":1},{"$f":"Parameters!AP87","v":1},{"$f":"Parameters!AQ87","v":1},{"$f":"Parameters!AR87","v":1},{"$f":"Parameters!AS87","v":1},{"$f":"Parameters!AT87","v":1},{"$f":"Parameters!AU87","v":1},{"$f":"Parameters!AV87","v":1},{"$f":"Parameters!AW87","v":1},{"$f":"Parameters!AX87","v":1},{"$f":"Parameters!AY87","v":1},{"$f":"Parameters!AZ87","v":1},{"$f":"Parameters!BA87","v":1},{"$f":"Parameters!BB87","v":1},{"$f":"Parameters!BC87","v":1},{"$f":"Parameters!BD87","v":1},{"$f":"Parameters!BE87","v":1},{"$f":"Parameters!BF87","v":1},{"$f":"Parameters!BG87","v":1},{"$f":"Parameters!BH87","v":1},{"$f":"Parameters!BI87","v":1},{"$f":"Parameters!BJ87","v":1},{"$f":"Parameters!BK87","v":1},{"$f":"Parameters!BL87","v":1},{"$f":"Parameters!BM87","v":1},{"$f":"Parameters!BN87","v":1}]
[{"$f":"SETS!B29","v":"PWRSOL001"},{"$f":"Parameters!K88","v":1},{"$f":"Parameters!L88","v":1},{"$f":"Parameters!M88","v":1},{"$f":"Parameters!N88","v":1},{"$f":"Parameters!O88","v":1},{"$f":"Parameters!P88","v":1},{"$f":"Parameters!Q88","v":1},{"$f":"Parameters!R88","v":1},{"$f":"Parameters!S88","v":1},{"$f":"Parameters!T88","v":1},{"$f":"Parameters!U88","v":1},{"$f":"Parameters!V88","v":1},{"$f":"Parameters!W88","v":1},{"$f":"Parameters!X88","v":1},{"$f":"Parameters!Y88","v":1},{"$f":"Parameters!Z88","v":1},{"$f":"Parameters!AA88","v":1},{"$f":"Parameters!AB88","v":1},{"$f":"Parameters!AC88","v":1},{"$f":"Parameters!AD88","v":1},{"$f":"Parameters!AE88","v":1},{"$f":"Parameters!AF88","v":1},{"$f":"Parameters!AG88","v":1},{"$f":"Parameters!AH88","v":1},{"$f":"Parameters!AI88","v":1},{"$f":"Parameters!AJ88","v":1},{"$f":"Parameters!AK88","v":1},{"$f":"Parameters!AL88","v":1},{"$f":"Parameters!AM88","v":1},{"$f":"Parameters!AN88","v":1},{"$f":"Parameters!AO88","v":1},{"$f":"Parameters!AP88","v":1},{"$f":"Parameters!AQ88","v":1},{"$f":"Parameters!AR88","v":1},{"$f":"Parameters!AS88","v":1},{"$f":"Parameters!AT88","v":1},{"$f":"Parameters!AU88","v":1},{"$f":"Parameters!AV88","v":1},{"$f":"Parameters!AW88","v":1},{"$f":"Parameters!AX88","v":1},{"$f":"Parameters!AY88","v":1},{"$f":"Parameters!AZ88","v":1},{"$f":"Parameters!BA88","v":1},{"$f":"Parameters!BB88","v":1},{"$f":"Parameters!BC88","v":1},{"$f":"Parameters!BD88","v":1},{"$f":"Parameters!BE88","v":1},{"$f":"Parameters!BF88","v":1},{"$f":"Parameters!BG88","v":1},{"$f":"Parameters!BH88","v":1},{"$f":"Parameters!BI88","v":1},{"$f":"Parameters!BJ88","v":1},{"$f":"Parameters!BK88","v":1},{"$f":"Parameters!BL88","v":1},{"$f":"Parameters!BM88","v":1},{"$f":"Parameters!BN88","v":1}]
[{"$f":"SETS!B30","v":"TEC027"},{"$f":"Parameters!K89","v":1},{"$f":"Parameters!L89","v":1},{"$f":"Parameters!M89","v":1},{"$f":"Parameters!N89","v":1},{"$f":"Parameters!O89","v":1},{"$f":"Parameters!P89","v":1},{"$f":"Parameters!Q89","v":1},{"$f":"Parameters!R89","v":1},{"$f":"Parameters!S89","v":1},{"$f":"Parameters!T89","v":1},{"$f":"Parameters!U89","v":1},{"$f":"Parameters!V89","v":1},{"$f":"Parameters!W89","v":1},{"$f":"Parameters!X89","v":1},{"$f":"Parameters!Y89","v":1},{"$f":"Parameters!Z89","v":1},{"$f":"Parameters!AA89","v":1},{"$f":"Parameters!AB89","v":1},{"$f":"Parameters!AC89","v":1},{"$f":"Parameters!AD89","v":1},{"$f":"Parameters!AE89","v":1},{"$f":"Parameters!AF89","v":1},{"$f":"Parameters!AG89","v":1},{"$f":"Parameters!AH89","v":1},{"$f":"Parameters!AI89","v":1},{"$f":"Parameters!AJ89","v":1},{"$f":"Parameters!AK89","v":1},{"$f":"Parameters!AL89","v":1},{"$f":"Parameters!AM89","v":1},{"$f":"Parameters!AN89","v":1},{"$f":"Parameters!AO89","v":1},{"$f":"Parameters!AP89","v":1},{"$f":"Parameters!AQ89","v":1},{"$f":"Parameters!AR89","v":1},{"$f":"Parameters!AS89","v":1},{"$f":"Parameters!AT89","v":1},{"$f":"Parameters!AU89","v":1},{"$f":"Parameters!AV89","v":1},{"$f":"Parameters!AW89","v":1},{"$f":"Parameters!AX89","v":1},{"$f":"Parameters!AY89","v":1},{"$f":"Parameters!AZ89","v":1},{"$f":"Parameters!BA89","v":1},{"$f":"Parameters!BB89","v":1},{"$f":"Parameters!BC89","v":1},{"$f":"Parameters!BD89","v":1},{"$f":"Parameters!BE89","v":1},{"$f":"Parameters!BF89","v":1},{"$f":"Parameters!BG89","v":1},{"$f":"Parameters!BH89","v":1},{"$f":"Parameters!BI89","v":1},{"$f":"Parameters!BJ89","v":1},{"$f":"Parameters!BK89","v":1},{"$f":"Parameters!BL89","v":1},{"$f":"Parameters!BM89","v":1},{"$f":"Parameters!BN89","v":1}]
[{"$f":"SETS!B31","v":"PWRCSP002"},{"$f":"Parameters!K90","v":1},{"$f":"Parameters!L90","v":1},{"$f":"Parameters!M90","v":1},{"$f":"Parameters!N90","v":1},{"$f":"Parameters!O90","v":1},{"$f":"Parameters!P90","v":1},{"$f":"Parameters!Q90","v":1},{"$f":"Parameters!R90","v":1},{"$f":"Parameters!S90","v":1},{"$f":"Parameters!T90","v":1},{"$f":"Parameters!U90","v":1},{"$f":"Parameters!V90","v":1},{"$f":"Parameters!W90","v":1},{"$f":"Parameters!X90","v":1},{"$f":"Parameters!Y90","v":1},{"$f":"Parameters!Z90","v":1},{"$f":"Parameters!AA90","v":1},{"$f":"Parameters!AB90","v":1},{"$f":"Parameters!AC90","v":1},{"$f":"Parameters!AD90","v":1},{"$f":"Parameters!AE90","v":1},{"$f":"Parameters!AF90","v":1},{"$f":"Parameters!AG90","v":1},{"$f":"Parameters!AH90","v":1},{"$f":"Parameters!AI90","v":1},{"$f":"Parameters!AJ90","v":1},{"$f":"Parameters!AK90","v":1},{"$f":"Parameters!AL90","v":1},{"$f":"Parameters!AM90","v":1},{"$f":"Parameters!AN90","v":1},{"$f":"Parameters!AO90","v":1},{"$f":"Parameters!AP90","v":1},{"$f":"Parameters!AQ90","v":1},{"$f":"Parameters!AR90","v":1},{"$f":"Parameters!AS90","v":1},{"$f":"Parameters!AT90","v":1},{"$f":"Parameters!AU90","v":1},{"$f":"Parameters!AV90","v":1},{"$f":"Parameters!AW90","v":1},{"$f":"Parameters!AX90","v":1},{"$f":"Parameters!AY90","v":1},{"$f":"Parameters!AZ90","v":1},{"$f":"Parameters!BA90","v":1},{"$f":"Parameters!BB90","v":1},{"$f":"Parameters!BC90","v":1},{"$f":"Parameters!BD90","v":1},{"$f":"Parameters!BE90","v":1},{"$f":"Parameters!BF90","v":1},{"$f":"Parameters!BG90","v":1},{"$f":"Parameters!BH90","v":1},{"$f":"Parameters!BI90","v":1},{"$f":"Parameters!BJ90","v":1},{"$f":"Parameters!BK90","v":1},{"$f":"Parameters!BL90","v":1},{"$f":"Parameters!BM90","v":1},{"$f":"Parameters!BN90","v":1}]
[{"$f":"SETS!B32","v":"PWRHYD001"},{"$f":"Parameters!K91","v":1},{"$f":"Parameters!L91","v":1},{"$f":"Parameters!M91","v":1},{"$f":"Parameters!N91","v":1},{"$f":"Parameters!O91","v":1},{"$f":"Parameters!P91","v":1},{"$f":"Parameters!Q91","v":1},{"$f":"Parameters!R91","v":1},{"$f":"Parameters!S91","v":1},{"$f":"Parameters!T91","v":1},{"$f":"Parameters!U91","v":1},{"$f":"Parameters!V91","v":1},{"$f":"Parameters!W91","v":1},{"$f":"Parameters!X91","v":1},{"$f":"Parameters!Y91","v":1},{"$f":"Parameters!Z91","v":1},{"$f":"Parameters!AA91","v":1},{"$f":"Parameters!AB91","v":1},{"$f":"Parameters!AC91","v":1},{"$f":"Parameters!AD91","v":1},{"$f":"Parameters!AE91","v":1},{"$f":"Parameters!AF91","v":1},{"$f":"Parameters!AG91","v":1},{"$f":"Parameters!AH91","v":1},{"$f":"Parameters!AI91","v":1},{"$f":"Parameters!AJ91","v":1},{"$f":"Parameters!AK91","v":1},{"$f":"Parameters!AL91","v":1},{"$f":"Parameters!AM91","v":1},{"$f":"Parameters!AN91","v":1},{"$f":"Parameters!AO91","v":1},{"$f":"Parameters!AP91","v":1},{"$f":"Parameters!AQ91","v":1},{"$f":"Parameters!AR91","v":1},{"$f":"Parameters!AS91","v":1},{"$f":"Parameters!AT91","v":1},{"$f":"Parameters!AU91","v":1},{"$f":"Parameters!AV91","v":1},{"$f":"Parameters!AW91","v":1},{"$f":"Parameters!AX91","v":1},{"$f":"Parameters!AY91","v":1},{"$f":"Parameters!AZ91","v":1},{"$f":"Parameters!BA91","v":1},{"$f":"Parameters!BB91","v":1},{"$f":"Parameters!BC91","v":1},{"$f":"Parameters!BD91","v":1},{"$f":"Parameters!BE91","v":1},{"$f":"Parameters!BF91","v":1},{"$f":"Parameters!BG91","v":1},{"$f":"Parameters!BH91","v":1},{"$f":"Parameters!BI91","v":1},{"$f":"Parameters!BJ91","v":1},{"$f":"Parameters!BK91","v":1},{"$f":"Parameters!BL91","v":1},{"$f":"Parameters!BM91","v":1},{"$f":"Parameters!BN91","v":1}]
[{"$f":"SETS!B33","v":"PWRHYD002"},{"$f":"Parameters!K92","v":1},{"$f":"Parameters!L92","v":1},{"$f":"Parameters!M92","v":1},{"$f":"Parameters!N92","v":1},{"$f":"Parameters!O92","v":1},{"$f":"Parameters!P92","v":1},{"$f":"Parameters!Q92","v":1},{"$f":"Parameters!R92","v":1},{"$f":"Parameters!S92","v":1},{"$f":"Parameters!T92","v":1},{"$f":"Parameters!U92","v":1},{"$f":"Parameters!V92","v":1},{"$f":"Parameters!W92","v":1},{"$f":"Parameters!X92","v":1},{"$f":"Parameters!Y92","v":1},{"$f":"Parameters!Z92","v":1},{"$f":"Parameters!AA92","v":1},{"$f":"Parameters!AB92","v":1},{"$f":"Parameters!AC92","v":1},{"$f":"Parameters!AD92","v":1},{"$f":"Parameters!AE92","v":1},{"$f":"Parameters!AF92","v":1},{"$f":"Parameters!AG92","v":1},{"$f":"Parameters!AH92","v":1},{"$f":"Parameters!AI92","v":1},{"$f":"Parameters!AJ92","v":1},{"$f":"Parameters!AK92","v":1},{"$f":"Parameters!AL92","v":1},{"$f":"Parameters!AM92","v":1},{"$f":"Parameters!AN92","v":1},{"$f":"Parameters!AO92","v":1},{"$f":"Parameters!AP92","v":1},{"$f":"Parameters!AQ92","v":1},{"$f":"Parameters!AR92","v":1},{"$f":"Parameters!AS92","v":1},{"$f":"Parameters!AT92","v":1},{"$f":"Parameters!AU92","v":1},{"$f":"Parameters!AV92","v":1},{"$f":"Parameters!AW92","v":1},{"$f":"Parameters!AX92","v":1},{"$f":"Parameters!AY92","v":1},{"$f":"Parameters!AZ92","v":1},{"$f":"Parameters!BA92","v":1},{"$f":"Parameters!BB92","v":1},{"$f":"Parameters!BC92","v":1},{"$f":"Parameters!BD92","v":1},{"$f":"Parameters!BE92","v":1},{"$f":"Parameters!BF92","v":1},{"$f":"Parameters!BG92","v":1},{"$f":"Parameters!BH92","v":1},{"$f":"Parameters!BI92","v":1},{"$f":"Parameters!BJ92","v":1},{"$f":"Parameters!BK92","v":1},{"$f":"Parameters!BL92","v":1},{"$f":"Parameters!BM92","v":1},{"$f":"Parameters!BN92","v":1}]
[{"$f":"SETS!B34","v":"PWRHYD003"},{"$f":"Parameters!K93","v":1},{"$f":"Parameters!L93","v":1},{"$f":"Parameters!M93","v":1},{"$f":"Parameters!N93","v":1},{"$f":"Parameters!O93","v":1},{"$f":"Parameters!P93","v":1},{"$f":"Parameters!Q93","v":1},{"$f":"Parameters!R93","v":1},{"$f":"Parameters!S93","v":1},{"$f":"Parameters!T93","v":1},{"$f":"Parameters!U93","v":1},{"$f":"Parameters!V93","v":1},{"$f":"Parameters!W93","v":1},{"$f":"Parameters!X93","v":1},{"$f":"Parameters!Y93","v":1},{"$f":"Parameters!Z93","v":1},{"$f":"Parameters!AA93","v":1},{"$f":"Parameters!AB93","v":1},{"$f":"Parameters!AC93","v":1},{"$f":"Parameters!AD93","v":1},{"$f":"Parameters!AE93","v":1},{"$f":"Parameters!AF93","v":1},{"$f":"Parameters!AG93","v":1},{"$f":"Parameters!AH93","v":1},{"$f":"Parameters!AI93","v":1},{"$f":"Parameters!AJ93","v":1},{"$f":"Parameters!AK93","v":1},{"$f":"Parameters!AL93","v":1},{"$f":"Parameters!AM93","v":1},{"$f":"Parameters!AN93","v":1},{"$f":"Parameters!AO93","v":1},{"$f":"Parameters!AP93","v":1},{"$f":"Parameters!AQ93","v":1},{"$f":"Parameters!AR93","v":1},{"$f":"Parameters!AS93","v":1},{"$f":"Parameters!AT93","v":1},{"$f":"Parameters!AU93","v":1},{"$f":"Parameters!AV93","v":1},{"$f":"Parameters!AW93","v":1},{"$f":"Parameters!AX93","v":1},{"$f":"Parameters!AY93","v":1},{"$f":"Parameters!AZ93","v":1},{"$f":"Parameters!BA93","v":1},{"$f":"Parameters!BB93","v":1},{"$f":"Parameters!BC93","v":1},{"$f":"Parameters!BD93","v":1},{"$f":"Parameters!BE93","v":1},{"$f":"Parameters!BF93","v":1},{"$f":"Parameters!BG93","v":1},{"$f":"Parameters!BH93","v":1},{"$f":"Parameters!BI93","v":1},{"$f":"Parameters!BJ93","v":1},{"$f":"Parameters!BK93","v":1},{"$f":"Parameters!BL93","v":1},{"$f":"Parameters!BM93","v":1},{"$f":"Parameters!BN93","v":1}]
[{"$f":"SETS!B35","v":"PWRWND001"},{"$f":"Parameters!K94","v":1},{"$f":"Parameters!L94","v":1},{"$f":"Parameters!M94","v":1},{"$f":"Parameters!N94","v":1},{"$f":"Parameters!O94","v":1},{"$f":"Parameters!P94","v":1},{"$f":"Parameters!Q94","v":1},{"$f":"Parameters!R94","v":1},{"$f":"Parameters!S94","v":1},{"$f":"Parameters!T94","v":1},{"$f":"Parameters!U94","v":1},{"$f":"Parameters!V94","v":1},{"$f":"Parameters!W94","v":1},{"$f":"Parameters!X94","v":1},{"$f":"Parameters!Y94","v":1},{"$f":"Parameters!Z94","v":1},{"$f":"Parameters!AA94","v":1},{"$f":"Parameters!AB94","v":1},{"$f":"Parameters!AC94","v":1},{"$f":"Parameters!AD94","v":1},{"$f":"Parameters!AE94","v":1},{"$f":"Parameters!AF94","v":1},{"$f":"Parameters!AG94","v":1},{"$f":"Parameters!AH94","v":1},{"$f":"Parameters!AI94","v":1},{"$f":"Parameters!AJ94","v":1},{"$f":"Parameters!AK94","v":1},{"$f":"Parameters!AL94","v":1},{"$f":"Parameters!AM94","v":1},{"$f":"Parameters!AN94","v":1},{"$f":"Parameters!AO94","v":1},{"$f":"Parameters!AP94","v":1},{"$f":"Parameters!AQ94","v":1},{"$f":"Parameters!AR94","v":1},{"$f":"Parameters!AS94","v":1},{"$f":"Parameters!AT94","v":1},{"$f":"Parameters!AU94","v":1},{"$f":"Parameters!AV94","v":1},{"$f":"Parameters!AW94","v":1},{"$f":"Parameters!AX94","v":1},{"$f":"Parameters!AY94","v":1},{"$f":"Parameters!AZ94","v":1},{"$f":"Parameters!BA94","v":1},{"$f":"Parameters!BB94","v":1},{"$f":"Parameters!BC94","v":1},{"$f":"Parameters!BD94","v":1},{"$f":"Parameters!BE94","v":1},{"$f":"Parameters!BF94","v":1},{"$f":"Parameters!BG94","v":1},{"$f":"Parameters!BH94","v":1},{"$f":"Parameters!BI94","v":1},{"$f":"Parameters!BJ94","v":1},{"$f":"Parameters!BK94","v":1},{"$f":"Parameters!BL94","v":1},{"$f":"Parameters!BM94","v":1},{"$f":"Parameters!BN94","v":1}]
[{"$f":"SETS!B36","v":"PWRWND002"},{"$f":"Parameters!K95","v":1},{"$f":"Parameters!L95","v":1},{"$f":"Parameters!M95","v":1},{"$f":"Parameters!N95","v":1},{"$f":"Parameters!O95","v":1},{"$f":"Parameters!P95","v":1},{"$f":"Parameters!Q95","v":1},{"$f":"Parameters!R95","v":1},{"$f":"Parameters!S95","v":1},{"$f":"Parameters!T95","v":1},{"$f":"Parameters!U95","v":1},{"$f":"Parameters!V95","v":1},{"$f":"Parameters!W95","v":1},{"$f":"Parameters!X95","v":1},{"$f":"Parameters!Y95","v":1},{"$f":"Parameters!Z95","v":1},{"$f":"Parameters!AA95","v":1},{"$f":"Parameters!AB95","v":1},{"$f":"Parameters!AC95","v":1},{"$f":"Parameters!AD95","v":1},{"$f":"Parameters!AE95","v":1},{"$f":"Parameters!AF95","v":1},{"$f":"Parameters!AG95","v":1},{"$f":"Parameters!AH95","v":1},{"$f":"Parameters!AI95","v":1},{"$f":"Parameters!AJ95","v":1},{"$f":"Parameters!AK95","v":1},{"$f":"Parameters!AL95","v":1},{"$f":"Parameters!AM95","v":1},{"$f":"Parameters!AN95","v":1},{"$f":"Parameters!AO95","v":1},{"$f":"Parameters!AP95","v":1},{"$f":"Parameters!AQ95","v":1},{"$f":"Parameters!AR95","v":1},{"$f":"Parameters!AS95","v":1},{"$f":"Parameters!AT95","v":1},{"$f":"Parameters!AU95","v":1},{"$f":"Parameters!AV95","v":1},{"$f":"Parameters!AW95","v":1},{"$f":"Parameters!AX95","v":1},{"$f":"Parameters!AY95","v":1},{"$f":"Parameters!AZ95","v":1},{"$f":"Parameters!BA95","v":1},{"$f":"Parameters!BB95","v":1},{"$f":"Parameters!BC95","v":1},{"$f":"Parameters!BD95","v":1},{"$f":"Parameters!BE95","v":1},{"$f":"Parameters!BF95","v":1},{"$f":"Parameters!BG95","v":1},{"$f":"Parameters!BH95","v":1},{"$f":"Parameters!BI95","v":1},{"$f":"Parameters!BJ95","v":1},{"$f":"Parameters!BK95","v":1},{"$f":"Parameters!BL95","v":1},{"$f":"Parameters!BM95","v":1},{"$f":"Parameters!BN95","v":1}]
[{"$f":"SETS!B37","v":"PWRNUC"},{"$f":"Parameters!K96","v":1},{"$f":"Parameters!L96","v":1},{"$f":"Parameters!M96","v":1},{"$f":"Parameters!N96","v":1},{"$f":"Parameters!O96","v":1},{"$f":"Parameters!P96","v":1},{"$f":"Parameters!Q96","v":1},{"$f":"Parameters!R96","v":1},{"$f":"Parameters!S96","v":1},{"$f":"Parameters!T96","v":1},{"$f":"Parameters!U96","v":1},{"$f":"Parameters!V96","v":1},{"$f":"Parameters!W96","v":1},{"$f":"Parameters!X96","v":1},{"$f":"Parameters!Y96","v":1},{"$f":"Parameters!Z96","v":1},{"$f":"Parameters!AA96","v":1},{"$f":"Parameters!AB96","v":1},{"$f":"Parameters!AC96","v":1},{"$f":"Parameters!AD96","v":1},{"$f":"Parameters!AE96","v":1},{"$f":"Parameters!AF96","v":1},{"$f":"Parameters!AG96","v":1},{"$f":"Parameters!AH96","v":1},{"$f":"Parameters!AI96","v":1},{"$f":"Parameters!AJ96","v":1},{"$f":"Parameters!AK96","v":1},{"$f":"Parameters!AL96","v":1},{"$f":"Parameters!AM96","v":1},{"$f":"Parameters!AN96","v":1},{"$f":"Parameters!AO96","v":1},{"$f":"Parameters!AP96","v":1},{"$f":"Parameters!AQ96","v":1},{"$f":"Parameters!AR96","v":1},{"$f":"Parameters!AS96","v":1},{"$f":"Parameters!AT96","v":1},{"$f":"Parameters!AU96","v":1},{"$f":"Parameters!AV96","v":1},{"$f":"Parameters!AW96","v":1},{"$f":"Parameters!AX96","v":1},{"$f":"Parameters!AY96","v":1},{"$f":"Parameters!AZ96","v":1},{"$f":"Parameters!BA96","v":1},{"$f":"Parameters!BB96","v":1},{"$f":"Parameters!BC96","v":1},{"$f":"Parameters!BD96","v":1},{"$f":"Parameters!BE96","v":1},{"$f":"Parameters!BF96","v":1},{"$f":"Parameters!BG96","v":1},{"$f":"Parameters!BH96","v":1},{"$f":"Parameters!BI96","v":1},{"$f":"Parameters!BJ96","v":1},{"$f":"Parameters!BK96","v":1},{"$f":"Parameters!BL96","v":1},{"$f":"Parameters!BM96","v":1},{"$f":"Parameters!BN96","v":1}]
[{"$f":"SETS!B38","v":"PWRSOL001S"},{"$f":"Parameters!K97","v":1},{"$f":"Parameters!L97","v":1},{"$f":"Parameters!M97","v":1},{"$f":"Parameters!N97","v":1},{"$f":"Parameters!O97","v":1},{"$f":"Parameters!P97","v":1},{"$f":"Parameters!Q97","v":1},{"$f":"Parameters!R97","v":1},{"$f":"Parameters!S97","v":1},{"$f":"Parameters!T97","v":1},{"$f":"Parameters!U97","v":1},{"$f":"Parameters!V97","v":1},{"$f":"Parameters!W97","v":1},{"$f":"Parameters!X97","v":1},{"$f":"Parameters!Y97","v":1},{"$f":"Parameters!Z97","v":1},{"$f":"Parameters!AA97","v":1},{"$f":"Parameters!AB97","v":1},{"$f":"Parameters!AC97","v":1},{"$f":"Parameters!AD97","v":1},{"$f":"Parameters!AE97","v":1},{"$f":"Parameters!AF97","v":1},{"$f":"Parameters!AG97","v":1},{"$f":"Parameters!AH97","v":1},{"$f":"Parameters!AI97","v":1},{"$f":"Parameters!AJ97","v":1},{"$f":"Parameters!AK97","v":1},{"$f":"Parameters!AL97","v":1},{"$f":"Parameters!AM97","v":1},{"$f":"Parameters!AN97","v":1},{"$f":"Parameters!AO97","v":1},{"$f":"Parameters!AP97","v":1},{"$f":"Parameters!AQ97","v":1},{"$f":"Parameters!AR97","v":1},{"$f":"Parameters!AS97","v":1},{"$f":"Parameters!AT97","v":1},{"$f":"Parameters!AU97","v":1},{"$f":"Parameters!AV97","v":1},{"$f":"Parameters!AW97","v":1},{"$f":"Parameters!AX97","v":1},{"$f":"Parameters!AY97","v":1},{"$f":"Parameters!AZ97","v":1},{"$f":"Parameters!BA97","v":1},{"$f":"Parameters!BB97","v":1},{"$f":"Parameters!BC97","v":1},{"$f":"Parameters!BD97","v":1},{"$f":"Parameters!BE97","v":1},{"$f":"Parameters!BF97","v":1},{"$f":"Parameters!BG97","v":1},{"$f":"Parameters!BH97","v":1},{"$f":"Parameters!BI97","v":1},{"$f":"Parameters!BJ97","v":1},{"$f":"Parameters!BK97","v":1},{"$f":"Parameters!BL97","v":1},{"$f":"Parameters!BM97","v":1},{"$f":"Parameters!BN97","v":1}]
[{"$f":"SETS!B39","v":"PWRWND001S"},{"$f":"Parameters!K98","v":1},{"$f":"Parameters!L98","v":1},{"$f":"Parameters!M98","v":1},{"$f":"Parameters!N98","v":1},{"$f":"Parameters!O98","v":1},{"$f":"Parameters!P98","v":1},{"$f":"Parameters!Q98","v":1},{"$f":"Parameters!R98","v":1},{"$f":"Parameters!S98","v":1},{"$f":"Parameters!T98","v":1},{"$f":"Parameters!U98","v":1},{"$f":"Parameters!V98","v":1},{"$f":"Parameters!W98","v":1},{"$f":"Parameters!X98","v":1},{"$f":"Parameters!Y98","v":1},{"$f":"Parameters!Z98","v":1},{"$f":"Parameters!AA98","v":1},{"$f":"Parameters!AB98","v":1},{"$f":"Parameters!AC98","v":1},{"$f":"Parameters!AD98","v":1},{"$f":"Parameters!AE98","v":1},{"$f":"Parameters!AF98","v":1},{"$f":"Parameters!AG98","v":1},{"$f":"Parameters!AH98","v":1},{"$f":"Parameters!AI98","v":1},{"$f":"Parameters!AJ98","v":1},{"$f":"Parameters!AK98","v":1},{"$f":"Parameters!AL98","v":1},{"$f":"Parameters!AM98","v":1},{"$f":"Parameters!AN98","v":1},{"$f":"Parameters!AO98","v":1},{"$f":"Parameters!AP98","v":1},{"$f":"Parameters!AQ98","v":1},{"$f":"Parameters!AR98","v":1},{"$f":"Parameters!AS98","v":1},{"$f":"Parameters!AT98","v":1},{"$f":"Parameters!AU98","v":1},{"$f":"Parameters!AV98","v":1},{"$f":"Parameters!AW98","v":1},{"$f":"Parameters!AX98","v":1},{"$f":"Parameters!AY98","v":1},{"$f":"Parameters!AZ98","v":1},{"$f":"Parameters!BA98","v":1},{"$f":"Parameters!BB98","v":1},{"$f":"Parameters!BC98","v":1},{"$f":"Parameters!BD98","v":1},{"$f":"Parameters!BE98","v":1},{"$f":"Parameters!BF98","v":1},{"$f":"Parameters!BG98","v":1},{"$f":"Parameters!BH98","v":1},{"$f":"Parameters!BI98","v":1},{"$f":"Parameters!BJ98","v":1},{"$f":"Parameters!BK98","v":1},{"$f":"Parameters!BL98","v":1},{"$f":"Parameters!BM98","v":1},{"$f":"Parameters!BN98","v":1}]
[{"$f":"SETS!B40","v":"PWRTRNIMP"},{"$f":"Parameters!K99","v":1},{"$f":"Parameters!L99","v":1},{"$f":"Parameters!M99","v":1},{"$f":"Parameters!N99","v":1},{"$f":"Parameters!O99","v":1},{"$f":"Parameters!P99","v":1},{"$f":"Parameters!Q99","v":1},{"$f":"Parameters!R99","v":1},{"$f":"Parameters!S99","v":1},{"$f":"Parameters!T99","v":1},{"$f":"Parameters!U99","v":1},{"$f":"Parameters!V99","v":1},{"$f":"Parameters!W99","v":1},{"$f":"Parameters!X99","v":1},{"$f":"Parameters!Y99","v":1},{"$f":"Parameters!Z99","v":1},{"$f":"Parameters!AA99","v":1},{"$f":"Parameters!AB99","v":1},{"$f":"Parameters!AC99","v":1},{"$f":"Parameters!AD99","v":1},{"$f":"Parameters!AE99","v":1},{"$f":"Parameters!AF99","v":1},{"$f":"Parameters!AG99","v":1},{"$f":"Parameters!AH99","v":1},{"$f":"Parameters!AI99","v":1},{"$f":"Parameters!AJ99","v":1},{"$f":"Parameters!AK99","v":1},{"$f":"Parameters!AL99","v":1},{"$f":"Parameters!AM99","v":1},{"$f":"Parameters!AN99","v":1},{"$f":"Parameters!AO99","v":1},{"$f":"Parameters!AP99","v":1},{"$f":"Parameters!AQ99","v":1},{"$f":"Parameters!AR99","v":1},{"$f":"Parameters!AS99","v":1},{"$f":"Parameters!AT99","v":1},{"$f":"Parameters!AU99","v":1},{"$f":"Parameters!AV99","v":1},{"$f":"Parameters!AW99","v":1},{"$f":"Parameters!AX99","v":1},{"$f":"Parameters!AY99","v":1},{"$f":"Parameters!AZ99","v":1},{"$f":"Parameters!BA99","v":1},{"$f":"Parameters!BB99","v":1},{"$f":"Parameters!BC99","v":1},{"$f":"Parameters!BD99","v":1},{"$f":"Parameters!BE99","v":1},{"$f":"Parameters!BF99","v":1},{"$f":"Parameters!BG99","v":1},{"$f":"Parameters!BH99","v":1},{"$f":"Parameters!BI99","v":1},{"$f":"Parameters!BJ99","v":1},{"$f":"Parameters!BK99","v":1},{"$f":"Parameters!BL99","v":1},{"$f":"Parameters!BM99","v":1},{"$f":"Parameters!BN99","v":1}]
[{"$f":"SETS!B41","v":"BACKSTOP001"},{"$f":"Parameters!K100","v":1},{"$f":"Parameters!L100","v":1},{"$f":"Parameters!M100","v":1},{"$f":"Parameters!N100","v":1},{"$f":"Parameters!O100","v":1},{"$f":"Parameters!P100","v":1},{"$f":"Parameters!Q100","v":1},{"$f":"Parameters!R100","v":1},{"$f":"Parameters!S100","v":1},{"$f":"Parameters!T100","v":1},{"$f":"Parameters!U100","v":1},{"$f":"Parameters!V100","v":1},{"$f":"Parameters!W100","v":1},{"$f":"Parameters!X100","v":1},{"$f":"Parameters!Y100","v":1},{"$f":"Parameters!Z100","v":1},{"$f":"Parameters!AA100","v":1},{"$f":"Parameters!AB100","v":1},{"$f":"Parameters!AC100","v":1},{"$f":"Parameters!AD100","v":1},{"$f":"Parameters!AE100","v":1},{"$f":"Parameters!AF100","v":1},{"$f":"Parameters!AG100","v":1},{"$f":"Parameters!AH100","v":1},{"$f":"Parameters!AI100","v":1},{"$f":"Parameters!AJ100","v":1},{"$f":"Parameters!AK100","v":1},{"$f":"Parameters!AL100","v":1},{"$f":"Parameters!AM100","v":1},{"$f":"Parameters!AN100","v":1},{"$f":"Parameters!AO100","v":1},{"$f":"Parameters!AP100","v":1},{"$f":"Parameters!AQ100","v":1},{"$f":"Parameters!AR100","v":1},{"$f":"Parameters!AS100","v":1},{"$f":"Parameters!AT100","v":1},{"$f":"Parameters!AU100","v":1},{"$f":"Parameters!AV100","v":1},{"$f":"Parameters!AW100","v":1},{"$f":"Parameters!AX100","v":1},{"$f":"Parameters!AY100","v":1},{"$f":"Parameters!AZ100","v":1},{"$f":"Parameters!BA100","v":1},{"$f":"Parameters!BB100","v":1},{"$f":"Parameters!BC100","v":1},{"$f":"Parameters!BD100","v":1},{"$f":"Parameters!BE100","v":1},{"$f":"Parameters!BF100","v":1},{"$f":"Parameters!BG100","v":1},{"$f":"Parameters!BH100","v":1},{"$f":"Parameters!BI100","v":1},{"$f":"Parameters!BJ100","v":1},{"$f":"Parameters!BK100","v":1},{"$f":"Parameters!BL100","v":1},{"$f":"Parameters!BM100","v":1},{"$f":"Parameters!BN100","v":1}]
[{"$f":"SETS!B42","v":"PWRTRN"},{"$f":"Parameters!K101","v":1},{"$f":"Parameters!L101","v":1},{"$f":"Parameters!M101","v":1},{"$f":"Parameters!N101","v":1},{"$f":"Parameters!O101","v":1},{"$f":"Parameters!P101","v":1},{"$f":"Parameters!Q101","v":1},{"$f":"Parameters!R101","v":1},{"$f":"Parameters!S101","v":1},{"$f":"Parameters!T101","v":1},{"$f":"Parameters!U101","v":1},{"$f":"Parameters!V101","v":1},{"$f":"Parameters!W101","v":1},{"$f":"Parameters!X101","v":1},{"$f":"Parameters!Y101","v":1},{"$f":"Parameters!Z101","v":1},{"$f":"Parameters!AA101","v":1},{"$f":"Parameters!AB101","v":1},{"$f":"Parameters!AC101","v":1},{"$f":"Parameters!AD101","v":1},{"$f":"Parameters!AE101","v":1},{"$f":"Parameters!AF101","v":1},{"$f":"Parameters!AG101","v":1},{"$f":"Parameters!AH101","v":1},{"$f":"Parameters!AI101","v":1},{"$f":"Parameters!AJ101","v":1},{"$f":"Parameters!AK101","v":1},{"$f":"Parameters!AL101","v":1},{"$f":"Parameters!AM101","v":1},{"$f":"Parameters!AN101","v":1},{"$f":"Parameters!AO101","v":1},{"$f":"Parameters!AP101","v":1},{"$f":"Parameters!AQ101","v":1},{"$f":"Parameters!AR101","v":1},{"$f":"Parameters!AS101","v":1},{"$f":"Parameters!AT101","v":1},{"$f":"Parameters!AU101","v":1},{"$f":"Parameters!AV101","v":1},{"$f":"Parameters!AW101","v":1},{"$f":"Parameters!AX101","v":1},{"$f":"Parameters!AY101","v":1},{"$f":"Parameters!AZ101","v":1},{"$f":"Parameters!BA101","v":1},{"$f":"Parameters!BB101","v":1},{"$f":"Parameters!BC101","v":1},{"$f":"Parameters!BD101","v":1},{"$f":"Parameters!BE101","v":1},{"$f":"Parameters!BF101","v":1},{"$f":"Parameters!BG101","v":1},{"$f":"Parameters!BH101","v":1},{"$f":"Parameters!BI101","v":1},{"$f":"Parameters!BJ101","v":1},{"$f":"Parameters!BK101","v":1},{"$f":"Parameters!BL101","v":1},{"$f":"Parameters!BM101","v":1},{"$f":"Parameters!BN101","v":1}]
[{"$f":"SETS!B43","v":"PWRDIST"},{"$f":"Parameters!K102","v":1},{"$f":"Parameters!L102","v":1},{"$f":"Parameters!M102","v":1},{"$f":"Parameters!N102","v":1},{"$f":"Parameters!O102","v":1},{"$f":"Parameters!P102","v":1},{"$f":"Parameters!Q102","v":1},{"$f":"Parameters!R102","v":1},{"$f":"Parameters!S102","v":1},{"$f":"Parameters!T102","v":1},{"$f":"Parameters!U102","v":1},{"$f":"Parameters!V102","v":1},{"$f":"Parameters!W102","v":1},{"$f":"Parameters!X102","v":1},{"$f":"Parameters!Y102","v":1},{"$f":"Parameters!Z102","v":1},{"$f":"Parameters!AA102","v":1},{"$f":"Parameters!AB102","v":1},{"$f":"Parameters!AC102","v":1},{"$f":"Parameters!AD102","v":1},{"$f":"Parameters!AE102","v":1},{"$f":"Parameters!AF102","v":1},{"$f":"Parameters!AG102","v":1},{"$f":"Parameters!AH102","v":1},{"$f":"Parameters!AI102","v":1},{"$f":"Parameters!AJ102","v":1},{"$f":"Parameters!AK102","v":1},{"$f":"Parameters!AL102","v":1},{"$f":"Parameters!AM102","v":1},{"$f":"Parameters!AN102","v":1},{"$f":"Parameters!AO102","v":1},{"$f":"Parameters!AP102","v":1},{"$f":"Parameters!AQ102","v":1},{"$f":"Parameters!AR102","v":1},{"$f":"Parameters!AS102","v":1},{"$f":"Parameters!AT102","v":1},{"$f":"Parameters!AU102","v":1},{"$f":"Parameters!AV102","v":1},{"$f":"Parameters!AW102","v":1},{"$f":"Parameters!AX102","v":1},{"$f":"Parameters!AY102","v":1},{"$f":"Parameters!AZ102","v":1},{"$f":"Parameters!BA102","v":1},{"$f":"Parameters!BB102","v":1},{"$f":"Parameters!BC102","v":1},{"$f":"Parameters!BD102","v":1},{"$f":"Parameters!BE102","v":1},{"$f":"Parameters!BF102","v":1},{"$f":"Parameters!BG102","v":1},{"$f":"Parameters!BH102","v":1},{"$f":"Parameters!BI102","v":1},{"$f":"Parameters!BJ102","v":1},{"$f":"Parameters!BK102","v":1},{"$f":"Parameters!BL102","v":1},{"$f":"Parameters!BM102","v":1},{"$f":"Parameters!BN102","v":1}]
[{"$f":"SETS!B44","v":"PWROHC003"},{"$f":"Parameters!K103","v":1},{"$f":"Parameters!L103","v":1},{"$f":"Parameters!M103","v":1},{"$f":"Parameters!N103","v":1},{"$f":"Parameters!O103","v":1},{"$f":"Parameters!P103","v":1},{"$f":"Parameters!Q103","v":1},{"$f":"Parameters!R103","v":1},{"$f":"Parameters!S103","v":1},{"$f":"Parameters!T103","v":1},{"$f":"Parameters!U103","v":1},{"$f":"Parameters!V103","v":1},{"$f":"Parameters!W103","v":1},{"$f":"Parameters!X103","v":1},{"$f":"Parameters!Y103","v":1},{"$f":"Parameters!Z103","v":1},{"$f":"Parameters!AA103","v":1},{"$f":"Parameters!AB103","v":1},{"$f":"Parameters!AC103","v":1},{"$f":"Parameters!AD103","v":1},{"$f":"Parameters!AE103","v":1},{"$f":"Parameters!AF103","v":1},{"$f":"Parameters!AG103","v":1},{"$f":"Parameters!AH103","v":1},{"$f":"Parameters!AI103","v":1},{"$f":"Parameters!AJ103","v":1},{"$f":"Parameters!AK103","v":1},{"$f":"Parameters!AL103","v":1},{"$f":"Parameters!AM103","v":1},{"$f":"Parameters!AN103","v":1},{"$f":"Parameters!AO103","v":1},{"$f":"Parameters!AP103","v":1},{"$f":"Parameters!AQ103","v":1},{"$f":"Parameters!AR103","v":1},{"$f":"Parameters!AS103","v":1},{"$f":"Parameters!AT103","v":1},{"$f":"Parameters!AU103","v":1},{"$f":"Parameters!AV103","v":1},{"$f":"Parameters!AW103","v":1},{"$f":"Parameters!AX103","v":1},{"$f":"Parameters!AY103","v":1},{"$f":"Parameters!AZ103","v":1},{"$f":"Parameters!BA103","v":1},{"$f":"Parameters!BB103","v":1},{"$f":"Parameters!BC103","v":1},{"$f":"Parameters!BD103","v":1},{"$f":"Parameters!BE103","v":1},{"$f":"Parameters!BF103","v":1},{"$f":"Parameters!BG103","v":1},{"$f":"Parameters!BH103","v":1},{"$f":"Parameters!BI103","v":1},{"$f":"Parameters!BJ103","v":1},{"$f":"Parameters!BK103","v":1},{"$f":"Parameters!BL103","v":1},{"$f":"Parameters!BM103","v":1},{"$f":"Parameters!BN103","v":1}]
[{"$f":"SETS!B45","v":"PWRSOL002"},{"$f":"Parameters!K104","v":1},{"$f":"Parameters!L104","v":1},{"$f":"Parameters!M104","v":1},{"$f":"Parameters!N104","v":1},{"$f":"Parameters!O104","v":1},{"$f":"Parameters!P104","v":1},{"$f":"Parameters!Q104","v":1},{"$f":"Parameters!R104","v":1},{"$f":"Parameters!S104","v":1},{"$f":"Parameters!T104","v":1},{"$f":"Parameters!U104","v":1},{"$f":"Parameters!V104","v":1},{"$f":"Parameters!W104","v":1},{"$f":"Parameters!X104","v":1},{"$f":"Parameters!Y104","v":1},{"$f":"Parameters!Z104","v":1},{"$f":"Parameters!AA104","v":1},{"$f":"Parameters!AB104","v":1},{"$f":"Parameters!AC104","v":1},{"$f":"Parameters!AD104","v":1},{"$f":"Parameters!AE104","v":1},{"$f":"Parameters!AF104","v":1},{"$f":"Parameters!AG104","v":1},{"$f":"Parameters!AH104","v":1},{"$f":"Parameters!AI104","v":1},{"$f":"Parameters!AJ104","v":1},{"$f":"Parameters!AK104","v":1},{"$f":"Parameters!AL104","v":1},{"$f":"Parameters!AM104","v":1},{"$f":"Parameters!AN104","v":1},{"$f":"Parameters!AO104","v":1},{"$f":"Parameters!AP104","v":1},{"$f":"Parameters!AQ104","v":1},{"$f":"Parameters!AR104","v":1},{"$f":"Parameters!AS104","v":1},{"$f":"Parameters!AT104","v":1},{"$f":"Parameters!AU104","v":1},{"$f":"Parameters!AV104","v":1},{"$f":"Parameters!AW104","v":1},{"$f":"Parameters!AX104","v":1},{"$f":"Parameters!AY104","v":1},{"$f":"Parameters!AZ104","v":1},{"$f":"Parameters!BA104","v":1},{"$f":"Parameters!BB104","v":1},{"$f":"Parameters!BC104","v":1},{"$f":"Parameters!BD104","v":1},{"$f":"Parameters!BE104","v":1},{"$f":"Parameters!BF104","v":1},{"$f":"Parameters!BG104","v":1},{"$f":"Parameters!BH104","v":1},{"$f":"Parameters!BI104","v":1},{"$f":"Parameters!BJ104","v":1},{"$f":"Parameters!BK104","v":1},{"$f":"Parameters!BL104","v":1},{"$f":"Parameters!BM104","v":1},{"$f":"Parameters!BN104","v":1}]
[{"$f":"SETS!B46","v":"PWRHYD004"},{"$f":"Parameters!K105","v":1},{"$f":"Parameters!L105","v":1},{"$f":"Parameters!M105","v":1},{"$f":"Parameters!N105","v":1},{"$f":"Parameters!O105","v":1},{"$f":"Parameters!P105","v":1},{"$f":"Parameters!Q105","v":1},{"$f":"Parameters!R105","v":1},{"$f":"Parameters!S105","v":1},{"$f":"Parameters!T105","v":1},{"$f":"Parameters!U105","v":1},{"$f":"Parameters!V105","v":1},{"$f":"Parameters!W105","v":1},{"$f":"Parameters!X105","v":1},{"$f":"Parameters!Y105","v":1},{"$f":"Parameters!Z105","v":1},{"$f":"Parameters!AA105","v":1},{"$f":"Parameters!AB105","v":1},{"$f":"Parameters!AC105","v":1},{"$f":"Parameters!AD105","v":1},{"$f":"Parameters!AE105","v":1},{"$f":"Parameters!AF105","v":1},{"$f":"Parameters!AG105","v":1},{"$f":"Parameters!AH105","v":1},{"$f":"Parameters!AI105","v":1},{"$f":"Parameters!AJ105","v":1},{"$f":"Parameters!AK105","v":1},{"$f":"Parameters!AL105","v":1},{"$f":"Parameters!AM105","v":1},{"$f":"Parameters!AN105","v":1},{"$f":"Parameters!AO105","v":1},{"$f":"Parameters!AP105","v":1},{"$f":"Parameters!AQ105","v":1},{"$f":"Parameters!AR105","v":1},{"$f":"Parameters!AS105","v":1},{"$f":"Parameters!AT105","v":1},{"$f":"Parameters!AU105","v":1},{"$f":"Parameters!AV105","v":1},{"$f":"Parameters!AW105","v":1},{"$f":"Parameters!AX105","v":1},{"$f":"Parameters!AY105","v":1},{"$f":"Parameters!AZ105","v":1},{"$f":"Parameters!BA105","v":1},{"$f":"Parameters!BB105","v":1},{"$f":"Parameters!BC105","v":1},{"$f":"Parameters!BD105","v":1},{"$f":"Parameters!BE105","v":1},{"$f":"Parameters!BF105","v":1},{"$f":"Parameters!BG105","v":1},{"$f":"Parameters!BH105","v":1},{"$f":"Parameters!BI105","v":1},{"$f":"Parameters!BJ105","v":1},{"$f":"Parameters!BK105","v":1},{"$f":"Parameters!BL105","v":1},{"$f":"Parameters!BM105","v":1},{"$f":"Parameters!BN105","v":1}]
[{"$f":"SETS!B47","v":"PWRTRNEXP"},{"$f":"Parameters!K106","v":1},{"$f":"Parameters!L106","v":1},{"$f":"Parameters!M106","v":1},{"$f":"Parameters!N106","v":1},{"$f":"Parameters!O106","v":1},{"$f":"Parameters!P106","v":1},{"$f":"Parameters!Q106","v":1},{"$f":"Parameters!R106","v":1},{"$f":"Parameters!S106","v":1},{"$f":"Parameters!T106","v":1},{"$f":"Parameters!U106","v":1},{"$f":"Parameters!V106","v":1},{"$f":"Parameters!W106","v":1},{"$f":"Parameters!X106","v":1},{"$f":"Parameters!Y106","v":1},{"$f":"Parameters!Z106","v":1},{"$f":"Parameters!AA106","v":1},{"$f":"Parameters!AB106","v":1},{"$f":"Parameters!AC106","v":1},{"$f":"Parameters!AD106","v":1},{"$f":"Parameters!AE106","v":1},{"$f":"Parameters!AF106","v":1},{"$f":"Parameters!AG106","v":1},{"$f":"Parameters!AH106","v":1},{"$f":"Parameters!AI106","v":1},{"$f":"Parameters!AJ106","v":1},{"$f":"Parameters!AK106","v":1},{"$f":"Parameters!AL106","v":1},{"$f":"Parameters!AM106","v":1},{"$f":"Parameters!AN106","v":1},{"$f":"Parameters!AO106","v":1},{"$f":"Parameters!AP106","v":1},{"$f":"Parameters!AQ106","v":1},{"$f":"Parameters!AR106","v":1},{"$f":"Parameters!AS106","v":1},{"$f":"Parameters!AT106","v":1},{"$f":"Parameters!AU106","v":1},{"$f":"Parameters!AV106","v":1},{"$f":"Parameters!AW106","v":1},{"$f":"Parameters!AX106","v":1},{"$f":"Parameters!AY106","v":1},{"$f":"Parameters!AZ106","v":1},{"$f":"Parameters!BA106","v":1},{"$f":"Parameters!BB106","v":1},{"$f":"Parameters!BC106","v":1},{"$f":"Parameters!BD106","v":1},{"$f":"Parameters!BE106","v":1},{"$f":"Parameters!BF106","v":1},{"$f":"Parameters!BG106","v":1},{"$f":"Parameters!BH106","v":1},{"$f":"Parameters!BI106","v":1},{"$f":"Parameters!BJ106","v":1},{"$f":"Parameters!BK106","v":1},{"$f":"Parameters!BL106","v":1},{"$f":"Parameters!BM106","v":1},{"$f":"Parameters!BN106","v":1}]
[{"$f":"SETS!B48","v":"BACKSTOP002"},{"$f":"Parameters!K107","v":1},{"$f":"Parameters!L107","v":1},{"$f":"Parameters!M107","v":1},{"$f":"Parameters!N107","v":1},{"$f":"Parameters!O107","v":1},{"$f":"Parameters!P107","v":1},{"$f":"Parameters!Q107","v":1},{"$f":"Parameters!R107","v":1},{"$f":"Parameters!S107","v":1},{"$f":"Parameters!T107","v":1},{"$f":"Parameters!U107","v":1},{"$f":"Parameters!V107","v":1},{"$f":"Parameters!W107","v":1},{"$f":"Parameters!X107","v":1},{"$f":"Parameters!Y107","v":1},{"$f":"Parameters!Z107","v":1},{"$f":"Parameters!AA107","v":1},{"$f":"Parameters!AB107","v":1},{"$f":"Parameters!AC107","v":1},{"$f":"Parameters!AD107","v":1},{"$f":"Parameters!AE107","v":1},{"$f":"Parameters!AF107","v":1},{"$f":"Parameters!AG107","v":1},{"$f":"Parameters!AH107","v":1},{"$f":"Parameters!AI107","v":1},{"$f":"Parameters!AJ107","v":1},{"$f":"Parameters!AK107","v":1},{"$f":"Parameters!AL107","v":1},{"$f":"Parameters!AM107","v":1},{"$f":"Parameters!AN107","v":1},{"$f":"Parameters!AO107","v":1},{"$f":"Parameters!AP107","v":1},{"$f":"Parameters!AQ107","v":1},{"$f":"Parameters!AR107","v":1},{"$f":"Parameters!AS107","v":1},{"$f":"Parameters!AT107","v":1},{"$f":"Parameters!AU107","v":1},{"$f":"Parameters!AV107","v":1},{"$f":"Parameters!AW107","v":1},{"$f":"Parameters!AX107","v":1},{"$f":"Parameters!AY107","v":1},{"$f":"Parameters!AZ107","v":1},{"$f":"Parameters!BA107","v":1},{"$f":"Parameters!BB107","v":1},{"$f":"Parameters!BC107","v":1},{"$f":"Parameters!BD107","v":1},{"$f":"Parameters!BE107","v":1},{"$f":"Parameters!BF107","v":1},{"$f":"Parameters!BG107","v":1},{"$f":"Parameters!BH107","v":1},{"$f":"Parameters!BI107","v":1},{"$f":"Parameters!BJ107","v":1},{"$f":"Parameters!BK107","v":1},{"$f":"Parameters!BL107","v":1},{"$f":"Parameters!BM107","v":1},{"$f":"Parameters!BN107","v":1}]
[{"$f":"SETS!B49","v":"DEMTRAEVC"},{"$f":"Parameters!K108","v":1},{"$f":"Parameters!L108","v":1},{"$f":"Parameters!M108","v":1},{"$f":"Parameters!N108","v":1},{"$f":"Parameters!O108","v":1},{"$f":"Parameters!P108","v":1},{"$f":"Parameters!Q108","v":1},{"$f":"Parameters!R108","v":1},{"$f":"Parameters!S108","v":1},{"$f":"Parameters!T108","v":1},{"$f":"Parameters!U108","v":1},{"$f":"Parameters!V108","v":1},{"$f":"Parameters!W108","v":1},{"$f":"Parameters!X108","v":1},{"$f":"Parameters!Y108","v":1},{"$f":"Parameters!Z108","v":1},{"$f":"Parameters!AA108","v":1},{"$f":"Parameters!AB108","v":1},{"$f":"Parameters!AC108","v":1},{"$f":"Parameters!AD108","v":1},{"$f":"Parameters!AE108","v":1},{"$f":"Parameters!AF108","v":1},{"$f":"Parameters!AG108","v":1},{"$f":"Parameters!AH108","v":1},{"$f":"Parameters!AI108","v":1},{"$f":"Parameters!AJ108","v":1},{"$f":"Parameters!AK108","v":1},{"$f":"Parameters!AL108","v":1},{"$f":"Parameters!AM108","v":1},{"$f":"Parameters!AN108","v":1},{"$f":"Parameters!AO108","v":1},{"$f":"Parameters!AP108","v":1},{"$f":"Parameters!AQ108","v":1},{"$f":"Parameters!AR108","v":1},{"$f":"Parameters!AS108","v":1},{"$f":"Parameters!AT108","v":1},{"$f":"Parameters!AU108","v":1},{"$f":"Parameters!AV108","v":1},{"$f":"Parameters!AW108","v":1},{"$f":"Parameters!AX108","v":1},{"$f":"Parameters!AY108","v":1},{"$f":"Parameters!AZ108","v":1},{"$f":"Parameters!BA108","v":1},{"$f":"Parameters!BB108","v":1},{"$f":"Parameters!BC108","v":1},{"$f":"Parameters!BD108","v":1},{"$f":"Parameters!BE108","v":1},{"$f":"Parameters!BF108","v":1},{"$f":"Parameters!BG108","v":1},{"$f":"Parameters!BH108","v":1},{"$f":"Parameters!BI108","v":1},{"$f":"Parameters!BJ108","v":1},{"$f":"Parameters!BK108","v":1},{"$f":"Parameters!BL108","v":1},{"$f":"Parameters!BM108","v":1},{"$f":"Parameters!BN108","v":1}]
[{"$f":"SETS!B50","v":"DEMTRAMCYELC"},{"$f":"Parameters!K109","v":1},{"$f":"Parameters!L109","v":1},{"$f":"Parameters!M109","v":1},{"$f":"Parameters!N109","v":1},{"$f":"Parameters!O109","v":1},{"$f":"Parameters!P109","v":1},{"$f":"Parameters!Q109","v":1},{"$f":"Parameters!R109","v":1},{"$f":"Parameters!S109","v":1},{"$f":"Parameters!T109","v":1},{"$f":"Parameters!U109","v":1},{"$f":"Parameters!V109","v":1},{"$f":"Parameters!W109","v":1},{"$f":"Parameters!X109","v":1},{"$f":"Parameters!Y109","v":1},{"$f":"Parameters!Z109","v":1},{"$f":"Parameters!AA109","v":1},{"$f":"Parameters!AB109","v":1},{"$f":"Parameters!AC109","v":1},{"$f":"Parameters!AD109","v":1},{"$f":"Parameters!AE109","v":1},{"$f":"Parameters!AF109","v":1},{"$f":"Parameters!AG109","v":1},{"$f":"Parameters!AH109","v":1},{"$f":"Parameters!AI109","v":1},{"$f":"Parameters!AJ109","v":1},{"$f":"Parameters!AK109","v":1},{"$f":"Parameters!AL109","v":1},{"$f":"Parameters!AM109","v":1},{"$f":"Parameters!AN109","v":1},{"$f":"Parameters!AO109","v":1},{"$f":"Parameters!AP109","v":1},{"$f":"Parameters!AQ109","v":1},{"$f":"Parameters!AR109","v":1},{"$f":"Parameters!AS109","v":1},{"$f":"Parameters!AT109","v":1},{"$f":"Parameters!AU109","v":1},{"$f":"Parameters!AV109","v":1},{"$f":"Parameters!AW109","v":1},{"$f":"Parameters!AX109","v":1},{"$f":"Parameters!AY109","v":1},{"$f":"Parameters!AZ109","v":1},{"$f":"Parameters!BA109","v":1},{"$f":"Parameters!BB109","v":1},{"$f":"Parameters!BC109","v":1},{"$f":"Parameters!BD109","v":1},{"$f":"Parameters!BE109","v":1},{"$f":"Parameters!BF109","v":1},{"$f":"Parameters!BG109","v":1},{"$f":"Parameters!BH109","v":1},{"$f":"Parameters!BI109","v":1},{"$f":"Parameters!BJ109","v":1},{"$f":"Parameters!BK109","v":1},{"$f":"Parameters!BL109","v":1},{"$f":"Parameters!BM109","v":1},{"$f":"Parameters!BN109","v":1}]
[{"$f":"SETS!B51","v":"DEMTRACARELC"},{"$f":"Parameters!K110","v":1},{"$f":"Parameters!L110","v":1},{"$f":"Parameters!M110","v":1},{"$f":"Parameters!N110","v":1},{"$f":"Parameters!O110","v":1},{"$f":"Parameters!P110","v":1},{"$f":"Parameters!Q110","v":1},{"$f":"Parameters!R110","v":1},{"$f":"Parameters!S110","v":1},{"$f":"Parameters!T110","v":1},{"$f":"Parameters!U110","v":1},{"$f":"Parameters!V110","v":1},{"$f":"Parameters!W110","v":1},{"$f":"Parameters!X110","v":1},{"$f":"Parameters!Y110","v":1},{"$f":"Parameters!Z110","v":1},{"$f":"Parameters!AA110","v":1},{"$f":"Parameters!AB110","v":1},{"$f":"Parameters!AC110","v":1},{"$f":"Parameters!AD110","v":1},{"$f":"Parameters!AE110","v":1},{"$f":"Parameters!AF110","v":1},{"$f":"Parameters!AG110","v":1},{"$f":"Parameters!AH110","v":1},{"$f":"Parameters!AI110","v":1},{"$f":"Parameters!AJ110","v":1},{"$f":"Parameters!AK110","v":1},{"$f":"Parameters!AL110","v":1},{"$f":"Parameters!AM110","v":1},{"$f":"Parameters!AN110","v":1},{"$f":"Parameters!AO110","v":1},{"$f":"Parameters!AP110","v":1},{"$f":"Parameters!AQ110","v":1},{"$f":"Parameters!AR110","v":1},{"$f":"Parameters!AS110","v":1},{"$f":"Parameters!AT110","v":1},{"$f":"Parameters!AU110","v":1},{"$f":"Parameters!AV110","v":1},{"$f":"Parameters!AW110","v":1},{"$f":"Parameters!AX110","v":1},{"$f":"Parameters!AY110","v":1},{"$f":"Parameters!AZ110","v":1},{"$f":"Parameters!BA110","v":1},{"$f":"Parameters!BB110","v":1},{"$f":"Parameters!BC110","v":1},{"$f":"Parameters!BD110","v":1},{"$f":"Parameters!BE110","v":1},{"$f":"Parameters!BF110","v":1},{"$f":"Parameters!BG110","v":1},{"$f":"Parameters!BH110","v":1},{"$f":"Parameters!BI110","v":1},{"$f":"Parameters!BJ110","v":1},{"$f":"Parameters!BK110","v":1},{"$f":"Parameters!BL110","v":1},{"$f":"Parameters!BM110","v":1},{"$f":"Parameters!BN110","v":1}]
[{"$f":"SETS!B52","v":"DEMTRABUSELC"},{"$f":"Parameters!K111","v":1},{"$f":"Parameters!L111","v":1},{"$f":"Parameters!M111","v":1},{"$f":"Parameters!N111","v":1},{"$f":"Parameters!O111","v":1},{"$f":"Parameters!P111","v":1},{"$f":"Parameters!Q111","v":1},{"$f":"Parameters!R111","v":1},{"$f":"Parameters!S111","v":1},{"$f":"Parameters!T111","v":1},{"$f":"Parameters!U111","v":1},{"$f":"Parameters!V111","v":1},{"$f":"Parameters!W111","v":1},{"$f":"Parameters!X111","v":1},{"$f":"Parameters!Y111","v":1},{"$f":"Parameters!Z111","v":1},{"$f":"Parameters!AA111","v":1},{"$f":"Parameters!AB111","v":1},{"$f":"Parameters!AC111","v":1},{"$f":"Parameters!AD111","v":1},{"$f":"Parameters!AE111","v":1},{"$f":"Parameters!AF111","v":1},{"$f":"Parameters!AG111","v":1},{"$f":"Parameters!AH111","v":1},{"$f":"Parameters!AI111","v":1},{"$f":"Parameters!AJ111","v":1},{"$f":"Parameters!AK111","v":1},{"$f":"Parameters!AL111","v":1},{"$f":"Parameters!AM111","v":1},{"$f":"Parameters!AN111","v":1},{"$f":"Parameters!AO111","v":1},{"$f":"Parameters!AP111","v":1},{"$f":"Parameters!AQ111","v":1},{"$f":"Parameters!AR111","v":1},{"$f":"Parameters!AS111","v":1},{"$f":"Parameters!AT111","v":1},{"$f":"Parameters!AU111","v":1},{"$f":"Parameters!AV111","v":1},{"$f":"Parameters!AW111","v":1},{"$f":"Parameters!AX111","v":1},{"$f":"Parameters!AY111","v":1},{"$f":"Parameters!AZ111","v":1},{"$f":"Parameters!BA111","v":1},{"$f":"Parameters!BB111","v":1},{"$f":"Parameters!BC111","v":1},{"$f":"Parameters!BD111","v":1},{"$f":"Parameters!BE111","v":1},{"$f":"Parameters!BF111","v":1},{"$f":"Parameters!BG111","v":1},{"$f":"Parameters!BH111","v":1},{"$f":"Parameters!BI111","v":1},{"$f":"Parameters!BJ111","v":1},{"$f":"Parameters!BK111","v":1},{"$f":"Parameters!BL111","v":1},{"$f":"Parameters!BM111","v":1},{"$f":"Parameters!BN111","v":1}]
[{"$f":"SETS!B53","v":"DEMTRAMCYGSL"},{"$f":"Parameters!K112","v":1},{"$f":"Parameters!L112","v":1},{"$f":"Parameters!M112","v":1},{"$f":"Parameters!N112","v":1},{"$f":"Parameters!O112","v":1},{"$f":"Parameters!P112","v":1},{"$f":"Parameters!Q112","v":1},{"$f":"Parameters!R112","v":1},{"$f":"Parameters!S112","v":1},{"$f":"Parameters!T112","v":1},{"$f":"Parameters!U112","v":1},{"$f":"Parameters!V112","v":1},{"$f":"Parameters!W112","v":1},{"$f":"Parameters!X112","v":1},{"$f":"Parameters!Y112","v":1},{"$f":"Parameters!Z112","v":1},{"$f":"Parameters!AA112","v":1},{"$f":"Parameters!AB112","v":1},{"$f":"Parameters!AC112","v":1},{"$f":"Parameters!AD112","v":1},{"$f":"Parameters!AE112","v":1},{"$f":"Parameters!AF112","v":1},{"$f":"Parameters!AG112","v":1},{"$f":"Parameters!AH112","v":1},{"$f":"Parameters!AI112","v":1},{"$f":"Parameters!AJ112","v":1},{"$f":"Parameters!AK112","v":1},{"$f":"Parameters!AL112","v":1},{"$f":"Parameters!AM112","v":1},{"$f":"Parameters!AN112","v":1},{"$f":"Parameters!AO112","v":1},{"$f":"Parameters!AP112","v":1},{"$f":"Parameters!AQ112","v":1},{"$f":"Parameters!AR112","v":1},{"$f":"Parameters!AS112","v":1},{"$f":"Parameters!AT112","v":1},{"$f":"Parameters!AU112","v":1},{"$f":"Parameters!AV112","v":1},{"$f":"Parameters!AW112","v":1},{"$f":"Parameters!AX112","v":1},{"$f":"Parameters!AY112","v":1},{"$f":"Parameters!AZ112","v":1},{"$f":"Parameters!BA112","v":1},{"$f":"Parameters!BB112","v":1},{"$f":"Parameters!BC112","v":1},{"$f":"Parameters!BD112","v":1},{"$f":"Parameters!BE112","v":1},{"$f":"Parameters!BF112","v":1},{"$f":"Parameters!BG112","v":1},{"$f":"Parameters!BH112","v":1},{"$f":"Parameters!BI112","v":1},{"$f":"Parameters!BJ112","v":1},{"$f":"Parameters!BK112","v":1},{"$f":"Parameters!BL112","v":1},{"$f":"Parameters!BM112","v":1},{"$f":"Parameters!BN112","v":1}]
[{"$f":"SETS!B54","v":"DEMTRACARGSL"},{"$f":"Parameters!K113","v":1},{"$f":"Parameters!L113","v":1},{"$f":"Parameters!M113","v":1},{"$f":"Parameters!N113","v":1},{"$f":"Parameters!O113","v":1},{"$f":"Parameters!P113","v":1},{"$f":"Parameters!Q113","v":1},{"$f":"Parameters!R113","v":1},{"$f":"Parameters!S113","v":1},{"$f":"Parameters!T113","v":1},{"$f":"Parameters!U113","v":1},{"$f":"Parameters!V113","v":1},{"$f":"Parameters!W113","v":1},{"$f":"Parameters!X113","v":1},{"$f":"Parameters!Y113","v":1},{"$f":"Parameters!Z113","v":1},{"$f":"Parameters!AA113","v":1},{"$f":"Parameters!AB113","v":1},{"$f":"Parameters!AC113","v":1},{"$f":"Parameters!AD113","v":1},{"$f":"Parameters!AE113","v":1},{"$f":"Parameters!AF113","v":1},{"$f":"Parameters!AG113","v":1},{"$f":"Parameters!AH113","v":1},{"$f":"Parameters!AI113","v":1},{"$f":"Parameters!AJ113","v":1},{"$f":"Parameters!AK113","v":1},{"$f":"Parameters!AL113","v":1},{"$f":"Parameters!AM113","v":1},{"$f":"Parameters!AN113","v":1},{"$f":"Parameters!AO113","v":1},{"$f":"Parameters!AP113","v":1},{"$f":"Parameters!AQ113","v":1},{"$f":"Parameters!AR113","v":1},{"$f":"Parameters!AS113","v":1},{"$f":"Parameters!AT113","v":1},{"$f":"Parameters!AU113","v":1},{"$f":"Parameters!AV113","v":1},{"$f":"Parameters!AW113","v":1},{"$f":"Parameters!AX113","v":1},{"$f":"Parameters!AY113","v":1},{"$f":"Parameters!AZ113","v":1},{"$f":"Parameters!BA113","v":1},{"$f":"Parameters!BB113","v":1},{"$f":"Parameters!BC113","v":1},{"$f":"Parameters!BD113","v":1},{"$f":"Parameters!BE113","v":1},{"$f":"Parameters!BF113","v":1},{"$f":"Parameters!BG113","v":1},{"$f":"Parameters!BH113","v":1},{"$f":"Parameters!BI113","v":1},{"$f":"Parameters!BJ113","v":1},{"$f":"Parameters!BK113","v":1},{"$f":"Parameters!BL113","v":1},{"$f":"Parameters!BM113","v":1},{"$f":"Parameters!BN113","v":1}]
[{"$f":"SETS!B55","v":"DEMTRABUSGSL"},{"$f":"Parameters!K114","v":1},{"$f":"Parameters!L114","v":1},{"$f":"Parameters!M114","v":1},{"$f":"Parameters!N114","v":1},{"$f":"Parameters!O114","v":1},{"$f":"Parameters!P114","v":1},{"$f":"Parameters!Q114","v":1},{"$f":"Parameters!R114","v":1},{"$f":"Parameters!S114","v":1},{"$f":"Parameters!T114","v":1},{"$f":"Parameters!U114","v":1},{"$f":"Parameters!V114","v":1},{"$f":"Parameters!W114","v":1},{"$f":"Parameters!X114","v":1},{"$f":"Parameters!Y114","v":1},{"$f":"Parameters!Z114","v":1},{"$f":"Parameters!AA114","v":1},{"$f":"Parameters!AB114","v":1},{"$f":"Parameters!AC114","v":1},{"$f":"Parameters!AD114","v":1},{"$f":"Parameters!AE114","v":1},{"$f":"Parameters!AF114","v":1},{"$f":"Parameters!AG114","v":1},{"$f":"Parameters!AH114","v":1},{"$f":"Parameters!AI114","v":1},{"$f":"Parameters!AJ114","v":1},{"$f":"Parameters!AK114","v":1},{"$f":"Parameters!AL114","v":1},{"$f":"Parameters!AM114","v":1},{"$f":"Parameters!AN114","v":1},{"$f":"Parameters!AO114","v":1},{"$f":"Parameters!AP114","v":1},{"$f":"Parameters!AQ114","v":1},{"$f":"Parameters!AR114","v":1},{"$f":"Parameters!AS114","v":1},{"$f":"Parameters!AT114","v":1},{"$f":"Parameters!AU114","v":1},{"$f":"Parameters!AV114","v":1},{"$f":"Parameters!AW114","v":1},{"$f":"Parameters!AX114","v":1},{"$f":"Parameters!AY114","v":1},{"$f":"Parameters!AZ114","v":1},{"$f":"Parameters!BA114","v":1},{"$f":"Parameters!BB114","v":1},{"$f":"Parameters!BC114","v":1},{"$f":"Parameters!BD114","v":1},{"$f":"Parameters!BE114","v":1},{"$f":"Parameters!BF114","v":1},{"$f":"Parameters!BG114","v":1},{"$f":"Parameters!BH114","v":1},{"$f":"Parameters!BI114","v":1},{"$f":"Parameters!BJ114","v":1},{"$f":"Parameters!BK114","v":1},{"$f":"Parameters!BL114","v":1},{"$f":"Parameters!BM114","v":1},{"$f":"Parameters!BN114","v":1}]
[{"$f":"SETS!B56","v":"DEMINDELC"},{"$f":"Parameters!K115","v":1},{"$f":"Parameters!L115","v":1},{"$f":"Parameters!M115","v":1},{"$f":"Parameters!N115","v":1},{"$f":"Parameters!O115","v":1},{"$f":"Parameters!P115","v":1},{"$f":"Parameters!Q115","v":1},{"$f":"Parameters!R115","v":1},{"$f":"Parameters!S115","v":1},{"$f":"Parameters!T115","v":1},{"$f":"Parameters!U115","v":1},{"$f":"Parameters!V115","v":1},{"$f":"Parameters!W115","v":1},{"$f":"Parameters!X115","v":1},{"$f":"Parameters!Y115","v":1},{"$f":"Parameters!Z115","v":1},{"$f":"Parameters!AA115","v":1},{"$f":"Parameters!AB115","v":1},{"$f":"Parameters!AC115","v":1},{"$f":"Parameters!AD115","v":1},{"$f":"Parameters!AE115","v":1},{"$f":"Parameters!AF115","v":1},{"$f":"Parameters!AG115","v":1},{"$f":"Parameters!AH115","v":1},{"$f":"Parameters!AI115","v":1},{"$f":"Parameters!AJ115","v":1},{"$f":"Parameters!AK115","v":1},{"$f":"Parameters!AL115","v":1},{"$f":"Parameters!AM115","v":1},{"$f":"Parameters!AN115","v":1},{"$f":"Parameters!AO115","v":1},{"$f":"Parameters!AP115","v":1},{"$f":"Parameters!AQ115","v":1},{"$f":"Parameters!AR115","v":1},{"$f":"Parameters!AS115","v":1},{"$f":"Parameters!AT115","v":1},{"$f":"Parameters!AU115","v":1},{"$f":"Parameters!AV115","v":1},{"$f":"Parameters!AW115","v":1},{"$f":"Parameters!AX115","v":1},{"$f":"Parameters!AY115","v":1},{"$f":"Parameters!AZ115","v":1},{"$f":"Parameters!BA115","v":1},{"$f":"Parameters!BB115","v":1},{"$f":"Parameters!BC115","v":1},{"$f":"Parameters!BD115","v":1},{"$f":"Parameters!BE115","v":1},{"$f":"Parameters!BF115","v":1},{"$f":"Parameters!BG115","v":1},{"$f":"Parameters!BH115","v":1},{"$f":"Parameters!BI115","v":1},{"$f":"Parameters!BJ115","v":1},{"$f":"Parameters!BK115","v":1},{"$f":"Parameters!BL115","v":1},{"$f":"Parameters!BM115","v":1},{"$f":"Parameters!BN115","v":1}]
[{"$f":"SETS!B57","v":"INDENEFFGD"},{"$f":"Parameters!K116","v":1},{"$f":"Parameters!L116","v":1},{"$f":"Parameters!M116","v":1},{"$f":"Parameters!N116","v":1},{"$f":"Parameters!O116","v":1},{"$f":"Parameters!P116","v":1},{"$f":"Parameters!Q116","v":1},{"$f":"Parameters!R116","v":1},{"$f":"Parameters!S116","v":1},{"$f":"Parameters!T116","v":1},{"$f":"Parameters!U116","v":1},{"$f":"Parameters!V116","v":1},{"$f":"Parameters!W116","v":1},{"$f":"Parameters!X116","v":1},{"$f":"Parameters!Y116","v":1},{"$f":"Parameters!Z116","v":1},{"$f":"Parameters!AA116","v":1},{"$f":"Parameters!AB116","v":1},{"$f":"Parameters!AC116","v":1},{"$f":"Parameters!AD116","v":1},{"$f":"Parameters!AE116","v":1},{"$f":"Parameters!AF116","v":1},{"$f":"Parameters!AG116","v":1},{"$f":"Parameters!AH116","v":1},{"$f":"Parameters!AI116","v":1},{"$f":"Parameters!AJ116","v":1},{"$f":"Parameters!AK116","v":1},{"$f":"Parameters!AL116","v":1},{"$f":"Parameters!AM116","v":1},{"$f":"Parameters!AN116","v":1},{"$f":"Parameters!AO116","v":1},{"$f":"Parameters!AP116","v":1},{"$f":"Parameters!AQ116","v":1},{"$f":"Parameters!AR116","v":1},{"$f":"Parameters!AS116","v":1},{"$f":"Parameters!AT116","v":1},{"$f":"Parameters!AU116","v":1},{"$f":"Parameters!AV116","v":1},{"$f":"Parameters!AW116","v":1},{"$f":"Parameters!AX116","v":1},{"$f":"Parameters!AY116","v":1},{"$f":"Parameters!AZ116","v":1},{"$f":"Parameters!BA116","v":1},{"$f":"Parameters!BB116","v":1},{"$f":"Parameters!BC116","v":1},{"$f":"Parameters!BD116","v":1},{"$f":"Parameters!BE116","v":1},{"$f":"Parameters!BF116","v":1},{"$f":"Parameters!BG116","v":1},{"$f":"Parameters!BH116","v":1},{"$f":"Parameters!BI116","v":1},{"$f":"Parameters!BJ116","v":1},{"$f":"Parameters!BK116","v":1},{"$f":"Parameters!BL116","v":1},{"$f":"Parameters!BM116","v":1},{"$f":"Parameters!BN116","v":1}]
[{"$f":"SETS!B58","v":"INDENEFFDP"},{"$f":"Parameters!K117","v":1},{"$f":"Parameters!L117","v":1},{"$f":"Parameters!M117","v":1},{"$f":"Parameters!N117","v":1},{"$f":"Parameters!O117","v":1},{"$f":"Parameters!P117","v":1},{"$f":"Parameters!Q117","v":1},{"$f":"Parameters!R117","v":1},{"$f":"Parameters!S117","v":1},{"$f":"Parameters!T117","v":1},{"$f":"Parameters!U117","v":1},{"$f":"Parameters!V117","v":1},{"$f":"Parameters!W117","v":1},{"$f":"Parameters!X117","v":1},{"$f":"Parameters!Y117","v":1},{"$f":"Parameters!Z117","v":1},{"$f":"Parameters!AA117","v":1},{"$f":"Parameters!AB117","v":1},{"$f":"Parameters!AC117","v":1},{"$f":"Parameters!AD117","v":1},{"$f":"Parameters!AE117","v":1},{"$f":"Parameters!AF117","v":1},{"$f":"Parameters!AG117","v":1},{"$f":"Parameters!AH117","v":1},{"$f":"Parameters!AI117","v":1},{"$f":"Parameters!AJ117","v":1},{"$f":"Parameters!AK117","v":1},{"$f":"Parameters!AL117","v":1},{"$f":"Parameters!AM117","v":1},{"$f":"Parameters!AN117","v":1},{"$f":"Parameters!AO117","v":1},{"$f":"Parameters!AP117","v":1},{"$f":"Parameters!AQ117","v":1},{"$f":"Parameters!AR117","v":1},{"$f":"Parameters!AS117","v":1},{"$f":"Parameters!AT117","v":1},{"$f":"Parameters!AU117","v":1},{"$f":"Parameters!AV117","v":1},{"$f":"Parameters!AW117","v":1},{"$f":"Parameters!AX117","v":1},{"$f":"Parameters!AY117","v":1},{"$f":"Parameters!AZ117","v":1},{"$f":"Parameters!BA117","v":1},{"$f":"Parameters!BB117","v":1},{"$f":"Parameters!BC117","v":1},{"$f":"Parameters!BD117","v":1},{"$f":"Parameters!BE117","v":1},{"$f":"Parameters!BF117","v":1},{"$f":"Parameters!BG117","v":1},{"$f":"Parameters!BH117","v":1},{"$f":"Parameters!BI117","v":1},{"$f":"Parameters!BJ117","v":1},{"$f":"Parameters!BK117","v":1},{"$f":"Parameters!BL117","v":1},{"$f":"Parameters!BM117","v":1},{"$f":"Parameters!BN117","v":1}]
[{"$f":"SETS!B59","v":"DEMINDHEEH"},{"$f":"Parameters!K118","v":1},{"$f":"Parameters!L118","v":1},{"$f":"Parameters!M118","v":1},{"$f":"Parameters!N118","v":1},{"$f":"Parameters!O118","v":1},{"$f":"Parameters!P118","v":1},{"$f":"Parameters!Q118","v":1},{"$f":"Parameters!R118","v":1},{"$f":"Parameters!S118","v":1},{"$f":"Parameters!T118","v":1},{"$f":"Parameters!U118","v":1},{"$f":"Parameters!V118","v":1},{"$f":"Parameters!W118","v":1},{"$f":"Parameters!X118","v":1},{"$f":"Parameters!Y118","v":1},{"$f":"Parameters!Z118","v":1},{"$f":"Parameters!AA118","v":1},{"$f":"Parameters!AB118","v":1},{"$f":"Parameters!AC118","v":1},{"$f":"Parameters!AD118","v":1},{"$f":"Parameters!AE118","v":1},{"$f":"Parameters!AF118","v":1},{"$f":"Parameters!AG118","v":1},{"$f":"Parameters!AH118","v":1},{"$f":"Parameters!AI118","v":1},{"$f":"Parameters!AJ118","v":1},{"$f":"Parameters!AK118","v":1},{"$f":"Parameters!AL118","v":1},{"$f":"Parameters!AM118","v":1},{"$f":"Parameters!AN118","v":1},{"$f":"Parameters!AO118","v":1},{"$f":"Parameters!AP118","v":1},{"$f":"Parameters!AQ118","v":1},{"$f":"Parameters!AR118","v":1},{"$f":"Parameters!AS118","v":1},{"$f":"Parameters!AT118","v":1},{"$f":"Parameters!AU118","v":1},{"$f":"Parameters!AV118","v":1},{"$f":"Parameters!AW118","v":1},{"$f":"Parameters!AX118","v":1},{"$f":"Parameters!AY118","v":1},{"$f":"Parameters!AZ118","v":1},{"$f":"Parameters!BA118","v":1},{"$f":"Parameters!BB118","v":1},{"$f":"Parameters!BC118","v":1},{"$f":"Parameters!BD118","v":1},{"$f":"Parameters!BE118","v":1},{"$f":"Parameters!BF118","v":1},{"$f":"Parameters!BG118","v":1},{"$f":"Parameters!BH118","v":1},{"$f":"Parameters!BI118","v":1},{"$f":"Parameters!BJ118","v":1},{"$f":"Parameters!BK118","v":1},{"$f":"Parameters!BL118","v":1},{"$f":"Parameters!BM118","v":1},{"$f":"Parameters!BN118","v":1}]
[{"$f":"SETS!B60","v":"DEMINDHEEL"},{"$f":"Parameters!K119","v":1},{"$f":"Parameters!L119","v":1},{"$f":"Parameters!M119","v":1},{"$f":"Parameters!N119","v":1},{"$f":"Parameters!O119","v":1},{"$f":"Parameters!P119","v":1},{"$f":"Parameters!Q119","v":1},{"$f":"Parameters!R119","v":1},{"$f":"Parameters!S119","v":1},{"$f":"Parameters!T119","v":1},{"$f":"Parameters!U119","v":1},{"$f":"Parameters!V119","v":1},{"$f":"Parameters!W119","v":1},{"$f":"Parameters!X119","v":1},{"$f":"Parameters!Y119","v":1},{"$f":"Parameters!Z119","v":1},{"$f":"Parameters!AA119","v":1},{"$f":"Parameters!AB119","v":1},{"$f":"Parameters!AC119","v":1},{"$f":"Parameters!AD119","v":1},{"$f":"Parameters!AE119","v":1},{"$f":"Parameters!AF119","v":1},{"$f":"Parameters!AG119","v":1},{"$f":"Parameters!AH119","v":1},{"$f":"Parameters!AI119","v":1},{"$f":"Parameters!AJ119","v":1},{"$f":"Parameters!AK119","v":1},{"$f":"Parameters!AL119","v":1},{"$f":"Parameters!AM119","v":1},{"$f":"Parameters!AN119","v":1},{"$f":"Parameters!AO119","v":1},{"$f":"Parameters!AP119","v":1},{"$f":"Parameters!AQ119","v":1},{"$f":"Parameters!AR119","v":1},{"$f":"Parameters!AS119","v":1},{"$f":"Parameters!AT119","v":1},{"$f":"Parameters!AU119","v":1},{"$f":"Parameters!AV119","v":1},{"$f":"Parameters!AW119","v":1},{"$f":"Parameters!AX119","v":1},{"$f":"Parameters!AY119","v":1},{"$f":"Parameters!AZ119","v":1},{"$f":"Parameters!BA119","v":1},{"$f":"Parameters!BB119","v":1},{"$f":"Parameters!BC119","v":1},{"$f":"Parameters!BD119","v":1},{"$f":"Parameters!BE119","v":1},{"$f":"Parameters!BF119","v":1},{"$f":"Parameters!BG119","v":1},{"$f":"Parameters!BH119","v":1},{"$f":"Parameters!BI119","v":1},{"$f":"Parameters!BJ119","v":1},{"$f":"Parameters!BK119","v":1},{"$f":"Parameters!BL119","v":1},{"$f":"Parameters!BM119","v":1},{"$f":"Parameters!BN119","v":1}]
[{"$f":"SETS!B61","v":"DEMINDHENGS"},{"$f":"Parameters!K120","v":1},{"$f":"Parameters!L120","v":1},{"$f":"Parameters!M120","v":1},{"$f":"Parameters!N120","v":1},{"$f":"Parameters!O120","v":1},{"$f":"Parameters!P120","v":1},{"$f":"Parameters!Q120","v":1},{"$f":"Parameters!R120","v":1},{"$f":"Parameters!S120","v":1},{"$f":"Parameters!T120","v":1},{"$f":"Parameters!U120","v":1},{"$f":"Parameters!V120","v":1},{"$f":"Parameters!W120","v":1},{"$f":"Parameters!X120","v":1},{"$f":"Parameters!Y120","v":1},{"$f":"Parameters!Z120","v":1},{"$f":"Parameters!AA120","v":1},{"$f":"Parameters!AB120","v":1},{"$f":"Parameters!AC120","v":1},{"$f":"Parameters!AD120","v":1},{"$f":"Parameters!AE120","v":1},{"$f":"Parameters!AF120","v":1},{"$f":"Parameters!AG120","v":1},{"$f":"Parameters!AH120","v":1},{"$f":"Parameters!AI120","v":1},{"$f":"Parameters!AJ120","v":1},{"$f":"Parameters!AK120","v":1},{"$f":"Parameters!AL120","v":1},{"$f":"Parameters!AM120","v":1},{"$f":"Parameters!AN120","v":1},{"$f":"Parameters!AO120","v":1},{"$f":"Parameters!AP120","v":1},{"$f":"Parameters!AQ120","v":1},{"$f":"Parameters!AR120","v":1},{"$f":"Parameters!AS120","v":1},{"$f":"Parameters!AT120","v":1},{"$f":"Parameters!AU120","v":1},{"$f":"Parameters!AV120","v":1},{"$f":"Parameters!AW120","v":1},{"$f":"Parameters!AX120","v":1},{"$f":"Parameters!AY120","v":1},{"$f":"Parameters!AZ120","v":1},{"$f":"Parameters!BA120","v":1},{"$f":"Parameters!BB120","v":1},{"$f":"Parameters!BC120","v":1},{"$f":"Parameters!BD120","v":1},{"$f":"Parameters!BE120","v":1},{"$f":"Parameters!BF120","v":1},{"$f":"Parameters!BG120","v":1},{"$f":"Parameters!BH120","v":1},{"$f":"Parameters!BI120","v":1},{"$f":"Parameters!BJ120","v":1},{"$f":"Parameters!BK120","v":1},{"$f":"Parameters!BL120","v":1},{"$f":"Parameters!BM120","v":1},{"$f":"Parameters!BN120","v":1}]
[{"$f":"SETS!B62","v":"DEMINDHEOIL"},{"$f":"Parameters!K121","v":1},{"$f":"Parameters!L121","v":1},{"$f":"Parameters!M121","v":1},{"$f":"Parameters!N121","v":1},{"$f":"Parameters!O121","v":1},{"$f":"Parameters!P121","v":1},{"$f":"Parameters!Q121","v":1},{"$f":"Parameters!R121","v":1},{"$f":"Parameters!S121","v":1},{"$f":"Parameters!T121","v":1},{"$f":"Parameters!U121","v":1},{"$f":"Parameters!V121","v":1},{"$f":"Parameters!W121","v":1},{"$f":"Parameters!X121","v":1},{"$f":"Parameters!Y121","v":1},{"$f":"Parameters!Z121","v":1},{"$f":"Parameters!AA121","v":1},{"$f":"Parameters!AB121","v":1},{"$f":"Parameters!AC121","v":1},{"$f":"Parameters!AD121","v":1},{"$f":"Parameters!AE121","v":1},{"$f":"Parameters!AF121","v":1},{"$f":"Parameters!AG121","v":1},{"$f":"Parameters!AH121","v":1},{"$f":"Parameters!AI121","v":1},{"$f":"Parameters!AJ121","v":1},{"$f":"Parameters!AK121","v":1},{"$f":"Parameters!AL121","v":1},{"$f":"Parameters!AM121","v":1},{"$f":"Parameters!AN121","v":1},{"$f":"Parameters!AO121","v":1},{"$f":"Parameters!AP121","v":1},{"$f":"Parameters!AQ121","v":1},{"$f":"Parameters!AR121","v":1},{"$f":"Parameters!AS121","v":1},{"$f":"Parameters!AT121","v":1},{"$f":"Parameters!AU121","v":1},{"$f":"Parameters!AV121","v":1},{"$f":"Parameters!AW121","v":1},{"$f":"Parameters!AX121","v":1},{"$f":"Parameters!AY121","v":1},{"$f":"Parameters!AZ121","v":1},{"$f":"Parameters!BA121","v":1},{"$f":"Parameters!BB121","v":1},{"$f":"Parameters!BC121","v":1},{"$f":"Parameters!BD121","v":1},{"$f":"Parameters!BE121","v":1},{"$f":"Parameters!BF121","v":1},{"$f":"Parameters!BG121","v":1},{"$f":"Parameters!BH121","v":1},{"$f":"Parameters!BI121","v":1},{"$f":"Parameters!BJ121","v":1},{"$f":"Parameters!BK121","v":1},{"$f":"Parameters!BL121","v":1},{"$f":"Parameters!BM121","v":1},{"$f":"Parameters!BN121","v":1}]
[{"$f":"SETS!B63","v":"DEMINDHEBIO"},{"$f":"Parameters!K122","v":1},{"$f":"Parameters!L122","v":1},{"$f":"Parameters!M122","v":1},{"$f":"Parameters!N122","v":1},{"$f":"Parameters!O122","v":1},{"$f":"Parameters!P122","v":1},{"$f":"Parameters!Q122","v":1},{"$f":"Parameters!R122","v":1},{"$f":"Parameters!S122","v":1},{"$f":"Parameters!T122","v":1},{"$f":"Parameters!U122","v":1},{"$f":"Parameters!V122","v":1},{"$f":"Parameters!W122","v":1},{"$f":"Parameters!X122","v":1},{"$f":"Parameters!Y122","v":1},{"$f":"Parameters!Z122","v":1},{"$f":"Parameters!AA122","v":1},{"$f":"Parameters!AB122","v":1},{"$f":"Parameters!AC122","v":1},{"$f":"Parameters!AD122","v":1},{"$f":"Parameters!AE122","v":1},{"$f":"Parameters!AF122","v":1},{"$f":"Parameters!AG122","v":1},{"$f":"Parameters!AH122","v":1},{"$f":"Parameters!AI122","v":1},{"$f":"Parameters!AJ122","v":1},{"$f":"Parameters!AK122","v":1},{"$f":"Parameters!AL122","v":1},{"$f":"Parameters!AM122","v":1},{"$f":"Parameters!AN122","v":1},{"$f":"Parameters!AO122","v":1},{"$f":"Parameters!AP122","v":1},{"$f":"Parameters!AQ122","v":1},{"$f":"Parameters!AR122","v":1},{"$f":"Parameters!AS122","v":1},{"$f":"Parameters!AT122","v":1},{"$f":"Parameters!AU122","v":1},{"$f":"Parameters!AV122","v":1},{"$f":"Parameters!AW122","v":1},{"$f":"Parameters!AX122","v":1},{"$f":"Parameters!AY122","v":1},{"$f":"Parameters!AZ122","v":1},{"$f":"Parameters!BA122","v":1},{"$f":"Parameters!BB122","v":1},{"$f":"Parameters!BC122","v":1},{"$f":"Parameters!BD122","v":1},{"$f":"Parameters!BE122","v":1},{"$f":"Parameters!BF122","v":1},{"$f":"Parameters!BG122","v":1},{"$f":"Parameters!BH122","v":1},{"$f":"Parameters!BI122","v":1},{"$f":"Parameters!BJ122","v":1},{"$f":"Parameters!BK122","v":1},{"$f":"Parameters!BL122","v":1},{"$f":"Parameters!BM122","v":1},{"$f":"Parameters!BN122","v":1}]
[{"$f":"SETS!B64","v":"DEMRESELC"},{"$f":"Parameters!K123","v":1},{"$f":"Parameters!L123","v":1},{"$f":"Parameters!M123","v":1},{"$f":"Parameters!N123","v":1},{"$f":"Parameters!O123","v":1},{"$f":"Parameters!P123","v":1},{"$f":"Parameters!Q123","v":1},{"$f":"Parameters!R123","v":1},{"$f":"Parameters!S123","v":1},{"$f":"Parameters!T123","v":1},{"$f":"Parameters!U123","v":1},{"$f":"Parameters!V123","v":1},{"$f":"Parameters!W123","v":1},{"$f":"Parameters!X123","v":1},{"$f":"Parameters!Y123","v":1},{"$f":"Parameters!Z123","v":1},{"$f":"Parameters!AA123","v":1},{"$f":"Parameters!AB123","v":1},{"$f":"Parameters!AC123","v":1},{"$f":"Parameters!AD123","v":1},{"$f":"Parameters!AE123","v":1},{"$f":"Parameters!AF123","v":1},{"$f":"Parameters!AG123","v":1},{"$f":"Parameters!AH123","v":1},{"$f":"Parameters!AI123","v":1},{"$f":"Parameters!AJ123","v":1},{"$f":"Parameters!AK123","v":1},{"$f":"Parameters!AL123","v":1},{"$f":"Parameters!AM123","v":1},{"$f":"Parameters!AN123","v":1},{"$f":"Parameters!AO123","v":1},{"$f":"Parameters!AP123","v":1},{"$f":"Parameters!AQ123","v":1},{"$f":"Parameters!AR123","v":1},{"$f":"Parameters!AS123","v":1},{"$f":"Parameters!AT123","v":1},{"$f":"Parameters!AU123","v":1},{"$f":"Parameters!AV123","v":1},{"$f":"Parameters!AW123","v":1},{"$f":"Parameters!AX123","v":1},{"$f":"Parameters!AY123","v":1},{"$f":"Parameters!AZ123","v":1},{"$f":"Parameters!BA123","v":1},{"$f":"Parameters!BB123","v":1},{"$f":"Parameters!BC123","v":1},{"$f":"Parameters!BD123","v":1},{"$f":"Parameters!BE123","v":1},{"$f":"Parameters!BF123","v":1},{"$f":"Parameters!BG123","v":1},{"$f":"Parameters!BH123","v":1},{"$f":"Parameters!BI123","v":1},{"$f":"Parameters!BJ123","v":1},{"$f":"Parameters!BK123","v":1},{"$f":"Parameters!BL123","v":1},{"$f":"Parameters!BM123","v":1},{"$f":"Parameters!BN123","v":1}]
[{"$f":"SETS!B65","v":"RESENEFFGD"},{"$f":"Parameters!K124","v":1},{"$f":"Parameters!L124","v":1},{"$f":"Parameters!M124","v":1},{"$f":"Parameters!N124","v":1},{"$f":"Parameters!O124","v":1},{"$f":"Parameters!P124","v":1},{"$f":"Parameters!Q124","v":1},{"$f":"Parameters!R124","v":1},{"$f":"Parameters!S124","v":1},{"$f":"Parameters!T124","v":1},{"$f":"Parameters!U124","v":1},{"$f":"Parameters!V124","v":1},{"$f":"Parameters!W124","v":1},{"$f":"Parameters!X124","v":1},{"$f":"Parameters!Y124","v":1},{"$f":"Parameters!Z124","v":1},{"$f":"Parameters!AA124","v":1},{"$f":"Parameters!AB124","v":1},{"$f":"Parameters!AC124","v":1},{"$f":"Parameters!AD124","v":1},{"$f":"Parameters!AE124","v":1},{"$f":"Parameters!AF124","v":1},{"$f":"Parameters!AG124","v":1},{"$f":"Parameters!AH124","v":1},{"$f":"Parameters!AI124","v":1},{"$f":"Parameters!AJ124","v":1},{"$f":"Parameters!AK124","v":1},{"$f":"Parameters!AL124","v":1},{"$f":"Parameters!AM124","v":1},{"$f":"Parameters!AN124","v":1},{"$f":"Parameters!AO124","v":1},{"$f":"Parameters!AP124","v":1},{"$f":"Parameters!AQ124","v":1},{"$f":"Parameters!AR124","v":1},{"$f":"Parameters!AS124","v":1},{"$f":"Parameters!AT124","v":1},{"$f":"Parameters!AU124","v":1},{"$f":"Parameters!AV124","v":1},{"$f":"Parameters!AW124","v":1},{"$f":"Parameters!AX124","v":1},{"$f":"Parameters!AY124","v":1},{"$f":"Parameters!AZ124","v":1},{"$f":"Parameters!BA124","v":1},{"$f":"Parameters!BB124","v":1},{"$f":"Parameters!BC124","v":1},{"$f":"Parameters!BD124","v":1},{"$f":"Parameters!BE124","v":1},{"$f":"Parameters!BF124","v":1},{"$f":"Parameters!BG124","v":1},{"$f":"Parameters!BH124","v":1},{"$f":"Parameters!BI124","v":1},{"$f":"Parameters!BJ124","v":1},{"$f":"Parameters!BK124","v":1},{"$f":"Parameters!BL124","v":1},{"$f":"Parameters!BM124","v":1},{"$f":"Parameters!BN124","v":1}]
[{"$f":"SETS!B66","v":"RESENEFFDP"},{"$f":"Parameters!K125","v":1},{"$f":"Parameters!L125","v":1},{"$f":"Parameters!M125","v":1},{"$f":"Parameters!N125","v":1},{"$f":"Parameters!O125","v":1},{"$f":"Parameters!P125","v":1},{"$f":"Parameters!Q125","v":1},{"$f":"Parameters!R125","v":1},{"$f":"Parameters!S125","v":1},{"$f":"Parameters!T125","v":1},{"$f":"Parameters!U125","v":1},{"$f":"Parameters!V125","v":1},{"$f":"Parameters!W125","v":1},{"$f":"Parameters!X125","v":1},{"$f":"Parameters!Y125","v":1},{"$f":"Parameters!Z125","v":1},{"$f":"Parameters!AA125","v":1},{"$f":"Parameters!AB125","v":1},{"$f":"Parameters!AC125","v":1},{"$f":"Parameters!AD125","v":1},{"$f":"Parameters!AE125","v":1},{"$f":"Parameters!AF125","v":1},{"$f":"Parameters!AG125","v":1},{"$f":"Parameters!AH125","v":1},{"$f":"Parameters!AI125","v":1},{"$f":"Parameters!AJ125","v":1},{"$f":"Parameters!AK125","v":1},{"$f":"Parameters!AL125","v":1},{"$f":"Parameters!AM125","v":1},{"$f":"Parameters!AN125","v":1},{"$f":"Parameters!AO125","v":1},{"$f":"Parameters!AP125","v":1},{"$f":"Parameters!AQ125","v":1},{"$f":"Parameters!AR125","v":1},{"$f":"Parameters!AS125","v":1},{"$f":"Parameters!AT125","v":1},{"$f":"Parameters!AU125","v":1},{"$f":"Parameters!AV125","v":1},{"$f":"Parameters!AW125","v":1},{"$f":"Parameters!AX125","v":1},{"$f":"Parameters!AY125","v":1},{"$f":"Parameters!AZ125","v":1},{"$f":"Parameters!BA125","v":1},{"$f":"Parameters!BB125","v":1},{"$f":"Parameters!BC125","v":1},{"$f":"Parameters!BD125","v":1},{"$f":"Parameters!BE125","v":1},{"$f":"Parameters!BF125","v":1},{"$f":"Parameters!BG125","v":1},{"$f":"Parameters!BH125","v":1},{"$f":"Parameters!BI125","v":1},{"$f":"Parameters!BJ125","v":1},{"$f":"Parameters!BK125","v":1},{"$f":"Parameters!BL125","v":1},{"$f":"Parameters!BM125","v":1},{"$f":"Parameters!BN125","v":1}]
[{"$f":"SETS!B67","v":"DEMRESCKNELC"},{"$f":"Parameters!K126","v":1},{"$f":"Parameters!L126","v":1},{"$f":"Parameters!M126","v":1},{"$f":"Parameters!N126","v":1},{"$f":"Parameters!O126","v":1},{"$f":"Parameters!P126","v":1},{"$f":"Parameters!Q126","v":1},{"$f":"Parameters!R126","v":1},{"$f":"Parameters!S126","v":1},{"$f":"Parameters!T126","v":1},{"$f":"Parameters!U126","v":1},{"$f":"Parameters!V126","v":1},{"$f":"Parameters!W126","v":1},{"$f":"Parameters!X126","v":1},{"$f":"Parameters!Y126","v":1},{"$f":"Parameters!Z126","v":1},{"$f":"Parameters!AA126","v":1},{"$f":"Parameters!AB126","v":1},{"$f":"Parameters!AC126","v":1},{"$f":"Parameters!AD126","v":1},{"$f":"Parameters!AE126","v":1},{"$f":"Parameters!AF126","v":1},{"$f":"Parameters!AG126","v":1},{"$f":"Parameters!AH126","v":1},{"$f":"Parameters!AI126","v":1},{"$f":"Parameters!AJ126","v":1},{"$f":"Parameters!AK126","v":1},{"$f":"Parameters!AL126","v":1},{"$f":"Parameters!AM126","v":1},{"$f":"Parameters!AN126","v":1},{"$f":"Parameters!AO126","v":1},{"$f":"Parameters!AP126","v":1},{"$f":"Parameters!AQ126","v":1},{"$f":"Parameters!AR126","v":1},{"$f":"Parameters!AS126","v":1},{"$f":"Parameters!AT126","v":1},{"$f":"Parameters!AU126","v":1},{"$f":"Parameters!AV126","v":1},{"$f":"Parameters!AW126","v":1},{"$f":"Parameters!AX126","v":1},{"$f":"Parameters!AY126","v":1},{"$f":"Parameters!AZ126","v":1},{"$f":"Parameters!BA126","v":1},{"$f":"Parameters!BB126","v":1},{"$f":"Parameters!BC126","v":1},{"$f":"Parameters!BD126","v":1},{"$f":"Parameters!BE126","v":1},{"$f":"Parameters!BF126","v":1},{"$f":"Parameters!BG126","v":1},{"$f":"Parameters!BH126","v":1},{"$f":"Parameters!BI126","v":1},{"$f":"Parameters!BJ126","v":1},{"$f":"Parameters!BK126","v":1},{"$f":"Parameters!BL126","v":1},{"$f":"Parameters!BM126","v":1},{"$f":"Parameters!BN126","v":1}]
[{"$f":"SETS!B68","v":"DEMRESCKNOIL"},{"$f":"Parameters!K127","v":1},{"$f":"Parameters!L127","v":1},{"$f":"Parameters!M127","v":1},{"$f":"Parameters!N127","v":1},{"$f":"Parameters!O127","v":1},{"$f":"Parameters!P127","v":1},{"$f":"Parameters!Q127","v":1},{"$f":"Parameters!R127","v":1},{"$f":"Parameters!S127","v":1},{"$f":"Parameters!T127","v":1},{"$f":"Parameters!U127","v":1},{"$f":"Parameters!V127","v":1},{"$f":"Parameters!W127","v":1},{"$f":"Parameters!X127","v":1},{"$f":"Parameters!Y127","v":1},{"$f":"Parameters!Z127","v":1},{"$f":"Parameters!AA127","v":1},{"$f":"Parameters!AB127","v":1},{"$f":"Parameters!AC127","v":1},{"$f":"Parameters!AD127","v":1},{"$f":"Parameters!AE127","v":1},{"$f":"Parameters!AF127","v":1},{"$f":"Parameters!AG127","v":1},{"$f":"Parameters!AH127","v":1},{"$f":"Parameters!AI127","v":1},{"$f":"Parameters!AJ127","v":1},{"$f":"Parameters!AK127","v":1},{"$f":"Parameters!AL127","v":1},{"$f":"Parameters!AM127","v":1},{"$f":"Parameters!AN127","v":1},{"$f":"Parameters!AO127","v":1},{"$f":"Parameters!AP127","v":1},{"$f":"Parameters!AQ127","v":1},{"$f":"Parameters!AR127","v":1},{"$f":"Parameters!AS127","v":1},{"$f":"Parameters!AT127","v":1},{"$f":"Parameters!AU127","v":1},{"$f":"Parameters!AV127","v":1},{"$f":"Parameters!AW127","v":1},{"$f":"Parameters!AX127","v":1},{"$f":"Parameters!AY127","v":1},{"$f":"Parameters!AZ127","v":1},{"$f":"Parameters!BA127","v":1},{"$f":"Parameters!BB127","v":1},{"$f":"Parameters!BC127","v":1},{"$f":"Parameters!BD127","v":1},{"$f":"Parameters!BE127","v":1},{"$f":"Parameters!BF127","v":1},{"$f":"Parameters!BG127","v":1},{"$f":"Parameters!BH127","v":1},{"$f":"Parameters!BI127","v":1},{"$f":"Parameters!BJ127","v":1},{"$f":"Parameters!BK127","v":1},{"$f":"Parameters!BL127","v":1},{"$f":"Parameters!BM127","v":1},{"$f":"Parameters!BN127","v":1}]
[{"$f":"SETS!B69","v":"DEMRESCKNBIO"},{"$f":"Parameters!K128","v":1},{"$f":"Parameters!L128","v":1},{"$f":"Parameters!M128","v":1},{"$f":"Parameters!N128","v":1},{"$f":"Parameters!O128","v":1},{"$f":"Parameters!P128","v":1},{"$f":"Parameters!Q128","v":1},{"$f":"Parameters!R128","v":1},{"$f":"Parameters!S128","v":1},{"$f":"Parameters!T128","v":1},{"$f":"Parameters!U128","v":1},{"$f":"Parameters!V128","v":1},{"$f":"Parameters!W128","v":1},{"$f":"Parameters!X128","v":1},{"$f":"Parameters!Y128","v":1},{"$f":"Parameters!Z128","v":1},{"$f":"Parameters!AA128","v":1},{"$f":"Parameters!AB128","v":1},{"$f":"Parameters!AC128","v":1},{"$f":"Parameters!AD128","v":1},{"$f":"Parameters!AE128","v":1},{"$f":"Parameters!AF128","v":1},{"$f":"Parameters!AG128","v":1},{"$f":"Parameters!AH128","v":1},{"$f":"Parameters!AI128","v":1},{"$f":"Parameters!AJ128","v":1},{"$f":"Parameters!AK128","v":1},{"$f":"Parameters!AL128","v":1},{"$f":"Parameters!AM128","v":1},{"$f":"Parameters!AN128","v":1},{"$f":"Parameters!AO128","v":1},{"$f":"Parameters!AP128","v":1},{"$f":"Parameters!AQ128","v":1},{"$f":"Parameters!AR128","v":1},{"$f":"Parameters!AS128","v":1},{"$f":"Parameters!AT128","v":1},{"$f":"Parameters!AU128","v":1},{"$f":"Parameters!AV128","v":1},{"$f":"Parameters!AW128","v":1},{"$f":"Parameters!AX128","v":1},{"$f":"Parameters!AY128","v":1},{"$f":"Parameters!AZ128","v":1},{"$f":"Parameters!BA128","v":1},{"$f":"Parameters!BB128","v":1},{"$f":"Parameters!BC128","v":1},{"$f":"Parameters!BD128","v":1},{"$f":"Parameters!BE128","v":1},{"$f":"Parameters!BF128","v":1},{"$f":"Parameters!BG128","v":1},{"$f":"Parameters!BH128","v":1},{"$f":"Parameters!BI128","v":1},{"$f":"Parameters!BJ128","v":1},{"$f":"Parameters!BK128","v":1},{"$f":"Parameters!BL128","v":1},{"$f":"Parameters!BM128","v":1},{"$f":"Parameters!BN128","v":1}]
[{"$f":"SETS!B70","v":"DEMRESHEBIO"},{"$f":"Parameters!K129","v":1},{"$f":"Parameters!L129","v":1},{"$f":"Parameters!M129","v":1},{"$f":"Parameters!N129","v":1},{"$f":"Parameters!O129","v":1},{"$f":"Parameters!P129","v":1},{"$f":"Parameters!Q129","v":1},{"$f":"Parameters!R129","v":1},{"$f":"Parameters!S129","v":1},{"$f":"Parameters!T129","v":1},{"$f":"Parameters!U129","v":1},{"$f":"Parameters!V129","v":1},{"$f":"Parameters!W129","v":1},{"$f":"Parameters!X129","v":1},{"$f":"Parameters!Y129","v":1},{"$f":"Parameters!Z129","v":1},{"$f":"Parameters!AA129","v":1},{"$f":"Parameters!AB129","v":1},{"$f":"Parameters!AC129","v":1},{"$f":"Parameters!AD129","v":1},{"$f":"Parameters!AE129","v":1},{"$f":"Parameters!AF129","v":1},{"$f":"Parameters!AG129","v":1},{"$f":"Parameters!AH129","v":1},{"$f":"Parameters!AI129","v":1},{"$f":"Parameters!AJ129","v":1},{"$f":"Parameters!AK129","v":1},{"$f":"Parameters!AL129","v":1},{"$f":"Parameters!AM129","v":1},{"$f":"Parameters!AN129","v":1},{"$f":"Parameters!AO129","v":1},{"$f":"Parameters!AP129","v":1},{"$f":"Parameters!AQ129","v":1},{"$f":"Parameters!AR129","v":1},{"$f":"Parameters!AS129","v":1},{"$f":"Parameters!AT129","v":1},{"$f":"Parameters!AU129","v":1},{"$f":"Parameters!AV129","v":1},{"$f":"Parameters!AW129","v":1},{"$f":"Parameters!AX129","v":1},{"$f":"Parameters!AY129","v":1},{"$f":"Parameters!AZ129","v":1},{"$f":"Parameters!BA129","v":1},{"$f":"Parameters!BB129","v":1},{"$f":"Parameters!BC129","v":1},{"$f":"Parameters!BD129","v":1},{"$f":"Parameters!BE129","v":1},{"$f":"Parameters!BF129","v":1},{"$f":"Parameters!BG129","v":1},{"$f":"Parameters!BH129","v":1},{"$f":"Parameters!BI129","v":1},{"$f":"Parameters!BJ129","v":1},{"$f":"Parameters!BK129","v":1},{"$f":"Parameters!BL129","v":1},{"$f":"Parameters!BM129","v":1},{"$f":"Parameters!BN129","v":1}]
[{"$f":"SETS!B71","v":"DEMRESHEOIL"},{"$f":"Parameters!K130","v":1},{"$f":"Parameters!L130","v":1},{"$f":"Parameters!M130","v":1},{"$f":"Parameters!N130","v":1},{"$f":"Parameters!O130","v":1},{"$f":"Parameters!P130","v":1},{"$f":"Parameters!Q130","v":1},{"$f":"Parameters!R130","v":1},{"$f":"Parameters!S130","v":1},{"$f":"Parameters!T130","v":1},{"$f":"Parameters!U130","v":1},{"$f":"Parameters!V130","v":1},{"$f":"Parameters!W130","v":1},{"$f":"Parameters!X130","v":1},{"$f":"Parameters!Y130","v":1},{"$f":"Parameters!Z130","v":1},{"$f":"Parameters!AA130","v":1},{"$f":"Parameters!AB130","v":1},{"$f":"Parameters!AC130","v":1},{"$f":"Parameters!AD130","v":1},{"$f":"Parameters!AE130","v":1},{"$f":"Parameters!AF130","v":1},{"$f":"Parameters!AG130","v":1},{"$f":"Parameters!AH130","v":1},{"$f":"Parameters!AI130","v":1},{"$f":"Parameters!AJ130","v":1},{"$f":"Parameters!AK130","v":1},{"$f":"Parameters!AL130","v":1},{"$f":"Parameters!AM130","v":1},{"$f":"Parameters!AN130","v":1},{"$f":"Parameters!AO130","v":1},{"$f":"Parameters!AP130","v":1},{"$f":"Parameters!AQ130","v":1},{"$f":"Parameters!AR130","v":1},{"$f":"Parameters!AS130","v":1},{"$f":"Parameters!AT130","v":1},{"$f":"Parameters!AU130","v":1},{"$f":"Parameters!AV130","v":1},{"$f":"Parameters!AW130","v":1},{"$f":"Parameters!AX130","v":1},{"$f":"Parameters!AY130","v":1},{"$f":"Parameters!AZ130","v":1},{"$f":"Parameters!BA130","v":1},{"$f":"Parameters!BB130","v":1},{"$f":"Parameters!BC130","v":1},{"$f":"Parameters!BD130","v":1},{"$f":"Parameters!BE130","v":1},{"$f":"Parameters!BF130","v":1},{"$f":"Parameters!BG130","v":1},{"$f":"Parameters!BH130","v":1},{"$f":"Parameters!BI130","v":1},{"$f":"Parameters!BJ130","v":1},{"$f":"Parameters!BK130","v":1},{"$f":"Parameters!BL130","v":1},{"$f":"Parameters!BM130","v":1},{"$f":"Parameters!BN130","v":1}]
[{"$f":"SETS!B72","v":"DEMRESHEEL"},{"$f":"Parameters!K131","v":1},{"$f":"Parameters!L131","v":1},{"$f":"Parameters!M131","v":1},{"$f":"Parameters!N131","v":1},{"$f":"Parameters!O131","v":1},{"$f":"Parameters!P131","v":1},{"$f":"Parameters!Q131","v":1},{"$f":"Parameters!R131","v":1},{"$f":"Parameters!S131","v":1},{"$f":"Parameters!T131","v":1},{"$f":"Parameters!U131","v":1},{"$f":"Parameters!V131","v":1},{"$f":"Parameters!W131","v":1},{"$f":"Parameters!X131","v":1},{"$f":"Parameters!Y131","v":1},{"$f":"Parameters!Z131","v":1},{"$f":"Parameters!AA131","v":1},{"$f":"Parameters!AB131","v":1},{"$f":"Parameters!AC131","v":1},{"$f":"Parameters!AD131","v":1},{"$f":"Parameters!AE131","v":1},{"$f":"Parameters!AF131","v":1},{"$f":"Parameters!AG131","v":1},{"$f":"Parameters!AH131","v":1},{"$f":"Parameters!AI131","v":1},{"$f":"Parameters!AJ131","v":1},{"$f":"Parameters!AK131","v":1},{"$f":"Parameters!AL131","v":1},{"$f":"Parameters!AM131","v":1},{"$f":"Parameters!AN131","v":1},{"$f":"Parameters!AO131","v":1},{"$f":"Parameters!AP131","v":1},{"$f":"Parameters!AQ131","v":1},{"$f":"Parameters!AR131","v":1},{"$f":"Parameters!AS131","v":1},{"$f":"Parameters!AT131","v":1},{"$f":"Parameters!AU131","v":1},{"$f":"Parameters!AV131","v":1},{"$f":"Parameters!AW131","v":1},{"$f":"Parameters!AX131","v":1},{"$f":"Parameters!AY131","v":1},{"$f":"Parameters!AZ131","v":1},{"$f":"Parameters!BA131","v":1},{"$f":"Parameters!BB131","v":1},{"$f":"Parameters!BC131","v":1},{"$f":"Parameters!BD131","v":1},{"$f":"Parameters!BE131","v":1},{"$f":"Parameters!BF131","v":1},{"$f":"Parameters!BG131","v":1},{"$f":"Parameters!BH131","v":1},{"$f":"Parameters!BI131","v":1},{"$f":"Parameters!BJ131","v":1},{"$f":"Parameters!BK131","v":1},{"$f":"Parameters!BL131","v":1},{"$f":"Parameters!BM131","v":1},{"$f":"Parameters!BN131","v":1}]
[{"$f":"SETS!B73","v":"DEMCOMELC"},{"$f":"Parameters!K132","v":1},{"$f":"Parameters!L132","v":1},{"$f":"Parameters!M132","v":1},{"$f":"Parameters!N132","v":1},{"$f":"Parameters!O132","v":1},{"$f":"Parameters!P132","v":1},{"$f":"Parameters!Q132","v":1},{"$f":"Parameters!R132","v":1},{"$f":"Parameters!S132","v":1},{"$f":"Parameters!T132","v":1},{"$f":"Parameters!U132","v":1},{"$f":"Parameters!V132","v":1},{"$f":"Parameters!W132","v":1},{"$f":"Parameters!X132","v":1},{"$f":"Parameters!Y132","v":1},{"$f":"Parameters!Z132","v":1},{"$f":"Parameters!AA132","v":1},{"$f":"Parameters!AB132","v":1},{"$f":"Parameters!AC132","v":1},{"$f":"Parameters!AD132","v":1},{"$f":"Parameters!AE132","v":1},{"$f":"Parameters!AF132","v":1},{"$f":"Parameters!AG132","v":1},{"$f":"Parameters!AH132","v":1},{"$f":"Parameters!AI132","v":1},{"$f":"Parameters!AJ132","v":1},{"$f":"Parameters!AK132","v":1},{"$f":"Parameters!AL132","v":1},{"$f":"Parameters!AM132","v":1},{"$f":"Parameters!AN132","v":1},{"$f":"Parameters!AO132","v":1},{"$f":"Parameters!AP132","v":1},{"$f":"Parameters!AQ132","v":1},{"$f":"Parameters!AR132","v":1},{"$f":"Parameters!AS132","v":1},{"$f":"Parameters!AT132","v":1},{"$f":"Parameters!AU132","v":1},{"$f":"Parameters!AV132","v":1},{"$f":"Parameters!AW132","v":1},{"$f":"Parameters!AX132","v":1},{"$f":"Parameters!AY132","v":1},{"$f":"Parameters!AZ132","v":1},{"$f":"Parameters!BA132","v":1},{"$f":"Parameters!BB132","v":1},{"$f":"Parameters!BC132","v":1},{"$f":"Parameters!BD132","v":1},{"$f":"Parameters!BE132","v":1},{"$f":"Parameters!BF132","v":1},{"$f":"Parameters!BG132","v":1},{"$f":"Parameters!BH132","v":1},{"$f":"Parameters!BI132","v":1},{"$f":"Parameters!BJ132","v":1},{"$f":"Parameters!BK132","v":1},{"$f":"Parameters!BL132","v":1},{"$f":"Parameters!BM132","v":1},{"$f":"Parameters!BN132","v":1}]
[{"$f":"SETS!B74","v":"COMENEFFGD"},{"$f":"Parameters!K133","v":1},{"$f":"Parameters!L133","v":1},{"$f":"Parameters!M133","v":1},{"$f":"Parameters!N133","v":1},{"$f":"Parameters!O133","v":1},{"$f":"Parameters!P133","v":1},{"$f":"Parameters!Q133","v":1},{"$f":"Parameters!R133","v":1},{"$f":"Parameters!S133","v":1},{"$f":"Parameters!T133","v":1},{"$f":"Parameters!U133","v":1},{"$f":"Parameters!V133","v":1},{"$f":"Parameters!W133","v":1},{"$f":"Parameters!X133","v":1},{"$f":"Parameters!Y133","v":1},{"$f":"Parameters!Z133","v":1},{"$f":"Parameters!AA133","v":1},{"$f":"Parameters!AB133","v":1},{"$f":"Parameters!AC133","v":1},{"$f":"Parameters!AD133","v":1},{"$f":"Parameters!AE133","v":1},{"$f":"Parameters!AF133","v":1},{"$f":"Parameters!AG133","v":1},{"$f":"Parameters!AH133","v":1},{"$f":"Parameters!AI133","v":1},{"$f":"Parameters!AJ133","v":1},{"$f":"Parameters!AK133","v":1},{"$f":"Parameters!AL133","v":1},{"$f":"Parameters!AM133","v":1},{"$f":"Parameters!AN133","v":1},{"$f":"Parameters!AO133","v":1},{"$f":"Parameters!AP133","v":1},{"$f":"Parameters!AQ133","v":1},{"$f":"Parameters!AR133","v":1},{"$f":"Parameters!AS133","v":1},{"$f":"Parameters!AT133","v":1},{"$f":"Parameters!AU133","v":1},{"$f":"Parameters!AV133","v":1},{"$f":"Parameters!AW133","v":1},{"$f":"Parameters!AX133","v":1},{"$f":"Parameters!AY133","v":1},{"$f":"Parameters!AZ133","v":1},{"$f":"Parameters!BA133","v":1},{"$f":"Parameters!BB133","v":1},{"$f":"Parameters!BC133","v":1},{"$f":"Parameters!BD133","v":1},{"$f":"Parameters!BE133","v":1},{"$f":"Parameters!BF133","v":1},{"$f":"Parameters!BG133","v":1},{"$f":"Parameters!BH133","v":1},{"$f":"Parameters!BI133","v":1},{"$f":"Parameters!BJ133","v":1},{"$f":"Parameters!BK133","v":1},{"$f":"Parameters!BL133","v":1},{"$f":"Parameters!BM133","v":1},{"$f":"Parameters!BN133","v":1}]
[{"$f":"SETS!B75","v":"COMENEFFDP"},{"$f":"Parameters!K134","v":1},{"$f":"Parameters!L134","v":1},{"$f":"Parameters!M134","v":1},{"$f":"Parameters!N134","v":1},{"$f":"Parameters!O134","v":1},{"$f":"Parameters!P134","v":1},{"$f":"Parameters!Q134","v":1},{"$f":"Parameters!R134","v":1},{"$f":"Parameters!S134","v":1},{"$f":"Parameters!T134","v":1},{"$f":"Parameters!U134","v":1},{"$f":"Parameters!V134","v":1},{"$f":"Parameters!W134","v":1},{"$f":"Parameters!X134","v":1},{"$f":"Parameters!Y134","v":1},{"$f":"Parameters!Z134","v":1},{"$f":"Parameters!AA134","v":1},{"$f":"Parameters!AB134","v":1},{"$f":"Parameters!AC134","v":1},{"$f":"Parameters!AD134","v":1},{"$f":"Parameters!AE134","v":1},{"$f":"Parameters!AF134","v":1},{"$f":"Parameters!AG134","v":1},{"$f":"Parameters!AH134","v":1},{"$f":"Parameters!AI134","v":1},{"$f":"Parameters!AJ134","v":1},{"$f":"Parameters!AK134","v":1},{"$f":"Parameters!AL134","v":1},{"$f":"Parameters!AM134","v":1},{"$f":"Parameters!AN134","v":1},{"$f":"Parameters!AO134","v":1},{"$f":"Parameters!AP134","v":1},{"$f":"Parameters!AQ134","v":1},{"$f":"Parameters!AR134","v":1},{"$f":"Parameters!AS134","v":1},{"$f":"Parameters!AT134","v":1},{"$f":"Parameters!AU134","v":1},{"$f":"Parameters!AV134","v":1},{"$f":"Parameters!AW134","v":1},{"$f":"Parameters!AX134","v":1},{"$f":"Parameters!AY134","v":1},{"$f":"Parameters!AZ134","v":1},{"$f":"Parameters!BA134","v":1},{"$f":"Parameters!BB134","v":1},{"$f":"Parameters!BC134","v":1},{"$f":"Parameters!BD134","v":1},{"$f":"Parameters!BE134","v":1},{"$f":"Parameters!BF134","v":1},{"$f":"Parameters!BG134","v":1},{"$f":"Parameters!BH134","v":1},{"$f":"Parameters!BI134","v":1},{"$f":"Parameters!BJ134","v":1},{"$f":"Parameters!BK134","v":1},{"$f":"Parameters!BL134","v":1},{"$f":"Parameters!BM134","v":1},{"$f":"Parameters!BN134","v":1}]
[{"$f":"SETS!B76","v":"DEMCOMHEOIL"},{"$f":"Parameters!K135","v":1},{"$f":"Parameters!L135","v":1},{"$f":"Parameters!M135","v":1},{"$f":"Parameters!N135","v":1},{"$f":"Parameters!O135","v":1},{"$f":"Parameters!P135","v":1},{"$f":"Parameters!Q135","v":1},{"$f":"Parameters!R135","v":1},{"$f":"Parameters!S135","v":1},{"$f":"Parameters!T135","v":1},{"$f":"Parameters!U135","v":1},{"$f":"Parameters!V135","v":1},{"$f":"Parameters!W135","v":1},{"$f":"Parameters!X135","v":1},{"$f":"Parameters!Y135","v":1},{"$f":"Parameters!Z135","v":1},{"$f":"Parameters!AA135","v":1},{"$f":"Parameters!AB135","v":1},{"$f":"Parameters!AC135","v":1},{"$f":"Parameters!AD135","v":1},{"$f":"Parameters!AE135","v":1},{"$f":"Parameters!AF135","v":1},{"$f":"Parameters!AG135","v":1},{"$f":"Parameters!AH135","v":1},{"$f":"Parameters!AI135","v":1},{"$f":"Parameters!AJ135","v":1},{"$f":"Parameters!AK135","v":1},{"$f":"Parameters!AL135","v":1},{"$f":"Parameters!AM135","v":1},{"$f":"Parameters!AN135","v":1},{"$f":"Parameters!AO135","v":1},{"$f":"Parameters!AP135","v":1},{"$f":"Parameters!AQ135","v":1},{"$f":"Parameters!AR135","v":1},{"$f":"Parameters!AS135","v":1},{"$f":"Parameters!AT135","v":1},{"$f":"Parameters!AU135","v":1},{"$f":"Parameters!AV135","v":1},{"$f":"Parameters!AW135","v":1},{"$f":"Parameters!AX135","v":1},{"$f":"Parameters!AY135","v":1},{"$f":"Parameters!AZ135","v":1},{"$f":"Parameters!BA135","v":1},{"$f":"Parameters!BB135","v":1},{"$f":"Parameters!BC135","v":1},{"$f":"Parameters!BD135","v":1},{"$f":"Parameters!BE135","v":1},{"$f":"Parameters!BF135","v":1},{"$f":"Parameters!BG135","v":1},{"$f":"Parameters!BH135","v":1},{"$f":"Parameters!BI135","v":1},{"$f":"Parameters!BJ135","v":1},{"$f":"Parameters!BK135","v":1},{"$f":"Parameters!BL135","v":1},{"$f":"Parameters!BM135","v":1},{"$f":"Parameters!BN135","v":1}]
[{"$f":"SETS!B77","v":"DEMCOMHEBIO"},{"$f":"Parameters!K136","v":1},{"$f":"Parameters!L136","v":1},{"$f":"Parameters!M136","v":1},{"$f":"Parameters!N136","v":1},{"$f":"Parameters!O136","v":1},{"$f":"Parameters!P136","v":1},{"$f":"Parameters!Q136","v":1},{"$f":"Parameters!R136","v":1},{"$f":"Parameters!S136","v":1},{"$f":"Parameters!T136","v":1},{"$f":"Parameters!U136","v":1},{"$f":"Parameters!V136","v":1},{"$f":"Parameters!W136","v":1},{"$f":"Parameters!X136","v":1},{"$f":"Parameters!Y136","v":1},{"$f":"Parameters!Z136","v":1},{"$f":"Parameters!AA136","v":1},{"$f":"Parameters!AB136","v":1},{"$f":"Parameters!AC136","v":1},{"$f":"Parameters!AD136","v":1},{"$f":"Parameters!AE136","v":1},{"$f":"Parameters!AF136","v":1},{"$f":"Parameters!AG136","v":1},{"$f":"Parameters!AH136","v":1},{"$f":"Parameters!AI136","v":1},{"$f":"Parameters!AJ136","v":1},{"$f":"Parameters!AK136","v":1},{"$f":"Parameters!AL136","v":1},{"$f":"Parameters!AM136","v":1},{"$f":"Parameters!AN136","v":1},{"$f":"Parameters!AO136","v":1},{"$f":"Parameters!AP136","v":1},{"$f":"Parameters!AQ136","v":1},{"$f":"Parameters!AR136","v":1},{"$f":"Parameters!AS136","v":1},{"$f":"Parameters!AT136","v":1},{"$f":"Parameters!AU136","v":1},{"$f":"Parameters!AV136","v":1},{"$f":"Parameters!AW136","v":1},{"$f":"Parameters!AX136","v":1},{"$f":"Parameters!AY136","v":1},{"$f":"Parameters!AZ136","v":1},{"$f":"Parameters!BA136","v":1},{"$f":"Parameters!BB136","v":1},{"$f":"Parameters!BC136","v":1},{"$f":"Parameters!BD136","v":1},{"$f":"Parameters!BE136","v":1},{"$f":"Parameters!BF136","v":1},{"$f":"Parameters!BG136","v":1},{"$f":"Parameters!BH136","v":1},{"$f":"Parameters!BI136","v":1},{"$f":"Parameters!BJ136","v":1},{"$f":"Parameters!BK136","v":1},{"$f":"Parameters!BL136","v":1},{"$f":"Parameters!BM136","v":1},{"$f":"Parameters!BN136","v":1}]
[{"$f":"SETS!B78","v":"DEMCOMHEEL"},{"$f":"Parameters!K137","v":1},{"$f":"Parameters!L137","v":1},{"$f":"Parameters!M137","v":1},{"$f":"Parameters!N137","v":1},{"$f":"Parameters!O137","v":1},{"$f":"Parameters!P137","v":1},{"$f":"Parameters!Q137","v":1},{"$f":"Parameters!R137","v":1},{"$f":"Parameters!S137","v":1},{"$f":"Parameters!T137","v":1},{"$f":"Parameters!U137","v":1},{"$f":"Parameters!V137","v":1},{"$f":"Parameters!W137","v":1},{"$f":"Parameters!X137","v":1},{"$f":"Parameters!Y137","v":1},{"$f":"Parameters!Z137","v":1},{"$f":"Parameters!AA137","v":1},{"$f":"Parameters!AB137","v":1},{"$f":"Parameters!AC137","v":1},{"$f":"Parameters!AD137","v":1},{"$f":"Parameters!AE137","v":1},{"$f":"Parameters!AF137","v":1},{"$f":"Parameters!AG137","v":1},{"$f":"Parameters!AH137","v":1},{"$f":"Parameters!AI137","v":1},{"$f":"Parameters!AJ137","v":1},{"$f":"Parameters!AK137","v":1},{"$f":"Parameters!AL137","v":1},{"$f":"Parameters!AM137","v":1},{"$f":"Parameters!AN137","v":1},{"$f":"Parameters!AO137","v":1},{"$f":"Parameters!AP137","v":1},{"$f":"Parameters!AQ137","v":1},{"$f":"Parameters!AR137","v":1},{"$f":"Parameters!AS137","v":1},{"$f":"Parameters!AT137","v":1},{"$f":"Parameters!AU137","v":1},{"$f":"Parameters!AV137","v":1},{"$f":"Parameters!AW137","v":1},{"$f":"Parameters!AX137","v":1},{"$f":"Parameters!AY137","v":1},{"$f":"Parameters!AZ137","v":1},{"$f":"Parameters!BA137","v":1},{"$f":"Parameters!BB137","v":1},{"$f":"Parameters!BC137","v":1},{"$f":"Parameters!BD137","v":1},{"$f":"Parameters!BE137","v":1},{"$f":"Parameters!BF137","v":1},{"$f":"Parameters!BG137","v":1},{"$f":"Parameters!BH137","v":1},{"$f":"Parameters!BI137","v":1},{"$f":"Parameters!BJ137","v":1},{"$f":"Parameters!BK137","v":1},{"$f":"Parameters!BL137","v":1},{"$f":"Parameters!BM137","v":1},{"$f":"Parameters!BN137","v":1}]
[{"$f":"SETS!B79","v":"BSTOPMCY"},{"$f":"Parameters!K138","v":1},{"$f":"Parameters!L138","v":1},{"$f":"Parameters!M138","v":1},{"$f":"Parameters!N138","v":1},{"$f":"Parameters!O138","v":1},{"$f":"Parameters!P138","v":1},{"$f":"Parameters!Q138","v":1},{"$f":"Parameters!R138","v":1},{"$f":"Parameters!S138","v":1},{"$f":"Parameters!T138","v":1},{"$f":"Parameters!U138","v":1},{"$f":"Parameters!V138","v":1},{"$f":"Parameters!W138","v":1},{"$f":"Parameters!X138","v":1},{"$f":"Parameters!Y138","v":1},{"$f":"Parameters!Z138","v":1},{"$f":"Parameters!AA138","v":1},{"$f":"Parameters!AB138","v":1},{"$f":"Parameters!AC138","v":1},{"$f":"Parameters!AD138","v":1},{"$f":"Parameters!AE138","v":1},{"$f":"Parameters!AF138","v":1},{"$f":"Parameters!AG138","v":1},{"$f":"Parameters!AH138","v":1},{"$f":"Parameters!AI138","v":1},{"$f":"Parameters!AJ138","v":1},{"$f":"Parameters!AK138","v":1},{"$f":"Parameters!AL138","v":1},{"$f":"Parameters!AM138","v":1},{"$f":"Parameters!AN138","v":1},{"$f":"Parameters!AO138","v":1},{"$f":"Parameters!AP138","v":1},{"$f":"Parameters!AQ138","v":1},{"$f":"Parameters!AR138","v":1},{"$f":"Parameters!AS138","v":1},{"$f":"Parameters!AT138","v":1},{"$f":"Parameters!AU138","v":1},{"$f":"Parameters!AV138","v":1},{"$f":"Parameters!AW138","v":1},{"$f":"Parameters!AX138","v":1},{"$f":"Parameters!AY138","v":1},{"$f":"Parameters!AZ138","v":1},{"$f":"Parameters!BA138","v":1},{"$f":"Parameters!BB138","v":1},{"$f":"Parameters!BC138","v":1},{"$f":"Parameters!BD138","v":1},{"$f":"Parameters!BE138","v":1},{"$f":"Parameters!BF138","v":1},{"$f":"Parameters!BG138","v":1},{"$f":"Parameters!BH138","v":1},{"$f":"Parameters!BI138","v":1},{"$f":"Parameters!BJ138","v":1},{"$f":"Parameters!BK138","v":1},{"$f":"Parameters!BL138","v":1},{"$f":"Parameters!BM138","v":1},{"$f":"Parameters!BN138","v":1}]
[{"$f":"SETS!B80","v":"BSTOPCAR"},{"$f":"Parameters!K139","v":1},{"$f":"Parameters!L139","v":1},{"$f":"Parameters!M139","v":1},{"$f":"Parameters!N139","v":1},{"$f":"Parameters!O139","v":1},{"$f":"Parameters!P139","v":1},{"$f":"Parameters!Q139","v":1},{"$f":"Parameters!R139","v":1},{"$f":"Parameters!S139","v":1},{"$f":"Parameters!T139","v":1},{"$f":"Parameters!U139","v":1},{"$f":"Parameters!V139","v":1},{"$f":"Parameters!W139","v":1},{"$f":"Parameters!X139","v":1},{"$f":"Parameters!Y139","v":1},{"$f":"Parameters!Z139","v":1},{"$f":"Parameters!AA139","v":1},{"$f":"Parameters!AB139","v":1},{"$f":"Parameters!AC139","v":1},{"$f":"Parameters!AD139","v":1},{"$f":"Parameters!AE139","v":1},{"$f":"Parameters!AF139","v":1},{"$f":"Parameters!AG139","v":1},{"$f":"Parameters!AH139","v":1},{"$f":"Parameters!AI139","v":1},{"$f":"Parameters!AJ139","v":1},{"$f":"Parameters!AK139","v":1},{"$f":"Parameters!AL139","v":1},{"$f":"Parameters!AM139","v":1},{"$f":"Parameters!AN139","v":1},{"$f":"Parameters!AO139","v":1},{"$f":"Parameters!AP139","v":1},{"$f":"Parameters!AQ139","v":1},{"$f":"Parameters!AR139","v":1},{"$f":"Parameters!AS139","v":1},{"$f":"Parameters!AT139","v":1},{"$f":"Parameters!AU139","v":1},{"$f":"Parameters!AV139","v":1},{"$f":"Parameters!AW139","v":1},{"$f":"Parameters!AX139","v":1},{"$f":"Parameters!AY139","v":1},{"$f":"Parameters!AZ139","v":1},{"$f":"Parameters!BA139","v":1},{"$f":"Parameters!BB139","v":1},{"$f":"Parameters!BC139","v":1},{"$f":"Parameters!BD139","v":1},{"$f":"Parameters!BE139","v":1},{"$f":"Parameters!BF139","v":1},{"$f":"Parameters!BG139","v":1},{"$f":"Parameters!BH139","v":1},{"$f":"Parameters!BI139","v":1},{"$f":"Parameters!BJ139","v":1},{"$f":"Parameters!BK139","v":1},{"$f":"Parameters!BL139","v":1},{"$f":"Parameters!BM139","v":1},{"$f":"Parameters!BN139","v":1}]
[{"$f":"SETS!B81","v":"BSTOPBUS"},{"$f":"Parameters!K140","v":1},{"$f":"Parameters!L140","v":1},{"$f":"Parameters!M140","v":1},{"$f":"Parameters!N140","v":1},{"$f":"Parameters!O140","v":1},{"$f":"Parameters!P140","v":1},{"$f":"Parameters!Q140","v":1},{"$f":"Parameters!R140","v":1},{"$f":"Parameters!S140","v":1},{"$f":"Parameters!T140","v":1},{"$f":"Parameters!U140","v":1},{"$f":"Parameters!V140","v":1},{"$f":"Parameters!W140","v":1},{"$f":"Parameters!X140","v":1},{"$f":"Parameters!Y140","v":1},{"$f":"Parameters!Z140","v":1},{"$f":"Parameters!AA140","v":1},{"$f":"Parameters!AB140","v":1},{"$f":"Parameters!AC140","v":1},{"$f":"Parameters!AD140","v":1},{"$f":"Parameters!AE140","v":1},{"$f":"Parameters!AF140","v":1},{"$f":"Parameters!AG140","v":1},{"$f":"Parameters!AH140","v":1},{"$f":"Parameters!AI140","v":1},{"$f":"Parameters!AJ140","v":1},{"$f":"Parameters!AK140","v":1},{"$f":"Parameters!AL140","v":1},{"$f":"Parameters!AM140","v":1},{"$f":"Parameters!AN140","v":1},{"$f":"Parameters!AO140","v":1},{"$f":"Parameters!AP140","v":1},{"$f":"Parameters!AQ140","v":1},{"$f":"Parameters!AR140","v":1},{"$f":"Parameters!AS140","v":1},{"$f":"Parameters!AT140","v":1},{"$f":"Parameters!AU140","v":1},{"$f":"Parameters!AV140","v":1},{"$f":"Parameters!AW140","v":1},{"$f":"Parameters!AX140","v":1},{"$f":"Parameters!AY140","v":1},{"$f":"Parameters!AZ140","v":1},{"$f":"Parameters!BA140","v":1},{"$f":"Parameters!BB140","v":1},{"$f":"Parameters!BC140","v":1},{"$f":"Parameters!BD140","v":1},{"$f":"Parameters!BE140","v":1},{"$f":"Parameters!BF140","v":1},{"$f":"Parameters!BG140","v":1},{"$f":"Parameters!BH140","v":1},{"$f":"Parameters!BI140","v":1},{"$f":"Parameters!BJ140","v":1},{"$f":"Parameters!BK140","v":1},{"$f":"Parameters!BL140","v":1},{"$f":"Parameters!BM140","v":1},{"$f":"Parameters!BN140","v":1}]
[{"$f":"SETS!B82","v":"BSTOPINDELC"},{"$f":"Parameters!K141","v":1},{"$f":"Parameters!L141","v":1},{"$f":"Parameters!M141","v":1},{"$f":"Parameters!N141","v":1},{"$f":"Parameters!O141","v":1},{"$f":"Parameters!P141","v":1},{"$f":"Parameters!Q141","v":1},{"$f":"Parameters!R141","v":1},{"$f":"Parameters!S141","v":1},{"$f":"Parameters!T141","v":1},{"$f":"Parameters!U141","v":1},{"$f":"Parameters!V141","v":1},{"$f":"Parameters!W141","v":1},{"$f":"Parameters!X141","v":1},{"$f":"Parameters!Y141","v":1},{"$f":"Parameters!Z141","v":1},{"$f":"Parameters!AA141","v":1},{"$f":"Parameters!AB141","v":1},{"$f":"Parameters!AC141","v":1},{"$f":"Parameters!AD141","v":1},{"$f":"Parameters!AE141","v":1},{"$f":"Parameters!AF141","v":1},{"$f":"Parameters!AG141","v":1},{"$f":"Parameters!AH141","v":1},{"$f":"Parameters!AI141","v":1},{"$f":"Parameters!AJ141","v":1},{"$f":"Parameters!AK141","v":1},{"$f":"Parameters!AL141","v":1},{"$f":"Parameters!AM141","v":1},{"$f":"Parameters!AN141","v":1},{"$f":"Parameters!AO141","v":1},{"$f":"Parameters!AP141","v":1},{"$f":"Parameters!AQ141","v":1},{"$f":"Parameters!AR141","v":1},{"$f":"Parameters!AS141","v":1},{"$f":"Parameters!AT141","v":1},{"$f":"Parameters!AU141","v":1},{"$f":"Parameters!AV141","v":1},{"$f":"Parameters!AW141","v":1},{"$f":"Parameters!AX141","v":1},{"$f":"Parameters!AY141","v":1},{"$f":"Parameters!AZ141","v":1},{"$f":"Parameters!BA141","v":1},{"$f":"Parameters!BB141","v":1},{"$f":"Parameters!BC141","v":1},{"$f":"Parameters!BD141","v":1},{"$f":"Parameters!BE141","v":1},{"$f":"Parameters!BF141","v":1},{"$f":"Parameters!BG141","v":1},{"$f":"Parameters!BH141","v":1},{"$f":"Parameters!BI141","v":1},{"$f":"Parameters!BJ141","v":1},{"$f":"Parameters!BK141","v":1},{"$f":"Parameters!BL141","v":1},{"$f":"Parameters!BM141","v":1},{"$f":"Parameters!BN141","v":1}]
[{"$f":"SETS!B83","v":"BSTOPINHEH"},{"$f":"Parameters!K142","v":1},{"$f":"Parameters!L142","v":1},{"$f":"Parameters!M142","v":1},{"$f":"Parameters!N142","v":1},{"$f":"Parameters!O142","v":1},{"$f":"Parameters!P142","v":1},{"$f":"Parameters!Q142","v":1},{"$f":"Parameters!R142","v":1},{"$f":"Parameters!S142","v":1},{"$f":"Parameters!T142","v":1},{"$f":"Parameters!U142","v":1},{"$f":"Parameters!V142","v":1},{"$f":"Parameters!W142","v":1},{"$f":"Parameters!X142","v":1},{"$f":"Parameters!Y142","v":1},{"$f":"Parameters!Z142","v":1},{"$f":"Parameters!AA142","v":1},{"$f":"Parameters!AB142","v":1},{"$f":"Parameters!AC142","v":1},{"$f":"Parameters!AD142","v":1},{"$f":"Parameters!AE142","v":1},{"$f":"Parameters!AF142","v":1},{"$f":"Parameters!AG142","v":1},{"$f":"Parameters!AH142","v":1},{"$f":"Parameters!AI142","v":1},{"$f":"Parameters!AJ142","v":1},{"$f":"Parameters!AK142","v":1},{"$f":"Parameters!AL142","v":1},{"$f":"Parameters!AM142","v":1},{"$f":"Parameters!AN142","v":1},{"$f":"Parameters!AO142","v":1},{"$f":"Parameters!AP142","v":1},{"$f":"Parameters!AQ142","v":1},{"$f":"Parameters!AR142","v":1},{"$f":"Parameters!AS142","v":1},{"$f":"Parameters!AT142","v":1},{"$f":"Parameters!AU142","v":1},{"$f":"Parameters!AV142","v":1},{"$f":"Parameters!AW142","v":1},{"$f":"Parameters!AX142","v":1},{"$f":"Parameters!AY142","v":1},{"$f":"Parameters!AZ142","v":1},{"$f":"Parameters!BA142","v":1},{"$f":"Parameters!BB142","v":1},{"$f":"Parameters!BC142","v":1},{"$f":"Parameters!BD142","v":1},{"$f":"Parameters!BE142","v":1},{"$f":"Parameters!BF142","v":1},{"$f":"Parameters!BG142","v":1},{"$f":"Parameters!BH142","v":1},{"$f":"Parameters!BI142","v":1},{"$f":"Parameters!BJ142","v":1},{"$f":"Parameters!BK142","v":1},{"$f":"Parameters!BL142","v":1},{"$f":"Parameters!BM142","v":1},{"$f":"Parameters!BN142","v":1}]
[{"$f":"SETS!B84","v":"BSTOPINDHEL"},{"$f":"Parameters!K143","v":1},{"$f":"Parameters!L143","v":1},{"$f":"Parameters!M143","v":1},{"$f":"Parameters!N143","v":1},{"$f":"Parameters!O143","v":1},{"$f":"Parameters!P143","v":1},{"$f":"Parameters!Q143","v":1},{"$f":"Parameters!R143","v":1},{"$f":"Parameters!S143","v":1},{"$f":"Parameters!T143","v":1},{"$f":"Parameters!U143","v":1},{"$f":"Parameters!V143","v":1},{"$f":"Parameters!W143","v":1},{"$f":"Parameters!X143","v":1},{"$f":"Parameters!Y143","v":1},{"$f":"Parameters!Z143","v":1},{"$f":"Parameters!AA143","v":1},{"$f":"Parameters!AB143","v":1},{"$f":"Parameters!AC143","v":1},{"$f":"Parameters!AD143","v":1},{"$f":"Parameters!AE143","v":1},{"$f":"Parameters!AF143","v":1},{"$f":"Parameters!AG143","v":1},{"$f":"Parameters!AH143","v":1},{"$f":"Parameters!AI143","v":1},{"$f":"Parameters!AJ143","v":1},{"$f":"Parameters!AK143","v":1},{"$f":"Parameters!AL143","v":1},{"$f":"Parameters!AM143","v":1},{"$f":"Parameters!AN143","v":1},{"$f":"Parameters!AO143","v":1},{"$f":"Parameters!AP143","v":1},{"$f":"Parameters!AQ143","v":1},{"$f":"Parameters!AR143","v":1},{"$f":"Parameters!AS143","v":1},{"$f":"Parameters!AT143","v":1},{"$f":"Parameters!AU143","v":1},{"$f":"Parameters!AV143","v":1},{"$f":"Parameters!AW143","v":1},{"$f":"Parameters!AX143","v":1},{"$f":"Parameters!AY143","v":1},{"$f":"Parameters!AZ143","v":1},{"$f":"Parameters!BA143","v":1},{"$f":"Parameters!BB143","v":1},{"$f":"Parameters!BC143","v":1},{"$f":"Parameters!BD143","v":1},{"$f":"Parameters!BE143","v":1},{"$f":"Parameters!BF143","v":1},{"$f":"Parameters!BG143","v":1},{"$f":"Parameters!BH143","v":1},{"$f":"Parameters!BI143","v":1},{"$f":"Parameters!BJ143","v":1},{"$f":"Parameters!BK143","v":1},{"$f":"Parameters!BL143","v":1},{"$f":"Parameters!BM143","v":1},{"$f":"Parameters!BN143","v":1}]
[{"$f":"SETS!B85","v":"BSTOPRESELC"},{"$f":"Parameters!K144","v":1},{"$f":"Parameters!L144","v":1},{"$f":"Parameters!M144","v":1},{"$f":"Parameters!N144","v":1},{"$f":"Parameters!O144","v":1},{"$f":"Parameters!P144","v":1},{"$f":"Parameters!Q144","v":1},{"$f":"Parameters!R144","v":1},{"$f":"Parameters!S144","v":1},{"$f":"Parameters!T144","v":1},{"$f":"Parameters!U144","v":1},{"$f":"Parameters!V144","v":1},{"$f":"Parameters!W144","v":1},{"$f":"Parameters!X144","v":1},{"$f":"Parameters!Y144","v":1},{"$f":"Parameters!Z144","v":1},{"$f":"Parameters!AA144","v":1},{"$f":"Parameters!AB144","v":1},{"$f":"Parameters!AC144","v":1},{"$f":"Parameters!AD144","v":1},{"$f":"Parameters!AE144","v":1},{"$f":"Parameters!AF144","v":1},{"$f":"Parameters!AG144","v":1},{"$f":"Parameters!AH144","v":1},{"$f":"Parameters!AI144","v":1},{"$f":"Parameters!AJ144","v":1},{"$f":"Parameters!AK144","v":1},{"$f":"Parameters!AL144","v":1},{"$f":"Parameters!AM144","v":1},{"$f":"Parameters!AN144","v":1},{"$f":"Parameters!AO144","v":1},{"$f":"Parameters!AP144","v":1},{"$f":"Parameters!AQ144","v":1},{"$f":"Parameters!AR144","v":1},{"$f":"Parameters!AS144","v":1},{"$f":"Parameters!AT144","v":1},{"$f":"Parameters!AU144","v":1},{"$f":"Parameters!AV144","v":1},{"$f":"Parameters!AW144","v":1},{"$f":"Parameters!AX144","v":1},{"$f":"Parameters!AY144","v":1},{"$f":"Parameters!AZ144","v":1},{"$f":"Parameters!BA144","v":1},{"$f":"Parameters!BB144","v":1},{"$f":"Parameters!BC144","v":1},{"$f":"Parameters!BD144","v":1},{"$f":"Parameters!BE144","v":1},{"$f":"Parameters!BF144","v":1},{"$f":"Parameters!BG144","v":1},{"$f":"Parameters!BH144","v":1},{"$f":"Parameters!BI144","v":1},{"$f":"Parameters!BJ144","v":1},{"$f":"Parameters!BK144","v":1},{"$f":"Parameters!BL144","v":1},{"$f":"Parameters!BM144","v":1},{"$f":"Parameters!BN144","v":1}]
[{"$f":"SETS!B86","v":"BSTOPRESCKN"},{"$f":"Parameters!K145","v":1},{"$f":"Parameters!L145","v":1},{"$f":"Parameters!M145","v":1},{"$f":"Parameters!N145","v":1},{"$f":"Parameters!O145","v":1},{"$f":"Parameters!P145","v":1},{"$f":"Parameters!Q145","v":1},{"$f":"Parameters!R145","v":1},{"$f":"Parameters!S145","v":1},{"$f":"Parameters!T145","v":1},{"$f":"Parameters!U145","v":1},{"$f":"Parameters!V145","v":1},{"$f":"Parameters!W145","v":1},{"$f":"Parameters!X145","v":1},{"$f":"Parameters!Y145","v":1},{"$f":"Parameters!Z145","v":1},{"$f":"Parameters!AA145","v":1},{"$f":"Parameters!AB145","v":1},{"$f":"Parameters!AC145","v":1},{"$f":"Parameters!AD145","v":1},{"$f":"Parameters!AE145","v":1},{"$f":"Parameters!AF145","v":1},{"$f":"Parameters!AG145","v":1},{"$f":"Parameters!AH145","v":1},{"$f":"Parameters!AI145","v":1},{"$f":"Parameters!AJ145","v":1},{"$f":"Parameters!AK145","v":1},{"$f":"Parameters!AL145","v":1},{"$f":"Parameters!AM145","v":1},{"$f":"Parameters!AN145","v":1},{"$f":"Parameters!AO145","v":1},{"$f":"Parameters!AP145","v":1},{"$f":"Parameters!AQ145","v":1},{"$f":"Parameters!AR145","v":1},{"$f":"Parameters!AS145","v":1},{"$f":"Parameters!AT145","v":1},{"$f":"Parameters!AU145","v":1},{"$f":"Parameters!AV145","v":1},{"$f":"Parameters!AW145","v":1},{"$f":"Parameters!AX145","v":1},{"$f":"Parameters!AY145","v":1},{"$f":"Parameters!AZ145","v":1},{"$f":"Parameters!BA145","v":1},{"$f":"Parameters!BB145","v":1},{"$f":"Parameters!BC145","v":1},{"$f":"Parameters!BD145","v":1},{"$f":"Parameters!BE145","v":1},{"$f":"Parameters!BF145","v":1},{"$f":"Parameters!BG145","v":1},{"$f":"Parameters!BH145","v":1},{"$f":"Parameters!BI145","v":1},{"$f":"Parameters!BJ145","v":1},{"$f":"Parameters!BK145","v":1},{"$f":"Parameters!BL145","v":1},{"$f":"Parameters!BM145","v":1},{"$f":"Parameters!BN145","v":1}]
[{"$f":"SETS!B87","v":"BSTOPRESHEL"},{"$f":"Parameters!K146","v":1},{"$f":"Parameters!L146","v":1},{"$f":"Parameters!M146","v":1},{"$f":"Parameters!N146","v":1},{"$f":"Parameters!O146","v":1},{"$f":"Parameters!P146","v":1},{"$f":"Parameters!Q146","v":1},{"$f":"Parameters!R146","v":1},{"$f":"Parameters!S146","v":1},{"$f":"Parameters!T146","v":1},{"$f":"Parameters!U146","v":1},{"$f":"Parameters!V146","v":1},{"$f":"Parameters!W146","v":1},{"$f":"Parameters!X146","v":1},{"$f":"Parameters!Y146","v":1},{"$f":"Parameters!Z146","v":1},{"$f":"Parameters!AA146","v":1},{"$f":"Parameters!AB146","v":1},{"$f":"Parameters!AC146","v":1},{"$f":"Parameters!AD146","v":1},{"$f":"Parameters!AE146","v":1},{"$f":"Parameters!AF146","v":1},{"$f":"Parameters!AG146","v":1},{"$f":"Parameters!AH146","v":1},{"$f":"Parameters!AI146","v":1},{"$f":"Parameters!AJ146","v":1},{"$f":"Parameters!AK146","v":1},{"$f":"Parameters!AL146","v":1},{"$f":"Parameters!AM146","v":1},{"$f":"Parameters!AN146","v":1},{"$f":"Parameters!AO146","v":1},{"$f":"Parameters!AP146","v":1},{"$f":"Parameters!AQ146","v":1},{"$f":"Parameters!AR146","v":1},{"$f":"Parameters!AS146","v":1},{"$f":"Parameters!AT146","v":1},{"$f":"Parameters!AU146","v":1},{"$f":"Parameters!AV146","v":1},{"$f":"Parameters!AW146","v":1},{"$f":"Parameters!AX146","v":1},{"$f":"Parameters!AY146","v":1},{"$f":"Parameters!AZ146","v":1},{"$f":"Parameters!BA146","v":1},{"$f":"Parameters!BB146","v":1},{"$f":"Parameters!BC146","v":1},{"$f":"Parameters!BD146","v":1},{"$f":"Parameters!BE146","v":1},{"$f":"Parameters!BF146","v":1},{"$f":"Parameters!BG146","v":1},{"$f":"Parameters!BH146","v":1},{"$f":"Parameters!BI146","v":1},{"$f":"Parameters!BJ146","v":1},{"$f":"Parameters!BK146","v":1},{"$f":"Parameters!BL146","v":1},{"$f":"Parameters!BM146","v":1},{"$f":"Parameters!BN146","v":1}]
[{"$f":"SETS!B88","v":"BSTOPCOMELC"},{"$f":"Parameters!K147","v":1},{"$f":"Parameters!L147","v":1},{"$f":"Parameters!M147","v":1},{"$f":"Parameters!N147","v":1},{"$f":"Parameters!O147","v":1},{"$f":"Parameters!P147","v":1},{"$f":"Parameters!Q147","v":1},{"$f":"Parameters!R147","v":1},{"$f":"Parameters!S147","v":1},{"$f":"Parameters!T147","v":1},{"$f":"Parameters!U147","v":1},{"$f":"Parameters!V147","v":1},{"$f":"Parameters!W147","v":1},{"$f":"Parameters!X147","v":1},{"$f":"Parameters!Y147","v":1},{"$f":"Parameters!Z147","v":1},{"$f":"Parameters!AA147","v":1},{"$f":"Parameters!AB147","v":1},{"$f":"Parameters!AC147","v":1},{"$f":"Parameters!AD147","v":1},{"$f":"Parameters!AE147","v":1},{"$f":"Parameters!AF147","v":1},{"$f":"Parameters!AG147","v":1},{"$f":"Parameters!AH147","v":1},{"$f":"Parameters!AI147","v":1},{"$f":"Parameters!AJ147","v":1},{"$f":"Parameters!AK147","v":1},{"$f":"Parameters!AL147","v":1},{"$f":"Parameters!AM147","v":1},{"$f":"Parameters!AN147","v":1},{"$f":"Parameters!AO147","v":1},{"$f":"Parameters!AP147","v":1},{"$f":"Parameters!AQ147","v":1},{"$f":"Parameters!AR147","v":1},{"$f":"Parameters!AS147","v":1},{"$f":"Parameters!AT147","v":1},{"$f":"Parameters!AU147","v":1},{"$f":"Parameters!AV147","v":1},{"$f":"Parameters!AW147","v":1},{"$f":"Parameters!AX147","v":1},{"$f":"Parameters!AY147","v":1},{"$f":"Parameters!AZ147","v":1},{"$f":"Parameters!BA147","v":1},{"$f":"Parameters!BB147","v":1},{"$f":"Parameters!BC147","v":1},{"$f":"Parameters!BD147","v":1},{"$f":"Parameters!BE147","v":1},{"$f":"Parameters!BF147","v":1},{"$f":"Parameters!BG147","v":1},{"$f":"Parameters!BH147","v":1},{"$f":"Parameters!BI147","v":1},{"$f":"Parameters!BJ147","v":1},{"$f":"Parameters!BK147","v":1},{"$f":"Parameters!BL147","v":1},{"$f":"Parameters!BM147","v":1},{"$f":"Parameters!BN147","v":1}]
[{"$f":"SETS!B89","v":"BSTOPCOMHEL"},{"$f":"Parameters!K148","v":1},{"$f":"Parameters!L148","v":1},{"$f":"Parameters!M148","v":1},{"$f":"Parameters!N148","v":1},{"$f":"Parameters!O148","v":1},{"$f":"Parameters!P148","v":1},{"$f":"Parameters!Q148","v":1},{"$f":"Parameters!R148","v":1},{"$f":"Parameters!S148","v":1},{"$f":"Parameters!T148","v":1},{"$f":"Parameters!U148","v":1},{"$f":"Parameters!V148","v":1},{"$f":"Parameters!W148","v":1},{"$f":"Parameters!X148","v":1},{"$f":"Parameters!Y148","v":1},{"$f":"Parameters!Z148","v":1},{"$f":"Parameters!AA148","v":1},{"$f":"Parameters!AB148","v":1},{"$f":"Parameters!AC148","v":1},{"$f":"Parameters!AD148","v":1},{"$f":"Parameters!AE148","v":1},{"$f":"Parameters!AF148","v":1},{"$f":"Parameters!AG148","v":1},{"$f":"Parameters!AH148","v":1},{"$f":"Parameters!AI148","v":1},{"$f":"Parameters!AJ148","v":1},{"$f":"Parameters!AK148","v":1},{"$f":"Parameters!AL148","v":1},{"$f":"Parameters!AM148","v":1},{"$f":"Parameters!AN148","v":1},{"$f":"Parameters!AO148","v":1},{"$f":"Parameters!AP148","v":1},{"$f":"Parameters!AQ148","v":1},{"$f":"Parameters!AR148","v":1},{"$f":"Parameters!AS148","v":1},{"$f":"Parameters!AT148","v":1},{"$f":"Parameters!AU148","v":1},{"$f":"Parameters!AV148","v":1},{"$f":"Parameters!AW148","v":1},{"$f":"Parameters!AX148","v":1},{"$f":"Parameters!AY148","v":1},{"$f":"Parameters!AZ148","v":1},{"$f":"Parameters!BA148","v":1},{"$f":"Parameters!BB148","v":1},{"$f":"Parameters!BC148","v":1},{"$f":"Parameters!BD148","v":1},{"$f":"Parameters!BE148","v":1},{"$f":"Parameters!BF148","v":1},{"$f":"Parameters!BG148","v":1},{"$f":"Parameters!BH148","v":1},{"$f":"Parameters!BI148","v":1},{"$f":"Parameters!BJ148","v":1},{"$f":"Parameters!BK148","v":1},{"$f":"Parameters!BL148","v":1},{"$f":"Parameters!BM148","v":1},{"$f":"Parameters!BN148","v":1}]
[{"$f":"SETS!B90","v":"DEMINDHECOA"},{"$f":"Parameters!K149","v":1},{"$f":"Parameters!L149","v":1},{"$f":"Parameters!M149","v":1},{"$f":"Parameters!N149","v":1},{"$f":"Parameters!O149","v":1},{"$f":"Parameters!P149","v":1},{"$f":"Parameters!Q149","v":1},{"$f":"Parameters!R149","v":1},{"$f":"Parameters!S149","v":1},{"$f":"Parameters!T149","v":1},{"$f":"Parameters!U149","v":1},{"$f":"Parameters!V149","v":1},{"$f":"Parameters!W149","v":1},{"$f":"Parameters!X149","v":1},{"$f":"Parameters!Y149","v":1},{"$f":"Parameters!Z149","v":1},{"$f":"Parameters!AA149","v":1},{"$f":"Parameters!AB149","v":1},{"$f":"Parameters!AC149","v":1},{"$f":"Parameters!AD149","v":1},{"$f":"Parameters!AE149","v":1},{"$f":"Parameters!AF149","v":1},{"$f":"Parameters!AG149","v":1},{"$f":"Parameters!AH149","v":1},{"$f":"Parameters!AI149","v":1},{"$f":"Parameters!AJ149","v":1},{"$f":"Parameters!AK149","v":1},{"$f":"Parameters!AL149","v":1},{"$f":"Parameters!AM149","v":1},{"$f":"Parameters!AN149","v":1},{"$f":"Parameters!AO149","v":1},{"$f":"Parameters!AP149","v":1},{"$f":"Parameters!AQ149","v":1},{"$f":"Parameters!AR149","v":1},{"$f":"Parameters!AS149","v":1},{"$f":"Parameters!AT149","v":1},{"$f":"Parameters!AU149","v":1},{"$f":"Parameters!AV149","v":1},{"$f":"Parameters!AW149","v":1},{"$f":"Parameters!AX149","v":1},{"$f":"Parameters!AY149","v":1},{"$f":"Parameters!AZ149","v":1},{"$f":"Parameters!BA149","v":1},{"$f":"Parameters!BB149","v":1},{"$f":"Parameters!BC149","v":1},{"$f":"Parameters!BD149","v":1},{"$f":"Parameters!BE149","v":1},{"$f":"Parameters!BF149","v":1},{"$f":"Parameters!BG149","v":1},{"$f":"Parameters!BH149","v":1},{"$f":"Parameters!BI149","v":1},{"$f":"Parameters!BJ149","v":1},{"$f":"Parameters!BK149","v":1},{"$f":"Parameters!BL149","v":1},{"$f":"Parameters!BM149","v":1},{"$f":"Parameters!BN149","v":1}]
[{"$f":"SETS!B91","v":"TEC088"},{"$f":"Parameters!K150","v":1},{"$f":"Parameters!L150","v":1},{"$f":"Parameters!M150","v":1},{"$f":"Parameters!N150","v":1},{"$f":"Parameters!O150","v":1},{"$f":"Parameters!P150","v":1},{"$f":"Parameters!Q150","v":1},{"$f":"Parameters!R150","v":1},{"$f":"Parameters!S150","v":1},{"$f":"Parameters!T150","v":1},{"$f":"Parameters!U150","v":1},{"$f":"Parameters!V150","v":1},{"$f":"Parameters!W150","v":1},{"$f":"Parameters!X150","v":1},{"$f":"Parameters!Y150","v":1},{"$f":"Parameters!Z150","v":1},{"$f":"Parameters!AA150","v":1},{"$f":"Parameters!AB150","v":1},{"$f":"Parameters!AC150","v":1},{"$f":"Parameters!AD150","v":1},{"$f":"Parameters!AE150","v":1},{"$f":"Parameters!AF150","v":1},{"$f":"Parameters!AG150","v":1},{"$f":"Parameters!AH150","v":1},{"$f":"Parameters!AI150","v":1},{"$f":"Parameters!AJ150","v":1},{"$f":"Parameters!AK150","v":1},{"$f":"Parameters!AL150","v":1},{"$f":"Parameters!AM150","v":1},{"$f":"Parameters!AN150","v":1},{"$f":"Parameters!AO150","v":1},{"$f":"Parameters!AP150","v":1},{"$f":"Parameters!AQ150","v":1},{"$f":"Parameters!AR150","v":1},{"$f":"Parameters!AS150","v":1},{"$f":"Parameters!AT150","v":1},{"$f":"Parameters!AU150","v":1},{"$f":"Parameters!AV150","v":1},{"$f":"Parameters!AW150","v":1},{"$f":"Parameters!AX150","v":1},{"$f":"Parameters!AY150","v":1},{"$f":"Parameters!AZ150","v":1},{"$f":"Parameters!BA150","v":1},{"$f":"Parameters!BB150","v":1},{"$f":"Parameters!BC150","v":1},{"$f":"Parameters!BD150","v":1},{"$f":"Parameters!BE150","v":1},{"$f":"Parameters!BF150","v":1},{"$f":"Parameters!BG150","v":1},{"$f":"Parameters!BH150","v":1},{"$f":"Parameters!BI150","v":1},{"$f":"Parameters!BJ150","v":1},{"$f":"Parameters!BK150","v":1},{"$f":"Parameters!BL150","v":1},{"$f":"Parameters!BM150","v":1},{"$f":"Parameters!BN150","v":1}]
[{"$f":"SETS!B92","v":"TEC089"},{"$f":"Parameters!K151","v":1},{"$f":"Parameters!L151","v":1},{"$f":"Parameters!M151","v":1},{"$f":"Parameters!N151","v":1},{"$f":"Parameters!O151","v":1},{"$f":"Parameters!P151","v":1},{"$f":"Parameters!Q151","v":1},{"$f":"Parameters!R151","v":1},{"$f":"Parameters!S151","v":1},{"$f":"Parameters!T151","v":1},{"$f":"Parameters!U151","v":1},{"$f":"Parameters!V151","v":1},{"$f":"Parameters!W151","v":1},{"$f":"Parameters!X151","v":1},{"$f":"Parameters!Y151","v":1},{"$f":"Parameters!Z151","v":1},{"$f":"Parameters!AA151","v":1},{"$f":"Parameters!AB151","v":1},{"$f":"Parameters!AC151","v":1},{"$f":"Parameters!AD151","v":1},{"$f":"Parameters!AE151","v":1},{"$f":"Parameters!AF151","v":1},{"$f":"Parameters!AG151","v":1},{"$f":"Parameters!AH151","v":1},{"$f":"Parameters!AI151","v":1},{"$f":"Parameters!AJ151","v":1},{"$f":"Parameters!AK151","v":1},{"$f":"Parameters!AL151","v":1},{"$f":"Parameters!AM151","v":1},{"$f":"Parameters!AN151","v":1},{"$f":"Parameters!AO151","v":1},{"$f":"Parameters!AP151","v":1},{"$f":"Parameters!AQ151","v":1},{"$f":"Parameters!AR151","v":1},{"$f":"Parameters!AS151","v":1},{"$f":"Parameters!AT151","v":1},{"$f":"Parameters!AU151","v":1},{"$f":"Parameters!AV151","v":1},{"$f":"Parameters!AW151","v":1},{"$f":"Parameters!AX151","v":1},{"$f":"Parameters!AY151","v":1},{"$f":"Parameters!AZ151","v":1},{"$f":"Parameters!BA151","v":1},{"$f":"Parameters!BB151","v":1},{"$f":"Parameters!BC151","v":1},{"$f":"Parameters!BD151","v":1},{"$f":"Parameters!BE151","v":1},{"$f":"Parameters!BF151","v":1},{"$f":"Parameters!BG151","v":1},{"$f":"Parameters!BH151","v":1},{"$f":"Parameters!BI151","v":1},{"$f":"Parameters!BJ151","v":1},{"$f":"Parameters!BK151","v":1},{"$f":"Parameters!BL151","v":1},{"$f":"Parameters!BM151","v":1},{"$f":"Parameters!BN151","v":1}]
[{"$f":"SETS!B93","v":"TEC090"},{"$f":"Parameters!K152","v":1},{"$f":"Parameters!L152","v":1},{"$f":"Parameters!M152","v":1},{"$f":"Parameters!N152","v":1},{"$f":"Parameters!O152","v":1},{"$f":"Parameters!P152","v":1},{"$f":"Parameters!Q152","v":1},{"$f":"Parameters!R152","v":1},{"$f":"Parameters!S152","v":1},{"$f":"Parameters!T152","v":1},{"$f":"Parameters!U152","v":1},{"$f":"Parameters!V152","v":1},{"$f":"Parameters!W152","v":1},{"$f":"Parameters!X152","v":1},{"$f":"Parameters!Y152","v":1},{"$f":"Parameters!Z152","v":1},{"$f":"Parameters!AA152","v":1},{"$f":"Parameters!AB152","v":1},{"$f":"Parameters!AC152","v":1},{"$f":"Parameters!AD152","v":1},{"$f":"Parameters!AE152","v":1},{"$f":"Parameters!AF152","v":1},{"$f":"Parameters!AG152","v":1},{"$f":"Parameters!AH152","v":1},{"$f":"Parameters!AI152","v":1},{"$f":"Parameters!AJ152","v":1},{"$f":"Parameters!AK152","v":1},{"$f":"Parameters!AL152","v":1},{"$f":"Parameters!AM152","v":1},{"$f":"Parameters!AN152","v":1},{"$f":"Parameters!AO152","v":1},{"$f":"Parameters!AP152","v":1},{"$f":"Parameters!AQ152","v":1},{"$f":"Parameters!AR152","v":1},{"$f":"Parameters!AS152","v":1},{"$f":"Parameters!AT152","v":1},{"$f":"Parameters!AU152","v":1},{"$f":"Parameters!AV152","v":1},{"$f":"Parameters!AW152","v":1},{"$f":"Parameters!AX152","v":1},{"$f":"Parameters!AY152","v":1},{"$f":"Parameters!AZ152","v":1},{"$f":"Parameters!BA152","v":1},{"$f":"Parameters!BB152","v":1},{"$f":"Parameters!BC152","v":1},{"$f":"Parameters!BD152","v":1},{"$f":"Parameters!BE152","v":1},{"$f":"Parameters!BF152","v":1},{"$f":"Parameters!BG152","v":1},{"$f":"Parameters!BH152","v":1},{"$f":"Parameters!BI152","v":1},{"$f":"Parameters!BJ152","v":1},{"$f":"Parameters!BK152","v":1},{"$f":"Parameters!BL152","v":1},{"$f":"Parameters!BM152","v":1},{"$f":"Parameters!BN152","v":1}]
[{"$f":"SETS!B94","v":"TEC091"},{"$f":"Parameters!K153","v":1},{"$f":"Parameters!L153","v":1},{"$f":"Parameters!M153","v":1},{"$f":"Parameters!N153","v":1},{"$f":"Parameters!O153","v":1},{"$f":"Parameters!P153","v":1},{"$f":"Parameters!Q153","v":1},{"$f":"Parameters!R153","v":1},{"$f":"Parameters!S153","v":1},{"$f":"Parameters!T153","v":1},{"$f":"Parameters!U153","v":1},{"$f":"Parameters!V153","v":1},{"$f":"Parameters!W153","v":1},{"$f":"Parameters!X153","v":1},{"$f":"Parameters!Y153","v":1},{"$f":"Parameters!Z153","v":1},{"$f":"Parameters!AA153","v":1},{"$f":"Parameters!AB153","v":1},{"$f":"Parameters!AC153","v":1},{"$f":"Parameters!AD153","v":1},{"$f":"Parameters!AE153","v":1},{"$f":"Parameters!AF153","v":1},{"$f":"Parameters!AG153","v":1},{"$f":"Parameters!AH153","v":1},{"$f":"Parameters!AI153","v":1},{"$f":"Parameters!AJ153","v":1},{"$f":"Parameters!AK153","v":1},{"$f":"Parameters!AL153","v":1},{"$f":"Parameters!AM153","v":1},{"$f":"Parameters!AN153","v":1},{"$f":"Parameters!AO153","v":1},{"$f":"Parameters!AP153","v":1},{"$f":"Parameters!AQ153","v":1},{"$f":"Parameters!AR153","v":1},{"$f":"Parameters!AS153","v":1},{"$f":"Parameters!AT153","v":1},{"$f":"Parameters!AU153","v":1},{"$f":"Parameters!AV153","v":1},{"$f":"Parameters!AW153","v":1},{"$f":"Parameters!AX153","v":1},{"$f":"Parameters!AY153","v":1},{"$f":"Parameters!AZ153","v":1},{"$f":"Parameters!BA153","v":1},{"$f":"Parameters!BB153","v":1},{"$f":"Parameters!BC153","v":1},{"$f":"Parameters!BD153","v":1},{"$f":"Parameters!BE153","v":1},{"$f":"Parameters!BF153","v":1},{"$f":"Parameters!BG153","v":1},{"$f":"Parameters!BH153","v":1},{"$f":"Parameters!BI153","v":1},{"$f":"Parameters!BJ153","v":1},{"$f":"Parameters!BK153","v":1},{"$f":"Parameters!BL153","v":1},{"$f":"Parameters!BM153","v":1},{"$f":"Parameters!BN153","v":1}]
[{"$f":"SETS!B95","v":"TEC092"},{"$f":"Parameters!K154","v":1},{"$f":"Parameters!L154","v":1},{"$f":"Parameters!M154","v":1},{"$f":"Parameters!N154","v":1},{"$f":"Parameters!O154","v":1},{"$f":"Parameters!P154","v":1},{"$f":"Parameters!Q154","v":1},{"$f":"Parameters!R154","v":1},{"$f":"Parameters!S154","v":1},{"$f":"Parameters!T154","v":1},{"$f":"Parameters!U154","v":1},{"$f":"Parameters!V154","v":1},{"$f":"Parameters!W154","v":1},{"$f":"Parameters!X154","v":1},{"$f":"Parameters!Y154","v":1},{"$f":"Parameters!Z154","v":1},{"$f":"Parameters!AA154","v":1},{"$f":"Parameters!AB154","v":1},{"$f":"Parameters!AC154","v":1},{"$f":"Parameters!AD154","v":1},{"$f":"Parameters!AE154","v":1},{"$f":"Parameters!AF154","v":1},{"$f":"Parameters!AG154","v":1},{"$f":"Parameters!AH154","v":1},{"$f":"Parameters!AI154","v":1},{"$f":"Parameters!AJ154","v":1},{"$f":"Parameters!AK154","v":1},{"$f":"Parameters!AL154","v":1},{"$f":"Parameters!AM154","v":1},{"$f":"Parameters!AN154","v":1},{"$f":"Parameters!AO154","v":1},{"$f":"Parameters!AP154","v":1},{"$f":"Parameters!AQ154","v":1},{"$f":"Parameters!AR154","v":1},{"$f":"Parameters!AS154","v":1},{"$f":"Parameters!AT154","v":1},{"$f":"Parameters!AU154","v":1},{"$f":"Parameters!AV154","v":1},{"$f":"Parameters!AW154","v":1},{"$f":"Parameters!AX154","v":1},{"$f":"Parameters!AY154","v":1},{"$f":"Parameters!AZ154","v":1},{"$f":"Parameters!BA154","v":1},{"$f":"Parameters!BB154","v":1},{"$f":"Parameters!BC154","v":1},{"$f":"Parameters!BD154","v":1},{"$f":"Parameters!BE154","v":1},{"$f":"Parameters!BF154","v":1},{"$f":"Parameters!BG154","v":1},{"$f":"Parameters!BH154","v":1},{"$f":"Parameters!BI154","v":1},{"$f":"Parameters!BJ154","v":1},{"$f":"Parameters!BK154","v":1},{"$f":"Parameters!BL154","v":1},{"$f":"Parameters!BM154","v":1},{"$f":"Parameters!BN154","v":1}]
[{"$f":"SETS!B96","v":"TEC093"},{"$f":"Parameters!K155","v":1},{"$f":"Parameters!L155","v":1},{"$f":"Parameters!M155","v":1},{"$f":"Parameters!N155","v":1},{"$f":"Parameters!O155","v":1},{"$f":"Parameters!P155","v":1},{"$f":"Parameters!Q155","v":1},{"$f":"Parameters!R155","v":1},{"$f":"Parameters!S155","v":1},{"$f":"Parameters!T155","v":1},{"$f":"Parameters!U155","v":1},{"$f":"Parameters!V155","v":1},{"$f":"Parameters!W155","v":1},{"$f":"Parameters!X155","v":1},{"$f":"Parameters!Y155","v":1},{"$f":"Parameters!Z155","v":1},{"$f":"Parameters!AA155","v":1},{"$f":"Parameters!AB155","v":1},{"$f":"Parameters!AC155","v":1},{"$f":"Parameters!AD155","v":1},{"$f":"Parameters!AE155","v":1},{"$f":"Parameters!AF155","v":1},{"$f":"Parameters!AG155","v":1},{"$f":"Parameters!AH155","v":1},{"$f":"Parameters!AI155","v":1},{"$f":"Parameters!AJ155","v":1},{"$f":"Parameters!AK155","v":1},{"$f":"Parameters!AL155","v":1},{"$f":"Parameters!AM155","v":1},{"$f":"Parameters!AN155","v":1},{"$f":"Parameters!AO155","v":1},{"$f":"Parameters!AP155","v":1},{"$f":"Parameters!AQ155","v":1},{"$f":"Parameters!AR155","v":1},{"$f":"Parameters!AS155","v":1},{"$f":"Parameters!AT155","v":1},{"$f":"Parameters!AU155","v":1},{"$f":"Parameters!AV155","v":1},{"$f":"Parameters!AW155","v":1},{"$f":"Parameters!AX155","v":1},{"$f":"Parameters!AY155","v":1},{"$f":"Parameters!AZ155","v":1},{"$f":"Parameters!BA155","v":1},{"$f":"Parameters!BB155","v":1},{"$f":"Parameters!BC155","v":1},{"$f":"Parameters!BD155","v":1},{"$f":"Parameters!BE155","v":1},{"$f":"Parameters!BF155","v":1},{"$f":"Parameters!BG155","v":1},{"$f":"Parameters!BH155","v":1},{"$f":"Parameters!BI155","v":1},{"$f":"Parameters!BJ155","v":1},{"$f":"Parameters!BK155","v":1},{"$f":"Parameters!BL155","v":1},{"$f":"Parameters!BM155","v":1},{"$f":"Parameters!BN155","v":1}]
[{"$f":"SETS!B97","v":"TEC094"},{"$f":"Parameters!K156","v":1},{"$f":"Parameters!L156","v":1},{"$f":"Parameters!M156","v":1},{"$f":"Parameters!N156","v":1},{"$f":"Parameters!O156","v":1},{"$f":"Parameters!P156","v":1},{"$f":"Parameters!Q156","v":1},{"$f":"Parameters!R156","v":1},{"$f":"Parameters!S156","v":1},{"$f":"Parameters!T156","v":1},{"$f":"Parameters!U156","v":1},{"$f":"Parameters!V156","v":1},{"$f":"Parameters!W156","v":1},{"$f":"Parameters!X156","v":1},{"$f":"Parameters!Y156","v":1},{"$f":"Parameters!Z156","v":1},{"$f":"Parameters!AA156","v":1},{"$f":"Parameters!AB156","v":1},{"$f":"Parameters!AC156","v":1},{"$f":"Parameters!AD156","v":1},{"$f":"Parameters!AE156","v":1},{"$f":"Parameters!AF156","v":1},{"$f":"Parameters!AG156","v":1},{"$f":"Parameters!AH156","v":1},{"$f":"Parameters!AI156","v":1},{"$f":"Parameters!AJ156","v":1},{"$f":"Parameters!AK156","v":1},{"$f":"Parameters!AL156","v":1},{"$f":"Parameters!AM156","v":1},{"$f":"Parameters!AN156","v":1},{"$f":"Parameters!AO156","v":1},{"$f":"Parameters!AP156","v":1},{"$f":"Parameters!AQ156","v":1},{"$f":"Parameters!AR156","v":1},{"$f":"Parameters!AS156","v":1},{"$f":"Parameters!AT156","v":1},{"$f":"Parameters!AU156","v":1},{"$f":"Parameters!AV156","v":1},{"$f":"Parameters!AW156","v":1},{"$f":"Parameters!AX156","v":1},{"$f":"Parameters!AY156","v":1},{"$f":"Parameters!AZ156","v":1},{"$f":"Parameters!BA156","v":1},{"$f":"Parameters!BB156","v":1},{"$f":"Parameters!BC156","v":1},{"$f":"Parameters!BD156","v":1},{"$f":"Parameters!BE156","v":1},{"$f":"Parameters!BF156","v":1},{"$f":"Parameters!BG156","v":1},{"$f":"Parameters!BH156","v":1},{"$f":"Parameters!BI156","v":1},{"$f":"Parameters!BJ156","v":1},{"$f":"Parameters!BK156","v":1},{"$f":"Parameters!BL156","v":1},{"$f":"Parameters!BM156","v":1},{"$f":"Parameters!BN156","v":1}]
[{"$f":"SETS!B98","v":"TEC095"},{"$f":"Parameters!K157","v":1},{"$f":"Parameters!L157","v":1},{"$f":"Parameters!M157","v":1},{"$f":"Parameters!N157","v":1},{"$f":"Parameters!O157","v":1},{"$f":"Parameters!P157","v":1},{"$f":"Parameters!Q157","v":1},{"$f":"Parameters!R157","v":1},{"$f":"Parameters!S157","v":1},{"$f":"Parameters!T157","v":1},{"$f":"Parameters!U157","v":1},{"$f":"Parameters!V157","v":1},{"$f":"Parameters!W157","v":1},{"$f":"Parameters!X157","v":1},{"$f":"Parameters!Y157","v":1},{"$f":"Parameters!Z157","v":1},{"$f":"Parameters!AA157","v":1},{"$f":"Parameters!AB157","v":1},{"$f":"Parameters!AC157","v":1},{"$f":"Parameters!AD157","v":1},{"$f":"Parameters!AE157","v":1},{"$f":"Parameters!AF157","v":1},{"$f":"Parameters!AG157","v":1},{"$f":"Parameters!AH157","v":1},{"$f":"Parameters!AI157","v":1},{"$f":"Parameters!AJ157","v":1},{"$f":"Parameters!AK157","v":1},{"$f":"Parameters!AL157","v":1},{"$f":"Parameters!AM157","v":1},{"$f":"Parameters!AN157","v":1},{"$f":"Parameters!AO157","v":1},{"$f":"Parameters!AP157","v":1},{"$f":"Parameters!AQ157","v":1},{"$f":"Parameters!AR157","v":1},{"$f":"Parameters!AS157","v":1},{"$f":"Parameters!AT157","v":1},{"$f":"Parameters!AU157","v":1},{"$f":"Parameters!AV157","v":1},{"$f":"Parameters!AW157","v":1},{"$f":"Parameters!AX157","v":1},{"$f":"Parameters!AY157","v":1},{"$f":"Parameters!AZ157","v":1},{"$f":"Parameters!BA157","v":1},{"$f":"Parameters!BB157","v":1},{"$f":"Parameters!BC157","v":1},{"$f":"Parameters!BD157","v":1},{"$f":"Parameters!BE157","v":1},{"$f":"Parameters!BF157","v":1},{"$f":"Parameters!BG157","v":1},{"$f":"Parameters!BH157","v":1},{"$f":"Parameters!BI157","v":1},{"$f":"Parameters!BJ157","v":1},{"$f":"Parameters!BK157","v":1},{"$f":"Parameters!BL157","v":1},{"$f":"Parameters!BM157","v":1},{"$f":"Parameters!BN157","v":1}]
[{"$f":"SETS!B99","v":"TEC096"},{"$f":"Parameters!K158","v":1},{"$f":"Parameters!L158","v":1},{"$f":"Parameters!M158","v":1},{"$f":"Parameters!N158","v":1},{"$f":"Parameters!O158","v":1},{"$f":"Parameters!P158","v":1},{"$f":"Parameters!Q158","v":1},{"$f":"Parameters!R158","v":1},{"$f":"Parameters!S158","v":1},{"$f":"Parameters!T158","v":1},{"$f":"Parameters!U158","v":1},{"$f":"Parameters!V158","v":1},{"$f":"Parameters!W158","v":1},{"$f":"Parameters!X158","v":1},{"$f":"Parameters!Y158","v":1},{"$f":"Parameters!Z158","v":1},{"$f":"Parameters!AA158","v":1},{"$f":"Parameters!AB158","v":1},{"$f":"Parameters!AC158","v":1},{"$f":"Parameters!AD158","v":1},{"$f":"Parameters!AE158","v":1},{"$f":"Parameters!AF158","v":1},{"$f":"Parameters!AG158","v":1},{"$f":"Parameters!AH158","v":1},{"$f":"Parameters!AI158","v":1},{"$f":"Parameters!AJ158","v":1},{"$f":"Parameters!AK158","v":1},{"$f":"Parameters!AL158","v":1},{"$f":"Parameters!AM158","v":1},{"$f":"Parameters!AN158","v":1},{"$f":"Parameters!AO158","v":1},{"$f":"Parameters!AP158","v":1},{"$f":"Parameters!AQ158","v":1},{"$f":"Parameters!AR158","v":1},{"$f":"Parameters!AS158","v":1},{"$f":"Parameters!AT158","v":1},{"$f":"Parameters!AU158","v":1},{"$f":"Parameters!AV158","v":1},{"$f":"Parameters!AW158","v":1},{"$f":"Parameters!AX158","v":1},{"$f":"Parameters!AY158","v":1},{"$f":"Parameters!AZ158","v":1},{"$f":"Parameters!BA158","v":1},{"$f":"Parameters!BB158","v":1},{"$f":"Parameters!BC158","v":1},{"$f":"Parameters!BD158","v":1},{"$f":"Parameters!BE158","v":1},{"$f":"Parameters!BF158","v":1},{"$f":"Parameters!BG158","v":1},{"$f":"Parameters!BH158","v":1},{"$f":"Parameters!BI158","v":1},{"$f":"Parameters!BJ158","v":1},{"$f":"Parameters!BK158","v":1},{"$f":"Parameters!BL158","v":1},{"$f":"Parameters!BM158","v":1},{"$f":"Parameters!BN158","v":1}]
[{"$f":"SETS!B100","v":"TEC097"},{"$f":"Parameters!K159","v":1},{"$f":"Parameters!L159","v":1},{"$f":"Parameters!M159","v":1},{"$f":"Parameters!N159","v":1},{"$f":"Parameters!O159","v":1},{"$f":"Parameters!P159","v":1},{"$f":"Parameters!Q159","v":1},{"$f":"Parameters!R159","v":1},{"$f":"Parameters!S159","v":1},{"$f":"Parameters!T159","v":1},{"$f":"Parameters!U159","v":1},{"$f":"Parameters!V159","v":1},{"$f":"Parameters!W159","v":1},{"$f":"Parameters!X159","v":1},{"$f":"Parameters!Y159","v":1},{"$f":"Parameters!Z159","v":1},{"$f":"Parameters!AA159","v":1},{"$f":"Parameters!AB159","v":1},{"$f":"Parameters!AC159","v":1},{"$f":"Parameters!AD159","v":1},{"$f":"Parameters!AE159","v":1},{"$f":"Parameters!AF159","v":1},{"$f":"Parameters!AG159","v":1},{"$f":"Parameters!AH159","v":1},{"$f":"Parameters!AI159","v":1},{"$f":"Parameters!AJ159","v":1},{"$f":"Parameters!AK159","v":1},{"$f":"Parameters!AL159","v":1},{"$f":"Parameters!AM159","v":1},{"$f":"Parameters!AN159","v":1},{"$f":"Parameters!AO159","v":1},{"$f":"Parameters!AP159","v":1},{"$f":"Parameters!AQ159","v":1},{"$f":"Parameters!AR159","v":1},{"$f":"Parameters!AS159","v":1},{"$f":"Parameters!AT159","v":1},{"$f":"Parameters!AU159","v":1},{"$f":"Parameters!AV159","v":1},{"$f":"Parameters!AW159","v":1},{"$f":"Parameters!AX159","v":1},{"$f":"Parameters!AY159","v":1},{"$f":"Parameters!AZ159","v":1},{"$f":"Parameters!BA159","v":1},{"$f":"Parameters!BB159","v":1},{"$f":"Parameters!BC159","v":1},{"$f":"Parameters!BD159","v":1},{"$f":"Parameters!BE159","v":1},{"$f":"Parameters!BF159","v":1},{"$f":"Parameters!BG159","v":1},{"$f":"Parameters!BH159","v":1},{"$f":"Parameters!BI159","v":1},{"$f":"Parameters!BJ159","v":1},{"$f":"Parameters!BK159","v":1},{"$f":"Parameters!BL159","v":1},{"$f":"Parameters!BM159","v":1},{"$f":"Parameters!BN159","v":1}]
[{"$f":"SETS!B101","v":"TEC098"},{"$f":"Parameters!K160","v":1},{"$f":"Parameters!L160","v":1},{"$f":"Parameters!M160","v":1},{"$f":"Parameters!N160","v":1},{"$f":"Parameters!O160","v":1},{"$f":"Parameters!P160","v":1},{"$f":"Parameters!Q160","v":1},{"$f":"Parameters!R160","v":1},{"$f":"Parameters!S160","v":1},{"$f":"Parameters!T160","v":1},{"$f":"Parameters!U160","v":1},{"$f":"Parameters!V160","v":1},{"$f":"Parameters!W160","v":1},{"$f":"Parameters!X160","v":1},{"$f":"Parameters!Y160","v":1},{"$f":"Parameters!Z160","v":1},{"$f":"Parameters!AA160","v":1},{"$f":"Parameters!AB160","v":1},{"$f":"Parameters!AC160","v":1},{"$f":"Parameters!AD160","v":1},{"$f":"Parameters!AE160","v":1},{"$f":"Parameters!AF160","v":1},{"$f":"Parameters!AG160","v":1},{"$f":"Parameters!AH160","v":1},{"$f":"Parameters!AI160","v":1},{"$f":"Parameters!AJ160","v":1},{"$f":"Parameters!AK160","v":1},{"$f":"Parameters!AL160","v":1},{"$f":"Parameters!AM160","v":1},{"$f":"Parameters!AN160","v":1},{"$f":"Parameters!AO160","v":1},{"$f":"Parameters!AP160","v":1},{"$f":"Parameters!AQ160","v":1},{"$f":"Parameters!AR160","v":1},{"$f":"Parameters!AS160","v":1},{"$f":"Parameters!AT160","v":1},{"$f":"Parameters!AU160","v":1},{"$f":"Parameters!AV160","v":1},{"$f":"Parameters!AW160","v":1},{"$f":"Parameters!AX160","v":1},{"$f":"Parameters!AY160","v":1},{"$f":"Parameters!AZ160","v":1},{"$f":"Parameters!BA160","v":1},{"$f":"Parameters!BB160","v":1},{"$f":"Parameters!BC160","v":1},{"$f":"Parameters!BD160","v":1},{"$f":"Parameters!BE160","v":1},{"$f":"Parameters!BF160","v":1},{"$f":"Parameters!BG160","v":1},{"$f":"Parameters!BH160","v":1},{"$f":"Parameters!BI160","v":1},{"$f":"Parameters!BJ160","v":1},{"$f":"Parameters!BK160","v":1},{"$f":"Parameters!BL160","v":1},{"$f":"Parameters!BM160","v":1},{"$f":"Parameters!BN160","v":1}]
[{"$f":"SETS!B102","v":"TEC099"},{"$f":"Parameters!K161","v":1},{"$f":"Parameters!L161","v":1},{"$f":"Parameters!M161","v":1},{"$f":"Parameters!N161","v":1},{"$f":"Parameters!O161","v":1},{"$f":"Parameters!P161","v":1},{"$f":"Parameters!Q161","v":1},{"$f":"Parameters!R161","v":1},{"$f":"Parameters!S161","v":1},{"$f":"Parameters!T161","v":1},{"$f":"Parameters!U161","v":1},{"$f":"Parameters!V161","v":1},{"$f":"Parameters!W161","v":1},{"$f":"Parameters!X161","v":1},{"$f":"Parameters!Y161","v":1},{"$f":"Parameters!Z161","v":1},{"$f":"Parameters!AA161","v":1},{"$f":"Parameters!AB161","v":1},{"$f":"Parameters!AC161","v":1},{"$f":"Parameters!AD161","v":1},{"$f":"Parameters!AE161","v":1},{"$f":"Parameters!AF161","v":1},{"$f":"Parameters!AG161","v":1},{"$f":"Parameters!AH161","v":1},{"$f":"Parameters!AI161","v":1},{"$f":"Parameters!AJ161","v":1},{"$f":"Parameters!AK161","v":1},{"$f":"Parameters!AL161","v":1},{"$f":"Parameters!AM161","v":1},{"$f":"Parameters!AN161","v":1},{"$f":"Parameters!AO161","v":1},{"$f":"Parameters!AP161","v":1},{"$f":"Parameters!AQ161","v":1},{"$f":"Parameters!AR161","v":1},{"$f":"Parameters!AS161","v":1},{"$f":"Parameters!AT161","v":1},{"$f":"Parameters!AU161","v":1},{"$f":"Parameters!AV161","v":1},{"$f":"Parameters!AW161","v":1},{"$f":"Parameters!AX161","v":1},{"$f":"Parameters!AY161","v":1},{"$f":"Parameters!AZ161","v":1},{"$f":"Parameters!BA161","v":1},{"$f":"Parameters!BB161","v":1},{"$f":"Parameters!BC161","v":1},{"$f":"Parameters!BD161","v":1},{"$f":"Parameters!BE161","v":1},{"$f":"Parameters!BF161","v":1},{"$f":"Parameters!BG161","v":1},{"$f":"Parameters!BH161","v":1},{"$f":"Parameters!BI161","v":1},{"$f":"Parameters!BJ161","v":1},{"$f":"Parameters!BK161","v":1},{"$f":"Parameters!BL161","v":1},{"$f":"Parameters!BM161","v":1},{"$f":"Parameters!BN161","v":1}]
[{"$f":"SETS!B103","v":"TEC100"},{"$f":"Parameters!K162","v":1},{"$f":"Parameters!L162","v":1},{"$f":"Parameters!M162","v":1},{"$f":"Parameters!N162","v":1},{"$f":"Parameters!O162","v":1},{"$f":"Parameters!P162","v":1},{"$f":"Parameters!Q162","v":1},{"$f":"Parameters!R162","v":1},{"$f":"Parameters!S162","v":1},{"$f":"Parameters!T162","v":1},{"$f":"Parameters!U162","v":1},{"$f":"Parameters!V162","v":1},{"$f":"Parameters!W162","v":1},{"$f":"Parameters!X162","v":1},{"$f":"Parameters!Y162","v":1},{"$f":"Parameters!Z162","v":1},{"$f":"Parameters!AA162","v":1},{"$f":"Parameters!AB162","v":1},{"$f":"Parameters!AC162","v":1},{"$f":"Parameters!AD162","v":1},{"$f":"Parameters!AE162","v":1},{"$f":"Parameters!AF162","v":1},{"$f":"Parameters!AG162","v":1},{"$f":"Parameters!AH162","v":1},{"$f":"Parameters!AI162","v":1},{"$f":"Parameters!AJ162","v":1},{"$f":"Parameters!AK162","v":1},{"$f":"Parameters!AL162","v":1},{"$f":"Parameters!AM162","v":1},{"$f":"Parameters!AN162","v":1},{"$f":"Parameters!AO162","v":1},{"$f":"Parameters!AP162","v":1},{"$f":"Parameters!AQ162","v":1},{"$f":"Parameters!AR162","v":1},{"$f":"Parameters!AS162","v":1},{"$f":"Parameters!AT162","v":1},{"$f":"Parameters!AU162","v":1},{"$f":"Parameters!AV162","v":1},{"$f":"Parameters!AW162","v":1},{"$f":"Parameters!AX162","v":1},{"$f":"Parameters!AY162","v":1},{"$f":"Parameters!AZ162","v":1},{"$f":"Parameters!BA162","v":1},{"$f":"Parameters!BB162","v":1},{"$f":"Parameters!BC162","v":1},{"$f":"Parameters!BD162","v":1},{"$f":"Parameters!BE162","v":1},{"$f":"Parameters!BF162","v":1},{"$f":"Parameters!BG162","v":1},{"$f":"Parameters!BH162","v":1},{"$f":"Parameters!BI162","v":1},{"$f":"Parameters!BJ162","v":1},{"$f":"Parameters!BK162","v":1},{"$f":"Parameters!BL162","v":1},{"$f":"Parameters!BM162","v":1},{"$f":"Parameters!BN162","v":1}]
[{"$f":"SETS!B104","v":"TEC101"},{"$f":"Parameters!K163","v":1},{"$f":"Parameters!L163","v":1},{"$f":"Parameters!M163","v":1},{"$f":"Parameters!N163","v":1},{"$f":"Parameters!O163","v":1},{"$f":"Parameters!P163","v":1},{"$f":"Parameters!Q163","v":1},{"$f":"Parameters!R163","v":1},{"$f":"Parameters!S163","v":1},{"$f":"Parameters!T163","v":1},{"$f":"Parameters!U163","v":1},{"$f":"Parameters!V163","v":1},{"$f":"Parameters!W163","v":1},{"$f":"Parameters!X163","v":1},{"$f":"Parameters!Y163","v":1},{"$f":"Parameters!Z163","v":1},{"$f":"Parameters!AA163","v":1},{"$f":"Parameters!AB163","v":1},{"$f":"Parameters!AC163","v":1},{"$f":"Parameters!AD163","v":1},{"$f":"Parameters!AE163","v":1},{"$f":"Parameters!AF163","v":1},{"$f":"Parameters!AG163","v":1},{"$f":"Parameters!AH163","v":1},{"$f":"Parameters!AI163","v":1},{"$f":"Parameters!AJ163","v":1},{"$f":"Parameters!AK163","v":1},{"$f":"Parameters!AL163","v":1},{"$f":"Parameters!AM163","v":1},{"$f":"Parameters!AN163","v":1},{"$f":"Parameters!AO163","v":1},{"$f":"Parameters!AP163","v":1},{"$f":"Parameters!AQ163","v":1},{"$f":"Parameters!AR163","v":1},{"$f":"Parameters!AS163","v":1},{"$f":"Parameters!AT163","v":1},{"$f":"Parameters!AU163","v":1},{"$f":"Parameters!AV163","v":1},{"$f":"Parameters!AW163","v":1},{"$f":"Parameters!AX163","v":1},{"$f":"Parameters!AY163","v":1},{"$f":"Parameters!AZ163","v":1},{"$f":"Parameters!BA163","v":1},{"$f":"Parameters!BB163","v":1},{"$f":"Parameters!BC163","v":1},{"$f":"Parameters!BD163","v":1},{"$f":"Parameters!BE163","v":1},{"$f":"Parameters!BF163","v":1},{"$f":"Parameters!BG163","v":1},{"$f":"Parameters!BH163","v":1},{"$f":"Parameters!BI163","v":1},{"$f":"Parameters!BJ163","v":1},{"$f":"Parameters!BK163","v":1},{"$f":"Parameters!BL163","v":1},{"$f":"Parameters!BM163","v":1},{"$f":"Parameters!BN163","v":1}]
[{"$f":"SETS!B105","v":"TEC102"},{"$f":"Parameters!K164","v":1},{"$f":"Parameters!L164","v":1},{"$f":"Parameters!M164","v":1},{"$f":"Parameters!N164","v":1},{"$f":"Parameters!O164","v":1},{"$f":"Parameters!P164","v":1},{"$f":"Parameters!Q164","v":1},{"$f":"Parameters!R164","v":1},{"$f":"Parameters!S164","v":1},{"$f":"Parameters!T164","v":1},{"$f":"Parameters!U164","v":1},{"$f":"Parameters!V164","v":1},{"$f":"Parameters!W164","v":1},{"$f":"Parameters!X164","v":1},{"$f":"Parameters!Y164","v":1},{"$f":"Parameters!Z164","v":1},{"$f":"Parameters!AA164","v":1},{"$f":"Parameters!AB164","v":1},{"$f":"Parameters!AC164","v":1},{"$f":"Parameters!AD164","v":1},{"$f":"Parameters!AE164","v":1},{"$f":"Parameters!AF164","v":1},{"$f":"Parameters!AG164","v":1},{"$f":"Parameters!AH164","v":1},{"$f":"Parameters!AI164","v":1},{"$f":"Parameters!AJ164","v":1},{"$f":"Parameters!AK164","v":1},{"$f":"Parameters!AL164","v":1},{"$f":"Parameters!AM164","v":1},{"$f":"Parameters!AN164","v":1},{"$f":"Parameters!AO164","v":1},{"$f":"Parameters!AP164","v":1},{"$f":"Parameters!AQ164","v":1},{"$f":"Parameters!AR164","v":1},{"$f":"Parameters!AS164","v":1},{"$f":"Parameters!AT164","v":1},{"$f":"Parameters!AU164","v":1},{"$f":"Parameters!AV164","v":1},{"$f":"Parameters!AW164","v":1},{"$f":"Parameters!AX164","v":1},{"$f":"Parameters!AY164","v":1},{"$f":"Parameters!AZ164","v":1},{"$f":"Parameters!BA164","v":1},{"$f":"Parameters!BB164","v":1},{"$f":"Parameters!BC164","v":1},{"$f":"Parameters!BD164","v":1},{"$f":"Parameters!BE164","v":1},{"$f":"Parameters!BF164","v":1},{"$f":"Parameters!BG164","v":1},{"$f":"Parameters!BH164","v":1},{"$f":"Parameters!BI164","v":1},{"$f":"Parameters!BJ164","v":1},{"$f":"Parameters!BK164","v":1},{"$f":"Parameters!BL164","v":1},{"$f":"Parameters!BM164","v":1},{"$f":"Parameters!BN164","v":1}]
[{"$f":"SETS!B106","v":"TEC103"},{"$f":"Parameters!K165","v":1},{"$f":"Parameters!L165","v":1},{"$f":"Parameters!M165","v":1},{"$f":"Parameters!N165","v":1},{"$f":"Parameters!O165","v":1},{"$f":"Parameters!P165","v":1},{"$f":"Parameters!Q165","v":1},{"$f":"Parameters!R165","v":1},{"$f":"Parameters!S165","v":1},{"$f":"Parameters!T165","v":1},{"$f":"Parameters!U165","v":1},{"$f":"Parameters!V165","v":1},{"$f":"Parameters!W165","v":1},{"$f":"Parameters!X165","v":1},{"$f":"Parameters!Y165","v":1},{"$f":"Parameters!Z165","v":1},{"$f":"Parameters!AA165","v":1},{"$f":"Parameters!AB165","v":1},{"$f":"Parameters!AC165","v":1},{"$f":"Parameters!AD165","v":1},{"$f":"Parameters!AE165","v":1},{"$f":"Parameters!AF165","v":1},{"$f":"Parameters!AG165","v":1},{"$f":"Parameters!AH165","v":1},{"$f":"Parameters!AI165","v":1},{"$f":"Parameters!AJ165","v":1},{"$f":"Parameters!AK165","v":1},{"$f":"Parameters!AL165","v":1},{"$f":"Parameters!AM165","v":1},{"$f":"Parameters!AN165","v":1},{"$f":"Parameters!AO165","v":1},{"$f":"Parameters!AP165","v":1},{"$f":"Parameters!AQ165","v":1},{"$f":"Parameters!AR165","v":1},{"$f":"Parameters!AS165","v":1},{"$f":"Parameters!AT165","v":1},{"$f":"Parameters!AU165","v":1},{"$f":"Parameters!AV165","v":1},{"$f":"Parameters!AW165","v":1},{"$f":"Parameters!AX165","v":1},{"$f":"Parameters!AY165","v":1},{"$f":"Parameters!AZ165","v":1},{"$f":"Parameters!BA165","v":1},{"$f":"Parameters!BB165","v":1},{"$f":"Parameters!BC165","v":1},{"$f":"Parameters!BD165","v":1},{"$f":"Parameters!BE165","v":1},{"$f":"Parameters!BF165","v":1},{"$f":"Parameters!BG165","v":1},{"$f":"Parameters!BH165","v":1},{"$f":"Parameters!BI165","v":1},{"$f":"Parameters!BJ165","v":1},{"$f":"Parameters!BK165","v":1},{"$f":"Parameters!BL165","v":1},{"$f":"Parameters!BM165","v":1},{"$f":"Parameters!BN165","v":1}]
[{"$f":"SETS!B107","v":"TEC104"},{"$f":"Parameters!K166","v":1},{"$f":"Parameters!L166","v":1},{"$f":"Parameters!M166","v":1},{"$f":"Parameters!N166","v":1},{"$f":"Parameters!O166","v":1},{"$f":"Parameters!P166","v":1},{"$f":"Parameters!Q166","v":1},{"$f":"Parameters!R166","v":1},{"$f":"Parameters!S166","v":1},{"$f":"Parameters!T166","v":1},{"$f":"Parameters!U166","v":1},{"$f":"Parameters!V166","v":1},{"$f":"Parameters!W166","v":1},{"$f":"Parameters!X166","v":1},{"$f":"Parameters!Y166","v":1},{"$f":"Parameters!Z166","v":1},{"$f":"Parameters!AA166","v":1},{"$f":"Parameters!AB166","v":1},{"$f":"Parameters!AC166","v":1},{"$f":"Parameters!AD166","v":1},{"$f":"Parameters!AE166","v":1},{"$f":"Parameters!AF166","v":1},{"$f":"Parameters!AG166","v":1},{"$f":"Parameters!AH166","v":1},{"$f":"Parameters!AI166","v":1},{"$f":"Parameters!AJ166","v":1},{"$f":"Parameters!AK166","v":1},{"$f":"Parameters!AL166","v":1},{"$f":"Parameters!AM166","v":1},{"$f":"Parameters!AN166","v":1},{"$f":"Parameters!AO166","v":1},{"$f":"Parameters!AP166","v":1},{"$f":"Parameters!AQ166","v":1},{"$f":"Parameters!AR166","v":1},{"$f":"Parameters!AS166","v":1},{"$f":"Parameters!AT166","v":1},{"$f":"Parameters!AU166","v":1},{"$f":"Parameters!AV166","v":1},{"$f":"Parameters!AW166","v":1},{"$f":"Parameters!AX166","v":1},{"$f":"Parameters!AY166","v":1},{"$f":"Parameters!AZ166","v":1},{"$f":"Parameters!BA166","v":1},{"$f":"Parameters!BB166","v":1},{"$f":"Parameters!BC166","v":1},{"$f":"Parameters!BD166","v":1},{"$f":"Parameters!BE166","v":1},{"$f":"Parameters!BF166","v":1},{"$f":"Parameters!BG166","v":1},{"$f":"Parameters!BH166","v":1},{"$f":"Parameters!BI166","v":1},{"$f":"Parameters!BJ166","v":1},{"$f":"Parameters!BK166","v":1},{"$f":"Parameters!BL166","v":1},{"$f":"Parameters!BM166","v":1},{"$f":"Parameters!BN166","v":1}]
[{"$f":"SETS!B108","v":"TEC105"},{"$f":"Parameters!K167","v":1},{"$f":"Parameters!L167","v":1},{"$f":"Parameters!M167","v":1},{"$f":"Parameters!N167","v":1},{"$f":"Parameters!O167","v":1},{"$f":"Parameters!P167","v":1},{"$f":"Parameters!Q167","v":1},{"$f":"Parameters!R167","v":1},{"$f":"Parameters!S167","v":1},{"$f":"Parameters!T167","v":1},{"$f":"Parameters!U167","v":1},{"$f":"Parameters!V167","v":1},{"$f":"Parameters!W167","v":1},{"$f":"Parameters!X167","v":1},{"$f":"Parameters!Y167","v":1},{"$f":"Parameters!Z167","v":1},{"$f":"Parameters!AA167","v":1},{"$f":"Parameters!AB167","v":1},{"$f":"Parameters!AC167","v":1},{"$f":"Parameters!AD167","v":1},{"$f":"Parameters!AE167","v":1},{"$f":"Parameters!AF167","v":1},{"$f":"Parameters!AG167","v":1},{"$f":"Parameters!AH167","v":1},{"$f":"Parameters!AI167","v":1},{"$f":"Parameters!AJ167","v":1},{"$f":"Parameters!AK167","v":1},{"$f":"Parameters!AL167","v":1},{"$f":"Parameters!AM167","v":1},{"$f":"Parameters!AN167","v":1},{"$f":"Parameters!AO167","v":1},{"$f":"Parameters!AP167","v":1},{"$f":"Parameters!AQ167","v":1},{"$f":"Parameters!AR167","v":1},{"$f":"Parameters!AS167","v":1},{"$f":"Parameters!AT167","v":1},{"$f":"Parameters!AU167","v":1},{"$f":"Parameters!AV167","v":1},{"$f":"Parameters!AW167","v":1},{"$f":"Parameters!AX167","v":1},{"$f":"Parameters!AY167","v":1},{"$f":"Parameters!AZ167","v":1},{"$f":"Parameters!BA167","v":1},{"$f":"Parameters!BB167","v":1},{"$f":"Parameters!BC167","v":1},{"$f":"Parameters!BD167","v":1},{"$f":"Parameters!BE167","v":1},{"$f":"Parameters!BF167","v":1},{"$f":"Parameters!BG167","v":1},{"$f":"Parameters!BH167","v":1},{"$f":"Parameters!BI167","v":1},{"$f":"Parameters!BJ167","v":1},{"$f":"Parameters!BK167","v":1},{"$f":"Parameters!BL167","v":1},{"$f":"Parameters!BM167","v":1},{"$f":"Parameters!BN167","v":1}]
[{"$f":"SETS!B109","v":"TEC106"},{"$f":"Parameters!K168","v":1},{"$f":"Parameters!L168","v":1},{"$f":"Parameters!M168","v":1},{"$f":"Parameters!N168","v":1},{"$f":"Parameters!O168","v":1},{"$f":"Parameters!P168","v":1},{"$f":"Parameters!Q168","v":1},{"$f":"Parameters!R168","v":1},{"$f":"Parameters!S168","v":1},{"$f":"Parameters!T168","v":1},{"$f":"Parameters!U168","v":1},{"$f":"Parameters!V168","v":1},{"$f":"Parameters!W168","v":1},{"$f":"Parameters!X168","v":1},{"$f":"Parameters!Y168","v":1},{"$f":"Parameters!Z168","v":1},{"$f":"Parameters!AA168","v":1},{"$f":"Parameters!AB168","v":1},{"$f":"Parameters!AC168","v":1},{"$f":"Parameters!AD168","v":1},{"$f":"Parameters!AE168","v":1},{"$f":"Parameters!AF168","v":1},{"$f":"Parameters!AG168","v":1},{"$f":"Parameters!AH168","v":1},{"$f":"Parameters!AI168","v":1},{"$f":"Parameters!AJ168","v":1},{"$f":"Parameters!AK168","v":1},{"$f":"Parameters!AL168","v":1},{"$f":"Parameters!AM168","v":1},{"$f":"Parameters!AN168","v":1},{"$f":"Parameters!AO168","v":1},{"$f":"Parameters!AP168","v":1},{"$f":"Parameters!AQ168","v":1},{"$f":"Parameters!AR168","v":1},{"$f":"Parameters!AS168","v":1},{"$f":"Parameters!AT168","v":1},{"$f":"Parameters!AU168","v":1},{"$f":"Parameters!AV168","v":1},{"$f":"Parameters!AW168","v":1},{"$f":"Parameters!AX168","v":1},{"$f":"Parameters!AY168","v":1},{"$f":"Parameters!AZ168","v":1},{"$f":"Parameters!BA168","v":1},{"$f":"Parameters!BB168","v":1},{"$f":"Parameters!BC168","v":1},{"$f":"Parameters!BD168","v":1},{"$f":"Parameters!BE168","v":1},{"$f":"Parameters!BF168","v":1},{"$f":"Parameters!BG168","v":1},{"$f":"Parameters!BH168","v":1},{"$f":"Parameters!BI168","v":1},{"$f":"Parameters!BJ168","v":1},{"$f":"Parameters!BK168","v":1},{"$f":"Parameters!BL168","v":1},{"$f":"Parameters!BM168","v":1},{"$f":"Parameters!BN168","v":1}]
[{"$f":"SETS!B110","v":"TEC107"},{"$f":"Parameters!K169","v":1},{"$f":"Parameters!L169","v":1},{"$f":"Parameters!M169","v":1},{"$f":"Parameters!N169","v":1},{"$f":"Parameters!O169","v":1},{"$f":"Parameters!P169","v":1},{"$f":"Parameters!Q169","v":1},{"$f":"Parameters!R169","v":1},{"$f":"Parameters!S169","v":1},{"$f":"Parameters!T169","v":1},{"$f":"Parameters!U169","v":1},{"$f":"Parameters!V169","v":1},{"$f":"Parameters!W169","v":1},{"$f":"Parameters!X169","v":1},{"$f":"Parameters!Y169","v":1},{"$f":"Parameters!Z169","v":1},{"$f":"Parameters!AA169","v":1},{"$f":"Parameters!AB169","v":1},{"$f":"Parameters!AC169","v":1},{"$f":"Parameters!AD169","v":1},{"$f":"Parameters!AE169","v":1},{"$f":"Parameters!AF169","v":1},{"$f":"Parameters!AG169","v":1},{"$f":"Parameters!AH169","v":1},{"$f":"Parameters!AI169","v":1},{"$f":"Parameters!AJ169","v":1},{"$f":"Parameters!AK169","v":1},{"$f":"Parameters!AL169","v":1},{"$f":"Parameters!AM169","v":1},{"$f":"Parameters!AN169","v":1},{"$f":"Parameters!AO169","v":1},{"$f":"Parameters!AP169","v":1},{"$f":"Parameters!AQ169","v":1},{"$f":"Parameters!AR169","v":1},{"$f":"Parameters!AS169","v":1},{"$f":"Parameters!AT169","v":1},{"$f":"Parameters!AU169","v":1},{"$f":"Parameters!AV169","v":1},{"$f":"Parameters!AW169","v":1},{"$f":"Parameters!AX169","v":1},{"$f":"Parameters!AY169","v":1},{"$f":"Parameters!AZ169","v":1},{"$f":"Parameters!BA169","v":1},{"$f":"Parameters!BB169","v":1},{"$f":"Parameters!BC169","v":1},{"$f":"Parameters!BD169","v":1},{"$f":"Parameters!BE169","v":1},{"$f":"Parameters!BF169","v":1},{"$f":"Parameters!BG169","v":1},{"$f":"Parameters!BH169","v":1},{"$f":"Parameters!BI169","v":1},{"$f":"Parameters!BJ169","v":1},{"$f":"Parameters!BK169","v":1},{"$f":"Parameters!BL169","v":1},{"$f":"Parameters!BM169","v":1},{"$f":"Parameters!BN169","v":1}]
[{"$f":"SETS!B111","v":"TEC108"},{"$f":"Parameters!K170","v":1},{"$f":"Parameters!L170","v":1},{"$f":"Parameters!M170","v":1},{"$f":"Parameters!N170","v":1},{"$f":"Parameters!O170","v":1},{"$f":"Parameters!P170","v":1},{"$f":"Parameters!Q170","v":1},{"$f":"Parameters!R170","v":1},{"$f":"Parameters!S170","v":1},{"$f":"Parameters!T170","v":1},{"$f":"Parameters!U170","v":1},{"$f":"Parameters!V170","v":1},{"$f":"Parameters!W170","v":1},{"$f":"Parameters!X170","v":1},{"$f":"Parameters!Y170","v":1},{"$f":"Parameters!Z170","v":1},{"$f":"Parameters!AA170","v":1},{"$f":"Parameters!AB170","v":1},{"$f":"Parameters!AC170","v":1},{"$f":"Parameters!AD170","v":1},{"$f":"Parameters!AE170","v":1},{"$f":"Parameters!AF170","v":1},{"$f":"Parameters!AG170","v":1},{"$f":"Parameters!AH170","v":1},{"$f":"Parameters!AI170","v":1},{"$f":"Parameters!AJ170","v":1},{"$f":"Parameters!AK170","v":1},{"$f":"Parameters!AL170","v":1},{"$f":"Parameters!AM170","v":1},{"$f":"Parameters!AN170","v":1},{"$f":"Parameters!AO170","v":1},{"$f":"Parameters!AP170","v":1},{"$f":"Parameters!AQ170","v":1},{"$f":"Parameters!AR170","v":1},{"$f":"Parameters!AS170","v":1},{"$f":"Parameters!AT170","v":1},{"$f":"Parameters!AU170","v":1},{"$f":"Parameters!AV170","v":1},{"$f":"Parameters!AW170","v":1},{"$f":"Parameters!AX170","v":1},{"$f":"Parameters!AY170","v":1},{"$f":"Parameters!AZ170","v":1},{"$f":"Parameters!BA170","v":1},{"$f":"Parameters!BB170","v":1},{"$f":"Parameters!BC170","v":1},{"$f":"Parameters!BD170","v":1},{"$f":"Parameters!BE170","v":1},{"$f":"Parameters!BF170","v":1},{"$f":"Parameters!BG170","v":1},{"$f":"Parameters!BH170","v":1},{"$f":"Parameters!BI170","v":1},{"$f":"Parameters!BJ170","v":1},{"$f":"Parameters!BK170","v":1},{"$f":"Parameters!BL170","v":1},{"$f":"Parameters!BM170","v":1},{"$f":"Parameters!BN170","v":1}]
[{"$f":"SETS!B112","v":"TEC109"},{"$f":"Parameters!K171","v":1},{"$f":"Parameters!L171","v":1},{"$f":"Parameters!M171","v":1},{"$f":"Parameters!N171","v":1},{"$f":"Parameters!O171","v":1},{"$f":"Parameters!P171","v":1},{"$f":"Parameters!Q171","v":1},{"$f":"Parameters!R171","v":1},{"$f":"Parameters!S171","v":1},{"$f":"Parameters!T171","v":1},{"$f":"Parameters!U171","v":1},{"$f":"Parameters!V171","v":1},{"$f":"Parameters!W171","v":1},{"$f":"Parameters!X171","v":1},{"$f":"Parameters!Y171","v":1},{"$f":"Parameters!Z171","v":1},{"$f":"Parameters!AA171","v":1},{"$f":"Parameters!AB171","v":1},{"$f":"Parameters!AC171","v":1},{"$f":"Parameters!AD171","v":1},{"$f":"Parameters!AE171","v":1},{"$f":"Parameters!AF171","v":1},{"$f":"Parameters!AG171","v":1},{"$f":"Parameters!AH171","v":1},{"$f":"Parameters!AI171","v":1},{"$f":"Parameters!AJ171","v":1},{"$f":"Parameters!AK171","v":1},{"$f":"Parameters!AL171","v":1},{"$f":"Parameters!AM171","v":1},{"$f":"Parameters!AN171","v":1},{"$f":"Parameters!AO171","v":1},{"$f":"Parameters!AP171","v":1},{"$f":"Parameters!AQ171","v":1},{"$f":"Parameters!AR171","v":1},{"$f":"Parameters!AS171","v":1},{"$f":"Parameters!AT171","v":1},{"$f":"Parameters!AU171","v":1},{"$f":"Parameters!AV171","v":1},{"$f":"Parameters!AW171","v":1},{"$f":"Parameters!AX171","v":1},{"$f":"Parameters!AY171","v":1},{"$f":"Parameters!AZ171","v":1},{"$f":"Parameters!BA171","v":1},{"$f":"Parameters!BB171","v":1},{"$f":"Parameters!BC171","v":1},{"$f":"Parameters!BD171","v":1},{"$f":"Parameters!BE171","v":1},{"$f":"Parameters!BF171","v":1},{"$f":"Parameters!BG171","v":1},{"$f":"Parameters!BH171","v":1},{"$f":"Parameters!BI171","v":1},{"$f":"Parameters!BJ171","v":1},{"$f":"Parameters!BK171","v":1},{"$f":"Parameters!BL171","v":1},{"$f":"Parameters!BM171","v":1},{"$f":"Parameters!BN171","v":1}]
[{"$f":"SETS!B113","v":"TEC110"},{"$f":"Parameters!K172","v":1},{"$f":"Parameters!L172","v":1},{"$f":"Parameters!M172","v":1},{"$f":"Parameters!N172","v":1},{"$f":"Parameters!O172","v":1},{"$f":"Parameters!P172","v":1},{"$f":"Parameters!Q172","v":1},{"$f":"Parameters!R172","v":1},{"$f":"Parameters!S172","v":1},{"$f":"Parameters!T172","v":1},{"$f":"Parameters!U172","v":1},{"$f":"Parameters!V172","v":1},{"$f":"Parameters!W172","v":1},{"$f":"Parameters!X172","v":1},{"$f":"Parameters!Y172","v":1},{"$f":"Parameters!Z172","v":1},{"$f":"Parameters!AA172","v":1},{"$f":"Parameters!AB172","v":1},{"$f":"Parameters!AC172","v":1},{"$f":"Parameters!AD172","v":1},{"$f":"Parameters!AE172","v":1},{"$f":"Parameters!AF172","v":1},{"$f":"Parameters!AG172","v":1},{"$f":"Parameters!AH172","v":1},{"$f":"Parameters!AI172","v":1},{"$f":"Parameters!AJ172","v":1},{"$f":"Parameters!AK172","v":1},{"$f":"Parameters!AL172","v":1},{"$f":"Parameters!AM172","v":1},{"$f":"Parameters!AN172","v":1},{"$f":"Parameters!AO172","v":1},{"$f":"Parameters!AP172","v":1},{"$f":"Parameters!AQ172","v":1},{"$f":"Parameters!AR172","v":1},{"$f":"Parameters!AS172","v":1},{"$f":"Parameters!AT172","v":1},{"$f":"Parameters!AU172","v":1},{"$f":"Parameters!AV172","v":1},{"$f":"Parameters!AW172","v":1},{"$f":"Parameters!AX172","v":1},{"$f":"Parameters!AY172","v":1},{"$f":"Parameters!AZ172","v":1},{"$f":"Parameters!BA172","v":1},{"$f":"Parameters!BB172","v":1},{"$f":"Parameters!BC172","v":1},{"$f":"Parameters!BD172","v":1},{"$f":"Parameters!BE172","v":1},{"$f":"Parameters!BF172","v":1},{"$f":"Parameters!BG172","v":1},{"$f":"Parameters!BH172","v":1},{"$f":"Parameters!BI172","v":1},{"$f":"Parameters!BJ172","v":1},{"$f":"Parameters!BK172","v":1},{"$f":"Parameters!BL172","v":1},{"$f":"Parameters!BM172","v":1},{"$f":"Parameters!BN172","v":1}]
[{"$f":"SETS!B114","v":"TEC111"},{"$f":"Parameters!K173","v":1},{"$f":"Parameters!L173","v":1},{"$f":"Parameters!M173","v":1},{"$f":"Parameters!N173","v":1},{"$f":"Parameters!O173","v":1},{"$f":"Parameters!P173","v":1},{"$f":"Parameters!Q173","v":1},{"$f":"Parameters!R173","v":1},{"$f":"Parameters!S173","v":1},{"$f":"Parameters!T173","v":1},{"$f":"Parameters!U173","v":1},{"$f":"Parameters!V173","v":1},{"$f":"Parameters!W173","v":1},{"$f":"Parameters!X173","v":1},{"$f":"Parameters!Y173","v":1},{"$f":"Parameters!Z173","v":1},{"$f":"Parameters!AA173","v":1},{"$f":"Parameters!AB173","v":1},{"$f":"Parameters!AC173","v":1},{"$f":"Parameters!AD173","v":1},{"$f":"Parameters!AE173","v":1},{"$f":"Parameters!AF173","v":1},{"$f":"Parameters!AG173","v":1},{"$f":"Parameters!AH173","v":1},{"$f":"Parameters!AI173","v":1},{"$f":"Parameters!AJ173","v":1},{"$f":"Parameters!AK173","v":1},{"$f":"Parameters!AL173","v":1},{"$f":"Parameters!AM173","v":1},{"$f":"Parameters!AN173","v":1},{"$f":"Parameters!AO173","v":1},{"$f":"Parameters!AP173","v":1},{"$f":"Parameters!AQ173","v":1},{"$f":"Parameters!AR173","v":1},{"$f":"Parameters!AS173","v":1},{"$f":"Parameters!AT173","v":1},{"$f":"Parameters!AU173","v":1},{"$f":"Parameters!AV173","v":1},{"$f":"Parameters!AW173","v":1},{"$f":"Parameters!AX173","v":1},{"$f":"Parameters!AY173","v":1},{"$f":"Parameters!AZ173","v":1},{"$f":"Parameters!BA173","v":1},{"$f":"Parameters!BB173","v":1},{"$f":"Parameters!BC173","v":1},{"$f":"Parameters!BD173","v":1},{"$f":"Parameters!BE173","v":1},{"$f":"Parameters!BF173","v":1},{"$f":"Parameters!BG173","v":1},{"$f":"Parameters!BH173","v":1},{"$f":"Parameters!BI173","v":1},{"$f":"Parameters!BJ173","v":1},{"$f":"Parameters!BK173","v":1},{"$f":"Parameters!BL173","v":1},{"$f":"Parameters!BM173","v":1},{"$f":"Parameters!BN173","v":1}]
[{"$f":"SETS!B115","v":"TEC112"},{"$f":"Parameters!K174","v":1},{"$f":"Parameters!L174","v":1},{"$f":"Parameters!M174","v":1},{"$f":"Parameters!N174","v":1},{"$f":"Parameters!O174","v":1},{"$f":"Parameters!P174","v":1},{"$f":"Parameters!Q174","v":1},{"$f":"Parameters!R174","v":1},{"$f":"Parameters!S174","v":1},{"$f":"Parameters!T174","v":1},{"$f":"Parameters!U174","v":1},{"$f":"Parameters!V174","v":1},{"$f":"Parameters!W174","v":1},{"$f":"Parameters!X174","v":1},{"$f":"Parameters!Y174","v":1},{"$f":"Parameters!Z174","v":1},{"$f":"Parameters!AA174","v":1},{"$f":"Parameters!AB174","v":1},{"$f":"Parameters!AC174","v":1},{"$f":"Parameters!AD174","v":1},{"$f":"Parameters!AE174","v":1},{"$f":"Parameters!AF174","v":1},{"$f":"Parameters!AG174","v":1},{"$f":"Parameters!AH174","v":1},{"$f":"Parameters!AI174","v":1},{"$f":"Parameters!AJ174","v":1},{"$f":"Parameters!AK174","v":1},{"$f":"Parameters!AL174","v":1},{"$f":"Parameters!AM174","v":1},{"$f":"Parameters!AN174","v":1},{"$f":"Parameters!AO174","v":1},{"$f":"Parameters!AP174","v":1},{"$f":"Parameters!AQ174","v":1},{"$f":"Parameters!AR174","v":1},{"$f":"Parameters!AS174","v":1},{"$f":"Parameters!AT174","v":1},{"$f":"Parameters!AU174","v":1},{"$f":"Parameters!AV174","v":1},{"$f":"Parameters!AW174","v":1},{"$f":"Parameters!AX174","v":1},{"$f":"Parameters!AY174","v":1},{"$f":"Parameters!AZ174","v":1},{"$f":"Parameters!BA174","v":1},{"$f":"Parameters!BB174","v":1},{"$f":"Parameters!BC174","v":1},{"$f":"Parameters!BD174","v":1},{"$f":"Parameters!BE174","v":1},{"$f":"Parameters!BF174","v":1},{"$f":"Parameters!BG174","v":1},{"$f":"Parameters!BH174","v":1},{"$f":"Parameters!BI174","v":1},{"$f":"Parameters!BJ174","v":1},{"$f":"Parameters!BK174","v":1},{"$f":"Parameters!BL174","v":1},{"$f":"Parameters!BM174","v":1},{"$f":"Parameters!BN174","v":1}]
[{"$f":"SETS!B116","v":"TEC113"},{"$f":"Parameters!K175","v":1},{"$f":"Parameters!L175","v":1},{"$f":"Parameters!M175","v":1},{"$f":"Parameters!N175","v":1},{"$f":"Parameters!O175","v":1},{"$f":"Parameters!P175","v":1},{"$f":"Parameters!Q175","v":1},{"$f":"Parameters!R175","v":1},{"$f":"Parameters!S175","v":1},{"$f":"Parameters!T175","v":1},{"$f":"Parameters!U175","v":1},{"$f":"Parameters!V175","v":1},{"$f":"Parameters!W175","v":1},{"$f":"Parameters!X175","v":1},{"$f":"Parameters!Y175","v":1},{"$f":"Parameters!Z175","v":1},{"$f":"Parameters!AA175","v":1},{"$f":"Parameters!AB175","v":1},{"$f":"Parameters!AC175","v":1},{"$f":"Parameters!AD175","v":1},{"$f":"Parameters!AE175","v":1},{"$f":"Parameters!AF175","v":1},{"$f":"Parameters!AG175","v":1},{"$f":"Parameters!AH175","v":1},{"$f":"Parameters!AI175","v":1},{"$f":"Parameters!AJ175","v":1},{"$f":"Parameters!AK175","v":1},{"$f":"Parameters!AL175","v":1},{"$f":"Parameters!AM175","v":1},{"$f":"Parameters!AN175","v":1},{"$f":"Parameters!AO175","v":1},{"$f":"Parameters!AP175","v":1},{"$f":"Parameters!AQ175","v":1},{"$f":"Parameters!AR175","v":1},{"$f":"Parameters!AS175","v":1},{"$f":"Parameters!AT175","v":1},{"$f":"Parameters!AU175","v":1},{"$f":"Parameters!AV175","v":1},{"$f":"Parameters!AW175","v":1},{"$f":"Parameters!AX175","v":1},{"$f":"Parameters!AY175","v":1},{"$f":"Parameters!AZ175","v":1},{"$f":"Parameters!BA175","v":1},{"$f":"Parameters!BB175","v":1},{"$f":"Parameters!BC175","v":1},{"$f":"Parameters!BD175","v":1},{"$f":"Parameters!BE175","v":1},{"$f":"Parameters!BF175","v":1},{"$f":"Parameters!BG175","v":1},{"$f":"Parameters!BH175","v":1},{"$f":"Parameters!BI175","v":1},{"$f":"Parameters!BJ175","v":1},{"$f":"Parameters!BK175","v":1},{"$f":"Parameters!BL175","v":1},{"$f":"Parameters!BM175","v":1},{"$f":"Parameters!BN175","v":1}]
[{"$f":"SETS!B117","v":"TEC114"},{"$f":"Parameters!K176","v":1},{"$f":"Parameters!L176","v":1},{"$f":"Parameters!M176","v":1},{"$f":"Parameters!N176","v":1},{"$f":"Parameters!O176","v":1},{"$f":"Parameters!P176","v":1},{"$f":"Parameters!Q176","v":1},{"$f":"Parameters!R176","v":1},{"$f":"Parameters!S176","v":1},{"$f":"Parameters!T176","v":1},{"$f":"Parameters!U176","v":1},{"$f":"Parameters!V176","v":1},{"$f":"Parameters!W176","v":1},{"$f":"Parameters!X176","v":1},{"$f":"Parameters!Y176","v":1},{"$f":"Parameters!Z176","v":1},{"$f":"Parameters!AA176","v":1},{"$f":"Parameters!AB176","v":1},{"$f":"Parameters!AC176","v":1},{"$f":"Parameters!AD176","v":1},{"$f":"Parameters!AE176","v":1},{"$f":"Parameters!AF176","v":1},{"$f":"Parameters!AG176","v":1},{"$f":"Parameters!AH176","v":1},{"$f":"Parameters!AI176","v":1},{"$f":"Parameters!AJ176","v":1},{"$f":"Parameters!AK176","v":1},{"$f":"Parameters!AL176","v":1},{"$f":"Parameters!AM176","v":1},{"$f":"Parameters!AN176","v":1},{"$f":"Parameters!AO176","v":1},{"$f":"Parameters!AP176","v":1},{"$f":"Parameters!AQ176","v":1},{"$f":"Parameters!AR176","v":1},{"$f":"Parameters!AS176","v":1},{"$f":"Parameters!AT176","v":1},{"$f":"Parameters!AU176","v":1},{"$f":"Parameters!AV176","v":1},{"$f":"Parameters!AW176","v":1},{"$f":"Parameters!AX176","v":1},{"$f":"Parameters!AY176","v":1},{"$f":"Parameters!AZ176","v":1},{"$f":"Parameters!BA176","v":1},{"$f":"Parameters!BB176","v":1},{"$f":"Parameters!BC176","v":1},{"$f":"Parameters!BD176","v":1},{"$f":"Parameters!BE176","v":1},{"$f":"Parameters!BF176","v":1},{"$f":"Parameters!BG176","v":1},{"$f":"Parameters!BH176","v":1},{"$f":"Parameters!BI176","v":1},{"$f":"Parameters!BJ176","v":1},{"$f":"Parameters!BK176","v":1},{"$f":"Parameters!BL176","v":1},{"$f":"Parameters!BM176","v":1},{"$f":"Parameters!BN176","v":1}]
[{"$f":"SETS!B118","v":"TEC115"},{"$f":"Parameters!K177","v":1},{"$f":"Parameters!L177","v":1},{"$f":"Parameters!M177","v":1},{"$f":"Parameters!N177","v":1},{"$f":"Parameters!O177","v":1},{"$f":"Parameters!P177","v":1},{"$f":"Parameters!Q177","v":1},{"$f":"Parameters!R177","v":1},{"$f":"Parameters!S177","v":1},{"$f":"Parameters!T177","v":1},{"$f":"Parameters!U177","v":1},{"$f":"Parameters!V177","v":1},{"$f":"Parameters!W177","v":1},{"$f":"Parameters!X177","v":1},{"$f":"Parameters!Y177","v":1},{"$f":"Parameters!Z177","v":1},{"$f":"Parameters!AA177","v":1},{"$f":"Parameters!AB177","v":1},{"$f":"Parameters!AC177","v":1},{"$f":"Parameters!AD177","v":1},{"$f":"Parameters!AE177","v":1},{"$f":"Parameters!AF177","v":1},{"$f":"Parameters!AG177","v":1},{"$f":"Parameters!AH177","v":1},{"$f":"Parameters!AI177","v":1},{"$f":"Parameters!AJ177","v":1},{"$f":"Parameters!AK177","v":1},{"$f":"Parameters!AL177","v":1},{"$f":"Parameters!AM177","v":1},{"$f":"Parameters!AN177","v":1},{"$f":"Parameters!AO177","v":1},{"$f":"Parameters!AP177","v":1},{"$f":"Parameters!AQ177","v":1},{"$f":"Parameters!AR177","v":1},{"$f":"Parameters!AS177","v":1},{"$f":"Parameters!AT177","v":1},{"$f":"Parameters!AU177","v":1},{"$f":"Parameters!AV177","v":1},{"$f":"Parameters!AW177","v":1},{"$f":"Parameters!AX177","v":1},{"$f":"Parameters!AY177","v":1},{"$f":"Parameters!AZ177","v":1},{"$f":"Parameters!BA177","v":1},{"$f":"Parameters!BB177","v":1},{"$f":"Parameters!BC177","v":1},{"$f":"Parameters!BD177","v":1},{"$f":"Parameters!BE177","v":1},{"$f":"Parameters!BF177","v":1},{"$f":"Parameters!BG177","v":1},{"$f":"Parameters!BH177","v":1},{"$f":"Parameters!BI177","v":1},{"$f":"Parameters!BJ177","v":1},{"$f":"Parameters!BK177","v":1},{"$f":"Parameters!BL177","v":1},{"$f":"Parameters!BM177","v":1},{"$f":"Parameters!BN177","v":1}]
[{"$f":"SETS!B119","v":"TEC116"},{"$f":"Parameters!K178","v":1},{"$f":"Parameters!L178","v":1},{"$f":"Parameters!M178","v":1},{"$f":"Parameters!N178","v":1},{"$f":"Parameters!O178","v":1},{"$f":"Parameters!P178","v":1},{"$f":"Parameters!Q178","v":1},{"$f":"Parameters!R178","v":1},{"$f":"Parameters!S178","v":1},{"$f":"Parameters!T178","v":1},{"$f":"Parameters!U178","v":1},{"$f":"Parameters!V178","v":1},{"$f":"Parameters!W178","v":1},{"$f":"Parameters!X178","v":1},{"$f":"Parameters!Y178","v":1},{"$f":"Parameters!Z178","v":1},{"$f":"Parameters!AA178","v":1},{"$f":"Parameters!AB178","v":1},{"$f":"Parameters!AC178","v":1},{"$f":"Parameters!AD178","v":1},{"$f":"Parameters!AE178","v":1},{"$f":"Parameters!AF178","v":1},{"$f":"Parameters!AG178","v":1},{"$f":"Parameters!AH178","v":1},{"$f":"Parameters!AI178","v":1},{"$f":"Parameters!AJ178","v":1},{"$f":"Parameters!AK178","v":1},{"$f":"Parameters!AL178","v":1},{"$f":"Parameters!AM178","v":1},{"$f":"Parameters!AN178","v":1},{"$f":"Parameters!AO178","v":1},{"$f":"Parameters!AP178","v":1},{"$f":"Parameters!AQ178","v":1},{"$f":"Parameters!AR178","v":1},{"$f":"Parameters!AS178","v":1},{"$f":"Parameters!AT178","v":1},{"$f":"Parameters!AU178","v":1},{"$f":"Parameters!AV178","v":1},{"$f":"Parameters!AW178","v":1},{"$f":"Parameters!AX178","v":1},{"$f":"Parameters!AY178","v":1},{"$f":"Parameters!AZ178","v":1},{"$f":"Parameters!BA178","v":1},{"$f":"Parameters!BB178","v":1},{"$f":"Parameters!BC178","v":1},{"$f":"Parameters!BD178","v":1},{"$f":"Parameters!BE178","v":1},{"$f":"Parameters!BF178","v":1},{"$f":"Parameters!BG178","v":1},{"$f":"Parameters!BH178","v":1},{"$f":"Parameters!BI178","v":1},{"$f":"Parameters!BJ178","v":1},{"$f":"Parameters!BK178","v":1},{"$f":"Parameters!BL178","v":1},{"$f":"Parameters!BM178","v":1},{"$f":"Parameters!BN178","v":1}]
[{"$f":"SETS!B120","v":"TEC117"},{"$f":"Parameters!K179","v":1},{"$f":"Parameters!L179","v":1},{"$f":"Parameters!M179","v":1},{"$f":"Parameters!N179","v":1},{"$f":"Parameters!O179","v":1},{"$f":"Parameters!P179","v":1},{"$f":"Parameters!Q179","v":1},{"$f":"Parameters!R179","v":1},{"$f":"Parameters!S179","v":1},{"$f":"Parameters!T179","v":1},{"$f":"Parameters!U179","v":1},{"$f":"Parameters!V179","v":1},{"$f":"Parameters!W179","v":1},{"$f":"Parameters!X179","v":1},{"$f":"Parameters!Y179","v":1},{"$f":"Parameters!Z179","v":1},{"$f":"Parameters!AA179","v":1},{"$f":"Parameters!AB179","v":1},{"$f":"Parameters!AC179","v":1},{"$f":"Parameters!AD179","v":1},{"$f":"Parameters!AE179","v":1},{"$f":"Parameters!AF179","v":1},{"$f":"Parameters!AG179","v":1},{"$f":"Parameters!AH179","v":1},{"$f":"Parameters!AI179","v":1},{"$f":"Parameters!AJ179","v":1},{"$f":"Parameters!AK179","v":1},{"$f":"Parameters!AL179","v":1},{"$f":"Parameters!AM179","v":1},{"$f":"Parameters!AN179","v":1},{"$f":"Parameters!AO179","v":1},{"$f":"Parameters!AP179","v":1},{"$f":"Parameters!AQ179","v":1},{"$f":"Parameters!AR179","v":1},{"$f":"Parameters!AS179","v":1},{"$f":"Parameters!AT179","v":1},{"$f":"Parameters!AU179","v":1},{"$f":"Parameters!AV179","v":1},{"$f":"Parameters!AW179","v":1},{"$f":"Parameters!AX179","v":1},{"$f":"Parameters!AY179","v":1},{"$f":"Parameters!AZ179","v":1},{"$f":"Parameters!BA179","v":1},{"$f":"Parameters!BB179","v":1},{"$f":"Parameters!BC179","v":1},{"$f":"Parameters!BD179","v":1},{"$f":"Parameters!BE179","v":1},{"$f":"Parameters!BF179","v":1},{"$f":"Parameters!BG179","v":1},{"$f":"Parameters!BH179","v":1},{"$f":"Parameters!BI179","v":1},{"$f":"Parameters!BJ179","v":1},{"$f":"Parameters!BK179","v":1},{"$f":"Parameters!BL179","v":1},{"$f":"Parameters!BM179","v":1},{"$f":"Parameters!BN179","v":1}]
[{"$f":"SETS!B121","v":"TEC118"},{"$f":"Parameters!K180","v":1},{"$f":"Parameters!L180","v":1},{"$f":"Parameters!M180","v":1},{"$f":"Parameters!N180","v":1},{"$f":"Parameters!O180","v":1},{"$f":"Parameters!P180","v":1},{"$f":"Parameters!Q180","v":1},{"$f":"Parameters!R180","v":1},{"$f":"Parameters!S180","v":1},{"$f":"Parameters!T180","v":1},{"$f":"Parameters!U180","v":1},{"$f":"Parameters!V180","v":1},{"$f":"Parameters!W180","v":1},{"$f":"Parameters!X180","v":1},{"$f":"Parameters!Y180","v":1},{"$f":"Parameters!Z180","v":1},{"$f":"Parameters!AA180","v":1},{"$f":"Parameters!AB180","v":1},{"$f":"Parameters!AC180","v":1},{"$f":"Parameters!AD180","v":1},{"$f":"Parameters!AE180","v":1},{"$f":"Parameters!AF180","v":1},{"$f":"Parameters!AG180","v":1},{"$f":"Parameters!AH180","v":1},{"$f":"Parameters!AI180","v":1},{"$f":"Parameters!AJ180","v":1},{"$f":"Parameters!AK180","v":1},{"$f":"Parameters!AL180","v":1},{"$f":"Parameters!AM180","v":1},{"$f":"Parameters!AN180","v":1},{"$f":"Parameters!AO180","v":1},{"$f":"Parameters!AP180","v":1},{"$f":"Parameters!AQ180","v":1},{"$f":"Parameters!AR180","v":1},{"$f":"Parameters!AS180","v":1},{"$f":"Parameters!AT180","v":1},{"$f":"Parameters!AU180","v":1},{"$f":"Parameters!AV180","v":1},{"$f":"Parameters!AW180","v":1},{"$f":"Parameters!AX180","v":1},{"$f":"Parameters!AY180","v":1},{"$f":"Parameters!AZ180","v":1},{"$f":"Parameters!BA180","v":1},{"$f":"Parameters!BB180","v":1},{"$f":"Parameters!BC180","v":1},{"$f":"Parameters!BD180","v":1},{"$f":"Parameters!BE180","v":1},{"$f":"Parameters!BF180","v":1},{"$f":"Parameters!BG180","v":1},{"$f":"Parameters!BH180","v":1},{"$f":"Parameters!BI180","v":1},{"$f":"Parameters!BJ180","v":1},{"$f":"Parameters!BK180","v":1},{"$f":"Parameters!BL180","v":1},{"$f":"Parameters!BM180","v":1},{"$f":"Parameters!BN180","v":1}]
[{"$f":"SETS!B122","v":"TEC119"},{"$f":"Parameters!K181","v":1},{"$f":"Parameters!L181","v":1},{"$f":"Parameters!M181","v":1},{"$f":"Parameters!N181","v":1},{"$f":"Parameters!O181","v":1},{"$f":"Parameters!P181","v":1},{"$f":"Parameters!Q181","v":1},{"$f":"Parameters!R181","v":1},{"$f":"Parameters!S181","v":1},{"$f":"Parameters!T181","v":1},{"$f":"Parameters!U181","v":1},{"$f":"Parameters!V181","v":1},{"$f":"Parameters!W181","v":1},{"$f":"Parameters!X181","v":1},{"$f":"Parameters!Y181","v":1},{"$f":"Parameters!Z181","v":1},{"$f":"Parameters!AA181","v":1},{"$f":"Parameters!AB181","v":1},{"$f":"Parameters!AC181","v":1},{"$f":"Parameters!AD181","v":1},{"$f":"Parameters!AE181","v":1},{"$f":"Parameters!AF181","v":1},{"$f":"Parameters!AG181","v":1},{"$f":"Parameters!AH181","v":1},{"$f":"Parameters!AI181","v":1},{"$f":"Parameters!AJ181","v":1},{"$f":"Parameters!AK181","v":1},{"$f":"Parameters!AL181","v":1},{"$f":"Parameters!AM181","v":1},{"$f":"Parameters!AN181","v":1},{"$f":"Parameters!AO181","v":1},{"$f":"Parameters!AP181","v":1},{"$f":"Parameters!AQ181","v":1},{"$f":"Parameters!AR181","v":1},{"$f":"Parameters!AS181","v":1},{"$f":"Parameters!AT181","v":1},{"$f":"Parameters!AU181","v":1},{"$f":"Parameters!AV181","v":1},{"$f":"Parameters!AW181","v":1},{"$f":"Parameters!AX181","v":1},{"$f":"Parameters!AY181","v":1},{"$f":"Parameters!AZ181","v":1},{"$f":"Parameters!BA181","v":1},{"$f":"Parameters!BB181","v":1},{"$f":"Parameters!BC181","v":1},{"$f":"Parameters!BD181","v":1},{"$f":"Parameters!BE181","v":1},{"$f":"Parameters!BF181","v":1},{"$f":"Parameters!BG181","v":1},{"$f":"Parameters!BH181","v":1},{"$f":"Parameters!BI181","v":1},{"$f":"Parameters!BJ181","v":1},{"$f":"Parameters!BK181","v":1},{"$f":"Parameters!BL181","v":1},{"$f":"Parameters!BM181","v":1},{"$f":"Parameters!BN181","v":1}]
[{"$f":"SETS!B123","v":"TEC120"},{"$f":"Parameters!K182","v":1},{"$f":"Parameters!L182","v":1},{"$f":"Parameters!M182","v":1},{"$f":"Parameters!N182","v":1},{"$f":"Parameters!O182","v":1},{"$f":"Parameters!P182","v":1},{"$f":"Parameters!Q182","v":1},{"$f":"Parameters!R182","v":1},{"$f":"Parameters!S182","v":1},{"$f":"Parameters!T182","v":1},{"$f":"Parameters!U182","v":1},{"$f":"Parameters!V182","v":1},{"$f":"Parameters!W182","v":1},{"$f":"Parameters!X182","v":1},{"$f":"Parameters!Y182","v":1},{"$f":"Parameters!Z182","v":1},{"$f":"Parameters!AA182","v":1},{"$f":"Parameters!AB182","v":1},{"$f":"Parameters!AC182","v":1},{"$f":"Parameters!AD182","v":1},{"$f":"Parameters!AE182","v":1},{"$f":"Parameters!AF182","v":1},{"$f":"Parameters!AG182","v":1},{"$f":"Parameters!AH182","v":1},{"$f":"Parameters!AI182","v":1},{"$f":"Parameters!AJ182","v":1},{"$f":"Parameters!AK182","v":1},{"$f":"Parameters!AL182","v":1},{"$f":"Parameters!AM182","v":1},{"$f":"Parameters!AN182","v":1},{"$f":"Parameters!AO182","v":1},{"$f":"Parameters!AP182","v":1},{"$f":"Parameters!AQ182","v":1},{"$f":"Parameters!AR182","v":1},{"$f":"Parameters!AS182","v":1},{"$f":"Parameters!AT182","v":1},{"$f":"Parameters!AU182","v":1},{"$f":"Parameters!AV182","v":1},{"$f":"Parameters!AW182","v":1},{"$f":"Parameters!AX182","v":1},{"$f":"Parameters!AY182","v":1},{"$f":"Parameters!AZ182","v":1},{"$f":"Parameters!BA182","v":1},{"$f":"Parameters!BB182","v":1},{"$f":"Parameters!BC182","v":1},{"$f":"Parameters!BD182","v":1},{"$f":"Parameters!BE182","v":1},{"$f":"Parameters!BF182","v":1},{"$f":"Parameters!BG182","v":1},{"$f":"Parameters!BH182","v":1},{"$f":"Parameters!BI182","v":1},{"$f":"Parameters!BJ182","v":1},{"$f":"Parameters!BK182","v":1},{"$f":"Parameters!BL182","v":1},{"$f":"Parameters!BM182","v":1},{"$f":"Parameters!BN182","v":1}]
[{"$f":"SETS!B124","v":"TEC121"},{"$f":"Parameters!K183","v":1},{"$f":"Parameters!L183","v":1},{"$f":"Parameters!M183","v":1},{"$f":"Parameters!N183","v":1},{"$f":"Parameters!O183","v":1},{"$f":"Parameters!P183","v":1},{"$f":"Parameters!Q183","v":1},{"$f":"Parameters!R183","v":1},{"$f":"Parameters!S183","v":1},{"$f":"Parameters!T183","v":1},{"$f":"Parameters!U183","v":1},{"$f":"Parameters!V183","v":1},{"$f":"Parameters!W183","v":1},{"$f":"Parameters!X183","v":1},{"$f":"Parameters!Y183","v":1},{"$f":"Parameters!Z183","v":1},{"$f":"Parameters!AA183","v":1},{"$f":"Parameters!AB183","v":1},{"$f":"Parameters!AC183","v":1},{"$f":"Parameters!AD183","v":1},{"$f":"Parameters!AE183","v":1},{"$f":"Parameters!AF183","v":1},{"$f":"Parameters!AG183","v":1},{"$f":"Parameters!AH183","v":1},{"$f":"Parameters!AI183","v":1},{"$f":"Parameters!AJ183","v":1},{"$f":"Parameters!AK183","v":1},{"$f":"Parameters!AL183","v":1},{"$f":"Parameters!AM183","v":1},{"$f":"Parameters!AN183","v":1},{"$f":"Parameters!AO183","v":1},{"$f":"Parameters!AP183","v":1},{"$f":"Parameters!AQ183","v":1},{"$f":"Parameters!AR183","v":1},{"$f":"Parameters!AS183","v":1},{"$f":"Parameters!AT183","v":1},{"$f":"Parameters!AU183","v":1},{"$f":"Parameters!AV183","v":1},{"$f":"Parameters!AW183","v":1},{"$f":"Parameters!AX183","v":1},{"$f":"Parameters!AY183","v":1},{"$f":"Parameters!AZ183","v":1},{"$f":"Parameters!BA183","v":1},{"$f":"Parameters!BB183","v":1},{"$f":"Parameters!BC183","v":1},{"$f":"Parameters!BD183","v":1},{"$f":"Parameters!BE183","v":1},{"$f":"Parameters!BF183","v":1},{"$f":"Parameters!BG183","v":1},{"$f":"Parameters!BH183","v":1},{"$f":"Parameters!BI183","v":1},{"$f":"Parameters!BJ183","v":1},{"$f":"Parameters!BK183","v":1},{"$f":"Parameters!BL183","v":1},{"$f":"Parameters!BM183","v":1},{"$f":"Parameters!BN183","v":1}]
[{"$f":"SETS!B125","v":"TEC122"},{"$f":"Parameters!K184","v":1},{"$f":"Parameters!L184","v":1},{"$f":"Parameters!M184","v":1},{"$f":"Parameters!N184","v":1},{"$f":"Parameters!O184","v":1},{"$f":"Parameters!P184","v":1},{"$f":"Parameters!Q184","v":1},{"$f":"Parameters!R184","v":1},{"$f":"Parameters!S184","v":1},{"$f":"Parameters!T184","v":1},{"$f":"Parameters!U184","v":1},{"$f":"Parameters!V184","v":1},{"$f":"Parameters!W184","v":1},{"$f":"Parameters!X184","v":1},{"$f":"Parameters!Y184","v":1},{"$f":"Parameters!Z184","v":1},{"$f":"Parameters!AA184","v":1},{"$f":"Parameters!AB184","v":1},{"$f":"Parameters!AC184","v":1},{"$f":"Parameters!AD184","v":1},{"$f":"Parameters!AE184","v":1},{"$f":"Parameters!AF184","v":1},{"$f":"Parameters!AG184","v":1},{"$f":"Parameters!AH184","v":1},{"$f":"Parameters!AI184","v":1},{"$f":"Parameters!AJ184","v":1},{"$f":"Parameters!AK184","v":1},{"$f":"Parameters!AL184","v":1},{"$f":"Parameters!AM184","v":1},{"$f":"Parameters!AN184","v":1},{"$f":"Parameters!AO184","v":1},{"$f":"Parameters!AP184","v":1},{"$f":"Parameters!AQ184","v":1},{"$f":"Parameters!AR184","v":1},{"$f":"Parameters!AS184","v":1},{"$f":"Parameters!AT184","v":1},{"$f":"Parameters!AU184","v":1},{"$f":"Parameters!AV184","v":1},{"$f":"Parameters!AW184","v":1},{"$f":"Parameters!AX184","v":1},{"$f":"Parameters!AY184","v":1},{"$f":"Parameters!AZ184","v":1},{"$f":"Parameters!BA184","v":1},{"$f":"Parameters!BB184","v":1},{"$f":"Parameters!BC184","v":1},{"$f":"Parameters!BD184","v":1},{"$f":"Parameters!BE184","v":1},{"$f":"Parameters!BF184","v":1},{"$f":"Parameters!BG184","v":1},{"$f":"Parameters!BH184","v":1},{"$f":"Parameters!BI184","v":1},{"$f":"Parameters!BJ184","v":1},{"$f":"Parameters!BK184","v":1},{"$f":"Parameters!BL184","v":1},{"$f":"Parameters!BM184","v":1},{"$f":"Parameters!BN184","v":1}]
[{"$f":"SETS!B126","v":"TEC123"},{"$f":"Parameters!K185","v":1},{"$f":"Parameters!L185","v":1},{"$f":"Parameters!M185","v":1},{"$f":"Parameters!N185","v":1},{"$f":"Parameters!O185","v":1},{"$f":"Parameters!P185","v":1},{"$f":"Parameters!Q185","v":1},{"$f":"Parameters!R185","v":1},{"$f":"Parameters!S185","v":1},{"$f":"Parameters!T185","v":1},{"$f":"Parameters!U185","v":1},{"$f":"Parameters!V185","v":1},{"$f":"Parameters!W185","v":1},{"$f":"Parameters!X185","v":1},{"$f":"Parameters!Y185","v":1},{"$f":"Parameters!Z185","v":1},{"$f":"Parameters!AA185","v":1},{"$f":"Parameters!AB185","v":1},{"$f":"Parameters!AC185","v":1},{"$f":"Parameters!AD185","v":1},{"$f":"Parameters!AE185","v":1},{"$f":"Parameters!AF185","v":1},{"$f":"Parameters!AG185","v":1},{"$f":"Parameters!AH185","v":1},{"$f":"Parameters!AI185","v":1},{"$f":"Parameters!AJ185","v":1},{"$f":"Parameters!AK185","v":1},{"$f":"Parameters!AL185","v":1},{"$f":"Parameters!AM185","v":1},{"$f":"Parameters!AN185","v":1},{"$f":"Parameters!AO185","v":1},{"$f":"Parameters!AP185","v":1},{"$f":"Parameters!AQ185","v":1},{"$f":"Parameters!AR185","v":1},{"$f":"Parameters!AS185","v":1},{"$f":"Parameters!AT185","v":1},{"$f":"Parameters!AU185","v":1},{"$f":"Parameters!AV185","v":1},{"$f":"Parameters!AW185","v":1},{"$f":"Parameters!AX185","v":1},{"$f":"Parameters!AY185","v":1},{"$f":"Parameters!AZ185","v":1},{"$f":"Parameters!BA185","v":1},{"$f":"Parameters!BB185","v":1},{"$f":"Parameters!BC185","v":1},{"$f":"Parameters!BD185","v":1},{"$f":"Parameters!BE185","v":1},{"$f":"Parameters!BF185","v":1},{"$f":"Parameters!BG185","v":1},{"$f":"Parameters!BH185","v":1},{"$f":"Parameters!BI185","v":1},{"$f":"Parameters!BJ185","v":1},{"$f":"Parameters!BK185","v":1},{"$f":"Parameters!BL185","v":1},{"$f":"Parameters!BM185","v":1},{"$f":"Parameters!BN185","v":1}]
[{"$f":"SETS!B127","v":"TEC124"},{"$f":"Parameters!K186","v":1},{"$f":"Parameters!L186","v":1},{"$f":"Parameters!M186","v":1},{"$f":"Parameters!N186","v":1},{"$f":"Parameters!O186","v":1},{"$f":"Parameters!P186","v":1},{"$f":"Parameters!Q186","v":1},{"$f":"Parameters!R186","v":1},{"$f":"Parameters!S186","v":1},{"$f":"Parameters!T186","v":1},{"$f":"Parameters!U186","v":1},{"$f":"Parameters!V186","v":1},{"$f":"Parameters!W186","v":1},{"$f":"Parameters!X186","v":1},{"$f":"Parameters!Y186","v":1},{"$f":"Parameters!Z186","v":1},{"$f":"Parameters!AA186","v":1},{"$f":"Parameters!AB186","v":1},{"$f":"Parameters!AC186","v":1},{"$f":"Parameters!AD186","v":1},{"$f":"Parameters!AE186","v":1},{"$f":"Parameters!AF186","v":1},{"$f":"Parameters!AG186","v":1},{"$f":"Parameters!AH186","v":1},{"$f":"Parameters!AI186","v":1},{"$f":"Parameters!AJ186","v":1},{"$f":"Parameters!AK186","v":1},{"$f":"Parameters!AL186","v":1},{"$f":"Parameters!AM186","v":1},{"$f":"Parameters!AN186","v":1},{"$f":"Parameters!AO186","v":1},{"$f":"Parameters!AP186","v":1},{"$f":"Parameters!AQ186","v":1},{"$f":"Parameters!AR186","v":1},{"$f":"Parameters!AS186","v":1},{"$f":"Parameters!AT186","v":1},{"$f":"Parameters!AU186","v":1},{"$f":"Parameters!AV186","v":1},{"$f":"Parameters!AW186","v":1},{"$f":"Parameters!AX186","v":1},{"$f":"Parameters!AY186","v":1},{"$f":"Parameters!AZ186","v":1},{"$f":"Parameters!BA186","v":1},{"$f":"Parameters!BB186","v":1},{"$f":"Parameters!BC186","v":1},{"$f":"Parameters!BD186","v":1},{"$f":"Parameters!BE186","v":1},{"$f":"Parameters!BF186","v":1},{"$f":"Parameters!BG186","v":1},{"$f":"Parameters!BH186","v":1},{"$f":"Parameters!BI186","v":1},{"$f":"Parameters!BJ186","v":1},{"$f":"Parameters!BK186","v":1},{"$f":"Parameters!BL186","v":1},{"$f":"Parameters!BM186","v":1},{"$f":"Parameters!BN186","v":1}]
[{"$f":"SETS!B128","v":"TEC125"},{"$f":"Parameters!K187","v":1},{"$f":"Parameters!L187","v":1},{"$f":"Parameters!M187","v":1},{"$f":"Parameters!N187","v":1},{"$f":"Parameters!O187","v":1},{"$f":"Parameters!P187","v":1},{"$f":"Parameters!Q187","v":1},{"$f":"Parameters!R187","v":1},{"$f":"Parameters!S187","v":1},{"$f":"Parameters!T187","v":1},{"$f":"Parameters!U187","v":1},{"$f":"Parameters!V187","v":1},{"$f":"Parameters!W187","v":1},{"$f":"Parameters!X187","v":1},{"$f":"Parameters!Y187","v":1},{"$f":"Parameters!Z187","v":1},{"$f":"Parameters!AA187","v":1},{"$f":"Parameters!AB187","v":1},{"$f":"Parameters!AC187","v":1},{"$f":"Parameters!AD187","v":1},{"$f":"Parameters!AE187","v":1},{"$f":"Parameters!AF187","v":1},{"$f":"Parameters!AG187","v":1},{"$f":"Parameters!AH187","v":1},{"$f":"Parameters!AI187","v":1},{"$f":"Parameters!AJ187","v":1},{"$f":"Parameters!AK187","v":1},{"$f":"Parameters!AL187","v":1},{"$f":"Parameters!AM187","v":1},{"$f":"Parameters!AN187","v":1},{"$f":"Parameters!AO187","v":1},{"$f":"Parameters!AP187","v":1},{"$f":"Parameters!AQ187","v":1},{"$f":"Parameters!AR187","v":1},{"$f":"Parameters!AS187","v":1},{"$f":"Parameters!AT187","v":1},{"$f":"Parameters!AU187","v":1},{"$f":"Parameters!AV187","v":1},{"$f":"Parameters!AW187","v":1},{"$f":"Parameters!AX187","v":1},{"$f":"Parameters!AY187","v":1},{"$f":"Parameters!AZ187","v":1},{"$f":"Parameters!BA187","v":1},{"$f":"Parameters!BB187","v":1},{"$f":"Parameters!BC187","v":1},{"$f":"Parameters!BD187","v":1},{"$f":"Parameters!BE187","v":1},{"$f":"Parameters!BF187","v":1},{"$f":"Parameters!BG187","v":1},{"$f":"Parameters!BH187","v":1},{"$f":"Parameters!BI187","v":1},{"$f":"Parameters!BJ187","v":1},{"$f":"Parameters!BK187","v":1},{"$f":"Parameters!BL187","v":1},{"$f":"Parameters!BM187","v":1},{"$f":"Parameters!BN187","v":1}]
[{"$f":"SETS!B129","v":"TEC126"},{"$f":"Parameters!K188","v":1},{"$f":"Parameters!L188","v":1},{"$f":"Parameters!M188","v":1},{"$f":"Parameters!N188","v":1},{"$f":"Parameters!O188","v":1},{"$f":"Parameters!P188","v":1},{"$f":"Parameters!Q188","v":1},{"$f":"Parameters!R188","v":1},{"$f":"Parameters!S188","v":1},{"$f":"Parameters!T188","v":1},{"$f":"Parameters!U188","v":1},{"$f":"Parameters!V188","v":1},{"$f":"Parameters!W188","v":1},{"$f":"Parameters!X188","v":1},{"$f":"Parameters!Y188","v":1},{"$f":"Parameters!Z188","v":1},{"$f":"Parameters!AA188","v":1},{"$f":"Parameters!AB188","v":1},{"$f":"Parameters!AC188","v":1},{"$f":"Parameters!AD188","v":1},{"$f":"Parameters!AE188","v":1},{"$f":"Parameters!AF188","v":1},{"$f":"Parameters!AG188","v":1},{"$f":"Parameters!AH188","v":1},{"$f":"Parameters!AI188","v":1},{"$f":"Parameters!AJ188","v":1},{"$f":"Parameters!AK188","v":1},{"$f":"Parameters!AL188","v":1},{"$f":"Parameters!AM188","v":1},{"$f":"Parameters!AN188","v":1},{"$f":"Parameters!AO188","v":1},{"$f":"Parameters!AP188","v":1},{"$f":"Parameters!AQ188","v":1},{"$f":"Parameters!AR188","v":1},{"$f":"Parameters!AS188","v":1},{"$f":"Parameters!AT188","v":1},{"$f":"Parameters!AU188","v":1},{"$f":"Parameters!AV188","v":1},{"$f":"Parameters!AW188","v":1},{"$f":"Parameters!AX188","v":1},{"$f":"Parameters!AY188","v":1},{"$f":"Parameters!AZ188","v":1},{"$f":"Parameters!BA188","v":1},{"$f":"Parameters!BB188","v":1},{"$f":"Parameters!BC188","v":1},{"$f":"Parameters!BD188","v":1},{"$f":"Parameters!BE188","v":1},{"$f":"Parameters!BF188","v":1},{"$f":"Parameters!BG188","v":1},{"$f":"Parameters!BH188","v":1},{"$f":"Parameters!BI188","v":1},{"$f":"Parameters!BJ188","v":1},{"$f":"Parameters!BK188","v":1},{"$f":"Parameters!BL188","v":1},{"$f":"Parameters!BM188","v":1},{"$f":"Parameters!BN188","v":1}]
[{"$f":"SETS!B130","v":"TEC127"},{"$f":"Parameters!K189","v":1},{"$f":"Parameters!L189","v":1},{"$f":"Parameters!M189","v":1},{"$f":"Parameters!N189","v":1},{"$f":"Parameters!O189","v":1},{"$f":"Parameters!P189","v":1},{"$f":"Parameters!Q189","v":1},{"$f":"Parameters!R189","v":1},{"$f":"Parameters!S189","v":1},{"$f":"Parameters!T189","v":1},{"$f":"Parameters!U189","v":1},{"$f":"Parameters!V189","v":1},{"$f":"Parameters!W189","v":1},{"$f":"Parameters!X189","v":1},{"$f":"Parameters!Y189","v":1},{"$f":"Parameters!Z189","v":1},{"$f":"Parameters!AA189","v":1},{"$f":"Parameters!AB189","v":1},{"$f":"Parameters!AC189","v":1},{"$f":"Parameters!AD189","v":1},{"$f":"Parameters!AE189","v":1},{"$f":"Parameters!AF189","v":1},{"$f":"Parameters!AG189","v":1},{"$f":"Parameters!AH189","v":1},{"$f":"Parameters!AI189","v":1},{"$f":"Parameters!AJ189","v":1},{"$f":"Parameters!AK189","v":1},{"$f":"Parameters!AL189","v":1},{"$f":"Parameters!AM189","v":1},{"$f":"Parameters!AN189","v":1},{"$f":"Parameters!AO189","v":1},{"$f":"Parameters!AP189","v":1},{"$f":"Parameters!AQ189","v":1},{"$f":"Parameters!AR189","v":1},{"$f":"Parameters!AS189","v":1},{"$f":"Parameters!AT189","v":1},{"$f":"Parameters!AU189","v":1},{"$f":"Parameters!AV189","v":1},{"$f":"Parameters!AW189","v":1},{"$f":"Parameters!AX189","v":1},{"$f":"Parameters!AY189","v":1},{"$f":"Parameters!AZ189","v":1},{"$f":"Parameters!BA189","v":1},{"$f":"Parameters!BB189","v":1},{"$f":"Parameters!BC189","v":1},{"$f":"Parameters!BD189","v":1},{"$f":"Parameters!BE189","v":1},{"$f":"Parameters!BF189","v":1},{"$f":"Parameters!BG189","v":1},{"$f":"Parameters!BH189","v":1},{"$f":"Parameters!BI189","v":1},{"$f":"Parameters!BJ189","v":1},{"$f":"Parameters!BK189","v":1},{"$f":"Parameters!BL189","v":1},{"$f":"Parameters!BM189","v":1},{"$f":"Parameters!BN189","v":1}]
[{"$f":"SETS!B131","v":"TEC128"},{"$f":"Parameters!K190","v":1},{"$f":"Parameters!L190","v":1},{"$f":"Parameters!M190","v":1},{"$f":"Parameters!N190","v":1},{"$f":"Parameters!O190","v":1},{"$f":"Parameters!P190","v":1},{"$f":"Parameters!Q190","v":1},{"$f":"Parameters!R190","v":1},{"$f":"Parameters!S190","v":1},{"$f":"Parameters!T190","v":1},{"$f":"Parameters!U190","v":1},{"$f":"Parameters!V190","v":1},{"$f":"Parameters!W190","v":1},{"$f":"Parameters!X190","v":1},{"$f":"Parameters!Y190","v":1},{"$f":"Parameters!Z190","v":1},{"$f":"Parameters!AA190","v":1},{"$f":"Parameters!AB190","v":1},{"$f":"Parameters!AC190","v":1},{"$f":"Parameters!AD190","v":1},{"$f":"Parameters!AE190","v":1},{"$f":"Parameters!AF190","v":1},{"$f":"Parameters!AG190","v":1},{"$f":"Parameters!AH190","v":1},{"$f":"Parameters!AI190","v":1},{"$f":"Parameters!AJ190","v":1},{"$f":"Parameters!AK190","v":1},{"$f":"Parameters!AL190","v":1},{"$f":"Parameters!AM190","v":1},{"$f":"Parameters!AN190","v":1},{"$f":"Parameters!AO190","v":1},{"$f":"Parameters!AP190","v":1},{"$f":"Parameters!AQ190","v":1},{"$f":"Parameters!AR190","v":1},{"$f":"Parameters!AS190","v":1},{"$f":"Parameters!AT190","v":1},{"$f":"Parameters!AU190","v":1},{"$f":"Parameters!AV190","v":1},{"$f":"Parameters!AW190","v":1},{"$f":"Parameters!AX190","v":1},{"$f":"Parameters!AY190","v":1},{"$f":"Parameters!AZ190","v":1},{"$f":"Parameters!BA190","v":1},{"$f":"Parameters!BB190","v":1},{"$f":"Parameters!BC190","v":1},{"$f":"Parameters!BD190","v":1},{"$f":"Parameters!BE190","v":1},{"$f":"Parameters!BF190","v":1},{"$f":"Parameters!BG190","v":1},{"$f":"Parameters!BH190","v":1},{"$f":"Parameters!BI190","v":1},{"$f":"Parameters!BJ190","v":1},{"$f":"Parameters!BK190","v":1},{"$f":"Parameters!BL190","v":1},{"$f":"Parameters!BM190","v":1},{"$f":"Parameters!BN190","v":1}]
[{"$f":"SETS!B132","v":"TEC129"},{"$f":"Parameters!K191","v":1},{"$f":"Parameters!L191","v":1},{"$f":"Parameters!M191","v":1},{"$f":"Parameters!N191","v":1},{"$f":"Parameters!O191","v":1},{"$f":"Parameters!P191","v":1},{"$f":"Parameters!Q191","v":1},{"$f":"Parameters!R191","v":1},{"$f":"Parameters!S191","v":1},{"$f":"Parameters!T191","v":1},{"$f":"Parameters!U191","v":1},{"$f":"Parameters!V191","v":1},{"$f":"Parameters!W191","v":1},{"$f":"Parameters!X191","v":1},{"$f":"Parameters!Y191","v":1},{"$f":"Parameters!Z191","v":1},{"$f":"Parameters!AA191","v":1},{"$f":"Parameters!AB191","v":1},{"$f":"Parameters!AC191","v":1},{"$f":"Parameters!AD191","v":1},{"$f":"Parameters!AE191","v":1},{"$f":"Parameters!AF191","v":1},{"$f":"Parameters!AG191","v":1},{"$f":"Parameters!AH191","v":1},{"$f":"Parameters!AI191","v":1},{"$f":"Parameters!AJ191","v":1},{"$f":"Parameters!AK191","v":1},{"$f":"Parameters!AL191","v":1},{"$f":"Parameters!AM191","v":1},{"$f":"Parameters!AN191","v":1},{"$f":"Parameters!AO191","v":1},{"$f":"Parameters!AP191","v":1},{"$f":"Parameters!AQ191","v":1},{"$f":"Parameters!AR191","v":1},{"$f":"Parameters!AS191","v":1},{"$f":"Parameters!AT191","v":1},{"$f":"Parameters!AU191","v":1},{"$f":"Parameters!AV191","v":1},{"$f":"Parameters!AW191","v":1},{"$f":"Parameters!AX191","v":1},{"$f":"Parameters!AY191","v":1},{"$f":"Parameters!AZ191","v":1},{"$f":"Parameters!BA191","v":1},{"$f":"Parameters!BB191","v":1},{"$f":"Parameters!BC191","v":1},{"$f":"Parameters!BD191","v":1},{"$f":"Parameters!BE191","v":1},{"$f":"Parameters!BF191","v":1},{"$f":"Parameters!BG191","v":1},{"$f":"Parameters!BH191","v":1},{"$f":"Parameters!BI191","v":1},{"$f":"Parameters!BJ191","v":1},{"$f":"Parameters!BK191","v":1},{"$f":"Parameters!BL191","v":1},{"$f":"Parameters!BM191","v":1},{"$f":"Parameters!BN191","v":1}]
[{"$f":"SETS!B133","v":"TEC130"},{"$f":"Parameters!K192","v":1},{"$f":"Parameters!L192","v":1},{"$f":"Parameters!M192","v":1},{"$f":"Parameters!N192","v":1},{"$f":"Parameters!O192","v":1},{"$f":"Parameters!P192","v":1},{"$f":"Parameters!Q192","v":1},{"$f":"Parameters!R192","v":1},{"$f":"Parameters!S192","v":1},{"$f":"Parameters!T192","v":1},{"$f":"Parameters!U192","v":1},{"$f":"Parameters!V192","v":1},{"$f":"Parameters!W192","v":1},{"$f":"Parameters!X192","v":1},{"$f":"Parameters!Y192","v":1},{"$f":"Parameters!Z192","v":1},{"$f":"Parameters!AA192","v":1},{"$f":"Parameters!AB192","v":1},{"$f":"Parameters!AC192","v":1},{"$f":"Parameters!AD192","v":1},{"$f":"Parameters!AE192","v":1},{"$f":"Parameters!AF192","v":1},{"$f":"Parameters!AG192","v":1},{"$f":"Parameters!AH192","v":1},{"$f":"Parameters!AI192","v":1},{"$f":"Parameters!AJ192","v":1},{"$f":"Parameters!AK192","v":1},{"$f":"Parameters!AL192","v":1},{"$f":"Parameters!AM192","v":1},{"$f":"Parameters!AN192","v":1},{"$f":"Parameters!AO192","v":1},{"$f":"Parameters!AP192","v":1},{"$f":"Parameters!AQ192","v":1},{"$f":"Parameters!AR192","v":1},{"$f":"Parameters!AS192","v":1},{"$f":"Parameters!AT192","v":1},{"$f":"Parameters!AU192","v":1},{"$f":"Parameters!AV192","v":1},{"$f":"Parameters!AW192","v":1},{"$f":"Parameters!AX192","v":1},{"$f":"Parameters!AY192","v":1},{"$f":"Parameters!AZ192","v":1},{"$f":"Parameters!BA192","v":1},{"$f":"Parameters!BB192","v":1},{"$f":"Parameters!BC192","v":1},{"$f":"Parameters!BD192","v":1},{"$f":"Parameters!BE192","v":1},{"$f":"Parameters!BF192","v":1},{"$f":"Parameters!BG192","v":1},{"$f":"Parameters!BH192","v":1},{"$f":"Parameters!BI192","v":1},{"$f":"Parameters!BJ192","v":1},{"$f":"Parameters!BK192","v":1},{"$f":"Parameters!BL192","v":1},{"$f":"Parameters!BM192","v":1},{"$f":"Parameters!BN192","v":1}]
[{"$f":"SETS!B134","v":"TEC131"},{"$f":"Parameters!K193","v":1},{"$f":"Parameters!L193","v":1},{"$f":"Parameters!M193","v":1},{"$f":"Parameters!N193","v":1},{"$f":"Parameters!O193","v":1},{"$f":"Parameters!P193","v":1},{"$f":"Parameters!Q193","v":1},{"$f":"Parameters!R193","v":1},{"$f":"Parameters!S193","v":1},{"$f":"Parameters!T193","v":1},{"$f":"Parameters!U193","v":1},{"$f":"Parameters!V193","v":1},{"$f":"Parameters!W193","v":1},{"$f":"Parameters!X193","v":1},{"$f":"Parameters!Y193","v":1},{"$f":"Parameters!Z193","v":1},{"$f":"Parameters!AA193","v":1},{"$f":"Parameters!AB193","v":1},{"$f":"Parameters!AC193","v":1},{"$f":"Parameters!AD193","v":1},{"$f":"Parameters!AE193","v":1},{"$f":"Parameters!AF193","v":1},{"$f":"Parameters!AG193","v":1},{"$f":"Parameters!AH193","v":1},{"$f":"Parameters!AI193","v":1},{"$f":"Parameters!AJ193","v":1},{"$f":"Parameters!AK193","v":1},{"$f":"Parameters!AL193","v":1},{"$f":"Parameters!AM193","v":1},{"$f":"Parameters!AN193","v":1},{"$f":"Parameters!AO193","v":1},{"$f":"Parameters!AP193","v":1},{"$f":"Parameters!AQ193","v":1},{"$f":"Parameters!AR193","v":1},{"$f":"Parameters!AS193","v":1},{"$f":"Parameters!AT193","v":1},{"$f":"Parameters!AU193","v":1},{"$f":"Parameters!AV193","v":1},{"$f":"Parameters!AW193","v":1},{"$f":"Parameters!AX193","v":1},{"$f":"Parameters!AY193","v":1},{"$f":"Parameters!AZ193","v":1},{"$f":"Parameters!BA193","v":1},{"$f":"Parameters!BB193","v":1},{"$f":"Parameters!BC193","v":1},{"$f":"Parameters!BD193","v":1},{"$f":"Parameters!BE193","v":1},{"$f":"Parameters!BF193","v":1},{"$f":"Parameters!BG193","v":1},{"$f":"Parameters!BH193","v":1},{"$f":"Parameters!BI193","v":1},{"$f":"Parameters!BJ193","v":1},{"$f":"Parameters!BK193","v":1},{"$f":"Parameters!BL193","v":1},{"$f":"Parameters!BM193","v":1},{"$f":"Parameters!BN193","v":1}]
[{"$f":"SETS!B135","v":"TEC132"},{"$f":"Parameters!K194","v":1},{"$f":"Parameters!L194","v":1},{"$f":"Parameters!M194","v":1},{"$f":"Parameters!N194","v":1},{"$f":"Parameters!O194","v":1},{"$f":"Parameters!P194","v":1},{"$f":"Parameters!Q194","v":1},{"$f":"Parameters!R194","v":1},{"$f":"Parameters!S194","v":1},{"$f":"Parameters!T194","v":1},{"$f":"Parameters!U194","v":1},{"$f":"Parameters!V194","v":1},{"$f":"Parameters!W194","v":1},{"$f":"Parameters!X194","v":1},{"$f":"Parameters!Y194","v":1},{"$f":"Parameters!Z194","v":1},{"$f":"Parameters!AA194","v":1},{"$f":"Parameters!AB194","v":1},{"$f":"Parameters!AC194","v":1},{"$f":"Parameters!AD194","v":1},{"$f":"Parameters!AE194","v":1},{"$f":"Parameters!AF194","v":1},{"$f":"Parameters!AG194","v":1},{"$f":"Parameters!AH194","v":1},{"$f":"Parameters!AI194","v":1},{"$f":"Parameters!AJ194","v":1},{"$f":"Parameters!AK194","v":1},{"$f":"Parameters!AL194","v":1},{"$f":"Parameters!AM194","v":1},{"$f":"Parameters!AN194","v":1},{"$f":"Parameters!AO194","v":1},{"$f":"Parameters!AP194","v":1},{"$f":"Parameters!AQ194","v":1},{"$f":"Parameters!AR194","v":1},{"$f":"Parameters!AS194","v":1},{"$f":"Parameters!AT194","v":1},{"$f":"Parameters!AU194","v":1},{"$f":"Parameters!AV194","v":1},{"$f":"Parameters!AW194","v":1},{"$f":"Parameters!AX194","v":1},{"$f":"Parameters!AY194","v":1},{"$f":"Parameters!AZ194","v":1},{"$f":"Parameters!BA194","v":1},{"$f":"Parameters!BB194","v":1},{"$f":"Parameters!BC194","v":1},{"$f":"Parameters!BD194","v":1},{"$f":"Parameters!BE194","v":1},{"$f":"Parameters!BF194","v":1},{"$f":"Parameters!BG194","v":1},{"$f":"Parameters!BH194","v":1},{"$f":"Parameters!BI194","v":1},{"$f":"Parameters!BJ194","v":1},{"$f":"Parameters!BK194","v":1},{"$f":"Parameters!BL194","v":1},{"$f":"Parameters!BM194","v":1},{"$f":"Parameters!BN194","v":1}]
[{"$f":"SETS!B136","v":"TEC133"},{"$f":"Parameters!K195","v":1},{"$f":"Parameters!L195","v":1},{"$f":"Parameters!M195","v":1},{"$f":"Parameters!N195","v":1},{"$f":"Parameters!O195","v":1},{"$f":"Parameters!P195","v":1},{"$f":"Parameters!Q195","v":1},{"$f":"Parameters!R195","v":1},{"$f":"Parameters!S195","v":1},{"$f":"Parameters!T195","v":1},{"$f":"Parameters!U195","v":1},{"$f":"Parameters!V195","v":1},{"$f":"Parameters!W195","v":1},{"$f":"Parameters!X195","v":1},{"$f":"Parameters!Y195","v":1},{"$f":"Parameters!Z195","v":1},{"$f":"Parameters!AA195","v":1},{"$f":"Parameters!AB195","v":1},{"$f":"Parameters!AC195","v":1},{"$f":"Parameters!AD195","v":1},{"$f":"Parameters!AE195","v":1},{"$f":"Parameters!AF195","v":1},{"$f":"Parameters!AG195","v":1},{"$f":"Parameters!AH195","v":1},{"$f":"Parameters!AI195","v":1},{"$f":"Parameters!AJ195","v":1},{"$f":"Parameters!AK195","v":1},{"$f":"Parameters!AL195","v":1},{"$f":"Parameters!AM195","v":1},{"$f":"Parameters!AN195","v":1},{"$f":"Parameters!AO195","v":1},{"$f":"Parameters!AP195","v":1},{"$f":"Parameters!AQ195","v":1},{"$f":"Parameters!AR195","v":1},{"$f":"Parameters!AS195","v":1},{"$f":"Parameters!AT195","v":1},{"$f":"Parameters!AU195","v":1},{"$f":"Parameters!AV195","v":1},{"$f":"Parameters!AW195","v":1},{"$f":"Parameters!AX195","v":1},{"$f":"Parameters!AY195","v":1},{"$f":"Parameters!AZ195","v":1},{"$f":"Parameters!BA195","v":1},{"$f":"Parameters!BB195","v":1},{"$f":"Parameters!BC195","v":1},{"$f":"Parameters!BD195","v":1},{"$f":"Parameters!BE195","v":1},{"$f":"Parameters!BF195","v":1},{"$f":"Parameters!BG195","v":1},{"$f":"Parameters!BH195","v":1},{"$f":"Parameters!BI195","v":1},{"$f":"Parameters!BJ195","v":1},{"$f":"Parameters!BK195","v":1},{"$f":"Parameters!BL195","v":1},{"$f":"Parameters!BM195","v":1},{"$f":"Parameters!BN195","v":1}]
[{"$f":"SETS!B137","v":"TEC134"},{"$f":"Parameters!K196","v":1},{"$f":"Parameters!L196","v":1},{"$f":"Parameters!M196","v":1},{"$f":"Parameters!N196","v":1},{"$f":"Parameters!O196","v":1},{"$f":"Parameters!P196","v":1},{"$f":"Parameters!Q196","v":1},{"$f":"Parameters!R196","v":1},{"$f":"Parameters!S196","v":1},{"$f":"Parameters!T196","v":1},{"$f":"Parameters!U196","v":1},{"$f":"Parameters!V196","v":1},{"$f":"Parameters!W196","v":1},{"$f":"Parameters!X196","v":1},{"$f":"Parameters!Y196","v":1},{"$f":"Parameters!Z196","v":1},{"$f":"Parameters!AA196","v":1},{"$f":"Parameters!AB196","v":1},{"$f":"Parameters!AC196","v":1},{"$f":"Parameters!AD196","v":1},{"$f":"Parameters!AE196","v":1},{"$f":"Parameters!AF196","v":1},{"$f":"Parameters!AG196","v":1},{"$f":"Parameters!AH196","v":1},{"$f":"Parameters!AI196","v":1},{"$f":"Parameters!AJ196","v":1},{"$f":"Parameters!AK196","v":1},{"$f":"Parameters!AL196","v":1},{"$f":"Parameters!AM196","v":1},{"$f":"Parameters!AN196","v":1},{"$f":"Parameters!AO196","v":1},{"$f":"Parameters!AP196","v":1},{"$f":"Parameters!AQ196","v":1},{"$f":"Parameters!AR196","v":1},{"$f":"Parameters!AS196","v":1},{"$f":"Parameters!AT196","v":1},{"$f":"Parameters!AU196","v":1},{"$f":"Parameters!AV196","v":1},{"$f":"Parameters!AW196","v":1},{"$f":"Parameters!AX196","v":1},{"$f":"Parameters!AY196","v":1},{"$f":"Parameters!AZ196","v":1},{"$f":"Parameters!BA196","v":1},{"$f":"Parameters!BB196","v":1},{"$f":"Parameters!BC196","v":1},{"$f":"Parameters!BD196","v":1},{"$f":"Parameters!BE196","v":1},{"$f":"Parameters!BF196","v":1},{"$f":"Parameters!BG196","v":1},{"$f":"Parameters!BH196","v":1},{"$f":"Parameters!BI196","v":1},{"$f":"Parameters!BJ196","v":1},{"$f":"Parameters!BK196","v":1},{"$f":"Parameters!BL196","v":1},{"$f":"Parameters!BM196","v":1},{"$f":"Parameters!BN196","v":1}]
[{"$f":"SETS!B138","v":"TEC135"},{"$f":"Parameters!K197","v":1},{"$f":"Parameters!L197","v":1},{"$f":"Parameters!M197","v":1},{"$f":"Parameters!N197","v":1},{"$f":"Parameters!O197","v":1},{"$f":"Parameters!P197","v":1},{"$f":"Parameters!Q197","v":1},{"$f":"Parameters!R197","v":1},{"$f":"Parameters!S197","v":1},{"$f":"Parameters!T197","v":1},{"$f":"Parameters!U197","v":1},{"$f":"Parameters!V197","v":1},{"$f":"Parameters!W197","v":1},{"$f":"Parameters!X197","v":1},{"$f":"Parameters!Y197","v":1},{"$f":"Parameters!Z197","v":1},{"$f":"Parameters!AA197","v":1},{"$f":"Parameters!AB197","v":1},{"$f":"Parameters!AC197","v":1},{"$f":"Parameters!AD197","v":1},{"$f":"Parameters!AE197","v":1},{"$f":"Parameters!AF197","v":1},{"$f":"Parameters!AG197","v":1},{"$f":"Parameters!AH197","v":1},{"$f":"Parameters!AI197","v":1},{"$f":"Parameters!AJ197","v":1},{"$f":"Parameters!AK197","v":1},{"$f":"Parameters!AL197","v":1},{"$f":"Parameters!AM197","v":1},{"$f":"Parameters!AN197","v":1},{"$f":"Parameters!AO197","v":1},{"$f":"Parameters!AP197","v":1},{"$f":"Parameters!AQ197","v":1},{"$f":"Parameters!AR197","v":1},{"$f":"Parameters!AS197","v":1},{"$f":"Parameters!AT197","v":1},{"$f":"Parameters!AU197","v":1},{"$f":"Parameters!AV197","v":1},{"$f":"Parameters!AW197","v":1},{"$f":"Parameters!AX197","v":1},{"$f":"Parameters!AY197","v":1},{"$f":"Parameters!AZ197","v":1},{"$f":"Parameters!BA197","v":1},{"$f":"Parameters!BB197","v":1},{"$f":"Parameters!BC197","v":1},{"$f":"Parameters!BD197","v":1},{"$f":"Parameters!BE197","v":1},{"$f":"Parameters!BF197","v":1},{"$f":"Parameters!BG197","v":1},{"$f":"Parameters!BH197","v":1},{"$f":"Parameters!BI197","v":1},{"$f":"Parameters!BJ197","v":1},{"$f":"Parameters!BK197","v":1},{"$f":"Parameters!BL197","v":1},{"$f":"Parameters!BM197","v":1},{"$f":"Parameters!BN197","v":1}]
[{"$f":"SETS!B139","v":"TEC136"},{"$f":"Parameters!K198","v":1},{"$f":"Parameters!L198","v":1},{"$f":"Parameters!M198","v":1},{"$f":"Parameters!N198","v":1},{"$f":"Parameters!O198","v":1},{"$f":"Parameters!P198","v":1},{"$f":"Parameters!Q198","v":1},{"$f":"Parameters!R198","v":1},{"$f":"Parameters!S198","v":1},{"$f":"Parameters!T198","v":1},{"$f":"Parameters!U198","v":1},{"$f":"Parameters!V198","v":1},{"$f":"Parameters!W198","v":1},{"$f":"Parameters!X198","v":1},{"$f":"Parameters!Y198","v":1},{"$f":"Parameters!Z198","v":1},{"$f":"Parameters!AA198","v":1},{"$f":"Parameters!AB198","v":1},{"$f":"Parameters!AC198","v":1},{"$f":"Parameters!AD198","v":1},{"$f":"Parameters!AE198","v":1},{"$f":"Parameters!AF198","v":1},{"$f":"Parameters!AG198","v":1},{"$f":"Parameters!AH198","v":1},{"$f":"Parameters!AI198","v":1},{"$f":"Parameters!AJ198","v":1},{"$f":"Parameters!AK198","v":1},{"$f":"Parameters!AL198","v":1},{"$f":"Parameters!AM198","v":1},{"$f":"Parameters!AN198","v":1},{"$f":"Parameters!AO198","v":1},{"$f":"Parameters!AP198","v":1},{"$f":"Parameters!AQ198","v":1},{"$f":"Parameters!AR198","v":1},{"$f":"Parameters!AS198","v":1},{"$f":"Parameters!AT198","v":1},{"$f":"Parameters!AU198","v":1},{"$f":"Parameters!AV198","v":1},{"$f":"Parameters!AW198","v":1},{"$f":"Parameters!AX198","v":1},{"$f":"Parameters!AY198","v":1},{"$f":"Parameters!AZ198","v":1},{"$f":"Parameters!BA198","v":1},{"$f":"Parameters!BB198","v":1},{"$f":"Parameters!BC198","v":1},{"$f":"Parameters!BD198","v":1},{"$f":"Parameters!BE198","v":1},{"$f":"Parameters!BF198","v":1},{"$f":"Parameters!BG198","v":1},{"$f":"Parameters!BH198","v":1},{"$f":"Parameters!BI198","v":1},{"$f":"Parameters!BJ198","v":1},{"$f":"Parameters!BK198","v":1},{"$f":"Parameters!BL198","v":1},{"$f":"Parameters!BM198","v":1},{"$f":"Parameters!BN198","v":1}]
[{"$f":"SETS!B140","v":"TEC137"},{"$f":"Parameters!K199","v":1},{"$f":"Parameters!L199","v":1},{"$f":"Parameters!M199","v":1},{"$f":"Parameters!N199","v":1},{"$f":"Parameters!O199","v":1},{"$f":"Parameters!P199","v":1},{"$f":"Parameters!Q199","v":1},{"$f":"Parameters!R199","v":1},{"$f":"Parameters!S199","v":1},{"$f":"Parameters!T199","v":1},{"$f":"Parameters!U199","v":1},{"$f":"Parameters!V199","v":1},{"$f":"Parameters!W199","v":1},{"$f":"Parameters!X199","v":1},{"$f":"Parameters!Y199","v":1},{"$f":"Parameters!Z199","v":1},{"$f":"Parameters!AA199","v":1},{"$f":"Parameters!AB199","v":1},{"$f":"Parameters!AC199","v":1},{"$f":"Parameters!AD199","v":1},{"$f":"Parameters!AE199","v":1},{"$f":"Parameters!AF199","v":1},{"$f":"Parameters!AG199","v":1},{"$f":"Parameters!AH199","v":1},{"$f":"Parameters!AI199","v":1},{"$f":"Parameters!AJ199","v":1},{"$f":"Parameters!AK199","v":1},{"$f":"Parameters!AL199","v":1},{"$f":"Parameters!AM199","v":1},{"$f":"Parameters!AN199","v":1},{"$f":"Parameters!AO199","v":1},{"$f":"Parameters!AP199","v":1},{"$f":"Parameters!AQ199","v":1},{"$f":"Parameters!AR199","v":1},{"$f":"Parameters!AS199","v":1},{"$f":"Parameters!AT199","v":1},{"$f":"Parameters!AU199","v":1},{"$f":"Parameters!AV199","v":1},{"$f":"Parameters!AW199","v":1},{"$f":"Parameters!AX199","v":1},{"$f":"Parameters!AY199","v":1},{"$f":"Parameters!AZ199","v":1},{"$f":"Parameters!BA199","v":1},{"$f":"Parameters!BB199","v":1},{"$f":"Parameters!BC199","v":1},{"$f":"Parameters!BD199","v":1},{"$f":"Parameters!BE199","v":1},{"$f":"Parameters!BF199","v":1},{"$f":"Parameters!BG199","v":1},{"$f":"Parameters!BH199","v":1},{"$f":"Parameters!BI199","v":1},{"$f":"Parameters!BJ199","v":1},{"$f":"Parameters!BK199","v":1},{"$f":"Parameters!BL199","v":1},{"$f":"Parameters!BM199","v":1},{"$f":"Parameters!BN199","v":1}]
[{"$f":"SETS!B141","v":"TEC138"},{"$f":"Parameters!K200","v":1},{"$f":"Parameters!L200","v":1},{"$f":"Parameters!M200","v":1},{"$f":"Parameters!N200","v":1},{"$f":"Parameters!O200","v":1},{"$f":"Parameters!P200","v":1},{"$f":"Parameters!Q200","v":1},{"$f":"Parameters!R200","v":1},{"$f":"Parameters!S200","v":1},{"$f":"Parameters!T200","v":1},{"$f":"Parameters!U200","v":1},{"$f":"Parameters!V200","v":1},{"$f":"Parameters!W200","v":1},{"$f":"Parameters!X200","v":1},{"$f":"Parameters!Y200","v":1},{"$f":"Parameters!Z200","v":1},{"$f":"Parameters!AA200","v":1},{"$f":"Parameters!AB200","v":1},{"$f":"Parameters!AC200","v":1},{"$f":"Parameters!AD200","v":1},{"$f":"Parameters!AE200","v":1},{"$f":"Parameters!AF200","v":1},{"$f":"Parameters!AG200","v":1},{"$f":"Parameters!AH200","v":1},{"$f":"Parameters!AI200","v":1},{"$f":"Parameters!AJ200","v":1},{"$f":"Parameters!AK200","v":1},{"$f":"Parameters!AL200","v":1},{"$f":"Parameters!AM200","v":1},{"$f":"Parameters!AN200","v":1},{"$f":"Parameters!AO200","v":1},{"$f":"Parameters!AP200","v":1},{"$f":"Parameters!AQ200","v":1},{"$f":"Parameters!AR200","v":1},{"$f":"Parameters!AS200","v":1},{"$f":"Parameters!AT200","v":1},{"$f":"Parameters!AU200","v":1},{"$f":"Parameters!AV200","v":1},{"$f":"Parameters!AW200","v":1},{"$f":"Parameters!AX200","v":1},{"$f":"Parameters!AY200","v":1},{"$f":"Parameters!AZ200","v":1},{"$f":"Parameters!BA200","v":1},{"$f":"Parameters!BB200","v":1},{"$f":"Parameters!BC200","v":1},{"$f":"Parameters!BD200","v":1},{"$f":"Parameters!BE200","v":1},{"$f":"Parameters!BF200","v":1},{"$f":"Parameters!BG200","v":1},{"$f":"Parameters!BH200","v":1},{"$f":"Parameters!BI200","v":1},{"$f":"Parameters!BJ200","v":1},{"$f":"Parameters!BK200","v":1},{"$f":"Parameters!BL200","v":1},{"$f":"Parameters!BM200","v":1},{"$f":"Parameters!BN200","v":1}]
[{"$f":"SETS!B142","v":"TEC139"},{"$f":"Parameters!K201","v":1},{"$f":"Parameters!L201","v":1},{"$f":"Parameters!M201","v":1},{"$f":"Parameters!N201","v":1},{"$f":"Parameters!O201","v":1},{"$f":"Parameters!P201","v":1},{"$f":"Parameters!Q201","v":1},{"$f":"Parameters!R201","v":1},{"$f":"Parameters!S201","v":1},{"$f":"Parameters!T201","v":1},{"$f":"Parameters!U201","v":1},{"$f":"Parameters!V201","v":1},{"$f":"Parameters!W201","v":1},{"$f":"Parameters!X201","v":1},{"$f":"Parameters!Y201","v":1},{"$f":"Parameters!Z201","v":1},{"$f":"Parameters!AA201","v":1},{"$f":"Parameters!AB201","v":1},{"$f":"Parameters!AC201","v":1},{"$f":"Parameters!AD201","v":1},{"$f":"Parameters!AE201","v":1},{"$f":"Parameters!AF201","v":1},{"$f":"Parameters!AG201","v":1},{"$f":"Parameters!AH201","v":1},{"$f":"Parameters!AI201","v":1},{"$f":"Parameters!AJ201","v":1},{"$f":"Parameters!AK201","v":1},{"$f":"Parameters!AL201","v":1},{"$f":"Parameters!AM201","v":1},{"$f":"Parameters!AN201","v":1},{"$f":"Parameters!AO201","v":1},{"$f":"Parameters!AP201","v":1},{"$f":"Parameters!AQ201","v":1},{"$f":"Parameters!AR201","v":1},{"$f":"Parameters!AS201","v":1},{"$f":"Parameters!AT201","v":1},{"$f":"Parameters!AU201","v":1},{"$f":"Parameters!AV201","v":1},{"$f":"Parameters!AW201","v":1},{"$f":"Parameters!AX201","v":1},{"$f":"Parameters!AY201","v":1},{"$f":"Parameters!AZ201","v":1},{"$f":"Parameters!BA201","v":1},{"$f":"Parameters!BB201","v":1},{"$f":"Parameters!BC201","v":1},{"$f":"Parameters!BD201","v":1},{"$f":"Parameters!BE201","v":1},{"$f":"Parameters!BF201","v":1},{"$f":"Parameters!BG201","v":1},{"$f":"Parameters!BH201","v":1},{"$f":"Parameters!BI201","v":1},{"$f":"Parameters!BJ201","v":1},{"$f":"Parameters!BK201","v":1},{"$f":"Parameters!BL201","v":1},{"$f":"Parameters!BM201","v":1},{"$f":"Parameters!BN201","v":1}]
[{"$f":"SETS!B143","v":"TEC140"},{"$f":"Parameters!K202","v":1},{"$f":"Parameters!L202","v":1},{"$f":"Parameters!M202","v":1},{"$f":"Parameters!N202","v":1},{"$f":"Parameters!O202","v":1},{"$f":"Parameters!P202","v":1},{"$f":"Parameters!Q202","v":1},{"$f":"Parameters!R202","v":1},{"$f":"Parameters!S202","v":1},{"$f":"Parameters!T202","v":1},{"$f":"Parameters!U202","v":1},{"$f":"Parameters!V202","v":1},{"$f":"Parameters!W202","v":1},{"$f":"Parameters!X202","v":1},{"$f":"Parameters!Y202","v":1},{"$f":"Parameters!Z202","v":1},{"$f":"Parameters!AA202","v":1},{"$f":"Parameters!AB202","v":1},{"$f":"Parameters!AC202","v":1},{"$f":"Parameters!AD202","v":1},{"$f":"Parameters!AE202","v":1},{"$f":"Parameters!AF202","v":1},{"$f":"Parameters!AG202","v":1},{"$f":"Parameters!AH202","v":1},{"$f":"Parameters!AI202","v":1},{"$f":"Parameters!AJ202","v":1},{"$f":"Parameters!AK202","v":1},{"$f":"Parameters!AL202","v":1},{"$f":"Parameters!AM202","v":1},{"$f":"Parameters!AN202","v":1},{"$f":"Parameters!AO202","v":1},{"$f":"Parameters!AP202","v":1},{"$f":"Parameters!AQ202","v":1},{"$f":"Parameters!AR202","v":1},{"$f":"Parameters!AS202","v":1},{"$f":"Parameters!AT202","v":1},{"$f":"Parameters!AU202","v":1},{"$f":"Parameters!AV202","v":1},{"$f":"Parameters!AW202","v":1},{"$f":"Parameters!AX202","v":1},{"$f":"Parameters!AY202","v":1},{"$f":"Parameters!AZ202","v":1},{"$f":"Parameters!BA202","v":1},{"$f":"Parameters!BB202","v":1},{"$f":"Parameters!BC202","v":1},{"$f":"Parameters!BD202","v":1},{"$f":"Parameters!BE202","v":1},{"$f":"Parameters!BF202","v":1},{"$f":"Parameters!BG202","v":1},{"$f":"Parameters!BH202","v":1},{"$f":"Parameters!BI202","v":1},{"$f":"Parameters!BJ202","v":1},{"$f":"Parameters!BK202","v":1},{"$f":"Parameters!BL202","v":1},{"$f":"Parameters!BM202","v":1},{"$f":"Parameters!BN202","v":1}]
[{"$f":"SETS!B144","v":"TEC141"},{"$f":"Parameters!K203","v":1},{"$f":"Parameters!L203","v":1},{"$f":"Parameters!M203","v":1},{"$f":"Parameters!N203","v":1},{"$f":"Parameters!O203","v":1},{"$f":"Parameters!P203","v":1},{"$f":"Parameters!Q203","v":1},{"$f":"Parameters!R203","v":1},{"$f":"Parameters!S203","v":1},{"$f":"Parameters!T203","v":1},{"$f":"Parameters!U203","v":1},{"$f":"Parameters!V203","v":1},{"$f":"Parameters!W203","v":1},{"$f":"Parameters!X203","v":1},{"$f":"Parameters!Y203","v":1},{"$f":"Parameters!Z203","v":1},{"$f":"Parameters!AA203","v":1},{"$f":"Parameters!AB203","v":1},{"$f":"Parameters!AC203","v":1},{"$f":"Parameters!AD203","v":1},{"$f":"Parameters!AE203","v":1},{"$f":"Parameters!AF203","v":1},{"$f":"Parameters!AG203","v":1},{"$f":"Parameters!AH203","v":1},{"$f":"Parameters!AI203","v":1},{"$f":"Parameters!AJ203","v":1},{"$f":"Parameters!AK203","v":1},{"$f":"Parameters!AL203","v":1},{"$f":"Parameters!AM203","v":1},{"$f":"Parameters!AN203","v":1},{"$f":"Parameters!AO203","v":1},{"$f":"Parameters!AP203","v":1},{"$f":"Parameters!AQ203","v":1},{"$f":"Parameters!AR203","v":1},{"$f":"Parameters!AS203","v":1},{"$f":"Parameters!AT203","v":1},{"$f":"Parameters!AU203","v":1},{"$f":"Parameters!AV203","v":1},{"$f":"Parameters!AW203","v":1},{"$f":"Parameters!AX203","v":1},{"$f":"Parameters!AY203","v":1},{"$f":"Parameters!AZ203","v":1},{"$f":"Parameters!BA203","v":1},{"$f":"Parameters!BB203","v":1},{"$f":"Parameters!BC203","v":1},{"$f":"Parameters!BD203","v":1},{"$f":"Parameters!BE203","v":1},{"$f":"Parameters!BF203","v":1},{"$f":"Parameters!BG203","v":1},{"$f":"Parameters!BH203","v":1},{"$f":"Parameters!BI203","v":1},{"$f":"Parameters!BJ203","v":1},{"$f":"Parameters!BK203","v":1},{"$f":"Parameters!BL203","v":1},{"$f":"Parameters!BM203","v":1},{"$f":"Parameters!BN203","v":1}]
[{"$f":"SETS!B145","v":"TEC142"},{"$f":"Parameters!K204","v":1},{"$f":"Parameters!L204","v":1},{"$f":"Parameters!M204","v":1},{"$f":"Parameters!N204","v":1},{"$f":"Parameters!O204","v":1},{"$f":"Parameters!P204","v":1},{"$f":"Parameters!Q204","v":1},{"$f":"Parameters!R204","v":1},{"$f":"Parameters!S204","v":1},{"$f":"Parameters!T204","v":1},{"$f":"Parameters!U204","v":1},{"$f":"Parameters!V204","v":1},{"$f":"Parameters!W204","v":1},{"$f":"Parameters!X204","v":1},{"$f":"Parameters!Y204","v":1},{"$f":"Parameters!Z204","v":1},{"$f":"Parameters!AA204","v":1},{"$f":"Parameters!AB204","v":1},{"$f":"Parameters!AC204","v":1},{"$f":"Parameters!AD204","v":1},{"$f":"Parameters!AE204","v":1},{"$f":"Parameters!AF204","v":1},{"$f":"Parameters!AG204","v":1},{"$f":"Parameters!AH204","v":1},{"$f":"Parameters!AI204","v":1},{"$f":"Parameters!AJ204","v":1},{"$f":"Parameters!AK204","v":1},{"$f":"Parameters!AL204","v":1},{"$f":"Parameters!AM204","v":1},{"$f":"Parameters!AN204","v":1},{"$f":"Parameters!AO204","v":1},{"$f":"Parameters!AP204","v":1},{"$f":"Parameters!AQ204","v":1},{"$f":"Parameters!AR204","v":1},{"$f":"Parameters!AS204","v":1},{"$f":"Parameters!AT204","v":1},{"$f":"Parameters!AU204","v":1},{"$f":"Parameters!AV204","v":1},{"$f":"Parameters!AW204","v":1},{"$f":"Parameters!AX204","v":1},{"$f":"Parameters!AY204","v":1},{"$f":"Parameters!AZ204","v":1},{"$f":"Parameters!BA204","v":1},{"$f":"Parameters!BB204","v":1},{"$f":"Parameters!BC204","v":1},{"$f":"Parameters!BD204","v":1},{"$f":"Parameters!BE204","v":1},{"$f":"Parameters!BF204","v":1},{"$f":"Parameters!BG204","v":1},{"$f":"Parameters!BH204","v":1},{"$f":"Parameters!BI204","v":1},{"$f":"Parameters!BJ204","v":1},{"$f":"Parameters!BK204","v":1},{"$f":"Parameters!BL204","v":1},{"$f":"Parameters!BM204","v":1},{"$f":"Parameters!BN204","v":1}]
[{"$f":"SETS!B146","v":"TEC143"},{"$f":"Parameters!K205","v":1},{"$f":"Parameters!L205","v":1},{"$f":"Parameters!M205","v":1},{"$f":"Parameters!N205","v":1},{"$f":"Parameters!O205","v":1},{"$f":"Parameters!P205","v":1},{"$f":"Parameters!Q205","v":1},{"$f":"Parameters!R205","v":1},{"$f":"Parameters!S205","v":1},{"$f":"Parameters!T205","v":1},{"$f":"Parameters!U205","v":1},{"$f":"Parameters!V205","v":1},{"$f":"Parameters!W205","v":1},{"$f":"Parameters!X205","v":1},{"$f":"Parameters!Y205","v":1},{"$f":"Parameters!Z205","v":1},{"$f":"Parameters!AA205","v":1},{"$f":"Parameters!AB205","v":1},{"$f":"Parameters!AC205","v":1},{"$f":"Parameters!AD205","v":1},{"$f":"Parameters!AE205","v":1},{"$f":"Parameters!AF205","v":1},{"$f":"Parameters!AG205","v":1},{"$f":"Parameters!AH205","v":1},{"$f":"Parameters!AI205","v":1},{"$f":"Parameters!AJ205","v":1},{"$f":"Parameters!AK205","v":1},{"$f":"Parameters!AL205","v":1},{"$f":"Parameters!AM205","v":1},{"$f":"Parameters!AN205","v":1},{"$f":"Parameters!AO205","v":1},{"$f":"Parameters!AP205","v":1},{"$f":"Parameters!AQ205","v":1},{"$f":"Parameters!AR205","v":1},{"$f":"Parameters!AS205","v":1},{"$f":"Parameters!AT205","v":1},{"$f":"Parameters!AU205","v":1},{"$f":"Parameters!AV205","v":1},{"$f":"Parameters!AW205","v":1},{"$f":"Parameters!AX205","v":1},{"$f":"Parameters!AY205","v":1},{"$f":"Parameters!AZ205","v":1},{"$f":"Parameters!BA205","v":1},{"$f":"Parameters!BB205","v":1},{"$f":"Parameters!BC205","v":1},{"$f":"Parameters!BD205","v":1},{"$f":"Parameters!BE205","v":1},{"$f":"Parameters!BF205","v":1},{"$f":"Parameters!BG205","v":1},{"$f":"Parameters!BH205","v":1},{"$f":"Parameters!BI205","v":1},{"$f":"Parameters!BJ205","v":1},{"$f":"Parameters!BK205","v":1},{"$f":"Parameters!BL205","v":1},{"$f":"Parameters!BM205","v":1},{"$f":"Parameters!BN205","v":1}]
[{"$f":"SETS!B147","v":"TEC144"},{"$f":"Parameters!K206","v":1},{"$f":"Parameters!L206","v":1},{"$f":"Parameters!M206","v":1},{"$f":"Parameters!N206","v":1},{"$f":"Parameters!O206","v":1},{"$f":"Parameters!P206","v":1},{"$f":"Parameters!Q206","v":1},{"$f":"Parameters!R206","v":1},{"$f":"Parameters!S206","v":1},{"$f":"Parameters!T206","v":1},{"$f":"Parameters!U206","v":1},{"$f":"Parameters!V206","v":1},{"$f":"Parameters!W206","v":1},{"$f":"Parameters!X206","v":1},{"$f":"Parameters!Y206","v":1},{"$f":"Parameters!Z206","v":1},{"$f":"Parameters!AA206","v":1},{"$f":"Parameters!AB206","v":1},{"$f":"Parameters!AC206","v":1},{"$f":"Parameters!AD206","v":1},{"$f":"Parameters!AE206","v":1},{"$f":"Parameters!AF206","v":1},{"$f":"Parameters!AG206","v":1},{"$f":"Parameters!AH206","v":1},{"$f":"Parameters!AI206","v":1},{"$f":"Parameters!AJ206","v":1},{"$f":"Parameters!AK206","v":1},{"$f":"Parameters!AL206","v":1},{"$f":"Parameters!AM206","v":1},{"$f":"Parameters!AN206","v":1},{"$f":"Parameters!AO206","v":1},{"$f":"Parameters!AP206","v":1},{"$f":"Parameters!AQ206","v":1},{"$f":"Parameters!AR206","v":1},{"$f":"Parameters!AS206","v":1},{"$f":"Parameters!AT206","v":1},{"$f":"Parameters!AU206","v":1},{"$f":"Parameters!AV206","v":1},{"$f":"Parameters!AW206","v":1},{"$f":"Parameters!AX206","v":1},{"$f":"Parameters!AY206","v":1},{"$f":"Parameters!AZ206","v":1},{"$f":"Parameters!BA206","v":1},{"$f":"Parameters!BB206","v":1},{"$f":"Parameters!BC206","v":1},{"$f":"Parameters!BD206","v":1},{"$f":"Parameters!BE206","v":1},{"$f":"Parameters!BF206","v":1},{"$f":"Parameters!BG206","v":1},{"$f":"Parameters!BH206","v":1},{"$f":"Parameters!BI206","v":1},{"$f":"Parameters!BJ206","v":1},{"$f":"Parameters!BK206","v":1},{"$f":"Parameters!BL206","v":1},{"$f":"Parameters!BM206","v":1},{"$f":"Parameters!BN206","v":1}]
[{"$f":"SETS!B148","v":"TEC145"},{"$f":"Parameters!K207","v":1},{"$f":"Parameters!L207","v":1},{"$f":"Parameters!M207","v":1},{"$f":"Parameters!N207","v":1},{"$f":"Parameters!O207","v":1},{"$f":"Parameters!P207","v":1},{"$f":"Parameters!Q207","v":1},{"$f":"Parameters!R207","v":1},{"$f":"Parameters!S207","v":1},{"$f":"Parameters!T207","v":1},{"$f":"Parameters!U207","v":1},{"$f":"Parameters!V207","v":1},{"$f":"Parameters!W207","v":1},{"$f":"Parameters!X207","v":1},{"$f":"Parameters!Y207","v":1},{"$f":"Parameters!Z207","v":1},{"$f":"Parameters!AA207","v":1},{"$f":"Parameters!AB207","v":1},{"$f":"Parameters!AC207","v":1},{"$f":"Parameters!AD207","v":1},{"$f":"Parameters!AE207","v":1},{"$f":"Parameters!AF207","v":1},{"$f":"Parameters!AG207","v":1},{"$f":"Parameters!AH207","v":1},{"$f":"Parameters!AI207","v":1},{"$f":"Parameters!AJ207","v":1},{"$f":"Parameters!AK207","v":1},{"$f":"Parameters!AL207","v":1},{"$f":"Parameters!AM207","v":1},{"$f":"Parameters!AN207","v":1},{"$f":"Parameters!AO207","v":1},{"$f":"Parameters!AP207","v":1},{"$f":"Parameters!AQ207","v":1},{"$f":"Parameters!AR207","v":1},{"$f":"Parameters!AS207","v":1},{"$f":"Parameters!AT207","v":1},{"$f":"Parameters!AU207","v":1},{"$f":"Parameters!AV207","v":1},{"$f":"Parameters!AW207","v":1},{"$f":"Parameters!AX207","v":1},{"$f":"Parameters!AY207","v":1},{"$f":"Parameters!AZ207","v":1},{"$f":"Parameters!BA207","v":1},{"$f":"Parameters!BB207","v":1},{"$f":"Parameters!BC207","v":1},{"$f":"Parameters!BD207","v":1},{"$f":"Parameters!BE207","v":1},{"$f":"Parameters!BF207","v":1},{"$f":"Parameters!BG207","v":1},{"$f":"Parameters!BH207","v":1},{"$f":"Parameters!BI207","v":1},{"$f":"Parameters!BJ207","v":1},{"$f":"Parameters!BK207","v":1},{"$f":"Parameters!BL207","v":1},{"$f":"Parameters!BM207","v":1},{"$f":"Parameters!BN207","v":1}]
[{"$f":"SETS!B149","v":"TEC146"},{"$f":"Parameters!K208","v":1},{"$f":"Parameters!L208","v":1},{"$f":"Parameters!M208","v":1},{"$f":"Parameters!N208","v":1},{"$f":"Parameters!O208","v":1},{"$f":"Parameters!P208","v":1},{"$f":"Parameters!Q208","v":1},{"$f":"Parameters!R208","v":1},{"$f":"Parameters!S208","v":1},{"$f":"Parameters!T208","v":1},{"$f":"Parameters!U208","v":1},{"$f":"Parameters!V208","v":1},{"$f":"Parameters!W208","v":1},{"$f":"Parameters!X208","v":1},{"$f":"Parameters!Y208","v":1},{"$f":"Parameters!Z208","v":1},{"$f":"Parameters!AA208","v":1},{"$f":"Parameters!AB208","v":1},{"$f":"Parameters!AC208","v":1},{"$f":"Parameters!AD208","v":1},{"$f":"Parameters!AE208","v":1},{"$f":"Parameters!AF208","v":1},{"$f":"Parameters!AG208","v":1},{"$f":"Parameters!AH208","v":1},{"$f":"Parameters!AI208","v":1},{"$f":"Parameters!AJ208","v":1},{"$f":"Parameters!AK208","v":1},{"$f":"Parameters!AL208","v":1},{"$f":"Parameters!AM208","v":1},{"$f":"Parameters!AN208","v":1},{"$f":"Parameters!AO208","v":1},{"$f":"Parameters!AP208","v":1},{"$f":"Parameters!AQ208","v":1},{"$f":"Parameters!AR208","v":1},{"$f":"Parameters!AS208","v":1},{"$f":"Parameters!AT208","v":1},{"$f":"Parameters!AU208","v":1},{"$f":"Parameters!AV208","v":1},{"$f":"Parameters!AW208","v":1},{"$f":"Parameters!AX208","v":1},{"$f":"Parameters!AY208","v":1},{"$f":"Parameters!AZ208","v":1},{"$f":"Parameters!BA208","v":1},{"$f":"Parameters!BB208","v":1},{"$f":"Parameters!BC208","v":1},{"$f":"Parameters!BD208","v":1},{"$f":"Parameters!BE208","v":1},{"$f":"Parameters!BF208","v":1},{"$f":"Parameters!BG208","v":1},{"$f":"Parameters!BH208","v":1},{"$f":"Parameters!BI208","v":1},{"$f":"Parameters!BJ208","v":1},{"$f":"Parameters!BK208","v":1},{"$f":"Parameters!BL208","v":1},{"$f":"Parameters!BM208","v":1},{"$f":"Parameters!BN208","v":1}]
[{"$f":"SETS!B150","v":"TEC147"},{"$f":"Parameters!K209","v":1},{"$f":"Parameters!L209","v":1},{"$f":"Parameters!M209","v":1},{"$f":"Parameters!N209","v":1},{"$f":"Parameters!O209","v":1},{"$f":"Parameters!P209","v":1},{"$f":"Parameters!Q209","v":1},{"$f":"Parameters!R209","v":1},{"$f":"Parameters!S209","v":1},{"$f":"Parameters!T209","v":1},{"$f":"Parameters!U209","v":1},{"$f":"Parameters!V209","v":1},{"$f":"Parameters!W209","v":1},{"$f":"Parameters!X209","v":1},{"$f":"Parameters!Y209","v":1},{"$f":"Parameters!Z209","v":1},{"$f":"Parameters!AA209","v":1},{"$f":"Parameters!AB209","v":1},{"$f":"Parameters!AC209","v":1},{"$f":"Parameters!AD209","v":1},{"$f":"Parameters!AE209","v":1},{"$f":"Parameters!AF209","v":1},{"$f":"Parameters!AG209","v":1},{"$f":"Parameters!AH209","v":1},{"$f":"Parameters!AI209","v":1},{"$f":"Parameters!AJ209","v":1},{"$f":"Parameters!AK209","v":1},{"$f":"Parameters!AL209","v":1},{"$f":"Parameters!AM209","v":1},{"$f":"Parameters!AN209","v":1},{"$f":"Parameters!AO209","v":1},{"$f":"Parameters!AP209","v":1},{"$f":"Parameters!AQ209","v":1},{"$f":"Parameters!AR209","v":1},{"$f":"Parameters!AS209","v":1},{"$f":"Parameters!AT209","v":1},{"$f":"Parameters!AU209","v":1},{"$f":"Parameters!AV209","v":1},{"$f":"Parameters!AW209","v":1},{"$f":"Parameters!AX209","v":1},{"$f":"Parameters!AY209","v":1},{"$f":"Parameters!AZ209","v":1},{"$f":"Parameters!BA209","v":1},{"$f":"Parameters!BB209","v":1},{"$f":"Parameters!BC209","v":1},{"$f":"Parameters!BD209","v":1},{"$f":"Parameters!BE209","v":1},{"$f":"Parameters!BF209","v":1},{"$f":"Parameters!BG209","v":1},{"$f":"Parameters!BH209","v":1},{"$f":"Parameters!BI209","v":1},{"$f":"Parameters!BJ209","v":1},{"$f":"Parameters!BK209","v":1},{"$f":"Parameters!BL209","v":1},{"$f":"Parameters!BM209","v":1},{"$f":"Parameters!BN209","v":1}]
[{"$f":"SETS!B151","v":"TEC148"},{"$f":"Parameters!K210","v":1},{"$f":"Parameters!L210","v":1},{"$f":"Parameters!M210","v":1},{"$f":"Parameters!N210","v":1},{"$f":"Parameters!O210","v":1},{"$f":"Parameters!P210","v":1},{"$f":"Parameters!Q210","v":1},{"$f":"Parameters!R210","v":1},{"$f":"Parameters!S210","v":1},{"$f":"Parameters!T210","v":1},{"$f":"Parameters!U210","v":1},{"$f":"Parameters!V210","v":1},{"$f":"Parameters!W210","v":1},{"$f":"Parameters!X210","v":1},{"$f":"Parameters!Y210","v":1},{"$f":"Parameters!Z210","v":1},{"$f":"Parameters!AA210","v":1},{"$f":"Parameters!AB210","v":1},{"$f":"Parameters!AC210","v":1},{"$f":"Parameters!AD210","v":1},{"$f":"Parameters!AE210","v":1},{"$f":"Parameters!AF210","v":1},{"$f":"Parameters!AG210","v":1},{"$f":"Parameters!AH210","v":1},{"$f":"Parameters!AI210","v":1},{"$f":"Parameters!AJ210","v":1},{"$f":"Parameters!AK210","v":1},{"$f":"Parameters!AL210","v":1},{"$f":"Parameters!AM210","v":1},{"$f":"Parameters!AN210","v":1},{"$f":"Parameters!AO210","v":1},{"$f":"Parameters!AP210","v":1},{"$f":"Parameters!AQ210","v":1},{"$f":"Parameters!AR210","v":1},{"$f":"Parameters!AS210","v":1},{"$f":"Parameters!AT210","v":1},{"$f":"Parameters!AU210","v":1},{"$f":"Parameters!AV210","v":1},{"$f":"Parameters!AW210","v":1},{"$f":"Parameters!AX210","v":1},{"$f":"Parameters!AY210","v":1},{"$f":"Parameters!AZ210","v":1},{"$f":"Parameters!BA210","v":1},{"$f":"Parameters!BB210","v":1},{"$f":"Parameters!BC210","v":1},{"$f":"Parameters!BD210","v":1},{"$f":"Parameters!BE210","v":1},{"$f":"Parameters!BF210","v":1},{"$f":"Parameters!BG210","v":1},{"$f":"Parameters!BH210","v":1},{"$f":"Parameters!BI210","v":1},{"$f":"Parameters!BJ210","v":1},{"$f":"Parameters!BK210","v":1},{"$f":"Parameters!BL210","v":1},{"$f":"Parameters!BM210","v":1},{"$f":"Parameters!BN210","v":1}]
[{"$f":"SETS!B152","v":"TEC149"},{"$f":"Parameters!K211","v":1},{"$f":"Parameters!L211","v":1},{"$f":"Parameters!M211","v":1},{"$f":"Parameters!N211","v":1},{"$f":"Parameters!O211","v":1},{"$f":"Parameters!P211","v":1},{"$f":"Parameters!Q211","v":1},{"$f":"Parameters!R211","v":1},{"$f":"Parameters!S211","v":1},{"$f":"Parameters!T211","v":1},{"$f":"Parameters!U211","v":1},{"$f":"Parameters!V211","v":1},{"$f":"Parameters!W211","v":1},{"$f":"Parameters!X211","v":1},{"$f":"Parameters!Y211","v":1},{"$f":"Parameters!Z211","v":1},{"$f":"Parameters!AA211","v":1},{"$f":"Parameters!AB211","v":1},{"$f":"Parameters!AC211","v":1},{"$f":"Parameters!AD211","v":1},{"$f":"Parameters!AE211","v":1},{"$f":"Parameters!AF211","v":1},{"$f":"Parameters!AG211","v":1},{"$f":"Parameters!AH211","v":1},{"$f":"Parameters!AI211","v":1},{"$f":"Parameters!AJ211","v":1},{"$f":"Parameters!AK211","v":1},{"$f":"Parameters!AL211","v":1},{"$f":"Parameters!AM211","v":1},{"$f":"Parameters!AN211","v":1},{"$f":"Parameters!AO211","v":1},{"$f":"Parameters!AP211","v":1},{"$f":"Parameters!AQ211","v":1},{"$f":"Parameters!AR211","v":1},{"$f":"Parameters!AS211","v":1},{"$f":"Parameters!AT211","v":1},{"$f":"Parameters!AU211","v":1},{"$f":"Parameters!AV211","v":1},{"$f":"Parameters!AW211","v":1},{"$f":"Parameters!AX211","v":1},{"$f":"Parameters!AY211","v":1},{"$f":"Parameters!AZ211","v":1},{"$f":"Parameters!BA211","v":1},{"$f":"Parameters!BB211","v":1},{"$f":"Parameters!BC211","v":1},{"$f":"Parameters!BD211","v":1},{"$f":"Parameters!BE211","v":1},{"$f":"Parameters!BF211","v":1},{"$f":"Parameters!BG211","v":1},{"$f":"Parameters!BH211","v":1},{"$f":"Parameters!BI211","v":1},{"$f":"Parameters!BJ211","v":1},{"$f":"Parameters!BK211","v":1},{"$f":"Parameters!BL211","v":1},{"$f":"Parameters!BM211","v":1},{"$f":"Parameters!BN211","v":1}]
[{"$f":"SETS!B153","v":"TEC150"},{"$f":"Parameters!K212","v":1},{"$f":"Parameters!L212","v":1},{"$f":"Parameters!M212","v":1},{"$f":"Parameters!N212","v":1},{"$f":"Parameters!O212","v":1},{"$f":"Parameters!P212","v":1},{"$f":"Parameters!Q212","v":1},{"$f":"Parameters!R212","v":1},{"$f":"Parameters!S212","v":1},{"$f":"Parameters!T212","v":1},{"$f":"Parameters!U212","v":1},{"$f":"Parameters!V212","v":1},{"$f":"Parameters!W212","v":1},{"$f":"Parameters!X212","v":1},{"$f":"Parameters!Y212","v":1},{"$f":"Parameters!Z212","v":1},{"$f":"Parameters!AA212","v":1},{"$f":"Parameters!AB212","v":1},{"$f":"Parameters!AC212","v":1},{"$f":"Parameters!AD212","v":1},{"$f":"Parameters!AE212","v":1},{"$f":"Parameters!AF212","v":1},{"$f":"Parameters!AG212","v":1},{"$f":"Parameters!AH212","v":1},{"$f":"Parameters!AI212","v":1},{"$f":"Parameters!AJ212","v":1},{"$f":"Parameters!AK212","v":1},{"$f":"Parameters!AL212","v":1},{"$f":"Parameters!AM212","v":1},{"$f":"Parameters!AN212","v":1},{"$f":"Parameters!AO212","v":1},{"$f":"Parameters!AP212","v":1},{"$f":"Parameters!AQ212","v":1},{"$f":"Parameters!AR212","v":1},{"$f":"Parameters!AS212","v":1},{"$f":"Parameters!AT212","v":1},{"$f":"Parameters!AU212","v":1},{"$f":"Parameters!AV212","v":1},{"$f":"Parameters!AW212","v":1},{"$f":"Parameters!AX212","v":1},{"$f":"Parameters!AY212","v":1},{"$f":"Parameters!AZ212","v":1},{"$f":"Parameters!BA212","v":1},{"$f":"Parameters!BB212","v":1},{"$f":"Parameters!BC212","v":1},{"$f":"Parameters!BD212","v":1},{"$f":"Parameters!BE212","v":1},{"$f":"Parameters!BF212","v":1},{"$f":"Parameters!BG212","v":1},{"$f":"Parameters!BH212","v":1},{"$f":"Parameters!BI212","v":1},{"$f":"Parameters!BJ212","v":1},{"$f":"Parameters!BK212","v":1},{"$f":"Parameters!BL212","v":1},{"$f":"Parameters!BM212","v":1},{"$f":"Parameters!BN212","v":1}]
[{"$f":"SETS!B154","v":"TEC151"},{"$f":"Parameters!K213","v":1},{"$f":"Parameters!L213","v":1},{"$f":"Parameters!M213","v":1},{"$f":"Parameters!N213","v":1},{"$f":"Parameters!O213","v":1},{"$f":"Parameters!P213","v":1},{"$f":"Parameters!Q213","v":1},{"$f":"Parameters!R213","v":1},{"$f":"Parameters!S213","v":1},{"$f":"Parameters!T213","v":1},{"$f":"Parameters!U213","v":1},{"$f":"Parameters!V213","v":1},{"$f":"Parameters!W213","v":1},{"$f":"Parameters!X213","v":1},{"$f":"Parameters!Y213","v":1},{"$f":"Parameters!Z213","v":1},{"$f":"Parameters!AA213","v":1},{"$f":"Parameters!AB213","v":1},{"$f":"Parameters!AC213","v":1},{"$f":"Parameters!AD213","v":1},{"$f":"Parameters!AE213","v":1},{"$f":"Parameters!AF213","v":1},{"$f":"Parameters!AG213","v":1},{"$f":"Parameters!AH213","v":1},{"$f":"Parameters!AI213","v":1},{"$f":"Parameters!AJ213","v":1},{"$f":"Parameters!AK213","v":1},{"$f":"Parameters!AL213","v":1},{"$f":"Parameters!AM213","v":1},{"$f":"Parameters!AN213","v":1},{"$f":"Parameters!AO213","v":1},{"$f":"Parameters!AP213","v":1},{"$f":"Parameters!AQ213","v":1},{"$f":"Parameters!AR213","v":1},{"$f":"Parameters!AS213","v":1},{"$f":"Parameters!AT213","v":1},{"$f":"Parameters!AU213","v":1},{"$f":"Parameters!AV213","v":1},{"$f":"Parameters!AW213","v":1},{"$f":"Parameters!AX213","v":1},{"$f":"Parameters!AY213","v":1},{"$f":"Parameters!AZ213","v":1},{"$f":"Parameters!BA213","v":1},{"$f":"Parameters!BB213","v":1},{"$f":"Parameters!BC213","v":1},{"$f":"Parameters!BD213","v":1},{"$f":"Parameters!BE213","v":1},{"$f":"Parameters!BF213","v":1},{"$f":"Parameters!BG213","v":1},{"$f":"Parameters!BH213","v":1},{"$f":"Parameters!BI213","v":1},{"$f":"Parameters!BJ213","v":1},{"$f":"Parameters!BK213","v":1},{"$f":"Parameters!BL213","v":1},{"$f":"Parameters!BM213","v":1},{"$f":"Parameters!BN213","v":1}]
[{"$f":"SETS!B155","v":"TEC152"},{"$f":"Parameters!K214","v":1},{"$f":"Parameters!L214","v":1},{"$f":"Parameters!M214","v":1},{"$f":"Parameters!N214","v":1},{"$f":"Parameters!O214","v":1},{"$f":"Parameters!P214","v":1},{"$f":"Parameters!Q214","v":1},{"$f":"Parameters!R214","v":1},{"$f":"Parameters!S214","v":1},{"$f":"Parameters!T214","v":1},{"$f":"Parameters!U214","v":1},{"$f":"Parameters!V214","v":1},{"$f":"Parameters!W214","v":1},{"$f":"Parameters!X214","v":1},{"$f":"Parameters!Y214","v":1},{"$f":"Parameters!Z214","v":1},{"$f":"Parameters!AA214","v":1},{"$f":"Parameters!AB214","v":1},{"$f":"Parameters!AC214","v":1},{"$f":"Parameters!AD214","v":1},{"$f":"Parameters!AE214","v":1},{"$f":"Parameters!AF214","v":1},{"$f":"Parameters!AG214","v":1},{"$f":"Parameters!AH214","v":1},{"$f":"Parameters!AI214","v":1},{"$f":"Parameters!AJ214","v":1},{"$f":"Parameters!AK214","v":1},{"$f":"Parameters!AL214","v":1},{"$f":"Parameters!AM214","v":1},{"$f":"Parameters!AN214","v":1},{"$f":"Parameters!AO214","v":1},{"$f":"Parameters!AP214","v":1},{"$f":"Parameters!AQ214","v":1},{"$f":"Parameters!AR214","v":1},{"$f":"Parameters!AS214","v":1},{"$f":"Parameters!AT214","v":1},{"$f":"Parameters!AU214","v":1},{"$f":"Parameters!AV214","v":1},{"$f":"Parameters!AW214","v":1},{"$f":"Parameters!AX214","v":1},{"$f":"Parameters!AY214","v":1},{"$f":"Parameters!AZ214","v":1},{"$f":"Parameters!BA214","v":1},{"$f":"Parameters!BB214","v":1},{"$f":"Parameters!BC214","v":1},{"$f":"Parameters!BD214","v":1},{"$f":"Parameters!BE214","v":1},{"$f":"Parameters!BF214","v":1},{"$f":"Parameters!BG214","v":1},{"$f":"Parameters!BH214","v":1},{"$f":"Parameters!BI214","v":1},{"$f":"Parameters!BJ214","v":1},{"$f":"Parameters!BK214","v":1},{"$f":"Parameters!BL214","v":1},{"$f":"Parameters!BM214","v":1},{"$f":"Parameters!BN214","v":1}]
[{"$f":"SETS!B156","v":"TEC153"},{"$f":"Parameters!K215","v":1},{"$f":"Parameters!L215","v":1},{"$f":"Parameters!M215","v":1},{"$f":"Parameters!N215","v":1},{"$f":"Parameters!O215","v":1},{"$f":"Parameters!P215","v":1},{"$f":"Parameters!Q215","v":1},{"$f":"Parameters!R215","v":1},{"$f":"Parameters!S215","v":1},{"$f":"Parameters!T215","v":1},{"$f":"Parameters!U215","v":1},{"$f":"Parameters!V215","v":1},{"$f":"Parameters!W215","v":1},{"$f":"Parameters!X215","v":1},{"$f":"Parameters!Y215","v":1},{"$f":"Parameters!Z215","v":1},{"$f":"Parameters!AA215","v":1},{"$f":"Parameters!AB215","v":1},{"$f":"Parameters!AC215","v":1},{"$f":"Parameters!AD215","v":1},{"$f":"Parameters!AE215","v":1},{"$f":"Parameters!AF215","v":1},{"$f":"Parameters!AG215","v":1},{"$f":"Parameters!AH215","v":1},{"$f":"Parameters!AI215","v":1},{"$f":"Parameters!AJ215","v":1},{"$f":"Parameters!AK215","v":1},{"$f":"Parameters!AL215","v":1},{"$f":"Parameters!AM215","v":1},{"$f":"Parameters!AN215","v":1},{"$f":"Parameters!AO215","v":1},{"$f":"Parameters!AP215","v":1},{"$f":"Parameters!AQ215","v":1},{"$f":"Parameters!AR215","v":1},{"$f":"Parameters!AS215","v":1},{"$f":"Parameters!AT215","v":1},{"$f":"Parameters!AU215","v":1},{"$f":"Parameters!AV215","v":1},{"$f":"Parameters!AW215","v":1},{"$f":"Parameters!AX215","v":1},{"$f":"Parameters!AY215","v":1},{"$f":"Parameters!AZ215","v":1},{"$f":"Parameters!BA215","v":1},{"$f":"Parameters!BB215","v":1},{"$f":"Parameters!BC215","v":1},{"$f":"Parameters!BD215","v":1},{"$f":"Parameters!BE215","v":1},{"$f":"Parameters!BF215","v":1},{"$f":"Parameters!BG215","v":1},{"$f":"Parameters!BH215","v":1},{"$f":"Parameters!BI215","v":1},{"$f":"Parameters!BJ215","v":1},{"$f":"Parameters!BK215","v":1},{"$f":"Parameters!BL215","v":1},{"$f":"Parameters!BM215","v":1},{"$f":"Parameters!BN215","v":1}]
[{"$f":"SETS!B157","v":"TEC154"},{"$f":"Parameters!K216","v":1},{"$f":"Parameters!L216","v":1},{"$f":"Parameters!M216","v":1},{"$f":"Parameters!N216","v":1},{"$f":"Parameters!O216","v":1},{"$f":"Parameters!P216","v":1},{"$f":"Parameters!Q216","v":1},{"$f":"Parameters!R216","v":1},{"$f":"Parameters!S216","v":1},{"$f":"Parameters!T216","v":1},{"$f":"Parameters!U216","v":1},{"$f":"Parameters!V216","v":1},{"$f":"Parameters!W216","v":1},{"$f":"Parameters!X216","v":1},{"$f":"Parameters!Y216","v":1},{"$f":"Parameters!Z216","v":1},{"$f":"Parameters!AA216","v":1},{"$f":"Parameters!AB216","v":1},{"$f":"Parameters!AC216","v":1},{"$f":"Parameters!AD216","v":1},{"$f":"Parameters!AE216","v":1},{"$f":"Parameters!AF216","v":1},{"$f":"Parameters!AG216","v":1},{"$f":"Parameters!AH216","v":1},{"$f":"Parameters!AI216","v":1},{"$f":"Parameters!AJ216","v":1},{"$f":"Parameters!AK216","v":1},{"$f":"Parameters!AL216","v":1},{"$f":"Parameters!AM216","v":1},{"$f":"Parameters!AN216","v":1},{"$f":"Parameters!AO216","v":1},{"$f":"Parameters!AP216","v":1},{"$f":"Parameters!AQ216","v":1},{"$f":"Parameters!AR216","v":1},{"$f":"Parameters!AS216","v":1},{"$f":"Parameters!AT216","v":1},{"$f":"Parameters!AU216","v":1},{"$f":"Parameters!AV216","v":1},{"$f":"Parameters!AW216","v":1},{"$f":"Parameters!AX216","v":1},{"$f":"Parameters!AY216","v":1},{"$f":"Parameters!AZ216","v":1},{"$f":"Parameters!BA216","v":1},{"$f":"Parameters!BB216","v":1},{"$f":"Parameters!BC216","v":1},{"$f":"Parameters!BD216","v":1},{"$f":"Parameters!BE216","v":1},{"$f":"Parameters!BF216","v":1},{"$f":"Parameters!BG216","v":1},{"$f":"Parameters!BH216","v":1},{"$f":"Parameters!BI216","v":1},{"$f":"Parameters!BJ216","v":1},{"$f":"Parameters!BK216","v":1},{"$f":"Parameters!BL216","v":1},{"$f":"Parameters!BM216","v":1},{"$f":"Parameters!BN216","v":1}]
[{"$f":"SETS!B158","v":"TEC155"},{"$f":"Parameters!K217","v":1},{"$f":"Parameters!L217","v":1},{"$f":"Parameters!M217","v":1},{"$f":"Parameters!N217","v":1},{"$f":"Parameters!O217","v":1},{"$f":"Parameters!P217","v":1},{"$f":"Parameters!Q217","v":1},{"$f":"Parameters!R217","v":1},{"$f":"Parameters!S217","v":1},{"$f":"Parameters!T217","v":1},{"$f":"Parameters!U217","v":1},{"$f":"Parameters!V217","v":1},{"$f":"Parameters!W217","v":1},{"$f":"Parameters!X217","v":1},{"$f":"Parameters!Y217","v":1},{"$f":"Parameters!Z217","v":1},{"$f":"Parameters!AA217","v":1},{"$f":"Parameters!AB217","v":1},{"$f":"Parameters!AC217","v":1},{"$f":"Parameters!AD217","v":1},{"$f":"Parameters!AE217","v":1},{"$f":"Parameters!AF217","v":1},{"$f":"Parameters!AG217","v":1},{"$f":"Parameters!AH217","v":1},{"$f":"Parameters!AI217","v":1},{"$f":"Parameters!AJ217","v":1},{"$f":"Parameters!AK217","v":1},{"$f":"Parameters!AL217","v":1},{"$f":"Parameters!AM217","v":1},{"$f":"Parameters!AN217","v":1},{"$f":"Parameters!AO217","v":1},{"$f":"Parameters!AP217","v":1},{"$f":"Parameters!AQ217","v":1},{"$f":"Parameters!AR217","v":1},{"$f":"Parameters!AS217","v":1},{"$f":"Parameters!AT217","v":1},{"$f":"Parameters!AU217","v":1},{"$f":"Parameters!AV217","v":1},{"$f":"Parameters!AW217","v":1},{"$f":"Parameters!AX217","v":1},{"$f":"Parameters!AY217","v":1},{"$f":"Parameters!AZ217","v":1},{"$f":"Parameters!BA217","v":1},{"$f":"Parameters!BB217","v":1},{"$f":"Parameters!BC217","v":1},{"$f":"Parameters!BD217","v":1},{"$f":"Parameters!BE217","v":1},{"$f":"Parameters!BF217","v":1},{"$f":"Parameters!BG217","v":1},{"$f":"Parameters!BH217","v":1},{"$f":"Parameters!BI217","v":1},{"$f":"Parameters!BJ217","v":1},{"$f":"Parameters!BK217","v":1},{"$f":"Parameters!BL217","v":1},{"$f":"Parameters!BM217","v":1},{"$f":"Parameters!BN217","v":1}]
[{"$f":"SETS!B159","v":"TEC156"},{"$f":"Parameters!K218","v":1},{"$f":"Parameters!L218","v":1},{"$f":"Parameters!M218","v":1},{"$f":"Parameters!N218","v":1},{"$f":"Parameters!O218","v":1},{"$f":"Parameters!P218","v":1},{"$f":"Parameters!Q218","v":1},{"$f":"Parameters!R218","v":1},{"$f":"Parameters!S218","v":1},{"$f":"Parameters!T218","v":1},{"$f":"Parameters!U218","v":1},{"$f":"Parameters!V218","v":1},{"$f":"Parameters!W218","v":1},{"$f":"Parameters!X218","v":1},{"$f":"Parameters!Y218","v":1},{"$f":"Parameters!Z218","v":1},{"$f":"Parameters!AA218","v":1},{"$f":"Parameters!AB218","v":1},{"$f":"Parameters!AC218","v":1},{"$f":"Parameters!AD218","v":1},{"$f":"Parameters!AE218","v":1},{"$f":"Parameters!AF218","v":1},{"$f":"Parameters!AG218","v":1},{"$f":"Parameters!AH218","v":1},{"$f":"Parameters!AI218","v":1},{"$f":"Parameters!AJ218","v":1},{"$f":"Parameters!AK218","v":1},{"$f":"Parameters!AL218","v":1},{"$f":"Parameters!AM218","v":1},{"$f":"Parameters!AN218","v":1},{"$f":"Parameters!AO218","v":1},{"$f":"Parameters!AP218","v":1},{"$f":"Parameters!AQ218","v":1},{"$f":"Parameters!AR218","v":1},{"$f":"Parameters!AS218","v":1},{"$f":"Parameters!AT218","v":1},{"$f":"Parameters!AU218","v":1},{"$f":"Parameters!AV218","v":1},{"$f":"Parameters!AW218","v":1},{"$f":"Parameters!AX218","v":1},{"$f":"Parameters!AY218","v":1},{"$f":"Parameters!AZ218","v":1},{"$f":"Parameters!BA218","v":1},{"$f":"Parameters!BB218","v":1},{"$f":"Parameters!BC218","v":1},{"$f":"Parameters!BD218","v":1},{"$f":"Parameters!BE218","v":1},{"$f":"Parameters!BF218","v":1},{"$f":"Parameters!BG218","v":1},{"$f":"Parameters!BH218","v":1},{"$f":"Parameters!BI218","v":1},{"$f":"Parameters!BJ218","v":1},{"$f":"Parameters!BK218","v":1},{"$f":"Parameters!BL218","v":1},{"$f":"Parameters!BM218","v":1},{"$f":"Parameters!BN218","v":1}]
[{"$f":"SETS!B160","v":"TEC157"},{"$f":"Parameters!K219","v":1},{"$f":"Parameters!L219","v":1},{"$f":"Parameters!M219","v":1},{"$f":"Parameters!N219","v":1},{"$f":"Parameters!O219","v":1},{"$f":"Parameters!P219","v":1},{"$f":"Parameters!Q219","v":1},{"$f":"Parameters!R219","v":1},{"$f":"Parameters!S219","v":1},{"$f":"Parameters!T219","v":1},{"$f":"Parameters!U219","v":1},{"$f":"Parameters!V219","v":1},{"$f":"Parameters!W219","v":1},{"$f":"Parameters!X219","v":1},{"$f":"Parameters!Y219","v":1},{"$f":"Parameters!Z219","v":1},{"$f":"Parameters!AA219","v":1},{"$f":"Parameters!AB219","v":1},{"$f":"Parameters!AC219","v":1},{"$f":"Parameters!AD219","v":1},{"$f":"Parameters!AE219","v":1},{"$f":"Parameters!AF219","v":1},{"$f":"Parameters!AG219","v":1},{"$f":"Parameters!AH219","v":1},{"$f":"Parameters!AI219","v":1},{"$f":"Parameters!AJ219","v":1},{"$f":"Parameters!AK219","v":1},{"$f":"Parameters!AL219","v":1},{"$f":"Parameters!AM219","v":1},{"$f":"Parameters!AN219","v":1},{"$f":"Parameters!AO219","v":1},{"$f":"Parameters!AP219","v":1},{"$f":"Parameters!AQ219","v":1},{"$f":"Parameters!AR219","v":1},{"$f":"Parameters!AS219","v":1},{"$f":"Parameters!AT219","v":1},{"$f":"Parameters!AU219","v":1},{"$f":"Parameters!AV219","v":1},{"$f":"Parameters!AW219","v":1},{"$f":"Parameters!AX219","v":1},{"$f":"Parameters!AY219","v":1},{"$f":"Parameters!AZ219","v":1},{"$f":"Parameters!BA219","v":1},{"$f":"Parameters!BB219","v":1},{"$f":"Parameters!BC219","v":1},{"$f":"Parameters!BD219","v":1},{"$f":"Parameters!BE219","v":1},{"$f":"Parameters!BF219","v":1},{"$f":"Parameters!BG219","v":1},{"$f":"Parameters!BH219","v":1},{"$f":"Parameters!BI219","v":1},{"$f":"Parameters!BJ219","v":1},{"$f":"Parameters!BK219","v":1},{"$f":"Parameters!BL219","v":1},{"$f":"Parameters!BM219","v":1},{"$f":"Parameters!BN219","v":1}]
[{"$f":"SETS!B161","v":"TEC158"},{"$f":"Parameters!K220","v":1},{"$f":"Parameters!L220","v":1},{"$f":"Parameters!M220","v":1},{"$f":"Parameters!N220","v":1},{"$f":"Parameters!O220","v":1},{"$f":"Parameters!P220","v":1},{"$f":"Parameters!Q220","v":1},{"$f":"Parameters!R220","v":1},{"$f":"Parameters!S220","v":1},{"$f":"Parameters!T220","v":1},{"$f":"Parameters!U220","v":1},{"$f":"Parameters!V220","v":1},{"$f":"Parameters!W220","v":1},{"$f":"Parameters!X220","v":1},{"$f":"Parameters!Y220","v":1},{"$f":"Parameters!Z220","v":1},{"$f":"Parameters!AA220","v":1},{"$f":"Parameters!AB220","v":1},{"$f":"Parameters!AC220","v":1},{"$f":"Parameters!AD220","v":1},{"$f":"Parameters!AE220","v":1},{"$f":"Parameters!AF220","v":1},{"$f":"Parameters!AG220","v":1},{"$f":"Parameters!AH220","v":1},{"$f":"Parameters!AI220","v":1},{"$f":"Parameters!AJ220","v":1},{"$f":"Parameters!AK220","v":1},{"$f":"Parameters!AL220","v":1},{"$f":"Parameters!AM220","v":1},{"$f":"Parameters!AN220","v":1},{"$f":"Parameters!AO220","v":1},{"$f":"Parameters!AP220","v":1},{"$f":"Parameters!AQ220","v":1},{"$f":"Parameters!AR220","v":1},{"$f":"Parameters!AS220","v":1},{"$f":"Parameters!AT220","v":1},{"$f":"Parameters!AU220","v":1},{"$f":"Parameters!AV220","v":1},{"$f":"Parameters!AW220","v":1},{"$f":"Parameters!AX220","v":1},{"$f":"Parameters!AY220","v":1},{"$f":"Parameters!AZ220","v":1},{"$f":"Parameters!BA220","v":1},{"$f":"Parameters!BB220","v":1},{"$f":"Parameters!BC220","v":1},{"$f":"Parameters!BD220","v":1},{"$f":"Parameters!BE220","v":1},{"$f":"Parameters!BF220","v":1},{"$f":"Parameters!BG220","v":1},{"$f":"Parameters!BH220","v":1},{"$f":"Parameters!BI220","v":1},{"$f":"Parameters!BJ220","v":1},{"$f":"Parameters!BK220","v":1},{"$f":"Parameters!BL220","v":1},{"$f":"Parameters!BM220","v":1},{"$f":"Parameters!BN220","v":1}]
[{"$f":"SETS!B162","v":"TEC159"},{"$f":"Parameters!K221","v":1},{"$f":"Parameters!L221","v":1},{"$f":"Parameters!M221","v":1},{"$f":"Parameters!N221","v":1},{"$f":"Parameters!O221","v":1},{"$f":"Parameters!P221","v":1},{"$f":"Parameters!Q221","v":1},{"$f":"Parameters!R221","v":1},{"$f":"Parameters!S221","v":1},{"$f":"Parameters!T221","v":1},{"$f":"Parameters!U221","v":1},{"$f":"Parameters!V221","v":1},{"$f":"Parameters!W221","v":1},{"$f":"Parameters!X221","v":1},{"$f":"Parameters!Y221","v":1},{"$f":"Parameters!Z221","v":1},{"$f":"Parameters!AA221","v":1},{"$f":"Parameters!AB221","v":1},{"$f":"Parameters!AC221","v":1},{"$f":"Parameters!AD221","v":1},{"$f":"Parameters!AE221","v":1},{"$f":"Parameters!AF221","v":1},{"$f":"Parameters!AG221","v":1},{"$f":"Parameters!AH221","v":1},{"$f":"Parameters!AI221","v":1},{"$f":"Parameters!AJ221","v":1},{"$f":"Parameters!AK221","v":1},{"$f":"Parameters!AL221","v":1},{"$f":"Parameters!AM221","v":1},{"$f":"Parameters!AN221","v":1},{"$f":"Parameters!AO221","v":1},{"$f":"Parameters!AP221","v":1},{"$f":"Parameters!AQ221","v":1},{"$f":"Parameters!AR221","v":1},{"$f":"Parameters!AS221","v":1},{"$f":"Parameters!AT221","v":1},{"$f":"Parameters!AU221","v":1},{"$f":"Parameters!AV221","v":1},{"$f":"Parameters!AW221","v":1},{"$f":"Parameters!AX221","v":1},{"$f":"Parameters!AY221","v":1},{"$f":"Parameters!AZ221","v":1},{"$f":"Parameters!BA221","v":1},{"$f":"Parameters!BB221","v":1},{"$f":"Parameters!BC221","v":1},{"$f":"Parameters!BD221","v":1},{"$f":"Parameters!BE221","v":1},{"$f":"Parameters!BF221","v":1},{"$f":"Parameters!BG221","v":1},{"$f":"Parameters!BH221","v":1},{"$f":"Parameters!BI221","v":1},{"$f":"Parameters!BJ221","v":1},{"$f":"Parameters!BK221","v":1},{"$f":"Parameters!BL221","v":1},{"$f":"Parameters!BM221","v":1},{"$f":"Parameters!BN221","v":1}]
[{"$f":"SETS!B163","v":"TEC160"},{"$f":"Parameters!K222","v":1},{"$f":"Parameters!L222","v":1},{"$f":"Parameters!M222","v":1},{"$f":"Parameters!N222","v":1},{"$f":"Parameters!O222","v":1},{"$f":"Parameters!P222","v":1},{"$f":"Parameters!Q222","v":1},{"$f":"Parameters!R222","v":1},{"$f":"Parameters!S222","v":1},{"$f":"Parameters!T222","v":1},{"$f":"Parameters!U222","v":1},{"$f":"Parameters!V222","v":1},{"$f":"Parameters!W222","v":1},{"$f":"Parameters!X222","v":1},{"$f":"Parameters!Y222","v":1},{"$f":"Parameters!Z222","v":1},{"$f":"Parameters!AA222","v":1},{"$f":"Parameters!AB222","v":1},{"$f":"Parameters!AC222","v":1},{"$f":"Parameters!AD222","v":1},{"$f":"Parameters!AE222","v":1},{"$f":"Parameters!AF222","v":1},{"$f":"Parameters!AG222","v":1},{"$f":"Parameters!AH222","v":1},{"$f":"Parameters!AI222","v":1},{"$f":"Parameters!AJ222","v":1},{"$f":"Parameters!AK222","v":1},{"$f":"Parameters!AL222","v":1},{"$f":"Parameters!AM222","v":1},{"$f":"Parameters!AN222","v":1},{"$f":"Parameters!AO222","v":1},{"$f":"Parameters!AP222","v":1},{"$f":"Parameters!AQ222","v":1},{"$f":"Parameters!AR222","v":1},{"$f":"Parameters!AS222","v":1},{"$f":"Parameters!AT222","v":1},{"$f":"Parameters!AU222","v":1},{"$f":"Parameters!AV222","v":1},{"$f":"Parameters!AW222","v":1},{"$f":"Parameters!AX222","v":1},{"$f":"Parameters!AY222","v":1},{"$f":"Parameters!AZ222","v":1},{"$f":"Parameters!BA222","v":1},{"$f":"Parameters!BB222","v":1},{"$f":"Parameters!BC222","v":1},{"$f":"Parameters!BD222","v":1},{"$f":"Parameters!BE222","v":1},{"$f":"Parameters!BF222","v":1},{"$f":"Parameters!BG222","v":1},{"$f":"Parameters!BH222","v":1},{"$f":"Parameters!BI222","v":1},{"$f":"Parameters!BJ222","v":1},{"$f":"Parameters!BK222","v":1},{"$f":"Parameters!BL222","v":1},{"$f":"Parameters!BM222","v":1},{"$f":"Parameters!BN222","v":1}]
[{"$f":"SETS!B164","v":"TEC161"},{"$f":"Parameters!K223","v":1},{"$f":"Parameters!L223","v":1},{"$f":"Parameters!M223","v":1},{"$f":"Parameters!N223","v":1},{"$f":"Parameters!O223","v":1},{"$f":"Parameters!P223","v":1},{"$f":"Parameters!Q223","v":1},{"$f":"Parameters!R223","v":1},{"$f":"Parameters!S223","v":1},{"$f":"Parameters!T223","v":1},{"$f":"Parameters!U223","v":1},{"$f":"Parameters!V223","v":1},{"$f":"Parameters!W223","v":1},{"$f":"Parameters!X223","v":1},{"$f":"Parameters!Y223","v":1},{"$f":"Parameters!Z223","v":1},{"$f":"Parameters!AA223","v":1},{"$f":"Parameters!AB223","v":1},{"$f":"Parameters!AC223","v":1},{"$f":"Parameters!AD223","v":1},{"$f":"Parameters!AE223","v":1},{"$f":"Parameters!AF223","v":1},{"$f":"Parameters!AG223","v":1},{"$f":"Parameters!AH223","v":1},{"$f":"Parameters!AI223","v":1},{"$f":"Parameters!AJ223","v":1},{"$f":"Parameters!AK223","v":1},{"$f":"Parameters!AL223","v":1},{"$f":"Parameters!AM223","v":1},{"$f":"Parameters!AN223","v":1},{"$f":"Parameters!AO223","v":1},{"$f":"Parameters!AP223","v":1},{"$f":"Parameters!AQ223","v":1},{"$f":"Parameters!AR223","v":1},{"$f":"Parameters!AS223","v":1},{"$f":"Parameters!AT223","v":1},{"$f":"Parameters!AU223","v":1},{"$f":"Parameters!AV223","v":1},{"$f":"Parameters!AW223","v":1},{"$f":"Parameters!AX223","v":1},{"$f":"Parameters!AY223","v":1},{"$f":"Parameters!AZ223","v":1},{"$f":"Parameters!BA223","v":1},{"$f":"Parameters!BB223","v":1},{"$f":"Parameters!BC223","v":1},{"$f":"Parameters!BD223","v":1},{"$f":"Parameters!BE223","v":1},{"$f":"Parameters!BF223","v":1},{"$f":"Parameters!BG223","v":1},{"$f":"Parameters!BH223","v":1},{"$f":"Parameters!BI223","v":1},{"$f":"Parameters!BJ223","v":1},{"$f":"Parameters!BK223","v":1},{"$f":"Parameters!BL223","v":1},{"$f":"Parameters!BM223","v":1},{"$f":"Parameters!BN223","v":1}]
[{"$f":"SETS!B165","v":"TEC162"},{"$f":"Parameters!K224","v":1},{"$f":"Parameters!L224","v":1},{"$f":"Parameters!M224","v":1},{"$f":"Parameters!N224","v":1},{"$f":"Parameters!O224","v":1},{"$f":"Parameters!P224","v":1},{"$f":"Parameters!Q224","v":1},{"$f":"Parameters!R224","v":1},{"$f":"Parameters!S224","v":1},{"$f":"Parameters!T224","v":1},{"$f":"Parameters!U224","v":1},{"$f":"Parameters!V224","v":1},{"$f":"Parameters!W224","v":1},{"$f":"Parameters!X224","v":1},{"$f":"Parameters!Y224","v":1},{"$f":"Parameters!Z224","v":1},{"$f":"Parameters!AA224","v":1},{"$f":"Parameters!AB224","v":1},{"$f":"Parameters!AC224","v":1},{"$f":"Parameters!AD224","v":1},{"$f":"Parameters!AE224","v":1},{"$f":"Parameters!AF224","v":1},{"$f":"Parameters!AG224","v":1},{"$f":"Parameters!AH224","v":1},{"$f":"Parameters!AI224","v":1},{"$f":"Parameters!AJ224","v":1},{"$f":"Parameters!AK224","v":1},{"$f":"Parameters!AL224","v":1},{"$f":"Parameters!AM224","v":1},{"$f":"Parameters!AN224","v":1},{"$f":"Parameters!AO224","v":1},{"$f":"Parameters!AP224","v":1},{"$f":"Parameters!AQ224","v":1},{"$f":"Parameters!AR224","v":1},{"$f":"Parameters!AS224","v":1},{"$f":"Parameters!AT224","v":1},{"$f":"Parameters!AU224","v":1},{"$f":"Parameters!AV224","v":1},{"$f":"Parameters!AW224","v":1},{"$f":"Parameters!AX224","v":1},{"$f":"Parameters!AY224","v":1},{"$f":"Parameters!AZ224","v":1},{"$f":"Parameters!BA224","v":1},{"$f":"Parameters!BB224","v":1},{"$f":"Parameters!BC224","v":1},{"$f":"Parameters!BD224","v":1},{"$f":"Parameters!BE224","v":1},{"$f":"Parameters!BF224","v":1},{"$f":"Parameters!BG224","v":1},{"$f":"Parameters!BH224","v":1},{"$f":"Parameters!BI224","v":1},{"$f":"Parameters!BJ224","v":1},{"$f":"Parameters!BK224","v":1},{"$f":"Parameters!BL224","v":1},{"$f":"Parameters!BM224","v":1},{"$f":"Parameters!BN224","v":1}]
[{"$f":"SETS!B166","v":"TEC163"},{"$f":"Parameters!K225","v":1},{"$f":"Parameters!L225","v":1},{"$f":"Parameters!M225","v":1},{"$f":"Parameters!N225","v":1},{"$f":"Parameters!O225","v":1},{"$f":"Parameters!P225","v":1},{"$f":"Parameters!Q225","v":1},{"$f":"Parameters!R225","v":1},{"$f":"Parameters!S225","v":1},{"$f":"Parameters!T225","v":1},{"$f":"Parameters!U225","v":1},{"$f":"Parameters!V225","v":1},{"$f":"Parameters!W225","v":1},{"$f":"Parameters!X225","v":1},{"$f":"Parameters!Y225","v":1},{"$f":"Parameters!Z225","v":1},{"$f":"Parameters!AA225","v":1},{"$f":"Parameters!AB225","v":1},{"$f":"Parameters!AC225","v":1},{"$f":"Parameters!AD225","v":1},{"$f":"Parameters!AE225","v":1},{"$f":"Parameters!AF225","v":1},{"$f":"Parameters!AG225","v":1},{"$f":"Parameters!AH225","v":1},{"$f":"Parameters!AI225","v":1},{"$f":"Parameters!AJ225","v":1},{"$f":"Parameters!AK225","v":1},{"$f":"Parameters!AL225","v":1},{"$f":"Parameters!AM225","v":1},{"$f":"Parameters!AN225","v":1},{"$f":"Parameters!AO225","v":1},{"$f":"Parameters!AP225","v":1},{"$f":"Parameters!AQ225","v":1},{"$f":"Parameters!AR225","v":1},{"$f":"Parameters!AS225","v":1},{"$f":"Parameters!AT225","v":1},{"$f":"Parameters!AU225","v":1},{"$f":"Parameters!AV225","v":1},{"$f":"Parameters!AW225","v":1},{"$f":"Parameters!AX225","v":1},{"$f":"Parameters!AY225","v":1},{"$f":"Parameters!AZ225","v":1},{"$f":"Parameters!BA225","v":1},{"$f":"Parameters!BB225","v":1},{"$f":"Parameters!BC225","v":1},{"$f":"Parameters!BD225","v":1},{"$f":"Parameters!BE225","v":1},{"$f":"Parameters!BF225","v":1},{"$f":"Parameters!BG225","v":1},{"$f":"Parameters!BH225","v":1},{"$f":"Parameters!BI225","v":1},{"$f":"Parameters!BJ225","v":1},{"$f":"Parameters!BK225","v":1},{"$f":"Parameters!BL225","v":1},{"$f":"Parameters!BM225","v":1},{"$f":"Parameters!BN225","v":1}]
[{"$f":"SETS!B167","v":"TEC164"},{"$f":"Parameters!K226","v":1},{"$f":"Parameters!L226","v":1},{"$f":"Parameters!M226","v":1},{"$f":"Parameters!N226","v":1},{"$f":"Parameters!O226","v":1},{"$f":"Parameters!P226","v":1},{"$f":"Parameters!Q226","v":1},{"$f":"Parameters!R226","v":1},{"$f":"Parameters!S226","v":1},{"$f":"Parameters!T226","v":1},{"$f":"Parameters!U226","v":1},{"$f":"Parameters!V226","v":1},{"$f":"Parameters!W226","v":1},{"$f":"Parameters!X226","v":1},{"$f":"Parameters!Y226","v":1},{"$f":"Parameters!Z226","v":1},{"$f":"Parameters!AA226","v":1},{"$f":"Parameters!AB226","v":1},{"$f":"Parameters!AC226","v":1},{"$f":"Parameters!AD226","v":1},{"$f":"Parameters!AE226","v":1},{"$f":"Parameters!AF226","v":1},{"$f":"Parameters!AG226","v":1},{"$f":"Parameters!AH226","v":1},{"$f":"Parameters!AI226","v":1},{"$f":"Parameters!AJ226","v":1},{"$f":"Parameters!AK226","v":1},{"$f":"Parameters!AL226","v":1},{"$f":"Parameters!AM226","v":1},{"$f":"Parameters!AN226","v":1},{"$f":"Parameters!AO226","v":1},{"$f":"Parameters!AP226","v":1},{"$f":"Parameters!AQ226","v":1},{"$f":"Parameters!AR226","v":1},{"$f":"Parameters!AS226","v":1},{"$f":"Parameters!AT226","v":1},{"$f":"Parameters!AU226","v":1},{"$f":"Parameters!AV226","v":1},{"$f":"Parameters!AW226","v":1},{"$f":"Parameters!AX226","v":1},{"$f":"Parameters!AY226","v":1},{"$f":"Parameters!AZ226","v":1},{"$f":"Parameters!BA226","v":1},{"$f":"Parameters!BB226","v":1},{"$f":"Parameters!BC226","v":1},{"$f":"Parameters!BD226","v":1},{"$f":"Parameters!BE226","v":1},{"$f":"Parameters!BF226","v":1},{"$f":"Parameters!BG226","v":1},{"$f":"Parameters!BH226","v":1},{"$f":"Parameters!BI226","v":1},{"$f":"Parameters!BJ226","v":1},{"$f":"Parameters!BK226","v":1},{"$f":"Parameters!BL226","v":1},{"$f":"Parameters!BM226","v":1},{"$f":"Parameters!BN226","v":1}]
[{"$f":"SETS!B168","v":"TEC165"},{"$f":"Parameters!K227","v":1},{"$f":"Parameters!L227","v":1},{"$f":"Parameters!M227","v":1},{"$f":"Parameters!N227","v":1},{"$f":"Parameters!O227","v":1},{"$f":"Parameters!P227","v":1},{"$f":"Parameters!Q227","v":1},{"$f":"Parameters!R227","v":1},{"$f":"Parameters!S227","v":1},{"$f":"Parameters!T227","v":1},{"$f":"Parameters!U227","v":1},{"$f":"Parameters!V227","v":1},{"$f":"Parameters!W227","v":1},{"$f":"Parameters!X227","v":1},{"$f":"Parameters!Y227","v":1},{"$f":"Parameters!Z227","v":1},{"$f":"Parameters!AA227","v":1},{"$f":"Parameters!AB227","v":1},{"$f":"Parameters!AC227","v":1},{"$f":"Parameters!AD227","v":1},{"$f":"Parameters!AE227","v":1},{"$f":"Parameters!AF227","v":1},{"$f":"Parameters!AG227","v":1},{"$f":"Parameters!AH227","v":1},{"$f":"Parameters!AI227","v":1},{"$f":"Parameters!AJ227","v":1},{"$f":"Parameters!AK227","v":1},{"$f":"Parameters!AL227","v":1},{"$f":"Parameters!AM227","v":1},{"$f":"Parameters!AN227","v":1},{"$f":"Parameters!AO227","v":1},{"$f":"Parameters!AP227","v":1},{"$f":"Parameters!AQ227","v":1},{"$f":"Parameters!AR227","v":1},{"$f":"Parameters!AS227","v":1},{"$f":"Parameters!AT227","v":1},{"$f":"Parameters!AU227","v":1},{"$f":"Parameters!AV227","v":1},{"$f":"Parameters!AW227","v":1},{"$f":"Parameters!AX227","v":1},{"$f":"Parameters!AY227","v":1},{"$f":"Parameters!AZ227","v":1},{"$f":"Parameters!BA227","v":1},{"$f":"Parameters!BB227","v":1},{"$f":"Parameters!BC227","v":1},{"$f":"Parameters!BD227","v":1},{"$f":"Parameters!BE227","v":1},{"$f":"Parameters!BF227","v":1},{"$f":"Parameters!BG227","v":1},{"$f":"Parameters!BH227","v":1},{"$f":"Parameters!BI227","v":1},{"$f":"Parameters!BJ227","v":1},{"$f":"Parameters!BK227","v":1},{"$f":"Parameters!BL227","v":1},{"$f":"Parameters!BM227","v":1},{"$f":"Parameters!BN227","v":1}]
[{"$f":"SETS!B169","v":"TEC166"},{"$f":"Parameters!K228","v":1},{"$f":"Parameters!L228","v":1},{"$f":"Parameters!M228","v":1},{"$f":"Parameters!N228","v":1},{"$f":"Parameters!O228","v":1},{"$f":"Parameters!P228","v":1},{"$f":"Parameters!Q228","v":1},{"$f":"Parameters!R228","v":1},{"$f":"Parameters!S228","v":1},{"$f":"Parameters!T228","v":1},{"$f":"Parameters!U228","v":1},{"$f":"Parameters!V228","v":1},{"$f":"Parameters!W228","v":1},{"$f":"Parameters!X228","v":1},{"$f":"Parameters!Y228","v":1},{"$f":"Parameters!Z228","v":1},{"$f":"Parameters!AA228","v":1},{"$f":"Parameters!AB228","v":1},{"$f":"Parameters!AC228","v":1},{"$f":"Parameters!AD228","v":1},{"$f":"Parameters!AE228","v":1},{"$f":"Parameters!AF228","v":1},{"$f":"Parameters!AG228","v":1},{"$f":"Parameters!AH228","v":1},{"$f":"Parameters!AI228","v":1},{"$f":"Parameters!AJ228","v":1},{"$f":"Parameters!AK228","v":1},{"$f":"Parameters!AL228","v":1},{"$f":"Parameters!AM228","v":1},{"$f":"Parameters!AN228","v":1},{"$f":"Parameters!AO228","v":1},{"$f":"Parameters!AP228","v":1},{"$f":"Parameters!AQ228","v":1},{"$f":"Parameters!AR228","v":1},{"$f":"Parameters!AS228","v":1},{"$f":"Parameters!AT228","v":1},{"$f":"Parameters!AU228","v":1},{"$f":"Parameters!AV228","v":1},{"$f":"Parameters!AW228","v":1},{"$f":"Parameters!AX228","v":1},{"$f":"Parameters!AY228","v":1},{"$f":"Parameters!AZ228","v":1},{"$f":"Parameters!BA228","v":1},{"$f":"Parameters!BB228","v":1},{"$f":"Parameters!BC228","v":1},{"$f":"Parameters!BD228","v":1},{"$f":"Parameters!BE228","v":1},{"$f":"Parameters!BF228","v":1},{"$f":"Parameters!BG228","v":1},{"$f":"Parameters!BH228","v":1},{"$f":"Parameters!BI228","v":1},{"$f":"Parameters!BJ228","v":1},{"$f":"Parameters!BK228","v":1},{"$f":"Parameters!BL228","v":1},{"$f":"Parameters!BM228","v":1},{"$f":"Parameters!BN228","v":1}]
[{"$f":"SETS!B170","v":"TEC167"},{"$f":"Parameters!K229","v":1},{"$f":"Parameters!L229","v":1},{"$f":"Parameters!M229","v":1},{"$f":"Parameters!N229","v":1},{"$f":"Parameters!O229","v":1},{"$f":"Parameters!P229","v":1},{"$f":"Parameters!Q229","v":1},{"$f":"Parameters!R229","v":1},{"$f":"Parameters!S229","v":1},{"$f":"Parameters!T229","v":1},{"$f":"Parameters!U229","v":1},{"$f":"Parameters!V229","v":1},{"$f":"Parameters!W229","v":1},{"$f":"Parameters!X229","v":1},{"$f":"Parameters!Y229","v":1},{"$f":"Parameters!Z229","v":1},{"$f":"Parameters!AA229","v":1},{"$f":"Parameters!AB229","v":1},{"$f":"Parameters!AC229","v":1},{"$f":"Parameters!AD229","v":1},{"$f":"Parameters!AE229","v":1},{"$f":"Parameters!AF229","v":1},{"$f":"Parameters!AG229","v":1},{"$f":"Parameters!AH229","v":1},{"$f":"Parameters!AI229","v":1},{"$f":"Parameters!AJ229","v":1},{"$f":"Parameters!AK229","v":1},{"$f":"Parameters!AL229","v":1},{"$f":"Parameters!AM229","v":1},{"$f":"Parameters!AN229","v":1},{"$f":"Parameters!AO229","v":1},{"$f":"Parameters!AP229","v":1},{"$f":"Parameters!AQ229","v":1},{"$f":"Parameters!AR229","v":1},{"$f":"Parameters!AS229","v":1},{"$f":"Parameters!AT229","v":1},{"$f":"Parameters!AU229","v":1},{"$f":"Parameters!AV229","v":1},{"$f":"Parameters!AW229","v":1},{"$f":"Parameters!AX229","v":1},{"$f":"Parameters!AY229","v":1},{"$f":"Parameters!AZ229","v":1},{"$f":"Parameters!BA229","v":1},{"$f":"Parameters!BB229","v":1},{"$f":"Parameters!BC229","v":1},{"$f":"Parameters!BD229","v":1},{"$f":"Parameters!BE229","v":1},{"$f":"Parameters!BF229","v":1},{"$f":"Parameters!BG229","v":1},{"$f":"Parameters!BH229","v":1},{"$f":"Parameters!BI229","v":1},{"$f":"Parameters!BJ229","v":1},{"$f":"Parameters!BK229","v":1},{"$f":"Parameters!BL229","v":1},{"$f":"Parameters!BM229","v":1},{"$f":"Parameters!BN229","v":1}]
[{"$f":"SETS!B171","v":"TEC168"},{"$f":"Parameters!K230","v":1},{"$f":"Parameters!L230","v":1},{"$f":"Parameters!M230","v":1},{"$f":"Parameters!N230","v":1},{"$f":"Parameters!O230","v":1},{"$f":"Parameters!P230","v":1},{"$f":"Parameters!Q230","v":1},{"$f":"Parameters!R230","v":1},{"$f":"Parameters!S230","v":1},{"$f":"Parameters!T230","v":1},{"$f":"Parameters!U230","v":1},{"$f":"Parameters!V230","v":1},{"$f":"Parameters!W230","v":1},{"$f":"Parameters!X230","v":1},{"$f":"Parameters!Y230","v":1},{"$f":"Parameters!Z230","v":1},{"$f":"Parameters!AA230","v":1},{"$f":"Parameters!AB230","v":1},{"$f":"Parameters!AC230","v":1},{"$f":"Parameters!AD230","v":1},{"$f":"Parameters!AE230","v":1},{"$f":"Parameters!AF230","v":1},{"$f":"Parameters!AG230","v":1},{"$f":"Parameters!AH230","v":1},{"$f":"Parameters!AI230","v":1},{"$f":"Parameters!AJ230","v":1},{"$f":"Parameters!AK230","v":1},{"$f":"Parameters!AL230","v":1},{"$f":"Parameters!AM230","v":1},{"$f":"Parameters!AN230","v":1},{"$f":"Parameters!AO230","v":1},{"$f":"Parameters!AP230","v":1},{"$f":"Parameters!AQ230","v":1},{"$f":"Parameters!AR230","v":1},{"$f":"Parameters!AS230","v":1},{"$f":"Parameters!AT230","v":1},{"$f":"Parameters!AU230","v":1},{"$f":"Parameters!AV230","v":1},{"$f":"Parameters!AW230","v":1},{"$f":"Parameters!AX230","v":1},{"$f":"Parameters!AY230","v":1},{"$f":"Parameters!AZ230","v":1},{"$f":"Parameters!BA230","v":1},{"$f":"Parameters!BB230","v":1},{"$f":"Parameters!BC230","v":1},{"$f":"Parameters!BD230","v":1},{"$f":"Parameters!BE230","v":1},{"$f":"Parameters!BF230","v":1},{"$f":"Parameters!BG230","v":1},{"$f":"Parameters!BH230","v":1},{"$f":"Parameters!BI230","v":1},{"$f":"Parameters!BJ230","v":1},{"$f":"Parameters!BK230","v":1},{"$f":"Parameters!BL230","v":1},{"$f":"Parameters!BM230","v":1},{"$f":"Parameters!BN230","v":1}]
[{"$f":"SETS!B172","v":"TEC169"},{"$f":"Parameters!K231","v":1},{"$f":"Parameters!L231","v":1},{"$f":"Parameters!M231","v":1},{"$f":"Parameters!N231","v":1},{"$f":"Parameters!O231","v":1},{"$f":"Parameters!P231","v":1},{"$f":"Parameters!Q231","v":1},{"$f":"Parameters!R231","v":1},{"$f":"Parameters!S231","v":1},{"$f":"Parameters!T231","v":1},{"$f":"Parameters!U231","v":1},{"$f":"Parameters!V231","v":1},{"$f":"Parameters!W231","v":1},{"$f":"Parameters!X231","v":1},{"$f":"Parameters!Y231","v":1},{"$f":"Parameters!Z231","v":1},{"$f":"Parameters!AA231","v":1},{"$f":"Parameters!AB231","v":1},{"$f":"Parameters!AC231","v":1},{"$f":"Parameters!AD231","v":1},{"$f":"Parameters!AE231","v":1},{"$f":"Parameters!AF231","v":1},{"$f":"Parameters!AG231","v":1},{"$f":"Parameters!AH231","v":1},{"$f":"Parameters!AI231","v":1},{"$f":"Parameters!AJ231","v":1},{"$f":"Parameters!AK231","v":1},{"$f":"Parameters!AL231","v":1},{"$f":"Parameters!AM231","v":1},{"$f":"Parameters!AN231","v":1},{"$f":"Parameters!AO231","v":1},{"$f":"Parameters!AP231","v":1},{"$f":"Parameters!AQ231","v":1},{"$f":"Parameters!AR231","v":1},{"$f":"Parameters!AS231","v":1},{"$f":"Parameters!AT231","v":1},{"$f":"Parameters!AU231","v":1},{"$f":"Parameters!AV231","v":1},{"$f":"Parameters!AW231","v":1},{"$f":"Parameters!AX231","v":1},{"$f":"Parameters!AY231","v":1},{"$f":"Parameters!AZ231","v":1},{"$f":"Parameters!BA231","v":1},{"$f":"Parameters!BB231","v":1},{"$f":"Parameters!BC231","v":1},{"$f":"Parameters!BD231","v":1},{"$f":"Parameters!BE231","v":1},{"$f":"Parameters!BF231","v":1},{"$f":"Parameters!BG231","v":1},{"$f":"Parameters!BH231","v":1},{"$f":"Parameters!BI231","v":1},{"$f":"Parameters!BJ231","v":1},{"$f":"Parameters!BK231","v":1},{"$f":"Parameters!BL231","v":1},{"$f":"Parameters!BM231","v":1},{"$f":"Parameters!BN231","v":1}]
[{"$f":"SETS!B173","v":"TEC170"},{"$f":"Parameters!K232","v":1},{"$f":"Parameters!L232","v":1},{"$f":"Parameters!M232","v":1},{"$f":"Parameters!N232","v":1},{"$f":"Parameters!O232","v":1},{"$f":"Parameters!P232","v":1},{"$f":"Parameters!Q232","v":1},{"$f":"Parameters!R232","v":1},{"$f":"Parameters!S232","v":1},{"$f":"Parameters!T232","v":1},{"$f":"Parameters!U232","v":1},{"$f":"Parameters!V232","v":1},{"$f":"Parameters!W232","v":1},{"$f":"Parameters!X232","v":1},{"$f":"Parameters!Y232","v":1},{"$f":"Parameters!Z232","v":1},{"$f":"Parameters!AA232","v":1},{"$f":"Parameters!AB232","v":1},{"$f":"Parameters!AC232","v":1},{"$f":"Parameters!AD232","v":1},{"$f":"Parameters!AE232","v":1},{"$f":"Parameters!AF232","v":1},{"$f":"Parameters!AG232","v":1},{"$f":"Parameters!AH232","v":1},{"$f":"Parameters!AI232","v":1},{"$f":"Parameters!AJ232","v":1},{"$f":"Parameters!AK232","v":1},{"$f":"Parameters!AL232","v":1},{"$f":"Parameters!AM232","v":1},{"$f":"Parameters!AN232","v":1},{"$f":"Parameters!AO232","v":1},{"$f":"Parameters!AP232","v":1},{"$f":"Parameters!AQ232","v":1},{"$f":"Parameters!AR232","v":1},{"$f":"Parameters!AS232","v":1},{"$f":"Parameters!AT232","v":1},{"$f":"Parameters!AU232","v":1},{"$f":"Parameters!AV232","v":1},{"$f":"Parameters!AW232","v":1},{"$f":"Parameters!AX232","v":1},{"$f":"Parameters!AY232","v":1},{"$f":"Parameters!AZ232","v":1},{"$f":"Parameters!BA232","v":1},{"$f":"Parameters!BB232","v":1},{"$f":"Parameters!BC232","v":1},{"$f":"Parameters!BD232","v":1},{"$f":"Parameters!BE232","v":1},{"$f":"Parameters!BF232","v":1},{"$f":"Parameters!BG232","v":1},{"$f":"Parameters!BH232","v":1},{"$f":"Parameters!BI232","v":1},{"$f":"Parameters!BJ232","v":1},{"$f":"Parameters!BK232","v":1},{"$f":"Parameters!BL232","v":1},{"$f":"Parameters!BM232","v":1},{"$f":"Parameters!BN232","v":1}]
[{"$f":"SETS!B174","v":"TEC171"},{"$f":"Parameters!K233","v":1},{"$f":"Parameters!L233","v":1},{"$f":"Parameters!M233","v":1},{"$f":"Parameters!N233","v":1},{"$f":"Parameters!O233","v":1},{"$f":"Parameters!P233","v":1},{"$f":"Parameters!Q233","v":1},{"$f":"Parameters!R233","v":1},{"$f":"Parameters!S233","v":1},{"$f":"Parameters!T233","v":1},{"$f":"Parameters!U233","v":1},{"$f":"Parameters!V233","v":1},{"$f":"Parameters!W233","v":1},{"$f":"Parameters!X233","v":1},{"$f":"Parameters!Y233","v":1},{"$f":"Parameters!Z233","v":1},{"$f":"Parameters!AA233","v":1},{"$f":"Parameters!AB233","v":1},{"$f":"Parameters!AC233","v":1},{"$f":"Parameters!AD233","v":1},{"$f":"Parameters!AE233","v":1},{"$f":"Parameters!AF233","v":1},{"$f":"Parameters!AG233","v":1},{"$f":"Parameters!AH233","v":1},{"$f":"Parameters!AI233","v":1},{"$f":"Parameters!AJ233","v":1},{"$f":"Parameters!AK233","v":1},{"$f":"Parameters!AL233","v":1},{"$f":"Parameters!AM233","v":1},{"$f":"Parameters!AN233","v":1},{"$f":"Parameters!AO233","v":1},{"$f":"Parameters!AP233","v":1},{"$f":"Parameters!AQ233","v":1},{"$f":"Parameters!AR233","v":1},{"$f":"Parameters!AS233","v":1},{"$f":"Parameters!AT233","v":1},{"$f":"Parameters!AU233","v":1},{"$f":"Parameters!AV233","v":1},{"$f":"Parameters!AW233","v":1},{"$f":"Parameters!AX233","v":1},{"$f":"Parameters!AY233","v":1},{"$f":"Parameters!AZ233","v":1},{"$f":"Parameters!BA233","v":1},{"$f":"Parameters!BB233","v":1},{"$f":"Parameters!BC233","v":1},{"$f":"Parameters!BD233","v":1},{"$f":"Parameters!BE233","v":1},{"$f":"Parameters!BF233","v":1},{"$f":"Parameters!BG233","v":1},{"$f":"Parameters!BH233","v":1},{"$f":"Parameters!BI233","v":1},{"$f":"Parameters!BJ233","v":1},{"$f":"Parameters!BK233","v":1},{"$f":"Parameters!BL233","v":1},{"$f":"Parameters!BM233","v":1},{"$f":"Parameters!BN233","v":1}]
[{"$f":"SETS!B175","v":"TEC172"},{"$f":"Parameters!K234","v":1},{"$f":"Parameters!L234","v":1},{"$f":"Parameters!M234","v":1},{"$f":"Parameters!N234","v":1},{"$f":"Parameters!O234","v":1},{"$f":"Parameters!P234","v":1},{"$f":"Parameters!Q234","v":1},{"$f":"Parameters!R234","v":1},{"$f":"Parameters!S234","v":1},{"$f":"Parameters!T234","v":1},{"$f":"Parameters!U234","v":1},{"$f":"Parameters!V234","v":1},{"$f":"Parameters!W234","v":1},{"$f":"Parameters!X234","v":1},{"$f":"Parameters!Y234","v":1},{"$f":"Parameters!Z234","v":1},{"$f":"Parameters!AA234","v":1},{"$f":"Parameters!AB234","v":1},{"$f":"Parameters!AC234","v":1},{"$f":"Parameters!AD234","v":1},{"$f":"Parameters!AE234","v":1},{"$f":"Parameters!AF234","v":1},{"$f":"Parameters!AG234","v":1},{"$f":"Parameters!AH234","v":1},{"$f":"Parameters!AI234","v":1},{"$f":"Parameters!AJ234","v":1},{"$f":"Parameters!AK234","v":1},{"$f":"Parameters!AL234","v":1},{"$f":"Parameters!AM234","v":1},{"$f":"Parameters!AN234","v":1},{"$f":"Parameters!AO234","v":1},{"$f":"Parameters!AP234","v":1},{"$f":"Parameters!AQ234","v":1},{"$f":"Parameters!AR234","v":1},{"$f":"Parameters!AS234","v":1},{"$f":"Parameters!AT234","v":1},{"$f":"Parameters!AU234","v":1},{"$f":"Parameters!AV234","v":1},{"$f":"Parameters!AW234","v":1},{"$f":"Parameters!AX234","v":1},{"$f":"Parameters!AY234","v":1},{"$f":"Parameters!AZ234","v":1},{"$f":"Parameters!BA234","v":1},{"$f":"Parameters!BB234","v":1},{"$f":"Parameters!BC234","v":1},{"$f":"Parameters!BD234","v":1},{"$f":"Parameters!BE234","v":1},{"$f":"Parameters!BF234","v":1},{"$f":"Parameters!BG234","v":1},{"$f":"Parameters!BH234","v":1},{"$f":"Parameters!BI234","v":1},{"$f":"Parameters!BJ234","v":1},{"$f":"Parameters!BK234","v":1},{"$f":"Parameters!BL234","v":1},{"$f":"Parameters!BM234","v":1},{"$f":"Parameters!BN234","v":1}]
[{"$f":"SETS!B176","v":"TEC173"},{"$f":"Parameters!K235","v":1},{"$f":"Parameters!L235","v":1},{"$f":"Parameters!M235","v":1},{"$f":"Parameters!N235","v":1},{"$f":"Parameters!O235","v":1},{"$f":"Parameters!P235","v":1},{"$f":"Parameters!Q235","v":1},{"$f":"Parameters!R235","v":1},{"$f":"Parameters!S235","v":1},{"$f":"Parameters!T235","v":1},{"$f":"Parameters!U235","v":1},{"$f":"Parameters!V235","v":1},{"$f":"Parameters!W235","v":1},{"$f":"Parameters!X235","v":1},{"$f":"Parameters!Y235","v":1},{"$f":"Parameters!Z235","v":1},{"$f":"Parameters!AA235","v":1},{"$f":"Parameters!AB235","v":1},{"$f":"Parameters!AC235","v":1},{"$f":"Parameters!AD235","v":1},{"$f":"Parameters!AE235","v":1},{"$f":"Parameters!AF235","v":1},{"$f":"Parameters!AG235","v":1},{"$f":"Parameters!AH235","v":1},{"$f":"Parameters!AI235","v":1},{"$f":"Parameters!AJ235","v":1},{"$f":"Parameters!AK235","v":1},{"$f":"Parameters!AL235","v":1},{"$f":"Parameters!AM235","v":1},{"$f":"Parameters!AN235","v":1},{"$f":"Parameters!AO235","v":1},{"$f":"Parameters!AP235","v":1},{"$f":"Parameters!AQ235","v":1},{"$f":"Parameters!AR235","v":1},{"$f":"Parameters!AS235","v":1},{"$f":"Parameters!AT235","v":1},{"$f":"Parameters!AU235","v":1},{"$f":"Parameters!AV235","v":1},{"$f":"Parameters!AW235","v":1},{"$f":"Parameters!AX235","v":1},{"$f":"Parameters!AY235","v":1},{"$f":"Parameters!AZ235","v":1},{"$f":"Parameters!BA235","v":1},{"$f":"Parameters!BB235","v":1},{"$f":"Parameters!BC235","v":1},{"$f":"Parameters!BD235","v":1},{"$f":"Parameters!BE235","v":1},{"$f":"Parameters!BF235","v":1},{"$f":"Parameters!BG235","v":1},{"$f":"Parameters!BH235","v":1},{"$f":"Parameters!BI235","v":1},{"$f":"Parameters!BJ235","v":1},{"$f":"Parameters!BK235","v":1},{"$f":"Parameters!BL235","v":1},{"$f":"Parameters!BM235","v":1},{"$f":"Parameters!BN235","v":1}]
[{"$f":"SETS!B177","v":"TEC174"},{"$f":"Parameters!K236","v":1},{"$f":"Parameters!L236","v":1},{"$f":"Parameters!M236","v":1},{"$f":"Parameters!N236","v":1},{"$f":"Parameters!O236","v":1},{"$f":"Parameters!P236","v":1},{"$f":"Parameters!Q236","v":1},{"$f":"Parameters!R236","v":1},{"$f":"Parameters!S236","v":1},{"$f":"Parameters!T236","v":1},{"$f":"Parameters!U236","v":1},{"$f":"Parameters!V236","v":1},{"$f":"Parameters!W236","v":1},{"$f":"Parameters!X236","v":1},{"$f":"Parameters!Y236","v":1},{"$f":"Parameters!Z236","v":1},{"$f":"Parameters!AA236","v":1},{"$f":"Parameters!AB236","v":1},{"$f":"Parameters!AC236","v":1},{"$f":"Parameters!AD236","v":1},{"$f":"Parameters!AE236","v":1},{"$f":"Parameters!AF236","v":1},{"$f":"Parameters!AG236","v":1},{"$f":"Parameters!AH236","v":1},{"$f":"Parameters!AI236","v":1},{"$f":"Parameters!AJ236","v":1},{"$f":"Parameters!AK236","v":1},{"$f":"Parameters!AL236","v":1},{"$f":"Parameters!AM236","v":1},{"$f":"Parameters!AN236","v":1},{"$f":"Parameters!AO236","v":1},{"$f":"Parameters!AP236","v":1},{"$f":"Parameters!AQ236","v":1},{"$f":"Parameters!AR236","v":1},{"$f":"Parameters!AS236","v":1},{"$f":"Parameters!AT236","v":1},{"$f":"Parameters!AU236","v":1},{"$f":"Parameters!AV236","v":1},{"$f":"Parameters!AW236","v":1},{"$f":"Parameters!AX236","v":1},{"$f":"Parameters!AY236","v":1},{"$f":"Parameters!AZ236","v":1},{"$f":"Parameters!BA236","v":1},{"$f":"Parameters!BB236","v":1},{"$f":"Parameters!BC236","v":1},{"$f":"Parameters!BD236","v":1},{"$f":"Parameters!BE236","v":1},{"$f":"Parameters!BF236","v":1},{"$f":"Parameters!BG236","v":1},{"$f":"Parameters!BH236","v":1},{"$f":"Parameters!BI236","v":1},{"$f":"Parameters!BJ236","v":1},{"$f":"Parameters!BK236","v":1},{"$f":"Parameters!BL236","v":1},{"$f":"Parameters!BM236","v":1},{"$f":"Parameters!BN236","v":1}]
[{"$f":"SETS!B178","v":"TEC175"},{"$f":"Parameters!K237","v":1},{"$f":"Parameters!L237","v":1},{"$f":"Parameters!M237","v":1},{"$f":"Parameters!N237","v":1},{"$f":"Parameters!O237","v":1},{"$f":"Parameters!P237","v":1},{"$f":"Parameters!Q237","v":1},{"$f":"Parameters!R237","v":1},{"$f":"Parameters!S237","v":1},{"$f":"Parameters!T237","v":1},{"$f":"Parameters!U237","v":1},{"$f":"Parameters!V237","v":1},{"$f":"Parameters!W237","v":1},{"$f":"Parameters!X237","v":1},{"$f":"Parameters!Y237","v":1},{"$f":"Parameters!Z237","v":1},{"$f":"Parameters!AA237","v":1},{"$f":"Parameters!AB237","v":1},{"$f":"Parameters!AC237","v":1},{"$f":"Parameters!AD237","v":1},{"$f":"Parameters!AE237","v":1},{"$f":"Parameters!AF237","v":1},{"$f":"Parameters!AG237","v":1},{"$f":"Parameters!AH237","v":1},{"$f":"Parameters!AI237","v":1},{"$f":"Parameters!AJ237","v":1},{"$f":"Parameters!AK237","v":1},{"$f":"Parameters!AL237","v":1},{"$f":"Parameters!AM237","v":1},{"$f":"Parameters!AN237","v":1},{"$f":"Parameters!AO237","v":1},{"$f":"Parameters!AP237","v":1},{"$f":"Parameters!AQ237","v":1},{"$f":"Parameters!AR237","v":1},{"$f":"Parameters!AS237","v":1},{"$f":"Parameters!AT237","v":1},{"$f":"Parameters!AU237","v":1},{"$f":"Parameters!AV237","v":1},{"$f":"Parameters!AW237","v":1},{"$f":"Parameters!AX237","v":1},{"$f":"Parameters!AY237","v":1},{"$f":"Parameters!AZ237","v":1},{"$f":"Parameters!BA237","v":1},{"$f":"Parameters!BB237","v":1},{"$f":"Parameters!BC237","v":1},{"$f":"Parameters!BD237","v":1},{"$f":"Parameters!BE237","v":1},{"$f":"Parameters!BF237","v":1},{"$f":"Parameters!BG237","v":1},{"$f":"Parameters!BH237","v":1},{"$f":"Parameters!BI237","v":1},{"$f":"Parameters!BJ237","v":1},{"$f":"Parameters!BK237","v":1},{"$f":"Parameters!BL237","v":1},{"$f":"Parameters!BM237","v":1},{"$f":"Parameters!BN237","v":1}]
[{"$f":"SETS!B179","v":"TEC176"},{"$f":"Parameters!K238","v":1},{"$f":"Parameters!L238","v":1},{"$f":"Parameters!M238","v":1},{"$f":"Parameters!N238","v":1},{"$f":"Parameters!O238","v":1},{"$f":"Parameters!P238","v":1},{"$f":"Parameters!Q238","v":1},{"$f":"Parameters!R238","v":1},{"$f":"Parameters!S238","v":1},{"$f":"Parameters!T238","v":1},{"$f":"Parameters!U238","v":1},{"$f":"Parameters!V238","v":1},{"$f":"Parameters!W238","v":1},{"$f":"Parameters!X238","v":1},{"$f":"Parameters!Y238","v":1},{"$f":"Parameters!Z238","v":1},{"$f":"Parameters!AA238","v":1},{"$f":"Parameters!AB238","v":1},{"$f":"Parameters!AC238","v":1},{"$f":"Parameters!AD238","v":1},{"$f":"Parameters!AE238","v":1},{"$f":"Parameters!AF238","v":1},{"$f":"Parameters!AG238","v":1},{"$f":"Parameters!AH238","v":1},{"$f":"Parameters!AI238","v":1},{"$f":"Parameters!AJ238","v":1},{"$f":"Parameters!AK238","v":1},{"$f":"Parameters!AL238","v":1},{"$f":"Parameters!AM238","v":1},{"$f":"Parameters!AN238","v":1},{"$f":"Parameters!AO238","v":1},{"$f":"Parameters!AP238","v":1},{"$f":"Parameters!AQ238","v":1},{"$f":"Parameters!AR238","v":1},{"$f":"Parameters!AS238","v":1},{"$f":"Parameters!AT238","v":1},{"$f":"Parameters!AU238","v":1},{"$f":"Parameters!AV238","v":1},{"$f":"Parameters!AW238","v":1},{"$f":"Parameters!AX238","v":1},{"$f":"Parameters!AY238","v":1},{"$f":"Parameters!AZ238","v":1},{"$f":"Parameters!BA238","v":1},{"$f":"Parameters!BB238","v":1},{"$f":"Parameters!BC238","v":1},{"$f":"Parameters!BD238","v":1},{"$f":"Parameters!BE238","v":1},{"$f":"Parameters!BF238","v":1},{"$f":"Parameters!BG238","v":1},{"$f":"Parameters!BH238","v":1},{"$f":"Parameters!BI238","v":1},{"$f":"Parameters!BJ238","v":1},{"$f":"Parameters!BK238","v":1},{"$f":"Parameters!BL238","v":1},{"$f":"Parameters!BM238","v":1},{"$f":"Parameters!BN238","v":1}]
[{"$f":"SETS!B180","v":"TEC177"},{"$f":"Parameters!K239","v":1},{"$f":"Parameters!L239","v":1},{"$f":"Parameters!M239","v":1},{"$f":"Parameters!N239","v":1},{"$f":"Parameters!O239","v":1},{"$f":"Parameters!P239","v":1},{"$f":"Parameters!Q239","v":1},{"$f":"Parameters!R239","v":1},{"$f":"Parameters!S239","v":1},{"$f":"Parameters!T239","v":1},{"$f":"Parameters!U239","v":1},{"$f":"Parameters!V239","v":1},{"$f":"Parameters!W239","v":1},{"$f":"Parameters!X239","v":1},{"$f":"Parameters!Y239","v":1},{"$f":"Parameters!Z239","v":1},{"$f":"Parameters!AA239","v":1},{"$f":"Parameters!AB239","v":1},{"$f":"Parameters!AC239","v":1},{"$f":"Parameters!AD239","v":1},{"$f":"Parameters!AE239","v":1},{"$f":"Parameters!AF239","v":1},{"$f":"Parameters!AG239","v":1},{"$f":"Parameters!AH239","v":1},{"$f":"Parameters!AI239","v":1},{"$f":"Parameters!AJ239","v":1},{"$f":"Parameters!AK239","v":1},{"$f":"Parameters!AL239","v":1},{"$f":"Parameters!AM239","v":1},{"$f":"Parameters!AN239","v":1},{"$f":"Parameters!AO239","v":1},{"$f":"Parameters!AP239","v":1},{"$f":"Parameters!AQ239","v":1},{"$f":"Parameters!AR239","v":1},{"$f":"Parameters!AS239","v":1},{"$f":"Parameters!AT239","v":1},{"$f":"Parameters!AU239","v":1},{"$f":"Parameters!AV239","v":1},{"$f":"Parameters!AW239","v":1},{"$f":"Parameters!AX239","v":1},{"$f":"Parameters!AY239","v":1},{"$f":"Parameters!AZ239","v":1},{"$f":"Parameters!BA239","v":1},{"$f":"Parameters!BB239","v":1},{"$f":"Parameters!BC239","v":1},{"$f":"Parameters!BD239","v":1},{"$f":"Parameters!BE239","v":1},{"$f":"Parameters!BF239","v":1},{"$f":"Parameters!BG239","v":1},{"$f":"Parameters!BH239","v":1},{"$f":"Parameters!BI239","v":1},{"$f":"Parameters!BJ239","v":1},{"$f":"Parameters!BK239","v":1},{"$f":"Parameters!BL239","v":1},{"$f":"Parameters!BM239","v":1},{"$f":"Parameters!BN239","v":1}]
[{"$f":"SETS!B181","v":"TEC178"},{"$f":"Parameters!K240","v":1},{"$f":"Parameters!L240","v":1},{"$f":"Parameters!M240","v":1},{"$f":"Parameters!N240","v":1},{"$f":"Parameters!O240","v":1},{"$f":"Parameters!P240","v":1},{"$f":"Parameters!Q240","v":1},{"$f":"Parameters!R240","v":1},{"$f":"Parameters!S240","v":1},{"$f":"Parameters!T240","v":1},{"$f":"Parameters!U240","v":1},{"$f":"Parameters!V240","v":1},{"$f":"Parameters!W240","v":1},{"$f":"Parameters!X240","v":1},{"$f":"Parameters!Y240","v":1},{"$f":"Parameters!Z240","v":1},{"$f":"Parameters!AA240","v":1},{"$f":"Parameters!AB240","v":1},{"$f":"Parameters!AC240","v":1},{"$f":"Parameters!AD240","v":1},{"$f":"Parameters!AE240","v":1},{"$f":"Parameters!AF240","v":1},{"$f":"Parameters!AG240","v":1},{"$f":"Parameters!AH240","v":1},{"$f":"Parameters!AI240","v":1},{"$f":"Parameters!AJ240","v":1},{"$f":"Parameters!AK240","v":1},{"$f":"Parameters!AL240","v":1},{"$f":"Parameters!AM240","v":1},{"$f":"Parameters!AN240","v":1},{"$f":"Parameters!AO240","v":1},{"$f":"Parameters!AP240","v":1},{"$f":"Parameters!AQ240","v":1},{"$f":"Parameters!AR240","v":1},{"$f":"Parameters!AS240","v":1},{"$f":"Parameters!AT240","v":1},{"$f":"Parameters!AU240","v":1},{"$f":"Parameters!AV240","v":1},{"$f":"Parameters!AW240","v":1},{"$f":"Parameters!AX240","v":1},{"$f":"Parameters!AY240","v":1},{"$f":"Parameters!AZ240","v":1},{"$f":"Parameters!BA240","v":1},{"$f":"Parameters!BB240","v":1},{"$f":"Parameters!BC240","v":1},{"$f":"Parameters!BD240","v":1},{"$f":"Parameters!BE240","v":1},{"$f":"Parameters!BF240","v":1},{"$f":"Parameters!BG240","v":1},{"$f":"Parameters!BH240","v":1},{"$f":"Parameters!BI240","v":1},{"$f":"Parameters!BJ240","v":1},{"$f":"Parameters!BK240","v":1},{"$f":"Parameters!BL240","v":1},{"$f":"Parameters!BM240","v":1},{"$f":"Parameters!BN240","v":1}]
[{"$f":"SETS!B182","v":"TEC179"},{"$f":"Parameters!K241","v":1},{"$f":"Parameters!L241","v":1},{"$f":"Parameters!M241","v":1},{"$f":"Parameters!N241","v":1},{"$f":"Parameters!O241","v":1},{"$f":"Parameters!P241","v":1},{"$f":"Parameters!Q241","v":1},{"$f":"Parameters!R241","v":1},{"$f":"Parameters!S241","v":1},{"$f":"Parameters!T241","v":1},{"$f":"Parameters!U241","v":1},{"$f":"Parameters!V241","v":1},{"$f":"Parameters!W241","v":1},{"$f":"Parameters!X241","v":1},{"$f":"Parameters!Y241","v":1},{"$f":"Parameters!Z241","v":1},{"$f":"Parameters!AA241","v":1},{"$f":"Parameters!AB241","v":1},{"$f":"Parameters!AC241","v":1},{"$f":"Parameters!AD241","v":1},{"$f":"Parameters!AE241","v":1},{"$f":"Parameters!AF241","v":1},{"$f":"Parameters!AG241","v":1},{"$f":"Parameters!AH241","v":1},{"$f":"Parameters!AI241","v":1},{"$f":"Parameters!AJ241","v":1},{"$f":"Parameters!AK241","v":1},{"$f":"Parameters!AL241","v":1},{"$f":"Parameters!AM241","v":1},{"$f":"Parameters!AN241","v":1},{"$f":"Parameters!AO241","v":1},{"$f":"Parameters!AP241","v":1},{"$f":"Parameters!AQ241","v":1},{"$f":"Parameters!AR241","v":1},{"$f":"Parameters!AS241","v":1},{"$f":"Parameters!AT241","v":1},{"$f":"Parameters!AU241","v":1},{"$f":"Parameters!AV241","v":1},{"$f":"Parameters!AW241","v":1},{"$f":"Parameters!AX241","v":1},{"$f":"Parameters!AY241","v":1},{"$f":"Parameters!AZ241","v":1},{"$f":"Parameters!BA241","v":1},{"$f":"Parameters!BB241","v":1},{"$f":"Parameters!BC241","v":1},{"$f":"Parameters!BD241","v":1},{"$f":"Parameters!BE241","v":1},{"$f":"Parameters!BF241","v":1},{"$f":"Parameters!BG241","v":1},{"$f":"Parameters!BH241","v":1},{"$f":"Parameters!BI241","v":1},{"$f":"Parameters!BJ241","v":1},{"$f":"Parameters!BK241","v":1},{"$f":"Parameters!BL241","v":1},{"$f":"Parameters!BM241","v":1},{"$f":"Parameters!BN241","v":1}]
[{"$f":"SETS!B183","v":"TEC180"},{"$f":"Parameters!K242","v":1},{"$f":"Parameters!L242","v":1},{"$f":"Parameters!M242","v":1},{"$f":"Parameters!N242","v":1},{"$f":"Parameters!O242","v":1},{"$f":"Parameters!P242","v":1},{"$f":"Parameters!Q242","v":1},{"$f":"Parameters!R242","v":1},{"$f":"Parameters!S242","v":1},{"$f":"Parameters!T242","v":1},{"$f":"Parameters!U242","v":1},{"$f":"Parameters!V242","v":1},{"$f":"Parameters!W242","v":1},{"$f":"Parameters!X242","v":1},{"$f":"Parameters!Y242","v":1},{"$f":"Parameters!Z242","v":1},{"$f":"Parameters!AA242","v":1},{"$f":"Parameters!AB242","v":1},{"$f":"Parameters!AC242","v":1},{"$f":"Parameters!AD242","v":1},{"$f":"Parameters!AE242","v":1},{"$f":"Parameters!AF242","v":1},{"$f":"Parameters!AG242","v":1},{"$f":"Parameters!AH242","v":1},{"$f":"Parameters!AI242","v":1},{"$f":"Parameters!AJ242","v":1},{"$f":"Parameters!AK242","v":1},{"$f":"Parameters!AL242","v":1},{"$f":"Parameters!AM242","v":1},{"$f":"Parameters!AN242","v":1},{"$f":"Parameters!AO242","v":1},{"$f":"Parameters!AP242","v":1},{"$f":"Parameters!AQ242","v":1},{"$f":"Parameters!AR242","v":1},{"$f":"Parameters!AS242","v":1},{"$f":"Parameters!AT242","v":1},{"$f":"Parameters!AU242","v":1},{"$f":"Parameters!AV242","v":1},{"$f":"Parameters!AW242","v":1},{"$f":"Parameters!AX242","v":1},{"$f":"Parameters!AY242","v":1},{"$f":"Parameters!AZ242","v":1},{"$f":"Parameters!BA242","v":1},{"$f":"Parameters!BB242","v":1},{"$f":"Parameters!BC242","v":1},{"$f":"Parameters!BD242","v":1},{"$f":"Parameters!BE242","v":1},{"$f":"Parameters!BF242","v":1},{"$f":"Parameters!BG242","v":1},{"$f":"Parameters!BH242","v":1},{"$f":"Parameters!BI242","v":1},{"$f":"Parameters!BJ242","v":1},{"$f":"Parameters!BK242","v":1},{"$f":"Parameters!BL242","v":1},{"$f":"Parameters!BM242","v":1},{"$f":"Parameters!BN242","v":1}]
[{"$f":"SETS!B184","v":"TEC181"},{"$f":"Parameters!K243","v":1},{"$f":"Parameters!L243","v":1},{"$f":"Parameters!M243","v":1},{"$f":"Parameters!N243","v":1},{"$f":"Parameters!O243","v":1},{"$f":"Parameters!P243","v":1},{"$f":"Parameters!Q243","v":1},{"$f":"Parameters!R243","v":1},{"$f":"Parameters!S243","v":1},{"$f":"Parameters!T243","v":1},{"$f":"Parameters!U243","v":1},{"$f":"Parameters!V243","v":1},{"$f":"Parameters!W243","v":1},{"$f":"Parameters!X243","v":1},{"$f":"Parameters!Y243","v":1},{"$f":"Parameters!Z243","v":1},{"$f":"Parameters!AA243","v":1},{"$f":"Parameters!AB243","v":1},{"$f":"Parameters!AC243","v":1},{"$f":"Parameters!AD243","v":1},{"$f":"Parameters!AE243","v":1},{"$f":"Parameters!AF243","v":1},{"$f":"Parameters!AG243","v":1},{"$f":"Parameters!AH243","v":1},{"$f":"Parameters!AI243","v":1},{"$f":"Parameters!AJ243","v":1},{"$f":"Parameters!AK243","v":1},{"$f":"Parameters!AL243","v":1},{"$f":"Parameters!AM243","v":1},{"$f":"Parameters!AN243","v":1},{"$f":"Parameters!AO243","v":1},{"$f":"Parameters!AP243","v":1},{"$f":"Parameters!AQ243","v":1},{"$f":"Parameters!AR243","v":1},{"$f":"Parameters!AS243","v":1},{"$f":"Parameters!AT243","v":1},{"$f":"Parameters!AU243","v":1},{"$f":"Parameters!AV243","v":1},{"$f":"Parameters!AW243","v":1},{"$f":"Parameters!AX243","v":1},{"$f":"Parameters!AY243","v":1},{"$f":"Parameters!AZ243","v":1},{"$f":"Parameters!BA243","v":1},{"$f":"Parameters!BB243","v":1},{"$f":"Parameters!BC243","v":1},{"$f":"Parameters!BD243","v":1},{"$f":"Parameters!BE243","v":1},{"$f":"Parameters!BF243","v":1},{"$f":"Parameters!BG243","v":1},{"$f":"Parameters!BH243","v":1},{"$f":"Parameters!BI243","v":1},{"$f":"Parameters!BJ243","v":1},{"$f":"Parameters!BK243","v":1},{"$f":"Parameters!BL243","v":1},{"$f":"Parameters!BM243","v":1},{"$f":"Parameters!BN243","v":1}]
[{"$f":"SETS!B185","v":"TEC182"},{"$f":"Parameters!K244","v":1},{"$f":"Parameters!L244","v":1},{"$f":"Parameters!M244","v":1},{"$f":"Parameters!N244","v":1},{"$f":"Parameters!O244","v":1},{"$f":"Parameters!P244","v":1},{"$f":"Parameters!Q244","v":1},{"$f":"Parameters!R244","v":1},{"$f":"Parameters!S244","v":1},{"$f":"Parameters!T244","v":1},{"$f":"Parameters!U244","v":1},{"$f":"Parameters!V244","v":1},{"$f":"Parameters!W244","v":1},{"$f":"Parameters!X244","v":1},{"$f":"Parameters!Y244","v":1},{"$f":"Parameters!Z244","v":1},{"$f":"Parameters!AA244","v":1},{"$f":"Parameters!AB244","v":1},{"$f":"Parameters!AC244","v":1},{"$f":"Parameters!AD244","v":1},{"$f":"Parameters!AE244","v":1},{"$f":"Parameters!AF244","v":1},{"$f":"Parameters!AG244","v":1},{"$f":"Parameters!AH244","v":1},{"$f":"Parameters!AI244","v":1},{"$f":"Parameters!AJ244","v":1},{"$f":"Parameters!AK244","v":1},{"$f":"Parameters!AL244","v":1},{"$f":"Parameters!AM244","v":1},{"$f":"Parameters!AN244","v":1},{"$f":"Parameters!AO244","v":1},{"$f":"Parameters!AP244","v":1},{"$f":"Parameters!AQ244","v":1},{"$f":"Parameters!AR244","v":1},{"$f":"Parameters!AS244","v":1},{"$f":"Parameters!AT244","v":1},{"$f":"Parameters!AU244","v":1},{"$f":"Parameters!AV244","v":1},{"$f":"Parameters!AW244","v":1},{"$f":"Parameters!AX244","v":1},{"$f":"Parameters!AY244","v":1},{"$f":"Parameters!AZ244","v":1},{"$f":"Parameters!BA244","v":1},{"$f":"Parameters!BB244","v":1},{"$f":"Parameters!BC244","v":1},{"$f":"Parameters!BD244","v":1},{"$f":"Parameters!BE244","v":1},{"$f":"Parameters!BF244","v":1},{"$f":"Parameters!BG244","v":1},{"$f":"Parameters!BH244","v":1},{"$f":"Parameters!BI244","v":1},{"$f":"Parameters!BJ244","v":1},{"$f":"Parameters!BK244","v":1},{"$f":"Parameters!BL244","v":1},{"$f":"Parameters!BM244","v":1},{"$f":"Parameters!BN244","v":1}]
[{"$f":"SETS!B186","v":"TEC183"},{"$f":"Parameters!K245","v":1},{"$f":"Parameters!L245","v":1},{"$f":"Parameters!M245","v":1},{"$f":"Parameters!N245","v":1},{"$f":"Parameters!O245","v":1},{"$f":"Parameters!P245","v":1},{"$f":"Parameters!Q245","v":1},{"$f":"Parameters!R245","v":1},{"$f":"Parameters!S245","v":1},{"$f":"Parameters!T245","v":1},{"$f":"Parameters!U245","v":1},{"$f":"Parameters!V245","v":1},{"$f":"Parameters!W245","v":1},{"$f":"Parameters!X245","v":1},{"$f":"Parameters!Y245","v":1},{"$f":"Parameters!Z245","v":1},{"$f":"Parameters!AA245","v":1},{"$f":"Parameters!AB245","v":1},{"$f":"Parameters!AC245","v":1},{"$f":"Parameters!AD245","v":1},{"$f":"Parameters!AE245","v":1},{"$f":"Parameters!AF245","v":1},{"$f":"Parameters!AG245","v":1},{"$f":"Parameters!AH245","v":1},{"$f":"Parameters!AI245","v":1},{"$f":"Parameters!AJ245","v":1},{"$f":"Parameters!AK245","v":1},{"$f":"Parameters!AL245","v":1},{"$f":"Parameters!AM245","v":1},{"$f":"Parameters!AN245","v":1},{"$f":"Parameters!AO245","v":1},{"$f":"Parameters!AP245","v":1},{"$f":"Parameters!AQ245","v":1},{"$f":"Parameters!AR245","v":1},{"$f":"Parameters!AS245","v":1},{"$f":"Parameters!AT245","v":1},{"$f":"Parameters!AU245","v":1},{"$f":"Parameters!AV245","v":1},{"$f":"Parameters!AW245","v":1},{"$f":"Parameters!AX245","v":1},{"$f":"Parameters!AY245","v":1},{"$f":"Parameters!AZ245","v":1},{"$f":"Parameters!BA245","v":1},{"$f":"Parameters!BB245","v":1},{"$f":"Parameters!BC245","v":1},{"$f":"Parameters!BD245","v":1},{"$f":"Parameters!BE245","v":1},{"$f":"Parameters!BF245","v":1},{"$f":"Parameters!BG245","v":1},{"$f":"Parameters!BH245","v":1},{"$f":"Parameters!BI245","v":1},{"$f":"Parameters!BJ245","v":1},{"$f":"Parameters!BK245","v":1},{"$f":"Parameters!BL245","v":1},{"$f":"Parameters!BM245","v":1},{"$f":"Parameters!BN245","v":1}]
[{"$f":"SETS!B187","v":"TEC184"},{"$f":"Parameters!K246","v":1},{"$f":"Parameters!L246","v":1},{"$f":"Parameters!M246","v":1},{"$f":"Parameters!N246","v":1},{"$f":"Parameters!O246","v":1},{"$f":"Parameters!P246","v":1},{"$f":"Parameters!Q246","v":1},{"$f":"Parameters!R246","v":1},{"$f":"Parameters!S246","v":1},{"$f":"Parameters!T246","v":1},{"$f":"Parameters!U246","v":1},{"$f":"Parameters!V246","v":1},{"$f":"Parameters!W246","v":1},{"$f":"Parameters!X246","v":1},{"$f":"Parameters!Y246","v":1},{"$f":"Parameters!Z246","v":1},{"$f":"Parameters!AA246","v":1},{"$f":"Parameters!AB246","v":1},{"$f":"Parameters!AC246","v":1},{"$f":"Parameters!AD246","v":1},{"$f":"Parameters!AE246","v":1},{"$f":"Parameters!AF246","v":1},{"$f":"Parameters!AG246","v":1},{"$f":"Parameters!AH246","v":1},{"$f":"Parameters!AI246","v":1},{"$f":"Parameters!AJ246","v":1},{"$f":"Parameters!AK246","v":1},{"$f":"Parameters!AL246","v":1},{"$f":"Parameters!AM246","v":1},{"$f":"Parameters!AN246","v":1},{"$f":"Parameters!AO246","v":1},{"$f":"Parameters!AP246","v":1},{"$f":"Parameters!AQ246","v":1},{"$f":"Parameters!AR246","v":1},{"$f":"Parameters!AS246","v":1},{"$f":"Parameters!AT246","v":1},{"$f":"Parameters!AU246","v":1},{"$f":"Parameters!AV246","v":1},{"$f":"Parameters!AW246","v":1},{"$f":"Parameters!AX246","v":1},{"$f":"Parameters!AY246","v":1},{"$f":"Parameters!AZ246","v":1},{"$f":"Parameters!BA246","v":1},{"$f":"Parameters!BB246","v":1},{"$f":"Parameters!BC246","v":1},{"$f":"Parameters!BD246","v":1},{"$f":"Parameters!BE246","v":1},{"$f":"Parameters!BF246","v":1},{"$f":"Parameters!BG246","v":1},{"$f":"Parameters!BH246","v":1},{"$f":"Parameters!BI246","v":1},{"$f":"Parameters!BJ246","v":1},{"$f":"Parameters!BK246","v":1},{"$f":"Parameters!BL246","v":1},{"$f":"Parameters!BM246","v":1},{"$f":"Parameters!BN246","v":1}]
[{"$f":"SETS!B188","v":"TEC185"},{"$f":"Parameters!K247","v":1},{"$f":"Parameters!L247","v":1},{"$f":"Parameters!M247","v":1},{"$f":"Parameters!N247","v":1},{"$f":"Parameters!O247","v":1},{"$f":"Parameters!P247","v":1},{"$f":"Parameters!Q247","v":1},{"$f":"Parameters!R247","v":1},{"$f":"Parameters!S247","v":1},{"$f":"Parameters!T247","v":1},{"$f":"Parameters!U247","v":1},{"$f":"Parameters!V247","v":1},{"$f":"Parameters!W247","v":1},{"$f":"Parameters!X247","v":1},{"$f":"Parameters!Y247","v":1},{"$f":"Parameters!Z247","v":1},{"$f":"Parameters!AA247","v":1},{"$f":"Parameters!AB247","v":1},{"$f":"Parameters!AC247","v":1},{"$f":"Parameters!AD247","v":1},{"$f":"Parameters!AE247","v":1},{"$f":"Parameters!AF247","v":1},{"$f":"Parameters!AG247","v":1},{"$f":"Parameters!AH247","v":1},{"$f":"Parameters!AI247","v":1},{"$f":"Parameters!AJ247","v":1},{"$f":"Parameters!AK247","v":1},{"$f":"Parameters!AL247","v":1},{"$f":"Parameters!AM247","v":1},{"$f":"Parameters!AN247","v":1},{"$f":"Parameters!AO247","v":1},{"$f":"Parameters!AP247","v":1},{"$f":"Parameters!AQ247","v":1},{"$f":"Parameters!AR247","v":1},{"$f":"Parameters!AS247","v":1},{"$f":"Parameters!AT247","v":1},{"$f":"Parameters!AU247","v":1},{"$f":"Parameters!AV247","v":1},{"$f":"Parameters!AW247","v":1},{"$f":"Parameters!AX247","v":1},{"$f":"Parameters!AY247","v":1},{"$f":"Parameters!AZ247","v":1},{"$f":"Parameters!BA247","v":1},{"$f":"Parameters!BB247","v":1},{"$f":"Parameters!BC247","v":1},{"$f":"Parameters!BD247","v":1},{"$f":"Parameters!BE247","v":1},{"$f":"Parameters!BF247","v":1},{"$f":"Parameters!BG247","v":1},{"$f":"Parameters!BH247","v":1},{"$f":"Parameters!BI247","v":1},{"$f":"Parameters!BJ247","v":1},{"$f":"Parameters!BK247","v":1},{"$f":"Parameters!BL247","v":1},{"$f":"Parameters!BM247","v":1},{"$f":"Parameters!BN247","v":1}]
[{"$f":"SETS!B189","v":"TEC186"},{"$f":"Parameters!K248","v":1},{"$f":"Parameters!L248","v":1},{"$f":"Parameters!M248","v":1},{"$f":"Parameters!N248","v":1},{"$f":"Parameters!O248","v":1},{"$f":"Parameters!P248","v":1},{"$f":"Parameters!Q248","v":1},{"$f":"Parameters!R248","v":1},{"$f":"Parameters!S248","v":1},{"$f":"Parameters!T248","v":1},{"$f":"Parameters!U248","v":1},{"$f":"Parameters!V248","v":1},{"$f":"Parameters!W248","v":1},{"$f":"Parameters!X248","v":1},{"$f":"Parameters!Y248","v":1},{"$f":"Parameters!Z248","v":1},{"$f":"Parameters!AA248","v":1},{"$f":"Parameters!AB248","v":1},{"$f":"Parameters!AC248","v":1},{"$f":"Parameters!AD248","v":1},{"$f":"Parameters!AE248","v":1},{"$f":"Parameters!AF248","v":1},{"$f":"Parameters!AG248","v":1},{"$f":"Parameters!AH248","v":1},{"$f":"Parameters!AI248","v":1},{"$f":"Parameters!AJ248","v":1},{"$f":"Parameters!AK248","v":1},{"$f":"Parameters!AL248","v":1},{"$f":"Parameters!AM248","v":1},{"$f":"Parameters!AN248","v":1},{"$f":"Parameters!AO248","v":1},{"$f":"Parameters!AP248","v":1},{"$f":"Parameters!AQ248","v":1},{"$f":"Parameters!AR248","v":1},{"$f":"Parameters!AS248","v":1},{"$f":"Parameters!AT248","v":1},{"$f":"Parameters!AU248","v":1},{"$f":"Parameters!AV248","v":1},{"$f":"Parameters!AW248","v":1},{"$f":"Parameters!AX248","v":1},{"$f":"Parameters!AY248","v":1},{"$f":"Parameters!AZ248","v":1},{"$f":"Parameters!BA248","v":1},{"$f":"Parameters!BB248","v":1},{"$f":"Parameters!BC248","v":1},{"$f":"Parameters!BD248","v":1},{"$f":"Parameters!BE248","v":1},{"$f":"Parameters!BF248","v":1},{"$f":"Parameters!BG248","v":1},{"$f":"Parameters!BH248","v":1},{"$f":"Parameters!BI248","v":1},{"$f":"Parameters!BJ248","v":1},{"$f":"Parameters!BK248","v":1},{"$f":"Parameters!BL248","v":1},{"$f":"Parameters!BM248","v":1},{"$f":"Parameters!BN248","v":1}]
[{"$f":"SETS!B190","v":"TEC187"},{"$f":"Parameters!K249","v":1},{"$f":"Parameters!L249","v":1},{"$f":"Parameters!M249","v":1},{"$f":"Parameters!N249","v":1},{"$f":"Parameters!O249","v":1},{"$f":"Parameters!P249","v":1},{"$f":"Parameters!Q249","v":1},{"$f":"Parameters!R249","v":1},{"$f":"Parameters!S249","v":1},{"$f":"Parameters!T249","v":1},{"$f":"Parameters!U249","v":1},{"$f":"Parameters!V249","v":1},{"$f":"Parameters!W249","v":1},{"$f":"Parameters!X249","v":1},{"$f":"Parameters!Y249","v":1},{"$f":"Parameters!Z249","v":1},{"$f":"Parameters!AA249","v":1},{"$f":"Parameters!AB249","v":1},{"$f":"Parameters!AC249","v":1},{"$f":"Parameters!AD249","v":1},{"$f":"Parameters!AE249","v":1},{"$f":"Parameters!AF249","v":1},{"$f":"Parameters!AG249","v":1},{"$f":"Parameters!AH249","v":1},{"$f":"Parameters!AI249","v":1},{"$f":"Parameters!AJ249","v":1},{"$f":"Parameters!AK249","v":1},{"$f":"Parameters!AL249","v":1},{"$f":"Parameters!AM249","v":1},{"$f":"Parameters!AN249","v":1},{"$f":"Parameters!AO249","v":1},{"$f":"Parameters!AP249","v":1},{"$f":"Parameters!AQ249","v":1},{"$f":"Parameters!AR249","v":1},{"$f":"Parameters!AS249","v":1},{"$f":"Parameters!AT249","v":1},{"$f":"Parameters!AU249","v":1},{"$f":"Parameters!AV249","v":1},{"$f":"Parameters!AW249","v":1},{"$f":"Parameters!AX249","v":1},{"$f":"Parameters!AY249","v":1},{"$f":"Parameters!AZ249","v":1},{"$f":"Parameters!BA249","v":1},{"$f":"Parameters!BB249","v":1},{"$f":"Parameters!BC249","v":1},{"$f":"Parameters!BD249","v":1},{"$f":"Parameters!BE249","v":1},{"$f":"Parameters!BF249","v":1},{"$f":"Parameters!BG249","v":1},{"$f":"Parameters!BH249","v":1},{"$f":"Parameters!BI249","v":1},{"$f":"Parameters!BJ249","v":1},{"$f":"Parameters!BK249","v":1},{"$f":"Parameters!BL249","v":1},{"$f":"Parameters!BM249","v":1},{"$f":"Parameters!BN249","v":1}]
[{"$f":"SETS!B191","v":"TEC188"},{"$f":"Parameters!K250","v":1},{"$f":"Parameters!L250","v":1},{"$f":"Parameters!M250","v":1},{"$f":"Parameters!N250","v":1},{"$f":"Parameters!O250","v":1},{"$f":"Parameters!P250","v":1},{"$f":"Parameters!Q250","v":1},{"$f":"Parameters!R250","v":1},{"$f":"Parameters!S250","v":1},{"$f":"Parameters!T250","v":1},{"$f":"Parameters!U250","v":1},{"$f":"Parameters!V250","v":1},{"$f":"Parameters!W250","v":1},{"$f":"Parameters!X250","v":1},{"$f":"Parameters!Y250","v":1},{"$f":"Parameters!Z250","v":1},{"$f":"Parameters!AA250","v":1},{"$f":"Parameters!AB250","v":1},{"$f":"Parameters!AC250","v":1},{"$f":"Parameters!AD250","v":1},{"$f":"Parameters!AE250","v":1},{"$f":"Parameters!AF250","v":1},{"$f":"Parameters!AG250","v":1},{"$f":"Parameters!AH250","v":1},{"$f":"Parameters!AI250","v":1},{"$f":"Parameters!AJ250","v":1},{"$f":"Parameters!AK250","v":1},{"$f":"Parameters!AL250","v":1},{"$f":"Parameters!AM250","v":1},{"$f":"Parameters!AN250","v":1},{"$f":"Parameters!AO250","v":1},{"$f":"Parameters!AP250","v":1},{"$f":"Parameters!AQ250","v":1},{"$f":"Parameters!AR250","v":1},{"$f":"Parameters!AS250","v":1},{"$f":"Parameters!AT250","v":1},{"$f":"Parameters!AU250","v":1},{"$f":"Parameters!AV250","v":1},{"$f":"Parameters!AW250","v":1},{"$f":"Parameters!AX250","v":1},{"$f":"Parameters!AY250","v":1},{"$f":"Parameters!AZ250","v":1},{"$f":"Parameters!BA250","v":1},{"$f":"Parameters!BB250","v":1},{"$f":"Parameters!BC250","v":1},{"$f":"Parameters!BD250","v":1},{"$f":"Parameters!BE250","v":1},{"$f":"Parameters!BF250","v":1},{"$f":"Parameters!BG250","v":1},{"$f":"Parameters!BH250","v":1},{"$f":"Parameters!BI250","v":1},{"$f":"Parameters!BJ250","v":1},{"$f":"Parameters!BK250","v":1},{"$f":"Parameters!BL250","v":1},{"$f":"Parameters!BM250","v":1},{"$f":"Parameters!BN250","v":1}]
[{"$f":"SETS!B192","v":"TEC189"},{"$f":"Parameters!K251","v":1},{"$f":"Parameters!L251","v":1},{"$f":"Parameters!M251","v":1},{"$f":"Parameters!N251","v":1},{"$f":"Parameters!O251","v":1},{"$f":"Parameters!P251","v":1},{"$f":"Parameters!Q251","v":1},{"$f":"Parameters!R251","v":1},{"$f":"Parameters!S251","v":1},{"$f":"Parameters!T251","v":1},{"$f":"Parameters!U251","v":1},{"$f":"Parameters!V251","v":1},{"$f":"Parameters!W251","v":1},{"$f":"Parameters!X251","v":1},{"$f":"Parameters!Y251","v":1},{"$f":"Parameters!Z251","v":1},{"$f":"Parameters!AA251","v":1},{"$f":"Parameters!AB251","v":1},{"$f":"Parameters!AC251","v":1},{"$f":"Parameters!AD251","v":1},{"$f":"Parameters!AE251","v":1},{"$f":"Parameters!AF251","v":1},{"$f":"Parameters!AG251","v":1},{"$f":"Parameters!AH251","v":1},{"$f":"Parameters!AI251","v":1},{"$f":"Parameters!AJ251","v":1},{"$f":"Parameters!AK251","v":1},{"$f":"Parameters!AL251","v":1},{"$f":"Parameters!AM251","v":1},{"$f":"Parameters!AN251","v":1},{"$f":"Parameters!AO251","v":1},{"$f":"Parameters!AP251","v":1},{"$f":"Parameters!AQ251","v":1},{"$f":"Parameters!AR251","v":1},{"$f":"Parameters!AS251","v":1},{"$f":"Parameters!AT251","v":1},{"$f":"Parameters!AU251","v":1},{"$f":"Parameters!AV251","v":1},{"$f":"Parameters!AW251","v":1},{"$f":"Parameters!AX251","v":1},{"$f":"Parameters!AY251","v":1},{"$f":"Parameters!AZ251","v":1},{"$f":"Parameters!BA251","v":1},{"$f":"Parameters!BB251","v":1},{"$f":"Parameters!BC251","v":1},{"$f":"Parameters!BD251","v":1},{"$f":"Parameters!BE251","v":1},{"$f":"Parameters!BF251","v":1},{"$f":"Parameters!BG251","v":1},{"$f":"Parameters!BH251","v":1},{"$f":"Parameters!BI251","v":1},{"$f":"Parameters!BJ251","v":1},{"$f":"Parameters!BK251","v":1},{"$f":"Parameters!BL251","v":1},{"$f":"Parameters!BM251","v":1},{"$f":"Parameters!BN251","v":1}]
[{"$f":"SETS!B193","v":"TEC190"},{"$f":"Parameters!K252","v":1},{"$f":"Parameters!L252","v":1},{"$f":"Parameters!M252","v":1},{"$f":"Parameters!N252","v":1},{"$f":"Parameters!O252","v":1},{"$f":"Parameters!P252","v":1},{"$f":"Parameters!Q252","v":1},{"$f":"Parameters!R252","v":1},{"$f":"Parameters!S252","v":1},{"$f":"Parameters!T252","v":1},{"$f":"Parameters!U252","v":1},{"$f":"Parameters!V252","v":1},{"$f":"Parameters!W252","v":1},{"$f":"Parameters!X252","v":1},{"$f":"Parameters!Y252","v":1},{"$f":"Parameters!Z252","v":1},{"$f":"Parameters!AA252","v":1},{"$f":"Parameters!AB252","v":1},{"$f":"Parameters!AC252","v":1},{"$f":"Parameters!AD252","v":1},{"$f":"Parameters!AE252","v":1},{"$f":"Parameters!AF252","v":1},{"$f":"Parameters!AG252","v":1},{"$f":"Parameters!AH252","v":1},{"$f":"Parameters!AI252","v":1},{"$f":"Parameters!AJ252","v":1},{"$f":"Parameters!AK252","v":1},{"$f":"Parameters!AL252","v":1},{"$f":"Parameters!AM252","v":1},{"$f":"Parameters!AN252","v":1},{"$f":"Parameters!AO252","v":1},{"$f":"Parameters!AP252","v":1},{"$f":"Parameters!AQ252","v":1},{"$f":"Parameters!AR252","v":1},{"$f":"Parameters!AS252","v":1},{"$f":"Parameters!AT252","v":1},{"$f":"Parameters!AU252","v":1},{"$f":"Parameters!AV252","v":1},{"$f":"Parameters!AW252","v":1},{"$f":"Parameters!AX252","v":1},{"$f":"Parameters!AY252","v":1},{"$f":"Parameters!AZ252","v":1},{"$f":"Parameters!BA252","v":1},{"$f":"Parameters!BB252","v":1},{"$f":"Parameters!BC252","v":1},{"$f":"Parameters!BD252","v":1},{"$f":"Parameters!BE252","v":1},{"$f":"Parameters!BF252","v":1},{"$f":"Parameters!BG252","v":1},{"$f":"Parameters!BH252","v":1},{"$f":"Parameters!BI252","v":1},{"$f":"Parameters!BJ252","v":1},{"$f":"Parameters!BK252","v":1},{"$f":"Parameters!BL252","v":1},{"$f":"Parameters!BM252","v":1},{"$f":"Parameters!BN252","v":1}]
[{"$f":"SETS!B194","v":"TEC191"},{"$f":"Parameters!K253","v":1},{"$f":"Parameters!L253","v":1},{"$f":"Parameters!M253","v":1},{"$f":"Parameters!N253","v":1},{"$f":"Parameters!O253","v":1},{"$f":"Parameters!P253","v":1},{"$f":"Parameters!Q253","v":1},{"$f":"Parameters!R253","v":1},{"$f":"Parameters!S253","v":1},{"$f":"Parameters!T253","v":1},{"$f":"Parameters!U253","v":1},{"$f":"Parameters!V253","v":1},{"$f":"Parameters!W253","v":1},{"$f":"Parameters!X253","v":1},{"$f":"Parameters!Y253","v":1},{"$f":"Parameters!Z253","v":1},{"$f":"Parameters!AA253","v":1},{"$f":"Parameters!AB253","v":1},{"$f":"Parameters!AC253","v":1},{"$f":"Parameters!AD253","v":1},{"$f":"Parameters!AE253","v":1},{"$f":"Parameters!AF253","v":1},{"$f":"Parameters!AG253","v":1},{"$f":"Parameters!AH253","v":1},{"$f":"Parameters!AI253","v":1},{"$f":"Parameters!AJ253","v":1},{"$f":"Parameters!AK253","v":1},{"$f":"Parameters!AL253","v":1},{"$f":"Parameters!AM253","v":1},{"$f":"Parameters!AN253","v":1},{"$f":"Parameters!AO253","v":1},{"$f":"Parameters!AP253","v":1},{"$f":"Parameters!AQ253","v":1},{"$f":"Parameters!AR253","v":1},{"$f":"Parameters!AS253","v":1},{"$f":"Parameters!AT253","v":1},{"$f":"Parameters!AU253","v":1},{"$f":"Parameters!AV253","v":1},{"$f":"Parameters!AW253","v":1},{"$f":"Parameters!AX253","v":1},{"$f":"Parameters!AY253","v":1},{"$f":"Parameters!AZ253","v":1},{"$f":"Parameters!BA253","v":1},{"$f":"Parameters!BB253","v":1},{"$f":"Parameters!BC253","v":1},{"$f":"Parameters!BD253","v":1},{"$f":"Parameters!BE253","v":1},{"$f":"Parameters!BF253","v":1},{"$f":"Parameters!BG253","v":1},{"$f":"Parameters!BH253","v":1},{"$f":"Parameters!BI253","v":1},{"$f":"Parameters!BJ253","v":1},{"$f":"Parameters!BK253","v":1},{"$f":"Parameters!BL253","v":1},{"$f":"Parameters!BM253","v":1},{"$f":"Parameters!BN253","v":1}]
[{"$f":"SETS!B195","v":"TEC192"},{"$f":"Parameters!K254","v":1},{"$f":"Parameters!L254","v":1},{"$f":"Parameters!M254","v":1},{"$f":"Parameters!N254","v":1},{"$f":"Parameters!O254","v":1},{"$f":"Parameters!P254","v":1},{"$f":"Parameters!Q254","v":1},{"$f":"Parameters!R254","v":1},{"$f":"Parameters!S254","v":1},{"$f":"Parameters!T254","v":1},{"$f":"Parameters!U254","v":1},{"$f":"Parameters!V254","v":1},{"$f":"Parameters!W254","v":1},{"$f":"Parameters!X254","v":1},{"$f":"Parameters!Y254","v":1},{"$f":"Parameters!Z254","v":1},{"$f":"Parameters!AA254","v":1},{"$f":"Parameters!AB254","v":1},{"$f":"Parameters!AC254","v":1},{"$f":"Parameters!AD254","v":1},{"$f":"Parameters!AE254","v":1},{"$f":"Parameters!AF254","v":1},{"$f":"Parameters!AG254","v":1},{"$f":"Parameters!AH254","v":1},{"$f":"Parameters!AI254","v":1},{"$f":"Parameters!AJ254","v":1},{"$f":"Parameters!AK254","v":1},{"$f":"Parameters!AL254","v":1},{"$f":"Parameters!AM254","v":1},{"$f":"Parameters!AN254","v":1},{"$f":"Parameters!AO254","v":1},{"$f":"Parameters!AP254","v":1},{"$f":"Parameters!AQ254","v":1},{"$f":"Parameters!AR254","v":1},{"$f":"Parameters!AS254","v":1},{"$f":"Parameters!AT254","v":1},{"$f":"Parameters!AU254","v":1},{"$f":"Parameters!AV254","v":1},{"$f":"Parameters!AW254","v":1},{"$f":"Parameters!AX254","v":1},{"$f":"Parameters!AY254","v":1},{"$f":"Parameters!AZ254","v":1},{"$f":"Parameters!BA254","v":1},{"$f":"Parameters!BB254","v":1},{"$f":"Parameters!BC254","v":1},{"$f":"Parameters!BD254","v":1},{"$f":"Parameters!BE254","v":1},{"$f":"Parameters!BF254","v":1},{"$f":"Parameters!BG254","v":1},{"$f":"Parameters!BH254","v":1},{"$f":"Parameters!BI254","v":1},{"$f":"Parameters!BJ254","v":1},{"$f":"Parameters!BK254","v":1},{"$f":"Parameters!BL254","v":1},{"$f":"Parameters!BM254","v":1},{"$f":"Parameters!BN254","v":1}]
[{"$f":"SETS!B196","v":"TEC193"},{"$f":"Parameters!K255","v":1},{"$f":"Parameters!L255","v":1},{"$f":"Parameters!M255","v":1},{"$f":"Parameters!N255","v":1},{"$f":"Parameters!O255","v":1},{"$f":"Parameters!P255","v":1},{"$f":"Parameters!Q255","v":1},{"$f":"Parameters!R255","v":1},{"$f":"Parameters!S255","v":1},{"$f":"Parameters!T255","v":1},{"$f":"Parameters!U255","v":1},{"$f":"Parameters!V255","v":1},{"$f":"Parameters!W255","v":1},{"$f":"Parameters!X255","v":1},{"$f":"Parameters!Y255","v":1},{"$f":"Parameters!Z255","v":1},{"$f":"Parameters!AA255","v":1},{"$f":"Parameters!AB255","v":1},{"$f":"Parameters!AC255","v":1},{"$f":"Parameters!AD255","v":1},{"$f":"Parameters!AE255","v":1},{"$f":"Parameters!AF255","v":1},{"$f":"Parameters!AG255","v":1},{"$f":"Parameters!AH255","v":1},{"$f":"Parameters!AI255","v":1},{"$f":"Parameters!AJ255","v":1},{"$f":"Parameters!AK255","v":1},{"$f":"Parameters!AL255","v":1},{"$f":"Parameters!AM255","v":1},{"$f":"Parameters!AN255","v":1},{"$f":"Parameters!AO255","v":1},{"$f":"Parameters!AP255","v":1},{"$f":"Parameters!AQ255","v":1},{"$f":"Parameters!AR255","v":1},{"$f":"Parameters!AS255","v":1},{"$f":"Parameters!AT255","v":1},{"$f":"Parameters!AU255","v":1},{"$f":"Parameters!AV255","v":1},{"$f":"Parameters!AW255","v":1},{"$f":"Parameters!AX255","v":1},{"$f":"Parameters!AY255","v":1},{"$f":"Parameters!AZ255","v":1},{"$f":"Parameters!BA255","v":1},{"$f":"Parameters!BB255","v":1},{"$f":"Parameters!BC255","v":1},{"$f":"Parameters!BD255","v":1},{"$f":"Parameters!BE255","v":1},{"$f":"Parameters!BF255","v":1},{"$f":"Parameters!BG255","v":1},{"$f":"Parameters!BH255","v":1},{"$f":"Parameters!BI255","v":1},{"$f":"Parameters!BJ255","v":1},{"$f":"Parameters!BK255","v":1},{"$f":"Parameters!BL255","v":1},{"$f":"Parameters!BM255","v":1},{"$f":"Parameters!BN255","v":1}]
[{"$f":"SETS!B197","v":"TEC194"},{"$f":"Parameters!K256","v":1},{"$f":"Parameters!L256","v":1},{"$f":"Parameters!M256","v":1},{"$f":"Parameters!N256","v":1},{"$f":"Parameters!O256","v":1},{"$f":"Parameters!P256","v":1},{"$f":"Parameters!Q256","v":1},{"$f":"Parameters!R256","v":1},{"$f":"Parameters!S256","v":1},{"$f":"Parameters!T256","v":1},{"$f":"Parameters!U256","v":1},{"$f":"Parameters!V256","v":1},{"$f":"Parameters!W256","v":1},{"$f":"Parameters!X256","v":1},{"$f":"Parameters!Y256","v":1},{"$f":"Parameters!Z256","v":1},{"$f":"Parameters!AA256","v":1},{"$f":"Parameters!AB256","v":1},{"$f":"Parameters!AC256","v":1},{"$f":"Parameters!AD256","v":1},{"$f":"Parameters!AE256","v":1},{"$f":"Parameters!AF256","v":1},{"$f":"Parameters!AG256","v":1},{"$f":"Parameters!AH256","v":1},{"$f":"Parameters!AI256","v":1},{"$f":"Parameters!AJ256","v":1},{"$f":"Parameters!AK256","v":1},{"$f":"Parameters!AL256","v":1},{"$f":"Parameters!AM256","v":1},{"$f":"Parameters!AN256","v":1},{"$f":"Parameters!AO256","v":1},{"$f":"Parameters!AP256","v":1},{"$f":"Parameters!AQ256","v":1},{"$f":"Parameters!AR256","v":1},{"$f":"Parameters!AS256","v":1},{"$f":"Parameters!AT256","v":1},{"$f":"Parameters!AU256","v":1},{"$f":"Parameters!AV256","v":1},{"$f":"Parameters!AW256","v":1},{"$f":"Parameters!AX256","v":1},{"$f":"Parameters!AY256","v":1},{"$f":"Parameters!AZ256","v":1},{"$f":"Parameters!BA256","v":1},{"$f":"Parameters!BB256","v":1},{"$f":"Parameters!BC256","v":1},{"$f":"Parameters!BD256","v":1},{"$f":"Parameters!BE256","v":1},{"$f":"Parameters!BF256","v":1},{"$f":"Parameters!BG256","v":1},{"$f":"Parameters!BH256","v":1},{"$f":"Parameters!BI256","v":1},{"$f":"Parameters!BJ256","v":1},{"$f":"Parameters!BK256","v":1},{"$f":"Parameters!BL256","v":1},{"$f":"Parameters!BM256","v":1},{"$f":"Parameters!BN256","v":1}]
[{"$f":"SETS!B198","v":"TEC195"},{"$f":"Parameters!K257","v":1},{"$f":"Parameters!L257","v":1},{"$f":"Parameters!M257","v":1},{"$f":"Parameters!N257","v":1},{"$f":"Parameters!O257","v":1},{"$f":"Parameters!P257","v":1},{"$f":"Parameters!Q257","v":1},{"$f":"Parameters!R257","v":1},{"$f":"Parameters!S257","v":1},{"$f":"Parameters!T257","v":1},{"$f":"Parameters!U257","v":1},{"$f":"Parameters!V257","v":1},{"$f":"Parameters!W257","v":1},{"$f":"Parameters!X257","v":1},{"$f":"Parameters!Y257","v":1},{"$f":"Parameters!Z257","v":1},{"$f":"Parameters!AA257","v":1},{"$f":"Parameters!AB257","v":1},{"$f":"Parameters!AC257","v":1},{"$f":"Parameters!AD257","v":1},{"$f":"Parameters!AE257","v":1},{"$f":"Parameters!AF257","v":1},{"$f":"Parameters!AG257","v":1},{"$f":"Parameters!AH257","v":1},{"$f":"Parameters!AI257","v":1},{"$f":"Parameters!AJ257","v":1},{"$f":"Parameters!AK257","v":1},{"$f":"Parameters!AL257","v":1},{"$f":"Parameters!AM257","v":1},{"$f":"Parameters!AN257","v":1},{"$f":"Parameters!AO257","v":1},{"$f":"Parameters!AP257","v":1},{"$f":"Parameters!AQ257","v":1},{"$f":"Parameters!AR257","v":1},{"$f":"Parameters!AS257","v":1},{"$f":"Parameters!AT257","v":1},{"$f":"Parameters!AU257","v":1},{"$f":"Parameters!AV257","v":1},{"$f":"Parameters!AW257","v":1},{"$f":"Parameters!AX257","v":1},{"$f":"Parameters!AY257","v":1},{"$f":"Parameters!AZ257","v":1},{"$f":"Parameters!BA257","v":1},{"$f":"Parameters!BB257","v":1},{"$f":"Parameters!BC257","v":1},{"$f":"Parameters!BD257","v":1},{"$f":"Parameters!BE257","v":1},{"$f":"Parameters!BF257","v":1},{"$f":"Parameters!BG257","v":1},{"$f":"Parameters!BH257","v":1},{"$f":"Parameters!BI257","v":1},{"$f":"Parameters!BJ257","v":1},{"$f":"Parameters!BK257","v":1},{"$f":"Parameters!BL257","v":1},{"$f":"Parameters!BM257","v":1},{"$f":"Parameters!BN257","v":1}]
[{"$f":"SETS!B199","v":"TEC196"},{"$f":"Parameters!K258","v":1},{"$f":"Parameters!L258","v":1},{"$f":"Parameters!M258","v":1},{"$f":"Parameters!N258","v":1},{"$f":"Parameters!O258","v":1},{"$f":"Parameters!P258","v":1},{"$f":"Parameters!Q258","v":1},{"$f":"Parameters!R258","v":1},{"$f":"Parameters!S258","v":1},{"$f":"Parameters!T258","v":1},{"$f":"Parameters!U258","v":1},{"$f":"Parameters!V258","v":1},{"$f":"Parameters!W258","v":1},{"$f":"Parameters!X258","v":1},{"$f":"Parameters!Y258","v":1},{"$f":"Parameters!Z258","v":1},{"$f":"Parameters!AA258","v":1},{"$f":"Parameters!AB258","v":1},{"$f":"Parameters!AC258","v":1},{"$f":"Parameters!AD258","v":1},{"$f":"Parameters!AE258","v":1},{"$f":"Parameters!AF258","v":1},{"$f":"Parameters!AG258","v":1},{"$f":"Parameters!AH258","v":1},{"$f":"Parameters!AI258","v":1},{"$f":"Parameters!AJ258","v":1},{"$f":"Parameters!AK258","v":1},{"$f":"Parameters!AL258","v":1},{"$f":"Parameters!AM258","v":1},{"$f":"Parameters!AN258","v":1},{"$f":"Parameters!AO258","v":1},{"$f":"Parameters!AP258","v":1},{"$f":"Parameters!AQ258","v":1},{"$f":"Parameters!AR258","v":1},{"$f":"Parameters!AS258","v":1},{"$f":"Parameters!AT258","v":1},{"$f":"Parameters!AU258","v":1},{"$f":"Parameters!AV258","v":1},{"$f":"Parameters!AW258","v":1},{"$f":"Parameters!AX258","v":1},{"$f":"Parameters!AY258","v":1},{"$f":"Parameters!AZ258","v":1},{"$f":"Parameters!BA258","v":1},{"$f":"Parameters!BB258","v":1},{"$f":"Parameters!BC258","v":1},{"$f":"Parameters!BD258","v":1},{"$f":"Parameters!BE258","v":1},{"$f":"Parameters!BF258","v":1},{"$f":"Parameters!BG258","v":1},{"$f":"Parameters!BH258","v":1},{"$f":"Parameters!BI258","v":1},{"$f":"Parameters!BJ258","v":1},{"$f":"Parameters!BK258","v":1},{"$f":"Parameters!BL258","v":1},{"$f":"Parameters!BM258","v":1},{"$f":"Parameters!BN258","v":1}]
[{"$f":"SETS!B200","v":"TEC197"},{"$f":"Parameters!K259","v":1},{"$f":"Parameters!L259","v":1},{"$f":"Parameters!M259","v":1},{"$f":"Parameters!N259","v":1},{"$f":"Parameters!O259","v":1},{"$f":"Parameters!P259","v":1},{"$f":"Parameters!Q259","v":1},{"$f":"Parameters!R259","v":1},{"$f":"Parameters!S259","v":1},{"$f":"Parameters!T259","v":1},{"$f":"Parameters!U259","v":1},{"$f":"Parameters!V259","v":1},{"$f":"Parameters!W259","v":1},{"$f":"Parameters!X259","v":1},{"$f":"Parameters!Y259","v":1},{"$f":"Parameters!Z259","v":1},{"$f":"Parameters!AA259","v":1},{"$f":"Parameters!AB259","v":1},{"$f":"Parameters!AC259","v":1},{"$f":"Parameters!AD259","v":1},{"$f":"Parameters!AE259","v":1},{"$f":"Parameters!AF259","v":1},{"$f":"Parameters!AG259","v":1},{"$f":"Parameters!AH259","v":1},{"$f":"Parameters!AI259","v":1},{"$f":"Parameters!AJ259","v":1},{"$f":"Parameters!AK259","v":1},{"$f":"Parameters!AL259","v":1},{"$f":"Parameters!AM259","v":1},{"$f":"Parameters!AN259","v":1},{"$f":"Parameters!AO259","v":1},{"$f":"Parameters!AP259","v":1},{"$f":"Parameters!AQ259","v":1},{"$f":"Parameters!AR259","v":1},{"$f":"Parameters!AS259","v":1},{"$f":"Parameters!AT259","v":1},{"$f":"Parameters!AU259","v":1},{"$f":"Parameters!AV259","v":1},{"$f":"Parameters!AW259","v":1},{"$f":"Parameters!AX259","v":1},{"$f":"Parameters!AY259","v":1},{"$f":"Parameters!AZ259","v":1},{"$f":"Parameters!BA259","v":1},{"$f":"Parameters!BB259","v":1},{"$f":"Parameters!BC259","v":1},{"$f":"Parameters!BD259","v":1},{"$f":"Parameters!BE259","v":1},{"$f":"Parameters!BF259","v":1},{"$f":"Parameters!BG259","v":1},{"$f":"Parameters!BH259","v":1},{"$f":"Parameters!BI259","v":1},{"$f":"Parameters!BJ259","v":1},{"$f":"Parameters!BK259","v":1},{"$f":"Parameters!BL259","v":1},{"$f":"Parameters!BM259","v":1},{"$f":"Parameters!BN259","v":1}]
[{"$f":"SETS!B201","v":"TEC198"},{"$f":"Parameters!K260","v":1},{"$f":"Parameters!L260","v":1},{"$f":"Parameters!M260","v":1},{"$f":"Parameters!N260","v":1},{"$f":"Parameters!O260","v":1},{"$f":"Parameters!P260","v":1},{"$f":"Parameters!Q260","v":1},{"$f":"Parameters!R260","v":1},{"$f":"Parameters!S260","v":1},{"$f":"Parameters!T260","v":1},{"$f":"Parameters!U260","v":1},{"$f":"Parameters!V260","v":1},{"$f":"Parameters!W260","v":1},{"$f":"Parameters!X260","v":1},{"$f":"Parameters!Y260","v":1},{"$f":"Parameters!Z260","v":1},{"$f":"Parameters!AA260","v":1},{"$f":"Parameters!AB260","v":1},{"$f":"Parameters!AC260","v":1},{"$f":"Parameters!AD260","v":1},{"$f":"Parameters!AE260","v":1},{"$f":"Parameters!AF260","v":1},{"$f":"Parameters!AG260","v":1},{"$f":"Parameters!AH260","v":1},{"$f":"Parameters!AI260","v":1},{"$f":"Parameters!AJ260","v":1},{"$f":"Parameters!AK260","v":1},{"$f":"Parameters!AL260","v":1},{"$f":"Parameters!AM260","v":1},{"$f":"Parameters!AN260","v":1},{"$f":"Parameters!AO260","v":1},{"$f":"Parameters!AP260","v":1},{"$f":"Parameters!AQ260","v":1},{"$f":"Parameters!AR260","v":1},{"$f":"Parameters!AS260","v":1},{"$f":"Parameters!AT260","v":1},{"$f":"Parameters!AU260","v":1},{"$f":"Parameters!AV260","v":1},{"$f":"Parameters!AW260","v":1},{"$f":"Parameters!AX260","v":1},{"$f":"Parameters!AY260","v":1},{"$f":"Parameters!AZ260","v":1},{"$f":"Parameters!BA260","v":1},{"$f":"Parameters!BB260","v":1},{"$f":"Parameters!BC260","v":1},{"$f":"Parameters!BD260","v":1},{"$f":"Parameters!BE260","v":1},{"$f":"Parameters!BF260","v":1},{"$f":"Parameters!BG260","v":1},{"$f":"Parameters!BH260","v":1},{"$f":"Parameters!BI260","v":1},{"$f":"Parameters!BJ260","v":1},{"$f":"Parameters!BK260","v":1},{"$f":"Parameters!BL260","v":1},{"$f":"Parameters!BM260","v":1},{"$f":"Parameters!BN260","v":1}]
[";"]
[]
["param","CapacityFactor","default",1,":="]
[{"$f":"CONCATENATE(\"[\",SETS!H9,,\",\",SETS!B3,,\",\",\"*\",,\",\",\"*\",\"]:\")","v":"[RE1,IMPOIL,*,*]:"}]
[2015,2016,2017,2018,2019,2020,2021,2022,2023,2024,2025,2026,2027,2028,2029,2030,2031,2032,2033,2034,2035,2036,2037,2038,2039,2040,2041,2042,2043,2044,2045,2046,2047,2048,2049,2050,2051,2052,2053,2054,2055,2056,2057,2058,2059,2060,2061,2062,2063,2064,2065,2066,2067,2068,2069,"2070:="]
["S101",{"$f":"Parameters!K261","v":1},{"$f":"Parameters!L261","v":1},{"$f":"Parameters!M261","v":1},{"$f":"Parameters!N261","v":1},{"$f":"Parameters!O261","v":1},{"$f":"Parameters!P261","v":1},{"$f":"Parameters!Q261","v":1},{"$f":"Parameters!R261","v":1},{"$f":"Parameters!S261","v":1},{"$f":"Parameters!T261","v":1},{"$f":"Parameters!U261","v":1},{"$f":"Parameters!V261","v":1},{"$f":"Parameters!W261","v":1},{"$f":"Parameters!X261","v":1},{"$f":"Parameters!Y261","v":1},{"$f":"Parameters!Z261","v":1},{"$f":"Parameters!AA261","v":1},{"$f":"Parameters!AB261","v":1},{"$f":"Parameters!AC261","v":1},{"$f":"Parameters!AD261","v":1},{"$f":"Parameters!AE261","v":1},{"$f":"Parameters!AF261","v":1},{"$f":"Parameters!AG261","v":1},{"$f":"Parameters!AH261","v":1},{"$f":"Parameters!AI261","v":1},{"$f":"Parameters!AJ261","v":1},{"$f":"Parameters!AK261","v":1},{"$f":"Parameters!AL261","v":1},{"$f":"Parameters!AM261","v":1},{"$f":"Parameters!AN261","v":1},{"$f":"Parameters!AO261","v":1},{"$f":"Parameters!AP261","v":1},{"$f":"Parameters!AQ261","v":1},{"$f":"Parameters!AR261","v":1},{"$f":"Parameters!AS261","v":1},{"$f":"Parameters!AT261","v":1},{"$f":"Parameters!AU261","v":1},{"$f":"Parameters!AV261","v":1},{"$f":"Parameters!AW261","v":1},{"$f":"Parameters!AX261","v":1},{"$f":"Parameters!AY261","v":1},{"$f":"Parameters!AZ261","v":1},{"$f":"Parameters!BA261","v":1},{"$f":"Parameters!BB261","v":1},{"$f":"Parameters!BC261","v":1},{"$f":"Parameters!BD261","v":1},{"$f":"Parameters!BE261","v":1},{"$f":"Parameters!BF261","v":1},{"$f":"Parameters!BG261","v":1},{"$f":"Parameters!BH261","v":1},{"$f":"Parameters!BI261","v":1},{"$f":"Parameters!BJ261","v":1},{"$f":"Parameters!BK261","v":1},{"$f":"Parameters!BL261","v":1},{"$f":"Parameters!BM261","v":1},{"$f":"Parameters!BN261","v":1}]
["S102",{"$f":"Parameters!K262","v":1},{"$f":"Parameters!L262","v":1},{"$f":"Parameters!M262","v":1},{"$f":"Parameters!N262","v":1},{"$f":"Parameters!O262","v":1},{"$f":"Parameters!P262","v":1},{"$f":"Parameters!Q262","v":1},{"$f":"Parameters!R262","v":1},{"$f":"Parameters!S262","v":1},{"$f":"Parameters!T262","v":1},{"$f":"Parameters!U262","v":1},{"$f":"Parameters!V262","v":1},{"$f":"Parameters!W262","v":1},{"$f":"Parameters!X262","v":1},{"$f":"Parameters!Y262","v":1},{"$f":"Parameters!Z262","v":1},{"$f":"Parameters!AA262","v":1},{"$f":"Parameters!AB262","v":1},{"$f":"Parameters!AC262","v":1},{"$f":"Parameters!AD262","v":1},{"$f":"Parameters!AE262","v":1},{"$f":"Parameters!AF262","v":1},{"$f":"Parameters!AG262","v":1},{"$f":"Parameters!AH262","v":1},{"$f":"Parameters!AI262","v":1},{"$f":"Parameters!AJ262","v":1},{"$f":"Parameters!AK262","v":1},{"$f":"Parameters!AL262","v":1},{"$f":"Parameters!AM262","v":1},{"$f":"Parameters!AN262","v":1},{"$f":"Parameters!AO262","v":1},{"$f":"Parameters!AP262","v":1},{"$f":"Parameters!AQ262","v":1},{"$f":"Parameters!AR262","v":1},{"$f":"Parameters!AS262","v":1},{"$f":"Parameters!AT262","v":1},{"$f":"Parameters!AU262","v":1},{"$f":"Parameters!AV262","v":1},{"$f":"Parameters!AW262","v":1},{"$f":"Parameters!AX262","v":1},{"$f":"Parameters!AY262","v":1},{"$f":"Parameters!AZ262","v":1},{"$f":"Parameters!BA262","v":1},{"$f":"Parameters!BB262","v":1},{"$f":"Parameters!BC262","v":1},{"$f":"Parameters!BD262","v":1},{"$f":"Parameters!BE262","v":1},{"$f":"Parameters!BF262","v":1},{"$f":"Parameters!BG262","v":1},{"$f":"Parameters!BH262","v":1},{"$f":"Parameters!BI262","v":1},{"$f":"Parameters!BJ262","v":1},{"$f":"Parameters!BK262","v":1},{"$f":"Parameters!BL262","v":1},{"$f":"Parameters!BM262","v":1},{"$f":"Parameters!BN262","v":1}]
["S103",{"$f":"Parameters!K263","v":1},{"$f":"Parameters!L263","v":1},{"$f":"Parameters!M263","v":1},{"$f":"Parameters!N263","v":1},{"$f":"Parameters!O263","v":1},{"$f":"Parameters!P263","v":1},{"$f":"Parameters!Q263","v":1},{"$f":"Parameters!R263","v":1},{"$f":"Parameters!S263","v":1},{"$f":"Parameters!T263","v":1},{"$f":"Parameters!U263","v":1},{"$f":"Parameters!V263","v":1},{"$f":"Parameters!W263","v":1},{"$f":"Parameters!X263","v":1},{"$f":"Parameters!Y263","v":1},{"$f":"Parameters!Z263","v":1},{"$f":"Parameters!AA263","v":1},{"$f":"Parameters!AB263","v":1},{"$f":"Parameters!AC263","v":1},{"$f":"Parameters!AD263","v":1},{"$f":"Parameters!AE263","v":1},{"$f":"Parameters!AF263","v":1},{"$f":"Parameters!AG263","v":1},{"$f":"Parameters!AH263","v":1},{"$f":"Parameters!AI263","v":1},{"$f":"Parameters!AJ263","v":1},{"$f":"Parameters!AK263","v":1},{"$f":"Parameters!AL263","v":1},{"$f":"Parameters!AM263","v":1},{"$f":"Parameters!AN263","v":1},{"$f":"Parameters!AO263","v":1},{"$f":"Parameters!AP263","v":1},{"$f":"Parameters!AQ263","v":1},{"$f":"Parameters!AR263","v":1},{"$f":"Parameters!AS263","v":1},{"$f":"Parameters!AT263","v":1},{"$f":"Parameters!AU263","v":1},{"$f":"Parameters!AV263","v":1},{"$f":"Parameters!AW263","v":1},{"$f":"Parameters!AX263","v":1},{"$f":"Parameters!AY263","v":1},{"$f":"Parameters!AZ263","v":1},{"$f":"Parameters!BA263","v":1},{"$f":"Parameters!BB263","v":1},{"$f":"Parameters!BC263","v":1},{"$f":"Parameters!BD263","v":1},{"$f":"Parameters!BE263","v":1},{"$f":"Parameters!BF263","v":1},{"$f":"Parameters!BG263","v":1},{"$f":"Parameters!BH263","v":1},{"$f":"Parameters!BI263","v":1},{"$f":"Parameters!BJ263","v":1},{"$f":"Parameters!BK263","v":1},{"$f":"Parameters!BL263","v":1},{"$f":"Parameters!BM263","v":1},{"$f":"Parameters!BN263","v":1}]
["S104",{"$f":"Parameters!K264","v":1},{"$f":"Parameters!L264","v":1},{"$f":"Parameters!M264","v":1},{"$f":"Parameters!N264","v":1},{"$f":"Parameters!O264","v":1},{"$f":"Parameters!P264","v":1},{"$f":"Parameters!Q264","v":1},{"$f":"Parameters!R264","v":1},{"$f":"Parameters!S264","v":1},{"$f":"Parameters!T264","v":1},{"$f":"Parameters!U264","v":1},{"$f":"Parameters!V264","v":1},{"$f":"Parameters!W264","v":1},{"$f":"Parameters!X264","v":1},{"$f":"Parameters!Y264","v":1},{"$f":"Parameters!Z264","v":1},{"$f":"Parameters!AA264","v":1},{"$f":"Parameters!AB264","v":1},{"$f":"Parameters!AC264","v":1},{"$f":"Parameters!AD264","v":1},{"$f":"Parameters!AE264","v":1},{"$f":"Parameters!AF264","v":1},{"$f":"Parameters!AG264","v":1},{"$f":"Parameters!AH264","v":1},{"$f":"Parameters!AI264","v":1},{"$f":"Parameters!AJ264","v":1},{"$f":"Parameters!AK264","v":1},{"$f":"Parameters!AL264","v":1},{"$f":"Parameters!AM264","v":1},{"$f":"Parameters!AN264","v":1},{"$f":"Parameters!AO264","v":1},{"$f":"Parameters!AP264","v":1},{"$f":"Parameters!AQ264","v":1},{"$f":"Parameters!AR264","v":1},{"$f":"Parameters!AS264","v":1},{"$f":"Parameters!AT264","v":1},{"$f":"Parameters!AU264","v":1},{"$f":"Parameters!AV264","v":1},{"$f":"Parameters!AW264","v":1},{"$f":"Parameters!AX264","v":1},{"$f":"Parameters!AY264","v":1},{"$f":"Parameters!AZ264","v":1},{"$f":"Parameters!BA264","v":1},{"$f":"Parameters!BB264","v":1},{"$f":"Parameters!BC264","v":1},{"$f":"Parameters!BD264","v":1},{"$f":"Parameters!BE264","v":1},{"$f":"Parameters!BF264","v":1},{"$f":"Parameters!BG264","v":1},{"$f":"Parameters!BH264","v":1},{"$f":"Parameters!BI264","v":1},{"$f":"Parameters!BJ264","v":1},{"$f":"Parameters!BK264","v":1},{"$f":"Parameters!BL264","v":1},{"$f":"Parameters!BM264","v":1},{"$f":"Parameters!BN264","v":1}]
["S105",{"$f":"Parameters!K265","v":1},{"$f":"Parameters!L265","v":1},{"$f":"Parameters!M265","v":1},{"$f":"Parameters!N265","v":1},{"$f":"Parameters!O265","v":1},{"$f":"Parameters!P265","v":1},{"$f":"Parameters!Q265","v":1},{"$f":"Parameters!R265","v":1},{"$f":"Parameters!S265","v":1},{"$f":"Parameters!T265","v":1},{"$f":"Parameters!U265","v":1},{"$f":"Parameters!V265","v":1},{"$f":"Parameters!W265","v":1},{"$f":"Parameters!X265","v":1},{"$f":"Parameters!Y265","v":1},{"$f":"Parameters!Z265","v":1},{"$f":"Parameters!AA265","v":1},{"$f":"Parameters!AB265","v":1},{"$f":"Parameters!AC265","v":1},{"$f":"Parameters!AD265","v":1},{"$f":"Parameters!AE265","v":1},{"$f":"Parameters!AF265","v":1},{"$f":"Parameters!AG265","v":1},{"$f":"Parameters!AH265","v":1},{"$f":"Parameters!AI265","v":1},{"$f":"Parameters!AJ265","v":1},{"$f":"Parameters!AK265","v":1},{"$f":"Parameters!AL265","v":1},{"$f":"Parameters!AM265","v":1},{"$f":"Parameters!AN265","v":1},{"$f":"Parameters!AO265","v":1},{"$f":"Parameters!AP265","v":1},{"$f":"Parameters!AQ265","v":1},{"$f":"Parameters!AR265","v":1},{"$f":"Parameters!AS265","v":1},{"$f":"Parameters!AT265","v":1},{"$f":"Parameters!AU265","v":1},{"$f":"Parameters!AV265","v":1},{"$f":"Parameters!AW265","v":1},{"$f":"Parameters!AX265","v":1},{"$f":"Parameters!AY265","v":1},{"$f":"Parameters!AZ265","v":1},{"$f":"Parameters!BA265","v":1},{"$f":"Parameters!BB265","v":1},{"$f":"Parameters!BC265","v":1},{"$f":"Parameters!BD265","v":1},{"$f":"Parameters!BE265","v":1},{"$f":"Parameters!BF265","v":1},{"$f":"Parameters!BG265","v":1},{"$f":"Parameters!BH265","v":1},{"$f":"Parameters!BI265","v":1},{"$f":"Parameters!BJ265","v":1},{"$f":"Parameters!BK265","v":1},{"$f":"Parameters!BL265","v":1},{"$f":"Parameters!BM265","v":1},{"$f":"Parameters!BN265","v":1}]
["S106",{"$f":"Parameters!K266","v":1},{"$f":"Parameters!L266","v":1},{"$f":"Parameters!M266","v":1},{"$f":"Parameters!N266","v":1},{"$f":"Parameters!O266","v":1},{"$f":"Parameters!P266","v":1},{"$f":"Parameters!Q266","v":1},{"$f":"Parameters!R266","v":1},{"$f":"Parameters!S266","v":1},{"$f":"Parameters!T266","v":1},{"$f":"Parameters!U266","v":1},{"$f":"Parameters!V266","v":1},{"$f":"Parameters!W266","v":1},{"$f":"Parameters!X266","v":1},{"$f":"Parameters!Y266","v":1},{"$f":"Parameters!Z266","v":1},{"$f":"Parameters!AA266","v":1},{"$f":"Parameters!AB266","v":1},{"$f":"Parameters!AC266","v":1},{"$f":"Parameters!AD266","v":1},{"$f":"Parameters!AE266","v":1},{"$f":"Parameters!AF266","v":1},{"$f":"Parameters!AG266","v":1},{"$f":"Parameters!AH266","v":1},{"$f":"Parameters!AI266","v":1},{"$f":"Parameters!AJ266","v":1},{"$f":"Parameters!AK266","v":1},{"$f":"Parameters!AL266","v":1},{"$f":"Parameters!AM266","v":1},{"$f":"Parameters!AN266","v":1},{"$f":"Parameters!AO266","v":1},{"$f":"Parameters!AP266","v":1},{"$f":"Parameters!AQ266","v":1},{"$f":"Parameters!AR266","v":1},{"$f":"Parameters!AS266","v":1},{"$f":"Parameters!AT266","v":1},{"$f":"Parameters!AU266","v":1},{"$f":"Parameters!AV266","v":1},{"$f":"Parameters!AW266","v":1},{"$f":"Parameters!AX266","v":1},{"$f":"Parameters!AY266","v":1},{"$f":"Parameters!AZ266","v":1},{"$f":"Parameters!BA266","v":1},{"$f":"Parameters!BB266","v":1},{"$f":"Parameters!BC266","v":1},{"$f":"Parameters!BD266","v":1},{"$f":"Parameters!BE266","v":1},{"$f":"Parameters!BF266","v":1},{"$f":"Parameters!BG266","v":1},{"$f":"Parameters!BH266","v":1},{"$f":"Parameters!BI266","v":1},{"$f":"Parameters!BJ266","v":1},{"$f":"Parameters!BK266","v":1},{"$f":"Parameters!BL266","v":1},{"$f":"Parameters!BM266","v":1},{"$f":"Parameters!BN266","v":1}]
["S107",{"$f":"Parameters!K267","v":1},{"$f":"Parameters!L267","v":1},{"$f":"Parameters!M267","v":1},{"$f":"Parameters!N267","v":1},{"$f":"Parameters!O267","v":1},{"$f":"Parameters!P267","v":1},{"$f":"Parameters!Q267","v":1},{"$f":"Parameters!R267","v":1},{"$f":"Parameters!S267","v":1},{"$f":"Parameters!T267","v":1},{"$f":"Parameters!U267","v":1},{"$f":"Parameters!V267","v":1},{"$f":"Parameters!W267","v":1},{"$f":"Parameters!X267","v":1},{"$f":"Parameters!Y267","v":1},{"$f":"Parameters!Z267","v":1},{"$f":"Parameters!AA267","v":1},{"$f":"Parameters!AB267","v":1},{"$f":"Parameters!AC267","v":1},{"$f":"Parameters!AD267","v":1},{"$f":"Parameters!AE267","v":1},{"$f":"Parameters!AF267","v":1},{"$f":"Parameters!AG267","v":1},{"$f":"Parameters!AH267","v":1},{"$f":"Parameters!AI267","v":1},{"$f":"Parameters!AJ267","v":1},{"$f":"Parameters!AK267","v":1},{"$f":"Parameters!AL267","v":1},{"$f":"Parameters!AM267","v":1},{"$f":"Parameters!AN267","v":1},{"$f":"Parameters!AO267","v":1},{"$f":"Parameters!AP267","v":1},{"$f":"Parameters!AQ267","v":1},{"$f":"Parameters!AR267","v":1},{"$f":"Parameters!AS267","v":1},{"$f":"Parameters!AT267","v":1},{"$f":"Parameters!AU267","v":1},{"$f":"Parameters!AV267","v":1},{"$f":"Parameters!AW267","v":1},{"$f":"Parameters!AX267","v":1},{"$f":"Parameters!AY267","v":1},{"$f":"Parameters!AZ267","v":1},{"$f":"Parameters!BA267","v":1},{"$f":"Parameters!BB267","v":1},{"$f":"Parameters!BC267","v":1},{"$f":"Parameters!BD267","v":1},{"$f":"Parameters!BE267","v":1},{"$f":"Parameters!BF267","v":1},{"$f":"Parameters!BG267","v":1},{"$f":"Parameters!BH267","v":1},{"$f":"Parameters!BI267","v":1},{"$f":"Parameters!BJ267","v":1},{"$f":"Parameters!BK267","v":1},{"$f":"Parameters!BL267","v":1},{"$f":"Parameters!BM267","v":1},{"$f":"Parameters!BN267","v":1}]
["S108",{"$f":"Parameters!K268","v":1},{"$f":"Parameters!L268","v":1},{"$f":"Parameters!M268","v":1},{"$f":"Parameters!N268","v":1},{"$f":"Parameters!O268","v":1},{"$f":"Parameters!P268","v":1},{"$f":"Parameters!Q268","v":1},{"$f":"Parameters!R268","v":1},{"$f":"Parameters!S268","v":1},{"$f":"Parameters!T268","v":1},{"$f":"Parameters!U268","v":1},{"$f":"Parameters!V268","v":1},{"$f":"Parameters!W268","v":1},{"$f":"Parameters!X268","v":1},{"$f":"Parameters!Y268","v":1},{"$f":"Parameters!Z268","v":1},{"$f":"Parameters!AA268","v":1},{"$f":"Parameters!AB268","v":1},{"$f":"Parameters!AC268","v":1},{"$f":"Parameters!AD268","v":1},{"$f":"Parameters!AE268","v":1},{"$f":"Parameters!AF268","v":1},{"$f":"Parameters!AG268","v":1},{"$f":"Parameters!AH268","v":1},{"$f":"Parameters!AI268","v":1},{"$f":"Parameters!AJ268","v":1},{"$f":"Parameters!AK268","v":1},{"$f":"Parameters!AL268","v":1},{"$f":"Parameters!AM268","v":1},{"$f":"Parameters!AN268","v":1},{"$f":"Parameters!AO268","v":1},{"$f":"Parameters!AP268","v":1},{"$f":"Parameters!AQ268","v":1},{"$f":"Parameters!AR268","v":1},{"$f":"Parameters!AS268","v":1},{"$f":"Parameters!AT268","v":1},{"$f":"Parameters!AU268","v":1},{"$f":"Parameters!AV268","v":1},{"$f":"Parameters!AW268","v":1},{"$f":"Parameters!AX268","v":1},{"$f":"Parameters!AY268","v":1},{"$f":"Parameters!AZ268","v":1},{"$f":"Parameters!BA268","v":1},{"$f":"Parameters!BB268","v":1},{"$f":"Parameters!BC268","v":1},{"$f":"Parameters!BD268","v":1},{"$f":"Parameters!BE268","v":1},{"$f":"Parameters!BF268","v":1},{"$f":"Parameters!BG268","v":1},{"$f":"Parameters!BH268","v":1},{"$f":"Parameters!BI268","v":1},{"$f":"Parameters!BJ268","v":1},{"$f":"Parameters!BK268","v":1},{"$f":"Parameters!BL268","v":1},{"$f":"Parameters!BM268","v":1},{"$f":"Parameters!BN268","v":1}]
["S109",{"$f":"Parameters!K269","v":1},{"$f":"Parameters!L269","v":1},{"$f":"Parameters!M269","v":1},{"$f":"Parameters!N269","v":1},{"$f":"Parameters!O269","v":1},{"$f":"Parameters!P269","v":1},{"$f":"Parameters!Q269","v":1},{"$f":"Parameters!R269","v":1},{"$f":"Parameters!S269","v":1},{"$f":"Parameters!T269","v":1},{"$f":"Parameters!U269","v":1},{"$f":"Parameters!V269","v":1},{"$f":"Parameters!W269","v":1},{"$f":"Parameters!X269","v":1},{"$f":"Parameters!Y269","v":1},{"$f":"Parameters!Z269","v":1},{"$f":"Parameters!AA269","v":1},{"$f":"Parameters!AB269","v":1},{"$f":"Parameters!AC269","v":1},{"$f":"Parameters!AD269","v":1},{"$f":"Parameters!AE269","v":1},{"$f":"Parameters!AF269","v":1},{"$f":"Parameters!AG269","v":1},{"$f":"Parameters!AH269","v":1},{"$f":"Parameters!AI269","v":1},{"$f":"Parameters!AJ269","v":1},{"$f":"Parameters!AK269","v":1},{"$f":"Parameters!AL269","v":1},{"$f":"Parameters!AM269","v":1},{"$f":"Parameters!AN269","v":1},{"$f":"Parameters!AO269","v":1},{"$f":"Parameters!AP269","v":1},{"$f":"Parameters!AQ269","v":1},{"$f":"Parameters!AR269","v":1},{"$f":"Parameters!AS269","v":1},{"$f":"Parameters!AT269","v":1},{"$f":"Parameters!AU269","v":1},{"$f":"Parameters!AV269","v":1},{"$f":"Parameters!AW269","v":1},{"$f":"Parameters!AX269","v":1},{"$f":"Parameters!AY269","v":1},{"$f":"Parameters!AZ269","v":1},{"$f":"Parameters!BA269","v":1},{"$f":"Parameters!BB269","v":1},{"$f":"Parameters!BC269","v":1},{"$f":"Parameters!BD269","v":1},{"$f":"Parameters!BE269","v":1},{"$f":"Parameters!BF269","v":1},{"$f":"Parameters!BG269","v":1},{"$f":"Parameters!BH269","v":1},{"$f":"Parameters!BI269","v":1},{"$f":"Parameters!BJ269","v":1},{"$f":"Parameters!BK269","v":1},{"$f":"Parameters!BL269","v":1},{"$f":"Parameters!BM269","v":1},{"$f":"Parameters!BN269","v":1}]
["S110",{"$f":"Parameters!K270","v":1},{"$f":"Parameters!L270","v":1},{"$f":"Parameters!M270","v":1},{"$f":"Parameters!N270","v":1},{"$f":"Parameters!O270","v":1},{"$f":"Parameters!P270","v":1},{"$f":"Parameters!Q270","v":1},{"$f":"Parameters!R270","v":1},{"$f":"Parameters!S270","v":1},{"$f":"Parameters!T270","v":1},{"$f":"Parameters!U270","v":1},{"$f":"Parameters!V270","v":1},{"$f":"Parameters!W270","v":1},{"$f":"Parameters!X270","v":1},{"$f":"Parameters!Y270","v":1},{"$f":"Parameters!Z270","v":1},{"$f":"Parameters!AA270","v":1},{"$f":"Parameters!AB270","v":1},{"$f":"Parameters!AC270","v":1},{"$f":"Parameters!AD270","v":1},{"$f":"Parameters!AE270","v":1},{"$f":"Parameters!AF270","v":1},{"$f":"Parameters!AG270","v":1},{"$f":"Parameters!AH270","v":1},{"$f":"Parameters!AI270","v":1},{"$f":"Parameters!AJ270","v":1},{"$f":"Parameters!AK270","v":1},{"$f":"Parameters!AL270","v":1},{"$f":"Parameters!AM270","v":1},{"$f":"Parameters!AN270","v":1},{"$f":"Parameters!AO270","v":1},{"$f":"Parameters!AP270","v":1},{"$f":"Parameters!AQ270","v":1},{"$f":"Parameters!AR270","v":1},{"$f":"Parameters!AS270","v":1},{"$f":"Parameters!AT270","v":1},{"$f":"Parameters!AU270","v":1},{"$f":"Parameters!AV270","v":1},{"$f":"Parameters!AW270","v":1},{"$f":"Parameters!AX270","v":1},{"$f":"Parameters!AY270","v":1},{"$f":"Parameters!AZ270","v":1},{"$f":"Parameters!BA270","v":1},{"$f":"Parameters!BB270","v":1},{"$f":"Parameters!BC270","v":1},{"$f":"Parameters!BD270","v":1},{"$f":"Parameters!BE270","v":1},{"$f":"Parameters!BF270","v":1},{"$f":"Parameters!BG270","v":1},{"$f":"Parameters!BH270","v":1},{"$f":"Parameters!BI270","v":1},{"$f":"Parameters!BJ270","v":1},{"$f":"Parameters!BK270","v":1},{"$f":"Parameters!BL270","v":1},{"$f":"Parameters!BM270","v":1},{"$f":"Parameters!BN270","v":1}]
["S111",{"$f":"Parameters!K271","v":1},{"$f":"Parameters!L271","v":1},{"$f":"Parameters!M271","v":1},{"$f":"Parameters!N271","v":1},{"$f":"Parameters!O271","v":1},{"$f":"Parameters!P271","v":1},{"$f":"Parameters!Q271","v":1},{"$f":"Parameters!R271","v":1},{"$f":"Parameters!S271","v":1},{"$f":"Parameters!T271","v":1},{"$f":"Parameters!U271","v":1},{"$f":"Parameters!V271","v":1},{"$f":"Parameters!W271","v":1},{"$f":"Parameters!X271","v":1},{"$f":"Parameters!Y271","v":1},{"$f":"Parameters!Z271","v":1},{"$f":"Parameters!AA271","v":1},{"$f":"Parameters!AB271","v":1},{"$f":"Parameters!AC271","v":1},{"$f":"Parameters!AD271","v":1},{"$f":"Parameters!AE271","v":1},{"$f":"Parameters!AF271","v":1},{"$f":"Parameters!AG271","v":1},{"$f":"Parameters!AH271","v":1},{"$f":"Parameters!AI271","v":1},{"$f":"Parameters!AJ271","v":1},{"$f":"Parameters!AK271","v":1},{"$f":"Parameters!AL271","v":1},{"$f":"Parameters!AM271","v":1},{"$f":"Parameters!AN271","v":1},{"$f":"Parameters!AO271","v":1},{"$f":"Parameters!AP271","v":1},{"$f":"Parameters!AQ271","v":1},{"$f":"Parameters!AR271","v":1},{"$f":"Parameters!AS271","v":1},{"$f":"Parameters!AT271","v":1},{"$f":"Parameters!AU271","v":1},{"$f":"Parameters!AV271","v":1},{"$f":"Parameters!AW271","v":1},{"$f":"Parameters!AX271","v":1},{"$f":"Parameters!AY271","v":1},{"$f":"Parameters!AZ271","v":1},{"$f":"Parameters!BA271","v":1},{"$f":"Parameters!BB271","v":1},{"$f":"Parameters!BC271","v":1},{"$f":"Parameters!BD271","v":1},{"$f":"Parameters!BE271","v":1},{"$f":"Parameters!BF271","v":1},{"$f":"Parameters!BG271","v":1},{"$f":"Parameters!BH271","v":1},{"$f":"Parameters!BI271","v":1},{"$f":"Parameters!BJ271","v":1},{"$f":"Parameters!BK271","v":1},{"$f":"Parameters!BL271","v":1},{"$f":"Parameters!BM271","v":1},{"$f":"Parameters!BN271","v":1}]
["S112",{"$f":"Parameters!K272","v":1},{"$f":"Parameters!L272","v":1},{"$f":"Parameters!M272","v":1},{"$f":"Parameters!N272","v":1},{"$f":"Parameters!O272","v":1},{"$f":"Parameters!P272","v":1},{"$f":"Parameters!Q272","v":1},{"$f":"Parameters!R272","v":1},{"$f":"Parameters!S272","v":1},{"$f":"Parameters!T272","v":1},{"$f":"Parameters!U272","v":1},{"$f":"Parameters!V272","v":1},{"$f":"Parameters!W272","v":1},{"$f":"Parameters!X272","v":1},{"$f":"Parameters!Y272","v":1},{"$f":"Parameters!Z272","v":1},{"$f":"Parameters!AA272","v":1},{"$f":"Parameters!AB272","v":1},{"$f":"Parameters!AC272","v":1},{"$f":"Parameters!AD272","v":1},{"$f":"Parameters!AE272","v":1},{"$f":"Parameters!AF272","v":1},{"$f":"Parameters!AG272","v":1},{"$f":"Parameters!AH272","v":1},{"$f":"Parameters!AI272","v":1},{"$f":"Parameters!AJ272","v":1},{"$f":"Parameters!AK272","v":1},{"$f":"Parameters!AL272","v":1},{"$f":"Parameters!AM272","v":1},{"$f":"Parameters!AN272","v":1},{"$f":"Parameters!AO272","v":1},{"$f":"Parameters!AP272","v":1},{"$f":"Parameters!AQ272","v":1},{"$f":"Parameters!AR272","v":1},{"$f":"Parameters!AS272","v":1},{"$f":"Parameters!AT272","v":1},{"$f":"Parameters!AU272","v":1},{"$f":"Parameters!AV272","v":1},{"$f":"Parameters!AW272","v":1},{"$f":"Parameters!AX272","v":1},{"$f":"Parameters!AY272","v":1},{"$f":"Parameters!AZ272","v":1},{"$f":"Parameters!BA272","v":1},{"$f":"Parameters!BB272","v":1},{"$f":"Parameters!BC272","v":1},{"$f":"Parameters!BD272","v":1},{"$f":"Parameters!BE272","v":1},{"$f":"Parameters!BF272","v":1},{"$f":"Parameters!BG272","v":1},{"$f":"Parameters!BH272","v":1},{"$f":"Parameters!BI272","v":1},{"$f":"Parameters!BJ272","v":1},{"$f":"Parameters!BK272","v":1},{"$f":"Parameters!BL272","v":1},{"$f":"Parameters!BM272","v":1},{"$f":"Parameters!BN272","v":1}]
["S113",{"$f":"Parameters!K273","v":1},{"$f":"Parameters!L273","v":1},{"$f":"Parameters!M273","v":1},{"$f":"Parameters!N273","v":1},{"$f":"Parameters!O273","v":1},{"$f":"Parameters!P273","v":1},{"$f":"Parameters!Q273","v":1},{"$f":"Parameters!R273","v":1},{"$f":"Parameters!S273","v":1},{"$f":"Parameters!T273","v":1},{"$f":"Parameters!U273","v":1},{"$f":"Parameters!V273","v":1},{"$f":"Parameters!W273","v":1},{"$f":"Parameters!X273","v":1},{"$f":"Parameters!Y273","v":1},{"$f":"Parameters!Z273","v":1},{"$f":"Parameters!AA273","v":1},{"$f":"Parameters!AB273","v":1},{"$f":"Parameters!AC273","v":1},{"$f":"Parameters!AD273","v":1},{"$f":"Parameters!AE273","v":1},{"$f":"Parameters!AF273","v":1},{"$f":"Parameters!AG273","v":1},{"$f":"Parameters!AH273","v":1},{"$f":"Parameters!AI273","v":1},{"$f":"Parameters!AJ273","v":1},{"$f":"Parameters!AK273","v":1},{"$f":"Parameters!AL273","v":1},{"$f":"Parameters!AM273","v":1},{"$f":"Parameters!AN273","v":1},{"$f":"Parameters!AO273","v":1},{"$f":"Parameters!AP273","v":1},{"$f":"Parameters!AQ273","v":1},{"$f":"Parameters!AR273","v":1},{"$f":"Parameters!AS273","v":1},{"$f":"Parameters!AT273","v":1},{"$f":"Parameters!AU273","v":1},{"$f":"Parameters!AV273","v":1},{"$f":"Parameters!AW273","v":1},{"$f":"Parameters!AX273","v":1},{"$f":"Parameters!AY273","v":1},{"$f":"Parameters!AZ273","v":1},{"$f":"Parameters!BA273","v":1},{"$f":"Parameters!BB273","v":1},{"$f":"Parameters!BC273","v":1},{"$f":"Parameters!BD273","v":1},{"$f":"Parameters!BE273","v":1},{"$f":"Parameters!BF273","v":1},{"$f":"Parameters!BG273","v":1},{"$f":"Parameters!BH273","v":1},{"$f":"Parameters!BI273","v":1},{"$f":"Parameters!BJ273","v":1},{"$f":"Parameters!BK273","v":1},{"$f":"Parameters!BL273","v":1},{"$f":"Parameters!BM273","v":1},{"$f":"Parameters!BN273","v":1}]
["S114",{"$f":"Parameters!K274","v":1},{"$f":"Parameters!L274","v":1},{"$f":"Parameters!M274","v":1},{"$f":"Parameters!N274","v":1},{"$f":"Parameters!O274","v":1},{"$f":"Parameters!P274","v":1},{"$f":"Parameters!Q274","v":1},{"$f":"Parameters!R274","v":1},{"$f":"Parameters!S274","v":1},{"$f":"Parameters!T274","v":1},{"$f":"Parameters!U274","v":1},{"$f":"Parameters!V274","v":1},{"$f":"Parameters!W274","v":1},{"$f":"Parameters!X274","v":1},{"$f":"Parameters!Y274","v":1},{"$f":"Parameters!Z274","v":1},{"$f":"Parameters!AA274","v":1},{"$f":"Parameters!AB274","v":1},{"$f":"Parameters!AC274","v":1},{"$f":"Parameters!AD274","v":1},{"$f":"Parameters!AE274","v":1},{"$f":"Parameters!AF274","v":1},{"$f":"Parameters!AG274","v":1},{"$f":"Parameters!AH274","v":1},{"$f":"Parameters!AI274","v":1},{"$f":"Parameters!AJ274","v":1},{"$f":"Parameters!AK274","v":1},{"$f":"Parameters!AL274","v":1},{"$f":"Parameters!AM274","v":1},{"$f":"Parameters!AN274","v":1},{"$f":"Parameters!AO274","v":1},{"$f":"Parameters!AP274","v":1},{"$f":"Parameters!AQ274","v":1},{"$f":"Parameters!AR274","v":1},{"$f":"Parameters!AS274","v":1},{"$f":"Parameters!AT274","v":1},{"$f":"Parameters!AU274","v":1},{"$f":"Parameters!AV274","v":1},{"$f":"Parameters!AW274","v":1},{"$f":"Parameters!AX274","v":1},{"$f":"Parameters!AY274","v":1},{"$f":"Parameters!AZ274","v":1},{"$f":"Parameters!BA274","v":1},{"$f":"Parameters!BB274","v":1},{"$f":"Parameters!BC274","v":1},{"$f":"Parameters!BD274","v":1},{"$f":"Parameters!BE274","v":1},{"$f":"Parameters!BF274","v":1},{"$f":"Parameters!BG274","v":1},{"$f":"Parameters!BH274","v":1},{"$f":"Parameters!BI274","v":1},{"$f":"Parameters!BJ274","v":1},{"$f":"Parameters!BK274","v":1},{"$f":"Parameters!BL274","v":1},{"$f":"Parameters!BM274","v":1},{"$f":"Parameters!BN274","v":1}]
["S115",{"$f":"Parameters!K275","v":1},{"$f":"Parameters!L275","v":1},{"$f":"Parameters!M275","v":1},{"$f":"Parameters!N275","v":1},{"$f":"Parameters!O275","v":1},{"$f":"Parameters!P275","v":1},{"$f":"Parameters!Q275","v":1},{"$f":"Parameters!R275","v":1},{"$f":"Parameters!S275","v":1},{"$f":"Parameters!T275","v":1},{"$f":"Parameters!U275","v":1},{"$f":"Parameters!V275","v":1},{"$f":"Parameters!W275","v":1},{"$f":"Parameters!X275","v":1},{"$f":"Parameters!Y275","v":1},{"$f":"Parameters!Z275","v":1},{"$f":"Parameters!AA275","v":1},{"$f":"Parameters!AB275","v":1},{"$f":"Parameters!AC275","v":1},{"$f":"Parameters!AD275","v":1},{"$f":"Parameters!AE275","v":1},{"$f":"Parameters!AF275","v":1},{"$f":"Parameters!AG275","v":1},{"$f":"Parameters!AH275","v":1},{"$f":"Parameters!AI275","v":1},{"$f":"Parameters!AJ275","v":1},{"$f":"Parameters!AK275","v":1},{"$f":"Parameters!AL275","v":1},{"$f":"Parameters!AM275","v":1},{"$f":"Parameters!AN275","v":1},{"$f":"Parameters!AO275","v":1},{"$f":"Parameters!AP275","v":1},{"$f":"Parameters!AQ275","v":1},{"$f":"Parameters!AR275","v":1},{"$f":"Parameters!AS275","v":1},{"$f":"Parameters!AT275","v":1},{"$f":"Parameters!AU275","v":1},{"$f":"Parameters!AV275","v":1},{"$f":"Parameters!AW275","v":1},{"$f":"Parameters!AX275","v":1},{"$f":"Parameters!AY275","v":1},{"$f":"Parameters!AZ275","v":1},{"$f":"Parameters!BA275","v":1},{"$f":"Parameters!BB275","v":1},{"$f":"Parameters!BC275","v":1},{"$f":"Parameters!BD275","v":1},{"$f":"Parameters!BE275","v":1},{"$f":"Parameters!BF275","v":1},{"$f":"Parameters!BG275","v":1},{"$f":"Parameters!BH275","v":1},{"$f":"Parameters!BI275","v":1},{"$f":"Parameters!BJ275","v":1},{"$f":"Parameters!BK275","v":1},{"$f":"Parameters!BL275","v":1},{"$f":"Parameters!BM275","v":1},{"$f":"Parameters!BN275","v":1}]
["S116",{"$f":"Parameters!K276","v":1},{"$f":"Parameters!L276","v":1},{"$f":"Parameters!M276","v":1},{"$f":"Parameters!N276","v":1},{"$f":"Parameters!O276","v":1},{"$f":"Parameters!P276","v":1},{"$f":"Parameters!Q276","v":1},{"$f":"Parameters!R276","v":1},{"$f":"Parameters!S276","v":1},{"$f":"Parameters!T276","v":1},{"$f":"Parameters!U276","v":1},{"$f":"Parameters!V276","v":1},{"$f":"Parameters!W276","v":1},{"$f":"Parameters!X276","v":1},{"$f":"Parameters!Y276","v":1},{"$f":"Parameters!Z276","v":1},{"$f":"Parameters!AA276","v":1},{"$f":"Parameters!AB276","v":1},{"$f":"Parameters!AC276","v":1},{"$f":"Parameters!AD276","v":1},{"$f":"Parameters!AE276","v":1},{"$f":"Parameters!AF276","v":1},{"$f":"Parameters!AG276","v":1},{"$f":"Parameters!AH276","v":1},{"$f":"Parameters!AI276","v":1},{"$f":"Parameters!AJ276","v":1},{"$f":"Parameters!AK276","v":1},{"$f":"Parameters!AL276","v":1},{"$f":"Parameters!AM276","v":1},{"$f":"Parameters!AN276","v":1},{"$f":"Parameters!AO276","v":1},{"$f":"Parameters!AP276","v":1},{"$f":"Parameters!AQ276","v":1},{"$f":"Parameters!AR276","v":1},{"$f":"Parameters!AS276","v":1},{"$f":"Parameters!AT276","v":1},{"$f":"Parameters!AU276","v":1},{"$f":"Parameters!AV276","v":1},{"$f":"Parameters!AW276","v":1},{"$f":"Parameters!AX276","v":1},{"$f":"Parameters!AY276","v":1},{"$f":"Parameters!AZ276","v":1},{"$f":"Parameters!BA276","v":1},{"$f":"Parameters!BB276","v":1},{"$f":"Parameters!BC276","v":1},{"$f":"Parameters!BD276","v":1},{"$f":"Parameters!BE276","v":1},{"$f":"Parameters!BF276","v":1},{"$f":"Parameters!BG276","v":1},{"$f":"Parameters!BH276","v":1},{"$f":"Parameters!BI276","v":1},{"$f":"Parameters!BJ276","v":1},{"$f":"Parameters!BK276","v":1},{"$f":"Parameters!BL276","v":1},{"$f":"Parameters!BM276","v":1},{"$f":"Parameters!BN276","v":1}]
["S117",{"$f":"Parameters!K277","v":1},{"$f":"Parameters!L277","v":1},{"$f":"Parameters!M277","v":1},{"$f":"Parameters!N277","v":1},{"$f":"Parameters!O277","v":1},{"$f":"Parameters!P277","v":1},{"$f":"Parameters!Q277","v":1},{"$f":"Parameters!R277","v":1},{"$f":"Parameters!S277","v":1},{"$f":"Parameters!T277","v":1},{"$f":"Parameters!U277","v":1},{"$f":"Parameters!V277","v":1},{"$f":"Parameters!W277","v":1},{"$f":"Parameters!X277","v":1},{"$f":"Parameters!Y277","v":1},{"$f":"Parameters!Z277","v":1},{"$f":"Parameters!AA277","v":1},{"$f":"Parameters!AB277","v":1},{"$f":"Parameters!AC277","v":1},{"$f":"Parameters!AD277","v":1},{"$f":"Parameters!AE277","v":1},{"$f":"Parameters!AF277","v":1},{"$f":"Parameters!AG277","v":1},{"$f":"Parameters!AH277","v":1},{"$f":"Parameters!AI277","v":1},{"$f":"Parameters!AJ277","v":1},{"$f":"Parameters!AK277","v":1},{"$f":"Parameters!AL277","v":1},{"$f":"Parameters!AM277","v":1},{"$f":"Parameters!AN277","v":1},{"$f":"Parameters!AO277","v":1},{"$f":"Parameters!AP277","v":1},{"$f":"Parameters!AQ277","v":1},{"$f":"Parameters!AR277","v":1},{"$f":"Parameters!AS277","v":1},{"$f":"Parameters!AT277","v":1},{"$f":"Parameters!AU277","v":1},{"$f":"Parameters!AV277","v":1},{"$f":"Parameters!AW277","v":1},{"$f":"Parameters!AX277","v":1},{"$f":"Parameters!AY277","v":1},{"$f":"Parameters!AZ277","v":1},{"$f":"Parameters!BA277","v":1},{"$f":"Parameters!BB277","v":1},{"$f":"Parameters!BC277","v":1},{"$f":"Parameters!BD277","v":1},{"$f":"Parameters!BE277","v":1},{"$f":"Parameters!BF277","v":1},{"$f":"Parameters!BG277","v":1},{"$f":"Parameters!BH277","v":1},{"$f":"Parameters!BI277","v":1},{"$f":"Parameters!BJ277","v":1},{"$f":"Parameters!BK277","v":1},{"$f":"Parameters!BL277","v":1},{"$f":"Parameters!BM277","v":1},{"$f":"Parameters!BN277","v":1}]
["S118",{"$f":"Parameters!K278","v":1},{"$f":"Parameters!L278","v":1},{"$f":"Parameters!M278","v":1},{"$f":"Parameters!N278","v":1},{"$f":"Parameters!O278","v":1},{"$f":"Parameters!P278","v":1},{"$f":"Parameters!Q278","v":1},{"$f":"Parameters!R278","v":1},{"$f":"Parameters!S278","v":1},{"$f":"Parameters!T278","v":1},{"$f":"Parameters!U278","v":1},{"$f":"Parameters!V278","v":1},{"$f":"Parameters!W278","v":1},{"$f":"Parameters!X278","v":1},{"$f":"Parameters!Y278","v":1},{"$f":"Parameters!Z278","v":1},{"$f":"Parameters!AA278","v":1},{"$f":"Parameters!AB278","v":1},{"$f":"Parameters!AC278","v":1},{"$f":"Parameters!AD278","v":1},{"$f":"Parameters!AE278","v":1},{"$f":"Parameters!AF278","v":1},{"$f":"Parameters!AG278","v":1},{"$f":"Parameters!AH278","v":1},{"$f":"Parameters!AI278","v":1},{"$f":"Parameters!AJ278","v":1},{"$f":"Parameters!AK278","v":1},{"$f":"Parameters!AL278","v":1},{"$f":"Parameters!AM278","v":1},{"$f":"Parameters!AN278","v":1},{"$f":"Parameters!AO278","v":1},{"$f":"Parameters!AP278","v":1},{"$f":"Parameters!AQ278","v":1},{"$f":"Parameters!AR278","v":1},{"$f":"Parameters!AS278","v":1},{"$f":"Parameters!AT278","v":1},{"$f":"Parameters!AU278","v":1},{"$f":"Parameters!AV278","v":1},{"$f":"Parameters!AW278","v":1},{"$f":"Parameters!AX278","v":1},{"$f":"Parameters!AY278","v":1},{"$f":"Parameters!AZ278","v":1},{"$f":"Parameters!BA278","v":1},{"$f":"Parameters!BB278","v":1},{"$f":"Parameters!BC278","v":1},{"$f":"Parameters!BD278","v":1},{"$f":"Parameters!BE278","v":1},{"$f":"Parameters!BF278","v":1},{"$f":"Parameters!BG278","v":1},{"$f":"Parameters!BH278","v":1},{"$f":"Parameters!BI278","v":1},{"$f":"Parameters!BJ278","v":1},{"$f":"Parameters!BK278","v":1},{"$f":"Parameters!BL278","v":1},{"$f":"Parameters!BM278","v":1},{"$f":"Parameters!BN278","v":1}]
["S119",{"$f":"Parameters!K279","v":1},{"$f":"Parameters!L279","v":1},{"$f":"Parameters!M279","v":1},{"$f":"Parameters!N279","v":1},{"$f":"Parameters!O279","v":1},{"$f":"Parameters!P279","v":1},{"$f":"Parameters!Q279","v":1},{"$f":"Parameters!R279","v":1},{"$f":"Parameters!S279","v":1},{"$f":"Parameters!T279","v":1},{"$f":"Parameters!U279","v":1},{"$f":"Parameters!V279","v":1},{"$f":"Parameters!W279","v":1},{"$f":"Parameters!X279","v":1},{"$f":"Parameters!Y279","v":1},{"$f":"Parameters!Z279","v":1},{"$f":"Parameters!AA279","v":1},{"$f":"Parameters!AB279","v":1},{"$f":"Parameters!AC279","v":1},{"$f":"Parameters!AD279","v":1},{"$f":"Parameters!AE279","v":1},{"$f":"Parameters!AF279","v":1},{"$f":"Parameters!AG279","v":1},{"$f":"Parameters!AH279","v":1},{"$f":"Parameters!AI279","v":1},{"$f":"Parameters!AJ279","v":1},{"$f":"Parameters!AK279","v":1},{"$f":"Parameters!AL279","v":1},{"$f":"Parameters!AM279","v":1},{"$f":"Parameters!AN279","v":1},{"$f":"Parameters!AO279","v":1},{"$f":"Parameters!AP279","v":1},{"$f":"Parameters!AQ279","v":1},{"$f":"Parameters!AR279","v":1},{"$f":"Parameters!AS279","v":1},{"$f":"Parameters!AT279","v":1},{"$f":"Parameters!AU279","v":1},{"$f":"Parameters!AV279","v":1},{"$f":"Parameters!AW279","v":1},{"$f":"Parameters!AX279","v":1},{"$f":"Parameters!AY279","v":1},{"$f":"Parameters!AZ279","v":1},{"$f":"Parameters!BA279","v":1},{"$f":"Parameters!BB279","v":1},{"$f":"Parameters!BC279","v":1},{"$f":"Parameters!BD279","v":1},{"$f":"Parameters!BE279","v":1},{"$f":"Parameters!BF279","v":1},{"$f":"Parameters!BG279","v":1},{"$f":"Parameters!BH279","v":1},{"$f":"Parameters!BI279","v":1},{"$f":"Parameters!BJ279","v":1},{"$f":"Parameters!BK279","v":1},{"$f":"Parameters!BL279","v":1},{"$f":"Parameters!BM279","v":1},{"$f":"Parameters!BN279","v":1}]
["S120",{"$f":"Parameters!K280","v":1},{"$f":"Parameters!L280","v":1},{"$f":"Parameters!M280","v":1},{"$f":"Parameters!N280","v":1},{"$f":"Parameters!O280","v":1},{"$f":"Parameters!P280","v":1},{"$f":"Parameters!Q280","v":1},{"$f":"Parameters!R280","v":1},{"$f":"Parameters!S280","v":1},{"$f":"Parameters!T280","v":1},{"$f":"Parameters!U280","v":1},{"$f":"Parameters!V280","v":1},{"$f":"Parameters!W280","v":1},{"$f":"Parameters!X280","v":1},{"$f":"Parameters!Y280","v":1},{"$f":"Parameters!Z280","v":1},{"$f":"Parameters!AA280","v":1},{"$f":"Parameters!AB280","v":1},{"$f":"Parameters!AC280","v":1},{"$f":"Parameters!AD280","v":1},{"$f":"Parameters!AE280","v":1},{"$f":"Parameters!AF280","v":1},{"$f":"Parameters!AG280","v":1},{"$f":"Parameters!AH280","v":1},{"$f":"Parameters!AI280","v":1},{"$f":"Parameters!AJ280","v":1},{"$f":"Parameters!AK280","v":1},{"$f":"Parameters!AL280","v":1},{"$f":"Parameters!AM280","v":1},{"$f":"Parameters!AN280","v":1},{"$f":"Parameters!AO280","v":1},{"$f":"Parameters!AP280","v":1},{"$f":"Parameters!AQ280","v":1},{"$f":"Parameters!AR280","v":1},{"$f":"Parameters!AS280","v":1},{"$f":"Parameters!AT280","v":1},{"$f":"Parameters!AU280","v":1},{"$f":"Parameters!AV280","v":1},{"$f":"Parameters!AW280","v":1},{"$f":"Parameters!AX280","v":1},{"$f":"Parameters!AY280","v":1},{"$f":"Parameters!AZ280","v":1},{"$f":"Parameters!BA280","v":1},{"$f":"Parameters!BB280","v":1},{"$f":"Parameters!BC280","v":1},{"$f":"Parameters!BD280","v":1},{"$f":"Parameters!BE280","v":1},{"$f":"Parameters!BF280","v":1},{"$f":"Parameters!BG280","v":1},{"$f":"Parameters!BH280","v":1},{"$f":"Parameters!BI280","v":1},{"$f":"Parameters!BJ280","v":1},{"$f":"Parameters!BK280","v":1},{"$f":"Parameters!BL280","v":1},{"$f":"Parameters!BM280","v":1},{"$f":"Parameters!BN280","v":1}]
["S121",{"$f":"Parameters!K281","v":1},{"$f":"Parameters!L281","v":1},{"$f":"Parameters!M281","v":1},{"$f":"Parameters!N281","v":1},{"$f":"Parameters!O281","v":1},{"$f":"Parameters!P281","v":1},{"$f":"Parameters!Q281","v":1},{"$f":"Parameters!R281","v":1},{"$f":"Parameters!S281","v":1},{"$f":"Parameters!T281","v":1},{"$f":"Parameters!U281","v":1},{"$f":"Parameters!V281","v":1},{"$f":"Parameters!W281","v":1},{"$f":"Parameters!X281","v":1},{"$f":"Parameters!Y281","v":1},{"$f":"Parameters!Z281","v":1},{"$f":"Parameters!AA281","v":1},{"$f":"Parameters!AB281","v":1},{"$f":"Parameters!AC281","v":1},{"$f":"Parameters!AD281","v":1},{"$f":"Parameters!AE281","v":1},{"$f":"Parameters!AF281","v":1},{"$f":"Parameters!AG281","v":1},{"$f":"Parameters!AH281","v":1},{"$f":"Parameters!AI281","v":1},{"$f":"Parameters!AJ281","v":1},{"$f":"Parameters!AK281","v":1},{"$f":"Parameters!AL281","v":1},{"$f":"Parameters!AM281","v":1},{"$f":"Parameters!AN281","v":1},{"$f":"Parameters!AO281","v":1},{"$f":"Parameters!AP281","v":1},{"$f":"Parameters!AQ281","v":1},{"$f":"Parameters!AR281","v":1},{"$f":"Parameters!AS281","v":1},{"$f":"Parameters!AT281","v":1},{"$f":"Parameters!AU281","v":1},{"$f":"Parameters!AV281","v":1},{"$f":"Parameters!AW281","v":1},{"$f":"Parameters!AX281","v":1},{"$f":"Parameters!AY281","v":1},{"$f":"Parameters!AZ281","v":1},{"$f":"Parameters!BA281","v":1},{"$f":"Parameters!BB281","v":1},{"$f":"Parameters!BC281","v":1},{"$f":"Parameters!BD281","v":1},{"$f":"Parameters!BE281","v":1},{"$f":"Parameters!BF281","v":1},{"$f":"Parameters!BG281","v":1},{"$f":"Parameters!BH281","v":1},{"$f":"Parameters!BI281","v":1},{"$f":"Parameters!BJ281","v":1},{"$f":"Parameters!BK281","v":1},{"$f":"Parameters!BL281","v":1},{"$f":"Parameters!BM281","v":1},{"$f":"Parameters!BN281","v":1}]
["S122",{"$f":"Parameters!K282","v":1},{"$f":"Parameters!L282","v":1},{"$f":"Parameters!M282","v":1},{"$f":"Parameters!N282","v":1},{"$f":"Parameters!O282","v":1},{"$f":"Parameters!P282","v":1},{"$f":"Parameters!Q282","v":1},{"$f":"Parameters!R282","v":1},{"$f":"Parameters!S282","v":1},{"$f":"Parameters!T282","v":1},{"$f":"Parameters!U282","v":1},{"$f":"Parameters!V282","v":1},{"$f":"Parameters!W282","v":1},{"$f":"Parameters!X282","v":1},{"$f":"Parameters!Y282","v":1},{"$f":"Parameters!Z282","v":1},{"$f":"Parameters!AA282","v":1},{"$f":"Parameters!AB282","v":1},{"$f":"Parameters!AC282","v":1},{"$f":"Parameters!AD282","v":1},{"$f":"Parameters!AE282","v":1},{"$f":"Parameters!AF282","v":1},{"$f":"Parameters!AG282","v":1},{"$f":"Parameters!AH282","v":1},{"$f":"Parameters!AI282","v":1},{"$f":"Parameters!AJ282","v":1},{"$f":"Parameters!AK282","v":1},{"$f":"Parameters!AL282","v":1},{"$f":"Parameters!AM282","v":1},{"$f":"Parameters!AN282","v":1},{"$f":"Parameters!AO282","v":1},{"$f":"Parameters!AP282","v":1},{"$f":"Parameters!AQ282","v":1},{"$f":"Parameters!AR282","v":1},{"$f":"Parameters!AS282","v":1},{"$f":"Parameters!AT282","v":1},{"$f":"Parameters!AU282","v":1},{"$f":"Parameters!AV282","v":1},{"$f":"Parameters!AW282","v":1},{"$f":"Parameters!AX282","v":1},{"$f":"Parameters!AY282","v":1},{"$f":"Parameters!AZ282","v":1},{"$f":"Parameters!BA282","v":1},{"$f":"Parameters!BB282","v":1},{"$f":"Parameters!BC282","v":1},{"$f":"Parameters!BD282","v":1},{"$f":"Parameters!BE282","v":1},{"$f":"Parameters!BF282","v":1},{"$f":"Parameters!BG282","v":1},{"$f":"Parameters!BH282","v":1},{"$f":"Parameters!BI282","v":1},{"$f":"Parameters!BJ282","v":1},{"$f":"Parameters!BK282","v":1},{"$f":"Parameters!BL282","v":1},{"$f":"Parameters!BM282","v":1},{"$f":"Parameters!BN282","v":1}]
["S123",{"$f":"Parameters!K283","v":1},{"$f":"Parameters!L283","v":1},{"$f":"Parameters!M283","v":1},{"$f":"Parameters!N283","v":1},{"$f":"Parameters!O283","v":1},{"$f":"Parameters!P283","v":1},{"$f":"Parameters!Q283","v":1},{"$f":"Parameters!R283","v":1},{"$f":"Parameters!S283","v":1},{"$f":"Parameters!T283","v":1},{"$f":"Parameters!U283","v":1},{"$f":"Parameters!V283","v":1},{"$f":"Parameters!W283","v":1},{"$f":"Parameters!X283","v":1},{"$f":"Parameters!Y283","v":1},{"$f":"Parameters!Z283","v":1},{"$f":"Parameters!AA283","v":1},{"$f":"Parameters!AB283","v":1},{"$f":"Parameters!AC283","v":1},{"$f":"Parameters!AD283","v":1},{"$f":"Parameters!AE283","v":1},{"$f":"Parameters!AF283","v":1},{"$f":"Parameters!AG283","v":1},{"$f":"Parameters!AH283","v":1},{"$f":"Parameters!AI283","v":1},{"$f":"Parameters!AJ283","v":1},{"$f":"Parameters!AK283","v":1},{"$f":"Parameters!AL283","v":1},{"$f":"Parameters!AM283","v":1},{"$f":"Parameters!AN283","v":1},{"$f":"Parameters!AO283","v":1},{"$f":"Parameters!AP283","v":1},{"$f":"Parameters!AQ283","v":1},{"$f":"Parameters!AR283","v":1},{"$f":"Parameters!AS283","v":1},{"$f":"Parameters!AT283","v":1},{"$f":"Parameters!AU283","v":1},{"$f":"Parameters!AV283","v":1},{"$f":"Parameters!AW283","v":1},{"$f":"Parameters!AX283","v":1},{"$f":"Parameters!AY283","v":1},{"$f":"Parameters!AZ283","v":1},{"$f":"Parameters!BA283","v":1},{"$f":"Parameters!BB283","v":1},{"$f":"Parameters!BC283","v":1},{"$f":"Parameters!BD283","v":1},{"$f":"Parameters!BE283","v":1},{"$f":"Parameters!BF283","v":1},{"$f":"Parameters!BG283","v":1},{"$f":"Parameters!BH283","v":1},{"$f":"Parameters!BI283","v":1},{"$f":"Parameters!BJ283","v":1},{"$f":"Parameters!BK283","v":1},{"$f":"Parameters!BL283","v":1},{"$f":"Parameters!BM283","v":1},{"$f":"Parameters!BN283","v":1}]
["S124",{"$f":"Parameters!K284","v":1},{"$f":"Parameters!L284","v":1},{"$f":"Parameters!M284","v":1},{"$f":"Parameters!N284","v":1},{"$f":"Parameters!O284","v":1},{"$f":"Parameters!P284","v":1},{"$f":"Parameters!Q284","v":1},{"$f":"Parameters!R284","v":1},{"$f":"Parameters!S284","v":1},{"$f":"Parameters!T284","v":1},{"$f":"Parameters!U284","v":1},{"$f":"Parameters!V284","v":1},{"$f":"Parameters!W284","v":1},{"$f":"Parameters!X284","v":1},{"$f":"Parameters!Y284","v":1},{"$f":"Parameters!Z284","v":1},{"$f":"Parameters!AA284","v":1},{"$f":"Parameters!AB284","v":1},{"$f":"Parameters!AC284","v":1},{"$f":"Parameters!AD284","v":1},{"$f":"Parameters!AE284","v":1},{"$f":"Parameters!AF284","v":1},{"$f":"Parameters!AG284","v":1},{"$f":"Parameters!AH284","v":1},{"$f":"Parameters!AI284","v":1},{"$f":"Parameters!AJ284","v":1},{"$f":"Parameters!AK284","v":1},{"$f":"Parameters!AL284","v":1},{"$f":"Parameters!AM284","v":1},{"$f":"Parameters!AN284","v":1},{"$f":"Parameters!AO284","v":1},{"$f":"Parameters!AP284","v":1},{"$f":"Parameters!AQ284","v":1},{"$f":"Parameters!AR284","v":1},{"$f":"Parameters!AS284","v":1},{"$f":"Parameters!AT284","v":1},{"$f":"Parameters!AU284","v":1},{"$f":"Parameters!AV284","v":1},{"$f":"Parameters!AW284","v":1},{"$f":"Parameters!AX284","v":1},{"$f":"Parameters!AY284","v":1},{"$f":"Parameters!AZ284","v":1},{"$f":"Parameters!BA284","v":1},{"$f":"Parameters!BB284","v":1},{"$f":"Parameters!BC284","v":1},{"$f":"Parameters!BD284","v":1},{"$f":"Parameters!BE284","v":1},{"$f":"Parameters!BF284","v":1},{"$f":"Parameters!BG284","v":1},{"$f":"Parameters!BH284","v":1},{"$f":"Parameters!BI284","v":1},{"$f":"Parameters!BJ284","v":1},{"$f":"Parameters!BK284","v":1},{"$f":"Parameters!BL284","v":1},{"$f":"Parameters!BM284","v":1},{"$f":"Parameters!BN284","v":1}]
["S201",{"$f":"Parameters!K285","v":1},{"$f":"Parameters!L285","v":1},{"$f":"Parameters!M285","v":1},{"$f":"Parameters!N285","v":1},{"$f":"Parameters!O285","v":1},{"$f":"Parameters!P285","v":1},{"$f":"Parameters!Q285","v":1},{"$f":"Parameters!R285","v":1},{"$f":"Parameters!S285","v":1},{"$f":"Parameters!T285","v":1},{"$f":"Parameters!U285","v":1},{"$f":"Parameters!V285","v":1},{"$f":"Parameters!W285","v":1},{"$f":"Parameters!X285","v":1},{"$f":"Parameters!Y285","v":1},{"$f":"Parameters!Z285","v":1},{"$f":"Parameters!AA285","v":1},{"$f":"Parameters!AB285","v":1},{"$f":"Parameters!AC285","v":1},{"$f":"Parameters!AD285","v":1},{"$f":"Parameters!AE285","v":1},{"$f":"Parameters!AF285","v":1},{"$f":"Parameters!AG285","v":1},{"$f":"Parameters!AH285","v":1},{"$f":"Parameters!AI285","v":1},{"$f":"Parameters!AJ285","v":1},{"$f":"Parameters!AK285","v":1},{"$f":"Parameters!AL285","v":1},{"$f":"Parameters!AM285","v":1},{"$f":"Parameters!AN285","v":1},{"$f":"Parameters!AO285","v":1},{"$f":"Parameters!AP285","v":1},{"$f":"Parameters!AQ285","v":1},{"$f":"Parameters!AR285","v":1},{"$f":"Parameters!AS285","v":1},{"$f":"Parameters!AT285","v":1},{"$f":"Parameters!AU285","v":1},{"$f":"Parameters!AV285","v":1},{"$f":"Parameters!AW285","v":1},{"$f":"Parameters!AX285","v":1},{"$f":"Parameters!AY285","v":1},{"$f":"Parameters!AZ285","v":1},{"$f":"Parameters!BA285","v":1},{"$f":"Parameters!BB285","v":1},{"$f":"Parameters!BC285","v":1},{"$f":"Parameters!BD285","v":1},{"$f":"Parameters!BE285","v":1},{"$f":"Parameters!BF285","v":1},{"$f":"Parameters!BG285","v":1},{"$f":"Parameters!BH285","v":1},{"$f":"Parameters!BI285","v":1},{"$f":"Parameters!BJ285","v":1},{"$f":"Parameters!BK285","v":1},{"$f":"Parameters!BL285","v":1},{"$f":"Parameters!BM285","v":1},{"$f":"Parameters!BN285","v":1}]
["S202",{"$f":"Parameters!K286","v":1},{"$f":"Parameters!L286","v":1},{"$f":"Parameters!M286","v":1},{"$f":"Parameters!N286","v":1},{"$f":"Parameters!O286","v":1},{"$f":"Parameters!P286","v":1},{"$f":"Parameters!Q286","v":1},{"$f":"Parameters!R286","v":1},{"$f":"Parameters!S286","v":1},{"$f":"Parameters!T286","v":1},{"$f":"Parameters!U286","v":1},{"$f":"Parameters!V286","v":1},{"$f":"Parameters!W286","v":1},{"$f":"Parameters!X286","v":1},{"$f":"Parameters!Y286","v":1},{"$f":"Parameters!Z286","v":1},{"$f":"Parameters!AA286","v":1},{"$f":"Parameters!AB286","v":1},{"$f":"Parameters!AC286","v":1},{"$f":"Parameters!AD286","v":1},{"$f":"Parameters!AE286","v":1},{"$f":"Parameters!AF286","v":1},{"$f":"Parameters!AG286","v":1},{"$f":"Parameters!AH286","v":1},{"$f":"Parameters!AI286","v":1},{"$f":"Parameters!AJ286","v":1},{"$f":"Parameters!AK286","v":1},{"$f":"Parameters!AL286","v":1},{"$f":"Parameters!AM286","v":1},{"$f":"Parameters!AN286","v":1},{"$f":"Parameters!AO286","v":1},{"$f":"Parameters!AP286","v":1},{"$f":"Parameters!AQ286","v":1},{"$f":"Parameters!AR286","v":1},{"$f":"Parameters!AS286","v":1},{"$f":"Parameters!AT286","v":1},{"$f":"Parameters!AU286","v":1},{"$f":"Parameters!AV286","v":1},{"$f":"Parameters!AW286","v":1},{"$f":"Parameters!AX286","v":1},{"$f":"Parameters!AY286","v":1},{"$f":"Parameters!AZ286","v":1},{"$f":"Parameters!BA286","v":1},{"$f":"Parameters!BB286","v":1},{"$f":"Parameters!BC286","v":1},{"$f":"Parameters!BD286","v":1},{"$f":"Parameters!BE286","v":1},{"$f":"Parameters!BF286","v":1},{"$f":"Parameters!BG286","v":1},{"$f":"Parameters!BH286","v":1},{"$f":"Parameters!BI286","v":1},{"$f":"Parameters!BJ286","v":1},{"$f":"Parameters!BK286","v":1},{"$f":"Parameters!BL286","v":1},{"$f":"Parameters!BM286","v":1},{"$f":"Parameters!BN286","v":1}]
["S203",{"$f":"Parameters!K287","v":1},{"$f":"Parameters!L287","v":1},{"$f":"Parameters!M287","v":1},{"$f":"Parameters!N287","v":1},{"$f":"Parameters!O287","v":1},{"$f":"Parameters!P287","v":1},{"$f":"Parameters!Q287","v":1},{"$f":"Parameters!R287","v":1},{"$f":"Parameters!S287","v":1},{"$f":"Parameters!T287","v":1},{"$f":"Parameters!U287","v":1},{"$f":"Parameters!V287","v":1},{"$f":"Parameters!W287","v":1},{"$f":"Parameters!X287","v":1},{"$f":"Parameters!Y287","v":1},{"$f":"Parameters!Z287","v":1},{"$f":"Parameters!AA287","v":1},{"$f":"Parameters!AB287","v":1},{"$f":"Parameters!AC287","v":1},{"$f":"Parameters!AD287","v":1},{"$f":"Parameters!AE287","v":1},{"$f":"Parameters!AF287","v":1},{"$f":"Parameters!AG287","v":1},{"$f":"Parameters!AH287","v":1},{"$f":"Parameters!AI287","v":1},{"$f":"Parameters!AJ287","v":1},{"$f":"Parameters!AK287","v":1},{"$f":"Parameters!AL287","v":1},{"$f":"Parameters!AM287","v":1},{"$f":"Parameters!AN287","v":1},{"$f":"Parameters!AO287","v":1},{"$f":"Parameters!AP287","v":1},{"$f":"Parameters!AQ287","v":1},{"$f":"Parameters!AR287","v":1},{"$f":"Parameters!AS287","v":1},{"$f":"Parameters!AT287","v":1},{"$f":"Parameters!AU287","v":1},{"$f":"Parameters!AV287","v":1},{"$f":"Parameters!AW287","v":1},{"$f":"Parameters!AX287","v":1},{"$f":"Parameters!AY287","v":1},{"$f":"Parameters!AZ287","v":1},{"$f":"Parameters!BA287","v":1},{"$f":"Parameters!BB287","v":1},{"$f":"Parameters!BC287","v":1},{"$f":"Parameters!BD287","v":1},{"$f":"Parameters!BE287","v":1},{"$f":"Parameters!BF287","v":1},{"$f":"Parameters!BG287","v":1},{"$f":"Parameters!BH287","v":1},{"$f":"Parameters!BI287","v":1},{"$f":"Parameters!BJ287","v":1},{"$f":"Parameters!BK287","v":1},{"$f":"Parameters!BL287","v":1},{"$f":"Parameters!BM287","v":1},{"$f":"Parameters!BN287","v":1}]
["S204",{"$f":"Parameters!K288","v":1},{"$f":"Parameters!L288","v":1},{"$f":"Parameters!M288","v":1},{"$f":"Parameters!N288","v":1},{"$f":"Parameters!O288","v":1},{"$f":"Parameters!P288","v":1},{"$f":"Parameters!Q288","v":1},{"$f":"Parameters!R288","v":1},{"$f":"Parameters!S288","v":1},{"$f":"Parameters!T288","v":1},{"$f":"Parameters!U288","v":1},{"$f":"Parameters!V288","v":1},{"$f":"Parameters!W288","v":1},{"$f":"Parameters!X288","v":1},{"$f":"Parameters!Y288","v":1},{"$f":"Parameters!Z288","v":1},{"$f":"Parameters!AA288","v":1},{"$f":"Parameters!AB288","v":1},{"$f":"Parameters!AC288","v":1},{"$f":"Parameters!AD288","v":1},{"$f":"Parameters!AE288","v":1},{"$f":"Parameters!AF288","v":1},{"$f":"Parameters!AG288","v":1},{"$f":"Parameters!AH288","v":1},{"$f":"Parameters!AI288","v":1},{"$f":"Parameters!AJ288","v":1},{"$f":"Parameters!AK288","v":1},{"$f":"Parameters!AL288","v":1},{"$f":"Parameters!AM288","v":1},{"$f":"Parameters!AN288","v":1},{"$f":"Parameters!AO288","v":1},{"$f":"Parameters!AP288","v":1},{"$f":"Parameters!AQ288","v":1},{"$f":"Parameters!AR288","v":1},{"$f":"Parameters!AS288","v":1},{"$f":"Parameters!AT288","v":1},{"$f":"Parameters!AU288","v":1},{"$f":"Parameters!AV288","v":1},{"$f":"Parameters!AW288","v":1},{"$f":"Parameters!AX288","v":1},{"$f":"Parameters!AY288","v":1},{"$f":"Parameters!AZ288","v":1},{"$f":"Parameters!BA288","v":1},{"$f":"Parameters!BB288","v":1},{"$f":"Parameters!BC288","v":1},{"$f":"Parameters!BD288","v":1},{"$f":"Parameters!BE288","v":1},{"$f":"Parameters!BF288","v":1},{"$f":"Parameters!BG288","v":1},{"$f":"Parameters!BH288","v":1},{"$f":"Parameters!BI288","v":1},{"$f":"Parameters!BJ288","v":1},{"$f":"Parameters!BK288","v":1},{"$f":"Parameters!BL288","v":1},{"$f":"Parameters!BM288","v":1},{"$f":"Parameters!BN288","v":1}]
["S205",{"$f":"Parameters!K289","v":1},{"$f":"Parameters!L289","v":1},{"$f":"Parameters!M289","v":1},{"$f":"Parameters!N289","v":1},{"$f":"Parameters!O289","v":1},{"$f":"Parameters!P289","v":1},{"$f":"Parameters!Q289","v":1},{"$f":"Parameters!R289","v":1},{"$f":"Parameters!S289","v":1},{"$f":"Parameters!T289","v":1},{"$f":"Parameters!U289","v":1},{"$f":"Parameters!V289","v":1},{"$f":"Parameters!W289","v":1},{"$f":"Parameters!X289","v":1},{"$f":"Parameters!Y289","v":1},{"$f":"Parameters!Z289","v":1},{"$f":"Parameters!AA289","v":1},{"$f":"Parameters!AB289","v":1},{"$f":"Parameters!AC289","v":1},{"$f":"Parameters!AD289","v":1},{"$f":"Parameters!AE289","v":1},{"$f":"Parameters!AF289","v":1},{"$f":"Parameters!AG289","v":1},{"$f":"Parameters!AH289","v":1},{"$f":"Parameters!AI289","v":1},{"$f":"Parameters!AJ289","v":1},{"$f":"Parameters!AK289","v":1},{"$f":"Parameters!AL289","v":1},{"$f":"Parameters!AM289","v":1},{"$f":"Parameters!AN289","v":1},{"$f":"Parameters!AO289","v":1},{"$f":"Parameters!AP289","v":1},{"$f":"Parameters!AQ289","v":1},{"$f":"Parameters!AR289","v":1},{"$f":"Parameters!AS289","v":1},{"$f":"Parameters!AT289","v":1},{"$f":"Parameters!AU289","v":1},{"$f":"Parameters!AV289","v":1},{"$f":"Parameters!AW289","v":1},{"$f":"Parameters!AX289","v":1},{"$f":"Parameters!AY289","v":1},{"$f":"Parameters!AZ289","v":1},{"$f":"Parameters!BA289","v":1},{"$f":"Parameters!BB289","v":1},{"$f":"Parameters!BC289","v":1},{"$f":"Parameters!BD289","v":1},{"$f":"Parameters!BE289","v":1},{"$f":"Parameters!BF289","v":1},{"$f":"Parameters!BG289","v":1},{"$f":"Parameters!BH289","v":1},{"$f":"Parameters!BI289","v":1},{"$f":"Parameters!BJ289","v":1},{"$f":"Parameters!BK289","v":1},{"$f":"Parameters!BL289","v":1},{"$f":"Parameters!BM289","v":1},{"$f":"Parameters!BN289","v":1}]
["S206",{"$f":"Parameters!K290","v":1},{"$f":"Parameters!L290","v":1},{"$f":"Parameters!M290","v":1},{"$f":"Parameters!N290","v":1},{"$f":"Parameters!O290","v":1},{"$f":"Parameters!P290","v":1},{"$f":"Parameters!Q290","v":1},{"$f":"Parameters!R290","v":1},{"$f":"Parameters!S290","v":1},{"$f":"Parameters!T290","v":1},{"$f":"Parameters!U290","v":1},{"$f":"Parameters!V290","v":1},{"$f":"Parameters!W290","v":1},{"$f":"Parameters!X290","v":1},{"$f":"Parameters!Y290","v":1},{"$f":"Parameters!Z290","v":1},{"$f":"Parameters!AA290","v":1},{"$f":"Parameters!AB290","v":1},{"$f":"Parameters!AC290","v":1},{"$f":"Parameters!AD290","v":1},{"$f":"Parameters!AE290","v":1},{"$f":"Parameters!AF290","v":1},{"$f":"Parameters!AG290","v":1},{"$f":"Parameters!AH290","v":1},{"$f":"Parameters!AI290","v":1},{"$f":"Parameters!AJ290","v":1},{"$f":"Parameters!AK290","v":1},{"$f":"Parameters!AL290","v":1},{"$f":"Parameters!AM290","v":1},{"$f":"Parameters!AN290","v":1},{"$f":"Parameters!AO290","v":1},{"$f":"Parameters!AP290","v":1},{"$f":"Parameters!AQ290","v":1},{"$f":"Parameters!AR290","v":1},{"$f":"Parameters!AS290","v":1},{"$f":"Parameters!AT290","v":1},{"$f":"Parameters!AU290","v":1},{"$f":"Parameters!AV290","v":1},{"$f":"Parameters!AW290","v":1},{"$f":"Parameters!AX290","v":1},{"$f":"Parameters!AY290","v":1},{"$f":"Parameters!AZ290","v":1},{"$f":"Parameters!BA290","v":1},{"$f":"Parameters!BB290","v":1},{"$f":"Parameters!BC290","v":1},{"$f":"Parameters!BD290","v":1},{"$f":"Parameters!BE290","v":1},{"$f":"Parameters!BF290","v":1},{"$f":"Parameters!BG290","v":1},{"$f":"Parameters!BH290","v":1},{"$f":"Parameters!BI290","v":1},{"$f":"Parameters!BJ290","v":1},{"$f":"Parameters!BK290","v":1},{"$f":"Parameters!BL290","v":1},{"$f":"Parameters!BM290","v":1},{"$f":"Parameters!BN290","v":1}]
["S207",{"$f":"Parameters!K291","v":1},{"$f":"Parameters!L291","v":1},{"$f":"Parameters!M291","v":1},{"$f":"Parameters!N291","v":1},{"$f":"Parameters!O291","v":1},{"$f":"Parameters!P291","v":1},{"$f":"Parameters!Q291","v":1},{"$f":"Parameters!R291","v":1},{"$f":"Parameters!S291","v":1},{"$f":"Parameters!T291","v":1},{"$f":"Parameters!U291","v":1},{"$f":"Parameters!V291","v":1},{"$f":"Parameters!W291","v":1},{"$f":"Parameters!X291","v":1},{"$f":"Parameters!Y291","v":1},{"$f":"Parameters!Z291","v":1},{"$f":"Parameters!AA291","v":1},{"$f":"Parameters!AB291","v":1},{"$f":"Parameters!AC291","v":1},{"$f":"Parameters!AD291","v":1},{"$f":"Parameters!AE291","v":1},{"$f":"Parameters!AF291","v":1},{"$f":"Parameters!AG291","v":1},{"$f":"Parameters!AH291","v":1},{"$f":"Parameters!AI291","v":1},{"$f":"Parameters!AJ291","v":1},{"$f":"Parameters!AK291","v":1},{"$f":"Parameters!AL291","v":1},{"$f":"Parameters!AM291","v":1},{"$f":"Parameters!AN291","v":1},{"$f":"Parameters!AO291","v":1},{"$f":"Parameters!AP291","v":1},{"$f":"Parameters!AQ291","v":1},{"$f":"Parameters!AR291","v":1},{"$f":"Parameters!AS291","v":1},{"$f":"Parameters!AT291","v":1},{"$f":"Parameters!AU291","v":1},{"$f":"Parameters!AV291","v":1},{"$f":"Parameters!AW291","v":1},{"$f":"Parameters!AX291","v":1},{"$f":"Parameters!AY291","v":1},{"$f":"Parameters!AZ291","v":1},{"$f":"Parameters!BA291","v":1},{"$f":"Parameters!BB291","v":1},{"$f":"Parameters!BC291","v":1},{"$f":"Parameters!BD291","v":1},{"$f":"Parameters!BE291","v":1},{"$f":"Parameters!BF291","v":1},{"$f":"Parameters!BG291","v":1},{"$f":"Parameters!BH291","v":1},{"$f":"Parameters!BI291","v":1},{"$f":"Parameters!BJ291","v":1},{"$f":"Parameters!BK291","v":1},{"$f":"Parameters!BL291","v":1},{"$f":"Parameters!BM291","v":1},{"$f":"Parameters!BN291","v":1}]
["S208",{"$f":"Parameters!K292","v":1},{"$f":"Parameters!L292","v":1},{"$f":"Parameters!M292","v":1},{"$f":"Parameters!N292","v":1},{"$f":"Parameters!O292","v":1},{"$f":"Parameters!P292","v":1},{"$f":"Parameters!Q292","v":1},{"$f":"Parameters!R292","v":1},{"$f":"Parameters!S292","v":1},{"$f":"Parameters!T292","v":1},{"$f":"Parameters!U292","v":1},{"$f":"Parameters!V292","v":1},{"$f":"Parameters!W292","v":1},{"$f":"Parameters!X292","v":1},{"$f":"Parameters!Y292","v":1},{"$f":"Parameters!Z292","v":1},{"$f":"Parameters!AA292","v":1},{"$f":"Parameters!AB292","v":1},{"$f":"Parameters!AC292","v":1},{"$f":"Parameters!AD292","v":1},{"$f":"Parameters!AE292","v":1},{"$f":"Parameters!AF292","v":1},{"$f":"Parameters!AG292","v":1},{"$f":"Parameters!AH292","v":1},{"$f":"Parameters!AI292","v":1},{"$f":"Parameters!AJ292","v":1},{"$f":"Parameters!AK292","v":1},{"$f":"Parameters!AL292","v":1},{"$f":"Parameters!AM292","v":1},{"$f":"Parameters!AN292","v":1},{"$f":"Parameters!AO292","v":1},{"$f":"Parameters!AP292","v":1},{"$f":"Parameters!AQ292","v":1},{"$f":"Parameters!AR292","v":1},{"$f":"Parameters!AS292","v":1},{"$f":"Parameters!AT292","v":1},{"$f":"Parameters!AU292","v":1},{"$f":"Parameters!AV292","v":1},{"$f":"Parameters!AW292","v":1},{"$f":"Parameters!AX292","v":1},{"$f":"Parameters!AY292","v":1},{"$f":"Parameters!AZ292","v":1},{"$f":"Parameters!BA292","v":1},{"$f":"Parameters!BB292","v":1},{"$f":"Parameters!BC292","v":1},{"$f":"Parameters!BD292","v":1},{"$f":"Parameters!BE292","v":1},{"$f":"Parameters!BF292","v":1},{"$f":"Parameters!BG292","v":1},{"$f":"Parameters!BH292","v":1},{"$f":"Parameters!BI292","v":1},{"$f":"Parameters!BJ292","v":1},{"$f":"Parameters!BK292","v":1},{"$f":"Parameters!BL292","v":1},{"$f":"Parameters!BM292","v":1},{"$f":"Parameters!BN292","v":1}]
["S209",{"$f":"Parameters!K293","v":1},{"$f":"Parameters!L293","v":1},{"$f":"Parameters!M293","v":1},{"$f":"Parameters!N293","v":1},{"$f":"Parameters!O293","v":1},{"$f":"Parameters!P293","v":1},{"$f":"Parameters!Q293","v":1},{"$f":"Parameters!R293","v":1},{"$f":"Parameters!S293","v":1},{"$f":"Parameters!T293","v":1},{"$f":"Parameters!U293","v":1},{"$f":"Parameters!V293","v":1},{"$f":"Parameters!W293","v":1},{"$f":"Parameters!X293","v":1},{"$f":"Parameters!Y293","v":1},{"$f":"Parameters!Z293","v":1},{"$f":"Parameters!AA293","v":1},{"$f":"Parameters!AB293","v":1},{"$f":"Parameters!AC293","v":1},{"$f":"Parameters!AD293","v":1},{"$f":"Parameters!AE293","v":1},{"$f":"Parameters!AF293","v":1},{"$f":"Parameters!AG293","v":1},{"$f":"Parameters!AH293","v":1},{"$f":"Parameters!AI293","v":1},{"$f":"Parameters!AJ293","v":1},{"$f":"Parameters!AK293","v":1},{"$f":"Parameters!AL293","v":1},{"$f":"Parameters!AM293","v":1},{"$f":"Parameters!AN293","v":1},{"$f":"Parameters!AO293","v":1},{"$f":"Parameters!AP293","v":1},{"$f":"Parameters!AQ293","v":1},{"$f":"Parameters!AR293","v":1},{"$f":"Parameters!AS293","v":1},{"$f":"Parameters!AT293","v":1},{"$f":"Parameters!AU293","v":1},{"$f":"Parameters!AV293","v":1},{"$f":"Parameters!AW293","v":1},{"$f":"Parameters!AX293","v":1},{"$f":"Parameters!AY293","v":1},{"$f":"Parameters!AZ293","v":1},{"$f":"Parameters!BA293","v":1},{"$f":"Parameters!BB293","v":1},{"$f":"Parameters!BC293","v":1},{"$f":"Parameters!BD293","v":1},{"$f":"Parameters!BE293","v":1},{"$f":"Parameters!BF293","v":1},{"$f":"Parameters!BG293","v":1},{"$f":"Parameters!BH293","v":1},{"$f":"Parameters!BI293","v":1},{"$f":"Parameters!BJ293","v":1},{"$f":"Parameters!BK293","v":1},{"$f":"Parameters!BL293","v":1},{"$f":"Parameters!BM293","v":1},{"$f":"Parameters!BN293","v":1}]
["S210",{"$f":"Parameters!K294","v":1},{"$f":"Parameters!L294","v":1},{"$f":"Parameters!M294","v":1},{"$f":"Parameters!N294","v":1},{"$f":"Parameters!O294","v":1},{"$f":"Parameters!P294","v":1},{"$f":"Parameters!Q294","v":1},{"$f":"Parameters!R294","v":1},{"$f":"Parameters!S294","v":1},{"$f":"Parameters!T294","v":1},{"$f":"Parameters!U294","v":1},{"$f":"Parameters!V294","v":1},{"$f":"Parameters!W294","v":1},{"$f":"Parameters!X294","v":1},{"$f":"Parameters!Y294","v":1},{"$f":"Parameters!Z294","v":1},{"$f":"Parameters!AA294","v":1},{"$f":"Parameters!AB294","v":1},{"$f":"Parameters!AC294","v":1},{"$f":"Parameters!AD294","v":1},{"$f":"Parameters!AE294","v":1},{"$f":"Parameters!AF294","v":1},{"$f":"Parameters!AG294","v":1},{"$f":"Parameters!AH294","v":1},{"$f":"Parameters!AI294","v":1},{"$f":"Parameters!AJ294","v":1},{"$f":"Parameters!AK294","v":1},{"$f":"Parameters!AL294","v":1},{"$f":"Parameters!AM294","v":1},{"$f":"Parameters!AN294","v":1},{"$f":"Parameters!AO294","v":1},{"$f":"Parameters!AP294","v":1},{"$f":"Parameters!AQ294","v":1},{"$f":"Parameters!AR294","v":1},{"$f":"Parameters!AS294","v":1},{"$f":"Parameters!AT294","v":1},{"$f":"Parameters!AU294","v":1},{"$f":"Parameters!AV294","v":1},{"$f":"Parameters!AW294","v":1},{"$f":"Parameters!AX294","v":1},{"$f":"Parameters!AY294","v":1},{"$f":"Parameters!AZ294","v":1},{"$f":"Parameters!BA294","v":1},{"$f":"Parameters!BB294","v":1},{"$f":"Parameters!BC294","v":1},{"$f":"Parameters!BD294","v":1},{"$f":"Parameters!BE294","v":1},{"$f":"Parameters!BF294","v":1},{"$f":"Parameters!BG294","v":1},{"$f":"Parameters!BH294","v":1},{"$f":"Parameters!BI294","v":1},{"$f":"Parameters!BJ294","v":1},{"$f":"Parameters!BK294","v":1},{"$f":"Parameters!BL294","v":1},{"$f":"Parameters!BM294","v":1},{"$f":"Parameters!BN294","v":1}]
["S211",{"$f":"Parameters!K295","v":1},{"$f":"Parameters!L295","v":1},{"$f":"Parameters!M295","v":1},{"$f":"Parameters!N295","v":1},{"$f":"Parameters!O295","v":1},{"$f":"Parameters!P295","v":1},{"$f":"Parameters!Q295","v":1},{"$f":"Parameters!R295","v":1},{"$f":"Parameters!S295","v":1},{"$f":"Parameters!T295","v":1},{"$f":"Parameters!U295","v":1},{"$f":"Parameters!V295","v":1},{"$f":"Parameters!W295","v":1},{"$f":"Parameters!X295","v":1},{"$f":"Parameters!Y295","v":1},{"$f":"Parameters!Z295","v":1},{"$f":"Parameters!AA295","v":1},{"$f":"Parameters!AB295","v":1},{"$f":"Parameters!AC295","v":1},{"$f":"Parameters!AD295","v":1},{"$f":"Parameters!AE295","v":1},{"$f":"Parameters!AF295","v":1},{"$f":"Parameters!AG295","v":1},{"$f":"Parameters!AH295","v":1},{"$f":"Parameters!AI295","v":1},{"$f":"Parameters!AJ295","v":1},{"$f":"Parameters!AK295","v":1},{"$f":"Parameters!AL295","v":1},{"$f":"Parameters!AM295","v":1},{"$f":"Parameters!AN295","v":1},{"$f":"Parameters!AO295","v":1},{"$f":"Parameters!AP295","v":1},{"$f":"Parameters!AQ295","v":1},{"$f":"Parameters!AR295","v":1},{"$f":"Parameters!AS295","v":1},{"$f":"Parameters!AT295","v":1},{"$f":"Parameters!AU295","v":1},{"$f":"Parameters!AV295","v":1},{"$f":"Parameters!AW295","v":1},{"$f":"Parameters!AX295","v":1},{"$f":"Parameters!AY295","v":1},{"$f":"Parameters!AZ295","v":1},{"$f":"Parameters!BA295","v":1},{"$f":"Parameters!BB295","v":1},{"$f":"Parameters!BC295","v":1},{"$f":"Parameters!BD295","v":1},{"$f":"Parameters!BE295","v":1},{"$f":"Parameters!BF295","v":1},{"$f":"Parameters!BG295","v":1},{"$f":"Parameters!BH295","v":1},{"$f":"Parameters!BI295","v":1},{"$f":"Parameters!BJ295","v":1},{"$f":"Parameters!BK295","v":1},{"$f":"Parameters!BL295","v":1},{"$f":"Parameters!BM295","v":1},{"$f":"Parameters!BN295","v":1}]
["S212",{"$f":"Parameters!K296","v":1},{"$f":"Parameters!L296","v":1},{"$f":"Parameters!M296","v":1},{"$f":"Parameters!N296","v":1},{"$f":"Parameters!O296","v":1},{"$f":"Parameters!P296","v":1},{"$f":"Parameters!Q296","v":1},{"$f":"Parameters!R296","v":1},{"$f":"Parameters!S296","v":1},{"$f":"Parameters!T296","v":1},{"$f":"Parameters!U296","v":1},{"$f":"Parameters!V296","v":1},{"$f":"Parameters!W296","v":1},{"$f":"Parameters!X296","v":1},{"$f":"Parameters!Y296","v":1},{"$f":"Parameters!Z296","v":1},{"$f":"Parameters!AA296","v":1},{"$f":"Parameters!AB296","v":1},{"$f":"Parameters!AC296","v":1},{"$f":"Parameters!AD296","v":1},{"$f":"Parameters!AE296","v":1},{"$f":"Parameters!AF296","v":1},{"$f":"Parameters!AG296","v":1},{"$f":"Parameters!AH296","v":1},{"$f":"Parameters!AI296","v":1},{"$f":"Parameters!AJ296","v":1},{"$f":"Parameters!AK296","v":1},{"$f":"Parameters!AL296","v":1},{"$f":"Parameters!AM296","v":1},{"$f":"Parameters!AN296","v":1},{"$f":"Parameters!AO296","v":1},{"$f":"Parameters!AP296","v":1},{"$f":"Parameters!AQ296","v":1},{"$f":"Parameters!AR296","v":1},{"$f":"Parameters!AS296","v":1},{"$f":"Parameters!AT296","v":1},{"$f":"Parameters!AU296","v":1},{"$f":"Parameters!AV296","v":1},{"$f":"Parameters!AW296","v":1},{"$f":"Parameters!AX296","v":1},{"$f":"Parameters!AY296","v":1},{"$f":"Parameters!AZ296","v":1},{"$f":"Parameters!BA296","v":1},{"$f":"Parameters!BB296","v":1},{"$f":"Parameters!BC296","v":1},{"$f":"Parameters!BD296","v":1},{"$f":"Parameters!BE296","v":1},{"$f":"Parameters!BF296","v":1},{"$f":"Parameters!BG296","v":1},{"$f":"Parameters!BH296","v":1},{"$f":"Parameters!BI296","v":1},{"$f":"Parameters!BJ296","v":1},{"$f":"Parameters!BK296","v":1},{"$f":"Parameters!BL296","v":1},{"$f":"Parameters!BM296","v":1},{"$f":"Parameters!BN296","v":1}]
["S213",{"$f":"Parameters!K297","v":1},{"$f":"Parameters!L297","v":1},{"$f":"Parameters!M297","v":1},{"$f":"Parameters!N297","v":1},{"$f":"Parameters!O297","v":1},{"$f":"Parameters!P297","v":1},{"$f":"Parameters!Q297","v":1},{"$f":"Parameters!R297","v":1},{"$f":"Parameters!S297","v":1},{"$f":"Parameters!T297","v":1},{"$f":"Parameters!U297","v":1},{"$f":"Parameters!V297","v":1},{"$f":"Parameters!W297","v":1},{"$f":"Parameters!X297","v":1},{"$f":"Parameters!Y297","v":1},{"$f":"Parameters!Z297","v":1},{"$f":"Parameters!AA297","v":1},{"$f":"Parameters!AB297","v":1},{"$f":"Parameters!AC297","v":1},{"$f":"Parameters!AD297","v":1},{"$f":"Parameters!AE297","v":1},{"$f":"Parameters!AF297","v":1},{"$f":"Parameters!AG297","v":1},{"$f":"Parameters!AH297","v":1},{"$f":"Parameters!AI297","v":1},{"$f":"Parameters!AJ297","v":1},{"$f":"Parameters!AK297","v":1},{"$f":"Parameters!AL297","v":1},{"$f":"Parameters!AM297","v":1},{"$f":"Parameters!AN297","v":1},{"$f":"Parameters!AO297","v":1},{"$f":"Parameters!AP297","v":1},{"$f":"Parameters!AQ297","v":1},{"$f":"Parameters!AR297","v":1},{"$f":"Parameters!AS297","v":1},{"$f":"Parameters!AT297","v":1},{"$f":"Parameters!AU297","v":1},{"$f":"Parameters!AV297","v":1},{"$f":"Parameters!AW297","v":1},{"$f":"Parameters!AX297","v":1},{"$f":"Parameters!AY297","v":1},{"$f":"Parameters!AZ297","v":1},{"$f":"Parameters!BA297","v":1},{"$f":"Parameters!BB297","v":1},{"$f":"Parameters!BC297","v":1},{"$f":"Parameters!BD297","v":1},{"$f":"Parameters!BE297","v":1},{"$f":"Parameters!BF297","v":1},{"$f":"Parameters!BG297","v":1},{"$f":"Parameters!BH297","v":1},{"$f":"Parameters!BI297","v":1},{"$f":"Parameters!BJ297","v":1},{"$f":"Parameters!BK297","v":1},{"$f":"Parameters!BL297","v":1},{"$f":"Parameters!BM297","v":1},{"$f":"Parameters!BN297","v":1}]
["S214",{"$f":"Parameters!K298","v":1},{"$f":"Parameters!L298","v":1},{"$f":"Parameters!M298","v":1},{"$f":"Parameters!N298","v":1},{"$f":"Parameters!O298","v":1},{"$f":"Parameters!P298","v":1},{"$f":"Parameters!Q298","v":1},{"$f":"Parameters!R298","v":1},{"$f":"Parameters!S298","v":1},{"$f":"Parameters!T298","v":1},{"$f":"Parameters!U298","v":1},{"$f":"Parameters!V298","v":1},{"$f":"Parameters!W298","v":1},{"$f":"Parameters!X298","v":1},{"$f":"Parameters!Y298","v":1},{"$f":"Parameters!Z298","v":1},{"$f":"Parameters!AA298","v":1},{"$f":"Parameters!AB298","v":1},{"$f":"Parameters!AC298","v":1},{"$f":"Parameters!AD298","v":1},{"$f":"Parameters!AE298","v":1},{"$f":"Parameters!AF298","v":1},{"$f":"Parameters!AG298","v":1},{"$f":"Parameters!AH298","v":1},{"$f":"Parameters!AI298","v":1},{"$f":"Parameters!AJ298","v":1},{"$f":"Parameters!AK298","v":1},{"$f":"Parameters!AL298","v":1},{"$f":"Parameters!AM298","v":1},{"$f":"Parameters!AN298","v":1},{"$f":"Parameters!AO298","v":1},{"$f":"Parameters!AP298","v":1},{"$f":"Parameters!AQ298","v":1},{"$f":"Parameters!AR298","v":1},{"$f":"Parameters!AS298","v":1},{"$f":"Parameters!AT298","v":1},{"$f":"Parameters!AU298","v":1},{"$f":"Parameters!AV298","v":1},{"$f":"Parameters!AW298","v":1},{"$f":"Parameters!AX298","v":1},{"$f":"Parameters!AY298","v":1},{"$f":"Parameters!AZ298","v":1},{"$f":"Parameters!BA298","v":1},{"$f":"Parameters!BB298","v":1},{"$f":"Parameters!BC298","v":1},{"$f":"Parameters!BD298","v":1},{"$f":"Parameters!BE298","v":1},{"$f":"Parameters!BF298","v":1},{"$f":"Parameters!BG298","v":1},{"$f":"Parameters!BH298","v":1},{"$f":"Parameters!BI298","v":1},{"$f":"Parameters!BJ298","v":1},{"$f":"Parameters!BK298","v":1},{"$f":"Parameters!BL298","v":1},{"$f":"Parameters!BM298","v":1},{"$f":"Parameters!BN298","v":1}]
["S215",{"$f":"Parameters!K299","v":1},{"$f":"Parameters!L299","v":1},{"$f":"Parameters!M299","v":1},{"$f":"Parameters!N299","v":1},{"$f":"Parameters!O299","v":1},{"$f":"Parameters!P299","v":1},{"$f":"Parameters!Q299","v":1},{"$f":"Parameters!R299","v":1},{"$f":"Parameters!S299","v":1},{"$f":"Parameters!T299","v":1},{"$f":"Parameters!U299","v":1},{"$f":"Parameters!V299","v":1},{"$f":"Parameters!W299","v":1},{"$f":"Parameters!X299","v":1},{"$f":"Parameters!Y299","v":1},{"$f":"Parameters!Z299","v":1},{"$f":"Parameters!AA299","v":1},{"$f":"Parameters!AB299","v":1},{"$f":"Parameters!AC299","v":1},{"$f":"Parameters!AD299","v":1},{"$f":"Parameters!AE299","v":1},{"$f":"Parameters!AF299","v":1},{"$f":"Parameters!AG299","v":1},{"$f":"Parameters!AH299","v":1},{"$f":"Parameters!AI299","v":1},{"$f":"Parameters!AJ299","v":1},{"$f":"Parameters!AK299","v":1},{"$f":"Parameters!AL299","v":1},{"$f":"Parameters!AM299","v":1},{"$f":"Parameters!AN299","v":1},{"$f":"Parameters!AO299","v":1},{"$f":"Parameters!AP299","v":1},{"$f":"Parameters!AQ299","v":1},{"$f":"Parameters!AR299","v":1},{"$f":"Parameters!AS299","v":1},{"$f":"Parameters!AT299","v":1},{"$f":"Parameters!AU299","v":1},{"$f":"Parameters!AV299","v":1},{"$f":"Parameters!AW299","v":1},{"$f":"Parameters!AX299","v":1},{"$f":"Parameters!AY299","v":1},{"$f":"Parameters!AZ299","v":1},{"$f":"Parameters!BA299","v":1},{"$f":"Parameters!BB299","v":1},{"$f":"Parameters!BC299","v":1},{"$f":"Parameters!BD299","v":1},{"$f":"Parameters!BE299","v":1},{"$f":"Parameters!BF299","v":1},{"$f":"Parameters!BG299","v":1},{"$f":"Parameters!BH299","v":1},{"$f":"Parameters!BI299","v":1},{"$f":"Parameters!BJ299","v":1},{"$f":"Parameters!BK299","v":1},{"$f":"Parameters!BL299","v":1},{"$f":"Parameters!BM299","v":1},{"$f":"Parameters!BN299","v":1}]
["S216",{"$f":"Parameters!K300","v":1},{"$f":"Parameters!L300","v":1},{"$f":"Parameters!M300","v":1},{"$f":"Parameters!N300","v":1},{"$f":"Parameters!O300","v":1},{"$f":"Parameters!P300","v":1},{"$f":"Parameters!Q300","v":1},{"$f":"Parameters!R300","v":1},{"$f":"Parameters!S300","v":1},{"$f":"Parameters!T300","v":1},{"$f":"Parameters!U300","v":1},{"$f":"Parameters!V300","v":1},{"$f":"Parameters!W300","v":1},{"$f":"Parameters!X300","v":1},{"$f":"Parameters!Y300","v":1},{"$f":"Parameters!Z300","v":1},{"$f":"Parameters!AA300","v":1},{"$f":"Parameters!AB300","v":1},{"$f":"Parameters!AC300","v":1},{"$f":"Parameters!AD300","v":1},{"$f":"Parameters!AE300","v":1},{"$f":"Parameters!AF300","v":1},{"$f":"Parameters!AG300","v":1},{"$f":"Parameters!AH300","v":1},{"$f":"Parameters!AI300","v":1},{"$f":"Parameters!AJ300","v":1},{"$f":"Parameters!AK300","v":1},{"$f":"Parameters!AL300","v":1},{"$f":"Parameters!AM300","v":1},{"$f":"Parameters!AN300","v":1},{"$f":"Parameters!AO300","v":1},{"$f":"Parameters!AP300","v":1},{"$f":"Parameters!AQ300","v":1},{"$f":"Parameters!AR300","v":1},{"$f":"Parameters!AS300","v":1},{"$f":"Parameters!AT300","v":1},{"$f":"Parameters!AU300","v":1},{"$f":"Parameters!AV300","v":1},{"$f":"Parameters!AW300","v":1},{"$f":"Parameters!AX300","v":1},{"$f":"Parameters!AY300","v":1},{"$f":"Parameters!AZ300","v":1},{"$f":"Parameters!BA300","v":1},{"$f":"Parameters!BB300","v":1},{"$f":"Parameters!BC300","v":1},{"$f":"Parameters!BD300","v":1},{"$f":"Parameters!BE300","v":1},{"$f":"Parameters!BF300","v":1},{"$f":"Parameters!BG300","v":1},{"$f":"Parameters!BH300","v":1},{"$f":"Parameters!BI300","v":1},{"$f":"Parameters!BJ300","v":1},{"$f":"Parameters!BK300","v":1},{"$f":"Parameters!BL300","v":1},{"$f":"Parameters!BM300","v":1},{"$f":"Parameters!BN300","v":1}]
["S217",{"$f":"Parameters!K301","v":1},{"$f":"Parameters!L301","v":1},{"$f":"Parameters!M301","v":1},{"$f":"Parameters!N301","v":1},{"$f":"Parameters!O301","v":1},{"$f":"Parameters!P301","v":1},{"$f":"Parameters!Q301","v":1},{"$f":"Parameters!R301","v":1},{"$f":"Parameters!S301","v":1},{"$f":"Parameters!T301","v":1},{"$f":"Parameters!U301","v":1},{"$f":"Parameters!V301","v":1},{"$f":"Parameters!W301","v":1},{"$f":"Parameters!X301","v":1},{"$f":"Parameters!Y301","v":1},{"$f":"Parameters!Z301","v":1},{"$f":"Parameters!AA301","v":1},{"$f":"Parameters!AB301","v":1},{"$f":"Parameters!AC301","v":1},{"$f":"Parameters!AD301","v":1},{"$f":"Parameters!AE301","v":1},{"$f":"Parameters!AF301","v":1},{"$f":"Parameters!AG301","v":1},{"$f":"Parameters!AH301","v":1},{"$f":"Parameters!AI301","v":1},{"$f":"Parameters!AJ301","v":1},{"$f":"Parameters!AK301","v":1},{"$f":"Parameters!AL301","v":1},{"$f":"Parameters!AM301","v":1},{"$f":"Parameters!AN301","v":1},{"$f":"Parameters!AO301","v":1},{"$f":"Parameters!AP301","v":1},{"$f":"Parameters!AQ301","v":1},{"$f":"Parameters!AR301","v":1},{"$f":"Parameters!AS301","v":1},{"$f":"Parameters!AT301","v":1},{"$f":"Parameters!AU301","v":1},{"$f":"Parameters!AV301","v":1},{"$f":"Parameters!AW301","v":1},{"$f":"Parameters!AX301","v":1},{"$f":"Parameters!AY301","v":1},{"$f":"Parameters!AZ301","v":1},{"$f":"Parameters!BA301","v":1},{"$f":"Parameters!BB301","v":1},{"$f":"Parameters!BC301","v":1},{"$f":"Parameters!BD301","v":1},{"$f":"Parameters!BE301","v":1},{"$f":"Parameters!BF301","v":1},{"$f":"Parameters!BG301","v":1},{"$f":"Parameters!BH301","v":1},{"$f":"Parameters!BI301","v":1},{"$f":"Parameters!BJ301","v":1},{"$f":"Parameters!BK301","v":1},{"$f":"Parameters!BL301","v":1},{"$f":"Parameters!BM301","v":1},{"$f":"Parameters!BN301","v":1}]
["S218",{"$f":"Parameters!K302","v":1},{"$f":"Parameters!L302","v":1},{"$f":"Parameters!M302","v":1},{"$f":"Parameters!N302","v":1},{"$f":"Parameters!O302","v":1},{"$f":"Parameters!P302","v":1},{"$f":"Parameters!Q302","v":1},{"$f":"Parameters!R302","v":1},{"$f":"Parameters!S302","v":1},{"$f":"Parameters!T302","v":1},{"$f":"Parameters!U302","v":1},{"$f":"Parameters!V302","v":1},{"$f":"Parameters!W302","v":1},{"$f":"Parameters!X302","v":1},{"$f":"Parameters!Y302","v":1},{"$f":"Parameters!Z302","v":1},{"$f":"Parameters!AA302","v":1},{"$f":"Parameters!AB302","v":1},{"$f":"Parameters!AC302","v":1},{"$f":"Parameters!AD302","v":1},{"$f":"Parameters!AE302","v":1},{"$f":"Parameters!AF302","v":1},{"$f":"Parameters!AG302","v":1},{"$f":"Parameters!AH302","v":1},{"$f":"Parameters!AI302","v":1},{"$f":"Parameters!AJ302","v":1},{"$f":"Parameters!AK302","v":1},{"$f":"Parameters!AL302","v":1},{"$f":"Parameters!AM302","v":1},{"$f":"Parameters!AN302","v":1},{"$f":"Parameters!AO302","v":1},{"$f":"Parameters!AP302","v":1},{"$f":"Parameters!AQ302","v":1},{"$f":"Parameters!AR302","v":1},{"$f":"Parameters!AS302","v":1},{"$f":"Parameters!AT302","v":1},{"$f":"Parameters!AU302","v":1},{"$f":"Parameters!AV302","v":1},{"$f":"Parameters!AW302","v":1},{"$f":"Parameters!AX302","v":1},{"$f":"Parameters!AY302","v":1},{"$f":"Parameters!AZ302","v":1},{"$f":"Parameters!BA302","v":1},{"$f":"Parameters!BB302","v":1},{"$f":"Parameters!BC302","v":1},{"$f":"Parameters!BD302","v":1},{"$f":"Parameters!BE302","v":1},{"$f":"Parameters!BF302","v":1},{"$f":"Parameters!BG302","v":1},{"$f":"Parameters!BH302","v":1},{"$f":"Parameters!BI302","v":1},{"$f":"Parameters!BJ302","v":1},{"$f":"Parameters!BK302","v":1},{"$f":"Parameters!BL302","v":1},{"$f":"Parameters!BM302","v":1},{"$f":"Parameters!BN302","v":1}]
["S219",{"$f":"Parameters!K303","v":1},{"$f":"Parameters!L303","v":1},{"$f":"Parameters!M303","v":1},{"$f":"Parameters!N303","v":1},{"$f":"Parameters!O303","v":1},{"$f":"Parameters!P303","v":1},{"$f":"Parameters!Q303","v":1},{"$f":"Parameters!R303","v":1},{"$f":"Parameters!S303","v":1},{"$f":"Parameters!T303","v":1},{"$f":"Parameters!U303","v":1},{"$f":"Parameters!V303","v":1},{"$f":"Parameters!W303","v":1},{"$f":"Parameters!X303","v":1},{"$f":"Parameters!Y303","v":1},{"$f":"Parameters!Z303","v":1},{"$f":"Parameters!AA303","v":1},{"$f":"Parameters!AB303","v":1},{"$f":"Parameters!AC303","v":1},{"$f":"Parameters!AD303","v":1},{"$f":"Parameters!AE303","v":1},{"$f":"Parameters!AF303","v":1},{"$f":"Parameters!AG303","v":1},{"$f":"Parameters!AH303","v":1},{"$f":"Parameters!AI303","v":1},{"$f":"Parameters!AJ303","v":1},{"$f":"Parameters!AK303","v":1},{"$f":"Parameters!AL303","v":1},{"$f":"Parameters!AM303","v":1},{"$f":"Parameters!AN303","v":1},{"$f":"Parameters!AO303","v":1},{"$f":"Parameters!AP303","v":1},{"$f":"Parameters!AQ303","v":1},{"$f":"Parameters!AR303","v":1},{"$f":"Parameters!AS303","v":1},{"$f":"Parameters!AT303","v":1},{"$f":"Parameters!AU303","v":1},{"$f":"Parameters!AV303","v":1},{"$f":"Parameters!AW303","v":1},{"$f":"Parameters!AX303","v":1},{"$f":"Parameters!AY303","v":1},{"$f":"Parameters!AZ303","v":1},{"$f":"Parameters!BA303","v":1},{"$f":"Parameters!BB303","v":1},{"$f":"Parameters!BC303","v":1},{"$f":"Parameters!BD303","v":1},{"$f":"Parameters!BE303","v":1},{"$f":"Parameters!BF303","v":1},{"$f":"Parameters!BG303","v":1},{"$f":"Parameters!BH303","v":1},{"$f":"Parameters!BI303","v":1},{"$f":"Parameters!BJ303","v":1},{"$f":"Parameters!BK303","v":1},{"$f":"Parameters!BL303","v":1},{"$f":"Parameters!BM303","v":1},{"$f":"Parameters!BN303","v":1}]
["S220",{"$f":"Parameters!K304","v":1},{"$f":"Parameters!L304","v":1},{"$f":"Parameters!M304","v":1},{"$f":"Parameters!N304","v":1},{"$f":"Parameters!O304","v":1},{"$f":"Parameters!P304","v":1},{"$f":"Parameters!Q304","v":1},{"$f":"Parameters!R304","v":1},{"$f":"Parameters!S304","v":1},{"$f":"Parameters!T304","v":1},{"$f":"Parameters!U304","v":1},{"$f":"Parameters!V304","v":1},{"$f":"Parameters!W304","v":1},{"$f":"Parameters!X304","v":1},{"$f":"Parameters!Y304","v":1},{"$f":"Parameters!Z304","v":1},{"$f":"Parameters!AA304","v":1},{"$f":"Parameters!AB304","v":1},{"$f":"Parameters!AC304","v":1},{"$f":"Parameters!AD304","v":1},{"$f":"Parameters!AE304","v":1},{"$f":"Parameters!AF304","v":1},{"$f":"Parameters!AG304","v":1},{"$f":"Parameters!AH304","v":1},{"$f":"Parameters!AI304","v":1},{"$f":"Parameters!AJ304","v":1},{"$f":"Parameters!AK304","v":1},{"$f":"Parameters!AL304","v":1},{"$f":"Parameters!AM304","v":1},{"$f":"Parameters!AN304","v":1},{"$f":"Parameters!AO304","v":1},{"$f":"Parameters!AP304","v":1},{"$f":"Parameters!AQ304","v":1},{"$f":"Parameters!AR304","v":1},{"$f":"Parameters!AS304","v":1},{"$f":"Parameters!AT304","v":1},{"$f":"Parameters!AU304","v":1},{"$f":"Parameters!AV304","v":1},{"$f":"Parameters!AW304","v":1},{"$f":"Parameters!AX304","v":1},{"$f":"Parameters!AY304","v":1},{"$f":"Parameters!AZ304","v":1},{"$f":"Parameters!BA304","v":1},{"$f":"Parameters!BB304","v":1},{"$f":"Parameters!BC304","v":1},{"$f":"Parameters!BD304","v":1},{"$f":"Parameters!BE304","v":1},{"$f":"Parameters!BF304","v":1},{"$f":"Parameters!BG304","v":1},{"$f":"Parameters!BH304","v":1},{"$f":"Parameters!BI304","v":1},{"$f":"Parameters!BJ304","v":1},{"$f":"Parameters!BK304","v":1},{"$f":"Parameters!BL304","v":1},{"$f":"Parameters!BM304","v":1},{"$f":"Parameters!BN304","v":1}]
["S221",{"$f":"Parameters!K305","v":1},{"$f":"Parameters!L305","v":1},{"$f":"Parameters!M305","v":1},{"$f":"Parameters!N305","v":1},{"$f":"Parameters!O305","v":1},{"$f":"Parameters!P305","v":1},{"$f":"Parameters!Q305","v":1},{"$f":"Parameters!R305","v":1},{"$f":"Parameters!S305","v":1},{"$f":"Parameters!T305","v":1},{"$f":"Parameters!U305","v":1},{"$f":"Parameters!V305","v":1},{"$f":"Parameters!W305","v":1},{"$f":"Parameters!X305","v":1},{"$f":"Parameters!Y305","v":1},{"$f":"Parameters!Z305","v":1},{"$f":"Parameters!AA305","v":1},{"$f":"Parameters!AB305","v":1},{"$f":"Parameters!AC305","v":1},{"$f":"Parameters!AD305","v":1},{"$f":"Parameters!AE305","v":1},{"$f":"Parameters!AF305","v":1},{"$f":"Parameters!AG305","v":1},{"$f":"Parameters!AH305","v":1},{"$f":"Parameters!AI305","v":1},{"$f":"Parameters!AJ305","v":1},{"$f":"Parameters!AK305","v":1},{"$f":"Parameters!AL305","v":1},{"$f":"Parameters!AM305","v":1},{"$f":"Parameters!AN305","v":1},{"$f":"Parameters!AO305","v":1},{"$f":"Parameters!AP305","v":1},{"$f":"Parameters!AQ305","v":1},{"$f":"Parameters!AR305","v":1},{"$f":"Parameters!AS305","v":1},{"$f":"Parameters!AT305","v":1},{"$f":"Parameters!AU305","v":1},{"$f":"Parameters!AV305","v":1},{"$f":"Parameters!AW305","v":1},{"$f":"Parameters!AX305","v":1},{"$f":"Parameters!AY305","v":1},{"$f":"Parameters!AZ305","v":1},{"$f":"Parameters!BA305","v":1},{"$f":"Parameters!BB305","v":1},{"$f":"Parameters!BC305","v":1},{"$f":"Parameters!BD305","v":1},{"$f":"Parameters!BE305","v":1},{"$f":"Parameters!BF305","v":1},{"$f":"Parameters!BG305","v":1},{"$f":"Parameters!BH305","v":1},{"$f":"Parameters!BI305","v":1},{"$f":"Parameters!BJ305","v":1},{"$f":"Parameters!BK305","v":1},{"$f":"Parameters!BL305","v":1},{"$f":"Parameters!BM305","v":1},{"$f":"Parameters!BN305","v":1}]
["S222",{"$f":"Parameters!K306","v":1},{"$f":"Parameters!L306","v":1},{"$f":"Parameters!M306","v":1},{"$f":"Parameters!N306","v":1},{"$f":"Parameters!O306","v":1},{"$f":"Parameters!P306","v":1},{"$f":"Parameters!Q306","v":1},{"$f":"Parameters!R306","v":1},{"$f":"Parameters!S306","v":1},{"$f":"Parameters!T306","v":1},{"$f":"Parameters!U306","v":1},{"$f":"Parameters!V306","v":1},{"$f":"Parameters!W306","v":1},{"$f":"Parameters!X306","v":1},{"$f":"Parameters!Y306","v":1},{"$f":"Parameters!Z306","v":1},{"$f":"Parameters!AA306","v":1},{"$f":"Parameters!AB306","v":1},{"$f":"Parameters!AC306","v":1},{"$f":"Parameters!AD306","v":1},{"$f":"Parameters!AE306","v":1},{"$f":"Parameters!AF306","v":1},{"$f":"Parameters!AG306","v":1},{"$f":"Parameters!AH306","v":1},{"$f":"Parameters!AI306","v":1},{"$f":"Parameters!AJ306","v":1},{"$f":"Parameters!AK306","v":1},{"$f":"Parameters!AL306","v":1},{"$f":"Parameters!AM306","v":1},{"$f":"Parameters!AN306","v":1},{"$f":"Parameters!AO306","v":1},{"$f":"Parameters!AP306","v":1},{"$f":"Parameters!AQ306","v":1},{"$f":"Parameters!AR306","v":1},{"$f":"Parameters!AS306","v":1},{"$f":"Parameters!AT306","v":1},{"$f":"Parameters!AU306","v":1},{"$f":"Parameters!AV306","v":1},{"$f":"Parameters!AW306","v":1},{"$f":"Parameters!AX306","v":1},{"$f":"Parameters!AY306","v":1},{"$f":"Parameters!AZ306","v":1},{"$f":"Parameters!BA306","v":1},{"$f":"Parameters!BB306","v":1},{"$f":"Parameters!BC306","v":1},{"$f":"Parameters!BD306","v":1},{"$f":"Parameters!BE306","v":1},{"$f":"Parameters!BF306","v":1},{"$f":"Parameters!BG306","v":1},{"$f":"Parameters!BH306","v":1},{"$f":"Parameters!BI306","v":1},{"$f":"Parameters!BJ306","v":1},{"$f":"Parameters!BK306","v":1},{"$f":"Parameters!BL306","v":1},{"$f":"Parameters!BM306","v":1},{"$f":"Parameters!BN306","v":1}]
["S223",{"$f":"Parameters!K307","v":1},{"$f":"Parameters!L307","v":1},{"$f":"Parameters!M307","v":1},{"$f":"Parameters!N307","v":1},{"$f":"Parameters!O307","v":1},{"$f":"Parameters!P307","v":1},{"$f":"Parameters!Q307","v":1},{"$f":"Parameters!R307","v":1},{"$f":"Parameters!S307","v":1},{"$f":"Parameters!T307","v":1},{"$f":"Parameters!U307","v":1},{"$f":"Parameters!V307","v":1},{"$f":"Parameters!W307","v":1},{"$f":"Parameters!X307","v":1},{"$f":"Parameters!Y307","v":1},{"$f":"Parameters!Z307","v":1},{"$f":"Parameters!AA307","v":1},{"$f":"Parameters!AB307","v":1},{"$f":"Parameters!AC307","v":1},{"$f":"Parameters!AD307","v":1},{"$f":"Parameters!AE307","v":1},{"$f":"Parameters!AF307","v":1},{"$f":"Parameters!AG307","v":1},{"$f":"Parameters!AH307","v":1},{"$f":"Parameters!AI307","v":1},{"$f":"Parameters!AJ307","v":1},{"$f":"Parameters!AK307","v":1},{"$f":"Parameters!AL307","v":1},{"$f":"Parameters!AM307","v":1},{"$f":"Parameters!AN307","v":1},{"$f":"Parameters!AO307","v":1},{"$f":"Parameters!AP307","v":1},{"$f":"Parameters!AQ307","v":1},{"$f":"Parameters!AR307","v":1},{"$f":"Parameters!AS307","v":1},{"$f":"Parameters!AT307","v":1},{"$f":"Parameters!AU307","v":1},{"$f":"Parameters!AV307","v":1},{"$f":"Parameters!AW307","v":1},{"$f":"Parameters!AX307","v":1},{"$f":"Parameters!AY307","v":1},{"$f":"Parameters!AZ307","v":1},{"$f":"Parameters!BA307","v":1},{"$f":"Parameters!BB307","v":1},{"$f":"Parameters!BC307","v":1},{"$f":"Parameters!BD307","v":1},{"$f":"Parameters!BE307","v":1},{"$f":"Parameters!BF307","v":1},{"$f":"Parameters!BG307","v":1},{"$f":"Parameters!BH307","v":1},{"$f":"Parameters!BI307","v":1},{"$f":"Parameters!BJ307","v":1},{"$f":"Parameters!BK307","v":1},{"$f":"Parameters!BL307","v":1},{"$f":"Parameters!BM307","v":1},{"$f":"Parameters!BN307","v":1}]
["S224",{"$f":"Parameters!K308","v":1},{"$f":"Parameters!L308","v":1},{"$f":"Parameters!M308","v":1},{"$f":"Parameters!N308","v":1},{"$f":"Parameters!O308","v":1},{"$f":"Parameters!P308","v":1},{"$f":"Parameters!Q308","v":1},{"$f":"Parameters!R308","v":1},{"$f":"Parameters!S308","v":1},{"$f":"Parameters!T308","v":1},{"$f":"Parameters!U308","v":1},{"$f":"Parameters!V308","v":1},{"$f":"Parameters!W308","v":1},{"$f":"Parameters!X308","v":1},{"$f":"Parameters!Y308","v":1},{"$f":"Parameters!Z308","v":1},{"$f":"Parameters!AA308","v":1},{"$f":"Parameters!AB308","v":1},{"$f":"Parameters!AC308","v":1},{"$f":"Parameters!AD308","v":1},{"$f":"Parameters!AE308","v":1},{"$f":"Parameters!AF308","v":1},{"$f":"Parameters!AG308","v":1},{"$f":"Parameters!AH308","v":1},{"$f":"Parameters!AI308","v":1},{"$f":"Parameters!AJ308","v":1},{"$f":"Parameters!AK308","v":1},{"$f":"Parameters!AL308","v":1},{"$f":"Parameters!AM308","v":1},{"$f":"Parameters!AN308","v":1},{"$f":"Parameters!AO308","v":1},{"$f":"Parameters!AP308","v":1},{"$f":"Parameters!AQ308","v":1},{"$f":"Parameters!AR308","v":1},{"$f":"Parameters!AS308","v":1},{"$f":"Parameters!AT308","v":1},{"$f":"Parameters!AU308","v":1},{"$f":"Parameters!AV308","v":1},{"$f":"Parameters!AW308","v":1},{"$f":"Parameters!AX308","v":1},{"$f":"Parameters!AY308","v":1},{"$f":"Parameters!AZ308","v":1},{"$f":"Parameters!BA308","v":1},{"$f":"Parameters!BB308","v":1},{"$f":"Parameters!BC308","v":1},{"$f":"Parameters!BD308","v":1},{"$f":"Parameters!BE308","v":1},{"$f":"Parameters!BF308","v":1},{"$f":"Parameters!BG308","v":1},{"$f":"Parameters!BH308","v":1},{"$f":"Parameters!BI308","v":1},{"$f":"Parameters!BJ308","v":1},{"$f":"Parameters!BK308","v":1},{"$f":"Parameters!BL308","v":1},{"$f":"Parameters!BM308","v":1},{"$f":"Parameters!BN308","v":1}]
["S301",{"$f":"Parameters!K309","v":1},{"$f":"Parameters!L309","v":1},{"$f":"Parameters!M309","v":1},{"$f":"Parameters!N309","v":1},{"$f":"Parameters!O309","v":1},{"$f":"Parameters!P309","v":1},{"$f":"Parameters!Q309","v":1},{"$f":"Parameters!R309","v":1},{"$f":"Parameters!S309","v":1},{"$f":"Parameters!T309","v":1},{"$f":"Parameters!U309","v":1},{"$f":"Parameters!V309","v":1},{"$f":"Parameters!W309","v":1},{"$f":"Parameters!X309","v":1},{"$f":"Parameters!Y309","v":1},{"$f":"Parameters!Z309","v":1},{"$f":"Parameters!AA309","v":1},{"$f":"Parameters!AB309","v":1},{"$f":"Parameters!AC309","v":1},{"$f":"Parameters!AD309","v":1},{"$f":"Parameters!AE309","v":1},{"$f":"Parameters!AF309","v":1},{"$f":"Parameters!AG309","v":1},{"$f":"Parameters!AH309","v":1},{"$f":"Parameters!AI309","v":1},{"$f":"Parameters!AJ309","v":1},{"$f":"Parameters!AK309","v":1},{"$f":"Parameters!AL309","v":1},{"$f":"Parameters!AM309","v":1},{"$f":"Parameters!AN309","v":1},{"$f":"Parameters!AO309","v":1},{"$f":"Parameters!AP309","v":1},{"$f":"Parameters!AQ309","v":1},{"$f":"Parameters!AR309","v":1},{"$f":"Parameters!AS309","v":1},{"$f":"Parameters!AT309","v":1},{"$f":"Parameters!AU309","v":1},{"$f":"Parameters!AV309","v":1},{"$f":"Parameters!AW309","v":1},{"$f":"Parameters!AX309","v":1},{"$f":"Parameters!AY309","v":1},{"$f":"Parameters!AZ309","v":1},{"$f":"Parameters!BA309","v":1},{"$f":"Parameters!BB309","v":1},{"$f":"Parameters!BC309","v":1},{"$f":"Parameters!BD309","v":1},{"$f":"Parameters!BE309","v":1},{"$f":"Parameters!BF309","v":1},{"$f":"Parameters!BG309","v":1},{"$f":"Parameters!BH309","v":1},{"$f":"Parameters!BI309","v":1},{"$f":"Parameters!BJ309","v":1},{"$f":"Parameters!BK309","v":1},{"$f":"Parameters!BL309","v":1},{"$f":"Parameters!BM309","v":1},{"$f":"Parameters!BN309","v":1}]
["S302",{"$f":"Parameters!K310","v":1},{"$f":"Parameters!L310","v":1},{"$f":"Parameters!M310","v":1},{"$f":"Parameters!N310","v":1},{"$f":"Parameters!O310","v":1},{"$f":"Parameters!P310","v":1},{"$f":"Parameters!Q310","v":1},{"$f":"Parameters!R310","v":1},{"$f":"Parameters!S310","v":1},{"$f":"Parameters!T310","v":1},{"$f":"Parameters!U310","v":1},{"$f":"Parameters!V310","v":1},{"$f":"Parameters!W310","v":1},{"$f":"Parameters!X310","v":1},{"$f":"Parameters!Y310","v":1},{"$f":"Parameters!Z310","v":1},{"$f":"Parameters!AA310","v":1},{"$f":"Parameters!AB310","v":1},{"$f":"Parameters!AC310","v":1},{"$f":"Parameters!AD310","v":1},{"$f":"Parameters!AE310","v":1},{"$f":"Parameters!AF310","v":1},{"$f":"Parameters!AG310","v":1},{"$f":"Parameters!AH310","v":1},{"$f":"Parameters!AI310","v":1},{"$f":"Parameters!AJ310","v":1},{"$f":"Parameters!AK310","v":1},{"$f":"Parameters!AL310","v":1},{"$f":"Parameters!AM310","v":1},{"$f":"Parameters!AN310","v":1},{"$f":"Parameters!AO310","v":1},{"$f":"Parameters!AP310","v":1},{"$f":"Parameters!AQ310","v":1},{"$f":"Parameters!AR310","v":1},{"$f":"Parameters!AS310","v":1},{"$f":"Parameters!AT310","v":1},{"$f":"Parameters!AU310","v":1},{"$f":"Parameters!AV310","v":1},{"$f":"Parameters!AW310","v":1},{"$f":"Parameters!AX310","v":1},{"$f":"Parameters!AY310","v":1},{"$f":"Parameters!AZ310","v":1},{"$f":"Parameters!BA310","v":1},{"$f":"Parameters!BB310","v":1},{"$f":"Parameters!BC310","v":1},{"$f":"Parameters!BD310","v":1},{"$f":"Parameters!BE310","v":1},{"$f":"Parameters!BF310","v":1},{"$f":"Parameters!BG310","v":1},{"$f":"Parameters!BH310","v":1},{"$f":"Parameters!BI310","v":1},{"$f":"Parameters!BJ310","v":1},{"$f":"Parameters!BK310","v":1},{"$f":"Parameters!BL310","v":1},{"$f":"Parameters!BM310","v":1},{"$f":"Parameters!BN310","v":1}]
["S303",{"$f":"Parameters!K311","v":1},{"$f":"Parameters!L311","v":1},{"$f":"Parameters!M311","v":1},{"$f":"Parameters!N311","v":1},{"$f":"Parameters!O311","v":1},{"$f":"Parameters!P311","v":1},{"$f":"Parameters!Q311","v":1},{"$f":"Parameters!R311","v":1},{"$f":"Parameters!S311","v":1},{"$f":"Parameters!T311","v":1},{"$f":"Parameters!U311","v":1},{"$f":"Parameters!V311","v":1},{"$f":"Parameters!W311","v":1},{"$f":"Parameters!X311","v":1},{"$f":"Parameters!Y311","v":1},{"$f":"Parameters!Z311","v":1},{"$f":"Parameters!AA311","v":1},{"$f":"Parameters!AB311","v":1},{"$f":"Parameters!AC311","v":1},{"$f":"Parameters!AD311","v":1},{"$f":"Parameters!AE311","v":1},{"$f":"Parameters!AF311","v":1},{"$f":"Parameters!AG311","v":1},{"$f":"Parameters!AH311","v":1},{"$f":"Parameters!AI311","v":1},{"$f":"Parameters!AJ311","v":1},{"$f":"Parameters!AK311","v":1},{"$f":"Parameters!AL311","v":1},{"$f":"Parameters!AM311","v":1},{"$f":"Parameters!AN311","v":1},{"$f":"Parameters!AO311","v":1},{"$f":"Parameters!AP311","v":1},{"$f":"Parameters!AQ311","v":1},{"$f":"Parameters!AR311","v":1},{"$f":"Parameters!AS311","v":1},{"$f":"Parameters!AT311","v":1},{"$f":"Parameters!AU311","v":1},{"$f":"Parameters!AV311","v":1},{"$f":"Parameters!AW311","v":1},{"$f":"Parameters!AX311","v":1},{"$f":"Parameters!AY311","v":1},{"$f":"Parameters!AZ311","v":1},{"$f":"Parameters!BA311","v":1},{"$f":"Parameters!BB311","v":1},{"$f":"Parameters!BC311","v":1},{"$f":"Parameters!BD311","v":1},{"$f":"Parameters!BE311","v":1},{"$f":"Parameters!BF311","v":1},{"$f":"Parameters!BG311","v":1},{"$f":"Parameters!BH311","v":1},{"$f":"Parameters!BI311","v":1},{"$f":"Parameters!BJ311","v":1},{"$f":"Parameters!BK311","v":1},{"$f":"Parameters!BL311","v":1},{"$f":"Parameters!BM311","v":1},{"$f":"Parameters!BN311","v":1}]
["S304",{"$f":"Parameters!K312","v":1},{"$f":"Parameters!L312","v":1},{"$f":"Parameters!M312","v":1},{"$f":"Parameters!N312","v":1},{"$f":"Parameters!O312","v":1},{"$f":"Parameters!P312","v":1},{"$f":"Parameters!Q312","v":1},{"$f":"Parameters!R312","v":1},{"$f":"Parameters!S312","v":1},{"$f":"Parameters!T312","v":1},{"$f":"Parameters!U312","v":1},{"$f":"Parameters!V312","v":1},{"$f":"Parameters!W312","v":1},{"$f":"Parameters!X312","v":1},{"$f":"Parameters!Y312","v":1},{"$f":"Parameters!Z312","v":1},{"$f":"Parameters!AA312","v":1},{"$f":"Parameters!AB312","v":1},{"$f":"Parameters!AC312","v":1},{"$f":"Parameters!AD312","v":1},{"$f":"Parameters!AE312","v":1},{"$f":"Parameters!AF312","v":1},{"$f":"Parameters!AG312","v":1},{"$f":"Parameters!AH312","v":1},{"$f":"Parameters!AI312","v":1},{"$f":"Parameters!AJ312","v":1},{"$f":"Parameters!AK312","v":1},{"$f":"Parameters!AL312","v":1},{"$f":"Parameters!AM312","v":1},{"$f":"Parameters!AN312","v":1},{"$f":"Parameters!AO312","v":1},{"$f":"Parameters!AP312","v":1},{"$f":"Parameters!AQ312","v":1},{"$f":"Parameters!AR312","v":1},{"$f":"Parameters!AS312","v":1},{"$f":"Parameters!AT312","v":1},{"$f":"Parameters!AU312","v":1},{"$f":"Parameters!AV312","v":1},{"$f":"Parameters!AW312","v":1},{"$f":"Parameters!AX312","v":1},{"$f":"Parameters!AY312","v":1},{"$f":"Parameters!AZ312","v":1},{"$f":"Parameters!BA312","v":1},{"$f":"Parameters!BB312","v":1},{"$f":"Parameters!BC312","v":1},{"$f":"Parameters!BD312","v":1},{"$f":"Parameters!BE312","v":1},{"$f":"Parameters!BF312","v":1},{"$f":"Parameters!BG312","v":1},{"$f":"Parameters!BH312","v":1},{"$f":"Parameters!BI312","v":1},{"$f":"Parameters!BJ312","v":1},{"$f":"Parameters!BK312","v":1},{"$f":"Parameters!BL312","v":1},{"$f":"Parameters!BM312","v":1},{"$f":"Parameters!BN312","v":1}]
["S305",{"$f":"Parameters!K313","v":1},{"$f":"Parameters!L313","v":1},{"$f":"Parameters!M313","v":1},{"$f":"Parameters!N313","v":1},{"$f":"Parameters!O313","v":1},{"$f":"Parameters!P313","v":1},{"$f":"Parameters!Q313","v":1},{"$f":"Parameters!R313","v":1},{"$f":"Parameters!S313","v":1},{"$f":"Parameters!T313","v":1},{"$f":"Parameters!U313","v":1},{"$f":"Parameters!V313","v":1},{"$f":"Parameters!W313","v":1},{"$f":"Parameters!X313","v":1},{"$f":"Parameters!Y313","v":1},{"$f":"Parameters!Z313","v":1},{"$f":"Parameters!AA313","v":1},{"$f":"Parameters!AB313","v":1},{"$f":"Parameters!AC313","v":1},{"$f":"Parameters!AD313","v":1},{"$f":"Parameters!AE313","v":1},{"$f":"Parameters!AF313","v":1},{"$f":"Parameters!AG313","v":1},{"$f":"Parameters!AH313","v":1},{"$f":"Parameters!AI313","v":1},{"$f":"Parameters!AJ313","v":1},{"$f":"Parameters!AK313","v":1},{"$f":"Parameters!AL313","v":1},{"$f":"Parameters!AM313","v":1},{"$f":"Parameters!AN313","v":1},{"$f":"Parameters!AO313","v":1},{"$f":"Parameters!AP313","v":1},{"$f":"Parameters!AQ313","v":1},{"$f":"Parameters!AR313","v":1},{"$f":"Parameters!AS313","v":1},{"$f":"Parameters!AT313","v":1},{"$f":"Parameters!AU313","v":1},{"$f":"Parameters!AV313","v":1},{"$f":"Parameters!AW313","v":1},{"$f":"Parameters!AX313","v":1},{"$f":"Parameters!AY313","v":1},{"$f":"Parameters!AZ313","v":1},{"$f":"Parameters!BA313","v":1},{"$f":"Parameters!BB313","v":1},{"$f":"Parameters!BC313","v":1},{"$f":"Parameters!BD313","v":1},{"$f":"Parameters!BE313","v":1},{"$f":"Parameters!BF313","v":1},{"$f":"Parameters!BG313","v":1},{"$f":"Parameters!BH313","v":1},{"$f":"Parameters!BI313","v":1},{"$f":"Parameters!BJ313","v":1},{"$f":"Parameters!BK313","v":1},{"$f":"Parameters!BL313","v":1},{"$f":"Parameters!BM313","v":1},{"$f":"Parameters!BN313","v":1}]
["S306",{"$f":"Parameters!K314","v":1},{"$f":"Parameters!L314","v":1},{"$f":"Parameters!M314","v":1},{"$f":"Parameters!N314","v":1},{"$f":"Parameters!O314","v":1},{"$f":"Parameters!P314","v":1},{"$f":"Parameters!Q314","v":1},{"$f":"Parameters!R314","v":1},{"$f":"Parameters!S314","v":1},{"$f":"Parameters!T314","v":1},{"$f":"Parameters!U314","v":1},{"$f":"Parameters!V314","v":1},{"$f":"Parameters!W314","v":1},{"$f":"Parameters!X314","v":1},{"$f":"Parameters!Y314","v":1},{"$f":"Parameters!Z314","v":1},{"$f":"Parameters!AA314","v":1},{"$f":"Parameters!AB314","v":1},{"$f":"Parameters!AC314","v":1},{"$f":"Parameters!AD314","v":1},{"$f":"Parameters!AE314","v":1},{"$f":"Parameters!AF314","v":1},{"$f":"Parameters!AG314","v":1},{"$f":"Parameters!AH314","v":1},{"$f":"Parameters!AI314","v":1},{"$f":"Parameters!AJ314","v":1},{"$f":"Parameters!AK314","v":1},{"$f":"Parameters!AL314","v":1},{"$f":"Parameters!AM314","v":1},{"$f":"Parameters!AN314","v":1},{"$f":"Parameters!AO314","v":1},{"$f":"Parameters!AP314","v":1},{"$f":"Parameters!AQ314","v":1},{"$f":"Parameters!AR314","v":1},{"$f":"Parameters!AS314","v":1},{"$f":"Parameters!AT314","v":1},{"$f":"Parameters!AU314","v":1},{"$f":"Parameters!AV314","v":1},{"$f":"Parameters!AW314","v":1},{"$f":"Parameters!AX314","v":1},{"$f":"Parameters!AY314","v":1},{"$f":"Parameters!AZ314","v":1},{"$f":"Parameters!BA314","v":1},{"$f":"Parameters!BB314","v":1},{"$f":"Parameters!BC314","v":1},{"$f":"Parameters!BD314","v":1},{"$f":"Parameters!BE314","v":1},{"$f":"Parameters!BF314","v":1},{"$f":"Parameters!BG314","v":1},{"$f":"Parameters!BH314","v":1},{"$f":"Parameters!BI314","v":1},{"$f":"Parameters!BJ314","v":1},{"$f":"Parameters!BK314","v":1},{"$f":"Parameters!BL314","v":1},{"$f":"Parameters!BM314","v":1},{"$f":"Parameters!BN314","v":1}]
["S307",{"$f":"Parameters!K315","v":1},{"$f":"Parameters!L315","v":1},{"$f":"Parameters!M315","v":1},{"$f":"Parameters!N315","v":1},{"$f":"Parameters!O315","v":1},{"$f":"Parameters!P315","v":1},{"$f":"Parameters!Q315","v":1},{"$f":"Parameters!R315","v":1},{"$f":"Parameters!S315","v":1},{"$f":"Parameters!T315","v":1},{"$f":"Parameters!U315","v":1},{"$f":"Parameters!V315","v":1},{"$f":"Parameters!W315","v":1},{"$f":"Parameters!X315","v":1},{"$f":"Parameters!Y315","v":1},{"$f":"Parameters!Z315","v":1},{"$f":"Parameters!AA315","v":1},{"$f":"Parameters!AB315","v":1},{"$f":"Parameters!AC315","v":1},{"$f":"Parameters!AD315","v":1},{"$f":"Parameters!AE315","v":1},{"$f":"Parameters!AF315","v":1},{"$f":"Parameters!AG315","v":1},{"$f":"Parameters!AH315","v":1},{"$f":"Parameters!AI315","v":1},{"$f":"Parameters!AJ315","v":1},{"$f":"Parameters!AK315","v":1},{"$f":"Parameters!AL315","v":1},{"$f":"Parameters!AM315","v":1},{"$f":"Parameters!AN315","v":1},{"$f":"Parameters!AO315","v":1},{"$f":"Parameters!AP315","v":1},{"$f":"Parameters!AQ315","v":1},{"$f":"Parameters!AR315","v":1},{"$f":"Parameters!AS315","v":1},{"$f":"Parameters!AT315","v":1},{"$f":"Parameters!AU315","v":1},{"$f":"Parameters!AV315","v":1},{"$f":"Parameters!AW315","v":1},{"$f":"Parameters!AX315","v":1},{"$f":"Parameters!AY315","v":1},{"$f":"Parameters!AZ315","v":1},{"$f":"Parameters!BA315","v":1},{"$f":"Parameters!BB315","v":1},{"$f":"Parameters!BC315","v":1},{"$f":"Parameters!BD315","v":1},{"$f":"Parameters!BE315","v":1},{"$f":"Parameters!BF315","v":1},{"$f":"Parameters!BG315","v":1},{"$f":"Parameters!BH315","v":1},{"$f":"Parameters!BI315","v":1},{"$f":"Parameters!BJ315","v":1},{"$f":"Parameters!BK315","v":1},{"$f":"Parameters!BL315","v":1},{"$f":"Parameters!BM315","v":1},{"$f":"Parameters!BN315","v":1}]
["S308",{"$f":"Parameters!K316","v":1},{"$f":"Parameters!L316","v":1},{"$f":"Parameters!M316","v":1},{"$f":"Parameters!N316","v":1},{"$f":"Parameters!O316","v":1},{"$f":"Parameters!P316","v":1},{"$f":"Parameters!Q316","v":1},{"$f":"Parameters!R316","v":1},{"$f":"Parameters!S316","v":1},{"$f":"Parameters!T316","v":1},{"$f":"Parameters!U316","v":1},{"$f":"Parameters!V316","v":1},{"$f":"Parameters!W316","v":1},{"$f":"Parameters!X316","v":1},{"$f":"Parameters!Y316","v":1},{"$f":"Parameters!Z316","v":1},{"$f":"Parameters!AA316","v":1},{"$f":"Parameters!AB316","v":1},{"$f":"Parameters!AC316","v":1},{"$f":"Parameters!AD316","v":1},{"$f":"Parameters!AE316","v":1},{"$f":"Parameters!AF316","v":1},{"$f":"Parameters!AG316","v":1},{"$f":"Parameters!AH316","v":1},{"$f":"Parameters!AI316","v":1},{"$f":"Parameters!AJ316","v":1},{"$f":"Parameters!AK316","v":1},{"$f":"Parameters!AL316","v":1},{"$f":"Parameters!AM316","v":1},{"$f":"Parameters!AN316","v":1},{"$f":"Parameters!AO316","v":1},{"$f":"Parameters!AP316","v":1},{"$f":"Parameters!AQ316","v":1},{"$f":"Parameters!AR316","v":1},{"$f":"Parameters!AS316","v":1},{"$f":"Parameters!AT316","v":1},{"$f":"Parameters!AU316","v":1},{"$f":"Parameters!AV316","v":1},{"$f":"Parameters!AW316","v":1},{"$f":"Parameters!AX316","v":1},{"$f":"Parameters!AY316","v":1},{"$f":"Parameters!AZ316","v":1},{"$f":"Parameters!BA316","v":1},{"$f":"Parameters!BB316","v":1},{"$f":"Parameters!BC316","v":1},{"$f":"Parameters!BD316","v":1},{"$f":"Parameters!BE316","v":1},{"$f":"Parameters!BF316","v":1},{"$f":"Parameters!BG316","v":1},{"$f":"Parameters!BH316","v":1},{"$f":"Parameters!BI316","v":1},{"$f":"Parameters!BJ316","v":1},{"$f":"Parameters!BK316","v":1},{"$f":"Parameters!BL316","v":1},{"$f":"Parameters!BM316","v":1},{"$f":"Parameters!BN316","v":1}]
["S309",{"$f":"Parameters!K317","v":1},{"$f":"Parameters!L317","v":1},{"$f":"Parameters!M317","v":1},{"$f":"Parameters!N317","v":1},{"$f":"Parameters!O317","v":1},{"$f":"Parameters!P317","v":1},{"$f":"Parameters!Q317","v":1},{"$f":"Parameters!R317","v":1},{"$f":"Parameters!S317","v":1},{"$f":"Parameters!T317","v":1},{"$f":"Parameters!U317","v":1},{"$f":"Parameters!V317","v":1},{"$f":"Parameters!W317","v":1},{"$f":"Parameters!X317","v":1},{"$f":"Parameters!Y317","v":1},{"$f":"Parameters!Z317","v":1},{"$f":"Parameters!AA317","v":1},{"$f":"Parameters!AB317","v":1},{"$f":"Parameters!AC317","v":1},{"$f":"Parameters!AD317","v":1},{"$f":"Parameters!AE317","v":1},{"$f":"Parameters!AF317","v":1},{"$f":"Parameters!AG317","v":1},{"$f":"Parameters!AH317","v":1},{"$f":"Parameters!AI317","v":1},{"$f":"Parameters!AJ317","v":1},{"$f":"Parameters!AK317","v":1},{"$f":"Parameters!AL317","v":1},{"$f":"Parameters!AM317","v":1},{"$f":"Parameters!AN317","v":1},{"$f":"Parameters!AO317","v":1},{"$f":"Parameters!AP317","v":1},{"$f":"Parameters!AQ317","v":1},{"$f":"Parameters!AR317","v":1},{"$f":"Parameters!AS317","v":1},{"$f":"Parameters!AT317","v":1},{"$f":"Parameters!AU317","v":1},{"$f":"Parameters!AV317","v":1},{"$f":"Parameters!AW317","v":1},{"$f":"Parameters!AX317","v":1},{"$f":"Parameters!AY317","v":1},{"$f":"Parameters!AZ317","v":1},{"$f":"Parameters!BA317","v":1},{"$f":"Parameters!BB317","v":1},{"$f":"Parameters!BC317","v":1},{"$f":"Parameters!BD317","v":1},{"$f":"Parameters!BE317","v":1},{"$f":"Parameters!BF317","v":1},{"$f":"Parameters!BG317","v":1},{"$f":"Parameters!BH317","v":1},{"$f":"Parameters!BI317","v":1},{"$f":"Parameters!BJ317","v":1},{"$f":"Parameters!BK317","v":1},{"$f":"Parameters!BL317","v":1},{"$f":"Parameters!BM317","v":1},{"$f":"Parameters!BN317","v":1}]
["S310",{"$f":"Parameters!K318","v":1},{"$f":"Parameters!L318","v":1},{"$f":"Parameters!M318","v":1},{"$f":"Parameters!N318","v":1},{"$f":"Parameters!O318","v":1},{"$f":"Parameters!P318","v":1},{"$f":"Parameters!Q318","v":1},{"$f":"Parameters!R318","v":1},{"$f":"Parameters!S318","v":1},{"$f":"Parameters!T318","v":1},{"$f":"Parameters!U318","v":1},{"$f":"Parameters!V318","v":1},{"$f":"Parameters!W318","v":1},{"$f":"Parameters!X318","v":1},{"$f":"Parameters!Y318","v":1},{"$f":"Parameters!Z318","v":1},{"$f":"Parameters!AA318","v":1},{"$f":"Parameters!AB318","v":1},{"$f":"Parameters!AC318","v":1},{"$f":"Parameters!AD318","v":1},{"$f":"Parameters!AE318","v":1},{"$f":"Parameters!AF318","v":1},{"$f":"Parameters!AG318","v":1},{"$f":"Parameters!AH318","v":1},{"$f":"Parameters!AI318","v":1},{"$f":"Parameters!AJ318","v":1},{"$f":"Parameters!AK318","v":1},{"$f":"Parameters!AL318","v":1},{"$f":"Parameters!AM318","v":1},{"$f":"Parameters!AN318","v":1},{"$f":"Parameters!AO318","v":1},{"$f":"Parameters!AP318","v":1},{"$f":"Parameters!AQ318","v":1},{"$f":"Parameters!AR318","v":1},{"$f":"Parameters!AS318","v":1},{"$f":"Parameters!AT318","v":1},{"$f":"Parameters!AU318","v":1},{"$f":"Parameters!AV318","v":1},{"$f":"Parameters!AW318","v":1},{"$f":"Parameters!AX318","v":1},{"$f":"Parameters!AY318","v":1},{"$f":"Parameters!AZ318","v":1},{"$f":"Parameters!BA318","v":1},{"$f":"Parameters!BB318","v":1},{"$f":"Parameters!BC318","v":1},{"$f":"Parameters!BD318","v":1},{"$f":"Parameters!BE318","v":1},{"$f":"Parameters!BF318","v":1},{"$f":"Parameters!BG318","v":1},{"$f":"Parameters!BH318","v":1},{"$f":"Parameters!BI318","v":1},{"$f":"Parameters!BJ318","v":1},{"$f":"Parameters!BK318","v":1},{"$f":"Parameters!BL318","v":1},{"$f":"Parameters!BM318","v":1},{"$f":"Parameters!BN318","v":1}]
["S311",{"$f":"Parameters!K319","v":1},{"$f":"Parameters!L319","v":1},{"$f":"Parameters!M319","v":1},{"$f":"Parameters!N319","v":1},{"$f":"Parameters!O319","v":1},{"$f":"Parameters!P319","v":1},{"$f":"Parameters!Q319","v":1},{"$f":"Parameters!R319","v":1},{"$f":"Parameters!S319","v":1},{"$f":"Parameters!T319","v":1},{"$f":"Parameters!U319","v":1},{"$f":"Parameters!V319","v":1},{"$f":"Parameters!W319","v":1},{"$f":"Parameters!X319","v":1},{"$f":"Parameters!Y319","v":1},{"$f":"Parameters!Z319","v":1},{"$f":"Parameters!AA319","v":1},{"$f":"Parameters!AB319","v":1},{"$f":"Parameters!AC319","v":1},{"$f":"Parameters!AD319","v":1},{"$f":"Parameters!AE319","v":1},{"$f":"Parameters!AF319","v":1},{"$f":"Parameters!AG319","v":1},{"$f":"Parameters!AH319","v":1},{"$f":"Parameters!AI319","v":1},{"$f":"Parameters!AJ319","v":1},{"$f":"Parameters!AK319","v":1},{"$f":"Parameters!AL319","v":1},{"$f":"Parameters!AM319","v":1},{"$f":"Parameters!AN319","v":1},{"$f":"Parameters!AO319","v":1},{"$f":"Parameters!AP319","v":1},{"$f":"Parameters!AQ319","v":1},{"$f":"Parameters!AR319","v":1},{"$f":"Parameters!AS319","v":1},{"$f":"Parameters!AT319","v":1},{"$f":"Parameters!AU319","v":1},{"$f":"Parameters!AV319","v":1},{"$f":"Parameters!AW319","v":1},{"$f":"Parameters!AX319","v":1},{"$f":"Parameters!AY319","v":1},{"$f":"Parameters!AZ319","v":1},{"$f":"Parameters!BA319","v":1},{"$f":"Parameters!BB319","v":1},{"$f":"Parameters!BC319","v":1},{"$f":"Parameters!BD319","v":1},{"$f":"Parameters!BE319","v":1},{"$f":"Parameters!BF319","v":1},{"$f":"Parameters!BG319","v":1},{"$f":"Parameters!BH319","v":1},{"$f":"Parameters!BI319","v":1},{"$f":"Parameters!BJ319","v":1},{"$f":"Parameters!BK319","v":1},{"$f":"Parameters!BL319","v":1},{"$f":"Parameters!BM319","v":1},{"$f":"Parameters!BN319","v":1}]
["S312",{"$f":"Parameters!K320","v":1},{"$f":"Parameters!L320","v":1},{"$f":"Parameters!M320","v":1},{"$f":"Parameters!N320","v":1},{"$f":"Parameters!O320","v":1},{"$f":"Parameters!P320","v":1},{"$f":"Parameters!Q320","v":1},{"$f":"Parameters!R320","v":1},{"$f":"Parameters!S320","v":1},{"$f":"Parameters!T320","v":1},{"$f":"Parameters!U320","v":1},{"$f":"Parameters!V320","v":1},{"$f":"Parameters!W320","v":1},{"$f":"Parameters!X320","v":1},{"$f":"Parameters!Y320","v":1},{"$f":"Parameters!Z320","v":1},{"$f":"Parameters!AA320","v":1},{"$f":"Parameters!AB320","v":1},{"$f":"Parameters!AC320","v":1},{"$f":"Parameters!AD320","v":1},{"$f":"Parameters!AE320","v":1},{"$f":"Parameters!AF320","v":1},{"$f":"Parameters!AG320","v":1},{"$f":"Parameters!AH320","v":1},{"$f":"Parameters!AI320","v":1},{"$f":"Parameters!AJ320","v":1},{"$f":"Parameters!AK320","v":1},{"$f":"Parameters!AL320","v":1},{"$f":"Parameters!AM320","v":1},{"$f":"Parameters!AN320","v":1},{"$f":"Parameters!AO320","v":1},{"$f":"Parameters!AP320","v":1},{"$f":"Parameters!AQ320","v":1},{"$f":"Parameters!AR320","v":1},{"$f":"Parameters!AS320","v":1},{"$f":"Parameters!AT320","v":1},{"$f":"Parameters!AU320","v":1},{"$f":"Parameters!AV320","v":1},{"$f":"Parameters!AW320","v":1},{"$f":"Parameters!AX320","v":1},{"$f":"Parameters!AY320","v":1},{"$f":"Parameters!AZ320","v":1},{"$f":"Parameters!BA320","v":1},{"$f":"Parameters!BB320","v":1},{"$f":"Parameters!BC320","v":1},{"$f":"Parameters!BD320","v":1},{"$f":"Parameters!BE320","v":1},{"$f":"Parameters!BF320","v":1},{"$f":"Parameters!BG320","v":1},{"$f":"Parameters!BH320","v":1},{"$f":"Parameters!BI320","v":1},{"$f":"Parameters!BJ320","v":1},{"$f":"Parameters!BK320","v":1},{"$f":"Parameters!BL320","v":1},{"$f":"Parameters!BM320","v":1},{"$f":"Parameters!BN320","v":1}]
["S313",{"$f":"Parameters!K321","v":1},{"$f":"Parameters!L321","v":1},{"$f":"Parameters!M321","v":1},{"$f":"Parameters!N321","v":1},{"$f":"Parameters!O321","v":1},{"$f":"Parameters!P321","v":1},{"$f":"Parameters!Q321","v":1},{"$f":"Parameters!R321","v":1},{"$f":"Parameters!S321","v":1},{"$f":"Parameters!T321","v":1},{"$f":"Parameters!U321","v":1},{"$f":"Parameters!V321","v":1},{"$f":"Parameters!W321","v":1},{"$f":"Parameters!X321","v":1},{"$f":"Parameters!Y321","v":1},{"$f":"Parameters!Z321","v":1},{"$f":"Parameters!AA321","v":1},{"$f":"Parameters!AB321","v":1},{"$f":"Parameters!AC321","v":1},{"$f":"Parameters!AD321","v":1},{"$f":"Parameters!AE321","v":1},{"$f":"Parameters!AF321","v":1},{"$f":"Parameters!AG321","v":1},{"$f":"Parameters!AH321","v":1},{"$f":"Parameters!AI321","v":1},{"$f":"Parameters!AJ321","v":1},{"$f":"Parameters!AK321","v":1},{"$f":"Parameters!AL321","v":1},{"$f":"Parameters!AM321","v":1},{"$f":"Parameters!AN321","v":1},{"$f":"Parameters!AO321","v":1},{"$f":"Parameters!AP321","v":1},{"$f":"Parameters!AQ321","v":1},{"$f":"Parameters!AR321","v":1},{"$f":"Parameters!AS321","v":1},{"$f":"Parameters!AT321","v":1},{"$f":"Parameters!AU321","v":1},{"$f":"Parameters!AV321","v":1},{"$f":"Parameters!AW321","v":1},{"$f":"Parameters!AX321","v":1},{"$f":"Parameters!AY321","v":1},{"$f":"Parameters!AZ321","v":1},{"$f":"Parameters!BA321","v":1},{"$f":"Parameters!BB321","v":1},{"$f":"Parameters!BC321","v":1},{"$f":"Parameters!BD321","v":1},{"$f":"Parameters!BE321","v":1},{"$f":"Parameters!BF321","v":1},{"$f":"Parameters!BG321","v":1},{"$f":"Parameters!BH321","v":1},{"$f":"Parameters!BI321","v":1},{"$f":"Parameters!BJ321","v":1},{"$f":"Parameters!BK321","v":1},{"$f":"Parameters!BL321","v":1},{"$f":"Parameters!BM321","v":1},{"$f":"Parameters!BN321","v":1}]
["S314",{"$f":"Parameters!K322","v":1},{"$f":"Parameters!L322","v":1},{"$f":"Parameters!M322","v":1},{"$f":"Parameters!N322","v":1},{"$f":"Parameters!O322","v":1},{"$f":"Parameters!P322","v":1},{"$f":"Parameters!Q322","v":1},{"$f":"Parameters!R322","v":1},{"$f":"Parameters!S322","v":1},{"$f":"Parameters!T322","v":1},{"$f":"Parameters!U322","v":1},{"$f":"Parameters!V322","v":1},{"$f":"Parameters!W322","v":1},{"$f":"Parameters!X322","v":1},{"$f":"Parameters!Y322","v":1},{"$f":"Parameters!Z322","v":1},{"$f":"Parameters!AA322","v":1},{"$f":"Parameters!AB322","v":1},{"$f":"Parameters!AC322","v":1},{"$f":"Parameters!AD322","v":1},{"$f":"Parameters!AE322","v":1},{"$f":"Parameters!AF322","v":1},{"$f":"Parameters!AG322","v":1},{"$f":"Parameters!AH322","v":1},{"$f":"Parameters!AI322","v":1},{"$f":"Parameters!AJ322","v":1},{"$f":"Parameters!AK322","v":1},{"$f":"Parameters!AL322","v":1},{"$f":"Parameters!AM322","v":1},{"$f":"Parameters!AN322","v":1},{"$f":"Parameters!AO322","v":1},{"$f":"Parameters!AP322","v":1},{"$f":"Parameters!AQ322","v":1},{"$f":"Parameters!AR322","v":1},{"$f":"Parameters!AS322","v":1},{"$f":"Parameters!AT322","v":1},{"$f":"Parameters!AU322","v":1},{"$f":"Parameters!AV322","v":1},{"$f":"Parameters!AW322","v":1},{"$f":"Parameters!AX322","v":1},{"$f":"Parameters!AY322","v":1},{"$f":"Parameters!AZ322","v":1},{"$f":"Parameters!BA322","v":1},{"$f":"Parameters!BB322","v":1},{"$f":"Parameters!BC322","v":1},{"$f":"Parameters!BD322","v":1},{"$f":"Parameters!BE322","v":1},{"$f":"Parameters!BF322","v":1},{"$f":"Parameters!BG322","v":1},{"$f":"Parameters!BH322","v":1},{"$f":"Parameters!BI322","v":1},{"$f":"Parameters!BJ322","v":1},{"$f":"Parameters!BK322","v":1},{"$f":"Parameters!BL322","v":1},{"$f":"Parameters!BM322","v":1},{"$f":"Parameters!BN322","v":1}]
["S315",{"$f":"Parameters!K323","v":1},{"$f":"Parameters!L323","v":1},{"$f":"Parameters!M323","v":1},{"$f":"Parameters!N323","v":1},{"$f":"Parameters!O323","v":1},{"$f":"Parameters!P323","v":1},{"$f":"Parameters!Q323","v":1},{"$f":"Parameters!R323","v":1},{"$f":"Parameters!S323","v":1},{"$f":"Parameters!T323","v":1},{"$f":"Parameters!U323","v":1},{"$f":"Parameters!V323","v":1},{"$f":"Parameters!W323","v":1},{"$f":"Parameters!X323","v":1},{"$f":"Parameters!Y323","v":1},{"$f":"Parameters!Z323","v":1},{"$f":"Parameters!AA323","v":1},{"$f":"Parameters!AB323","v":1},{"$f":"Parameters!AC323","v":1},{"$f":"Parameters!AD323","v":1},{"$f":"Parameters!AE323","v":1},{"$f":"Parameters!AF323","v":1},{"$f":"Parameters!AG323","v":1},{"$f":"Parameters!AH323","v":1},{"$f":"Parameters!AI323","v":1},{"$f":"Parameters!AJ323","v":1},{"$f":"Parameters!AK323","v":1},{"$f":"Parameters!AL323","v":1},{"$f":"Parameters!AM323","v":1},{"$f":"Parameters!AN323","v":1},{"$f":"Parameters!AO323","v":1},{"$f":"Parameters!AP323","v":1},{"$f":"Parameters!AQ323","v":1},{"$f":"Parameters!AR323","v":1},{"$f":"Parameters!AS323","v":1},{"$f":"Parameters!AT323","v":1},{"$f":"Parameters!AU323","v":1},{"$f":"Parameters!AV323","v":1},{"$f":"Parameters!AW323","v":1},{"$f":"Parameters!AX323","v":1},{"$f":"Parameters!AY323","v":1},{"$f":"Parameters!AZ323","v":1},{"$f":"Parameters!BA323","v":1},{"$f":"Parameters!BB323","v":1},{"$f":"Parameters!BC323","v":1},{"$f":"Parameters!BD323","v":1},{"$f":"Parameters!BE323","v":1},{"$f":"Parameters!BF323","v":1},{"$f":"Parameters!BG323","v":1},{"$f":"Parameters!BH323","v":1},{"$f":"Parameters!BI323","v":1},{"$f":"Parameters!BJ323","v":1},{"$f":"Parameters!BK323","v":1},{"$f":"Parameters!BL323","v":1},{"$f":"Parameters!BM323","v":1},{"$f":"Parameters!BN323","v":1}]
["S316",{"$f":"Parameters!K324","v":1},{"$f":"Parameters!L324","v":1},{"$f":"Parameters!M324","v":1},{"$f":"Parameters!N324","v":1},{"$f":"Parameters!O324","v":1},{"$f":"Parameters!P324","v":1},{"$f":"Parameters!Q324","v":1},{"$f":"Parameters!R324","v":1},{"$f":"Parameters!S324","v":1},{"$f":"Parameters!T324","v":1},{"$f":"Parameters!U324","v":1},{"$f":"Parameters!V324","v":1},{"$f":"Parameters!W324","v":1},{"$f":"Parameters!X324","v":1},{"$f":"Parameters!Y324","v":1},{"$f":"Parameters!Z324","v":1},{"$f":"Parameters!AA324","v":1},{"$f":"Parameters!AB324","v":1},{"$f":"Parameters!AC324","v":1},{"$f":"Parameters!AD324","v":1},{"$f":"Parameters!AE324","v":1},{"$f":"Parameters!AF324","v":1},{"$f":"Parameters!AG324","v":1},{"$f":"Parameters!AH324","v":1},{"$f":"Parameters!AI324","v":1},{"$f":"Parameters!AJ324","v":1},{"$f":"Parameters!AK324","v":1},{"$f":"Parameters!AL324","v":1},{"$f":"Parameters!AM324","v":1},{"$f":"Parameters!AN324","v":1},{"$f":"Parameters!AO324","v":1},{"$f":"Parameters!AP324","v":1},{"$f":"Parameters!AQ324","v":1},{"$f":"Parameters!AR324","v":1},{"$f":"Parameters!AS324","v":1},{"$f":"Parameters!AT324","v":1},{"$f":"Parameters!AU324","v":1},{"$f":"Parameters!AV324","v":1},{"$f":"Parameters!AW324","v":1},{"$f":"Parameters!AX324","v":1},{"$f":"Parameters!AY324","v":1},{"$f":"Parameters!AZ324","v":1},{"$f":"Parameters!BA324","v":1},{"$f":"Parameters!BB324","v":1},{"$f":"Parameters!BC324","v":1},{"$f":"Parameters!BD324","v":1},{"$f":"Parameters!BE324","v":1},{"$f":"Parameters!BF324","v":1},{"$f":"Parameters!BG324","v":1},{"$f":"Parameters!BH324","v":1},{"$f":"Parameters!BI324","v":1},{"$f":"Parameters!BJ324","v":1},{"$f":"Parameters!BK324","v":1},{"$f":"Parameters!BL324","v":1},{"$f":"Parameters!BM324","v":1},{"$f":"Parameters!BN324","v":1}]
["S317",{"$f":"Parameters!K325","v":1},{"$f":"Parameters!L325","v":1},{"$f":"Parameters!M325","v":1},{"$f":"Parameters!N325","v":1},{"$f":"Parameters!O325","v":1},{"$f":"Parameters!P325","v":1},{"$f":"Parameters!Q325","v":1},{"$f":"Parameters!R325","v":1},{"$f":"Parameters!S325","v":1},{"$f":"Parameters!T325","v":1},{"$f":"Parameters!U325","v":1},{"$f":"Parameters!V325","v":1},{"$f":"Parameters!W325","v":1},{"$f":"Parameters!X325","v":1},{"$f":"Parameters!Y325","v":1},{"$f":"Parameters!Z325","v":1},{"$f":"Parameters!AA325","v":1},{"$f":"Parameters!AB325","v":1},{"$f":"Parameters!AC325","v":1},{"$f":"Parameters!AD325","v":1},{"$f":"Parameters!AE325","v":1},{"$f":"Parameters!AF325","v":1},{"$f":"Parameters!AG325","v":1},{"$f":"Parameters!AH325","v":1},{"$f":"Parameters!AI325","v":1},{"$f":"Parameters!AJ325","v":1},{"$f":"Parameters!AK325","v":1},{"$f":"Parameters!AL325","v":1},{"$f":"Parameters!AM325","v":1},{"$f":"Parameters!AN325","v":1},{"$f":"Parameters!AO325","v":1},{"$f":"Parameters!AP325","v":1},{"$f":"Parameters!AQ325","v":1},{"$f":"Parameters!AR325","v":1},{"$f":"Parameters!AS325","v":1},{"$f":"Parameters!AT325","v":1},{"$f":"Parameters!AU325","v":1},{"$f":"Parameters!AV325","v":1},{"$f":"Parameters!AW325","v":1},{"$f":"Parameters!AX325","v":1},{"$f":"Parameters!AY325","v":1},{"$f":"Parameters!AZ325","v":1},{"$f":"Parameters!BA325","v":1},{"$f":"Parameters!BB325","v":1},{"$f":"Parameters!BC325","v":1},{"$f":"Parameters!BD325","v":1},{"$f":"Parameters!BE325","v":1},{"$f":"Parameters!BF325","v":1},{"$f":"Parameters!BG325","v":1},{"$f":"Parameters!BH325","v":1},{"$f":"Parameters!BI325","v":1},{"$f":"Parameters!BJ325","v":1},{"$f":"Parameters!BK325","v":1},{"$f":"Parameters!BL325","v":1},{"$f":"Parameters!BM325","v":1},{"$f":"Parameters!BN325","v":1}]
["S318",{"$f":"Parameters!K326","v":1},{"$f":"Parameters!L326","v":1},{"$f":"Parameters!M326","v":1},{"$f":"Parameters!N326","v":1},{"$f":"Parameters!O326","v":1},{"$f":"Parameters!P326","v":1},{"$f":"Parameters!Q326","v":1},{"$f":"Parameters!R326","v":1},{"$f":"Parameters!S326","v":1},{"$f":"Parameters!T326","v":1},{"$f":"Parameters!U326","v":1},{"$f":"Parameters!V326","v":1},{"$f":"Parameters!W326","v":1},{"$f":"Parameters!X326","v":1},{"$f":"Parameters!Y326","v":1},{"$f":"Parameters!Z326","v":1},{"$f":"Parameters!AA326","v":1},{"$f":"Parameters!AB326","v":1},{"$f":"Parameters!AC326","v":1},{"$f":"Parameters!AD326","v":1},{"$f":"Parameters!AE326","v":1},{"$f":"Parameters!AF326","v":1},{"$f":"Parameters!AG326","v":1},{"$f":"Parameters!AH326","v":1},{"$f":"Parameters!AI326","v":1},{"$f":"Parameters!AJ326","v":1},{"$f":"Parameters!AK326","v":1},{"$f":"Parameters!AL326","v":1},{"$f":"Parameters!AM326","v":1},{"$f":"Parameters!AN326","v":1},{"$f":"Parameters!AO326","v":1},{"$f":"Parameters!AP326","v":1},{"$f":"Parameters!AQ326","v":1},{"$f":"Parameters!AR326","v":1},{"$f":"Parameters!AS326","v":1},{"$f":"Parameters!AT326","v":1},{"$f":"Parameters!AU326","v":1},{"$f":"Parameters!AV326","v":1},{"$f":"Parameters!AW326","v":1},{"$f":"Parameters!AX326","v":1},{"$f":"Parameters!AY326","v":1},{"$f":"Parameters!AZ326","v":1},{"$f":"Parameters!BA326","v":1},{"$f":"Parameters!BB326","v":1},{"$f":"Parameters!BC326","v":1},{"$f":"Parameters!BD326","v":1},{"$f":"Parameters!BE326","v":1},{"$f":"Parameters!BF326","v":1},{"$f":"Parameters!BG326","v":1},{"$f":"Parameters!BH326","v":1},{"$f":"Parameters!BI326","v":1},{"$f":"Parameters!BJ326","v":1},{"$f":"Parameters!BK326","v":1},{"$f":"Parameters!BL326","v":1},{"$f":"Parameters!BM326","v":1},{"$f":"Parameters!BN326","v":1}]
["S319",{"$f":"Parameters!K327","v":1},{"$f":"Parameters!L327","v":1},{"$f":"Parameters!M327","v":1},{"$f":"Parameters!N327","v":1},{"$f":"Parameters!O327","v":1},{"$f":"Parameters!P327","v":1},{"$f":"Parameters!Q327","v":1},{"$f":"Parameters!R327","v":1},{"$f":"Parameters!S327","v":1},{"$f":"Parameters!T327","v":1},{"$f":"Parameters!U327","v":1},{"$f":"Parameters!V327","v":1},{"$f":"Parameters!W327","v":1},{"$f":"Parameters!X327","v":1},{"$f":"Parameters!Y327","v":1},{"$f":"Parameters!Z327","v":1},{"$f":"Parameters!AA327","v":1},{"$f":"Parameters!AB327","v":1},{"$f":"Parameters!AC327","v":1},{"$f":"Parameters!AD327","v":1},{"$f":"Parameters!AE327","v":1},{"$f":"Parameters!AF327","v":1},{"$f":"Parameters!AG327","v":1},{"$f":"Parameters!AH327","v":1},{"$f":"Parameters!AI327","v":1},{"$f":"Parameters!AJ327","v":1},{"$f":"Parameters!AK327","v":1},{"$f":"Parameters!AL327","v":1},{"$f":"Parameters!AM327","v":1},{"$f":"Parameters!AN327","v":1},{"$f":"Parameters!AO327","v":1},{"$f":"Parameters!AP327","v":1},{"$f":"Parameters!AQ327","v":1},{"$f":"Parameters!AR327","v":1},{"$f":"Parameters!AS327","v":1},{"$f":"Parameters!AT327","v":1},{"$f":"Parameters!AU327","v":1},{"$f":"Parameters!AV327","v":1},{"$f":"Parameters!AW327","v":1},{"$f":"Parameters!AX327","v":1},{"$f":"Parameters!AY327","v":1},{"$f":"Parameters!AZ327","v":1},{"$f":"Parameters!BA327","v":1},{"$f":"Parameters!BB327","v":1},{"$f":"Parameters!BC327","v":1},{"$f":"Parameters!BD327","v":1},{"$f":"Parameters!BE327","v":1},{"$f":"Parameters!BF327","v":1},{"$f":"Parameters!BG327","v":1},{"$f":"Parameters!BH327","v":1},{"$f":"Parameters!BI327","v":1},{"$f":"Parameters!BJ327","v":1},{"$f":"Parameters!BK327","v":1},{"$f":"Parameters!BL327","v":1},{"$f":"Parameters!BM327","v":1},{"$f":"Parameters!BN327","v":1}]
["S320",{"$f":"Parameters!K328","v":1},{"$f":"Parameters!L328","v":1},{"$f":"Parameters!M328","v":1},{"$f":"Parameters!N328","v":1},{"$f":"Parameters!O328","v":1},{"$f":"Parameters!P328","v":1},{"$f":"Parameters!Q328","v":1},{"$f":"Parameters!R328","v":1},{"$f":"Parameters!S328","v":1},{"$f":"Parameters!T328","v":1},{"$f":"Parameters!U328","v":1},{"$f":"Parameters!V328","v":1},{"$f":"Parameters!W328","v":1},{"$f":"Parameters!X328","v":1},{"$f":"Parameters!Y328","v":1},{"$f":"Parameters!Z328","v":1},{"$f":"Parameters!AA328","v":1},{"$f":"Parameters!AB328","v":1},{"$f":"Parameters!AC328","v":1},{"$f":"Parameters!AD328","v":1},{"$f":"Parameters!AE328","v":1},{"$f":"Parameters!AF328","v":1},{"$f":"Parameters!AG328","v":1},{"$f":"Parameters!AH328","v":1},{"$f":"Parameters!AI328","v":1},{"$f":"Parameters!AJ328","v":1},{"$f":"Parameters!AK328","v":1},{"$f":"Parameters!AL328","v":1},{"$f":"Parameters!AM328","v":1},{"$f":"Parameters!AN328","v":1},{"$f":"Parameters!AO328","v":1},{"$f":"Parameters!AP328","v":1},{"$f":"Parameters!AQ328","v":1},{"$f":"Parameters!AR328","v":1},{"$f":"Parameters!AS328","v":1},{"$f":"Parameters!AT328","v":1},{"$f":"Parameters!AU328","v":1},{"$f":"Parameters!AV328","v":1},{"$f":"Parameters!AW328","v":1},{"$f":"Parameters!AX328","v":1},{"$f":"Parameters!AY328","v":1},{"$f":"Parameters!AZ328","v":1},{"$f":"Parameters!BA328","v":1},{"$f":"Parameters!BB328","v":1},{"$f":"Parameters!BC328","v":1},{"$f":"Parameters!BD328","v":1},{"$f":"Parameters!BE328","v":1},{"$f":"Parameters!BF328","v":1},{"$f":"Parameters!BG328","v":1},{"$f":"Parameters!BH328","v":1},{"$f":"Parameters!BI328","v":1},{"$f":"Parameters!BJ328","v":1},{"$f":"Parameters!BK328","v":1},{"$f":"Parameters!BL328","v":1},{"$f":"Parameters!BM328","v":1},{"$f":"Parameters!BN328","v":1}]
["S321",{"$f":"Parameters!K329","v":1},{"$f":"Parameters!L329","v":1},{"$f":"Parameters!M329","v":1},{"$f":"Parameters!N329","v":1},{"$f":"Parameters!O329","v":1},{"$f":"Parameters!P329","v":1},{"$f":"Parameters!Q329","v":1},{"$f":"Parameters!R329","v":1},{"$f":"Parameters!S329","v":1},{"$f":"Parameters!T329","v":1},{"$f":"Parameters!U329","v":1},{"$f":"Parameters!V329","v":1},{"$f":"Parameters!W329","v":1},{"$f":"Parameters!X329","v":1},{"$f":"Parameters!Y329","v":1},{"$f":"Parameters!Z329","v":1},{"$f":"Parameters!AA329","v":1},{"$f":"Parameters!AB329","v":1},{"$f":"Parameters!AC329","v":1},{"$f":"Parameters!AD329","v":1},{"$f":"Parameters!AE329","v":1},{"$f":"Parameters!AF329","v":1},{"$f":"Parameters!AG329","v":1},{"$f":"Parameters!AH329","v":1},{"$f":"Parameters!AI329","v":1},{"$f":"Parameters!AJ329","v":1},{"$f":"Parameters!AK329","v":1},{"$f":"Parameters!AL329","v":1},{"$f":"Parameters!AM329","v":1},{"$f":"Parameters!AN329","v":1},{"$f":"Parameters!AO329","v":1},{"$f":"Parameters!AP329","v":1},{"$f":"Parameters!AQ329","v":1},{"$f":"Parameters!AR329","v":1},{"$f":"Parameters!AS329","v":1},{"$f":"Parameters!AT329","v":1},{"$f":"Parameters!AU329","v":1},{"$f":"Parameters!AV329","v":1},{"$f":"Parameters!AW329","v":1},{"$f":"Parameters!AX329","v":1},{"$f":"Parameters!AY329","v":1},{"$f":"Parameters!AZ329","v":1},{"$f":"Parameters!BA329","v":1},{"$f":"Parameters!BB329","v":1},{"$f":"Parameters!BC329","v":1},{"$f":"Parameters!BD329","v":1},{"$f":"Parameters!BE329","v":1},{"$f":"Parameters!BF329","v":1},{"$f":"Parameters!BG329","v":1},{"$f":"Parameters!BH329","v":1},{"$f":"Parameters!BI329","v":1},{"$f":"Parameters!BJ329","v":1},{"$f":"Parameters!BK329","v":1},{"$f":"Parameters!BL329","v":1},{"$f":"Parameters!BM329","v":1},{"$f":"Parameters!BN329","v":1}]
["S322",{"$f":"Parameters!K330","v":1},{"$f":"Parameters!L330","v":1},{"$f":"Parameters!M330","v":1},{"$f":"Parameters!N330","v":1},{"$f":"Parameters!O330","v":1},{"$f":"Parameters!P330","v":1},{"$f":"Parameters!Q330","v":1},{"$f":"Parameters!R330","v":1},{"$f":"Parameters!S330","v":1},{"$f":"Parameters!T330","v":1},{"$f":"Parameters!U330","v":1},{"$f":"Parameters!V330","v":1},{"$f":"Parameters!W330","v":1},{"$f":"Parameters!X330","v":1},{"$f":"Parameters!Y330","v":1},{"$f":"Parameters!Z330","v":1},{"$f":"Parameters!AA330","v":1},{"$f":"Parameters!AB330","v":1},{"$f":"Parameters!AC330","v":1},{"$f":"Parameters!AD330","v":1},{"$f":"Parameters!AE330","v":1},{"$f":"Parameters!AF330","v":1},{"$f":"Parameters!AG330","v":1},{"$f":"Parameters!AH330","v":1},{"$f":"Parameters!AI330","v":1},{"$f":"Parameters!AJ330","v":1},{"$f":"Parameters!AK330","v":1},{"$f":"Parameters!AL330","v":1},{"$f":"Parameters!AM330","v":1},{"$f":"Parameters!AN330","v":1},{"$f":"Parameters!AO330","v":1},{"$f":"Parameters!AP330","v":1},{"$f":"Parameters!AQ330","v":1},{"$f":"Parameters!AR330","v":1},{"$f":"Parameters!AS330","v":1},{"$f":"Parameters!AT330","v":1},{"$f":"Parameters!AU330","v":1},{"$f":"Parameters!AV330","v":1},{"$f":"Parameters!AW330","v":1},{"$f":"Parameters!AX330","v":1},{"$f":"Parameters!AY330","v":1},{"$f":"Parameters!AZ330","v":1},{"$f":"Parameters!BA330","v":1},{"$f":"Parameters!BB330","v":1},{"$f":"Parameters!BC330","v":1},{"$f":"Parameters!BD330","v":1},{"$f":"Parameters!BE330","v":1},{"$f":"Parameters!BF330","v":1},{"$f":"Parameters!BG330","v":1},{"$f":"Parameters!BH330","v":1},{"$f":"Parameters!BI330","v":1},{"$f":"Parameters!BJ330","v":1},{"$f":"Parameters!BK330","v":1},{"$f":"Parameters!BL330","v":1},{"$f":"Parameters!BM330","v":1},{"$f":"Parameters!BN330","v":1}]
["S323",{"$f":"Parameters!K331","v":1},{"$f":"Parameters!L331","v":1},{"$f":"Parameters!M331","v":1},{"$f":"Parameters!N331","v":1},{"$f":"Parameters!O331","v":1},{"$f":"Parameters!P331","v":1},{"$f":"Parameters!Q331","v":1},{"$f":"Parameters!R331","v":1},{"$f":"Parameters!S331","v":1},{"$f":"Parameters!T331","v":1},{"$f":"Parameters!U331","v":1},{"$f":"Parameters!V331","v":1},{"$f":"Parameters!W331","v":1},{"$f":"Parameters!X331","v":1},{"$f":"Parameters!Y331","v":1},{"$f":"Parameters!Z331","v":1},{"$f":"Parameters!AA331","v":1},{"$f":"Parameters!AB331","v":1},{"$f":"Parameters!AC331","v":1},{"$f":"Parameters!AD331","v":1},{"$f":"Parameters!AE331","v":1},{"$f":"Parameters!AF331","v":1},{"$f":"Parameters!AG331","v":1},{"$f":"Parameters!AH331","v":1},{"$f":"Parameters!AI331","v":1},{"$f":"Parameters!AJ331","v":1},{"$f":"Parameters!AK331","v":1},{"$f":"Parameters!AL331","v":1},{"$f":"Parameters!AM331","v":1},{"$f":"Parameters!AN331","v":1},{"$f":"Parameters!AO331","v":1},{"$f":"Parameters!AP331","v":1},{"$f":"Parameters!AQ331","v":1},{"$f":"Parameters!AR331","v":1},{"$f":"Parameters!AS331","v":1},{"$f":"Parameters!AT331","v":1},{"$f":"Parameters!AU331","v":1},{"$f":"Parameters!AV331","v":1},{"$f":"Parameters!AW331","v":1},{"$f":"Parameters!AX331","v":1},{"$f":"Parameters!AY331","v":1},{"$f":"Parameters!AZ331","v":1},{"$f":"Parameters!BA331","v":1},{"$f":"Parameters!BB331","v":1},{"$f":"Parameters!BC331","v":1},{"$f":"Parameters!BD331","v":1},{"$f":"Parameters!BE331","v":1},{"$f":"Parameters!BF331","v":1},{"$f":"Parameters!BG331","v":1},{"$f":"Parameters!BH331","v":1},{"$f":"Parameters!BI331","v":1},{"$f":"Parameters!BJ331","v":1},{"$f":"Parameters!BK331","v":1},{"$f":"Parameters!BL331","v":1},{"$f":"Parameters!BM331","v":1},{"$f":"Parameters!BN331","v":1}]
["S324",{"$f":"Parameters!K332","v":1},{"$f":"Parameters!L332","v":1},{"$f":"Parameters!M332","v":1},{"$f":"Parameters!N332","v":1},{"$f":"Parameters!O332","v":1},{"$f":"Parameters!P332","v":1},{"$f":"Parameters!Q332","v":1},{"$f":"Parameters!R332","v":1},{"$f":"Parameters!S332","v":1},{"$f":"Parameters!T332","v":1},{"$f":"Parameters!U332","v":1},{"$f":"Parameters!V332","v":1},{"$f":"Parameters!W332","v":1},{"$f":"Parameters!X332","v":1},{"$f":"Parameters!Y332","v":1},{"$f":"Parameters!Z332","v":1},{"$f":"Parameters!AA332","v":1},{"$f":"Parameters!AB332","v":1},{"$f":"Parameters!AC332","v":1},{"$f":"Parameters!AD332","v":1},{"$f":"Parameters!AE332","v":1},{"$f":"Parameters!AF332","v":1},{"$f":"Parameters!AG332","v":1},{"$f":"Parameters!AH332","v":1},{"$f":"Parameters!AI332","v":1},{"$f":"Parameters!AJ332","v":1},{"$f":"Parameters!AK332","v":1},{"$f":"Parameters!AL332","v":1},{"$f":"Parameters!AM332","v":1},{"$f":"Parameters!AN332","v":1},{"$f":"Parameters!AO332","v":1},{"$f":"Parameters!AP332","v":1},{"$f":"Parameters!AQ332","v":1},{"$f":"Parameters!AR332","v":1},{"$f":"Parameters!AS332","v":1},{"$f":"Parameters!AT332","v":1},{"$f":"Parameters!AU332","v":1},{"$f":"Parameters!AV332","v":1},{"$f":"Parameters!AW332","v":1},{"$f":"Parameters!AX332","v":1},{"$f":"Parameters!AY332","v":1},{"$f":"Parameters!AZ332","v":1},{"$f":"Parameters!BA332","v":1},{"$f":"Parameters!BB332","v":1},{"$f":"Parameters!BC332","v":1},{"$f":"Parameters!BD332","v":1},{"$f":"Parameters!BE332","v":1},{"$f":"Parameters!BF332","v":1},{"$f":"Parameters!BG332","v":1},{"$f":"Parameters!BH332","v":1},{"$f":"Parameters!BI332","v":1},{"$f":"Parameters!BJ332","v":1},{"$f":"Parameters!BK332","v":1},{"$f":"Parameters!BL332","v":1},{"$f":"Parameters!BM332","v":1},{"$f":"Parameters!BN332","v":1}]
["S401",{"$f":"Parameters!K333","v":1},{"$f":"Parameters!L333","v":1},{"$f":"Parameters!M333","v":1},{"$f":"Parameters!N333","v":1},{"$f":"Parameters!O333","v":1},{"$f":"Parameters!P333","v":1},{"$f":"Parameters!Q333","v":1},{"$f":"Parameters!R333","v":1},{"$f":"Parameters!S333","v":1},{"$f":"Parameters!T333","v":1},{"$f":"Parameters!U333","v":1},{"$f":"Parameters!V333","v":1},{"$f":"Parameters!W333","v":1},{"$f":"Parameters!X333","v":1},{"$f":"Parameters!Y333","v":1},{"$f":"Parameters!Z333","v":1},{"$f":"Parameters!AA333","v":1},{"$f":"Parameters!AB333","v":1},{"$f":"Parameters!AC333","v":1},{"$f":"Parameters!AD333","v":1},{"$f":"Parameters!AE333","v":1},{"$f":"Parameters!AF333","v":1},{"$f":"Parameters!AG333","v":1},{"$f":"Parameters!AH333","v":1},{"$f":"Parameters!AI333","v":1},{"$f":"Parameters!AJ333","v":1},{"$f":"Parameters!AK333","v":1},{"$f":"Parameters!AL333","v":1},{"$f":"Parameters!AM333","v":1},{"$f":"Parameters!AN333","v":1},{"$f":"Parameters!AO333","v":1},{"$f":"Parameters!AP333","v":1},{"$f":"Parameters!AQ333","v":1},{"$f":"Parameters!AR333","v":1},{"$f":"Parameters!AS333","v":1},{"$f":"Parameters!AT333","v":1},{"$f":"Parameters!AU333","v":1},{"$f":"Parameters!AV333","v":1},{"$f":"Parameters!AW333","v":1},{"$f":"Parameters!AX333","v":1},{"$f":"Parameters!AY333","v":1},{"$f":"Parameters!AZ333","v":1},{"$f":"Parameters!BA333","v":1},{"$f":"Parameters!BB333","v":1},{"$f":"Parameters!BC333","v":1},{"$f":"Parameters!BD333","v":1},{"$f":"Parameters!BE333","v":1},{"$f":"Parameters!BF333","v":1},{"$f":"Parameters!BG333","v":1},{"$f":"Parameters!BH333","v":1},{"$f":"Parameters!BI333","v":1},{"$f":"Parameters!BJ333","v":1},{"$f":"Parameters!BK333","v":1},{"$f":"Parameters!BL333","v":1},{"$f":"Parameters!BM333","v":1},{"$f":"Parameters!BN333","v":1}]
["S402",{"$f":"Parameters!K334","v":1},{"$f":"Parameters!L334","v":1},{"$f":"Parameters!M334","v":1},{"$f":"Parameters!N334","v":1},{"$f":"Parameters!O334","v":1},{"$f":"Parameters!P334","v":1},{"$f":"Parameters!Q334","v":1},{"$f":"Parameters!R334","v":1},{"$f":"Parameters!S334","v":1},{"$f":"Parameters!T334","v":1},{"$f":"Parameters!U334","v":1},{"$f":"Parameters!V334","v":1},{"$f":"Parameters!W334","v":1},{"$f":"Parameters!X334","v":1},{"$f":"Parameters!Y334","v":1},{"$f":"Parameters!Z334","v":1},{"$f":"Parameters!AA334","v":1},{"$f":"Parameters!AB334","v":1},{"$f":"Parameters!AC334","v":1},{"$f":"Parameters!AD334","v":1},{"$f":"Parameters!AE334","v":1},{"$f":"Parameters!AF334","v":1},{"$f":"Parameters!AG334","v":1},{"$f":"Parameters!AH334","v":1},{"$f":"Parameters!AI334","v":1},{"$f":"Parameters!AJ334","v":1},{"$f":"Parameters!AK334","v":1},{"$f":"Parameters!AL334","v":1},{"$f":"Parameters!AM334","v":1},{"$f":"Parameters!AN334","v":1},{"$f":"Parameters!AO334","v":1},{"$f":"Parameters!AP334","v":1},{"$f":"Parameters!AQ334","v":1},{"$f":"Parameters!AR334","v":1},{"$f":"Parameters!AS334","v":1},{"$f":"Parameters!AT334","v":1},{"$f":"Parameters!AU334","v":1},{"$f":"Parameters!AV334","v":1},{"$f":"Parameters!AW334","v":1},{"$f":"Parameters!AX334","v":1},{"$f":"Parameters!AY334","v":1},{"$f":"Parameters!AZ334","v":1},{"$f":"Parameters!BA334","v":1},{"$f":"Parameters!BB334","v":1},{"$f":"Parameters!BC334","v":1},{"$f":"Parameters!BD334","v":1},{"$f":"Parameters!BE334","v":1},{"$f":"Parameters!BF334","v":1},{"$f":"Parameters!BG334","v":1},{"$f":"Parameters!BH334","v":1},{"$f":"Parameters!BI334","v":1},{"$f":"Parameters!BJ334","v":1},{"$f":"Parameters!BK334","v":1},{"$f":"Parameters!BL334","v":1},{"$f":"Parameters!BM334","v":1},{"$f":"Parameters!BN334","v":1}]
["S403",{"$f":"Parameters!K335","v":1},{"$f":"Parameters!L335","v":1},{"$f":"Parameters!M335","v":1},{"$f":"Parameters!N335","v":1},{"$f":"Parameters!O335","v":1},{"$f":"Parameters!P335","v":1},{"$f":"Parameters!Q335","v":1},{"$f":"Parameters!R335","v":1},{"$f":"Parameters!S335","v":1},{"$f":"Parameters!T335","v":1},{"$f":"Parameters!U335","v":1},{"$f":"Parameters!V335","v":1},{"$f":"Parameters!W335","v":1},{"$f":"Parameters!X335","v":1},{"$f":"Parameters!Y335","v":1},{"$f":"Parameters!Z335","v":1},{"$f":"Parameters!AA335","v":1},{"$f":"Parameters!AB335","v":1},{"$f":"Parameters!AC335","v":1},{"$f":"Parameters!AD335","v":1},{"$f":"Parameters!AE335","v":1},{"$f":"Parameters!AF335","v":1},{"$f":"Parameters!AG335","v":1},{"$f":"Parameters!AH335","v":1},{"$f":"Parameters!AI335","v":1},{"$f":"Parameters!AJ335","v":1},{"$f":"Parameters!AK335","v":1},{"$f":"Parameters!AL335","v":1},{"$f":"Parameters!AM335","v":1},{"$f":"Parameters!AN335","v":1},{"$f":"Parameters!AO335","v":1},{"$f":"Parameters!AP335","v":1},{"$f":"Parameters!AQ335","v":1},{"$f":"Parameters!AR335","v":1},{"$f":"Parameters!AS335","v":1},{"$f":"Parameters!AT335","v":1},{"$f":"Parameters!AU335","v":1},{"$f":"Parameters!AV335","v":1},{"$f":"Parameters!AW335","v":1},{"$f":"Parameters!AX335","v":1},{"$f":"Parameters!AY335","v":1},{"$f":"Parameters!AZ335","v":1},{"$f":"Parameters!BA335","v":1},{"$f":"Parameters!BB335","v":1},{"$f":"Parameters!BC335","v":1},{"$f":"Parameters!BD335","v":1},{"$f":"Parameters!BE335","v":1},{"$f":"Parameters!BF335","v":1},{"$f":"Parameters!BG335","v":1},{"$f":"Parameters!BH335","v":1},{"$f":"Parameters!BI335","v":1},{"$f":"Parameters!BJ335","v":1},{"$f":"Parameters!BK335","v":1},{"$f":"Parameters!BL335","v":1},{"$f":"Parameters!BM335","v":1},{"$f":"Parameters!BN335","v":1}]
["S404",{"$f":"Parameters!K336","v":1},{"$f":"Parameters!L336","v":1},{"$f":"Parameters!M336","v":1},{"$f":"Parameters!N336","v":1},{"$f":"Parameters!O336","v":1},{"$f":"Parameters!P336","v":1},{"$f":"Parameters!Q336","v":1},{"$f":"Parameters!R336","v":1},{"$f":"Parameters!S336","v":1},{"$f":"Parameters!T336","v":1},{"$f":"Parameters!U336","v":1},{"$f":"Parameters!V336","v":1},{"$f":"Parameters!W336","v":1},{"$f":"Parameters!X336","v":1},{"$f":"Parameters!Y336","v":1},{"$f":"Parameters!Z336","v":1},{"$f":"Parameters!AA336","v":1},{"$f":"Parameters!AB336","v":1},{"$f":"Parameters!AC336","v":1},{"$f":"Parameters!AD336","v":1},{"$f":"Parameters!AE336","v":1},{"$f":"Parameters!AF336","v":1},{"$f":"Parameters!AG336","v":1},{"$f":"Parameters!AH336","v":1},{"$f":"Parameters!AI336","v":1},{"$f":"Parameters!AJ336","v":1},{"$f":"Parameters!AK336","v":1},{"$f":"Parameters!AL336","v":1},{"$f":"Parameters!AM336","v":1},{"$f":"Parameters!AN336","v":1},{"$f":"Parameters!AO336","v":1},{"$f":"Parameters!AP336","v":1},{"$f":"Parameters!AQ336","v":1},{"$f":"Parameters!AR336","v":1},{"$f":"Parameters!AS336","v":1},{"$f":"Parameters!AT336","v":1},{"$f":"Parameters!AU336","v":1},{"$f":"Parameters!AV336","v":1},{"$f":"Parameters!AW336","v":1},{"$f":"Parameters!AX336","v":1},{"$f":"Parameters!AY336","v":1},{"$f":"Parameters!AZ336","v":1},{"$f":"Parameters!BA336","v":1},{"$f":"Parameters!BB336","v":1},{"$f":"Parameters!BC336","v":1},{"$f":"Parameters!BD336","v":1},{"$f":"Parameters!BE336","v":1},{"$f":"Parameters!BF336","v":1},{"$f":"Parameters!BG336","v":1},{"$f":"Parameters!BH336","v":1},{"$f":"Parameters!BI336","v":1},{"$f":"Parameters!BJ336","v":1},{"$f":"Parameters!BK336","v":1},{"$f":"Parameters!BL336","v":1},{"$f":"Parameters!BM336","v":1},{"$f":"Parameters!BN336","v":1}]
["S405",{"$f":"Parameters!K337","v":1},{"$f":"Parameters!L337","v":1},{"$f":"Parameters!M337","v":1},{"$f":"Parameters!N337","v":1},{"$f":"Parameters!O337","v":1},{"$f":"Parameters!P337","v":1},{"$f":"Parameters!Q337","v":1},{"$f":"Parameters!R337","v":1},{"$f":"Parameters!S337","v":1},{"$f":"Parameters!T337","v":1},{"$f":"Parameters!U337","v":1},{"$f":"Parameters!V337","v":1},{"$f":"Parameters!W337","v":1},{"$f":"Parameters!X337","v":1},{"$f":"Parameters!Y337","v":1},{"$f":"Parameters!Z337","v":1},{"$f":"Parameters!AA337","v":1},{"$f":"Parameters!AB337","v":1},{"$f":"Parameters!AC337","v":1},{"$f":"Parameters!AD337","v":1},{"$f":"Parameters!AE337","v":1},{"$f":"Parameters!AF337","v":1},{"$f":"Parameters!AG337","v":1},{"$f":"Parameters!AH337","v":1},{"$f":"Parameters!AI337","v":1},{"$f":"Parameters!AJ337","v":1},{"$f":"Parameters!AK337","v":1},{"$f":"Parameters!AL337","v":1},{"$f":"Parameters!AM337","v":1},{"$f":"Parameters!AN337","v":1},{"$f":"Parameters!AO337","v":1},{"$f":"Parameters!AP337","v":1},{"$f":"Parameters!AQ337","v":1},{"$f":"Parameters!AR337","v":1},{"$f":"Parameters!AS337","v":1},{"$f":"Parameters!AT337","v":1},{"$f":"Parameters!AU337","v":1},{"$f":"Parameters!AV337","v":1},{"$f":"Parameters!AW337","v":1},{"$f":"Parameters!AX337","v":1},{"$f":"Parameters!AY337","v":1},{"$f":"Parameters!AZ337","v":1},{"$f":"Parameters!BA337","v":1},{"$f":"Parameters!BB337","v":1},{"$f":"Parameters!BC337","v":1},{"$f":"Parameters!BD337","v":1},{"$f":"Parameters!BE337","v":1},{"$f":"Parameters!BF337","v":1},{"$f":"Parameters!BG337","v":1},{"$f":"Parameters!BH337","v":1},{"$f":"Parameters!BI337","v":1},{"$f":"Parameters!BJ337","v":1},{"$f":"Parameters!BK337","v":1},{"$f":"Parameters!BL337","v":1},{"$f":"Parameters!BM337","v":1},{"$f":"Parameters!BN337","v":1}]
["S406",{"$f":"Parameters!K338","v":1},{"$f":"Parameters!L338","v":1},{"$f":"Parameters!M338","v":1},{"$f":"Parameters!N338","v":1},{"$f":"Parameters!O338","v":1},{"$f":"Parameters!P338","v":1},{"$f":"Parameters!Q338","v":1},{"$f":"Parameters!R338","v":1},{"$f":"Parameters!S338","v":1},{"$f":"Parameters!T338","v":1},{"$f":"Parameters!U338","v":1},{"$f":"Parameters!V338","v":1},{"$f":"Parameters!W338","v":1},{"$f":"Parameters!X338","v":1},{"$f":"Parameters!Y338","v":1},{"$f":"Parameters!Z338","v":1},{"$f":"Parameters!AA338","v":1},{"$f":"Parameters!AB338","v":1},{"$f":"Parameters!AC338","v":1},{"$f":"Parameters!AD338","v":1},{"$f":"Parameters!AE338","v":1},{"$f":"Parameters!AF338","v":1},{"$f":"Parameters!AG338","v":1},{"$f":"Parameters!AH338","v":1},{"$f":"Parameters!AI338","v":1},{"$f":"Parameters!AJ338","v":1},{"$f":"Parameters!AK338","v":1},{"$f":"Parameters!AL338","v":1},{"$f":"Parameters!AM338","v":1},{"$f":"Parameters!AN338","v":1},{"$f":"Parameters!AO338","v":1},{"$f":"Parameters!AP338","v":1},{"$f":"Parameters!AQ338","v":1},{"$f":"Parameters!AR338","v":1},{"$f":"Parameters!AS338","v":1},{"$f":"Parameters!AT338","v":1},{"$f":"Parameters!AU338","v":1},{"$f":"Parameters!AV338","v":1},{"$f":"Parameters!AW338","v":1},{"$f":"Parameters!AX338","v":1},{"$f":"Parameters!AY338","v":1},{"$f":"Parameters!AZ338","v":1},{"$f":"Parameters!BA338","v":1},{"$f":"Parameters!BB338","v":1},{"$f":"Parameters!BC338","v":1},{"$f":"Parameters!BD338","v":1},{"$f":"Parameters!BE338","v":1},{"$f":"Parameters!BF338","v":1},{"$f":"Parameters!BG338","v":1},{"$f":"Parameters!BH338","v":1},{"$f":"Parameters!BI338","v":1},{"$f":"Parameters!BJ338","v":1},{"$f":"Parameters!BK338","v":1},{"$f":"Parameters!BL338","v":1},{"$f":"Parameters!BM338","v":1},{"$f":"Parameters!BN338","v":1}]
["S407",{"$f":"Parameters!K339","v":1},{"$f":"Parameters!L339","v":1},{"$f":"Parameters!M339","v":1},{"$f":"Parameters!N339","v":1},{"$f":"Parameters!O339","v":1},{"$f":"Parameters!P339","v":1},{"$f":"Parameters!Q339","v":1},{"$f":"Parameters!R339","v":1},{"$f":"Parameters!S339","v":1},{"$f":"Parameters!T339","v":1},{"$f":"Parameters!U339","v":1},{"$f":"Parameters!V339","v":1},{"$f":"Parameters!W339","v":1},{"$f":"Parameters!X339","v":1},{"$f":"Parameters!Y339","v":1},{"$f":"Parameters!Z339","v":1},{"$f":"Parameters!AA339","v":1},{"$f":"Parameters!AB339","v":1},{"$f":"Parameters!AC339","v":1},{"$f":"Parameters!AD339","v":1},{"$f":"Parameters!AE339","v":1},{"$f":"Parameters!AF339","v":1},{"$f":"Parameters!AG339","v":1},{"$f":"Parameters!AH339","v":1},{"$f":"Parameters!AI339","v":1},{"$f":"Parameters!AJ339","v":1},{"$f":"Parameters!AK339","v":1},{"$f":"Parameters!AL339","v":1},{"$f":"Parameters!AM339","v":1},{"$f":"Parameters!AN339","v":1},{"$f":"Parameters!AO339","v":1},{"$f":"Parameters!AP339","v":1},{"$f":"Parameters!AQ339","v":1},{"$f":"Parameters!AR339","v":1},{"$f":"Parameters!AS339","v":1},{"$f":"Parameters!AT339","v":1},{"$f":"Parameters!AU339","v":1},{"$f":"Parameters!AV339","v":1},{"$f":"Parameters!AW339","v":1},{"$f":"Parameters!AX339","v":1},{"$f":"Parameters!AY339","v":1},{"$f":"Parameters!AZ339","v":1},{"$f":"Parameters!BA339","v":1},{"$f":"Parameters!BB339","v":1},{"$f":"Parameters!BC339","v":1},{"$f":"Parameters!BD339","v":1},{"$f":"Parameters!BE339","v":1},{"$f":"Parameters!BF339","v":1},{"$f":"Parameters!BG339","v":1},{"$f":"Parameters!BH339","v":1},{"$f":"Parameters!BI339","v":1},{"$f":"Parameters!BJ339","v":1},{"$f":"Parameters!BK339","v":1},{"$f":"Parameters!BL339","v":1},{"$f":"Parameters!BM339","v":1},{"$f":"Parameters!BN339","v":1}]
["S408",{"$f":"Parameters!K340","v":1},{"$f":"Parameters!L340","v":1},{"$f":"Parameters!M340","v":1},{"$f":"Parameters!N340","v":1},{"$f":"Parameters!O340","v":1},{"$f":"Parameters!P340","v":1},{"$f":"Parameters!Q340","v":1},{"$f":"Parameters!R340","v":1},{"$f":"Parameters!S340","v":1},{"$f":"Parameters!T340","v":1},{"$f":"Parameters!U340","v":1},{"$f":"Parameters!V340","v":1},{"$f":"Parameters!W340","v":1},{"$f":"Parameters!X340","v":1},{"$f":"Parameters!Y340","v":1},{"$f":"Parameters!Z340","v":1},{"$f":"Parameters!AA340","v":1},{"$f":"Parameters!AB340","v":1},{"$f":"Parameters!AC340","v":1},{"$f":"Parameters!AD340","v":1},{"$f":"Parameters!AE340","v":1},{"$f":"Parameters!AF340","v":1},{"$f":"Parameters!AG340","v":1},{"$f":"Parameters!AH340","v":1},{"$f":"Parameters!AI340","v":1},{"$f":"Parameters!AJ340","v":1},{"$f":"Parameters!AK340","v":1},{"$f":"Parameters!AL340","v":1},{"$f":"Parameters!AM340","v":1},{"$f":"Parameters!AN340","v":1},{"$f":"Parameters!AO340","v":1},{"$f":"Parameters!AP340","v":1},{"$f":"Parameters!AQ340","v":1},{"$f":"Parameters!AR340","v":1},{"$f":"Parameters!AS340","v":1},{"$f":"Parameters!AT340","v":1},{"$f":"Parameters!AU340","v":1},{"$f":"Parameters!AV340","v":1},{"$f":"Parameters!AW340","v":1},{"$f":"Parameters!AX340","v":1},{"$f":"Parameters!AY340","v":1},{"$f":"Parameters!AZ340","v":1},{"$f":"Parameters!BA340","v":1},{"$f":"Parameters!BB340","v":1},{"$f":"Parameters!BC340","v":1},{"$f":"Parameters!BD340","v":1},{"$f":"Parameters!BE340","v":1},{"$f":"Parameters!BF340","v":1},{"$f":"Parameters!BG340","v":1},{"$f":"Parameters!BH340","v":1},{"$f":"Parameters!BI340","v":1},{"$f":"Parameters!BJ340","v":1},{"$f":"Parameters!BK340","v":1},{"$f":"Parameters!BL340","v":1},{"$f":"Parameters!BM340","v":1},{"$f":"Parameters!BN340","v":1}]
["S409",{"$f":"Parameters!K341","v":1},{"$f":"Parameters!L341","v":1},{"$f":"Parameters!M341","v":1},{"$f":"Parameters!N341","v":1},{"$f":"Parameters!O341","v":1},{"$f":"Parameters!P341","v":1},{"$f":"Parameters!Q341","v":1},{"$f":"Parameters!R341","v":1},{"$f":"Parameters!S341","v":1},{"$f":"Parameters!T341","v":1},{"$f":"Parameters!U341","v":1},{"$f":"Parameters!V341","v":1},{"$f":"Parameters!W341","v":1},{"$f":"Parameters!X341","v":1},{"$f":"Parameters!Y341","v":1},{"$f":"Parameters!Z341","v":1},{"$f":"Parameters!AA341","v":1},{"$f":"Parameters!AB341","v":1},{"$f":"Parameters!AC341","v":1},{"$f":"Parameters!AD341","v":1},{"$f":"Parameters!AE341","v":1},{"$f":"Parameters!AF341","v":1},{"$f":"Parameters!AG341","v":1},{"$f":"Parameters!AH341","v":1},{"$f":"Parameters!AI341","v":1},{"$f":"Parameters!AJ341","v":1},{"$f":"Parameters!AK341","v":1},{"$f":"Parameters!AL341","v":1},{"$f":"Parameters!AM341","v":1},{"$f":"Parameters!AN341","v":1},{"$f":"Parameters!AO341","v":1},{"$f":"Parameters!AP341","v":1},{"$f":"Parameters!AQ341","v":1},{"$f":"Parameters!AR341","v":1},{"$f":"Parameters!AS341","v":1},{"$f":"Parameters!AT341","v":1},{"$f":"Parameters!AU341","v":1},{"$f":"Parameters!AV341","v":1},{"$f":"Parameters!AW341","v":1},{"$f":"Parameters!AX341","v":1},{"$f":"Parameters!AY341","v":1},{"$f":"Parameters!AZ341","v":1},{"$f":"Parameters!BA341","v":1},{"$f":"Parameters!BB341","v":1},{"$f":"Parameters!BC341","v":1},{"$f":"Parameters!BD341","v":1},{"$f":"Parameters!BE341","v":1},{"$f":"Parameters!BF341","v":1},{"$f":"Parameters!BG341","v":1},{"$f":"Parameters!BH341","v":1},{"$f":"Parameters!BI341","v":1},{"$f":"Parameters!BJ341","v":1},{"$f":"Parameters!BK341","v":1},{"$f":"Parameters!BL341","v":1},{"$f":"Parameters!BM341","v":1},{"$f":"Parameters!BN341","v":1}]
["S410",{"$f":"Parameters!K342","v":1},{"$f":"Parameters!L342","v":1},{"$f":"Parameters!M342","v":1},{"$f":"Parameters!N342","v":1},{"$f":"Parameters!O342","v":1},{"$f":"Parameters!P342","v":1},{"$f":"Parameters!Q342","v":1},{"$f":"Parameters!R342","v":1},{"$f":"Parameters!S342","v":1},{"$f":"Parameters!T342","v":1},{"$f":"Parameters!U342","v":1},{"$f":"Parameters!V342","v":1},{"$f":"Parameters!W342","v":1},{"$f":"Parameters!X342","v":1},{"$f":"Parameters!Y342","v":1},{"$f":"Parameters!Z342","v":1},{"$f":"Parameters!AA342","v":1},{"$f":"Parameters!AB342","v":1},{"$f":"Parameters!AC342","v":1},{"$f":"Parameters!AD342","v":1},{"$f":"Parameters!AE342","v":1},{"$f":"Parameters!AF342","v":1},{"$f":"Parameters!AG342","v":1},{"$f":"Parameters!AH342","v":1},{"$f":"Parameters!AI342","v":1},{"$f":"Parameters!AJ342","v":1},{"$f":"Parameters!AK342","v":1},{"$f":"Parameters!AL342","v":1},{"$f":"Parameters!AM342","v":1},{"$f":"Parameters!AN342","v":1},{"$f":"Parameters!AO342","v":1},{"$f":"Parameters!AP342","v":1},{"$f":"Parameters!AQ342","v":1},{"$f":"Parameters!AR342","v":1},{"$f":"Parameters!AS342","v":1},{"$f":"Parameters!AT342","v":1},{"$f":"Parameters!AU342","v":1},{"$f":"Parameters!AV342","v":1},{"$f":"Parameters!AW342","v":1},{"$f":"Parameters!AX342","v":1},{"$f":"Parameters!AY342","v":1},{"$f":"Parameters!AZ342","v":1},{"$f":"Parameters!BA342","v":1},{"$f":"Parameters!BB342","v":1},{"$f":"Parameters!BC342","v":1},{"$f":"Parameters!BD342","v":1},{"$f":"Parameters!BE342","v":1},{"$f":"Parameters!BF342","v":1},{"$f":"Parameters!BG342","v":1},{"$f":"Parameters!BH342","v":1},{"$f":"Parameters!BI342","v":1},{"$f":"Parameters!BJ342","v":1},{"$f":"Parameters!BK342","v":1},{"$f":"Parameters!BL342","v":1},{"$f":"Parameters!BM342","v":1},{"$f":"Parameters!BN342","v":1}]
["S411",{"$f":"Parameters!K343","v":1},{"$f":"Parameters!L343","v":1},{"$f":"Parameters!M343","v":1},{"$f":"Parameters!N343","v":1},{"$f":"Parameters!O343","v":1},{"$f":"Parameters!P343","v":1},{"$f":"Parameters!Q343","v":1},{"$f":"Parameters!R343","v":1},{"$f":"Parameters!S343","v":1},{"$f":"Parameters!T343","v":1},{"$f":"Parameters!U343","v":1},{"$f":"Parameters!V343","v":1},{"$f":"Parameters!W343","v":1},{"$f":"Parameters!X343","v":1},{"$f":"Parameters!Y343","v":1},{"$f":"Parameters!Z343","v":1},{"$f":"Parameters!AA343","v":1},{"$f":"Parameters!AB343","v":1},{"$f":"Parameters!AC343","v":1},{"$f":"Parameters!AD343","v":1},{"$f":"Parameters!AE343","v":1},{"$f":"Parameters!AF343","v":1},{"$f":"Parameters!AG343","v":1},{"$f":"Parameters!AH343","v":1},{"$f":"Parameters!AI343","v":1},{"$f":"Parameters!AJ343","v":1},{"$f":"Parameters!AK343","v":1},{"$f":"Parameters!AL343","v":1},{"$f":"Parameters!AM343","v":1},{"$f":"Parameters!AN343","v":1},{"$f":"Parameters!AO343","v":1},{"$f":"Parameters!AP343","v":1},{"$f":"Parameters!AQ343","v":1},{"$f":"Parameters!AR343","v":1},{"$f":"Parameters!AS343","v":1},{"$f":"Parameters!AT343","v":1},{"$f":"Parameters!AU343","v":1},{"$f":"Parameters!AV343","v":1},{"$f":"Parameters!AW343","v":1},{"$f":"Parameters!AX343","v":1},{"$f":"Parameters!AY343","v":1},{"$f":"Parameters!AZ343","v":1},{"$f":"Parameters!BA343","v":1},{"$f":"Parameters!BB343","v":1},{"$f":"Parameters!BC343","v":1},{"$f":"Parameters!BD343","v":1},{"$f":"Parameters!BE343","v":1},{"$f":"Parameters!BF343","v":1},{"$f":"Parameters!BG343","v":1},{"$f":"Parameters!BH343","v":1},{"$f":"Parameters!BI343","v":1},{"$f":"Parameters!BJ343","v":1},{"$f":"Parameters!BK343","v":1},{"$f":"Parameters!BL343","v":1},{"$f":"Parameters!BM343","v":1},{"$f":"Parameters!BN343","v":1}]
["S412",{"$f":"Parameters!K344","v":1},{"$f":"Parameters!L344","v":1},{"$f":"Parameters!M344","v":1},{"$f":"Parameters!N344","v":1},{"$f":"Parameters!O344","v":1},{"$f":"Parameters!P344","v":1},{"$f":"Parameters!Q344","v":1},{"$f":"Parameters!R344","v":1},{"$f":"Parameters!S344","v":1},{"$f":"Parameters!T344","v":1},{"$f":"Parameters!U344","v":1},{"$f":"Parameters!V344","v":1},{"$f":"Parameters!W344","v":1},{"$f":"Parameters!X344","v":1},{"$f":"Parameters!Y344","v":1},{"$f":"Parameters!Z344","v":1},{"$f":"Parameters!AA344","v":1},{"$f":"Parameters!AB344","v":1},{"$f":"Parameters!AC344","v":1},{"$f":"Parameters!AD344","v":1},{"$f":"Parameters!AE344","v":1},{"$f":"Parameters!AF344","v":1},{"$f":"Parameters!AG344","v":1},{"$f":"Parameters!AH344","v":1},{"$f":"Parameters!AI344","v":1},{"$f":"Parameters!AJ344","v":1},{"$f":"Parameters!AK344","v":1},{"$f":"Parameters!AL344","v":1},{"$f":"Parameters!AM344","v":1},{"$f":"Parameters!AN344","v":1},{"$f":"Parameters!AO344","v":1},{"$f":"Parameters!AP344","v":1},{"$f":"Parameters!AQ344","v":1},{"$f":"Parameters!AR344","v":1},{"$f":"Parameters!AS344","v":1},{"$f":"Parameters!AT344","v":1},{"$f":"Parameters!AU344","v":1},{"$f":"Parameters!AV344","v":1},{"$f":"Parameters!AW344","v":1},{"$f":"Parameters!AX344","v":1},{"$f":"Parameters!AY344","v":1},{"$f":"Parameters!AZ344","v":1},{"$f":"Parameters!BA344","v":1},{"$f":"Parameters!BB344","v":1},{"$f":"Parameters!BC344","v":1},{"$f":"Parameters!BD344","v":1},{"$f":"Parameters!BE344","v":1},{"$f":"Parameters!BF344","v":1},{"$f":"Parameters!BG344","v":1},{"$f":"Parameters!BH344","v":1},{"$f":"Parameters!BI344","v":1},{"$f":"Parameters!BJ344","v":1},{"$f":"Parameters!BK344","v":1},{"$f":"Parameters!BL344","v":1},{"$f":"Parameters!BM344","v":1},{"$f":"Parameters!BN344","v":1}]
["S413",{"$f":"Parameters!K345","v":1},{"$f":"Parameters!L345","v":1},{"$f":"Parameters!M345","v":1},{"$f":"Parameters!N345","v":1},{"$f":"Parameters!O345","v":1},{"$f":"Parameters!P345","v":1},{"$f":"Parameters!Q345","v":1},{"$f":"Parameters!R345","v":1},{"$f":"Parameters!S345","v":1},{"$f":"Parameters!T345","v":1},{"$f":"Parameters!U345","v":1},{"$f":"Parameters!V345","v":1},{"$f":"Parameters!W345","v":1},{"$f":"Parameters!X345","v":1},{"$f":"Parameters!Y345","v":1},{"$f":"Parameters!Z345","v":1},{"$f":"Parameters!AA345","v":1},{"$f":"Parameters!AB345","v":1},{"$f":"Parameters!AC345","v":1},{"$f":"Parameters!AD345","v":1},{"$f":"Parameters!AE345","v":1},{"$f":"Parameters!AF345","v":1},{"$f":"Parameters!AG345","v":1},{"$f":"Parameters!AH345","v":1},{"$f":"Parameters!AI345","v":1},{"$f":"Parameters!AJ345","v":1},{"$f":"Parameters!AK345","v":1},{"$f":"Parameters!AL345","v":1},{"$f":"Parameters!AM345","v":1},{"$f":"Parameters!AN345","v":1},{"$f":"Parameters!AO345","v":1},{"$f":"Parameters!AP345","v":1},{"$f":"Parameters!AQ345","v":1},{"$f":"Parameters!AR345","v":1},{"$f":"Parameters!AS345","v":1},{"$f":"Parameters!AT345","v":1},{"$f":"Parameters!AU345","v":1},{"$f":"Parameters!AV345","v":1},{"$f":"Parameters!AW345","v":1},{"$f":"Parameters!AX345","v":1},{"$f":"Parameters!AY345","v":1},{"$f":"Parameters!AZ345","v":1},{"$f":"Parameters!BA345","v":1},{"$f":"Parameters!BB345","v":1},{"$f":"Parameters!BC345","v":1},{"$f":"Parameters!BD345","v":1},{"$f":"Parameters!BE345","v":1},{"$f":"Parameters!BF345","v":1},{"$f":"Parameters!BG345","v":1},{"$f":"Parameters!BH345","v":1},{"$f":"Parameters!BI345","v":1},{"$f":"Parameters!BJ345","v":1},{"$f":"Parameters!BK345","v":1},{"$f":"Parameters!BL345","v":1},{"$f":"Parameters!BM345","v":1},{"$f":"Parameters!BN345","v":1}]
["S414",{"$f":"Parameters!K346","v":1},{"$f":"Parameters!L346","v":1},{"$f":"Parameters!M346","v":1},{"$f":"Parameters!N346","v":1},{"$f":"Parameters!O346","v":1},{"$f":"Parameters!P346","v":1},{"$f":"Parameters!Q346","v":1},{"$f":"Parameters!R346","v":1},{"$f":"Parameters!S346","v":1},{"$f":"Parameters!T346","v":1},{"$f":"Parameters!U346","v":1},{"$f":"Parameters!V346","v":1},{"$f":"Parameters!W346","v":1},{"$f":"Parameters!X346","v":1},{"$f":"Parameters!Y346","v":1},{"$f":"Parameters!Z346","v":1},{"$f":"Parameters!AA346","v":1},{"$f":"Parameters!AB346","v":1},{"$f":"Parameters!AC346","v":1},{"$f":"Parameters!AD346","v":1},{"$f":"Parameters!AE346","v":1},{"$f":"Parameters!AF346","v":1},{"$f":"Parameters!AG346","v":1},{"$f":"Parameters!AH346","v":1},{"$f":"Parameters!AI346","v":1},{"$f":"Parameters!AJ346","v":1},{"$f":"Parameters!AK346","v":1},{"$f":"Parameters!AL346","v":1},{"$f":"Parameters!AM346","v":1},{"$f":"Parameters!AN346","v":1},{"$f":"Parameters!AO346","v":1},{"$f":"Parameters!AP346","v":1},{"$f":"Parameters!AQ346","v":1},{"$f":"Parameters!AR346","v":1},{"$f":"Parameters!AS346","v":1},{"$f":"Parameters!AT346","v":1},{"$f":"Parameters!AU346","v":1},{"$f":"Parameters!AV346","v":1},{"$f":"Parameters!AW346","v":1},{"$f":"Parameters!AX346","v":1},{"$f":"Parameters!AY346","v":1},{"$f":"Parameters!AZ346","v":1},{"$f":"Parameters!BA346","v":1},{"$f":"Parameters!BB346","v":1},{"$f":"Parameters!BC346","v":1},{"$f":"Parameters!BD346","v":1},{"$f":"Parameters!BE346","v":1},{"$f":"Parameters!BF346","v":1},{"$f":"Parameters!BG346","v":1},{"$f":"Parameters!BH346","v":1},{"$f":"Parameters!BI346","v":1},{"$f":"Parameters!BJ346","v":1},{"$f":"Parameters!BK346","v":1},{"$f":"Parameters!BL346","v":1},{"$f":"Parameters!BM346","v":1},{"$f":"Parameters!BN346","v":1}]
["S415",{"$f":"Parameters!K347","v":1},{"$f":"Parameters!L347","v":1},{"$f":"Parameters!M347","v":1},{"$f":"Parameters!N347","v":1},{"$f":"Parameters!O347","v":1},{"$f":"Parameters!P347","v":1},{"$f":"Parameters!Q347","v":1},{"$f":"Parameters!R347","v":1},{"$f":"Parameters!S347","v":1},{"$f":"Parameters!T347","v":1},{"$f":"Parameters!U347","v":1},{"$f":"Parameters!V347","v":1},{"$f":"Parameters!W347","v":1},{"$f":"Parameters!X347","v":1},{"$f":"Parameters!Y347","v":1},{"$f":"Parameters!Z347","v":1},{"$f":"Parameters!AA347","v":1},{"$f":"Parameters!AB347","v":1},{"$f":"Parameters!AC347","v":1},{"$f":"Parameters!AD347","v":1},{"$f":"Parameters!AE347","v":1},{"$f":"Parameters!AF347","v":1},{"$f":"Parameters!AG347","v":1},{"$f":"Parameters!AH347","v":1},{"$f":"Parameters!AI347","v":1},{"$f":"Parameters!AJ347","v":1},{"$f":"Parameters!AK347","v":1},{"$f":"Parameters!AL347","v":1},{"$f":"Parameters!AM347","v":1},{"$f":"Parameters!AN347","v":1},{"$f":"Parameters!AO347","v":1},{"$f":"Parameters!AP347","v":1},{"$f":"Parameters!AQ347","v":1},{"$f":"Parameters!AR347","v":1},{"$f":"Parameters!AS347","v":1},{"$f":"Parameters!AT347","v":1},{"$f":"Parameters!AU347","v":1},{"$f":"Parameters!AV347","v":1},{"$f":"Parameters!AW347","v":1},{"$f":"Parameters!AX347","v":1},{"$f":"Parameters!AY347","v":1},{"$f":"Parameters!AZ347","v":1},{"$f":"Parameters!BA347","v":1},{"$f":"Parameters!BB347","v":1},{"$f":"Parameters!BC347","v":1},{"$f":"Parameters!BD347","v":1},{"$f":"Parameters!BE347","v":1},{"$f":"Parameters!BF347","v":1},{"$f":"Parameters!BG347","v":1},{"$f":"Parameters!BH347","v":1},{"$f":"Parameters!BI347","v":1},{"$f":"Parameters!BJ347","v":1},{"$f":"Parameters!BK347","v":1},{"$f":"Parameters!BL347","v":1},{"$f":"Parameters!BM347","v":1},{"$f":"Parameters!BN347","v":1}]
["S416",{"$f":"Parameters!K348","v":1},{"$f":"Parameters!L348","v":1},{"$f":"Parameters!M348","v":1},{"$f":"Parameters!N348","v":1},{"$f":"Parameters!O348","v":1},{"$f":"Parameters!P348","v":1},{"$f":"Parameters!Q348","v":1},{"$f":"Parameters!R348","v":1},{"$f":"Parameters!S348","v":1},{"$f":"Parameters!T348","v":1},{"$f":"Parameters!U348","v":1},{"$f":"Parameters!V348","v":1},{"$f":"Parameters!W348","v":1},{"$f":"Parameters!X348","v":1},{"$f":"Parameters!Y348","v":1},{"$f":"Parameters!Z348","v":1},{"$f":"Parameters!AA348","v":1},{"$f":"Parameters!AB348","v":1},{"$f":"Parameters!AC348","v":1},{"$f":"Parameters!AD348","v":1},{"$f":"Parameters!AE348","v":1},{"$f":"Parameters!AF348","v":1},{"$f":"Parameters!AG348","v":1},{"$f":"Parameters!AH348","v":1},{"$f":"Parameters!AI348","v":1},{"$f":"Parameters!AJ348","v":1},{"$f":"Parameters!AK348","v":1},{"$f":"Parameters!AL348","v":1},{"$f":"Parameters!AM348","v":1},{"$f":"Parameters!AN348","v":1},{"$f":"Parameters!AO348","v":1},{"$f":"Parameters!AP348","v":1},{"$f":"Parameters!AQ348","v":1},{"$f":"Parameters!AR348","v":1},{"$f":"Parameters!AS348","v":1},{"$f":"Parameters!AT348","v":1},{"$f":"Parameters!AU348","v":1},{"$f":"Parameters!AV348","v":1},{"$f":"Parameters!AW348","v":1},{"$f":"Parameters!AX348","v":1},{"$f":"Parameters!AY348","v":1},{"$f":"Parameters!AZ348","v":1},{"$f":"Parameters!BA348","v":1},{"$f":"Parameters!BB348","v":1},{"$f":"Parameters!BC348","v":1},{"$f":"Parameters!BD348","v":1},{"$f":"Parameters!BE348","v":1},{"$f":"Parameters!BF348","v":1},{"$f":"Parameters!BG348","v":1},{"$f":"Parameters!BH348","v":1},{"$f":"Parameters!BI348","v":1},{"$f":"Parameters!BJ348","v":1},{"$f":"Parameters!BK348","v":1},{"$f":"Parameters!BL348","v":1},{"$f":"Parameters!BM348","v":1},{"$f":"Parameters!BN348","v":1}]
["S417",{"$f":"Parameters!K349","v":1},{"$f":"Parameters!L349","v":1},{"$f":"Parameters!M349","v":1},{"$f":"Parameters!N349","v":1},{"$f":"Parameters!O349","v":1},{"$f":"Parameters!P349","v":1},{"$f":"Parameters!Q349","v":1},{"$f":"Parameters!R349","v":1},{"$f":"Parameters!S349","v":1},{"$f":"Parameters!T349","v":1},{"$f":"Parameters!U349","v":1},{"$f":"Parameters!V349","v":1},{"$f":"Parameters!W349","v":1},{"$f":"Parameters!X349","v":1},{"$f":"Parameters!Y349","v":1},{"$f":"Parameters!Z349","v":1},{"$f":"Parameters!AA349","v":1},{"$f":"Parameters!AB349","v":1},{"$f":"Parameters!AC349","v":1},{"$f":"Parameters!AD349","v":1},{"$f":"Parameters!AE349","v":1},{"$f":"Parameters!AF349","v":1},{"$f":"Parameters!AG349","v":1},{"$f":"Parameters!AH349","v":1},{"$f":"Parameters!AI349","v":1},{"$f":"Parameters!AJ349","v":1},{"$f":"Parameters!AK349","v":1},{"$f":"Parameters!AL349","v":1},{"$f":"Parameters!AM349","v":1},{"$f":"Parameters!AN349","v":1},{"$f":"Parameters!AO349","v":1},{"$f":"Parameters!AP349","v":1},{"$f":"Parameters!AQ349","v":1},{"$f":"Parameters!AR349","v":1},{"$f":"Parameters!AS349","v":1},{"$f":"Parameters!AT349","v":1},{"$f":"Parameters!AU349","v":1},{"$f":"Parameters!AV349","v":1},{"$f":"Parameters!AW349","v":1},{"$f":"Parameters!AX349","v":1},{"$f":"Parameters!AY349","v":1},{"$f":"Parameters!AZ349","v":1},{"$f":"Parameters!BA349","v":1},{"$f":"Parameters!BB349","v":1},{"$f":"Parameters!BC349","v":1},{"$f":"Parameters!BD349","v":1},{"$f":"Parameters!BE349","v":1},{"$f":"Parameters!BF349","v":1},{"$f":"Parameters!BG349","v":1},{"$f":"Parameters!BH349","v":1},{"$f":"Parameters!BI349","v":1},{"$f":"Parameters!BJ349","v":1},{"$f":"Parameters!BK349","v":1},{"$f":"Parameters!BL349","v":1},{"$f":"Parameters!BM349","v":1},{"$f":"Parameters!BN349","v":1}]
["S418",{"$f":"Parameters!K350","v":1},{"$f":"Parameters!L350","v":1},{"$f":"Parameters!M350","v":1},{"$f":"Parameters!N350","v":1},{"$f":"Parameters!O350","v":1},{"$f":"Parameters!P350","v":1},{"$f":"Parameters!Q350","v":1},{"$f":"Parameters!R350","v":1},{"$f":"Parameters!S350","v":1},{"$f":"Parameters!T350","v":1},{"$f":"Parameters!U350","v":1},{"$f":"Parameters!V350","v":1},{"$f":"Parameters!W350","v":1},{"$f":"Parameters!X350","v":1},{"$f":"Parameters!Y350","v":1},{"$f":"Parameters!Z350","v":1},{"$f":"Parameters!AA350","v":1},{"$f":"Parameters!AB350","v":1},{"$f":"Parameters!AC350","v":1},{"$f":"Parameters!AD350","v":1},{"$f":"Parameters!AE350","v":1},{"$f":"Parameters!AF350","v":1},{"$f":"Parameters!AG350","v":1},{"$f":"Parameters!AH350","v":1},{"$f":"Parameters!AI350","v":1},{"$f":"Parameters!AJ350","v":1},{"$f":"Parameters!AK350","v":1},{"$f":"Parameters!AL350","v":1},{"$f":"Parameters!AM350","v":1},{"$f":"Parameters!AN350","v":1},{"$f":"Parameters!AO350","v":1},{"$f":"Parameters!AP350","v":1},{"$f":"Parameters!AQ350","v":1},{"$f":"Parameters!AR350","v":1},{"$f":"Parameters!AS350","v":1},{"$f":"Parameters!AT350","v":1},{"$f":"Parameters!AU350","v":1},{"$f":"Parameters!AV350","v":1},{"$f":"Parameters!AW350","v":1},{"$f":"Parameters!AX350","v":1},{"$f":"Parameters!AY350","v":1},{"$f":"Parameters!AZ350","v":1},{"$f":"Parameters!BA350","v":1},{"$f":"Parameters!BB350","v":1},{"$f":"Parameters!BC350","v":1},{"$f":"Parameters!BD350","v":1},{"$f":"Parameters!BE350","v":1},{"$f":"Parameters!BF350","v":1},{"$f":"Parameters!BG350","v":1},{"$f":"Parameters!BH350","v":1},{"$f":"Parameters!BI350","v":1},{"$f":"Parameters!BJ350","v":1},{"$f":"Parameters!BK350","v":1},{"$f":"Parameters!BL350","v":1},{"$f":"Parameters!BM350","v":1},{"$f":"Parameters!BN350","v":1}]
["S419",{"$f":"Parameters!K351","v":1},{"$f":"Parameters!L351","v":1},{"$f":"Parameters!M351","v":1},{"$f":"Parameters!N351","v":1},{"$f":"Parameters!O351","v":1},{"$f":"Parameters!P351","v":1},{"$f":"Parameters!Q351","v":1},{"$f":"Parameters!R351","v":1},{"$f":"Parameters!S351","v":1},{"$f":"Parameters!T351","v":1},{"$f":"Parameters!U351","v":1},{"$f":"Parameters!V351","v":1},{"$f":"Parameters!W351","v":1},{"$f":"Parameters!X351","v":1},{"$f":"Parameters!Y351","v":1},{"$f":"Parameters!Z351","v":1},{"$f":"Parameters!AA351","v":1},{"$f":"Parameters!AB351","v":1},{"$f":"Parameters!AC351","v":1},{"$f":"Parameters!AD351","v":1},{"$f":"Parameters!AE351","v":1},{"$f":"Parameters!AF351","v":1},{"$f":"Parameters!AG351","v":1},{"$f":"Parameters!AH351","v":1},{"$f":"Parameters!AI351","v":1},{"$f":"Parameters!AJ351","v":1},{"$f":"Parameters!AK351","v":1},{"$f":"Parameters!AL351","v":1},{"$f":"Parameters!AM351","v":1},{"$f":"Parameters!AN351","v":1},{"$f":"Parameters!AO351","v":1},{"$f":"Parameters!AP351","v":1},{"$f":"Parameters!AQ351","v":1},{"$f":"Parameters!AR351","v":1},{"$f":"Parameters!AS351","v":1},{"$f":"Parameters!AT351","v":1},{"$f":"Parameters!AU351","v":1},{"$f":"Parameters!AV351","v":1},{"$f":"Parameters!AW351","v":1},{"$f":"Parameters!AX351","v":1},{"$f":"Parameters!AY351","v":1},{"$f":"Parameters!AZ351","v":1},{"$f":"Parameters!BA351","v":1},{"$f":"Parameters!BB351","v":1},{"$f":"Parameters!BC351","v":1},{"$f":"Parameters!BD351","v":1},{"$f":"Parameters!BE351","v":1},{"$f":"Parameters!BF351","v":1},{"$f":"Parameters!BG351","v":1},{"$f":"Parameters!BH351","v":1},{"$f":"Parameters!BI351","v":1},{"$f":"Parameters!BJ351","v":1},{"$f":"Parameters!BK351","v":1},{"$f":"Parameters!BL351","v":1},{"$f":"Parameters!BM351","v":1},{"$f":"Parameters!BN351","v":1}]
["S420",{"$f":"Parameters!K352","v":1},{"$f":"Parameters!L352","v":1},{"$f":"Parameters!M352","v":1},{"$f":"Parameters!N352","v":1},{"$f":"Parameters!O352","v":1},{"$f":"Parameters!P352","v":1},{"$f":"Parameters!Q352","v":1},{"$f":"Parameters!R352","v":1},{"$f":"Parameters!S352","v":1},{"$f":"Parameters!T352","v":1},{"$f":"Parameters!U352","v":1},{"$f":"Parameters!V352","v":1},{"$f":"Parameters!W352","v":1},{"$f":"Parameters!X352","v":1},{"$f":"Parameters!Y352","v":1},{"$f":"Parameters!Z352","v":1},{"$f":"Parameters!AA352","v":1},{"$f":"Parameters!AB352","v":1},{"$f":"Parameters!AC352","v":1},{"$f":"Parameters!AD352","v":1},{"$f":"Parameters!AE352","v":1},{"$f":"Parameters!AF352","v":1},{"$f":"Parameters!AG352","v":1},{"$f":"Parameters!AH352","v":1},{"$f":"Parameters!AI352","v":1},{"$f":"Parameters!AJ352","v":1},{"$f":"Parameters!AK352","v":1},{"$f":"Parameters!AL352","v":1},{"$f":"Parameters!AM352","v":1},{"$f":"Parameters!AN352","v":1},{"$f":"Parameters!AO352","v":1},{"$f":"Parameters!AP352","v":1},{"$f":"Parameters!AQ352","v":1},{"$f":"Parameters!AR352","v":1},{"$f":"Parameters!AS352","v":1},{"$f":"Parameters!AT352","v":1},{"$f":"Parameters!AU352","v":1},{"$f":"Parameters!AV352","v":1},{"$f":"Parameters!AW352","v":1},{"$f":"Parameters!AX352","v":1},{"$f":"Parameters!AY352","v":1},{"$f":"Parameters!AZ352","v":1},{"$f":"Parameters!BA352","v":1},{"$f":"Parameters!BB352","v":1},{"$f":"Parameters!BC352","v":1},{"$f":"Parameters!BD352","v":1},{"$f":"Parameters!BE352","v":1},{"$f":"Parameters!BF352","v":1},{"$f":"Parameters!BG352","v":1},{"$f":"Parameters!BH352","v":1},{"$f":"Parameters!BI352","v":1},{"$f":"Parameters!BJ352","v":1},{"$f":"Parameters!BK352","v":1},{"$f":"Parameters!BL352","v":1},{"$f":"Parameters!BM352","v":1},{"$f":"Parameters!BN352","v":1}]
["S421",{"$f":"Parameters!K353","v":1},{"$f":"Parameters!L353","v":1},{"$f":"Parameters!M353","v":1},{"$f":"Parameters!N353","v":1},{"$f":"Parameters!O353","v":1},{"$f":"Parameters!P353","v":1},{"$f":"Parameters!Q353","v":1},{"$f":"Parameters!R353","v":1},{"$f":"Parameters!S353","v":1},{"$f":"Parameters!T353","v":1},{"$f":"Parameters!U353","v":1},{"$f":"Parameters!V353","v":1},{"$f":"Parameters!W353","v":1},{"$f":"Parameters!X353","v":1},{"$f":"Parameters!Y353","v":1},{"$f":"Parameters!Z353","v":1},{"$f":"Parameters!AA353","v":1},{"$f":"Parameters!AB353","v":1},{"$f":"Parameters!AC353","v":1},{"$f":"Parameters!AD353","v":1},{"$f":"Parameters!AE353","v":1},{"$f":"Parameters!AF353","v":1},{"$f":"Parameters!AG353","v":1},{"$f":"Parameters!AH353","v":1},{"$f":"Parameters!AI353","v":1},{"$f":"Parameters!AJ353","v":1},{"$f":"Parameters!AK353","v":1},{"$f":"Parameters!AL353","v":1},{"$f":"Parameters!AM353","v":1},{"$f":"Parameters!AN353","v":1},{"$f":"Parameters!AO353","v":1},{"$f":"Parameters!AP353","v":1},{"$f":"Parameters!AQ353","v":1},{"$f":"Parameters!AR353","v":1},{"$f":"Parameters!AS353","v":1},{"$f":"Parameters!AT353","v":1},{"$f":"Parameters!AU353","v":1},{"$f":"Parameters!AV353","v":1},{"$f":"Parameters!AW353","v":1},{"$f":"Parameters!AX353","v":1},{"$f":"Parameters!AY353","v":1},{"$f":"Parameters!AZ353","v":1},{"$f":"Parameters!BA353","v":1},{"$f":"Parameters!BB353","v":1},{"$f":"Parameters!BC353","v":1},{"$f":"Parameters!BD353","v":1},{"$f":"Parameters!BE353","v":1},{"$f":"Parameters!BF353","v":1},{"$f":"Parameters!BG353","v":1},{"$f":"Parameters!BH353","v":1},{"$f":"Parameters!BI353","v":1},{"$f":"Parameters!BJ353","v":1},{"$f":"Parameters!BK353","v":1},{"$f":"Parameters!BL353","v":1},{"$f":"Parameters!BM353","v":1},{"$f":"Parameters!BN353","v":1}]
["S422",{"$f":"Parameters!K354","v":1},{"$f":"Parameters!L354","v":1},{"$f":"Parameters!M354","v":1},{"$f":"Parameters!N354","v":1},{"$f":"Parameters!O354","v":1},{"$f":"Parameters!P354","v":1},{"$f":"Parameters!Q354","v":1},{"$f":"Parameters!R354","v":1},{"$f":"Parameters!S354","v":1},{"$f":"Parameters!T354","v":1},{"$f":"Parameters!U354","v":1},{"$f":"Parameters!V354","v":1},{"$f":"Parameters!W354","v":1},{"$f":"Parameters!X354","v":1},{"$f":"Parameters!Y354","v":1},{"$f":"Parameters!Z354","v":1},{"$f":"Parameters!AA354","v":1},{"$f":"Parameters!AB354","v":1},{"$f":"Parameters!AC354","v":1},{"$f":"Parameters!AD354","v":1},{"$f":"Parameters!AE354","v":1},{"$f":"Parameters!AF354","v":1},{"$f":"Parameters!AG354","v":1},{"$f":"Parameters!AH354","v":1},{"$f":"Parameters!AI354","v":1},{"$f":"Parameters!AJ354","v":1},{"$f":"Parameters!AK354","v":1},{"$f":"Parameters!AL354","v":1},{"$f":"Parameters!AM354","v":1},{"$f":"Parameters!AN354","v":1},{"$f":"Parameters!AO354","v":1},{"$f":"Parameters!AP354","v":1},{"$f":"Parameters!AQ354","v":1},{"$f":"Parameters!AR354","v":1},{"$f":"Parameters!AS354","v":1},{"$f":"Parameters!AT354","v":1},{"$f":"Parameters!AU354","v":1},{"$f":"Parameters!AV354","v":1},{"$f":"Parameters!AW354","v":1},{"$f":"Parameters!AX354","v":1},{"$f":"Parameters!AY354","v":1},{"$f":"Parameters!AZ354","v":1},{"$f":"Parameters!BA354","v":1},{"$f":"Parameters!BB354","v":1},{"$f":"Parameters!BC354","v":1},{"$f":"Parameters!BD354","v":1},{"$f":"Parameters!BE354","v":1},{"$f":"Parameters!BF354","v":1},{"$f":"Parameters!BG354","v":1},{"$f":"Parameters!BH354","v":1},{"$f":"Parameters!BI354","v":1},{"$f":"Parameters!BJ354","v":1},{"$f":"Parameters!BK354","v":1},{"$f":"Parameters!BL354","v":1},{"$f":"Parameters!BM354","v":1},{"$f":"Parameters!BN354","v":1}]
["S423",{"$f":"Parameters!K355","v":1},{"$f":"Parameters!L355","v":1},{"$f":"Parameters!M355","v":1},{"$f":"Parameters!N355","v":1},{"$f":"Parameters!O355","v":1},{"$f":"Parameters!P355","v":1},{"$f":"Parameters!Q355","v":1},{"$f":"Parameters!R355","v":1},{"$f":"Parameters!S355","v":1},{"$f":"Parameters!T355","v":1},{"$f":"Parameters!U355","v":1},{"$f":"Parameters!V355","v":1},{"$f":"Parameters!W355","v":1},{"$f":"Parameters!X355","v":1},{"$f":"Parameters!Y355","v":1},{"$f":"Parameters!Z355","v":1},{"$f":"Parameters!AA355","v":1},{"$f":"Parameters!AB355","v":1},{"$f":"Parameters!AC355","v":1},{"$f":"Parameters!AD355","v":1},{"$f":"Parameters!AE355","v":1},{"$f":"Parameters!AF355","v":1},{"$f":"Parameters!AG355","v":1},{"$f":"Parameters!AH355","v":1},{"$f":"Parameters!AI355","v":1},{"$f":"Parameters!AJ355","v":1},{"$f":"Parameters!AK355","v":1},{"$f":"Parameters!AL355","v":1},{"$f":"Parameters!AM355","v":1},{"$f":"Parameters!AN355","v":1},{"$f":"Parameters!AO355","v":1},{"$f":"Parameters!AP355","v":1},{"$f":"Parameters!AQ355","v":1},{"$f":"Parameters!AR355","v":1},{"$f":"Parameters!AS355","v":1},{"$f":"Parameters!AT355","v":1},{"$f":"Parameters!AU355","v":1},{"$f":"Parameters!AV355","v":1},{"$f":"Parameters!AW355","v":1},{"$f":"Parameters!AX355","v":1},{"$f":"Parameters!AY355","v":1},{"$f":"Parameters!AZ355","v":1},{"$f":"Parameters!BA355","v":1},{"$f":"Parameters!BB355","v":1},{"$f":"Parameters!BC355","v":1},{"$f":"Parameters!BD355","v":1},{"$f":"Parameters!BE355","v":1},{"$f":"Parameters!BF355","v":1},{"$f":"Parameters!BG355","v":1},{"$f":"Parameters!BH355","v":1},{"$f":"Parameters!BI355","v":1},{"$f":"Parameters!BJ355","v":1},{"$f":"Parameters!BK355","v":1},{"$f":"Parameters!BL355","v":1},{"$f":"Parameters!BM355","v":1},{"$f":"Parameters!BN355","v":1}]
["S424",{"$f":"Parameters!K356","v":1},{"$f":"Parameters!L356","v":1},{"$f":"Parameters!M356","v":1},{"$f":"Parameters!N356","v":1},{"$f":"Parameters!O356","v":1},{"$f":"Parameters!P356","v":1},{"$f":"Parameters!Q356","v":1},{"$f":"Parameters!R356","v":1},{"$f":"Parameters!S356","v":1},{"$f":"Parameters!T356","v":1},{"$f":"Parameters!U356","v":1},{"$f":"Parameters!V356","v":1},{"$f":"Parameters!W356","v":1},{"$f":"Parameters!X356","v":1},{"$f":"Parameters!Y356","v":1},{"$f":"Parameters!Z356","v":1},{"$f":"Parameters!AA356","v":1},{"$f":"Parameters!AB356","v":1},{"$f":"Parameters!AC356","v":1},{"$f":"Parameters!AD356","v":1},{"$f":"Parameters!AE356","v":1},{"$f":"Parameters!AF356","v":1},{"$f":"Parameters!AG356","v":1},{"$f":"Parameters!AH356","v":1},{"$f":"Parameters!AI356","v":1},{"$f":"Parameters!AJ356","v":1},{"$f":"Parameters!AK356","v":1},{"$f":"Parameters!AL356","v":1},{"$f":"Parameters!AM356","v":1},{"$f":"Parameters!AN356","v":1},{"$f":"Parameters!AO356","v":1},{"$f":"Parameters!AP356","v":1},{"$f":"Parameters!AQ356","v":1},{"$f":"Parameters!AR356","v":1},{"$f":"Parameters!AS356","v":1},{"$f":"Parameters!AT356","v":1},{"$f":"Parameters!AU356","v":1},{"$f":"Parameters!AV356","v":1},{"$f":"Parameters!AW356","v":1},{"$f":"Parameters!AX356","v":1},{"$f":"Parameters!AY356","v":1},{"$f":"Parameters!AZ356","v":1},{"$f":"Parameters!BA356","v":1},{"$f":"Parameters!BB356","v":1},{"$f":"Parameters!BC356","v":1},{"$f":"Parameters!BD356","v":1},{"$f":"Parameters!BE356","v":1},{"$f":"Parameters!BF356","v":1},{"$f":"Parameters!BG356","v":1},{"$f":"Parameters!BH356","v":1},{"$f":"Parameters!BI356","v":1},{"$f":"Parameters!BJ356","v":1},{"$f":"Parameters!BK356","v":1},{"$f":"Parameters!BL356","v":1},{"$f":"Parameters!BM356","v":1},{"$f":"Parameters!BN356","v":1}]
[{"$f":"CONCATENATE(\"[\",SETS!H9,,\",\",SETS!B4,,\",\",\"*\",,\",\",\"*\",\"]:\")","v":"[RE1,MINOIL,*,*]:"}]
[2015,2016,2017,2018,2019,2020,2021,2022,2023,2024,2025,2026,2027,2028,2029,2030,2031,2032,2033,2034,2035,2036,2037,2038,2039,2040,2041,2042,2043,2044,2045,2046,2047,2048,2049,2050,2051,2052,2053,2054,2055,2056,2057,2058,2059,2060,2061,2062,2063,2064,2065,2066,2067,2068,2069,"2070:="]
["S101",{"$f":"Parameters!K357","v":1},{"$f":"Parameters!L357","v":1},{"$f":"Parameters!M357","v":1},{"$f":"Parameters!N357","v":1},{"$f":"Parameters!O357","v":1},{"$f":"Parameters!P357","v":1},{"$f":"Parameters!Q357","v":1},{"$f":"Parameters!R357","v":1},{"$f":"Parameters!S357","v":1},{"$f":"Parameters!T357","v":1},{"$f":"Parameters!U357","v":1},{"$f":"Parameters!V357","v":1},{"$f":"Parameters!W357","v":1},{"$f":"Parameters!X357","v":1},{"$f":"Parameters!Y357","v":1},{"$f":"Parameters!Z357","v":1},{"$f":"Parameters!AA357","v":1},{"$f":"Parameters!AB357","v":1},{"$f":"Parameters!AC357","v":1},{"$f":"Parameters!AD357","v":1},{"$f":"Parameters!AE357","v":1},{"$f":"Parameters!AF357","v":1},{"$f":"Parameters!AG357","v":1},{"$f":"Parameters!AH357","v":1},{"$f":"Parameters!AI357","v":1},{"$f":"Parameters!AJ357","v":1},{"$f":"Parameters!AK357","v":1},{"$f":"Parameters!AL357","v":1},{"$f":"Parameters!AM357","v":1},{"$f":"Parameters!AN357","v":1},{"$f":"Parameters!AO357","v":1},{"$f":"Parameters!AP357","v":1},{"$f":"Parameters!AQ357","v":1},{"$f":"Parameters!AR357","v":1},{"$f":"Parameters!AS357","v":1},{"$f":"Parameters!AT357","v":1},{"$f":"Parameters!AU357","v":1},{"$f":"Parameters!AV357","v":1},{"$f":"Parameters!AW357","v":1},{"$f":"Parameters!AX357","v":1},{"$f":"Parameters!AY357","v":1},{"$f":"Parameters!AZ357","v":1},{"$f":"Parameters!BA357","v":1},{"$f":"Parameters!BB357","v":1},{"$f":"Parameters!BC357","v":1},{"$f":"Parameters!BD357","v":1},{"$f":"Parameters!BE357","v":1},{"$f":"Parameters!BF357","v":1},{"$f":"Parameters!BG357","v":1},{"$f":"Parameters!BH357","v":1},{"$f":"Parameters!BI357","v":1},{"$f":"Parameters!BJ357","v":1},{"$f":"Parameters!BK357","v":1},{"$f":"Parameters!BL357","v":1},{"$f":"Parameters!BM357","v":1},{"$f":"Parameters!BN357","v":1}]
["S102",{"$f":"Parameters!K358","v":1},{"$f":"Parameters!L358","v":1},{"$f":"Parameters!M358","v":1},{"$f":"Parameters!N358","v":1},{"$f":"Parameters!O358","v":1},{"$f":"Parameters!P358","v":1},{"$f":"Parameters!Q358","v":1},{"$f":"Parameters!R358","v":1},{"$f":"Parameters!S358","v":1},{"$f":"Parameters!T358","v":1},{"$f":"Parameters!U358","v":1},{"$f":"Parameters!V358","v":1},{"$f":"Parameters!W358","v":1},{"$f":"Parameters!X358","v":1},{"$f":"Parameters!Y358","v":1},{"$f":"Parameters!Z358","v":1},{"$f":"Parameters!AA358","v":1},{"$f":"Parameters!AB358","v":1},{"$f":"Parameters!AC358","v":1},{"$f":"Parameters!AD358","v":1},{"$f":"Parameters!AE358","v":1},{"$f":"Parameters!AF358","v":1},{"$f":"Parameters!AG358","v":1},{"$f":"Parameters!AH358","v":1},{"$f":"Parameters!AI358","v":1},{"$f":"Parameters!AJ358","v":1},{"$f":"Parameters!AK358","v":1},{"$f":"Parameters!AL358","v":1},{"$f":"Parameters!AM358","v":1},{"$f":"Parameters!AN358","v":1},{"$f":"Parameters!AO358","v":1},{"$f":"Parameters!AP358","v":1},{"$f":"Parameters!AQ358","v":1},{"$f":"Parameters!AR358","v":1},{"$f":"Parameters!AS358","v":1},{"$f":"Parameters!AT358","v":1},{"$f":"Parameters!AU358","v":1},{"$f":"Parameters!AV358","v":1},{"$f":"Parameters!AW358","v":1},{"$f":"Parameters!AX358","v":1},{"$f":"Parameters!AY358","v":1},{"$f":"Parameters!AZ358","v":1},{"$f":"Parameters!BA358","v":1},{"$f":"Parameters!BB358","v":1},{"$f":"Parameters!BC358","v":1},{"$f":"Parameters!BD358","v":1},{"$f":"Parameters!BE358","v":1},{"$f":"Parameters!BF358","v":1},{"$f":"Parameters!BG358","v":1},{"$f":"Parameters!BH358","v":1},{"$f":"Parameters!BI358","v":1},{"$f":"Parameters!BJ358","v":1},{"$f":"Parameters!BK358","v":1},{"$f":"Parameters!BL358","v":1},{"$f":"Parameters!BM358","v":1},{"$f":"Parameters!BN358","v":1}]
["S103",{"$f":"Parameters!K359","v":1},{"$f":"Parameters!L359","v":1},{"$f":"Parameters!M359","v":1},{"$f":"Parameters!N359","v":1},{"$f":"Parameters!O359","v":1},{"$f":"Parameters!P359","v":1},{"$f":"Parameters!Q359","v":1},{"$f":"Parameters!R359","v":1},{"$f":"Parameters!S359","v":1},{"$f":"Parameters!T359","v":1},{"$f":"Parameters!U359","v":1},{"$f":"Parameters!V359","v":1},{"$f":"Parameters!W359","v":1},{"$f":"Parameters!X359","v":1},{"$f":"Parameters!Y359","v":1},{"$f":"Parameters!Z359","v":1},{"$f":"Parameters!AA359","v":1},{"$f":"Parameters!AB359","v":1},{"$f":"Parameters!AC359","v":1},{"$f":"Parameters!AD359","v":1},{"$f":"Parameters!AE359","v":1},{"$f":"Parameters!AF359","v":1},{"$f":"Parameters!AG359","v":1},{"$f":"Parameters!AH359","v":1},{"$f":"Parameters!AI359","v":1},{"$f":"Parameters!AJ359","v":1},{"$f":"Parameters!AK359","v":1},{"$f":"Parameters!AL359","v":1},{"$f":"Parameters!AM359","v":1},{"$f":"Parameters!AN359","v":1},{"$f":"Parameters!AO359","v":1},{"$f":"Parameters!AP359","v":1},{"$f":"Parameters!AQ359","v":1},{"$f":"Parameters!AR359","v":1},{"$f":"Parameters!AS359","v":1},{"$f":"Parameters!AT359","v":1},{"$f":"Parameters!AU359","v":1},{"$f":"Parameters!AV359","v":1},{"$f":"Parameters!AW359","v":1},{"$f":"Parameters!AX359","v":1},{"$f":"Parameters!AY359","v":1},{"$f":"Parameters!AZ359","v":1},{"$f":"Parameters!BA359","v":1},{"$f":"Parameters!BB359","v":1},{"$f":"Parameters!BC359","v":1},{"$f":"Parameters!BD359","v":1},{"$f":"Parameters!BE359","v":1},{"$f":"Parameters!BF359","v":1},{"$f":"Parameters!BG359","v":1},{"$f":"Parameters!BH359","v":1},{"$f":"Parameters!BI359","v":1},{"$f":"Parameters!BJ359","v":1},{"$f":"Parameters!BK359","v":1},{"$f":"Parameters!BL359","v":1},{"$f":"Parameters!BM359","v":1},{"$f":"Parameters!BN359","v":1}]
["S104",{"$f":"Parameters!K360","v":1},{"$f":"Parameters!L360","v":1},{"$f":"Parameters!M360","v":1},{"$f":"Parameters!N360","v":1},{"$f":"Parameters!O360","v":1},{"$f":"Parameters!P360","v":1},{"$f":"Parameters!Q360","v":1},{"$f":"Parameters!R360","v":1},{"$f":"Parameters!S360","v":1},{"$f":"Parameters!T360","v":1},{"$f":"Parameters!U360","v":1},{"$f":"Parameters!V360","v":1},{"$f":"Parameters!W360","v":1},{"$f":"Parameters!X360","v":1},{"$f":"Parameters!Y360","v":1},{"$f":"Parameters!Z360","v":1},{"$f":"Parameters!AA360","v":1},{"$f":"Parameters!AB360","v":1},{"$f":"Parameters!AC360","v":1},{"$f":"Parameters!AD360","v":1},{"$f":"Parameters!AE360","v":1},{"$f":"Parameters!AF360","v":1},{"$f":"Parameters!AG360","v":1},{"$f":"Parameters!AH360","v":1},{"$f":"Parameters!AI360","v":1},{"$f":"Parameters!AJ360","v":1},{"$f":"Parameters!AK360","v":1},{"$f":"Parameters!AL360","v":1},{"$f":"Parameters!AM360","v":1},{"$f":"Parameters!AN360","v":1},{"$f":"Parameters!AO360","v":1},{"$f":"Parameters!AP360","v":1},{"$f":"Parameters!AQ360","v":1},{"$f":"Parameters!AR360","v":1},{"$f":"Parameters!AS360","v":1},{"$f":"Parameters!AT360","v":1},{"$f":"Parameters!AU360","v":1},{"$f":"Parameters!AV360","v":1},{"$f":"Parameters!AW360","v":1},{"$f":"Parameters!AX360","v":1},{"$f":"Parameters!AY360","v":1},{"$f":"Parameters!AZ360","v":1},{"$f":"Parameters!BA360","v":1},{"$f":"Parameters!BB360","v":1},{"$f":"Parameters!BC360","v":1},{"$f":"Parameters!BD360","v":1},{"$f":"Parameters!BE360","v":1},{"$f":"Parameters!BF360","v":1},{"$f":"Parameters!BG360","v":1},{"$f":"Parameters!BH360","v":1},{"$f":"Parameters!BI360","v":1},{"$f":"Parameters!BJ360","v":1},{"$f":"Parameters!BK360","v":1},{"$f":"Parameters!BL360","v":1},{"$f":"Parameters!BM360","v":1},{"$f":"Parameters!BN360","v":1}]
["S105",{"$f":"Parameters!K361","v":1},{"$f":"Parameters!L361","v":1},{"$f":"Parameters!M361","v":1},{"$f":"Parameters!N361","v":1},{"$f":"Parameters!O361","v":1},{"$f":"Parameters!P361","v":1},{"$f":"Parameters!Q361","v":1},{"$f":"Parameters!R361","v":1},{"$f":"Parameters!S361","v":1},{"$f":"Parameters!T361","v":1},{"$f":"Parameters!U361","v":1},{"$f":"Parameters!V361","v":1},{"$f":"Parameters!W361","v":1},{"$f":"Parameters!X361","v":1},{"$f":"Parameters!Y361","v":1},{"$f":"Parameters!Z361","v":1},{"$f":"Parameters!AA361","v":1},{"$f":"Parameters!AB361","v":1},{"$f":"Parameters!AC361","v":1},{"$f":"Parameters!AD361","v":1},{"$f":"Parameters!AE361","v":1},{"$f":"Parameters!AF361","v":1},{"$f":"Parameters!AG361","v":1},{"$f":"Parameters!AH361","v":1},{"$f":"Parameters!AI361","v":1},{"$f":"Parameters!AJ361","v":1},{"$f":"Parameters!AK361","v":1},{"$f":"Parameters!AL361","v":1},{"$f":"Parameters!AM361","v":1},{"$f":"Parameters!AN361","v":1},{"$f":"Parameters!AO361","v":1},{"$f":"Parameters!AP361","v":1},{"$f":"Parameters!AQ361","v":1},{"$f":"Parameters!AR361","v":1},{"$f":"Parameters!AS361","v":1},{"$f":"Parameters!AT361","v":1},{"$f":"Parameters!AU361","v":1},{"$f":"Parameters!AV361","v":1},{"$f":"Parameters!AW361","v":1},{"$f":"Parameters!AX361","v":1},{"$f":"Parameters!AY361","v":1},{"$f":"Parameters!AZ361","v":1},{"$f":"Parameters!BA361","v":1},{"$f":"Parameters!BB361","v":1},{"$f":"Parameters!BC361","v":1},{"$f":"Parameters!BD361","v":1},{"$f":"Parameters!BE361","v":1},{"$f":"Parameters!BF361","v":1},{"$f":"Parameters!BG361","v":1},{"$f":"Parameters!BH361","v":1},{"$f":"Parameters!BI361","v":1},{"$f":"Parameters!BJ361","v":1},{"$f":"Parameters!BK361","v":1},{"$f":"Parameters!BL361","v":1},{"$f":"Parameters!BM361","v":1},{"$f":"Parameters!BN361","v":1}]
["S106",{"$f":"Parameters!K362","v":1},{"$f":"Parameters!L362","v":1},{"$f":"Parameters!M362","v":1},{"$f":"Parameters!N362","v":1},{"$f":"Parameters!O362","v":1},{"$f":"Parameters!P362","v":1},{"$f":"Parameters!Q362","v":1},{"$f":"Parameters!R362","v":1},{"$f":"Parameters!S362","v":1},{"$f":"Parameters!T362","v":1},{"$f":"Parameters!U362","v":1},{"$f":"Parameters!V362","v":1},{"$f":"Parameters!W362","v":1},{"$f":"Parameters!X362","v":1},{"$f":"Parameters!Y362","v":1},{"$f":"Parameters!Z362","v":1},{"$f":"Parameters!AA362","v":1},{"$f":"Parameters!AB362","v":1},{"$f":"Parameters!AC362","v":1},{"$f":"Parameters!AD362","v":1},{"$f":"Parameters!AE362","v":1},{"$f":"Parameters!AF362","v":1},{"$f":"Parameters!AG362","v":1},{"$f":"Parameters!AH362","v":1},{"$f":"Parameters!AI362","v":1},{"$f":"Parameters!AJ362","v":1},{"$f":"Parameters!AK362","v":1},{"$f":"Parameters!AL362","v":1},{"$f":"Parameters!AM362","v":1},{"$f":"Parameters!AN362","v":1},{"$f":"Parameters!AO362","v":1},{"$f":"Parameters!AP362","v":1},{"$f":"Parameters!AQ362","v":1},{"$f":"Parameters!AR362","v":1},{"$f":"Parameters!AS362","v":1},{"$f":"Parameters!AT362","v":1},{"$f":"Parameters!AU362","v":1},{"$f":"Parameters!AV362","v":1},{"$f":"Parameters!AW362","v":1},{"$f":"Parameters!AX362","v":1},{"$f":"Parameters!AY362","v":1},{"$f":"Parameters!AZ362","v":1},{"$f":"Parameters!BA362","v":1},{"$f":"Parameters!BB362","v":1},{"$f":"Parameters!BC362","v":1},{"$f":"Parameters!BD362","v":1},{"$f":"Parameters!BE362","v":1},{"$f":"Parameters!BF362","v":1},{"$f":"Parameters!BG362","v":1},{"$f":"Parameters!BH362","v":1},{"$f":"Parameters!BI362","v":1},{"$f":"Parameters!BJ362","v":1},{"$f":"Parameters!BK362","v":1},{"$f":"Parameters!BL362","v":1},{"$f":"Parameters!BM362","v":1},{"$f":"Parameters!BN362","v":1}]
["S107",{"$f":"Parameters!K363","v":1},{"$f":"Parameters!L363","v":1},{"$f":"Parameters!M363","v":1},{"$f":"Parameters!N363","v":1},{"$f":"Parameters!O363","v":1},{"$f":"Parameters!P363","v":1},{"$f":"Parameters!Q363","v":1},{"$f":"Parameters!R363","v":1},{"$f":"Parameters!S363","v":1},{"$f":"Parameters!T363","v":1},{"$f":"Parameters!U363","v":1},{"$f":"Parameters!V363","v":1},{"$f":"Parameters!W363","v":1},{"$f":"Parameters!X363","v":1},{"$f":"Parameters!Y363","v":1},{"$f":"Parameters!Z363","v":1},{"$f":"Parameters!AA363","v":1},{"$f":"Parameters!AB363","v":1},{"$f":"Parameters!AC363","v":1},{"$f":"Parameters!AD363","v":1},{"$f":"Parameters!AE363","v":1},{"$f":"Parameters!AF363","v":1},{"$f":"Parameters!AG363","v":1},{"$f":"Parameters!AH363","v":1},{"$f":"Parameters!AI363","v":1},{"$f":"Parameters!AJ363","v":1},{"$f":"Parameters!AK363","v":1},{"$f":"Parameters!AL363","v":1},{"$f":"Parameters!AM363","v":1},{"$f":"Parameters!AN363","v":1},{"$f":"Parameters!AO363","v":1},{"$f":"Parameters!AP363","v":1},{"$f":"Parameters!AQ363","v":1},{"$f":"Parameters!AR363","v":1},{"$f":"Parameters!AS363","v":1},{"$f":"Parameters!AT363","v":1},{"$f":"Parameters!AU363","v":1},{"$f":"Parameters!AV363","v":1},{"$f":"Parameters!AW363","v":1},{"$f":"Parameters!AX363","v":1},{"$f":"Parameters!AY363","v":1},{"$f":"Parameters!AZ363","v":1},{"$f":"Parameters!BA363","v":1},{"$f":"Parameters!BB363","v":1},{"$f":"Parameters!BC363","v":1},{"$f":"Parameters!BD363","v":1},{"$f":"Parameters!BE363","v":1},{"$f":"Parameters!BF363","v":1},{"$f":"Parameters!BG363","v":1},{"$f":"Parameters!BH363","v":1},{"$f":"Parameters!BI363","v":1},{"$f":"Parameters!BJ363","v":1},{"$f":"Parameters!BK363","v":1},{"$f":"Parameters!BL363","v":1},{"$f":"Parameters!BM363","v":1},{"$f":"Parameters!BN363","v":1}]
["S108",{"$f":"Parameters!K364","v":1},{"$f":"Parameters!L364","v":1},{"$f":"Parameters!M364","v":1},{"$f":"Parameters!N364","v":1},{"$f":"Parameters!O364","v":1},{"$f":"Parameters!P364","v":1},{"$f":"Parameters!Q364","v":1},{"$f":"Parameters!R364","v":1},{"$f":"Parameters!S364","v":1},{"$f":"Parameters!T364","v":1},{"$f":"Parameters!U364","v":1},{"$f":"Parameters!V364","v":1},{"$f":"Parameters!W364","v":1},{"$f":"Parameters!X364","v":1},{"$f":"Parameters!Y364","v":1},{"$f":"Parameters!Z364","v":1},{"$f":"Parameters!AA364","v":1},{"$f":"Parameters!AB364","v":1},{"$f":"Parameters!AC364","v":1},{"$f":"Parameters!AD364","v":1},{"$f":"Parameters!AE364","v":1},{"$f":"Parameters!AF364","v":1},{"$f":"Parameters!AG364","v":1},{"$f":"Parameters!AH364","v":1},{"$f":"Parameters!AI364","v":1},{"$f":"Parameters!AJ364","v":1},{"$f":"Parameters!AK364","v":1},{"$f":"Parameters!AL364","v":1},{"$f":"Parameters!AM364","v":1},{"$f":"Parameters!AN364","v":1},{"$f":"Parameters!AO364","v":1},{"$f":"Parameters!AP364","v":1},{"$f":"Parameters!AQ364","v":1},{"$f":"Parameters!AR364","v":1},{"$f":"Parameters!AS364","v":1},{"$f":"Parameters!AT364","v":1},{"$f":"Parameters!AU364","v":1},{"$f":"Parameters!AV364","v":1},{"$f":"Parameters!AW364","v":1},{"$f":"Parameters!AX364","v":1},{"$f":"Parameters!AY364","v":1},{"$f":"Parameters!AZ364","v":1},{"$f":"Parameters!BA364","v":1},{"$f":"Parameters!BB364","v":1},{"$f":"Parameters!BC364","v":1},{"$f":"Parameters!BD364","v":1},{"$f":"Parameters!BE364","v":1},{"$f":"Parameters!BF364","v":1},{"$f":"Parameters!BG364","v":1},{"$f":"Parameters!BH364","v":1},{"$f":"Parameters!BI364","v":1},{"$f":"Parameters!BJ364","v":1},{"$f":"Parameters!BK364","v":1},{"$f":"Parameters!BL364","v":1},{"$f":"Parameters!BM364","v":1},{"$f":"Parameters!BN364","v":1}]
["S109",{"$f":"Parameters!K365","v":1},{"$f":"Parameters!L365","v":1},{"$f":"Parameters!M365","v":1},{"$f":"Parameters!N365","v":1},{"$f":"Parameters!O365","v":1},{"$f":"Parameters!P365","v":1},{"$f":"Parameters!Q365","v":1},{"$f":"Parameters!R365","v":1},{"$f":"Parameters!S365","v":1},{"$f":"Parameters!T365","v":1},{"$f":"Parameters!U365","v":1},{"$f":"Parameters!V365","v":1},{"$f":"Parameters!W365","v":1},{"$f":"Parameters!X365","v":1},{"$f":"Parameters!Y365","v":1},{"$f":"Parameters!Z365","v":1},{"$f":"Parameters!AA365","v":1},{"$f":"Parameters!AB365","v":1},{"$f":"Parameters!AC365","v":1},{"$f":"Parameters!AD365","v":1},{"$f":"Parameters!AE365","v":1},{"$f":"Parameters!AF365","v":1},{"$f":"Parameters!AG365","v":1},{"$f":"Parameters!AH365","v":1},{"$f":"Parameters!AI365","v":1},{"$f":"Parameters!AJ365","v":1},{"$f":"Parameters!AK365","v":1},{"$f":"Parameters!AL365","v":1},{"$f":"Parameters!AM365","v":1},{"$f":"Parameters!AN365","v":1},{"$f":"Parameters!AO365","v":1},{"$f":"Parameters!AP365","v":1},{"$f":"Parameters!AQ365","v":1},{"$f":"Parameters!AR365","v":1},{"$f":"Parameters!AS365","v":1},{"$f":"Parameters!AT365","v":1},{"$f":"Parameters!AU365","v":1},{"$f":"Parameters!AV365","v":1},{"$f":"Parameters!AW365","v":1},{"$f":"Parameters!AX365","v":1},{"$f":"Parameters!AY365","v":1},{"$f":"Parameters!AZ365","v":1},{"$f":"Parameters!BA365","v":1},{"$f":"Parameters!BB365","v":1},{"$f":"Parameters!BC365","v":1},{"$f":"Parameters!BD365","v":1},{"$f":"Parameters!BE365","v":1},{"$f":"Parameters!BF365","v":1},{"$f":"Parameters!BG365","v":1},{"$f":"Parameters!BH365","v":1},{"$f":"Parameters!BI365","v":1},{"$f":"Parameters!BJ365","v":1},{"$f":"Parameters!BK365","v":1},{"$f":"Parameters!BL365","v":1},{"$f":"Parameters!BM365","v":1},{"$f":"Parameters!BN365","v":1}]
["S110",{"$f":"Parameters!K366","v":1},{"$f":"Parameters!L366","v":1},{"$f":"Parameters!M366","v":1},{"$f":"Parameters!N366","v":1},{"$f":"Parameters!O366","v":1},{"$f":"Parameters!P366","v":1},{"$f":"Parameters!Q366","v":1},{"$f":"Parameters!R366","v":1},{"$f":"Parameters!S366","v":1},{"$f":"Parameters!T366","v":1},{"$f":"Parameters!U366","v":1},{"$f":"Parameters!V366","v":1},{"$f":"Parameters!W366","v":1},{"$f":"Parameters!X366","v":1},{"$f":"Parameters!Y366","v":1},{"$f":"Parameters!Z366","v":1},{"$f":"Parameters!AA366","v":1},{"$f":"Parameters!AB366","v":1},{"$f":"Parameters!AC366","v":1},{"$f":"Parameters!AD366","v":1},{"$f":"Parameters!AE366","v":1},{"$f":"Parameters!AF366","v":1},{"$f":"Parameters!AG366","v":1},{"$f":"Parameters!AH366","v":1},{"$f":"Parameters!AI366","v":1},{"$f":"Parameters!AJ366","v":1},{"$f":"Parameters!AK366","v":1},{"$f":"Parameters!AL366","v":1},{"$f":"Parameters!AM366","v":1},{"$f":"Parameters!AN366","v":1},{"$f":"Parameters!AO366","v":1},{"$f":"Parameters!AP366","v":1},{"$f":"Parameters!AQ366","v":1},{"$f":"Parameters!AR366","v":1},{"$f":"Parameters!AS366","v":1},{"$f":"Parameters!AT366","v":1},{"$f":"Parameters!AU366","v":1},{"$f":"Parameters!AV366","v":1},{"$f":"Parameters!AW366","v":1},{"$f":"Parameters!AX366","v":1},{"$f":"Parameters!AY366","v":1},{"$f":"Parameters!AZ366","v":1},{"$f":"Parameters!BA366","v":1},{"$f":"Parameters!BB366","v":1},{"$f":"Parameters!BC366","v":1},{"$f":"Parameters!BD366","v":1},{"$f":"Parameters!BE366","v":1},{"$f":"Parameters!BF366","v":1},{"$f":"Parameters!BG366","v":1},{"$f":"Parameters!BH366","v":1},{"$f":"Parameters!BI366","v":1},{"$f":"Parameters!BJ366","v":1},{"$f":"Parameters!BK366","v":1},{"$f":"Parameters!BL366","v":1},{"$f":"Parameters!BM366","v":1},{"$f":"Parameters!BN366","v":1}]
["S111",{"$f":"Parameters!K367","v":1},{"$f":"Parameters!L367","v":1},{"$f":"Parameters!M367","v":1},{"$f":"Parameters!N367","v":1},{"$f":"Parameters!O367","v":1},{"$f":"Parameters!P367","v":1},{"$f":"Parameters!Q367","v":1},{"$f":"Parameters!R367","v":1},{"$f":"Parameters!S367","v":1},{"$f":"Parameters!T367","v":1},{"$f":"Parameters!U367","v":1},{"$f":"Parameters!V367","v":1},{"$f":"Parameters!W367","v":1},{"$f":"Parameters!X367","v":1},{"$f":"Parameters!Y367","v":1},{"$f":"Parameters!Z367","v":1},{"$f":"Parameters!AA367","v":1},{"$f":"Parameters!AB367","v":1},{"$f":"Parameters!AC367","v":1},{"$f":"Parameters!AD367","v":1},{"$f":"Parameters!AE367","v":1},{"$f":"Parameters!AF367","v":1},{"$f":"Parameters!AG367","v":1},{"$f":"Parameters!AH367","v":1},{"$f":"Parameters!AI367","v":1},{"$f":"Parameters!AJ367","v":1},{"$f":"Parameters!AK367","v":1},{"$f":"Parameters!AL367","v":1},{"$f":"Parameters!AM367","v":1},{"$f":"Parameters!AN367","v":1},{"$f":"Parameters!AO367","v":1},{"$f":"Parameters!AP367","v":1},{"$f":"Parameters!AQ367","v":1},{"$f":"Parameters!AR367","v":1},{"$f":"Parameters!AS367","v":1},{"$f":"Parameters!AT367","v":1},{"$f":"Parameters!AU367","v":1},{"$f":"Parameters!AV367","v":1},{"$f":"Parameters!AW367","v":1},{"$f":"Parameters!AX367","v":1},{"$f":"Parameters!AY367","v":1},{"$f":"Parameters!AZ367","v":1},{"$f":"Parameters!BA367","v":1},{"$f":"Parameters!BB367","v":1},{"$f":"Parameters!BC367","v":1},{"$f":"Parameters!BD367","v":1},{"$f":"Parameters!BE367","v":1},{"$f":"Parameters!BF367","v":1},{"$f":"Parameters!BG367","v":1},{"$f":"Parameters!BH367","v":1},{"$f":"Parameters!BI367","v":1},{"$f":"Parameters!BJ367","v":1},{"$f":"Parameters!BK367","v":1},{"$f":"Parameters!BL367","v":1},{"$f":"Parameters!BM367","v":1},{"$f":"Parameters!BN367","v":1}]
["S112",{"$f":"Parameters!K368","v":1},{"$f":"Parameters!L368","v":1},{"$f":"Parameters!M368","v":1},{"$f":"Parameters!N368","v":1},{"$f":"Parameters!O368","v":1},{"$f":"Parameters!P368","v":1},{"$f":"Parameters!Q368","v":1},{"$f":"Parameters!R368","v":1},{"$f":"Parameters!S368","v":1},{"$f":"Parameters!T368","v":1},{"$f":"Parameters!U368","v":1},{"$f":"Parameters!V368","v":1},{"$f":"Parameters!W368","v":1},{"$f":"Parameters!X368","v":1},{"$f":"Parameters!Y368","v":1},{"$f":"Parameters!Z368","v":1},{"$f":"Parameters!AA368","v":1},{"$f":"Parameters!AB368","v":1},{"$f":"Parameters!AC368","v":1},{"$f":"Parameters!AD368","v":1},{"$f":"Parameters!AE368","v":1},{"$f":"Parameters!AF368","v":1},{"$f":"Parameters!AG368","v":1},{"$f":"Parameters!AH368","v":1},{"$f":"Parameters!AI368","v":1},{"$f":"Parameters!AJ368","v":1},{"$f":"Parameters!AK368","v":1},{"$f":"Parameters!AL368","v":1},{"$f":"Parameters!AM368","v":1},{"$f":"Parameters!AN368","v":1},{"$f":"Parameters!AO368","v":1},{"$f":"Parameters!AP368","v":1},{"$f":"Parameters!AQ368","v":1},{"$f":"Parameters!AR368","v":1},{"$f":"Parameters!AS368","v":1},{"$f":"Parameters!AT368","v":1},{"$f":"Parameters!AU368","v":1},{"$f":"Parameters!AV368","v":1},{"$f":"Parameters!AW368","v":1},{"$f":"Parameters!AX368","v":1},{"$f":"Parameters!AY368","v":1},{"$f":"Parameters!AZ368","v":1},{"$f":"Parameters!BA368","v":1},{"$f":"Parameters!BB368","v":1},{"$f":"Parameters!BC368","v":1},{"$f":"Parameters!BD368","v":1},{"$f":"Parameters!BE368","v":1},{"$f":"Parameters!BF368","v":1},{"$f":"Parameters!BG368","v":1},{"$f":"Parameters!BH368","v":1},{"$f":"Parameters!BI368","v":1},{"$f":"Parameters!BJ368","v":1},{"$f":"Parameters!BK368","v":1},{"$f":"Parameters!BL368","v":1},{"$f":"Parameters!BM368","v":1},{"$f":"Parameters!BN368","v":1}]
["S113",{"$f":"Parameters!K369","v":1},{"$f":"Parameters!L369","v":1},{"$f":"Parameters!M369","v":1},{"$f":"Parameters!N369","v":1},{"$f":"Parameters!O369","v":1},{"$f":"Parameters!P369","v":1},{"$f":"Parameters!Q369","v":1},{"$f":"Parameters!R369","v":1},{"$f":"Parameters!S369","v":1},{"$f":"Parameters!T369","v":1},{"$f":"Parameters!U369","v":1},{"$f":"Parameters!V369","v":1},{"$f":"Parameters!W369","v":1},{"$f":"Parameters!X369","v":1},{"$f":"Parameters!Y369","v":1},{"$f":"Parameters!Z369","v":1},{"$f":"Parameters!AA369","v":1},{"$f":"Parameters!AB369","v":1},{"$f":"Parameters!AC369","v":1},{"$f":"Parameters!AD369","v":1},{"$f":"Parameters!AE369","v":1},{"$f":"Parameters!AF369","v":1},{"$f":"Parameters!AG369","v":1},{"$f":"Parameters!AH369","v":1},{"$f":"Parameters!AI369","v":1},{"$f":"Parameters!AJ369","v":1},{"$f":"Parameters!AK369","v":1},{"$f":"Parameters!AL369","v":1},{"$f":"Parameters!AM369","v":1},{"$f":"Parameters!AN369","v":1},{"$f":"Parameters!AO369","v":1},{"$f":"Parameters!AP369","v":1},{"$f":"Parameters!AQ369","v":1},{"$f":"Parameters!AR369","v":1},{"$f":"Parameters!AS369","v":1},{"$f":"Parameters!AT369","v":1},{"$f":"Parameters!AU369","v":1},{"$f":"Parameters!AV369","v":1},{"$f":"Parameters!AW369","v":1},{"$f":"Parameters!AX369","v":1},{"$f":"Parameters!AY369","v":1},{"$f":"Parameters!AZ369","v":1},{"$f":"Parameters!BA369","v":1},{"$f":"Parameters!BB369","v":1},{"$f":"Parameters!BC369","v":1},{"$f":"Parameters!BD369","v":1},{"$f":"Parameters!BE369","v":1},{"$f":"Parameters!BF369","v":1},{"$f":"Parameters!BG369","v":1},{"$f":"Parameters!BH369","v":1},{"$f":"Parameters!BI369","v":1},{"$f":"Parameters!BJ369","v":1},{"$f":"Parameters!BK369","v":1},{"$f":"Parameters!BL369","v":1},{"$f":"Parameters!BM369","v":1},{"$f":"Parameters!BN369","v":1}]
["S114",{"$f":"Parameters!K370","v":1},{"$f":"Parameters!L370","v":1},{"$f":"Parameters!M370","v":1},{"$f":"Parameters!N370","v":1},{"$f":"Parameters!O370","v":1},{"$f":"Parameters!P370","v":1},{"$f":"Parameters!Q370","v":1},{"$f":"Parameters!R370","v":1},{"$f":"Parameters!S370","v":1},{"$f":"Parameters!T370","v":1},{"$f":"Parameters!U370","v":1},{"$f":"Parameters!V370","v":1},{"$f":"Parameters!W370","v":1},{"$f":"Parameters!X370","v":1},{"$f":"Parameters!Y370","v":1},{"$f":"Parameters!Z370","v":1},{"$f":"Parameters!AA370","v":1},{"$f":"Parameters!AB370","v":1},{"$f":"Parameters!AC370","v":1},{"$f":"Parameters!AD370","v":1},{"$f":"Parameters!AE370","v":1},{"$f":"Parameters!AF370","v":1},{"$f":"Parameters!AG370","v":1},{"$f":"Parameters!AH370","v":1},{"$f":"Parameters!AI370","v":1},{"$f":"Parameters!AJ370","v":1},{"$f":"Parameters!AK370","v":1},{"$f":"Parameters!AL370","v":1},{"$f":"Parameters!AM370","v":1},{"$f":"Parameters!AN370","v":1},{"$f":"Parameters!AO370","v":1},{"$f":"Parameters!AP370","v":1},{"$f":"Parameters!AQ370","v":1},{"$f":"Parameters!AR370","v":1},{"$f":"Parameters!AS370","v":1},{"$f":"Parameters!AT370","v":1},{"$f":"Parameters!AU370","v":1},{"$f":"Parameters!AV370","v":1},{"$f":"Parameters!AW370","v":1},{"$f":"Parameters!AX370","v":1},{"$f":"Parameters!AY370","v":1},{"$f":"Parameters!AZ370","v":1},{"$f":"Parameters!BA370","v":1},{"$f":"Parameters!BB370","v":1},{"$f":"Parameters!BC370","v":1},{"$f":"Parameters!BD370","v":1},{"$f":"Parameters!BE370","v":1},{"$f":"Parameters!BF370","v":1},{"$f":"Parameters!BG370","v":1},{"$f":"Parameters!BH370","v":1},{"$f":"Parameters!BI370","v":1},{"$f":"Parameters!BJ370","v":1},{"$f":"Parameters!BK370","v":1},{"$f":"Parameters!BL370","v":1},{"$f":"Parameters!BM370","v":1},{"$f":"Parameters!BN370","v":1}]
["S115",{"$f":"Parameters!K371","v":1},{"$f":"Parameters!L371","v":1},{"$f":"Parameters!M371","v":1},{"$f":"Parameters!N371","v":1},{"$f":"Parameters!O371","v":1},{"$f":"Parameters!P371","v":1},{"$f":"Parameters!Q371","v":1},{"$f":"Parameters!R371","v":1},{"$f":"Parameters!S371","v":1},{"$f":"Parameters!T371","v":1},{"$f":"Parameters!U371","v":1},{"$f":"Parameters!V371","v":1},{"$f":"Parameters!W371","v":1},{"$f":"Parameters!X371","v":1},{"$f":"Parameters!Y371","v":1},{"$f":"Parameters!Z371","v":1},{"$f":"Parameters!AA371","v":1},{"$f":"Parameters!AB371","v":1},{"$f":"Parameters!AC371","v":1},{"$f":"Parameters!AD371","v":1},{"$f":"Parameters!AE371","v":1},{"$f":"Parameters!AF371","v":1},{"$f":"Parameters!AG371","v":1},{"$f":"Parameters!AH371","v":1},{"$f":"Parameters!AI371","v":1},{"$f":"Parameters!AJ371","v":1},{"$f":"Parameters!AK371","v":1},{"$f":"Parameters!AL371","v":1},{"$f":"Parameters!AM371","v":1},{"$f":"Parameters!AN371","v":1},{"$f":"Parameters!AO371","v":1},{"$f":"Parameters!AP371","v":1},{"$f":"Parameters!AQ371","v":1},{"$f":"Parameters!AR371","v":1},{"$f":"Parameters!AS371","v":1},{"$f":"Parameters!AT371","v":1},{"$f":"Parameters!AU371","v":1},{"$f":"Parameters!AV371","v":1},{"$f":"Parameters!AW371","v":1},{"$f":"Parameters!AX371","v":1},{"$f":"Parameters!AY371","v":1},{"$f":"Parameters!AZ371","v":1},{"$f":"Parameters!BA371","v":1},{"$f":"Parameters!BB371","v":1},{"$f":"Parameters!BC371","v":1},{"$f":"Parameters!BD371","v":1},{"$f":"Parameters!BE371","v":1},{"$f":"Parameters!BF371","v":1},{"$f":"Parameters!BG371","v":1},{"$f":"Parameters!BH371","v":1},{"$f":"Parameters!BI371","v":1},{"$f":"Parameters!BJ371","v":1},{"$f":"Parameters!BK371","v":1},{"$f":"Parameters!BL371","v":1},{"$f":"Parameters!BM371","v":1},{"$f":"Parameters!BN371","v":1}]
["S116",{"$f":"Parameters!K372","v":1},{"$f":"Parameters!L372","v":1},{"$f":"Parameters!M372","v":1},{"$f":"Parameters!N372","v":1},{"$f":"Parameters!O372","v":1},{"$f":"Parameters!P372","v":1},{"$f":"Parameters!Q372","v":1},{"$f":"Parameters!R372","v":1},{"$f":"Parameters!S372","v":1},{"$f":"Parameters!T372","v":1},{"$f":"Parameters!U372","v":1},{"$f":"Parameters!V372","v":1},{"$f":"Parameters!W372","v":1},{"$f":"Parameters!X372","v":1},{"$f":"Parameters!Y372","v":1},{"$f":"Parameters!Z372","v":1},{"$f":"Parameters!AA372","v":1},{"$f":"Parameters!AB372","v":1},{"$f":"Parameters!AC372","v":1},{"$f":"Parameters!AD372","v":1},{"$f":"Parameters!AE372","v":1},{"$f":"Parameters!AF372","v":1},{"$f":"Parameters!AG372","v":1},{"$f":"Parameters!AH372","v":1},{"$f":"Parameters!AI372","v":1},{"$f":"Parameters!AJ372","v":1},{"$f":"Parameters!AK372","v":1},{"$f":"Parameters!AL372","v":1},{"$f":"Parameters!AM372","v":1},{"$f":"Parameters!AN372","v":1},{"$f":"Parameters!AO372","v":1},{"$f":"Parameters!AP372","v":1},{"$f":"Parameters!AQ372","v":1},{"$f":"Parameters!AR372","v":1},{"$f":"Parameters!AS372","v":1},{"$f":"Parameters!AT372","v":1},{"$f":"Parameters!AU372","v":1},{"$f":"Parameters!AV372","v":1},{"$f":"Parameters!AW372","v":1},{"$f":"Parameters!AX372","v":1},{"$f":"Parameters!AY372","v":1},{"$f":"Parameters!AZ372","v":1},{"$f":"Parameters!BA372","v":1},{"$f":"Parameters!BB372","v":1},{"$f":"Parameters!BC372","v":1},{"$f":"Parameters!BD372","v":1},{"$f":"Parameters!BE372","v":1},{"$f":"Parameters!BF372","v":1},{"$f":"Parameters!BG372","v":1},{"$f":"Parameters!BH372","v":1},{"$f":"Parameters!BI372","v":1},{"$f":"Parameters!BJ372","v":1},{"$f":"Parameters!BK372","v":1},{"$f":"Parameters!BL372","v":1},{"$f":"Parameters!BM372","v":1},{"$f":"Parameters!BN372","v":1}]
["S117",{"$f":"Parameters!K373","v":1},{"$f":"Parameters!L373","v":1},{"$f":"Parameters!M373","v":1},{"$f":"Parameters!N373","v":1},{"$f":"Parameters!O373","v":1},{"$f":"Parameters!P373","v":1},{"$f":"Parameters!Q373","v":1},{"$f":"Parameters!R373","v":1},{"$f":"Parameters!S373","v":1},{"$f":"Parameters!T373","v":1},{"$f":"Parameters!U373","v":1},{"$f":"Parameters!V373","v":1},{"$f":"Parameters!W373","v":1},{"$f":"Parameters!X373","v":1},{"$f":"Parameters!Y373","v":1},{"$f":"Parameters!Z373","v":1},{"$f":"Parameters!AA373","v":1},{"$f":"Parameters!AB373","v":1},{"$f":"Parameters!AC373","v":1},{"$f":"Parameters!AD373","v":1},{"$f":"Parameters!AE373","v":1},{"$f":"Parameters!AF373","v":1},{"$f":"Parameters!AG373","v":1},{"$f":"Parameters!AH373","v":1},{"$f":"Parameters!AI373","v":1},{"$f":"Parameters!AJ373","v":1},{"$f":"Parameters!AK373","v":1},{"$f":"Parameters!AL373","v":1},{"$f":"Parameters!AM373","v":1},{"$f":"Parameters!AN373","v":1},{"$f":"Parameters!AO373","v":1},{"$f":"Parameters!AP373","v":1},{"$f":"Parameters!AQ373","v":1},{"$f":"Parameters!AR373","v":1},{"$f":"Parameters!AS373","v":1},{"$f":"Parameters!AT373","v":1},{"$f":"Parameters!AU373","v":1},{"$f":"Parameters!AV373","v":1},{"$f":"Parameters!AW373","v":1},{"$f":"Parameters!AX373","v":1},{"$f":"Parameters!AY373","v":1},{"$f":"Parameters!AZ373","v":1},{"$f":"Parameters!BA373","v":1},{"$f":"Parameters!BB373","v":1},{"$f":"Parameters!BC373","v":1},{"$f":"Parameters!BD373","v":1},{"$f":"Parameters!BE373","v":1},{"$f":"Parameters!BF373","v":1},{"$f":"Parameters!BG373","v":1},{"$f":"Parameters!BH373","v":1},{"$f":"Parameters!BI373","v":1},{"$f":"Parameters!BJ373","v":1},{"$f":"Parameters!BK373","v":1},{"$f":"Parameters!BL373","v":1},{"$f":"Parameters!BM373","v":1},{"$f":"Parameters!BN373","v":1}]
["S118",{"$f":"Parameters!K374","v":1},{"$f":"Parameters!L374","v":1},{"$f":"Parameters!M374","v":1},{"$f":"Parameters!N374","v":1},{"$f":"Parameters!O374","v":1},{"$f":"Parameters!P374","v":1},{"$f":"Parameters!Q374","v":1},{"$f":"Parameters!R374","v":1},{"$f":"Parameters!S374","v":1},{"$f":"Parameters!T374","v":1},{"$f":"Parameters!U374","v":1},{"$f":"Parameters!V374","v":1},{"$f":"Parameters!W374","v":1},{"$f":"Parameters!X374","v":1},{"$f":"Parameters!Y374","v":1},{"$f":"Parameters!Z374","v":1},{"$f":"Parameters!AA374","v":1},{"$f":"Parameters!AB374","v":1},{"$f":"Parameters!AC374","v":1},{"$f":"Parameters!AD374","v":1},{"$f":"Parameters!AE374","v":1},{"$f":"Parameters!AF374","v":1},{"$f":"Parameters!AG374","v":1},{"$f":"Parameters!AH374","v":1},{"$f":"Parameters!AI374","v":1},{"$f":"Parameters!AJ374","v":1},{"$f":"Parameters!AK374","v":1},{"$f":"Parameters!AL374","v":1},{"$f":"Parameters!AM374","v":1},{"$f":"Parameters!AN374","v":1},{"$f":"Parameters!AO374","v":1},{"$f":"Parameters!AP374","v":1},{"$f":"Parameters!AQ374","v":1},{"$f":"Parameters!AR374","v":1},{"$f":"Parameters!AS374","v":1},{"$f":"Parameters!AT374","v":1},{"$f":"Parameters!AU374","v":1},{"$f":"Parameters!AV374","v":1},{"$f":"Parameters!AW374","v":1},{"$f":"Parameters!AX374","v":1},{"$f":"Parameters!AY374","v":1},{"$f":"Parameters!AZ374","v":1},{"$f":"Parameters!BA374","v":1},{"$f":"Parameters!BB374","v":1},{"$f":"Parameters!BC374","v":1},{"$f":"Parameters!BD374","v":1},{"$f":"Parameters!BE374","v":1},{"$f":"Parameters!BF374","v":1},{"$f":"Parameters!BG374","v":1},{"$f":"Parameters!BH374","v":1},{"$f":"Parameters!BI374","v":1},{"$f":"Parameters!BJ374","v":1},{"$f":"Parameters!BK374","v":1},{"$f":"Parameters!BL374","v":1},{"$f":"Parameters!BM374","v":1},{"$f":"Parameters!BN374","v":1}]
["S119",{"$f":"Parameters!K375","v":1},{"$f":"Parameters!L375","v":1},{"$f":"Parameters!M375","v":1},{"$f":"Parameters!N375","v":1},{"$f":"Parameters!O375","v":1},{"$f":"Parameters!P375","v":1},{"$f":"Parameters!Q375","v":1},{"$f":"Parameters!R375","v":1},{"$f":"Parameters!S375","v":1},{"$f":"Parameters!T375","v":1},{"$f":"Parameters!U375","v":1},{"$f":"Parameters!V375","v":1},{"$f":"Parameters!W375","v":1},{"$f":"Parameters!X375","v":1},{"$f":"Parameters!Y375","v":1},{"$f":"Parameters!Z375","v":1},{"$f":"Parameters!AA375","v":1},{"$f":"Parameters!AB375","v":1},{"$f":"Parameters!AC375","v":1},{"$f":"Parameters!AD375","v":1},{"$f":"Parameters!AE375","v":1},{"$f":"Parameters!AF375","v":1},{"$f":"Parameters!AG375","v":1},{"$f":"Parameters!AH375","v":1},{"$f":"Parameters!AI375","v":1},{"$f":"Parameters!AJ375","v":1},{"$f":"Parameters!AK375","v":1},{"$f":"Parameters!AL375","v":1},{"$f":"Parameters!AM375","v":1},{"$f":"Parameters!AN375","v":1},{"$f":"Parameters!AO375","v":1},{"$f":"Parameters!AP375","v":1},{"$f":"Parameters!AQ375","v":1},{"$f":"Parameters!AR375","v":1},{"$f":"Parameters!AS375","v":1},{"$f":"Parameters!AT375","v":1},{"$f":"Parameters!AU375","v":1},{"$f":"Parameters!AV375","v":1},{"$f":"Parameters!AW375","v":1},{"$f":"Parameters!AX375","v":1},{"$f":"Parameters!AY375","v":1},{"$f":"Parameters!AZ375","v":1},{"$f":"Parameters!BA375","v":1},{"$f":"Parameters!BB375","v":1},{"$f":"Parameters!BC375","v":1},{"$f":"Parameters!BD375","v":1},{"$f":"Parameters!BE375","v":1},{"$f":"Parameters!BF375","v":1},{"$f":"Parameters!BG375","v":1},{"$f":"Parameters!BH375","v":1},{"$f":"Parameters!BI375","v":1},{"$f":"Parameters!BJ375","v":1},{"$f":"Parameters!BK375","v":1},{"$f":"Parameters!BL375","v":1},{"$f":"Parameters!BM375","v":1},{"$f":"Parameters!BN375","v":1}]
["S120",{"$f":"Parameters!K376","v":1},{"$f":"Parameters!L376","v":1},{"$f":"Parameters!M376","v":1},{"$f":"Parameters!N376","v":1},{"$f":"Parameters!O376","v":1},{"$f":"Parameters!P376","v":1},{"$f":"Parameters!Q376","v":1},{"$f":"Parameters!R376","v":1},{"$f":"Parameters!S376","v":1},{"$f":"Parameters!T376","v":1},{"$f":"Parameters!U376","v":1},{"$f":"Parameters!V376","v":1},{"$f":"Parameters!W376","v":1},{"$f":"Parameters!X376","v":1},{"$f":"Parameters!Y376","v":1},{"$f":"Parameters!Z376","v":1},{"$f":"Parameters!AA376","v":1},{"$f":"Parameters!AB376","v":1},{"$f":"Parameters!AC376","v":1},{"$f":"Parameters!AD376","v":1},{"$f":"Parameters!AE376","v":1},{"$f":"Parameters!AF376","v":1},{"$f":"Parameters!AG376","v":1},{"$f":"Parameters!AH376","v":1},{"$f":"Parameters!AI376","v":1},{"$f":"Parameters!AJ376","v":1},{"$f":"Parameters!AK376","v":1},{"$f":"Parameters!AL376","v":1},{"$f":"Parameters!AM376","v":1},{"$f":"Parameters!AN376","v":1},{"$f":"Parameters!AO376","v":1},{"$f":"Parameters!AP376","v":1},{"$f":"Parameters!AQ376","v":1},{"$f":"Parameters!AR376","v":1},{"$f":"Parameters!AS376","v":1},{"$f":"Parameters!AT376","v":1},{"$f":"Parameters!AU376","v":1},{"$f":"Parameters!AV376","v":1},{"$f":"Parameters!AW376","v":1},{"$f":"Parameters!AX376","v":1},{"$f":"Parameters!AY376","v":1},{"$f":"Parameters!AZ376","v":1},{"$f":"Parameters!BA376","v":1},{"$f":"Parameters!BB376","v":1},{"$f":"Parameters!BC376","v":1},{"$f":"Parameters!BD376","v":1},{"$f":"Parameters!BE376","v":1},{"$f":"Parameters!BF376","v":1},{"$f":"Parameters!BG376","v":1},{"$f":"Parameters!BH376","v":1},{"$f":"Parameters!BI376","v":1},{"$f":"Parameters!BJ376","v":1},{"$f":"Parameters!BK376","v":1},{"$f":"Parameters!BL376","v":1},{"$f":"Parameters!BM376","v":1},{"$f":"Parameters!BN376","v":1}]
["S121",{"$f":"Parameters!K377","v":1},{"$f":"Parameters!L377","v":1},{"$f":"Parameters!M377","v":1},{"$f":"Parameters!N377","v":1},{"$f":"Parameters!O377","v":1},{"$f":"Parameters!P377","v":1},{"$f":"Parameters!Q377","v":1},{"$f":"Parameters!R377","v":1},{"$f":"Parameters!S377","v":1},{"$f":"Parameters!T377","v":1},{"$f":"Parameters!U377","v":1},{"$f":"Parameters!V377","v":1},{"$f":"Parameters!W377","v":1},{"$f":"Parameters!X377","v":1},{"$f":"Parameters!Y377","v":1},{"$f":"Parameters!Z377","v":1},{"$f":"Parameters!AA377","v":1},{"$f":"Parameters!AB377","v":1},{"$f":"Parameters!AC377","v":1},{"$f":"Parameters!AD377","v":1},{"$f":"Parameters!AE377","v":1},{"$f":"Parameters!AF377","v":1},{"$f":"Parameters!AG377","v":1},{"$f":"Parameters!AH377","v":1},{"$f":"Parameters!AI377","v":1},{"$f":"Parameters!AJ377","v":1},{"$f":"Parameters!AK377","v":1},{"$f":"Parameters!AL377","v":1},{"$f":"Parameters!AM377","v":1},{"$f":"Parameters!AN377","v":1},{"$f":"Parameters!AO377","v":1},{"$f":"Parameters!AP377","v":1},{"$f":"Parameters!AQ377","v":1},{"$f":"Parameters!AR377","v":1},{"$f":"Parameters!AS377","v":1},{"$f":"Parameters!AT377","v":1},{"$f":"Parameters!AU377","v":1},{"$f":"Parameters!AV377","v":1},{"$f":"Parameters!AW377","v":1},{"$f":"Parameters!AX377","v":1},{"$f":"Parameters!AY377","v":1},{"$f":"Parameters!AZ377","v":1},{"$f":"Parameters!BA377","v":1},{"$f":"Parameters!BB377","v":1},{"$f":"Parameters!BC377","v":1},{"$f":"Parameters!BD377","v":1},{"$f":"Parameters!BE377","v":1},{"$f":"Parameters!BF377","v":1},{"$f":"Parameters!BG377","v":1},{"$f":"Parameters!BH377","v":1},{"$f":"Parameters!BI377","v":1},{"$f":"Parameters!BJ377","v":1},{"$f":"Parameters!BK377","v":1},{"$f":"Parameters!BL377","v":1},{"$f":"Parameters!BM377","v":1},{"$f":"Parameters!BN377","v":1}]
["S122",{"$f":"Parameters!K378","v":1},{"$f":"Parameters!L378","v":1},{"$f":"Parameters!M378","v":1},{"$f":"Parameters!N378","v":1},{"$f":"Parameters!O378","v":1},{"$f":"Parameters!P378","v":1},{"$f":"Parameters!Q378","v":1},{"$f":"Parameters!R378","v":1},{"$f":"Parameters!S378","v":1},{"$f":"Parameters!T378","v":1},{"$f":"Parameters!U378","v":1},{"$f":"Parameters!V378","v":1},{"$f":"Parameters!W378","v":1},{"$f":"Parameters!X378","v":1},{"$f":"Parameters!Y378","v":1},{"$f":"Parameters!Z378","v":1},{"$f":"Parameters!AA378","v":1},{"$f":"Parameters!AB378","v":1},{"$f":"Parameters!AC378","v":1},{"$f":"Parameters!AD378","v":1},{"$f":"Parameters!AE378","v":1},{"$f":"Parameters!AF378","v":1},{"$f":"Parameters!AG378","v":1},{"$f":"Parameters!AH378","v":1},{"$f":"Parameters!AI378","v":1},{"$f":"Parameters!AJ378","v":1},{"$f":"Parameters!AK378","v":1},{"$f":"Parameters!AL378","v":1},{"$f":"Parameters!AM378","v":1},{"$f":"Parameters!AN378","v":1},{"$f":"Parameters!AO378","v":1},{"$f":"Parameters!AP378","v":1},{"$f":"Parameters!AQ378","v":1},{"$f":"Parameters!AR378","v":1},{"$f":"Parameters!AS378","v":1},{"$f":"Parameters!AT378","v":1},{"$f":"Parameters!AU378","v":1},{"$f":"Parameters!AV378","v":1},{"$f":"Parameters!AW378","v":1},{"$f":"Parameters!AX378","v":1},{"$f":"Parameters!AY378","v":1},{"$f":"Parameters!AZ378","v":1},{"$f":"Parameters!BA378","v":1},{"$f":"Parameters!BB378","v":1},{"$f":"Parameters!BC378","v":1},{"$f":"Parameters!BD378","v":1},{"$f":"Parameters!BE378","v":1},{"$f":"Parameters!BF378","v":1},{"$f":"Parameters!BG378","v":1},{"$f":"Parameters!BH378","v":1},{"$f":"Parameters!BI378","v":1},{"$f":"Parameters!BJ378","v":1},{"$f":"Parameters!BK378","v":1},{"$f":"Parameters!BL378","v":1},{"$f":"Parameters!BM378","v":1},{"$f":"Parameters!BN378","v":1}]
["S123",{"$f":"Parameters!K379","v":1},{"$f":"Parameters!L379","v":1},{"$f":"Parameters!M379","v":1},{"$f":"Parameters!N379","v":1},{"$f":"Parameters!O379","v":1},{"$f":"Parameters!P379","v":1},{"$f":"Parameters!Q379","v":1},{"$f":"Parameters!R379","v":1},{"$f":"Parameters!S379","v":1},{"$f":"Parameters!T379","v":1},{"$f":"Parameters!U379","v":1},{"$f":"Parameters!V379","v":1},{"$f":"Parameters!W379","v":1},{"$f":"Parameters!X379","v":1},{"$f":"Parameters!Y379","v":1},{"$f":"Parameters!Z379","v":1},{"$f":"Parameters!AA379","v":1},{"$f":"Parameters!AB379","v":1},{"$f":"Parameters!AC379","v":1},{"$f":"Parameters!AD379","v":1},{"$f":"Parameters!AE379","v":1},{"$f":"Parameters!AF379","v":1},{"$f":"Parameters!AG379","v":1},{"$f":"Parameters!AH379","v":1},{"$f":"Parameters!AI379","v":1},{"$f":"Parameters!AJ379","v":1},{"$f":"Parameters!AK379","v":1},{"$f":"Parameters!AL379","v":1},{"$f":"Parameters!AM379","v":1},{"$f":"Parameters!AN379","v":1},{"$f":"Parameters!AO379","v":1},{"$f":"Parameters!AP379","v":1},{"$f":"Parameters!AQ379","v":1},{"$f":"Parameters!AR379","v":1},{"$f":"Parameters!AS379","v":1},{"$f":"Parameters!AT379","v":1},{"$f":"Parameters!AU379","v":1},{"$f":"Parameters!AV379","v":1},{"$f":"Parameters!AW379","v":1},{"$f":"Parameters!AX379","v":1},{"$f":"Parameters!AY379","v":1},{"$f":"Parameters!AZ379","v":1},{"$f":"Parameters!BA379","v":1},{"$f":"Parameters!BB379","v":1},{"$f":"Parameters!BC379","v":1},{"$f":"Parameters!BD379","v":1},{"$f":"Parameters!BE379","v":1},{"$f":"Parameters!BF379","v":1},{"$f":"Parameters!BG379","v":1},{"$f":"Parameters!BH379","v":1},{"$f":"Parameters!BI379","v":1},{"$f":"Parameters!BJ379","v":1},{"$f":"Parameters!BK379","v":1},{"$f":"Parameters!BL379","v":1},{"$f":"Parameters!BM379","v":1},{"$f":"Parameters!BN379","v":1}]
["S124",{"$f":"Parameters!K380","v":1},{"$f":"Parameters!L380","v":1},{"$f":"Parameters!M380","v":1},{"$f":"Parameters!N380","v":1},{"$f":"Parameters!O380","v":1},{"$f":"Parameters!P380","v":1},{"$f":"Parameters!Q380","v":1},{"$f":"Parameters!R380","v":1},{"$f":"Parameters!S380","v":1},{"$f":"Parameters!T380","v":1},{"$f":"Parameters!U380","v":1},{"$f":"Parameters!V380","v":1},{"$f":"Parameters!W380","v":1},{"$f":"Parameters!X380","v":1},{"$f":"Parameters!Y380","v":1},{"$f":"Parameters!Z380","v":1},{"$f":"Parameters!AA380","v":1},{"$f":"Parameters!AB380","v":1},{"$f":"Parameters!AC380","v":1},{"$f":"Parameters!AD380","v":1},{"$f":"Parameters!AE380","v":1},{"$f":"Parameters!AF380","v":1},{"$f":"Parameters!AG380","v":1},{"$f":"Parameters!AH380","v":1},{"$f":"Parameters!AI380","v":1},{"$f":"Parameters!AJ380","v":1},{"$f":"Parameters!AK380","v":1},{"$f":"Parameters!AL380","v":1},{"$f":"Parameters!AM380","v":1},{"$f":"Parameters!AN380","v":1},{"$f":"Parameters!AO380","v":1},{"$f":"Parameters!AP380","v":1},{"$f":"Parameters!AQ380","v":1},{"$f":"Parameters!AR380","v":1},{"$f":"Parameters!AS380","v":1},{"$f":"Parameters!AT380","v":1},{"$f":"Parameters!AU380","v":1},{"$f":"Parameters!AV380","v":1},{"$f":"Parameters!AW380","v":1},{"$f":"Parameters!AX380","v":1},{"$f":"Parameters!AY380","v":1},{"$f":"Parameters!AZ380","v":1},{"$f":"Parameters!BA380","v":1},{"$f":"Parameters!BB380","v":1},{"$f":"Parameters!BC380","v":1},{"$f":"Parameters!BD380","v":1},{"$f":"Parameters!BE380","v":1},{"$f":"Parameters!BF380","v":1},{"$f":"Parameters!BG380","v":1},{"$f":"Parameters!BH380","v":1},{"$f":"Parameters!BI380","v":1},{"$f":"Parameters!BJ380","v":1},{"$f":"Parameters!BK380","v":1},{"$f":"Parameters!BL380","v":1},{"$f":"Parameters!BM380","v":1},{"$f":"Parameters!BN380","v":1}]
["S201",{"$f":"Parameters!K381","v":1},{"$f":"Parameters!L381","v":1},{"$f":"Parameters!M381","v":1},{"$f":"Parameters!N381","v":1},{"$f":"Parameters!O381","v":1},{"$f":"Parameters!P381","v":1},{"$f":"Parameters!Q381","v":1},{"$f":"Parameters!R381","v":1},{"$f":"Parameters!S381","v":1},{"$f":"Parameters!T381","v":1},{"$f":"Parameters!U381","v":1},{"$f":"Parameters!V381","v":1},{"$f":"Parameters!W381","v":1},{"$f":"Parameters!X381","v":1},{"$f":"Parameters!Y381","v":1},{"$f":"Parameters!Z381","v":1},{"$f":"Parameters!AA381","v":1},{"$f":"Parameters!AB381","v":1},{"$f":"Parameters!AC381","v":1},{"$f":"Parameters!AD381","v":1},{"$f":"Parameters!AE381","v":1},{"$f":"Parameters!AF381","v":1},{"$f":"Parameters!AG381","v":1},{"$f":"Parameters!AH381","v":1},{"$f":"Parameters!AI381","v":1},{"$f":"Parameters!AJ381","v":1},{"$f":"Parameters!AK381","v":1},{"$f":"Parameters!AL381","v":1},{"$f":"Parameters!AM381","v":1},{"$f":"Parameters!AN381","v":1},{"$f":"Parameters!AO381","v":1},{"$f":"Parameters!AP381","v":1},{"$f":"Parameters!AQ381","v":1},{"$f":"Parameters!AR381","v":1},{"$f":"Parameters!AS381","v":1},{"$f":"Parameters!AT381","v":1},{"$f":"Parameters!AU381","v":1},{"$f":"Parameters!AV381","v":1},{"$f":"Parameters!AW381","v":1},{"$f":"Parameters!AX381","v":1},{"$f":"Parameters!AY381","v":1},{"$f":"Parameters!AZ381","v":1},{"$f":"Parameters!BA381","v":1},{"$f":"Parameters!BB381","v":1},{"$f":"Parameters!BC381","v":1},{"$f":"Parameters!BD381","v":1},{"$f":"Parameters!BE381","v":1},{"$f":"Parameters!BF381","v":1},{"$f":"Parameters!BG381","v":1},{"$f":"Parameters!BH381","v":1},{"$f":"Parameters!BI381","v":1},{"$f":"Parameters!BJ381","v":1},{"$f":"Parameters!BK381","v":1},{"$f":"Parameters!BL381","v":1},{"$f":"Parameters!BM381","v":1},{"$f":"Parameters!BN381","v":1}]
["S202",{"$f":"Parameters!K382","v":1},{"$f":"Parameters!L382","v":1},{"$f":"Parameters!M382","v":1},{"$f":"Parameters!N382","v":1},{"$f":"Parameters!O382","v":1},{"$f":"Parameters!P382","v":1},{"$f":"Parameters!Q382","v":1},{"$f":"Parameters!R382","v":1},{"$f":"Parameters!S382","v":1},{"$f":"Parameters!T382","v":1},{"$f":"Parameters!U382","v":1},{"$f":"Parameters!V382","v":1},{"$f":"Parameters!W382","v":1},{"$f":"Parameters!X382","v":1},{"$f":"Parameters!Y382","v":1},{"$f":"Parameters!Z382","v":1},{"$f":"Parameters!AA382","v":1},{"$f":"Parameters!AB382","v":1},{"$f":"Parameters!AC382","v":1},{"$f":"Parameters!AD382","v":1},{"$f":"Parameters!AE382","v":1},{"$f":"Parameters!AF382","v":1},{"$f":"Parameters!AG382","v":1},{"$f":"Parameters!AH382","v":1},{"$f":"Parameters!AI382","v":1},{"$f":"Parameters!AJ382","v":1},{"$f":"Parameters!AK382","v":1},{"$f":"Parameters!AL382","v":1},{"$f":"Parameters!AM382","v":1},{"$f":"Parameters!AN382","v":1},{"$f":"Parameters!AO382","v":1},{"$f":"Parameters!AP382","v":1},{"$f":"Parameters!AQ382","v":1},{"$f":"Parameters!AR382","v":1},{"$f":"Parameters!AS382","v":1},{"$f":"Parameters!AT382","v":1},{"$f":"Parameters!AU382","v":1},{"$f":"Parameters!AV382","v":1},{"$f":"Parameters!AW382","v":1},{"$f":"Parameters!AX382","v":1},{"$f":"Parameters!AY382","v":1},{"$f":"Parameters!AZ382","v":1},{"$f":"Parameters!BA382","v":1},{"$f":"Parameters!BB382","v":1},{"$f":"Parameters!BC382","v":1},{"$f":"Parameters!BD382","v":1},{"$f":"Parameters!BE382","v":1},{"$f":"Parameters!BF382","v":1},{"$f":"Parameters!BG382","v":1},{"$f":"Parameters!BH382","v":1},{"$f":"Parameters!BI382","v":1},{"$f":"Parameters!BJ382","v":1},{"$f":"Parameters!BK382","v":1},{"$f":"Parameters!BL382","v":1},{"$f":"Parameters!BM382","v":1},{"$f":"Parameters!BN382","v":1}]
["S203",{"$f":"Parameters!K383","v":1},{"$f":"Parameters!L383","v":1},{"$f":"Parameters!M383","v":1},{"$f":"Parameters!N383","v":1},{"$f":"Parameters!O383","v":1},{"$f":"Parameters!P383","v":1},{"$f":"Parameters!Q383","v":1},{"$f":"Parameters!R383","v":1},{"$f":"Parameters!S383","v":1},{"$f":"Parameters!T383","v":1},{"$f":"Parameters!U383","v":1},{"$f":"Parameters!V383","v":1},{"$f":"Parameters!W383","v":1},{"$f":"Parameters!X383","v":1},{"$f":"Parameters!Y383","v":1},{"$f":"Parameters!Z383","v":1},{"$f":"Parameters!AA383","v":1},{"$f":"Parameters!AB383","v":1},{"$f":"Parameters!AC383","v":1},{"$f":"Parameters!AD383","v":1},{"$f":"Parameters!AE383","v":1},{"$f":"Parameters!AF383","v":1},{"$f":"Parameters!AG383","v":1},{"$f":"Parameters!AH383","v":1},{"$f":"Parameters!AI383","v":1},{"$f":"Parameters!AJ383","v":1},{"$f":"Parameters!AK383","v":1},{"$f":"Parameters!AL383","v":1},{"$f":"Parameters!AM383","v":1},{"$f":"Parameters!AN383","v":1},{"$f":"Parameters!AO383","v":1},{"$f":"Parameters!AP383","v":1},{"$f":"Parameters!AQ383","v":1},{"$f":"Parameters!AR383","v":1},{"$f":"Parameters!AS383","v":1},{"$f":"Parameters!AT383","v":1},{"$f":"Parameters!AU383","v":1},{"$f":"Parameters!AV383","v":1},{"$f":"Parameters!AW383","v":1},{"$f":"Parameters!AX383","v":1},{"$f":"Parameters!AY383","v":1},{"$f":"Parameters!AZ383","v":1},{"$f":"Parameters!BA383","v":1},{"$f":"Parameters!BB383","v":1},{"$f":"Parameters!BC383","v":1},{"$f":"Parameters!BD383","v":1},{"$f":"Parameters!BE383","v":1},{"$f":"Parameters!BF383","v":1},{"$f":"Parameters!BG383","v":1},{"$f":"Parameters!BH383","v":1},{"$f":"Parameters!BI383","v":1},{"$f":"Parameters!BJ383","v":1},{"$f":"Parameters!BK383","v":1},{"$f":"Parameters!BL383","v":1},{"$f":"Parameters!BM383","v":1},{"$f":"Parameters!BN383","v":1}]
["S204",{"$f":"Parameters!K384","v":1},{"$f":"Parameters!L384","v":1},{"$f":"Parameters!M384","v":1},{"$f":"Parameters!N384","v":1},{"$f":"Parameters!O384","v":1},{"$f":"Parameters!P384","v":1},{"$f":"Parameters!Q384","v":1},{"$f":"Parameters!R384","v":1},{"$f":"Parameters!S384","v":1},{"$f":"Parameters!T384","v":1},{"$f":"Parameters!U384","v":1},{"$f":"Parameters!V384","v":1},{"$f":"Parameters!W384","v":1},{"$f":"Parameters!X384","v":1},{"$f":"Parameters!Y384","v":1},{"$f":"Parameters!Z384","v":1},{"$f":"Parameters!AA384","v":1},{"$f":"Parameters!AB384","v":1},{"$f":"Parameters!AC384","v":1},{"$f":"Parameters!AD384","v":1},{"$f":"Parameters!AE384","v":1},{"$f":"Parameters!AF384","v":1},{"$f":"Parameters!AG384","v":1},{"$f":"Parameters!AH384","v":1},{"$f":"Parameters!AI384","v":1},{"$f":"Parameters!AJ384","v":1},{"$f":"Parameters!AK384","v":1},{"$f":"Parameters!AL384","v":1},{"$f":"Parameters!AM384","v":1},{"$f":"Parameters!AN384","v":1},{"$f":"Parameters!AO384","v":1},{"$f":"Parameters!AP384","v":1},{"$f":"Parameters!AQ384","v":1},{"$f":"Parameters!AR384","v":1},{"$f":"Parameters!AS384","v":1},{"$f":"Parameters!AT384","v":1},{"$f":"Parameters!AU384","v":1},{"$f":"Parameters!AV384","v":1},{"$f":"Parameters!AW384","v":1},{"$f":"Parameters!AX384","v":1},{"$f":"Parameters!AY384","v":1},{"$f":"Parameters!AZ384","v":1},{"$f":"Parameters!BA384","v":1},{"$f":"Parameters!BB384","v":1},{"$f":"Parameters!BC384","v":1},{"$f":"Parameters!BD384","v":1},{"$f":"Parameters!BE384","v":1},{"$f":"Parameters!BF384","v":1},{"$f":"Parameters!BG384","v":1},{"$f":"Parameters!BH384","v":1},{"$f":"Parameters!BI384","v":1},{"$f":"Parameters!BJ384","v":1},{"$f":"Parameters!BK384","v":1},{"$f":"Parameters!BL384","v":1},{"$f":"Parameters!BM384","v":1},{"$f":"Parameters!BN384","v":1}]
["S205",{"$f":"Parameters!K385","v":1},{"$f":"Parameters!L385","v":1},{"$f":"Parameters!M385","v":1},{"$f":"Parameters!N385","v":1},{"$f":"Parameters!O385","v":1},{"$f":"Parameters!P385","v":1},{"$f":"Parameters!Q385","v":1},{"$f":"Parameters!R385","v":1},{"$f":"Parameters!S385","v":1},{"$f":"Parameters!T385","v":1},{"$f":"Parameters!U385","v":1},{"$f":"Parameters!V385","v":1},{"$f":"Parameters!W385","v":1},{"$f":"Parameters!X385","v":1},{"$f":"Parameters!Y385","v":1},{"$f":"Parameters!Z385","v":1},{"$f":"Parameters!AA385","v":1},{"$f":"Parameters!AB385","v":1},{"$f":"Parameters!AC385","v":1},{"$f":"Parameters!AD385","v":1},{"$f":"Parameters!AE385","v":1},{"$f":"Parameters!AF385","v":1},{"$f":"Parameters!AG385","v":1},{"$f":"Parameters!AH385","v":1},{"$f":"Parameters!AI385","v":1},{"$f":"Parameters!AJ385","v":1},{"$f":"Parameters!AK385","v":1},{"$f":"Parameters!AL385","v":1},{"$f":"Parameters!AM385","v":1},{"$f":"Parameters!AN385","v":1},{"$f":"Parameters!AO385","v":1},{"$f":"Parameters!AP385","v":1},{"$f":"Parameters!AQ385","v":1},{"$f":"Parameters!AR385","v":1},{"$f":"Parameters!AS385","v":1},{"$f":"Parameters!AT385","v":1},{"$f":"Parameters!AU385","v":1},{"$f":"Parameters!AV385","v":1},{"$f":"Parameters!AW385","v":1},{"$f":"Parameters!AX385","v":1},{"$f":"Parameters!AY385","v":1},{"$f":"Parameters!AZ385","v":1},{"$f":"Parameters!BA385","v":1},{"$f":"Parameters!BB385","v":1},{"$f":"Parameters!BC385","v":1},{"$f":"Parameters!BD385","v":1},{"$f":"Parameters!BE385","v":1},{"$f":"Parameters!BF385","v":1},{"$f":"Parameters!BG385","v":1},{"$f":"Parameters!BH385","v":1},{"$f":"Parameters!BI385","v":1},{"$f":"Parameters!BJ385","v":1},{"$f":"Parameters!BK385","v":1},{"$f":"Parameters!BL385","v":1},{"$f":"Parameters!BM385","v":1},{"$f":"Parameters!BN385","v":1}]
["S206",{"$f":"Parameters!K386","v":1},{"$f":"Parameters!L386","v":1},{"$f":"Parameters!M386","v":1},{"$f":"Parameters!N386","v":1},{"$f":"Parameters!O386","v":1},{"$f":"Parameters!P386","v":1},{"$f":"Parameters!Q386","v":1},{"$f":"Parameters!R386","v":1},{"$f":"Parameters!S386","v":1},{"$f":"Parameters!T386","v":1},{"$f":"Parameters!U386","v":1},{"$f":"Parameters!V386","v":1},{"$f":"Parameters!W386","v":1},{"$f":"Parameters!X386","v":1},{"$f":"Parameters!Y386","v":1},{"$f":"Parameters!Z386","v":1},{"$f":"Parameters!AA386","v":1},{"$f":"Parameters!AB386","v":1},{"$f":"Parameters!AC386","v":1},{"$f":"Parameters!AD386","v":1},{"$f":"Parameters!AE386","v":1},{"$f":"Parameters!AF386","v":1},{"$f":"Parameters!AG386","v":1},{"$f":"Parameters!AH386","v":1},{"$f":"Parameters!AI386","v":1},{"$f":"Parameters!AJ386","v":1},{"$f":"Parameters!AK386","v":1},{"$f":"Parameters!AL386","v":1},{"$f":"Parameters!AM386","v":1},{"$f":"Parameters!AN386","v":1},{"$f":"Parameters!AO386","v":1},{"$f":"Parameters!AP386","v":1},{"$f":"Parameters!AQ386","v":1},{"$f":"Parameters!AR386","v":1},{"$f":"Parameters!AS386","v":1},{"$f":"Parameters!AT386","v":1},{"$f":"Parameters!AU386","v":1},{"$f":"Parameters!AV386","v":1},{"$f":"Parameters!AW386","v":1},{"$f":"Parameters!AX386","v":1},{"$f":"Parameters!AY386","v":1},{"$f":"Parameters!AZ386","v":1},{"$f":"Parameters!BA386","v":1},{"$f":"Parameters!BB386","v":1},{"$f":"Parameters!BC386","v":1},{"$f":"Parameters!BD386","v":1},{"$f":"Parameters!BE386","v":1},{"$f":"Parameters!BF386","v":1},{"$f":"Parameters!BG386","v":1},{"$f":"Parameters!BH386","v":1},{"$f":"Parameters!BI386","v":1},{"$f":"Parameters!BJ386","v":1},{"$f":"Parameters!BK386","v":1},{"$f":"Parameters!BL386","v":1},{"$f":"Parameters!BM386","v":1},{"$f":"Parameters!BN386","v":1}]
["S207",{"$f":"Parameters!K387","v":1},{"$f":"Parameters!L387","v":1},{"$f":"Parameters!M387","v":1},{"$f":"Parameters!N387","v":1},{"$f":"Parameters!O387","v":1},{"$f":"Parameters!P387","v":1},{"$f":"Parameters!Q387","v":1},{"$f":"Parameters!R387","v":1},{"$f":"Parameters!S387","v":1},{"$f":"Parameters!T387","v":1},{"$f":"Parameters!U387","v":1},{"$f":"Parameters!V387","v":1},{"$f":"Parameters!W387","v":1},{"$f":"Parameters!X387","v":1},{"$f":"Parameters!Y387","v":1},{"$f":"Parameters!Z387","v":1},{"$f":"Parameters!AA387","v":1},{"$f":"Parameters!AB387","v":1},{"$f":"Parameters!AC387","v":1},{"$f":"Parameters!AD387","v":1},{"$f":"Parameters!AE387","v":1},{"$f":"Parameters!AF387","v":1},{"$f":"Parameters!AG387","v":1},{"$f":"Parameters!AH387","v":1},{"$f":"Parameters!AI387","v":1},{"$f":"Parameters!AJ387","v":1},{"$f":"Parameters!AK387","v":1},{"$f":"Parameters!AL387","v":1},{"$f":"Parameters!AM387","v":1},{"$f":"Parameters!AN387","v":1},{"$f":"Parameters!AO387","v":1},{"$f":"Parameters!AP387","v":1},{"$f":"Parameters!AQ387","v":1},{"$f":"Parameters!AR387","v":1},{"$f":"Parameters!AS387","v":1},{"$f":"Parameters!AT387","v":1},{"$f":"Parameters!AU387","v":1},{"$f":"Parameters!AV387","v":1},{"$f":"Parameters!AW387","v":1},{"$f":"Parameters!AX387","v":1},{"$f":"Parameters!AY387","v":1},{"$f":"Parameters!AZ387","v":1},{"$f":"Parameters!BA387","v":1},{"$f":"Parameters!BB387","v":1},{"$f":"Parameters!BC387","v":1},{"$f":"Parameters!BD387","v":1},{"$f":"Parameters!BE387","v":1},{"$f":"Parameters!BF387","v":1},{"$f":"Parameters!BG387","v":1},{"$f":"Parameters!BH387","v":1},{"$f":"Parameters!BI387","v":1},{"$f":"Parameters!BJ387","v":1},{"$f":"Parameters!BK387","v":1},{"$f":"Parameters!BL387","v":1},{"$f":"Parameters!BM387","v":1},{"$f":"Parameters!BN387","v":1}]
["S208",{"$f":"Parameters!K388","v":1},{"$f":"Parameters!L388","v":1},{"$f":"Parameters!M388","v":1},{"$f":"Parameters!N388","v":1},{"$f":"Parameters!O388","v":1},{"$f":"Parameters!P388","v":1},{"$f":"Parameters!Q388","v":1},{"$f":"Parameters!R388","v":1},{"$f":"Parameters!S388","v":1},{"$f":"Parameters!T388","v":1},{"$f":"Parameters!U388","v":1},{"$f":"Parameters!V388","v":1},{"$f":"Parameters!W388","v":1},{"$f":"Parameters!X388","v":1},{"$f":"Parameters!Y388","v":1},{"$f":"Parameters!Z388","v":1},{"$f":"Parameters!AA388","v":1},{"$f":"Parameters!AB388","v":1},{"$f":"Parameters!AC388","v":1},{"$f":"Parameters!AD388","v":1},{"$f":"Parameters!AE388","v":1},{"$f":"Parameters!AF388","v":1},{"$f":"Parameters!AG388","v":1},{"$f":"Parameters!AH388","v":1},{"$f":"Parameters!AI388","v":1},{"$f":"Parameters!AJ388","v":1},{"$f":"Parameters!AK388","v":1},{"$f":"Parameters!AL388","v":1},{"$f":"Parameters!AM388","v":1},{"$f":"Parameters!AN388","v":1},{"$f":"Parameters!AO388","v":1},{"$f":"Parameters!AP388","v":1},{"$f":"Parameters!AQ388","v":1},{"$f":"Parameters!AR388","v":1},{"$f":"Parameters!AS388","v":1},{"$f":"Parameters!AT388","v":1},{"$f":"Parameters!AU388","v":1},{"$f":"Parameters!AV388","v":1},{"$f":"Parameters!AW388","v":1},{"$f":"Parameters!AX388","v":1},{"$f":"Parameters!AY388","v":1},{"$f":"Parameters!AZ388","v":1},{"$f":"Parameters!BA388","v":1},{"$f":"Parameters!BB388","v":1},{"$f":"Parameters!BC388","v":1},{"$f":"Parameters!BD388","v":1},{"$f":"Parameters!BE388","v":1},{"$f":"Parameters!BF388","v":1},{"$f":"Parameters!BG388","v":1},{"$f":"Parameters!BH388","v":1},{"$f":"Parameters!BI388","v":1},{"$f":"Parameters!BJ388","v":1},{"$f":"Parameters!BK388","v":1},{"$f":"Parameters!BL388","v":1},{"$f":"Parameters!BM388","v":1},{"$f":"Parameters!BN388","v":1}]
["S209",{"$f":"Parameters!K389","v":1},{"$f":"Parameters!L389","v":1},{"$f":"Parameters!M389","v":1},{"$f":"Parameters!N389","v":1},{"$f":"Parameters!O389","v":1},{"$f":"Parameters!P389","v":1},{"$f":"Parameters!Q389","v":1},{"$f":"Parameters!R389","v":1},{"$f":"Parameters!S389","v":1},{"$f":"Parameters!T389","v":1},{"$f":"Parameters!U389","v":1},{"$f":"Parameters!V389","v":1},{"$f":"Parameters!W389","v":1},{"$f":"Parameters!X389","v":1},{"$f":"Parameters!Y389","v":1},{"$f":"Parameters!Z389","v":1},{"$f":"Parameters!AA389","v":1},{"$f":"Parameters!AB389","v":1},{"$f":"Parameters!AC389","v":1},{"$f":"Parameters!AD389","v":1},{"$f":"Parameters!AE389","v":1},{"$f":"Parameters!AF389","v":1},{"$f":"Parameters!AG389","v":1},{"$f":"Parameters!AH389","v":1},{"$f":"Parameters!AI389","v":1},{"$f":"Parameters!AJ389","v":1},{"$f":"Parameters!AK389","v":1},{"$f":"Parameters!AL389","v":1},{"$f":"Parameters!AM389","v":1},{"$f":"Parameters!AN389","v":1},{"$f":"Parameters!AO389","v":1},{"$f":"Parameters!AP389","v":1},{"$f":"Parameters!AQ389","v":1},{"$f":"Parameters!AR389","v":1},{"$f":"Parameters!AS389","v":1},{"$f":"Parameters!AT389","v":1},{"$f":"Parameters!AU389","v":1},{"$f":"Parameters!AV389","v":1},{"$f":"Parameters!AW389","v":1},{"$f":"Parameters!AX389","v":1},{"$f":"Parameters!AY389","v":1},{"$f":"Parameters!AZ389","v":1},{"$f":"Parameters!BA389","v":1},{"$f":"Parameters!BB389","v":1},{"$f":"Parameters!BC389","v":1},{"$f":"Parameters!BD389","v":1},{"$f":"Parameters!BE389","v":1},{"$f":"Parameters!BF389","v":1},{"$f":"Parameters!BG389","v":1},{"$f":"Parameters!BH389","v":1},{"$f":"Parameters!BI389","v":1},{"$f":"Parameters!BJ389","v":1},{"$f":"Parameters!BK389","v":1},{"$f":"Parameters!BL389","v":1},{"$f":"Parameters!BM389","v":1},{"$f":"Parameters!BN389","v":1}]
["S210",{"$f":"Parameters!K390","v":1},{"$f":"Parameters!L390","v":1},{"$f":"Parameters!M390","v":1},{"$f":"Parameters!N390","v":1},{"$f":"Parameters!O390","v":1},{"$f":"Parameters!P390","v":1},{"$f":"Parameters!Q390","v":1},{"$f":"Parameters!R390","v":1},{"$f":"Parameters!S390","v":1},{"$f":"Parameters!T390","v":1},{"$f":"Parameters!U390","v":1},{"$f":"Parameters!V390","v":1},{"$f":"Parameters!W390","v":1},{"$f":"Parameters!X390","v":1},{"$f":"Parameters!Y390","v":1},{"$f":"Parameters!Z390","v":1},{"$f":"Parameters!AA390","v":1},{"$f":"Parameters!AB390","v":1},{"$f":"Parameters!AC390","v":1},{"$f":"Parameters!AD390","v":1},{"$f":"Parameters!AE390","v":1},{"$f":"Parameters!AF390","v":1},{"$f":"Parameters!AG390","v":1},{"$f":"Parameters!AH390","v":1},{"$f":"Parameters!AI390","v":1},{"$f":"Parameters!AJ390","v":1},{"$f":"Parameters!AK390","v":1},{"$f":"Parameters!AL390","v":1},{"$f":"Parameters!AM390","v":1},{"$f":"Parameters!AN390","v":1},{"$f":"Parameters!AO390","v":1},{"$f":"Parameters!AP390","v":1},{"$f":"Parameters!AQ390","v":1},{"$f":"Parameters!AR390","v":1},{"$f":"Parameters!AS390","v":1},{"$f":"Parameters!AT390","v":1},{"$f":"Parameters!AU390","v":1},{"$f":"Parameters!AV390","v":1},{"$f":"Parameters!AW390","v":1},{"$f":"Parameters!AX390","v":1},{"$f":"Parameters!AY390","v":1},{"$f":"Parameters!AZ390","v":1},{"$f":"Parameters!BA390","v":1},{"$f":"Parameters!BB390","v":1},{"$f":"Parameters!BC390","v":1},{"$f":"Parameters!BD390","v":1},{"$f":"Parameters!BE390","v":1},{"$f":"Parameters!BF390","v":1},{"$f":"Parameters!BG390","v":1},{"$f":"Parameters!BH390","v":1},{"$f":"Parameters!BI390","v":1},{"$f":"Parameters!BJ390","v":1},{"$f":"Parameters!BK390","v":1},{"$f":"Parameters!BL390","v":1},{"$f":"Parameters!BM390","v":1},{"$f":"Parameters!BN390","v":1}]
["S211",{"$f":"Parameters!K391","v":1},{"$f":"Parameters!L391","v":1},{"$f":"Parameters!M391","v":1},{"$f":"Parameters!N391","v":1},{"$f":"Parameters!O391","v":1},{"$f":"Parameters!P391","v":1},{"$f":"Parameters!Q391","v":1},{"$f":"Parameters!R391","v":1},{"$f":"Parameters!S391","v":1},{"$f":"Parameters!T391","v":1},{"$f":"Parameters!U391","v":1},{"$f":"Parameters!V391","v":1},{"$f":"Parameters!W391","v":1},{"$f":"Parameters!X391","v":1},{"$f":"Parameters!Y391","v":1},{"$f":"Parameters!Z391","v":1},{"$f":"Parameters!AA391","v":1},{"$f":"Parameters!AB391","v":1},{"$f":"Parameters!AC391","v":1},{"$f":"Parameters!AD391","v":1},{"$f":"Parameters!AE391","v":1},{"$f":"Parameters!AF391","v":1},{"$f":"Parameters!AG391","v":1},{"$f":"Parameters!AH391","v":1},{"$f":"Parameters!AI391","v":1},{"$f":"Parameters!AJ391","v":1},{"$f":"Parameters!AK391","v":1},{"$f":"Parameters!AL391","v":1},{"$f":"Parameters!AM391","v":1},{"$f":"Parameters!AN391","v":1},{"$f":"Parameters!AO391","v":1},{"$f":"Parameters!AP391","v":1},{"$f":"Parameters!AQ391","v":1},{"$f":"Parameters!AR391","v":1},{"$f":"Parameters!AS391","v":1},{"$f":"Parameters!AT391","v":1},{"$f":"Parameters!AU391","v":1},{"$f":"Parameters!AV391","v":1},{"$f":"Parameters!AW391","v":1},{"$f":"Parameters!AX391","v":1},{"$f":"Parameters!AY391","v":1},{"$f":"Parameters!AZ391","v":1},{"$f":"Parameters!BA391","v":1},{"$f":"Parameters!BB391","v":1},{"$f":"Parameters!BC391","v":1},{"$f":"Parameters!BD391","v":1},{"$f":"Parameters!BE391","v":1},{"$f":"Parameters!BF391","v":1},{"$f":"Parameters!BG391","v":1},{"$f":"Parameters!BH391","v":1},{"$f":"Parameters!BI391","v":1},{"$f":"Parameters!BJ391","v":1},{"$f":"Parameters!BK391","v":1},{"$f":"Parameters!BL391","v":1},{"$f":"Parameters!BM391","v":1},{"$f":"Parameters!BN391","v":1}]
["S212",{"$f":"Parameters!K392","v":1},{"$f":"Parameters!L392","v":1},{"$f":"Parameters!M392","v":1},{"$f":"Parameters!N392","v":1},{"$f":"Parameters!O392","v":1},{"$f":"Parameters!P392","v":1},{"$f":"Parameters!Q392","v":1},{"$f":"Parameters!R392","v":1},{"$f":"Parameters!S392","v":1},{"$f":"Parameters!T392","v":1},{"$f":"Parameters!U392","v":1},{"$f":"Parameters!V392","v":1},{"$f":"Parameters!W392","v":1},{"$f":"Parameters!X392","v":1},{"$f":"Parameters!Y392","v":1},{"$f":"Parameters!Z392","v":1},{"$f":"Parameters!AA392","v":1},{"$f":"Parameters!AB392","v":1},{"$f":"Parameters!AC392","v":1},{"$f":"Parameters!AD392","v":1},{"$f":"Parameters!AE392","v":1},{"$f":"Parameters!AF392","v":1},{"$f":"Parameters!AG392","v":1},{"$f":"Parameters!AH392","v":1},{"$f":"Parameters!AI392","v":1},{"$f":"Parameters!AJ392","v":1},{"$f":"Parameters!AK392","v":1},{"$f":"Parameters!AL392","v":1},{"$f":"Parameters!AM392","v":1},{"$f":"Parameters!AN392","v":1},{"$f":"Parameters!AO392","v":1},{"$f":"Parameters!AP392","v":1},{"$f":"Parameters!AQ392","v":1},{"$f":"Parameters!AR392","v":1},{"$f":"Parameters!AS392","v":1},{"$f":"Parameters!AT392","v":1},{"$f":"Parameters!AU392","v":1},{"$f":"Parameters!AV392","v":1},{"$f":"Parameters!AW392","v":1},{"$f":"Parameters!AX392","v":1},{"$f":"Parameters!AY392","v":1},{"$f":"Parameters!AZ392","v":1},{"$f":"Parameters!BA392","v":1},{"$f":"Parameters!BB392","v":1},{"$f":"Parameters!BC392","v":1},{"$f":"Parameters!BD392","v":1},{"$f":"Parameters!BE392","v":1},{"$f":"Parameters!BF392","v":1},{"$f":"Parameters!BG392","v":1},{"$f":"Parameters!BH392","v":1},{"$f":"Parameters!BI392","v":1},{"$f":"Parameters!BJ392","v":1},{"$f":"Parameters!BK392","v":1},{"$f":"Parameters!BL392","v":1},{"$f":"Parameters!BM392","v":1},{"$f":"Parameters!BN392","v":1}]
["S213",{"$f":"Parameters!K393","v":1},{"$f":"Parameters!L393","v":1},{"$f":"Parameters!M393","v":1},{"$f":"Parameters!N393","v":1},{"$f":"Parameters!O393","v":1},{"$f":"Parameters!P393","v":1},{"$f":"Parameters!Q393","v":1},{"$f":"Parameters!R393","v":1},{"$f":"Parameters!S393","v":1},{"$f":"Parameters!T393","v":1},{"$f":"Parameters!U393","v":1},{"$f":"Parameters!V393","v":1},{"$f":"Parameters!W393","v":1},{"$f":"Parameters!X393","v":1},{"$f":"Parameters!Y393","v":1},{"$f":"Parameters!Z393","v":1},{"$f":"Parameters!AA393","v":1},{"$f":"Parameters!AB393","v":1},{"$f":"Parameters!AC393","v":1},{"$f":"Parameters!AD393","v":1},{"$f":"Parameters!AE393","v":1},{"$f":"Parameters!AF393","v":1},{"$f":"Parameters!AG393","v":1},{"$f":"Parameters!AH393","v":1},{"$f":"Parameters!AI393","v":1},{"$f":"Parameters!AJ393","v":1},{"$f":"Parameters!AK393","v":1},{"$f":"Parameters!AL393","v":1},{"$f":"Parameters!AM393","v":1},{"$f":"Parameters!AN393","v":1},{"$f":"Parameters!AO393","v":1},{"$f":"Parameters!AP393","v":1},{"$f":"Parameters!AQ393","v":1},{"$f":"Parameters!AR393","v":1},{"$f":"Parameters!AS393","v":1},{"$f":"Parameters!AT393","v":1},{"$f":"Parameters!AU393","v":1},{"$f":"Parameters!AV393","v":1},{"$f":"Parameters!AW393","v":1},{"$f":"Parameters!AX393","v":1},{"$f":"Parameters!AY393","v":1},{"$f":"Parameters!AZ393","v":1},{"$f":"Parameters!BA393","v":1},{"$f":"Parameters!BB393","v":1},{"$f":"Parameters!BC393","v":1},{"$f":"Parameters!BD393","v":1},{"$f":"Parameters!BE393","v":1},{"$f":"Parameters!BF393","v":1},{"$f":"Parameters!BG393","v":1},{"$f":"Parameters!BH393","v":1},{"$f":"Parameters!BI393","v":1},{"$f":"Parameters!BJ393","v":1},{"$f":"Parameters!BK393","v":1},{"$f":"Parameters!BL393","v":1},{"$f":"Parameters!BM393","v":1},{"$f":"Parameters!BN393","v":1}]
["S214",{"$f":"Parameters!K394","v":1},{"$f":"Parameters!L394","v":1},{"$f":"Parameters!M394","v":1},{"$f":"Parameters!N394","v":1},{"$f":"Parameters!O394","v":1},{"$f":"Parameters!P394","v":1},{"$f":"Parameters!Q394","v":1},{"$f":"Parameters!R394","v":1},{"$f":"Parameters!S394","v":1},{"$f":"Parameters!T394","v":1},{"$f":"Parameters!U394","v":1},{"$f":"Parameters!V394","v":1},{"$f":"Parameters!W394","v":1},{"$f":"Parameters!X394","v":1},{"$f":"Parameters!Y394","v":1},{"$f":"Parameters!Z394","v":1},{"$f":"Parameters!AA394","v":1},{"$f":"Parameters!AB394","v":1},{"$f":"Parameters!AC394","v":1},{"$f":"Parameters!AD394","v":1},{"$f":"Parameters!AE394","v":1},{"$f":"Parameters!AF394","v":1},{"$f":"Parameters!AG394","v":1},{"$f":"Parameters!AH394","v":1},{"$f":"Parameters!AI394","v":1},{"$f":"Parameters!AJ394","v":1},{"$f":"Parameters!AK394","v":1},{"$f":"Parameters!AL394","v":1},{"$f":"Parameters!AM394","v":1},{"$f":"Parameters!AN394","v":1},{"$f":"Parameters!AO394","v":1},{"$f":"Parameters!AP394","v":1},{"$f":"Parameters!AQ394","v":1},{"$f":"Parameters!AR394","v":1},{"$f":"Parameters!AS394","v":1},{"$f":"Parameters!AT394","v":1},{"$f":"Parameters!AU394","v":1},{"$f":"Parameters!AV394","v":1},{"$f":"Parameters!AW394","v":1},{"$f":"Parameters!AX394","v":1},{"$f":"Parameters!AY394","v":1},{"$f":"Parameters!AZ394","v":1},{"$f":"Parameters!BA394","v":1},{"$f":"Parameters!BB394","v":1},{"$f":"Parameters!BC394","v":1},{"$f":"Parameters!BD394","v":1},{"$f":"Parameters!BE394","v":1},{"$f":"Parameters!BF394","v":1},{"$f":"Parameters!BG394","v":1},{"$f":"Parameters!BH394","v":1},{"$f":"Parameters!BI394","v":1},{"$f":"Parameters!BJ394","v":1},{"$f":"Parameters!BK394","v":1},{"$f":"Parameters!BL394","v":1},{"$f":"Parameters!BM394","v":1},{"$f":"Parameters!BN394","v":1}]
["S215",{"$f":"Parameters!K395","v":1},{"$f":"Parameters!L395","v":1},{"$f":"Parameters!M395","v":1},{"$f":"Parameters!N395","v":1},{"$f":"Parameters!O395","v":1},{"$f":"Parameters!P395","v":1},{"$f":"Parameters!Q395","v":1},{"$f":"Parameters!R395","v":1},{"$f":"Parameters!S395","v":1},{"$f":"Parameters!T395","v":1},{"$f":"Parameters!U395","v":1},{"$f":"Parameters!V395","v":1},{"$f":"Parameters!W395","v":1},{"$f":"Parameters!X395","v":1},{"$f":"Parameters!Y395","v":1},{"$f":"Parameters!Z395","v":1},{"$f":"Parameters!AA395","v":1},{"$f":"Parameters!AB395","v":1},{"$f":"Parameters!AC395","v":1},{"$f":"Parameters!AD395","v":1},{"$f":"Parameters!AE395","v":1},{"$f":"Parameters!AF395","v":1},{"$f":"Parameters!AG395","v":1},{"$f":"Parameters!AH395","v":1},{"$f":"Parameters!AI395","v":1},{"$f":"Parameters!AJ395","v":1},{"$f":"Parameters!AK395","v":1},{"$f":"Parameters!AL395","v":1},{"$f":"Parameters!AM395","v":1},{"$f":"Parameters!AN395","v":1},{"$f":"Parameters!AO395","v":1},{"$f":"Parameters!AP395","v":1},{"$f":"Parameters!AQ395","v":1},{"$f":"Parameters!AR395","v":1},{"$f":"Parameters!AS395","v":1},{"$f":"Parameters!AT395","v":1},{"$f":"Parameters!AU395","v":1},{"$f":"Parameters!AV395","v":1},{"$f":"Parameters!AW395","v":1},{"$f":"Parameters!AX395","v":1},{"$f":"Parameters!AY395","v":1},{"$f":"Parameters!AZ395","v":1},{"$f":"Parameters!BA395","v":1},{"$f":"Parameters!BB395","v":1},{"$f":"Parameters!BC395","v":1},{"$f":"Parameters!BD395","v":1},{"$f":"Parameters!BE395","v":1},{"$f":"Parameters!BF395","v":1},{"$f":"Parameters!BG395","v":1},{"$f":"Parameters!BH395","v":1},{"$f":"Parameters!BI395","v":1},{"$f":"Parameters!BJ395","v":1},{"$f":"Parameters!BK395","v":1},{"$f":"Parameters!BL395","v":1},{"$f":"Parameters!BM395","v":1},{"$f":"Parameters!BN395","v":1}]
["S216",{"$f":"Parameters!K396","v":1},{"$f":"Parameters!L396","v":1},{"$f":"Parameters!M396","v":1},{"$f":"Parameters!N396","v":1},{"$f":"Parameters!O396","v":1},{"$f":"Parameters!P396","v":1},{"$f":"Parameters!Q396","v":1},{"$f":"Parameters!R396","v":1},{"$f":"Parameters!S396","v":1},{"$f":"Parameters!T396","v":1},{"$f":"Parameters!U396","v":1},{"$f":"Parameters!V396","v":1},{"$f":"Parameters!W396","v":1},{"$f":"Parameters!X396","v":1},{"$f":"Parameters!Y396","v":1},{"$f":"Parameters!Z396","v":1},{"$f":"Parameters!AA396","v":1},{"$f":"Parameters!AB396","v":1},{"$f":"Parameters!AC396","v":1},{"$f":"Parameters!AD396","v":1},{"$f":"Parameters!AE396","v":1},{"$f":"Parameters!AF396","v":1},{"$f":"Parameters!AG396","v":1},{"$f":"Parameters!AH396","v":1},{"$f":"Parameters!AI396","v":1},{"$f":"Parameters!AJ396","v":1},{"$f":"Parameters!AK396","v":1},{"$f":"Parameters!AL396","v":1},{"$f":"Parameters!AM396","v":1},{"$f":"Parameters!AN396","v":1},{"$f":"Parameters!AO396","v":1},{"$f":"Parameters!AP396","v":1},{"$f":"Parameters!AQ396","v":1},{"$f":"Parameters!AR396","v":1},{"$f":"Parameters!AS396","v":1},{"$f":"Parameters!AT396","v":1},{"$f":"Parameters!AU396","v":1},{"$f":"Parameters!AV396","v":1},{"$f":"Parameters!AW396","v":1},{"$f":"Parameters!AX396","v":1},{"$f":"Parameters!AY396","v":1},{"$f":"Parameters!AZ396","v":1},{"$f":"Parameters!BA396","v":1},{"$f":"Parameters!BB396","v":1},{"$f":"Parameters!BC396","v":1},{"$f":"Parameters!BD396","v":1},{"$f":"Parameters!BE396","v":1},{"$f":"Parameters!BF396","v":1},{"$f":"Parameters!BG396","v":1},{"$f":"Parameters!BH396","v":1},{"$f":"Parameters!BI396","v":1},{"$f":"Parameters!BJ396","v":1},{"$f":"Parameters!BK396","v":1},{"$f":"Parameters!BL396","v":1},{"$f":"Parameters!BM396","v":1},{"$f":"Parameters!BN396","v":1}]
["S217",{"$f":"Parameters!K397","v":1},{"$f":"Parameters!L397","v":1},{"$f":"Parameters!M397","v":1},{"$f":"Parameters!N397","v":1},{"$f":"Parameters!O397","v":1},{"$f":"Parameters!P397","v":1},{"$f":"Parameters!Q397","v":1},{"$f":"Parameters!R397","v":1},{"$f":"Parameters!S397","v":1},{"$f":"Parameters!T397","v":1},{"$f":"Parameters!U397","v":1},{"$f":"Parameters!V397","v":1},{"$f":"Parameters!W397","v":1},{"$f":"Parameters!X397","v":1},{"$f":"Parameters!Y397","v":1},{"$f":"Parameters!Z397","v":1},{"$f":"Parameters!AA397","v":1},{"$f":"Parameters!AB397","v":1},{"$f":"Parameters!AC397","v":1},{"$f":"Parameters!AD397","v":1},{"$f":"Parameters!AE397","v":1},{"$f":"Parameters!AF397","v":1},{"$f":"Parameters!AG397","v":1},{"$f":"Parameters!AH397","v":1},{"$f":"Parameters!AI397","v":1},{"$f":"Parameters!AJ397","v":1},{"$f":"Parameters!AK397","v":1},{"$f":"Parameters!AL397","v":1},{"$f":"Parameters!AM397","v":1},{"$f":"Parameters!AN397","v":1},{"$f":"Parameters!AO397","v":1},{"$f":"Parameters!AP397","v":1},{"$f":"Parameters!AQ397","v":1},{"$f":"Parameters!AR397","v":1},{"$f":"Parameters!AS397","v":1},{"$f":"Parameters!AT397","v":1},{"$f":"Parameters!AU397","v":1},{"$f":"Parameters!AV397","v":1},{"$f":"Parameters!AW397","v":1},{"$f":"Parameters!AX397","v":1},{"$f":"Parameters!AY397","v":1},{"$f":"Parameters!AZ397","v":1},{"$f":"Parameters!BA397","v":1},{"$f":"Parameters!BB397","v":1},{"$f":"Parameters!BC397","v":1},{"$f":"Parameters!BD397","v":1},{"$f":"Parameters!BE397","v":1},{"$f":"Parameters!BF397","v":1},{"$f":"Parameters!BG397","v":1},{"$f":"Parameters!BH397","v":1},{"$f":"Parameters!BI397","v":1},{"$f":"Parameters!BJ397","v":1},{"$f":"Parameters!BK397","v":1},{"$f":"Parameters!BL397","v":1},{"$f":"Parameters!BM397","v":1},{"$f":"Parameters!BN397","v":1}]
["S218",{"$f":"Parameters!K398","v":1},{"$f":"Parameters!L398","v":1},{"$f":"Parameters!M398","v":1},{"$f":"Parameters!N398","v":1},{"$f":"Parameters!O398","v":1},{"$f":"Parameters!P398","v":1},{"$f":"Parameters!Q398","v":1},{"$f":"Parameters!R398","v":1},{"$f":"Parameters!S398","v":1},{"$f":"Parameters!T398","v":1},{"$f":"Parameters!U398","v":1},{"$f":"Parameters!V398","v":1},{"$f":"Parameters!W398","v":1},{"$f":"Parameters!X398","v":1},{"$f":"Parameters!Y398","v":1},{"$f":"Parameters!Z398","v":1},{"$f":"Parameters!AA398","v":1},{"$f":"Parameters!AB398","v":1},{"$f":"Parameters!AC398","v":1},{"$f":"Parameters!AD398","v":1},{"$f":"Parameters!AE398","v":1},{"$f":"Parameters!AF398","v":1},{"$f":"Parameters!AG398","v":1},{"$f":"Parameters!AH398","v":1},{"$f":"Parameters!AI398","v":1},{"$f":"Parameters!AJ398","v":1},{"$f":"Parameters!AK398","v":1},{"$f":"Parameters!AL398","v":1},{"$f":"Parameters!AM398","v":1},{"$f":"Parameters!AN398","v":1},{"$f":"Parameters!AO398","v":1},{"$f":"Parameters!AP398","v":1},{"$f":"Parameters!AQ398","v":1},{"$f":"Parameters!AR398","v":1},{"$f":"Parameters!AS398","v":1},{"$f":"Parameters!AT398","v":1},{"$f":"Parameters!AU398","v":1},{"$f":"Parameters!AV398","v":1},{"$f":"Parameters!AW398","v":1},{"$f":"Parameters!AX398","v":1},{"$f":"Parameters!AY398","v":1},{"$f":"Parameters!AZ398","v":1},{"$f":"Parameters!BA398","v":1},{"$f":"Parameters!BB398","v":1},{"$f":"Parameters!BC398","v":1},{"$f":"Parameters!BD398","v":1},{"$f":"Parameters!BE398","v":1},{"$f":"Parameters!BF398","v":1},{"$f":"Parameters!BG398","v":1},{"$f":"Parameters!BH398","v":1},{"$f":"Parameters!BI398","v":1},{"$f":"Parameters!BJ398","v":1},{"$f":"Parameters!BK398","v":1},{"$f":"Parameters!BL398","v":1},{"$f":"Parameters!BM398","v":1},{"$f":"Parameters!BN398","v":1}]
["S219",{"$f":"Parameters!K399","v":1},{"$f":"Parameters!L399","v":1},{"$f":"Parameters!M399","v":1},{"$f":"Parameters!N399","v":1},{"$f":"Parameters!O399","v":1},{"$f":"Parameters!P399","v":1},{"$f":"Parameters!Q399","v":1},{"$f":"Parameters!R399","v":1},{"$f":"Parameters!S399","v":1},{"$f":"Parameters!T399","v":1},{"$f":"Parameters!U399","v":1},{"$f":"Parameters!V399","v":1},{"$f":"Parameters!W399","v":1},{"$f":"Parameters!X399","v":1},{"$f":"Parameters!Y399","v":1},{"$f":"Parameters!Z399","v":1},{"$f":"Parameters!AA399","v":1},{"$f":"Parameters!AB399","v":1},{"$f":"Parameters!AC399","v":1},{"$f":"Parameters!AD399","v":1},{"$f":"Parameters!AE399","v":1},{"$f":"Parameters!AF399","v":1},{"$f":"Parameters!AG399","v":1},{"$f":"Parameters!AH399","v":1},{"$f":"Parameters!AI399","v":1},{"$f":"Parameters!AJ399","v":1},{"$f":"Parameters!AK399","v":1},{"$f":"Parameters!AL399","v":1},{"$f":"Parameters!AM399","v":1},{"$f":"Parameters!AN399","v":1},{"$f":"Parameters!AO399","v":1},{"$f":"Parameters!AP399","v":1},{"$f":"Parameters!AQ399","v":1},{"$f":"Parameters!AR399","v":1},{"$f":"Parameters!AS399","v":1},{"$f":"Parameters!AT399","v":1},{"$f":"Parameters!AU399","v":1},{"$f":"Parameters!AV399","v":1},{"$f":"Parameters!AW399","v":1},{"$f":"Parameters!AX399","v":1},{"$f":"Parameters!AY399","v":1},{"$f":"Parameters!AZ399","v":1},{"$f":"Parameters!BA399","v":1},{"$f":"Parameters!BB399","v":1},{"$f":"Parameters!BC399","v":1},{"$f":"Parameters!BD399","v":1},{"$f":"Parameters!BE399","v":1},{"$f":"Parameters!BF399","v":1},{"$f":"Parameters!BG399","v":1},{"$f":"Parameters!BH399","v":1},{"$f":"Parameters!BI399","v":1},{"$f":"Parameters!BJ399","v":1},{"$f":"Parameters!BK399","v":1},{"$f":"Parameters!BL399","v":1},{"$f":"Parameters!BM399","v":1},{"$f":"Parameters!BN399","v":1}]
["S220",{"$f":"Parameters!K400","v":1},{"$f":"Parameters!L400","v":1},{"$f":"Parameters!M400","v":1},{"$f":"Parameters!N400","v":1},{"$f":"Parameters!O400","v":1},{"$f":"Parameters!P400","v":1},{"$f":"Parameters!Q400","v":1},{"$f":"Parameters!R400","v":1},{"$f":"Parameters!S400","v":1},{"$f":"Parameters!T400","v":1},{"$f":"Parameters!U400","v":1},{"$f":"Parameters!V400","v":1},{"$f":"Parameters!W400","v":1},{"$f":"Parameters!X400","v":1},{"$f":"Parameters!Y400","v":1},{"$f":"Parameters!Z400","v":1},{"$f":"Parameters!AA400","v":1},{"$f":"Parameters!AB400","v":1},{"$f":"Parameters!AC400","v":1},{"$f":"Parameters!AD400","v":1},{"$f":"Parameters!AE400","v":1},{"$f":"Parameters!AF400","v":1},{"$f":"Parameters!AG400","v":1},{"$f":"Parameters!AH400","v":1},{"$f":"Parameters!AI400","v":1},{"$f":"Parameters!AJ400","v":1},{"$f":"Parameters!AK400","v":1},{"$f":"Parameters!AL400","v":1},{"$f":"Parameters!AM400","v":1},{"$f":"Parameters!AN400","v":1},{"$f":"Parameters!AO400","v":1},{"$f":"Parameters!AP400","v":1},{"$f":"Parameters!AQ400","v":1},{"$f":"Parameters!AR400","v":1},{"$f":"Parameters!AS400","v":1},{"$f":"Parameters!AT400","v":1},{"$f":"Parameters!AU400","v":1},{"$f":"Parameters!AV400","v":1},{"$f":"Parameters!AW400","v":1},{"$f":"Parameters!AX400","v":1},{"$f":"Parameters!AY400","v":1},{"$f":"Parameters!AZ400","v":1},{"$f":"Parameters!BA400","v":1},{"$f":"Parameters!BB400","v":1},{"$f":"Parameters!BC400","v":1},{"$f":"Parameters!BD400","v":1},{"$f":"Parameters!BE400","v":1},{"$f":"Parameters!BF400","v":1},{"$f":"Parameters!BG400","v":1},{"$f":"Parameters!BH400","v":1},{"$f":"Parameters!BI400","v":1},{"$f":"Parameters!BJ400","v":1},{"$f":"Parameters!BK400","v":1},{"$f":"Parameters!BL400","v":1},{"$f":"Parameters!BM400","v":1},{"$f":"Parameters!BN400","v":1}]
["S221",{"$f":"Parameters!K401","v":1},{"$f":"Parameters!L401","v":1},{"$f":"Parameters!M401","v":1},{"$f":"Parameters!N401","v":1},{"$f":"Parameters!O401","v":1},{"$f":"Parameters!P401","v":1},{"$f":"Parameters!Q401","v":1},{"$f":"Parameters!R401","v":1},{"$f":"Parameters!S401","v":1},{"$f":"Parameters!T401","v":1},{"$f":"Parameters!U401","v":1},{"$f":"Parameters!V401","v":1},{"$f":"Parameters!W401","v":1},{"$f":"Parameters!X401","v":1},{"$f":"Parameters!Y401","v":1},{"$f":"Parameters!Z401","v":1},{"$f":"Parameters!AA401","v":1},{"$f":"Parameters!AB401","v":1},{"$f":"Parameters!AC401","v":1},{"$f":"Parameters!AD401","v":1},{"$f":"Parameters!AE401","v":1},{"$f":"Parameters!AF401","v":1},{"$f":"Parameters!AG401","v":1},{"$f":"Parameters!AH401","v":1},{"$f":"Parameters!AI401","v":1},{"$f":"Parameters!AJ401","v":1},{"$f":"Parameters!AK401","v":1},{"$f":"Parameters!AL401","v":1},{"$f":"Parameters!AM401","v":1},{"$f":"Parameters!AN401","v":1},{"$f":"Parameters!AO401","v":1},{"$f":"Parameters!AP401","v":1},{"$f":"Parameters!AQ401","v":1},{"$f":"Parameters!AR401","v":1},{"$f":"Parameters!AS401","v":1},{"$f":"Parameters!AT401","v":1},{"$f":"Parameters!AU401","v":1},{"$f":"Parameters!AV401","v":1},{"$f":"Parameters!AW401","v":1},{"$f":"Parameters!AX401","v":1},{"$f":"Parameters!AY401","v":1},{"$f":"Parameters!AZ401","v":1},{"$f":"Parameters!BA401","v":1},{"$f":"Parameters!BB401","v":1},{"$f":"Parameters!BC401","v":1},{"$f":"Parameters!BD401","v":1},{"$f":"Parameters!BE401","v":1},{"$f":"Parameters!BF401","v":1},{"$f":"Parameters!BG401","v":1},{"$f":"Parameters!BH401","v":1},{"$f":"Parameters!BI401","v":1},{"$f":"Parameters!BJ401","v":1},{"$f":"Parameters!BK401","v":1},{"$f":"Parameters!BL401","v":1},{"$f":"Parameters!BM401","v":1},{"$f":"Parameters!BN401","v":1}]
["S222",{"$f":"Parameters!K402","v":1},{"$f":"Parameters!L402","v":1},{"$f":"Parameters!M402","v":1},{"$f":"Parameters!N402","v":1},{"$f":"Parameters!O402","v":1},{"$f":"Parameters!P402","v":1},{"$f":"Parameters!Q402","v":1},{"$f":"Parameters!R402","v":1},{"$f":"Parameters!S402","v":1},{"$f":"Parameters!T402","v":1},{"$f":"Parameters!U402","v":1},{"$f":"Parameters!V402","v":1},{"$f":"Parameters!W402","v":1},{"$f":"Parameters!X402","v":1},{"$f":"Parameters!Y402","v":1},{"$f":"Parameters!Z402","v":1},{"$f":"Parameters!AA402","v":1},{"$f":"Parameters!AB402","v":1},{"$f":"Parameters!AC402","v":1},{"$f":"Parameters!AD402","v":1},{"$f":"Parameters!AE402","v":1},{"$f":"Parameters!AF402","v":1},{"$f":"Parameters!AG402","v":1},{"$f":"Parameters!AH402","v":1},{"$f":"Parameters!AI402","v":1},{"$f":"Parameters!AJ402","v":1},{"$f":"Parameters!AK402","v":1},{"$f":"Parameters!AL402","v":1},{"$f":"Parameters!AM402","v":1},{"$f":"Parameters!AN402","v":1},{"$f":"Parameters!AO402","v":1},{"$f":"Parameters!AP402","v":1},{"$f":"Parameters!AQ402","v":1},{"$f":"Parameters!AR402","v":1},{"$f":"Parameters!AS402","v":1},{"$f":"Parameters!AT402","v":1},{"$f":"Parameters!AU402","v":1},{"$f":"Parameters!AV402","v":1},{"$f":"Parameters!AW402","v":1},{"$f":"Parameters!AX402","v":1},{"$f":"Parameters!AY402","v":1},{"$f":"Parameters!AZ402","v":1},{"$f":"Parameters!BA402","v":1},{"$f":"Parameters!BB402","v":1},{"$f":"Parameters!BC402","v":1},{"$f":"Parameters!BD402","v":1},{"$f":"Parameters!BE402","v":1},{"$f":"Parameters!BF402","v":1},{"$f":"Parameters!BG402","v":1},{"$f":"Parameters!BH402","v":1},{"$f":"Parameters!BI402","v":1},{"$f":"Parameters!BJ402","v":1},{"$f":"Parameters!BK402","v":1},{"$f":"Parameters!BL402","v":1},{"$f":"Parameters!BM402","v":1},{"$f":"Parameters!BN402","v":1}]
["S223",{"$f":"Parameters!K403","v":1},{"$f":"Parameters!L403","v":1},{"$f":"Parameters!M403","v":1},{"$f":"Parameters!N403","v":1},{"$f":"Parameters!O403","v":1},{"$f":"Parameters!P403","v":1},{"$f":"Parameters!Q403","v":1},{"$f":"Parameters!R403","v":1},{"$f":"Parameters!S403","v":1},{"$f":"Parameters!T403","v":1},{"$f":"Parameters!U403","v":1},{"$f":"Parameters!V403","v":1},{"$f":"Parameters!W403","v":1},{"$f":"Parameters!X403","v":1},{"$f":"Parameters!Y403","v":1},{"$f":"Parameters!Z403","v":1},{"$f":"Parameters!AA403","v":1},{"$f":"Parameters!AB403","v":1},{"$f":"Parameters!AC403","v":1},{"$f":"Parameters!AD403","v":1},{"$f":"Parameters!AE403","v":1},{"$f":"Parameters!AF403","v":1},{"$f":"Parameters!AG403","v":1},{"$f":"Parameters!AH403","v":1},{"$f":"Parameters!AI403","v":1},{"$f":"Parameters!AJ403","v":1},{"$f":"Parameters!AK403","v":1},{"$f":"Parameters!AL403","v":1},{"$f":"Parameters!AM403","v":1},{"$f":"Parameters!AN403","v":1},{"$f":"Parameters!AO403","v":1},{"$f":"Parameters!AP403","v":1},{"$f":"Parameters!AQ403","v":1},{"$f":"Parameters!AR403","v":1},{"$f":"Parameters!AS403","v":1},{"$f":"Parameters!AT403","v":1},{"$f":"Parameters!AU403","v":1},{"$f":"Parameters!AV403","v":1},{"$f":"Parameters!AW403","v":1},{"$f":"Parameters!AX403","v":1},{"$f":"Parameters!AY403","v":1},{"$f":"Parameters!AZ403","v":1},{"$f":"Parameters!BA403","v":1},{"$f":"Parameters!BB403","v":1},{"$f":"Parameters!BC403","v":1},{"$f":"Parameters!BD403","v":1},{"$f":"Parameters!BE403","v":1},{"$f":"Parameters!BF403","v":1},{"$f":"Parameters!BG403","v":1},{"$f":"Parameters!BH403","v":1},{"$f":"Parameters!BI403","v":1},{"$f":"Parameters!BJ403","v":1},{"$f":"Parameters!BK403","v":1},{"$f":"Parameters!BL403","v":1},{"$f":"Parameters!BM403","v":1},{"$f":"Parameters!BN403","v":1}]
["S224",{"$f":"Parameters!K404","v":1},{"$f":"Parameters!L404","v":1},{"$f":"Parameters!M404","v":1},{"$f":"Parameters!N404","v":1},{"$f":"Parameters!O404","v":1},{"$f":"Parameters!P404","v":1},{"$f":"Parameters!Q404","v":1},{"$f":"Parameters!R404","v":1},{"$f":"Parameters!S404","v":1},{"$f":"Parameters!T404","v":1},{"$f":"Parameters!U404","v":1},{"$f":"Parameters!V404","v":1},{"$f":"Parameters!W404","v":1},{"$f":"Parameters!X404","v":1},{"$f":"Parameters!Y404","v":1},{"$f":"Parameters!Z404","v":1},{"$f":"Parameters!AA404","v":1},{"$f":"Parameters!AB404","v":1},{"$f":"Parameters!AC404","v":1},{"$f":"Parameters!AD404","v":1},{"$f":"Parameters!AE404","v":1},{"$f":"Parameters!AF404","v":1},{"$f":"Parameters!AG404","v":1},{"$f":"Parameters!AH404","v":1},{"$f":"Parameters!AI404","v":1},{"$f":"Parameters!AJ404","v":1},{"$f":"Parameters!AK404","v":1},{"$f":"Parameters!AL404","v":1},{"$f":"Parameters!AM404","v":1},{"$f":"Parameters!AN404","v":1},{"$f":"Parameters!AO404","v":1},{"$f":"Parameters!AP404","v":1},{"$f":"Parameters!AQ404","v":1},{"$f":"Parameters!AR404","v":1},{"$f":"Parameters!AS404","v":1},{"$f":"Parameters!AT404","v":1},{"$f":"Parameters!AU404","v":1},{"$f":"Parameters!AV404","v":1},{"$f":"Parameters!AW404","v":1},{"$f":"Parameters!AX404","v":1},{"$f":"Parameters!AY404","v":1},{"$f":"Parameters!AZ404","v":1},{"$f":"Parameters!BA404","v":1},{"$f":"Parameters!BB404","v":1},{"$f":"Parameters!BC404","v":1},{"$f":"Parameters!BD404","v":1},{"$f":"Parameters!BE404","v":1},{"$f":"Parameters!BF404","v":1},{"$f":"Parameters!BG404","v":1},{"$f":"Parameters!BH404","v":1},{"$f":"Parameters!BI404","v":1},{"$f":"Parameters!BJ404","v":1},{"$f":"Parameters!BK404","v":1},{"$f":"Parameters!BL404","v":1},{"$f":"Parameters!BM404","v":1},{"$f":"Parameters!BN404","v":1}]
["S301",{"$f":"Parameters!K405","v":1},{"$f":"Parameters!L405","v":1},{"$f":"Parameters!M405","v":1},{"$f":"Parameters!N405","v":1},{"$f":"Parameters!O405","v":1},{"$f":"Parameters!P405","v":1},{"$f":"Parameters!Q405","v":1},{"$f":"Parameters!R405","v":1},{"$f":"Parameters!S405","v":1},{"$f":"Parameters!T405","v":1},{"$f":"Parameters!U405","v":1},{"$f":"Parameters!V405","v":1},{"$f":"Parameters!W405","v":1},{"$f":"Parameters!X405","v":1},{"$f":"Parameters!Y405","v":1},{"$f":"Parameters!Z405","v":1},{"$f":"Parameters!AA405","v":1},{"$f":"Parameters!AB405","v":1},{"$f":"Parameters!AC405","v":1},{"$f":"Parameters!AD405","v":1},{"$f":"Parameters!AE405","v":1},{"$f":"Parameters!AF405","v":1},{"$f":"Parameters!AG405","v":1},{"$f":"Parameters!AH405","v":1},{"$f":"Parameters!AI405","v":1},{"$f":"Parameters!AJ405","v":1},{"$f":"Parameters!AK405","v":1},{"$f":"Parameters!AL405","v":1},{"$f":"Parameters!AM405","v":1},{"$f":"Parameters!AN405","v":1},{"$f":"Parameters!AO405","v":1},{"$f":"Parameters!AP405","v":1},{"$f":"Parameters!AQ405","v":1},{"$f":"Parameters!AR405","v":1},{"$f":"Parameters!AS405","v":1},{"$f":"Parameters!AT405","v":1},{"$f":"Parameters!AU405","v":1},{"$f":"Parameters!AV405","v":1},{"$f":"Parameters!AW405","v":1},{"$f":"Parameters!AX405","v":1},{"$f":"Parameters!AY405","v":1},{"$f":"Parameters!AZ405","v":1},{"$f":"Parameters!BA405","v":1},{"$f":"Parameters!BB405","v":1},{"$f":"Parameters!BC405","v":1},{"$f":"Parameters!BD405","v":1},{"$f":"Parameters!BE405","v":1},{"$f":"Parameters!BF405","v":1},{"$f":"Parameters!BG405","v":1},{"$f":"Parameters!BH405","v":1},{"$f":"Parameters!BI405","v":1},{"$f":"Parameters!BJ405","v":1},{"$f":"Parameters!BK405","v":1},{"$f":"Parameters!BL405","v":1},{"$f":"Parameters!BM405","v":1},{"$f":"Parameters!BN405","v":1}]
["S302",{"$f":"Parameters!K406","v":1},{"$f":"Parameters!L406","v":1},{"$f":"Parameters!M406","v":1},{"$f":"Parameters!N406","v":1},{"$f":"Parameters!O406","v":1},{"$f":"Parameters!P406","v":1},{"$f":"Parameters!Q406","v":1},{"$f":"Parameters!R406","v":1},{"$f":"Parameters!S406","v":1},{"$f":"Parameters!T406","v":1},{"$f":"Parameters!U406","v":1},{"$f":"Parameters!V406","v":1},{"$f":"Parameters!W406","v":1},{"$f":"Parameters!X406","v":1},{"$f":"Parameters!Y406","v":1},{"$f":"Parameters!Z406","v":1},{"$f":"Parameters!AA406","v":1},{"$f":"Parameters!AB406","v":1},{"$f":"Parameters!AC406","v":1},{"$f":"Parameters!AD406","v":1},{"$f":"Parameters!AE406","v":1},{"$f":"Parameters!AF406","v":1},{"$f":"Parameters!AG406","v":1},{"$f":"Parameters!AH406","v":1},{"$f":"Parameters!AI406","v":1},{"$f":"Parameters!AJ406","v":1},{"$f":"Parameters!AK406","v":1},{"$f":"Parameters!AL406","v":1},{"$f":"Parameters!AM406","v":1},{"$f":"Parameters!AN406","v":1},{"$f":"Parameters!AO406","v":1},{"$f":"Parameters!AP406","v":1},{"$f":"Parameters!AQ406","v":1},{"$f":"Parameters!AR406","v":1},{"$f":"Parameters!AS406","v":1},{"$f":"Parameters!AT406","v":1},{"$f":"Parameters!AU406","v":1},{"$f":"Parameters!AV406","v":1},{"$f":"Parameters!AW406","v":1},{"$f":"Parameters!AX406","v":1},{"$f":"Parameters!AY406","v":1},{"$f":"Parameters!AZ406","v":1},{"$f":"Parameters!BA406","v":1},{"$f":"Parameters!BB406","v":1},{"$f":"Parameters!BC406","v":1},{"$f":"Parameters!BD406","v":1},{"$f":"Parameters!BE406","v":1},{"$f":"Parameters!BF406","v":1},{"$f":"Parameters!BG406","v":1},{"$f":"Parameters!BH406","v":1},{"$f":"Parameters!BI406","v":1},{"$f":"Parameters!BJ406","v":1},{"$f":"Parameters!BK406","v":1},{"$f":"Parameters!BL406","v":1},{"$f":"Parameters!BM406","v":1},{"$f":"Parameters!BN406","v":1}]
["S303",{"$f":"Parameters!K407","v":1},{"$f":"Parameters!L407","v":1},{"$f":"Parameters!M407","v":1},{"$f":"Parameters!N407","v":1},{"$f":"Parameters!O407","v":1},{"$f":"Parameters!P407","v":1},{"$f":"Parameters!Q407","v":1},{"$f":"Parameters!R407","v":1},{"$f":"Parameters!S407","v":1},{"$f":"Parameters!T407","v":1},{"$f":"Parameters!U407","v":1},{"$f":"Parameters!V407","v":1},{"$f":"Parameters!W407","v":1},{"$f":"Parameters!X407","v":1},{"$f":"Parameters!Y407","v":1},{"$f":"Parameters!Z407","v":1},{"$f":"Parameters!AA407","v":1},{"$f":"Parameters!AB407","v":1},{"$f":"Parameters!AC407","v":1},{"$f":"Parameters!AD407","v":1},{"$f":"Parameters!AE407","v":1},{"$f":"Parameters!AF407","v":1},{"$f":"Parameters!AG407","v":1},{"$f":"Parameters!AH407","v":1},{"$f":"Parameters!AI407","v":1},{"$f":"Parameters!AJ407","v":1},{"$f":"Parameters!AK407","v":1},{"$f":"Parameters!AL407","v":1},{"$f":"Parameters!AM407","v":1},{"$f":"Parameters!AN407","v":1},{"$f":"Parameters!AO407","v":1},{"$f":"Parameters!AP407","v":1},{"$f":"Parameters!AQ407","v":1},{"$f":"Parameters!AR407","v":1},{"$f":"Parameters!AS407","v":1},{"$f":"Parameters!AT407","v":1},{"$f":"Parameters!AU407","v":1},{"$f":"Parameters!AV407","v":1},{"$f":"Parameters!AW407","v":1},{"$f":"Parameters!AX407","v":1},{"$f":"Parameters!AY407","v":1},{"$f":"Parameters!AZ407","v":1},{"$f":"Parameters!BA407","v":1},{"$f":"Parameters!BB407","v":1},{"$f":"Parameters!BC407","v":1},{"$f":"Parameters!BD407","v":1},{"$f":"Parameters!BE407","v":1},{"$f":"Parameters!BF407","v":1},{"$f":"Parameters!BG407","v":1},{"$f":"Parameters!BH407","v":1},{"$f":"Parameters!BI407","v":1},{"$f":"Parameters!BJ407","v":1},{"$f":"Parameters!BK407","v":1},{"$f":"Parameters!BL407","v":1},{"$f":"Parameters!BM407","v":1},{"$f":"Parameters!BN407","v":1}]
["S304",{"$f":"Parameters!K408","v":1},{"$f":"Parameters!L408","v":1},{"$f":"Parameters!M408","v":1},{"$f":"Parameters!N408","v":1},{"$f":"Parameters!O408","v":1},{"$f":"Parameters!P408","v":1},{"$f":"Parameters!Q408","v":1},{"$f":"Parameters!R408","v":1},{"$f":"Parameters!S408","v":1},{"$f":"Parameters!T408","v":1},{"$f":"Parameters!U408","v":1},{"$f":"Parameters!V408","v":1},{"$f":"Parameters!W408","v":1},{"$f":"Parameters!X408","v":1},{"$f":"Parameters!Y408","v":1},{"$f":"Parameters!Z408","v":1},{"$f":"Parameters!AA408","v":1},{"$f":"Parameters!AB408","v":1},{"$f":"Parameters!AC408","v":1},{"$f":"Parameters!AD408","v":1},{"$f":"Parameters!AE408","v":1},{"$f":"Parameters!AF408","v":1},{"$f":"Parameters!AG408","v":1},{"$f":"Parameters!AH408","v":1},{"$f":"Parameters!AI408","v":1},{"$f":"Parameters!AJ408","v":1},{"$f":"Parameters!AK408","v":1},{"$f":"Parameters!AL408","v":1},{"$f":"Parameters!AM408","v":1},{"$f":"Parameters!AN408","v":1},{"$f":"Parameters!AO408","v":1},{"$f":"Parameters!AP408","v":1},{"$f":"Parameters!AQ408","v":1},{"$f":"Parameters!AR408","v":1},{"$f":"Parameters!AS408","v":1},{"$f":"Parameters!AT408","v":1},{"$f":"Parameters!AU408","v":1},{"$f":"Parameters!AV408","v":1},{"$f":"Parameters!AW408","v":1},{"$f":"Parameters!AX408","v":1},{"$f":"Parameters!AY408","v":1},{"$f":"Parameters!AZ408","v":1},{"$f":"Parameters!BA408","v":1},{"$f":"Parameters!BB408","v":1},{"$f":"Parameters!BC408","v":1},{"$f":"Parameters!BD408","v":1},{"$f":"Parameters!BE408","v":1},{"$f":"Parameters!BF408","v":1},{"$f":"Parameters!BG408","v":1},{"$f":"Parameters!BH408","v":1},{"$f":"Parameters!BI408","v":1},{"$f":"Parameters!BJ408","v":1},{"$f":"Parameters!BK408","v":1},{"$f":"Parameters!BL408","v":1},{"$f":"Parameters!BM408","v":1},{"$f":"Parameters!BN408","v":1}]
["S305",{"$f":"Parameters!K409","v":1},{"$f":"Parameters!L409","v":1},{"$f":"Parameters!M409","v":1},{"$f":"Parameters!N409","v":1},{"$f":"Parameters!O409","v":1},{"$f":"Parameters!P409","v":1},{"$f":"Parameters!Q409","v":1},{"$f":"Parameters!R409","v":1},{"$f":"Parameters!S409","v":1},{"$f":"Parameters!T409","v":1},{"$f":"Parameters!U409","v":1},{"$f":"Parameters!V409","v":1},{"$f":"Parameters!W409","v":1},{"$f":"Parameters!X409","v":1},{"$f":"Parameters!Y409","v":1},{"$f":"Parameters!Z409","v":1},{"$f":"Parameters!AA409","v":1},{"$f":"Parameters!AB409","v":1},{"$f":"Parameters!AC409","v":1},{"$f":"Parameters!AD409","v":1},{"$f":"Parameters!AE409","v":1},{"$f":"Parameters!AF409","v":1},{"$f":"Parameters!AG409","v":1},{"$f":"Parameters!AH409","v":1},{"$f":"Parameters!AI409","v":1},{"$f":"Parameters!AJ409","v":1},{"$f":"Parameters!AK409","v":1},{"$f":"Parameters!AL409","v":1},{"$f":"Parameters!AM409","v":1},{"$f":"Parameters!AN409","v":1},{"$f":"Parameters!AO409","v":1},{"$f":"Parameters!AP409","v":1},{"$f":"Parameters!AQ409","v":1},{"$f":"Parameters!AR409","v":1},{"$f":"Parameters!AS409","v":1},{"$f":"Parameters!AT409","v":1},{"$f":"Parameters!AU409","v":1},{"$f":"Parameters!AV409","v":1},{"$f":"Parameters!AW409","v":1},{"$f":"Parameters!AX409","v":1},{"$f":"Parameters!AY409","v":1},{"$f":"Parameters!AZ409","v":1},{"$f":"Parameters!BA409","v":1},{"$f":"Parameters!BB409","v":1},{"$f":"Parameters!BC409","v":1},{"$f":"Parameters!BD409","v":1},{"$f":"Parameters!BE409","v":1},{"$f":"Parameters!BF409","v":1},{"$f":"Parameters!BG409","v":1},{"$f":"Parameters!BH409","v":1},{"$f":"Parameters!BI409","v":1},{"$f":"Parameters!BJ409","v":1},{"$f":"Parameters!BK409","v":1},{"$f":"Parameters!BL409","v":1},{"$f":"Parameters!BM409","v":1},{"$f":"Parameters!BN409","v":1}]
["S306",{"$f":"Parameters!K410","v":1},{"$f":"Parameters!L410","v":1},{"$f":"Parameters!M410","v":1},{"$f":"Parameters!N410","v":1},{"$f":"Parameters!O410","v":1},{"$f":"Parameters!P410","v":1},{"$f":"Parameters!Q410","v":1},{"$f":"Parameters!R410","v":1},{"$f":"Parameters!S410","v":1},{"$f":"Parameters!T410","v":1},{"$f":"Parameters!U410","v":1},{"$f":"Parameters!V410","v":1},{"$f":"Parameters!W410","v":1},{"$f":"Parameters!X410","v":1},{"$f":"Parameters!Y410","v":1},{"$f":"Parameters!Z410","v":1},{"$f":"Parameters!AA410","v":1},{"$f":"Parameters!AB410","v":1},{"$f":"Parameters!AC410","v":1},{"$f":"Parameters!AD410","v":1},{"$f":"Parameters!AE410","v":1},{"$f":"Parameters!AF410","v":1},{"$f":"Parameters!AG410","v":1},{"$f":"Parameters!AH410","v":1},{"$f":"Parameters!AI410","v":1},{"$f":"Parameters!AJ410","v":1},{"$f":"Parameters!AK410","v":1},{"$f":"Parameters!AL410","v":1},{"$f":"Parameters!AM410","v":1},{"$f":"Parameters!AN410","v":1},{"$f":"Parameters!AO410","v":1},{"$f":"Parameters!AP410","v":1},{"$f":"Parameters!AQ410","v":1},{"$f":"Parameters!AR410","v":1},{"$f":"Parameters!AS410","v":1},{"$f":"Parameters!AT410","v":1},{"$f":"Parameters!AU410","v":1},{"$f":"Parameters!AV410","v":1},{"$f":"Parameters!AW410","v":1},{"$f":"Parameters!AX410","v":1},{"$f":"Parameters!AY410","v":1},{"$f":"Parameters!AZ410","v":1},{"$f":"Parameters!BA410","v":1},{"$f":"Parameters!BB410","v":1},{"$f":"Parameters!BC410","v":1},{"$f":"Parameters!BD410","v":1},{"$f":"Parameters!BE410","v":1},{"$f":"Parameters!BF410","v":1},{"$f":"Parameters!BG410","v":1},{"$f":"Parameters!BH410","v":1},{"$f":"Parameters!BI410","v":1},{"$f":"Parameters!BJ410","v":1},{"$f":"Parameters!BK410","v":1},{"$f":"Parameters!BL410","v":1},{"$f":"Parameters!BM410","v":1},{"$f":"Parameters!BN410","v":1}]
["S307",{"$f":"Parameters!K411","v":1},{"$f":"Parameters!L411","v":1},{"$f":"Parameters!M411","v":1},{"$f":"Parameters!N411","v":1},{"$f":"Parameters!O411","v":1},{"$f":"Parameters!P411","v":1},{"$f":"Parameters!Q411","v":1},{"$f":"Parameters!R411","v":1},{"$f":"Parameters!S411","v":1},{"$f":"Parameters!T411","v":1},{"$f":"Parameters!U411","v":1},{"$f":"Parameters!V411","v":1},{"$f":"Parameters!W411","v":1},{"$f":"Parameters!X411","v":1},{"$f":"Parameters!Y411","v":1},{"$f":"Parameters!Z411","v":1},{"$f":"Parameters!AA411","v":1},{"$f":"Parameters!AB411","v":1},{"$f":"Parameters!AC411","v":1},{"$f":"Parameters!AD411","v":1},{"$f":"Parameters!AE411","v":1},{"$f":"Parameters!AF411","v":1},{"$f":"Parameters!AG411","v":1},{"$f":"Parameters!AH411","v":1},{"$f":"Parameters!AI411","v":1},{"$f":"Parameters!AJ411","v":1},{"$f":"Parameters!AK411","v":1},{"$f":"Parameters!AL411","v":1},{"$f":"Parameters!AM411","v":1},{"$f":"Parameters!AN411","v":1},{"$f":"Parameters!AO411","v":1},{"$f":"Parameters!AP411","v":1},{"$f":"Parameters!AQ411","v":1},{"$f":"Parameters!AR411","v":1},{"$f":"Parameters!AS411","v":1},{"$f":"Parameters!AT411","v":1},{"$f":"Parameters!AU411","v":1},{"$f":"Parameters!AV411","v":1},{"$f":"Parameters!AW411","v":1},{"$f":"Parameters!AX411","v":1},{"$f":"Parameters!AY411","v":1},{"$f":"Parameters!AZ411","v":1},{"$f":"Parameters!BA411","v":1},{"$f":"Parameters!BB411","v":1},{"$f":"Parameters!BC411","v":1},{"$f":"Parameters!BD411","v":1},{"$f":"Parameters!BE411","v":1},{"$f":"Parameters!BF411","v":1},{"$f":"Parameters!BG411","v":1},{"$f":"Parameters!BH411","v":1},{"$f":"Parameters!BI411","v":1},{"$f":"Parameters!BJ411","v":1},{"$f":"Parameters!BK411","v":1},{"$f":"Parameters!BL411","v":1},{"$f":"Parameters!BM411","v":1},{"$f":"Parameters!BN411","v":1}]
["S308",{"$f":"Parameters!K412","v":1},{"$f":"Parameters!L412","v":1},{"$f":"Parameters!M412","v":1},{"$f":"Parameters!N412","v":1},{"$f":"Parameters!O412","v":1},{"$f":"Parameters!P412","v":1},{"$f":"Parameters!Q412","v":1},{"$f":"Parameters!R412","v":1},{"$f":"Parameters!S412","v":1},{"$f":"Parameters!T412","v":1},{"$f":"Parameters!U412","v":1},{"$f":"Parameters!V412","v":1},{"$f":"Parameters!W412","v":1},{"$f":"Parameters!X412","v":1},{"$f":"Parameters!Y412","v":1},{"$f":"Parameters!Z412","v":1},{"$f":"Parameters!AA412","v":1},{"$f":"Parameters!AB412","v":1},{"$f":"Parameters!AC412","v":1},{"$f":"Parameters!AD412","v":1},{"$f":"Parameters!AE412","v":1},{"$f":"Parameters!AF412","v":1},{"$f":"Parameters!AG412","v":1},{"$f":"Parameters!AH412","v":1},{"$f":"Parameters!AI412","v":1},{"$f":"Parameters!AJ412","v":1},{"$f":"Parameters!AK412","v":1},{"$f":"Parameters!AL412","v":1},{"$f":"Parameters!AM412","v":1},{"$f":"Parameters!AN412","v":1},{"$f":"Parameters!AO412","v":1},{"$f":"Parameters!AP412","v":1},{"$f":"Parameters!AQ412","v":1},{"$f":"Parameters!AR412","v":1},{"$f":"Parameters!AS412","v":1},{"$f":"Parameters!AT412","v":1},{"$f":"Parameters!AU412","v":1},{"$f":"Parameters!AV412","v":1},{"$f":"Parameters!AW412","v":1},{"$f":"Parameters!AX412","v":1},{"$f":"Parameters!AY412","v":1},{"$f":"Parameters!AZ412","v":1},{"$f":"Parameters!BA412","v":1},{"$f":"Parameters!BB412","v":1},{"$f":"Parameters!BC412","v":1},{"$f":"Parameters!BD412","v":1},{"$f":"Parameters!BE412","v":1},{"$f":"Parameters!BF412","v":1},{"$f":"Parameters!BG412","v":1},{"$f":"Parameters!BH412","v":1},{"$f":"Parameters!BI412","v":1},{"$f":"Parameters!BJ412","v":1},{"$f":"Parameters!BK412","v":1},{"$f":"Parameters!BL412","v":1},{"$f":"Parameters!BM412","v":1},{"$f":"Parameters!BN412","v":1}]
["S309",{"$f":"Parameters!K413","v":1},{"$f":"Parameters!L413","v":1},{"$f":"Parameters!M413","v":1},{"$f":"Parameters!N413","v":1},{"$f":"Parameters!O413","v":1},{"$f":"Parameters!P413","v":1},{"$f":"Parameters!Q413","v":1},{"$f":"Parameters!R413","v":1},{"$f":"Parameters!S413","v":1},{"$f":"Parameters!T413","v":1},{"$f":"Parameters!U413","v":1},{"$f":"Parameters!V413","v":1},{"$f":"Parameters!W413","v":1},{"$f":"Parameters!X413","v":1},{"$f":"Parameters!Y413","v":1},{"$f":"Parameters!Z413","v":1},{"$f":"Parameters!AA413","v":1},{"$f":"Parameters!AB413","v":1},{"$f":"Parameters!AC413","v":1},{"$f":"Parameters!AD413","v":1},{"$f":"Parameters!AE413","v":1},{"$f":"Parameters!AF413","v":1},{"$f":"Parameters!AG413","v":1},{"$f":"Parameters!AH413","v":1},{"$f":"Parameters!AI413","v":1},{"$f":"Parameters!AJ413","v":1},{"$f":"Parameters!AK413","v":1},{"$f":"Parameters!AL413","v":1},{"$f":"Parameters!AM413","v":1},{"$f":"Parameters!AN413","v":1},{"$f":"Parameters!AO413","v":1},{"$f":"Parameters!AP413","v":1},{"$f":"Parameters!AQ413","v":1},{"$f":"Parameters!AR413","v":1},{"$f":"Parameters!AS413","v":1},{"$f":"Parameters!AT413","v":1},{"$f":"Parameters!AU413","v":1},{"$f":"Parameters!AV413","v":1},{"$f":"Parameters!AW413","v":1},{"$f":"Parameters!AX413","v":1},{"$f":"Parameters!AY413","v":1},{"$f":"Parameters!AZ413","v":1},{"$f":"Parameters!BA413","v":1},{"$f":"Parameters!BB413","v":1},{"$f":"Parameters!BC413","v":1},{"$f":"Parameters!BD413","v":1},{"$f":"Parameters!BE413","v":1},{"$f":"Parameters!BF413","v":1},{"$f":"Parameters!BG413","v":1},{"$f":"Parameters!BH413","v":1},{"$f":"Parameters!BI413","v":1},{"$f":"Parameters!BJ413","v":1},{"$f":"Parameters!BK413","v":1},{"$f":"Parameters!BL413","v":1},{"$f":"Parameters!BM413","v":1},{"$f":"Parameters!BN413","v":1}]
["S310",{"$f":"Parameters!K414","v":1},{"$f":"Parameters!L414","v":1},{"$f":"Parameters!M414","v":1},{"$f":"Parameters!N414","v":1},{"$f":"Parameters!O414","v":1},{"$f":"Parameters!P414","v":1},{"$f":"Parameters!Q414","v":1},{"$f":"Parameters!R414","v":1},{"$f":"Parameters!S414","v":1},{"$f":"Parameters!T414","v":1},{"$f":"Parameters!U414","v":1},{"$f":"Parameters!V414","v":1},{"$f":"Parameters!W414","v":1},{"$f":"Parameters!X414","v":1},{"$f":"Parameters!Y414","v":1},{"$f":"Parameters!Z414","v":1},{"$f":"Parameters!AA414","v":1},{"$f":"Parameters!AB414","v":1},{"$f":"Parameters!AC414","v":1},{"$f":"Parameters!AD414","v":1},{"$f":"Parameters!AE414","v":1},{"$f":"Parameters!AF414","v":1},{"$f":"Parameters!AG414","v":1},{"$f":"Parameters!AH414","v":1},{"$f":"Parameters!AI414","v":1},{"$f":"Parameters!AJ414","v":1},{"$f":"Parameters!AK414","v":1},{"$f":"Parameters!AL414","v":1},{"$f":"Parameters!AM414","v":1},{"$f":"Parameters!AN414","v":1},{"$f":"Parameters!AO414","v":1},{"$f":"Parameters!AP414","v":1},{"$f":"Parameters!AQ414","v":1},{"$f":"Parameters!AR414","v":1},{"$f":"Parameters!AS414","v":1},{"$f":"Parameters!AT414","v":1},{"$f":"Parameters!AU414","v":1},{"$f":"Parameters!AV414","v":1},{"$f":"Parameters!AW414","v":1},{"$f":"Parameters!AX414","v":1},{"$f":"Parameters!AY414","v":1},{"$f":"Parameters!AZ414","v":1},{"$f":"Parameters!BA414","v":1},{"$f":"Parameters!BB414","v":1},{"$f":"Parameters!BC414","v":1},{"$f":"Parameters!BD414","v":1},{"$f":"Parameters!BE414","v":1},{"$f":"Parameters!BF414","v":1},{"$f":"Parameters!BG414","v":1},{"$f":"Parameters!BH414","v":1},{"$f":"Parameters!BI414","v":1},{"$f":"Parameters!BJ414","v":1},{"$f":"Parameters!BK414","v":1},{"$f":"Parameters!BL414","v":1},{"$f":"Parameters!BM414","v":1},{"$f":"Parameters!BN414","v":1}]
["S311",{"$f":"Parameters!K415","v":1},{"$f":"Parameters!L415","v":1},{"$f":"Parameters!M415","v":1},{"$f":"Parameters!N415","v":1},{"$f":"Parameters!O415","v":1},{"$f":"Parameters!P415","v":1},{"$f":"Parameters!Q415","v":1},{"$f":"Parameters!R415","v":1},{"$f":"Parameters!S415","v":1},{"$f":"Parameters!T415","v":1},{"$f":"Parameters!U415","v":1},{"$f":"Parameters!V415","v":1},{"$f":"Parameters!W415","v":1},{"$f":"Parameters!X415","v":1},{"$f":"Parameters!Y415","v":1},{"$f":"Parameters!Z415","v":1},{"$f":"Parameters!AA415","v":1},{"$f":"Parameters!AB415","v":1},{"$f":"Parameters!AC415","v":1},{"$f":"Parameters!AD415","v":1},{"$f":"Parameters!AE415","v":1},{"$f":"Parameters!AF415","v":1},{"$f":"Parameters!AG415","v":1},{"$f":"Parameters!AH415","v":1},{"$f":"Parameters!AI415","v":1},{"$f":"Parameters!AJ415","v":1},{"$f":"Parameters!AK415","v":1},{"$f":"Parameters!AL415","v":1},{"$f":"Parameters!AM415","v":1},{"$f":"Parameters!AN415","v":1},{"$f":"Parameters!AO415","v":1},{"$f":"Parameters!AP415","v":1},{"$f":"Parameters!AQ415","v":1},{"$f":"Parameters!AR415","v":1},{"$f":"Parameters!AS415","v":1},{"$f":"Parameters!AT415","v":1},{"$f":"Parameters!AU415","v":1},{"$f":"Parameters!AV415","v":1},{"$f":"Parameters!AW415","v":1},{"$f":"Parameters!AX415","v":1},{"$f":"Parameters!AY415","v":1},{"$f":"Parameters!AZ415","v":1},{"$f":"Parameters!BA415","v":1},{"$f":"Parameters!BB415","v":1},{"$f":"Parameters!BC415","v":1},{"$f":"Parameters!BD415","v":1},{"$f":"Parameters!BE415","v":1},{"$f":"Parameters!BF415","v":1},{"$f":"Parameters!BG415","v":1},{"$f":"Parameters!BH415","v":1},{"$f":"Parameters!BI415","v":1},{"$f":"Parameters!BJ415","v":1},{"$f":"Parameters!BK415","v":1},{"$f":"Parameters!BL415","v":1},{"$f":"Parameters!BM415","v":1},{"$f":"Parameters!BN415","v":1}]
["S312",{"$f":"Parameters!K416","v":1},{"$f":"Parameters!L416","v":1},{"$f":"Parameters!M416","v":1},{"$f":"Parameters!N416","v":1},{"$f":"Parameters!O416","v":1},{"$f":"Parameters!P416","v":1},{"$f":"Parameters!Q416","v":1},{"$f":"Parameters!R416","v":1},{"$f":"Parameters!S416","v":1},{"$f":"Parameters!T416","v":1},{"$f":"Parameters!U416","v":1},{"$f":"Parameters!V416","v":1},{"$f":"Parameters!W416","v":1},{"$f":"Parameters!X416","v":1},{"$f":"Parameters!Y416","v":1},{"$f":"Parameters!Z416","v":1},{"$f":"Parameters!AA416","v":1},{"$f":"Parameters!AB416","v":1},{"$f":"Parameters!AC416","v":1},{"$f":"Parameters!AD416","v":1},{"$f":"Parameters!AE416","v":1},{"$f":"Parameters!AF416","v":1},{"$f":"Parameters!AG416","v":1},{"$f":"Parameters!AH416","v":1},{"$f":"Parameters!AI416","v":1},{"$f":"Parameters!AJ416","v":1},{"$f":"Parameters!AK416","v":1},{"$f":"Parameters!AL416","v":1},{"$f":"Parameters!AM416","v":1},{"$f":"Parameters!AN416","v":1},{"$f":"Parameters!AO416","v":1},{"$f":"Parameters!AP416","v":1},{"$f":"Parameters!AQ416","v":1},{"$f":"Parameters!AR416","v":1},{"$f":"Parameters!AS416","v":1},{"$f":"Parameters!AT416","v":1},{"$f":"Parameters!AU416","v":1},{"$f":"Parameters!AV416","v":1},{"$f":"Parameters!AW416","v":1},{"$f":"Parameters!AX416","v":1},{"$f":"Parameters!AY416","v":1},{"$f":"Parameters!AZ416","v":1},{"$f":"Parameters!BA416","v":1},{"$f":"Parameters!BB416","v":1},{"$f":"Parameters!BC416","v":1},{"$f":"Parameters!BD416","v":1},{"$f":"Parameters!BE416","v":1},{"$f":"Parameters!BF416","v":1},{"$f":"Parameters!BG416","v":1},{"$f":"Parameters!BH416","v":1},{"$f":"Parameters!BI416","v":1},{"$f":"Parameters!BJ416","v":1},{"$f":"Parameters!BK416","v":1},{"$f":"Parameters!BL416","v":1},{"$f":"Parameters!BM416","v":1},{"$f":"Parameters!BN416","v":1}]
["S313",{"$f":"Parameters!K417","v":1},{"$f":"Parameters!L417","v":1},{"$f":"Parameters!M417","v":1},{"$f":"Parameters!N417","v":1},{"$f":"Parameters!O417","v":1},{"$f":"Parameters!P417","v":1},{"$f":"Parameters!Q417","v":1},{"$f":"Parameters!R417","v":1},{"$f":"Parameters!S417","v":1},{"$f":"Parameters!T417","v":1},{"$f":"Parameters!U417","v":1},{"$f":"Parameters!V417","v":1},{"$f":"Parameters!W417","v":1},{"$f":"Parameters!X417","v":1},{"$f":"Parameters!Y417","v":1},{"$f":"Parameters!Z417","v":1},{"$f":"Parameters!AA417","v":1},{"$f":"Parameters!AB417","v":1},{"$f":"Parameters!AC417","v":1},{"$f":"Parameters!AD417","v":1},{"$f":"Parameters!AE417","v":1},{"$f":"Parameters!AF417","v":1},{"$f":"Parameters!AG417","v":1},{"$f":"Parameters!AH417","v":1},{"$f":"Parameters!AI417","v":1},{"$f":"Parameters!AJ417","v":1},{"$f":"Parameters!AK417","v":1},{"$f":"Parameters!AL417","v":1},{"$f":"Parameters!AM417","v":1},{"$f":"Parameters!AN417","v":1},{"$f":"Parameters!AO417","v":1},{"$f":"Parameters!AP417","v":1},{"$f":"Parameters!AQ417","v":1},{"$f":"Parameters!AR417","v":1},{"$f":"Parameters!AS417","v":1},{"$f":"Parameters!AT417","v":1},{"$f":"Parameters!AU417","v":1},{"$f":"Parameters!AV417","v":1},{"$f":"Parameters!AW417","v":1},{"$f":"Parameters!AX417","v":1},{"$f":"Parameters!AY417","v":1},{"$f":"Parameters!AZ417","v":1},{"$f":"Parameters!BA417","v":1},{"$f":"Parameters!BB417","v":1},{"$f":"Parameters!BC417","v":1},{"$f":"Parameters!BD417","v":1},{"$f":"Parameters!BE417","v":1},{"$f":"Parameters!BF417","v":1},{"$f":"Parameters!BG417","v":1},{"$f":"Parameters!BH417","v":1},{"$f":"Parameters!BI417","v":1},{"$f":"Parameters!BJ417","v":1},{"$f":"Parameters!BK417","v":1},{"$f":"Parameters!BL417","v":1},{"$f":"Parameters!BM417","v":1},{"$f":"Parameters!BN417","v":1}]
["S314",{"$f":"Parameters!K418","v":1},{"$f":"Parameters!L418","v":1},{"$f":"Parameters!M418","v":1},{"$f":"Parameters!N418","v":1},{"$f":"Parameters!O418","v":1},{"$f":"Parameters!P418","v":1},{"$f":"Parameters!Q418","v":1},{"$f":"Parameters!R418","v":1},{"$f":"Parameters!S418","v":1},{"$f":"Parameters!T418","v":1},{"$f":"Parameters!U418","v":1},{"$f":"Parameters!V418","v":1},{"$f":"Parameters!W418","v":1},{"$f":"Parameters!X418","v":1},{"$f":"Parameters!Y418","v":1},{"$f":"Parameters!Z418","v":1},{"$f":"Parameters!AA418","v":1},{"$f":"Parameters!AB418","v":1},{"$f":"Parameters!AC418","v":1},{"$f":"Parameters!AD418","v":1},{"$f":"Parameters!AE418","v":1},{"$f":"Parameters!AF418","v":1},{"$f":"Parameters!AG418","v":1},{"$f":"Parameters!AH418","v":1},{"$f":"Parameters!AI418","v":1},{"$f":"Parameters!AJ418","v":1},{"$f":"Parameters!AK418","v":1},{"$f":"Parameters!AL418","v":1},{"$f":"Parameters!AM418","v":1},{"$f":"Parameters!AN418","v":1},{"$f":"Parameters!AO418","v":1},{"$f":"Parameters!AP418","v":1},{"$f":"Parameters!AQ418","v":1},{"$f":"Parameters!AR418","v":1},{"$f":"Parameters!AS418","v":1},{"$f":"Parameters!AT418","v":1},{"$f":"Parameters!AU418","v":1},{"$f":"Parameters!AV418","v":1},{"$f":"Parameters!AW418","v":1},{"$f":"Parameters!AX418","v":1},{"$f":"Parameters!AY418","v":1},{"$f":"Parameters!AZ418","v":1},{"$f":"Parameters!BA418","v":1},{"$f":"Parameters!BB418","v":1},{"$f":"Parameters!BC418","v":1},{"$f":"Parameters!BD418","v":1},{"$f":"Parameters!BE418","v":1},{"$f":"Parameters!BF418","v":1},{"$f":"Parameters!BG418","v":1},{"$f":"Parameters!BH418","v":1},{"$f":"Parameters!BI418","v":1},{"$f":"Parameters!BJ418","v":1},{"$f":"Parameters!BK418","v":1},{"$f":"Parameters!BL418","v":1},{"$f":"Parameters!BM418","v":1},{"$f":"Parameters!BN418","v":1}]
["S315",{"$f":"Parameters!K419","v":1},{"$f":"Parameters!L419","v":1},{"$f":"Parameters!M419","v":1},{"$f":"Parameters!N419","v":1},{"$f":"Parameters!O419","v":1},{"$f":"Parameters!P419","v":1},{"$f":"Parameters!Q419","v":1},{"$f":"Parameters!R419","v":1},{"$f":"Parameters!S419","v":1},{"$f":"Parameters!T419","v":1},{"$f":"Parameters!U419","v":1},{"$f":"Parameters!V419","v":1},{"$f":"Parameters!W419","v":1},{"$f":"Parameters!X419","v":1},{"$f":"Parameters!Y419","v":1},{"$f":"Parameters!Z419","v":1},{"$f":"Parameters!AA419","v":1},{"$f":"Parameters!AB419","v":1},{"$f":"Parameters!AC419","v":1},{"$f":"Parameters!AD419","v":1},{"$f":"Parameters!AE419","v":1},{"$f":"Parameters!AF419","v":1},{"$f":"Parameters!AG419","v":1},{"$f":"Parameters!AH419","v":1},{"$f":"Parameters!AI419","v":1},{"$f":"Parameters!AJ419","v":1},{"$f":"Parameters!AK419","v":1},{"$f":"Parameters!AL419","v":1},{"$f":"Parameters!AM419","v":1},{"$f":"Parameters!AN419","v":1},{"$f":"Parameters!AO419","v":1},{"$f":"Parameters!AP419","v":1},{"$f":"Parameters!AQ419","v":1},{"$f":"Parameters!AR419","v":1},{"$f":"Parameters!AS419","v":1},{"$f":"Parameters!AT419","v":1},{"$f":"Parameters!AU419","v":1},{"$f":"Parameters!AV419","v":1},{"$f":"Parameters!AW419","v":1},{"$f":"Parameters!AX419","v":1},{"$f":"Parameters!AY419","v":1},{"$f":"Parameters!AZ419","v":1},{"$f":"Parameters!BA419","v":1},{"$f":"Parameters!BB419","v":1},{"$f":"Parameters!BC419","v":1},{"$f":"Parameters!BD419","v":1},{"$f":"Parameters!BE419","v":1},{"$f":"Parameters!BF419","v":1},{"$f":"Parameters!BG419","v":1},{"$f":"Parameters!BH419","v":1},{"$f":"Parameters!BI419","v":1},{"$f":"Parameters!BJ419","v":1},{"$f":"Parameters!BK419","v":1},{"$f":"Parameters!BL419","v":1},{"$f":"Parameters!BM419","v":1},{"$f":"Parameters!BN419","v":1}]
["S316",{"$f":"Parameters!K420","v":1},{"$f":"Parameters!L420","v":1},{"$f":"Parameters!M420","v":1},{"$f":"Parameters!N420","v":1},{"$f":"Parameters!O420","v":1},{"$f":"Parameters!P420","v":1},{"$f":"Parameters!Q420","v":1},{"$f":"Parameters!R420","v":1},{"$f":"Parameters!S420","v":1},{"$f":"Parameters!T420","v":1},{"$f":"Parameters!U420","v":1},{"$f":"Parameters!V420","v":1},{"$f":"Parameters!W420","v":1},{"$f":"Parameters!X420","v":1},{"$f":"Parameters!Y420","v":1},{"$f":"Parameters!Z420","v":1},{"$f":"Parameters!AA420","v":1},{"$f":"Parameters!AB420","v":1},{"$f":"Parameters!AC420","v":1},{"$f":"Parameters!AD420","v":1},{"$f":"Parameters!AE420","v":1},{"$f":"Parameters!AF420","v":1},{"$f":"Parameters!AG420","v":1},{"$f":"Parameters!AH420","v":1},{"$f":"Parameters!AI420","v":1},{"$f":"Parameters!AJ420","v":1},{"$f":"Parameters!AK420","v":1},{"$f":"Parameters!AL420","v":1},{"$f":"Parameters!AM420","v":1},{"$f":"Parameters!AN420","v":1},{"$f":"Parameters!AO420","v":1},{"$f":"Parameters!AP420","v":1},{"$f":"Parameters!AQ420","v":1},{"$f":"Parameters!AR420","v":1},{"$f":"Parameters!AS420","v":1},{"$f":"Parameters!AT420","v":1},{"$f":"Parameters!AU420","v":1},{"$f":"Parameters!AV420","v":1},{"$f":"Parameters!AW420","v":1},{"$f":"Parameters!AX420","v":1},{"$f":"Parameters!AY420","v":1},{"$f":"Parameters!AZ420","v":1},{"$f":"Parameters!BA420","v":1},{"$f":"Parameters!BB420","v":1},{"$f":"Parameters!BC420","v":1},{"$f":"Parameters!BD420","v":1},{"$f":"Parameters!BE420","v":1},{"$f":"Parameters!BF420","v":1},{"$f":"Parameters!BG420","v":1},{"$f":"Parameters!BH420","v":1},{"$f":"Parameters!BI420","v":1},{"$f":"Parameters!BJ420","v":1},{"$f":"Parameters!BK420","v":1},{"$f":"Parameters!BL420","v":1},{"$f":"Parameters!BM420","v":1},{"$f":"Parameters!BN420","v":1}]
["S317",{"$f":"Parameters!K421","v":1},{"$f":"Parameters!L421","v":1},{"$f":"Parameters!M421","v":1},{"$f":"Parameters!N421","v":1},{"$f":"Parameters!O421","v":1},{"$f":"Parameters!P421","v":1},{"$f":"Parameters!Q421","v":1},{"$f":"Parameters!R421","v":1},{"$f":"Parameters!S421","v":1},{"$f":"Parameters!T421","v":1},{"$f":"Parameters!U421","v":1},{"$f":"Parameters!V421","v":1},{"$f":"Parameters!W421","v":1},{"$f":"Parameters!X421","v":1},{"$f":"Parameters!Y421","v":1},{"$f":"Parameters!Z421","v":1},{"$f":"Parameters!AA421","v":1},{"$f":"Parameters!AB421","v":1},{"$f":"Parameters!AC421","v":1},{"$f":"Parameters!AD421","v":1},{"$f":"Parameters!AE421","v":1},{"$f":"Parameters!AF421","v":1},{"$f":"Parameters!AG421","v":1},{"$f":"Parameters!AH421","v":1},{"$f":"Parameters!AI421","v":1},{"$f":"Parameters!AJ421","v":1},{"$f":"Parameters!AK421","v":1},{"$f":"Parameters!AL421","v":1},{"$f":"Parameters!AM421","v":1},{"$f":"Parameters!AN421","v":1},{"$f":"Parameters!AO421","v":1},{"$f":"Parameters!AP421","v":1},{"$f":"Parameters!AQ421","v":1},{"$f":"Parameters!AR421","v":1},{"$f":"Parameters!AS421","v":1},{"$f":"Parameters!AT421","v":1},{"$f":"Parameters!AU421","v":1},{"$f":"Parameters!AV421","v":1},{"$f":"Parameters!AW421","v":1},{"$f":"Parameters!AX421","v":1},{"$f":"Parameters!AY421","v":1},{"$f":"Parameters!AZ421","v":1},{"$f":"Parameters!BA421","v":1},{"$f":"Parameters!BB421","v":1},{"$f":"Parameters!BC421","v":1},{"$f":"Parameters!BD421","v":1},{"$f":"Parameters!BE421","v":1},{"$f":"Parameters!BF421","v":1},{"$f":"Parameters!BG421","v":1},{"$f":"Parameters!BH421","v":1},{"$f":"Parameters!BI421","v":1},{"$f":"Parameters!BJ421","v":1},{"$f":"Parameters!BK421","v":1},{"$f":"Parameters!BL421","v":1},{"$f":"Parameters!BM421","v":1},{"$f":"Parameters!BN421","v":1}]
["S318",{"$f":"Parameters!K422","v":1},{"$f":"Parameters!L422","v":1},{"$f":"Parameters!M422","v":1},{"$f":"Parameters!N422","v":1},{"$f":"Parameters!O422","v":1},{"$f":"Parameters!P422","v":1},{"$f":"Parameters!Q422","v":1},{"$f":"Parameters!R422","v":1},{"$f":"Parameters!S422","v":1},{"$f":"Parameters!T422","v":1},{"$f":"Parameters!U422","v":1},{"$f":"Parameters!V422","v":1},{"$f":"Parameters!W422","v":1},{"$f":"Parameters!X422","v":1},{"$f":"Parameters!Y422","v":1},{"$f":"Parameters!Z422","v":1},{"$f":"Parameters!AA422","v":1},{"$f":"Parameters!AB422","v":1},{"$f":"Parameters!AC422","v":1},{"$f":"Parameters!AD422","v":1},{"$f":"Parameters!AE422","v":1},{"$f":"Parameters!AF422","v":1},{"$f":"Parameters!AG422","v":1},{"$f":"Parameters!AH422","v":1},{"$f":"Parameters!AI422","v":1},{"$f":"Parameters!AJ422","v":1},{"$f":"Parameters!AK422","v":1},{"$f":"Parameters!AL422","v":1},{"$f":"Parameters!AM422","v":1},{"$f":"Parameters!AN422","v":1},{"$f":"Parameters!AO422","v":1},{"$f":"Parameters!AP422","v":1},{"$f":"Parameters!AQ422","v":1},{"$f":"Parameters!AR422","v":1},{"$f":"Parameters!AS422","v":1},{"$f":"Parameters!AT422","v":1},{"$f":"Parameters!AU422","v":1},{"$f":"Parameters!AV422","v":1},{"$f":"Parameters!AW422","v":1},{"$f":"Parameters!AX422","v":1},{"$f":"Parameters!AY422","v":1},{"$f":"Parameters!AZ422","v":1},{"$f":"Parameters!BA422","v":1},{"$f":"Parameters!BB422","v":1},{"$f":"Parameters!BC422","v":1},{"$f":"Parameters!BD422","v":1},{"$f":"Parameters!BE422","v":1},{"$f":"Parameters!BF422","v":1},{"$f":"Parameters!BG422","v":1},{"$f":"Parameters!BH422","v":1},{"$f":"Parameters!BI422","v":1},{"$f":"Parameters!BJ422","v":1},{"$f":"Parameters!BK422","v":1},{"$f":"Parameters!BL422","v":1},{"$f":"Parameters!BM422","v":1},{"$f":"Parameters!BN422","v":1}]
["S319",{"$f":"Parameters!K423","v":1},{"$f":"Parameters!L423","v":1},{"$f":"Parameters!M423","v":1},{"$f":"Parameters!N423","v":1},{"$f":"Parameters!O423","v":1},{"$f":"Parameters!P423","v":1},{"$f":"Parameters!Q423","v":1},{"$f":"Parameters!R423","v":1},{"$f":"Parameters!S423","v":1},{"$f":"Parameters!T423","v":1},{"$f":"Parameters!U423","v":1},{"$f":"Parameters!V423","v":1},{"$f":"Parameters!W423","v":1},{"$f":"Parameters!X423","v":1},{"$f":"Parameters!Y423","v":1},{"$f":"Parameters!Z423","v":1},{"$f":"Parameters!AA423","v":1},{"$f":"Parameters!AB423","v":1},{"$f":"Parameters!AC423","v":1},{"$f":"Parameters!AD423","v":1},{"$f":"Parameters!AE423","v":1},{"$f":"Parameters!AF423","v":1},{"$f":"Parameters!AG423","v":1},{"$f":"Parameters!AH423","v":1},{"$f":"Parameters!AI423","v":1},{"$f":"Parameters!AJ423","v":1},{"$f":"Parameters!AK423","v":1},{"$f":"Parameters!AL423","v":1},{"$f":"Parameters!AM423","v":1},{"$f":"Parameters!AN423","v":1},{"$f":"Parameters!AO423","v":1},{"$f":"Parameters!AP423","v":1},{"$f":"Parameters!AQ423","v":1},{"$f":"Parameters!AR423","v":1},{"$f":"Parameters!AS423","v":1},{"$f":"Parameters!AT423","v":1},{"$f":"Parameters!AU423","v":1},{"$f":"Parameters!AV423","v":1},{"$f":"Parameters!AW423","v":1},{"$f":"Parameters!AX423","v":1},{"$f":"Parameters!AY423","v":1},{"$f":"Parameters!AZ423","v":1},{"$f":"Parameters!BA423","v":1},{"$f":"Parameters!BB423","v":1},{"$f":"Parameters!BC423","v":1},{"$f":"Parameters!BD423","v":1},{"$f":"Parameters!BE423","v":1},{"$f":"Parameters!BF423","v":1},{"$f":"Parameters!BG423","v":1},{"$f":"Parameters!BH423","v":1},{"$f":"Parameters!BI423","v":1},{"$f":"Parameters!BJ423","v":1},{"$f":"Parameters!BK423","v":1},{"$f":"Parameters!BL423","v":1},{"$f":"Parameters!BM423","v":1},{"$f":"Parameters!BN423","v":1}]
["S320",{"$f":"Parameters!K424","v":1},{"$f":"Parameters!L424","v":1},{"$f":"Parameters!M424","v":1},{"$f":"Parameters!N424","v":1},{"$f":"Parameters!O424","v":1},{"$f":"Parameters!P424","v":1},{"$f":"Parameters!Q424","v":1},{"$f":"Parameters!R424","v":1},{"$f":"Parameters!S424","v":1},{"$f":"Parameters!T424","v":1},{"$f":"Parameters!U424","v":1},{"$f":"Parameters!V424","v":1},{"$f":"Parameters!W424","v":1},{"$f":"Parameters!X424","v":1},{"$f":"Parameters!Y424","v":1},{"$f":"Parameters!Z424","v":1},{"$f":"Parameters!AA424","v":1},{"$f":"Parameters!AB424","v":1},{"$f":"Parameters!AC424","v":1},{"$f":"Parameters!AD424","v":1},{"$f":"Parameters!AE424","v":1},{"$f":"Parameters!AF424","v":1},{"$f":"Parameters!AG424","v":1},{"$f":"Parameters!AH424","v":1},{"$f":"Parameters!AI424","v":1},{"$f":"Parameters!AJ424","v":1},{"$f":"Parameters!AK424","v":1},{"$f":"Parameters!AL424","v":1},{"$f":"Parameters!AM424","v":1},{"$f":"Parameters!AN424","v":1},{"$f":"Parameters!AO424","v":1},{"$f":"Parameters!AP424","v":1},{"$f":"Parameters!AQ424","v":1},{"$f":"Parameters!AR424","v":1},{"$f":"Parameters!AS424","v":1},{"$f":"Parameters!AT424","v":1},{"$f":"Parameters!AU424","v":1},{"$f":"Parameters!AV424","v":1},{"$f":"Parameters!AW424","v":1},{"$f":"Parameters!AX424","v":1},{"$f":"Parameters!AY424","v":1},{"$f":"Parameters!AZ424","v":1},{"$f":"Parameters!BA424","v":1},{"$f":"Parameters!BB424","v":1},{"$f":"Parameters!BC424","v":1},{"$f":"Parameters!BD424","v":1},{"$f":"Parameters!BE424","v":1},{"$f":"Parameters!BF424","v":1},{"$f":"Parameters!BG424","v":1},{"$f":"Parameters!BH424","v":1},{"$f":"Parameters!BI424","v":1},{"$f":"Parameters!BJ424","v":1},{"$f":"Parameters!BK424","v":1},{"$f":"Parameters!BL424","v":1},{"$f":"Parameters!BM424","v":1},{"$f":"Parameters!BN424","v":1}]
["S321",{"$f":"Parameters!K425","v":1},{"$f":"Parameters!L425","v":1},{"$f":"Parameters!M425","v":1},{"$f":"Parameters!N425","v":1},{"$f":"Parameters!O425","v":1},{"$f":"Parameters!P425","v":1},{"$f":"Parameters!Q425","v":1},{"$f":"Parameters!R425","v":1},{"$f":"Parameters!S425","v":1},{"$f":"Parameters!T425","v":1},{"$f":"Parameters!U425","v":1},{"$f":"Parameters!V425","v":1},{"$f":"Parameters!W425","v":1},{"$f":"Parameters!X425","v":1},{"$f":"Parameters!Y425","v":1},{"$f":"Parameters!Z425","v":1},{"$f":"Parameters!AA425","v":1},{"$f":"Parameters!AB425","v":1},{"$f":"Parameters!AC425","v":1},{"$f":"Parameters!AD425","v":1},{"$f":"Parameters!AE425","v":1},{"$f":"Parameters!AF425","v":1},{"$f":"Parameters!AG425","v":1},{"$f":"Parameters!AH425","v":1},{"$f":"Parameters!AI425","v":1},{"$f":"Parameters!AJ425","v":1},{"$f":"Parameters!AK425","v":1},{"$f":"Parameters!AL425","v":1},{"$f":"Parameters!AM425","v":1},{"$f":"Parameters!AN425","v":1},{"$f":"Parameters!AO425","v":1},{"$f":"Parameters!AP425","v":1},{"$f":"Parameters!AQ425","v":1},{"$f":"Parameters!AR425","v":1},{"$f":"Parameters!AS425","v":1},{"$f":"Parameters!AT425","v":1},{"$f":"Parameters!AU425","v":1},{"$f":"Parameters!AV425","v":1},{"$f":"Parameters!AW425","v":1},{"$f":"Parameters!AX425","v":1},{"$f":"Parameters!AY425","v":1},{"$f":"Parameters!AZ425","v":1},{"$f":"Parameters!BA425","v":1},{"$f":"Parameters!BB425","v":1},{"$f":"Parameters!BC425","v":1},{"$f":"Parameters!BD425","v":1},{"$f":"Parameters!BE425","v":1},{"$f":"Parameters!BF425","v":1},{"$f":"Parameters!BG425","v":1},{"$f":"Parameters!BH425","v":1},{"$f":"Parameters!BI425","v":1},{"$f":"Parameters!BJ425","v":1},{"$f":"Parameters!BK425","v":1},{"$f":"Parameters!BL425","v":1},{"$f":"Parameters!BM425","v":1},{"$f":"Parameters!BN425","v":1}]
["S322",{"$f":"Parameters!K426","v":1},{"$f":"Parameters!L426","v":1},{"$f":"Parameters!M426","v":1},{"$f":"Parameters!N426","v":1},{"$f":"Parameters!O426","v":1},{"$f":"Parameters!P426","v":1},{"$f":"Parameters!Q426","v":1},{"$f":"Parameters!R426","v":1},{"$f":"Parameters!S426","v":1},{"$f":"Parameters!T426","v":1},{"$f":"Parameters!U426","v":1},{"$f":"Parameters!V426","v":1},{"$f":"Parameters!W426","v":1},{"$f":"Parameters!X426","v":1},{"$f":"Parameters!Y426","v":1},{"$f":"Parameters!Z426","v":1},{"$f":"Parameters!AA426","v":1},{"$f":"Parameters!AB426","v":1},{"$f":"Parameters!AC426","v":1},{"$f":"Parameters!AD426","v":1},{"$f":"Parameters!AE426","v":1},{"$f":"Parameters!AF426","v":1},{"$f":"Parameters!AG426","v":1},{"$f":"Parameters!AH426","v":1},{"$f":"Parameters!AI426","v":1},{"$f":"Parameters!AJ426","v":1},{"$f":"Parameters!AK426","v":1},{"$f":"Parameters!AL426","v":1},{"$f":"Parameters!AM426","v":1},{"$f":"Parameters!AN426","v":1},{"$f":"Parameters!AO426","v":1},{"$f":"Parameters!AP426","v":1},{"$f":"Parameters!AQ426","v":1},{"$f":"Parameters!AR426","v":1},{"$f":"Parameters!AS426","v":1},{"$f":"Parameters!AT426","v":1},{"$f":"Parameters!AU426","v":1},{"$f":"Parameters!AV426","v":1},{"$f":"Parameters!AW426","v":1},{"$f":"Parameters!AX426","v":1},{"$f":"Parameters!AY426","v":1},{"$f":"Parameters!AZ426","v":1},{"$f":"Parameters!BA426","v":1},{"$f":"Parameters!BB426","v":1},{"$f":"Parameters!BC426","v":1},{"$f":"Parameters!BD426","v":1},{"$f":"Parameters!BE426","v":1},{"$f":"Parameters!BF426","v":1},{"$f":"Parameters!BG426","v":1},{"$f":"Parameters!BH426","v":1},{"$f":"Parameters!BI426","v":1},{"$f":"Parameters!BJ426","v":1},{"$f":"Parameters!BK426","v":1},{"$f":"Parameters!BL426","v":1},{"$f":"Parameters!BM426","v":1},{"$f":"Parameters!BN426","v":1}]
["S323",{"$f":"Parameters!K427","v":1},{"$f":"Parameters!L427","v":1},{"$f":"Parameters!M427","v":1},{"$f":"Parameters!N427","v":1},{"$f":"Parameters!O427","v":1},{"$f":"Parameters!P427","v":1},{"$f":"Parameters!Q427","v":1},{"$f":"Parameters!R427","v":1},{"$f":"Parameters!S427","v":1},{"$f":"Parameters!T427","v":1},{"$f":"Parameters!U427","v":1},{"$f":"Parameters!V427","v":1},{"$f":"Parameters!W427","v":1},{"$f":"Parameters!X427","v":1},{"$f":"Parameters!Y427","v":1},{"$f":"Parameters!Z427","v":1},{"$f":"Parameters!AA427","v":1},{"$f":"Parameters!AB427","v":1},{"$f":"Parameters!AC427","v":1},{"$f":"Parameters!AD427","v":1},{"$f":"Parameters!AE427","v":1},{"$f":"Parameters!AF427","v":1},{"$f":"Parameters!AG427","v":1},{"$f":"Parameters!AH427","v":1},{"$f":"Parameters!AI427","v":1},{"$f":"Parameters!AJ427","v":1},{"$f":"Parameters!AK427","v":1},{"$f":"Parameters!AL427","v":1},{"$f":"Parameters!AM427","v":1},{"$f":"Parameters!AN427","v":1},{"$f":"Parameters!AO427","v":1},{"$f":"Parameters!AP427","v":1},{"$f":"Parameters!AQ427","v":1},{"$f":"Parameters!AR427","v":1},{"$f":"Parameters!AS427","v":1},{"$f":"Parameters!AT427","v":1},{"$f":"Parameters!AU427","v":1},{"$f":"Parameters!AV427","v":1},{"$f":"Parameters!AW427","v":1},{"$f":"Parameters!AX427","v":1},{"$f":"Parameters!AY427","v":1},{"$f":"Parameters!AZ427","v":1},{"$f":"Parameters!BA427","v":1},{"$f":"Parameters!BB427","v":1},{"$f":"Parameters!BC427","v":1},{"$f":"Parameters!BD427","v":1},{"$f":"Parameters!BE427","v":1},{"$f":"Parameters!BF427","v":1},{"$f":"Parameters!BG427","v":1},{"$f":"Parameters!BH427","v":1},{"$f":"Parameters!BI427","v":1},{"$f":"Parameters!BJ427","v":1},{"$f":"Parameters!BK427","v":1},{"$f":"Parameters!BL427","v":1},{"$f":"Parameters!BM427","v":1},{"$f":"Parameters!BN427","v":1}]
["S324",{"$f":"Parameters!K428","v":1},{"$f":"Parameters!L428","v":1},{"$f":"Parameters!M428","v":1},{"$f":"Parameters!N428","v":1},{"$f":"Parameters!O428","v":1},{"$f":"Parameters!P428","v":1},{"$f":"Parameters!Q428","v":1},{"$f":"Parameters!R428","v":1},{"$f":"Parameters!S428","v":1},{"$f":"Parameters!T428","v":1},{"$f":"Parameters!U428","v":1},{"$f":"Parameters!V428","v":1},{"$f":"Parameters!W428","v":1},{"$f":"Parameters!X428","v":1},{"$f":"Parameters!Y428","v":1},{"$f":"Parameters!Z428","v":1},{"$f":"Parameters!AA428","v":1},{"$f":"Parameters!AB428","v":1},{"$f":"Parameters!AC428","v":1},{"$f":"Parameters!AD428","v":1},{"$f":"Parameters!AE428","v":1},{"$f":"Parameters!AF428","v":1},{"$f":"Parameters!AG428","v":1},{"$f":"Parameters!AH428","v":1},{"$f":"Parameters!AI428","v":1},{"$f":"Parameters!AJ428","v":1},{"$f":"Parameters!AK428","v":1},{"$f":"Parameters!AL428","v":1},{"$f":"Parameters!AM428","v":1},{"$f":"Parameters!AN428","v":1},{"$f":"Parameters!AO428","v":1},{"$f":"Parameters!AP428","v":1},{"$f":"Parameters!AQ428","v":1},{"$f":"Parameters!AR428","v":1},{"$f":"Parameters!AS428","v":1},{"$f":"Parameters!AT428","v":1},{"$f":"Parameters!AU428","v":1},{"$f":"Parameters!AV428","v":1},{"$f":"Parameters!AW428","v":1},{"$f":"Parameters!AX428","v":1},{"$f":"Parameters!AY428","v":1},{"$f":"Parameters!AZ428","v":1},{"$f":"Parameters!BA428","v":1},{"$f":"Parameters!BB428","v":1},{"$f":"Parameters!BC428","v":1},{"$f":"Parameters!BD428","v":1},{"$f":"Parameters!BE428","v":1},{"$f":"Parameters!BF428","v":1},{"$f":"Parameters!BG428","v":1},{"$f":"Parameters!BH428","v":1},{"$f":"Parameters!BI428","v":1},{"$f":"Parameters!BJ428","v":1},{"$f":"Parameters!BK428","v":1},{"$f":"Parameters!BL428","v":1},{"$f":"Parameters!BM428","v":1},{"$f":"Parameters!BN428","v":1}]
["S401",{"$f":"Parameters!K429","v":1},{"$f":"Parameters!L429","v":1},{"$f":"Parameters!M429","v":1},{"$f":"Parameters!N429","v":1},{"$f":"Parameters!O429","v":1},{"$f":"Parameters!P429","v":1},{"$f":"Parameters!Q429","v":1},{"$f":"Parameters!R429","v":1},{"$f":"Parameters!S429","v":1},{"$f":"Parameters!T429","v":1},{"$f":"Parameters!U429","v":1},{"$f":"Parameters!V429","v":1},{"$f":"Parameters!W429","v":1},{"$f":"Parameters!X429","v":1},{"$f":"Parameters!Y429","v":1},{"$f":"Parameters!Z429","v":1},{"$f":"Parameters!AA429","v":1},{"$f":"Parameters!AB429","v":1},{"$f":"Parameters!AC429","v":1},{"$f":"Parameters!AD429","v":1},{"$f":"Parameters!AE429","v":1},{"$f":"Parameters!AF429","v":1},{"$f":"Parameters!AG429","v":1},{"$f":"Parameters!AH429","v":1},{"$f":"Parameters!AI429","v":1},{"$f":"Parameters!AJ429","v":1},{"$f":"Parameters!AK429","v":1},{"$f":"Parameters!AL429","v":1},{"$f":"Parameters!AM429","v":1},{"$f":"Parameters!AN429","v":1},{"$f":"Parameters!AO429","v":1},{"$f":"Parameters!AP429","v":1},{"$f":"Parameters!AQ429","v":1},{"$f":"Parameters!AR429","v":1},{"$f":"Parameters!AS429","v":1},{"$f":"Parameters!AT429","v":1},{"$f":"Parameters!AU429","v":1},{"$f":"Parameters!AV429","v":1},{"$f":"Parameters!AW429","v":1},{"$f":"Parameters!AX429","v":1},{"$f":"Parameters!AY429","v":1},{"$f":"Parameters!AZ429","v":1},{"$f":"Parameters!BA429","v":1},{"$f":"Parameters!BB429","v":1},{"$f":"Parameters!BC429","v":1},{"$f":"Parameters!BD429","v":1},{"$f":"Parameters!BE429","v":1},{"$f":"Parameters!BF429","v":1},{"$f":"Parameters!BG429","v":1},{"$f":"Parameters!BH429","v":1},{"$f":"Parameters!BI429","v":1},{"$f":"Parameters!BJ429","v":1},{"$f":"Parameters!BK429","v":1},{"$f":"Parameters!BL429","v":1},{"$f":"Parameters!BM429","v":1},{"$f":"Parameters!BN429","v":1}]
["S402",{"$f":"Parameters!K430","v":1},{"$f":"Parameters!L430","v":1},{"$f":"Parameters!M430","v":1},{"$f":"Parameters!N430","v":1},{"$f":"Parameters!O430","v":1},{"$f":"Parameters!P430","v":1},{"$f":"Parameters!Q430","v":1},{"$f":"Parameters!R430","v":1},{"$f":"Parameters!S430","v":1},{"$f":"Parameters!T430","v":1},{"$f":"Parameters!U430","v":1},{"$f":"Parameters!V430","v":1},{"$f":"Parameters!W430","v":1},{"$f":"Parameters!X430","v":1},{"$f":"Parameters!Y430","v":1},{"$f":"Parameters!Z430","v":1},{"$f":"Parameters!AA430","v":1},{"$f":"Parameters!AB430","v":1},{"$f":"Parameters!AC430","v":1},{"$f":"Parameters!AD430","v":1},{"$f":"Parameters!AE430","v":1},{"$f":"Parameters!AF430","v":1},{"$f":"Parameters!AG430","v":1},{"$f":"Parameters!AH430","v":1},{"$f":"Parameters!AI430","v":1},{"$f":"Parameters!AJ430","v":1},{"$f":"Parameters!AK430","v":1},{"$f":"Parameters!AL430","v":1},{"$f":"Parameters!AM430","v":1},{"$f":"Parameters!AN430","v":1},{"$f":"Parameters!AO430","v":1},{"$f":"Parameters!AP430","v":1},{"$f":"Parameters!AQ430","v":1},{"$f":"Parameters!AR430","v":1},{"$f":"Parameters!AS430","v":1},{"$f":"Parameters!AT430","v":1},{"$f":"Parameters!AU430","v":1},{"$f":"Parameters!AV430","v":1},{"$f":"Parameters!AW430","v":1},{"$f":"Parameters!AX430","v":1},{"$f":"Parameters!AY430","v":1},{"$f":"Parameters!AZ430","v":1},{"$f":"Parameters!BA430","v":1},{"$f":"Parameters!BB430","v":1},{"$f":"Parameters!BC430","v":1},{"$f":"Parameters!BD430","v":1},{"$f":"Parameters!BE430","v":1},{"$f":"Parameters!BF430","v":1},{"$f":"Parameters!BG430","v":1},{"$f":"Parameters!BH430","v":1},{"$f":"Parameters!BI430","v":1},{"$f":"Parameters!BJ430","v":1},{"$f":"Parameters!BK430","v":1},{"$f":"Parameters!BL430","v":1},{"$f":"Parameters!BM430","v":1},{"$f":"Parameters!BN430","v":1}]
["S403",{"$f":"Parameters!K431","v":1},{"$f":"Parameters!L431","v":1},{"$f":"Parameters!M431","v":1},{"$f":"Parameters!N431","v":1},{"$f":"Parameters!O431","v":1},{"$f":"Parameters!P431","v":1},{"$f":"Parameters!Q431","v":1},{"$f":"Parameters!R431","v":1},{"$f":"Parameters!S431","v":1},{"$f":"Parameters!T431","v":1},{"$f":"Parameters!U431","v":1},{"$f":"Parameters!V431","v":1},{"$f":"Parameters!W431","v":1},{"$f":"Parameters!X431","v":1},{"$f":"Parameters!Y431","v":1},{"$f":"Parameters!Z431","v":1},{"$f":"Parameters!AA431","v":1},{"$f":"Parameters!AB431","v":1},{"$f":"Parameters!AC431","v":1},{"$f":"Parameters!AD431","v":1},{"$f":"Parameters!AE431","v":1},{"$f":"Parameters!AF431","v":1},{"$f":"Parameters!AG431","v":1},{"$f":"Parameters!AH431","v":1},{"$f":"Parameters!AI431","v":1},{"$f":"Parameters!AJ431","v":1},{"$f":"Parameters!AK431","v":1},{"$f":"Parameters!AL431","v":1},{"$f":"Parameters!AM431","v":1},{"$f":"Parameters!AN431","v":1},{"$f":"Parameters!AO431","v":1},{"$f":"Parameters!AP431","v":1},{"$f":"Parameters!AQ431","v":1},{"$f":"Parameters!AR431","v":1},{"$f":"Parameters!AS431","v":1},{"$f":"Parameters!AT431","v":1},{"$f":"Parameters!AU431","v":1},{"$f":"Parameters!AV431","v":1},{"$f":"Parameters!AW431","v":1},{"$f":"Parameters!AX431","v":1},{"$f":"Parameters!AY431","v":1},{"$f":"Parameters!AZ431","v":1},{"$f":"Parameters!BA431","v":1},{"$f":"Parameters!BB431","v":1},{"$f":"Parameters!BC431","v":1},{"$f":"Parameters!BD431","v":1},{"$f":"Parameters!BE431","v":1},{"$f":"Parameters!BF431","v":1},{"$f":"Parameters!BG431","v":1},{"$f":"Parameters!BH431","v":1},{"$f":"Parameters!BI431","v":1},{"$f":"Parameters!BJ431","v":1},{"$f":"Parameters!BK431","v":1},{"$f":"Parameters!BL431","v":1},{"$f":"Parameters!BM431","v":1},{"$f":"Parameters!BN431","v":1}]
["S404",{"$f":"Parameters!K432","v":1},{"$f":"Parameters!L432","v":1},{"$f":"Parameters!M432","v":1},{"$f":"Parameters!N432","v":1},{"$f":"Parameters!O432","v":1},{"$f":"Parameters!P432","v":1},{"$f":"Parameters!Q432","v":1},{"$f":"Parameters!R432","v":1},{"$f":"Parameters!S432","v":1},{"$f":"Parameters!T432","v":1},{"$f":"Parameters!U432","v":1},{"$f":"Parameters!V432","v":1},{"$f":"Parameters!W432","v":1},{"$f":"Parameters!X432","v":1},{"$f":"Parameters!Y432","v":1},{"$f":"Parameters!Z432","v":1},{"$f":"Parameters!AA432","v":1},{"$f":"Parameters!AB432","v":1},{"$f":"Parameters!AC432","v":1},{"$f":"Parameters!AD432","v":1},{"$f":"Parameters!AE432","v":1},{"$f":"Parameters!AF432","v":1},{"$f":"Parameters!AG432","v":1},{"$f":"Parameters!AH432","v":1},{"$f":"Parameters!AI432","v":1},{"$f":"Parameters!AJ432","v":1},{"$f":"Parameters!AK432","v":1},{"$f":"Parameters!AL432","v":1},{"$f":"Parameters!AM432","v":1},{"$f":"Parameters!AN432","v":1},{"$f":"Parameters!AO432","v":1},{"$f":"Parameters!AP432","v":1},{"$f":"Parameters!AQ432","v":1},{"$f":"Parameters!AR432","v":1},{"$f":"Parameters!AS432","v":1},{"$f":"Parameters!AT432","v":1},{"$f":"Parameters!AU432","v":1},{"$f":"Parameters!AV432","v":1},{"$f":"Parameters!AW432","v":1},{"$f":"Parameters!AX432","v":1},{"$f":"Parameters!AY432","v":1},{"$f":"Parameters!AZ432","v":1},{"$f":"Parameters!BA432","v":1},{"$f":"Parameters!BB432","v":1},{"$f":"Parameters!BC432","v":1},{"$f":"Parameters!BD432","v":1},{"$f":"Parameters!BE432","v":1},{"$f":"Parameters!BF432","v":1},{"$f":"Parameters!BG432","v":1},{"$f":"Parameters!BH432","v":1},{"$f":"Parameters!BI432","v":1},{"$f":"Parameters!BJ432","v":1},{"$f":"Parameters!BK432","v":1},{"$f":"Parameters!BL432","v":1},{"$f":"Parameters!BM432","v":1},{"$f":"Parameters!BN432","v":1}]
["S405",{"$f":"Parameters!K433","v":1},{"$f":"Parameters!L433","v":1},{"$f":"Parameters!M433","v":1},{"$f":"Parameters!N433","v":1},{"$f":"Parameters!O433","v":1},{"$f":"Parameters!P433","v":1},{"$f":"Parameters!Q433","v":1},{"$f":"Parameters!R433","v":1},{"$f":"Parameters!S433","v":1},{"$f":"Parameters!T433","v":1},{"$f":"Parameters!U433","v":1},{"$f":"Parameters!V433","v":1},{"$f":"Parameters!W433","v":1},{"$f":"Parameters!X433","v":1},{"$f":"Parameters!Y433","v":1},{"$f":"Parameters!Z433","v":1},{"$f":"Parameters!AA433","v":1},{"$f":"Parameters!AB433","v":1},{"$f":"Parameters!AC433","v":1},{"$f":"Parameters!AD433","v":1},{"$f":"Parameters!AE433","v":1},{"$f":"Parameters!AF433","v":1},{"$f":"Parameters!AG433","v":1},{"$f":"Parameters!AH433","v":1},{"$f":"Parameters!AI433","v":1},{"$f":"Parameters!AJ433","v":1},{"$f":"Parameters!AK433","v":1},{"$f":"Parameters!AL433","v":1},{"$f":"Parameters!AM433","v":1},{"$f":"Parameters!AN433","v":1},{"$f":"Parameters!AO433","v":1},{"$f":"Parameters!AP433","v":1},{"$f":"Parameters!AQ433","v":1},{"$f":"Parameters!AR433","v":1},{"$f":"Parameters!AS433","v":1},{"$f":"Parameters!AT433","v":1},{"$f":"Parameters!AU433","v":1},{"$f":"Parameters!AV433","v":1},{"$f":"Parameters!AW433","v":1},{"$f":"Parameters!AX433","v":1},{"$f":"Parameters!AY433","v":1},{"$f":"Parameters!AZ433","v":1},{"$f":"Parameters!BA433","v":1},{"$f":"Parameters!BB433","v":1},{"$f":"Parameters!BC433","v":1},{"$f":"Parameters!BD433","v":1},{"$f":"Parameters!BE433","v":1},{"$f":"Parameters!BF433","v":1},{"$f":"Parameters!BG433","v":1},{"$f":"Parameters!BH433","v":1},{"$f":"Parameters!BI433","v":1},{"$f":"Parameters!BJ433","v":1},{"$f":"Parameters!BK433","v":1},{"$f":"Parameters!BL433","v":1},{"$f":"Parameters!BM433","v":1},{"$f":"Parameters!BN433","v":1}]
["S406",{"$f":"Parameters!K434","v":1},{"$f":"Parameters!L434","v":1},{"$f":"Parameters!M434","v":1},{"$f":"Parameters!N434","v":1},{"$f":"Parameters!O434","v":1},{"$f":"Parameters!P434","v":1},{"$f":"Parameters!Q434","v":1},{"$f":"Parameters!R434","v":1},{"$f":"Parameters!S434","v":1},{"$f":"Parameters!T434","v":1},{"$f":"Parameters!U434","v":1},{"$f":"Parameters!V434","v":1},{"$f":"Parameters!W434","v":1},{"$f":"Parameters!X434","v":1},{"$f":"Parameters!Y434","v":1},{"$f":"Parameters!Z434","v":1},{"$f":"Parameters!AA434","v":1},{"$f":"Parameters!AB434","v":1},{"$f":"Parameters!AC434","v":1},{"$f":"Parameters!AD434","v":1},{"$f":"Parameters!AE434","v":1},{"$f":"Parameters!AF434","v":1},{"$f":"Parameters!AG434","v":1},{"$f":"Parameters!AH434","v":1},{"$f":"Parameters!AI434","v":1},{"$f":"Parameters!AJ434","v":1},{"$f":"Parameters!AK434","v":1},{"$f":"Parameters!AL434","v":1},{"$f":"Parameters!AM434","v":1},{"$f":"Parameters!AN434","v":1},{"$f":"Parameters!AO434","v":1},{"$f":"Parameters!AP434","v":1},{"$f":"Parameters!AQ434","v":1},{"$f":"Parameters!AR434","v":1},{"$f":"Parameters!AS434","v":1},{"$f":"Parameters!AT434","v":1},{"$f":"Parameters!AU434","v":1},{"$f":"Parameters!AV434","v":1},{"$f":"Parameters!AW434","v":1},{"$f":"Parameters!AX434","v":1},{"$f":"Parameters!AY434","v":1},{"$f":"Parameters!AZ434","v":1},{"$f":"Parameters!BA434","v":1},{"$f":"Parameters!BB434","v":1},{"$f":"Parameters!BC434","v":1},{"$f":"Parameters!BD434","v":1},{"$f":"Parameters!BE434","v":1},{"$f":"Parameters!BF434","v":1},{"$f":"Parameters!BG434","v":1},{"$f":"Parameters!BH434","v":1},{"$f":"Parameters!BI434","v":1},{"$f":"Parameters!BJ434","v":1},{"$f":"Parameters!BK434","v":1},{"$f":"Parameters!BL434","v":1},{"$f":"Parameters!BM434","v":1},{"$f":"Parameters!BN434","v":1}]
["S407",{"$f":"Parameters!K435","v":1},{"$f":"Parameters!L435","v":1},{"$f":"Parameters!M435","v":1},{"$f":"Parameters!N435","v":1},{"$f":"Parameters!O435","v":1},{"$f":"Parameters!P435","v":1},{"$f":"Parameters!Q435","v":1},{"$f":"Parameters!R435","v":1},{"$f":"Parameters!S435","v":1},{"$f":"Parameters!T435","v":1},{"$f":"Parameters!U435","v":1},{"$f":"Parameters!V435","v":1},{"$f":"Parameters!W435","v":1},{"$f":"Parameters!X435","v":1},{"$f":"Parameters!Y435","v":1},{"$f":"Parameters!Z435","v":1},{"$f":"Parameters!AA435","v":1},{"$f":"Parameters!AB435","v":1},{"$f":"Parameters!AC435","v":1},{"$f":"Parameters!AD435","v":1},{"$f":"Parameters!AE435","v":1},{"$f":"Parameters!AF435","v":1},{"$f":"Parameters!AG435","v":1},{"$f":"Parameters!AH435","v":1},{"$f":"Parameters!AI435","v":1},{"$f":"Parameters!AJ435","v":1},{"$f":"Parameters!AK435","v":1},{"$f":"Parameters!AL435","v":1},{"$f":"Parameters!AM435","v":1},{"$f":"Parameters!AN435","v":1},{"$f":"Parameters!AO435","v":1},{"$f":"Parameters!AP435","v":1},{"$f":"Parameters!AQ435","v":1},{"$f":"Parameters!AR435","v":1},{"$f":"Parameters!AS435","v":1},{"$f":"Parameters!AT435","v":1},{"$f":"Parameters!AU435","v":1},{"$f":"Parameters!AV435","v":1},{"$f":"Parameters!AW435","v":1},{"$f":"Parameters!AX435","v":1},{"$f":"Parameters!AY435","v":1},{"$f":"Parameters!AZ435","v":1},{"$f":"Parameters!BA435","v":1},{"$f":"Parameters!BB435","v":1},{"$f":"Parameters!BC435","v":1},{"$f":"Parameters!BD435","v":1},{"$f":"Parameters!BE435","v":1},{"$f":"Parameters!BF435","v":1},{"$f":"Parameters!BG435","v":1},{"$f":"Parameters!BH435","v":1},{"$f":"Parameters!BI435","v":1},{"$f":"Parameters!BJ435","v":1},{"$f":"Parameters!BK435","v":1},{"$f":"Parameters!BL435","v":1},{"$f":"Parameters!BM435","v":1},{"$f":"Parameters!BN435","v":1}]
["S408",{"$f":"Parameters!K436","v":1},{"$f":"Parameters!L436","v":1},{"$f":"Parameters!M436","v":1},{"$f":"Parameters!N436","v":1},{"$f":"Parameters!O436","v":1},{"$f":"Parameters!P436","v":1},{"$f":"Parameters!Q436","v":1},{"$f":"Parameters!R436","v":1},{"$f":"Parameters!S436","v":1},{"$f":"Parameters!T436","v":1},{"$f":"Parameters!U436","v":1},{"$f":"Parameters!V436","v":1},{"$f":"Parameters!W436","v":1},{"$f":"Parameters!X436","v":1},{"$f":"Parameters!Y436","v":1},{"$f":"Parameters!Z436","v":1},{"$f":"Parameters!AA436","v":1},{"$f":"Parameters!AB436","v":1},{"$f":"Parameters!AC436","v":1},{"$f":"Parameters!AD436","v":1},{"$f":"Parameters!AE436","v":1},{"$f":"Parameters!AF436","v":1},{"$f":"Parameters!AG436","v":1},{"$f":"Parameters!AH436","v":1},{"$f":"Parameters!AI436","v":1},{"$f":"Parameters!AJ436","v":1},{"$f":"Parameters!AK436","v":1},{"$f":"Parameters!AL436","v":1},{"$f":"Parameters!AM436","v":1},{"$f":"Parameters!AN436","v":1},{"$f":"Parameters!AO436","v":1},{"$f":"Parameters!AP436","v":1},{"$f":"Parameters!AQ436","v":1},{"$f":"Parameters!AR436","v":1},{"$f":"Parameters!AS436","v":1},{"$f":"Parameters!AT436","v":1},{"$f":"Parameters!AU436","v":1},{"$f":"Parameters!AV436","v":1},{"$f":"Parameters!AW436","v":1},{"$f":"Parameters!AX436","v":1},{"$f":"Parameters!AY436","v":1},{"$f":"Parameters!AZ436","v":1},{"$f":"Parameters!BA436","v":1},{"$f":"Parameters!BB436","v":1},{"$f":"Parameters!BC436","v":1},{"$f":"Parameters!BD436","v":1},{"$f":"Parameters!BE436","v":1},{"$f":"Parameters!BF436","v":1},{"$f":"Parameters!BG436","v":1},{"$f":"Parameters!BH436","v":1},{"$f":"Parameters!BI436","v":1},{"$f":"Parameters!BJ436","v":1},{"$f":"Parameters!BK436","v":1},{"$f":"Parameters!BL436","v":1},{"$f":"Parameters!BM436","v":1},{"$f":"Parameters!BN436","v":1}]
["S409",{"$f":"Parameters!K437","v":1},{"$f":"Parameters!L437","v":1},{"$f":"Parameters!M437","v":1},{"$f":"Parameters!N437","v":1},{"$f":"Parameters!O437","v":1},{"$f":"Parameters!P437","v":1},{"$f":"Parameters!Q437","v":1},{"$f":"Parameters!R437","v":1},{"$f":"Parameters!S437","v":1},{"$f":"Parameters!T437","v":1},{"$f":"Parameters!U437","v":1},{"$f":"Parameters!V437","v":1},{"$f":"Parameters!W437","v":1},{"$f":"Parameters!X437","v":1},{"$f":"Parameters!Y437","v":1},{"$f":"Parameters!Z437","v":1},{"$f":"Parameters!AA437","v":1},{"$f":"Parameters!AB437","v":1},{"$f":"Parameters!AC437","v":1},{"$f":"Parameters!AD437","v":1},{"$f":"Parameters!AE437","v":1},{"$f":"Parameters!AF437","v":1},{"$f":"Parameters!AG437","v":1},{"$f":"Parameters!AH437","v":1},{"$f":"Parameters!AI437","v":1},{"$f":"Parameters!AJ437","v":1},{"$f":"Parameters!AK437","v":1},{"$f":"Parameters!AL437","v":1},{"$f":"Parameters!AM437","v":1},{"$f":"Parameters!AN437","v":1},{"$f":"Parameters!AO437","v":1},{"$f":"Parameters!AP437","v":1},{"$f":"Parameters!AQ437","v":1},{"$f":"Parameters!AR437","v":1},{"$f":"Parameters!AS437","v":1},{"$f":"Parameters!AT437","v":1},{"$f":"Parameters!AU437","v":1},{"$f":"Parameters!AV437","v":1},{"$f":"Parameters!AW437","v":1},{"$f":"Parameters!AX437","v":1},{"$f":"Parameters!AY437","v":1},{"$f":"Parameters!AZ437","v":1},{"$f":"Parameters!BA437","v":1},{"$f":"Parameters!BB437","v":1},{"$f":"Parameters!BC437","v":1},{"$f":"Parameters!BD437","v":1},{"$f":"Parameters!BE437","v":1},{"$f":"Parameters!BF437","v":1},{"$f":"Parameters!BG437","v":1},{"$f":"Parameters!BH437","v":1},{"$f":"Parameters!BI437","v":1},{"$f":"Parameters!BJ437","v":1},{"$f":"Parameters!BK437","v":1},{"$f":"Parameters!BL437","v":1},{"$f":"Parameters!BM437","v":1},{"$f":"Parameters!BN437","v":1}]
["S410",{"$f":"Parameters!K438","v":1},{"$f":"Parameters!L438","v":1},{"$f":"Parameters!M438","v":1},{"$f":"Parameters!N438","v":1},{"$f":"Parameters!O438","v":1},{"$f":"Parameters!P438","v":1},{"$f":"Parameters!Q438","v":1},{"$f":"Parameters!R438","v":1},{"$f":"Parameters!S438","v":1},{"$f":"Parameters!T438","v":1},{"$f":"Parameters!U438","v":1},{"$f":"Parameters!V438","v":1},{"$f":"Parameters!W438","v":1},{"$f":"Parameters!X438","v":1},{"$f":"Parameters!Y438","v":1},{"$f":"Parameters!Z438","v":1},{"$f":"Parameters!AA438","v":1},{"$f":"Parameters!AB438","v":1},{"$f":"Parameters!AC438","v":1},{"$f":"Parameters!AD438","v":1},{"$f":"Parameters!AE438","v":1},{"$f":"Parameters!AF438","v":1},{"$f":"Parameters!AG438","v":1},{"$f":"Parameters!AH438","v":1},{"$f":"Parameters!AI438","v":1},{"$f":"Parameters!AJ438","v":1},{"$f":"Parameters!AK438","v":1},{"$f":"Parameters!AL438","v":1},{"$f":"Parameters!AM438","v":1},{"$f":"Parameters!AN438","v":1},{"$f":"Parameters!AO438","v":1},{"$f":"Parameters!AP438","v":1},{"$f":"Parameters!AQ438","v":1},{"$f":"Parameters!AR438","v":1},{"$f":"Parameters!AS438","v":1},{"$f":"Parameters!AT438","v":1},{"$f":"Parameters!AU438","v":1},{"$f":"Parameters!AV438","v":1},{"$f":"Parameters!AW438","v":1},{"$f":"Parameters!AX438","v":1},{"$f":"Parameters!AY438","v":1},{"$f":"Parameters!AZ438","v":1},{"$f":"Parameters!BA438","v":1},{"$f":"Parameters!BB438","v":1},{"$f":"Parameters!BC438","v":1},{"$f":"Parameters!BD438","v":1},{"$f":"Parameters!BE438","v":1},{"$f":"Parameters!BF438","v":1},{"$f":"Parameters!BG438","v":1},{"$f":"Parameters!BH438","v":1},{"$f":"Parameters!BI438","v":1},{"$f":"Parameters!BJ438","v":1},{"$f":"Parameters!BK438","v":1},{"$f":"Parameters!BL438","v":1},{"$f":"Parameters!BM438","v":1},{"$f":"Parameters!BN438","v":1}]
["S411",{"$f":"Parameters!K439","v":1},{"$f":"Parameters!L439","v":1},{"$f":"Parameters!M439","v":1},{"$f":"Parameters!N439","v":1},{"$f":"Parameters!O439","v":1},{"$f":"Parameters!P439","v":1},{"$f":"Parameters!Q439","v":1},{"$f":"Parameters!R439","v":1},{"$f":"Parameters!S439","v":1},{"$f":"Parameters!T439","v":1},{"$f":"Parameters!U439","v":1},{"$f":"Parameters!V439","v":1},{"$f":"Parameters!W439","v":1},{"$f":"Parameters!X439","v":1},{"$f":"Parameters!Y439","v":1},{"$f":"Parameters!Z439","v":1},{"$f":"Parameters!AA439","v":1},{"$f":"Parameters!AB439","v":1},{"$f":"Parameters!AC439","v":1},{"$f":"Parameters!AD439","v":1},{"$f":"Parameters!AE439","v":1},{"$f":"Parameters!AF439","v":1},{"$f":"Parameters!AG439","v":1},{"$f":"Parameters!AH439","v":1},{"$f":"Parameters!AI439","v":1},{"$f":"Parameters!AJ439","v":1},{"$f":"Parameters!AK439","v":1},{"$f":"Parameters!AL439","v":1},{"$f":"Parameters!AM439","v":1},{"$f":"Parameters!AN439","v":1},{"$f":"Parameters!AO439","v":1},{"$f":"Parameters!AP439","v":1},{"$f":"Parameters!AQ439","v":1},{"$f":"Parameters!AR439","v":1},{"$f":"Parameters!AS439","v":1},{"$f":"Parameters!AT439","v":1},{"$f":"Parameters!AU439","v":1},{"$f":"Parameters!AV439","v":1},{"$f":"Parameters!AW439","v":1},{"$f":"Parameters!AX439","v":1},{"$f":"Parameters!AY439","v":1},{"$f":"Parameters!AZ439","v":1},{"$f":"Parameters!BA439","v":1},{"$f":"Parameters!BB439","v":1},{"$f":"Parameters!BC439","v":1},{"$f":"Parameters!BD439","v":1},{"$f":"Parameters!BE439","v":1},{"$f":"Parameters!BF439","v":1},{"$f":"Parameters!BG439","v":1},{"$f":"Parameters!BH439","v":1},{"$f":"Parameters!BI439","v":1},{"$f":"Parameters!BJ439","v":1},{"$f":"Parameters!BK439","v":1},{"$f":"Parameters!BL439","v":1},{"$f":"Parameters!BM439","v":1},{"$f":"Parameters!BN439","v":1}]
["S412",{"$f":"Parameters!K440","v":1},{"$f":"Parameters!L440","v":1},{"$f":"Parameters!M440","v":1},{"$f":"Parameters!N440","v":1},{"$f":"Parameters!O440","v":1},{"$f":"Parameters!P440","v":1},{"$f":"Parameters!Q440","v":1},{"$f":"Parameters!R440","v":1},{"$f":"Parameters!S440","v":1},{"$f":"Parameters!T440","v":1},{"$f":"Parameters!U440","v":1},{"$f":"Parameters!V440","v":1},{"$f":"Parameters!W440","v":1},{"$f":"Parameters!X440","v":1},{"$f":"Parameters!Y440","v":1},{"$f":"Parameters!Z440","v":1},{"$f":"Parameters!AA440","v":1},{"$f":"Parameters!AB440","v":1},{"$f":"Parameters!AC440","v":1},{"$f":"Parameters!AD440","v":1},{"$f":"Parameters!AE440","v":1},{"$f":"Parameters!AF440","v":1},{"$f":"Parameters!AG440","v":1},{"$f":"Parameters!AH440","v":1},{"$f":"Parameters!AI440","v":1},{"$f":"Parameters!AJ440","v":1},{"$f":"Parameters!AK440","v":1},{"$f":"Parameters!AL440","v":1},{"$f":"Parameters!AM440","v":1},{"$f":"Parameters!AN440","v":1},{"$f":"Parameters!AO440","v":1},{"$f":"Parameters!AP440","v":1},{"$f":"Parameters!AQ440","v":1},{"$f":"Parameters!AR440","v":1},{"$f":"Parameters!AS440","v":1},{"$f":"Parameters!AT440","v":1},{"$f":"Parameters!AU440","v":1},{"$f":"Parameters!AV440","v":1},{"$f":"Parameters!AW440","v":1},{"$f":"Parameters!AX440","v":1},{"$f":"Parameters!AY440","v":1},{"$f":"Parameters!AZ440","v":1},{"$f":"Parameters!BA440","v":1},{"$f":"Parameters!BB440","v":1},{"$f":"Parameters!BC440","v":1},{"$f":"Parameters!BD440","v":1},{"$f":"Parameters!BE440","v":1},{"$f":"Parameters!BF440","v":1},{"$f":"Parameters!BG440","v":1},{"$f":"Parameters!BH440","v":1},{"$f":"Parameters!BI440","v":1},{"$f":"Parameters!BJ440","v":1},{"$f":"Parameters!BK440","v":1},{"$f":"Parameters!BL440","v":1},{"$f":"Parameters!BM440","v":1},{"$f":"Parameters!BN440","v":1}]
["S413",{"$f":"Parameters!K441","v":1},{"$f":"Parameters!L441","v":1},{"$f":"Parameters!M441","v":1},{"$f":"Parameters!N441","v":1},{"$f":"Parameters!O441","v":1},{"$f":"Parameters!P441","v":1},{"$f":"Parameters!Q441","v":1},{"$f":"Parameters!R441","v":1},{"$f":"Parameters!S441","v":1},{"$f":"Parameters!T441","v":1},{"$f":"Parameters!U441","v":1},{"$f":"Parameters!V441","v":1},{"$f":"Parameters!W441","v":1},{"$f":"Parameters!X441","v":1},{"$f":"Parameters!Y441","v":1},{"$f":"Parameters!Z441","v":1},{"$f":"Parameters!AA441","v":1},{"$f":"Parameters!AB441","v":1},{"$f":"Parameters!AC441","v":1},{"$f":"Parameters!AD441","v":1},{"$f":"Parameters!AE441","v":1},{"$f":"Parameters!AF441","v":1},{"$f":"Parameters!AG441","v":1},{"$f":"Parameters!AH441","v":1},{"$f":"Parameters!AI441","v":1},{"$f":"Parameters!AJ441","v":1},{"$f":"Parameters!AK441","v":1},{"$f":"Parameters!AL441","v":1},{"$f":"Parameters!AM441","v":1},{"$f":"Parameters!AN441","v":1},{"$f":"Parameters!AO441","v":1},{"$f":"Parameters!AP441","v":1},{"$f":"Parameters!AQ441","v":1},{"$f":"Parameters!AR441","v":1},{"$f":"Parameters!AS441","v":1},{"$f":"Parameters!AT441","v":1},{"$f":"Parameters!AU441","v":1},{"$f":"Parameters!AV441","v":1},{"$f":"Parameters!AW441","v":1},{"$f":"Parameters!AX441","v":1},{"$f":"Parameters!AY441","v":1},{"$f":"Parameters!AZ441","v":1},{"$f":"Parameters!BA441","v":1},{"$f":"Parameters!BB441","v":1},{"$f":"Parameters!BC441","v":1},{"$f":"Parameters!BD441","v":1},{"$f":"Parameters!BE441","v":1},{"$f":"Parameters!BF441","v":1},{"$f":"Parameters!BG441","v":1},{"$f":"Parameters!BH441","v":1},{"$f":"Parameters!BI441","v":1},{"$f":"Parameters!BJ441","v":1},{"$f":"Parameters!BK441","v":1},{"$f":"Parameters!BL441","v":1},{"$f":"Parameters!BM441","v":1},{"$f":"Parameters!BN441","v":1}]
["S414",{"$f":"Parameters!K442","v":1},{"$f":"Parameters!L442","v":1},{"$f":"Parameters!M442","v":1},{"$f":"Parameters!N442","v":1},{"$f":"Parameters!O442","v":1},{"$f":"Parameters!P442","v":1},{"$f":"Parameters!Q442","v":1},{"$f":"Parameters!R442","v":1},{"$f":"Parameters!S442","v":1},{"$f":"Parameters!T442","v":1},{"$f":"Parameters!U442","v":1},{"$f":"Parameters!V442","v":1},{"$f":"Parameters!W442","v":1},{"$f":"Parameters!X442","v":1},{"$f":"Parameters!Y442","v":1},{"$f":"Parameters!Z442","v":1},{"$f":"Parameters!AA442","v":1},{"$f":"Parameters!AB442","v":1},{"$f":"Parameters!AC442","v":1},{"$f":"Parameters!AD442","v":1},{"$f":"Parameters!AE442","v":1},{"$f":"Parameters!AF442","v":1},{"$f":"Parameters!AG442","v":1},{"$f":"Parameters!AH442","v":1},{"$f":"Parameters!AI442","v":1},{"$f":"Parameters!AJ442","v":1},{"$f":"Parameters!AK442","v":1},{"$f":"Parameters!AL442","v":1},{"$f":"Parameters!AM442","v":1},{"$f":"Parameters!AN442","v":1},{"$f":"Parameters!AO442","v":1},{"$f":"Parameters!AP442","v":1},{"$f":"Parameters!AQ442","v":1},{"$f":"Parameters!AR442","v":1},{"$f":"Parameters!AS442","v":1},{"$f":"Parameters!AT442","v":1},{"$f":"Parameters!AU442","v":1},{"$f":"Parameters!AV442","v":1},{"$f":"Parameters!AW442","v":1},{"$f":"Parameters!AX442","v":1},{"$f":"Parameters!AY442","v":1},{"$f":"Parameters!AZ442","v":1},{"$f":"Parameters!BA442","v":1},{"$f":"Parameters!BB442","v":1},{"$f":"Parameters!BC442","v":1},{"$f":"Parameters!BD442","v":1},{"$f":"Parameters!BE442","v":1},{"$f":"Parameters!BF442","v":1},{"$f":"Parameters!BG442","v":1},{"$f":"Parameters!BH442","v":1},{"$f":"Parameters!BI442","v":1},{"$f":"Parameters!BJ442","v":1},{"$f":"Parameters!BK442","v":1},{"$f":"Parameters!BL442","v":1},{"$f":"Parameters!BM442","v":1},{"$f":"Parameters!BN442","v":1}]
["S415",{"$f":"Parameters!K443","v":1},{"$f":"Parameters!L443","v":1},{"$f":"Parameters!M443","v":1},{"$f":"Parameters!N443","v":1},{"$f":"Parameters!O443","v":1},{"$f":"Parameters!P443","v":1},{"$f":"Parameters!Q443","v":1},{"$f":"Parameters!R443","v":1},{"$f":"Parameters!S443","v":1},{"$f":"Parameters!T443","v":1},{"$f":"Parameters!U443","v":1},{"$f":"Parameters!V443","v":1},{"$f":"Parameters!W443","v":1},{"$f":"Parameters!X443","v":1},{"$f":"Parameters!Y443","v":1},{"$f":"Parameters!Z443","v":1},{"$f":"Parameters!AA443","v":1},{"$f":"Parameters!AB443","v":1},{"$f":"Parameters!AC443","v":1},{"$f":"Parameters!AD443","v":1},{"$f":"Parameters!AE443","v":1},{"$f":"Parameters!AF443","v":1},{"$f":"Parameters!AG443","v":1},{"$f":"Parameters!AH443","v":1},{"$f":"Parameters!AI443","v":1},{"$f":"Parameters!AJ443","v":1},{"$f":"Parameters!AK443","v":1},{"$f":"Parameters!AL443","v":1},{"$f":"Parameters!AM443","v":1},{"$f":"Parameters!AN443","v":1},{"$f":"Parameters!AO443","v":1},{"$f":"Parameters!AP443","v":1},{"$f":"Parameters!AQ443","v":1},{"$f":"Parameters!AR443","v":1},{"$f":"Parameters!AS443","v":1},{"$f":"Parameters!AT443","v":1},{"$f":"Parameters!AU443","v":1},{"$f":"Parameters!AV443","v":1},{"$f":"Parameters!AW443","v":1},{"$f":"Parameters!AX443","v":1},{"$f":"Parameters!AY443","v":1},{"$f":"Parameters!AZ443","v":1},{"$f":"Parameters!BA443","v":1},{"$f":"Parameters!BB443","v":1},{"$f":"Parameters!BC443","v":1},{"$f":"Parameters!BD443","v":1},{"$f":"Parameters!BE443","v":1},{"$f":"Parameters!BF443","v":1},{"$f":"Parameters!BG443","v":1},{"$f":"Parameters!BH443","v":1},{"$f":"Parameters!BI443","v":1},{"$f":"Parameters!BJ443","v":1},{"$f":"Parameters!BK443","v":1},{"$f":"Parameters!BL443","v":1},{"$f":"Parameters!BM443","v":1},{"$f":"Parameters!BN443","v":1}]
["S416",{"$f":"Parameters!K444","v":1},{"$f":"Parameters!L444","v":1},{"$f":"Parameters!M444","v":1},{"$f":"Parameters!N444","v":1},{"$f":"Parameters!O444","v":1},{"$f":"Parameters!P444","v":1},{"$f":"Parameters!Q444","v":1},{"$f":"Parameters!R444","v":1},{"$f":"Parameters!S444","v":1},{"$f":"Parameters!T444","v":1},{"$f":"Parameters!U444","v":1},{"$f":"Parameters!V444","v":1},{"$f":"Parameters!W444","v":1},{"$f":"Parameters!X444","v":1},{"$f":"Parameters!Y444","v":1},{"$f":"Parameters!Z444","v":1},{"$f":"Parameters!AA444","v":1},{"$f":"Parameters!AB444","v":1},{"$f":"Parameters!AC444","v":1},{"$f":"Parameters!AD444","v":1},{"$f":"Parameters!AE444","v":1},{"$f":"Parameters!AF444","v":1},{"$f":"Parameters!AG444","v":1},{"$f":"Parameters!AH444","v":1},{"$f":"Parameters!AI444","v":1},{"$f":"Parameters!AJ444","v":1},{"$f":"Parameters!AK444","v":1},{"$f":"Parameters!AL444","v":1},{"$f":"Parameters!AM444","v":1},{"$f":"Parameters!AN444","v":1},{"$f":"Parameters!AO444","v":1},{"$f":"Parameters!AP444","v":1},{"$f":"Parameters!AQ444","v":1},{"$f":"Parameters!AR444","v":1},{"$f":"Parameters!AS444","v":1},{"$f":"Parameters!AT444","v":1},{"$f":"Parameters!AU444","v":1},{"$f":"Parameters!AV444","v":1},{"$f":"Parameters!AW444","v":1},{"$f":"Parameters!AX444","v":1},{"$f":"Parameters!AY444","v":1},{"$f":"Parameters!AZ444","v":1},{"$f":"Parameters!BA444","v":1},{"$f":"Parameters!BB444","v":1},{"$f":"Parameters!BC444","v":1},{"$f":"Parameters!BD444","v":1},{"$f":"Parameters!BE444","v":1},{"$f":"Parameters!BF444","v":1},{"$f":"Parameters!BG444","v":1},{"$f":"Parameters!BH444","v":1},{"$f":"Parameters!BI444","v":1},{"$f":"Parameters!BJ444","v":1},{"$f":"Parameters!BK444","v":1},{"$f":"Parameters!BL444","v":1},{"$f":"Parameters!BM444","v":1},{"$f":"Parameters!BN444","v":1}]
["S417",{"$f":"Parameters!K445","v":1},{"$f":"Parameters!L445","v":1},{"$f":"Parameters!M445","v":1},{"$f":"Parameters!N445","v":1},{"$f":"Parameters!O445","v":1},{"$f":"Parameters!P445","v":1},{"$f":"Parameters!Q445","v":1},{"$f":"Parameters!R445","v":1},{"$f":"Parameters!S445","v":1},{"$f":"Parameters!T445","v":1},{"$f":"Parameters!U445","v":1},{"$f":"Parameters!V445","v":1},{"$f":"Parameters!W445","v":1},{"$f":"Parameters!X445","v":1},{"$f":"Parameters!Y445","v":1},{"$f":"Parameters!Z445","v":1},{"$f":"Parameters!AA445","v":1},{"$f":"Parameters!AB445","v":1},{"$f":"Parameters!AC445","v":1},{"$f":"Parameters!AD445","v":1},{"$f":"Parameters!AE445","v":1},{"$f":"Parameters!AF445","v":1},{"$f":"Parameters!AG445","v":1},{"$f":"Parameters!AH445","v":1},{"$f":"Parameters!AI445","v":1},{"$f":"Parameters!AJ445","v":1},{"$f":"Parameters!AK445","v":1},{"$f":"Parameters!AL445","v":1},{"$f":"Parameters!AM445","v":1},{"$f":"Parameters!AN445","v":1},{"$f":"Parameters!AO445","v":1},{"$f":"Parameters!AP445","v":1},{"$f":"Parameters!AQ445","v":1},{"$f":"Parameters!AR445","v":1},{"$f":"Parameters!AS445","v":1},{"$f":"Parameters!AT445","v":1},{"$f":"Parameters!AU445","v":1},{"$f":"Parameters!AV445","v":1},{"$f":"Parameters!AW445","v":1},{"$f":"Parameters!AX445","v":1},{"$f":"Parameters!AY445","v":1},{"$f":"Parameters!AZ445","v":1},{"$f":"Parameters!BA445","v":1},{"$f":"Parameters!BB445","v":1},{"$f":"Parameters!BC445","v":1},{"$f":"Parameters!BD445","v":1},{"$f":"Parameters!BE445","v":1},{"$f":"Parameters!BF445","v":1},{"$f":"Parameters!BG445","v":1},{"$f":"Parameters!BH445","v":1},{"$f":"Parameters!BI445","v":1},{"$f":"Parameters!BJ445","v":1},{"$f":"Parameters!BK445","v":1},{"$f":"Parameters!BL445","v":1},{"$f":"Parameters!BM445","v":1},{"$f":"Parameters!BN445","v":1}]
["S418",{"$f":"Parameters!K446","v":1},{"$f":"Parameters!L446","v":1},{"$f":"Parameters!M446","v":1},{"$f":"Parameters!N446","v":1},{"$f":"Parameters!O446","v":1},{"$f":"Parameters!P446","v":1},{"$f":"Parameters!Q446","v":1},{"$f":"Parameters!R446","v":1},{"$f":"Parameters!S446","v":1},{"$f":"Parameters!T446","v":1},{"$f":"Parameters!U446","v":1},{"$f":"Parameters!V446","v":1},{"$f":"Parameters!W446","v":1},{"$f":"Parameters!X446","v":1},{"$f":"Parameters!Y446","v":1},{"$f":"Parameters!Z446","v":1},{"$f":"Parameters!AA446","v":1},{"$f":"Parameters!AB446","v":1},{"$f":"Parameters!AC446","v":1},{"$f":"Parameters!AD446","v":1},{"$f":"Parameters!AE446","v":1},{"$f":"Parameters!AF446","v":1},{"$f":"Parameters!AG446","v":1},{"$f":"Parameters!AH446","v":1},{"$f":"Parameters!AI446","v":1},{"$f":"Parameters!AJ446","v":1},{"$f":"Parameters!AK446","v":1},{"$f":"Parameters!AL446","v":1},{"$f":"Parameters!AM446","v":1},{"$f":"Parameters!AN446","v":1},{"$f":"Parameters!AO446","v":1},{"$f":"Parameters!AP446","v":1},{"$f":"Parameters!AQ446","v":1},{"$f":"Parameters!AR446","v":1},{"$f":"Parameters!AS446","v":1},{"$f":"Parameters!AT446","v":1},{"$f":"Parameters!AU446","v":1},{"$f":"Parameters!AV446","v":1},{"$f":"Parameters!AW446","v":1},{"$f":"Parameters!AX446","v":1},{"$f":"Parameters!AY446","v":1},{"$f":"Parameters!AZ446","v":1},{"$f":"Parameters!BA446","v":1},{"$f":"Parameters!BB446","v":1},{"$f":"Parameters!BC446","v":1},{"$f":"Parameters!BD446","v":1},{"$f":"Parameters!BE446","v":1},{"$f":"Parameters!BF446","v":1},{"$f":"Parameters!BG446","v":1},{"$f":"Parameters!BH446","v":1},{"$f":"Parameters!BI446","v":1},{"$f":"Parameters!BJ446","v":1},{"$f":"Parameters!BK446","v":1},{"$f":"Parameters!BL446","v":1},{"$f":"Parameters!BM446","v":1},{"$f":"Parameters!BN446","v":1}]
["S419",{"$f":"Parameters!K447","v":1},{"$f":"Parameters!L447","v":1},{"$f":"Parameters!M447","v":1},{"$f":"Parameters!N447","v":1},{"$f":"Parameters!O447","v":1},{"$f":"Parameters!P447","v":1},{"$f":"Parameters!Q447","v":1},{"$f":"Parameters!R447","v":1},{"$f":"Parameters!S447","v":1},{"$f":"Parameters!T447","v":1},{"$f":"Parameters!U447","v":1},{"$f":"Parameters!V447","v":1},{"$f":"Parameters!W447","v":1},{"$f":"Parameters!X447","v":1},{"$f":"Parameters!Y447","v":1},{"$f":"Parameters!Z447","v":1},{"$f":"Parameters!AA447","v":1},{"$f":"Parameters!AB447","v":1},{"$f":"Parameters!AC447","v":1},{"$f":"Parameters!AD447","v":1},{"$f":"Parameters!AE447","v":1},{"$f":"Parameters!AF447","v":1},{"$f":"Parameters!AG447","v":1},{"$f":"Parameters!AH447","v":1},{"$f":"Parameters!AI447","v":1},{"$f":"Parameters!AJ447","v":1},{"$f":"Parameters!AK447","v":1},{"$f":"Parameters!AL447","v":1},{"$f":"Parameters!AM447","v":1},{"$f":"Parameters!AN447","v":1},{"$f":"Parameters!AO447","v":1},{"$f":"Parameters!AP447","v":1},{"$f":"Parameters!AQ447","v":1},{"$f":"Parameters!AR447","v":1},{"$f":"Parameters!AS447","v":1},{"$f":"Parameters!AT447","v":1},{"$f":"Parameters!AU447","v":1},{"$f":"Parameters!AV447","v":1},{"$f":"Parameters!AW447","v":1},{"$f":"Parameters!AX447","v":1},{"$f":"Parameters!AY447","v":1},{"$f":"Parameters!AZ447","v":1},{"$f":"Parameters!BA447","v":1},{"$f":"Parameters!BB447","v":1},{"$f":"Parameters!BC447","v":1},{"$f":"Parameters!BD447","v":1},{"$f":"Parameters!BE447","v":1},{"$f":"Parameters!BF447","v":1},{"$f":"Parameters!BG447","v":1},{"$f":"Parameters!BH447","v":1},{"$f":"Parameters!BI447","v":1},{"$f":"Parameters!BJ447","v":1},{"$f":"Parameters!BK447","v":1},{"$f":"Parameters!BL447","v":1},{"$f":"Parameters!BM447","v":1},{"$f":"Parameters!BN447","v":1}]
["S420",{"$f":"Parameters!K448","v":1},{"$f":"Parameters!L448","v":1},{"$f":"Parameters!M448","v":1},{"$f":"Parameters!N448","v":1},{"$f":"Parameters!O448","v":1},{"$f":"Parameters!P448","v":1},{"$f":"Parameters!Q448","v":1},{"$f":"Parameters!R448","v":1},{"$f":"Parameters!S448","v":1},{"$f":"Parameters!T448","v":1},{"$f":"Parameters!U448","v":1},{"$f":"Parameters!V448","v":1},{"$f":"Parameters!W448","v":1},{"$f":"Parameters!X448","v":1},{"$f":"Parameters!Y448","v":1},{"$f":"Parameters!Z448","v":1},{"$f":"Parameters!AA448","v":1},{"$f":"Parameters!AB448","v":1},{"$f":"Parameters!AC448","v":1},{"$f":"Parameters!AD448","v":1},{"$f":"Parameters!AE448","v":1},{"$f":"Parameters!AF448","v":1},{"$f":"Parameters!AG448","v":1},{"$f":"Parameters!AH448","v":1},{"$f":"Parameters!AI448","v":1},{"$f":"Parameters!AJ448","v":1},{"$f":"Parameters!AK448","v":1},{"$f":"Parameters!AL448","v":1},{"$f":"Parameters!AM448","v":1},{"$f":"Parameters!AN448","v":1},{"$f":"Parameters!AO448","v":1},{"$f":"Parameters!AP448","v":1},{"$f":"Parameters!AQ448","v":1},{"$f":"Parameters!AR448","v":1},{"$f":"Parameters!AS448","v":1},{"$f":"Parameters!AT448","v":1},{"$f":"Parameters!AU448","v":1},{"$f":"Parameters!AV448","v":1},{"$f":"Parameters!AW448","v":1},{"$f":"Parameters!AX448","v":1},{"$f":"Parameters!AY448","v":1},{"$f":"Parameters!AZ448","v":1},{"$f":"Parameters!BA448","v":1},{"$f":"Parameters!BB448","v":1},{"$f":"Parameters!BC448","v":1},{"$f":"Parameters!BD448","v":1},{"$f":"Parameters!BE448","v":1},{"$f":"Parameters!BF448","v":1},{"$f":"Parameters!BG448","v":1},{"$f":"Parameters!BH448","v":1},{"$f":"Parameters!BI448","v":1},{"$f":"Parameters!BJ448","v":1},{"$f":"Parameters!BK448","v":1},{"$f":"Parameters!BL448","v":1},{"$f":"Parameters!BM448","v":1},{"$f":"Parameters!BN448","v":1}]
["S421",{"$f":"Parameters!K449","v":1},{"$f":"Parameters!L449","v":1},{"$f":"Parameters!M449","v":1},{"$f":"Parameters!N449","v":1},{"$f":"Parameters!O449","v":1},{"$f":"Parameters!P449","v":1},{"$f":"Parameters!Q449","v":1},{"$f":"Parameters!R449","v":1},{"$f":"Parameters!S449","v":1},{"$f":"Parameters!T449","v":1},{"$f":"Parameters!U449","v":1},{"$f":"Parameters!V449","v":1},{"$f":"Parameters!W449","v":1},{"$f":"Parameters!X449","v":1},{"$f":"Parameters!Y449","v":1},{"$f":"Parameters!Z449","v":1},{"$f":"Parameters!AA449","v":1},{"$f":"Parameters!AB449","v":1},{"$f":"Parameters!AC449","v":1},{"$f":"Parameters!AD449","v":1},{"$f":"Parameters!AE449","v":1},{"$f":"Parameters!AF449","v":1},{"$f":"Parameters!AG449","v":1},{"$f":"Parameters!AH449","v":1},{"$f":"Parameters!AI449","v":1},{"$f":"Parameters!AJ449","v":1},{"$f":"Parameters!AK449","v":1},{"$f":"Parameters!AL449","v":1},{"$f":"Parameters!AM449","v":1},{"$f":"Parameters!AN449","v":1},{"$f":"Parameters!AO449","v":1},{"$f":"Parameters!AP449","v":1},{"$f":"Parameters!AQ449","v":1},{"$f":"Parameters!AR449","v":1},{"$f":"Parameters!AS449","v":1},{"$f":"Parameters!AT449","v":1},{"$f":"Parameters!AU449","v":1},{"$f":"Parameters!AV449","v":1},{"$f":"Parameters!AW449","v":1},{"$f":"Parameters!AX449","v":1},{"$f":"Parameters!AY449","v":1},{"$f":"Parameters!AZ449","v":1},{"$f":"Parameters!BA449","v":1},{"$f":"Parameters!BB449","v":1},{"$f":"Parameters!BC449","v":1},{"$f":"Parameters!BD449","v":1},{"$f":"Parameters!BE449","v":1},{"$f":"Parameters!BF449","v":1},{"$f":"Parameters!BG449","v":1},{"$f":"Parameters!BH449","v":1},{"$f":"Parameters!BI449","v":1},{"$f":"Parameters!BJ449","v":1},{"$f":"Parameters!BK449","v":1},{"$f":"Parameters!BL449","v":1},{"$f":"Parameters!BM449","v":1},{"$f":"Parameters!BN449","v":1}]
["S422",{"$f":"Parameters!K450","v":1},{"$f":"Parameters!L450","v":1},{"$f":"Parameters!M450","v":1},{"$f":"Parameters!N450","v":1},{"$f":"Parameters!O450","v":1},{"$f":"Parameters!P450","v":1},{"$f":"Parameters!Q450","v":1},{"$f":"Parameters!R450","v":1},{"$f":"Parameters!S450","v":1},{"$f":"Parameters!T450","v":1},{"$f":"Parameters!U450","v":1},{"$f":"Parameters!V450","v":1},{"$f":"Parameters!W450","v":1},{"$f":"Parameters!X450","v":1},{"$f":"Parameters!Y450","v":1},{"$f":"Parameters!Z450","v":1},{"$f":"Parameters!AA450","v":1},{"$f":"Parameters!AB450","v":1},{"$f":"Parameters!AC450","v":1},{"$f":"Parameters!AD450","v":1},{"$f":"Parameters!AE450","v":1},{"$f":"Parameters!AF450","v":1},{"$f":"Parameters!AG450","v":1},{"$f":"Parameters!AH450","v":1},{"$f":"Parameters!AI450","v":1},{"$f":"Parameters!AJ450","v":1},{"$f":"Parameters!AK450","v":1},{"$f":"Parameters!AL450","v":1},{"$f":"Parameters!AM450","v":1},{"$f":"Parameters!AN450","v":1},{"$f":"Parameters!AO450","v":1},{"$f":"Parameters!AP450","v":1},{"$f":"Parameters!AQ450","v":1},{"$f":"Parameters!AR450","v":1},{"$f":"Parameters!AS450","v":1},{"$f":"Parameters!AT450","v":1},{"$f":"Parameters!AU450","v":1},{"$f":"Parameters!AV450","v":1},{"$f":"Parameters!AW450","v":1},{"$f":"Parameters!AX450","v":1},{"$f":"Parameters!AY450","v":1},{"$f":"Parameters!AZ450","v":1},{"$f":"Parameters!BA450","v":1},{"$f":"Parameters!BB450","v":1},{"$f":"Parameters!BC450","v":1},{"$f":"Parameters!BD450","v":1},{"$f":"Parameters!BE450","v":1},{"$f":"Parameters!BF450","v":1},{"$f":"Parameters!BG450","v":1},{"$f":"Parameters!BH450","v":1},{"$f":"Parameters!BI450","v":1},{"$f":"Parameters!BJ450","v":1},{"$f":"Parameters!BK450","v":1},{"$f":"Parameters!BL450","v":1},{"$f":"Parameters!BM450","v":1},{"$f":"Parameters!BN450","v":1}]
["S423",{"$f":"Parameters!K451","v":1},{"$f":"Parameters!L451","v":1},{"$f":"Parameters!M451","v":1},{"$f":"Parameters!N451","v":1},{"$f":"Parameters!O451","v":1},{"$f":"Parameters!P451","v":1},{"$f":"Parameters!Q451","v":1},{"$f":"Parameters!R451","v":1},{"$f":"Parameters!S451","v":1},{"$f":"Parameters!T451","v":1},{"$f":"Parameters!U451","v":1},{"$f":"Parameters!V451","v":1},{"$f":"Parameters!W451","v":1},{"$f":"Parameters!X451","v":1},{"$f":"Parameters!Y451","v":1},{"$f":"Parameters!Z451","v":1},{"$f":"Parameters!AA451","v":1},{"$f":"Parameters!AB451","v":1},{"$f":"Parameters!AC451","v":1},{"$f":"Parameters!AD451","v":1},{"$f":"Parameters!AE451","v":1},{"$f":"Parameters!AF451","v":1},{"$f":"Parameters!AG451","v":1},{"$f":"Parameters!AH451","v":1},{"$f":"Parameters!AI451","v":1},{"$f":"Parameters!AJ451","v":1},{"$f":"Parameters!AK451","v":1},{"$f":"Parameters!AL451","v":1},{"$f":"Parameters!AM451","v":1},{"$f":"Parameters!AN451","v":1},{"$f":"Parameters!AO451","v":1},{"$f":"Parameters!AP451","v":1},{"$f":"Parameters!AQ451","v":1},{"$f":"Parameters!AR451","v":1},{"$f":"Parameters!AS451","v":1},{"$f":"Parameters!AT451","v":1},{"$f":"Parameters!AU451","v":1},{"$f":"Parameters!AV451","v":1},{"$f":"Parameters!AW451","v":1},{"$f":"Parameters!AX451","v":1},{"$f":"Parameters!AY451","v":1},{"$f":"Parameters!AZ451","v":1},{"$f":"Parameters!BA451","v":1},{"$f":"Parameters!BB451","v":1},{"$f":"Parameters!BC451","v":1},{"$f":"Parameters!BD451","v":1},{"$f":"Parameters!BE451","v":1},{"$f":"Parameters!BF451","v":1},{"$f":"Parameters!BG451","v":1},{"$f":"Parameters!BH451","v":1},{"$f":"Parameters!BI451","v":1},{"$f":"Parameters!BJ451","v":1},{"$f":"Parameters!BK451","v":1},{"$f":"Parameters!BL451","v":1},{"$f":"Parameters!BM451","v":1},{"$f":"Parameters!BN451","v":1}]
["S424",{"$f":"Parameters!K452","v":1},{"$f":"Parameters!L452","v":1},{"$f":"Parameters!M452","v":1},{"$f":"Parameters!N452","v":1},{"$f":"Parameters!O452","v":1},{"$f":"Parameters!P452","v":1},{"$f":"Parameters!Q452","v":1},{"$f":"Parameters!R452","v":1},{"$f":"Parameters!S452","v":1},{"$f":"Parameters!T452","v":1},{"$f":"Parameters!U452","v":1},{"$f":"Parameters!V452","v":1},{"$f":"Parameters!W452","v":1},{"$f":"Parameters!X452","v":1},{"$f":"Parameters!Y452","v":1},{"$f":"Parameters!Z452","v":1},{"$f":"Parameters!AA452","v":1},{"$f":"Parameters!AB452","v":1},{"$f":"Parameters!AC452","v":1},{"$f":"Parameters!AD452","v":1},{"$f":"Parameters!AE452","v":1},{"$f":"Parameters!AF452","v":1},{"$f":"Parameters!AG452","v":1},{"$f":"Parameters!AH452","v":1},{"$f":"Parameters!AI452","v":1},{"$f":"Parameters!AJ452","v":1},{"$f":"Parameters!AK452","v":1},{"$f":"Parameters!AL452","v":1},{"$f":"Parameters!AM452","v":1},{"$f":"Parameters!AN452","v":1},{"$f":"Parameters!AO452","v":1},{"$f":"Parameters!AP452","v":1},{"$f":"Parameters!AQ452","v":1},{"$f":"Parameters!AR452","v":1},{"$f":"Parameters!AS452","v":1},{"$f":"Parameters!AT452","v":1},{"$f":"Parameters!AU452","v":1},{"$f":"Parameters!AV452","v":1},{"$f":"Parameters!AW452","v":1},{"$f":"Parameters!AX452","v":1},{"$f":"Parameters!AY452","v":1},{"$f":"Parameters!AZ452","v":1},{"$f":"Parameters!BA452","v":1},{"$f":"Parameters!BB452","v":1},{"$f":"Parameters!BC452","v":1},{"$f":"Parameters!BD452","v":1},{"$f":"Parameters!BE452","v":1},{"$f":"Parameters!BF452","v":1},{"$f":"Parameters!BG452","v":1},{"$f":"Parameters!BH452","v":1},{"$f":"Parameters!BI452","v":1},{"$f":"Parameters!BJ452","v":1},{"$f":"Parameters!BK452","v":1},{"$f":"Parameters!BL452","v":1},{"$f":"Parameters!BM452","v":1},{"$f":"Parameters!BN452","v":1}]
[{"$f":"CONCATENATE(\"[\",SETS!H9,,\",\",SETS!B5,,\",\",\"*\",,\",\",\"*\",\"]:\")","v":"[RE1,IMPBIO,*,*]:"}]
[2015,2016,2017,2018,2019,2020,2021,2022,2023,2024,2025,2026,2027,2028,2029,2030,2031,2032,2033,2034,2035,2036,2037,2038,2039,2040,2041,2042,2043,2044,2045,2046,2047,2048,2049,2050,2051,2052,2053,2054,2055,2056,2057,2058,2059,2060,2061,2062,2063,2064,2065,2066,2067,2068,2069,"2070:="]
["S101",{"$f":"Parameters!K453","v":1},{"$f":"Parameters!L453","v":1},{"$f":"Parameters!M453","v":1},{"$f":"Parameters!N453","v":1},{"$f":"Parameters!O453","v":1},{"$f":"Parameters!P453","v":1},{"$f":"Parameters!Q453","v":1},{"$f":"Parameters!R453","v":1},{"$f":"Parameters!S453","v":1},{"$f":"Parameters!T453","v":1},{"$f":"Parameters!U453","v":1},{"$f":"Parameters!V453","v":1},{"$f":"Parameters!W453","v":1},{"$f":"Parameters!X453","v":1},{"$f":"Parameters!Y453","v":1},{"$f":"Parameters!Z453","v":1},{"$f":"Parameters!AA453","v":1},{"$f":"Parameters!AB453","v":1},{"$f":"Parameters!AC453","v":1},{"$f":"Parameters!AD453","v":1},{"$f":"Parameters!AE453","v":1},{"$f":"Parameters!AF453","v":1},{"$f":"Parameters!AG453","v":1},{"$f":"Parameters!AH453","v":1},{"$f":"Parameters!AI453","v":1},{"$f":"Parameters!AJ453","v":1},{"$f":"Parameters!AK453","v":1},{"$f":"Parameters!AL453","v":1},{"$f":"Parameters!AM453","v":1},{"$f":"Parameters!AN453","v":1},{"$f":"Parameters!AO453","v":1},{"$f":"Parameters!AP453","v":1},{"$f":"Parameters!AQ453","v":1},{"$f":"Parameters!AR453","v":1},{"$f":"Parameters!AS453","v":1},{"$f":"Parameters!AT453","v":1},{"$f":"Parameters!AU453","v":1},{"$f":"Parameters!AV453","v":1},{"$f":"Parameters!AW453","v":1},{"$f":"Parameters!AX453","v":1},{"$f":"Parameters!AY453","v":1},{"$f":"Parameters!AZ453","v":1},{"$f":"Parameters!BA453","v":1},{"$f":"Parameters!BB453","v":1},{"$f":"Parameters!BC453","v":1},{"$f":"Parameters!BD453","v":1},{"$f":"Parameters!BE453","v":1},{"$f":"Parameters!BF453","v":1},{"$f":"Parameters!BG453","v":1},{"$f":"Parameters!BH453","v":1},{"$f":"Parameters!BI453","v":1},{"$f":"Parameters!BJ453","v":1},{"$f":"Parameters!BK453","v":1},{"$f":"Parameters!BL453","v":1},{"$f":"Parameters!BM453","v":1},{"$f":"Parameters!BN453","v":1}]
["S102",{"$f":"Parameters!K454","v":1},{"$f":"Parameters!L454","v":1},{"$f":"Parameters!M454","v":1},{"$f":"Parameters!N454","v":1},{"$f":"Parameters!O454","v":1},{"$f":"Parameters!P454","v":1},{"$f":"Parameters!Q454","v":1},{"$f":"Parameters!R454","v":1},{"$f":"Parameters!S454","v":1},{"$f":"Parameters!T454","v":1},{"$f":"Parameters!U454","v":1},{"$f":"Parameters!V454","v":1},{"$f":"Parameters!W454","v":1},{"$f":"Parameters!X454","v":1},{"$f":"Parameters!Y454","v":1},{"$f":"Parameters!Z454","v":1},{"$f":"Parameters!AA454","v":1},{"$f":"Parameters!AB454","v":1},{"$f":"Parameters!AC454","v":1},{"$f":"Parameters!AD454","v":1},{"$f":"Parameters!AE454","v":1},{"$f":"Parameters!AF454","v":1},{"$f":"Parameters!AG454","v":1},{"$f":"Parameters!AH454","v":1},{"$f":"Parameters!AI454","v":1},{"$f":"Parameters!AJ454","v":1},{"$f":"Parameters!AK454","v":1},{"$f":"Parameters!AL454","v":1},{"$f":"Parameters!AM454","v":1},{"$f":"Parameters!AN454","v":1},{"$f":"Parameters!AO454","v":1},{"$f":"Parameters!AP454","v":1},{"$f":"Parameters!AQ454","v":1},{"$f":"Parameters!AR454","v":1},{"$f":"Parameters!AS454","v":1},{"$f":"Parameters!AT454","v":1},{"$f":"Parameters!AU454","v":1},{"$f":"Parameters!AV454","v":1},{"$f":"Parameters!AW454","v":1},{"$f":"Parameters!AX454","v":1},{"$f":"Parameters!AY454","v":1},{"$f":"Parameters!AZ454","v":1},{"$f":"Parameters!BA454","v":1},{"$f":"Parameters!BB454","v":1},{"$f":"Parameters!BC454","v":1},{"$f":"Parameters!BD454","v":1},{"$f":"Parameters!BE454","v":1},{"$f":"Parameters!BF454","v":1},{"$f":"Parameters!BG454","v":1},{"$f":"Parameters!BH454","v":1},{"$f":"Parameters!BI454","v":1},{"$f":"Parameters!BJ454","v":1},{"$f":"Parameters!BK454","v":1},{"$f":"Parameters!BL454","v":1},{"$f":"Parameters!BM454","v":1},{"$f":"Parameters!BN454","v":1}]
["S103",{"$f":"Parameters!K455","v":1},{"$f":"Parameters!L455","v":1},{"$f":"Parameters!M455","v":1},{"$f":"Parameters!N455","v":1},{"$f":"Parameters!O455","v":1},{"$f":"Parameters!P455","v":1},{"$f":"Parameters!Q455","v":1},{"$f":"Parameters!R455","v":1},{"$f":"Parameters!S455","v":1},{"$f":"Parameters!T455","v":1},{"$f":"Parameters!U455","v":1},{"$f":"Parameters!V455","v":1},{"$f":"Parameters!W455","v":1},{"$f":"Parameters!X455","v":1},{"$f":"Parameters!Y455","v":1},{"$f":"Parameters!Z455","v":1},{"$f":"Parameters!AA455","v":1},{"$f":"Parameters!AB455","v":1},{"$f":"Parameters!AC455","v":1},{"$f":"Parameters!AD455","v":1},{"$f":"Parameters!AE455","v":1},{"$f":"Parameters!AF455","v":1},{"$f":"Parameters!AG455","v":1},{"$f":"Parameters!AH455","v":1},{"$f":"Parameters!AI455","v":1},{"$f":"Parameters!AJ455","v":1},{"$f":"Parameters!AK455","v":1},{"$f":"Parameters!AL455","v":1},{"$f":"Parameters!AM455","v":1},{"$f":"Parameters!AN455","v":1},{"$f":"Parameters!AO455","v":1},{"$f":"Parameters!AP455","v":1},{"$f":"Parameters!AQ455","v":1},{"$f":"Parameters!AR455","v":1},{"$f":"Parameters!AS455","v":1},{"$f":"Parameters!AT455","v":1},{"$f":"Parameters!AU455","v":1},{"$f":"Parameters!AV455","v":1},{"$f":"Parameters!AW455","v":1},{"$f":"Parameters!AX455","v":1},{"$f":"Parameters!AY455","v":1},{"$f":"Parameters!AZ455","v":1},{"$f":"Parameters!BA455","v":1},{"$f":"Parameters!BB455","v":1},{"$f":"Parameters!BC455","v":1},{"$f":"Parameters!BD455","v":1},{"$f":"Parameters!BE455","v":1},{"$f":"Parameters!BF455","v":1},{"$f":"Parameters!BG455","v":1},{"$f":"Parameters!BH455","v":1},{"$f":"Parameters!BI455","v":1},{"$f":"Parameters!BJ455","v":1},{"$f":"Parameters!BK455","v":1},{"$f":"Parameters!BL455","v":1},{"$f":"Parameters!BM455","v":1},{"$f":"Parameters!BN455","v":1}]
["S111",{"$f":"Parameters!K559","v":1},{"$f":"Parameters!L559","v":1},{"$f":"Parameters!M559","v":1},{"$f":"Parameters!N559","v":1},{"$f":"Parameters!O559","v":1},{"$f":"Parameters!P559","v":1},{"$f":"Parameters!Q559","v":1},{"$f":"Parameters!R559","v":1},{"$f":"Parameters!S559","v":1},{"$f":"Parameters!T559","v":1},{"$f":"Parameters!U559","v":1},{"$f":"Parameters!V559","v":1},{"$f":"Parameters!W559","v":1},{"$f":"Parameters!X559","v":1},{"$f":"Parameters!Y559","v":1},{"$f":"Parameters!Z559","v":1},{"$f":"Parameters!AA559","v":1},{"$f":"Parameters!AB559","v":1},{"$f":"Parameters!AC559","v":1},{"$f":"Parameters!AD559","v":1},{"$f":"Parameters!AE559","v":1},{"$f":"Parameters!AF559","v":1},{"$f":"Parameters!AG559","v":1},{"$f":"Parameters!AH559","v":1},{"$f":"Parameters!AI559","v":1},{"$f":"Parameters!AJ559","v":1},{"$f":"Parameters!AK559","v":1},{"$f":"Parameters!AL559","v":1},{"$f":"Parameters!AM559","v":1},{"$f":"Parameters!AN559","v":1},{"$f":"Parameters!AO559","v":1},{"$f":"Parameters!AP559","v":1},{"$f":"Parameters!AQ559","v":1},{"$f":"Parameters!AR559","v":1},{"$f":"Parameters!AS559","v":1},{"$f":"Parameters!AT559","v":1},{"$f":"Parameters!AU559","v":1},{"$f":"Parameters!AV559","v":1},{"$f":"Parameters!AW559","v":1},{"$f":"Parameters!AX559","v":1},{"$f":"Parameters!AY559","v":1},{"$f":"Parameters!AZ559","v":1},{"$f":"Parameters!BA559","v":1},{"$f":"Parameters!BB559","v":1},{"$f":"Parameters!BC559","v":1},{"$f":"Parameters!BD559","v":1},{"$f":"Parameters!BE559","v":1},{"$f":"Parameters!BF559","v":1},{"$f":"Parameters!BG559","v":1},{"$f":"Parameters!BH559","v":1},{"$f":"Parameters!BI559","v":1},{"$f":"Parameters!BJ559","v":1},{"$f":"Parameters!BK559","v":1},{"$f":"Parameters!BL559","v":1},{"$f":"Parameters!BM559","v":1},{"$f":"Parameters!BN559","v":1}]
["S308",{"$f":"Parameters!K796","v":1},{"$f":"Parameters!L796","v":1},{"$f":"Parameters!M796","v":1},{"$f":"Parameters!N796","v":1},{"$f":"Parameters!O796","v":1},{"$f":"Parameters!P796","v":1},{"$f":"Parameters!Q796","v":1},{"$f":"Parameters!R796","v":1},{"$f":"Parameters!S796","v":1},{"$f":"Parameters!T796","v":1},{"$f":"Parameters!U796","v":1},{"$f":"Parameters!V796","v":1},{"$f":"Parameters!W796","v":1},{"$f":"Parameters!X796","v":1},{"$f":"Parameters!Y796","v":1},{"$f":"Parameters!Z796","v":1},{"$f":"Parameters!AA796","v":1},{"$f":"Parameters!AB796","v":1},{"$f":"Parameters!AC796","v":1},{"$f":"Parameters!AD796","v":1},{"$f":"Parameters!AE796","v":1},{"$f":"Parameters!AF796","v":1},{"$f":"Parameters!AG796","v":1},{"$f":"Parameters!AH796","v":1},{"$f":"Parameters!AI796","v":1},{"$f":"Parameters!AJ796","v":1},{"$f":"Parameters!AK796","v":1},{"$f":"Parameters!AL796","v":1},{"$f":"Parameters!AM796","v":1},{"$f":"Parameters!AN796","v":1},{"$f":"Parameters!AO796","v":1},{"$f":"Parameters!AP796","v":1},{"$f":"Parameters!AQ796","v":1},{"$f":"Parameters!AR796","v":1},{"$f":"Parameters!AS796","v":1},{"$f":"Parameters!AT796","v":1},{"$f":"Parameters!AU796","v":1},{"$f":"Parameters!AV796","v":1},{"$f":"Parameters!AW796","v":1},{"$f":"Parameters!AX796","v":1},{"$f":"Parameters!AY796","v":1},{"$f":"Parameters!AZ796","v":1},{"$f":"Parameters!BA796","v":1},{"$f":"Parameters!BB796","v":1},{"$f":"Parameters!BC796","v":1},{"$f":"Parameters!BD796","v":1},{"$f":"Parameters!BE796","v":1},{"$f":"Parameters!BF796","v":1},{"$f":"Parameters!BG796","v":1},{"$f":"Parameters!BH796","v":1},{"$f":"Parameters!BI796","v":1},{"$f":"Parameters!BJ796","v":1},{"$f":"Parameters!BK796","v":1},{"$f":"Parameters!BL796","v":1},{"$f":"Parameters!BM796","v":1},{"$f":"Parameters!BN796","v":1}]
["S324",{"$f":"Parameters!K812","v":1},{"$f":"Parameters!L812","v":1},{"$f":"Parameters!M812","v":1},{"$f":"Parameters!N812","v":1},{"$f":"Parameters!O812","v":1},{"$f":"Parameters!P812","v":1},{"$f":"Parameters!Q812","v":1},{"$f":"Parameters!R812","v":1},{"$f":"Parameters!S812","v":1},{"$f":"Parameters!T812","v":1},{"$f":"Parameters!U812","v":1},{"$f":"Parameters!V812","v":1},{"$f":"Parameters!W812","v":1},{"$f":"Parameters!X812","v":1},{"$f":"Parameters!Y812","v":1},{"$f":"Parameters!Z812","v":1},{"$f":"Parameters!AA812","v":1},{"$f":"Parameters!AB812","v":1},{"$f":"Parameters!AC812","v":1},{"$f":"Parameters!AD812","v":1},{"$f":"Parameters!AE812","v":1},{"$f":"Parameters!AF812","v":1},{"$f":"Parameters!AG812","v":1},{"$f":"Parameters!AH812","v":1},{"$f":"Parameters!AI812","v":1},{"$f":"Parameters!AJ812","v":1},{"$f":"Parameters!AK812","v":1},{"$f":"Parameters!AL812","v":1},{"$f":"Parameters!AM812","v":1},{"$f":"Parameters!AN812","v":1},{"$f":"Parameters!AO812","v":1},{"$f":"Parameters!AP812","v":1},{"$f":"Parameters!AQ812","v":1},{"$f":"Parameters!AR812","v":1},{"$f":"Parameters!AS812","v":1},{"$f":"Parameters!AT812","v":1},{"$f":"Parameters!AU812","v":1},{"$f":"Parameters!AV812","v":1},{"$f":"Parameters!AW812","v":1},{"$f":"Parameters!AX812","v":1},{"$f":"Parameters!AY812","v":1},{"$f":"Parameters!AZ812","v":1},{"$f":"Parameters!BA812","v":1},{"$f":"Parameters!BB812","v":1},{"$f":"Parameters!BC812","v":1},{"$f":"Parameters!BD812","v":1},{"$f":"Parameters!BE812","v":1},{"$f":"Parameters!BF812","v":1},{"$f":"Parameters!BG812","v":1},{"$f":"Parameters!BH812","v":1},{"$f":"Parameters!BI812","v":1},{"$f":"Parameters!BJ812","v":1},{"$f":"Parameters!BK812","v":1},{"$f":"Parameters!BL812","v":1},{"$f":"Parameters!BM812","v":1},{"$f":"Parameters!BN812","v":1}]
["S415",{"$f":"Parameters!K1019","v":1},{"$f":"Parameters!L1019","v":1},{"$f":"Parameters!M1019","v":1},{"$f":"Parameters!N1019","v":1},{"$f":"Parameters!O1019","v":1},{"$f":"Parameters!P1019","v":1},{"$f":"Parameters!Q1019","v":1},{"$f":"Parameters!R1019","v":1},{"$f":"Parameters!S1019","v":1},{"$f":"Parameters!T1019","v":1},{"$f":"Parameters!U1019","v":1},{"$f":"Parameters!V1019","v":1},{"$f":"Parameters!W1019","v":1},{"$f":"Parameters!X1019","v":1},{"$f":"Parameters!Y1019","v":1},{"$f":"Parameters!Z1019","v":1},{"$f":"Parameters!AA1019","v":1},{"$f":"Parameters!AB1019","v":1},{"$f":"Parameters!AC1019","v":1},{"$f":"Parameters!AD1019","v":1},{"$f":"Parameters!AE1019","v":1},{"$f":"Parameters!AF1019","v":1},{"$f":"Parameters!AG1019","v":1},{"$f":"Parameters!AH1019","v":1},{"$f":"Parameters!AI1019","v":1},{"$f":"Parameters!AJ1019","v":1},{"$f":"Parameters!AK1019","v":1},{"$f":"Parameters!AL1019","v":1},{"$f":"Parameters!AM1019","v":1},{"$f":"Parameters!AN1019","v":1},{"$f":"Parameters!AO1019","v":1},{"$f":"Parameters!AP1019","v":1},{"$f":"Parameters!AQ1019","v":1},{"$f":"Parameters!AR1019","v":1},{"$f":"Parameters!AS1019","v":1},{"$f":"Parameters!AT1019","v":1},{"$f":"Parameters!AU1019","v":1},{"$f":"Parameters!AV1019","v":1},{"$f":"Parameters!AW1019","v":1},{"$f":"Parameters!AX1019","v":1},{"$f":"Parameters!AY1019","v":1},{"$f":"Parameters!AZ1019","v":1},{"$f":"Parameters!BA1019","v":1},{"$f":"Parameters!BB1019","v":1},{"$f":"Parameters!BC1019","v":1},{"$f":"Parameters!BD1019","v":1},{"$f":"Parameters!BE1019","v":1},{"$f":"Parameters!BF1019","v":1},{"$f":"Parameters!BG1019","v":1},{"$f":"Parameters!BH1019","v":1},{"$f":"Parameters!BI1019","v":1},{"$f":"Parameters!BJ1019","v":1},{"$f":"Parameters!BK1019","v":1},{"$f":"Parameters!BL1019","v":1},{"$f":"Parameters!BM1019","v":1},{"$f":"Parameters!BN1019","v":1}]
["S417",{"$f":"Parameters!K1309","v":1},{"$f":"Parameters!L1309","v":1},{"$f":"Parameters!M1309","v":1},{"$f":"Parameters!N1309","v":1},{"$f":"Parameters!O1309","v":1},{"$f":"Parameters!P1309","v":1},{"$f":"Parameters!Q1309","v":1},{"$f":"Parameters!R1309","v":1},{"$f":"Parameters!S1309","v":1},{"$f":"Parameters!T1309","v":1},{"$f":"Parameters!U1309","v":1},{"$f":"Parameters!V1309","v":1},{"$f":"Parameters!W1309","v":1},{"$f":"Parameters!X1309","v":1},{"$f":"Parameters!Y1309","v":1},{"$f":"Parameters!Z1309","v":1},{"$f":"Parameters!AA1309","v":1},{"$f":"Parameters!AB1309","v":1},{"$f":"Parameters!AC1309","v":1},{"$f":"Parameters!AD1309","v":1},{"$f":"Parameters!AE1309","v":1},{"$f":"Parameters!AF1309","v":1},{"$f":"Parameters!AG1309","v":1},{"$f":"Parameters!AH1309","v":1},{"$f":"Parameters!AI1309","v":1},{"$f":"Parameters!AJ1309","v":1},{"$f":"Parameters!AK1309","v":1},{"$f":"Parameters!AL1309","v":1},{"$f":"Parameters!AM1309","v":1},{"$f":"Parameters!AN1309","v":1},{"$f":"Parameters!AO1309","v":1},{"$f":"Parameters!AP1309","v":1},{"$f":"Parameters!AQ1309","v":1},{"$f":"Parameters!AR1309","v":1},{"$f":"Parameters!AS1309","v":1},{"$f":"Parameters!AT1309","v":1},{"$f":"Parameters!AU1309","v":1},{"$f":"Parameters!AV1309","v":1},{"$f":"Parameters!AW1309","v":1},{"$f":"Parameters!AX1309","v":1},{"$f":"Parameters!AY1309","v":1},{"$f":"Parameters!AZ1309","v":1},{"$f":"Parameters!BA1309","v":1},{"$f":"Parameters!BB1309","v":1},{"$f":"Parameters!BC1309","v":1},{"$f":"Parameters!BD1309","v":1},{"$f":"Parameters!BE1309","v":1},{"$f":"Parameters!BF1309","v":1},{"$f":"Parameters!BG1309","v":1},{"$f":"Parameters!BH1309","v":1},{"$f":"Parameters!BI1309","v":1},{"$f":"Parameters!BJ1309","v":1},{"$f":"Parameters!BK1309","v":1},{"$f":"Parameters!BL1309","v":1},{"$f":"Parameters!BM1309","v":1},{"$f":"Parameters!BN1309","v":1}]
["S202",{"$f":"Parameters!K1342","v":1},{"$f":"Parameters!L1342","v":1},{"$f":"Parameters!M1342","v":1},{"$f":"Parameters!N1342","v":1},{"$f":"Parameters!O1342","v":1},{"$f":"Parameters!P1342","v":1},{"$f":"Parameters!Q1342","v":1},{"$f":"Parameters!R1342","v":1},{"$f":"Parameters!S1342","v":1},{"$f":"Parameters!T1342","v":1},{"$f":"Parameters!U1342","v":1},{"$f":"Parameters!V1342","v":1},{"$f":"Parameters!W1342","v":1},{"$f":"Parameters!X1342","v":1},{"$f":"Parameters!Y1342","v":1},{"$f":"Parameters!Z1342","v":1},{"$f":"Parameters!AA1342","v":1},{"$f":"Parameters!AB1342","v":1},{"$f":"Parameters!AC1342","v":1},{"$f":"Parameters!AD1342","v":1},{"$f":"Parameters!AE1342","v":1},{"$f":"Parameters!AF1342","v":1},{"$f":"Parameters!AG1342","v":1},{"$f":"Parameters!AH1342","v":1},{"$f":"Parameters!AI1342","v":1},{"$f":"Parameters!AJ1342","v":1},{"$f":"Parameters!AK1342","v":1},{"$f":"Parameters!AL1342","v":1},{"$f":"Parameters!AM1342","v":1},{"$f":"Parameters!AN1342","v":1},{"$f":"Parameters!AO1342","v":1},{"$f":"Parameters!AP1342","v":1},{"$f":"Parameters!AQ1342","v":1},{"$f":"Parameters!AR1342","v":1},{"$f":"Parameters!AS1342","v":1},{"$f":"Parameters!AT1342","v":1},{"$f":"Parameters!AU1342","v":1},{"$f":"Parameters!AV1342","v":1},{"$f":"Parameters!AW1342","v":1},{"$f":"Parameters!AX1342","v":1},{"$f":"Parameters!AY1342","v":1},{"$f":"Parameters!AZ1342","v":1},{"$f":"Parameters!BA1342","v":1},{"$f":"Parameters!BB1342","v":1},{"$f":"Parameters!BC1342","v":1},{"$f":"Parameters!BD1342","v":1},{"$f":"Parameters!BE1342","v":1},{"$f":"Parameters!BF1342","v":1},{"$f":"Parameters!BG1342","v":1},{"$f":"Parameters!BH1342","v":1},{"$f":"Parameters!BI1342","v":1},{"$f":"Parameters!BJ1342","v":1},{"$f":"Parameters!BK1342","v":1},{"$f":"Parameters!BL1342","v":1},{"$f":"Parameters!BM1342","v":1},{"$f":"Parameters!BN1342","v":1}]
["S323",{"$f":"Parameters!K1579","v":1},{"$f":"Parameters!L1579","v":1},{"$f":"Parameters!M1579","v":1},{"$f":"Parameters!N1579","v":1},{"$f":"Parameters!O1579","v":1},{"$f":"Parameters!P1579","v":1},{"$f":"Parameters!Q1579","v":1},{"$f":"Parameters!R1579","v":1},{"$f":"Parameters!S1579","v":1},{"$f":"Parameters!T1579","v":1},{"$f":"Parameters!U1579","v":1},{"$f":"Parameters!V1579","v":1},{"$f":"Parameters!W1579","v":1},{"$f":"Parameters!X1579","v":1},{"$f":"Parameters!Y1579","v":1},{"$f":"Parameters!Z1579","v":1},{"$f":"Parameters!AA1579","v":1},{"$f":"Parameters!AB1579","v":1},{"$f":"Parameters!AC1579","v":1},{"$f":"Parameters!AD1579","v":1},{"$f":"Parameters!AE1579","v":1},{"$f":"Parameters!AF1579","v":1},{"$f":"Parameters!AG1579","v":1},{"$f":"Parameters!AH1579","v":1},{"$f":"Parameters!AI1579","v":1},{"$f":"Parameters!AJ1579","v":1},{"$f":"Parameters!AK1579","v":1},{"$f":"Parameters!AL1579","v":1},{"$f":"Parameters!AM1579","v":1},{"$f":"Parameters!AN1579","v":1},{"$f":"Parameters!AO1579","v":1},{"$f":"Parameters!AP1579","v":1},{"$f":"Parameters!AQ1579","v":1},{"$f":"Parameters!AR1579","v":1},{"$f":"Parameters!AS1579","v":1},{"$f":"Parameters!AT1579","v":1},{"$f":"Parameters!AU1579","v":1},{"$f":"Parameters!AV1579","v":1},{"$f":"Parameters!AW1579","v":1},{"$f":"Parameters!AX1579","v":1},{"$f":"Parameters!AY1579","v":1},{"$f":"Parameters!AZ1579","v":1},{"$f":"Parameters!BA1579","v":1},{"$f":"Parameters!BB1579","v":1},{"$f":"Parameters!BC1579","v":1},{"$f":"Parameters!BD1579","v":1},{"$f":"Parameters!BE1579","v":1},{"$f":"Parameters!BF1579","v":1},{"$f":"Parameters!BG1579","v":1},{"$f":"Parameters!BH1579","v":1},{"$f":"Parameters!BI1579","v":1},{"$f":"Parameters!BJ1579","v":1},{"$f":"Parameters!BK1579","v":1},{"$f":"Parameters!BL1579","v":1},{"$f":"Parameters!BM1579","v":1},{"$f":"Parameters!BN1579","v":1}]
["S408",{"$f":"Parameters!K1780","v":1},{"$f":"Parameters!L1780","v":1},{"$f":"Parameters!M1780","v":1},{"$f":"Parameters!N1780","v":1},{"$f":"Parameters!O1780","v":1},{"$f":"Parameters!P1780","v":1},{"$f":"Parameters!Q1780","v":1},{"$f":"Parameters!R1780","v":1},{"$f":"Parameters!S1780","v":1},{"$f":"Parameters!T1780","v":1},{"$f":"Parameters!U1780","v":1},{"$f":"Parameters!V1780","v":1},{"$f":"Parameters!W1780","v":1},{"$f":"Parameters!X1780","v":1},{"$f":"Parameters!Y1780","v":1},{"$f":"Parameters!Z1780","v":1},{"$f":"Parameters!AA1780","v":1},{"$f":"Parameters!AB1780","v":1},{"$f":"Parameters!AC1780","v":1},{"$f":"Parameters!AD1780","v":1},{"$f":"Parameters!AE1780","v":1},{"$f":"Parameters!AF1780","v":1},{"$f":"Parameters!AG1780","v":1},{"$f":"Parameters!AH1780","v":1},{"$f":"Parameters!AI1780","v":1},{"$f":"Parameters!AJ1780","v":1},{"$f":"Parameters!AK1780","v":1},{"$f":"Parameters!AL1780","v":1},{"$f":"Parameters!AM1780","v":1},{"$f":"Parameters!AN1780","v":1},{"$f":"Parameters!AO1780","v":1},{"$f":"Parameters!AP1780","v":1},{"$f":"Parameters!AQ1780","v":1},{"$f":"Parameters!AR1780","v":1},{"$f":"Parameters!AS1780","v":1},{"$f":"Parameters!AT1780","v":1},{"$f":"Parameters!AU1780","v":1},{"$f":"Parameters!AV1780","v":1},{"$f":"Parameters!AW1780","v":1},{"$f":"Parameters!AX1780","v":1},{"$f":"Parameters!AY1780","v":1},{"$f":"Parameters!AZ1780","v":1},{"$f":"Parameters!BA1780","v":1},{"$f":"Parameters!BB1780","v":1},{"$f":"Parameters!BC1780","v":1},{"$f":"Parameters!BD1780","v":1},{"$f":"Parameters!BE1780","v":1},{"$f":"Parameters!BF1780","v":1},{"$f":"Parameters!BG1780","v":1},{"$f":"Parameters!BH1780","v":1},{"$f":"Parameters!BI1780","v":1},{"$f":"Parameters!BJ1780","v":1},{"$f":"Parameters!BK1780","v":1},{"$f":"Parameters!BL1780","v":1},{"$f":"Parameters!BM1780","v":1},{"$f":"Parameters!BN1780","v":1}]
["S414",{"$f":"Parameters!K1978","v":1},{"$f":"Parameters!L1978","v":1},{"$f":"Parameters!M1978","v":1},{"$f":"Parameters!N1978","v":1},{"$f":"Parameters!O1978","v":1},{"$f":"Parameters!P1978","v":1},{"$f":"Parameters!Q1978","v":1},{"$f":"Parameters!R1978","v":1},{"$f":"Parameters!S1978","v":1},{"$f":"Parameters!T1978","v":1},{"$f":"Parameters!U1978","v":1},{"$f":"Parameters!V1978","v":1},{"$f":"Parameters!W1978","v":1},{"$f":"Parameters!X1978","v":1},{"$f":"Parameters!Y1978","v":1},{"$f":"Parameters!Z1978","v":1},{"$f":"Parameters!AA1978","v":1},{"$f":"Parameters!AB1978","v":1},{"$f":"Parameters!AC1978","v":1},{"$f":"Parameters!AD1978","v":1},{"$f":"Parameters!AE1978","v":1},{"$f":"Parameters!AF1978","v":1},{"$f":"Parameters!AG1978","v":1},{"$f":"Parameters!AH1978","v":1},{"$f":"Parameters!AI1978","v":1},{"$f":"Parameters!AJ1978","v":1},{"$f":"Parameters!AK1978","v":1},{"$f":"Parameters!AL1978","v":1},{"$f":"Parameters!AM1978","v":1},{"$f":"Parameters!AN1978","v":1},{"$f":"Parameters!AO1978","v":1},{"$f":"Parameters!AP1978","v":1},{"$f":"Parameters!AQ1978","v":1},{"$f":"Parameters!AR1978","v":1},{"$f":"Parameters!AS1978","v":1},{"$f":"Parameters!AT1978","v":1},{"$f":"Parameters!AU1978","v":1},{"$f":"Parameters!AV1978","v":1},{"$f":"Parameters!AW1978","v":1},{"$f":"Parameters!AX1978","v":1},{"$f":"Parameters!AY1978","v":1},{"$f":"Parameters!AZ1978","v":1},{"$f":"Parameters!BA1978","v":1},{"$f":"Parameters!BB1978","v":1},{"$f":"Parameters!BC1978","v":1},{"$f":"Parameters!BD1978","v":1},{"$f":"Parameters!BE1978","v":1},{"$f":"Parameters!BF1978","v":1},{"$f":"Parameters!BG1978","v":1},{"$f":"Parameters!BH1978","v":1},{"$f":"Parameters!BI1978","v":1},{"$f":"Parameters!BJ1978","v":1},{"$f":"Parameters!BK1978","v":1},{"$f":"Parameters!BL1978","v":1},{"$f":"Parameters!BM1978","v":1},{"$f":"Parameters!BN1978","v":1}]
["S114",{"$f":"Parameters!K2098","v":0.85},{"$f":"Parameters!L2098","v":0.85},{"$f":"Parameters!M2098","v":0.85},{"$f":"Parameters!N2098","v":0.85},{"$f":"Parameters!O2098","v":0.85},{"$f":"Parameters!P2098","v":0.85},{"$f":"Parameters!Q2098","v":0.85},{"$f":"Parameters!R2098","v":0.85},{"$f":"Parameters!S2098","v":0.85},{"$f":"Parameters!T2098","v":0.85},{"$f":"Parameters!U2098","v":0.85},{"$f":"Parameters!V2098","v":0.85},{"$f":"Parameters!W2098","v":0.85},{"$f":"Parameters!X2098","v":0.85},{"$f":"Parameters!Y2098","v":0.85},{"$f":"Parameters!Z2098","v":0.85},{"$f":"Parameters!AA2098","v":0.85},{"$f":"Parameters!AB2098","v":0.85},{"$f":"Parameters!AC2098","v":0.85},{"$f":"Parameters!AD2098","v":0.85},{"$f":"Parameters!AE2098","v":0.85},{"$f":"Parameters!AF2098","v":0.85},{"$f":"Parameters!AG2098","v":0.85},{"$f":"Parameters!AH2098","v":0.85},{"$f":"Parameters!AI2098","v":0.85},{"$f":"Parameters!AJ2098","v":0.85},{"$f":"Parameters!AK2098","v":0.85},{"$f":"Parameters!AL2098","v":0.85},{"$f":"Parameters!AM2098","v":0.85},{"$f":"Parameters!AN2098","v":0.85},{"$f":"Parameters!AO2098","v":0.85},{"$f":"Parameters!AP2098","v":0.85},{"$f":"Parameters!AQ2098","v":0.85},{"$f":"Parameters!AR2098","v":0.85},{"$f":"Parameters!AS2098","v":0.85},{"$f":"Parameters!AT2098","v":0.85},{"$f":"Parameters!AU2098","v":0.85},{"$f":"Parameters!AV2098","v":0.85},{"$f":"Parameters!AW2098","v":0.85},{"$f":"Parameters!AX2098","v":0.85},{"$f":"Parameters!AY2098","v":0.85},{"$f":"Parameters!AZ2098","v":0.85},{"$f":"Parameters!BA2098","v":0.85},{"$f":"Parameters!BB2098","v":0.85},{"$f":"Parameters!BC2098","v":0.85},{"$f":"Parameters!BD2098","v":0.85},{"$f":"Parameters!BE2098","v":0.85},{"$f":"Parameters!BF2098","v":0.85},{"$f":"Parameters!BG2098","v":0.85},{"$f":"Parameters!BH2098","v":0.85},{"$f":"Parameters!BI2098","v":0.85},{"$f":"Parameters!BJ2098","v":0.85},{"$f":"Parameters!BK2098","v":0.85},{"$f":"Parameters!BL2098","v":0.85},{"$f":"Parameters!BM2098","v":0.85},{"$f":"Parameters!BN2098","v":0.85}]
["S201",{"$f":"Parameters!K2301","v":0.85},{"$f":"Parameters!L2301","v":0.85},{"$f":"Parameters!M2301","v":0.85},{"$f":"Parameters!N2301","v":0.85},{"$f":"Parameters!O2301","v":0.85},{"$f":"Parameters!P2301","v":0.85},{"$f":"Parameters!Q2301","v":0.85},{"$f":"Parameters!R2301","v":0.85},{"$f":"Parameters!S2301","v":0.85},{"$f":"Parameters!T2301","v":0.85},{"$f":"Parameters!U2301","v":0.85},{"$f":"Parameters!V2301","v":0.85},{"$f":"Parameters!W2301","v":0.85},{"$f":"Parameters!X2301","v":0.85},{"$f":"Parameters!Y2301","v":0.85},{"$f":"Parameters!Z2301","v":0.85},{"$f":"Parameters!AA2301","v":0.85},{"$f":"Parameters!AB2301","v":0.85},{"$f":"Parameters!AC2301","v":0.85},{"$f":"Parameters!AD2301","v":0.85},{"$f":"Parameters!AE2301","v":0.85},{"$f":"Parameters!AF2301","v":0.85},{"$f":"Parameters!AG2301","v":0.85},{"$f":"Parameters!AH2301","v":0.85},{"$f":"Parameters!AI2301","v":0.85},{"$f":"Parameters!AJ2301","v":0.85},{"$f":"Parameters!AK2301","v":0.85},{"$f":"Parameters!AL2301","v":0.85},{"$f":"Parameters!AM2301","v":0.85},{"$f":"Parameters!AN2301","v":0.85},{"$f":"Parameters!AO2301","v":0.85},{"$f":"Parameters!AP2301","v":0.85},{"$f":"Parameters!AQ2301","v":0.85},{"$f":"Parameters!AR2301","v":0.85},{"$f":"Parameters!AS2301","v":0.85},{"$f":"Parameters!AT2301","v":0.85},{"$f":"Parameters!AU2301","v":0.85},{"$f":"Parameters!AV2301","v":0.85},{"$f":"Parameters!AW2301","v":0.85},{"$f":"Parameters!AX2301","v":0.85},{"$f":"Parameters!AY2301","v":0.85},{"$f":"Parameters!AZ2301","v":0.85},{"$f":"Parameters!BA2301","v":0.85},{"$f":"Parameters!BB2301","v":0.85},{"$f":"Parameters!BC2301","v":0.85},{"$f":"Parameters!BD2301","v":0.85},{"$f":"Parameters!BE2301","v":0.85},{"$f":"Parameters!BF2301","v":0.85},{"$f":"Parameters!BG2301","v":0.85},{"$f":"Parameters!BH2301","v":0.85},{"$f":"Parameters!BI2301","v":0.85},{"$f":"Parameters!BJ2301","v":0.85},{"$f":"Parameters!BK2301","v":0.85},{"$f":"Parameters!BL2301","v":0.85},{"$f":"Parameters!BM2301","v":0.85},{"$f":"Parameters!BN2301","v":0.85}]
["S222",{"$f":"Parameters!K2418","v":0.85},{"$f":"Parameters!L2418","v":0.85},{"$f":"Parameters!M2418","v":0.85},{"$f":"Parameters!N2418","v":0.85},{"$f":"Parameters!O2418","v":0.85},{"$f":"Parameters!P2418","v":0.85},{"$f":"Parameters!Q2418","v":0.85},{"$f":"Parameters!R2418","v":0.85},{"$f":"Parameters!S2418","v":0.85},{"$f":"Parameters!T2418","v":0.85},{"$f":"Parameters!U2418","v":0.85},{"$f":"Parameters!V2418","v":0.85},{"$f":"Parameters!W2418","v":0.85},{"$f":"Parameters!X2418","v":0.85},{"$f":"Parameters!Y2418","v":0.85},{"$f":"Parameters!Z2418","v":0.85},{"$f":"Parameters!AA2418","v":0.85},{"$f":"Parameters!AB2418","v":0.85},{"$f":"Parameters!AC2418","v":0.85},{"$f":"Parameters!AD2418","v":0.85},{"$f":"Parameters!AE2418","v":0.85},{"$f":"Parameters!AF2418","v":0.85},{"$f":"Parameters!AG2418","v":0.85},{"$f":"Parameters!AH2418","v":0.85},{"$f":"Parameters!AI2418","v":0.85},{"$f":"Parameters!AJ2418","v":0.85},{"$f":"Parameters!AK2418","v":0.85},{"$f":"Parameters!AL2418","v":0.85},{"$f":"Parameters!AM2418","v":0.85},{"$f":"Parameters!AN2418","v":0.85},{"$f":"Parameters!AO2418","v":0.85},{"$f":"Parameters!AP2418","v":0.85},{"$f":"Parameters!AQ2418","v":0.85},{"$f":"Parameters!AR2418","v":0.85},{"$f":"Parameters!AS2418","v":0.85},{"$f":"Parameters!AT2418","v":0.85},{"$f":"Parameters!AU2418","v":0.85},{"$f":"Parameters!AV2418","v":0.85},{"$f":"Parameters!AW2418","v":0.85},{"$f":"Parameters!AX2418","v":0.85},{"$f":"Parameters!AY2418","v":0.85},{"$f":"Parameters!AZ2418","v":0.85},{"$f":"Parameters!BA2418","v":0.85},{"$f":"Parameters!BB2418","v":0.85},{"$f":"Parameters!BC2418","v":0.85},{"$f":"Parameters!BD2418","v":0.85},{"$f":"Parameters!BE2418","v":0.85},{"$f":"Parameters!BF2418","v":0.85},{"$f":"Parameters!BG2418","v":0.85},{"$f":"Parameters!BH2418","v":0.85},{"$f":"Parameters!BI2418","v":0.85},{"$f":"Parameters!BJ2418","v":0.85},{"$f":"Parameters!BK2418","v":0.85},{"$f":"Parameters!BL2418","v":0.85},{"$f":"Parameters!BM2418","v":0.85},{"$f":"Parameters!BN2418","v":0.85}]
["S216",{"$f":"Parameters!K2700","v":0.85},{"$f":"Parameters!L2700","v":0.85},{"$f":"Parameters!M2700","v":0.85},{"$f":"Parameters!N2700","v":0.85},{"$f":"Parameters!O2700","v":0.85},{"$f":"Parameters!P2700","v":0.85},{"$f":"Parameters!Q2700","v":0.85},{"$f":"Parameters!R2700","v":0.85},{"$f":"Parameters!S2700","v":0.85},{"$f":"Parameters!T2700","v":0.85},{"$f":"Parameters!U2700","v":0.85},{"$f":"Parameters!V2700","v":0.85},{"$f":"Parameters!W2700","v":0.85},{"$f":"Parameters!X2700","v":0.85},{"$f":"Parameters!Y2700","v":0.85},{"$f":"Parameters!Z2700","v":0.85},{"$f":"Parameters!AA2700","v":0.85},{"$f":"Parameters!AB2700","v":0.85},{"$f":"Parameters!AC2700","v":0.85},{"$f":"Parameters!AD2700","v":0.85},{"$f":"Parameters!AE2700","v":0.85},{"$f":"Parameters!AF2700","v":0.85},{"$f":"Parameters!AG2700","v":0.85},{"$f":"Parameters!AH2700","v":0.85},{"$f":"Parameters!AI2700","v":0.85},{"$f":"Parameters!AJ2700","v":0.85},{"$f":"Parameters!AK2700","v":0.85},{"$f":"Parameters!AL2700","v":0.85},{"$f":"Parameters!AM2700","v":0.85},{"$f":"Parameters!AN2700","v":0.85},{"$f":"Parameters!AO2700","v":0.85},{"$f":"Parameters!AP2700","v":0.85},{"$f":"Parameters!AQ2700","v":0.85},{"$f":"Parameters!AR2700","v":0.85},{"$f":"Parameters!AS2700","v":0.85},{"$f":"Parameters!AT2700","v":0.85},{"$f":"Parameters!AU2700","v":0.85},{"$f":"Parameters!AV2700","v":0.85},{"$f":"Parameters!AW2700","v":0.85},{"$f":"Parameters!AX2700","v":0.85},{"$f":"Parameters!AY2700","v":0.85},{"$f":"Parameters!AZ2700","v":0.85},{"$f":"Parameters!BA2700","v":0.85},{"$f":"Parameters!BB2700","v":0.85},{"$f":"Parameters!BC2700","v":0.85},{"$f":"Parameters!BD2700","v":0.85},{"$f":"Parameters!BE2700","v":0.85},{"$f":"Parameters!BF2700","v":0.85},{"$f":"Parameters!BG2700","v":0.85},{"$f":"Parameters!BH2700","v":0.85},{"$f":"Parameters!BI2700","v":0.85},{"$f":"Parameters!BJ2700","v":0.85},{"$f":"Parameters!BK2700","v":0.85},{"$f":"Parameters!BL2700","v":0.85},{"$f":"Parameters!BM2700","v":0.85},{"$f":"Parameters!BN2700","v":0.85}]
["S109",{"$f":"Parameters!K2861","v":1},{"$f":"Parameters!L2861","v":1},{"$f":"Parameters!M2861","v":1},{"$f":"Parameters!N2861","v":1},{"$f":"Parameters!O2861","v":1},{"$f":"Parameters!P2861","v":1},{"$f":"Parameters!Q2861","v":1},{"$f":"Parameters!R2861","v":1},{"$f":"Parameters!S2861","v":1},{"$f":"Parameters!T2861","v":1},{"$f":"Parameters!U2861","v":1},{"$f":"Parameters!V2861","v":1},{"$f":"Parameters!W2861","v":1},{"$f":"Parameters!X2861","v":1},{"$f":"Parameters!Y2861","v":1},{"$f":"Parameters!Z2861","v":1},{"$f":"Parameters!AA2861","v":1},{"$f":"Parameters!AB2861","v":1},{"$f":"Parameters!AC2861","v":1},{"$f":"Parameters!AD2861","v":1},{"$f":"Parameters!AE2861","v":1},{"$f":"Parameters!AF2861","v":1},{"$f":"Parameters!AG2861","v":1},{"$f":"Parameters!AH2861","v":1},{"$f":"Parameters!AI2861","v":1},{"$f":"Parameters!AJ2861","v":1},{"$f":"Parameters!AK2861","v":1},{"$f":"Parameters!AL2861","v":1},{"$f":"Parameters!AM2861","v":1},{"$f":"Parameters!AN2861","v":1},{"$f":"Parameters!AO2861","v":1},{"$f":"Parameters!AP2861","v":1},{"$f":"Parameters!AQ2861","v":1},{"$f":"Parameters!AR2861","v":1},{"$f":"Parameters!AS2861","v":1},{"$f":"Parameters!AT2861","v":1},{"$f":"Parameters!AU2861","v":1},{"$f":"Parameters!AV2861","v":1},{"$f":"Parameters!AW2861","v":1},{"$f":"Parameters!AX2861","v":1},{"$f":"Parameters!AY2861","v":1},{"$f":"Parameters!AZ2861","v":1},{"$f":"Parameters!BA2861","v":1},{"$f":"Parameters!BB2861","v":1},{"$f":"Parameters!BC2861","v":1},{"$f":"Parameters!BD2861","v":1},{"$f":"Parameters!BE2861","v":1},{"$f":"Parameters!BF2861","v":1},{"$f":"Parameters!BG2861","v":1},{"$f":"Parameters!BH2861","v":1},{"$f":"Parameters!BI2861","v":1},{"$f":"Parameters!BJ2861","v":1},{"$f":"Parameters!BK2861","v":1},{"$f":"Parameters!BL2861","v":1},{"$f":"Parameters!BM2861","v":1},{"$f":"Parameters!BN2861","v":1}]
["S122",{"$f":"Parameters!K3066","v":0.75223394180666603},{"$f":"Parameters!L3066","v":0.75223394180666603},{"$f":"Parameters!M3066","v":0.75223394180666603},{"$f":"Parameters!N3066","v":0.75223394180666603},{"$f":"Parameters!O3066","v":0.75223394180666603},{"$f":"Parameters!P3066","v":0.75223394180666603},{"$f":"Parameters!Q3066","v":0.75223394180666603},{"$f":"Parameters!R3066","v":0.75223394180666603},{"$f":"Parameters!S3066","v":0.75223394180666603},{"$f":"Parameters!T3066","v":0.75223394180666603},{"$f":"Parameters!U3066","v":0.75223394180666603},{"$f":"Parameters!V3066","v":0.75223394180666603},{"$f":"Parameters!W3066","v":0.75223394180666603},{"$f":"Parameters!X3066","v":0.75223394180666603},{"$f":"Parameters!Y3066","v":0.75223394180666603},{"$f":"Parameters!Z3066","v":0.75223394180666603},{"$f":"Parameters!AA3066","v":0.75223394180666603},{"$f":"Parameters!AB3066","v":0.75223394180666603},{"$f":"Parameters!AC3066","v":0.75223394180666603},{"$f":"Parameters!AD3066","v":0.75223394180666603},{"$f":"Parameters!AE3066","v":0.75223394180666603},{"$f":"Parameters!AF3066","v":0.75223394180666603},{"$f":"Parameters!AG3066","v":0.75223394180666603},{"$f":"Parameters!AH3066","v":0.75223394180666603},{"$f":"Parameters!AI3066","v":0.75223394180666603},{"$f":"Parameters!AJ3066","v":0.75223394180666603},{"$f":"Parameters!AK3066","v":0.75223394180666603},{"$f":"Parameters!AL3066","v":0.75223394180666603},{"$f":"Parameters!AM3066","v":0.75223394180666603},{"$f":"Parameters!AN3066","v":0.75223394180666603},{"$f":"Parameters!AO3066","v":0.75223394180666603},{"$f":"Parameters!AP3066","v":0.75223394180666603},{"$f":"Parameters!AQ3066","v":0.75223394180666603},{"$f":"Parameters!AR3066","v":0.75223394180666603},{"$f":"Parameters!AS3066","v":0.75223394180666603},{"$f":"Parameters!AT3066","v":0.75223394180666603},{"$f":"Parameters!AU3066","v":0.75223394180666603},{"$f":"Parameters!AV3066","v":0.75223394180666603},{"$f":"Parameters!AW3066","v":0.75223394180666603},{"$f":"Parameters!AX3066","v":0.75223394180666603},{"$f":"Parameters!AY3066","v":0.75223394180666603},{"$f":"Parameters!AZ3066","v":0.75223394180666603},{"$f":"Parameters!BA3066","v":0.75223394180666603},{"$f":"Parameters!BB3066","v":0.75223394180666603},{"$f":"Parameters!BC3066","v":0.75223394180666603},{"$f":"Parameters!BD3066","v":0.75223394180666603},{"$f":"Parameters!BE3066","v":0.75223394180666603},{"$f":"Parameters!BF3066","v":0.75223394180666603},{"$f":"Parameters!BG3066","v":0.75223394180666603},{"$f":"Parameters!BH3066","v":0.75223394180666603},{"$f":"Parameters!BI3066","v":0.75223394180666603},{"$f":"Parameters!BJ3066","v":0.75223394180666603},{"$f":"Parameters!BK3066","v":0.75223394180666603},{"$f":"Parameters!BL3066","v":0.75223394180666603},{"$f":"Parameters!BM3066","v":0.75223394180666603},{"$f":"Parameters!BN3066","v":0.75223394180666603}]
["S124",{"$f":"Parameters!K3260","v":0.75223394180666603},{"$f":"Parameters!L3260","v":0.75223394180666603},{"$f":"Parameters!M3260","v":0.75223394180666603},{"$f":"Parameters!N3260","v":0.75223394180666603},{"$f":"Parameters!O3260","v":0.75223394180666603},{"$f":"Parameters!P3260","v":0.75223394180666603},{"$f":"Parameters!Q3260","v":0.75223394180666603},{"$f":"Parameters!R3260","v":0.75223394180666603},{"$f":"Parameters!S3260","v":0.75223394180666603},{"$f":"Parameters!T3260","v":0.75223394180666603},{"$f":"Parameters!U3260","v":0.75223394180666603},{"$f":"Parameters!V3260","v":0.75223394180666603},{"$f":"Parameters!W3260","v":0.75223394180666603},{"$f":"Parameters!X3260","v":0.75223394180666603},{"$f":"Parameters!Y3260","v":0.75223394180666603},{"$f":"Parameters!Z3260","v":0.75223394180666603},{"$f":"Parameters!AA3260","v":0.75223394180666603},{"$f":"Parameters!AB3260","v":0.75223394180666603},{"$f":"Parameters!AC3260","v":0.75223394180666603},{"$f":"Parameters!AD3260","v":0.75223394180666603},{"$f":"Parameters!AE3260","v":0.75223394180666603},{"$f":"Parameters!AF3260","v":0.75223394180666603},{"$f":"Parameters!AG3260","v":0.75223394180666603},{"$f":"Parameters!AH3260","v":0.75223394180666603},{"$f":"Parameters!AI3260","v":0.75223394180666603},{"$f":"Parameters!AJ3260","v":0.75223394180666603},{"$f":"Parameters!AK3260","v":0.75223394180666603},{"$f":"Parameters!AL3260","v":0.75223394180666603},{"$f":"Parameters!AM3260","v":0.75223394180666603},{"$f":"Parameters!AN3260","v":0.75223394180666603},{"$f":"Parameters!AO3260","v":0.75223394180666603},{"$f":"Parameters!AP3260","v":0.75223394180666603},{"$f":"Parameters!AQ3260","v":0.75223394180666603},{"$f":"Parameters!AR3260","v":0.75223394180666603},{"$f":"Parameters!AS3260","v":0.75223394180666603},{"$f":"Parameters!AT3260","v":0.75223394180666603},{"$f":"Parameters!AU3260","v":0.75223394180666603},{"$f":"Parameters!AV3260","v":0.75223394180666603},{"$f":"Parameters!AW3260","v":0.75223394180666603},{"$f":"Parameters!AX3260","v":0.75223394180666603},{"$f":"Parameters!AY3260","v":0.75223394180666603},{"$f":"Parameters!AZ3260","v":0.75223394180666603},{"$f":"Parameters!BA3260","v":0.75223394180666603},{"$f":"Parameters!BB3260","v":0.75223394180666603},{"$f":"Parameters!BC3260","v":0.75223394180666603},{"$f":"Parameters!BD3260","v":0.75223394180666603},{"$f":"Parameters!BE3260","v":0.75223394180666603},{"$f":"Parameters!BF3260","v":0.75223394180666603},{"$f":"Parameters!BG3260","v":0.75223394180666603},{"$f":"Parameters!BH3260","v":0.75223394180666603},{"$f":"Parameters!BI3260","v":0.75223394180666603},{"$f":"Parameters!BJ3260","v":0.75223394180666603},{"$f":"Parameters!BK3260","v":0.75223394180666603},{"$f":"Parameters!BL3260","v":0.75223394180666603},{"$f":"Parameters!BM3260","v":0.75223394180666603},{"$f":"Parameters!BN3260","v":0.75223394180666603}]
["S306",{"$f":"Parameters!K3386","v":0.38680223429951699},{"$f":"Parameters!L3386","v":0.38680223429951699},{"$f":"Parameters!M3386","v":0.38680223429951699},{"$f":"Parameters!N3386","v":0.38680223429951699},{"$f":"Parameters!O3386","v":0.38680223429951699},{"$f":"Parameters!P3386","v":0.38680223429951699},{"$f":"Parameters!Q3386","v":0.38680223429951699},{"$f":"Parameters!R3386","v":0.38680223429951699},{"$f":"Parameters!S3386","v":0.38680223429951699},{"$f":"Parameters!T3386","v":0.38680223429951699},{"$f":"Parameters!U3386","v":0.38680223429951699},{"$f":"Parameters!V3386","v":0.38680223429951699},{"$f":"Parameters!W3386","v":0.38680223429951699},{"$f":"Parameters!X3386","v":0.38680223429951699},{"$f":"Parameters!Y3386","v":0.38680223429951699},{"$f":"Parameters!Z3386","v":0.38680223429951699},{"$f":"Parameters!AA3386","v":0.38680223429951699},{"$f":"Parameters!AB3386","v":0.38680223429951699},{"$f":"Parameters!AC3386","v":0.38680223429951699},{"$f":"Parameters!AD3386","v":0.38680223429951699},{"$f":"Parameters!AE3386","v":0.38680223429951699},{"$f":"Parameters!AF3386","v":0.38680223429951699},{"$f":"Parameters!AG3386","v":0.38680223429951699},{"$f":"Parameters!AH3386","v":0.38680223429951699},{"$f":"Parameters!AI3386","v":0.38680223429951699},{"$f":"Parameters!AJ3386","v":0.38680223429951699},{"$f":"Parameters!AK3386","v":0.38680223429951699},{"$f":"Parameters!AL3386","v":0.38680223429951699},{"$f":"Parameters!AM3386","v":0.38680223429951699},{"$f":"Parameters!AN3386","v":0.38680223429951699},{"$f":"Parameters!AO3386","v":0.38680223429951699},{"$f":"Parameters!AP3386","v":0.38680223429951699},{"$f":"Parameters!AQ3386","v":0.38680223429951699},{"$f":"Parameters!AR3386","v":0.38680223429951699},{"$f":"Parameters!AS3386","v":0.38680223429951699},{"$f":"Parameters!AT3386","v":0.38680223429951699},{"$f":"Parameters!AU3386","v":0.38680223429951699},{"$f":"Parameters!AV3386","v":0.38680223429951699},{"$f":"Parameters!AW3386","v":0.38680223429951699},{"$f":"Parameters!AX3386","v":0.38680223429951699},{"$f":"Parameters!AY3386","v":0.38680223429951699},{"$f":"Parameters!AZ3386","v":0.38680223429951699},{"$f":"Parameters!BA3386","v":0.38680223429951699},{"$f":"Parameters!BB3386","v":0.38680223429951699},{"$f":"Parameters!BC3386","v":0.38680223429951699},{"$f":"Parameters!BD3386","v":0.38680223429951699},{"$f":"Parameters!BE3386","v":0.38680223429951699},{"$f":"Parameters!BF3386","v":0.38680223429951699},{"$f":"Parameters!BG3386","v":0.38680223429951699},{"$f":"Parameters!BH3386","v":0.38680223429951699},{"$f":"Parameters!BI3386","v":0.38680223429951699},{"$f":"Parameters!BJ3386","v":0.38680223429951699},{"$f":"Parameters!BK3386","v":0.38680223429951699},{"$f":"Parameters!BL3386","v":0.38680223429951699},{"$f":"Parameters!BM3386","v":0.38680223429951699},1]
["S307",{"$f":"Parameters!K3483","v":0},{"$f":"Parameters!L3483","v":0},{"$f":"Parameters!M3483","v":0},{"$f":"Parameters!N3483","v":0},{"$f":"Parameters!O3483","v":0},{"$f":"Parameters!P3483","v":0},{"$f":"Parameters!Q3483","v":0},{"$f":"Parameters!R3483","v":0},{"$f":"Parameters!S3483","v":0},{"$f":"Parameters!T3483","v":0},{"$f":"Parameters!U3483","v":0},{"$f":"Parameters!V3483","v":0},{"$f":"Parameters!W3483","v":0},{"$f":"Parameters!X3483","v":0},{"$f":"Parameters!Y3483","v":0},{"$f":"Parameters!Z3483","v":0},{"$f":"Parameters!AA3483","v":0},{"$f":"Parameters!AB3483","v":0},{"$f":"Parameters!AC3483","v":0},{"$f":"Parameters!AD3483","v":0},{"$f":"Parameters!AE3483","v":0},{"$f":"Parameters!AF3483","v":0},{"$f":"Parameters!AG3483","v":0},{"$f":"Parameters!AH3483","v":0},{"$f":"Parameters!AI3483","v":0},{"$f":"Parameters!AJ3483","v":0},{"$f":"Parameters!AK3483","v":0},{"$f":"Parameters!AL3483","v":0},{"$f":"Parameters!AM3483","v":0},{"$f":"Parameters!AN3483","v":0},{"$f":"Parameters!AO3483","v":0},{"$f":"Parameters!AP3483","v":0},{"$f":"Parameters!AQ3483","v":0},{"$f":"Parameters!AR3483","v":0},{"$f":"Parameters!AS3483","v":0},{"$f":"Parameters!AT3483","v":0},{"$f":"Parameters!AU3483","v":0},{"$f":"Parameters!AV3483","v":0},{"$f":"Parameters!AW3483","v":0},{"$f":"Parameters!AX3483","v":0},{"$f":"Parameters!AY3483","v":0},{"$f":"Parameters!AZ3483","v":0},{"$f":"Parameters!BA3483","v":0},{"$f":"Parameters!BB3483","v":0},{"$f":"Parameters!BC3483","v":0},{"$f":"Parameters!BD3483","v":0},{"$f":"Parameters!BE3483","v":0},{"$f":"Parameters!BF3483","v":0},{"$f":"Parameters!BG3483","v":0},{"$f":"Parameters!BH3483","v":0},{"$f":"Parameters!BI3483","v":0},{"$f":"Parameters!BJ3483","v":0},{"$f":"Parameters!BK3483","v":0},{"$f":"Parameters!BL3483","v":0},{"$f":"Parameters!BM3483","v":0},{"$f":"Parameters!BN3483","v":0}]
["S124",{"$f":"Parameters!K3644","v":0},{"$f":"Parameters!L3644","v":0},{"$f":"Parameters!M3644","v":0},{"$f":"Parameters!N3644","v":0},{"$f":"Parameters!O3644","v":0},{"$f":"Parameters!P3644","v":0},{"$f":"Parameters!Q3644","v":0},{"$f":"Parameters!R3644","v":0},{"$f":"Parameters!S3644","v":0},{"$f":"Parameters!T3644","v":0},{"$f":"Parameters!U3644","v":0},{"$f":"Parameters!V3644","v":0},{"$f":"Parameters!W3644","v":0},{"$f":"Parameters!X3644","v":0},{"$f":"Parameters!Y3644","v":0},{"$f":"Parameters!Z3644","v":0},{"$f":"Parameters!AA3644","v":0},{"$f":"Parameters!AB3644","v":0},{"$f":"Parameters!AC3644","v":0},{"$f":"Parameters!AD3644","v":0},{"$f":"Parameters!AE3644","v":0},{"$f":"Parameters!AF3644","v":0},{"$f":"Parameters!AG3644","v":0},{"$f":"Parameters!AH3644","v":0},{"$f":"Parameters!AI3644","v":0},{"$f":"Parameters!AJ3644","v":0},{"$f":"Parameters!AK3644","v":0},{"$f":"Parameters!AL3644","v":0},{"$f":"Parameters!AM3644","v":0},{"$f":"Parameters!AN3644","v":0},{"$f":"Parameters!AO3644","v":0},{"$f":"Parameters!AP3644","v":0},{"$f":"Parameters!AQ3644","v":0},{"$f":"Parameters!AR3644","v":0},{"$f":"Parameters!AS3644","v":0},{"$f":"Parameters!AT3644","v":0},{"$f":"Parameters!AU3644","v":0},{"$f":"Parameters!AV3644","v":0},{"$f":"Parameters!AW3644","v":0},{"$f":"Parameters!AX3644","v":0},{"$f":"Parameters!AY3644","v":0},{"$f":"Parameters!AZ3644","v":0},{"$f":"Parameters!BA3644","v":0},{"$f":"Parameters!BB3644","v":0},{"$f":"Parameters!BC3644","v":0},{"$f":"Parameters!BD3644","v":0},{"$f":"Parameters!BE3644","v":0},{"$f":"Parameters!BF3644","v":0},{"$f":"Parameters!BG3644","v":0},{"$f":"Parameters!BH3644","v":0},{"$f":"Parameters!BI3644","v":0},{"$f":"Parameters!BJ3644","v":0},{"$f":"Parameters!BK3644","v":0},{"$f":"Parameters!BL3644","v":0},{"$f":"Parameters!BM3644","v":0},{"$f":"Parameters!BN3644","v":0}]
["S221",{"$f":"Parameters!K3857","v":1},{"$f":"Parameters!L3857","v":1},{"$f":"Parameters!M3857","v":1},{"$f":"Parameters!N3857","v":1},{"$f":"Parameters!O3857","v":1},{"$f":"Parameters!P3857","v":1},{"$f":"Parameters!Q3857","v":1},{"$f":"Parameters!R3857","v":1},{"$f":"Parameters!S3857","v":1},{"$f":"Parameters!T3857","v":1},{"$f":"Parameters!U3857","v":1},{"$f":"Parameters!V3857","v":1},{"$f":"Parameters!W3857","v":1},{"$f":"Parameters!X3857","v":1},{"$f":"Parameters!Y3857","v":1},{"$f":"Parameters!Z3857","v":1},{"$f":"Parameters!AA3857","v":1},{"$f":"Parameters!AB3857","v":1},{"$f":"Parameters!AC3857","v":1},{"$f":"Parameters!AD3857","v":1},{"$f":"Parameters!AE3857","v":1},{"$f":"Parameters!AF3857","v":1},{"$f":"Parameters!AG3857","v":1},{"$f":"Parameters!AH3857","v":1},{"$f":"Parameters!AI3857","v":1},{"$f":"Parameters!AJ3857","v":1},{"$f":"Parameters!AK3857","v":1},{"$f":"Parameters!AL3857","v":1},{"$f":"Parameters!AM3857","v":1},{"$f":"Parameters!AN3857","v":1},{"$f":"Parameters!AO3857","v":1},{"$f":"Parameters!AP3857","v":1},{"$f":"Parameters!AQ3857","v":1},{"$f":"Parameters!AR3857","v":1},{"$f":"Parameters!AS3857","v":1},{"$f":"Parameters!AT3857","v":1},{"$f":"Parameters!AU3857","v":1},{"$f":"Parameters!AV3857","v":1},{"$f":"Parameters!AW3857","v":1},{"$f":"Parameters!AX3857","v":1},{"$f":"Parameters!AY3857","v":1},{"$f":"Parameters!AZ3857","v":1},{"$f":"Parameters!BA3857","v":1},{"$f":"Parameters!BB3857","v":1},{"$f":"Parameters!BC3857","v":1},{"$f":"Parameters!BD3857","v":1},{"$f":"Parameters!BE3857","v":1},{"$f":"Parameters!BF3857","v":1},{"$f":"Parameters!BG3857","v":1},{"$f":"Parameters!BH3857","v":1},{"$f":"Parameters!BI3857","v":1},{"$f":"Parameters!BJ3857","v":1},{"$f":"Parameters!BK3857","v":1},{"$f":"Parameters!BL3857","v":1},{"$f":"Parameters!BM3857","v":1},{"$f":"Parameters!BN3857","v":1}]
["S215",{"$f":"Parameters!K4043","v":1},{"$f":"Parameters!L4043","v":1},{"$f":"Parameters!M4043","v":1},{"$f":"Parameters!N4043","v":1},{"$f":"Parameters!O4043","v":1},{"$f":"Parameters!P4043","v":1},{"$f":"Parameters!Q4043","v":1},{"$f":"Parameters!R4043","v":1},{"$f":"Parameters!S4043","v":1},{"$f":"Parameters!T4043","v":1},{"$f":"Parameters!U4043","v":1},{"$f":"Parameters!V4043","v":1},{"$f":"Parameters!W4043","v":1},{"$f":"Parameters!X4043","v":1},{"$f":"Parameters!Y4043","v":1},{"$f":"Parameters!Z4043","v":1},{"$f":"Parameters!AA4043","v":1},{"$f":"Parameters!AB4043","v":1},{"$f":"Parameters!AC4043","v":1},{"$f":"Parameters!AD4043","v":1},{"$f":"Parameters!AE4043","v":1},{"$f":"Parameters!AF4043","v":1},{"$f":"Parameters!AG4043","v":1},{"$f":"Parameters!AH4043","v":1},{"$f":"Parameters!AI4043","v":1},{"$f":"Parameters!AJ4043","v":1},{"$f":"Parameters!AK4043","v":1},{"$f":"Parameters!AL4043","v":1},{"$f":"Parameters!AM4043","v":1},{"$f":"Parameters!AN4043","v":1},{"$f":"Parameters!AO4043","v":1},{"$f":"Parameters!AP4043","v":1},{"$f":"Parameters!AQ4043","v":1},{"$f":"Parameters!AR4043","v":1},{"$f":"Parameters!AS4043","v":1},{"$f":"Parameters!AT4043","v":1},{"$f":"Parameters!AU4043","v":1},{"$f":"Parameters!AV4043","v":1},{"$f":"Parameters!AW4043","v":1},{"$f":"Parameters!AX4043","v":1},{"$f":"Parameters!AY4043","v":1},{"$f":"Parameters!AZ4043","v":1},{"$f":"Parameters!BA4043","v":1},{"$f":"Parameters!BB4043","v":1},{"$f":"Parameters!BC4043","v":1},{"$f":"Parameters!BD4043","v":1},{"$f":"Parameters!BE4043","v":1},{"$f":"Parameters!BF4043","v":1},{"$f":"Parameters!BG4043","v":1},{"$f":"Parameters!BH4043","v":1},{"$f":"Parameters!BI4043","v":1},{"$f":"Parameters!BJ4043","v":1},{"$f":"Parameters!BK4043","v":1},{"$f":"Parameters!BL4043","v":1},{"$f":"Parameters!BM4043","v":1},{"$f":"Parameters!BN4043","v":1}]
["S405",{"$f":"Parameters!K4177","v":1},{"$f":"Parameters!L4177","v":1},{"$f":"Parameters!M4177","v":1},{"$f":"Parameters!N4177","v":1},{"$f":"Parameters!O4177","v":1},{"$f":"Parameters!P4177","v":1},{"$f":"Parameters!Q4177","v":1},{"$f":"Parameters!R4177","v":1},{"$f":"Parameters!S4177","v":1},{"$f":"Parameters!T4177","v":1},{"$f":"Parameters!U4177","v":1},{"$f":"Parameters!V4177","v":1},{"$f":"Parameters!W4177","v":1},{"$f":"Parameters!X4177","v":1},{"$f":"Parameters!Y4177","v":1},{"$f":"Parameters!Z4177","v":1},{"$f":"Parameters!AA4177","v":1},{"$f":"Parameters!AB4177","v":1},{"$f":"Parameters!AC4177","v":1},{"$f":"Parameters!AD4177","v":1},{"$f":"Parameters!AE4177","v":1},{"$f":"Parameters!AF4177","v":1},{"$f":"Parameters!AG4177","v":1},{"$f":"Parameters!AH4177","v":1},{"$f":"Parameters!AI4177","v":1},{"$f":"Parameters!AJ4177","v":1},{"$f":"Parameters!AK4177","v":1},{"$f":"Parameters!AL4177","v":1},{"$f":"Parameters!AM4177","v":1},{"$f":"Parameters!AN4177","v":1},{"$f":"Parameters!AO4177","v":1},{"$f":"Parameters!AP4177","v":1},{"$f":"Parameters!AQ4177","v":1},{"$f":"Parameters!AR4177","v":1},{"$f":"Parameters!AS4177","v":1},{"$f":"Parameters!AT4177","v":1},{"$f":"Parameters!AU4177","v":1},{"$f":"Parameters!AV4177","v":1},{"$f":"Parameters!AW4177","v":1},{"$f":"Parameters!AX4177","v":1},{"$f":"Parameters!AY4177","v":1},{"$f":"Parameters!AZ4177","v":1},{"$f":"Parameters!BA4177","v":1},{"$f":"Parameters!BB4177","v":1},{"$f":"Parameters!BC4177","v":1},{"$f":"Parameters!BD4177","v":1},{"$f":"Parameters!BE4177","v":1},{"$f":"Parameters!BF4177","v":1},{"$f":"Parameters!BG4177","v":1},{"$f":"Parameters!BH4177","v":1},{"$f":"Parameters!BI4177","v":1},{"$f":"Parameters!BJ4177","v":1},{"$f":"Parameters!BK4177","v":1},{"$f":"Parameters!BL4177","v":1},{"$f":"Parameters!BM4177","v":1},{"$f":"Parameters!BN4177","v":1}]
["S306",{"$f":"Parameters!K4442","v":0.55735292443555495},{"$f":"Parameters!L4442","v":0.55735292443555495},{"$f":"Parameters!M4442","v":0.55735292443555495},{"$f":"Parameters!N4442","v":0.55735292443555495},{"$f":"Parameters!O4442","v":0.55735292443555495},{"$f":"Parameters!P4442","v":0.55735292443555495},{"$f":"Parameters!Q4442","v":0.55735292443555495},{"$f":"Parameters!R4442","v":0.55735292443555495},{"$f":"Parameters!S4442","v":0.55735292443555495},{"$f":"Parameters!T4442","v":0.55735292443555495},{"$f":"Parameters!U4442","v":0.55735292443555495},{"$f":"Parameters!V4442","v":0.55735292443555495},{"$f":"Parameters!W4442","v":0.55735292443555495},{"$f":"Parameters!X4442","v":0.55735292443555495},{"$f":"Parameters!Y4442","v":0.55735292443555495},{"$f":"Parameters!Z4442","v":0.55735292443555495},{"$f":"Parameters!AA4442","v":0.55735292443555495},{"$f":"Parameters!AB4442","v":0.55735292443555495},{"$f":"Parameters!AC4442","v":0.55735292443555495},{"$f":"Parameters!AD4442","v":0.55735292443555495},{"$f":"Parameters!AE4442","v":0.55735292443555495},{"$f":"Parameters!AF4442","v":0.55735292443555495},{"$f":"Parameters!AG4442","v":0.55735292443555495},{"$f":"Parameters!AH4442","v":0.55735292443555495},{"$f":"Parameters!AI4442","v":0.55735292443555495},{"$f":"Parameters!AJ4442","v":0.55735292443555495},{"$f":"Parameters!AK4442","v":0.55735292443555495},{"$f":"Parameters!AL4442","v":0.55735292443555495},{"$f":"Parameters!AM4442","v":0.55735292443555495},{"$f":"Parameters!AN4442","v":0.55735292443555495},{"$f":"Parameters!AO4442","v":0.55735292443555495},{"$f":"Parameters!AP4442","v":0.55735292443555495},{"$f":"Parameters!AQ4442","v":0.55735292443555495},{"$f":"Parameters!AR4442","v":0.55735292443555495},{"$f":"Parameters!AS4442","v":0.55735292443555495},{"$f":"Parameters!AT4442","v":0.55735292443555495},{"$f":"Parameters!AU4442","v":0.55735292443555495},{"$f":"Parameters!AV4442","v":0.55735292443555495},{"$f":"Parameters!AW4442","v":0.55735292443555495},{"$f":"Parameters!AX4442","v":0.55735292443555495},{"$f":"Parameters!AY4442","v":0.55735292443555495},{"$f":"Parameters!AZ4442","v":0.55735292443555495},{"$f":"Parameters!BA4442","v":0.55735292443555495},{"$f":"Parameters!BB4442","v":0.55735292443555495},{"$f":"Parameters!BC4442","v":0.55735292443555495},{"$f":"Parameters!BD4442","v":0.55735292443555495},{"$f":"Parameters!BE4442","v":0.55735292443555495},{"$f":"Parameters!BF4442","v":0.55735292443555495},{"$f":"Parameters!BG4442","v":0.55735292443555495},{"$f":"Parameters!BH4442","v":0.55735292443555495},{"$f":"Parameters!BI4442","v":0.55735292443555495},{"$f":"Parameters!BJ4442","v":0.55735292443555495},{"$f":"Parameters!BK4442","v":0.55735292443555495},{"$f":"Parameters!BL4442","v":0.55735292443555495},{"$f":"Parameters!BM4442","v":0.55735292443555495},{"$f":"Parameters!BN4442","v":0.55735292443555495}]
["S407",{"$f":"Parameters!K4659","v":1},{"$f":"Parameters!L4659","v":1},{"$f":"Parameters!M4659","v":1},{"$f":"Parameters!N4659","v":1},{"$f":"Parameters!O4659","v":1},{"$f":"Parameters!P4659","v":1},{"$f":"Parameters!Q4659","v":1},{"$f":"Parameters!R4659","v":1},{"$f":"Parameters!S4659","v":1},{"$f":"Parameters!T4659","v":1},{"$f":"Parameters!U4659","v":1},{"$f":"Parameters!V4659","v":1},{"$f":"Parameters!W4659","v":1},{"$f":"Parameters!X4659","v":1},{"$f":"Parameters!Y4659","v":1},{"$f":"Parameters!Z4659","v":1},{"$f":"Parameters!AA4659","v":1},{"$f":"Parameters!AB4659","v":1},{"$f":"Parameters!AC4659","v":1},{"$f":"Parameters!AD4659","v":1},{"$f":"Parameters!AE4659","v":1},{"$f":"Parameters!AF4659","v":1},{"$f":"Parameters!AG4659","v":1},{"$f":"Parameters!AH4659","v":1},{"$f":"Parameters!AI4659","v":1},{"$f":"Parameters!AJ4659","v":1},{"$f":"Parameters!AK4659","v":1},{"$f":"Parameters!AL4659","v":1},{"$f":"Parameters!AM4659","v":1},{"$f":"Parameters!AN4659","v":1},{"$f":"Parameters!AO4659","v":1},{"$f":"Parameters!AP4659","v":1},{"$f":"Parameters!AQ4659","v":1},{"$f":"Parameters!AR4659","v":1},{"$f":"Parameters!AS4659","v":1},{"$f":"Parameters!AT4659","v":1},{"$f":"Parameters!AU4659","v":1},{"$f":"Parameters!AV4659","v":1},{"$f":"Parameters!AW4659","v":1},{"$f":"Parameters!AX4659","v":1},{"$f":"Parameters!AY4659","v":1},{"$f":"Parameters!AZ4659","v":1},{"$f":"Parameters!BA4659","v":1},{"$f":"Parameters!BB4659","v":1},{"$f":"Parameters!BC4659","v":1},{"$f":"Parameters!BD4659","v":1},{"$f":"Parameters!BE4659","v":1},{"$f":"Parameters!BF4659","v":1},{"$f":"Parameters!BG4659","v":1},{"$f":"Parameters!BH4659","v":1},{"$f":"Parameters!BI4659","v":1},{"$f":"Parameters!BJ4659","v":1},{"$f":"Parameters!BK4659","v":1},{"$f":"Parameters!BL4659","v":1},{"$f":"Parameters!BM4659","v":1},{"$f":"Parameters!BN4659","v":1}]
["S321",{"$f":"Parameters!K4841","v":1},{"$f":"Parameters!L4841","v":1},{"$f":"Parameters!M4841","v":1},{"$f":"Parameters!N4841","v":1},{"$f":"Parameters!O4841","v":1},{"$f":"Parameters!P4841","v":1},{"$f":"Parameters!Q4841","v":1},{"$f":"Parameters!R4841","v":1},{"$f":"Parameters!S4841","v":1},{"$f":"Parameters!T4841","v":1},{"$f":"Parameters!U4841","v":1},{"$f":"Parameters!V4841","v":1},{"$f":"Parameters!W4841","v":1},{"$f":"Parameters!X4841","v":1},{"$f":"Parameters!Y4841","v":1},{"$f":"Parameters!Z4841","v":1},{"$f":"Parameters!AA4841","v":1},{"$f":"Parameters!AB4841","v":1},{"$f":"Parameters!AC4841","v":1},{"$f":"Parameters!AD4841","v":1},{"$f":"Parameters!AE4841","v":1},{"$f":"Parameters!AF4841","v":1},{"$f":"Parameters!AG4841","v":1},{"$f":"Parameters!AH4841","v":1},{"$f":"Parameters!AI4841","v":1},{"$f":"Parameters!AJ4841","v":1},{"$f":"Parameters!AK4841","v":1},{"$f":"Parameters!AL4841","v":1},{"$f":"Parameters!AM4841","v":1},{"$f":"Parameters!AN4841","v":1},{"$f":"Parameters!AO4841","v":1},{"$f":"Parameters!AP4841","v":1},{"$f":"Parameters!AQ4841","v":1},{"$f":"Parameters!AR4841","v":1},{"$f":"Parameters!AS4841","v":1},{"$f":"Parameters!AT4841","v":1},{"$f":"Parameters!AU4841","v":1},{"$f":"Parameters!AV4841","v":1},{"$f":"Parameters!AW4841","v":1},{"$f":"Parameters!AX4841","v":1},{"$f":"Parameters!AY4841","v":1},{"$f":"Parameters!AZ4841","v":1},{"$f":"Parameters!BA4841","v":1},{"$f":"Parameters!BB4841","v":1},{"$f":"Parameters!BC4841","v":1},{"$f":"Parameters!BD4841","v":1},{"$f":"Parameters!BE4841","v":1},{"$f":"Parameters!BF4841","v":1},{"$f":"Parameters!BG4841","v":1},{"$f":"Parameters!BH4841","v":1},{"$f":"Parameters!BI4841","v":1},{"$f":"Parameters!BJ4841","v":1},{"$f":"Parameters!BK4841","v":1},{"$f":"Parameters!BL4841","v":1},{"$f":"Parameters!BM4841","v":1},{"$f":"Parameters!BN4841","v":1}]
["S214",{"$f":"Parameters!K5002","v":1},{"$f":"Parameters!L5002","v":1},{"$f":"Parameters!M5002","v":1},{"$f":"Parameters!N5002","v":1},{"$f":"Parameters!O5002","v":1},{"$f":"Parameters!P5002","v":1},{"$f":"Parameters!Q5002","v":1},{"$f":"Parameters!R5002","v":1},{"$f":"Parameters!S5002","v":1},{"$f":"Parameters!T5002","v":1},{"$f":"Parameters!U5002","v":1},{"$f":"Parameters!V5002","v":1},{"$f":"Parameters!W5002","v":1},{"$f":"Parameters!X5002","v":1},{"$f":"Parameters!Y5002","v":1},{"$f":"Parameters!Z5002","v":1},{"$f":"Parameters!AA5002","v":1},{"$f":"Parameters!AB5002","v":1},{"$f":"Parameters!AC5002","v":1},{"$f":"Parameters!AD5002","v":1},{"$f":"Parameters!AE5002","v":1},{"$f":"Parameters!AF5002","v":1},{"$f":"Parameters!AG5002","v":1},{"$f":"Parameters!AH5002","v":1},{"$f":"Parameters!AI5002","v":1},{"$f":"Parameters!AJ5002","v":1},{"$f":"Parameters!AK5002","v":1},{"$f":"Parameters!AL5002","v":1},{"$f":"Parameters!AM5002","v":1},{"$f":"Parameters!AN5002","v":1},{"$f":"Parameters!AO5002","v":1},{"$f":"Parameters!AP5002","v":1},{"$f":"Parameters!AQ5002","v":1},{"$f":"Parameters!AR5002","v":1},{"$f":"Parameters!AS5002","v":1},{"$f":"Parameters!AT5002","v":1},{"$f":"Parameters!AU5002","v":1},{"$f":"Parameters!AV5002","v":1},{"$f":"Parameters!AW5002","v":1},{"$f":"Parameters!AX5002","v":1},{"$f":"Parameters!AY5002","v":1},{"$f":"Parameters!AZ5002","v":1},{"$f":"Parameters!BA5002","v":1},{"$f":"Parameters!BB5002","v":1},{"$f":"Parameters!BC5002","v":1},{"$f":"Parameters!BD5002","v":1},{"$f":"Parameters!BE5002","v":1},{"$f":"Parameters!BF5002","v":1},{"$f":"Parameters!BG5002","v":1},{"$f":"Parameters!BH5002","v":1},{"$f":"Parameters!BI5002","v":1},{"$f":"Parameters!BJ5002","v":1},{"$f":"Parameters!BK5002","v":1},{"$f":"Parameters!BL5002","v":1},{"$f":"Parameters!BM5002","v":1},{"$f":"Parameters!BN5002","v":1}]
["S322",{"$f":"Parameters!K5130","v":1},{"$f":"Parameters!L5130","v":1},{"$f":"Parameters!M5130","v":1},{"$f":"Parameters!N5130","v":1},{"$f":"Parameters!O5130","v":1},{"$f":"Parameters!P5130","v":1},{"$f":"Parameters!Q5130","v":1},{"$f":"Parameters!R5130","v":1},{"$f":"Parameters!S5130","v":1},{"$f":"Parameters!T5130","v":1},{"$f":"Parameters!U5130","v":1},{"$f":"Parameters!V5130","v":1},{"$f":"Parameters!W5130","v":1},{"$f":"Parameters!X5130","v":1},{"$f":"Parameters!Y5130","v":1},{"$f":"Parameters!Z5130","v":1},{"$f":"Parameters!AA5130","v":1},{"$f":"Parameters!AB5130","v":1},{"$f":"Parameters!AC5130","v":1},{"$f":"Parameters!AD5130","v":1},{"$f":"Parameters!AE5130","v":1},{"$f":"Parameters!AF5130","v":1},{"$f":"Parameters!AG5130","v":1},{"$f":"Parameters!AH5130","v":1},{"$f":"Parameters!AI5130","v":1},{"$f":"Parameters!AJ5130","v":1},{"$f":"Parameters!AK5130","v":1},{"$f":"Parameters!AL5130","v":1},{"$f":"Parameters!AM5130","v":1},{"$f":"Parameters!AN5130","v":1},{"$f":"Parameters!AO5130","v":1},{"$f":"Parameters!AP5130","v":1},{"$f":"Parameters!AQ5130","v":1},{"$f":"Parameters!AR5130","v":1},{"$f":"Parameters!AS5130","v":1},{"$f":"Parameters!AT5130","v":1},{"$f":"Parameters!AU5130","v":1},{"$f":"Parameters!AV5130","v":1},{"$f":"Parameters!AW5130","v":1},{"$f":"Parameters!AX5130","v":1},{"$f":"Parameters!AY5130","v":1},{"$f":"Parameters!AZ5130","v":1},{"$f":"Parameters!BA5130","v":1},{"$f":"Parameters!BB5130","v":1},{"$f":"Parameters!BC5130","v":1},{"$f":"Parameters!BD5130","v":1},{"$f":"Parameters!BE5130","v":1},{"$f":"Parameters!BF5130","v":1},{"$f":"Parameters!BG5130","v":1},{"$f":"Parameters!BH5130","v":1},{"$f":"Parameters!BI5130","v":1},{"$f":"Parameters!BJ5130","v":1},{"$f":"Parameters!BK5130","v":1},{"$f":"Parameters!BL5130","v":1},{"$f":"Parameters!BM5130","v":1},{"$f":"Parameters!BN5130","v":1}]
["S305",{"$f":"Parameters!K5401","v":1},{"$f":"Parameters!L5401","v":1},{"$f":"Parameters!M5401","v":1},{"$f":"Parameters!N5401","v":1},{"$f":"Parameters!O5401","v":1},{"$f":"Parameters!P5401","v":1},{"$f":"Parameters!Q5401","v":1},{"$f":"Parameters!R5401","v":1},{"$f":"Parameters!S5401","v":1},{"$f":"Parameters!T5401","v":1},{"$f":"Parameters!U5401","v":1},{"$f":"Parameters!V5401","v":1},{"$f":"Parameters!W5401","v":1},{"$f":"Parameters!X5401","v":1},{"$f":"Parameters!Y5401","v":1},{"$f":"Parameters!Z5401","v":1},{"$f":"Parameters!AA5401","v":1},{"$f":"Parameters!AB5401","v":1},{"$f":"Parameters!AC5401","v":1},{"$f":"Parameters!AD5401","v":1},{"$f":"Parameters!AE5401","v":1},{"$f":"Parameters!AF5401","v":1},{"$f":"Parameters!AG5401","v":1},{"$f":"Parameters!AH5401","v":1},{"$f":"Parameters!AI5401","v":1},{"$f":"Parameters!AJ5401","v":1},{"$f":"Parameters!AK5401","v":1},{"$f":"Parameters!AL5401","v":1},{"$f":"Parameters!AM5401","v":1},{"$f":"Parameters!AN5401","v":1},{"$f":"Parameters!AO5401","v":1},{"$f":"Parameters!AP5401","v":1},{"$f":"Parameters!AQ5401","v":1},{"$f":"Parameters!AR5401","v":1},{"$f":"Parameters!AS5401","v":1},{"$f":"Parameters!AT5401","v":1},{"$f":"Parameters!AU5401","v":1},{"$f":"Parameters!AV5401","v":1},{"$f":"Parameters!AW5401","v":1},{"$f":"Parameters!AX5401","v":1},{"$f":"Parameters!AY5401","v":1},{"$f":"Parameters!AZ5401","v":1},{"$f":"Parameters!BA5401","v":1},{"$f":"Parameters!BB5401","v":1},{"$f":"Parameters!BC5401","v":1},{"$f":"Parameters!BD5401","v":1},{"$f":"Parameters!BE5401","v":1},{"$f":"Parameters!BF5401","v":1},{"$f":"Parameters!BG5401","v":1},{"$f":"Parameters!BH5401","v":1},{"$f":"Parameters!BI5401","v":1},{"$f":"Parameters!BJ5401","v":1},{"$f":"Parameters!BK5401","v":1},{"$f":"Parameters!BL5401","v":1},{"$f":"Parameters!BM5401","v":1},{"$f":"Parameters!BN5401","v":1}]
["S104",{"$f":"Parameters!K5448","v":1},{"$f":"Parameters!L5448","v":1},{"$f":"Parameters!M5448","v":1},{"$f":"Parameters!N5448","v":1},{"$f":"Parameters!O5448","v":1},{"$f":"Parameters!P5448","v":1},{"$f":"Parameters!Q5448","v":1},{"$f":"Parameters!R5448","v":1},{"$f":"Parameters!S5448","v":1},{"$f":"Parameters!T5448","v":1},{"$f":"Parameters!U5448","v":1},{"$f":"Parameters!V5448","v":1},{"$f":"Parameters!W5448","v":1},{"$f":"Parameters!X5448","v":1},{"$f":"Parameters!Y5448","v":1},{"$f":"Parameters!Z5448","v":1},{"$f":"Parameters!AA5448","v":1},{"$f":"Parameters!AB5448","v":1},{"$f":"Parameters!AC5448","v":1},{"$f":"Parameters!AD5448","v":1},{"$f":"Parameters!AE5448","v":1},{"$f":"Parameters!AF5448","v":1},{"$f":"Parameters!AG5448","v":1},{"$f":"Parameters!AH5448","v":1},{"$f":"Parameters!AI5448","v":1},{"$f":"Parameters!AJ5448","v":1},{"$f":"Parameters!AK5448","v":1},{"$f":"Parameters!AL5448","v":1},{"$f":"Parameters!AM5448","v":1},{"$f":"Parameters!AN5448","v":1},{"$f":"Parameters!AO5448","v":1},{"$f":"Parameters!AP5448","v":1},{"$f":"Parameters!AQ5448","v":1},{"$f":"Parameters!AR5448","v":1},{"$f":"Parameters!AS5448","v":1},{"$f":"Parameters!AT5448","v":1},{"$f":"Parameters!AU5448","v":1},{"$f":"Parameters!AV5448","v":1},{"$f":"Parameters!AW5448","v":1},{"$f":"Parameters!AX5448","v":1},{"$f":"Parameters!AY5448","v":1},{"$f":"Parameters!AZ5448","v":1},{"$f":"Parameters!BA5448","v":1},{"$f":"Parameters!BB5448","v":1},{"$f":"Parameters!BC5448","v":1},{"$f":"Parameters!BD5448","v":1},{"$f":"Parameters!BE5448","v":1},{"$f":"Parameters!BF5448","v":1},{"$f":"Parameters!BG5448","v":1},{"$f":"Parameters!BH5448","v":1},{"$f":"Parameters!BI5448","v":1},{"$f":"Parameters!BJ5448","v":1},{"$f":"Parameters!BK5448","v":1},{"$f":"Parameters!BL5448","v":1},{"$f":"Parameters!BM5448","v":1},{"$f":"Parameters!BN5448","v":1}]
["S412",{"$f":"Parameters!K5624","v":1},{"$f":"Parameters!L5624","v":1},{"$f":"Parameters!M5624","v":1},{"$f":"Parameters!N5624","v":1},{"$f":"Parameters!O5624","v":1},{"$f":"Parameters!P5624","v":1},{"$f":"Parameters!Q5624","v":1},{"$f":"Parameters!R5624","v":1},{"$f":"Parameters!S5624","v":1},{"$f":"Parameters!T5624","v":1},{"$f":"Parameters!U5624","v":1},{"$f":"Parameters!V5624","v":1},{"$f":"Parameters!W5624","v":1},{"$f":"Parameters!X5624","v":1},{"$f":"Parameters!Y5624","v":1},{"$f":"Parameters!Z5624","v":1},{"$f":"Parameters!AA5624","v":1},{"$f":"Parameters!AB5624","v":1},{"$f":"Parameters!AC5624","v":1},{"$f":"Parameters!AD5624","v":1},{"$f":"Parameters!AE5624","v":1},{"$f":"Parameters!AF5624","v":1},{"$f":"Parameters!AG5624","v":1},{"$f":"Parameters!AH5624","v":1},{"$f":"Parameters!AI5624","v":1},{"$f":"Parameters!AJ5624","v":1},{"$f":"Parameters!AK5624","v":1},{"$f":"Parameters!AL5624","v":1},{"$f":"Parameters!AM5624","v":1},{"$f":"Parameters!AN5624","v":1},{"$f":"Parameters!AO5624","v":1},{"$f":"Parameters!AP5624","v":1},{"$f":"Parameters!AQ5624","v":1},{"$f":"Parameters!AR5624","v":1},{"$f":"Parameters!AS5624","v":1},{"$f":"Parameters!AT5624","v":1},{"$f":"Parameters!AU5624","v":1},{"$f":"Parameters!AV5624","v":1},{"$f":"Parameters!AW5624","v":1},{"$f":"Parameters!AX5624","v":1},{"$f":"Parameters!AY5624","v":1},{"$f":"Parameters!AZ5624","v":1},{"$f":"Parameters!BA5624","v":1},{"$f":"Parameters!BB5624","v":1},{"$f":"Parameters!BC5624","v":1},{"$f":"Parameters!BD5624","v":1},{"$f":"Parameters!BE5624","v":1},{"$f":"Parameters!BF5624","v":1},{"$f":"Parameters!BG5624","v":1},{"$f":"Parameters!BH5624","v":1},{"$f":"Parameters!BI5624","v":1},{"$f":"Parameters!BJ5624","v":1},{"$f":"Parameters!BK5624","v":1},{"$f":"Parameters!BL5624","v":1},{"$f":"Parameters!BM5624","v":1},{"$f":"Parameters!BN5624","v":1}]
["S305",{"$f":"Parameters!K5785","v":0.8},{"$f":"Parameters!L5785","v":0.8},{"$f":"Parameters!M5785","v":0.8},{"$f":"Parameters!N5785","v":0.8},{"$f":"Parameters!O5785","v":0.8},{"$f":"Parameters!P5785","v":0.8},{"$f":"Parameters!Q5785","v":0.8},{"$f":"Parameters!R5785","v":0.8},{"$f":"Parameters!S5785","v":0.8},{"$f":"Parameters!T5785","v":0.8},{"$f":"Parameters!U5785","v":0.8},{"$f":"Parameters!V5785","v":0.8},{"$f":"Parameters!W5785","v":0.8},{"$f":"Parameters!X5785","v":0.8},{"$f":"Parameters!Y5785","v":0.8},{"$f":"Parameters!Z5785","v":0.8},{"$f":"Parameters!AA5785","v":0.8},{"$f":"Parameters!AB5785","v":0.8},{"$f":"Parameters!AC5785","v":0.8},{"$f":"Parameters!AD5785","v":0.8},{"$f":"Parameters!AE5785","v":0.8},{"$f":"Parameters!AF5785","v":0.8},{"$f":"Parameters!AG5785","v":0.8},{"$f":"Parameters!AH5785","v":0.8},{"$f":"Parameters!AI5785","v":0.8},{"$f":"Parameters!AJ5785","v":0.8},{"$f":"Parameters!AK5785","v":0.8},{"$f":"Parameters!AL5785","v":0.8},{"$f":"Parameters!AM5785","v":0.8},{"$f":"Parameters!AN5785","v":0.8},{"$f":"Parameters!AO5785","v":0.8},{"$f":"Parameters!AP5785","v":0.8},{"$f":"Parameters!AQ5785","v":0.8},{"$f":"Parameters!AR5785","v":0.8},{"$f":"Parameters!AS5785","v":0.8},{"$f":"Parameters!AT5785","v":0.8},{"$f":"Parameters!AU5785","v":0.8},{"$f":"Parameters!AV5785","v":0.8},{"$f":"Parameters!AW5785","v":0.8},{"$f":"Parameters!AX5785","v":0.8},{"$f":"Parameters!AY5785","v":0.8},{"$f":"Parameters!AZ5785","v":0.8},{"$f":"Parameters!BA5785","v":0.8},{"$f":"Parameters!BB5785","v":0.8},{"$f":"Parameters!BC5785","v":0.8},{"$f":"Parameters!BD5785","v":0.8},{"$f":"Parameters!BE5785","v":0.8},{"$f":"Parameters!BF5785","v":0.8},{"$f":"Parameters!BG5785","v":0.8},{"$f":"Parameters!BH5785","v":0.8},{"$f":"Parameters!BI5785","v":0.8},{"$f":"Parameters!BJ5785","v":0.8},{"$f":"Parameters!BK5785","v":0.8},{"$f":"Parameters!BL5785","v":0.8},{"$f":"Parameters!BM5785","v":0.8},{"$f":"Parameters!BN5785","v":0.8}]
["S406",{"$f":"Parameters!K6098","v":0.8},{"$f":"Parameters!L6098","v":0.8},{"$f":"Parameters!M6098","v":0.8},{"$f":"Parameters!N6098","v":0.8},{"$f":"Parameters!O6098","v":0.8},{"$f":"Parameters!P6098","v":0.8},{"$f":"Parameters!Q6098","v":0.8},{"$f":"Parameters!R6098","v":0.8},{"$f":"Parameters!S6098","v":0.8},{"$f":"Parameters!T6098","v":0.8},{"$f":"Parameters!U6098","v":0.8},{"$f":"Parameters!V6098","v":0.8},{"$f":"Parameters!W6098","v":0.8},{"$f":"Parameters!X6098","v":0.8},{"$f":"Parameters!Y6098","v":0.8},{"$f":"Parameters!Z6098","v":0.8},{"$f":"Parameters!AA6098","v":0.8},{"$f":"Parameters!AB6098","v":0.8},{"$f":"Parameters!AC6098","v":0.8},{"$f":"Parameters!AD6098","v":0.8},{"$f":"Parameters!AE6098","v":0.8},{"$f":"Parameters!AF6098","v":0.8},{"$f":"Parameters!AG6098","v":0.8},{"$f":"Parameters!AH6098","v":0.8},{"$f":"Parameters!AI6098","v":0.8},{"$f":"Parameters!AJ6098","v":0.8},{"$f":"Parameters!AK6098","v":0.8},{"$f":"Parameters!AL6098","v":0.8},{"$f":"Parameters!AM6098","v":0.8},{"$f":"Parameters!AN6098","v":0.8},{"$f":"Parameters!AO6098","v":0.8},{"$f":"Parameters!AP6098","v":0.8},{"$f":"Parameters!AQ6098","v":0.8},{"$f":"Parameters!AR6098","v":0.8},{"$f":"Parameters!AS6098","v":0.8},{"$f":"Parameters!AT6098","v":0.8},{"$f":"Parameters!AU6098","v":0.8},{"$f":"Parameters!AV6098","v":0.8},{"$f":"Parameters!AW6098","v":0.8},{"$f":"Parameters!AX6098","v":0.8},{"$f":"Parameters!AY6098","v":0.8},{"$f":"Parameters!AZ6098","v":0.8},{"$f":"Parameters!BA6098","v":0.8},{"$f":"Parameters!BB6098","v":0.8},{"$f":"Parameters!BC6098","v":0.8},{"$f":"Parameters!BD6098","v":0.8},{"$f":"Parameters!BE6098","v":0.8},{"$f":"Parameters!BF6098","v":0.8},{"$f":"Parameters!BG6098","v":0.8},{"$f":"Parameters!BH6098","v":0.8},{"$f":"Parameters!BI6098","v":0.8},{"$f":"Parameters!BJ6098","v":0.8},{"$f":"Parameters!BK6098","v":0.8},{"$f":"Parameters!BL6098","v":0.8},{"$f":"Parameters!BM6098","v":0.8},{"$f":"Parameters!BN6098","v":0.8}]
["S320",{"$f":"Parameters!K6184","v":1},{"$f":"Parameters!L6184","v":1},{"$f":"Parameters!M6184","v":1},{"$f":"Parameters!N6184","v":1},{"$f":"Parameters!O6184","v":1},{"$f":"Parameters!P6184","v":1},{"$f":"Parameters!Q6184","v":1},{"$f":"Parameters!R6184","v":1},{"$f":"Parameters!S6184","v":1},{"$f":"Parameters!T6184","v":1},{"$f":"Parameters!U6184","v":1},{"$f":"Parameters!V6184","v":1},{"$f":"Parameters!W6184","v":1},{"$f":"Parameters!X6184","v":1},{"$f":"Parameters!Y6184","v":1},{"$f":"Parameters!Z6184","v":1},{"$f":"Parameters!AA6184","v":1},{"$f":"Parameters!AB6184","v":1},{"$f":"Parameters!AC6184","v":1},{"$f":"Parameters!AD6184","v":1},{"$f":"Parameters!AE6184","v":1},{"$f":"Parameters!AF6184","v":1},{"$f":"Parameters!AG6184","v":1},{"$f":"Parameters!AH6184","v":1},{"$f":"Parameters!AI6184","v":1},{"$f":"Parameters!AJ6184","v":1},{"$f":"Parameters!AK6184","v":1},{"$f":"Parameters!AL6184","v":1},{"$f":"Parameters!AM6184","v":1},{"$f":"Parameters!AN6184","v":1},{"$f":"Parameters!AO6184","v":1},{"$f":"Parameters!AP6184","v":1},{"$f":"Parameters!AQ6184","v":1},{"$f":"Parameters!AR6184","v":1},{"$f":"Parameters!AS6184","v":1},{"$f":"Parameters!AT6184","v":1},{"$f":"Parameters!AU6184","v":1},{"$f":"Parameters!AV6184","v":1},{"$f":"Parameters!AW6184","v":1},{"$f":"Parameters!AX6184","v":1},{"$f":"Parameters!AY6184","v":1},{"$f":"Parameters!AZ6184","v":1},{"$f":"Parameters!BA6184","v":1},{"$f":"Parameters!BB6184","v":1},{"$f":"Parameters!BC6184","v":1},{"$f":"Parameters!BD6184","v":1},{"$f":"Parameters!BE6184","v":1},{"$f":"Parameters!BF6184","v":1},{"$f":"Parameters!BG6184","v":1},{"$f":"Parameters!BH6184","v":1},{"$f":"Parameters!BI6184","v":1},{"$f":"Parameters!BJ6184","v":1},{"$f":"Parameters!BK6184","v":1},{"$f":"Parameters!BL6184","v":1},{"$f":"Parameters!BM6184","v":1},{"$f":"Parameters!BN6184","v":1}]
["S112",{"$f":"Parameters!K6416","v":0.125},{"$f":"Parameters!L6416","v":0.125},{"$f":"Parameters!M6416","v":0.125},{"$f":"Parameters!N6416","v":0.125},{"$f":"Parameters!O6416","v":0.125},{"$f":"Parameters!P6416","v":0.125},{"$f":"Parameters!Q6416","v":0.125},{"$f":"Parameters!R6416","v":0.125},{"$f":"Parameters!S6416","v":0.125},{"$f":"Parameters!T6416","v":0.125},{"$f":"Parameters!U6416","v":0.125},{"$f":"Parameters!V6416","v":0.125},{"$f":"Parameters!W6416","v":0.125},{"$f":"Parameters!X6416","v":0.125},{"$f":"Parameters!Y6416","v":0.125},{"$f":"Parameters!Z6416","v":0.125},{"$f":"Parameters!AA6416","v":0.125},{"$f":"Parameters!AB6416","v":0.125},{"$f":"Parameters!AC6416","v":0.125},{"$f":"Parameters!AD6416","v":0.125},{"$f":"Parameters!AE6416","v":0.125},{"$f":"Parameters!AF6416","v":0.125},{"$f":"Parameters!AG6416","v":0.125},{"$f":"Parameters!AH6416","v":0.125},{"$f":"Parameters!AI6416","v":0.125},{"$f":"Parameters!AJ6416","v":0.125},{"$f":"Parameters!AK6416","v":0.125},{"$f":"Parameters!AL6416","v":0.125},{"$f":"Parameters!AM6416","v":0.125},{"$f":"Parameters!AN6416","v":0.125},{"$f":"Parameters!AO6416","v":0.125},{"$f":"Parameters!AP6416","v":0.125},{"$f":"Parameters!AQ6416","v":0.125},{"$f":"Parameters!AR6416","v":0.125},{"$f":"Parameters!AS6416","v":0.125},{"$f":"Parameters!AT6416","v":0.125},{"$f":"Parameters!AU6416","v":0.125},{"$f":"Parameters!AV6416","v":0.125},{"$f":"Parameters!AW6416","v":0.125},{"$f":"Parameters!AX6416","v":0.125},{"$f":"Parameters!AY6416","v":0.125},{"$f":"Parameters!AZ6416","v":0.125},{"$f":"Parameters!BA6416","v":0.125},{"$f":"Parameters!BB6416","v":0.125},{"$f":"Parameters!BC6416","v":0.125},{"$f":"Parameters!BD6416","v":0.125},{"$f":"Parameters!BE6416","v":0.125},{"$f":"Parameters!BF6416","v":0.125},{"$f":"Parameters!BG6416","v":0.125},{"$f":"Parameters!BH6416","v":0.125},{"$f":"Parameters!BI6416","v":0.125},{"$f":"Parameters!BJ6416","v":0.125},{"$f":"Parameters!BK6416","v":0.125},{"$f":"Parameters!BL6416","v":0.125},{"$f":"Parameters!BM6416","v":0.125},{"$f":"Parameters!BN6416","v":0.125}]
["S107",{"$f":"Parameters!K6507","v":0.125},{"$f":"Parameters!L6507","v":0.125},{"$f":"Parameters!M6507","v":0.125},{"$f":"Parameters!N6507","v":0.125},{"$f":"Parameters!O6507","v":0.125},{"$f":"Parameters!P6507","v":0.125},{"$f":"Parameters!Q6507","v":0.125},{"$f":"Parameters!R6507","v":0.125},{"$f":"Parameters!S6507","v":0.125},{"$f":"Parameters!T6507","v":0.125},{"$f":"Parameters!U6507","v":0.125},{"$f":"Parameters!V6507","v":0.125},{"$f":"Parameters!W6507","v":0.125},{"$f":"Parameters!X6507","v":0.125},{"$f":"Parameters!Y6507","v":0.125},{"$f":"Parameters!Z6507","v":0.125},{"$f":"Parameters!AA6507","v":0.125},{"$f":"Parameters!AB6507","v":0.125},{"$f":"Parameters!AC6507","v":0.125},{"$f":"Parameters!AD6507","v":0.125},{"$f":"Parameters!AE6507","v":0.125},{"$f":"Parameters!AF6507","v":0.125},{"$f":"Parameters!AG6507","v":0.125},{"$f":"Parameters!AH6507","v":0.125},{"$f":"Parameters!AI6507","v":0.125},{"$f":"Parameters!AJ6507","v":0.125},{"$f":"Parameters!AK6507","v":0.125},{"$f":"Parameters!AL6507","v":0.125},{"$f":"Parameters!AM6507","v":0.125},{"$f":"Parameters!AN6507","v":0.125},{"$f":"Parameters!AO6507","v":0.125},{"$f":"Parameters!AP6507","v":0.125},{"$f":"Parameters!AQ6507","v":0.125},{"$f":"Parameters!AR6507","v":0.125},{"$f":"Parameters!AS6507","v":0.125},{"$f":"Parameters!AT6507","v":0.125},{"$f":"Parameters!AU6507","v":0.125},{"$f":"Parameters!AV6507","v":0.125},{"$f":"Parameters!AW6507","v":0.125},{"$f":"Parameters!AX6507","v":0.125},{"$f":"Parameters!AY6507","v":0.125},{"$f":"Parameters!AZ6507","v":0.125},{"$f":"Parameters!BA6507","v":0.125},{"$f":"Parameters!BB6507","v":0.125},{"$f":"Parameters!BC6507","v":0.125},{"$f":"Parameters!BD6507","v":0.125},{"$f":"Parameters!BE6507","v":0.125},{"$f":"Parameters!BF6507","v":0.125},{"$f":"Parameters!BG6507","v":0.125},{"$f":"Parameters!BH6507","v":0.125},{"$f":"Parameters!BI6507","v":0.125},{"$f":"Parameters!BJ6507","v":0.125},{"$f":"Parameters!BK6507","v":0.125},{"$f":"Parameters!BL6507","v":0.125},{"$f":"Parameters!BM6507","v":0.125},{"$f":"Parameters!BN6507","v":0.125}]
["S220",{"$f":"Parameters!K6736","v":0.8},{"$f":"Parameters!L6736","v":0.8},{"$f":"Parameters!M6736","v":0.8},{"$f":"Parameters!N6736","v":0.8},{"$f":"Parameters!O6736","v":0.8},{"$f":"Parameters!P6736","v":0.8},{"$f":"Parameters!Q6736","v":0.8},{"$f":"Parameters!R6736","v":0.8},{"$f":"Parameters!S6736","v":0.8},{"$f":"Parameters!T6736","v":0.8},{"$f":"Parameters!U6736","v":0.8},{"$f":"Parameters!V6736","v":0.8},{"$f":"Parameters!W6736","v":0.8},{"$f":"Parameters!X6736","v":0.8},{"$f":"Parameters!Y6736","v":0.8},{"$f":"Parameters!Z6736","v":0.8},{"$f":"Parameters!AA6736","v":0.8},{"$f":"Parameters!AB6736","v":0.8},{"$f":"Parameters!AC6736","v":0.8},{"$f":"Parameters!AD6736","v":0.8},{"$f":"Parameters!AE6736","v":0.8},{"$f":"Parameters!AF6736","v":0.8},{"$f":"Parameters!AG6736","v":0.8},{"$f":"Parameters!AH6736","v":0.8},{"$f":"Parameters!AI6736","v":0.8},{"$f":"Parameters!AJ6736","v":0.8},{"$f":"Parameters!AK6736","v":0.8},{"$f":"Parameters!AL6736","v":0.8},{"$f":"Parameters!AM6736","v":0.8},{"$f":"Parameters!AN6736","v":0.8},{"$f":"Parameters!AO6736","v":0.8},{"$f":"Parameters!AP6736","v":0.8},{"$f":"Parameters!AQ6736","v":0.8},{"$f":"Parameters!AR6736","v":0.8},{"$f":"Parameters!AS6736","v":0.8},{"$f":"Parameters!AT6736","v":0.8},{"$f":"Parameters!AU6736","v":0.8},{"$f":"Parameters!AV6736","v":0.8},{"$f":"Parameters!AW6736","v":0.8},{"$f":"Parameters!AX6736","v":0.8},{"$f":"Parameters!AY6736","v":0.8},{"$f":"Parameters!AZ6736","v":0.8},{"$f":"Parameters!BA6736","v":0.8},{"$f":"Parameters!BB6736","v":0.8},{"$f":"Parameters!BC6736","v":0.8},{"$f":"Parameters!BD6736","v":0.8},{"$f":"Parameters!BE6736","v":0.8},{"$f":"Parameters!BF6736","v":0.8},{"$f":"Parameters!BG6736","v":0.8},{"$f":"Parameters!BH6736","v":0.8},{"$f":"Parameters!BI6736","v":0.8},{"$f":"Parameters!BJ6736","v":0.8},{"$f":"Parameters!BK6736","v":0.8},{"$f":"Parameters!BL6736","v":0.8},{"$f":"Parameters!BM6736","v":0.8},{"$f":"Parameters!BN6736","v":0.8}]
["S122",{"$f":"Parameters!K6906","v":0.8},{"$f":"Parameters!L6906","v":0.8},{"$f":"Parameters!M6906","v":0.8},{"$f":"Parameters!N6906","v":0.8},{"$f":"Parameters!O6906","v":0.8},{"$f":"Parameters!P6906","v":0.8},{"$f":"Parameters!Q6906","v":0.8},{"$f":"Parameters!R6906","v":0.8},{"$f":"Parameters!S6906","v":0.8},{"$f":"Parameters!T6906","v":0.8},{"$f":"Parameters!U6906","v":0.8},{"$f":"Parameters!V6906","v":0.8},{"$f":"Parameters!W6906","v":0.8},{"$f":"Parameters!X6906","v":0.8},{"$f":"Parameters!Y6906","v":0.8},{"$f":"Parameters!Z6906","v":0.8},{"$f":"Parameters!AA6906","v":0.8},{"$f":"Parameters!AB6906","v":0.8},{"$f":"Parameters!AC6906","v":0.8},{"$f":"Parameters!AD6906","v":0.8},{"$f":"Parameters!AE6906","v":0.8},{"$f":"Parameters!AF6906","v":0.8},{"$f":"Parameters!AG6906","v":0.8},{"$f":"Parameters!AH6906","v":0.8},{"$f":"Parameters!AI6906","v":0.8},{"$f":"Parameters!AJ6906","v":0.8},{"$f":"Parameters!AK6906","v":0.8},{"$f":"Parameters!AL6906","v":0.8},{"$f":"Parameters!AM6906","v":0.8},{"$f":"Parameters!AN6906","v":0.8},{"$f":"Parameters!AO6906","v":0.8},{"$f":"Parameters!AP6906","v":0.8},{"$f":"Parameters!AQ6906","v":0.8},{"$f":"Parameters!AR6906","v":0.8},{"$f":"Parameters!AS6906","v":0.8},{"$f":"Parameters!AT6906","v":0.8},{"$f":"Parameters!AU6906","v":0.8},{"$f":"Parameters!AV6906","v":0.8},{"$f":"Parameters!AW6906","v":0.8},{"$f":"Parameters!AX6906","v":0.8},{"$f":"Parameters!AY6906","v":0.8},{"$f":"Parameters!AZ6906","v":0.8},{"$f":"Parameters!BA6906","v":0.8},{"$f":"Parameters!BB6906","v":0.8},{"$f":"Parameters!BC6906","v":0.8},{"$f":"Parameters!BD6906","v":0.8},{"$f":"Parameters!BE6906","v":0.8},{"$f":"Parameters!BF6906","v":0.8},{"$f":"Parameters!BG6906","v":0.8},{"$f":"Parameters!BH6906","v":0.8},{"$f":"Parameters!BI6906","v":0.8},{"$f":"Parameters!BJ6906","v":0.8},{"$f":"Parameters!BK6906","v":0.8},{"$f":"Parameters!BL6906","v":0.8},{"$f":"Parameters!BM6906","v":0.8},{"$f":"Parameters!BN6906","v":0.8}]
["S319",{"$f":"Parameters!K7143","v":1},{"$f":"Parameters!L7143","v":1},{"$f":"Parameters!M7143","v":1},{"$f":"Parameters!N7143","v":1},{"$f":"Parameters!O7143","v":1},{"$f":"Parameters!P7143","v":1},{"$f":"Parameters!Q7143","v":1},{"$f":"Parameters!R7143","v":1},{"$f":"Parameters!S7143","v":1},{"$f":"Parameters!T7143","v":1},{"$f":"Parameters!U7143","v":1},{"$f":"Parameters!V7143","v":1},{"$f":"Parameters!W7143","v":1},{"$f":"Parameters!X7143","v":1},{"$f":"Parameters!Y7143","v":1},{"$f":"Parameters!Z7143","v":1},{"$f":"Parameters!AA7143","v":1},{"$f":"Parameters!AB7143","v":1},{"$f":"Parameters!AC7143","v":1},{"$f":"Parameters!AD7143","v":1},{"$f":"Parameters!AE7143","v":1},{"$f":"Parameters!AF7143","v":1},{"$f":"Parameters!AG7143","v":1},{"$f":"Parameters!AH7143","v":1},{"$f":"Parameters!AI7143","v":1},{"$f":"Parameters!AJ7143","v":1},{"$f":"Parameters!AK7143","v":1},{"$f":"Parameters!AL7143","v":1},{"$f":"Parameters!AM7143","v":1},{"$f":"Parameters!AN7143","v":1},{"$f":"Parameters!AO7143","v":1},{"$f":"Parameters!AP7143","v":1},{"$f":"Parameters!AQ7143","v":1},{"$f":"Parameters!AR7143","v":1},{"$f":"Parameters!AS7143","v":1},{"$f":"Parameters!AT7143","v":1},{"$f":"Parameters!AU7143","v":1},{"$f":"Parameters!AV7143","v":1},{"$f":"Parameters!AW7143","v":1},{"$f":"Parameters!AX7143","v":1},{"$f":"Parameters!AY7143","v":1},{"$f":"Parameters!AZ7143","v":1},{"$f":"Parameters!BA7143","v":1},{"$f":"Parameters!BB7143","v":1},{"$f":"Parameters!BC7143","v":1},{"$f":"Parameters!BD7143","v":1},{"$f":"Parameters!BE7143","v":1},{"$f":"Parameters!BF7143","v":1},{"$f":"Parameters!BG7143","v":1},{"$f":"Parameters!BH7143","v":1},{"$f":"Parameters!BI7143","v":1},{"$f":"Parameters!BJ7143","v":1},{"$f":"Parameters!BK7143","v":1},{"$f":"Parameters!BL7143","v":1},{"$f":"Parameters!BM7143","v":1},{"$f":"Parameters!BN7143","v":1}]
["S211",{"$f":"Parameters!K7207","v":1},{"$f":"Parameters!L7207","v":1},{"$f":"Parameters!M7207","v":1},{"$f":"Parameters!N7207","v":1},{"$f":"Parameters!O7207","v":1},{"$f":"Parameters!P7207","v":1},{"$f":"Parameters!Q7207","v":1},{"$f":"Parameters!R7207","v":1},{"$f":"Parameters!S7207","v":1},{"$f":"Parameters!T7207","v":1},{"$f":"Parameters!U7207","v":1},{"$f":"Parameters!V7207","v":1},{"$f":"Parameters!W7207","v":1},{"$f":"Parameters!X7207","v":1},{"$f":"Parameters!Y7207","v":1},{"$f":"Parameters!Z7207","v":1},{"$f":"Parameters!AA7207","v":1},{"$f":"Parameters!AB7207","v":1},{"$f":"Parameters!AC7207","v":1},{"$f":"Parameters!AD7207","v":1},{"$f":"Parameters!AE7207","v":1},{"$f":"Parameters!AF7207","v":1},{"$f":"Parameters!AG7207","v":1},{"$f":"Parameters!AH7207","v":1},{"$f":"Parameters!AI7207","v":1},{"$f":"Parameters!AJ7207","v":1},{"$f":"Parameters!AK7207","v":1},{"$f":"Parameters!AL7207","v":1},{"$f":"Parameters!AM7207","v":1},{"$f":"Parameters!AN7207","v":1},{"$f":"Parameters!AO7207","v":1},{"$f":"Parameters!AP7207","v":1},{"$f":"Parameters!AQ7207","v":1},{"$f":"Parameters!AR7207","v":1},{"$f":"Parameters!AS7207","v":1},{"$f":"Parameters!AT7207","v":1},{"$f":"Parameters!AU7207","v":1},{"$f":"Parameters!AV7207","v":1},{"$f":"Parameters!AW7207","v":1},{"$f":"Parameters!AX7207","v":1},{"$f":"Parameters!AY7207","v":1},{"$f":"Parameters!AZ7207","v":1},{"$f":"Parameters!BA7207","v":1},{"$f":"Parameters!BB7207","v":1},{"$f":"Parameters!BC7207","v":1},{"$f":"Parameters!BD7207","v":1},{"$f":"Parameters!BE7207","v":1},{"$f":"Parameters!BF7207","v":1},{"$f":"Parameters!BG7207","v":1},{"$f":"Parameters!BH7207","v":1},{"$f":"Parameters!BI7207","v":1},{"$f":"Parameters!BJ7207","v":1},{"$f":"Parameters!BK7207","v":1},{"$f":"Parameters!BL7207","v":1},{"$f":"Parameters!BM7207","v":1},{"$f":"Parameters!BN7207","v":1}]
["S106",{"$f":"Parameters!K7466","v":0.8},{"$f":"Parameters!L7466","v":0.8},{"$f":"Parameters!M7466","v":0.8},{"$f":"Parameters!N7466","v":0.8},{"$f":"Parameters!O7466","v":0.8},{"$f":"Parameters!P7466","v":0.8},{"$f":"Parameters!Q7466","v":0.8},{"$f":"Parameters!R7466","v":0.8},{"$f":"Parameters!S7466","v":0.8},{"$f":"Parameters!T7466","v":0.8},{"$f":"Parameters!U7466","v":0.8},{"$f":"Parameters!V7466","v":0.8},{"$f":"Parameters!W7466","v":0.8},{"$f":"Parameters!X7466","v":0.8},{"$f":"Parameters!Y7466","v":0.8},{"$f":"Parameters!Z7466","v":0.8},{"$f":"Parameters!AA7466","v":0.8},{"$f":"Parameters!AB7466","v":0.8},{"$f":"Parameters!AC7466","v":0.8},{"$f":"Parameters!AD7466","v":0.8},{"$f":"Parameters!AE7466","v":0.8},{"$f":"Parameters!AF7466","v":0.8},{"$f":"Parameters!AG7466","v":0.8},{"$f":"Parameters!AH7466","v":0.8},{"$f":"Parameters!AI7466","v":0.8},{"$f":"Parameters!AJ7466","v":0.8},{"$f":"Parameters!AK7466","v":0.8},{"$f":"Parameters!AL7466","v":0.8},{"$f":"Parameters!AM7466","v":0.8},{"$f":"Parameters!AN7466","v":0.8},{"$f":"Parameters!AO7466","v":0.8},{"$f":"Parameters!AP7466","v":0.8},{"$f":"Parameters!AQ7466","v":0.8},{"$f":"Parameters!AR7466","v":0.8},{"$f":"Parameters!AS7466","v":0.8},{"$f":"Parameters!AT7466","v":0.8},{"$f":"Parameters!AU7466","v":0.8},{"$f":"Parameters!AV7466","v":0.8},{"$f":"Parameters!AW7466","v":0.8},{"$f":"Parameters!AX7466","v":0.8},{"$f":"Parameters!AY7466","v":0.8},{"$f":"Parameters!AZ7466","v":0.8},{"$f":"Parameters!BA7466","v":0.8},{"$f":"Parameters!BB7466","v":0.8},{"$f":"Parameters!BC7466","v":0.8},{"$f":"Parameters!BD7466","v":0.8},{"$f":"Parameters!BE7466","v":0.8},{"$f":"Parameters!BF7466","v":0.8},{"$f":"Parameters!BG7466","v":0.8},{"$f":"Parameters!BH7466","v":0.8},{"$f":"Parameters!BI7466","v":0.8},{"$f":"Parameters!BJ7466","v":0.8},{"$f":"Parameters!BK7466","v":0.8},{"$f":"Parameters!BL7466","v":0.8},{"$f":"Parameters!BM7466","v":0.8},{"$f":"Parameters!BN7466","v":0.8}]
["S319",{"$f":"Parameters!K7527","v":0.8},{"$f":"Parameters!L7527","v":0.8},{"$f":"Parameters!M7527","v":0.8},{"$f":"Parameters!N7527","v":0.8},{"$f":"Parameters!O7527","v":0.8},{"$f":"Parameters!P7527","v":0.8},{"$f":"Parameters!Q7527","v":0.8},{"$f":"Parameters!R7527","v":0.8},{"$f":"Parameters!S7527","v":0.8},{"$f":"Parameters!T7527","v":0.8},{"$f":"Parameters!U7527","v":0.8},{"$f":"Parameters!V7527","v":0.8},{"$f":"Parameters!W7527","v":0.8},{"$f":"Parameters!X7527","v":0.8},{"$f":"Parameters!Y7527","v":0.8},{"$f":"Parameters!Z7527","v":0.8},{"$f":"Parameters!AA7527","v":0.8},{"$f":"Parameters!AB7527","v":0.8},{"$f":"Parameters!AC7527","v":0.8},{"$f":"Parameters!AD7527","v":0.8},{"$f":"Parameters!AE7527","v":0.8},{"$f":"Parameters!AF7527","v":0.8},{"$f":"Parameters!AG7527","v":0.8},{"$f":"Parameters!AH7527","v":0.8},{"$f":"Parameters!AI7527","v":0.8},{"$f":"Parameters!AJ7527","v":0.8},{"$f":"Parameters!AK7527","v":0.8},{"$f":"Parameters!AL7527","v":0.8},{"$f":"Parameters!AM7527","v":0.8},{"$f":"Parameters!AN7527","v":0.8},{"$f":"Parameters!AO7527","v":0.8},{"$f":"Parameters!AP7527","v":0.8},{"$f":"Parameters!AQ7527","v":0.8},{"$f":"Parameters!AR7527","v":0.8},{"$f":"Parameters!AS7527","v":0.8},{"$f":"Parameters!AT7527","v":0.8},{"$f":"Parameters!AU7527","v":0.8},{"$f":"Parameters!AV7527","v":0.8},{"$f":"Parameters!AW7527","v":0.8},{"$f":"Parameters!AX7527","v":0.8},{"$f":"Parameters!AY7527","v":0.8},{"$f":"Parameters!AZ7527","v":0.8},{"$f":"Parameters!BA7527","v":0.8},{"$f":"Parameters!BB7527","v":0.8},{"$f":"Parameters!BC7527","v":0.8},{"$f":"Parameters!BD7527","v":0.8},{"$f":"Parameters!BE7527","v":0.8},{"$f":"Parameters!BF7527","v":0.8},{"$f":"Parameters!BG7527","v":0.8},{"$f":"Parameters!BH7527","v":0.8},{"$f":"Parameters!BI7527","v":0.8},{"$f":"Parameters!BJ7527","v":0.8},{"$f":"Parameters!BK7527","v":0.8},{"$f":"Parameters!BL7527","v":0.8},{"$f":"Parameters!BM7527","v":0.8},{"$f":"Parameters!BN7527","v":0.8}]
["S121",{"$f":"Parameters!K7865","v":1},{"$f":"Parameters!L7865","v":1},{"$f":"Parameters!M7865","v":1},{"$f":"Parameters!N7865","v":1},{"$f":"Parameters!O7865","v":1},{"$f":"Parameters!P7865","v":1},{"$f":"Parameters!Q7865","v":1},{"$f":"Parameters!R7865","v":1},{"$f":"Parameters!S7865","v":1},{"$f":"Parameters!T7865","v":1},{"$f":"Parameters!U7865","v":1},{"$f":"Parameters!V7865","v":1},{"$f":"Parameters!W7865","v":1},{"$f":"Parameters!X7865","v":1},{"$f":"Parameters!Y7865","v":1},{"$f":"Parameters!Z7865","v":1},{"$f":"Parameters!AA7865","v":1},{"$f":"Parameters!AB7865","v":1},{"$f":"Parameters!AC7865","v":1},{"$f":"Parameters!AD7865","v":1},{"$f":"Parameters!AE7865","v":1},{"$f":"Parameters!AF7865","v":1},{"$f":"Parameters!AG7865","v":1},{"$f":"Parameters!AH7865","v":1},{"$f":"Parameters!AI7865","v":1},{"$f":"Parameters!AJ7865","v":1},{"$f":"Parameters!AK7865","v":1},{"$f":"Parameters!AL7865","v":1},{"$f":"Parameters!AM7865","v":1},{"$f":"Parameters!AN7865","v":1},{"$f":"Parameters!AO7865","v":1},{"$f":"Parameters!AP7865","v":1},{"$f":"Parameters!AQ7865","v":1},{"$f":"Parameters!AR7865","v":1},{"$f":"Parameters!AS7865","v":1},{"$f":"Parameters!AT7865","v":1},{"$f":"Parameters!AU7865","v":1},{"$f":"Parameters!AV7865","v":1},{"$f":"Parameters!AW7865","v":1},{"$f":"Parameters!AX7865","v":1},{"$f":"Parameters!AY7865","v":1},{"$f":"Parameters!AZ7865","v":1},{"$f":"Parameters!BA7865","v":1},{"$f":"Parameters!BB7865","v":1},{"$f":"Parameters!BC7865","v":1},{"$f":"Parameters!BD7865","v":1},{"$f":"Parameters!BE7865","v":1},{"$f":"Parameters!BF7865","v":1},{"$f":"Parameters!BG7865","v":1},{"$f":"Parameters!BH7865","v":1},{"$f":"Parameters!BI7865","v":1},{"$f":"Parameters!BJ7865","v":1},{"$f":"Parameters!BK7865","v":1},{"$f":"Parameters!BL7865","v":1},{"$f":"Parameters!BM7865","v":1},{"$f":"Parameters!BN7865","v":1}]
["S410",{"$f":"Parameters!K7926","v":1},{"$f":"Parameters!L7926","v":1},{"$f":"Parameters!M7926","v":1},{"$f":"Parameters!N7926","v":1},{"$f":"Parameters!O7926","v":1},{"$f":"Parameters!P7926","v":1},{"$f":"Parameters!Q7926","v":1},{"$f":"Parameters!R7926","v":1},{"$f":"Parameters!S7926","v":1},{"$f":"Parameters!T7926","v":1},{"$f":"Parameters!U7926","v":1},{"$f":"Parameters!V7926","v":1},{"$f":"Parameters!W7926","v":1},{"$f":"Parameters!X7926","v":1},{"$f":"Parameters!Y7926","v":1},{"$f":"Parameters!Z7926","v":1},{"$f":"Parameters!AA7926","v":1},{"$f":"Parameters!AB7926","v":1},{"$f":"Parameters!AC7926","v":1},{"$f":"Parameters!AD7926","v":1},{"$f":"Parameters!AE7926","v":1},{"$f":"Parameters!AF7926","v":1},{"$f":"Parameters!AG7926","v":1},{"$f":"Parameters!AH7926","v":1},{"$f":"Parameters!AI7926","v":1},{"$f":"Parameters!AJ7926","v":1},{"$f":"Parameters!AK7926","v":1},{"$f":"Parameters!AL7926","v":1},{"$f":"Parameters!AM7926","v":1},{"$f":"Parameters!AN7926","v":1},{"$f":"Parameters!AO7926","v":1},{"$f":"Parameters!AP7926","v":1},{"$f":"Parameters!AQ7926","v":1},{"$f":"Parameters!AR7926","v":1},{"$f":"Parameters!AS7926","v":1},{"$f":"Parameters!AT7926","v":1},{"$f":"Parameters!AU7926","v":1},{"$f":"Parameters!AV7926","v":1},{"$f":"Parameters!AW7926","v":1},{"$f":"Parameters!AX7926","v":1},{"$f":"Parameters!AY7926","v":1},{"$f":"Parameters!AZ7926","v":1},{"$f":"Parameters!BA7926","v":1},{"$f":"Parameters!BB7926","v":1},{"$f":"Parameters!BC7926","v":1},{"$f":"Parameters!BD7926","v":1},{"$f":"Parameters!BE7926","v":1},{"$f":"Parameters!BF7926","v":1},{"$f":"Parameters!BG7926","v":1},{"$f":"Parameters!BH7926","v":1},{"$f":"Parameters!BI7926","v":1},{"$f":"Parameters!BJ7926","v":1},{"$f":"Parameters!BK7926","v":1},{"$f":"Parameters!BL7926","v":1},{"$f":"Parameters!BM7926","v":1},{"$f":"Parameters!BN7926","v":1}]
["S219",{"$f":"Parameters!K8175","v":1},{"$f":"Parameters!L8175","v":1},{"$f":"Parameters!M8175","v":1},{"$f":"Parameters!N8175","v":1},{"$f":"Parameters!O8175","v":1},{"$f":"Parameters!P8175","v":1},{"$f":"Parameters!Q8175","v":1},{"$f":"Parameters!R8175","v":1},{"$f":"Parameters!S8175","v":1},{"$f":"Parameters!T8175","v":1},{"$f":"Parameters!U8175","v":1},{"$f":"Parameters!V8175","v":1},{"$f":"Parameters!W8175","v":1},{"$f":"Parameters!X8175","v":1},{"$f":"Parameters!Y8175","v":1},{"$f":"Parameters!Z8175","v":1},{"$f":"Parameters!AA8175","v":1},{"$f":"Parameters!AB8175","v":1},{"$f":"Parameters!AC8175","v":1},{"$f":"Parameters!AD8175","v":1},{"$f":"Parameters!AE8175","v":1},{"$f":"Parameters!AF8175","v":1},{"$f":"Parameters!AG8175","v":1},{"$f":"Parameters!AH8175","v":1},{"$f":"Parameters!AI8175","v":1},{"$f":"Parameters!AJ8175","v":1},{"$f":"Parameters!AK8175","v":1},{"$f":"Parameters!AL8175","v":1},{"$f":"Parameters!AM8175","v":1},{"$f":"Parameters!AN8175","v":1},{"$f":"Parameters!AO8175","v":1},{"$f":"Parameters!AP8175","v":1},{"$f":"Parameters!AQ8175","v":1},{"$f":"Parameters!AR8175","v":1},{"$f":"Parameters!AS8175","v":1},{"$f":"Parameters!AT8175","v":1},{"$f":"Parameters!AU8175","v":1},{"$f":"Parameters!AV8175","v":1},{"$f":"Parameters!AW8175","v":1},{"$f":"Parameters!AX8175","v":1},{"$f":"Parameters!AY8175","v":1},{"$f":"Parameters!AZ8175","v":1},{"$f":"Parameters!BA8175","v":1},{"$f":"Parameters!BB8175","v":1},{"$f":"Parameters!BC8175","v":1},{"$f":"Parameters!BD8175","v":1},{"$f":"Parameters!BE8175","v":1},{"$f":"Parameters!BF8175","v":1},{"$f":"Parameters!BG8175","v":1},{"$f":"Parameters!BH8175","v":1},{"$f":"Parameters!BI8175","v":1},{"$f":"Parameters!BJ8175","v":1},{"$f":"Parameters!BK8175","v":1},{"$f":"Parameters!BL8175","v":1},{"$f":"Parameters!BM8175","v":1},{"$f":"Parameters!BN8175","v":1}]
["S121",{"$f":"Parameters!K8249","v":1},{"$f":"Parameters!L8249","v":1},{"$f":"Parameters!M8249","v":1},{"$f":"Parameters!N8249","v":1},{"$f":"Parameters!O8249","v":1},{"$f":"Parameters!P8249","v":1},{"$f":"Parameters!Q8249","v":1},{"$f":"Parameters!R8249","v":1},{"$f":"Parameters!S8249","v":1},{"$f":"Parameters!T8249","v":1},{"$f":"Parameters!U8249","v":1},{"$f":"Parameters!V8249","v":1},{"$f":"Parameters!W8249","v":1},{"$f":"Parameters!X8249","v":1},{"$f":"Parameters!Y8249","v":1},{"$f":"Parameters!Z8249","v":1},{"$f":"Parameters!AA8249","v":1},{"$f":"Parameters!AB8249","v":1},{"$f":"Parameters!AC8249","v":1},{"$f":"Parameters!AD8249","v":1},{"$f":"Parameters!AE8249","v":1},{"$f":"Parameters!AF8249","v":1},{"$f":"Parameters!AG8249","v":1},{"$f":"Parameters!AH8249","v":1},{"$f":"Parameters!AI8249","v":1},{"$f":"Parameters!AJ8249","v":1},{"$f":"Parameters!AK8249","v":1},{"$f":"Parameters!AL8249","v":1},{"$f":"Parameters!AM8249","v":1},{"$f":"Parameters!AN8249","v":1},{"$f":"Parameters!AO8249","v":1},{"$f":"Parameters!AP8249","v":1},{"$f":"Parameters!AQ8249","v":1},{"$f":"Parameters!AR8249","v":1},{"$f":"Parameters!AS8249","v":1},{"$f":"Parameters!AT8249","v":1},{"$f":"Parameters!AU8249","v":1},{"$f":"Parameters!AV8249","v":1},{"$f":"Parameters!AW8249","v":1},{"$f":"Parameters!AX8249","v":1},{"$f":"Parameters!AY8249","v":1},{"$f":"Parameters!AZ8249","v":1},{"$f":"Parameters!BA8249","v":1},{"$f":"Parameters!BB8249","v":1},{"$f":"Parameters!BC8249","v":1},{"$f":"Parameters!BD8249","v":1},{"$f":"Parameters!BE8249","v":1},{"$f":"Parameters!BF8249","v":1},{"$f":"Parameters!BG8249","v":1},{"$f":"Parameters!BH8249","v":1},{"$f":"Parameters!BI8249","v":1},{"$f":"Parameters!BJ8249","v":1},{"$f":"Parameters!BK8249","v":1},{"$f":"Parameters!BL8249","v":1},{"$f":"Parameters!BM8249","v":1},{"$f":"Parameters!BN8249","v":1}]
["S403",{"$f":"Parameters!K8495","v":1},{"$f":"Parameters!L8495","v":1},{"$f":"Parameters!M8495","v":1},{"$f":"Parameters!N8495","v":1},{"$f":"Parameters!O8495","v":1},{"$f":"Parameters!P8495","v":1},{"$f":"Parameters!Q8495","v":1},{"$f":"Parameters!R8495","v":1},{"$f":"Parameters!S8495","v":1},{"$f":"Parameters!T8495","v":1},{"$f":"Parameters!U8495","v":1},{"$f":"Parameters!V8495","v":1},{"$f":"Parameters!W8495","v":1},{"$f":"Parameters!X8495","v":1},{"$f":"Parameters!Y8495","v":1},{"$f":"Parameters!Z8495","v":1},{"$f":"Parameters!AA8495","v":1},{"$f":"Parameters!AB8495","v":1},{"$f":"Parameters!AC8495","v":1},{"$f":"Parameters!AD8495","v":1},{"$f":"Parameters!AE8495","v":1},{"$f":"Parameters!AF8495","v":1},{"$f":"Parameters!AG8495","v":1},{"$f":"Parameters!AH8495","v":1},{"$f":"Parameters!AI8495","v":1},{"$f":"Parameters!AJ8495","v":1},{"$f":"Parameters!AK8495","v":1},{"$f":"Parameters!AL8495","v":1},{"$f":"Parameters!AM8495","v":1},{"$f":"Parameters!AN8495","v":1},{"$f":"Parameters!AO8495","v":1},{"$f":"Parameters!AP8495","v":1},{"$f":"Parameters!AQ8495","v":1},{"$f":"Parameters!AR8495","v":1},{"$f":"Parameters!AS8495","v":1},{"$f":"Parameters!AT8495","v":1},{"$f":"Parameters!AU8495","v":1},{"$f":"Parameters!AV8495","v":1},{"$f":"Parameters!AW8495","v":1},{"$f":"Parameters!AX8495","v":1},{"$f":"Parameters!AY8495","v":1},{"$f":"Parameters!AZ8495","v":1},{"$f":"Parameters!BA8495","v":1},{"$f":"Parameters!BB8495","v":1},{"$f":"Parameters!BC8495","v":1},{"$f":"Parameters!BD8495","v":1},{"$f":"Parameters!BE8495","v":1},{"$f":"Parameters!BF8495","v":1},{"$f":"Parameters!BG8495","v":1},{"$f":"Parameters!BH8495","v":1},{"$f":"Parameters!BI8495","v":1},{"$f":"Parameters!BJ8495","v":1},{"$f":"Parameters!BK8495","v":1},{"$f":"Parameters!BL8495","v":1},{"$f":"Parameters!BM8495","v":1},{"$f":"Parameters!BN8495","v":1}]
["S212",{"$f":"Parameters!K8648","v":0.8},{"$f":"Parameters!L8648","v":0.8},{"$f":"Parameters!M8648","v":0.8},{"$f":"Parameters!N8648","v":0.8},{"$f":"Parameters!O8648","v":0.8},{"$f":"Parameters!P8648","v":0.8},{"$f":"Parameters!Q8648","v":0.8},{"$f":"Parameters!R8648","v":0.8},{"$f":"Parameters!S8648","v":0.8},{"$f":"Parameters!T8648","v":0.8},{"$f":"Parameters!U8648","v":0.8},{"$f":"Parameters!V8648","v":0.8},{"$f":"Parameters!W8648","v":0.8},{"$f":"Parameters!X8648","v":0.8},{"$f":"Parameters!Y8648","v":0.8},{"$f":"Parameters!Z8648","v":0.8},{"$f":"Parameters!AA8648","v":0.8},{"$f":"Parameters!AB8648","v":0.8},{"$f":"Parameters!AC8648","v":0.8},{"$f":"Parameters!AD8648","v":0.8},{"$f":"Parameters!AE8648","v":0.8},{"$f":"Parameters!AF8648","v":0.8},{"$f":"Parameters!AG8648","v":0.8},{"$f":"Parameters!AH8648","v":0.8},{"$f":"Parameters!AI8648","v":0.8},{"$f":"Parameters!AJ8648","v":0.8},{"$f":"Parameters!AK8648","v":0.8},{"$f":"Parameters!AL8648","v":0.8},{"$f":"Parameters!AM8648","v":0.8},{"$f":"Parameters!AN8648","v":0.8},{"$f":"Parameters!AO8648","v":0.8},{"$f":"Parameters!AP8648","v":0.8},{"$f":"Parameters!AQ8648","v":0.8},{"$f":"Parameters!AR8648","v":0.8},{"$f":"Parameters!AS8648","v":0.8},{"$f":"Parameters!AT8648","v":0.8},{"$f":"Parameters!AU8648","v":0.8},{"$f":"Parameters!AV8648","v":0.8},{"$f":"Parameters!AW8648","v":0.8},{"$f":"Parameters!AX8648","v":0.8},{"$f":"Parameters!AY8648","v":0.8},{"$f":"Parameters!AZ8648","v":0.8},{"$f":"Parameters!BA8648","v":0.8},{"$f":"Parameters!BB8648","v":0.8},{"$f":"Parameters!BC8648","v":0.8},{"$f":"Parameters!BD8648","v":0.8},{"$f":"Parameters!BE8648","v":0.8},{"$f":"Parameters!BF8648","v":0.8},{"$f":"Parameters!BG8648","v":0.8},{"$f":"Parameters!BH8648","v":0.8},{"$f":"Parameters!BI8648","v":0.8},{"$f":"Parameters!BJ8648","v":0.8},{"$f":"Parameters!BK8648","v":0.8},{"$f":"Parameters!BL8648","v":0.8},{"$f":"Parameters!BM8648","v":0.8},{"$f":"Parameters!BN8648","v":0.8}]
["S420",{"$f":"Parameters!K8800","v":1},{"$f":"Parameters!L8800","v":1},{"$f":"Parameters!M8800","v":1},{"$f":"Parameters!N8800","v":1},{"$f":"Parameters!O8800","v":1},{"$f":"Parameters!P8800","v":1},{"$f":"Parameters!Q8800","v":1},{"$f":"Parameters!R8800","v":1},{"$f":"Parameters!S8800","v":1},{"$f":"Parameters!T8800","v":1},{"$f":"Parameters!U8800","v":1},{"$f":"Parameters!V8800","v":1},{"$f":"Parameters!W8800","v":1},{"$f":"Parameters!X8800","v":1},{"$f":"Parameters!Y8800","v":1},{"$f":"Parameters!Z8800","v":1},{"$f":"Parameters!AA8800","v":1},{"$f":"Parameters!AB8800","v":1},{"$f":"Parameters!AC8800","v":1},{"$f":"Parameters!AD8800","v":1},{"$f":"Parameters!AE8800","v":1},{"$f":"Parameters!AF8800","v":1},{"$f":"Parameters!AG8800","v":1},{"$f":"Parameters!AH8800","v":1},{"$f":"Parameters!AI8800","v":1},{"$f":"Parameters!AJ8800","v":1},{"$f":"Parameters!AK8800","v":1},{"$f":"Parameters!AL8800","v":1},{"$f":"Parameters!AM8800","v":1},{"$f":"Parameters!AN8800","v":1},{"$f":"Parameters!AO8800","v":1},{"$f":"Parameters!AP8800","v":1},{"$f":"Parameters!AQ8800","v":1},{"$f":"Parameters!AR8800","v":1},{"$f":"Parameters!AS8800","v":1},{"$f":"Parameters!AT8800","v":1},{"$f":"Parameters!AU8800","v":1},{"$f":"Parameters!AV8800","v":1},{"$f":"Parameters!AW8800","v":1},{"$f":"Parameters!AX8800","v":1},{"$f":"Parameters!AY8800","v":1},{"$f":"Parameters!AZ8800","v":1},{"$f":"Parameters!BA8800","v":1},{"$f":"Parameters!BB8800","v":1},{"$f":"Parameters!BC8800","v":1},{"$f":"Parameters!BD8800","v":1},{"$f":"Parameters!BE8800","v":1},{"$f":"Parameters!BF8800","v":1},{"$f":"Parameters!BG8800","v":1},{"$f":"Parameters!BH8800","v":1},{"$f":"Parameters!BI8800","v":1},{"$f":"Parameters!BJ8800","v":1},{"$f":"Parameters!BK8800","v":1},{"$f":"Parameters!BL8800","v":1},{"$f":"Parameters!BM8800","v":1},{"$f":"Parameters!BN8800","v":1}]
["S303",{"$f":"Parameters!K9047","v":1},{"$f":"Parameters!L9047","v":1},{"$f":"Parameters!M9047","v":1},{"$f":"Parameters!N9047","v":1},{"$f":"Parameters!O9047","v":1},{"$f":"Parameters!P9047","v":1},{"$f":"Parameters!Q9047","v":1},{"$f":"Parameters!R9047","v":1},{"$f":"Parameters!S9047","v":1},{"$f":"Parameters!T9047","v":1},{"$f":"Parameters!U9047","v":1},{"$f":"Parameters!V9047","v":1},{"$f":"Parameters!W9047","v":1},{"$f":"Parameters!X9047","v":1},{"$f":"Parameters!Y9047","v":1},{"$f":"Parameters!Z9047","v":1},{"$f":"Parameters!AA9047","v":1},{"$f":"Parameters!AB9047","v":1},{"$f":"Parameters!AC9047","v":1},{"$f":"Parameters!AD9047","v":1},{"$f":"Parameters!AE9047","v":1},{"$f":"Parameters!AF9047","v":1},{"$f":"Parameters!AG9047","v":1},{"$f":"Parameters!AH9047","v":1},{"$f":"Parameters!AI9047","v":1},{"$f":"Parameters!AJ9047","v":1},{"$f":"Parameters!AK9047","v":1},{"$f":"Parameters!AL9047","v":1},{"$f":"Parameters!AM9047","v":1},{"$f":"Parameters!AN9047","v":1},{"$f":"Parameters!AO9047","v":1},{"$f":"Parameters!AP9047","v":1},{"$f":"Parameters!AQ9047","v":1},{"$f":"Parameters!AR9047","v":1},{"$f":"Parameters!AS9047","v":1},{"$f":"Parameters!AT9047","v":1},{"$f":"Parameters!AU9047","v":1},{"$f":"Parameters!AV9047","v":1},{"$f":"Parameters!AW9047","v":1},{"$f":"Parameters!AX9047","v":1},{"$f":"Parameters!AY9047","v":1},{"$f":"Parameters!AZ9047","v":1},{"$f":"Parameters!BA9047","v":1},{"$f":"Parameters!BB9047","v":1},{"$f":"Parameters!BC9047","v":1},{"$f":"Parameters!BD9047","v":1},{"$f":"Parameters!BE9047","v":1},{"$f":"Parameters!BF9047","v":1},{"$f":"Parameters!BG9047","v":1},{"$f":"Parameters!BH9047","v":1},{"$f":"Parameters!BI9047","v":1},{"$f":"Parameters!BJ9047","v":1},{"$f":"Parameters!BK9047","v":1},{"$f":"Parameters!BL9047","v":1},{"$f":"Parameters!BM9047","v":1},{"$f":"Parameters!BN9047","v":1}]
["S120",{"$f":"Parameters!K9208","v":1},{"$f":"Parameters!L9208","v":1},{"$f":"Parameters!M9208","v":1},{"$f":"Parameters!N9208","v":1},{"$f":"Parameters!O9208","v":1},{"$f":"Parameters!P9208","v":1},{"$f":"Parameters!Q9208","v":1},{"$f":"Parameters!R9208","v":1},{"$f":"Parameters!S9208","v":1},{"$f":"Parameters!T9208","v":1},{"$f":"Parameters!U9208","v":1},{"$f":"Parameters!V9208","v":1},{"$f":"Parameters!W9208","v":1},{"$f":"Parameters!X9208","v":1},{"$f":"Parameters!Y9208","v":1},{"$f":"Parameters!Z9208","v":1},{"$f":"Parameters!AA9208","v":1},{"$f":"Parameters!AB9208","v":1},{"$f":"Parameters!AC9208","v":1},{"$f":"Parameters!AD9208","v":1},{"$f":"Parameters!AE9208","v":1},{"$f":"Parameters!AF9208","v":1},{"$f":"Parameters!AG9208","v":1},{"$f":"Parameters!AH9208","v":1},{"$f":"Parameters!AI9208","v":1},{"$f":"Parameters!AJ9208","v":1},{"$f":"Parameters!AK9208","v":1},{"$f":"Parameters!AL9208","v":1},{"$f":"Parameters!AM9208","v":1},{"$f":"Parameters!AN9208","v":1},{"$f":"Parameters!AO9208","v":1},{"$f":"Parameters!AP9208","v":1},{"$f":"Parameters!AQ9208","v":1},{"$f":"Parameters!AR9208","v":1},{"$f":"Parameters!AS9208","v":1},{"$f":"Parameters!AT9208","v":1},{"$f":"Parameters!AU9208","v":1},{"$f":"Parameters!AV9208","v":1},{"$f":"Parameters!AW9208","v":1},{"$f":"Parameters!AX9208","v":1},{"$f":"Parameters!AY9208","v":1},{"$f":"Parameters!AZ9208","v":1},{"$f":"Parameters!BA9208","v":1},{"$f":"Parameters!BB9208","v":1},{"$f":"Parameters!BC9208","v":1},{"$f":"Parameters!BD9208","v":1},{"$f":"Parameters!BE9208","v":1},{"$f":"Parameters!BF9208","v":1},{"$f":"Parameters!BG9208","v":1},{"$f":"Parameters!BH9208","v":1},{"$f":"Parameters!BI9208","v":1},{"$f":"Parameters!BJ9208","v":1},{"$f":"Parameters!BK9208","v":1},{"$f":"Parameters!BL9208","v":1},{"$f":"Parameters!BM9208","v":1},{"$f":"Parameters!BN9208","v":1}]
["S411",{"$f":"Parameters!K9463","v":1},{"$f":"Parameters!L9463","v":1},{"$f":"Parameters!M9463","v":1},{"$f":"Parameters!N9463","v":1},{"$f":"Parameters!O9463","v":1},{"$f":"Parameters!P9463","v":1},{"$f":"Parameters!Q9463","v":1},{"$f":"Parameters!R9463","v":1},{"$f":"Parameters!S9463","v":1},{"$f":"Parameters!T9463","v":1},{"$f":"Parameters!U9463","v":1},{"$f":"Parameters!V9463","v":1},{"$f":"Parameters!W9463","v":1},{"$f":"Parameters!X9463","v":1},{"$f":"Parameters!Y9463","v":1},{"$f":"Parameters!Z9463","v":1},{"$f":"Parameters!AA9463","v":1},{"$f":"Parameters!AB9463","v":1},{"$f":"Parameters!AC9463","v":1},{"$f":"Parameters!AD9463","v":1},{"$f":"Parameters!AE9463","v":1},{"$f":"Parameters!AF9463","v":1},{"$f":"Parameters!AG9463","v":1},{"$f":"Parameters!AH9463","v":1},{"$f":"Parameters!AI9463","v":1},{"$f":"Parameters!AJ9463","v":1},{"$f":"Parameters!AK9463","v":1},{"$f":"Parameters!AL9463","v":1},{"$f":"Parameters!AM9463","v":1},{"$f":"Parameters!AN9463","v":1},{"$f":"Parameters!AO9463","v":1},{"$f":"Parameters!AP9463","v":1},{"$f":"Parameters!AQ9463","v":1},{"$f":"Parameters!AR9463","v":1},{"$f":"Parameters!AS9463","v":1},{"$f":"Parameters!AT9463","v":1},{"$f":"Parameters!AU9463","v":1},{"$f":"Parameters!AV9463","v":1},{"$f":"Parameters!AW9463","v":1},{"$f":"Parameters!AX9463","v":1},{"$f":"Parameters!AY9463","v":1},{"$f":"Parameters!AZ9463","v":1},{"$f":"Parameters!BA9463","v":1},{"$f":"Parameters!BB9463","v":1},{"$f":"Parameters!BC9463","v":1},{"$f":"Parameters!BD9463","v":1},{"$f":"Parameters!BE9463","v":1},{"$f":"Parameters!BF9463","v":1},{"$f":"Parameters!BG9463","v":1},{"$f":"Parameters!BH9463","v":1},{"$f":"Parameters!BI9463","v":1},{"$f":"Parameters!BJ9463","v":1},{"$f":"Parameters!BK9463","v":1},{"$f":"Parameters!BL9463","v":1},{"$f":"Parameters!BM9463","v":1},{"$f":"Parameters!BN9463","v":1}]
["S211",{"$f":"Parameters!K9607","v":1},{"$f":"Parameters!L9607","v":1},{"$f":"Parameters!M9607","v":1},{"$f":"Parameters!N9607","v":1},{"$f":"Parameters!O9607","v":1},{"$f":"Parameters!P9607","v":1},{"$f":"Parameters!Q9607","v":1},{"$f":"Parameters!R9607","v":1},{"$f":"Parameters!S9607","v":1},{"$f":"Parameters!T9607","v":1},{"$f":"Parameters!U9607","v":1},{"$f":"Parameters!V9607","v":1},{"$f":"Parameters!W9607","v":1},{"$f":"Parameters!X9607","v":1},{"$f":"Parameters!Y9607","v":1},{"$f":"Parameters!Z9607","v":1},{"$f":"Parameters!AA9607","v":1},{"$f":"Parameters!AB9607","v":1},{"$f":"Parameters!AC9607","v":1},{"$f":"Parameters!AD9607","v":1},{"$f":"Parameters!AE9607","v":1},{"$f":"Parameters!AF9607","v":1},{"$f":"Parameters!AG9607","v":1},{"$f":"Parameters!AH9607","v":1},{"$f":"Parameters!AI9607","v":1},{"$f":"Parameters!AJ9607","v":1},{"$f":"Parameters!AK9607","v":1},{"$f":"Parameters!AL9607","v":1},{"$f":"Parameters!AM9607","v":1},{"$f":"Parameters!AN9607","v":1},{"$f":"Parameters!AO9607","v":1},{"$f":"Parameters!AP9607","v":1},{"$f":"Parameters!AQ9607","v":1},{"$f":"Parameters!AR9607","v":1},{"$f":"Parameters!AS9607","v":1},{"$f":"Parameters!AT9607","v":1},{"$f":"Parameters!AU9607","v":1},{"$f":"Parameters!AV9607","v":1},{"$f":"Parameters!AW9607","v":1},{"$f":"Parameters!AX9607","v":1},{"$f":"Parameters!AY9607","v":1},{"$f":"Parameters!AZ9607","v":1},{"$f":"Parameters!BA9607","v":1},{"$f":"Parameters!BB9607","v":1},{"$f":"Parameters!BC9607","v":1},{"$f":"Parameters!BD9607","v":1},{"$f":"Parameters!BE9607","v":1},{"$f":"Parameters!BF9607","v":1},{"$f":"Parameters!BG9607","v":1},{"$f":"Parameters!BH9607","v":1},{"$f":"Parameters!BI9607","v":1},{"$f":"Parameters!BJ9607","v":1},{"$f":"Parameters!BK9607","v":1},{"$f":"Parameters!BL9607","v":1},{"$f":"Parameters!BM9607","v":1},{"$f":"Parameters!BN9607","v":1}]
["S102",{"$f":"Parameters!K9766","v":1},{"$f":"Parameters!L9766","v":1},{"$f":"Parameters!M9766","v":1},{"$f":"Parameters!N9766","v":1},{"$f":"Parameters!O9766","v":1},{"$f":"Parameters!P9766","v":1},{"$f":"Parameters!Q9766","v":1},{"$f":"Parameters!R9766","v":1},{"$f":"Parameters!S9766","v":1},{"$f":"Parameters!T9766","v":1},{"$f":"Parameters!U9766","v":1},{"$f":"Parameters!V9766","v":1},{"$f":"Parameters!W9766","v":1},{"$f":"Parameters!X9766","v":1},{"$f":"Parameters!Y9766","v":1},{"$f":"Parameters!Z9766","v":1},{"$f":"Parameters!AA9766","v":1},{"$f":"Parameters!AB9766","v":1},{"$f":"Parameters!AC9766","v":1},{"$f":"Parameters!AD9766","v":1},{"$f":"Parameters!AE9766","v":1},{"$f":"Parameters!AF9766","v":1},{"$f":"Parameters!AG9766","v":1},{"$f":"Parameters!AH9766","v":1},{"$f":"Parameters!AI9766","v":1},{"$f":"Parameters!AJ9766","v":1},{"$f":"Parameters!AK9766","v":1},{"$f":"Parameters!AL9766","v":1},{"$f":"Parameters!AM9766","v":1},{"$f":"Parameters!AN9766","v":1},{"$f":"Parameters!AO9766","v":1},{"$f":"Parameters!AP9766","v":1},{"$f":"Parameters!AQ9766","v":1},{"$f":"Parameters!AR9766","v":1},{"$f":"Parameters!AS9766","v":1},{"$f":"Parameters!AT9766","v":1},{"$f":"Parameters!AU9766","v":1},{"$f":"Parameters!AV9766","v":1},{"$f":"Parameters!AW9766","v":1},{"$f":"Parameters!AX9766","v":1},{"$f":"Parameters!AY9766","v":1},{"$f":"Parameters!AZ9766","v":1},{"$f":"Parameters!BA9766","v":1},{"$f":"Parameters!BB9766","v":1},{"$f":"Parameters!BC9766","v":1},{"$f":"Parameters!BD9766","v":1},{"$f":"Parameters!BE9766","v":1},{"$f":"Parameters!BF9766","v":1},{"$f":"Parameters!BG9766","v":1},{"$f":"Parameters!BH9766","v":1},{"$f":"Parameters!BI9766","v":1},{"$f":"Parameters!BJ9766","v":1},{"$f":"Parameters!BK9766","v":1},{"$f":"Parameters!BL9766","v":1},{"$f":"Parameters!BM9766","v":1},{"$f":"Parameters!BN9766","v":1}]
["S318",{"$f":"Parameters!K9830","v":1},{"$f":"Parameters!L9830","v":1},{"$f":"Parameters!M9830","v":1},{"$f":"Parameters!N9830","v":1},{"$f":"Parameters!O9830","v":1},{"$f":"Parameters!P9830","v":1},{"$f":"Parameters!Q9830","v":1},{"$f":"Parameters!R9830","v":1},{"$f":"Parameters!S9830","v":1},{"$f":"Parameters!T9830","v":1},{"$f":"Parameters!U9830","v":1},{"$f":"Parameters!V9830","v":1},{"$f":"Parameters!W9830","v":1},{"$f":"Parameters!X9830","v":1},{"$f":"Parameters!Y9830","v":1},{"$f":"Parameters!Z9830","v":1},{"$f":"Parameters!AA9830","v":1},{"$f":"Parameters!AB9830","v":1},{"$f":"Parameters!AC9830","v":1},{"$f":"Parameters!AD9830","v":1},{"$f":"Parameters!AE9830","v":1},{"$f":"Parameters!AF9830","v":1},{"$f":"Parameters!AG9830","v":1},{"$f":"Parameters!AH9830","v":1},{"$f":"Parameters!AI9830","v":1},{"$f":"Parameters!AJ9830","v":1},{"$f":"Parameters!AK9830","v":1},{"$f":"Parameters!AL9830","v":1},{"$f":"Parameters!AM9830","v":1},{"$f":"Parameters!AN9830","v":1},{"$f":"Parameters!AO9830","v":1},{"$f":"Parameters!AP9830","v":1},{"$f":"Parameters!AQ9830","v":1},{"$f":"Parameters!AR9830","v":1},{"$f":"Parameters!AS9830","v":1},{"$f":"Parameters!AT9830","v":1},{"$f":"Parameters!AU9830","v":1},{"$f":"Parameters!AV9830","v":1},{"$f":"Parameters!AW9830","v":1},{"$f":"Parameters!AX9830","v":1},{"$f":"Parameters!AY9830","v":1},{"$f":"Parameters!AZ9830","v":1},{"$f":"Parameters!BA9830","v":1},{"$f":"Parameters!BB9830","v":1},{"$f":"Parameters!BC9830","v":1},{"$f":"Parameters!BD9830","v":1},{"$f":"Parameters!BE9830","v":1},{"$f":"Parameters!BF9830","v":1},{"$f":"Parameters!BG9830","v":1},{"$f":"Parameters!BH9830","v":1},{"$f":"Parameters!BI9830","v":1},{"$f":"Parameters!BJ9830","v":1},{"$f":"Parameters!BK9830","v":1},{"$f":"Parameters!BL9830","v":1},{"$f":"Parameters!BM9830","v":1},{"$f":"Parameters!BN9830","v":1}]
["S119",{"$f":"Parameters!K10167","v":1},{"$f":"Parameters!L10167","v":1},{"$f":"Parameters!M10167","v":1},{"$f":"Parameters!N10167","v":1},{"$f":"Parameters!O10167","v":1},{"$f":"Parameters!P10167","v":1},{"$f":"Parameters!Q10167","v":1},{"$f":"Parameters!R10167","v":1},{"$f":"Parameters!S10167","v":1},{"$f":"Parameters!T10167","v":1},{"$f":"Parameters!U10167","v":1},{"$f":"Parameters!V10167","v":1},{"$f":"Parameters!W10167","v":1},{"$f":"Parameters!X10167","v":1},{"$f":"Parameters!Y10167","v":1},{"$f":"Parameters!Z10167","v":1},{"$f":"Parameters!AA10167","v":1},{"$f":"Parameters!AB10167","v":1},{"$f":"Parameters!AC10167","v":1},{"$f":"Parameters!AD10167","v":1},{"$f":"Parameters!AE10167","v":1},{"$f":"Parameters!AF10167","v":1},{"$f":"Parameters!AG10167","v":1},{"$f":"Parameters!AH10167","v":1},{"$f":"Parameters!AI10167","v":1},{"$f":"Parameters!AJ10167","v":1},{"$f":"Parameters!AK10167","v":1},{"$f":"Parameters!AL10167","v":1},{"$f":"Parameters!AM10167","v":1},{"$f":"Parameters!AN10167","v":1},{"$f":"Parameters!AO10167","v":1},{"$f":"Parameters!AP10167","v":1},{"$f":"Parameters!AQ10167","v":1},{"$f":"Parameters!AR10167","v":1},{"$f":"Parameters!AS10167","v":1},{"$f":"Parameters!AT10167","v":1},{"$f":"Parameters!AU10167","v":1},{"$f":"Parameters!AV10167","v":1},{"$f":"Parameters!AW10167","v":1},{"$f":"Parameters!AX10167","v":1},{"$f":"Parameters!AY10167","v":1},{"$f":"Parameters!AZ10167","v":1},{"$f":"Parameters!BA10167","v":1},{"$f":"Parameters!BB10167","v":1},{"$f":"Parameters!BC10167","v":1},{"$f":"Parameters!BD10167","v":1},{"$f":"Parameters!BE10167","v":1},{"$f":"Parameters!BF10167","v":1},{"$f":"Parameters!BG10167","v":1},{"$f":"Parameters!BH10167","v":1},{"$f":"Parameters!BI10167","v":1},{"$f":"Parameters!BJ10167","v":1},{"$f":"Parameters!BK10167","v":1},{"$f":"Parameters!BL10167","v":1},{"$f":"Parameters!BM10167","v":1},{"$f":"Parameters!BN10167","v":1}]
["S108",{"$f":"Parameters!K10252","v":1},{"$f":"Parameters!L10252","v":1},{"$f":"Parameters!M10252","v":1},{"$f":"Parameters!N10252","v":1},{"$f":"Parameters!O10252","v":1},{"$f":"Parameters!P10252","v":1},{"$f":"Parameters!Q10252","v":1},{"$f":"Parameters!R10252","v":1},{"$f":"Parameters!S10252","v":1},{"$f":"Parameters!T10252","v":1},{"$f":"Parameters!U10252","v":1},{"$f":"Parameters!V10252","v":1},{"$f":"Parameters!W10252","v":1},{"$f":"Parameters!X10252","v":1},{"$f":"Parameters!Y10252","v":1},{"$f":"Parameters!Z10252","v":1},{"$f":"Parameters!AA10252","v":1},{"$f":"Parameters!AB10252","v":1},{"$f":"Parameters!AC10252","v":1},{"$f":"Parameters!AD10252","v":1},{"$f":"Parameters!AE10252","v":1},{"$f":"Parameters!AF10252","v":1},{"$f":"Parameters!AG10252","v":1},{"$f":"Parameters!AH10252","v":1},{"$f":"Parameters!AI10252","v":1},{"$f":"Parameters!AJ10252","v":1},{"$f":"Parameters!AK10252","v":1},{"$f":"Parameters!AL10252","v":1},{"$f":"Parameters!AM10252","v":1},{"$f":"Parameters!AN10252","v":1},{"$f":"Parameters!AO10252","v":1},{"$f":"Parameters!AP10252","v":1},{"$f":"Parameters!AQ10252","v":1},{"$f":"Parameters!AR10252","v":1},{"$f":"Parameters!AS10252","v":1},{"$f":"Parameters!AT10252","v":1},{"$f":"Parameters!AU10252","v":1},{"$f":"Parameters!AV10252","v":1},{"$f":"Parameters!AW10252","v":1},{"$f":"Parameters!AX10252","v":1},{"$f":"Parameters!AY10252","v":1},{"$f":"Parameters!AZ10252","v":1},{"$f":"Parameters!BA10252","v":1},{"$f":"Parameters!BB10252","v":1},{"$f":"Parameters!BC10252","v":1},{"$f":"Parameters!BD10252","v":1},{"$f":"Parameters!BE10252","v":1},{"$f":"Parameters!BF10252","v":1},{"$f":"Parameters!BG10252","v":1},{"$f":"Parameters!BH10252","v":1},{"$f":"Parameters!BI10252","v":1},{"$f":"Parameters!BJ10252","v":1},{"$f":"Parameters!BK10252","v":1},{"$f":"Parameters!BL10252","v":1},{"$f":"Parameters!BM10252","v":1},{"$f":"Parameters!BN10252","v":1}]
["S302",{"$f":"Parameters!K10390","v":1},{"$f":"Parameters!L10390","v":1},{"$f":"Parameters!M10390","v":1},{"$f":"Parameters!N10390","v":1},{"$f":"Parameters!O10390","v":1},{"$f":"Parameters!P10390","v":1},{"$f":"Parameters!Q10390","v":1},{"$f":"Parameters!R10390","v":1},{"$f":"Parameters!S10390","v":1},{"$f":"Parameters!T10390","v":1},{"$f":"Parameters!U10390","v":1},{"$f":"Parameters!V10390","v":1},{"$f":"Parameters!W10390","v":1},{"$f":"Parameters!X10390","v":1},{"$f":"Parameters!Y10390","v":1},{"$f":"Parameters!Z10390","v":1},{"$f":"Parameters!AA10390","v":1},{"$f":"Parameters!AB10390","v":1},{"$f":"Parameters!AC10390","v":1},{"$f":"Parameters!AD10390","v":1},{"$f":"Parameters!AE10390","v":1},{"$f":"Parameters!AF10390","v":1},{"$f":"Parameters!AG10390","v":1},{"$f":"Parameters!AH10390","v":1},{"$f":"Parameters!AI10390","v":1},{"$f":"Parameters!AJ10390","v":1},{"$f":"Parameters!AK10390","v":1},{"$f":"Parameters!AL10390","v":1},{"$f":"Parameters!AM10390","v":1},{"$f":"Parameters!AN10390","v":1},{"$f":"Parameters!AO10390","v":1},{"$f":"Parameters!AP10390","v":1},{"$f":"Parameters!AQ10390","v":1},{"$f":"Parameters!AR10390","v":1},{"$f":"Parameters!AS10390","v":1},{"$f":"Parameters!AT10390","v":1},{"$f":"Parameters!AU10390","v":1},{"$f":"Parameters!AV10390","v":1},{"$f":"Parameters!AW10390","v":1},{"$f":"Parameters!AX10390","v":1},{"$f":"Parameters!AY10390","v":1},{"$f":"Parameters!AZ10390","v":1},{"$f":"Parameters!BA10390","v":1},{"$f":"Parameters!BB10390","v":1},{"$f":"Parameters!BC10390","v":1},{"$f":"Parameters!BD10390","v":1},{"$f":"Parameters!BE10390","v":1},{"$f":"Parameters!BF10390","v":1},{"$f":"Parameters!BG10390","v":1},{"$f":"Parameters!BH10390","v":1},{"$f":"Parameters!BI10390","v":1},{"$f":"Parameters!BJ10390","v":1},{"$f":"Parameters!BK10390","v":1},{"$f":"Parameters!BL10390","v":1},{"$f":"Parameters!BM10390","v":1},{"$f":"Parameters!BN10390","v":1}]
["S201",{"$f":"Parameters!K10557","v":1},{"$f":"Parameters!L10557","v":1},{"$f":"Parameters!M10557","v":1},{"$f":"Parameters!N10557","v":1},{"$f":"Parameters!O10557","v":1},{"$f":"Parameters!P10557","v":1},{"$f":"Parameters!Q10557","v":1},{"$f":"Parameters!R10557","v":1},{"$f":"Parameters!S10557","v":1},{"$f":"Parameters!T10557","v":1},{"$f":"Parameters!U10557","v":1},{"$f":"Parameters!V10557","v":1},{"$f":"Parameters!W10557","v":1},{"$f":"Parameters!X10557","v":1},{"$f":"Parameters!Y10557","v":1},{"$f":"Parameters!Z10557","v":1},{"$f":"Parameters!AA10557","v":1},{"$f":"Parameters!AB10557","v":1},{"$f":"Parameters!AC10557","v":1},{"$f":"Parameters!AD10557","v":1},{"$f":"Parameters!AE10557","v":1},{"$f":"Parameters!AF10557","v":1},{"$f":"Parameters!AG10557","v":1},{"$f":"Parameters!AH10557","v":1},{"$f":"Parameters!AI10557","v":1},{"$f":"Parameters!AJ10557","v":1},{"$f":"Parameters!AK10557","v":1},{"$f":"Parameters!AL10557","v":1},{"$f":"Parameters!AM10557","v":1},{"$f":"Parameters!AN10557","v":1},{"$f":"Parameters!AO10557","v":1},{"$f":"Parameters!AP10557","v":1},{"$f":"Parameters!AQ10557","v":1},{"$f":"Parameters!AR10557","v":1},{"$f":"Parameters!AS10557","v":1},{"$f":"Parameters!AT10557","v":1},{"$f":"Parameters!AU10557","v":1},{"$f":"Parameters!AV10557","v":1},{"$f":"Parameters!AW10557","v":1},{"$f":"Parameters!AX10557","v":1},{"$f":"Parameters!AY10557","v":1},{"$f":"Parameters!AZ10557","v":1},{"$f":"Parameters!BA10557","v":1},{"$f":"Parameters!BB10557","v":1},{"$f":"Parameters!BC10557","v":1},{"$f":"Parameters!BD10557","v":1},{"$f":"Parameters!BE10557","v":1},{"$f":"Parameters!BF10557","v":1},{"$f":"Parameters!BG10557","v":1},{"$f":"Parameters!BH10557","v":1},{"$f":"Parameters!BI10557","v":1},{"$f":"Parameters!BJ10557","v":1},{"$f":"Parameters!BK10557","v":1},{"$f":"Parameters!BL10557","v":1},{"$f":"Parameters!BM10557","v":1},{"$f":"Parameters!BN10557","v":1}]
["S317",{"$f":"Parameters!K10789","v":1},{"$f":"Parameters!L10789","v":1},{"$f":"Parameters!M10789","v":1},{"$f":"Parameters!N10789","v":1},{"$f":"Parameters!O10789","v":1},{"$f":"Parameters!P10789","v":1},{"$f":"Parameters!Q10789","v":1},{"$f":"Parameters!R10789","v":1},{"$f":"Parameters!S10789","v":1},{"$f":"Parameters!T10789","v":1},{"$f":"Parameters!U10789","v":1},{"$f":"Parameters!V10789","v":1},{"$f":"Parameters!W10789","v":1},{"$f":"Parameters!X10789","v":1},{"$f":"Parameters!Y10789","v":1},{"$f":"Parameters!Z10789","v":1},{"$f":"Parameters!AA10789","v":1},{"$f":"Parameters!AB10789","v":1},{"$f":"Parameters!AC10789","v":1},{"$f":"Parameters!AD10789","v":1},{"$f":"Parameters!AE10789","v":1},{"$f":"Parameters!AF10789","v":1},{"$f":"Parameters!AG10789","v":1},{"$f":"Parameters!AH10789","v":1},{"$f":"Parameters!AI10789","v":1},{"$f":"Parameters!AJ10789","v":1},{"$f":"Parameters!AK10789","v":1},{"$f":"Parameters!AL10789","v":1},{"$f":"Parameters!AM10789","v":1},{"$f":"Parameters!AN10789","v":1},{"$f":"Parameters!AO10789","v":1},{"$f":"Parameters!AP10789","v":1},{"$f":"Parameters!AQ10789","v":1},{"$f":"Parameters!AR10789","v":1},{"$f":"Parameters!AS10789","v":1},{"$f":"Parameters!AT10789","v":1},{"$f":"Parameters!AU10789","v":1},{"$f":"Parameters!AV10789","v":1},{"$f":"Parameters!AW10789","v":1},{"$f":"Parameters!AX10789","v":1},{"$f":"Parameters!AY10789","v":1},{"$f":"Parameters!AZ10789","v":1},{"$f":"Parameters!BA10789","v":1},{"$f":"Parameters!BB10789","v":1},{"$f":"Parameters!BC10789","v":1},{"$f":"Parameters!BD10789","v":1},{"$f":"Parameters!BE10789","v":1},{"$f":"Parameters!BF10789","v":1},{"$f":"Parameters!BG10789","v":1},{"$f":"Parameters!BH10789","v":1},{"$f":"Parameters!BI10789","v":1},{"$f":"Parameters!BJ10789","v":1},{"$f":"Parameters!BK10789","v":1},{"$f":"Parameters!BL10789","v":1},{"$f":"Parameters!BM10789","v":1},{"$f":"Parameters!BN10789","v":1}]
["S218",{"$f":"Parameters!K11054","v":1},{"$f":"Parameters!L11054","v":1},{"$f":"Parameters!M11054","v":1},{"$f":"Parameters!N11054","v":1},{"$f":"Parameters!O11054","v":1},{"$f":"Parameters!P11054","v":1},{"$f":"Parameters!Q11054","v":1},{"$f":"Parameters!R11054","v":1},{"$f":"Parameters!S11054","v":1},{"$f":"Parameters!T11054","v":1},{"$f":"Parameters!U11054","v":1},{"$f":"Parameters!V11054","v":1},{"$f":"Parameters!W11054","v":1},{"$f":"Parameters!X11054","v":1},{"$f":"Parameters!Y11054","v":1},{"$f":"Parameters!Z11054","v":1},{"$f":"Parameters!AA11054","v":1},{"$f":"Parameters!AB11054","v":1},{"$f":"Parameters!AC11054","v":1},{"$f":"Parameters!AD11054","v":1},{"$f":"Parameters!AE11054","v":1},{"$f":"Parameters!AF11054","v":1},{"$f":"Parameters!AG11054","v":1},{"$f":"Parameters!AH11054","v":1},{"$f":"Parameters!AI11054","v":1},{"$f":"Parameters!AJ11054","v":1},{"$f":"Parameters!AK11054","v":1},{"$f":"Parameters!AL11054","v":1},{"$f":"Parameters!AM11054","v":1},{"$f":"Parameters!AN11054","v":1},{"$f":"Parameters!AO11054","v":1},{"$f":"Parameters!AP11054","v":1},{"$f":"Parameters!AQ11054","v":1},{"$f":"Parameters!AR11054","v":1},{"$f":"Parameters!AS11054","v":1},{"$f":"Parameters!AT11054","v":1},{"$f":"Parameters!AU11054","v":1},{"$f":"Parameters!AV11054","v":1},{"$f":"Parameters!AW11054","v":1},{"$f":"Parameters!AX11054","v":1},{"$f":"Parameters!AY11054","v":1},{"$f":"Parameters!AZ11054","v":1},{"$f":"Parameters!BA11054","v":1},{"$f":"Parameters!BB11054","v":1},{"$f":"Parameters!BC11054","v":1},{"$f":"Parameters!BD11054","v":1},{"$f":"Parameters!BE11054","v":1},{"$f":"Parameters!BF11054","v":1},{"$f":"Parameters!BG11054","v":1},{"$f":"Parameters!BH11054","v":1},{"$f":"Parameters!BI11054","v":1},{"$f":"Parameters!BJ11054","v":1},{"$f":"Parameters!BK11054","v":1},{"$f":"Parameters!BL11054","v":1},{"$f":"Parameters!BM11054","v":1},{"$f":"Parameters!BN11054","v":1}]
["S104",{"$f":"Parameters!K11112","v":1},{"$f":"Parameters!L11112","v":1},{"$f":"Parameters!M11112","v":1},{"$f":"Parameters!N11112","v":1},{"$f":"Parameters!O11112","v":1},{"$f":"Parameters!P11112","v":1},{"$f":"Parameters!Q11112","v":1},{"$f":"Parameters!R11112","v":1},{"$f":"Parameters!S11112","v":1},{"$f":"Parameters!T11112","v":1},{"$f":"Parameters!U11112","v":1},{"$f":"Parameters!V11112","v":1},{"$f":"Parameters!W11112","v":1},{"$f":"Parameters!X11112","v":1},{"$f":"Parameters!Y11112","v":1},{"$f":"Parameters!Z11112","v":1},{"$f":"Parameters!AA11112","v":1},{"$f":"Parameters!AB11112","v":1},{"$f":"Parameters!AC11112","v":1},{"$f":"Parameters!AD11112","v":1},{"$f":"Parameters!AE11112","v":1},{"$f":"Parameters!AF11112","v":1},{"$f":"Parameters!AG11112","v":1},{"$f":"Parameters!AH11112","v":1},{"$f":"Parameters!AI11112","v":1},{"$f":"Parameters!AJ11112","v":1},{"$f":"Parameters!AK11112","v":1},{"$f":"Parameters!AL11112","v":1},{"$f":"Parameters!AM11112","v":1},{"$f":"Parameters!AN11112","v":1},{"$f":"Parameters!AO11112","v":1},{"$f":"Parameters!AP11112","v":1},{"$f":"Parameters!AQ11112","v":1},{"$f":"Parameters!AR11112","v":1},{"$f":"Parameters!AS11112","v":1},{"$f":"Parameters!AT11112","v":1},{"$f":"Parameters!AU11112","v":1},{"$f":"Parameters!AV11112","v":1},{"$f":"Parameters!AW11112","v":1},{"$f":"Parameters!AX11112","v":1},{"$f":"Parameters!AY11112","v":1},{"$f":"Parameters!AZ11112","v":1},{"$f":"Parameters!BA11112","v":1},{"$f":"Parameters!BB11112","v":1},{"$f":"Parameters!BC11112","v":1},{"$f":"Parameters!BD11112","v":1},{"$f":"Parameters!BE11112","v":1},{"$f":"Parameters!BF11112","v":1},{"$f":"Parameters!BG11112","v":1},{"$f":"Parameters!BH11112","v":1},{"$f":"Parameters!BI11112","v":1},{"$f":"Parameters!BJ11112","v":1},{"$f":"Parameters!BK11112","v":1},{"$f":"Parameters!BL11112","v":1},{"$f":"Parameters!BM11112","v":1},{"$f":"Parameters!BN11112","v":1}]
["S301",{"$f":"Parameters!K11349","v":1},{"$f":"Parameters!L11349","v":1},{"$f":"Parameters!M11349","v":1},{"$f":"Parameters!N11349","v":1},{"$f":"Parameters!O11349","v":1},{"$f":"Parameters!P11349","v":1},{"$f":"Parameters!Q11349","v":1},{"$f":"Parameters!R11349","v":1},{"$f":"Parameters!S11349","v":1},{"$f":"Parameters!T11349","v":1},{"$f":"Parameters!U11349","v":1},{"$f":"Parameters!V11349","v":1},{"$f":"Parameters!W11349","v":1},{"$f":"Parameters!X11349","v":1},{"$f":"Parameters!Y11349","v":1},{"$f":"Parameters!Z11349","v":1},{"$f":"Parameters!AA11349","v":1},{"$f":"Parameters!AB11349","v":1},{"$f":"Parameters!AC11349","v":1},{"$f":"Parameters!AD11349","v":1},{"$f":"Parameters!AE11349","v":1},{"$f":"Parameters!AF11349","v":1},{"$f":"Parameters!AG11349","v":1},{"$f":"Parameters!AH11349","v":1},{"$f":"Parameters!AI11349","v":1},{"$f":"Parameters!AJ11349","v":1},{"$f":"Parameters!AK11349","v":1},{"$f":"Parameters!AL11349","v":1},{"$f":"Parameters!AM11349","v":1},{"$f":"Parameters!AN11349","v":1},{"$f":"Parameters!AO11349","v":1},{"$f":"Parameters!AP11349","v":1},{"$f":"Parameters!AQ11349","v":1},{"$f":"Parameters!AR11349","v":1},{"$f":"Parameters!AS11349","v":1},{"$f":"Parameters!AT11349","v":1},{"$f":"Parameters!AU11349","v":1},{"$f":"Parameters!AV11349","v":1},{"$f":"Parameters!AW11349","v":1},{"$f":"Parameters!AX11349","v":1},{"$f":"Parameters!AY11349","v":1},{"$f":"Parameters!AZ11349","v":1},{"$f":"Parameters!BA11349","v":1},{"$f":"Parameters!BB11349","v":1},{"$f":"Parameters!BC11349","v":1},{"$f":"Parameters!BD11349","v":1},{"$f":"Parameters!BE11349","v":1},{"$f":"Parameters!BF11349","v":1},{"$f":"Parameters!BG11349","v":1},{"$f":"Parameters!BH11349","v":1},{"$f":"Parameters!BI11349","v":1},{"$f":"Parameters!BJ11349","v":1},{"$f":"Parameters!BK11349","v":1},{"$f":"Parameters!BL11349","v":1},{"$f":"Parameters!BM11349","v":1},{"$f":"Parameters!BN11349","v":1}]
["S209",{"$f":"Parameters!K11525","v":1},{"$f":"Parameters!L11525","v":1},{"$f":"Parameters!M11525","v":1},{"$f":"Parameters!N11525","v":1},{"$f":"Parameters!O11525","v":1},{"$f":"Parameters!P11525","v":1},{"$f":"Parameters!Q11525","v":1},{"$f":"Parameters!R11525","v":1},{"$f":"Parameters!S11525","v":1},{"$f":"Parameters!T11525","v":1},{"$f":"Parameters!U11525","v":1},{"$f":"Parameters!V11525","v":1},{"$f":"Parameters!W11525","v":1},{"$f":"Parameters!X11525","v":1},{"$f":"Parameters!Y11525","v":1},{"$f":"Parameters!Z11525","v":1},{"$f":"Parameters!AA11525","v":1},{"$f":"Parameters!AB11525","v":1},{"$f":"Parameters!AC11525","v":1},{"$f":"Parameters!AD11525","v":1},{"$f":"Parameters!AE11525","v":1},{"$f":"Parameters!AF11525","v":1},{"$f":"Parameters!AG11525","v":1},{"$f":"Parameters!AH11525","v":1},{"$f":"Parameters!AI11525","v":1},{"$f":"Parameters!AJ11525","v":1},{"$f":"Parameters!AK11525","v":1},{"$f":"Parameters!AL11525","v":1},{"$f":"Parameters!AM11525","v":1},{"$f":"Parameters!AN11525","v":1},{"$f":"Parameters!AO11525","v":1},{"$f":"Parameters!AP11525","v":1},{"$f":"Parameters!AQ11525","v":1},{"$f":"Parameters!AR11525","v":1},{"$f":"Parameters!AS11525","v":1},{"$f":"Parameters!AT11525","v":1},{"$f":"Parameters!AU11525","v":1},{"$f":"Parameters!AV11525","v":1},{"$f":"Parameters!AW11525","v":1},{"$f":"Parameters!AX11525","v":1},{"$f":"Parameters!AY11525","v":1},{"$f":"Parameters!AZ11525","v":1},{"$f":"Parameters!BA11525","v":1},{"$f":"Parameters!BB11525","v":1},{"$f":"Parameters!BC11525","v":1},{"$f":"Parameters!BD11525","v":1},{"$f":"Parameters!BE11525","v":1},{"$f":"Parameters!BF11525","v":1},{"$f":"Parameters!BG11525","v":1},{"$f":"Parameters!BH11525","v":1},{"$f":"Parameters!BI11525","v":1},{"$f":"Parameters!BJ11525","v":1},{"$f":"Parameters!BK11525","v":1},{"$f":"Parameters!BL11525","v":1},{"$f":"Parameters!BM11525","v":1},{"$f":"Parameters!BN11525","v":1}]
["S316",{"$f":"Parameters!K11748","v":1},{"$f":"Parameters!L11748","v":1},{"$f":"Parameters!M11748","v":1},{"$f":"Parameters!N11748","v":1},{"$f":"Parameters!O11748","v":1},{"$f":"Parameters!P11748","v":1},{"$f":"Parameters!Q11748","v":1},{"$f":"Parameters!R11748","v":1},{"$f":"Parameters!S11748","v":1},{"$f":"Parameters!T11748","v":1},{"$f":"Parameters!U11748","v":1},{"$f":"Parameters!V11748","v":1},{"$f":"Parameters!W11748","v":1},{"$f":"Parameters!X11748","v":1},{"$f":"Parameters!Y11748","v":1},{"$f":"Parameters!Z11748","v":1},{"$f":"Parameters!AA11748","v":1},{"$f":"Parameters!AB11748","v":1},{"$f":"Parameters!AC11748","v":1},{"$f":"Parameters!AD11748","v":1},{"$f":"Parameters!AE11748","v":1},{"$f":"Parameters!AF11748","v":1},{"$f":"Parameters!AG11748","v":1},{"$f":"Parameters!AH11748","v":1},{"$f":"Parameters!AI11748","v":1},{"$f":"Parameters!AJ11748","v":1},{"$f":"Parameters!AK11748","v":1},{"$f":"Parameters!AL11748","v":1},{"$f":"Parameters!AM11748","v":1},{"$f":"Parameters!AN11748","v":1},{"$f":"Parameters!AO11748","v":1},{"$f":"Parameters!AP11748","v":1},{"$f":"Parameters!AQ11748","v":1},{"$f":"Parameters!AR11748","v":1},{"$f":"Parameters!AS11748","v":1},{"$f":"Parameters!AT11748","v":1},{"$f":"Parameters!AU11748","v":1},{"$f":"Parameters!AV11748","v":1},{"$f":"Parameters!AW11748","v":1},{"$f":"Parameters!AX11748","v":1},{"$f":"Parameters!AY11748","v":1},{"$f":"Parameters!AZ11748","v":1},{"$f":"Parameters!BA11748","v":1},{"$f":"Parameters!BB11748","v":1},{"$f":"Parameters!BC11748","v":1},{"$f":"Parameters!BD11748","v":1},{"$f":"Parameters!BE11748","v":1},{"$f":"Parameters!BF11748","v":1},{"$f":"Parameters!BG11748","v":1},{"$f":"Parameters!BH11748","v":1},{"$f":"Parameters!BI11748","v":1},{"$f":"Parameters!BJ11748","v":1},{"$f":"Parameters!BK11748","v":1},{"$f":"Parameters!BL11748","v":1},{"$f":"Parameters!BM11748","v":1},{"$f":"Parameters!BN11748","v":1}]
["S317",{"$f":"Parameters!K11845","v":1},{"$f":"Parameters!L11845","v":1},{"$f":"Parameters!M11845","v":1},{"$f":"Parameters!N11845","v":1},{"$f":"Parameters!O11845","v":1},{"$f":"Parameters!P11845","v":1},{"$f":"Parameters!Q11845","v":1},{"$f":"Parameters!R11845","v":1},{"$f":"Parameters!S11845","v":1},{"$f":"Parameters!T11845","v":1},{"$f":"Parameters!U11845","v":1},{"$f":"Parameters!V11845","v":1},{"$f":"Parameters!W11845","v":1},{"$f":"Parameters!X11845","v":1},{"$f":"Parameters!Y11845","v":1},{"$f":"Parameters!Z11845","v":1},{"$f":"Parameters!AA11845","v":1},{"$f":"Parameters!AB11845","v":1},{"$f":"Parameters!AC11845","v":1},{"$f":"Parameters!AD11845","v":1},{"$f":"Parameters!AE11845","v":1},{"$f":"Parameters!AF11845","v":1},{"$f":"Parameters!AG11845","v":1},{"$f":"Parameters!AH11845","v":1},{"$f":"Parameters!AI11845","v":1},{"$f":"Parameters!AJ11845","v":1},{"$f":"Parameters!AK11845","v":1},{"$f":"Parameters!AL11845","v":1},{"$f":"Parameters!AM11845","v":1},{"$f":"Parameters!AN11845","v":1},{"$f":"Parameters!AO11845","v":1},{"$f":"Parameters!AP11845","v":1},{"$f":"Parameters!AQ11845","v":1},{"$f":"Parameters!AR11845","v":1},{"$f":"Parameters!AS11845","v":1},{"$f":"Parameters!AT11845","v":1},{"$f":"Parameters!AU11845","v":1},{"$f":"Parameters!AV11845","v":1},{"$f":"Parameters!AW11845","v":1},{"$f":"Parameters!AX11845","v":1},{"$f":"Parameters!AY11845","v":1},{"$f":"Parameters!AZ11845","v":1},{"$f":"Parameters!BA11845","v":1},{"$f":"Parameters!BB11845","v":1},{"$f":"Parameters!BC11845","v":1},{"$f":"Parameters!BD11845","v":1},{"$f":"Parameters!BE11845","v":1},{"$f":"Parameters!BF11845","v":1},{"$f":"Parameters!BG11845","v":1},{"$f":"Parameters!BH11845","v":1},{"$f":"Parameters!BI11845","v":1},{"$f":"Parameters!BJ11845","v":1},{"$f":"Parameters!BK11845","v":1},{"$f":"Parameters!BL11845","v":1},{"$f":"Parameters!BM11845","v":1},{"$f":"Parameters!BN11845","v":1}]
["S103",{"$f":"Parameters!K12071","v":1},{"$f":"Parameters!L12071","v":1},{"$f":"Parameters!M12071","v":1},{"$f":"Parameters!N12071","v":1},{"$f":"Parameters!O12071","v":1},{"$f":"Parameters!P12071","v":1},{"$f":"Parameters!Q12071","v":1},{"$f":"Parameters!R12071","v":1},{"$f":"Parameters!S12071","v":1},{"$f":"Parameters!T12071","v":1},{"$f":"Parameters!U12071","v":1},{"$f":"Parameters!V12071","v":1},{"$f":"Parameters!W12071","v":1},{"$f":"Parameters!X12071","v":1},{"$f":"Parameters!Y12071","v":1},{"$f":"Parameters!Z12071","v":1},{"$f":"Parameters!AA12071","v":1},{"$f":"Parameters!AB12071","v":1},{"$f":"Parameters!AC12071","v":1},{"$f":"Parameters!AD12071","v":1},{"$f":"Parameters!AE12071","v":1},{"$f":"Parameters!AF12071","v":1},{"$f":"Parameters!AG12071","v":1},{"$f":"Parameters!AH12071","v":1},{"$f":"Parameters!AI12071","v":1},{"$f":"Parameters!AJ12071","v":1},{"$f":"Parameters!AK12071","v":1},{"$f":"Parameters!AL12071","v":1},{"$f":"Parameters!AM12071","v":1},{"$f":"Parameters!AN12071","v":1},{"$f":"Parameters!AO12071","v":1},{"$f":"Parameters!AP12071","v":1},{"$f":"Parameters!AQ12071","v":1},{"$f":"Parameters!AR12071","v":1},{"$f":"Parameters!AS12071","v":1},{"$f":"Parameters!AT12071","v":1},{"$f":"Parameters!AU12071","v":1},{"$f":"Parameters!AV12071","v":1},{"$f":"Parameters!AW12071","v":1},{"$f":"Parameters!AX12071","v":1},{"$f":"Parameters!AY12071","v":1},{"$f":"Parameters!AZ12071","v":1},{"$f":"Parameters!BA12071","v":1},{"$f":"Parameters!BB12071","v":1},{"$f":"Parameters!BC12071","v":1},{"$f":"Parameters!BD12071","v":1},{"$f":"Parameters!BE12071","v":1},{"$f":"Parameters!BF12071","v":1},{"$f":"Parameters!BG12071","v":1},{"$f":"Parameters!BH12071","v":1},{"$f":"Parameters!BI12071","v":1},{"$f":"Parameters!BJ12071","v":1},{"$f":"Parameters!BK12071","v":1},{"$f":"Parameters!BL12071","v":1},{"$f":"Parameters!BM12071","v":1},{"$f":"Parameters!BN12071","v":1}]
[{"$f":"CONCATENATE(\"[\",SETS!H9,,\",\",SETS!B127,,\",\",\"*\",,\",\",\"*\",\"]:\")","v":"[RE1,TEC124,*,*]:"}]
["S118",{"$f":"Parameters!K12470","v":1},{"$f":"Parameters!L12470","v":1},{"$f":"Parameters!M12470","v":1},{"$f":"Parameters!N12470","v":1},{"$f":"Parameters!O12470","v":1},{"$f":"Parameters!P12470","v":1},{"$f":"Parameters!Q12470","v":1},{"$f":"Parameters!R12470","v":1},{"$f":"Parameters!S12470","v":1},{"$f":"Parameters!T12470","v":1},{"$f":"Parameters!U12470","v":1},{"$f":"Parameters!V12470","v":1},{"$f":"Parameters!W12470","v":1},{"$f":"Parameters!X12470","v":1},{"$f":"Parameters!Y12470","v":1},{"$f":"Parameters!Z12470","v":1},{"$f":"Parameters!AA12470","v":1},{"$f":"Parameters!AB12470","v":1},{"$f":"Parameters!AC12470","v":1},{"$f":"Parameters!AD12470","v":1},{"$f":"Parameters!AE12470","v":1},{"$f":"Parameters!AF12470","v":1},{"$f":"Parameters!AG12470","v":1},{"$f":"Parameters!AH12470","v":1},{"$f":"Parameters!AI12470","v":1},{"$f":"Parameters!AJ12470","v":1},{"$f":"Parameters!AK12470","v":1},{"$f":"Parameters!AL12470","v":1},{"$f":"Parameters!AM12470","v":1},{"$f":"Parameters!AN12470","v":1},{"$f":"Parameters!AO12470","v":1},{"$f":"Parameters!AP12470","v":1},{"$f":"Parameters!AQ12470","v":1},{"$f":"Parameters!AR12470","v":1},{"$f":"Parameters!AS12470","v":1},{"$f":"Parameters!AT12470","v":1},{"$f":"Parameters!AU12470","v":1},{"$f":"Parameters!AV12470","v":1},{"$f":"Parameters!AW12470","v":1},{"$f":"Parameters!AX12470","v":1},{"$f":"Parameters!AY12470","v":1},{"$f":"Parameters!AZ12470","v":1},{"$f":"Parameters!BA12470","v":1},{"$f":"Parameters!BB12470","v":1},{"$f":"Parameters!BC12470","v":1},{"$f":"Parameters!BD12470","v":1},{"$f":"Parameters!BE12470","v":1},{"$f":"Parameters!BF12470","v":1},{"$f":"Parameters!BG12470","v":1},{"$f":"Parameters!BH12470","v":1},{"$f":"Parameters!BI12470","v":1},{"$f":"Parameters!BJ12470","v":1},{"$f":"Parameters!BK12470","v":1},{"$f":"Parameters!BL12470","v":1},{"$f":"Parameters!BM12470","v":1},{"$f":"Parameters!BN12470","v":1}]
["S413",{"$f":"Parameters!K12633","v":1},{"$f":"Parameters!L12633","v":1},{"$f":"Parameters!M12633","v":1},{"$f":"Parameters!N12633","v":1},{"$f":"Parameters!O12633","v":1},{"$f":"Parameters!P12633","v":1},{"$f":"Parameters!Q12633","v":1},{"$f":"Parameters!R12633","v":1},{"$f":"Parameters!S12633","v":1},{"$f":"Parameters!T12633","v":1},{"$f":"Parameters!U12633","v":1},{"$f":"Parameters!V12633","v":1},{"$f":"Parameters!W12633","v":1},{"$f":"Parameters!X12633","v":1},{"$f":"Parameters!Y12633","v":1},{"$f":"Parameters!Z12633","v":1},{"$f":"Parameters!AA12633","v":1},{"$f":"Parameters!AB12633","v":1},{"$f":"Parameters!AC12633","v":1},{"$f":"Parameters!AD12633","v":1},{"$f":"Parameters!AE12633","v":1},{"$f":"Parameters!AF12633","v":1},{"$f":"Parameters!AG12633","v":1},{"$f":"Parameters!AH12633","v":1},{"$f":"Parameters!AI12633","v":1},{"$f":"Parameters!AJ12633","v":1},{"$f":"Parameters!AK12633","v":1},{"$f":"Parameters!AL12633","v":1},{"$f":"Parameters!AM12633","v":1},{"$f":"Parameters!AN12633","v":1},{"$f":"Parameters!AO12633","v":1},{"$f":"Parameters!AP12633","v":1},{"$f":"Parameters!AQ12633","v":1},{"$f":"Parameters!AR12633","v":1},{"$f":"Parameters!AS12633","v":1},{"$f":"Parameters!AT12633","v":1},{"$f":"Parameters!AU12633","v":1},{"$f":"Parameters!AV12633","v":1},{"$f":"Parameters!AW12633","v":1},{"$f":"Parameters!AX12633","v":1},{"$f":"Parameters!AY12633","v":1},{"$f":"Parameters!AZ12633","v":1},{"$f":"Parameters!BA12633","v":1},{"$f":"Parameters!BB12633","v":1},{"$f":"Parameters!BC12633","v":1},{"$f":"Parameters!BD12633","v":1},{"$f":"Parameters!BE12633","v":1},{"$f":"Parameters!BF12633","v":1},{"$f":"Parameters!BG12633","v":1},{"$f":"Parameters!BH12633","v":1},{"$f":"Parameters!BI12633","v":1},{"$f":"Parameters!BJ12633","v":1},{"$f":"Parameters!BK12633","v":1},{"$f":"Parameters!BL12633","v":1},{"$f":"Parameters!BM12633","v":1},{"$f":"Parameters!BN12633","v":1}]
["S401",{"$f":"Parameters!K12813","v":1},{"$f":"Parameters!L12813","v":1},{"$f":"Parameters!M12813","v":1},{"$f":"Parameters!N12813","v":1},{"$f":"Parameters!O12813","v":1},{"$f":"Parameters!P12813","v":1},{"$f":"Parameters!Q12813","v":1},{"$f":"Parameters!R12813","v":1},{"$f":"Parameters!S12813","v":1},{"$f":"Parameters!T12813","v":1},{"$f":"Parameters!U12813","v":1},{"$f":"Parameters!V12813","v":1},{"$f":"Parameters!W12813","v":1},{"$f":"Parameters!X12813","v":1},{"$f":"Parameters!Y12813","v":1},{"$f":"Parameters!Z12813","v":1},{"$f":"Parameters!AA12813","v":1},{"$f":"Parameters!AB12813","v":1},{"$f":"Parameters!AC12813","v":1},{"$f":"Parameters!AD12813","v":1},{"$f":"Parameters!AE12813","v":1},{"$f":"Parameters!AF12813","v":1},{"$f":"Parameters!AG12813","v":1},{"$f":"Parameters!AH12813","v":1},{"$f":"Parameters!AI12813","v":1},{"$f":"Parameters!AJ12813","v":1},{"$f":"Parameters!AK12813","v":1},{"$f":"Parameters!AL12813","v":1},{"$f":"Parameters!AM12813","v":1},{"$f":"Parameters!AN12813","v":1},{"$f":"Parameters!AO12813","v":1},{"$f":"Parameters!AP12813","v":1},{"$f":"Parameters!AQ12813","v":1},{"$f":"Parameters!AR12813","v":1},{"$f":"Parameters!AS12813","v":1},{"$f":"Parameters!AT12813","v":1},{"$f":"Parameters!AU12813","v":1},{"$f":"Parameters!AV12813","v":1},{"$f":"Parameters!AW12813","v":1},{"$f":"Parameters!AX12813","v":1},{"$f":"Parameters!AY12813","v":1},{"$f":"Parameters!AZ12813","v":1},{"$f":"Parameters!BA12813","v":1},{"$f":"Parameters!BB12813","v":1},{"$f":"Parameters!BC12813","v":1},{"$f":"Parameters!BD12813","v":1},{"$f":"Parameters!BE12813","v":1},{"$f":"Parameters!BF12813","v":1},{"$f":"Parameters!BG12813","v":1},{"$f":"Parameters!BH12813","v":1},{"$f":"Parameters!BI12813","v":1},{"$f":"Parameters!BJ12813","v":1},{"$f":"Parameters!BK12813","v":1},{"$f":"Parameters!BL12813","v":1},{"$f":"Parameters!BM12813","v":1},{"$f":"Parameters!BN12813","v":1}]
["S118",{"$f":"Parameters!K12854","v":1},{"$f":"Parameters!L12854","v":1},{"$f":"Parameters!M12854","v":1},{"$f":"Parameters!N12854","v":1},{"$f":"Parameters!O12854","v":1},{"$f":"Parameters!P12854","v":1},{"$f":"Parameters!Q12854","v":1},{"$f":"Parameters!R12854","v":1},{"$f":"Parameters!S12854","v":1},{"$f":"Parameters!T12854","v":1},{"$f":"Parameters!U12854","v":1},{"$f":"Parameters!V12854","v":1},{"$f":"Parameters!W12854","v":1},{"$f":"Parameters!X12854","v":1},{"$f":"Parameters!Y12854","v":1},{"$f":"Parameters!Z12854","v":1},{"$f":"Parameters!AA12854","v":1},{"$f":"Parameters!AB12854","v":1},{"$f":"Parameters!AC12854","v":1},{"$f":"Parameters!AD12854","v":1},{"$f":"Parameters!AE12854","v":1},{"$f":"Parameters!AF12854","v":1},{"$f":"Parameters!AG12854","v":1},{"$f":"Parameters!AH12854","v":1},{"$f":"Parameters!AI12854","v":1},{"$f":"Parameters!AJ12854","v":1},{"$f":"Parameters!AK12854","v":1},{"$f":"Parameters!AL12854","v":1},{"$f":"Parameters!AM12854","v":1},{"$f":"Parameters!AN12854","v":1},{"$f":"Parameters!AO12854","v":1},{"$f":"Parameters!AP12854","v":1},{"$f":"Parameters!AQ12854","v":1},{"$f":"Parameters!AR12854","v":1},{"$f":"Parameters!AS12854","v":1},{"$f":"Parameters!AT12854","v":1},{"$f":"Parameters!AU12854","v":1},{"$f":"Parameters!AV12854","v":1},{"$f":"Parameters!AW12854","v":1},{"$f":"Parameters!AX12854","v":1},{"$f":"Parameters!AY12854","v":1},{"$f":"Parameters!AZ12854","v":1},{"$f":"Parameters!BA12854","v":1},{"$f":"Parameters!BB12854","v":1},{"$f":"Parameters!BC12854","v":1},{"$f":"Parameters!BD12854","v":1},{"$f":"Parameters!BE12854","v":1},{"$f":"Parameters!BF12854","v":1},{"$f":"Parameters!BG12854","v":1},{"$f":"Parameters!BH12854","v":1},{"$f":"Parameters!BI12854","v":1},{"$f":"Parameters!BJ12854","v":1},{"$f":"Parameters!BK12854","v":1},{"$f":"Parameters!BL12854","v":1},{"$f":"Parameters!BM12854","v":1},{"$f":"Parameters!BN12854","v":1}]
["S107",{"$f":"Parameters!K13131","v":1},{"$f":"Parameters!L13131","v":1},{"$f":"Parameters!M13131","v":1},{"$f":"Parameters!N13131","v":1},{"$f":"Parameters!O13131","v":1},{"$f":"Parameters!P13131","v":1},{"$f":"Parameters!Q13131","v":1},{"$f":"Parameters!R13131","v":1},{"$f":"Parameters!S13131","v":1},{"$f":"Parameters!T13131","v":1},{"$f":"Parameters!U13131","v":1},{"$f":"Parameters!V13131","v":1},{"$f":"Parameters!W13131","v":1},{"$f":"Parameters!X13131","v":1},{"$f":"Parameters!Y13131","v":1},{"$f":"Parameters!Z13131","v":1},{"$f":"Parameters!AA13131","v":1},{"$f":"Parameters!AB13131","v":1},{"$f":"Parameters!AC13131","v":1},{"$f":"Parameters!AD13131","v":1},{"$f":"Parameters!AE13131","v":1},{"$f":"Parameters!AF13131","v":1},{"$f":"Parameters!AG13131","v":1},{"$f":"Parameters!AH13131","v":1},{"$f":"Parameters!AI13131","v":1},{"$f":"Parameters!AJ13131","v":1},{"$f":"Parameters!AK13131","v":1},{"$f":"Parameters!AL13131","v":1},{"$f":"Parameters!AM13131","v":1},{"$f":"Parameters!AN13131","v":1},{"$f":"Parameters!AO13131","v":1},{"$f":"Parameters!AP13131","v":1},{"$f":"Parameters!AQ13131","v":1},{"$f":"Parameters!AR13131","v":1},{"$f":"Parameters!AS13131","v":1},{"$f":"Parameters!AT13131","v":1},{"$f":"Parameters!AU13131","v":1},{"$f":"Parameters!AV13131","v":1},{"$f":"Parameters!AW13131","v":1},{"$f":"Parameters!AX13131","v":1},{"$f":"Parameters!AY13131","v":1},{"$f":"Parameters!AZ13131","v":1},{"$f":"Parameters!BA13131","v":1},{"$f":"Parameters!BB13131","v":1},{"$f":"Parameters!BC13131","v":1},{"$f":"Parameters!BD13131","v":1},{"$f":"Parameters!BE13131","v":1},{"$f":"Parameters!BF13131","v":1},{"$f":"Parameters!BG13131","v":1},{"$f":"Parameters!BH13131","v":1},{"$f":"Parameters!BI13131","v":1},{"$f":"Parameters!BJ13131","v":1},{"$f":"Parameters!BK13131","v":1},{"$f":"Parameters!BL13131","v":1},{"$f":"Parameters!BM13131","v":1},{"$f":"Parameters!BN13131","v":1}]
["S209",{"$f":"Parameters!K13253","v":1},{"$f":"Parameters!L13253","v":1},{"$f":"Parameters!M13253","v":1},{"$f":"Parameters!N13253","v":1},{"$f":"Parameters!O13253","v":1},{"$f":"Parameters!P13253","v":1},{"$f":"Parameters!Q13253","v":1},{"$f":"Parameters!R13253","v":1},{"$f":"Parameters!S13253","v":1},{"$f":"Parameters!T13253","v":1},{"$f":"Parameters!U13253","v":1},{"$f":"Parameters!V13253","v":1},{"$f":"Parameters!W13253","v":1},{"$f":"Parameters!X13253","v":1},{"$f":"Parameters!Y13253","v":1},{"$f":"Parameters!Z13253","v":1},{"$f":"Parameters!AA13253","v":1},{"$f":"Parameters!AB13253","v":1},{"$f":"Parameters!AC13253","v":1},{"$f":"Parameters!AD13253","v":1},{"$f":"Parameters!AE13253","v":1},{"$f":"Parameters!AF13253","v":1},{"$f":"Parameters!AG13253","v":1},{"$f":"Parameters!AH13253","v":1},{"$f":"Parameters!AI13253","v":1},{"$f":"Parameters!AJ13253","v":1},{"$f":"Parameters!AK13253","v":1},{"$f":"Parameters!AL13253","v":1},{"$f":"Parameters!AM13253","v":1},{"$f":"Parameters!AN13253","v":1},{"$f":"Parameters!AO13253","v":1},{"$f":"Parameters!AP13253","v":1},{"$f":"Parameters!AQ13253","v":1},{"$f":"Parameters!AR13253","v":1},{"$f":"Parameters!AS13253","v":1},{"$f":"Parameters!AT13253","v":1},{"$f":"Parameters!AU13253","v":1},{"$f":"Parameters!AV13253","v":1},{"$f":"Parameters!AW13253","v":1},{"$f":"Parameters!AX13253","v":1},{"$f":"Parameters!AY13253","v":1},{"$f":"Parameters!AZ13253","v":1},{"$f":"Parameters!BA13253","v":1},{"$f":"Parameters!BB13253","v":1},{"$f":"Parameters!BC13253","v":1},{"$f":"Parameters!BD13253","v":1},{"$f":"Parameters!BE13253","v":1},{"$f":"Parameters!BF13253","v":1},{"$f":"Parameters!BG13253","v":1},{"$f":"Parameters!BH13253","v":1},{"$f":"Parameters!BI13253","v":1},{"$f":"Parameters!BJ13253","v":1},{"$f":"Parameters!BK13253","v":1},{"$f":"Parameters!BL13253","v":1},{"$f":"Parameters!BM13253","v":1},{"$f":"Parameters!BN13253","v":1}]
["S102",{"$f":"Parameters!K13414","v":1},{"$f":"Parameters!L13414","v":1},{"$f":"Parameters!M13414","v":1},{"$f":"Parameters!N13414","v":1},{"$f":"Parameters!O13414","v":1},{"$f":"Parameters!P13414","v":1},{"$f":"Parameters!Q13414","v":1},{"$f":"Parameters!R13414","v":1},{"$f":"Parameters!S13414","v":1},{"$f":"Parameters!T13414","v":1},{"$f":"Parameters!U13414","v":1},{"$f":"Parameters!V13414","v":1},{"$f":"Parameters!W13414","v":1},{"$f":"Parameters!X13414","v":1},{"$f":"Parameters!Y13414","v":1},{"$f":"Parameters!Z13414","v":1},{"$f":"Parameters!AA13414","v":1},{"$f":"Parameters!AB13414","v":1},{"$f":"Parameters!AC13414","v":1},{"$f":"Parameters!AD13414","v":1},{"$f":"Parameters!AE13414","v":1},{"$f":"Parameters!AF13414","v":1},{"$f":"Parameters!AG13414","v":1},{"$f":"Parameters!AH13414","v":1},{"$f":"Parameters!AI13414","v":1},{"$f":"Parameters!AJ13414","v":1},{"$f":"Parameters!AK13414","v":1},{"$f":"Parameters!AL13414","v":1},{"$f":"Parameters!AM13414","v":1},{"$f":"Parameters!AN13414","v":1},{"$f":"Parameters!AO13414","v":1},{"$f":"Parameters!AP13414","v":1},{"$f":"Parameters!AQ13414","v":1},{"$f":"Parameters!AR13414","v":1},{"$f":"Parameters!AS13414","v":1},{"$f":"Parameters!AT13414","v":1},{"$f":"Parameters!AU13414","v":1},{"$f":"Parameters!AV13414","v":1},{"$f":"Parameters!AW13414","v":1},{"$f":"Parameters!AX13414","v":1},{"$f":"Parameters!AY13414","v":1},{"$f":"Parameters!AZ13414","v":1},{"$f":"Parameters!BA13414","v":1},{"$f":"Parameters!BB13414","v":1},{"$f":"Parameters!BC13414","v":1},{"$f":"Parameters!BD13414","v":1},{"$f":"Parameters!BE13414","v":1},{"$f":"Parameters!BF13414","v":1},{"$f":"Parameters!BG13414","v":1},{"$f":"Parameters!BH13414","v":1},{"$f":"Parameters!BI13414","v":1},{"$f":"Parameters!BJ13414","v":1},{"$f":"Parameters!BK13414","v":1},{"$f":"Parameters!BL13414","v":1},{"$f":"Parameters!BM13414","v":1},{"$f":"Parameters!BN13414","v":1}]
["S424",{"$f":"Parameters!K13604","v":1},{"$f":"Parameters!L13604","v":1},{"$f":"Parameters!M13604","v":1},{"$f":"Parameters!N13604","v":1},{"$f":"Parameters!O13604","v":1},{"$f":"Parameters!P13604","v":1},{"$f":"Parameters!Q13604","v":1},{"$f":"Parameters!R13604","v":1},{"$f":"Parameters!S13604","v":1},{"$f":"Parameters!T13604","v":1},{"$f":"Parameters!U13604","v":1},{"$f":"Parameters!V13604","v":1},{"$f":"Parameters!W13604","v":1},{"$f":"Parameters!X13604","v":1},{"$f":"Parameters!Y13604","v":1},{"$f":"Parameters!Z13604","v":1},{"$f":"Parameters!AA13604","v":1},{"$f":"Parameters!AB13604","v":1},{"$f":"Parameters!AC13604","v":1},{"$f":"Parameters!AD13604","v":1},{"$f":"Parameters!AE13604","v":1},{"$f":"Parameters!AF13604","v":1},{"$f":"Parameters!AG13604","v":1},{"$f":"Parameters!AH13604","v":1},{"$f":"Parameters!AI13604","v":1},{"$f":"Parameters!AJ13604","v":1},{"$f":"Parameters!AK13604","v":1},{"$f":"Parameters!AL13604","v":1},{"$f":"Parameters!AM13604","v":1},{"$f":"Parameters!AN13604","v":1},{"$f":"Parameters!AO13604","v":1},{"$f":"Parameters!AP13604","v":1},{"$f":"Parameters!AQ13604","v":1},{"$f":"Parameters!AR13604","v":1},{"$f":"Parameters!AS13604","v":1},{"$f":"Parameters!AT13604","v":1},{"$f":"Parameters!AU13604","v":1},{"$f":"Parameters!AV13604","v":1},{"$f":"Parameters!AW13604","v":1},{"$f":"Parameters!AX13604","v":1},{"$f":"Parameters!AY13604","v":1},{"$f":"Parameters!AZ13604","v":1},{"$f":"Parameters!BA13604","v":1},{"$f":"Parameters!BB13604","v":1},{"$f":"Parameters!BC13604","v":1},{"$f":"Parameters!BD13604","v":1},{"$f":"Parameters!BE13604","v":1},{"$f":"Parameters!BF13604","v":1},{"$f":"Parameters!BG13604","v":1},{"$f":"Parameters!BH13604","v":1},{"$f":"Parameters!BI13604","v":1},{"$f":"Parameters!BJ13604","v":1},{"$f":"Parameters!BK13604","v":1},{"$f":"Parameters!BL13604","v":1},{"$f":"Parameters!BM13604","v":1},{"$f":"Parameters!BN13604","v":1}]
["S117",{"$f":"Parameters!K13813","v":1},{"$f":"Parameters!L13813","v":1},{"$f":"Parameters!M13813","v":1},{"$f":"Parameters!N13813","v":1},{"$f":"Parameters!O13813","v":1},{"$f":"Parameters!P13813","v":1},{"$f":"Parameters!Q13813","v":1},{"$f":"Parameters!R13813","v":1},{"$f":"Parameters!S13813","v":1},{"$f":"Parameters!T13813","v":1},{"$f":"Parameters!U13813","v":1},{"$f":"Parameters!V13813","v":1},{"$f":"Parameters!W13813","v":1},{"$f":"Parameters!X13813","v":1},{"$f":"Parameters!Y13813","v":1},{"$f":"Parameters!Z13813","v":1},{"$f":"Parameters!AA13813","v":1},{"$f":"Parameters!AB13813","v":1},{"$f":"Parameters!AC13813","v":1},{"$f":"Parameters!AD13813","v":1},{"$f":"Parameters!AE13813","v":1},{"$f":"Parameters!AF13813","v":1},{"$f":"Parameters!AG13813","v":1},{"$f":"Parameters!AH13813","v":1},{"$f":"Parameters!AI13813","v":1},{"$f":"Parameters!AJ13813","v":1},{"$f":"Parameters!AK13813","v":1},{"$f":"Parameters!AL13813","v":1},{"$f":"Parameters!AM13813","v":1},{"$f":"Parameters!AN13813","v":1},{"$f":"Parameters!AO13813","v":1},{"$f":"Parameters!AP13813","v":1},{"$f":"Parameters!AQ13813","v":1},{"$f":"Parameters!AR13813","v":1},{"$f":"Parameters!AS13813","v":1},{"$f":"Parameters!AT13813","v":1},{"$f":"Parameters!AU13813","v":1},{"$f":"Parameters!AV13813","v":1},{"$f":"Parameters!AW13813","v":1},{"$f":"Parameters!AX13813","v":1},{"$f":"Parameters!AY13813","v":1},{"$f":"Parameters!AZ13813","v":1},{"$f":"Parameters!BA13813","v":1},{"$f":"Parameters!BB13813","v":1},{"$f":"Parameters!BC13813","v":1},{"$f":"Parameters!BD13813","v":1},{"$f":"Parameters!BE13813","v":1},{"$f":"Parameters!BF13813","v":1},{"$f":"Parameters!BG13813","v":1},{"$f":"Parameters!BH13813","v":1},{"$f":"Parameters!BI13813","v":1},{"$f":"Parameters!BJ13813","v":1},{"$f":"Parameters!BK13813","v":1},{"$f":"Parameters!BL13813","v":1},{"$f":"Parameters!BM13813","v":1},{"$f":"Parameters!BN13813","v":1}]
["S206",{"$f":"Parameters!K13922","v":1},{"$f":"Parameters!L13922","v":1},{"$f":"Parameters!M13922","v":1},{"$f":"Parameters!N13922","v":1},{"$f":"Parameters!O13922","v":1},{"$f":"Parameters!P13922","v":1},{"$f":"Parameters!Q13922","v":1},{"$f":"Parameters!R13922","v":1},{"$f":"Parameters!S13922","v":1},{"$f":"Parameters!T13922","v":1},{"$f":"Parameters!U13922","v":1},{"$f":"Parameters!V13922","v":1},{"$f":"Parameters!W13922","v":1},{"$f":"Parameters!X13922","v":1},{"$f":"Parameters!Y13922","v":1},{"$f":"Parameters!Z13922","v":1},{"$f":"Parameters!AA13922","v":1},{"$f":"Parameters!AB13922","v":1},{"$f":"Parameters!AC13922","v":1},{"$f":"Parameters!AD13922","v":1},{"$f":"Parameters!AE13922","v":1},{"$f":"Parameters!AF13922","v":1},{"$f":"Parameters!AG13922","v":1},{"$f":"Parameters!AH13922","v":1},{"$f":"Parameters!AI13922","v":1},{"$f":"Parameters!AJ13922","v":1},{"$f":"Parameters!AK13922","v":1},{"$f":"Parameters!AL13922","v":1},{"$f":"Parameters!AM13922","v":1},{"$f":"Parameters!AN13922","v":1},{"$f":"Parameters!AO13922","v":1},{"$f":"Parameters!AP13922","v":1},{"$f":"Parameters!AQ13922","v":1},{"$f":"Parameters!AR13922","v":1},{"$f":"Parameters!AS13922","v":1},{"$f":"Parameters!AT13922","v":1},{"$f":"Parameters!AU13922","v":1},{"$f":"Parameters!AV13922","v":1},{"$f":"Parameters!AW13922","v":1},{"$f":"Parameters!AX13922","v":1},{"$f":"Parameters!AY13922","v":1},{"$f":"Parameters!AZ13922","v":1},{"$f":"Parameters!BA13922","v":1},{"$f":"Parameters!BB13922","v":1},{"$f":"Parameters!BC13922","v":1},{"$f":"Parameters!BD13922","v":1},{"$f":"Parameters!BE13922","v":1},{"$f":"Parameters!BF13922","v":1},{"$f":"Parameters!BG13922","v":1},{"$f":"Parameters!BH13922","v":1},{"$f":"Parameters!BI13922","v":1},{"$f":"Parameters!BJ13922","v":1},{"$f":"Parameters!BK13922","v":1},{"$f":"Parameters!BL13922","v":1},{"$f":"Parameters!BM13922","v":1},{"$f":"Parameters!BN13922","v":1}]
["S208",{"$f":"Parameters!K14212","v":1},{"$f":"Parameters!L14212","v":1},{"$f":"Parameters!M14212","v":1},{"$f":"Parameters!N14212","v":1},{"$f":"Parameters!O14212","v":1},{"$f":"Parameters!P14212","v":1},{"$f":"Parameters!Q14212","v":1},{"$f":"Parameters!R14212","v":1},{"$f":"Parameters!S14212","v":1},{"$f":"Parameters!T14212","v":1},{"$f":"Parameters!U14212","v":1},{"$f":"Parameters!V14212","v":1},{"$f":"Parameters!W14212","v":1},{"$f":"Parameters!X14212","v":1},{"$f":"Parameters!Y14212","v":1},{"$f":"Parameters!Z14212","v":1},{"$f":"Parameters!AA14212","v":1},{"$f":"Parameters!AB14212","v":1},{"$f":"Parameters!AC14212","v":1},{"$f":"Parameters!AD14212","v":1},{"$f":"Parameters!AE14212","v":1},{"$f":"Parameters!AF14212","v":1},{"$f":"Parameters!AG14212","v":1},{"$f":"Parameters!AH14212","v":1},{"$f":"Parameters!AI14212","v":1},{"$f":"Parameters!AJ14212","v":1},{"$f":"Parameters!AK14212","v":1},{"$f":"Parameters!AL14212","v":1},{"$f":"Parameters!AM14212","v":1},{"$f":"Parameters!AN14212","v":1},{"$f":"Parameters!AO14212","v":1},{"$f":"Parameters!AP14212","v":1},{"$f":"Parameters!AQ14212","v":1},{"$f":"Parameters!AR14212","v":1},{"$f":"Parameters!AS14212","v":1},{"$f":"Parameters!AT14212","v":1},{"$f":"Parameters!AU14212","v":1},{"$f":"Parameters!AV14212","v":1},{"$f":"Parameters!AW14212","v":1},{"$f":"Parameters!AX14212","v":1},{"$f":"Parameters!AY14212","v":1},{"$f":"Parameters!AZ14212","v":1},{"$f":"Parameters!BA14212","v":1},{"$f":"Parameters!BB14212","v":1},{"$f":"Parameters!BC14212","v":1},{"$f":"Parameters!BD14212","v":1},{"$f":"Parameters!BE14212","v":1},{"$f":"Parameters!BF14212","v":1},{"$f":"Parameters!BG14212","v":1},{"$f":"Parameters!BH14212","v":1},{"$f":"Parameters!BI14212","v":1},{"$f":"Parameters!BJ14212","v":1},{"$f":"Parameters!BK14212","v":1},{"$f":"Parameters!BL14212","v":1},{"$f":"Parameters!BM14212","v":1},{"$f":"Parameters!BN14212","v":1}]
["S208",{"$f":"Parameters!K14404","v":1},{"$f":"Parameters!L14404","v":1},{"$f":"Parameters!M14404","v":1},{"$f":"Parameters!N14404","v":1},{"$f":"Parameters!O14404","v":1},{"$f":"Parameters!P14404","v":1},{"$f":"Parameters!Q14404","v":1},{"$f":"Parameters!R14404","v":1},{"$f":"Parameters!S14404","v":1},{"$f":"Parameters!T14404","v":1},{"$f":"Parameters!U14404","v":1},{"$f":"Parameters!V14404","v":1},{"$f":"Parameters!W14404","v":1},{"$f":"Parameters!X14404","v":1},{"$f":"Parameters!Y14404","v":1},{"$f":"Parameters!Z14404","v":1},{"$f":"Parameters!AA14404","v":1},{"$f":"Parameters!AB14404","v":1},{"$f":"Parameters!AC14404","v":1},{"$f":"Parameters!AD14404","v":1},{"$f":"Parameters!AE14404","v":1},{"$f":"Parameters!AF14404","v":1},{"$f":"Parameters!AG14404","v":1},{"$f":"Parameters!AH14404","v":1},{"$f":"Parameters!AI14404","v":1},{"$f":"Parameters!AJ14404","v":1},{"$f":"Parameters!AK14404","v":1},{"$f":"Parameters!AL14404","v":1},{"$f":"Parameters!AM14404","v":1},{"$f":"Parameters!AN14404","v":1},{"$f":"Parameters!AO14404","v":1},{"$f":"Parameters!AP14404","v":1},{"$f":"Parameters!AQ14404","v":1},{"$f":"Parameters!AR14404","v":1},{"$f":"Parameters!AS14404","v":1},{"$f":"Parameters!AT14404","v":1},{"$f":"Parameters!AU14404","v":1},{"$f":"Parameters!AV14404","v":1},{"$f":"Parameters!AW14404","v":1},{"$f":"Parameters!AX14404","v":1},{"$f":"Parameters!AY14404","v":1},{"$f":"Parameters!AZ14404","v":1},{"$f":"Parameters!BA14404","v":1},{"$f":"Parameters!BB14404","v":1},{"$f":"Parameters!BC14404","v":1},{"$f":"Parameters!BD14404","v":1},{"$f":"Parameters!BE14404","v":1},{"$f":"Parameters!BF14404","v":1},{"$f":"Parameters!BG14404","v":1},{"$f":"Parameters!BH14404","v":1},{"$f":"Parameters!BI14404","v":1},{"$f":"Parameters!BJ14404","v":1},{"$f":"Parameters!BK14404","v":1},{"$f":"Parameters!BL14404","v":1},{"$f":"Parameters!BM14404","v":1},{"$f":"Parameters!BN14404","v":1}]
["S315",{"$f":"Parameters!K14435","v":1},{"$f":"Parameters!L14435","v":1},{"$f":"Parameters!M14435","v":1},{"$f":"Parameters!N14435","v":1},{"$f":"Parameters!O14435","v":1},{"$f":"Parameters!P14435","v":1},{"$f":"Parameters!Q14435","v":1},{"$f":"Parameters!R14435","v":1},{"$f":"Parameters!S14435","v":1},{"$f":"Parameters!T14435","v":1},{"$f":"Parameters!U14435","v":1},{"$f":"Parameters!V14435","v":1},{"$f":"Parameters!W14435","v":1},{"$f":"Parameters!X14435","v":1},{"$f":"Parameters!Y14435","v":1},{"$f":"Parameters!Z14435","v":1},{"$f":"Parameters!AA14435","v":1},{"$f":"Parameters!AB14435","v":1},{"$f":"Parameters!AC14435","v":1},{"$f":"Parameters!AD14435","v":1},{"$f":"Parameters!AE14435","v":1},{"$f":"Parameters!AF14435","v":1},{"$f":"Parameters!AG14435","v":1},{"$f":"Parameters!AH14435","v":1},{"$f":"Parameters!AI14435","v":1},{"$f":"Parameters!AJ14435","v":1},{"$f":"Parameters!AK14435","v":1},{"$f":"Parameters!AL14435","v":1},{"$f":"Parameters!AM14435","v":1},{"$f":"Parameters!AN14435","v":1},{"$f":"Parameters!AO14435","v":1},{"$f":"Parameters!AP14435","v":1},{"$f":"Parameters!AQ14435","v":1},{"$f":"Parameters!AR14435","v":1},{"$f":"Parameters!AS14435","v":1},{"$f":"Parameters!AT14435","v":1},{"$f":"Parameters!AU14435","v":1},{"$f":"Parameters!AV14435","v":1},{"$f":"Parameters!AW14435","v":1},{"$f":"Parameters!AX14435","v":1},{"$f":"Parameters!AY14435","v":1},{"$f":"Parameters!AZ14435","v":1},{"$f":"Parameters!BA14435","v":1},{"$f":"Parameters!BB14435","v":1},{"$f":"Parameters!BC14435","v":1},{"$f":"Parameters!BD14435","v":1},{"$f":"Parameters!BE14435","v":1},{"$f":"Parameters!BF14435","v":1},{"$f":"Parameters!BG14435","v":1},{"$f":"Parameters!BH14435","v":1},{"$f":"Parameters!BI14435","v":1},{"$f":"Parameters!BJ14435","v":1},{"$f":"Parameters!BK14435","v":1},{"$f":"Parameters!BL14435","v":1},{"$f":"Parameters!BM14435","v":1},{"$f":"Parameters!BN14435","v":1}]
["S208",{"$f":"Parameters!K14596","v":1},{"$f":"Parameters!L14596","v":1},{"$f":"Parameters!M14596","v":1},{"$f":"Parameters!N14596","v":1},{"$f":"Parameters!O14596","v":1},{"$f":"Parameters!P14596","v":1},{"$f":"Parameters!Q14596","v":1},{"$f":"Parameters!R14596","v":1},{"$f":"Parameters!S14596","v":1},{"$f":"Parameters!T14596","v":1},{"$f":"Parameters!U14596","v":1},{"$f":"Parameters!V14596","v":1},{"$f":"Parameters!W14596","v":1},{"$f":"Parameters!X14596","v":1},{"$f":"Parameters!Y14596","v":1},{"$f":"Parameters!Z14596","v":1},{"$f":"Parameters!AA14596","v":1},{"$f":"Parameters!AB14596","v":1},{"$f":"Parameters!AC14596","v":1},{"$f":"Parameters!AD14596","v":1},{"$f":"Parameters!AE14596","v":1},{"$f":"Parameters!AF14596","v":1},{"$f":"Parameters!AG14596","v":1},{"$f":"Parameters!AH14596","v":1},{"$f":"Parameters!AI14596","v":1},{"$f":"Parameters!AJ14596","v":1},{"$f":"Parameters!AK14596","v":1},{"$f":"Parameters!AL14596","v":1},{"$f":"Parameters!AM14596","v":1},{"$f":"Parameters!AN14596","v":1},{"$f":"Parameters!AO14596","v":1},{"$f":"Parameters!AP14596","v":1},{"$f":"Parameters!AQ14596","v":1},{"$f":"Parameters!AR14596","v":1},{"$f":"Parameters!AS14596","v":1},{"$f":"Parameters!AT14596","v":1},{"$f":"Parameters!AU14596","v":1},{"$f":"Parameters!AV14596","v":1},{"$f":"Parameters!AW14596","v":1},{"$f":"Parameters!AX14596","v":1},{"$f":"Parameters!AY14596","v":1},{"$f":"Parameters!AZ14596","v":1},{"$f":"Parameters!BA14596","v":1},{"$f":"Parameters!BB14596","v":1},{"$f":"Parameters!BC14596","v":1},{"$f":"Parameters!BD14596","v":1},{"$f":"Parameters!BE14596","v":1},{"$f":"Parameters!BF14596","v":1},{"$f":"Parameters!BG14596","v":1},{"$f":"Parameters!BH14596","v":1},{"$f":"Parameters!BI14596","v":1},{"$f":"Parameters!BJ14596","v":1},{"$f":"Parameters!BK14596","v":1},{"$f":"Parameters!BL14596","v":1},{"$f":"Parameters!BM14596","v":1},{"$f":"Parameters!BN14596","v":1}]
["S123",{"$f":"Parameters!K14875","v":1},{"$f":"Parameters!L14875","v":1},{"$f":"Parameters!M14875","v":1},{"$f":"Parameters!N14875","v":1},{"$f":"Parameters!O14875","v":1},{"$f":"Parameters!P14875","v":1},{"$f":"Parameters!Q14875","v":1},{"$f":"Parameters!R14875","v":1},{"$f":"Parameters!S14875","v":1},{"$f":"Parameters!T14875","v":1},{"$f":"Parameters!U14875","v":1},{"$f":"Parameters!V14875","v":1},{"$f":"Parameters!W14875","v":1},{"$f":"Parameters!X14875","v":1},{"$f":"Parameters!Y14875","v":1},{"$f":"Parameters!Z14875","v":1},{"$f":"Parameters!AA14875","v":1},{"$f":"Parameters!AB14875","v":1},{"$f":"Parameters!AC14875","v":1},{"$f":"Parameters!AD14875","v":1},{"$f":"Parameters!AE14875","v":1},{"$f":"Parameters!AF14875","v":1},{"$f":"Parameters!AG14875","v":1},{"$f":"Parameters!AH14875","v":1},{"$f":"Parameters!AI14875","v":1},{"$f":"Parameters!AJ14875","v":1},{"$f":"Parameters!AK14875","v":1},{"$f":"Parameters!AL14875","v":1},{"$f":"Parameters!AM14875","v":1},{"$f":"Parameters!AN14875","v":1},{"$f":"Parameters!AO14875","v":1},{"$f":"Parameters!AP14875","v":1},{"$f":"Parameters!AQ14875","v":1},{"$f":"Parameters!AR14875","v":1},{"$f":"Parameters!AS14875","v":1},{"$f":"Parameters!AT14875","v":1},{"$f":"Parameters!AU14875","v":1},{"$f":"Parameters!AV14875","v":1},{"$f":"Parameters!AW14875","v":1},{"$f":"Parameters!AX14875","v":1},{"$f":"Parameters!AY14875","v":1},{"$f":"Parameters!AZ14875","v":1},{"$f":"Parameters!BA14875","v":1},{"$f":"Parameters!BB14875","v":1},{"$f":"Parameters!BC14875","v":1},{"$f":"Parameters!BD14875","v":1},{"$f":"Parameters!BE14875","v":1},{"$f":"Parameters!BF14875","v":1},{"$f":"Parameters!BG14875","v":1},{"$f":"Parameters!BH14875","v":1},{"$f":"Parameters!BI14875","v":1},{"$f":"Parameters!BJ14875","v":1},{"$f":"Parameters!BK14875","v":1},{"$f":"Parameters!BL14875","v":1},{"$f":"Parameters!BM14875","v":1},{"$f":"Parameters!BN14875","v":1}]
["S223",{"$f":"Parameters!K14995","v":1},{"$f":"Parameters!L14995","v":1},{"$f":"Parameters!M14995","v":1},{"$f":"Parameters!N14995","v":1},{"$f":"Parameters!O14995","v":1},{"$f":"Parameters!P14995","v":1},{"$f":"Parameters!Q14995","v":1},{"$f":"Parameters!R14995","v":1},{"$f":"Parameters!S14995","v":1},{"$f":"Parameters!T14995","v":1},{"$f":"Parameters!U14995","v":1},{"$f":"Parameters!V14995","v":1},{"$f":"Parameters!W14995","v":1},{"$f":"Parameters!X14995","v":1},{"$f":"Parameters!Y14995","v":1},{"$f":"Parameters!Z14995","v":1},{"$f":"Parameters!AA14995","v":1},{"$f":"Parameters!AB14995","v":1},{"$f":"Parameters!AC14995","v":1},{"$f":"Parameters!AD14995","v":1},{"$f":"Parameters!AE14995","v":1},{"$f":"Parameters!AF14995","v":1},{"$f":"Parameters!AG14995","v":1},{"$f":"Parameters!AH14995","v":1},{"$f":"Parameters!AI14995","v":1},{"$f":"Parameters!AJ14995","v":1},{"$f":"Parameters!AK14995","v":1},{"$f":"Parameters!AL14995","v":1},{"$f":"Parameters!AM14995","v":1},{"$f":"Parameters!AN14995","v":1},{"$f":"Parameters!AO14995","v":1},{"$f":"Parameters!AP14995","v":1},{"$f":"Parameters!AQ14995","v":1},{"$f":"Parameters!AR14995","v":1},{"$f":"Parameters!AS14995","v":1},{"$f":"Parameters!AT14995","v":1},{"$f":"Parameters!AU14995","v":1},{"$f":"Parameters!AV14995","v":1},{"$f":"Parameters!AW14995","v":1},{"$f":"Parameters!AX14995","v":1},{"$f":"Parameters!AY14995","v":1},{"$f":"Parameters!AZ14995","v":1},{"$f":"Parameters!BA14995","v":1},{"$f":"Parameters!BB14995","v":1},{"$f":"Parameters!BC14995","v":1},{"$f":"Parameters!BD14995","v":1},{"$f":"Parameters!BE14995","v":1},{"$f":"Parameters!BF14995","v":1},{"$f":"Parameters!BG14995","v":1},{"$f":"Parameters!BH14995","v":1},{"$f":"Parameters!BI14995","v":1},{"$f":"Parameters!BJ14995","v":1},{"$f":"Parameters!BK14995","v":1},{"$f":"Parameters!BL14995","v":1},{"$f":"Parameters!BM14995","v":1},{"$f":"Parameters!BN14995","v":1}]
["S307",{"$f":"Parameters!K15195","v":1},{"$f":"Parameters!L15195","v":1},{"$f":"Parameters!M15195","v":1},{"$f":"Parameters!N15195","v":1},{"$f":"Parameters!O15195","v":1},{"$f":"Parameters!P15195","v":1},{"$f":"Parameters!Q15195","v":1},{"$f":"Parameters!R15195","v":1},{"$f":"Parameters!S15195","v":1},{"$f":"Parameters!T15195","v":1},{"$f":"Parameters!U15195","v":1},{"$f":"Parameters!V15195","v":1},{"$f":"Parameters!W15195","v":1},{"$f":"Parameters!X15195","v":1},{"$f":"Parameters!Y15195","v":1},{"$f":"Parameters!Z15195","v":1},{"$f":"Parameters!AA15195","v":1},{"$f":"Parameters!AB15195","v":1},{"$f":"Parameters!AC15195","v":1},{"$f":"Parameters!AD15195","v":1},{"$f":"Parameters!AE15195","v":1},{"$f":"Parameters!AF15195","v":1},{"$f":"Parameters!AG15195","v":1},{"$f":"Parameters!AH15195","v":1},{"$f":"Parameters!AI15195","v":1},{"$f":"Parameters!AJ15195","v":1},{"$f":"Parameters!AK15195","v":1},{"$f":"Parameters!AL15195","v":1},{"$f":"Parameters!AM15195","v":1},{"$f":"Parameters!AN15195","v":1},{"$f":"Parameters!AO15195","v":1},{"$f":"Parameters!AP15195","v":1},{"$f":"Parameters!AQ15195","v":1},{"$f":"Parameters!AR15195","v":1},{"$f":"Parameters!AS15195","v":1},{"$f":"Parameters!AT15195","v":1},{"$f":"Parameters!AU15195","v":1},{"$f":"Parameters!AV15195","v":1},{"$f":"Parameters!AW15195","v":1},{"$f":"Parameters!AX15195","v":1},{"$f":"Parameters!AY15195","v":1},{"$f":"Parameters!AZ15195","v":1},{"$f":"Parameters!BA15195","v":1},{"$f":"Parameters!BB15195","v":1},{"$f":"Parameters!BC15195","v":1},{"$f":"Parameters!BD15195","v":1},{"$f":"Parameters!BE15195","v":1},{"$f":"Parameters!BF15195","v":1},{"$f":"Parameters!BG15195","v":1},{"$f":"Parameters!BH15195","v":1},{"$f":"Parameters!BI15195","v":1},{"$f":"Parameters!BJ15195","v":1},{"$f":"Parameters!BK15195","v":1},{"$f":"Parameters!BL15195","v":1},{"$f":"Parameters!BM15195","v":1},{"$f":"Parameters!BN15195","v":1}]
["S314",{"$f":"Parameters!K15394","v":1},{"$f":"Parameters!L15394","v":1},{"$f":"Parameters!M15394","v":1},{"$f":"Parameters!N15394","v":1},{"$f":"Parameters!O15394","v":1},{"$f":"Parameters!P15394","v":1},{"$f":"Parameters!Q15394","v":1},{"$f":"Parameters!R15394","v":1},{"$f":"Parameters!S15394","v":1},{"$f":"Parameters!T15394","v":1},{"$f":"Parameters!U15394","v":1},{"$f":"Parameters!V15394","v":1},{"$f":"Parameters!W15394","v":1},{"$f":"Parameters!X15394","v":1},{"$f":"Parameters!Y15394","v":1},{"$f":"Parameters!Z15394","v":1},{"$f":"Parameters!AA15394","v":1},{"$f":"Parameters!AB15394","v":1},{"$f":"Parameters!AC15394","v":1},{"$f":"Parameters!AD15394","v":1},{"$f":"Parameters!AE15394","v":1},{"$f":"Parameters!AF15394","v":1},{"$f":"Parameters!AG15394","v":1},{"$f":"Parameters!AH15394","v":1},{"$f":"Parameters!AI15394","v":1},{"$f":"Parameters!AJ15394","v":1},{"$f":"Parameters!AK15394","v":1},{"$f":"Parameters!AL15394","v":1},{"$f":"Parameters!AM15394","v":1},{"$f":"Parameters!AN15394","v":1},{"$f":"Parameters!AO15394","v":1},{"$f":"Parameters!AP15394","v":1},{"$f":"Parameters!AQ15394","v":1},{"$f":"Parameters!AR15394","v":1},{"$f":"Parameters!AS15394","v":1},{"$f":"Parameters!AT15394","v":1},{"$f":"Parameters!AU15394","v":1},{"$f":"Parameters!AV15394","v":1},{"$f":"Parameters!AW15394","v":1},{"$f":"Parameters!AX15394","v":1},{"$f":"Parameters!AY15394","v":1},{"$f":"Parameters!AZ15394","v":1},{"$f":"Parameters!BA15394","v":1},{"$f":"Parameters!BB15394","v":1},{"$f":"Parameters!BC15394","v":1},{"$f":"Parameters!BD15394","v":1},{"$f":"Parameters!BE15394","v":1},{"$f":"Parameters!BF15394","v":1},{"$f":"Parameters!BG15394","v":1},{"$f":"Parameters!BH15394","v":1},{"$f":"Parameters!BI15394","v":1},{"$f":"Parameters!BJ15394","v":1},{"$f":"Parameters!BK15394","v":1},{"$f":"Parameters!BL15394","v":1},{"$f":"Parameters!BM15394","v":1},{"$f":"Parameters!BN15394","v":1}]
["S207",{"$f":"Parameters!K15555","v":1},{"$f":"Parameters!L15555","v":1},{"$f":"Parameters!M15555","v":1},{"$f":"Parameters!N15555","v":1},{"$f":"Parameters!O15555","v":1},{"$f":"Parameters!P15555","v":1},{"$f":"Parameters!Q15555","v":1},{"$f":"Parameters!R15555","v":1},{"$f":"Parameters!S15555","v":1},{"$f":"Parameters!T15555","v":1},{"$f":"Parameters!U15555","v":1},{"$f":"Parameters!V15555","v":1},{"$f":"Parameters!W15555","v":1},{"$f":"Parameters!X15555","v":1},{"$f":"Parameters!Y15555","v":1},{"$f":"Parameters!Z15555","v":1},{"$f":"Parameters!AA15555","v":1},{"$f":"Parameters!AB15555","v":1},{"$f":"Parameters!AC15555","v":1},{"$f":"Parameters!AD15555","v":1},{"$f":"Parameters!AE15555","v":1},{"$f":"Parameters!AF15555","v":1},{"$f":"Parameters!AG15555","v":1},{"$f":"Parameters!AH15555","v":1},{"$f":"Parameters!AI15555","v":1},{"$f":"Parameters!AJ15555","v":1},{"$f":"Parameters!AK15555","v":1},{"$f":"Parameters!AL15555","v":1},{"$f":"Parameters!AM15555","v":1},{"$f":"Parameters!AN15555","v":1},{"$f":"Parameters!AO15555","v":1},{"$f":"Parameters!AP15555","v":1},{"$f":"Parameters!AQ15555","v":1},{"$f":"Parameters!AR15555","v":1},{"$f":"Parameters!AS15555","v":1},{"$f":"Parameters!AT15555","v":1},{"$f":"Parameters!AU15555","v":1},{"$f":"Parameters!AV15555","v":1},{"$f":"Parameters!AW15555","v":1},{"$f":"Parameters!AX15555","v":1},{"$f":"Parameters!AY15555","v":1},{"$f":"Parameters!AZ15555","v":1},{"$f":"Parameters!BA15555","v":1},{"$f":"Parameters!BB15555","v":1},{"$f":"Parameters!BC15555","v":1},{"$f":"Parameters!BD15555","v":1},{"$f":"Parameters!BE15555","v":1},{"$f":"Parameters!BF15555","v":1},{"$f":"Parameters!BG15555","v":1},{"$f":"Parameters!BH15555","v":1},{"$f":"Parameters!BI15555","v":1},{"$f":"Parameters!BJ15555","v":1},{"$f":"Parameters!BK15555","v":1},{"$f":"Parameters!BL15555","v":1},{"$f":"Parameters!BM15555","v":1},{"$f":"Parameters!BN15555","v":1}]
["S222",{"$f":"Parameters!K15666","v":1},{"$f":"Parameters!L15666","v":1},{"$f":"Parameters!M15666","v":1},{"$f":"Parameters!N15666","v":1},{"$f":"Parameters!O15666","v":1},{"$f":"Parameters!P15666","v":1},{"$f":"Parameters!Q15666","v":1},{"$f":"Parameters!R15666","v":1},{"$f":"Parameters!S15666","v":1},{"$f":"Parameters!T15666","v":1},{"$f":"Parameters!U15666","v":1},{"$f":"Parameters!V15666","v":1},{"$f":"Parameters!W15666","v":1},{"$f":"Parameters!X15666","v":1},{"$f":"Parameters!Y15666","v":1},{"$f":"Parameters!Z15666","v":1},{"$f":"Parameters!AA15666","v":1},{"$f":"Parameters!AB15666","v":1},{"$f":"Parameters!AC15666","v":1},{"$f":"Parameters!AD15666","v":1},{"$f":"Parameters!AE15666","v":1},{"$f":"Parameters!AF15666","v":1},{"$f":"Parameters!AG15666","v":1},{"$f":"Parameters!AH15666","v":1},{"$f":"Parameters!AI15666","v":1},{"$f":"Parameters!AJ15666","v":1},{"$f":"Parameters!AK15666","v":1},{"$f":"Parameters!AL15666","v":1},{"$f":"Parameters!AM15666","v":1},{"$f":"Parameters!AN15666","v":1},{"$f":"Parameters!AO15666","v":1},{"$f":"Parameters!AP15666","v":1},{"$f":"Parameters!AQ15666","v":1},{"$f":"Parameters!AR15666","v":1},{"$f":"Parameters!AS15666","v":1},{"$f":"Parameters!AT15666","v":1},{"$f":"Parameters!AU15666","v":1},{"$f":"Parameters!AV15666","v":1},{"$f":"Parameters!AW15666","v":1},{"$f":"Parameters!AX15666","v":1},{"$f":"Parameters!AY15666","v":1},{"$f":"Parameters!AZ15666","v":1},{"$f":"Parameters!BA15666","v":1},{"$f":"Parameters!BB15666","v":1},{"$f":"Parameters!BC15666","v":1},{"$f":"Parameters!BD15666","v":1},{"$f":"Parameters!BE15666","v":1},{"$f":"Parameters!BF15666","v":1},{"$f":"Parameters!BG15666","v":1},{"$f":"Parameters!BH15666","v":1},{"$f":"Parameters!BI15666","v":1},{"$f":"Parameters!BJ15666","v":1},{"$f":"Parameters!BK15666","v":1},{"$f":"Parameters!BL15666","v":1},{"$f":"Parameters!BM15666","v":1},{"$f":"Parameters!BN15666","v":1}]
["S222",{"$f":"Parameters!K15954","v":1},{"$f":"Parameters!L15954","v":1},{"$f":"Parameters!M15954","v":1},{"$f":"Parameters!N15954","v":1},{"$f":"Parameters!O15954","v":1},{"$f":"Parameters!P15954","v":1},{"$f":"Parameters!Q15954","v":1},{"$f":"Parameters!R15954","v":1},{"$f":"Parameters!S15954","v":1},{"$f":"Parameters!T15954","v":1},{"$f":"Parameters!U15954","v":1},{"$f":"Parameters!V15954","v":1},{"$f":"Parameters!W15954","v":1},{"$f":"Parameters!X15954","v":1},{"$f":"Parameters!Y15954","v":1},{"$f":"Parameters!Z15954","v":1},{"$f":"Parameters!AA15954","v":1},{"$f":"Parameters!AB15954","v":1},{"$f":"Parameters!AC15954","v":1},{"$f":"Parameters!AD15954","v":1},{"$f":"Parameters!AE15954","v":1},{"$f":"Parameters!AF15954","v":1},{"$f":"Parameters!AG15954","v":1},{"$f":"Parameters!AH15954","v":1},{"$f":"Parameters!AI15954","v":1},{"$f":"Parameters!AJ15954","v":1},{"$f":"Parameters!AK15954","v":1},{"$f":"Parameters!AL15954","v":1},{"$f":"Parameters!AM15954","v":1},{"$f":"Parameters!AN15954","v":1},{"$f":"Parameters!AO15954","v":1},{"$f":"Parameters!AP15954","v":1},{"$f":"Parameters!AQ15954","v":1},{"$f":"Parameters!AR15954","v":1},{"$f":"Parameters!AS15954","v":1},{"$f":"Parameters!AT15954","v":1},{"$f":"Parameters!AU15954","v":1},{"$f":"Parameters!AV15954","v":1},{"$f":"Parameters!AW15954","v":1},{"$f":"Parameters!AX15954","v":1},{"$f":"Parameters!AY15954","v":1},{"$f":"Parameters!AZ15954","v":1},{"$f":"Parameters!BA15954","v":1},{"$f":"Parameters!BB15954","v":1},{"$f":"Parameters!BC15954","v":1},{"$f":"Parameters!BD15954","v":1},{"$f":"Parameters!BE15954","v":1},{"$f":"Parameters!BF15954","v":1},{"$f":"Parameters!BG15954","v":1},{"$f":"Parameters!BH15954","v":1},{"$f":"Parameters!BI15954","v":1},{"$f":"Parameters!BJ15954","v":1},{"$f":"Parameters!BK15954","v":1},{"$f":"Parameters!BL15954","v":1},{"$f":"Parameters!BM15954","v":1},{"$f":"Parameters!BN15954","v":1}]
["S315",{"$f":"Parameters!K16163","v":1},{"$f":"Parameters!L16163","v":1},{"$f":"Parameters!M16163","v":1},{"$f":"Parameters!N16163","v":1},{"$f":"Parameters!O16163","v":1},{"$f":"Parameters!P16163","v":1},{"$f":"Parameters!Q16163","v":1},{"$f":"Parameters!R16163","v":1},{"$f":"Parameters!S16163","v":1},{"$f":"Parameters!T16163","v":1},{"$f":"Parameters!U16163","v":1},{"$f":"Parameters!V16163","v":1},{"$f":"Parameters!W16163","v":1},{"$f":"Parameters!X16163","v":1},{"$f":"Parameters!Y16163","v":1},{"$f":"Parameters!Z16163","v":1},{"$f":"Parameters!AA16163","v":1},{"$f":"Parameters!AB16163","v":1},{"$f":"Parameters!AC16163","v":1},{"$f":"Parameters!AD16163","v":1},{"$f":"Parameters!AE16163","v":1},{"$f":"Parameters!AF16163","v":1},{"$f":"Parameters!AG16163","v":1},{"$f":"Parameters!AH16163","v":1},{"$f":"Parameters!AI16163","v":1},{"$f":"Parameters!AJ16163","v":1},{"$f":"Parameters!AK16163","v":1},{"$f":"Parameters!AL16163","v":1},{"$f":"Parameters!AM16163","v":1},{"$f":"Parameters!AN16163","v":1},{"$f":"Parameters!AO16163","v":1},{"$f":"Parameters!AP16163","v":1},{"$f":"Parameters!AQ16163","v":1},{"$f":"Parameters!AR16163","v":1},{"$f":"Parameters!AS16163","v":1},{"$f":"Parameters!AT16163","v":1},{"$f":"Parameters!AU16163","v":1},{"$f":"Parameters!AV16163","v":1},{"$f":"Parameters!AW16163","v":1},{"$f":"Parameters!AX16163","v":1},{"$f":"Parameters!AY16163","v":1},{"$f":"Parameters!AZ16163","v":1},{"$f":"Parameters!BA16163","v":1},{"$f":"Parameters!BB16163","v":1},{"$f":"Parameters!BC16163","v":1},{"$f":"Parameters!BD16163","v":1},{"$f":"Parameters!BE16163","v":1},{"$f":"Parameters!BF16163","v":1},{"$f":"Parameters!BG16163","v":1},{"$f":"Parameters!BH16163","v":1},{"$f":"Parameters!BI16163","v":1},{"$f":"Parameters!BJ16163","v":1},{"$f":"Parameters!BK16163","v":1},{"$f":"Parameters!BL16163","v":1},{"$f":"Parameters!BM16163","v":1},{"$f":"Parameters!BN16163","v":1}]
["S411",{"$f":"Parameters!K16279","v":1},{"$f":"Parameters!L16279","v":1},{"$f":"Parameters!M16279","v":1},{"$f":"Parameters!N16279","v":1},{"$f":"Parameters!O16279","v":1},{"$f":"Parameters!P16279","v":1},{"$f":"Parameters!Q16279","v":1},{"$f":"Parameters!R16279","v":1},{"$f":"Parameters!S16279","v":1},{"$f":"Parameters!T16279","v":1},{"$f":"Parameters!U16279","v":1},{"$f":"Parameters!V16279","v":1},{"$f":"Parameters!W16279","v":1},{"$f":"Parameters!X16279","v":1},{"$f":"Parameters!Y16279","v":1},{"$f":"Parameters!Z16279","v":1},{"$f":"Parameters!AA16279","v":1},{"$f":"Parameters!AB16279","v":1},{"$f":"Parameters!AC16279","v":1},{"$f":"Parameters!AD16279","v":1},{"$f":"Parameters!AE16279","v":1},{"$f":"Parameters!AF16279","v":1},{"$f":"Parameters!AG16279","v":1},{"$f":"Parameters!AH16279","v":1},{"$f":"Parameters!AI16279","v":1},{"$f":"Parameters!AJ16279","v":1},{"$f":"Parameters!AK16279","v":1},{"$f":"Parameters!AL16279","v":1},{"$f":"Parameters!AM16279","v":1},{"$f":"Parameters!AN16279","v":1},{"$f":"Parameters!AO16279","v":1},{"$f":"Parameters!AP16279","v":1},{"$f":"Parameters!AQ16279","v":1},{"$f":"Parameters!AR16279","v":1},{"$f":"Parameters!AS16279","v":1},{"$f":"Parameters!AT16279","v":1},{"$f":"Parameters!AU16279","v":1},{"$f":"Parameters!AV16279","v":1},{"$f":"Parameters!AW16279","v":1},{"$f":"Parameters!AX16279","v":1},{"$f":"Parameters!AY16279","v":1},{"$f":"Parameters!AZ16279","v":1},{"$f":"Parameters!BA16279","v":1},{"$f":"Parameters!BB16279","v":1},{"$f":"Parameters!BC16279","v":1},{"$f":"Parameters!BD16279","v":1},{"$f":"Parameters!BE16279","v":1},{"$f":"Parameters!BF16279","v":1},{"$f":"Parameters!BG16279","v":1},{"$f":"Parameters!BH16279","v":1},{"$f":"Parameters!BI16279","v":1},{"$f":"Parameters!BJ16279","v":1},{"$f":"Parameters!BK16279","v":1},{"$f":"Parameters!BL16279","v":1},{"$f":"Parameters!BM16279","v":1},{"$f":"Parameters!BN16279","v":1}]
["S423",{"$f":"Parameters!K16483","v":1},{"$f":"Parameters!L16483","v":1},{"$f":"Parameters!M16483","v":1},{"$f":"Parameters!N16483","v":1},{"$f":"Parameters!O16483","v":1},{"$f":"Parameters!P16483","v":1},{"$f":"Parameters!Q16483","v":1},{"$f":"Parameters!R16483","v":1},{"$f":"Parameters!S16483","v":1},{"$f":"Parameters!T16483","v":1},{"$f":"Parameters!U16483","v":1},{"$f":"Parameters!V16483","v":1},{"$f":"Parameters!W16483","v":1},{"$f":"Parameters!X16483","v":1},{"$f":"Parameters!Y16483","v":1},{"$f":"Parameters!Z16483","v":1},{"$f":"Parameters!AA16483","v":1},{"$f":"Parameters!AB16483","v":1},{"$f":"Parameters!AC16483","v":1},{"$f":"Parameters!AD16483","v":1},{"$f":"Parameters!AE16483","v":1},{"$f":"Parameters!AF16483","v":1},{"$f":"Parameters!AG16483","v":1},{"$f":"Parameters!AH16483","v":1},{"$f":"Parameters!AI16483","v":1},{"$f":"Parameters!AJ16483","v":1},{"$f":"Parameters!AK16483","v":1},{"$f":"Parameters!AL16483","v":1},{"$f":"Parameters!AM16483","v":1},{"$f":"Parameters!AN16483","v":1},{"$f":"Parameters!AO16483","v":1},{"$f":"Parameters!AP16483","v":1},{"$f":"Parameters!AQ16483","v":1},{"$f":"Parameters!AR16483","v":1},{"$f":"Parameters!AS16483","v":1},{"$f":"Parameters!AT16483","v":1},{"$f":"Parameters!AU16483","v":1},{"$f":"Parameters!AV16483","v":1},{"$f":"Parameters!AW16483","v":1},{"$f":"Parameters!AX16483","v":1},{"$f":"Parameters!AY16483","v":1},{"$f":"Parameters!AZ16483","v":1},{"$f":"Parameters!BA16483","v":1},{"$f":"Parameters!BB16483","v":1},{"$f":"Parameters!BC16483","v":1},{"$f":"Parameters!BD16483","v":1},{"$f":"Parameters!BE16483","v":1},{"$f":"Parameters!BF16483","v":1},{"$f":"Parameters!BG16483","v":1},{"$f":"Parameters!BH16483","v":1},{"$f":"Parameters!BI16483","v":1},{"$f":"Parameters!BJ16483","v":1},{"$f":"Parameters!BK16483","v":1},{"$f":"Parameters!BL16483","v":1},{"$f":"Parameters!BM16483","v":1},{"$f":"Parameters!BN16483","v":1}]
[2015,2016,2017,2018,2019,2020,2021,2022,2023,2024,2025,2026,2027,2028,2029,2030,2031,2032,2033,2034,2035,2036,2037,2038,2039,2040,2041,2042,2043,2044,2045,2046,2047,2048,2049,2050,2051,2052,2053,2054,2055,2056,2057,2058,2059,2060,2061,2062,2063,2064,2065,2066,2067,2068,2069,"2070:="]
["S313",{"$f":"Parameters!K16737","v":1},{"$f":"Parameters!L16737","v":1},{"$f":"Parameters!M16737","v":1},{"$f":"Parameters!N16737","v":1},{"$f":"Parameters!O16737","v":1},{"$f":"Parameters!P16737","v":1},{"$f":"Parameters!Q16737","v":1},{"$f":"Parameters!R16737","v":1},{"$f":"Parameters!S16737","v":1},{"$f":"Parameters!T16737","v":1},{"$f":"Parameters!U16737","v":1},{"$f":"Parameters!V16737","v":1},{"$f":"Parameters!W16737","v":1},{"$f":"Parameters!X16737","v":1},{"$f":"Parameters!Y16737","v":1},{"$f":"Parameters!Z16737","v":1},{"$f":"Parameters!AA16737","v":1},{"$f":"Parameters!AB16737","v":1},{"$f":"Parameters!AC16737","v":1},{"$f":"Parameters!AD16737","v":1},{"$f":"Parameters!AE16737","v":1},{"$f":"Parameters!AF16737","v":1},{"$f":"Parameters!AG16737","v":1},{"$f":"Parameters!AH16737","v":1},{"$f":"Parameters!AI16737","v":1},{"$f":"Parameters!AJ16737","v":1},{"$f":"Parameters!AK16737","v":1},{"$f":"Parameters!AL16737","v":1},{"$f":"Parameters!AM16737","v":1},{"$f":"Parameters!AN16737","v":1},{"$f":"Parameters!AO16737","v":1},{"$f":"Parameters!AP16737","v":1},{"$f":"Parameters!AQ16737","v":1},{"$f":"Parameters!AR16737","v":1},{"$f":"Parameters!AS16737","v":1},{"$f":"Parameters!AT16737","v":1},{"$f":"Parameters!AU16737","v":1},{"$f":"Parameters!AV16737","v":1},{"$f":"Parameters!AW16737","v":1},{"$f":"Parameters!AX16737","v":1},{"$f":"Parameters!AY16737","v":1},{"$f":"Parameters!AZ16737","v":1},{"$f":"Parameters!BA16737","v":1},{"$f":"Parameters!BB16737","v":1},{"$f":"Parameters!BC16737","v":1},{"$f":"Parameters!BD16737","v":1},{"$f":"Parameters!BE16737","v":1},{"$f":"Parameters!BF16737","v":1},{"$f":"Parameters!BG16737","v":1},{"$f":"Parameters!BH16737","v":1},{"$f":"Parameters!BI16737","v":1},{"$f":"Parameters!BJ16737","v":1},{"$f":"Parameters!BK16737","v":1},{"$f":"Parameters!BL16737","v":1},{"$f":"Parameters!BM16737","v":1},{"$f":"Parameters!BN16737","v":1}]
["S414",{"$f":"Parameters!K16954","v":1},{"$f":"Parameters!L16954","v":1},{"$f":"Parameters!M16954","v":1},{"$f":"Parameters!N16954","v":1},{"$f":"Parameters!O16954","v":1},{"$f":"Parameters!P16954","v":1},{"$f":"Parameters!Q16954","v":1},{"$f":"Parameters!R16954","v":1},{"$f":"Parameters!S16954","v":1},{"$f":"Parameters!T16954","v":1},{"$f":"Parameters!U16954","v":1},{"$f":"Parameters!V16954","v":1},{"$f":"Parameters!W16954","v":1},{"$f":"Parameters!X16954","v":1},{"$f":"Parameters!Y16954","v":1},{"$f":"Parameters!Z16954","v":1},{"$f":"Parameters!AA16954","v":1},{"$f":"Parameters!AB16954","v":1},{"$f":"Parameters!AC16954","v":1},{"$f":"Parameters!AD16954","v":1},{"$f":"Parameters!AE16954","v":1},{"$f":"Parameters!AF16954","v":1},{"$f":"Parameters!AG16954","v":1},{"$f":"Parameters!AH16954","v":1},{"$f":"Parameters!AI16954","v":1},{"$f":"Parameters!AJ16954","v":1},{"$f":"Parameters!AK16954","v":1},{"$f":"Parameters!AL16954","v":1},{"$f":"Parameters!AM16954","v":1},{"$f":"Parameters!AN16954","v":1},{"$f":"Parameters!AO16954","v":1},{"$f":"Parameters!AP16954","v":1},{"$f":"Parameters!AQ16954","v":1},{"$f":"Parameters!AR16954","v":1},{"$f":"Parameters!AS16954","v":1},{"$f":"Parameters!AT16954","v":1},{"$f":"Parameters!AU16954","v":1},{"$f":"Parameters!AV16954","v":1},{"$f":"Parameters!AW16954","v":1},{"$f":"Parameters!AX16954","v":1},{"$f":"Parameters!AY16954","v":1},{"$f":"Parameters!AZ16954","v":1},{"$f":"Parameters!BA16954","v":1},{"$f":"Parameters!BB16954","v":1},{"$f":"Parameters!BC16954","v":1},{"$f":"Parameters!BD16954","v":1},{"$f":"Parameters!BE16954","v":1},{"$f":"Parameters!BF16954","v":1},{"$f":"Parameters!BG16954","v":1},{"$f":"Parameters!BH16954","v":1},{"$f":"Parameters!BI16954","v":1},{"$f":"Parameters!BJ16954","v":1},{"$f":"Parameters!BK16954","v":1},{"$f":"Parameters!BL16954","v":1},{"$f":"Parameters!BM16954","v":1},{"$f":"Parameters!BN16954","v":1}]
["S410",{"$f":"Parameters!K17238","v":1},{"$f":"Parameters!L17238","v":1},{"$f":"Parameters!M17238","v":1},{"$f":"Parameters!N17238","v":1},{"$f":"Parameters!O17238","v":1},{"$f":"Parameters!P17238","v":1},{"$f":"Parameters!Q17238","v":1},{"$f":"Parameters!R17238","v":1},{"$f":"Parameters!S17238","v":1},{"$f":"Parameters!T17238","v":1},{"$f":"Parameters!U17238","v":1},{"$f":"Parameters!V17238","v":1},{"$f":"Parameters!W17238","v":1},{"$f":"Parameters!X17238","v":1},{"$f":"Parameters!Y17238","v":1},{"$f":"Parameters!Z17238","v":1},{"$f":"Parameters!AA17238","v":1},{"$f":"Parameters!AB17238","v":1},{"$f":"Parameters!AC17238","v":1},{"$f":"Parameters!AD17238","v":1},{"$f":"Parameters!AE17238","v":1},{"$f":"Parameters!AF17238","v":1},{"$f":"Parameters!AG17238","v":1},{"$f":"Parameters!AH17238","v":1},{"$f":"Parameters!AI17238","v":1},{"$f":"Parameters!AJ17238","v":1},{"$f":"Parameters!AK17238","v":1},{"$f":"Parameters!AL17238","v":1},{"$f":"Parameters!AM17238","v":1},{"$f":"Parameters!AN17238","v":1},{"$f":"Parameters!AO17238","v":1},{"$f":"Parameters!AP17238","v":1},{"$f":"Parameters!AQ17238","v":1},{"$f":"Parameters!AR17238","v":1},{"$f":"Parameters!AS17238","v":1},{"$f":"Parameters!AT17238","v":1},{"$f":"Parameters!AU17238","v":1},{"$f":"Parameters!AV17238","v":1},{"$f":"Parameters!AW17238","v":1},{"$f":"Parameters!AX17238","v":1},{"$f":"Parameters!AY17238","v":1},{"$f":"Parameters!AZ17238","v":1},{"$f":"Parameters!BA17238","v":1},{"$f":"Parameters!BB17238","v":1},{"$f":"Parameters!BC17238","v":1},{"$f":"Parameters!BD17238","v":1},{"$f":"Parameters!BE17238","v":1},{"$f":"Parameters!BF17238","v":1},{"$f":"Parameters!BG17238","v":1},{"$f":"Parameters!BH17238","v":1},{"$f":"Parameters!BI17238","v":1},{"$f":"Parameters!BJ17238","v":1},{"$f":"Parameters!BK17238","v":1},{"$f":"Parameters!BL17238","v":1},{"$f":"Parameters!BM17238","v":1},{"$f":"Parameters!BN17238","v":1}]
["S120",{"$f":"Parameters!K17272","v":1},{"$f":"Parameters!L17272","v":1},{"$f":"Parameters!M17272","v":1},{"$f":"Parameters!N17272","v":1},{"$f":"Parameters!O17272","v":1},{"$f":"Parameters!P17272","v":1},{"$f":"Parameters!Q17272","v":1},{"$f":"Parameters!R17272","v":1},{"$f":"Parameters!S17272","v":1},{"$f":"Parameters!T17272","v":1},{"$f":"Parameters!U17272","v":1},{"$f":"Parameters!V17272","v":1},{"$f":"Parameters!W17272","v":1},{"$f":"Parameters!X17272","v":1},{"$f":"Parameters!Y17272","v":1},{"$f":"Parameters!Z17272","v":1},{"$f":"Parameters!AA17272","v":1},{"$f":"Parameters!AB17272","v":1},{"$f":"Parameters!AC17272","v":1},{"$f":"Parameters!AD17272","v":1},{"$f":"Parameters!AE17272","v":1},{"$f":"Parameters!AF17272","v":1},{"$f":"Parameters!AG17272","v":1},{"$f":"Parameters!AH17272","v":1},{"$f":"Parameters!AI17272","v":1},{"$f":"Parameters!AJ17272","v":1},{"$f":"Parameters!AK17272","v":1},{"$f":"Parameters!AL17272","v":1},{"$f":"Parameters!AM17272","v":1},{"$f":"Parameters!AN17272","v":1},{"$f":"Parameters!AO17272","v":1},{"$f":"Parameters!AP17272","v":1},{"$f":"Parameters!AQ17272","v":1},{"$f":"Parameters!AR17272","v":1},{"$f":"Parameters!AS17272","v":1},{"$f":"Parameters!AT17272","v":1},{"$f":"Parameters!AU17272","v":1},{"$f":"Parameters!AV17272","v":1},{"$f":"Parameters!AW17272","v":1},{"$f":"Parameters!AX17272","v":1},{"$f":"Parameters!AY17272","v":1},{"$f":"Parameters!AZ17272","v":1},{"$f":"Parameters!BA17272","v":1},{"$f":"Parameters!BB17272","v":1},{"$f":"Parameters!BC17272","v":1},{"$f":"Parameters!BD17272","v":1},{"$f":"Parameters!BE17272","v":1},{"$f":"Parameters!BF17272","v":1},{"$f":"Parameters!BG17272","v":1},{"$f":"Parameters!BH17272","v":1},{"$f":"Parameters!BI17272","v":1},{"$f":"Parameters!BJ17272","v":1},{"$f":"Parameters!BK17272","v":1},{"$f":"Parameters!BL17272","v":1},{"$f":"Parameters!BM17272","v":1},{"$f":"Parameters!BN17272","v":1}]
["S115",{"$f":"Parameters!K17459","v":1},{"$f":"Parameters!L17459","v":1},{"$f":"Parameters!M17459","v":1},{"$f":"Parameters!N17459","v":1},{"$f":"Parameters!O17459","v":1},{"$f":"Parameters!P17459","v":1},{"$f":"Parameters!Q17459","v":1},{"$f":"Parameters!R17459","v":1},{"$f":"Parameters!S17459","v":1},{"$f":"Parameters!T17459","v":1},{"$f":"Parameters!U17459","v":1},{"$f":"Parameters!V17459","v":1},{"$f":"Parameters!W17459","v":1},{"$f":"Parameters!X17459","v":1},{"$f":"Parameters!Y17459","v":1},{"$f":"Parameters!Z17459","v":1},{"$f":"Parameters!AA17459","v":1},{"$f":"Parameters!AB17459","v":1},{"$f":"Parameters!AC17459","v":1},{"$f":"Parameters!AD17459","v":1},{"$f":"Parameters!AE17459","v":1},{"$f":"Parameters!AF17459","v":1},{"$f":"Parameters!AG17459","v":1},{"$f":"Parameters!AH17459","v":1},{"$f":"Parameters!AI17459","v":1},{"$f":"Parameters!AJ17459","v":1},{"$f":"Parameters!AK17459","v":1},{"$f":"Parameters!AL17459","v":1},{"$f":"Parameters!AM17459","v":1},{"$f":"Parameters!AN17459","v":1},{"$f":"Parameters!AO17459","v":1},{"$f":"Parameters!AP17459","v":1},{"$f":"Parameters!AQ17459","v":1},{"$f":"Parameters!AR17459","v":1},{"$f":"Parameters!AS17459","v":1},{"$f":"Parameters!AT17459","v":1},{"$f":"Parameters!AU17459","v":1},{"$f":"Parameters!AV17459","v":1},{"$f":"Parameters!AW17459","v":1},{"$f":"Parameters!AX17459","v":1},{"$f":"Parameters!AY17459","v":1},{"$f":"Parameters!AZ17459","v":1},{"$f":"Parameters!BA17459","v":1},{"$f":"Parameters!BB17459","v":1},{"$f":"Parameters!BC17459","v":1},{"$f":"Parameters!BD17459","v":1},{"$f":"Parameters!BE17459","v":1},{"$f":"Parameters!BF17459","v":1},{"$f":"Parameters!BG17459","v":1},{"$f":"Parameters!BH17459","v":1},{"$f":"Parameters!BI17459","v":1},{"$f":"Parameters!BJ17459","v":1},{"$f":"Parameters!BK17459","v":1},{"$f":"Parameters!BL17459","v":1},{"$f":"Parameters!BM17459","v":1},{"$f":"Parameters!BN17459","v":1}]
["S312",{"$f":"Parameters!K17696","v":1},{"$f":"Parameters!L17696","v":1},{"$f":"Parameters!M17696","v":1},{"$f":"Parameters!N17696","v":1},{"$f":"Parameters!O17696","v":1},{"$f":"Parameters!P17696","v":1},{"$f":"Parameters!Q17696","v":1},{"$f":"Parameters!R17696","v":1},{"$f":"Parameters!S17696","v":1},{"$f":"Parameters!T17696","v":1},{"$f":"Parameters!U17696","v":1},{"$f":"Parameters!V17696","v":1},{"$f":"Parameters!W17696","v":1},{"$f":"Parameters!X17696","v":1},{"$f":"Parameters!Y17696","v":1},{"$f":"Parameters!Z17696","v":1},{"$f":"Parameters!AA17696","v":1},{"$f":"Parameters!AB17696","v":1},{"$f":"Parameters!AC17696","v":1},{"$f":"Parameters!AD17696","v":1},{"$f":"Parameters!AE17696","v":1},{"$f":"Parameters!AF17696","v":1},{"$f":"Parameters!AG17696","v":1},{"$f":"Parameters!AH17696","v":1},{"$f":"Parameters!AI17696","v":1},{"$f":"Parameters!AJ17696","v":1},{"$f":"Parameters!AK17696","v":1},{"$f":"Parameters!AL17696","v":1},{"$f":"Parameters!AM17696","v":1},{"$f":"Parameters!AN17696","v":1},{"$f":"Parameters!AO17696","v":1},{"$f":"Parameters!AP17696","v":1},{"$f":"Parameters!AQ17696","v":1},{"$f":"Parameters!AR17696","v":1},{"$f":"Parameters!AS17696","v":1},{"$f":"Parameters!AT17696","v":1},{"$f":"Parameters!AU17696","v":1},{"$f":"Parameters!AV17696","v":1},{"$f":"Parameters!AW17696","v":1},{"$f":"Parameters!AX17696","v":1},{"$f":"Parameters!AY17696","v":1},{"$f":"Parameters!AZ17696","v":1},{"$f":"Parameters!BA17696","v":1},{"$f":"Parameters!BB17696","v":1},{"$f":"Parameters!BC17696","v":1},{"$f":"Parameters!BD17696","v":1},{"$f":"Parameters!BE17696","v":1},{"$f":"Parameters!BF17696","v":1},{"$f":"Parameters!BG17696","v":1},{"$f":"Parameters!BH17696","v":1},{"$f":"Parameters!BI17696","v":1},{"$f":"Parameters!BJ17696","v":1},{"$f":"Parameters!BK17696","v":1},{"$f":"Parameters!BL17696","v":1},{"$f":"Parameters!BM17696","v":1},{"$f":"Parameters!BN17696","v":1}]
["S422",{"$f":"Parameters!K17922","v":1},{"$f":"Parameters!L17922","v":1},{"$f":"Parameters!M17922","v":1},{"$f":"Parameters!N17922","v":1},{"$f":"Parameters!O17922","v":1},{"$f":"Parameters!P17922","v":1},{"$f":"Parameters!Q17922","v":1},{"$f":"Parameters!R17922","v":1},{"$f":"Parameters!S17922","v":1},{"$f":"Parameters!T17922","v":1},{"$f":"Parameters!U17922","v":1},{"$f":"Parameters!V17922","v":1},{"$f":"Parameters!W17922","v":1},{"$f":"Parameters!X17922","v":1},{"$f":"Parameters!Y17922","v":1},{"$f":"Parameters!Z17922","v":1},{"$f":"Parameters!AA17922","v":1},{"$f":"Parameters!AB17922","v":1},{"$f":"Parameters!AC17922","v":1},{"$f":"Parameters!AD17922","v":1},{"$f":"Parameters!AE17922","v":1},{"$f":"Parameters!AF17922","v":1},{"$f":"Parameters!AG17922","v":1},{"$f":"Parameters!AH17922","v":1},{"$f":"Parameters!AI17922","v":1},{"$f":"Parameters!AJ17922","v":1},{"$f":"Parameters!AK17922","v":1},{"$f":"Parameters!AL17922","v":1},{"$f":"Parameters!AM17922","v":1},{"$f":"Parameters!AN17922","v":1},{"$f":"Parameters!AO17922","v":1},{"$f":"Parameters!AP17922","v":1},{"$f":"Parameters!AQ17922","v":1},{"$f":"Parameters!AR17922","v":1},{"$f":"Parameters!AS17922","v":1},{"$f":"Parameters!AT17922","v":1},{"$f":"Parameters!AU17922","v":1},{"$f":"Parameters!AV17922","v":1},{"$f":"Parameters!AW17922","v":1},{"$f":"Parameters!AX17922","v":1},{"$f":"Parameters!AY17922","v":1},{"$f":"Parameters!AZ17922","v":1},{"$f":"Parameters!BA17922","v":1},{"$f":"Parameters!BB17922","v":1},{"$f":"Parameters!BC17922","v":1},{"$f":"Parameters!BD17922","v":1},{"$f":"Parameters!BE17922","v":1},{"$f":"Parameters!BF17922","v":1},{"$f":"Parameters!BG17922","v":1},{"$f":"Parameters!BH17922","v":1},{"$f":"Parameters!BI17922","v":1},{"$f":"Parameters!BJ17922","v":1},{"$f":"Parameters!BK17922","v":1},{"$f":"Parameters!BL17922","v":1},{"$f":"Parameters!BM17922","v":1},{"$f":"Parameters!BN17922","v":1}]
[{"$f":"CONCATENATE(\"[\",SETS!H9,,\",\",SETS!B188,,\",\",\"*\",,\",\",\"*\",\"]:\")","v":"[RE1,TEC185,*,*]:"}]
["S204",{"$f":"Parameters!K18240","v":1},{"$f":"Parameters!L18240","v":1},{"$f":"Parameters!M18240","v":1},{"$f":"Parameters!N18240","v":1},{"$f":"Parameters!O18240","v":1},{"$f":"Parameters!P18240","v":1},{"$f":"Parameters!Q18240","v":1},{"$f":"Parameters!R18240","v":1},{"$f":"Parameters!S18240","v":1},{"$f":"Parameters!T18240","v":1},{"$f":"Parameters!U18240","v":1},{"$f":"Parameters!V18240","v":1},{"$f":"Parameters!W18240","v":1},{"$f":"Parameters!X18240","v":1},{"$f":"Parameters!Y18240","v":1},{"$f":"Parameters!Z18240","v":1},{"$f":"Parameters!AA18240","v":1},{"$f":"Parameters!AB18240","v":1},{"$f":"Parameters!AC18240","v":1},{"$f":"Parameters!AD18240","v":1},{"$f":"Parameters!AE18240","v":1},{"$f":"Parameters!AF18240","v":1},{"$f":"Parameters!AG18240","v":1},{"$f":"Parameters!AH18240","v":1},{"$f":"Parameters!AI18240","v":1},{"$f":"Parameters!AJ18240","v":1},{"$f":"Parameters!AK18240","v":1},{"$f":"Parameters!AL18240","v":1},{"$f":"Parameters!AM18240","v":1},{"$f":"Parameters!AN18240","v":1},{"$f":"Parameters!AO18240","v":1},{"$f":"Parameters!AP18240","v":1},{"$f":"Parameters!AQ18240","v":1},{"$f":"Parameters!AR18240","v":1},{"$f":"Parameters!AS18240","v":1},{"$f":"Parameters!AT18240","v":1},{"$f":"Parameters!AU18240","v":1},{"$f":"Parameters!AV18240","v":1},{"$f":"Parameters!AW18240","v":1},{"$f":"Parameters!AX18240","v":1},{"$f":"Parameters!AY18240","v":1},{"$f":"Parameters!AZ18240","v":1},{"$f":"Parameters!BA18240","v":1},{"$f":"Parameters!BB18240","v":1},{"$f":"Parameters!BC18240","v":1},{"$f":"Parameters!BD18240","v":1},{"$f":"Parameters!BE18240","v":1},{"$f":"Parameters!BF18240","v":1},{"$f":"Parameters!BG18240","v":1},{"$f":"Parameters!BH18240","v":1},{"$f":"Parameters!BI18240","v":1},{"$f":"Parameters!BJ18240","v":1},{"$f":"Parameters!BK18240","v":1},{"$f":"Parameters!BL18240","v":1},{"$f":"Parameters!BM18240","v":1},{"$f":"Parameters!BN18240","v":1}]
["S114",{"$f":"Parameters!K18418","v":1},{"$f":"Parameters!L18418","v":1},{"$f":"Parameters!M18418","v":1},{"$f":"Parameters!N18418","v":1},{"$f":"Parameters!O18418","v":1},{"$f":"Parameters!P18418","v":1},{"$f":"Parameters!Q18418","v":1},{"$f":"Parameters!R18418","v":1},{"$f":"Parameters!S18418","v":1},{"$f":"Parameters!T18418","v":1},{"$f":"Parameters!U18418","v":1},{"$f":"Parameters!V18418","v":1},{"$f":"Parameters!W18418","v":1},{"$f":"Parameters!X18418","v":1},{"$f":"Parameters!Y18418","v":1},{"$f":"Parameters!Z18418","v":1},{"$f":"Parameters!AA18418","v":1},{"$f":"Parameters!AB18418","v":1},{"$f":"Parameters!AC18418","v":1},{"$f":"Parameters!AD18418","v":1},{"$f":"Parameters!AE18418","v":1},{"$f":"Parameters!AF18418","v":1},{"$f":"Parameters!AG18418","v":1},{"$f":"Parameters!AH18418","v":1},{"$f":"Parameters!AI18418","v":1},{"$f":"Parameters!AJ18418","v":1},{"$f":"Parameters!AK18418","v":1},{"$f":"Parameters!AL18418","v":1},{"$f":"Parameters!AM18418","v":1},{"$f":"Parameters!AN18418","v":1},{"$f":"Parameters!AO18418","v":1},{"$f":"Parameters!AP18418","v":1},{"$f":"Parameters!AQ18418","v":1},{"$f":"Parameters!AR18418","v":1},{"$f":"Parameters!AS18418","v":1},{"$f":"Parameters!AT18418","v":1},{"$f":"Parameters!AU18418","v":1},{"$f":"Parameters!AV18418","v":1},{"$f":"Parameters!AW18418","v":1},{"$f":"Parameters!AX18418","v":1},{"$f":"Parameters!AY18418","v":1},{"$f":"Parameters!AZ18418","v":1},{"$f":"Parameters!BA18418","v":1},{"$f":"Parameters!BB18418","v":1},{"$f":"Parameters!BC18418","v":1},{"$f":"Parameters!BD18418","v":1},{"$f":"Parameters!BE18418","v":1},{"$f":"Parameters!BF18418","v":1},{"$f":"Parameters!BG18418","v":1},{"$f":"Parameters!BH18418","v":1},{"$f":"Parameters!BI18418","v":1},{"$f":"Parameters!BJ18418","v":1},{"$f":"Parameters!BK18418","v":1},{"$f":"Parameters!BL18418","v":1},{"$f":"Parameters!BM18418","v":1},{"$f":"Parameters!BN18418","v":1}]
["S221",{"$f":"Parameters!K18545","v":1},{"$f":"Parameters!L18545","v":1},{"$f":"Parameters!M18545","v":1},{"$f":"Parameters!N18545","v":1},{"$f":"Parameters!O18545","v":1},{"$f":"Parameters!P18545","v":1},{"$f":"Parameters!Q18545","v":1},{"$f":"Parameters!R18545","v":1},{"$f":"Parameters!S18545","v":1},{"$f":"Parameters!T18545","v":1},{"$f":"Parameters!U18545","v":1},{"$f":"Parameters!V18545","v":1},{"$f":"Parameters!W18545","v":1},{"$f":"Parameters!X18545","v":1},{"$f":"Parameters!Y18545","v":1},{"$f":"Parameters!Z18545","v":1},{"$f":"Parameters!AA18545","v":1},{"$f":"Parameters!AB18545","v":1},{"$f":"Parameters!AC18545","v":1},{"$f":"Parameters!AD18545","v":1},{"$f":"Parameters!AE18545","v":1},{"$f":"Parameters!AF18545","v":1},{"$f":"Parameters!AG18545","v":1},{"$f":"Parameters!AH18545","v":1},{"$f":"Parameters!AI18545","v":1},{"$f":"Parameters!AJ18545","v":1},{"$f":"Parameters!AK18545","v":1},{"$f":"Parameters!AL18545","v":1},{"$f":"Parameters!AM18545","v":1},{"$f":"Parameters!AN18545","v":1},{"$f":"Parameters!AO18545","v":1},{"$f":"Parameters!AP18545","v":1},{"$f":"Parameters!AQ18545","v":1},{"$f":"Parameters!AR18545","v":1},{"$f":"Parameters!AS18545","v":1},{"$f":"Parameters!AT18545","v":1},{"$f":"Parameters!AU18545","v":1},{"$f":"Parameters!AV18545","v":1},{"$f":"Parameters!AW18545","v":1},{"$f":"Parameters!AX18545","v":1},{"$f":"Parameters!AY18545","v":1},{"$f":"Parameters!AZ18545","v":1},{"$f":"Parameters!BA18545","v":1},{"$f":"Parameters!BB18545","v":1},{"$f":"Parameters!BC18545","v":1},{"$f":"Parameters!BD18545","v":1},{"$f":"Parameters!BE18545","v":1},{"$f":"Parameters!BF18545","v":1},{"$f":"Parameters!BG18545","v":1},{"$f":"Parameters!BH18545","v":1},{"$f":"Parameters!BI18545","v":1},{"$f":"Parameters!BJ18545","v":1},{"$f":"Parameters!BK18545","v":1},{"$f":"Parameters!BL18545","v":1},{"$f":"Parameters!BM18545","v":1},{"$f":"Parameters!BN18545","v":1}]
["S205",{"$f":"Parameters!K18817","v":1},{"$f":"Parameters!L18817","v":1},{"$f":"Parameters!M18817","v":1},{"$f":"Parameters!N18817","v":1},{"$f":"Parameters!O18817","v":1},{"$f":"Parameters!P18817","v":1},{"$f":"Parameters!Q18817","v":1},{"$f":"Parameters!R18817","v":1},{"$f":"Parameters!S18817","v":1},{"$f":"Parameters!T18817","v":1},{"$f":"Parameters!U18817","v":1},{"$f":"Parameters!V18817","v":1},{"$f":"Parameters!W18817","v":1},{"$f":"Parameters!X18817","v":1},{"$f":"Parameters!Y18817","v":1},{"$f":"Parameters!Z18817","v":1},{"$f":"Parameters!AA18817","v":1},{"$f":"Parameters!AB18817","v":1},{"$f":"Parameters!AC18817","v":1},{"$f":"Parameters!AD18817","v":1},{"$f":"Parameters!AE18817","v":1},{"$f":"Parameters!AF18817","v":1},{"$f":"Parameters!AG18817","v":1},{"$f":"Parameters!AH18817","v":1},{"$f":"Parameters!AI18817","v":1},{"$f":"Parameters!AJ18817","v":1},{"$f":"Parameters!AK18817","v":1},{"$f":"Parameters!AL18817","v":1},{"$f":"Parameters!AM18817","v":1},{"$f":"Parameters!AN18817","v":1},{"$f":"Parameters!AO18817","v":1},{"$f":"Parameters!AP18817","v":1},{"$f":"Parameters!AQ18817","v":1},{"$f":"Parameters!AR18817","v":1},{"$f":"Parameters!AS18817","v":1},{"$f":"Parameters!AT18817","v":1},{"$f":"Parameters!AU18817","v":1},{"$f":"Parameters!AV18817","v":1},{"$f":"Parameters!AW18817","v":1},{"$f":"Parameters!AX18817","v":1},{"$f":"Parameters!AY18817","v":1},{"$f":"Parameters!AZ18817","v":1},{"$f":"Parameters!BA18817","v":1},{"$f":"Parameters!BB18817","v":1},{"$f":"Parameters!BC18817","v":1},{"$f":"Parameters!BD18817","v":1},{"$f":"Parameters!BE18817","v":1},{"$f":"Parameters!BF18817","v":1},{"$f":"Parameters!BG18817","v":1},{"$f":"Parameters!BH18817","v":1},{"$f":"Parameters!BI18817","v":1},{"$f":"Parameters!BJ18817","v":1},{"$f":"Parameters!BK18817","v":1},{"$f":"Parameters!BL18817","v":1},{"$f":"Parameters!BM18817","v":1},{"$f":"Parameters!BN18817","v":1}]
["S424",{"$f":"Parameters!K18980","v":1},{"$f":"Parameters!L18980","v":1},{"$f":"Parameters!M18980","v":1},{"$f":"Parameters!N18980","v":1},{"$f":"Parameters!O18980","v":1},{"$f":"Parameters!P18980","v":1},{"$f":"Parameters!Q18980","v":1},{"$f":"Parameters!R18980","v":1},{"$f":"Parameters!S18980","v":1},{"$f":"Parameters!T18980","v":1},{"$f":"Parameters!U18980","v":1},{"$f":"Parameters!V18980","v":1},{"$f":"Parameters!W18980","v":1},{"$f":"Parameters!X18980","v":1},{"$f":"Parameters!Y18980","v":1},{"$f":"Parameters!Z18980","v":1},{"$f":"Parameters!AA18980","v":1},{"$f":"Parameters!AB18980","v":1},{"$f":"Parameters!AC18980","v":1},{"$f":"Parameters!AD18980","v":1},{"$f":"Parameters!AE18980","v":1},{"$f":"Parameters!AF18980","v":1},{"$f":"Parameters!AG18980","v":1},{"$f":"Parameters!AH18980","v":1},{"$f":"Parameters!AI18980","v":1},{"$f":"Parameters!AJ18980","v":1},{"$f":"Parameters!AK18980","v":1},{"$f":"Parameters!AL18980","v":1},{"$f":"Parameters!AM18980","v":1},{"$f":"Parameters!AN18980","v":1},{"$f":"Parameters!AO18980","v":1},{"$f":"Parameters!AP18980","v":1},{"$f":"Parameters!AQ18980","v":1},{"$f":"Parameters!AR18980","v":1},{"$f":"Parameters!AS18980","v":1},{"$f":"Parameters!AT18980","v":1},{"$f":"Parameters!AU18980","v":1},{"$f":"Parameters!AV18980","v":1},{"$f":"Parameters!AW18980","v":1},{"$f":"Parameters!AX18980","v":1},{"$f":"Parameters!AY18980","v":1},{"$f":"Parameters!AZ18980","v":1},{"$f":"Parameters!BA18980","v":1},{"$f":"Parameters!BB18980","v":1},{"$f":"Parameters!BC18980","v":1},{"$f":"Parameters!BD18980","v":1},{"$f":"Parameters!BE18980","v":1},{"$f":"Parameters!BF18980","v":1},{"$f":"Parameters!BG18980","v":1},{"$f":"Parameters!BH18980","v":1},{"$f":"Parameters!BI18980","v":1},{"$f":"Parameters!BJ18980","v":1},{"$f":"Parameters!BK18980","v":1},{"$f":"Parameters!BL18980","v":1},{"$f":"Parameters!BM18980","v":1},{"$f":"Parameters!BN18980","v":1}]
["S303",{"$f":"Parameters!K19031","v":1},{"$f":"Parameters!L19031","v":1},{"$f":"Parameters!M19031","v":1},{"$f":"Parameters!N19031","v":1},{"$f":"Parameters!O19031","v":1},{"$f":"Parameters!P19031","v":1},{"$f":"Parameters!Q19031","v":1},{"$f":"Parameters!R19031","v":1},{"$f":"Parameters!S19031","v":1},{"$f":"Parameters!T19031","v":1},{"$f":"Parameters!U19031","v":1},{"$f":"Parameters!V19031","v":1},{"$f":"Parameters!W19031","v":1},{"$f":"Parameters!X19031","v":1},{"$f":"Parameters!Y19031","v":1},{"$f":"Parameters!Z19031","v":1},{"$f":"Parameters!AA19031","v":1},{"$f":"Parameters!AB19031","v":1},{"$f":"Parameters!AC19031","v":1},{"$f":"Parameters!AD19031","v":1},{"$f":"Parameters!AE19031","v":1},{"$f":"Parameters!AF19031","v":1},{"$f":"Parameters!AG19031","v":1},{"$f":"Parameters!AH19031","v":1},{"$f":"Parameters!AI19031","v":1},{"$f":"Parameters!AJ19031","v":1},{"$f":"Parameters!AK19031","v":1},{"$f":"Parameters!AL19031","v":1},{"$f":"Parameters!AM19031","v":1},{"$f":"Parameters!AN19031","v":1},{"$f":"Parameters!AO19031","v":1},{"$f":"Parameters!AP19031","v":1},{"$f":"Parameters!AQ19031","v":1},{"$f":"Parameters!AR19031","v":1},{"$f":"Parameters!AS19031","v":1},{"$f":"Parameters!AT19031","v":1},{"$f":"Parameters!AU19031","v":1},{"$f":"Parameters!AV19031","v":1},{"$f":"Parameters!AW19031","v":1},{"$f":"Parameters!AX19031","v":1},{"$f":"Parameters!AY19031","v":1},{"$f":"Parameters!AZ19031","v":1},{"$f":"Parameters!BA19031","v":1},{"$f":"Parameters!BB19031","v":1},{"$f":"Parameters!BC19031","v":1},{"$f":"Parameters!BD19031","v":1},{"$f":"Parameters!BE19031","v":1},{"$f":"Parameters!BF19031","v":1},{"$f":"Parameters!BG19031","v":1},{"$f":"Parameters!BH19031","v":1},{"$f":"Parameters!BI19031","v":1},{"$f":"Parameters!BJ19031","v":1},{"$f":"Parameters!BK19031","v":1},{"$f":"Parameters!BL19031","v":1},{"$f":"Parameters!BM19031","v":1},{"$f":"Parameters!BN19031","v":1}]
["S205",{"$f":"Parameters!K19201","v":1},{"$f":"Parameters!L19201","v":1},{"$f":"Parameters!M19201","v":1},{"$f":"Parameters!N19201","v":1},{"$f":"Parameters!O19201","v":1},{"$f":"Parameters!P19201","v":1},{"$f":"Parameters!Q19201","v":1},{"$f":"Parameters!R19201","v":1},{"$f":"Parameters!S19201","v":1},{"$f":"Parameters!T19201","v":1},{"$f":"Parameters!U19201","v":1},{"$f":"Parameters!V19201","v":1},{"$f":"Parameters!W19201","v":1},{"$f":"Parameters!X19201","v":1},{"$f":"Parameters!Y19201","v":1},{"$f":"Parameters!Z19201","v":1},{"$f":"Parameters!AA19201","v":1},{"$f":"Parameters!AB19201","v":1},{"$f":"Parameters!AC19201","v":1},{"$f":"Parameters!AD19201","v":1},{"$f":"Parameters!AE19201","v":1},{"$f":"Parameters!AF19201","v":1},{"$f":"Parameters!AG19201","v":1},{"$f":"Parameters!AH19201","v":1},{"$f":"Parameters!AI19201","v":1},{"$f":"Parameters!AJ19201","v":1},{"$f":"Parameters!AK19201","v":1},{"$f":"Parameters!AL19201","v":1},{"$f":"Parameters!AM19201","v":1},{"$f":"Parameters!AN19201","v":1},{"$f":"Parameters!AO19201","v":1},{"$f":"Parameters!AP19201","v":1},{"$f":"Parameters!AQ19201","v":1},{"$f":"Parameters!AR19201","v":1},{"$f":"Parameters!AS19201","v":1},{"$f":"Parameters!AT19201","v":1},{"$f":"Parameters!AU19201","v":1},{"$f":"Parameters!AV19201","v":1},{"$f":"Parameters!AW19201","v":1},{"$f":"Parameters!AX19201","v":1},{"$f":"Parameters!AY19201","v":1},{"$f":"Parameters!AZ19201","v":1},{"$f":"Parameters!BA19201","v":1},{"$f":"Parameters!BB19201","v":1},{"$f":"Parameters!BC19201","v":1},{"$f":"Parameters!BD19201","v":1},{"$f":"Parameters!BE19201","v":1},{"$f":"Parameters!BF19201","v":1},{"$f":"Parameters!BG19201","v":1},{"$f":"Parameters!BH19201","v":1},{"$f":"Parameters!BI19201","v":1},{"$f":"Parameters!BJ19201","v":1},{"$f":"Parameters!BK19201","v":1},{"$f":"Parameters!BL19201","v":1},{"$f":"Parameters!BM19201","v":1},{"$f":"Parameters!BN19201","v":1}]
[{"$f":"SETS!B150","v":"TEC147"},{"$f":"Parameters!K19512","v":0},{"$f":"Parameters!L19512","v":0},{"$f":"Parameters!M19512","v":0},{"$f":"Parameters!N19512","v":0},{"$f":"Parameters!O19512","v":0},{"$f":"Parameters!P19512","v":0},{"$f":"Parameters!Q19512","v":0},{"$f":"Parameters!R19512","v":0},{"$f":"Parameters!S19512","v":0},{"$f":"Parameters!T19512","v":0},{"$f":"Parameters!U19512","v":0},{"$f":"Parameters!V19512","v":0},{"$f":"Parameters!W19512","v":0},{"$f":"Parameters!X19512","v":0},{"$f":"Parameters!Y19512","v":0},{"$f":"Parameters!Z19512","v":0},{"$f":"Parameters!AA19512","v":0},{"$f":"Parameters!AB19512","v":0},{"$f":"Parameters!AC19512","v":0},{"$f":"Parameters!AD19512","v":0},{"$f":"Parameters!AE19512","v":0},{"$f":"Parameters!AF19512","v":0},{"$f":"Parameters!AG19512","v":0},{"$f":"Parameters!AH19512","v":0},{"$f":"Parameters!AI19512","v":0},{"$f":"Parameters!AJ19512","v":0},{"$f":"Parameters!AK19512","v":0},{"$f":"Parameters!AL19512","v":0},{"$f":"Parameters!AM19512","v":0},{"$f":"Parameters!AN19512","v":0},{"$f":"Parameters!AO19512","v":0},{"$f":"Parameters!AP19512","v":0},{"$f":"Parameters!AQ19512","v":0},{"$f":"Parameters!AR19512","v":0},{"$f":"Parameters!AS19512","v":0},{"$f":"Parameters!AT19512","v":0},{"$f":"Parameters!AU19512","v":0},{"$f":"Parameters!AV19512","v":0},{"$f":"Parameters!AW19512","v":0},{"$f":"Parameters!AX19512","v":0},{"$f":"Parameters!AY19512","v":0},{"$f":"Parameters!AZ19512","v":0},{"$f":"Parameters!BA19512","v":0},{"$f":"Parameters!BB19512","v":0},{"$f":"Parameters!BC19512","v":0},{"$f":"Parameters!BD19512","v":0},{"$f":"Parameters!BE19512","v":0},{"$f":"Parameters!BF19512","v":0},{"$f":"Parameters!BG19512","v":0},{"$f":"Parameters!BH19512","v":0},{"$f":"Parameters!BI19512","v":0},{"$f":"Parameters!BJ19512","v":0},{"$f":"Parameters!BK19512","v":0},{"$f":"Parameters!BL19512","v":0},{"$f":"Parameters!BM19512","v":0},{"$f":"Parameters!BN19512","v":0}]
[{"$f":"SETS!B30","v":"TEC027"},{"$f":"Parameters!K19790","v":1E-3},{"$f":"Parameters!L19790","v":1E-3},{"$f":"Parameters!M19790","v":1E-3},{"$f":"Parameters!N19790","v":1E-3},{"$f":"Parameters!O19790","v":1E-3},{"$f":"Parameters!P19790","v":1E-3},{"$f":"Parameters!Q19790","v":1E-3},{"$f":"Parameters!R19790","v":1E-3},{"$f":"Parameters!S19790","v":1E-3},{"$f":"Parameters!T19790","v":1E-3},{"$f":"Parameters!U19790","v":1E-3},{"$f":"Parameters!V19790","v":1E-3},{"$f":"Parameters!W19790","v":1E-3},{"$f":"Parameters!X19790","v":1E-3},{"$f":"Parameters!Y19790","v":1E-3},{"$f":"Parameters!Z19790","v":1E-3},{"$f":"Parameters!AA19790","v":1E-3},{"$f":"Parameters!AB19790","v":1E-3},{"$f":"Parameters!AC19790","v":1E-3},{"$f":"Parameters!AD19790","v":1E-3},{"$f":"Parameters!AE19790","v":1E-3},{"$f":"Parameters!AF19790","v":1E-3},{"$f":"Parameters!AG19790","v":1E-3},{"$f":"Parameters!AH19790","v":1E-3},{"$f":"Parameters!AI19790","v":1E-3},{"$f":"Parameters!AJ19790","v":1E-3},{"$f":"Parameters!AK19790","v":1E-3},{"$f":"Parameters!AL19790","v":1E-3},{"$f":"Parameters!AM19790","v":1E-3},{"$f":"Parameters!AN19790","v":1E-3},{"$f":"Parameters!AO19790","v":1E-3},{"$f":"Parameters!AP19790","v":1E-3},{"$f":"Parameters!AQ19790","v":1E-3},{"$f":"Parameters!AR19790","v":1E-3},{"$f":"Parameters!AS19790","v":1E-3},{"$f":"Parameters!AT19790","v":1E-3},{"$f":"Parameters!AU19790","v":1E-3},{"$f":"Parameters!AV19790","v":1E-3},{"$f":"Parameters!AW19790","v":1E-3},{"$f":"Parameters!AX19790","v":1E-3},{"$f":"Parameters!AY19790","v":1E-3},{"$f":"Parameters!AZ19790","v":1E-3},{"$f":"Parameters!BA19790","v":1E-3},{"$f":"Parameters!BB19790","v":1E-3},{"$f":"Parameters!BC19790","v":1E-3},{"$f":"Parameters!BD19790","v":1E-3},{"$f":"Parameters!BE19790","v":1E-3},{"$f":"Parameters!BF19790","v":1E-3},{"$f":"Parameters!BG19790","v":1E-3},{"$f":"Parameters!BH19790","v":1E-3},{"$f":"Parameters!BI19790","v":1E-3},{"$f":"Parameters!BJ19790","v":1E-3},{"$f":"Parameters!BK19790","v":1E-3},{"$f":"Parameters!BL19790","v":1E-3},{"$f":"Parameters!BM19790","v":1E-3},{"$f":"Parameters!BN19790","v":1E-3}]
[{"$f":"SETS!B195","v":"TEC192"},{"$f":"Parameters!K19955","v":1E-4},{"$f":"Parameters!L19955","v":1E-4},{"$f":"Parameters!M19955","v":1E-4},{"$f":"Parameters!N19955","v":1E-4},{"$f":"Parameters!O19955","v":1E-4},{"$f":"Parameters!P19955","v":1E-4},{"$f":"Parameters!Q19955","v":1E-4},{"$f":"Parameters!R19955","v":1E-4},{"$f":"Parameters!S19955","v":1E-4},{"$f":"Parameters!T19955","v":1E-4},{"$f":"Parameters!U19955","v":1E-4},{"$f":"Parameters!V19955","v":1E-4},{"$f":"Parameters!W19955","v":1E-4},{"$f":"Parameters!X19955","v":1E-4},{"$f":"Parameters!Y19955","v":1E-4},{"$f":"Parameters!Z19955","v":1E-4},{"$f":"Parameters!AA19955","v":1E-4},{"$f":"Parameters!AB19955","v":1E-4},{"$f":"Parameters!AC19955","v":1E-4},{"$f":"Parameters!AD19955","v":1E-4},{"$f":"Parameters!AE19955","v":1E-4},{"$f":"Parameters!AF19955","v":1E-4},{"$f":"Parameters!AG19955","v":1E-4},{"$f":"Parameters!AH19955","v":1E-4},{"$f":"Parameters!AI19955","v":1E-4},{"$f":"Parameters!AJ19955","v":1E-4},{"$f":"Parameters!AK19955","v":1E-4},{"$f":"Parameters!AL19955","v":1E-4},{"$f":"Parameters!AM19955","v":1E-4},{"$f":"Parameters!AN19955","v":1E-4},{"$f":"Parameters!AO19955","v":1E-4},{"$f":"Parameters!AP19955","v":1E-4},{"$f":"Parameters!AQ19955","v":1E-4},{"$f":"Parameters!AR19955","v":1E-4},{"$f":"Parameters!AS19955","v":1E-4},{"$f":"Parameters!AT19955","v":1E-4},{"$f":"Parameters!AU19955","v":1E-4},{"$f":"Parameters!AV19955","v":1E-4},{"$f":"Parameters!AW19955","v":1E-4},{"$f":"Parameters!AX19955","v":1E-4},{"$f":"Parameters!AY19955","v":1E-4},{"$f":"Parameters!AZ19955","v":1E-4},{"$f":"Parameters!BA19955","v":1E-4},{"$f":"Parameters!BB19955","v":1E-4},{"$f":"Parameters!BC19955","v":1E-4},{"$f":"Parameters!BD19955","v":1E-4},{"$f":"Parameters!BE19955","v":1E-4},{"$f":"Parameters!BF19955","v":1E-4},{"$f":"Parameters!BG19955","v":1E-4},{"$f":"Parameters!BH19955","v":1E-4},{"$f":"Parameters!BI19955","v":1E-4},{"$f":"Parameters!BJ19955","v":1E-4},{"$f":"Parameters!BK19955","v":1E-4},{"$f":"Parameters!BL19955","v":1E-4},{"$f":"Parameters!BM19955","v":1E-4},{"$f":"Parameters!BN19955","v":1E-4}]
[1,{"$f":"Parameters!K20037","v":0},{"$f":"Parameters!L20037","v":0},{"$f":"Parameters!M20037","v":0},{"$f":"Parameters!N20037","v":0},{"$f":"Parameters!O20037","v":0},{"$f":"Parameters!P20037","v":0},{"$f":"Parameters!Q20037","v":0},{"$f":"Parameters!R20037","v":0},{"$f":"Parameters!S20037","v":0},{"$f":"Parameters!T20037","v":0},{"$f":"Parameters!U20037","v":0},{"$f":"Parameters!V20037","v":0},{"$f":"Parameters!W20037","v":0},{"$f":"Parameters!X20037","v":0},{"$f":"Parameters!Y20037","v":0},{"$f":"Parameters!Z20037","v":0},{"$f":"Parameters!AA20037","v":0},{"$f":"Parameters!AB20037","v":0},{"$f":"Parameters!AC20037","v":0},{"$f":"Parameters!AD20037","v":0},{"$f":"Parameters!AE20037","v":0},{"$f":"Parameters!AF20037","v":0},{"$f":"Parameters!AG20037","v":0},{"$f":"Parameters!AH20037","v":0},{"$f":"Parameters!AI20037","v":0},{"$f":"Parameters!AJ20037","v":0},{"$f":"Parameters!AK20037","v":0},{"$f":"Parameters!AL20037","v":0},{"$f":"Parameters!AM20037","v":0},{"$f":"Parameters!AN20037","v":0},{"$f":"Parameters!AO20037","v":0},{"$f":"Parameters!AP20037","v":0},{"$f":"Parameters!AQ20037","v":0},{"$f":"Parameters!AR20037","v":0},{"$f":"Parameters!AS20037","v":0},{"$f":"Parameters!AT20037","v":0},{"$f":"Parameters!AU20037","v":0},{"$f":"Parameters!AV20037","v":0},{"$f":"Parameters!AW20037","v":0},{"$f":"Parameters!AX20037","v":0},{"$f":"Parameters!AY20037","v":0},{"$f":"Parameters!AZ20037","v":0},{"$f":"Parameters!BA20037","v":0},{"$f":"Parameters!BB20037","v":0},{"$f":"Parameters!BC20037","v":0},{"$f":"Parameters!BD20037","v":0},{"$f":"Parameters!BE20037","v":0},{"$f":"Parameters!BF20037","v":0},{"$f":"Parameters!BG20037","v":0},{"$f":"Parameters!BH20037","v":0},{"$f":"Parameters!BI20037","v":0},{"$f":"Parameters!BJ20037","v":0},{"$f":"Parameters!BK20037","v":0},{"$f":"Parameters!BL20037","v":0},{"$f":"Parameters!BM20037","v":0},{"$f":"Parameters!BN20037","v":0}]
[1,{"$f":"Parameters!K20092","v":0},{"$f":"Parameters!L20092","v":0},{"$f":"Parameters!M20092","v":0},{"$f":"Parameters!N20092","v":0},{"$f":"Parameters!O20092","v":0},{"$f":"Parameters!P20092","v":0},{"$f":"Parameters!Q20092","v":0},{"$f":"Parameters!R20092","v":0},{"$f":"Parameters!S20092","v":0},{"$f":"Parameters!T20092","v":0},{"$f":"Parameters!U20092","v":0},{"$f":"Parameters!V20092","v":0},{"$f":"Parameters!W20092","v":0},{"$f":"Parameters!X20092","v":0},{"$f":"Parameters!Y20092","v":0},{"$f":"Parameters!Z20092","v":0},{"$f":"Parameters!AA20092","v":0},{"$f":"Parameters!AB20092","v":0},{"$f":"Parameters!AC20092","v":0},{"$f":"Parameters!AD20092","v":0},{"$f":"Parameters!AE20092","v":0},{"$f":"Parameters!AF20092","v":0},{"$f":"Parameters!AG20092","v":0},{"$f":"Parameters!AH20092","v":0},{"$f":"Parameters!AI20092","v":0},{"$f":"Parameters!AJ20092","v":0},{"$f":"Parameters!AK20092","v":0},{"$f":"Parameters!AL20092","v":0},{"$f":"Parameters!AM20092","v":0},{"$f":"Parameters!AN20092","v":0},{"$f":"Parameters!AO20092","v":0},{"$f":"Parameters!AP20092","v":0},{"$f":"Parameters!AQ20092","v":0},{"$f":"Parameters!AR20092","v":0},{"$f":"Parameters!AS20092","v":0},{"$f":"Parameters!AT20092","v":0},{"$f":"Parameters!AU20092","v":0},{"$f":"Parameters!AV20092","v":0},{"$f":"Parameters!AW20092","v":0},{"$f":"Parameters!AX20092","v":0},{"$f":"Parameters!AY20092","v":0},{"$f":"Parameters!AZ20092","v":0},{"$f":"Parameters!BA20092","v":0},{"$f":"Parameters!BB20092","v":0},{"$f":"Parameters!BC20092","v":0},{"$f":"Parameters!BD20092","v":0},{"$f":"Parameters!BE20092","v":0},{"$f":"Parameters!BF20092","v":0},{"$f":"Parameters!BG20092","v":0},{"$f":"Parameters!BH20092","v":0},{"$f":"Parameters!BI20092","v":0},{"$f":"Parameters!BJ20092","v":0},{"$f":"Parameters!BK20092","v":0},{"$f":"Parameters!BL20092","v":0},{"$f":"Parameters!BM20092","v":0},{"$f":"Parameters!BN20092","v":0}]
[2015,2016,2017,2018,2019,2020,2021,2022,2023,2024,2025,2026,2027,2028,2029,2030,2031,2032,2033,2034,2035,2036,2037,2038,2039,2040,2041,2042,2043,2044,2045,2046,2047,2048,2049,2050,2051,2052,2053,2054,2055,2056,2057,2058,2059,2060,2061,2062,2063,2064,2065,2066,2067,2068,2069,"2070:="]
[2015,2016,2017,2018,2019,2020,2021,2022,2023,2024,2025,2026,2027,2028,2029,2030,2031,2032,2033,2034,2035,2036,2037,2038,2039,2040,2041,2042,2043,2044,2045,2046,2047,2048,2049,2050,2051,2052,2053,2054,2055,2056,2057,2058,2059,2060,2061,2062,2063,2064,2065,2066,2067,2068,2069,"2070:="]
[{"$f":"CONCATENATE(\"[\",SETS!H9,,\",\",SETS!B60,,\",\",SETS!H4,,\",\",\"*\",\",\",\"*\",\"]:\")","v":"[RE1,DEMINDHEEL,EMICH4,*,*]:"}]
[1,{"$f":"OFFSET(Parameters!K20332,6,,,)","v":0},{"$f":"OFFSET(Parameters!L20332,6,,,)","v":0},{"$f":"OFFSET(Parameters!M20332,6,,,)","v":0},{"$f":"OFFSET(Parameters!N20332,6,,,)","v":0},{"$f":"OFFSET(Parameters!O20332,6,,,)","v":0},{"$f":"OFFSET(Parameters!P20332,6,,,)","v":0},{"$f":"OFFSET(Parameters!Q20332,6,,,)","v":0},{"$f":"OFFSET(Parameters!R20332,6,,,)","v":0},{"$f":"OFFSET(Parameters!S20332,6,,,)","v":0},{"$f":"OFFSET(Parameters!T20332,6,,,)","v":0},{"$f":"OFFSET(Parameters!U20332,6,,,)","v":0},{"$f":"OFFSET(Parameters!V20332,6,,,)","v":0},{"$f":"OFFSET(Parameters!W20332,6,,,)","v":0},{"$f":"OFFSET(Parameters!X20332,6,,,)","v":0},{"$f":"OFFSET(Parameters!Y20332,6,,,)","v":0},{"$f":"OFFSET(Parameters!Z20332,6,,,)","v":0},{"$f":"OFFSET(Parameters!AA20332,6,,,)","v":0},{"$f":"OFFSET(Parameters!AB20332,6,,,)","v":0},{"$f":"OFFSET(Parameters!AC20332,6,,,)","v":0},{"$f":"OFFSET(Parameters!AD20332,6,,,)","v":0},{"$f":"OFFSET(Parameters!AE20332,6,,,)","v":0},{"$f":"OFFSET(Parameters!AF20332,6,,,)","v":0},{"$f":"OFFSET(Parameters!AG20332,6,,,)","v":0},{"$f":"OFFSET(Parameters!AH20332,6,,,)","v":0},{"$f":"OFFSET(Parameters!AI20332,6,,,)","v":0},{"$f":"OFFSET(Parameters!AJ20332,6,,,)","v":0},{"$f":"OFFSET(Parameters!AK20332,6,,,)","v":0},{"$f":"OFFSET(Parameters!AL20332,6,,,)","v":0},{"$f":"OFFSET(Parameters!AM20332,6,,,)","v":0},{"$f":"OFFSET(Parameters!AN20332,6,,,)","v":0},{"$f":"OFFSET(Parameters!AO20332,6,,,)","v":0},{"$f":"OFFSET(Parameters!AP20332,6,,,)","v":0},{"$f":"OFFSET(Parameters!AQ20332,6,,,)","v":0},{"$f":"OFFSET(Parameters!AR20332,6,,,)","v":0},{"$f":"OFFSET(Parameters!AS20332,6,,,)","v":0},{"$f":"OFFSET(Parameters!AT20332,6,,,)","v":0},{"$f":"OFFSET(Parameters!AU20332,6,,,)","v":0},{"$f":"OFFSET(Parameters!AV20332,6,,,)","v":0},{"$f":"OFFSET(Parameters!AW20332,6,,,)","v":0},{"$f":"OFFSET(Parameters!AX20332,6,,,)","v":0},{"$f":"OFFSET(Parameters!AY20332,6,,,)","v":0},{"$f":"OFFSET(Parameters!AZ20332,6,,,)","v":0},{"$f":"OFFSET(Parameters!BA20332,6,,,)","v":0},{"$f":"OFFSET(Parameters!BB20332,6,,,)","v":0},{"$f":"OFFSET(Parameters!BC20332,6,,,)","v":0},{"$f":"OFFSET(Parameters!BD20332,6,,,)","v":0},{"$f":"OFFSET(Parameters!BE20332,6,,,)","v":0},{"$f":"OFFSET(Parameters!BF20332,6,,,)","v":0},{"$f":"OFFSET(Parameters!BG20332,6,,,)","v":0},{"$f":"OFFSET(Parameters!BH20332,6,,,)","v":0},{"$f":"OFFSET(Parameters!BI20332,6,,,)","v":0},{"$f":"OFFSET(Parameters!BJ20332,6,,,)","v":0},{"$f":"OFFSET(Parameters!BK20332,6,,,)","v":0},{"$f":"OFFSET(Parameters!BL20332,6,,,)","v":0},{"$f":"OFFSET(Parameters!BM20332,6,,,)","v":0},{"$f":"OFFSET(Parameters!BN20332,6,,,)","v":0}]
[{"$f":"CONCATENATE(\"[\",SETS!H9,,\",\",SETS!B94,,\",\",SETS!H3,,\",\",\"*\",\",\",\"*\",\"]:\")","v":"[RE1,TEC091,EMIC02,*,*]:"}]
[1,{"$f":"OFFSET(Parameters!K20464,6,,,)","v":0},{"$f":"OFFSET(Parameters!L20464,6,,,)","v":0},{"$f":"OFFSET(Parameters!M20464,6,,,)","v":0},{"$f":"OFFSET(Parameters!N20464,6,,,)","v":0},{"$f":"OFFSET(Parameters!O20464,6,,,)","v":0},{"$f":"OFFSET(Parameters!P20464,6,,,)","v":0},{"$f":"OFFSET(Parameters!Q20464,6,,,)","v":0},{"$f":"OFFSET(Parameters!R20464,6,,,)","v":0},{"$f":"OFFSET(Parameters!S20464,6,,,)","v":0},{"$f":"OFFSET(Parameters!T20464,6,,,)","v":0},{"$f":"OFFSET(Parameters!U20464,6,,,)","v":0},{"$f":"OFFSET(Parameters!V20464,6,,,)","v":0},{"$f":"OFFSET(Parameters!W20464,6,,,)","v":0},{"$f":"OFFSET(Parameters!X20464,6,,,)","v":0},{"$f":"OFFSET(Parameters!Y20464,6,,,)","v":0},{"$f":"OFFSET(Parameters!Z20464,6,,,)","v":0},{"$f":"OFFSET(Parameters!AA20464,6,,,)","v":0},{"$f":"OFFSET(Parameters!AB20464,6,,,)","v":0},{"$f":"OFFSET(Parameters!AC20464,6,,,)","v":0},{"$f":"OFFSET(Parameters!AD20464,6,,,)","v":0},{"$f":"OFFSET(Parameters!AE20464,6,,,)","v":0},{"$f":"OFFSET(Parameters!AF20464,6,,,)","v":0},{"$f":"OFFSET(Parameters!AG20464,6,,,)","v":0},{"$f":"OFFSET(Parameters!AH20464,6,,,)","v":0},{"$f":"OFFSET(Parameters!AI20464,6,,,)","v":0},{"$f":"OFFSET(Parameters!AJ20464,6,,,)","v":0},{"$f":"OFFSET(Parameters!AK20464,6,,,)","v":0},{"$f":"OFFSET(Parameters!AL20464,6,,,)","v":0},{"$f":"OFFSET(Parameters!AM20464,6,,,)","v":0},{"$f":"OFFSET(Parameters!AN20464,6,,,)","v":0},{"$f":"OFFSET(Parameters!AO20464,6,,,)","v":0},{"$f":"OFFSET(Parameters!AP20464,6,,,)","v":0},{"$f":"OFFSET(Parameters!AQ20464,6,,,)","v":0},{"$f":"OFFSET(Parameters!AR20464,6,,,)","v":0},{"$f":"OFFSET(Parameters!AS20464,6,,,)","v":0},{"$f":"OFFSET(Parameters!AT20464,6,,,)","v":0},{"$f":"OFFSET(Parameters!AU20464,6,,,)","v":0},{"$f":"OFFSET(Parameters!AV20464,6,,,)","v":0},{"$f":"OFFSET(Parameters!AW20464,6,,,)","v":0},{"$f":"OFFSET(Parameters!AX20464,6,,,)","v":0},{"$f":"OFFSET(Parameters!AY20464,6,,,)","v":0},{"$f":"OFFSET(Parameters!AZ20464,6,,,)","v":0},{"$f":"OFFSET(Parameters!BA20464,6,,,)","v":0},{"$f":"OFFSET(Parameters!BB20464,6,,,)","v":0},{"$f":"OFFSET(Parameters!BC20464,6,,,)","v":0},{"$f":"OFFSET(Parameters!BD20464,6,,,)","v":0},{"$f":"OFFSET(Parameters!BE20464,6,,,)","v":0},{"$f":"OFFSET(Parameters!BF20464,6,,,)","v":0},{"$f":"OFFSET(Parameters!BG20464,6,,,)","v":0},{"$f":"OFFSET(Parameters!BH20464,6,,,)","v":0},{"$f":"OFFSET(Parameters!BI20464,6,,,)","v":0},{"$f":"OFFSET(Parameters!BJ20464,6,,,)","v":0},{"$f":"OFFSET(Parameters!BK20464,6,,,)","v":0},{"$f":"OFFSET(Parameters!BL20464,6,,,)","v":0},{"$f":"OFFSET(Parameters!BM20464,6,,,)","v":0},{"$f":"OFFSET(Parameters!BN20464,6,,,)","v":0}]
[1,{"$f":"OFFSET(Parameters!K20488,6,,,)","v":0},{"$f":"OFFSET(Parameters!L20488,6,,,)","v":0},{"$f":"OFFSET(Parameters!M20488,6,,,)","v":0},{"$f":"OFFSET(Parameters!N20488,6,,,)","v":0},{"$f":"OFFSET(Parameters!O20488,6,,,)","v":0},{"$f":"OFFSET(Parameters!P20488,6,,,)","v":0},{"$f":"OFFSET(Parameters!Q20488,6,,,)","v":0},{"$f":"OFFSET(Parameters!R20488,6,,,)","v":0},{"$f":"OFFSET(Parameters!S20488,6,,,)","v":0},{"$f":"OFFSET(Parameters!T20488,6,,,)","v":0},{"$f":"OFFSET(Parameters!U20488,6,,,)","v":0},{"$f":"OFFSET(Parameters!V20488,6,,,)","v":0},{"$f":"OFFSET(Parameters!W20488,6,,,)","v":0},{"$f":"OFFSET(Parameters!X20488,6,,,)","v":0},{"$f":"OFFSET(Parameters!Y20488,6,,,)","v":0},{"$f":"OFFSET(Parameters!Z20488,6,,,)","v":0},{"$f":"OFFSET(Parameters!AA20488,6,,,)","v":0},{"$f":"OFFSET(Parameters!AB20488,6,,,)","v":0},{"$f":"OFFSET(Parameters!AC20488,6,,,)","v":0},{"$f":"OFFSET(Parameters!AD20488,6,,,)","v":0},{"$f":"OFFSET(Parameters!AE20488,6,,,)","v":0},{"$f":"OFFSET(Parameters!AF20488,6,,,)","v":0},{"$f":"OFFSET(Parameters!AG20488,6,,,)","v":0},{"$f":"OFFSET(Parameters!AH20488,6,,,)","v":0},{"$f":"OFFSET(Parameters!AI20488,6,,,)","v":0},{"$f":"OFFSET(Parameters!AJ20488,6,,,)","v":0},{"$f":"OFFSET(Parameters!AK20488,6,,,)","v":0},{"$f":"OFFSET(Parameters!AL20488,6,,,)","v":0},{"$f":"OFFSET(Parameters!AM20488,6,,,)","v":0},{"$f":"OFFSET(Parameters!AN20488,6,,,)","v":0},{"$f":"OFFSET(Parameters!AO20488,6,,,)","v":0},{"$f":"OFFSET(Parameters!AP20488,6,,,)","v":0},{"$f":"OFFSET(Parameters!AQ20488,6,,,)","v":0},{"$f":"OFFSET(Parameters!AR20488,6,,,)","v":0},{"$f":"OFFSET(Parameters!AS20488,6,,,)","v":0},{"$f":"OFFSET(Parameters!AT20488,6,,,)","v":0},{"$f":"OFFSET(Parameters!AU20488,6,,,)","v":0},{"$f":"OFFSET(Parameters!AV20488,6,,,)","v":0},{"$f":"OFFSET(Parameters!AW20488,6,,,)","v":0},{"$f":"OFFSET(Parameters!AX20488,6,,,)","v":0},{"$f":"OFFSET(Parameters!AY20488,6,,,)","v":0},{"$f":"OFFSET(Parameters!AZ20488,6,,,)","v":0},{"$f":"OFFSET(Parameters!BA20488,6,,,)","v":0},{"$f":"OFFSET(Parameters!BB20488,6,,,)","v":0},{"$f":"OFFSET(Parameters!BC20488,6,,,)","v":0},{"$f":"OFFSET(Parameters!BD20488,6,,,)","v":0},{"$f":"OFFSET(Parameters!BE20488,6,,,)","v":0},{"$f":"OFFSET(Parameters!BF20488,6,,,)","v":0},{"$f":"OFFSET(Parameters!BG20488,6,,,)","v":0},{"$f":"OFFSET(Parameters!BH20488,6,,,)","v":0},{"$f":"OFFSET(Parameters!BI20488,6,,,)","v":0},{"$f":"OFFSET(Parameters!BJ20488,6,,,)","v":0},{"$f":"OFFSET(Parameters!BK20488,6,,,)","v":0},{"$f":"OFFSET(Parameters!BL20488,6,,,)","v":0},{"$f":"OFFSET(Parameters!BM20488,6,,,)","v":0},{"$f":"OFFSET(Parameters!BN20488,6,,,)","v":0}]
[2015,2016,2017,2018,2019,2020,2021,2022,2023,2024,2025,2026,2027,2028,2029,2030,2031,2032,2033,2034,2035,2036,2037,2038,2039,2040,2041,2042,2043,2044,2045,2046,2047,2048,2049,2050,2051,2052,2053,2054,2055,2056,2057,2058,2059,2060,2061,2062,2063,2064,2065,2066,2067,2068,2069,"2070:="]
[{"$f":"CONCATENATE(\"[\",SETS!H9,,\",\",SETS!B131,,\",\",SETS!H4,,\",\",\"*\",\",\",\"*\",\"]:\")","v":"[RE1,TEC128,EMICH4,*,*]:"}]
[2015,2016,2017,2018,2019,2020,2021,2022,2023,2024,2025,2026,2027,2028,2029,2030,2031,2032,2033,2034,2035,2036,2037,2038,2039,2040,2041,2042,2043,2044,2045,2046,2047,2048,2049,2050,2051,2052,2053,2054,2055,2056,2057,2058,2059,2060,2061,2062,2063,2064,2065,2066,2067,2068,2069,"2070:="]
[1,{"$f":"OFFSET(Parameters!K20733,6,,,)","v":0},{"$f":"OFFSET(Parameters!L20733,6,,,)","v":0},{"$f":"OFFSET(Parameters!M20733,6,,,)","v":0},{"$f":"OFFSET(Parameters!N20733,6,,,)","v":0},{"$f":"OFFSET(Parameters!O20733,6,,,)","v":0},{"$f":"OFFSET(Parameters!P20733,6,,,)","v":0},{"$f":"OFFSET(Parameters!Q20733,6,,,)","v":0},{"$f":"OFFSET(Parameters!R20733,6,,,)","v":0},{"$f":"OFFSET(Parameters!S20733,6,,,)","v":0},{"$f":"OFFSET(Parameters!T20733,6,,,)","v":0},{"$f":"OFFSET(Parameters!U20733,6,,,)","v":0},{"$f":"OFFSET(Parameters!V20733,6,,,)","v":0},{"$f":"OFFSET(Parameters!W20733,6,,,)","v":0},{"$f":"OFFSET(Parameters!X20733,6,,,)","v":0},{"$f":"OFFSET(Parameters!Y20733,6,,,)","v":0},{"$f":"OFFSET(Parameters!Z20733,6,,,)","v":0},{"$f":"OFFSET(Parameters!AA20733,6,,,)","v":0},{"$f":"OFFSET(Parameters!AB20733,6,,,)","v":0},{"$f":"OFFSET(Parameters!AC20733,6,,,)","v":0},{"$f":"OFFSET(Parameters!AD20733,6,,,)","v":0},{"$f":"OFFSET(Parameters!AE20733,6,,,)","v":0},{"$f":"OFFSET(Parameters!AF20733,6,,,)","v":0},{"$f":"OFFSET(Parameters!AG20733,6,,,)","v":0},{"$f":"OFFSET(Parameters!AH20733,6,,,)","v":0},{"$f":"OFFSET(Parameters!AI20733,6,,,)","v":0},{"$f":"OFFSET(Parameters!AJ20733,6,,,)","v":0},{"$f":"OFFSET(Parameters!AK20733,6,,,)","v":0},{"$f":"OFFSET(Parameters!AL20733,6,,,)","v":0},{"$f":"OFFSET(Parameters!AM20733,6,,,)","v":0},{"$f":"OFFSET(Parameters!AN20733,6,,,)","v":0},{"$f":"OFFSET(Parameters!AO20733,6,,,)","v":0},{"$f":"OFFSET(Parameters!AP20733,6,,,)","v":0},{"$f":"OFFSET(Parameters!AQ20733,6,,,)","v":0},{"$f":"OFFSET(Parameters!AR20733,6,,,)","v":0},{"$f":"OFFSET(Parameters!AS20733,6,,,)","v":0},{"$f":"OFFSET(Parameters!AT20733,6,,,)","v":0},{"$f":"OFFSET(Parameters!AU20733,6,,,)","v":0},{"$f":"OFFSET(Parameters!AV20733,6,,,)","v":0},{"$f":"OFFSET(Parameters!AW20733,6,,,)","v":0},{"$f":"OFFSET(Parameters!AX20733,6,,,)","v":0},{"$f":"OFFSET(Parameters!AY20733,6,,,)","v":0},{"$f":"OFFSET(Parameters!AZ20733,6,,,)","v":0},{"$f":"OFFSET(Parameters!BA20733,6,,,)","v":0},{"$f":"OFFSET(Parameters!BB20733,6,,,)","v":0},{"$f":"OFFSET(Parameters!BC20733,6,,,)","v":0},{"$f":"OFFSET(Parameters!BD20733,6,,,)","v":0},{"$f":"OFFSET(Parameters!BE20733,6,,,)","v":0},{"$f":"OFFSET(Parameters!BF20733,6,,,)","v":0},{"$f":"OFFSET(Parameters!BG20733,6,,,)","v":0},{"$f":"OFFSET(Parameters!BH20733,6,,,)","v":0},{"$f":"OFFSET(Parameters!BI20733,6,,,)","v":0},{"$f":"OFFSET(Parameters!BJ20733,6,,,)","v":0},{"$f":"OFFSET(Parameters!BK20733,6,,,)","v":0},{"$f":"OFFSET(Parameters!BL20733,6,,,)","v":0},{"$f":"OFFSET(Parameters!BM20733,6,,,)","v":0},{"$f":"OFFSET(Parameters!BN20733,6,,,)","v":0}]
[1,{"$f":"OFFSET(Parameters!K20789,6,,,)","v":0},{"$f":"OFFSET(Parameters!L20789,6,,,)","v":0},{"$f":"OFFSET(Parameters!M20789,6,,,)","v":0},{"$f":"OFFSET(Parameters!N20789,6,,,)","v":0},{"$f":"OFFSET(Parameters!O20789,6,,,)","v":0},{"$f":"OFFSET(Parameters!P20789,6,,,)","v":0},{"$f":"OFFSET(Parameters!Q20789,6,,,)","v":0},{"$f":"OFFSET(Parameters!R20789,6,,,)","v":0},{"$f":"OFFSET(Parameters!S20789,6,,,)","v":0},{"$f":"OFFSET(Parameters!T20789,6,,,)","v":0},{"$f":"OFFSET(Parameters!U20789,6,,,)","v":0},{"$f":"OFFSET(Parameters!V20789,6,,,)","v":0},{"$f":"OFFSET(Parameters!W20789,6,,,)","v":0},{"$f":"OFFSET(Parameters!X20789,6,,,)","v":0},{"$f":"OFFSET(Parameters!Y20789,6,,,)","v":0},{"$f":"OFFSET(Parameters!Z20789,6,,,)","v":0},{"$f":"OFFSET(Parameters!AA20789,6,,,)","v":0},{"$f":"OFFSET(Parameters!AB20789,6,,,)","v":0},{"$f":"OFFSET(Parameters!AC20789,6,,,)","v":0},{"$f":"OFFSET(Parameters!AD20789,6,,,)","v":0},{"$f":"OFFSET(Parameters!AE20789,6,,,)","v":0},{"$f":"OFFSET(Parameters!AF20789,6,,,)","v":0},{"$f":"OFFSET(Parameters!AG20789,6,,,)","v":0},{"$f":"OFFSET(Parameters!AH20789,6,,,)","v":0},{"$f":"OFFSET(Parameters!AI20789,6,,,)","v":0},{"$f":"OFFSET(Parameters!AJ20789,6,,,)","v":0},{"$f":"OFFSET(Parameters!AK20789,6,,,)","v":0},{"$f":"OFFSET(Parameters!AL20789,6,,,)","v":0},{"$f":"OFFSET(Parameters!AM20789,6,,,)","v":0},{"$f":"OFFSET(Parameters!AN20789,6,,,)","v":0},{"$f":"OFFSET(Parameters!AO20789,6,,,)","v":0},{"$f":"OFFSET(Parameters!AP20789,6,,,)","v":0},{"$f":"OFFSET(Parameters!AQ20789,6,,,)","v":0},{"$f":"OFFSET(Parameters!AR20789,6,,,)","v":0},{"$f":"OFFSET(Parameters!AS20789,6,,,)","v":0},{"$f":"OFFSET(Parameters!AT20789,6,,,)","v":0},{"$f":"OFFSET(Parameters!AU20789,6,,,)","v":0},{"$f":"OFFSET(Parameters!AV20789,6,,,)","v":0},{"$f":"OFFSET(Parameters!AW20789,6,,,)","v":0},{"$f":"OFFSET(Parameters!AX20789,6,,,)","v":0},{"$f":"OFFSET(Parameters!AY20789,6,,,)","v":0},{"$f":"OFFSET(Parameters!AZ20789,6,,,)","v":0},{"$f":"OFFSET(Parameters!BA20789,6,,,)","v":0},{"$f":"OFFSET(Parameters!BB20789,6,,,)","v":0},{"$f":"OFFSET(Parameters!BC20789,6,,,)","v":0},{"$f":"OFFSET(Parameters!BD20789,6,,,)","v":0},{"$f":"OFFSET(Parameters!BE20789,6,,,)","v":0},{"$f":"OFFSET(Parameters!BF20789,6,,,)","v":0},{"$f":"OFFSET(Parameters!BG20789,6,,,)","v":0},{"$f":"OFFSET(Parameters!BH20789,6,,,)","v":0},{"$f":"OFFSET(Parameters!BI20789,6,,,)","v":0},{"$f":"OFFSET(Parameters!BJ20789,6,,,)","v":0},{"$f":"OFFSET(Parameters!BK20789,6,,,)","v":0},{"$f":"OFFSET(Parameters!BL20789,6,,,)","v":0},{"$f":"OFFSET(Parameters!BM20789,6,,,)","v":0},{"$f":"OFFSET(Parameters!BN20789,6,,,)","v":0}]
[2015,2016,2017,2018,2019,2020,2021,2022,2023,2024,2025,2026,2027,2028,2029,2030,2031,2032,2033,2034,2035,2036,2037,2038,2039,2040,2041,2042,2043,2044,2045,2046,2047,2048,2049,2050,2051,2052,2053,2054,2055,2056,2057,2058,2059,2060,2061,2062,2063,2064,2065,2066,2067,2068,2069,"2070:="]
[2015,2016,2017,2018,2019,2020,2021,2022,2023,2024,2025,2026,2027,2028,2029,2030,2031,2032,2033,2034,2035,2036,2037,2038,2039,2040,2041,2042,2043,2044,2045,2046,2047,2048,2049,2050,2051,2052,2053,2054,2055,2056,2057,2058,2059,2060,2061,2062,2063,2064,2065,2066,2067,2068,2069,"2070:="]
[{"$f":"SETS!B163","v":"TEC160"},{"$f":"Parameters!K21124","v":0},{"$f":"Parameters!L21124","v":0},{"$f":"Parameters!M21124","v":0},{"$f":"Parameters!N21124","v":0},{"$f":"Parameters!O21124","v":0},{"$f":"Parameters!P21124","v":0},{"$f":"Parameters!Q21124","v":0},{"$f":"Parameters!R21124","v":0},{"$f":"Parameters!S21124","v":0},{"$f":"Parameters!T21124","v":0},{"$f":"Parameters!U21124","v":0},{"$f":"Parameters!V21124","v":0},{"$f":"Parameters!W21124","v":0},{"$f":"Parameters!X21124","v":0},{"$f":"Parameters!Y21124","v":0},{"$f":"Parameters!Z21124","v":0},{"$f":"Parameters!AA21124","v":0},{"$f":"Parameters!AB21124","v":0},{"$f":"Parameters!AC21124","v":0},{"$f":"Parameters!AD21124","v":0},{"$f":"Parameters!AE21124","v":0},{"$f":"Parameters!AF21124","v":0},{"$f":"Parameters!AG21124","v":0},{"$f":"Parameters!AH21124","v":0},{"$f":"Parameters!AI21124","v":0},{"$f":"Parameters!AJ21124","v":0},{"$f":"Parameters!AK21124","v":0},{"$f":"Parameters!AL21124","v":0},{"$f":"Parameters!AM21124","v":0},{"$f":"Parameters!AN21124","v":0},{"$f":"Parameters!AO21124","v":0},{"$f":"Parameters!AP21124","v":0},{"$f":"Parameters!AQ21124","v":0},{"$f":"Parameters!AR21124","v":0},{"$f":"Parameters!AS21124","v":0},{"$f":"Parameters!AT21124","v":0},{"$f":"Parameters!AU21124","v":0},{"$f":"Parameters!AV21124","v":0},{"$f":"Parameters!AW21124","v":0},{"$f":"Parameters!AX21124","v":0},{"$f":"Parameters!AY21124","v":0},{"$f":"Parameters!AZ21124","v":0},{"$f":"Parameters!BA21124","v":0},{"$f":"Parameters!BB21124","v":0},{"$f":"Parameters!BC21124","v":0},{"$f":"Parameters!BD21124","v":0},{"$f":"Parameters!BE21124","v":0},{"$f":"Parameters!BF21124","v":0},{"$f":"Parameters!BG21124","v":0},{"$f":"Parameters!BH21124","v":0},{"$f":"Parameters!BI21124","v":0},{"$f":"Parameters!BJ21124","v":0},{"$f":"Parameters!BK21124","v":0},{"$f":"Parameters!BL21124","v":0},{"$f":"Parameters!BM21124","v":0},{"$f":"Parameters!BN21124","v":0}]
[1,{"$f":"Parameters!K21198","v":0},{"$f":"Parameters!L21198","v":0},{"$f":"Parameters!M21198","v":0},{"$f":"Parameters!N21198","v":0},{"$f":"Parameters!O21198","v":0},{"$f":"Parameters!P21198","v":0},{"$f":"Parameters!Q21198","v":0},{"$f":"Parameters!R21198","v":0},{"$f":"Parameters!S21198","v":0},{"$f":"Parameters!T21198","v":0},{"$f":"Parameters!U21198","v":0},{"$f":"Parameters!V21198","v":0},{"$f":"Parameters!W21198","v":0},{"$f":"Parameters!X21198","v":0},{"$f":"Parameters!Y21198","v":0},{"$f":"Parameters!Z21198","v":0},{"$f":"Parameters!AA21198","v":0},{"$f":"Parameters!AB21198","v":0},{"$f":"Parameters!AC21198","v":0},{"$f":"Parameters!AD21198","v":0},{"$f":"Parameters!AE21198","v":0},{"$f":"Parameters!AF21198","v":0},{"$f":"Parameters!AG21198","v":0},{"$f":"Parameters!AH21198","v":0},{"$f":"Parameters!AI21198","v":0},{"$f":"Parameters!AJ21198","v":0},{"$f":"Parameters!AK21198","v":0},{"$f":"Parameters!AL21198","v":0},{"$f":"Parameters!AM21198","v":0},{"$f":"Parameters!AN21198","v":0},{"$f":"Parameters!AO21198","v":0},{"$f":"Parameters!AP21198","v":0},{"$f":"Parameters!AQ21198","v":0},{"$f":"Parameters!AR21198","v":0},{"$f":"Parameters!AS21198","v":0},{"$f":"Parameters!AT21198","v":0},{"$f":"Parameters!AU21198","v":0},{"$f":"Parameters!AV21198","v":0},{"$f":"Parameters!AW21198","v":0},{"$f":"Parameters!AX21198","v":0},{"$f":"Parameters!AY21198","v":0},{"$f":"Parameters!AZ21198","v":0},{"$f":"Parameters!BA21198","v":0},{"$f":"Parameters!BB21198","v":0},{"$f":"Parameters!BC21198","v":0},{"$f":"Parameters!BD21198","v":0},{"$f":"Parameters!BE21198","v":0},{"$f":"Parameters!BF21198","v":0},{"$f":"Parameters!BG21198","v":0},{"$f":"Parameters!BH21198","v":0},{"$f":"Parameters!BI21198","v":0},{"$f":"Parameters!BJ21198","v":0},{"$f":"Parameters!BK21198","v":0},{"$f":"Parameters!BL21198","v":0},{"$f":"Parameters!BM21198","v":0},{"$f":"Parameters!BN21198","v":0}]
[1,{"$f":"Parameters!K21253","v":0},{"$f":"Parameters!L21253","v":0},{"$f":"Parameters!M21253","v":0},{"$f":"Parameters!N21253","v":0},{"$f":"Parameters!O21253","v":0},{"$f":"Parameters!P21253","v":0},{"$f":"Parameters!Q21253","v":0},{"$f":"Parameters!R21253","v":0},{"$f":"Parameters!S21253","v":0},{"$f":"Parameters!T21253","v":0},{"$f":"Parameters!U21253","v":0},{"$f":"Parameters!V21253","v":0},{"$f":"Parameters!W21253","v":0},{"$f":"Parameters!X21253","v":0},{"$f":"Parameters!Y21253","v":0},{"$f":"Parameters!Z21253","v":0},{"$f":"Parameters!AA21253","v":0},{"$f":"Parameters!AB21253","v":0},{"$f":"Parameters!AC21253","v":0},{"$f":"Parameters!AD21253","v":0},{"$f":"Parameters!AE21253","v":0},{"$f":"Parameters!AF21253","v":0},{"$f":"Parameters!AG21253","v":0},{"$f":"Parameters!AH21253","v":0},{"$f":"Parameters!AI21253","v":0},{"$f":"Parameters!AJ21253","v":0},{"$f":"Parameters!AK21253","v":0},{"$f":"Parameters!AL21253","v":0},{"$f":"Parameters!AM21253","v":0},{"$f":"Parameters!AN21253","v":0},{"$f":"Parameters!AO21253","v":0},{"$f":"Parameters!AP21253","v":0},{"$f":"Parameters!AQ21253","v":0},{"$f":"Parameters!AR21253","v":0},{"$f":"Parameters!AS21253","v":0},{"$f":"Parameters!AT21253","v":0},{"$f":"Parameters!AU21253","v":0},{"$f":"Parameters!AV21253","v":0},{"$f":"Parameters!AW21253","v":0},{"$f":"Parameters!AX21253","v":0},{"$f":"Parameters!AY21253","v":0},{"$f":"Parameters!AZ21253","v":0},{"$f":"Parameters!BA21253","v":0},{"$f":"Parameters!BB21253","v":0},{"$f":"Parameters!BC21253","v":0},{"$f":"Parameters!BD21253","v":0},{"$f":"Parameters!BE21253","v":0},{"$f":"Parameters!BF21253","v":0},{"$f":"Parameters!BG21253","v":0},{"$f":"Parameters!BH21253","v":0},{"$f":"Parameters!BI21253","v":0},{"$f":"Parameters!BJ21253","v":0},{"$f":"Parameters!BK21253","v":0},{"$f":"Parameters!BL21253","v":0},{"$f":"Parameters!BM21253","v":0},{"$f":"Parameters!BN21253","v":0}]
[2015,2016,2017,2018,2019,2020,2021,2022,2023,2024,2025,2026,2027,2028,2029,2030,2031,2032,2033,2034,2035,2036,2037,2038,2039,2040,2041,2042,2043,2044,2045,2046,2047,2048,2049,2050,2051,2052,2053,2054,2055,2056,2057,2058,2059,2060,2061,2062,2063,2064,2065,2066,2067,2068,2069,"2070:="]
[2015,2016,2017,2018,2019,2020,2021,2022,2023,2024,2025,2026,2027,2028,2029,2030,2031,2032,2033,2034,2035,2036,2037,2038,2039,2040,2041,2042,2043,2044,2045,2046,2047,2048,2049,2050,2051,2052,2053,2054,2055,2056,2057,2058,2059,2060,2061,2062,2063,2064,2065,2066,2067,2068,2069,"2070:="]
[{"$f":"CONCATENATE(\"[\",Parameters!B21418,\",\",Parameters!C21418,\",\",Parameters!F21418,\",*,*]:\")","v":"[RE1,MINCOA,HFO,*,*]:"}]
[{"$f":"CONCATENATE(\"[\",Parameters!B21465,\",\",Parameters!C21465,\",\",Parameters!F21465,\",*,*]:\")","v":"[RE1,IMPLFO,COA,*,*]:"}]
[1,{"$f":"Parameters!K21521","v":0},{"$f":"Parameters!L21521","v":0},{"$f":"Parameters!M21521","v":0},{"$f":"Parameters!N21521","v":0},{"$f":"Parameters!O21521","v":0},{"$f":"Parameters!P21521","v":0},{"$f":"Parameters!Q21521","v":0},{"$f":"Parameters!R21521","v":0},{"$f":"Parameters!S21521","v":0},{"$f":"Parameters!T21521","v":0},{"$f":"Parameters!U21521","v":0},{"$f":"Parameters!V21521","v":0},{"$f":"Parameters!W21521","v":0},{"$f":"Parameters!X21521","v":0},{"$f":"Parameters!Y21521","v":0},{"$f":"Parameters!Z21521","v":0},{"$f":"Parameters!AA21521","v":0},{"$f":"Parameters!AB21521","v":0},{"$f":"Parameters!AC21521","v":0},{"$f":"Parameters!AD21521","v":0},{"$f":"Parameters!AE21521","v":0},{"$f":"Parameters!AF21521","v":0},{"$f":"Parameters!AG21521","v":0},{"$f":"Parameters!AH21521","v":0},{"$f":"Parameters!AI21521","v":0},{"$f":"Parameters!AJ21521","v":0},{"$f":"Parameters!AK21521","v":0},{"$f":"Parameters!AL21521","v":0},{"$f":"Parameters!AM21521","v":0},{"$f":"Parameters!AN21521","v":0},{"$f":"Parameters!AO21521","v":0},{"$f":"Parameters!AP21521","v":0},{"$f":"Parameters!AQ21521","v":0},{"$f":"Parameters!AR21521","v":0},{"$f":"Parameters!AS21521","v":0},{"$f":"Parameters!AT21521","v":0},{"$f":"Parameters!AU21521","v":0},{"$f":"Parameters!AV21521","v":0},{"$f":"Parameters!AW21521","v":0},{"$f":"Parameters!AX21521","v":0},{"$f":"Parameters!AY21521","v":0},{"$f":"Parameters!AZ21521","v":0},{"$f":"Parameters!BA21521","v":0},{"$f":"Parameters!BB21521","v":0},{"$f":"Parameters!BC21521","v":0},{"$f":"Parameters!BD21521","v":0},{"$f":"Parameters!BE21521","v":0},{"$f":"Parameters!BF21521","v":0},{"$f":"Parameters!BG21521","v":0},{"$f":"Parameters!BH21521","v":0},{"$f":"Parameters!BI21521","v":0},{"$f":"Parameters!BJ21521","v":0},{"$f":"Parameters!BK21521","v":0},{"$f":"Parameters!BL21521","v":0},{"$f":"Parameters!BM21521","v":0},{"$f":"Parameters!BN21521","v":0}]
[1,{"$f":"Parameters!K21600","v":0},{"$f":"Parameters!L21600","v":0},{"$f":"Parameters!M21600","v":0},{"$f":"Parameters!N21600","v":0},{"$f":"Parameters!O21600","v":0},{"$f":"Parameters!P21600","v":0},{"$f":"Parameters!Q21600","v":0},{"$f":"Parameters!R21600","v":0},{"$f":"Parameters!S21600","v":0},{"$f":"Parameters!T21600","v":0},{"$f":"Parameters!U21600","v":0},{"$f":"Parameters!V21600","v":0},{"$f":"Parameters!W21600","v":0},{"$f":"Parameters!X21600","v":0},{"$f":"Parameters!Y21600","v":0},{"$f":"Parameters!Z21600","v":0},{"$f":"Parameters!AA21600","v":0},{"$f":"Parameters!AB21600","v":0},{"$f":"Parameters!AC21600","v":0},{"$f":"Parameters!AD21600","v":0},{"$f":"Parameters!AE21600","v":0},{"$f":"Parameters!AF21600","v":0},{"$f":"Parameters!AG21600","v":0},{"$f":"Parameters!AH21600","v":0},{"$f":"Parameters!AI21600","v":0},{"$f":"Parameters!AJ21600","v":0},{"$f":"Parameters!AK21600","v":0},{"$f":"Parameters!AL21600","v":0},{"$f":"Parameters!AM21600","v":0},{"$f":"Parameters!AN21600","v":0},{"$f":"Parameters!AO21600","v":0},{"$f":"Parameters!AP21600","v":0},{"$f":"Parameters!AQ21600","v":0},{"$f":"Parameters!AR21600","v":0},{"$f":"Parameters!AS21600","v":0},{"$f":"Parameters!AT21600","v":0},{"$f":"Parameters!AU21600","v":0},{"$f":"Parameters!AV21600","v":0},{"$f":"Parameters!AW21600","v":0},{"$f":"Parameters!AX21600","v":0},{"$f":"Parameters!AY21600","v":0},{"$f":"Parameters!AZ21600","v":0},{"$f":"Parameters!BA21600","v":0},{"$f":"Parameters!BB21600","v":0},{"$f":"Parameters!BC21600","v":0},{"$f":"Parameters!BD21600","v":0},{"$f":"Parameters!BE21600","v":0},{"$f":"Parameters!BF21600","v":0},{"$f":"Parameters!BG21600","v":0},{"$f":"Parameters!BH21600","v":0},{"$f":"Parameters!BI21600","v":0},{"$f":"Parameters!BJ21600","v":0},{"$f":"Parameters!BK21600","v":0},{"$f":"Parameters!BL21600","v":0},{"$f":"Parameters!BM21600","v":0},{"$f":"Parameters!BN21600","v":0}]
[1,{"$f":"Parameters!K21655","v":0},{"$f":"Parameters!L21655","v":0},{"$f":"Parameters!M21655","v":0},{"$f":"Parameters!N21655","v":0},{"$f":"Parameters!O21655","v":0},{"$f":"Parameters!P21655","v":0},{"$f":"Parameters!Q21655","v":0},{"$f":"Parameters!R21655","v":0},{"$f":"Parameters!S21655","v":0},{"$f":"Parameters!T21655","v":0},{"$f":"Parameters!U21655","v":0},{"$f":"Parameters!V21655","v":0},{"$f":"Parameters!W21655","v":0},{"$f":"Parameters!X21655","v":0},{"$f":"Parameters!Y21655","v":0},{"$f":"Parameters!Z21655","v":0},{"$f":"Parameters!AA21655","v":0},{"$f":"Parameters!AB21655","v":0},{"$f":"Parameters!AC21655","v":0},{"$f":"Parameters!AD21655","v":0},{"$f":"Parameters!AE21655","v":0},{"$f":"Parameters!AF21655","v":0},{"$f":"Parameters!AG21655","v":0},{"$f":"Parameters!AH21655","v":0},{"$f":"Parameters!AI21655","v":0},{"$f":"Parameters!AJ21655","v":0},{"$f":"Parameters!AK21655","v":0},{"$f":"Parameters!AL21655","v":0},{"$f":"Parameters!AM21655","v":0},{"$f":"Parameters!AN21655","v":0},{"$f":"Parameters!AO21655","v":0},{"$f":"Parameters!AP21655","v":0},{"$f":"Parameters!AQ21655","v":0},{"$f":"Parameters!AR21655","v":0},{"$f":"Parameters!AS21655","v":0},{"$f":"Parameters!AT21655","v":0},{"$f":"Parameters!AU21655","v":0},{"$f":"Parameters!AV21655","v":0},{"$f":"Parameters!AW21655","v":0},{"$f":"Parameters!AX21655","v":0},{"$f":"Parameters!AY21655","v":0},{"$f":"Parameters!AZ21655","v":0},{"$f":"Parameters!BA21655","v":0},{"$f":"Parameters!BB21655","v":0},{"$f":"Parameters!BC21655","v":0},{"$f":"Parameters!BD21655","v":0},{"$f":"Parameters!BE21655","v":0},{"$f":"Parameters!BF21655","v":0},{"$f":"Parameters!BG21655","v":0},{"$f":"Parameters!BH21655","v":0},{"$f":"Parameters!BI21655","v":0},{"$f":"Parameters!BJ21655","v":0},{"$f":"Parameters!BK21655","v":0},{"$f":"Parameters!BL21655","v":0},{"$f":"Parameters!BM21655","v":0},{"$f":"Parameters!BN21655","v":0}]
[2015,2016,2017,2018,2019,2020,2021,2022,2023,2024,2025,2026,2027,2028,2029,2030,2031,2032,2033,2034,2035,2036,2037,2038,2039,2040,2041,2042,2043,2044,2045,2046,2047,2048,2049,2050,2051,2052,2053,2054,2055,2056,2057,2058,2059,2060,2061,2062,2063,2064,2065,2066,2067,2068,2069,"2070:="]
[2015,2016,2017,2018,2019,2020,2021,2022,2023,2024,2025,2026,2027,2028,2029,2030,2031,2032,2033,2034,2035,2036,2037,2038,2039,2040,2041,2042,2043,2044,2045,2046,2047,2048,2049,2050,2051,2052,2053,2054,2055,2056,2057,2058,2059,2060,2061,2062,2063,2064,2065,2066,2067,2068,2069,"2070:="]
[{"$f":"CONCATENATE(\"[\",Parameters!B21851,\",\",Parameters!C21851,\",\",Parameters!F21851,\",*,*]:\")","v":"[RE1,MINWND,COM039,*,*]:"}]
[{"$f":"CONCATENATE(\"[\",Parameters!B21927,\",\",Parameters!C21927,\",\",Parameters!F21927,\",*,*]:\")","v":"[RE1,MINURN,ELCEV,*,*]:"}]
[{"$f":"CONCATENATE(\"[\",Parameters!B21982,\",\",Parameters!C21982,\",\",Parameters!F21982,\",*,*]:\")","v":"[RE1,MINGEO,INDHEH,*,*]:"}]
[2015,2016,2017,2018,2019,2020,2021,2022,2023,2024,2025,2026,2027,2028,2029,2030,2031,2032,2033,2034,2035,2036,2037,2038,2039,2040,2041,2042,2043,2044,2045,2046,2047,2048,2049,2050,2051,2052,2053,2054,2055,2056,2057,2058,2059,2060,2061,2062,2063,2064,2065,2066,2067,2068,2069,"2070:="]
[1,{"$f":"Parameters!K22117","v":0},{"$f":"Parameters!L22117","v":0},{"$f":"Parameters!M22117","v":0},{"$f":"Parameters!N22117","v":0},{"$f":"Parameters!O22117","v":0},{"$f":"Parameters!P22117","v":0},{"$f":"Parameters!Q22117","v":0},{"$f":"Parameters!R22117","v":0},{"$f":"Parameters!S22117","v":0},{"$f":"Parameters!T22117","v":0},{"$f":"Parameters!U22117","v":0},{"$f":"Parameters!V22117","v":0},{"$f":"Parameters!W22117","v":0},{"$f":"Parameters!X22117","v":0},{"$f":"Parameters!Y22117","v":0},{"$f":"Parameters!Z22117","v":0},{"$f":"Parameters!AA22117","v":0},{"$f":"Parameters!AB22117","v":0},{"$f":"Parameters!AC22117","v":0},{"$f":"Parameters!AD22117","v":0},{"$f":"Parameters!AE22117","v":0},{"$f":"Parameters!AF22117","v":0},{"$f":"Parameters!AG22117","v":0},{"$f":"Parameters!AH22117","v":0},{"$f":"Parameters!AI22117","v":0},{"$f":"Parameters!AJ22117","v":0},{"$f":"Parameters!AK22117","v":0},{"$f":"Parameters!AL22117","v":0},{"$f":"Parameters!AM22117","v":0},{"$f":"Parameters!AN22117","v":0},{"$f":"Parameters!AO22117","v":0},{"$f":"Parameters!AP22117","v":0},{"$f":"Parameters!AQ22117","v":0},{"$f":"Parameters!AR22117","v":0},{"$f":"Parameters!AS22117","v":0},{"$f":"Parameters!AT22117","v":0},{"$f":"Parameters!AU22117","v":0},{"$f":"Parameters!AV22117","v":0},{"$f":"Parameters!AW22117","v":0},{"$f":"Parameters!AX22117","v":0},{"$f":"Parameters!AY22117","v":0},{"$f":"Parameters!AZ22117","v":0},{"$f":"Parameters!BA22117","v":0},{"$f":"Parameters!BB22117","v":0},{"$f":"Parameters!BC22117","v":0},{"$f":"Parameters!BD22117","v":0},{"$f":"Parameters!BE22117","v":0},{"$f":"Parameters!BF22117","v":0},{"$f":"Parameters!BG22117","v":0},{"$f":"Parameters!BH22117","v":0},{"$f":"Parameters!BI22117","v":0},{"$f":"Parameters!BJ22117","v":0},{"$f":"Parameters!BK22117","v":0},{"$f":"Parameters!BL22117","v":0},{"$f":"Parameters!BM22117","v":0},{"$f":"Parameters!BN22117","v":0}]
[{"$f":"CONCATENATE(\"[\",Parameters!B22120,\",\",Parameters!C22120,\",\",Parameters!F22120,\",*,*]:\")","v":"[RE1,PWRCOA001,HYD,*,*]:"}]
[2015,2016,2017,2018,2019,2020,2021,2022,2023,2024,2025,2026,2027,2028,2029,2030,2031,2032,2033,2034,2035,2036,2037,2038,2039,2040,2041,2042,2043,2044,2045,2046,2047,2048,2049,2050,2051,2052,2053,2054,2055,2056,2057,2058,2059,2060,2061,2062,2063,2064,2065,2066,2067,2068,2069,"2070:="]
[{"$f":"CONCATENATE(\"[\",Parameters!B22289,\",\",Parameters!C22289,\",\",Parameters!F22289,\",*,*]:\")","v":"[RE1,PWROHC001,COM027,*,*]:"}]
[1,{"$f":"Parameters!K22303","v":0},{"$f":"Parameters!L22303","v":0},{"$f":"Parameters!M22303","v":0},{"$f":"Parameters!N22303","v":0},{"$f":"Parameters!O22303","v":0},{"$f":"Parameters!P22303","v":0},{"$f":"Parameters!Q22303","v":0},{"$f":"Parameters!R22303","v":0},{"$f":"Parameters!S22303","v":0},{"$f":"Parameters!T22303","v":0},{"$f":"Parameters!U22303","v":0},{"$f":"Parameters!V22303","v":0},{"$f":"Parameters!W22303","v":0},{"$f":"Parameters!X22303","v":0},{"$f":"Parameters!Y22303","v":0},{"$f":"Parameters!Z22303","v":0},{"$f":"Parameters!AA22303","v":0},{"$f":"Parameters!AB22303","v":0},{"$f":"Parameters!AC22303","v":0},{"$f":"Parameters!AD22303","v":0},{"$f":"Parameters!AE22303","v":0},{"$f":"Parameters!AF22303","v":0},{"$f":"Parameters!AG22303","v":0},{"$f":"Parameters!AH22303","v":0},{"$f":"Parameters!AI22303","v":0},{"$f":"Parameters!AJ22303","v":0},{"$f":"Parameters!AK22303","v":0},{"$f":"Parameters!AL22303","v":0},{"$f":"Parameters!AM22303","v":0},{"$f":"Parameters!AN22303","v":0},{"$f":"Parameters!AO22303","v":0},{"$f":"Parameters!AP22303","v":0},{"$f":"Parameters!AQ22303","v":0},{"$f":"Parameters!AR22303","v":0},{"$f":"Parameters!AS22303","v":0},{"$f":"Parameters!AT22303","v":0},{"$f":"Parameters!AU22303","v":0},{"$f":"Parameters!AV22303","v":0},{"$f":"Parameters!AW22303","v":0},{"$f":"Parameters!AX22303","v":0},{"$f":"Parameters!AY22303","v":0},{"$f":"Parameters!AZ22303","v":0},{"$f":"Parameters!BA22303","v":0},{"$f":"Parameters!BB22303","v":0},{"$f":"Parameters!BC22303","v":0},{"$f":"Parameters!BD22303","v":0},{"$f":"Parameters!BE22303","v":0},{"$f":"Parameters!BF22303","v":0},{"$f":"Parameters!BG22303","v":0},{"$f":"Parameters!BH22303","v":0},{"$f":"Parameters!BI22303","v":0},{"$f":"Parameters!BJ22303","v":0},{"$f":"Parameters!BK22303","v":0},{"$f":"Parameters!BL22303","v":0},{"$f":"Parameters!BM22303","v":0},{"$f":"Parameters!BN22303","v":0}]
[{"$f":"CONCATENATE(\"[\",Parameters!B22384,\",\",Parameters!C22384,\",\",Parameters!F22384,\",*,*]:\")","v":"[RE1,PWRNGS001,RESELC,*,*]:"}]
[2015,2016,2017,2018,2019,2020,2021,2022,2023,2024,2025,2026,2027,2028,2029,2030,2031,2032,2033,2034,2035,2036,2037,2038,2039,2040,2041,2042,2043,2044,2045,2046,2047,2048,2049,2050,2051,2052,2053,2054,2055,2056,2057,2058,2059,2060,2061,2062,2063,2064,2065,2066,2067,2068,2069,"2070:="]
[2015,2016,2017,2018,2019,2020,2021,2022,2023,2024,2025,2026,2027,2028,2029,2030,2031,2032,2033,2034,2035,2036,2037,2038,2039,2040,2041,2042,2043,2044,2045,2046,2047,2048,2049,2050,2051,2052,2053,2054,2055,2056,2057,2058,2059,2060,2061,2062,2063,2064,2065,2066,2067,2068,2069,"2070:="]
[{"$f":"CONCATENATE(\"[\",Parameters!B22558,\",\",Parameters!C22558,\",\",Parameters!F22558,\",*,*]:\")","v":"[RE1,TEC027,COM046,*,*]:"}]
[{"$f":"CONCATENATE(\"[\",Parameters!B22630,\",\",Parameters!C22630,\",\",Parameters!F22630,\",*,*]:\")","v":"[RE1,PWRHYD001,TRABUS,*,*]:"}]
[2015,2016,2017,2018,2019,2020,2021,2022,2023,2024,2025,2026,2027,2028,2029,2030,2031,2032,2033,2034,2035,2036,2037,2038,2039,2040,2041,2042,2043,2044,2045,2046,2047,2048,2049,2050,2051,2052,2053,2054,2055,2056,2057,2058,2059,2060,2061,2062,2063,2064,2065,2066,2067,2068,2069,"2070:="]
[1,{"$f":"Parameters!K22778","v":0},{"$f":"Parameters!L22778","v":0},{"$f":"Parameters!M22778","v":0},{"$f":"Parameters!N22778","v":0},{"$f":"Parameters!O22778","v":0},{"$f":"Parameters!P22778","v":0},{"$f":"Parameters!Q22778","v":0},{"$f":"Parameters!R22778","v":0},{"$f":"Parameters!S22778","v":0},{"$f":"Parameters!T22778","v":0},{"$f":"Parameters!U22778","v":0},{"$f":"Parameters!V22778","v":0},{"$f":"Parameters!W22778","v":0},{"$f":"Parameters!X22778","v":0},{"$f":"Parameters!Y22778","v":0},{"$f":"Parameters!Z22778","v":0},{"$f":"Parameters!AA22778","v":0},{"$f":"Parameters!AB22778","v":0},{"$f":"Parameters!AC22778","v":0},{"$f":"Parameters!AD22778","v":0},{"$f":"Parameters!AE22778","v":0},{"$f":"Parameters!AF22778","v":0},{"$f":"Parameters!AG22778","v":0},{"$f":"Parameters!AH22778","v":0},{"$f":"Parameters!AI22778","v":0},{"$f":"Parameters!AJ22778","v":0},{"$f":"Parameters!AK22778","v":0},{"$f":"Parameters!AL22778","v":0},{"$f":"Parameters!AM22778","v":0},{"$f":"Parameters!AN22778","v":0},{"$f":"Parameters!AO22778","v":0},{"$f":"Parameters!AP22778","v":0},{"$f":"Parameters!AQ22778","v":0},{"$f":"Parameters!AR22778","v":0},{"$f":"Parameters!AS22778","v":0},{"$f":"Parameters!AT22778","v":0},{"$f":"Parameters!AU22778","v":0},{"$f":"Parameters!AV22778","v":0},{"$f":"Parameters!AW22778","v":0},{"$f":"Parameters!AX22778","v":0},{"$f":"Parameters!AY22778","v":0},{"$f":"Parameters!AZ22778","v":0},{"$f":"Parameters!BA22778","v":0},{"$f":"Parameters!BB22778","v":0},{"$f":"Parameters!BC22778","v":0},{"$f":"Parameters!BD22778","v":0},{"$f":"Parameters!BE22778","v":0},{"$f":"Parameters!BF22778","v":0},{"$f":"Parameters!BG22778","v":0},{"$f":"Parameters!BH22778","v":0},{"$f":"Parameters!BI22778","v":0},{"$f":"Parameters!BJ22778","v":0},{"$f":"Parameters!BK22778","v":0},{"$f":"Parameters!BL22778","v":0},{"$f":"Parameters!BM22778","v":0},{"$f":"Parameters!BN22778","v":0}]
[1,{"$f":"Parameters!K22820","v":0},{"$f":"Parameters!L22820","v":0},{"$f":"Parameters!M22820","v":0},{"$f":"Parameters!N22820","v":0},{"$f":"Parameters!O22820","v":0},{"$f":"Parameters!P22820","v":0},{"$f":"Parameters!Q22820","v":0},{"$f":"Parameters!R22820","v":0},{"$f":"Parameters!S22820","v":0},{"$f":"Parameters!T22820","v":0},{"$f":"Parameters!U22820","v":0},{"$f":"Parameters!V22820","v":0},{"$f":"Parameters!W22820","v":0},{"$f":"Parameters!X22820","v":0},{"$f":"Parameters!Y22820","v":0},{"$f":"Parameters!Z22820","v":0},{"$f":"Parameters!AA22820","v":0},{"$f":"Parameters!AB22820","v":0},{"$f":"Parameters!AC22820","v":0},{"$f":"Parameters!AD22820","v":0},{"$f":"Parameters!AE22820","v":0},{"$f":"Parameters!AF22820","v":0},{"$f":"Parameters!AG22820","v":0},{"$f":"Parameters!AH22820","v":0},{"$f":"Parameters!AI22820","v":0},{"$f":"Parameters!AJ22820","v":0},{"$f":"Parameters!AK22820","v":0},{"$f":"Parameters!AL22820","v":0},{"$f":"Parameters!AM22820","v":0},{"$f":"Parameters!AN22820","v":0},{"$f":"Parameters!AO22820","v":0},{"$f":"Parameters!AP22820","v":0},{"$f":"Parameters!AQ22820","v":0},{"$f":"Parameters!AR22820","v":0},{"$f":"Parameters!AS22820","v":0},{"$f":"Parameters!AT22820","v":0},{"$f":"Parameters!AU22820","v":0},{"$f":"Parameters!AV22820","v":0},{"$f":"Parameters!AW22820","v":0},{"$f":"Parameters!AX22820","v":0},{"$f":"Parameters!AY22820","v":0},{"$f":"Parameters!AZ22820","v":0},{"$f":"Parameters!BA22820","v":0},{"$f":"Parameters!BB22820","v":0},{"$f":"Parameters!BC22820","v":0},{"$f":"Parameters!BD22820","v":0},{"$f":"Parameters!BE22820","v":0},{"$f":"Parameters!BF22820","v":0},{"$f":"Parameters!BG22820","v":0},{"$f":"Parameters!BH22820","v":0},{"$f":"Parameters!BI22820","v":0},{"$f":"Parameters!BJ22820","v":0},{"$f":"Parameters!BK22820","v":0},{"$f":"Parameters!BL22820","v":0},{"$f":"Parameters!BM22820","v":0},{"$f":"Parameters!BN22820","v":0}]
[2015,2016,2017,2018,2019,2020,2021,2022,2023,2024,2025,2026,2027,2028,2029,2030,2031,2032,2033,2034,2035,2036,2037,2038,2039,2040,2041,2042,2043,2044,2045,2046,2047,2048,2049,2050,2051,2052,2053,2054,2055,2056,2057,2058,2059,2060,2061,2062,2063,2064,2065,2066,2067,2068,2069,"2070:="]
[2015,2016,2017,2018,2019,2020,2021,2022,2023,2024,2025,2026,2027,2028,2029,2030,2031,2032,2033,2034,2035,2036,2037,2038,2039,2040,2041,2042,2043,2044,2045,2046,2047,2048,2049,2050,2051,2052,2053,2054,2055,2056,2057,2058,2059,2060,2061,2062,2063,2064,2065,2066,2067,2068,2069,"2070:="]
[{"$f":"CONCATENATE(\"[\",Parameters!B22991,\",\",Parameters!C22991,\",\",Parameters!F22991,\",*,*]:\")","v":"[RE1,PWRWND001S,COM029,*,*]:"}]
[{"$f":"CONCATENATE(\"[\",Parameters!B23032,\",\",Parameters!C23032,\",\",Parameters!F23032,\",*,*]:\")","v":"[RE1,PWRTRNIMP,INDHEH,*,*]:"}]
[{"$f":"CONCATENATE(\"[\",Parameters!B23087,\",\",Parameters!C23087,\",\",Parameters!F23087,\",*,*]:\")","v":"[RE1,BACKSTOP001,COMELC,*,*]:"}]
[2015,2016,2017,2018,2019,2020,2021,2022,2023,2024,2025,2026,2027,2028,2029,2030,2031,2032,2033,2034,2035,2036,2037,2038,2039,2040,2041,2042,2043,2044,2045,2046,2047,2048,2049,2050,2051,2052,2053,2054,2055,2056,2057,2058,2059,2060,2061,2062,2063,2064,2065,2066,2067,2068,2069,"2070:="]
[1,{"$f":"Parameters!K23222","v":0},{"$f":"Parameters!L23222","v":0},{"$f":"Parameters!M23222","v":0},{"$f":"Parameters!N23222","v":0},{"$f":"Parameters!O23222","v":0},{"$f":"Parameters!P23222","v":0},{"$f":"Parameters!Q23222","v":0},{"$f":"Parameters!R23222","v":0},{"$f":"Parameters!S23222","v":0},{"$f":"Parameters!T23222","v":0},{"$f":"Parameters!U23222","v":0},{"$f":"Parameters!V23222","v":0},{"$f":"Parameters!W23222","v":0},{"$f":"Parameters!X23222","v":0},{"$f":"Parameters!Y23222","v":0},{"$f":"Parameters!Z23222","v":0},{"$f":"Parameters!AA23222","v":0},{"$f":"Parameters!AB23222","v":0},{"$f":"Parameters!AC23222","v":0},{"$f":"Parameters!AD23222","v":0},{"$f":"Parameters!AE23222","v":0},{"$f":"Parameters!AF23222","v":0},{"$f":"Parameters!AG23222","v":0},{"$f":"Parameters!AH23222","v":0},{"$f":"Parameters!AI23222","v":0},{"$f":"Parameters!AJ23222","v":0},{"$f":"Parameters!AK23222","v":0},{"$f":"Parameters!AL23222","v":0},{"$f":"Parameters!AM23222","v":0},{"$f":"Parameters!AN23222","v":0},{"$f":"Parameters!AO23222","v":0},{"$f":"Parameters!AP23222","v":0},{"$f":"Parameters!AQ23222","v":0},{"$f":"Parameters!AR23222","v":0},{"$f":"Parameters!AS23222","v":0},{"$f":"Parameters!AT23222","v":0},{"$f":"Parameters!AU23222","v":0},{"$f":"Parameters!AV23222","v":0},{"$f":"Parameters!AW23222","v":0},{"$f":"Parameters!AX23222","v":0},{"$f":"Parameters!AY23222","v":0},{"$f":"Parameters!AZ23222","v":0},{"$f":"Parameters!BA23222","v":0},{"$f":"Parameters!BB23222","v":0},{"$f":"Parameters!BC23222","v":0},{"$f":"Parameters!BD23222","v":0},{"$f":"Parameters!BE23222","v":0},{"$f":"Parameters!BF23222","v":0},{"$f":"Parameters!BG23222","v":0},{"$f":"Parameters!BH23222","v":0},{"$f":"Parameters!BI23222","v":0},{"$f":"Parameters!BJ23222","v":0},{"$f":"Parameters!BK23222","v":0},{"$f":"Parameters!BL23222","v":0},{"$f":"Parameters!BM23222","v":0},{"$f":"Parameters!BN23222","v":0}]
[2015,2016,2017,2018,2019,2020,2021,2022,2023,2024,2025,2026,2027,2028,2029,2030,2031,2032,2033,2034,2035,2036,2037,2038,2039,2040,2041,2042,2043,2044,2045,2046,2047,2048,2049,2050,2051,2052,2053,2054,2055,2056,2057,2058,2059,2060,2061,2062,2063,2064,2065,2066,2067,2068,2069,"2070:="]
[2015,2016,2017,2018,2019,2020,2021,2022,2023,2024,2025,2026,2027,2028,2029,2030,2031,2032,2033,2034,2035,2036,2037,2038,2039,2040,2041,2042,2043,2044,2045,2046,2047,2048,2049,2050,2051,2052,2053,2054,2055,2056,2057,2058,2059,2060,2061,2062,2063,2064,2065,2066,2067,2068,2069,"2070:="]
[2015,2016,2017,2018,2019,2020,2021,2022,2023,2024,2025,2026,2027,2028,2029,2030,2031,2032,2033,2034,2035,2036,2037,2038,2039,2040,2041,2042,2043,2044,2045,2046,2047,2048,2049,2050,2051,2052,2053,2054,2055,2056,2057,2058,2059,2060,2061,2062,2063,2064,2065,2066,2067,2068,2069,"2070:="]
[1,{"$f":"Parameters!K23485","v":0},{"$f":"Parameters!L23485","v":0},{"$f":"Parameters!M23485","v":0},{"$f":"Parameters!N23485","v":0},{"$f":"Parameters!O23485","v":0},{"$f":"Parameters!P23485","v":0},{"$f":"Parameters!Q23485","v":0},{"$f":"Parameters!R23485","v":0},{"$f":"Parameters!S23485","v":0},{"$f":"Parameters!T23485","v":0},{"$f":"Parameters!U23485","v":0},{"$f":"Parameters!V23485","v":0},{"$f":"Parameters!W23485","v":0},{"$f":"Parameters!X23485","v":0},{"$f":"Parameters!Y23485","v":0},{"$f":"Parameters!Z23485","v":0},{"$f":"Parameters!AA23485","v":0},{"$f":"Parameters!AB23485","v":0},{"$f":"Parameters!AC23485","v":0},{"$f":"Parameters!AD23485","v":0},{"$f":"Parameters!AE23485","v":0},{"$f":"Parameters!AF23485","v":0},{"$f":"Parameters!AG23485","v":0},{"$f":"Parameters!AH23485","v":0},{"$f":"Parameters!AI23485","v":0},{"$f":"Parameters!AJ23485","v":0},{"$f":"Parameters!AK23485","v":0},{"$f":"Parameters!AL23485","v":0},{"$f":"Parameters!AM23485","v":0},{"$f":"Parameters!AN23485","v":0},{"$f":"Parameters!AO23485","v":0},{"$f":"Parameters!AP23485","v":0},{"$f":"Parameters!AQ23485","v":0},{"$f":"Parameters!AR23485","v":0},{"$f":"Parameters!AS23485","v":0},{"$f":"Parameters!AT23485","v":0},{"$f":"Parameters!AU23485","v":0},{"$f":"Parameters!AV23485","v":0},{"$f":"Parameters!AW23485","v":0},{"$f":"Parameters!AX23485","v":0},{"$f":"Parameters!AY23485","v":0},{"$f":"Parameters!AZ23485","v":0},{"$f":"Parameters!BA23485","v":0},{"$f":"Parameters!BB23485","v":0},{"$f":"Parameters!BC23485","v":0},{"$f":"Parameters!BD23485","v":0},{"$f":"Parameters!BE23485","v":0},{"$f":"Parameters!BF23485","v":0},{"$f":"Parameters!BG23485","v":0},{"$f":"Parameters!BH23485","v":0},{"$f":"Parameters!BI23485","v":0},{"$f":"Parameters!BJ23485","v":0},{"$f":"Parameters!BK23485","v":0},{"$f":"Parameters!BL23485","v":0},{"$f":"Parameters!BM23485","v":0},{"$f":"Parameters!BN23485","v":0}]
[{"$f":"CONCATENATE(\"[\",Parameters!B23549,\",\",Parameters!C23549,\",\",Parameters!F23549,\",*,*]:\")","v":"[RE1,DEMTRAMCYELC,COM037,*,*]:"}]
[2015,2016,2017,2018,2019,2020,2021,2022,2023,2024,2025,2026,2027,2028,2029,2030,2031,2032,2033,2034,2035,2036,2037,2038,2039,2040,2041,2042,2043,2044,2045,2046,2047,2048,2049,2050,2051,2052,2053,2054,2055,2056,2057,2058,2059,2060,2061,2062,2063,2064,2065,2066,2067,2068,2069,"2070:="]
[1,{"$f":"Parameters!K23624","v":0},{"$f":"Parameters!L23624","v":0},{"$f":"Parameters!M23624","v":0},{"$f":"Parameters!N23624","v":0},{"$f":"Parameters!O23624","v":0},{"$f":"Parameters!P23624","v":0},{"$f":"Parameters!Q23624","v":0},{"$f":"Parameters!R23624","v":0},{"$f":"Parameters!S23624","v":0},{"$f":"Parameters!T23624","v":0},{"$f":"Parameters!U23624","v":0},{"$f":"Parameters!V23624","v":0},{"$f":"Parameters!W23624","v":0},{"$f":"Parameters!X23624","v":0},{"$f":"Parameters!Y23624","v":0},{"$f":"Parameters!Z23624","v":0},{"$f":"Parameters!AA23624","v":0},{"$f":"Parameters!AB23624","v":0},{"$f":"Parameters!AC23624","v":0},{"$f":"Parameters!AD23624","v":0},{"$f":"Parameters!AE23624","v":0},{"$f":"Parameters!AF23624","v":0},{"$f":"Parameters!AG23624","v":0},{"$f":"Parameters!AH23624","v":0},{"$f":"Parameters!AI23624","v":0},{"$f":"Parameters!AJ23624","v":0},{"$f":"Parameters!AK23624","v":0},{"$f":"Parameters!AL23624","v":0},{"$f":"Parameters!AM23624","v":0},{"$f":"Parameters!AN23624","v":0},{"$f":"Parameters!AO23624","v":0},{"$f":"Parameters!AP23624","v":0},{"$f":"Parameters!AQ23624","v":0},{"$f":"Parameters!AR23624","v":0},{"$f":"Parameters!AS23624","v":0},{"$f":"Parameters!AT23624","v":0},{"$f":"Parameters!AU23624","v":0},{"$f":"Parameters!AV23624","v":0},{"$f":"Parameters!AW23624","v":0},{"$f":"Parameters!AX23624","v":0},{"$f":"Parameters!AY23624","v":0},{"$f":"Parameters!AZ23624","v":0},{"$f":"Parameters!BA23624","v":0},{"$f":"Parameters!BB23624","v":0},{"$f":"Parameters!BC23624","v":0},{"$f":"Parameters!BD23624","v":0},{"$f":"Parameters!BE23624","v":0},{"$f":"Parameters!BF23624","v":0},{"$f":"Parameters!BG23624","v":0},{"$f":"Parameters!BH23624","v":0},{"$f":"Parameters!BI23624","v":0},{"$f":"Parameters!BJ23624","v":0},{"$f":"Parameters!BK23624","v":0},{"$f":"Parameters!BL23624","v":0},{"$f":"Parameters!BM23624","v":0},{"$f":"Parameters!BN23624","v":0}]
[{"$f":"CONCATENATE(\"[\",Parameters!B23698,\",\",Parameters!C23698,\",\",Parameters!F23698,\",*,*]:\")","v":"[RE1,DEMTRAMCYGSL,COM036,*,*]:"}]
[{"$f":"CONCATENATE(\"[\",Parameters!B23795,\",\",Parameters!C23795,\",\",Parameters!F23795,\",*,*]:\")","v":"[RE1,DEMTRABUSGSL,COM033,*,*]:"}]
[2015,2016,2017,2018,2019,2020,2021,2022,2023,2024,2025,2026,2027,2028,2029,2030,2031,2032,2033,2034,2035,2036,2037,2038,2039,2040,2041,2042,2043,2044,2045,2046,2047,2048,2049,2050,2051,2052,2053,2054,2055,2056,2057,2058,2059,2060,2061,2062,2063,2064,2065,2066,2067,2068,2069,"2070:="]
[1,{"$f":"Parameters!K23918","v":0},{"$f":"Parameters!L23918","v":0},{"$f":"Parameters!M23918","v":0},{"$f":"Parameters!N23918","v":0},{"$f":"Parameters!O23918","v":0},{"$f":"Parameters!P23918","v":0},{"$f":"Parameters!Q23918","v":0},{"$f":"Parameters!R23918","v":0},{"$f":"Parameters!S23918","v":0},{"$f":"Parameters!T23918","v":0},{"$f":"Parameters!U23918","v":0},{"$f":"Parameters!V23918","v":0},{"$f":"Parameters!W23918","v":0},{"$f":"Parameters!X23918","v":0},{"$f":"Parameters!Y23918","v":0},{"$f":"Parameters!Z23918","v":0},{"$f":"Parameters!AA23918","v":0},{"$f":"Parameters!AB23918","v":0},{"$f":"Parameters!AC23918","v":0},{"$f":"Parameters!AD23918","v":0},{"$f":"Parameters!AE23918","v":0},{"$f":"Parameters!AF23918","v":0},{"$f":"Parameters!AG23918","v":0},{"$f":"Parameters!AH23918","v":0},{"$f":"Parameters!AI23918","v":0},{"$f":"Parameters!AJ23918","v":0},{"$f":"Parameters!AK23918","v":0},{"$f":"Parameters!AL23918","v":0},{"$f":"Parameters!AM23918","v":0},{"$f":"Parameters!AN23918","v":0},{"$f":"Parameters!AO23918","v":0},{"$f":"Parameters!AP23918","v":0},{"$f":"Parameters!AQ23918","v":0},{"$f":"Parameters!AR23918","v":0},{"$f":"Parameters!AS23918","v":0},{"$f":"Parameters!AT23918","v":0},{"$f":"Parameters!AU23918","v":0},{"$f":"Parameters!AV23918","v":0},{"$f":"Parameters!AW23918","v":0},{"$f":"Parameters!AX23918","v":0},{"$f":"Parameters!AY23918","v":0},{"$f":"Parameters!AZ23918","v":0},{"$f":"Parameters!BA23918","v":0},{"$f":"Parameters!BB23918","v":0},{"$f":"Parameters!BC23918","v":0},{"$f":"Parameters!BD23918","v":0},{"$f":"Parameters!BE23918","v":0},{"$f":"Parameters!BF23918","v":0},{"$f":"Parameters!BG23918","v":0},{"$f":"Parameters!BH23918","v":0},{"$f":"Parameters!BI23918","v":0},{"$f":"Parameters!BJ23918","v":0},{"$f":"Parameters!BK23918","v":0},{"$f":"Parameters!BL23918","v":0},{"$f":"Parameters!BM23918","v":0},{"$f":"Parameters!BN23918","v":0}]
[{"$f":"CONCATENATE(\"[\",Parameters!B23951,\",\",Parameters!C23951,\",\",Parameters!F23951,\",*,*]:\")","v":"[RE1,INDENEFFDP,COM039,*,*]:"}]
[2015,2016,2017,2018,2019,2020,2021,2022,2023,2024,2025,2026,2027,2028,2029,2030,2031,2032,2033,2034,2035,2036,2037,2038,2039,2040,2041,2042,2043,2044,2045,2046,2047,2048,2049,2050,2051,2052,2053,2054,2055,2056,2057,2058,2059,2060,2061,2062,2063,2064,2065,2066,2067,2068,2069,"2070:="]
[2015,2016,2017,2018,2019,2020,2021,2022,2023,2024,2025,2026,2027,2028,2029,2030,2031,2032,2033,2034,2035,2036,2037,2038,2039,2040,2041,2042,2043,2044,2045,2046,2047,2048,2049,2050,2051,2052,2053,2054,2055,2056,2057,2058,2059,2060,2061,2062,2063,2064,2065,2066,2067,2068,2069,"2070:="]
[1,{"$f":"Parameters!K24141","v":0},{"$f":"Parameters!L24141","v":0},{"$f":"Parameters!M24141","v":0},{"$f":"Parameters!N24141","v":0},{"$f":"Parameters!O24141","v":0},{"$f":"Parameters!P24141","v":0},{"$f":"Parameters!Q24141","v":0},{"$f":"Parameters!R24141","v":0},{"$f":"Parameters!S24141","v":0},{"$f":"Parameters!T24141","v":0},{"$f":"Parameters!U24141","v":0},{"$f":"Parameters!V24141","v":0},{"$f":"Parameters!W24141","v":0},{"$f":"Parameters!X24141","v":0},{"$f":"Parameters!Y24141","v":0},{"$f":"Parameters!Z24141","v":0},{"$f":"Parameters!AA24141","v":0},{"$f":"Parameters!AB24141","v":0},{"$f":"Parameters!AC24141","v":0},{"$f":"Parameters!AD24141","v":0},{"$f":"Parameters!AE24141","v":0},{"$f":"Parameters!AF24141","v":0},{"$f":"Parameters!AG24141","v":0},{"$f":"Parameters!AH24141","v":0},{"$f":"Parameters!AI24141","v":0},{"$f":"Parameters!AJ24141","v":0},{"$f":"Parameters!AK24141","v":0},{"$f":"Parameters!AL24141","v":0},{"$f":"Parameters!AM24141","v":0},{"$f":"Parameters!AN24141","v":0},{"$f":"Parameters!AO24141","v":0},{"$f":"Parameters!AP24141","v":0},{"$f":"Parameters!AQ24141","v":0},{"$f":"Parameters!AR24141","v":0},{"$f":"Parameters!AS24141","v":0},{"$f":"Parameters!AT24141","v":0},{"$f":"Parameters!AU24141","v":0},{"$f":"Parameters!AV24141","v":0},{"$f":"Parameters!AW24141","v":0},{"$f":"Parameters!AX24141","v":0},{"$f":"Parameters!AY24141","v":0},{"$f":"Parameters!AZ24141","v":0},{"$f":"Parameters!BA24141","v":0},{"$f":"Parameters!BB24141","v":0},{"$f":"Parameters!BC24141","v":0},{"$f":"Parameters!BD24141","v":0},{"$f":"Parameters!BE24141","v":0},{"$f":"Parameters!BF24141","v":0},{"$f":"Parameters!BG24141","v":0},{"$f":"Parameters!BH24141","v":0},{"$f":"Parameters!BI24141","v":0},{"$f":"Parameters!BJ24141","v":0},{"$f":"Parameters!BK24141","v":0},{"$f":"Parameters!BL24141","v":0},{"$f":"Parameters!BM24141","v":0},{"$f":"Parameters!BN24141","v":0}]
[1,{"$f":"Parameters!K24187","v":0},{"$f":"Parameters!L24187","v":0},{"$f":"Parameters!M24187","v":0},{"$f":"Parameters!N24187","v":0},{"$f":"Parameters!O24187","v":0},{"$f":"Parameters!P24187","v":0},{"$f":"Parameters!Q24187","v":0},{"$f":"Parameters!R24187","v":0},{"$f":"Parameters!S24187","v":0},{"$f":"Parameters!T24187","v":0},{"$f":"Parameters!U24187","v":0},{"$f":"Parameters!V24187","v":0},{"$f":"Parameters!W24187","v":0},{"$f":"Parameters!X24187","v":0},{"$f":"Parameters!Y24187","v":0},{"$f":"Parameters!Z24187","v":0},{"$f":"Parameters!AA24187","v":0},{"$f":"Parameters!AB24187","v":0},{"$f":"Parameters!AC24187","v":0},{"$f":"Parameters!AD24187","v":0},{"$f":"Parameters!AE24187","v":0},{"$f":"Parameters!AF24187","v":0},{"$f":"Parameters!AG24187","v":0},{"$f":"Parameters!AH24187","v":0},{"$f":"Parameters!AI24187","v":0},{"$f":"Parameters!AJ24187","v":0},{"$f":"Parameters!AK24187","v":0},{"$f":"Parameters!AL24187","v":0},{"$f":"Parameters!AM24187","v":0},{"$f":"Parameters!AN24187","v":0},{"$f":"Parameters!AO24187","v":0},{"$f":"Parameters!AP24187","v":0},{"$f":"Parameters!AQ24187","v":0},{"$f":"Parameters!AR24187","v":0},{"$f":"Parameters!AS24187","v":0},{"$f":"Parameters!AT24187","v":0},{"$f":"Parameters!AU24187","v":0},{"$f":"Parameters!AV24187","v":0},{"$f":"Parameters!AW24187","v":0},{"$f":"Parameters!AX24187","v":0},{"$f":"Parameters!AY24187","v":0},{"$f":"Parameters!AZ24187","v":0},{"$f":"Parameters!BA24187","v":0},{"$f":"Parameters!BB24187","v":0},{"$f":"Parameters!BC24187","v":0},{"$f":"Parameters!BD24187","v":0},{"$f":"Parameters!BE24187","v":0},{"$f":"Parameters!BF24187","v":0},{"$f":"Parameters!BG24187","v":0},{"$f":"Parameters!BH24187","v":0},{"$f":"Parameters!BI24187","v":0},{"$f":"Parameters!BJ24187","v":0},{"$f":"Parameters!BK24187","v":0},{"$f":"Parameters!BL24187","v":0},{"$f":"Parameters!BM24187","v":0},{"$f":"Parameters!BN24187","v":0}]
[{"$f":"CONCATENATE(\"[\",Parameters!B24252,\",\",Parameters!C24252,\",\",Parameters!F24252,\",*,*]:\")","v":"[RE1,DEMRESELC,COM040,*,*]:"}]
[2015,2016,2017,2018,2019,2020,2021,2022,2023,2024,2025,2026,2027,2028,2029,2030,2031,2032,2033,2034,2035,2036,2037,2038,2039,2040,2041,2042,2043,2044,2045,2046,2047,2048,2049,2050,2051,2052,2053,2054,2055,2056,2057,2058,2059,2060,2061,2062,2063,2064,2065,2066,2067,2068,2069,"2070:="]
[1,{"$f":"Parameters!K24387","v":0},{"$f":"Parameters!L24387","v":0},{"$f":"Parameters!M24387","v":0},{"$f":"Parameters!N24387","v":0},{"$f":"Parameters!O24387","v":0},{"$f":"Parameters!P24387","v":0},{"$f":"Parameters!Q24387","v":0},{"$f":"Parameters!R24387","v":0},{"$f":"Parameters!S24387","v":0},{"$f":"Parameters!T24387","v":0},{"$f":"Parameters!U24387","v":0},{"$f":"Parameters!V24387","v":0},{"$f":"Parameters!W24387","v":0},{"$f":"Parameters!X24387","v":0},{"$f":"Parameters!Y24387","v":0},{"$f":"Parameters!Z24387","v":0},{"$f":"Parameters!AA24387","v":0},{"$f":"Parameters!AB24387","v":0},{"$f":"Parameters!AC24387","v":0},{"$f":"Parameters!AD24387","v":0},{"$f":"Parameters!AE24387","v":0},{"$f":"Parameters!AF24387","v":0},{"$f":"Parameters!AG24387","v":0},{"$f":"Parameters!AH24387","v":0},{"$f":"Parameters!AI24387","v":0},{"$f":"Parameters!AJ24387","v":0},{"$f":"Parameters!AK24387","v":0},{"$f":"Parameters!AL24387","v":0},{"$f":"Parameters!AM24387","v":0},{"$f":"Parameters!AN24387","v":0},{"$f":"Parameters!AO24387","v":0},{"$f":"Parameters!AP24387","v":0},{"$f":"Parameters!AQ24387","v":0},{"$f":"Parameters!AR24387","v":0},{"$f":"Parameters!AS24387","v":0},{"$f":"Parameters!AT24387","v":0},{"$f":"Parameters!AU24387","v":0},{"$f":"Parameters!AV24387","v":0},{"$f":"Parameters!AW24387","v":0},{"$f":"Parameters!AX24387","v":0},{"$f":"Parameters!AY24387","v":0},{"$f":"Parameters!AZ24387","v":0},{"$f":"Parameters!BA24387","v":0},{"$f":"Parameters!BB24387","v":0},{"$f":"Parameters!BC24387","v":0},{"$f":"Parameters!BD24387","v":0},{"$f":"Parameters!BE24387","v":0},{"$f":"Parameters!BF24387","v":0},{"$f":"Parameters!BG24387","v":0},{"$f":"Parameters!BH24387","v":0},{"$f":"Parameters!BI24387","v":0},{"$f":"Parameters!BJ24387","v":0},{"$f":"Parameters!BK24387","v":0},{"$f":"Parameters!BL24387","v":0},{"$f":"Parameters!BM24387","v":0},{"$f":"Parameters!BN24387","v":0}]
[{"$f":"CONCATENATE(\"[\",Parameters!B24405,\",\",Parameters!C24405,\",\",Parameters!F24405,\",*,*]:\")","v":"[RE1,DEMRESCKNELC,COM043,*,*]:"}]
[2015,2016,2017,2018,2019,2020,2021,2022,2023,2024,2025,2026,2027,2028,2029,2030,2031,2032,2033,2034,2035,2036,2037,2038,2039,2040,2041,2042,2043,2044,2045,2046,2047,2048,2049,2050,2051,2052,2053,2054,2055,2056,2057,2058,2059,2060,2061,2062,2063,2064,2065,2066,2067,2068,2069,"2070:="]
[2015,2016,2017,2018,2019,2020,2021,2022,2023,2024,2025,2026,2027,2028,2029,2030,2031,2032,2033,2034,2035,2036,2037,2038,2039,2040,2041,2042,2043,2044,2045,2046,2047,2048,2049,2050,2051,2052,2053,2054,2055,2056,2057,2058,2059,2060,2061,2062,2063,2064,2065,2066,2067,2068,2069,"2070:="]
[1,{"$f":"Parameters!K24625","v":0},{"$f":"Parameters!L24625","v":0},{"$f":"Parameters!M24625","v":0},{"$f":"Parameters!N24625","v":0},{"$f":"Parameters!O24625","v":0},{"$f":"Parameters!P24625","v":0},{"$f":"Parameters!Q24625","v":0},{"$f":"Parameters!R24625","v":0},{"$f":"Parameters!S24625","v":0},{"$f":"Parameters!T24625","v":0},{"$f":"Parameters!U24625","v":0},{"$f":"Parameters!V24625","v":0},{"$f":"Parameters!W24625","v":0},{"$f":"Parameters!X24625","v":0},{"$f":"Parameters!Y24625","v":0},{"$f":"Parameters!Z24625","v":0},{"$f":"Parameters!AA24625","v":0},{"$f":"Parameters!AB24625","v":0},{"$f":"Parameters!AC24625","v":0},{"$f":"Parameters!AD24625","v":0},{"$f":"Parameters!AE24625","v":0},{"$f":"Parameters!AF24625","v":0},{"$f":"Parameters!AG24625","v":0},{"$f":"Parameters!AH24625","v":0},{"$f":"Parameters!AI24625","v":0},{"$f":"Parameters!AJ24625","v":0},{"$f":"Parameters!AK24625","v":0},{"$f":"Parameters!AL24625","v":0},{"$f":"Parameters!AM24625","v":0},{"$f":"Parameters!AN24625","v":0},{"$f":"Parameters!AO24625","v":0},{"$f":"Parameters!AP24625","v":0},{"$f":"Parameters!AQ24625","v":0},{"$f":"Parameters!AR24625","v":0},{"$f":"Parameters!AS24625","v":0},{"$f":"Parameters!AT24625","v":0},{"$f":"Parameters!AU24625","v":0},{"$f":"Parameters!AV24625","v":0},{"$f":"Parameters!AW24625","v":0},{"$f":"Parameters!AX24625","v":0},{"$f":"Parameters!AY24625","v":0},{"$f":"Parameters!AZ24625","v":0},{"$f":"Parameters!BA24625","v":0},{"$f":"Parameters!BB24625","v":0},{"$f":"Parameters!BC24625","v":0},{"$f":"Parameters!BD24625","v":0},{"$f":"Parameters!BE24625","v":0},{"$f":"Parameters!BF24625","v":0},{"$f":"Parameters!BG24625","v":0},{"$f":"Parameters!BH24625","v":0},{"$f":"Parameters!BI24625","v":0},{"$f":"Parameters!BJ24625","v":0},{"$f":"Parameters!BK24625","v":0},{"$f":"Parameters!BL24625","v":0},{"$f":"Parameters!BM24625","v":0},{"$f":"Parameters!BN24625","v":0}]
[{"$f":"CONCATENATE(\"[\",Parameters!B24654,\",\",Parameters!C24654,\",\",Parameters!F24654,\",*,*]:\")","v":"[RE1,DEMRESHEEL,COM042,*,*]:"}]
[2015,2016,2017,2018,2019,2020,2021,2022,2023,2024,2025,2026,2027,2028,2029,2030,2031,2032,2033,2034,2035,2036,2037,2038,2039,2040,2041,2042,2043,2044,2045,2046,2047,2048,2049,2050,2051,2052,2053,2054,2055,2056,2057,2058,2059,2060,2061,2062,2063,2064,2065,2066,2067,2068,2069,"2070:="]
[1,{"$f":"Parameters!K24789","v":0},{"$f":"Parameters!L24789","v":0},{"$f":"Parameters!M24789","v":0},{"$f":"Parameters!N24789","v":0},{"$f":"Parameters!O24789","v":0},{"$f":"Parameters!P24789","v":0},{"$f":"Parameters!Q24789","v":0},{"$f":"Parameters!R24789","v":0},{"$f":"Parameters!S24789","v":0},{"$f":"Parameters!T24789","v":0},{"$f":"Parameters!U24789","v":0},{"$f":"Parameters!V24789","v":0},{"$f":"Parameters!W24789","v":0},{"$f":"Parameters!X24789","v":0},{"$f":"Parameters!Y24789","v":0},{"$f":"Parameters!Z24789","v":0},{"$f":"Parameters!AA24789","v":0},{"$f":"Parameters!AB24789","v":0},{"$f":"Parameters!AC24789","v":0},{"$f":"Parameters!AD24789","v":0},{"$f":"Parameters!AE24789","v":0},{"$f":"Parameters!AF24789","v":0},{"$f":"Parameters!AG24789","v":0},{"$f":"Parameters!AH24789","v":0},{"$f":"Parameters!AI24789","v":0},{"$f":"Parameters!AJ24789","v":0},{"$f":"Parameters!AK24789","v":0},{"$f":"Parameters!AL24789","v":0},{"$f":"Parameters!AM24789","v":0},{"$f":"Parameters!AN24789","v":0},{"$f":"Parameters!AO24789","v":0},{"$f":"Parameters!AP24789","v":0},{"$f":"Parameters!AQ24789","v":0},{"$f":"Parameters!AR24789","v":0},{"$f":"Parameters!AS24789","v":0},{"$f":"Parameters!AT24789","v":0},{"$f":"Parameters!AU24789","v":0},{"$f":"Parameters!AV24789","v":0},{"$f":"Parameters!AW24789","v":0},{"$f":"Parameters!AX24789","v":0},{"$f":"Parameters!AY24789","v":0},{"$f":"Parameters!AZ24789","v":0},{"$f":"Parameters!BA24789","v":0},{"$f":"Parameters!BB24789","v":0},{"$f":"Parameters!BC24789","v":0},{"$f":"Parameters!BD24789","v":0},{"$f":"Parameters!BE24789","v":0},{"$f":"Parameters!BF24789","v":0},{"$f":"Parameters!BG24789","v":0},{"$f":"Parameters!BH24789","v":0},{"$f":"Parameters!BI24789","v":0},{"$f":"Parameters!BJ24789","v":0},{"$f":"Parameters!BK24789","v":0},{"$f":"Parameters!BL24789","v":0},{"$f":"Parameters!BM24789","v":0},{"$f":"Parameters!BN24789","v":0}]
[{"$f":"CONCATENATE(\"[\",Parameters!B24838,\",\",Parameters!C24838,\",\",Parameters!F24838,\",*,*]:\")","v":"[RE1,DEMCOMHEOIL,COMHEL,*,*]:"}]
[2015,2016,2017,2018,2019,2020,2021,2022,2023,2024,2025,2026,2027,2028,2029,2030,2031,2032,2033,2034,2035,2036,2037,2038,2039,2040,2041,2042,2043,2044,2045,2046,2047,2048,2049,2050,2051,2052,2053,2054,2055,2056,2057,2058,2059,2060,2061,2062,2063,2064,2065,2066,2067,2068,2069,"2070:="]
[2015,2016,2017,2018,2019,2020,2021,2022,2023,2024,2025,2026,2027,2028,2029,2030,2031,2032,2033,2034,2035,2036,2037,2038,2039,2040,2041,2042,2043,2044,2045,2046,2047,2048,2049,2050,2051,2052,2053,2054,2055,2056,2057,2058,2059,2060,2061,2062,2063,2064,2065,2066,2067,2068,2069,"2070:="]
[1,{"$f":"Parameters!K25058","v":0},{"$f":"Parameters!L25058","v":0},{"$f":"Parameters!M25058","v":0},{"$f":"Parameters!N25058","v":0},{"$f":"Parameters!O25058","v":0},{"$f":"Parameters!P25058","v":0},{"$f":"Parameters!Q25058","v":0},{"$f":"Parameters!R25058","v":0},{"$f":"Parameters!S25058","v":0},{"$f":"Parameters!T25058","v":0},{"$f":"Parameters!U25058","v":0},{"$f":"Parameters!V25058","v":0},{"$f":"Parameters!W25058","v":0},{"$f":"Parameters!X25058","v":0},{"$f":"Parameters!Y25058","v":0},{"$f":"Parameters!Z25058","v":0},{"$f":"Parameters!AA25058","v":0},{"$f":"Parameters!AB25058","v":0},{"$f":"Parameters!AC25058","v":0},{"$f":"Parameters!AD25058","v":0},{"$f":"Parameters!AE25058","v":0},{"$f":"Parameters!AF25058","v":0},{"$f":"Parameters!AG25058","v":0},{"$f":"Parameters!AH25058","v":0},{"$f":"Parameters!AI25058","v":0},{"$f":"Parameters!AJ25058","v":0},{"$f":"Parameters!AK25058","v":0},{"$f":"Parameters!AL25058","v":0},{"$f":"Parameters!AM25058","v":0},{"$f":"Parameters!AN25058","v":0},{"$f":"Parameters!AO25058","v":0},{"$f":"Parameters!AP25058","v":0},{"$f":"Parameters!AQ25058","v":0},{"$f":"Parameters!AR25058","v":0},{"$f":"Parameters!AS25058","v":0},{"$f":"Parameters!AT25058","v":0},{"$f":"Parameters!AU25058","v":0},{"$f":"Parameters!AV25058","v":0},{"$f":"Parameters!AW25058","v":0},{"$f":"Parameters!AX25058","v":0},{"$f":"Parameters!AY25058","v":0},{"$f":"Parameters!AZ25058","v":0},{"$f":"Parameters!BA25058","v":0},{"$f":"Parameters!BB25058","v":0},{"$f":"Parameters!BC25058","v":0},{"$f":"Parameters!BD25058","v":0},{"$f":"Parameters!BE25058","v":0},{"$f":"Parameters!BF25058","v":0},{"$f":"Parameters!BG25058","v":0},{"$f":"Parameters!BH25058","v":0},{"$f":"Parameters!BI25058","v":0},{"$f":"Parameters!BJ25058","v":0},{"$f":"Parameters!BK25058","v":0},{"$f":"Parameters!BL25058","v":0},{"$f":"Parameters!BM25058","v":0},{"$f":"Parameters!BN25058","v":0}]
[{"$f":"CONCATENATE(\"[\",Parameters!B25116,\",\",Parameters!C25116,\",\",Parameters!F25116,\",*,*]:\")","v":"[RE1,BSTOPINDELC,LFO,*,*]:"}]
[2015,2016,2017,2018,2019,2020,2021,2022,2023,2024,2025,2026,2027,2028,2029,2030,2031,2032,2033,2034,2035,2036,2037,2038,2039,2040,2041,2042,2043,2044,2045,2046,2047,2048,2049,2050,2051,2052,2053,2054,2055,2056,2057,2058,2059,2060,2061,2062,2063,2064,2065,2066,2067,2068,2069,"2070:="]
[1,{"$f":"Parameters!K25191","v":0},{"$f":"Parameters!L25191","v":0},{"$f":"Parameters!M25191","v":0},{"$f":"Parameters!N25191","v":0},{"$f":"Parameters!O25191","v":0},{"$f":"Parameters!P25191","v":0},{"$f":"Parameters!Q25191","v":0},{"$f":"Parameters!R25191","v":0},{"$f":"Parameters!S25191","v":0},{"$f":"Parameters!T25191","v":0},{"$f":"Parameters!U25191","v":0},{"$f":"Parameters!V25191","v":0},{"$f":"Parameters!W25191","v":0},{"$f":"Parameters!X25191","v":0},{"$f":"Parameters!Y25191","v":0},{"$f":"Parameters!Z25191","v":0},{"$f":"Parameters!AA25191","v":0},{"$f":"Parameters!AB25191","v":0},{"$f":"Parameters!AC25191","v":0},{"$f":"Parameters!AD25191","v":0},{"$f":"Parameters!AE25191","v":0},{"$f":"Parameters!AF25191","v":0},{"$f":"Parameters!AG25191","v":0},{"$f":"Parameters!AH25191","v":0},{"$f":"Parameters!AI25191","v":0},{"$f":"Parameters!AJ25191","v":0},{"$f":"Parameters!AK25191","v":0},{"$f":"Parameters!AL25191","v":0},{"$f":"Parameters!AM25191","v":0},{"$f":"Parameters!AN25191","v":0},{"$f":"Parameters!AO25191","v":0},{"$f":"Parameters!AP25191","v":0},{"$f":"Parameters!AQ25191","v":0},{"$f":"Parameters!AR25191","v":0},{"$f":"Parameters!AS25191","v":0},{"$f":"Parameters!AT25191","v":0},{"$f":"Parameters!AU25191","v":0},{"$f":"Parameters!AV25191","v":0},{"$f":"Parameters!AW25191","v":0},{"$f":"Parameters!AX25191","v":0},{"$f":"Parameters!AY25191","v":0},{"$f":"Parameters!AZ25191","v":0},{"$f":"Parameters!BA25191","v":0},{"$f":"Parameters!BB25191","v":0},{"$f":"Parameters!BC25191","v":0},{"$f":"Parameters!BD25191","v":0},{"$f":"Parameters!BE25191","v":0},{"$f":"Parameters!BF25191","v":0},{"$f":"Parameters!BG25191","v":0},{"$f":"Parameters!BH25191","v":0},{"$f":"Parameters!BI25191","v":0},{"$f":"Parameters!BJ25191","v":0},{"$f":"Parameters!BK25191","v":0},{"$f":"Parameters!BL25191","v":0},{"$f":"Parameters!BM25191","v":0},{"$f":"Parameters!BN25191","v":0}]
[1,{"$f":"Parameters!K25246","v":0},{"$f":"Parameters!L25246","v":0},{"$f":"Parameters!M25246","v":0},{"$f":"Parameters!N25246","v":0},{"$f":"Parameters!O25246","v":0},{"$f":"Parameters!P25246","v":0},{"$f":"Parameters!Q25246","v":0},{"$f":"Parameters!R25246","v":0},{"$f":"Parameters!S25246","v":0},{"$f":"Parameters!T25246","v":0},{"$f":"Parameters!U25246","v":0},{"$f":"Parameters!V25246","v":0},{"$f":"Parameters!W25246","v":0},{"$f":"Parameters!X25246","v":0},{"$f":"Parameters!Y25246","v":0},{"$f":"Parameters!Z25246","v":0},{"$f":"Parameters!AA25246","v":0},{"$f":"Parameters!AB25246","v":0},{"$f":"Parameters!AC25246","v":0},{"$f":"Parameters!AD25246","v":0},{"$f":"Parameters!AE25246","v":0},{"$f":"Parameters!AF25246","v":0},{"$f":"Parameters!AG25246","v":0},{"$f":"Parameters!AH25246","v":0},{"$f":"Parameters!AI25246","v":0},{"$f":"Parameters!AJ25246","v":0},{"$f":"Parameters!AK25246","v":0},{"$f":"Parameters!AL25246","v":0},{"$f":"Parameters!AM25246","v":0},{"$f":"Parameters!AN25246","v":0},{"$f":"Parameters!AO25246","v":0},{"$f":"Parameters!AP25246","v":0},{"$f":"Parameters!AQ25246","v":0},{"$f":"Parameters!AR25246","v":0},{"$f":"Parameters!AS25246","v":0},{"$f":"Parameters!AT25246","v":0},{"$f":"Parameters!AU25246","v":0},{"$f":"Parameters!AV25246","v":0},{"$f":"Parameters!AW25246","v":0},{"$f":"Parameters!AX25246","v":0},{"$f":"Parameters!AY25246","v":0},{"$f":"Parameters!AZ25246","v":0},{"$f":"Parameters!BA25246","v":0},{"$f":"Parameters!BB25246","v":0},{"$f":"Parameters!BC25246","v":0},{"$f":"Parameters!BD25246","v":0},{"$f":"Parameters!BE25246","v":0},{"$f":"Parameters!BF25246","v":0},{"$f":"Parameters!BG25246","v":0},{"$f":"Parameters!BH25246","v":0},{"$f":"Parameters!BI25246","v":0},{"$f":"Parameters!BJ25246","v":0},{"$f":"Parameters!BK25246","v":0},{"$f":"Parameters!BL25246","v":0},{"$f":"Parameters!BM25246","v":0},{"$f":"Parameters!BN25246","v":0}]
[1,{"$f":"Parameters!K25327","v":0},{"$f":"Parameters!L25327","v":0},{"$f":"Parameters!M25327","v":0},{"$f":"Parameters!N25327","v":0},{"$f":"Parameters!O25327","v":0},{"$f":"Parameters!P25327","v":0},{"$f":"Parameters!Q25327","v":0},{"$f":"Parameters!R25327","v":0},{"$f":"Parameters!S25327","v":0},{"$f":"Parameters!T25327","v":0},{"$f":"Parameters!U25327","v":0},{"$f":"Parameters!V25327","v":0},{"$f":"Parameters!W25327","v":0},{"$f":"Parameters!X25327","v":0},{"$f":"Parameters!Y25327","v":0},{"$f":"Parameters!Z25327","v":0},{"$f":"Parameters!AA25327","v":0},{"$f":"Parameters!AB25327","v":0},{"$f":"Parameters!AC25327","v":0},{"$f":"Parameters!AD25327","v":0},{"$f":"Parameters!AE25327","v":0},{"$f":"Parameters!AF25327","v":0},{"$f":"Parameters!AG25327","v":0},{"$f":"Parameters!AH25327","v":0},{"$f":"Parameters!AI25327","v":0},{"$f":"Parameters!AJ25327","v":0},{"$f":"Parameters!AK25327","v":0},{"$f":"Parameters!AL25327","v":0},{"$f":"Parameters!AM25327","v":0},{"$f":"Parameters!AN25327","v":0},{"$f":"Parameters!AO25327","v":0},{"$f":"Parameters!AP25327","v":0},{"$f":"Parameters!AQ25327","v":0},{"$f":"Parameters!AR25327","v":0},{"$f":"Parameters!AS25327","v":0},{"$f":"Parameters!AT25327","v":0},{"$f":"Parameters!AU25327","v":0},{"$f":"Parameters!AV25327","v":0},{"$f":"Parameters!AW25327","v":0},{"$f":"Parameters!AX25327","v":0},{"$f":"Parameters!AY25327","v":0},{"$f":"Parameters!AZ25327","v":0},{"$f":"Parameters!BA25327","v":0},{"$f":"Parameters!BB25327","v":0},{"$f":"Parameters!BC25327","v":0},{"$f":"Parameters!BD25327","v":0},{"$f":"Parameters!BE25327","v":0},{"$f":"Parameters!BF25327","v":0},{"$f":"Parameters!BG25327","v":0},{"$f":"Parameters!BH25327","v":0},{"$f":"Parameters!BI25327","v":0},{"$f":"Parameters!BJ25327","v":0},{"$f":"Parameters!BK25327","v":0},{"$f":"Parameters!BL25327","v":0},{"$f":"Parameters!BM25327","v":0},{"$f":"Parameters!BN25327","v":0}]
[2015,2016,2017,2018,2019,2020,2021,2022,2023,2024,2025,2026,2027,2028,2029,2030,2031,2032,2033,2034,2035,2036,2037,2038,2039,2040,2041,2042,2043,2044,2045,2046,2047,2048,2049,2050,2051,2052,2053,2054,2055,2056,2057,2058,2059,2060,2061,2062,2063,2064,2065,2066,2067,2068,2069,"2070:="]
[2015,2016,2017,2018,2019,2020,2021,2022,2023,2024,2025,2026,2027,2028,2029,2030,2031,2032,2033,2034,2035,2036,2037,2038,2039,2040,2041,2042,2043,2044,2045,2046,2047,2048,2049,2050,2051,2052,2053,2054,2055,2056,2057,2058,2059,2060,2061,2062,2063,2064,2065,2066,2067,2068,2069,"2070:="]
[{"$f":"CONCATENATE(\"[\",Parameters!B25518,\",\",Parameters!C25518,\",\",Parameters!F25518,\",*,*]:\")","v":"[RE1,DEMINDHECOA,HFO,*,*]:"}]
[2015,2016,2017,2018,2019,2020,2021,2022,2023,2024,2025,2026,2027,2028,2029,2030,2031,2032,2033,2034,2035,2036,2037,2038,2039,2040,2041,2042,2043,2044,2045,2046,2047,2048,2049,2050,2051,2052,2053,2054,2055,2056,2057,2058,2059,2060,2061,2062,2063,2064,2065,2066,2067,2068,2069,"2070:="]
[2015,2016,2017,2018,2019,2020,2021,2022,2023,2024,2025,2026,2027,2028,2029,2030,2031,2032,2033,2034,2035,2036,2037,2038,2039,2040,2041,2042,2043,2044,2045,2046,2047,2048,2049,2050,2051,2052,2053,2054,2055,2056,2057,2058,2059,2060,2061,2062,2063,2064,2065,2066,2067,2068,2069,"2070:="]
[1,{"$f":"Parameters!K25708","v":0},{"$f":"Parameters!L25708","v":0},{"$f":"Parameters!M25708","v":0},{"$f":"Parameters!N25708","v":0},{"$f":"Parameters!O25708","v":0},{"$f":"Parameters!P25708","v":0},{"$f":"Parameters!Q25708","v":0},{"$f":"Parameters!R25708","v":0},{"$f":"Parameters!S25708","v":0},{"$f":"Parameters!T25708","v":0},{"$f":"Parameters!U25708","v":0},{"$f":"Parameters!V25708","v":0},{"$f":"Parameters!W25708","v":0},{"$f":"Parameters!X25708","v":0},{"$f":"Parameters!Y25708","v":0},{"$f":"Parameters!Z25708","v":0},{"$f":"Parameters!AA25708","v":0},{"$f":"Parameters!AB25708","v":0},{"$f":"Parameters!AC25708","v":0},{"$f":"Parameters!AD25708","v":0},{"$f":"Parameters!AE25708","v":0},{"$f":"Parameters!AF25708","v":0},{"$f":"Parameters!AG25708","v":0},{"$f":"Parameters!AH25708","v":0},{"$f":"Parameters!AI25708","v":0},{"$f":"Parameters!AJ25708","v":0},{"$f":"Parameters!AK25708","v":0},{"$f":"Parameters!AL25708","v":0},{"$f":"Parameters!AM25708","v":0},{"$f":"Parameters!AN25708","v":0},{"$f":"Parameters!AO25708","v":0},{"$f":"Parameters!AP25708","v":0},{"$f":"Parameters!AQ25708","v":0},{"$f":"Parameters!AR25708","v":0},{"$f":"Parameters!AS25708","v":0},{"$f":"Parameters!AT25708","v":0},{"$f":"Parameters!AU25708","v":0},{"$f":"Parameters!AV25708","v":0},{"$f":"Parameters!AW25708","v":0},{"$f":"Parameters!AX25708","v":0},{"$f":"Parameters!AY25708","v":0},{"$f":"Parameters!AZ25708","v":0},{"$f":"Parameters!BA25708","v":0},{"$f":"Parameters!BB25708","v":0},{"$f":"Parameters!BC25708","v":0},{"$f":"Parameters!BD25708","v":0},{"$f":"Parameters!BE25708","v":0},{"$f":"Parameters!BF25708","v":0},{"$f":"Parameters!BG25708","v":0},{"$f":"Parameters!BH25708","v":0},{"$f":"Parameters!BI25708","v":0},{"$f":"Parameters!BJ25708","v":0},{"$f":"Parameters!BK25708","v":0},{"$f":"Parameters!BL25708","v":0},{"$f":"Parameters!BM25708","v":0},{"$f":"Parameters!BN25708","v":0}]
[1,{"$f":"Parameters!K25765","v":0},{"$f":"Parameters!L25765","v":0},{"$f":"Parameters!M25765","v":0},{"$f":"Parameters!N25765","v":0},{"$f":"Parameters!O25765","v":0},{"$f":"Parameters!P25765","v":0},{"$f":"Parameters!Q25765","v":0},{"$f":"Parameters!R25765","v":0},{"$f":"Parameters!S25765","v":0},{"$f":"Parameters!T25765","v":0},{"$f":"Parameters!U25765","v":0},{"$f":"Parameters!V25765","v":0},{"$f":"Parameters!W25765","v":0},{"$f":"Parameters!X25765","v":0},{"$f":"Parameters!Y25765","v":0},{"$f":"Parameters!Z25765","v":0},{"$f":"Parameters!AA25765","v":0},{"$f":"Parameters!AB25765","v":0},{"$f":"Parameters!AC25765","v":0},{"$f":"Parameters!AD25765","v":0},{"$f":"Parameters!AE25765","v":0},{"$f":"Parameters!AF25765","v":0},{"$f":"Parameters!AG25765","v":0},{"$f":"Parameters!AH25765","v":0},{"$f":"Parameters!AI25765","v":0},{"$f":"Parameters!AJ25765","v":0},{"$f":"Parameters!AK25765","v":0},{"$f":"Parameters!AL25765","v":0},{"$f":"Parameters!AM25765","v":0},{"$f":"Parameters!AN25765","v":0},{"$f":"Parameters!AO25765","v":0},{"$f":"Parameters!AP25765","v":0},{"$f":"Parameters!AQ25765","v":0},{"$f":"Parameters!AR25765","v":0},{"$f":"Parameters!AS25765","v":0},{"$f":"Parameters!AT25765","v":0},{"$f":"Parameters!AU25765","v":0},{"$f":"Parameters!AV25765","v":0},{"$f":"Parameters!AW25765","v":0},{"$f":"Parameters!AX25765","v":0},{"$f":"Parameters!AY25765","v":0},{"$f":"Parameters!AZ25765","v":0},{"$f":"Parameters!BA25765","v":0},{"$f":"Parameters!BB25765","v":0},{"$f":"Parameters!BC25765","v":0},{"$f":"Parameters!BD25765","v":0},{"$f":"Parameters!BE25765","v":0},{"$f":"Parameters!BF25765","v":0},{"$f":"Parameters!BG25765","v":0},{"$f":"Parameters!BH25765","v":0},{"$f":"Parameters!BI25765","v":0},{"$f":"Parameters!BJ25765","v":0},{"$f":"Parameters!BK25765","v":0},{"$f":"Parameters!BL25765","v":0},{"$f":"Parameters!BM25765","v":0},{"$f":"Parameters!BN25765","v":0}]
[{"$f":"CONCATENATE(\"[\",Parameters!B25819,\",\",Parameters!C25819,\",\",Parameters!F25819,\",*,*]:\")","v":"[RE1,TEC093,SOL,*,*]:"}]
[2015,2016,2017,2018,2019,2020,2021,2022,2023,2024,2025,2026,2027,2028,2029,2030,2031,2032,2033,2034,2035,2036,2037,2038,2039,2040,2041,2042,2043,2044,2045,2046,2047,2048,2049,2050,2051,2052,2053,2054,2055,2056,2057,2058,2059,2060,2061,2062,2063,2064,2065,2066,2067,2068,2069,"2070:="]
[1,{"$f":"Parameters!K25954","v":0},{"$f":"Parameters!L25954","v":0},{"$f":"Parameters!M25954","v":0},{"$f":"Parameters!N25954","v":0},{"$f":"Parameters!O25954","v":0},{"$f":"Parameters!P25954","v":0},{"$f":"Parameters!Q25954","v":0},{"$f":"Parameters!R25954","v":0},{"$f":"Parameters!S25954","v":0},{"$f":"Parameters!T25954","v":0},{"$f":"Parameters!U25954","v":0},{"$f":"Parameters!V25954","v":0},{"$f":"Parameters!W25954","v":0},{"$f":"Parameters!X25954","v":0},{"$f":"Parameters!Y25954","v":0},{"$f":"Parameters!Z25954","v":0},{"$f":"Parameters!AA25954","v":0},{"$f":"Parameters!AB25954","v":0},{"$f":"Parameters!AC25954","v":0},{"$f":"Parameters!AD25954","v":0},{"$f":"Parameters!AE25954","v":0},{"$f":"Parameters!AF25954","v":0},{"$f":"Parameters!AG25954","v":0},{"$f":"Parameters!AH25954","v":0},{"$f":"Parameters!AI25954","v":0},{"$f":"Parameters!AJ25954","v":0},{"$f":"Parameters!AK25954","v":0},{"$f":"Parameters!AL25954","v":0},{"$f":"Parameters!AM25954","v":0},{"$f":"Parameters!AN25954","v":0},{"$f":"Parameters!AO25954","v":0},{"$f":"Parameters!AP25954","v":0},{"$f":"Parameters!AQ25954","v":0},{"$f":"Parameters!AR25954","v":0},{"$f":"Parameters!AS25954","v":0},{"$f":"Parameters!AT25954","v":0},{"$f":"Parameters!AU25954","v":0},{"$f":"Parameters!AV25954","v":0},{"$f":"Parameters!AW25954","v":0},{"$f":"Parameters!AX25954","v":0},{"$f":"Parameters!AY25954","v":0},{"$f":"Parameters!AZ25954","v":0},{"$f":"Parameters!BA25954","v":0},{"$f":"Parameters!BB25954","v":0},{"$f":"Parameters!BC25954","v":0},{"$f":"Parameters!BD25954","v":0},{"$f":"Parameters!BE25954","v":0},{"$f":"Parameters!BF25954","v":0},{"$f":"Parameters!BG25954","v":0},{"$f":"Parameters!BH25954","v":0},{"$f":"Parameters!BI25954","v":0},{"$f":"Parameters!BJ25954","v":0},{"$f":"Parameters!BK25954","v":0},{"$f":"Parameters!BL25954","v":0},{"$f":"Parameters!BM25954","v":0},{"$f":"Parameters!BN25954","v":0}]
[{"$f":"CONCATENATE(\"[\",Parameters!B25975,\",\",Parameters!C25975,\",\",Parameters!F25975,\",*,*]:\")","v":"[RE1,TEC096,ELC002,*,*]:"}]
[1,{"$f":"Parameters!K26034","v":0},{"$f":"Parameters!L26034","v":0},{"$f":"Parameters!M26034","v":0},{"$f":"Parameters!N26034","v":0},{"$f":"Parameters!O26034","v":0},{"$f":"Parameters!P26034","v":0},{"$f":"Parameters!Q26034","v":0},{"$f":"Parameters!R26034","v":0},{"$f":"Parameters!S26034","v":0},{"$f":"Parameters!T26034","v":0},{"$f":"Parameters!U26034","v":0},{"$f":"Parameters!V26034","v":0},{"$f":"Parameters!W26034","v":0},{"$f":"Parameters!X26034","v":0},{"$f":"Parameters!Y26034","v":0},{"$f":"Parameters!Z26034","v":0},{"$f":"Parameters!AA26034","v":0},{"$f":"Parameters!AB26034","v":0},{"$f":"Parameters!AC26034","v":0},{"$f":"Parameters!AD26034","v":0},{"$f":"Parameters!AE26034","v":0},{"$f":"Parameters!AF26034","v":0},{"$f":"Parameters!AG26034","v":0},{"$f":"Parameters!AH26034","v":0},{"$f":"Parameters!AI26034","v":0},{"$f":"Parameters!AJ26034","v":0},{"$f":"Parameters!AK26034","v":0},{"$f":"Parameters!AL26034","v":0},{"$f":"Parameters!AM26034","v":0},{"$f":"Parameters!AN26034","v":0},{"$f":"Parameters!AO26034","v":0},{"$f":"Parameters!AP26034","v":0},{"$f":"Parameters!AQ26034","v":0},{"$f":"Parameters!AR26034","v":0},{"$f":"Parameters!AS26034","v":0},{"$f":"Parameters!AT26034","v":0},{"$f":"Parameters!AU26034","v":0},{"$f":"Parameters!AV26034","v":0},{"$f":"Parameters!AW26034","v":0},{"$f":"Parameters!AX26034","v":0},{"$f":"Parameters!AY26034","v":0},{"$f":"Parameters!AZ26034","v":0},{"$f":"Parameters!BA26034","v":0},{"$f":"Parameters!BB26034","v":0},{"$f":"Parameters!BC26034","v":0},{"$f":"Parameters!BD26034","v":0},{"$f":"Parameters!BE26034","v":0},{"$f":"Parameters!BF26034","v":0},{"$f":"Parameters!BG26034","v":0},{"$f":"Parameters!BH26034","v":0},{"$f":"Parameters!BI26034","v":0},{"$f":"Parameters!BJ26034","v":0},{"$f":"Parameters!BK26034","v":0},{"$f":"Parameters!BL26034","v":0},{"$f":"Parameters!BM26034","v":0},{"$f":"Parameters!BN26034","v":0}]
[2015,2016,2017,2018,2019,2020,2021,2022,2023,2024,2025,2026,2027,2028,2029,2030,2031,2032,2033,2034,2035,2036,2037,2038,2039,2040,2041,2042,2043,2044,2045,2046,2047,2048,2049,2050,2051,2052,2053,2054,2055,2056,2057,2058,2059,2060,2061,2062,2063,2064,2065,2066,2067,2068,2069,"2070:="]
[1,{"$f":"Parameters!K26203","v":0},{"$f":"Parameters!L26203","v":0},{"$f":"Parameters!M26203","v":0},{"$f":"Parameters!N26203","v":0},{"$f":"Parameters!O26203","v":0},{"$f":"Parameters!P26203","v":0},{"$f":"Parameters!Q26203","v":0},{"$f":"Parameters!R26203","v":0},{"$f":"Parameters!S26203","v":0},{"$f":"Parameters!T26203","v":0},{"$f":"Parameters!U26203","v":0},{"$f":"Parameters!V26203","v":0},{"$f":"Parameters!W26203","v":0},{"$f":"Parameters!X26203","v":0},{"$f":"Parameters!Y26203","v":0},{"$f":"Parameters!Z26203","v":0},{"$f":"Parameters!AA26203","v":0},{"$f":"Parameters!AB26203","v":0},{"$f":"Parameters!AC26203","v":0},{"$f":"Parameters!AD26203","v":0},{"$f":"Parameters!AE26203","v":0},{"$f":"Parameters!AF26203","v":0},{"$f":"Parameters!AG26203","v":0},{"$f":"Parameters!AH26203","v":0},{"$f":"Parameters!AI26203","v":0},{"$f":"Parameters!AJ26203","v":0},{"$f":"Parameters!AK26203","v":0},{"$f":"Parameters!AL26203","v":0},{"$f":"Parameters!AM26203","v":0},{"$f":"Parameters!AN26203","v":0},{"$f":"Parameters!AO26203","v":0},{"$f":"Parameters!AP26203","v":0},{"$f":"Parameters!AQ26203","v":0},{"$f":"Parameters!AR26203","v":0},{"$f":"Parameters!AS26203","v":0},{"$f":"Parameters!AT26203","v":0},{"$f":"Parameters!AU26203","v":0},{"$f":"Parameters!AV26203","v":0},{"$f":"Parameters!AW26203","v":0},{"$f":"Parameters!AX26203","v":0},{"$f":"Parameters!AY26203","v":0},{"$f":"Parameters!AZ26203","v":0},{"$f":"Parameters!BA26203","v":0},{"$f":"Parameters!BB26203","v":0},{"$f":"Parameters!BC26203","v":0},{"$f":"Parameters!BD26203","v":0},{"$f":"Parameters!BE26203","v":0},{"$f":"Parameters!BF26203","v":0},{"$f":"Parameters!BG26203","v":0},{"$f":"Parameters!BH26203","v":0},{"$f":"Parameters!BI26203","v":0},{"$f":"Parameters!BJ26203","v":0},{"$f":"Parameters!BK26203","v":0},{"$f":"Parameters!BL26203","v":0},{"$f":"Parameters!BM26203","v":0},{"$f":"Parameters!BN26203","v":0}]
[{"$f":"CONCATENATE(\"[\",Parameters!B26221,\",\",Parameters!C26221,\",\",Parameters!F26221,\",*,*]:\")","v":"[RE1,TEC101,WND,*,*]:"}]
[2015,2016,2017,2018,2019,2020,2021,2022,2023,2024,2025,2026,2027,2028,2029,2030,2031,2032,2033,2034,2035,2036,2037,2038,2039,2040,2041,2042,2043,2044,2045,2046,2047,2048,2049,2050,2051,2052,2053,2054,2055,2056,2057,2058,2059,2060,2061,2062,2063,2064,2065,2066,2067,2068,2069,"2070:="]
[1,{"$f":"Parameters!K26356","v":0},{"$f":"Parameters!L26356","v":0},{"$f":"Parameters!M26356","v":0},{"$f":"Parameters!N26356","v":0},{"$f":"Parameters!O26356","v":0},{"$f":"Parameters!P26356","v":0},{"$f":"Parameters!Q26356","v":0},{"$f":"Parameters!R26356","v":0},{"$f":"Parameters!S26356","v":0},{"$f":"Parameters!T26356","v":0},{"$f":"Parameters!U26356","v":0},{"$f":"Parameters!V26356","v":0},{"$f":"Parameters!W26356","v":0},{"$f":"Parameters!X26356","v":0},{"$f":"Parameters!Y26356","v":0},{"$f":"Parameters!Z26356","v":0},{"$f":"Parameters!AA26356","v":0},{"$f":"Parameters!AB26356","v":0},{"$f":"Parameters!AC26356","v":0},{"$f":"Parameters!AD26356","v":0},{"$f":"Parameters!AE26356","v":0},{"$f":"Parameters!AF26356","v":0},{"$f":"Parameters!AG26356","v":0},{"$f":"Parameters!AH26356","v":0},{"$f":"Parameters!AI26356","v":0},{"$f":"Parameters!AJ26356","v":0},{"$f":"Parameters!AK26356","v":0},{"$f":"Parameters!AL26356","v":0},{"$f":"Parameters!AM26356","v":0},{"$f":"Parameters!AN26356","v":0},{"$f":"Parameters!AO26356","v":0},{"$f":"Parameters!AP26356","v":0},{"$f":"Parameters!AQ26356","v":0},{"$f":"Parameters!AR26356","v":0},{"$f":"Parameters!AS26356","v":0},{"$f":"Parameters!AT26356","v":0},{"$f":"Parameters!AU26356","v":0},{"$f":"Parameters!AV26356","v":0},{"$f":"Parameters!AW26356","v":0},{"$f":"Parameters!AX26356","v":0},{"$f":"Parameters!AY26356","v":0},{"$f":"Parameters!AZ26356","v":0},{"$f":"Parameters!BA26356","v":0},{"$f":"Parameters!BB26356","v":0},{"$f":"Parameters!BC26356","v":0},{"$f":"Parameters!BD26356","v":0},{"$f":"Parameters!BE26356","v":0},{"$f":"Parameters!BF26356","v":0},{"$f":"Parameters!BG26356","v":0},{"$f":"Parameters!BH26356","v":0},{"$f":"Parameters!BI26356","v":0},{"$f":"Parameters!BJ26356","v":0},{"$f":"Parameters!BK26356","v":0},{"$f":"Parameters!BL26356","v":0},{"$f":"Parameters!BM26356","v":0},{"$f":"Parameters!BN26356","v":0}]
[1,{"$f":"Parameters!K26411","v":0},{"$f":"Parameters!L26411","v":0},{"$f":"Parameters!M26411","v":0},{"$f":"Parameters!N26411","v":0},{"$f":"Parameters!O26411","v":0},{"$f":"Parameters!P26411","v":0},{"$f":"Parameters!Q26411","v":0},{"$f":"Parameters!R26411","v":0},{"$f":"Parameters!S26411","v":0},{"$f":"Parameters!T26411","v":0},{"$f":"Parameters!U26411","v":0},{"$f":"Parameters!V26411","v":0},{"$f":"Parameters!W26411","v":0},{"$f":"Parameters!X26411","v":0},{"$f":"Parameters!Y26411","v":0},{"$f":"Parameters!Z26411","v":0},{"$f":"Parameters!AA26411","v":0},{"$f":"Parameters!AB26411","v":0},{"$f":"Parameters!AC26411","v":0},{"$f":"Parameters!AD26411","v":0},{"$f":"Parameters!AE26411","v":0},{"$f":"Parameters!AF26411","v":0},{"$f":"Parameters!AG26411","v":0},{"$f":"Parameters!AH26411","v":0},{"$f":"Parameters!AI26411","v":0},{"$f":"Parameters!AJ26411","v":0},{"$f":"Parameters!AK26411","v":0},{"$f":"Parameters!AL26411","v":0},{"$f":"Parameters!AM26411","v":0},{"$f":"Parameters!AN26411","v":0},{"$f":"Parameters!AO26411","v":0},{"$f":"Parameters!AP26411","v":0},{"$f":"Parameters!AQ26411","v":0},{"$f":"Parameters!AR26411","v":0},{"$f":"Parameters!AS26411","v":0},{"$f":"Parameters!AT26411","v":0},{"$f":"Parameters!AU26411","v":0},{"$f":"Parameters!AV26411","v":0},{"$f":"Parameters!AW26411","v":0},{"$f":"Parameters!AX26411","v":0},{"$f":"Parameters!AY26411","v":0},{"$f":"Parameters!AZ26411","v":0},{"$f":"Parameters!BA26411","v":0},{"$f":"Parameters!BB26411","v":0},{"$f":"Parameters!BC26411","v":0},{"$f":"Parameters!BD26411","v":0},{"$f":"Parameters!BE26411","v":0},{"$f":"Parameters!BF26411","v":0},{"$f":"Parameters!BG26411","v":0},{"$f":"Parameters!BH26411","v":0},{"$f":"Parameters!BI26411","v":0},{"$f":"Parameters!BJ26411","v":0},{"$f":"Parameters!BK26411","v":0},{"$f":"Parameters!BL26411","v":0},{"$f":"Parameters!BM26411","v":0},{"$f":"Parameters!BN26411","v":0}]
[1,{"$f":"Parameters!K26472","v":0},{"$f":"Parameters!L26472","v":0},{"$f":"Parameters!M26472","v":0},{"$f":"Parameters!N26472","v":0},{"$f":"Parameters!O26472","v":0},{"$f":"Parameters!P26472","v":0},{"$f":"Parameters!Q26472","v":0},{"$f":"Parameters!R26472","v":0},{"$f":"Parameters!S26472","v":0},{"$f":"Parameters!T26472","v":0},{"$f":"Parameters!U26472","v":0},{"$f":"Parameters!V26472","v":0},{"$f":"Parameters!W26472","v":0},{"$f":"Parameters!X26472","v":0},{"$f":"Parameters!Y26472","v":0},{"$f":"Parameters!Z26472","v":0},{"$f":"Parameters!AA26472","v":0},{"$f":"Parameters!AB26472","v":0},{"$f":"Parameters!AC26472","v":0},{"$f":"Parameters!AD26472","v":0},{"$f":"Parameters!AE26472","v":0},{"$f":"Parameters!AF26472","v":0},{"$f":"Parameters!AG26472","v":0},{"$f":"Parameters!AH26472","v":0},{"$f":"Parameters!AI26472","v":0},{"$f":"Parameters!AJ26472","v":0},{"$f":"Parameters!AK26472","v":0},{"$f":"Parameters!AL26472","v":0},{"$f":"Parameters!AM26472","v":0},{"$f":"Parameters!AN26472","v":0},{"$f":"Parameters!AO26472","v":0},{"$f":"Parameters!AP26472","v":0},{"$f":"Parameters!AQ26472","v":0},{"$f":"Parameters!AR26472","v":0},{"$f":"Parameters!AS26472","v":0},{"$f":"Parameters!AT26472","v":0},{"$f":"Parameters!AU26472","v":0},{"$f":"Parameters!AV26472","v":0},{"$f":"Parameters!AW26472","v":0},{"$f":"Parameters!AX26472","v":0},{"$f":"Parameters!AY26472","v":0},{"$f":"Parameters!AZ26472","v":0},{"$f":"Parameters!BA26472","v":0},{"$f":"Parameters!BB26472","v":0},{"$f":"Parameters!BC26472","v":0},{"$f":"Parameters!BD26472","v":0},{"$f":"Parameters!BE26472","v":0},{"$f":"Parameters!BF26472","v":0},{"$f":"Parameters!BG26472","v":0},{"$f":"Parameters!BH26472","v":0},{"$f":"Parameters!BI26472","v":0},{"$f":"Parameters!BJ26472","v":0},{"$f":"Parameters!BK26472","v":0},{"$f":"Parameters!BL26472","v":0},{"$f":"Parameters!BM26472","v":0},{"$f":"Parameters!BN26472","v":0}]
[2015,2016,2017,2018,2019,2020,2021,2022,2023,2024,2025,2026,2027,2028,2029,2030,2031,2032,2033,2034,2035,2036,2037,2038,2039,2040,2041,2042,2043,2044,2045,2046,2047,2048,2049,2050,2051,2052,2053,2054,2055,2056,2057,2058,2059,2060,2061,2062,2063,2064,2065,2066,2067,2068,2069,"2070:="]
[2015,2016,2017,2018,2019,2020,2021,2022,2023,2024,2025,2026,2027,2028,2029,2030,2031,2032,2033,2034,2035,2036,2037,2038,2039,2040,2041,2042,2043,2044,2045,2046,2047,2048,2049,2050,2051,2052,2053,2054,2055,2056,2057,2058,2059,2060,2061,2062,2063,2064,2065,2066,2067,2068,2069,"2070:="]
[{"$f":"CONCATENATE(\"[\",Parameters!B26683,\",\",Parameters!C26683,\",\",Parameters!F26683,\",*,*]:\")","v":"[RE1,TEC110,INDHEL,*,*]:"}]
[{"$f":"CONCATENATE(\"[\",Parameters!B26738,\",\",Parameters!C26738,\",\",Parameters!F26738,\",*,*]:\")","v":"[RE1,TEC111,COMHEL,*,*]:"}]
[{"$f":"CONCATENATE(\"[\",Parameters!B26802,\",\",Parameters!C26802,\",\",Parameters!F26802,\",*,*]:\")","v":"[RE1,TEC112,COM040,*,*]:"}]
[1,{"$f":"Parameters!K26813","v":0},{"$f":"Parameters!L26813","v":0},{"$f":"Parameters!M26813","v":0},{"$f":"Parameters!N26813","v":0},{"$f":"Parameters!O26813","v":0},{"$f":"Parameters!P26813","v":0},{"$f":"Parameters!Q26813","v":0},{"$f":"Parameters!R26813","v":0},{"$f":"Parameters!S26813","v":0},{"$f":"Parameters!T26813","v":0},{"$f":"Parameters!U26813","v":0},{"$f":"Parameters!V26813","v":0},{"$f":"Parameters!W26813","v":0},{"$f":"Parameters!X26813","v":0},{"$f":"Parameters!Y26813","v":0},{"$f":"Parameters!Z26813","v":0},{"$f":"Parameters!AA26813","v":0},{"$f":"Parameters!AB26813","v":0},{"$f":"Parameters!AC26813","v":0},{"$f":"Parameters!AD26813","v":0},{"$f":"Parameters!AE26813","v":0},{"$f":"Parameters!AF26813","v":0},{"$f":"Parameters!AG26813","v":0},{"$f":"Parameters!AH26813","v":0},{"$f":"Parameters!AI26813","v":0},{"$f":"Parameters!AJ26813","v":0},{"$f":"Parameters!AK26813","v":0},{"$f":"Parameters!AL26813","v":0},{"$f":"Parameters!AM26813","v":0},{"$f":"Parameters!AN26813","v":0},{"$f":"Parameters!AO26813","v":0},{"$f":"Parameters!AP26813","v":0},{"$f":"Parameters!AQ26813","v":0},{"$f":"Parameters!AR26813","v":0},{"$f":"Parameters!AS26813","v":0},{"$f":"Parameters!AT26813","v":0},{"$f":"Parameters!AU26813","v":0},{"$f":"Parameters!AV26813","v":0},{"$f":"Parameters!AW26813","v":0},{"$f":"Parameters!AX26813","v":0},{"$f":"Parameters!AY26813","v":0},{"$f":"Parameters!AZ26813","v":0},{"$f":"Parameters!BA26813","v":0},{"$f":"Parameters!BB26813","v":0},{"$f":"Parameters!BC26813","v":0},{"$f":"Parameters!BD26813","v":0},{"$f":"Parameters!BE26813","v":0},{"$f":"Parameters!BF26813","v":0},{"$f":"Parameters!BG26813","v":0},{"$f":"Parameters!BH26813","v":0},{"$f":"Parameters!BI26813","v":0},{"$f":"Parameters!BJ26813","v":0},{"$f":"Parameters!BK26813","v":0},{"$f":"Parameters!BL26813","v":0},{"$f":"Parameters!BM26813","v":0},{"$f":"Parameters!BN26813","v":0}]
[1,{"$f":"Parameters!K26905","v":0},{"$f":"Parameters!L26905","v":0},{"$f":"Parameters!M26905","v":0},{"$f":"Parameters!N26905","v":0},{"$f":"Parameters!O26905","v":0},{"$f":"Parameters!P26905","v":0},{"$f":"Parameters!Q26905","v":0},{"$f":"Parameters!R26905","v":0},{"$f":"Parameters!S26905","v":0},{"$f":"Parameters!T26905","v":0},{"$f":"Parameters!U26905","v":0},{"$f":"Parameters!V26905","v":0},{"$f":"Parameters!W26905","v":0},{"$f":"Parameters!X26905","v":0},{"$f":"Parameters!Y26905","v":0},{"$f":"Parameters!Z26905","v":0},{"$f":"Parameters!AA26905","v":0},{"$f":"Parameters!AB26905","v":0},{"$f":"Parameters!AC26905","v":0},{"$f":"Parameters!AD26905","v":0},{"$f":"Parameters!AE26905","v":0},{"$f":"Parameters!AF26905","v":0},{"$f":"Parameters!AG26905","v":0},{"$f":"Parameters!AH26905","v":0},{"$f":"Parameters!AI26905","v":0},{"$f":"Parameters!AJ26905","v":0},{"$f":"Parameters!AK26905","v":0},{"$f":"Parameters!AL26905","v":0},{"$f":"Parameters!AM26905","v":0},{"$f":"Parameters!AN26905","v":0},{"$f":"Parameters!AO26905","v":0},{"$f":"Parameters!AP26905","v":0},{"$f":"Parameters!AQ26905","v":0},{"$f":"Parameters!AR26905","v":0},{"$f":"Parameters!AS26905","v":0},{"$f":"Parameters!AT26905","v":0},{"$f":"Parameters!AU26905","v":0},{"$f":"Parameters!AV26905","v":0},{"$f":"Parameters!AW26905","v":0},{"$f":"Parameters!AX26905","v":0},{"$f":"Parameters!AY26905","v":0},{"$f":"Parameters!AZ26905","v":0},{"$f":"Parameters!BA26905","v":0},{"$f":"Parameters!BB26905","v":0},{"$f":"Parameters!BC26905","v":0},{"$f":"Parameters!BD26905","v":0},{"$f":"Parameters!BE26905","v":0},{"$f":"Parameters!BF26905","v":0},{"$f":"Parameters!BG26905","v":0},{"$f":"Parameters!BH26905","v":0},{"$f":"Parameters!BI26905","v":0},{"$f":"Parameters!BJ26905","v":0},{"$f":"Parameters!BK26905","v":0},{"$f":"Parameters!BL26905","v":0},{"$f":"Parameters!BM26905","v":0},{"$f":"Parameters!BN26905","v":0}]
[2015,2016,2017,2018,2019,2020,2021,2022,2023,2024,2025,2026,2027,2028,2029,2030,2031,2032,2033,2034,2035,2036,2037,2038,2039,2040,2041,2042,2043,2044,2045,2046,2047,2048,2049,2050,2051,2052,2053,2054,2055,2056,2057,2058,2059,2060,2061,2062,2063,2064,2065,2066,2067,2068,2069,"2070:="]
[2015,2016,2017,2018,2019,2020,2021,2022,2023,2024,2025,2026,2027,2028,2029,2030,2031,2032,2033,2034,2035,2036,2037,2038,2039,2040,2041,2042,2043,2044,2045,2046,2047,2048,2049,2050,2051,2052,2053,2054,2055,2056,2057,2058,2059,2060,2061,2062,2063,2064,2065,2066,2067,2068,2069,"2070:="]
[1,{"$f":"Parameters!K27059","v":0},{"$f":"Parameters!L27059","v":0},{"$f":"Parameters!M27059","v":0},{"$f":"Parameters!N27059","v":0},{"$f":"Parameters!O27059","v":0},{"$f":"Parameters!P27059","v":0},{"$f":"Parameters!Q27059","v":0},{"$f":"Parameters!R27059","v":0},{"$f":"Parameters!S27059","v":0},{"$f":"Parameters!T27059","v":0},{"$f":"Parameters!U27059","v":0},{"$f":"Parameters!V27059","v":0},{"$f":"Parameters!W27059","v":0},{"$f":"Parameters!X27059","v":0},{"$f":"Parameters!Y27059","v":0},{"$f":"Parameters!Z27059","v":0},{"$f":"Parameters!AA27059","v":0},{"$f":"Parameters!AB27059","v":0},{"$f":"Parameters!AC27059","v":0},{"$f":"Parameters!AD27059","v":0},{"$f":"Parameters!AE27059","v":0},{"$f":"Parameters!AF27059","v":0},{"$f":"Parameters!AG27059","v":0},{"$f":"Parameters!AH27059","v":0},{"$f":"Parameters!AI27059","v":0},{"$f":"Parameters!AJ27059","v":0},{"$f":"Parameters!AK27059","v":0},{"$f":"Parameters!AL27059","v":0},{"$f":"Parameters!AM27059","v":0},{"$f":"Parameters!AN27059","v":0},{"$f":"Parameters!AO27059","v":0},{"$f":"Parameters!AP27059","v":0},{"$f":"Parameters!AQ27059","v":0},{"$f":"Parameters!AR27059","v":0},{"$f":"Parameters!AS27059","v":0},{"$f":"Parameters!AT27059","v":0},{"$f":"Parameters!AU27059","v":0},{"$f":"Parameters!AV27059","v":0},{"$f":"Parameters!AW27059","v":0},{"$f":"Parameters!AX27059","v":0},{"$f":"Parameters!AY27059","v":0},{"$f":"Parameters!AZ27059","v":0},{"$f":"Parameters!BA27059","v":0},{"$f":"Parameters!BB27059","v":0},{"$f":"Parameters!BC27059","v":0},{"$f":"Parameters!BD27059","v":0},{"$f":"Parameters!BE27059","v":0},{"$f":"Parameters!BF27059","v":0},{"$f":"Parameters!BG27059","v":0},{"$f":"Parameters!BH27059","v":0},{"$f":"Parameters!BI27059","v":0},{"$f":"Parameters!BJ27059","v":0},{"$f":"Parameters!BK27059","v":0},{"$f":"Parameters!BL27059","v":0},{"$f":"Parameters!BM27059","v":0},{"$f":"Parameters!BN27059","v":0}]
[{"$f":"CONCATENATE(\"[\",Parameters!B27140,\",\",Parameters!C27140,\",\",Parameters!F27140,\",*,*]:\")","v":"[RE1,TEC119,COM028,*,*]:"}]
[1,{"$f":"Parameters!K27174","v":0},{"$f":"Parameters!L27174","v":0},{"$f":"Parameters!M27174","v":0},{"$f":"Parameters!N27174","v":0},{"$f":"Parameters!O27174","v":0},{"$f":"Parameters!P27174","v":0},{"$f":"Parameters!Q27174","v":0},{"$f":"Parameters!R27174","v":0},{"$f":"Parameters!S27174","v":0},{"$f":"Parameters!T27174","v":0},{"$f":"Parameters!U27174","v":0},{"$f":"Parameters!V27174","v":0},{"$f":"Parameters!W27174","v":0},{"$f":"Parameters!X27174","v":0},{"$f":"Parameters!Y27174","v":0},{"$f":"Parameters!Z27174","v":0},{"$f":"Parameters!AA27174","v":0},{"$f":"Parameters!AB27174","v":0},{"$f":"Parameters!AC27174","v":0},{"$f":"Parameters!AD27174","v":0},{"$f":"Parameters!AE27174","v":0},{"$f":"Parameters!AF27174","v":0},{"$f":"Parameters!AG27174","v":0},{"$f":"Parameters!AH27174","v":0},{"$f":"Parameters!AI27174","v":0},{"$f":"Parameters!AJ27174","v":0},{"$f":"Parameters!AK27174","v":0},{"$f":"Parameters!AL27174","v":0},{"$f":"Parameters!AM27174","v":0},{"$f":"Parameters!AN27174","v":0},{"$f":"Parameters!AO27174","v":0},{"$f":"Parameters!AP27174","v":0},{"$f":"Parameters!AQ27174","v":0},{"$f":"Parameters!AR27174","v":0},{"$f":"Parameters!AS27174","v":0},{"$f":"Parameters!AT27174","v":0},{"$f":"Parameters!AU27174","v":0},{"$f":"Parameters!AV27174","v":0},{"$f":"Parameters!AW27174","v":0},{"$f":"Parameters!AX27174","v":0},{"$f":"Parameters!AY27174","v":0},{"$f":"Parameters!AZ27174","v":0},{"$f":"Parameters!BA27174","v":0},{"$f":"Parameters!BB27174","v":0},{"$f":"Parameters!BC27174","v":0},{"$f":"Parameters!BD27174","v":0},{"$f":"Parameters!BE27174","v":0},{"$f":"Parameters!BF27174","v":0},{"$f":"Parameters!BG27174","v":0},{"$f":"Parameters!BH27174","v":0},{"$f":"Parameters!BI27174","v":0},{"$f":"Parameters!BJ27174","v":0},{"$f":"Parameters!BK27174","v":0},{"$f":"Parameters!BL27174","v":0},{"$f":"Parameters!BM27174","v":0},{"$f":"Parameters!BN27174","v":0}]
[1,{"$f":"Parameters!K27275","v":0},{"$f":"Parameters!L27275","v":0},{"$f":"Parameters!M27275","v":0},{"$f":"Parameters!N27275","v":0},{"$f":"Parameters!O27275","v":0},{"$f":"Parameters!P27275","v":0},{"$f":"Parameters!Q27275","v":0},{"$f":"Parameters!R27275","v":0},{"$f":"Parameters!S27275","v":0},{"$f":"Parameters!T27275","v":0},{"$f":"Parameters!U27275","v":0},{"$f":"Parameters!V27275","v":0},{"$f":"Parameters!W27275","v":0},{"$f":"Parameters!X27275","v":0},{"$f":"Parameters!Y27275","v":0},{"$f":"Parameters!Z27275","v":0},{"$f":"Parameters!AA27275","v":0},{"$f":"Parameters!AB27275","v":0},{"$f":"Parameters!AC27275","v":0},{"$f":"Parameters!AD27275","v":0},{"$f":"Parameters!AE27275","v":0},{"$f":"Parameters!AF27275","v":0},{"$f":"Parameters!AG27275","v":0},{"$f":"Parameters!AH27275","v":0},{"$f":"Parameters!AI27275","v":0},{"$f":"Parameters!AJ27275","v":0},{"$f":"Parameters!AK27275","v":0},{"$f":"Parameters!AL27275","v":0},{"$f":"Parameters!AM27275","v":0},{"$f":"Parameters!AN27275","v":0},{"$f":"Parameters!AO27275","v":0},{"$f":"Parameters!AP27275","v":0},{"$f":"Parameters!AQ27275","v":0},{"$f":"Parameters!AR27275","v":0},{"$f":"Parameters!AS27275","v":0},{"$f":"Parameters!AT27275","v":0},{"$f":"Parameters!AU27275","v":0},{"$f":"Parameters!AV27275","v":0},{"$f":"Parameters!AW27275","v":0},{"$f":"Parameters!AX27275","v":0},{"$f":"Parameters!AY27275","v":0},{"$f":"Parameters!AZ27275","v":0},{"$f":"Parameters!BA27275","v":0},{"$f":"Parameters!BB27275","v":0},{"$f":"Parameters!BC27275","v":0},{"$f":"Parameters!BD27275","v":0},{"$f":"Parameters!BE27275","v":0},{"$f":"Parameters!BF27275","v":0},{"$f":"Parameters!BG27275","v":0},{"$f":"Parameters!BH27275","v":0},{"$f":"Parameters!BI27275","v":0},{"$f":"Parameters!BJ27275","v":0},{"$f":"Parameters!BK27275","v":0},{"$f":"Parameters!BL27275","v":0},{"$f":"Parameters!BM27275","v":0},{"$f":"Parameters!BN27275","v":0}]
[1,{"$f":"Parameters!K27343","v":0},{"$f":"Parameters!L27343","v":0},{"$f":"Parameters!M27343","v":0},{"$f":"Parameters!N27343","v":0},{"$f":"Parameters!O27343","v":0},{"$f":"Parameters!P27343","v":0},{"$f":"Parameters!Q27343","v":0},{"$f":"Parameters!R27343","v":0},{"$f":"Parameters!S27343","v":0},{"$f":"Parameters!T27343","v":0},{"$f":"Parameters!U27343","v":0},{"$f":"Parameters!V27343","v":0},{"$f":"Parameters!W27343","v":0},{"$f":"Parameters!X27343","v":0},{"$f":"Parameters!Y27343","v":0},{"$f":"Parameters!Z27343","v":0},{"$f":"Parameters!AA27343","v":0},{"$f":"Parameters!AB27343","v":0},{"$f":"Parameters!AC27343","v":0},{"$f":"Parameters!AD27343","v":0},{"$f":"Parameters!AE27343","v":0},{"$f":"Parameters!AF27343","v":0},{"$f":"Parameters!AG27343","v":0},{"$f":"Parameters!AH27343","v":0},{"$f":"Parameters!AI27343","v":0},{"$f":"Parameters!AJ27343","v":0},{"$f":"Parameters!AK27343","v":0},{"$f":"Parameters!AL27343","v":0},{"$f":"Parameters!AM27343","v":0},{"$f":"Parameters!AN27343","v":0},{"$f":"Parameters!AO27343","v":0},{"$f":"Parameters!AP27343","v":0},{"$f":"Parameters!AQ27343","v":0},{"$f":"Parameters!AR27343","v":0},{"$f":"Parameters!AS27343","v":0},{"$f":"Parameters!AT27343","v":0},{"$f":"Parameters!AU27343","v":0},{"$f":"Parameters!AV27343","v":0},{"$f":"Parameters!AW27343","v":0},{"$f":"Parameters!AX27343","v":0},{"$f":"Parameters!AY27343","v":0},{"$f":"Parameters!AZ27343","v":0},{"$f":"Parameters!BA27343","v":0},{"$f":"Parameters!BB27343","v":0},{"$f":"Parameters!BC27343","v":0},{"$f":"Parameters!BD27343","v":0},{"$f":"Parameters!BE27343","v":0},{"$f":"Parameters!BF27343","v":0},{"$f":"Parameters!BG27343","v":0},{"$f":"Parameters!BH27343","v":0},{"$f":"Parameters!BI27343","v":0},{"$f":"Parameters!BJ27343","v":0},{"$f":"Parameters!BK27343","v":0},{"$f":"Parameters!BL27343","v":0},{"$f":"Parameters!BM27343","v":0},{"$f":"Parameters!BN27343","v":0}]
[{"$f":"CONCATENATE(\"[\",Parameters!B27386,\",\",Parameters!C27386,\",\",Parameters!F27386,\",*,*]:\")","v":"[RE1,TEC124,RESHEL,*,*]:"}]
[2015,2016,2017,2018,2019,2020,2021,2022,2023,2024,2025,2026,2027,2028,2029,2030,2031,2032,2033,2034,2035,2036,2037,2038,2039,2040,2041,2042,2043,2044,2045,2046,2047,2048,2049,2050,2051,2052,2053,2054,2055,2056,2057,2058,2059,2060,2061,2062,2063,2064,2065,2066,2067,2068,2069,"2070:="]
[{"$f":"CONCATENATE(\"[\",Parameters!B27504,\",\",Parameters!C27504,\",\",Parameters!F27504,\",*,*]:\")","v":"[RE1,TEC126,COM042,*,*]:"}]
[1,{"$f":"Parameters!K27576","v":0},{"$f":"Parameters!L27576","v":0},{"$f":"Parameters!M27576","v":0},{"$f":"Parameters!N27576","v":0},{"$f":"Parameters!O27576","v":0},{"$f":"Parameters!P27576","v":0},{"$f":"Parameters!Q27576","v":0},{"$f":"Parameters!R27576","v":0},{"$f":"Parameters!S27576","v":0},{"$f":"Parameters!T27576","v":0},{"$f":"Parameters!U27576","v":0},{"$f":"Parameters!V27576","v":0},{"$f":"Parameters!W27576","v":0},{"$f":"Parameters!X27576","v":0},{"$f":"Parameters!Y27576","v":0},{"$f":"Parameters!Z27576","v":0},{"$f":"Parameters!AA27576","v":0},{"$f":"Parameters!AB27576","v":0},{"$f":"Parameters!AC27576","v":0},{"$f":"Parameters!AD27576","v":0},{"$f":"Parameters!AE27576","v":0},{"$f":"Parameters!AF27576","v":0},{"$f":"Parameters!AG27576","v":0},{"$f":"Parameters!AH27576","v":0},{"$f":"Parameters!AI27576","v":0},{"$f":"Parameters!AJ27576","v":0},{"$f":"Parameters!AK27576","v":0},{"$f":"Parameters!AL27576","v":0},{"$f":"Parameters!AM27576","v":0},{"$f":"Parameters!AN27576","v":0},{"$f":"Parameters!AO27576","v":0},{"$f":"Parameters!AP27576","v":0},{"$f":"Parameters!AQ27576","v":0},{"$f":"Parameters!AR27576","v":0},{"$f":"Parameters!AS27576","v":0},{"$f":"Parameters!AT27576","v":0},{"$f":"Parameters!AU27576","v":0},{"$f":"Parameters!AV27576","v":0},{"$f":"Parameters!AW27576","v":0},{"$f":"Parameters!AX27576","v":0},{"$f":"Parameters!AY27576","v":0},{"$f":"Parameters!AZ27576","v":0},{"$f":"Parameters!BA27576","v":0},{"$f":"Parameters!BB27576","v":0},{"$f":"Parameters!BC27576","v":0},{"$f":"Parameters!BD27576","v":0},{"$f":"Parameters!BE27576","v":0},{"$f":"Parameters!BF27576","v":0},{"$f":"Parameters!BG27576","v":0},{"$f":"Parameters!BH27576","v":0},{"$f":"Parameters!BI27576","v":0},{"$f":"Parameters!BJ27576","v":0},{"$f":"Parameters!BK27576","v":0},{"$f":"Parameters!BL27576","v":0},{"$f":"Parameters!BM27576","v":0},{"$f":"Parameters!BN27576","v":0}]
[1,{"$f":"Parameters!K27612","v":0},{"$f":"Parameters!L27612","v":0},{"$f":"Parameters!M27612","v":0},{"$f":"Parameters!N27612","v":0},{"$f":"Parameters!O27612","v":0},{"$f":"Parameters!P27612","v":0},{"$f":"Parameters!Q27612","v":0},{"$f":"Parameters!R27612","v":0},{"$f":"Parameters!S27612","v":0},{"$f":"Parameters!T27612","v":0},{"$f":"Parameters!U27612","v":0},{"$f":"Parameters!V27612","v":0},{"$f":"Parameters!W27612","v":0},{"$f":"Parameters!X27612","v":0},{"$f":"Parameters!Y27612","v":0},{"$f":"Parameters!Z27612","v":0},{"$f":"Parameters!AA27612","v":0},{"$f":"Parameters!AB27612","v":0},{"$f":"Parameters!AC27612","v":0},{"$f":"Parameters!AD27612","v":0},{"$f":"Parameters!AE27612","v":0},{"$f":"Parameters!AF27612","v":0},{"$f":"Parameters!AG27612","v":0},{"$f":"Parameters!AH27612","v":0},{"$f":"Parameters!AI27612","v":0},{"$f":"Parameters!AJ27612","v":0},{"$f":"Parameters!AK27612","v":0},{"$f":"Parameters!AL27612","v":0},{"$f":"Parameters!AM27612","v":0},{"$f":"Parameters!AN27612","v":0},{"$f":"Parameters!AO27612","v":0},{"$f":"Parameters!AP27612","v":0},{"$f":"Parameters!AQ27612","v":0},{"$f":"Parameters!AR27612","v":0},{"$f":"Parameters!AS27612","v":0},{"$f":"Parameters!AT27612","v":0},{"$f":"Parameters!AU27612","v":0},{"$f":"Parameters!AV27612","v":0},{"$f":"Parameters!AW27612","v":0},{"$f":"Parameters!AX27612","v":0},{"$f":"Parameters!AY27612","v":0},{"$f":"Parameters!AZ27612","v":0},{"$f":"Parameters!BA27612","v":0},{"$f":"Parameters!BB27612","v":0},{"$f":"Parameters!BC27612","v":0},{"$f":"Parameters!BD27612","v":0},{"$f":"Parameters!BE27612","v":0},{"$f":"Parameters!BF27612","v":0},{"$f":"Parameters!BG27612","v":0},{"$f":"Parameters!BH27612","v":0},{"$f":"Parameters!BI27612","v":0},{"$f":"Parameters!BJ27612","v":0},{"$f":"Parameters!BK27612","v":0},{"$f":"Parameters!BL27612","v":0},{"$f":"Parameters!BM27612","v":0},{"$f":"Parameters!BN27612","v":0}]
[2015,2016,2017,2018,2019,2020,2021,2022,2023,2024,2025,2026,2027,2028,2029,2030,2031,2032,2033,2034,2035,2036,2037,2038,2039,2040,2041,2042,2043,2044,2045,2046,2047,2048,2049,2050,2051,2052,2053,2054,2055,2056,2057,2058,2059,2060,2061,2062,2063,2064,2065,2066,2067,2068,2069,"2070:="]
[2015,2016,2017,2018,2019,2020,2021,2022,2023,2024,2025,2026,2027,2028,2029,2030,2031,2032,2033,2034,2035,2036,2037,2038,2039,2040,2041,2042,2043,2044,2045,2046,2047,2048,2049,2050,2051,2052,2053,2054,2055,2056,2057,2058,2059,2060,2061,2062,2063,2064,2065,2066,2067,2068,2069,"2070:="]
[{"$f":"CONCATENATE(\"[\",Parameters!B27788,\",\",Parameters!C27788,\",\",Parameters!F27788,\",*,*]:\")","v":"[RE1,TEC132,COMHEL,*,*]:"}]
[{"$f":"CONCATENATE(\"[\",Parameters!B27843,\",\",Parameters!C27843,\",\",Parameters!F27843,\",*,*]:\")","v":"[RE1,TEC133,COM031,*,*]:"}]
[{"$f":"CONCATENATE(\"[\",Parameters!B27942,\",\",Parameters!C27942,\",\",Parameters!F27942,\",*,*]:\")","v":"[RE1,TEC135,COM030,*,*]:"}]
[1,{"$f":"Parameters!K27978","v":0},{"$f":"Parameters!L27978","v":0},{"$f":"Parameters!M27978","v":0},{"$f":"Parameters!N27978","v":0},{"$f":"Parameters!O27978","v":0},{"$f":"Parameters!P27978","v":0},{"$f":"Parameters!Q27978","v":0},{"$f":"Parameters!R27978","v":0},{"$f":"Parameters!S27978","v":0},{"$f":"Parameters!T27978","v":0},{"$f":"Parameters!U27978","v":0},{"$f":"Parameters!V27978","v":0},{"$f":"Parameters!W27978","v":0},{"$f":"Parameters!X27978","v":0},{"$f":"Parameters!Y27978","v":0},{"$f":"Parameters!Z27978","v":0},{"$f":"Parameters!AA27978","v":0},{"$f":"Parameters!AB27978","v":0},{"$f":"Parameters!AC27978","v":0},{"$f":"Parameters!AD27978","v":0},{"$f":"Parameters!AE27978","v":0},{"$f":"Parameters!AF27978","v":0},{"$f":"Parameters!AG27978","v":0},{"$f":"Parameters!AH27978","v":0},{"$f":"Parameters!AI27978","v":0},{"$f":"Parameters!AJ27978","v":0},{"$f":"Parameters!AK27978","v":0},{"$f":"Parameters!AL27978","v":0},{"$f":"Parameters!AM27978","v":0},{"$f":"Parameters!AN27978","v":0},{"$f":"Parameters!AO27978","v":0},{"$f":"Parameters!AP27978","v":0},{"$f":"Parameters!AQ27978","v":0},{"$f":"Parameters!AR27978","v":0},{"$f":"Parameters!AS27978","v":0},{"$f":"Parameters!AT27978","v":0},{"$f":"Parameters!AU27978","v":0},{"$f":"Parameters!AV27978","v":0},{"$f":"Parameters!AW27978","v":0},{"$f":"Parameters!AX27978","v":0},{"$f":"Parameters!AY27978","v":0},{"$f":"Parameters!AZ27978","v":0},{"$f":"Parameters!BA27978","v":0},{"$f":"Parameters!BB27978","v":0},{"$f":"Parameters!BC27978","v":0},{"$f":"Parameters!BD27978","v":0},{"$f":"Parameters!BE27978","v":0},{"$f":"Parameters!BF27978","v":0},{"$f":"Parameters!BG27978","v":0},{"$f":"Parameters!BH27978","v":0},{"$f":"Parameters!BI27978","v":0},{"$f":"Parameters!BJ27978","v":0},{"$f":"Parameters!BK27978","v":0},{"$f":"Parameters!BL27978","v":0},{"$f":"Parameters!BM27978","v":0},{"$f":"Parameters!BN27978","v":0}]
[1,{"$f":"Parameters!K28050","v":0},{"$f":"Parameters!L28050","v":0},{"$f":"Parameters!M28050","v":0},{"$f":"Parameters!N28050","v":0},{"$f":"Parameters!O28050","v":0},{"$f":"Parameters!P28050","v":0},{"$f":"Parameters!Q28050","v":0},{"$f":"Parameters!R28050","v":0},{"$f":"Parameters!S28050","v":0},{"$f":"Parameters!T28050","v":0},{"$f":"Parameters!U28050","v":0},{"$f":"Parameters!V28050","v":0},{"$f":"Parameters!W28050","v":0},{"$f":"Parameters!X28050","v":0},{"$f":"Parameters!Y28050","v":0},{"$f":"Parameters!Z28050","v":0},{"$f":"Parameters!AA28050","v":0},{"$f":"Parameters!AB28050","v":0},{"$f":"Parameters!AC28050","v":0},{"$f":"Parameters!AD28050","v":0},{"$f":"Parameters!AE28050","v":0},{"$f":"Parameters!AF28050","v":0},{"$f":"Parameters!AG28050","v":0},{"$f":"Parameters!AH28050","v":0},{"$f":"Parameters!AI28050","v":0},{"$f":"Parameters!AJ28050","v":0},{"$f":"Parameters!AK28050","v":0},{"$f":"Parameters!AL28050","v":0},{"$f":"Parameters!AM28050","v":0},{"$f":"Parameters!AN28050","v":0},{"$f":"Parameters!AO28050","v":0},{"$f":"Parameters!AP28050","v":0},{"$f":"Parameters!AQ28050","v":0},{"$f":"Parameters!AR28050","v":0},{"$f":"Parameters!AS28050","v":0},{"$f":"Parameters!AT28050","v":0},{"$f":"Parameters!AU28050","v":0},{"$f":"Parameters!AV28050","v":0},{"$f":"Parameters!AW28050","v":0},{"$f":"Parameters!AX28050","v":0},{"$f":"Parameters!AY28050","v":0},{"$f":"Parameters!AZ28050","v":0},{"$f":"Parameters!BA28050","v":0},{"$f":"Parameters!BB28050","v":0},{"$f":"Parameters!BC28050","v":0},{"$f":"Parameters!BD28050","v":0},{"$f":"Parameters!BE28050","v":0},{"$f":"Parameters!BF28050","v":0},{"$f":"Parameters!BG28050","v":0},{"$f":"Parameters!BH28050","v":0},{"$f":"Parameters!BI28050","v":0},{"$f":"Parameters!BJ28050","v":0},{"$f":"Parameters!BK28050","v":0},{"$f":"Parameters!BL28050","v":0},{"$f":"Parameters!BM28050","v":0},{"$f":"Parameters!BN28050","v":0}]
[2015,2016,2017,2018,2019,2020,2021,2022,2023,2024,2025,2026,2027,2028,2029,2030,2031,2032,2033,2034,2035,2036,2037,2038,2039,2040,2041,2042,2043,2044,2045,2046,2047,2048,2049,2050,2051,2052,2053,2054,2055,2056,2057,2058,2059,2060,2061,2062,2063,2064,2065,2066,2067,2068,2069,"2070:="]
[2015,2016,2017,2018,2019,2020,2021,2022,2023,2024,2025,2026,2027,2028,2029,2030,2031,2032,2033,2034,2035,2036,2037,2038,2039,2040,2041,2042,2043,2044,2045,2046,2047,2048,2049,2050,2051,2052,2053,2054,2055,2056,2057,2058,2059,2060,2061,2062,2063,2064,2065,2066,2067,2068,2069,"2070:="]
[{"$f":"CONCATENATE(\"[\",Parameters!B28211,\",\",Parameters!C28211,\",\",Parameters!F28211,\",*,*]:\")","v":"[RE1,TEC140,COM049,*,*]:"}]
[{"$f":"CONCATENATE(\"[\",Parameters!B28305,\",\",Parameters!C28305,\",\",Parameters!F28305,\",*,*]:\")","v":"[RE1,TEC142,COM043,*,*]:"}]
[1,{"$f":"Parameters!K28314","v":0},{"$f":"Parameters!L28314","v":0},{"$f":"Parameters!M28314","v":0},{"$f":"Parameters!N28314","v":0},{"$f":"Parameters!O28314","v":0},{"$f":"Parameters!P28314","v":0},{"$f":"Parameters!Q28314","v":0},{"$f":"Parameters!R28314","v":0},{"$f":"Parameters!S28314","v":0},{"$f":"Parameters!T28314","v":0},{"$f":"Parameters!U28314","v":0},{"$f":"Parameters!V28314","v":0},{"$f":"Parameters!W28314","v":0},{"$f":"Parameters!X28314","v":0},{"$f":"Parameters!Y28314","v":0},{"$f":"Parameters!Z28314","v":0},{"$f":"Parameters!AA28314","v":0},{"$f":"Parameters!AB28314","v":0},{"$f":"Parameters!AC28314","v":0},{"$f":"Parameters!AD28314","v":0},{"$f":"Parameters!AE28314","v":0},{"$f":"Parameters!AF28314","v":0},{"$f":"Parameters!AG28314","v":0},{"$f":"Parameters!AH28314","v":0},{"$f":"Parameters!AI28314","v":0},{"$f":"Parameters!AJ28314","v":0},{"$f":"Parameters!AK28314","v":0},{"$f":"Parameters!AL28314","v":0},{"$f":"Parameters!AM28314","v":0},{"$f":"Parameters!AN28314","v":0},{"$f":"Parameters!AO28314","v":0},{"$f":"Parameters!AP28314","v":0},{"$f":"Parameters!AQ28314","v":0},{"$f":"Parameters!AR28314","v":0},{"$f":"Parameters!AS28314","v":0},{"$f":"Parameters!AT28314","v":0},{"$f":"Parameters!AU28314","v":0},{"$f":"Parameters!AV28314","v":0},{"$f":"Parameters!AW28314","v":0},{"$f":"Parameters!AX28314","v":0},{"$f":"Parameters!AY28314","v":0},{"$f":"Parameters!AZ28314","v":0},{"$f":"Parameters!BA28314","v":0},{"$f":"Parameters!BB28314","v":0},{"$f":"Parameters!BC28314","v":0},{"$f":"Parameters!BD28314","v":0},{"$f":"Parameters!BE28314","v":0},{"$f":"Parameters!BF28314","v":0},{"$f":"Parameters!BG28314","v":0},{"$f":"Parameters!BH28314","v":0},{"$f":"Parameters!BI28314","v":0},{"$f":"Parameters!BJ28314","v":0},{"$f":"Parameters!BK28314","v":0},{"$f":"Parameters!BL28314","v":0},{"$f":"Parameters!BM28314","v":0},{"$f":"Parameters!BN28314","v":0}]
[1,{"$f":"Parameters!K28380","v":0},{"$f":"Parameters!L28380","v":0},{"$f":"Parameters!M28380","v":0},{"$f":"Parameters!N28380","v":0},{"$f":"Parameters!O28380","v":0},{"$f":"Parameters!P28380","v":0},{"$f":"Parameters!Q28380","v":0},{"$f":"Parameters!R28380","v":0},{"$f":"Parameters!S28380","v":0},{"$f":"Parameters!T28380","v":0},{"$f":"Parameters!U28380","v":0},{"$f":"Parameters!V28380","v":0},{"$f":"Parameters!W28380","v":0},{"$f":"Parameters!X28380","v":0},{"$f":"Parameters!Y28380","v":0},{"$f":"Parameters!Z28380","v":0},{"$f":"Parameters!AA28380","v":0},{"$f":"Parameters!AB28380","v":0},{"$f":"Parameters!AC28380","v":0},{"$f":"Parameters!AD28380","v":0},{"$f":"Parameters!AE28380","v":0},{"$f":"Parameters!AF28380","v":0},{"$f":"Parameters!AG28380","v":0},{"$f":"Parameters!AH28380","v":0},{"$f":"Parameters!AI28380","v":0},{"$f":"Parameters!AJ28380","v":0},{"$f":"Parameters!AK28380","v":0},{"$f":"Parameters!AL28380","v":0},{"$f":"Parameters!AM28380","v":0},{"$f":"Parameters!AN28380","v":0},{"$f":"Parameters!AO28380","v":0},{"$f":"Parameters!AP28380","v":0},{"$f":"Parameters!AQ28380","v":0},{"$f":"Parameters!AR28380","v":0},{"$f":"Parameters!AS28380","v":0},{"$f":"Parameters!AT28380","v":0},{"$f":"Parameters!AU28380","v":0},{"$f":"Parameters!AV28380","v":0},{"$f":"Parameters!AW28380","v":0},{"$f":"Parameters!AX28380","v":0},{"$f":"Parameters!AY28380","v":0},{"$f":"Parameters!AZ28380","v":0},{"$f":"Parameters!BA28380","v":0},{"$f":"Parameters!BB28380","v":0},{"$f":"Parameters!BC28380","v":0},{"$f":"Parameters!BD28380","v":0},{"$f":"Parameters!BE28380","v":0},{"$f":"Parameters!BF28380","v":0},{"$f":"Parameters!BG28380","v":0},{"$f":"Parameters!BH28380","v":0},{"$f":"Parameters!BI28380","v":0},{"$f":"Parameters!BJ28380","v":0},{"$f":"Parameters!BK28380","v":0},{"$f":"Parameters!BL28380","v":0},{"$f":"Parameters!BM28380","v":0},{"$f":"Parameters!BN28380","v":0}]
[1,{"$f":"Parameters!K28483","v":0},{"$f":"Parameters!L28483","v":0},{"$f":"Parameters!M28483","v":0},{"$f":"Parameters!N28483","v":0},{"$f":"Parameters!O28483","v":0},{"$f":"Parameters!P28483","v":0},{"$f":"Parameters!Q28483","v":0},{"$f":"Parameters!R28483","v":0},{"$f":"Parameters!S28483","v":0},{"$f":"Parameters!T28483","v":0},{"$f":"Parameters!U28483","v":0},{"$f":"Parameters!V28483","v":0},{"$f":"Parameters!W28483","v":0},{"$f":"Parameters!X28483","v":0},{"$f":"Parameters!Y28483","v":0},{"$f":"Parameters!Z28483","v":0},{"$f":"Parameters!AA28483","v":0},{"$f":"Parameters!AB28483","v":0},{"$f":"Parameters!AC28483","v":0},{"$f":"Parameters!AD28483","v":0},{"$f":"Parameters!AE28483","v":0},{"$f":"Parameters!AF28483","v":0},{"$f":"Parameters!AG28483","v":0},{"$f":"Parameters!AH28483","v":0},{"$f":"Parameters!AI28483","v":0},{"$f":"Parameters!AJ28483","v":0},{"$f":"Parameters!AK28483","v":0},{"$f":"Parameters!AL28483","v":0},{"$f":"Parameters!AM28483","v":0},{"$f":"Parameters!AN28483","v":0},{"$f":"Parameters!AO28483","v":0},{"$f":"Parameters!AP28483","v":0},{"$f":"Parameters!AQ28483","v":0},{"$f":"Parameters!AR28483","v":0},{"$f":"Parameters!AS28483","v":0},{"$f":"Parameters!AT28483","v":0},{"$f":"Parameters!AU28483","v":0},{"$f":"Parameters!AV28483","v":0},{"$f":"Parameters!AW28483","v":0},{"$f":"Parameters!AX28483","v":0},{"$f":"Parameters!AY28483","v":0},{"$f":"Parameters!AZ28483","v":0},{"$f":"Parameters!BA28483","v":0},{"$f":"Parameters!BB28483","v":0},{"$f":"Parameters!BC28483","v":0},{"$f":"Parameters!BD28483","v":0},{"$f":"Parameters!BE28483","v":0},{"$f":"Parameters!BF28483","v":0},{"$f":"Parameters!BG28483","v":0},{"$f":"Parameters!BH28483","v":0},{"$f":"Parameters!BI28483","v":0},{"$f":"Parameters!BJ28483","v":0},{"$f":"Parameters!BK28483","v":0},{"$f":"Parameters!BL28483","v":0},{"$f":"Parameters!BM28483","v":0},{"$f":"Parameters!BN28483","v":0}]
[2015,2016,2017,2018,2019,2020,2021,2022,2023,2024,2025,2026,2027,2028,2029,2030,2031,2032,2033,2034,2035,2036,2037,2038,2039,2040,2041,2042,2043,2044,2045,2046,2047,2048,2049,2050,2051,2052,2053,2054,2055,2056,2057,2058,2059,2060,2061,2062,2063,2064,2065,2066,2067,2068,2069,"2070:="]
[2015,2016,2017,2018,2019,2020,2021,2022,2023,2024,2025,2026,2027,2028,2029,2030,2031,2032,2033,2034,2035,2036,2037,2038,2039,2040,2041,2042,2043,2044,2045,2046,2047,2048,2049,2050,2051,2052,2053,2054,2055,2056,2057,2058,2059,2060,2061,2062,2063,2064,2065,2066,2067,2068,2069,"2070:="]
[{"$f":"CONCATENATE(\"[\",Parameters!B28644,\",\",Parameters!C28644,\",\",Parameters!F28644,\",*,*]:\")","v":"[RE1,TEC149,COM032,*,*]:"}]
[{"$f":"CONCATENATE(\"[\",Parameters!B28707,\",\",Parameters!C28707,\",\",Parameters!F28707,\",*,*]:\")","v":"[RE1,TEC150,COM045,*,*]:"}]
[1,{"$f":"Parameters!K28752","v":0},{"$f":"Parameters!L28752","v":0},{"$f":"Parameters!M28752","v":0},{"$f":"Parameters!N28752","v":0},{"$f":"Parameters!O28752","v":0},{"$f":"Parameters!P28752","v":0},{"$f":"Parameters!Q28752","v":0},{"$f":"Parameters!R28752","v":0},{"$f":"Parameters!S28752","v":0},{"$f":"Parameters!T28752","v":0},{"$f":"Parameters!U28752","v":0},{"$f":"Parameters!V28752","v":0},{"$f":"Parameters!W28752","v":0},{"$f":"Parameters!X28752","v":0},{"$f":"Parameters!Y28752","v":0},{"$f":"Parameters!Z28752","v":0},{"$f":"Parameters!AA28752","v":0},{"$f":"Parameters!AB28752","v":0},{"$f":"Parameters!AC28752","v":0},{"$f":"Parameters!AD28752","v":0},{"$f":"Parameters!AE28752","v":0},{"$f":"Parameters!AF28752","v":0},{"$f":"Parameters!AG28752","v":0},{"$f":"Parameters!AH28752","v":0},{"$f":"Parameters!AI28752","v":0},{"$f":"Parameters!AJ28752","v":0},{"$f":"Parameters!AK28752","v":0},{"$f":"Parameters!AL28752","v":0},{"$f":"Parameters!AM28752","v":0},{"$f":"Parameters!AN28752","v":0},{"$f":"Parameters!AO28752","v":0},{"$f":"Parameters!AP28752","v":0},{"$f":"Parameters!AQ28752","v":0},{"$f":"Parameters!AR28752","v":0},{"$f":"Parameters!AS28752","v":0},{"$f":"Parameters!AT28752","v":0},{"$f":"Parameters!AU28752","v":0},{"$f":"Parameters!AV28752","v":0},{"$f":"Parameters!AW28752","v":0},{"$f":"Parameters!AX28752","v":0},{"$f":"Parameters!AY28752","v":0},{"$f":"Parameters!AZ28752","v":0},{"$f":"Parameters!BA28752","v":0},{"$f":"Parameters!BB28752","v":0},{"$f":"Parameters!BC28752","v":0},{"$f":"Parameters!BD28752","v":0},{"$f":"Parameters!BE28752","v":0},{"$f":"Parameters!BF28752","v":0},{"$f":"Parameters!BG28752","v":0},{"$f":"Parameters!BH28752","v":0},{"$f":"Parameters!BI28752","v":0},{"$f":"Parameters!BJ28752","v":0},{"$f":"Parameters!BK28752","v":0},{"$f":"Parameters!BL28752","v":0},{"$f":"Parameters!BM28752","v":0},{"$f":"Parameters!BN28752","v":0}]
[1,{"$f":"Parameters!K28842","v":0},{"$f":"Parameters!L28842","v":0},{"$f":"Parameters!M28842","v":0},{"$f":"Parameters!N28842","v":0},{"$f":"Parameters!O28842","v":0},{"$f":"Parameters!P28842","v":0},{"$f":"Parameters!Q28842","v":0},{"$f":"Parameters!R28842","v":0},{"$f":"Parameters!S28842","v":0},{"$f":"Parameters!T28842","v":0},{"$f":"Parameters!U28842","v":0},{"$f":"Parameters!V28842","v":0},{"$f":"Parameters!W28842","v":0},{"$f":"Parameters!X28842","v":0},{"$f":"Parameters!Y28842","v":0},{"$f":"Parameters!Z28842","v":0},{"$f":"Parameters!AA28842","v":0},{"$f":"Parameters!AB28842","v":0},{"$f":"Parameters!AC28842","v":0},{"$f":"Parameters!AD28842","v":0},{"$f":"Parameters!AE28842","v":0},{"$f":"Parameters!AF28842","v":0},{"$f":"Parameters!AG28842","v":0},{"$f":"Parameters!AH28842","v":0},{"$f":"Parameters!AI28842","v":0},{"$f":"Parameters!AJ28842","v":0},{"$f":"Parameters!AK28842","v":0},{"$f":"Parameters!AL28842","v":0},{"$f":"Parameters!AM28842","v":0},{"$f":"Parameters!AN28842","v":0},{"$f":"Parameters!AO28842","v":0},{"$f":"Parameters!AP28842","v":0},{"$f":"Parameters!AQ28842","v":0},{"$f":"Parameters!AR28842","v":0},{"$f":"Parameters!AS28842","v":0},{"$f":"Parameters!AT28842","v":0},{"$f":"Parameters!AU28842","v":0},{"$f":"Parameters!AV28842","v":0},{"$f":"Parameters!AW28842","v":0},{"$f":"Parameters!AX28842","v":0},{"$f":"Parameters!AY28842","v":0},{"$f":"Parameters!AZ28842","v":0},{"$f":"Parameters!BA28842","v":0},{"$f":"Parameters!BB28842","v":0},{"$f":"Parameters!BC28842","v":0},{"$f":"Parameters!BD28842","v":0},{"$f":"Parameters!BE28842","v":0},{"$f":"Parameters!BF28842","v":0},{"$f":"Parameters!BG28842","v":0},{"$f":"Parameters!BH28842","v":0},{"$f":"Parameters!BI28842","v":0},{"$f":"Parameters!BJ28842","v":0},{"$f":"Parameters!BK28842","v":0},{"$f":"Parameters!BL28842","v":0},{"$f":"Parameters!BM28842","v":0},{"$f":"Parameters!BN28842","v":0}]
[2015,2016,2017,2018,2019,2020,2021,2022,2023,2024,2025,2026,2027,2028,2029,2030,2031,2032,2033,2034,2035,2036,2037,2038,2039,2040,2041,2042,2043,2044,2045,2046,2047,2048,2049,2050,2051,2052,2053,2054,2055,2056,2057,2058,2059,2060,2061,2062,2063,2064,2065,2066,2067,2068,2069,"2070:="]
[{"$f":"CONCATENATE(\"[\",Parameters!B28953,\",\",Parameters!C28953,\",\",Parameters!F28953,\",*,*]:\")","v":"[RE1,TEC155,COM041,*,*]:"}]
[2015,2016,2017,2018,2019,2020,2021,2022,2023,2024,2025,2026,2027,2028,2029,2030,2031,2032,2033,2034,2035,2036,2037,2038,2039,2040,2041,2042,2043,2044,2045,2046,2047,2048,2049,2050,2051,2052,2053,2054,2055,2056,2057,2058,2059,2060,2061,2062,2063,2064,2065,2066,2067,2068,2069,"2070:="]
[{"$f":"CONCATENATE(\"[\",Parameters!B29082,\",\",Parameters!C29082,\",\",Parameters!F29082,\",*,*]:\")","v":"[RE1,TEC158,INDHEH,*,*]:"}]
[1,{"$f":"Parameters!K29143","v":0},{"$f":"Parameters!L29143","v":0},{"$f":"Parameters!M29143","v":0},{"$f":"Parameters!N29143","v":0},{"$f":"Parameters!O29143","v":0},{"$f":"Parameters!P29143","v":0},{"$f":"Parameters!Q29143","v":0},{"$f":"Parameters!R29143","v":0},{"$f":"Parameters!S29143","v":0},{"$f":"Parameters!T29143","v":0},{"$f":"Parameters!U29143","v":0},{"$f":"Parameters!V29143","v":0},{"$f":"Parameters!W29143","v":0},{"$f":"Parameters!X29143","v":0},{"$f":"Parameters!Y29143","v":0},{"$f":"Parameters!Z29143","v":0},{"$f":"Parameters!AA29143","v":0},{"$f":"Parameters!AB29143","v":0},{"$f":"Parameters!AC29143","v":0},{"$f":"Parameters!AD29143","v":0},{"$f":"Parameters!AE29143","v":0},{"$f":"Parameters!AF29143","v":0},{"$f":"Parameters!AG29143","v":0},{"$f":"Parameters!AH29143","v":0},{"$f":"Parameters!AI29143","v":0},{"$f":"Parameters!AJ29143","v":0},{"$f":"Parameters!AK29143","v":0},{"$f":"Parameters!AL29143","v":0},{"$f":"Parameters!AM29143","v":0},{"$f":"Parameters!AN29143","v":0},{"$f":"Parameters!AO29143","v":0},{"$f":"Parameters!AP29143","v":0},{"$f":"Parameters!AQ29143","v":0},{"$f":"Parameters!AR29143","v":0},{"$f":"Parameters!AS29143","v":0},{"$f":"Parameters!AT29143","v":0},{"$f":"Parameters!AU29143","v":0},{"$f":"Parameters!AV29143","v":0},{"$f":"Parameters!AW29143","v":0},{"$f":"Parameters!AX29143","v":0},{"$f":"Parameters!AY29143","v":0},{"$f":"Parameters!AZ29143","v":0},{"$f":"Parameters!BA29143","v":0},{"$f":"Parameters!BB29143","v":0},{"$f":"Parameters!BC29143","v":0},{"$f":"Parameters!BD29143","v":0},{"$f":"Parameters!BE29143","v":0},{"$f":"Parameters!BF29143","v":0},{"$f":"Parameters!BG29143","v":0},{"$f":"Parameters!BH29143","v":0},{"$f":"Parameters!BI29143","v":0},{"$f":"Parameters!BJ29143","v":0},{"$f":"Parameters!BK29143","v":0},{"$f":"Parameters!BL29143","v":0},{"$f":"Parameters!BM29143","v":0},{"$f":"Parameters!BN29143","v":0}]
[1,{"$f":"Parameters!K29190","v":0},{"$f":"Parameters!L29190","v":0},{"$f":"Parameters!M29190","v":0},{"$f":"Parameters!N29190","v":0},{"$f":"Parameters!O29190","v":0},{"$f":"Parameters!P29190","v":0},{"$f":"Parameters!Q29190","v":0},{"$f":"Parameters!R29190","v":0},{"$f":"Parameters!S29190","v":0},{"$f":"Parameters!T29190","v":0},{"$f":"Parameters!U29190","v":0},{"$f":"Parameters!V29190","v":0},{"$f":"Parameters!W29190","v":0},{"$f":"Parameters!X29190","v":0},{"$f":"Parameters!Y29190","v":0},{"$f":"Parameters!Z29190","v":0},{"$f":"Parameters!AA29190","v":0},{"$f":"Parameters!AB29190","v":0},{"$f":"Parameters!AC29190","v":0},{"$f":"Parameters!AD29190","v":0},{"$f":"Parameters!AE29190","v":0},{"$f":"Parameters!AF29190","v":0},{"$f":"Parameters!AG29190","v":0},{"$f":"Parameters!AH29190","v":0},{"$f":"Parameters!AI29190","v":0},{"$f":"Parameters!AJ29190","v":0},{"$f":"Parameters!AK29190","v":0},{"$f":"Parameters!AL29190","v":0},{"$f":"Parameters!AM29190","v":0},{"$f":"Parameters!AN29190","v":0},{"$f":"Parameters!AO29190","v":0},{"$f":"Parameters!AP29190","v":0},{"$f":"Parameters!AQ29190","v":0},{"$f":"Parameters!AR29190","v":0},{"$f":"Parameters!AS29190","v":0},{"$f":"Parameters!AT29190","v":0},{"$f":"Parameters!AU29190","v":0},{"$f":"Parameters!AV29190","v":0},{"$f":"Parameters!AW29190","v":0},{"$f":"Parameters!AX29190","v":0},{"$f":"Parameters!AY29190","v":0},{"$f":"Parameters!AZ29190","v":0},{"$f":"Parameters!BA29190","v":0},{"$f":"Parameters!BB29190","v":0},{"$f":"Parameters!BC29190","v":0},{"$f":"Parameters!BD29190","v":0},{"$f":"Parameters!BE29190","v":0},{"$f":"Parameters!BF29190","v":0},{"$f":"Parameters!BG29190","v":0},{"$f":"Parameters!BH29190","v":0},{"$f":"Parameters!BI29190","v":0},{"$f":"Parameters!BJ29190","v":0},{"$f":"Parameters!BK29190","v":0},{"$f":"Parameters!BL29190","v":0},{"$f":"Parameters!BM29190","v":0},{"$f":"Parameters!BN29190","v":0}]
[2015,2016,2017,2018,2019,2020,2021,2022,2023,2024,2025,2026,2027,2028,2029,2030,2031,2032,2033,2034,2035,2036,2037,2038,2039,2040,2041,2042,2043,2044,2045,2046,2047,2048,2049,2050,2051,2052,2053,2054,2055,2056,2057,2058,2059,2060,2061,2062,2063,2064,2065,2066,2067,2068,2069,"2070:="]
[1,{"$f":"Parameters!K29299","v":0},{"$f":"Parameters!L29299","v":0},{"$f":"Parameters!M29299","v":0},{"$f":"Parameters!N29299","v":0},{"$f":"Parameters!O29299","v":0},{"$f":"Parameters!P29299","v":0},{"$f":"Parameters!Q29299","v":0},{"$f":"Parameters!R29299","v":0},{"$f":"Parameters!S29299","v":0},{"$f":"Parameters!T29299","v":0},{"$f":"Parameters!U29299","v":0},{"$f":"Parameters!V29299","v":0},{"$f":"Parameters!W29299","v":0},{"$f":"Parameters!X29299","v":0},{"$f":"Parameters!Y29299","v":0},{"$f":"Parameters!Z29299","v":0},{"$f":"Parameters!AA29299","v":0},{"$f":"Parameters!AB29299","v":0},{"$f":"Parameters!AC29299","v":0},{"$f":"Parameters!AD29299","v":0},{"$f":"Parameters!AE29299","v":0},{"$f":"Parameters!AF29299","v":0},{"$f":"Parameters!AG29299","v":0},{"$f":"Parameters!AH29299","v":0},{"$f":"Parameters!AI29299","v":0},{"$f":"Parameters!AJ29299","v":0},{"$f":"Parameters!AK29299","v":0},{"$f":"Parameters!AL29299","v":0},{"$f":"Parameters!AM29299","v":0},{"$f":"Parameters!AN29299","v":0},{"$f":"Parameters!AO29299","v":0},{"$f":"Parameters!AP29299","v":0},{"$f":"Parameters!AQ29299","v":0},{"$f":"Parameters!AR29299","v":0},{"$f":"Parameters!AS29299","v":0},{"$f":"Parameters!AT29299","v":0},{"$f":"Parameters!AU29299","v":0},{"$f":"Parameters!AV29299","v":0},{"$f":"Parameters!AW29299","v":0},{"$f":"Parameters!AX29299","v":0},{"$f":"Parameters!AY29299","v":0},{"$f":"Parameters!AZ29299","v":0},{"$f":"Parameters!BA29299","v":0},{"$f":"Parameters!BB29299","v":0},{"$f":"Parameters!BC29299","v":0},{"$f":"Parameters!BD29299","v":0},{"$f":"Parameters!BE29299","v":0},{"$f":"Parameters!BF29299","v":0},{"$f":"Parameters!BG29299","v":0},{"$f":"Parameters!BH29299","v":0},{"$f":"Parameters!BI29299","v":0},{"$f":"Parameters!BJ29299","v":0},{"$f":"Parameters!BK29299","v":0},{"$f":"Parameters!BL29299","v":0},{"$f":"Parameters!BM29299","v":0},{"$f":"Parameters!BN29299","v":0}]
[{"$f":"CONCATENATE(\"[\",Parameters!B29351,\",\",Parameters!C29351,\",\",Parameters!F29351,\",*,*]:\")","v":"[RE1,TEC163,COM039,*,*]:"}]
[{"$f":"CONCATENATE(\"[\",Parameters!B29410,\",\",Parameters!C29410,\",\",Parameters!F29410,\",*,*]:\")","v":"[RE1,TEC164,COM048,*,*]:"}]
[1,{"$f":"Parameters!K29459","v":0},{"$f":"Parameters!L29459","v":0},{"$f":"Parameters!M29459","v":0},{"$f":"Parameters!N29459","v":0},{"$f":"Parameters!O29459","v":0},{"$f":"Parameters!P29459","v":0},{"$f":"Parameters!Q29459","v":0},{"$f":"Parameters!R29459","v":0},{"$f":"Parameters!S29459","v":0},{"$f":"Parameters!T29459","v":0},{"$f":"Parameters!U29459","v":0},{"$f":"Parameters!V29459","v":0},{"$f":"Parameters!W29459","v":0},{"$f":"Parameters!X29459","v":0},{"$f":"Parameters!Y29459","v":0},{"$f":"Parameters!Z29459","v":0},{"$f":"Parameters!AA29459","v":0},{"$f":"Parameters!AB29459","v":0},{"$f":"Parameters!AC29459","v":0},{"$f":"Parameters!AD29459","v":0},{"$f":"Parameters!AE29459","v":0},{"$f":"Parameters!AF29459","v":0},{"$f":"Parameters!AG29459","v":0},{"$f":"Parameters!AH29459","v":0},{"$f":"Parameters!AI29459","v":0},{"$f":"Parameters!AJ29459","v":0},{"$f":"Parameters!AK29459","v":0},{"$f":"Parameters!AL29459","v":0},{"$f":"Parameters!AM29459","v":0},{"$f":"Parameters!AN29459","v":0},{"$f":"Parameters!AO29459","v":0},{"$f":"Parameters!AP29459","v":0},{"$f":"Parameters!AQ29459","v":0},{"$f":"Parameters!AR29459","v":0},{"$f":"Parameters!AS29459","v":0},{"$f":"Parameters!AT29459","v":0},{"$f":"Parameters!AU29459","v":0},{"$f":"Parameters!AV29459","v":0},{"$f":"Parameters!AW29459","v":0},{"$f":"Parameters!AX29459","v":0},{"$f":"Parameters!AY29459","v":0},{"$f":"Parameters!AZ29459","v":0},{"$f":"Parameters!BA29459","v":0},{"$f":"Parameters!BB29459","v":0},{"$f":"Parameters!BC29459","v":0},{"$f":"Parameters!BD29459","v":0},{"$f":"Parameters!BE29459","v":0},{"$f":"Parameters!BF29459","v":0},{"$f":"Parameters!BG29459","v":0},{"$f":"Parameters!BH29459","v":0},{"$f":"Parameters!BI29459","v":0},{"$f":"Parameters!BJ29459","v":0},{"$f":"Parameters!BK29459","v":0},{"$f":"Parameters!BL29459","v":0},{"$f":"Parameters!BM29459","v":0},{"$f":"Parameters!BN29459","v":0}]
[1,{"$f":"Parameters!K29545","v":0},{"$f":"Parameters!L29545","v":0},{"$f":"Parameters!M29545","v":0},{"$f":"Parameters!N29545","v":0},{"$f":"Parameters!O29545","v":0},{"$f":"Parameters!P29545","v":0},{"$f":"Parameters!Q29545","v":0},{"$f":"Parameters!R29545","v":0},{"$f":"Parameters!S29545","v":0},{"$f":"Parameters!T29545","v":0},{"$f":"Parameters!U29545","v":0},{"$f":"Parameters!V29545","v":0},{"$f":"Parameters!W29545","v":0},{"$f":"Parameters!X29545","v":0},{"$f":"Parameters!Y29545","v":0},{"$f":"Parameters!Z29545","v":0},{"$f":"Parameters!AA29545","v":0},{"$f":"Parameters!AB29545","v":0},{"$f":"Parameters!AC29545","v":0},{"$f":"Parameters!AD29545","v":0},{"$f":"Parameters!AE29545","v":0},{"$f":"Parameters!AF29545","v":0},{"$f":"Parameters!AG29545","v":0},{"$f":"Parameters!AH29545","v":0},{"$f":"Parameters!AI29545","v":0},{"$f":"Parameters!AJ29545","v":0},{"$f":"Parameters!AK29545","v":0},{"$f":"Parameters!AL29545","v":0},{"$f":"Parameters!AM29545","v":0},{"$f":"Parameters!AN29545","v":0},{"$f":"Parameters!AO29545","v":0},{"$f":"Parameters!AP29545","v":0},{"$f":"Parameters!AQ29545","v":0},{"$f":"Parameters!AR29545","v":0},{"$f":"Parameters!AS29545","v":0},{"$f":"Parameters!AT29545","v":0},{"$f":"Parameters!AU29545","v":0},{"$f":"Parameters!AV29545","v":0},{"$f":"Parameters!AW29545","v":0},{"$f":"Parameters!AX29545","v":0},{"$f":"Parameters!AY29545","v":0},{"$f":"Parameters!AZ29545","v":0},{"$f":"Parameters!BA29545","v":0},{"$f":"Parameters!BB29545","v":0},{"$f":"Parameters!BC29545","v":0},{"$f":"Parameters!BD29545","v":0},{"$f":"Parameters!BE29545","v":0},{"$f":"Parameters!BF29545","v":0},{"$f":"Parameters!BG29545","v":0},{"$f":"Parameters!BH29545","v":0},{"$f":"Parameters!BI29545","v":0},{"$f":"Parameters!BJ29545","v":0},{"$f":"Parameters!BK29545","v":0},{"$f":"Parameters!BL29545","v":0},{"$f":"Parameters!BM29545","v":0},{"$f":"Parameters!BN29545","v":0}]
[1,{"$f":"Parameters!K29623","v":0},{"$f":"Parameters!L29623","v":0},{"$f":"Parameters!M29623","v":0},{"$f":"Parameters!N29623","v":0},{"$f":"Parameters!O29623","v":0},{"$f":"Parameters!P29623","v":0},{"$f":"Parameters!Q29623","v":0},{"$f":"Parameters!R29623","v":0},{"$f":"Parameters!S29623","v":0},{"$f":"Parameters!T29623","v":0},{"$f":"Parameters!U29623","v":0},{"$f":"Parameters!V29623","v":0},{"$f":"Parameters!W29623","v":0},{"$f":"Parameters!X29623","v":0},{"$f":"Parameters!Y29623","v":0},{"$f":"Parameters!Z29623","v":0},{"$f":"Parameters!AA29623","v":0},{"$f":"Parameters!AB29623","v":0},{"$f":"Parameters!AC29623","v":0},{"$f":"Parameters!AD29623","v":0},{"$f":"Parameters!AE29623","v":0},{"$f":"Parameters!AF29623","v":0},{"$f":"Parameters!AG29623","v":0},{"$f":"Parameters!AH29623","v":0},{"$f":"Parameters!AI29623","v":0},{"$f":"Parameters!AJ29623","v":0},{"$f":"Parameters!AK29623","v":0},{"$f":"Parameters!AL29623","v":0},{"$f":"Parameters!AM29623","v":0},{"$f":"Parameters!AN29623","v":0},{"$f":"Parameters!AO29623","v":0},{"$f":"Parameters!AP29623","v":0},{"$f":"Parameters!AQ29623","v":0},{"$f":"Parameters!AR29623","v":0},{"$f":"Parameters!AS29623","v":0},{"$f":"Parameters!AT29623","v":0},{"$f":"Parameters!AU29623","v":0},{"$f":"Parameters!AV29623","v":0},{"$f":"Parameters!AW29623","v":0},{"$f":"Parameters!AX29623","v":0},{"$f":"Parameters!AY29623","v":0},{"$f":"Parameters!AZ29623","v":0},{"$f":"Parameters!BA29623","v":0},{"$f":"Parameters!BB29623","v":0},{"$f":"Parameters!BC29623","v":0},{"$f":"Parameters!BD29623","v":0},{"$f":"Parameters!BE29623","v":0},{"$f":"Parameters!BF29623","v":0},{"$f":"Parameters!BG29623","v":0},{"$f":"Parameters!BH29623","v":0},{"$f":"Parameters!BI29623","v":0},{"$f":"Parameters!BJ29623","v":0},{"$f":"Parameters!BK29623","v":0},{"$f":"Parameters!BL29623","v":0},{"$f":"Parameters!BM29623","v":0},{"$f":"Parameters!BN29623","v":0}]
[2015,2016,2017,2018,2019,2020,2021,2022,2023,2024,2025,2026,2027,2028,2029,2030,2031,2032,2033,2034,2035,2036,2037,2038,2039,2040,2041,2042,2043,2044,2045,2046,2047,2048,2049,2050,2051,2052,2053,2054,2055,2056,2057,2058,2059,2060,2061,2062,2063,2064,2065,2066,2067,2068,2069,"2070:="]
[2015,2016,2017,2018,2019,2020,2021,2022,2023,2024,2025,2026,2027,2028,2029,2030,2031,2032,2033,2034,2035,2036,2037,2038,2039,2040,2041,2042,2043,2044,2045,2046,2047,2048,2049,2050,2051,2052,2053,2054,2055,2056,2057,2058,2059,2060,2061,2062,2063,2064,2065,2066,2067,2068,2069,"2070:="]
[{"$f":"CONCATENATE(\"[\",Parameters!B29789,\",\",Parameters!C29789,\",\",Parameters!F29789,\",*,*]:\")","v":"[RE1,TEC172,COM027,*,*]:"}]
[{"$f":"CONCATENATE(\"[\",Parameters!B29872,\",\",Parameters!C29872,\",\",Parameters!F29872,\",*,*]:\")","v":"[RE1,TEC174,URN,*,*]:"}]
[1,{"$f":"Parameters!K29892","v":0},{"$f":"Parameters!L29892","v":0},{"$f":"Parameters!M29892","v":0},{"$f":"Parameters!N29892","v":0},{"$f":"Parameters!O29892","v":0},{"$f":"Parameters!P29892","v":0},{"$f":"Parameters!Q29892","v":0},{"$f":"Parameters!R29892","v":0},{"$f":"Parameters!S29892","v":0},{"$f":"Parameters!T29892","v":0},{"$f":"Parameters!U29892","v":0},{"$f":"Parameters!V29892","v":0},{"$f":"Parameters!W29892","v":0},{"$f":"Parameters!X29892","v":0},{"$f":"Parameters!Y29892","v":0},{"$f":"Parameters!Z29892","v":0},{"$f":"Parameters!AA29892","v":0},{"$f":"Parameters!AB29892","v":0},{"$f":"Parameters!AC29892","v":0},{"$f":"Parameters!AD29892","v":0},{"$f":"Parameters!AE29892","v":0},{"$f":"Parameters!AF29892","v":0},{"$f":"Parameters!AG29892","v":0},{"$f":"Parameters!AH29892","v":0},{"$f":"Parameters!AI29892","v":0},{"$f":"Parameters!AJ29892","v":0},{"$f":"Parameters!AK29892","v":0},{"$f":"Parameters!AL29892","v":0},{"$f":"Parameters!AM29892","v":0},{"$f":"Parameters!AN29892","v":0},{"$f":"Parameters!AO29892","v":0},{"$f":"Parameters!AP29892","v":0},{"$f":"Parameters!AQ29892","v":0},{"$f":"Parameters!AR29892","v":0},{"$f":"Parameters!AS29892","v":0},{"$f":"Parameters!AT29892","v":0},{"$f":"Parameters!AU29892","v":0},{"$f":"Parameters!AV29892","v":0},{"$f":"Parameters!AW29892","v":0},{"$f":"Parameters!AX29892","v":0},{"$f":"Parameters!AY29892","v":0},{"$f":"Parameters!AZ29892","v":0},{"$f":"Parameters!BA29892","v":0},{"$f":"Parameters!BB29892","v":0},{"$f":"Parameters!BC29892","v":0},{"$f":"Parameters!BD29892","v":0},{"$f":"Parameters!BE29892","v":0},{"$f":"Parameters!BF29892","v":0},{"$f":"Parameters!BG29892","v":0},{"$f":"Parameters!BH29892","v":0},{"$f":"Parameters!BI29892","v":0},{"$f":"Parameters!BJ29892","v":0},{"$f":"Parameters!BK29892","v":0},{"$f":"Parameters!BL29892","v":0},{"$f":"Parameters!BM29892","v":0},{"$f":"Parameters!BN29892","v":0}]
[1,{"$f":"Parameters!K29947","v":0},{"$f":"Parameters!L29947","v":0},{"$f":"Parameters!M29947","v":0},{"$f":"Parameters!N29947","v":0},{"$f":"Parameters!O29947","v":0},{"$f":"Parameters!P29947","v":0},{"$f":"Parameters!Q29947","v":0},{"$f":"Parameters!R29947","v":0},{"$f":"Parameters!S29947","v":0},{"$f":"Parameters!T29947","v":0},{"$f":"Parameters!U29947","v":0},{"$f":"Parameters!V29947","v":0},{"$f":"Parameters!W29947","v":0},{"$f":"Parameters!X29947","v":0},{"$f":"Parameters!Y29947","v":0},{"$f":"Parameters!Z29947","v":0},{"$f":"Parameters!AA29947","v":0},{"$f":"Parameters!AB29947","v":0},{"$f":"Parameters!AC29947","v":0},{"$f":"Parameters!AD29947","v":0},{"$f":"Parameters!AE29947","v":0},{"$f":"Parameters!AF29947","v":0},{"$f":"Parameters!AG29947","v":0},{"$f":"Parameters!AH29947","v":0},{"$f":"Parameters!AI29947","v":0},{"$f":"Parameters!AJ29947","v":0},{"$f":"Parameters!AK29947","v":0},{"$f":"Parameters!AL29947","v":0},{"$f":"Parameters!AM29947","v":0},{"$f":"Parameters!AN29947","v":0},{"$f":"Parameters!AO29947","v":0},{"$f":"Parameters!AP29947","v":0},{"$f":"Parameters!AQ29947","v":0},{"$f":"Parameters!AR29947","v":0},{"$f":"Parameters!AS29947","v":0},{"$f":"Parameters!AT29947","v":0},{"$f":"Parameters!AU29947","v":0},{"$f":"Parameters!AV29947","v":0},{"$f":"Parameters!AW29947","v":0},{"$f":"Parameters!AX29947","v":0},{"$f":"Parameters!AY29947","v":0},{"$f":"Parameters!AZ29947","v":0},{"$f":"Parameters!BA29947","v":0},{"$f":"Parameters!BB29947","v":0},{"$f":"Parameters!BC29947","v":0},{"$f":"Parameters!BD29947","v":0},{"$f":"Parameters!BE29947","v":0},{"$f":"Parameters!BF29947","v":0},{"$f":"Parameters!BG29947","v":0},{"$f":"Parameters!BH29947","v":0},{"$f":"Parameters!BI29947","v":0},{"$f":"Parameters!BJ29947","v":0},{"$f":"Parameters!BK29947","v":0},{"$f":"Parameters!BL29947","v":0},{"$f":"Parameters!BM29947","v":0},{"$f":"Parameters!BN29947","v":0}]
[1,{"$f":"Parameters!K30002","v":0},{"$f":"Parameters!L30002","v":0},{"$f":"Parameters!M30002","v":0},{"$f":"Parameters!N30002","v":0},{"$f":"Parameters!O30002","v":0},{"$f":"Parameters!P30002","v":0},{"$f":"Parameters!Q30002","v":0},{"$f":"Parameters!R30002","v":0},{"$f":"Parameters!S30002","v":0},{"$f":"Parameters!T30002","v":0},{"$f":"Parameters!U30002","v":0},{"$f":"Parameters!V30002","v":0},{"$f":"Parameters!W30002","v":0},{"$f":"Parameters!X30002","v":0},{"$f":"Parameters!Y30002","v":0},{"$f":"Parameters!Z30002","v":0},{"$f":"Parameters!AA30002","v":0},{"$f":"Parameters!AB30002","v":0},{"$f":"Parameters!AC30002","v":0},{"$f":"Parameters!AD30002","v":0},{"$f":"Parameters!AE30002","v":0},{"$f":"Parameters!AF30002","v":0},{"$f":"Parameters!AG30002","v":0},{"$f":"Parameters!AH30002","v":0},{"$f":"Parameters!AI30002","v":0},{"$f":"Parameters!AJ30002","v":0},{"$f":"Parameters!AK30002","v":0},{"$f":"Parameters!AL30002","v":0},{"$f":"Parameters!AM30002","v":0},{"$f":"Parameters!AN30002","v":0},{"$f":"Parameters!AO30002","v":0},{"$f":"Parameters!AP30002","v":0},{"$f":"Parameters!AQ30002","v":0},{"$f":"Parameters!AR30002","v":0},{"$f":"Parameters!AS30002","v":0},{"$f":"Parameters!AT30002","v":0},{"$f":"Parameters!AU30002","v":0},{"$f":"Parameters!AV30002","v":0},{"$f":"Parameters!AW30002","v":0},{"$f":"Parameters!AX30002","v":0},{"$f":"Parameters!AY30002","v":0},{"$f":"Parameters!AZ30002","v":0},{"$f":"Parameters!BA30002","v":0},{"$f":"Parameters!BB30002","v":0},{"$f":"Parameters!BC30002","v":0},{"$f":"Parameters!BD30002","v":0},{"$f":"Parameters!BE30002","v":0},{"$f":"Parameters!BF30002","v":0},{"$f":"Parameters!BG30002","v":0},{"$f":"Parameters!BH30002","v":0},{"$f":"Parameters!BI30002","v":0},{"$f":"Parameters!BJ30002","v":0},{"$f":"Parameters!BK30002","v":0},{"$f":"Parameters!BL30002","v":0},{"$f":"Parameters!BM30002","v":0},{"$f":"Parameters!BN30002","v":0}]
[{"$f":"CONCATENATE(\"[\",Parameters!B30058,\",\",Parameters!C30058,\",\",Parameters!F30058,\",*,*]:\")","v":"[RE1,TEC177,COM046,*,*]:"}]
[2015,2016,2017,2018,2019,2020,2021,2022,2023,2024,2025,2026,2027,2028,2029,2030,2031,2032,2033,2034,2035,2036,2037,2038,2039,2040,2041,2042,2043,2044,2045,2046,2047,2048,2049,2050,2051,2052,2053,2054,2055,2056,2057,2058,2059,2060,2061,2062,2063,2064,2065,2066,2067,2068,2069,"2070:="]
[{"$f":"CONCATENATE(\"[\",Parameters!B30222,\",\",Parameters!C30222,\",\",Parameters!F30222,\",*,*]:\")","v":"[RE1,TEC181,URN,*,*]:"}]
[{"$f":"CONCATENATE(\"[\",Parameters!B30274,\",\",Parameters!C30274,\",\",Parameters!F30274,\",*,*]:\")","v":"[RE1,TEC182,ELC001,*,*]:"}]
[1,{"$f":"Parameters!K30330","v":0},{"$f":"Parameters!L30330","v":0},{"$f":"Parameters!M30330","v":0},{"$f":"Parameters!N30330","v":0},{"$f":"Parameters!O30330","v":0},{"$f":"Parameters!P30330","v":0},{"$f":"Parameters!Q30330","v":0},{"$f":"Parameters!R30330","v":0},{"$f":"Parameters!S30330","v":0},{"$f":"Parameters!T30330","v":0},{"$f":"Parameters!U30330","v":0},{"$f":"Parameters!V30330","v":0},{"$f":"Parameters!W30330","v":0},{"$f":"Parameters!X30330","v":0},{"$f":"Parameters!Y30330","v":0},{"$f":"Parameters!Z30330","v":0},{"$f":"Parameters!AA30330","v":0},{"$f":"Parameters!AB30330","v":0},{"$f":"Parameters!AC30330","v":0},{"$f":"Parameters!AD30330","v":0},{"$f":"Parameters!AE30330","v":0},{"$f":"Parameters!AF30330","v":0},{"$f":"Parameters!AG30330","v":0},{"$f":"Parameters!AH30330","v":0},{"$f":"Parameters!AI30330","v":0},{"$f":"Parameters!AJ30330","v":0},{"$f":"Parameters!AK30330","v":0},{"$f":"Parameters!AL30330","v":0},{"$f":"Parameters!AM30330","v":0},{"$f":"Parameters!AN30330","v":0},{"$f":"Parameters!AO30330","v":0},{"$f":"Parameters!AP30330","v":0},{"$f":"Parameters!AQ30330","v":0},{"$f":"Parameters!AR30330","v":0},{"$f":"Parameters!AS30330","v":0},{"$f":"Parameters!AT30330","v":0},{"$f":"Parameters!AU30330","v":0},{"$f":"Parameters!AV30330","v":0},{"$f":"Parameters!AW30330","v":0},{"$f":"Parameters!AX30330","v":0},{"$f":"Parameters!AY30330","v":0},{"$f":"Parameters!AZ30330","v":0},{"$f":"Parameters!BA30330","v":0},{"$f":"Parameters!BB30330","v":0},{"$f":"Parameters!BC30330","v":0},{"$f":"Parameters!BD30330","v":0},{"$f":"Parameters!BE30330","v":0},{"$f":"Parameters!BF30330","v":0},{"$f":"Parameters!BG30330","v":0},{"$f":"Parameters!BH30330","v":0},{"$f":"Parameters!BI30330","v":0},{"$f":"Parameters!BJ30330","v":0},{"$f":"Parameters!BK30330","v":0},{"$f":"Parameters!BL30330","v":0},{"$f":"Parameters!BM30330","v":0},{"$f":"Parameters!BN30330","v":0}]
[2015,2016,2017,2018,2019,2020,2021,2022,2023,2024,2025,2026,2027,2028,2029,2030,2031,2032,2033,2034,2035,2036,2037,2038,2039,2040,2041,2042,2043,2044,2045,2046,2047,2048,2049,2050,2051,2052,2053,2054,2055,2056,2057,2058,2059,2060,2061,2062,2063,2064,2065,2066,2067,2068,2069,"2070:="]
[1,{"$f":"Parameters!K30464","v":0},{"$f":"Parameters!L30464","v":0},{"$f":"Parameters!M30464","v":0},{"$f":"Parameters!N30464","v":0},{"$f":"Parameters!O30464","v":0},{"$f":"Parameters!P30464","v":0},{"$f":"Parameters!Q30464","v":0},{"$f":"Parameters!R30464","v":0},{"$f":"Parameters!S30464","v":0},{"$f":"Parameters!T30464","v":0},{"$f":"Parameters!U30464","v":0},{"$f":"Parameters!V30464","v":0},{"$f":"Parameters!W30464","v":0},{"$f":"Parameters!X30464","v":0},{"$f":"Parameters!Y30464","v":0},{"$f":"Parameters!Z30464","v":0},{"$f":"Parameters!AA30464","v":0},{"$f":"Parameters!AB30464","v":0},{"$f":"Parameters!AC30464","v":0},{"$f":"Parameters!AD30464","v":0},{"$f":"Parameters!AE30464","v":0},{"$f":"Parameters!AF30464","v":0},{"$f":"Parameters!AG30464","v":0},{"$f":"Parameters!AH30464","v":0},{"$f":"Parameters!AI30464","v":0},{"$f":"Parameters!AJ30464","v":0},{"$f":"Parameters!AK30464","v":0},{"$f":"Parameters!AL30464","v":0},{"$f":"Parameters!AM30464","v":0},{"$f":"Parameters!AN30464","v":0},{"$f":"Parameters!AO30464","v":0},{"$f":"Parameters!AP30464","v":0},{"$f":"Parameters!AQ30464","v":0},{"$f":"Parameters!AR30464","v":0},{"$f":"Parameters!AS30464","v":0},{"$f":"Parameters!AT30464","v":0},{"$f":"Parameters!AU30464","v":0},{"$f":"Parameters!AV30464","v":0},{"$f":"Parameters!AW30464","v":0},{"$f":"Parameters!AX30464","v":0},{"$f":"Parameters!AY30464","v":0},{"$f":"Parameters!AZ30464","v":0},{"$f":"Parameters!BA30464","v":0},{"$f":"Parameters!BB30464","v":0},{"$f":"Parameters!BC30464","v":0},{"$f":"Parameters!BD30464","v":0},{"$f":"Parameters!BE30464","v":0},{"$f":"Parameters!BF30464","v":0},{"$f":"Parameters!BG30464","v":0},{"$f":"Parameters!BH30464","v":0},{"$f":"Parameters!BI30464","v":0},{"$f":"Parameters!BJ30464","v":0},{"$f":"Parameters!BK30464","v":0},{"$f":"Parameters!BL30464","v":0},{"$f":"Parameters!BM30464","v":0},{"$f":"Parameters!BN30464","v":0}]
[{"$f":"CONCATENATE(\"[\",Parameters!B30491,\",\",Parameters!C30491,\",\",Parameters!F30491,\",*,*]:\")","v":"[RE1,TEC186,COM029,*,*]:"}]
[2015,2016,2017,2018,2019,2020,2021,2022,2023,2024,2025,2026,2027,2028,2029,2030,2031,2032,2033,2034,2035,2036,2037,2038,2039,2040,2041,2042,2043,2044,2045,2046,2047,2048,2049,2050,2051,2052,2053,2054,2055,2056,2057,2058,2059,2060,2061,2062,2063,2064,2065,2066,2067,2068,2069,"2070:="]
[1,{"$f":"Parameters!K30599","v":0},{"$f":"Parameters!L30599","v":0},{"$f":"Parameters!M30599","v":0},{"$f":"Parameters!N30599","v":0},{"$f":"Parameters!O30599","v":0},{"$f":"Parameters!P30599","v":0},{"$f":"Parameters!Q30599","v":0},{"$f":"Parameters!R30599","v":0},{"$f":"Parameters!S30599","v":0},{"$f":"Parameters!T30599","v":0},{"$f":"Parameters!U30599","v":0},{"$f":"Parameters!V30599","v":0},{"$f":"Parameters!W30599","v":0},{"$f":"Parameters!X30599","v":0},{"$f":"Parameters!Y30599","v":0},{"$f":"Parameters!Z30599","v":0},{"$f":"Parameters!AA30599","v":0},{"$f":"Parameters!AB30599","v":0},{"$f":"Parameters!AC30599","v":0},{"$f":"Parameters!AD30599","v":0},{"$f":"Parameters!AE30599","v":0},{"$f":"Parameters!AF30599","v":0},{"$f":"Parameters!AG30599","v":0},{"$f":"Parameters!AH30599","v":0},{"$f":"Parameters!AI30599","v":0},{"$f":"Parameters!AJ30599","v":0},{"$f":"Parameters!AK30599","v":0},{"$f":"Parameters!AL30599","v":0},{"$f":"Parameters!AM30599","v":0},{"$f":"Parameters!AN30599","v":0},{"$f":"Parameters!AO30599","v":0},{"$f":"Parameters!AP30599","v":0},{"$f":"Parameters!AQ30599","v":0},{"$f":"Parameters!AR30599","v":0},{"$f":"Parameters!AS30599","v":0},{"$f":"Parameters!AT30599","v":0},{"$f":"Parameters!AU30599","v":0},{"$f":"Parameters!AV30599","v":0},{"$f":"Parameters!AW30599","v":0},{"$f":"Parameters!AX30599","v":0},{"$f":"Parameters!AY30599","v":0},{"$f":"Parameters!AZ30599","v":0},{"$f":"Parameters!BA30599","v":0},{"$f":"Parameters!BB30599","v":0},{"$f":"Parameters!BC30599","v":0},{"$f":"Parameters!BD30599","v":0},{"$f":"Parameters!BE30599","v":0},{"$f":"Parameters!BF30599","v":0},{"$f":"Parameters!BG30599","v":0},{"$f":"Parameters!BH30599","v":0},{"$f":"Parameters!BI30599","v":0},{"$f":"Parameters!BJ30599","v":0},{"$f":"Parameters!BK30599","v":0},{"$f":"Parameters!BL30599","v":0},{"$f":"Parameters!BM30599","v":0},{"$f":"Parameters!BN30599","v":0}]
[1,{"$f":"Parameters!K30710","v":0},{"$f":"Parameters!L30710","v":0},{"$f":"Parameters!M30710","v":0},{"$f":"Parameters!N30710","v":0},{"$f":"Parameters!O30710","v":0},{"$f":"Parameters!P30710","v":0},{"$f":"Parameters!Q30710","v":0},{"$f":"Parameters!R30710","v":0},{"$f":"Parameters!S30710","v":0},{"$f":"Parameters!T30710","v":0},{"$f":"Parameters!U30710","v":0},{"$f":"Parameters!V30710","v":0},{"$f":"Parameters!W30710","v":0},{"$f":"Parameters!X30710","v":0},{"$f":"Parameters!Y30710","v":0},{"$f":"Parameters!Z30710","v":0},{"$f":"Parameters!AA30710","v":0},{"$f":"Parameters!AB30710","v":0},{"$f":"Parameters!AC30710","v":0},{"$f":"Parameters!AD30710","v":0},{"$f":"Parameters!AE30710","v":0},{"$f":"Parameters!AF30710","v":0},{"$f":"Parameters!AG30710","v":0},{"$f":"Parameters!AH30710","v":0},{"$f":"Parameters!AI30710","v":0},{"$f":"Parameters!AJ30710","v":0},{"$f":"Parameters!AK30710","v":0},{"$f":"Parameters!AL30710","v":0},{"$f":"Parameters!AM30710","v":0},{"$f":"Parameters!AN30710","v":0},{"$f":"Parameters!AO30710","v":0},{"$f":"Parameters!AP30710","v":0},{"$f":"Parameters!AQ30710","v":0},{"$f":"Parameters!AR30710","v":0},{"$f":"Parameters!AS30710","v":0},{"$f":"Parameters!AT30710","v":0},{"$f":"Parameters!AU30710","v":0},{"$f":"Parameters!AV30710","v":0},{"$f":"Parameters!AW30710","v":0},{"$f":"Parameters!AX30710","v":0},{"$f":"Parameters!AY30710","v":0},{"$f":"Parameters!AZ30710","v":0},{"$f":"Parameters!BA30710","v":0},{"$f":"Parameters!BB30710","v":0},{"$f":"Parameters!BC30710","v":0},{"$f":"Parameters!BD30710","v":0},{"$f":"Parameters!BE30710","v":0},{"$f":"Parameters!BF30710","v":0},{"$f":"Parameters!BG30710","v":0},{"$f":"Parameters!BH30710","v":0},{"$f":"Parameters!BI30710","v":0},{"$f":"Parameters!BJ30710","v":0},{"$f":"Parameters!BK30710","v":0},{"$f":"Parameters!BL30710","v":0},{"$f":"Parameters!BM30710","v":0},{"$f":"Parameters!BN30710","v":0}]
[{"$f":"CONCATENATE(\"[\",Parameters!B30731,\",\",Parameters!C30731,\",\",Parameters!F30731,\",*,*]:\")","v":"[RE1,TEC191,INDELC,*,*]:"}]
[2015,2016,2017,2018,2019,2020,2021,2022,2023,2024,2025,2026,2027,2028,2029,2030,2031,2032,2033,2034,2035,2036,2037,2038,2039,2040,2041,2042,2043,2044,2045,2046,2047,2048,2049,2050,2051,2052,2053,2054,2055,2056,2057,2058,2059,2060,2061,2062,2063,2064,2065,2066,2067,2068,2069,"2070:="]
[1,{"$f":"Parameters!K30866","v":0},{"$f":"Parameters!L30866","v":0},{"$f":"Parameters!M30866","v":0},{"$f":"Parameters!N30866","v":0},{"$f":"Parameters!O30866","v":0},{"$f":"Parameters!P30866","v":0},{"$f":"Parameters!Q30866","v":0},{"$f":"Parameters!R30866","v":0},{"$f":"Parameters!S30866","v":0},{"$f":"Parameters!T30866","v":0},{"$f":"Parameters!U30866","v":0},{"$f":"Parameters!V30866","v":0},{"$f":"Parameters!W30866","v":0},{"$f":"Parameters!X30866","v":0},{"$f":"Parameters!Y30866","v":0},{"$f":"Parameters!Z30866","v":0},{"$f":"Parameters!AA30866","v":0},{"$f":"Parameters!AB30866","v":0},{"$f":"Parameters!AC30866","v":0},{"$f":"Parameters!AD30866","v":0},{"$f":"Parameters!AE30866","v":0},{"$f":"Parameters!AF30866","v":0},{"$f":"Parameters!AG30866","v":0},{"$f":"Parameters!AH30866","v":0},{"$f":"Parameters!AI30866","v":0},{"$f":"Parameters!AJ30866","v":0},{"$f":"Parameters!AK30866","v":0},{"$f":"Parameters!AL30866","v":0},{"$f":"Parameters!AM30866","v":0},{"$f":"Parameters!AN30866","v":0},{"$f":"Parameters!AO30866","v":0},{"$f":"Parameters!AP30866","v":0},{"$f":"Parameters!AQ30866","v":0},{"$f":"Parameters!AR30866","v":0},{"$f":"Parameters!AS30866","v":0},{"$f":"Parameters!AT30866","v":0},{"$f":"Parameters!AU30866","v":0},{"$f":"Parameters!AV30866","v":0},{"$f":"Parameters!AW30866","v":0},{"$f":"Parameters!AX30866","v":0},{"$f":"Parameters!AY30866","v":0},{"$f":"Parameters!AZ30866","v":0},{"$f":"Parameters!BA30866","v":0},{"$f":"Parameters!BB30866","v":0},{"$f":"Parameters!BC30866","v":0},{"$f":"Parameters!BD30866","v":0},{"$f":"Parameters!BE30866","v":0},{"$f":"Parameters!BF30866","v":0},{"$f":"Parameters!BG30866","v":0},{"$f":"Parameters!BH30866","v":0},{"$f":"Parameters!BI30866","v":0},{"$f":"Parameters!BJ30866","v":0},{"$f":"Parameters!BK30866","v":0},{"$f":"Parameters!BL30866","v":0},{"$f":"Parameters!BM30866","v":0},{"$f":"Parameters!BN30866","v":0}]
[{"$f":"CONCATENATE(\"[\",Parameters!B30929,\",\",Parameters!C30929,\",\",Parameters!F30929,\",*,*]:\")","v":"[RE1,TEC195,TRACAR,*,*]:"}]
[{"$f":"CONCATENATE(\"[\",Parameters!B30977,\",\",Parameters!C30977,\",\",Parameters!F30977,\",*,*]:\")","v":"[RE1,TEC196,ELCEV,*,*]:"}]
[1,{"$f":"Parameters!K31037","v":0},{"$f":"Parameters!L31037","v":0},{"$f":"Parameters!M31037","v":0},{"$f":"Parameters!N31037","v":0},{"$f":"Parameters!O31037","v":0},{"$f":"Parameters!P31037","v":0},{"$f":"Parameters!Q31037","v":0},{"$f":"Parameters!R31037","v":0},{"$f":"Parameters!S31037","v":0},{"$f":"Parameters!T31037","v":0},{"$f":"Parameters!U31037","v":0},{"$f":"Parameters!V31037","v":0},{"$f":"Parameters!W31037","v":0},{"$f":"Parameters!X31037","v":0},{"$f":"Parameters!Y31037","v":0},{"$f":"Parameters!Z31037","v":0},{"$f":"Parameters!AA31037","v":0},{"$f":"Parameters!AB31037","v":0},{"$f":"Parameters!AC31037","v":0},{"$f":"Parameters!AD31037","v":0},{"$f":"Parameters!AE31037","v":0},{"$f":"Parameters!AF31037","v":0},{"$f":"Parameters!AG31037","v":0},{"$f":"Parameters!AH31037","v":0},{"$f":"Parameters!AI31037","v":0},{"$f":"Parameters!AJ31037","v":0},{"$f":"Parameters!AK31037","v":0},{"$f":"Parameters!AL31037","v":0},{"$f":"Parameters!AM31037","v":0},{"$f":"Parameters!AN31037","v":0},{"$f":"Parameters!AO31037","v":0},{"$f":"Parameters!AP31037","v":0},{"$f":"Parameters!AQ31037","v":0},{"$f":"Parameters!AR31037","v":0},{"$f":"Parameters!AS31037","v":0},{"$f":"Parameters!AT31037","v":0},{"$f":"Parameters!AU31037","v":0},{"$f":"Parameters!AV31037","v":0},{"$f":"Parameters!AW31037","v":0},{"$f":"Parameters!AX31037","v":0},{"$f":"Parameters!AY31037","v":0},{"$f":"Parameters!AZ31037","v":0},{"$f":"Parameters!BA31037","v":0},{"$f":"Parameters!BB31037","v":0},{"$f":"Parameters!BC31037","v":0},{"$f":"Parameters!BD31037","v":0},{"$f":"Parameters!BE31037","v":0},{"$f":"Parameters!BF31037","v":0},{"$f":"Parameters!BG31037","v":0},{"$f":"Parameters!BH31037","v":0},{"$f":"Parameters!BI31037","v":0},{"$f":"Parameters!BJ31037","v":0},{"$f":"Parameters!BK31037","v":0},{"$f":"Parameters!BL31037","v":0},{"$f":"Parameters!BM31037","v":0},{"$f":"Parameters!BN31037","v":0}]
[1,{"$f":"Parameters!K31112","v":0},{"$f":"Parameters!L31112","v":0},{"$f":"Parameters!M31112","v":0},{"$f":"Parameters!N31112","v":0},{"$f":"Parameters!O31112","v":0},{"$f":"Parameters!P31112","v":0},{"$f":"Parameters!Q31112","v":0},{"$f":"Parameters!R31112","v":0},{"$f":"Parameters!S31112","v":0},{"$f":"Parameters!T31112","v":0},{"$f":"Parameters!U31112","v":0},{"$f":"Parameters!V31112","v":0},{"$f":"Parameters!W31112","v":0},{"$f":"Parameters!X31112","v":0},{"$f":"Parameters!Y31112","v":0},{"$f":"Parameters!Z31112","v":0},{"$f":"Parameters!AA31112","v":0},{"$f":"Parameters!AB31112","v":0},{"$f":"Parameters!AC31112","v":0},{"$f":"Parameters!AD31112","v":0},{"$f":"Parameters!AE31112","v":0},{"$f":"Parameters!AF31112","v":0},{"$f":"Parameters!AG31112","v":0},{"$f":"Parameters!AH31112","v":0},{"$f":"Parameters!AI31112","v":0},{"$f":"Parameters!AJ31112","v":0},{"$f":"Parameters!AK31112","v":0},{"$f":"Parameters!AL31112","v":0},{"$f":"Parameters!AM31112","v":0},{"$f":"Parameters!AN31112","v":0},{"$f":"Parameters!AO31112","v":0},{"$f":"Parameters!AP31112","v":0},{"$f":"Parameters!AQ31112","v":0},{"$f":"Parameters!AR31112","v":0},{"$f":"Parameters!AS31112","v":0},{"$f":"Parameters!AT31112","v":0},{"$f":"Parameters!AU31112","v":0},{"$f":"Parameters!AV31112","v":0},{"$f":"Parameters!AW31112","v":0},{"$f":"Parameters!AX31112","v":0},{"$f":"Parameters!AY31112","v":0},{"$f":"Parameters!AZ31112","v":0},{"$f":"Parameters!BA31112","v":0},{"$f":"Parameters!BB31112","v":0},{"$f":"Parameters!BC31112","v":0},{"$f":"Parameters!BD31112","v":0},{"$f":"Parameters!BE31112","v":0},{"$f":"Parameters!BF31112","v":0},{"$f":"Parameters!BG31112","v":0},{"$f":"Parameters!BH31112","v":0},{"$f":"Parameters!BI31112","v":0},{"$f":"Parameters!BJ31112","v":0},{"$f":"Parameters!BK31112","v":0},{"$f":"Parameters!BL31112","v":0},{"$f":"Parameters!BM31112","v":0},{"$f":"Parameters!BN31112","v":0}]
[1,{"$f":"Parameters!K31369","v":0},{"$f":"Parameters!L31369","v":0},{"$f":"Parameters!M31369","v":0},{"$f":"Parameters!N31369","v":0},{"$f":"Parameters!O31369","v":0},{"$f":"Parameters!P31369","v":0},{"$f":"Parameters!Q31369","v":0},{"$f":"Parameters!R31369","v":0},{"$f":"Parameters!S31369","v":0},{"$f":"Parameters!T31369","v":0},{"$f":"Parameters!U31369","v":0},{"$f":"Parameters!V31369","v":0},{"$f":"Parameters!W31369","v":0},{"$f":"Parameters!X31369","v":0},{"$f":"Parameters!Y31369","v":0},{"$f":"Parameters!Z31369","v":0},{"$f":"Parameters!AA31369","v":0},{"$f":"Parameters!AB31369","v":0},{"$f":"Parameters!AC31369","v":0},{"$f":"Parameters!AD31369","v":0},{"$f":"Parameters!AE31369","v":0},{"$f":"Parameters!AF31369","v":0},{"$f":"Parameters!AG31369","v":0},{"$f":"Parameters!AH31369","v":0},{"$f":"Parameters!AI31369","v":0},{"$f":"Parameters!AJ31369","v":0},{"$f":"Parameters!AK31369","v":0},{"$f":"Parameters!AL31369","v":0},{"$f":"Parameters!AM31369","v":0},{"$f":"Parameters!AN31369","v":0},{"$f":"Parameters!AO31369","v":0},{"$f":"Parameters!AP31369","v":0},{"$f":"Parameters!AQ31369","v":0},{"$f":"Parameters!AR31369","v":0},{"$f":"Parameters!AS31369","v":0},{"$f":"Parameters!AT31369","v":0},{"$f":"Parameters!AU31369","v":0},{"$f":"Parameters!AV31369","v":0},{"$f":"Parameters!AW31369","v":0},{"$f":"Parameters!AX31369","v":0},{"$f":"Parameters!AY31369","v":0},{"$f":"Parameters!AZ31369","v":0},{"$f":"Parameters!BA31369","v":0},{"$f":"Parameters!BB31369","v":0},{"$f":"Parameters!BC31369","v":0},{"$f":"Parameters!BD31369","v":0},{"$f":"Parameters!BE31369","v":0},{"$f":"Parameters!BF31369","v":0},{"$f":"Parameters!BG31369","v":0},{"$f":"Parameters!BH31369","v":0},{"$f":"Parameters!BI31369","v":0},{"$f":"Parameters!BJ31369","v":0},{"$f":"Parameters!BK31369","v":0},{"$f":"Parameters!BL31369","v":0},{"$f":"Parameters!BM31369","v":0},{"$f":"Parameters!BN31369","v":0}]
[2015,2016,2017,2018,2019,2020,2021,2022,2023,2024,2025,2026,2027,2028,2029,2030,2031,2032,2033,2034,2035,2036,2037,2038,2039,2040,2041,2042,2043,2044,2045,2046,2047,2048,2049,2050,2051,2052,2053,2054,2055,2056,2057,2058,2059,2060,2061,2062,2063,2064,2065,2066,2067,2068,2069,"2070:="]
[2015,2016,2017,2018,2019,2020,2021,2022,2023,2024,2025,2026,2027,2028,2029,2030,2031,2032,2033,2034,2035,2036,2037,2038,2039,2040,2041,2042,2043,2044,2045,2046,2047,2048,2049,2050,2051,2052,2053,2054,2055,2056,2057,2058,2059,2060,2061,2062,2063,2064,2065,2066,2067,2068,2069,"2070:="]
[{"$f":"CONCATENATE(\"[\",Parameters!B31569,\",\",Parameters!C31569,\",\",Parameters!F31569,\",*,*]:\")","v":"[RE1,IMPCOA,COM048,*,*]:"}]
[{"$f":"CONCATENATE(\"[\",Parameters!B31641,\",\",Parameters!C31641,\",\",Parameters!F31641,\",*,*]:\")","v":"[RE1,IMPLFO,INDHEH,*,*]:"}]
[{"$f":"CONCATENATE(\"[\",Parameters!B31696,\",\",Parameters!C31696,\",\",Parameters!F31696,\",*,*]:\")","v":"[RE1,IMPHFO,COMELC,*,*]:"}]
[2015,2016,2017,2018,2019,2020,2021,2022,2023,2024,2025,2026,2027,2028,2029,2030,2031,2032,2033,2034,2035,2036,2037,2038,2039,2040,2041,2042,2043,2044,2045,2046,2047,2048,2049,2050,2051,2052,2053,2054,2055,2056,2057,2058,2059,2060,2061,2062,2063,2064,2065,2066,2067,2068,2069,"2070:="]
[1,{"$f":"Parameters!K31771","v":0},{"$f":"Parameters!L31771","v":0},{"$f":"Parameters!M31771","v":0},{"$f":"Parameters!N31771","v":0},{"$f":"Parameters!O31771","v":0},{"$f":"Parameters!P31771","v":0},{"$f":"Parameters!Q31771","v":0},{"$f":"Parameters!R31771","v":0},{"$f":"Parameters!S31771","v":0},{"$f":"Parameters!T31771","v":0},{"$f":"Parameters!U31771","v":0},{"$f":"Parameters!V31771","v":0},{"$f":"Parameters!W31771","v":0},{"$f":"Parameters!X31771","v":0},{"$f":"Parameters!Y31771","v":0},{"$f":"Parameters!Z31771","v":0},{"$f":"Parameters!AA31771","v":0},{"$f":"Parameters!AB31771","v":0},{"$f":"Parameters!AC31771","v":0},{"$f":"Parameters!AD31771","v":0},{"$f":"Parameters!AE31771","v":0},{"$f":"Parameters!AF31771","v":0},{"$f":"Parameters!AG31771","v":0},{"$f":"Parameters!AH31771","v":0},{"$f":"Parameters!AI31771","v":0},{"$f":"Parameters!AJ31771","v":0},{"$f":"Parameters!AK31771","v":0},{"$f":"Parameters!AL31771","v":0},{"$f":"Parameters!AM31771","v":0},{"$f":"Parameters!AN31771","v":0},{"$f":"Parameters!AO31771","v":0},{"$f":"Parameters!AP31771","v":0},{"$f":"Parameters!AQ31771","v":0},{"$f":"Parameters!AR31771","v":0},{"$f":"Parameters!AS31771","v":0},{"$f":"Parameters!AT31771","v":0},{"$f":"Parameters!AU31771","v":0},{"$f":"Parameters!AV31771","v":0},{"$f":"Parameters!AW31771","v":0},{"$f":"Parameters!AX31771","v":0},{"$f":"Parameters!AY31771","v":0},{"$f":"Parameters!AZ31771","v":0},{"$f":"Parameters!BA31771","v":0},{"$f":"Parameters!BB31771","v":0},{"$f":"Parameters!BC31771","v":0},{"$f":"Parameters!BD31771","v":0},{"$f":"Parameters!BE31771","v":0},{"$f":"Parameters!BF31771","v":0},{"$f":"Parameters!BG31771","v":0},{"$f":"Parameters!BH31771","v":0},{"$f":"Parameters!BI31771","v":0},{"$f":"Parameters!BJ31771","v":0},{"$f":"Parameters!BK31771","v":0},{"$f":"Parameters!BL31771","v":0},{"$f":"Parameters!BM31771","v":0},{"$f":"Parameters!BN31771","v":0}]
[{"$f":"CONCATENATE(\"[\",Parameters!B31833,\",\",Parameters!C31833,\",\",Parameters!F31833,\",*,*]:\")","v":"[RE1,IMPNGS,ELC001,*,*]:"}]
[2015,2016,2017,2018,2019,2020,2021,2022,2023,2024,2025,2026,2027,2028,2029,2030,2031,2032,2033,2034,2035,2036,2037,2038,2039,2040,2041,2042,2043,2044,2045,2046,2047,2048,2049,2050,2051,2052,2053,2054,2055,2056,2057,2058,2059,2060,2061,2062,2063,2064,2065,2066,2067,2068,2069,"2070:="]
[{"$f":"CONCATENATE(\"[\",Parameters!B32002,\",\",Parameters!C32002,\",\",Parameters!F32002,\",*,*]:\")","v":"[RE1,MINWND,COM031,*,*]:"}]
[{"$f":"CONCATENATE(\"[\",Parameters!B32043,\",\",Parameters!C32043,\",\",Parameters!F32043,\",*,*]:\")","v":"[RE1,IMPURN,RESELC,*,*]:"}]
[{"$f":"CONCATENATE(\"[\",Parameters!B32098,\",\",Parameters!C32098,\",\",Parameters!F32098,\",*,*]:\")","v":"[RE1,MINURN,COM027,*,*]:"}]
[2015,2016,2017,2018,2019,2020,2021,2022,2023,2024,2025,2026,2027,2028,2029,2030,2031,2032,2033,2034,2035,2036,2037,2038,2039,2040,2041,2042,2043,2044,2045,2046,2047,2048,2049,2050,2051,2052,2053,2054,2055,2056,2057,2058,2059,2060,2061,2062,2063,2064,2065,2066,2067,2068,2069,"2070:="]
[1,{"$f":"Parameters!K32233","v":1},{"$f":"Parameters!L32233","v":1},{"$f":"Parameters!M32233","v":1},{"$f":"Parameters!N32233","v":1},{"$f":"Parameters!O32233","v":1},{"$f":"Parameters!P32233","v":1},{"$f":"Parameters!Q32233","v":1},{"$f":"Parameters!R32233","v":1},{"$f":"Parameters!S32233","v":1},{"$f":"Parameters!T32233","v":1},{"$f":"Parameters!U32233","v":1},{"$f":"Parameters!V32233","v":1},{"$f":"Parameters!W32233","v":1},{"$f":"Parameters!X32233","v":1},{"$f":"Parameters!Y32233","v":1},{"$f":"Parameters!Z32233","v":1},{"$f":"Parameters!AA32233","v":1},{"$f":"Parameters!AB32233","v":1},{"$f":"Parameters!AC32233","v":1},{"$f":"Parameters!AD32233","v":1},{"$f":"Parameters!AE32233","v":1},{"$f":"Parameters!AF32233","v":1},{"$f":"Parameters!AG32233","v":1},{"$f":"Parameters!AH32233","v":1},{"$f":"Parameters!AI32233","v":1},{"$f":"Parameters!AJ32233","v":1},{"$f":"Parameters!AK32233","v":1},{"$f":"Parameters!AL32233","v":1},{"$f":"Parameters!AM32233","v":1},{"$f":"Parameters!AN32233","v":1},{"$f":"Parameters!AO32233","v":1},{"$f":"Parameters!AP32233","v":1},{"$f":"Parameters!AQ32233","v":1},{"$f":"Parameters!AR32233","v":1},{"$f":"Parameters!AS32233","v":1},{"$f":"Parameters!AT32233","v":1},{"$f":"Parameters!AU32233","v":1},{"$f":"Parameters!AV32233","v":1},{"$f":"Parameters!AW32233","v":1},{"$f":"Parameters!AX32233","v":1},{"$f":"Parameters!AY32233","v":1},{"$f":"Parameters!AZ32233","v":1},{"$f":"Parameters!BA32233","v":1},{"$f":"Parameters!BB32233","v":1},{"$f":"Parameters!BC32233","v":1},{"$f":"Parameters!BD32233","v":1},{"$f":"Parameters!BE32233","v":1},{"$f":"Parameters!BF32233","v":1},{"$f":"Parameters!BG32233","v":1},{"$f":"Parameters!BH32233","v":1},{"$f":"Parameters!BI32233","v":1},{"$f":"Parameters!BJ32233","v":1},{"$f":"Parameters!BK32233","v":1},{"$f":"Parameters!BL32233","v":1},{"$f":"Parameters!BM32233","v":1},{"$f":"Parameters!BN32233","v":1}]
[{"$f":"CONCATENATE(\"[\",Parameters!B32271,\",\",Parameters!C32271,\",\",Parameters!F32271,\",*,*]:\")","v":"[RE1,PWRBIO001,COM050,*,*]:"}]
[2015,2016,2017,2018,2019,2020,2021,2022,2023,2024,2025,2026,2027,2028,2029,2030,2031,2032,2033,2034,2035,2036,2037,2038,2039,2040,2041,2042,2043,2044,2045,2046,2047,2048,2049,2050,2051,2052,2053,2054,2055,2056,2057,2058,2059,2060,2061,2062,2063,2064,2065,2066,2067,2068,2069,"2070:="]
[2015,2016,2017,2018,2019,2020,2021,2022,2023,2024,2025,2026,2027,2028,2029,2030,2031,2032,2033,2034,2035,2036,2037,2038,2039,2040,2041,2042,2043,2044,2045,2046,2047,2048,2049,2050,2051,2052,2053,2054,2055,2056,2057,2058,2059,2060,2061,2062,2063,2064,2065,2066,2067,2068,2069,"2070:="]
[2015,2016,2017,2018,2019,2020,2021,2022,2023,2024,2025,2026,2027,2028,2029,2030,2031,2032,2033,2034,2035,2036,2037,2038,2039,2040,2041,2042,2043,2044,2045,2046,2047,2048,2049,2050,2051,2052,2053,2054,2055,2056,2057,2058,2059,2060,2061,2062,2063,2064,2065,2066,2067,2068,2069,"2070:="]
[{"$f":"CONCATENATE(\"[\",Parameters!B32500,\",\",Parameters!C32500,\",\",Parameters!F32500,\",*,*]:\")","v":"[RE1,PWROHC002,COM029,*,*]:"}]
[2015,2016,2017,2018,2019,2020,2021,2022,2023,2024,2025,2026,2027,2028,2029,2030,2031,2032,2033,2034,2035,2036,2037,2038,2039,2040,2041,2042,2043,2044,2045,2046,2047,2048,2049,2050,2051,2052,2053,2054,2055,2056,2057,2058,2059,2060,2061,2062,2063,2064,2065,2066,2067,2068,2069,"2070:="]
[2015,2016,2017,2018,2019,2020,2021,2022,2023,2024,2025,2026,2027,2028,2029,2030,2031,2032,2033,2034,2035,2036,2037,2038,2039,2040,2041,2042,2043,2044,2045,2046,2047,2048,2049,2050,2051,2052,2053,2054,2055,2056,2057,2058,2059,2060,2061,2062,2063,2064,2065,2066,2067,2068,2069,"2070:="]
[{"$f":"CONCATENATE(\"[\",Parameters!B32709,\",\",Parameters!C32709,\",\",Parameters!F32709,\",*,*]:\")","v":"[RE1,TEC027,COM038,*,*]:"}]
[{"$f":"CONCATENATE(\"[\",Parameters!B32746,\",\",Parameters!C32746,\",\",Parameters!F32746,\",*,*]:\")","v":"[RE1,PWRCSP002,COMELC,*,*]:"}]
[2015,2016,2017,2018,2019,2020,2021,2022,2023,2024,2025,2026,2027,2028,2029,2030,2031,2032,2033,2034,2035,2036,2037,2038,2039,2040,2041,2042,2043,2044,2045,2046,2047,2048,2049,2050,2051,2052,2053,2054,2055,2056,2057,2058,2059,2060,2061,2062,2063,2064,2065,2066,2067,2068,2069,"2070:="]
[2015,2016,2017,2018,2019,2020,2021,2022,2023,2024,2025,2026,2027,2028,2029,2030,2031,2032,2033,2034,2035,2036,2037,2038,2039,2040,2041,2042,2043,2044,2045,2046,2047,2048,2049,2050,2051,2052,2053,2054,2055,2056,2057,2058,2059,2060,2061,2062,2063,2064,2065,2066,2067,2068,2069,"2070:="]
[1,{"$f":"Parameters!K32936","v":0},{"$f":"Parameters!L32936","v":0},{"$f":"Parameters!M32936","v":0},{"$f":"Parameters!N32936","v":0},{"$f":"Parameters!O32936","v":0},{"$f":"Parameters!P32936","v":0},{"$f":"Parameters!Q32936","v":0},{"$f":"Parameters!R32936","v":0},{"$f":"Parameters!S32936","v":0},{"$f":"Parameters!T32936","v":0},{"$f":"Parameters!U32936","v":0},{"$f":"Parameters!V32936","v":0},{"$f":"Parameters!W32936","v":0},{"$f":"Parameters!X32936","v":0},{"$f":"Parameters!Y32936","v":0},{"$f":"Parameters!Z32936","v":0},{"$f":"Parameters!AA32936","v":0},{"$f":"Parameters!AB32936","v":0},{"$f":"Parameters!AC32936","v":0},{"$f":"Parameters!AD32936","v":0},{"$f":"Parameters!AE32936","v":0},{"$f":"Parameters!AF32936","v":0},{"$f":"Parameters!AG32936","v":0},{"$f":"Parameters!AH32936","v":0},{"$f":"Parameters!AI32936","v":0},{"$f":"Parameters!AJ32936","v":0},{"$f":"Parameters!AK32936","v":0},{"$f":"Parameters!AL32936","v":0},{"$f":"Parameters!AM32936","v":0},{"$f":"Parameters!AN32936","v":0},{"$f":"Parameters!AO32936","v":0},{"$f":"Parameters!AP32936","v":0},{"$f":"Parameters!AQ32936","v":0},{"$f":"Parameters!AR32936","v":0},{"$f":"Parameters!AS32936","v":0},{"$f":"Parameters!AT32936","v":0},{"$f":"Parameters!AU32936","v":0},{"$f":"Parameters!AV32936","v":0},{"$f":"Parameters!AW32936","v":0},{"$f":"Parameters!AX32936","v":0},{"$f":"Parameters!AY32936","v":0},{"$f":"Parameters!AZ32936","v":0},{"$f":"Parameters!BA32936","v":0},{"$f":"Parameters!BB32936","v":0},{"$f":"Parameters!BC32936","v":0},{"$f":"Parameters!BD32936","v":0},{"$f":"Parameters!BE32936","v":0},{"$f":"Parameters!BF32936","v":0},{"$f":"Parameters!BG32936","v":0},{"$f":"Parameters!BH32936","v":0},{"$f":"Parameters!BI32936","v":0},{"$f":"Parameters!BJ32936","v":0},{"$f":"Parameters!BK32936","v":0},{"$f":"Parameters!BL32936","v":0},{"$f":"Parameters!BM32936","v":0},{"$f":"Parameters!BN32936","v":0}]
[{"$f":"CONCATENATE(\"[\",Parameters!B32978,\",\",Parameters!C32978,\",\",Parameters!F32978,\",*,*]:\")","v":"[RE1,PWRWND002,SOL,*,*]:"}]
[2015,2016,2017,2018,2019,2020,2021,2022,2023,2024,2025,2026,2027,2028,2029,2030,2031,2032,2033,2034,2035,2036,2037,2038,2039,2040,2041,2042,2043,2044,2045,2046,2047,2048,2049,2050,2051,2052,2053,2054,2055,2056,2057,2058,2059,2060,2061,2062,2063,2064,2065,2066,2067,2068,2069,"2070:="]
[{"$f":"CONCATENATE(\"[\",Parameters!B33142,\",\",Parameters!C33142,\",\",Parameters!F33142,\",*,*]:\")","v":"[RE1,PWRWND001S,INDHEL,*,*]:"}]
[{"$f":"CONCATENATE(\"[\",Parameters!B33148,\",\",Parameters!C33148,\",\",Parameters!F33148,\",*,*]:\")","v":"[RE1,PWRWND001S,COM027,*,*]:"}]
[{"$f":"CONCATENATE(\"[\",Parameters!B33263,\",\",Parameters!C33263,\",\",Parameters!F33263,\",*,*]:\")","v":"[RE1,BACKSTOP001,COM042,*,*]:"}]
[2015,2016,2017,2018,2019,2020,2021,2022,2023,2024,2025,2026,2027,2028,2029,2030,2031,2032,2033,2034,2035,2036,2037,2038,2039,2040,2041,2042,2043,2044,2045,2046,2047,2048,2049,2050,2051,2052,2053,2054,2055,2056,2057,2058,2059,2060,2061,2062,2063,2064,2065,2066,2067,2068,2069,"2070:="]
[1,{"$f":"Parameters!K33338","v":0},{"$f":"Parameters!L33338","v":0},{"$f":"Parameters!M33338","v":0},{"$f":"Parameters!N33338","v":0},{"$f":"Parameters!O33338","v":0},{"$f":"Parameters!P33338","v":0},{"$f":"Parameters!Q33338","v":0},{"$f":"Parameters!R33338","v":0},{"$f":"Parameters!S33338","v":0},{"$f":"Parameters!T33338","v":0},{"$f":"Parameters!U33338","v":0},{"$f":"Parameters!V33338","v":0},{"$f":"Parameters!W33338","v":0},{"$f":"Parameters!X33338","v":0},{"$f":"Parameters!Y33338","v":0},{"$f":"Parameters!Z33338","v":0},{"$f":"Parameters!AA33338","v":0},{"$f":"Parameters!AB33338","v":0},{"$f":"Parameters!AC33338","v":0},{"$f":"Parameters!AD33338","v":0},{"$f":"Parameters!AE33338","v":0},{"$f":"Parameters!AF33338","v":0},{"$f":"Parameters!AG33338","v":0},{"$f":"Parameters!AH33338","v":0},{"$f":"Parameters!AI33338","v":0},{"$f":"Parameters!AJ33338","v":0},{"$f":"Parameters!AK33338","v":0},{"$f":"Parameters!AL33338","v":0},{"$f":"Parameters!AM33338","v":0},{"$f":"Parameters!AN33338","v":0},{"$f":"Parameters!AO33338","v":0},{"$f":"Parameters!AP33338","v":0},{"$f":"Parameters!AQ33338","v":0},{"$f":"Parameters!AR33338","v":0},{"$f":"Parameters!AS33338","v":0},{"$f":"Parameters!AT33338","v":0},{"$f":"Parameters!AU33338","v":0},{"$f":"Parameters!AV33338","v":0},{"$f":"Parameters!AW33338","v":0},{"$f":"Parameters!AX33338","v":0},{"$f":"Parameters!AY33338","v":0},{"$f":"Parameters!AZ33338","v":0},{"$f":"Parameters!BA33338","v":0},{"$f":"Parameters!BB33338","v":0},{"$f":"Parameters!BC33338","v":0},{"$f":"Parameters!BD33338","v":0},{"$f":"Parameters!BE33338","v":0},{"$f":"Parameters!BF33338","v":0},{"$f":"Parameters!BG33338","v":0},{"$f":"Parameters!BH33338","v":0},{"$f":"Parameters!BI33338","v":0},{"$f":"Parameters!BJ33338","v":0},{"$f":"Parameters!BK33338","v":0},{"$f":"Parameters!BL33338","v":0},{"$f":"Parameters!BM33338","v":0},{"$f":"Parameters!BN33338","v":0}]
[{"$f":"CONCATENATE(\"[\",Parameters!B33411,\",\",Parameters!C33411,\",\",Parameters!F33411,\",*,*]:\")","v":"[RE1,PWROHC003,COM040,*,*]:"}]
[2015,2016,2017,2018,2019,2020,2021,2022,2023,2024,2025,2026,2027,2028,2029,2030,2031,2032,2033,2034,2035,2036,2037,2038,2039,2040,2041,2042,2043,2044,2045,2046,2047,2048,2049,2050,2051,2052,2053,2054,2055,2056,2057,2058,2059,2060,2061,2062,2063,2064,2065,2066,2067,2068,2069,"2070:="]
[2015,2016,2017,2018,2019,2020,2021,2022,2023,2024,2025,2026,2027,2028,2029,2030,2031,2032,2033,2034,2035,2036,2037,2038,2039,2040,2041,2042,2043,2044,2045,2046,2047,2048,2049,2050,2051,2052,2053,2054,2055,2056,2057,2058,2059,2060,2061,2062,2063,2064,2065,2066,2067,2068,2069,"2070:="]
[2015,2016,2017,2018,2019,2020,2021,2022,2023,2024,2025,2026,2027,2028,2029,2030,2031,2032,2033,2034,2035,2036,2037,2038,2039,2040,2041,2042,2043,2044,2045,2046,2047,2048,2049,2050,2051,2052,2053,2054,2055,2056,2057,2058,2059,2060,2061,2062,2063,2064,2065,2066,2067,2068,2069,"2070:="]
[{"$f":"CONCATENATE(\"[\",Parameters!B33665,\",\",Parameters!C33665,\",\",Parameters!F33665,\",*,*]:\")","v":"[RE1,DEMTRAEVC,COM044,*,*]:"}]
[2015,2016,2017,2018,2019,2020,2021,2022,2023,2024,2025,2026,2027,2028,2029,2030,2031,2032,2033,2034,2035,2036,2037,2038,2039,2040,2041,2042,2043,2044,2045,2046,2047,2048,2049,2050,2051,2052,2053,2054,2055,2056,2057,2058,2059,2060,2061,2062,2063,2064,2065,2066,2067,2068,2069,"2070:="]
[1,{"$f":"Parameters!K33800","v":0},{"$f":"Parameters!L33800","v":0},{"$f":"Parameters!M33800","v":0},{"$f":"Parameters!N33800","v":0},{"$f":"Parameters!O33800","v":0},{"$f":"Parameters!P33800","v":0},{"$f":"Parameters!Q33800","v":0},{"$f":"Parameters!R33800","v":0},{"$f":"Parameters!S33800","v":0},{"$f":"Parameters!T33800","v":0},{"$f":"Parameters!U33800","v":0},{"$f":"Parameters!V33800","v":0},{"$f":"Parameters!W33800","v":0},{"$f":"Parameters!X33800","v":0},{"$f":"Parameters!Y33800","v":0},{"$f":"Parameters!Z33800","v":0},{"$f":"Parameters!AA33800","v":0},{"$f":"Parameters!AB33800","v":0},{"$f":"Parameters!AC33800","v":0},{"$f":"Parameters!AD33800","v":0},{"$f":"Parameters!AE33800","v":0},{"$f":"Parameters!AF33800","v":0},{"$f":"Parameters!AG33800","v":0},{"$f":"Parameters!AH33800","v":0},{"$f":"Parameters!AI33800","v":0},{"$f":"Parameters!AJ33800","v":0},{"$f":"Parameters!AK33800","v":0},{"$f":"Parameters!AL33800","v":0},{"$f":"Parameters!AM33800","v":0},{"$f":"Parameters!AN33800","v":0},{"$f":"Parameters!AO33800","v":0},{"$f":"Parameters!AP33800","v":0},{"$f":"Parameters!AQ33800","v":0},{"$f":"Parameters!AR33800","v":0},{"$f":"Parameters!AS33800","v":0},{"$f":"Parameters!AT33800","v":0},{"$f":"Parameters!AU33800","v":0},{"$f":"Parameters!AV33800","v":0},{"$f":"Parameters!AW33800","v":0},{"$f":"Parameters!AX33800","v":0},{"$f":"Parameters!AY33800","v":0},{"$f":"Parameters!AZ33800","v":0},{"$f":"Parameters!BA33800","v":0},{"$f":"Parameters!BB33800","v":0},{"$f":"Parameters!BC33800","v":0},{"$f":"Parameters!BD33800","v":0},{"$f":"Parameters!BE33800","v":0},{"$f":"Parameters!BF33800","v":0},{"$f":"Parameters!BG33800","v":0},{"$f":"Parameters!BH33800","v":0},{"$f":"Parameters!BI33800","v":0},{"$f":"Parameters!BJ33800","v":0},{"$f":"Parameters!BK33800","v":0},{"$f":"Parameters!BL33800","v":0},{"$f":"Parameters!BM33800","v":0},{"$f":"Parameters!BN33800","v":0}]
[{"$f":"CONCATENATE(\"[\",Parameters!B33849,\",\",Parameters!C33849,\",\",Parameters!F33849,\",*,*]:\")","v":"[RE1,DEMTRAMCYGSL,COM028,*,*]:"}]
[{"$f":"CONCATENATE(\"[\",Parameters!B33911,\",\",Parameters!C33911,\",\",Parameters!F33911,\",*,*]:\")","v":"[RE1,DEMTRACARGSL,COM040,*,*]:"}]
[2015,2016,2017,2018,2019,2020,2021,2022,2023,2024,2025,2026,2027,2028,2029,2030,2031,2032,2033,2034,2035,2036,2037,2038,2039,2040,2041,2042,2043,2044,2045,2046,2047,2048,2049,2050,2051,2052,2053,2054,2055,2056,2057,2058,2059,2060,2061,2062,2063,2064,2065,2066,2067,2068,2069,"2070:="]
[2015,2016,2017,2018,2019,2020,2021,2022,2023,2024,2025,2026,2027,2028,2029,2030,2031,2032,2033,2034,2035,2036,2037,2038,2039,2040,2041,2042,2043,2044,2045,2046,2047,2048,2049,2050,2051,2052,2053,2054,2055,2056,2057,2058,2059,2060,2061,2062,2063,2064,2065,2066,2067,2068,2069,"2070:="]
[{"$f":"CONCATENATE(\"[\",Parameters!B34067,\",\",Parameters!C34067,\",\",Parameters!F34067,\",*,*]:\")","v":"[RE1,INDENEFFGD,COM046,*,*]:"}]
[{"$f":"CONCATENATE(\"[\",Parameters!B34118,\",\",Parameters!C34118,\",\",Parameters!F34118,\",*,*]:\")","v":"[RE1,INDENEFFDP,COM047,*,*]:"}]
[2015,2016,2017,2018,2019,2020,2021,2022,2023,2024,2025,2026,2027,2028,2029,2030,2031,2032,2033,2034,2035,2036,2037,2038,2039,2040,2041,2042,2043,2044,2045,2046,2047,2048,2049,2050,2051,2052,2053,2054,2055,2056,2057,2058,2059,2060,2061,2062,2063,2064,2065,2066,2067,2068,2069,"2070:="]
[1,{"$f":"Parameters!K34257","v":0},{"$f":"Parameters!L34257","v":0},{"$f":"Parameters!M34257","v":0},{"$f":"Parameters!N34257","v":0},{"$f":"Parameters!O34257","v":0},{"$f":"Parameters!P34257","v":0},{"$f":"Parameters!Q34257","v":0},{"$f":"Parameters!R34257","v":0},{"$f":"Parameters!S34257","v":0},{"$f":"Parameters!T34257","v":0},{"$f":"Parameters!U34257","v":0},{"$f":"Parameters!V34257","v":0},{"$f":"Parameters!W34257","v":0},{"$f":"Parameters!X34257","v":0},{"$f":"Parameters!Y34257","v":0},{"$f":"Parameters!Z34257","v":0},{"$f":"Parameters!AA34257","v":0},{"$f":"Parameters!AB34257","v":0},{"$f":"Parameters!AC34257","v":0},{"$f":"Parameters!AD34257","v":0},{"$f":"Parameters!AE34257","v":0},{"$f":"Parameters!AF34257","v":0},{"$f":"Parameters!AG34257","v":0},{"$f":"Parameters!AH34257","v":0},{"$f":"Parameters!AI34257","v":0},{"$f":"Parameters!AJ34257","v":0},{"$f":"Parameters!AK34257","v":0},{"$f":"Parameters!AL34257","v":0},{"$f":"Parameters!AM34257","v":0},{"$f":"Parameters!AN34257","v":0},{"$f":"Parameters!AO34257","v":0},{"$f":"Parameters!AP34257","v":0},{"$f":"Parameters!AQ34257","v":0},{"$f":"Parameters!AR34257","v":0},{"$f":"Parameters!AS34257","v":0},{"$f":"Parameters!AT34257","v":0},{"$f":"Parameters!AU34257","v":0},{"$f":"Parameters!AV34257","v":0},{"$f":"Parameters!AW34257","v":0},{"$f":"Parameters!AX34257","v":0},{"$f":"Parameters!AY34257","v":0},{"$f":"Parameters!AZ34257","v":0},{"$f":"Parameters!BA34257","v":0},{"$f":"Parameters!BB34257","v":0},{"$f":"Parameters!BC34257","v":0},{"$f":"Parameters!BD34257","v":0},{"$f":"Parameters!BE34257","v":0},{"$f":"Parameters!BF34257","v":0},{"$f":"Parameters!BG34257","v":0},{"$f":"Parameters!BH34257","v":0},{"$f":"Parameters!BI34257","v":0},{"$f":"Parameters!BJ34257","v":0},{"$f":"Parameters!BK34257","v":0},{"$f":"Parameters!BL34257","v":0},{"$f":"Parameters!BM34257","v":0},{"$f":"Parameters!BN34257","v":0}]
[1,{"$f":"Parameters!K34338","v":0},{"$f":"Parameters!L34338","v":0},{"$f":"Parameters!M34338","v":0},{"$f":"Parameters!N34338","v":0},{"$f":"Parameters!O34338","v":0},{"$f":"Parameters!P34338","v":0},{"$f":"Parameters!Q34338","v":0},{"$f":"Parameters!R34338","v":0},{"$f":"Parameters!S34338","v":0},{"$f":"Parameters!T34338","v":0},{"$f":"Parameters!U34338","v":0},{"$f":"Parameters!V34338","v":0},{"$f":"Parameters!W34338","v":0},{"$f":"Parameters!X34338","v":0},{"$f":"Parameters!Y34338","v":0},{"$f":"Parameters!Z34338","v":0},{"$f":"Parameters!AA34338","v":0},{"$f":"Parameters!AB34338","v":0},{"$f":"Parameters!AC34338","v":0},{"$f":"Parameters!AD34338","v":0},{"$f":"Parameters!AE34338","v":0},{"$f":"Parameters!AF34338","v":0},{"$f":"Parameters!AG34338","v":0},{"$f":"Parameters!AH34338","v":0},{"$f":"Parameters!AI34338","v":0},{"$f":"Parameters!AJ34338","v":0},{"$f":"Parameters!AK34338","v":0},{"$f":"Parameters!AL34338","v":0},{"$f":"Parameters!AM34338","v":0},{"$f":"Parameters!AN34338","v":0},{"$f":"Parameters!AO34338","v":0},{"$f":"Parameters!AP34338","v":0},{"$f":"Parameters!AQ34338","v":0},{"$f":"Parameters!AR34338","v":0},{"$f":"Parameters!AS34338","v":0},{"$f":"Parameters!AT34338","v":0},{"$f":"Parameters!AU34338","v":0},{"$f":"Parameters!AV34338","v":0},{"$f":"Parameters!AW34338","v":0},{"$f":"Parameters!AX34338","v":0},{"$f":"Parameters!AY34338","v":0},{"$f":"Parameters!AZ34338","v":0},{"$f":"Parameters!BA34338","v":0},{"$f":"Parameters!BB34338","v":0},{"$f":"Parameters!BC34338","v":0},{"$f":"Parameters!BD34338","v":0},{"$f":"Parameters!BE34338","v":0},{"$f":"Parameters!BF34338","v":0},{"$f":"Parameters!BG34338","v":0},{"$f":"Parameters!BH34338","v":0},{"$f":"Parameters!BI34338","v":0},{"$f":"Parameters!BJ34338","v":0},{"$f":"Parameters!BK34338","v":0},{"$f":"Parameters!BL34338","v":0},{"$f":"Parameters!BM34338","v":0},{"$f":"Parameters!BN34338","v":0}]
[2015,2016,2017,2018,2019,2020,2021,2022,2023,2024,2025,2026,2027,2028,2029,2030,2031,2032,2033,2034,2035,2036,2037,2038,2039,2040,2041,2042,2043,2044,2045,2046,2047,2048,2049,2050,2051,2052,2053,2054,2055,2056,2057,2058,2059,2060,2061,2062,2063,2064,2065,2066,2067,2068,2069,"2070:="]
[2015,2016,2017,2018,2019,2020,2021,2022,2023,2024,2025,2026,2027,2028,2029,2030,2031,2032,2033,2034,2035,2036,2037,2038,2039,2040,2041,2042,2043,2044,2045,2046,2047,2048,2049,2050,2051,2052,2053,2054,2055,2056,2057,2058,2059,2060,2061,2062,2063,2064,2065,2066,2067,2068,2069,"2070:="]
[1,{"$f":"Parameters!K34503","v":0},{"$f":"Parameters!L34503","v":0},{"$f":"Parameters!M34503","v":0},{"$f":"Parameters!N34503","v":0},{"$f":"Parameters!O34503","v":0},{"$f":"Parameters!P34503","v":0},{"$f":"Parameters!Q34503","v":0},{"$f":"Parameters!R34503","v":0},{"$f":"Parameters!S34503","v":0},{"$f":"Parameters!T34503","v":0},{"$f":"Parameters!U34503","v":0},{"$f":"Parameters!V34503","v":0},{"$f":"Parameters!W34503","v":0},{"$f":"Parameters!X34503","v":0},{"$f":"Parameters!Y34503","v":0},{"$f":"Parameters!Z34503","v":0},{"$f":"Parameters!AA34503","v":0},{"$f":"Parameters!AB34503","v":0},{"$f":"Parameters!AC34503","v":0},{"$f":"Parameters!AD34503","v":0},{"$f":"Parameters!AE34503","v":0},{"$f":"Parameters!AF34503","v":0},{"$f":"Parameters!AG34503","v":0},{"$f":"Parameters!AH34503","v":0},{"$f":"Parameters!AI34503","v":0},{"$f":"Parameters!AJ34503","v":0},{"$f":"Parameters!AK34503","v":0},{"$f":"Parameters!AL34503","v":0},{"$f":"Parameters!AM34503","v":0},{"$f":"Parameters!AN34503","v":0},{"$f":"Parameters!AO34503","v":0},{"$f":"Parameters!AP34503","v":0},{"$f":"Parameters!AQ34503","v":0},{"$f":"Parameters!AR34503","v":0},{"$f":"Parameters!AS34503","v":0},{"$f":"Parameters!AT34503","v":0},{"$f":"Parameters!AU34503","v":0},{"$f":"Parameters!AV34503","v":0},{"$f":"Parameters!AW34503","v":0},{"$f":"Parameters!AX34503","v":0},{"$f":"Parameters!AY34503","v":0},{"$f":"Parameters!AZ34503","v":0},{"$f":"Parameters!BA34503","v":0},{"$f":"Parameters!BB34503","v":0},{"$f":"Parameters!BC34503","v":0},{"$f":"Parameters!BD34503","v":0},{"$f":"Parameters!BE34503","v":0},{"$f":"Parameters!BF34503","v":0},{"$f":"Parameters!BG34503","v":0},{"$f":"Parameters!BH34503","v":0},{"$f":"Parameters!BI34503","v":0},{"$f":"Parameters!BJ34503","v":0},{"$f":"Parameters!BK34503","v":0},{"$f":"Parameters!BL34503","v":0},{"$f":"Parameters!BM34503","v":0},{"$f":"Parameters!BN34503","v":0}]
[{"$f":"CONCATENATE(\"[\",Parameters!B34556,\",\",Parameters!C34556,\",\",Parameters!F34556,\",*,*]:\")","v":"[RE1,DEMRESCKNELC,COM035,*,*]:"}]
[2015,2016,2017,2018,2019,2020,2021,2022,2023,2024,2025,2026,2027,2028,2029,2030,2031,2032,2033,2034,2035,2036,2037,2038,2039,2040,2041,2042,2043,2044,2045,2046,2047,2048,2049,2050,2051,2052,2053,2054,2055,2056,2057,2058,2059,2060,2061,2062,2063,2064,2065,2066,2067,2068,2069,"2070:="]
[2015,2016,2017,2018,2019,2020,2021,2022,2023,2024,2025,2026,2027,2028,2029,2030,2031,2032,2033,2034,2035,2036,2037,2038,2039,2040,2041,2042,2043,2044,2045,2046,2047,2048,2049,2050,2051,2052,2053,2054,2055,2056,2057,2058,2059,2060,2061,2062,2063,2064,2065,2066,2067,2068,2069,"2070:="]
[2015,2016,2017,2018,2019,2020,2021,2022,2023,2024,2025,2026,2027,2028,2029,2030,2031,2032,2033,2034,2035,2036,2037,2038,2039,2040,2041,2042,2043,2044,2045,2046,2047,2048,2049,2050,2051,2052,2053,2054,2055,2056,2057,2058,2059,2060,2061,2062,2063,2064,2065,2066,2067,2068,2069,"2070:="]
[{"$f":"CONCATENATE(\"[\",Parameters!B34830,\",\",Parameters!C34830,\",\",Parameters!F34830,\",*,*]:\")","v":"[RE1,DEMCOMELC,WND,*,*]:"}]
[2015,2016,2017,2018,2019,2020,2021,2022,2023,2024,2025,2026,2027,2028,2029,2030,2031,2032,2033,2034,2035,2036,2037,2038,2039,2040,2041,2042,2043,2044,2045,2046,2047,2048,2049,2050,2051,2052,2053,2054,2055,2056,2057,2058,2059,2060,2061,2062,2063,2064,2065,2066,2067,2068,2069,"2070:="]
[1,{"$f":"Parameters!K34905","v":0},{"$f":"Parameters!L34905","v":0},{"$f":"Parameters!M34905","v":0},{"$f":"Parameters!N34905","v":0},{"$f":"Parameters!O34905","v":0},{"$f":"Parameters!P34905","v":0},{"$f":"Parameters!Q34905","v":0},{"$f":"Parameters!R34905","v":0},{"$f":"Parameters!S34905","v":0},{"$f":"Parameters!T34905","v":0},{"$f":"Parameters!U34905","v":0},{"$f":"Parameters!V34905","v":0},{"$f":"Parameters!W34905","v":0},{"$f":"Parameters!X34905","v":0},{"$f":"Parameters!Y34905","v":0},{"$f":"Parameters!Z34905","v":0},{"$f":"Parameters!AA34905","v":0},{"$f":"Parameters!AB34905","v":0},{"$f":"Parameters!AC34905","v":0},{"$f":"Parameters!AD34905","v":0},{"$f":"Parameters!AE34905","v":0},{"$f":"Parameters!AF34905","v":0},{"$f":"Parameters!AG34905","v":0},{"$f":"Parameters!AH34905","v":0},{"$f":"Parameters!AI34905","v":0},{"$f":"Parameters!AJ34905","v":0},{"$f":"Parameters!AK34905","v":0},{"$f":"Parameters!AL34905","v":0},{"$f":"Parameters!AM34905","v":0},{"$f":"Parameters!AN34905","v":0},{"$f":"Parameters!AO34905","v":0},{"$f":"Parameters!AP34905","v":0},{"$f":"Parameters!AQ34905","v":0},{"$f":"Parameters!AR34905","v":0},{"$f":"Parameters!AS34905","v":0},{"$f":"Parameters!AT34905","v":0},{"$f":"Parameters!AU34905","v":0},{"$f":"Parameters!AV34905","v":0},{"$f":"Parameters!AW34905","v":0},{"$f":"Parameters!AX34905","v":0},{"$f":"Parameters!AY34905","v":0},{"$f":"Parameters!AZ34905","v":0},{"$f":"Parameters!BA34905","v":0},{"$f":"Parameters!BB34905","v":0},{"$f":"Parameters!BC34905","v":0},{"$f":"Parameters!BD34905","v":0},{"$f":"Parameters!BE34905","v":0},{"$f":"Parameters!BF34905","v":0},{"$f":"Parameters!BG34905","v":0},{"$f":"Parameters!BH34905","v":0},{"$f":"Parameters!BI34905","v":0},{"$f":"Parameters!BJ34905","v":0},{"$f":"Parameters!BK34905","v":0},{"$f":"Parameters!BL34905","v":0},{"$f":"Parameters!BM34905","v":0},{"$f":"Parameters!BN34905","v":0}]
[1,{"$f":"Parameters!K34960","v":0},{"$f":"Parameters!L34960","v":0},{"$f":"Parameters!M34960","v":0},{"$f":"Parameters!N34960","v":0},{"$f":"Parameters!O34960","v":0},{"$f":"Parameters!P34960","v":0},{"$f":"Parameters!Q34960","v":0},{"$f":"Parameters!R34960","v":0},{"$f":"Parameters!S34960","v":0},{"$f":"Parameters!T34960","v":0},{"$f":"Parameters!U34960","v":0},{"$f":"Parameters!V34960","v":0},{"$f":"Parameters!W34960","v":0},{"$f":"Parameters!X34960","v":0},{"$f":"Parameters!Y34960","v":0},{"$f":"Parameters!Z34960","v":0},{"$f":"Parameters!AA34960","v":0},{"$f":"Parameters!AB34960","v":0},{"$f":"Parameters!AC34960","v":0},{"$f":"Parameters!AD34960","v":0},{"$f":"Parameters!AE34960","v":0},{"$f":"Parameters!AF34960","v":0},{"$f":"Parameters!AG34960","v":0},{"$f":"Parameters!AH34960","v":0},{"$f":"Parameters!AI34960","v":0},{"$f":"Parameters!AJ34960","v":0},{"$f":"Parameters!AK34960","v":0},{"$f":"Parameters!AL34960","v":0},{"$f":"Parameters!AM34960","v":0},{"$f":"Parameters!AN34960","v":0},{"$f":"Parameters!AO34960","v":0},{"$f":"Parameters!AP34960","v":0},{"$f":"Parameters!AQ34960","v":0},{"$f":"Parameters!AR34960","v":0},{"$f":"Parameters!AS34960","v":0},{"$f":"Parameters!AT34960","v":0},{"$f":"Parameters!AU34960","v":0},{"$f":"Parameters!AV34960","v":0},{"$f":"Parameters!AW34960","v":0},{"$f":"Parameters!AX34960","v":0},{"$f":"Parameters!AY34960","v":0},{"$f":"Parameters!AZ34960","v":0},{"$f":"Parameters!BA34960","v":0},{"$f":"Parameters!BB34960","v":0},{"$f":"Parameters!BC34960","v":0},{"$f":"Parameters!BD34960","v":0},{"$f":"Parameters!BE34960","v":0},{"$f":"Parameters!BF34960","v":0},{"$f":"Parameters!BG34960","v":0},{"$f":"Parameters!BH34960","v":0},{"$f":"Parameters!BI34960","v":0},{"$f":"Parameters!BJ34960","v":0},{"$f":"Parameters!BK34960","v":0},{"$f":"Parameters!BL34960","v":0},{"$f":"Parameters!BM34960","v":0},{"$f":"Parameters!BN34960","v":0}]
[1,{"$f":"Parameters!K35045","v":0},{"$f":"Parameters!L35045","v":0},{"$f":"Parameters!M35045","v":0},{"$f":"Parameters!N35045","v":0},{"$f":"Parameters!O35045","v":0},{"$f":"Parameters!P35045","v":0},{"$f":"Parameters!Q35045","v":0},{"$f":"Parameters!R35045","v":0},{"$f":"Parameters!S35045","v":0},{"$f":"Parameters!T35045","v":0},{"$f":"Parameters!U35045","v":0},{"$f":"Parameters!V35045","v":0},{"$f":"Parameters!W35045","v":0},{"$f":"Parameters!X35045","v":0},{"$f":"Parameters!Y35045","v":0},{"$f":"Parameters!Z35045","v":0},{"$f":"Parameters!AA35045","v":0},{"$f":"Parameters!AB35045","v":0},{"$f":"Parameters!AC35045","v":0},{"$f":"Parameters!AD35045","v":0},{"$f":"Parameters!AE35045","v":0},{"$f":"Parameters!AF35045","v":0},{"$f":"Parameters!AG35045","v":0},{"$f":"Parameters!AH35045","v":0},{"$f":"Parameters!AI35045","v":0},{"$f":"Parameters!AJ35045","v":0},{"$f":"Parameters!AK35045","v":0},{"$f":"Parameters!AL35045","v":0},{"$f":"Parameters!AM35045","v":0},{"$f":"Parameters!AN35045","v":0},{"$f":"Parameters!AO35045","v":0},{"$f":"Parameters!AP35045","v":0},{"$f":"Parameters!AQ35045","v":0},{"$f":"Parameters!AR35045","v":0},{"$f":"Parameters!AS35045","v":0},{"$f":"Parameters!AT35045","v":0},{"$f":"Parameters!AU35045","v":0},{"$f":"Parameters!AV35045","v":0},{"$f":"Parameters!AW35045","v":0},{"$f":"Parameters!AX35045","v":0},{"$f":"Parameters!AY35045","v":0},{"$f":"Parameters!AZ35045","v":0},{"$f":"Parameters!BA35045","v":0},{"$f":"Parameters!BB35045","v":0},{"$f":"Parameters!BC35045","v":0},{"$f":"Parameters!BD35045","v":0},{"$f":"Parameters!BE35045","v":0},{"$f":"Parameters!BF35045","v":0},{"$f":"Parameters!BG35045","v":0},{"$f":"Parameters!BH35045","v":0},{"$f":"Parameters!BI35045","v":0},{"$f":"Parameters!BJ35045","v":0},{"$f":"Parameters!BK35045","v":0},{"$f":"Parameters!BL35045","v":0},{"$f":"Parameters!BM35045","v":0},{"$f":"Parameters!BN35045","v":0}]
[2015,2016,2017,2018,2019,2020,2021,2022,2023,2024,2025,2026,2027,2028,2029,2030,2031,2032,2033,2034,2035,2036,2037,2038,2039,2040,2041,2042,2043,2044,2045,2046,2047,2048,2049,2050,2051,2052,2053,2054,2055,2056,2057,2058,2059,2060,2061,2062,2063,2064,2065,2066,2067,2068,2069,"2070:="]
[2015,2016,2017,2018,2019,2020,2021,2022,2023,2024,2025,2026,2027,2028,2029,2030,2031,2032,2033,2034,2035,2036,2037,2038,2039,2040,2041,2042,2043,2044,2045,2046,2047,2048,2049,2050,2051,2052,2053,2054,2055,2056,2057,2058,2059,2060,2061,2062,2063,2064,2065,2066,2067,2068,2069,"2070:="]
[{"$f":"CONCATENATE(\"[\",Parameters!B35232,\",\",Parameters!C35232,\",\",Parameters!F35232,\",*,*]:\")","v":"[RE1,BSTOPBUS,GEO,*,*]:"}]
[{"$f":"CONCATENATE(\"[\",Parameters!B35258,\",\",Parameters!C35258,\",\",Parameters!F35258,\",*,*]:\")","v":"[RE1,BSTOPBUS,COM037,*,*]:"}]
[1,{"$f":"Parameters!K35367","v":0},{"$f":"Parameters!L35367","v":0},{"$f":"Parameters!M35367","v":0},{"$f":"Parameters!N35367","v":0},{"$f":"Parameters!O35367","v":0},{"$f":"Parameters!P35367","v":0},{"$f":"Parameters!Q35367","v":0},{"$f":"Parameters!R35367","v":0},{"$f":"Parameters!S35367","v":0},{"$f":"Parameters!T35367","v":0},{"$f":"Parameters!U35367","v":0},{"$f":"Parameters!V35367","v":0},{"$f":"Parameters!W35367","v":0},{"$f":"Parameters!X35367","v":0},{"$f":"Parameters!Y35367","v":0},{"$f":"Parameters!Z35367","v":0},{"$f":"Parameters!AA35367","v":0},{"$f":"Parameters!AB35367","v":0},{"$f":"Parameters!AC35367","v":0},{"$f":"Parameters!AD35367","v":0},{"$f":"Parameters!AE35367","v":0},{"$f":"Parameters!AF35367","v":0},{"$f":"Parameters!AG35367","v":0},{"$f":"Parameters!AH35367","v":0},{"$f":"Parameters!AI35367","v":0},{"$f":"Parameters!AJ35367","v":0},{"$f":"Parameters!AK35367","v":0},{"$f":"Parameters!AL35367","v":0},{"$f":"Parameters!AM35367","v":0},{"$f":"Parameters!AN35367","v":0},{"$f":"Parameters!AO35367","v":0},{"$f":"Parameters!AP35367","v":0},{"$f":"Parameters!AQ35367","v":0},{"$f":"Parameters!AR35367","v":0},{"$f":"Parameters!AS35367","v":0},{"$f":"Parameters!AT35367","v":0},{"$f":"Parameters!AU35367","v":0},{"$f":"Parameters!AV35367","v":0},{"$f":"Parameters!AW35367","v":0},{"$f":"Parameters!AX35367","v":0},{"$f":"Parameters!AY35367","v":0},{"$f":"Parameters!AZ35367","v":0},{"$f":"Parameters!BA35367","v":0},{"$f":"Parameters!BB35367","v":0},{"$f":"Parameters!BC35367","v":0},{"$f":"Parameters!BD35367","v":0},{"$f":"Parameters!BE35367","v":0},{"$f":"Parameters!BF35367","v":0},{"$f":"Parameters!BG35367","v":0},{"$f":"Parameters!BH35367","v":0},{"$f":"Parameters!BI35367","v":0},{"$f":"Parameters!BJ35367","v":0},{"$f":"Parameters!BK35367","v":0},{"$f":"Parameters!BL35367","v":0},{"$f":"Parameters!BM35367","v":0},{"$f":"Parameters!BN35367","v":0}]
[1,{"$f":"Parameters!K35422","v":0},{"$f":"Parameters!L35422","v":0},{"$f":"Parameters!M35422","v":0},{"$f":"Parameters!N35422","v":0},{"$f":"Parameters!O35422","v":0},{"$f":"Parameters!P35422","v":0},{"$f":"Parameters!Q35422","v":0},{"$f":"Parameters!R35422","v":0},{"$f":"Parameters!S35422","v":0},{"$f":"Parameters!T35422","v":0},{"$f":"Parameters!U35422","v":0},{"$f":"Parameters!V35422","v":0},{"$f":"Parameters!W35422","v":0},{"$f":"Parameters!X35422","v":0},{"$f":"Parameters!Y35422","v":0},{"$f":"Parameters!Z35422","v":0},{"$f":"Parameters!AA35422","v":0},{"$f":"Parameters!AB35422","v":0},{"$f":"Parameters!AC35422","v":0},{"$f":"Parameters!AD35422","v":0},{"$f":"Parameters!AE35422","v":0},{"$f":"Parameters!AF35422","v":0},{"$f":"Parameters!AG35422","v":0},{"$f":"Parameters!AH35422","v":0},{"$f":"Parameters!AI35422","v":0},{"$f":"Parameters!AJ35422","v":0},{"$f":"Parameters!AK35422","v":0},{"$f":"Parameters!AL35422","v":0},{"$f":"Parameters!AM35422","v":0},{"$f":"Parameters!AN35422","v":0},{"$f":"Parameters!AO35422","v":0},{"$f":"Parameters!AP35422","v":0},{"$f":"Parameters!AQ35422","v":0},{"$f":"Parameters!AR35422","v":0},{"$f":"Parameters!AS35422","v":0},{"$f":"Parameters!AT35422","v":0},{"$f":"Parameters!AU35422","v":0},{"$f":"Parameters!AV35422","v":0},{"$f":"Parameters!AW35422","v":0},{"$f":"Parameters!AX35422","v":0},{"$f":"Parameters!AY35422","v":0},{"$f":"Parameters!AZ35422","v":0},{"$f":"Parameters!BA35422","v":0},{"$f":"Parameters!BB35422","v":0},{"$f":"Parameters!BC35422","v":0},{"$f":"Parameters!BD35422","v":0},{"$f":"Parameters!BE35422","v":0},{"$f":"Parameters!BF35422","v":0},{"$f":"Parameters!BG35422","v":0},{"$f":"Parameters!BH35422","v":0},{"$f":"Parameters!BI35422","v":0},{"$f":"Parameters!BJ35422","v":0},{"$f":"Parameters!BK35422","v":0},{"$f":"Parameters!BL35422","v":0},{"$f":"Parameters!BM35422","v":0},{"$f":"Parameters!BN35422","v":0}]
[1,{"$f":"Parameters!K35478","v":0},{"$f":"Parameters!L35478","v":0},{"$f":"Parameters!M35478","v":0},{"$f":"Parameters!N35478","v":0},{"$f":"Parameters!O35478","v":0},{"$f":"Parameters!P35478","v":0},{"$f":"Parameters!Q35478","v":0},{"$f":"Parameters!R35478","v":0},{"$f":"Parameters!S35478","v":0},{"$f":"Parameters!T35478","v":0},{"$f":"Parameters!U35478","v":0},{"$f":"Parameters!V35478","v":0},{"$f":"Parameters!W35478","v":0},{"$f":"Parameters!X35478","v":0},{"$f":"Parameters!Y35478","v":0},{"$f":"Parameters!Z35478","v":0},{"$f":"Parameters!AA35478","v":0},{"$f":"Parameters!AB35478","v":0},{"$f":"Parameters!AC35478","v":0},{"$f":"Parameters!AD35478","v":0},{"$f":"Parameters!AE35478","v":0},{"$f":"Parameters!AF35478","v":0},{"$f":"Parameters!AG35478","v":0},{"$f":"Parameters!AH35478","v":0},{"$f":"Parameters!AI35478","v":0},{"$f":"Parameters!AJ35478","v":0},{"$f":"Parameters!AK35478","v":0},{"$f":"Parameters!AL35478","v":0},{"$f":"Parameters!AM35478","v":0},{"$f":"Parameters!AN35478","v":0},{"$f":"Parameters!AO35478","v":0},{"$f":"Parameters!AP35478","v":0},{"$f":"Parameters!AQ35478","v":0},{"$f":"Parameters!AR35478","v":0},{"$f":"Parameters!AS35478","v":0},{"$f":"Parameters!AT35478","v":0},{"$f":"Parameters!AU35478","v":0},{"$f":"Parameters!AV35478","v":0},{"$f":"Parameters!AW35478","v":0},{"$f":"Parameters!AX35478","v":0},{"$f":"Parameters!AY35478","v":0},{"$f":"Parameters!AZ35478","v":0},{"$f":"Parameters!BA35478","v":0},{"$f":"Parameters!BB35478","v":0},{"$f":"Parameters!BC35478","v":0},{"$f":"Parameters!BD35478","v":0},{"$f":"Parameters!BE35478","v":0},{"$f":"Parameters!BF35478","v":0},{"$f":"Parameters!BG35478","v":0},{"$f":"Parameters!BH35478","v":0},{"$f":"Parameters!BI35478","v":0},{"$f":"Parameters!BJ35478","v":0},{"$f":"Parameters!BK35478","v":0},{"$f":"Parameters!BL35478","v":0},{"$f":"Parameters!BM35478","v":0},{"$f":"Parameters!BN35478","v":0}]
[2015,2016,2017,2018,2019,2020,2021,2022,2023,2024,2025,2026,2027,2028,2029,2030,2031,2032,2033,2034,2035,2036,2037,2038,2039,2040,2041,2042,2043,2044,2045,2046,2047,2048,2049,2050,2051,2052,2053,2054,2055,2056,2057,2058,2059,2060,2061,2062,2063,2064,2065,2066,2067,2068,2069,"2070:="]
[2015,2016,2017,2018,2019,2020,2021,2022,2023,2024,2025,2026,2027,2028,2029,2030,2031,2032,2033,2034,2035,2036,2037,2038,2039,2040,2041,2042,2043,2044,2045,2046,2047,2048,2049,2050,2051,2052,2053,2054,2055,2056,2057,2058,2059,2060,2061,2062,2063,2064,2065,2066,2067,2068,2069,"2070:="]
[{"$f":"CONCATENATE(\"[\",Parameters!B35634,\",\",Parameters!C35634,\",\",Parameters!F35634,\",*,*]:\")","v":"[RE1,BSTOPCOMHEL,ELC002,*,*]:"}]
[{"$f":"CONCATENATE(\"[\",Parameters!B35689,\",\",Parameters!C35689,\",\",Parameters!F35689,\",*,*]:\")","v":"[RE1,DEMINDHECOA,TRABUS,*,*]:"}]
[1,{"$f":"Parameters!K35747","v":0},{"$f":"Parameters!L35747","v":0},{"$f":"Parameters!M35747","v":0},{"$f":"Parameters!N35747","v":0},{"$f":"Parameters!O35747","v":0},{"$f":"Parameters!P35747","v":0},{"$f":"Parameters!Q35747","v":0},{"$f":"Parameters!R35747","v":0},{"$f":"Parameters!S35747","v":0},{"$f":"Parameters!T35747","v":0},{"$f":"Parameters!U35747","v":0},{"$f":"Parameters!V35747","v":0},{"$f":"Parameters!W35747","v":0},{"$f":"Parameters!X35747","v":0},{"$f":"Parameters!Y35747","v":0},{"$f":"Parameters!Z35747","v":0},{"$f":"Parameters!AA35747","v":0},{"$f":"Parameters!AB35747","v":0},{"$f":"Parameters!AC35747","v":0},{"$f":"Parameters!AD35747","v":0},{"$f":"Parameters!AE35747","v":0},{"$f":"Parameters!AF35747","v":0},{"$f":"Parameters!AG35747","v":0},{"$f":"Parameters!AH35747","v":0},{"$f":"Parameters!AI35747","v":0},{"$f":"Parameters!AJ35747","v":0},{"$f":"Parameters!AK35747","v":0},{"$f":"Parameters!AL35747","v":0},{"$f":"Parameters!AM35747","v":0},{"$f":"Parameters!AN35747","v":0},{"$f":"Parameters!AO35747","v":0},{"$f":"Parameters!AP35747","v":0},{"$f":"Parameters!AQ35747","v":0},{"$f":"Parameters!AR35747","v":0},{"$f":"Parameters!AS35747","v":0},{"$f":"Parameters!AT35747","v":0},{"$f":"Parameters!AU35747","v":0},{"$f":"Parameters!AV35747","v":0},{"$f":"Parameters!AW35747","v":0},{"$f":"Parameters!AX35747","v":0},{"$f":"Parameters!AY35747","v":0},{"$f":"Parameters!AZ35747","v":0},{"$f":"Parameters!BA35747","v":0},{"$f":"Parameters!BB35747","v":0},{"$f":"Parameters!BC35747","v":0},{"$f":"Parameters!BD35747","v":0},{"$f":"Parameters!BE35747","v":0},{"$f":"Parameters!BF35747","v":0},{"$f":"Parameters!BG35747","v":0},{"$f":"Parameters!BH35747","v":0},{"$f":"Parameters!BI35747","v":0},{"$f":"Parameters!BJ35747","v":0},{"$f":"Parameters!BK35747","v":0},{"$f":"Parameters!BL35747","v":0},{"$f":"Parameters!BM35747","v":0},{"$f":"Parameters!BN35747","v":0}]
[1,{"$f":"Parameters!K35824","v":0},{"$f":"Parameters!L35824","v":0},{"$f":"Parameters!M35824","v":0},{"$f":"Parameters!N35824","v":0},{"$f":"Parameters!O35824","v":0},{"$f":"Parameters!P35824","v":0},{"$f":"Parameters!Q35824","v":0},{"$f":"Parameters!R35824","v":0},{"$f":"Parameters!S35824","v":0},{"$f":"Parameters!T35824","v":0},{"$f":"Parameters!U35824","v":0},{"$f":"Parameters!V35824","v":0},{"$f":"Parameters!W35824","v":0},{"$f":"Parameters!X35824","v":0},{"$f":"Parameters!Y35824","v":0},{"$f":"Parameters!Z35824","v":0},{"$f":"Parameters!AA35824","v":0},{"$f":"Parameters!AB35824","v":0},{"$f":"Parameters!AC35824","v":0},{"$f":"Parameters!AD35824","v":0},{"$f":"Parameters!AE35824","v":0},{"$f":"Parameters!AF35824","v":0},{"$f":"Parameters!AG35824","v":0},{"$f":"Parameters!AH35824","v":0},{"$f":"Parameters!AI35824","v":0},{"$f":"Parameters!AJ35824","v":0},{"$f":"Parameters!AK35824","v":0},{"$f":"Parameters!AL35824","v":0},{"$f":"Parameters!AM35824","v":0},{"$f":"Parameters!AN35824","v":0},{"$f":"Parameters!AO35824","v":0},{"$f":"Parameters!AP35824","v":0},{"$f":"Parameters!AQ35824","v":0},{"$f":"Parameters!AR35824","v":0},{"$f":"Parameters!AS35824","v":0},{"$f":"Parameters!AT35824","v":0},{"$f":"Parameters!AU35824","v":0},{"$f":"Parameters!AV35824","v":0},{"$f":"Parameters!AW35824","v":0},{"$f":"Parameters!AX35824","v":0},{"$f":"Parameters!AY35824","v":0},{"$f":"Parameters!AZ35824","v":0},{"$f":"Parameters!BA35824","v":0},{"$f":"Parameters!BB35824","v":0},{"$f":"Parameters!BC35824","v":0},{"$f":"Parameters!BD35824","v":0},{"$f":"Parameters!BE35824","v":0},{"$f":"Parameters!BF35824","v":0},{"$f":"Parameters!BG35824","v":0},{"$f":"Parameters!BH35824","v":0},{"$f":"Parameters!BI35824","v":0},{"$f":"Parameters!BJ35824","v":0},{"$f":"Parameters!BK35824","v":0},{"$f":"Parameters!BL35824","v":0},{"$f":"Parameters!BM35824","v":0},{"$f":"Parameters!BN35824","v":0}]
[2015,2016,2017,2018,2019,2020,2021,2022,2023,2024,2025,2026,2027,2028,2029,2030,2031,2032,2033,2034,2035,2036,2037,2038,2039,2040,2041,2042,2043,2044,2045,2046,2047,2048,2049,2050,2051,2052,2053,2054,2055,2056,2057,2058,2059,2060,2061,2062,2063,2064,2065,2066,2067,2068,2069,"2070:="]
[{"$f":"CONCATENATE(\"[\",Parameters!B35935,\",\",Parameters!C35935,\",\",Parameters!F35935,\",*,*]:\")","v":"[RE1,TEC092,ELC003,*,*]:"}]
[2015,2016,2017,2018,2019,2020,2021,2022,2023,2024,2025,2026,2027,2028,2029,2030,2031,2032,2033,2034,2035,2036,2037,2038,2039,2040,2041,2042,2043,2044,2045,2046,2047,2048,2049,2050,2051,2052,2053,2054,2055,2056,2057,2058,2059,2060,2061,2062,2063,2064,2065,2066,2067,2068,2069,"2070:="]
[1,{"$f":"Parameters!K36070","v":0},{"$f":"Parameters!L36070","v":0},{"$f":"Parameters!M36070","v":0},{"$f":"Parameters!N36070","v":0},{"$f":"Parameters!O36070","v":0},{"$f":"Parameters!P36070","v":0},{"$f":"Parameters!Q36070","v":0},{"$f":"Parameters!R36070","v":0},{"$f":"Parameters!S36070","v":0},{"$f":"Parameters!T36070","v":0},{"$f":"Parameters!U36070","v":0},{"$f":"Parameters!V36070","v":0},{"$f":"Parameters!W36070","v":0},{"$f":"Parameters!X36070","v":0},{"$f":"Parameters!Y36070","v":0},{"$f":"Parameters!Z36070","v":0},{"$f":"Parameters!AA36070","v":0},{"$f":"Parameters!AB36070","v":0},{"$f":"Parameters!AC36070","v":0},{"$f":"Parameters!AD36070","v":0},{"$f":"Parameters!AE36070","v":0},{"$f":"Parameters!AF36070","v":0},{"$f":"Parameters!AG36070","v":0},{"$f":"Parameters!AH36070","v":0},{"$f":"Parameters!AI36070","v":0},{"$f":"Parameters!AJ36070","v":0},{"$f":"Parameters!AK36070","v":0},{"$f":"Parameters!AL36070","v":0},{"$f":"Parameters!AM36070","v":0},{"$f":"Parameters!AN36070","v":0},{"$f":"Parameters!AO36070","v":0},{"$f":"Parameters!AP36070","v":0},{"$f":"Parameters!AQ36070","v":0},{"$f":"Parameters!AR36070","v":0},{"$f":"Parameters!AS36070","v":0},{"$f":"Parameters!AT36070","v":0},{"$f":"Parameters!AU36070","v":0},{"$f":"Parameters!AV36070","v":0},{"$f":"Parameters!AW36070","v":0},{"$f":"Parameters!AX36070","v":0},{"$f":"Parameters!AY36070","v":0},{"$f":"Parameters!AZ36070","v":0},{"$f":"Parameters!BA36070","v":0},{"$f":"Parameters!BB36070","v":0},{"$f":"Parameters!BC36070","v":0},{"$f":"Parameters!BD36070","v":0},{"$f":"Parameters!BE36070","v":0},{"$f":"Parameters!BF36070","v":0},{"$f":"Parameters!BG36070","v":0},{"$f":"Parameters!BH36070","v":0},{"$f":"Parameters!BI36070","v":0},{"$f":"Parameters!BJ36070","v":0},{"$f":"Parameters!BK36070","v":0},{"$f":"Parameters!BL36070","v":0},{"$f":"Parameters!BM36070","v":0},{"$f":"Parameters!BN36070","v":0}]
[{"$f":"CONCATENATE(\"[\",Parameters!B36151,\",\",Parameters!C36151,\",\",Parameters!F36151,\",*,*]:\")","v":"[RE1,TEC096,COM030,*,*]:"}]
[1,{"$f":"Parameters!K36185","v":0},{"$f":"Parameters!L36185","v":0},{"$f":"Parameters!M36185","v":0},{"$f":"Parameters!N36185","v":0},{"$f":"Parameters!O36185","v":0},{"$f":"Parameters!P36185","v":0},{"$f":"Parameters!Q36185","v":0},{"$f":"Parameters!R36185","v":0},{"$f":"Parameters!S36185","v":0},{"$f":"Parameters!T36185","v":0},{"$f":"Parameters!U36185","v":0},{"$f":"Parameters!V36185","v":0},{"$f":"Parameters!W36185","v":0},{"$f":"Parameters!X36185","v":0},{"$f":"Parameters!Y36185","v":0},{"$f":"Parameters!Z36185","v":0},{"$f":"Parameters!AA36185","v":0},{"$f":"Parameters!AB36185","v":0},{"$f":"Parameters!AC36185","v":0},{"$f":"Parameters!AD36185","v":0},{"$f":"Parameters!AE36185","v":0},{"$f":"Parameters!AF36185","v":0},{"$f":"Parameters!AG36185","v":0},{"$f":"Parameters!AH36185","v":0},{"$f":"Parameters!AI36185","v":0},{"$f":"Parameters!AJ36185","v":0},{"$f":"Parameters!AK36185","v":0},{"$f":"Parameters!AL36185","v":0},{"$f":"Parameters!AM36185","v":0},{"$f":"Parameters!AN36185","v":0},{"$f":"Parameters!AO36185","v":0},{"$f":"Parameters!AP36185","v":0},{"$f":"Parameters!AQ36185","v":0},{"$f":"Parameters!AR36185","v":0},{"$f":"Parameters!AS36185","v":0},{"$f":"Parameters!AT36185","v":0},{"$f":"Parameters!AU36185","v":0},{"$f":"Parameters!AV36185","v":0},{"$f":"Parameters!AW36185","v":0},{"$f":"Parameters!AX36185","v":0},{"$f":"Parameters!AY36185","v":0},{"$f":"Parameters!AZ36185","v":0},{"$f":"Parameters!BA36185","v":0},{"$f":"Parameters!BB36185","v":0},{"$f":"Parameters!BC36185","v":0},{"$f":"Parameters!BD36185","v":0},{"$f":"Parameters!BE36185","v":0},{"$f":"Parameters!BF36185","v":0},{"$f":"Parameters!BG36185","v":0},{"$f":"Parameters!BH36185","v":0},{"$f":"Parameters!BI36185","v":0},{"$f":"Parameters!BJ36185","v":0},{"$f":"Parameters!BK36185","v":0},{"$f":"Parameters!BL36185","v":0},{"$f":"Parameters!BM36185","v":0},{"$f":"Parameters!BN36185","v":0}]
[2015,2016,2017,2018,2019,2020,2021,2022,2023,2024,2025,2026,2027,2028,2029,2030,2031,2032,2033,2034,2035,2036,2037,2038,2039,2040,2041,2042,2043,2044,2045,2046,2047,2048,2049,2050,2051,2052,2053,2054,2055,2056,2057,2058,2059,2060,2061,2062,2063,2064,2065,2066,2067,2068,2069,"2070:="]
[2015,2016,2017,2018,2019,2020,2021,2022,2023,2024,2025,2026,2027,2028,2029,2030,2031,2032,2033,2034,2035,2036,2037,2038,2039,2040,2041,2042,2043,2044,2045,2046,2047,2048,2049,2050,2051,2052,2053,2054,2055,2056,2057,2058,2059,2060,2061,2062,2063,2064,2065,2066,2067,2068,2069,"2070:="]
[{"$f":"CONCATENATE(\"[\",Parameters!B36337,\",\",Parameters!C36337,\",\",Parameters!F36337,\",*,*]:\")","v":"[RE1,TEC100,TRAMCY,*,*]:"}]
[{"$f":"CONCATENATE(\"[\",Parameters!B36403,\",\",Parameters!C36403,\",\",Parameters!F36403,\",*,*]:\")","v":"[RE1,TEC101,COM032,*,*]:"}]
[1,{"$f":"Parameters!K36472","v":0},{"$f":"Parameters!L36472","v":0},{"$f":"Parameters!M36472","v":0},{"$f":"Parameters!N36472","v":0},{"$f":"Parameters!O36472","v":0},{"$f":"Parameters!P36472","v":0},{"$f":"Parameters!Q36472","v":0},{"$f":"Parameters!R36472","v":0},{"$f":"Parameters!S36472","v":0},{"$f":"Parameters!T36472","v":0},{"$f":"Parameters!U36472","v":0},{"$f":"Parameters!V36472","v":0},{"$f":"Parameters!W36472","v":0},{"$f":"Parameters!X36472","v":0},{"$f":"Parameters!Y36472","v":0},{"$f":"Parameters!Z36472","v":0},{"$f":"Parameters!AA36472","v":0},{"$f":"Parameters!AB36472","v":0},{"$f":"Parameters!AC36472","v":0},{"$f":"Parameters!AD36472","v":0},{"$f":"Parameters!AE36472","v":0},{"$f":"Parameters!AF36472","v":0},{"$f":"Parameters!AG36472","v":0},{"$f":"Parameters!AH36472","v":0},{"$f":"Parameters!AI36472","v":0},{"$f":"Parameters!AJ36472","v":0},{"$f":"Parameters!AK36472","v":0},{"$f":"Parameters!AL36472","v":0},{"$f":"Parameters!AM36472","v":0},{"$f":"Parameters!AN36472","v":0},{"$f":"Parameters!AO36472","v":0},{"$f":"Parameters!AP36472","v":0},{"$f":"Parameters!AQ36472","v":0},{"$f":"Parameters!AR36472","v":0},{"$f":"Parameters!AS36472","v":0},{"$f":"Parameters!AT36472","v":0},{"$f":"Parameters!AU36472","v":0},{"$f":"Parameters!AV36472","v":0},{"$f":"Parameters!AW36472","v":0},{"$f":"Parameters!AX36472","v":0},{"$f":"Parameters!AY36472","v":0},{"$f":"Parameters!AZ36472","v":0},{"$f":"Parameters!BA36472","v":0},{"$f":"Parameters!BB36472","v":0},{"$f":"Parameters!BC36472","v":0},{"$f":"Parameters!BD36472","v":0},{"$f":"Parameters!BE36472","v":0},{"$f":"Parameters!BF36472","v":0},{"$f":"Parameters!BG36472","v":0},{"$f":"Parameters!BH36472","v":0},{"$f":"Parameters!BI36472","v":0},{"$f":"Parameters!BJ36472","v":0},{"$f":"Parameters!BK36472","v":0},{"$f":"Parameters!BL36472","v":0},{"$f":"Parameters!BM36472","v":0},{"$f":"Parameters!BN36472","v":0}]
[1,{"$f":"Parameters!K36527","v":0},{"$f":"Parameters!L36527","v":0},{"$f":"Parameters!M36527","v":0},{"$f":"Parameters!N36527","v":0},{"$f":"Parameters!O36527","v":0},{"$f":"Parameters!P36527","v":0},{"$f":"Parameters!Q36527","v":0},{"$f":"Parameters!R36527","v":0},{"$f":"Parameters!S36527","v":0},{"$f":"Parameters!T36527","v":0},{"$f":"Parameters!U36527","v":0},{"$f":"Parameters!V36527","v":0},{"$f":"Parameters!W36527","v":0},{"$f":"Parameters!X36527","v":0},{"$f":"Parameters!Y36527","v":0},{"$f":"Parameters!Z36527","v":0},{"$f":"Parameters!AA36527","v":0},{"$f":"Parameters!AB36527","v":0},{"$f":"Parameters!AC36527","v":0},{"$f":"Parameters!AD36527","v":0},{"$f":"Parameters!AE36527","v":0},{"$f":"Parameters!AF36527","v":0},{"$f":"Parameters!AG36527","v":0},{"$f":"Parameters!AH36527","v":0},{"$f":"Parameters!AI36527","v":0},{"$f":"Parameters!AJ36527","v":0},{"$f":"Parameters!AK36527","v":0},{"$f":"Parameters!AL36527","v":0},{"$f":"Parameters!AM36527","v":0},{"$f":"Parameters!AN36527","v":0},{"$f":"Parameters!AO36527","v":0},{"$f":"Parameters!AP36527","v":0},{"$f":"Parameters!AQ36527","v":0},{"$f":"Parameters!AR36527","v":0},{"$f":"Parameters!AS36527","v":0},{"$f":"Parameters!AT36527","v":0},{"$f":"Parameters!AU36527","v":0},{"$f":"Parameters!AV36527","v":0},{"$f":"Parameters!AW36527","v":0},{"$f":"Parameters!AX36527","v":0},{"$f":"Parameters!AY36527","v":0},{"$f":"Parameters!AZ36527","v":0},{"$f":"Parameters!BA36527","v":0},{"$f":"Parameters!BB36527","v":0},{"$f":"Parameters!BC36527","v":0},{"$f":"Parameters!BD36527","v":0},{"$f":"Parameters!BE36527","v":0},{"$f":"Parameters!BF36527","v":0},{"$f":"Parameters!BG36527","v":0},{"$f":"Parameters!BH36527","v":0},{"$f":"Parameters!BI36527","v":0},{"$f":"Parameters!BJ36527","v":0},{"$f":"Parameters!BK36527","v":0},{"$f":"Parameters!BL36527","v":0},{"$f":"Parameters!BM36527","v":0},{"$f":"Parameters!BN36527","v":0}]
[1,{"$f":"Parameters!K36623","v":0},{"$f":"Parameters!L36623","v":0},{"$f":"Parameters!M36623","v":0},{"$f":"Parameters!N36623","v":0},{"$f":"Parameters!O36623","v":0},{"$f":"Parameters!P36623","v":0},{"$f":"Parameters!Q36623","v":0},{"$f":"Parameters!R36623","v":0},{"$f":"Parameters!S36623","v":0},{"$f":"Parameters!T36623","v":0},{"$f":"Parameters!U36623","v":0},{"$f":"Parameters!V36623","v":0},{"$f":"Parameters!W36623","v":0},{"$f":"Parameters!X36623","v":0},{"$f":"Parameters!Y36623","v":0},{"$f":"Parameters!Z36623","v":0},{"$f":"Parameters!AA36623","v":0},{"$f":"Parameters!AB36623","v":0},{"$f":"Parameters!AC36623","v":0},{"$f":"Parameters!AD36623","v":0},{"$f":"Parameters!AE36623","v":0},{"$f":"Parameters!AF36623","v":0},{"$f":"Parameters!AG36623","v":0},{"$f":"Parameters!AH36623","v":0},{"$f":"Parameters!AI36623","v":0},{"$f":"Parameters!AJ36623","v":0},{"$f":"Parameters!AK36623","v":0},{"$f":"Parameters!AL36623","v":0},{"$f":"Parameters!AM36623","v":0},{"$f":"Parameters!AN36623","v":0},{"$f":"Parameters!AO36623","v":0},{"$f":"Parameters!AP36623","v":0},{"$f":"Parameters!AQ36623","v":0},{"$f":"Parameters!AR36623","v":0},{"$f":"Parameters!AS36623","v":0},{"$f":"Parameters!AT36623","v":0},{"$f":"Parameters!AU36623","v":0},{"$f":"Parameters!AV36623","v":0},{"$f":"Parameters!AW36623","v":0},{"$f":"Parameters!AX36623","v":0},{"$f":"Parameters!AY36623","v":0},{"$f":"Parameters!AZ36623","v":0},{"$f":"Parameters!BA36623","v":0},{"$f":"Parameters!BB36623","v":0},{"$f":"Parameters!BC36623","v":0},{"$f":"Parameters!BD36623","v":0},{"$f":"Parameters!BE36623","v":0},{"$f":"Parameters!BF36623","v":0},{"$f":"Parameters!BG36623","v":0},{"$f":"Parameters!BH36623","v":0},{"$f":"Parameters!BI36623","v":0},{"$f":"Parameters!BJ36623","v":0},{"$f":"Parameters!BK36623","v":0},{"$f":"Parameters!BL36623","v":0},{"$f":"Parameters!BM36623","v":0},{"$f":"Parameters!BN36623","v":0}]
[2015,2016,2017,2018,2019,2020,2021,2022,2023,2024,2025,2026,2027,2028,2029,2030,2031,2032,2033,2034,2035,2036,2037,2038,2039,2040,2041,2042,2043,2044,2045,2046,2047,2048,2049,2050,2051,2052,2053,2054,2055,2056,2057,2058,2059,2060,2061,2062,2063,2064,2065,2066,2067,2068,2069,"2070:="]
[2015,2016,2017,2018,2019,2020,2021,2022,2023,2024,2025,2026,2027,2028,2029,2030,2031,2032,2033,2034,2035,2036,2037,2038,2039,2040,2041,2042,2043,2044,2045,2046,2047,2048,2049,2050,2051,2052,2053,2054,2055,2056,2057,2058,2059,2060,2061,2062,2063,2064,2065,2066,2067,2068,2069,"2070:="]
[{"$f":"CONCATENATE(\"[\",Parameters!B36799,\",\",Parameters!C36799,\",\",Parameters!F36799,\",*,*]:\")","v":"[RE1,TEC109,COM028,*,*]:"}]
[{"$f":"CONCATENATE(\"[\",Parameters!B36854,\",\",Parameters!C36854,\",\",Parameters!F36854,\",*,*]:\")","v":"[RE1,TEC110,COM033,*,*]:"}]
[1,{"$f":"Parameters!K36892","v":0},{"$f":"Parameters!L36892","v":0},{"$f":"Parameters!M36892","v":0},{"$f":"Parameters!N36892","v":0},{"$f":"Parameters!O36892","v":0},{"$f":"Parameters!P36892","v":0},{"$f":"Parameters!Q36892","v":0},{"$f":"Parameters!R36892","v":0},{"$f":"Parameters!S36892","v":0},{"$f":"Parameters!T36892","v":0},{"$f":"Parameters!U36892","v":0},{"$f":"Parameters!V36892","v":0},{"$f":"Parameters!W36892","v":0},{"$f":"Parameters!X36892","v":0},{"$f":"Parameters!Y36892","v":0},{"$f":"Parameters!Z36892","v":0},{"$f":"Parameters!AA36892","v":0},{"$f":"Parameters!AB36892","v":0},{"$f":"Parameters!AC36892","v":0},{"$f":"Parameters!AD36892","v":0},{"$f":"Parameters!AE36892","v":0},{"$f":"Parameters!AF36892","v":0},{"$f":"Parameters!AG36892","v":0},{"$f":"Parameters!AH36892","v":0},{"$f":"Parameters!AI36892","v":0},{"$f":"Parameters!AJ36892","v":0},{"$f":"Parameters!AK36892","v":0},{"$f":"Parameters!AL36892","v":0},{"$f":"Parameters!AM36892","v":0},{"$f":"Parameters!AN36892","v":0},{"$f":"Parameters!AO36892","v":0},{"$f":"Parameters!AP36892","v":0},{"$f":"Parameters!AQ36892","v":0},{"$f":"Parameters!AR36892","v":0},{"$f":"Parameters!AS36892","v":0},{"$f":"Parameters!AT36892","v":0},{"$f":"Parameters!AU36892","v":0},{"$f":"Parameters!AV36892","v":0},{"$f":"Parameters!AW36892","v":0},{"$f":"Parameters!AX36892","v":0},{"$f":"Parameters!AY36892","v":0},{"$f":"Parameters!AZ36892","v":0},{"$f":"Parameters!BA36892","v":0},{"$f":"Parameters!BB36892","v":0},{"$f":"Parameters!BC36892","v":0},{"$f":"Parameters!BD36892","v":0},{"$f":"Parameters!BE36892","v":0},{"$f":"Parameters!BF36892","v":0},{"$f":"Parameters!BG36892","v":0},{"$f":"Parameters!BH36892","v":0},{"$f":"Parameters!BI36892","v":0},{"$f":"Parameters!BJ36892","v":0},{"$f":"Parameters!BK36892","v":0},{"$f":"Parameters!BL36892","v":0},{"$f":"Parameters!BM36892","v":0},{"$f":"Parameters!BN36892","v":0}]
[1,{"$f":"Parameters!K36989","v":0},{"$f":"Parameters!L36989","v":0},{"$f":"Parameters!M36989","v":0},{"$f":"Parameters!N36989","v":0},{"$f":"Parameters!O36989","v":0},{"$f":"Parameters!P36989","v":0},{"$f":"Parameters!Q36989","v":0},{"$f":"Parameters!R36989","v":0},{"$f":"Parameters!S36989","v":0},{"$f":"Parameters!T36989","v":0},{"$f":"Parameters!U36989","v":0},{"$f":"Parameters!V36989","v":0},{"$f":"Parameters!W36989","v":0},{"$f":"Parameters!X36989","v":0},{"$f":"Parameters!Y36989","v":0},{"$f":"Parameters!Z36989","v":0},{"$f":"Parameters!AA36989","v":0},{"$f":"Parameters!AB36989","v":0},{"$f":"Parameters!AC36989","v":0},{"$f":"Parameters!AD36989","v":0},{"$f":"Parameters!AE36989","v":0},{"$f":"Parameters!AF36989","v":0},{"$f":"Parameters!AG36989","v":0},{"$f":"Parameters!AH36989","v":0},{"$f":"Parameters!AI36989","v":0},{"$f":"Parameters!AJ36989","v":0},{"$f":"Parameters!AK36989","v":0},{"$f":"Parameters!AL36989","v":0},{"$f":"Parameters!AM36989","v":0},{"$f":"Parameters!AN36989","v":0},{"$f":"Parameters!AO36989","v":0},{"$f":"Parameters!AP36989","v":0},{"$f":"Parameters!AQ36989","v":0},{"$f":"Parameters!AR36989","v":0},{"$f":"Parameters!AS36989","v":0},{"$f":"Parameters!AT36989","v":0},{"$f":"Parameters!AU36989","v":0},{"$f":"Parameters!AV36989","v":0},{"$f":"Parameters!AW36989","v":0},{"$f":"Parameters!AX36989","v":0},{"$f":"Parameters!AY36989","v":0},{"$f":"Parameters!AZ36989","v":0},{"$f":"Parameters!BA36989","v":0},{"$f":"Parameters!BB36989","v":0},{"$f":"Parameters!BC36989","v":0},{"$f":"Parameters!BD36989","v":0},{"$f":"Parameters!BE36989","v":0},{"$f":"Parameters!BF36989","v":0},{"$f":"Parameters!BG36989","v":0},{"$f":"Parameters!BH36989","v":0},{"$f":"Parameters!BI36989","v":0},{"$f":"Parameters!BJ36989","v":0},{"$f":"Parameters!BK36989","v":0},{"$f":"Parameters!BL36989","v":0},{"$f":"Parameters!BM36989","v":0},{"$f":"Parameters!BN36989","v":0}]
[2015,2016,2017,2018,2019,2020,2021,2022,2023,2024,2025,2026,2027,2028,2029,2030,2031,2032,2033,2034,2035,2036,2037,2038,2039,2040,2041,2042,2043,2044,2045,2046,2047,2048,2049,2050,2051,2052,2053,2054,2055,2056,2057,2058,2059,2060,2061,2062,2063,2064,2065,2066,2067,2068,2069,"2070:="]
[2015,2016,2017,2018,2019,2020,2021,2022,2023,2024,2025,2026,2027,2028,2029,2030,2031,2032,2033,2034,2035,2036,2037,2038,2039,2040,2041,2042,2043,2044,2045,2046,2047,2048,2049,2050,2051,2052,2053,2054,2055,2056,2057,2058,2059,2060,2061,2062,2063,2064,2065,2066,2067,2068,2069,"2070:="]
[2015,2016,2017,2018,2019,2020,2021,2022,2023,2024,2025,2026,2027,2028,2029,2030,2031,2032,2033,2034,2035,2036,2037,2038,2039,2040,2041,2042,2043,2044,2045,2046,2047,2048,2049,2050,2051,2052,2053,2054,2055,2056,2057,2058,2059,2060,2061,2062,2063,2064,2065,2066,2067,2068,2069,"2070:="]
[1,{"$f":"Parameters!K37235","v":0},{"$f":"Parameters!L37235","v":0},{"$f":"Parameters!M37235","v":0},{"$f":"Parameters!N37235","v":0},{"$f":"Parameters!O37235","v":0},{"$f":"Parameters!P37235","v":0},{"$f":"Parameters!Q37235","v":0},{"$f":"Parameters!R37235","v":0},{"$f":"Parameters!S37235","v":0},{"$f":"Parameters!T37235","v":0},{"$f":"Parameters!U37235","v":0},{"$f":"Parameters!V37235","v":0},{"$f":"Parameters!W37235","v":0},{"$f":"Parameters!X37235","v":0},{"$f":"Parameters!Y37235","v":0},{"$f":"Parameters!Z37235","v":0},{"$f":"Parameters!AA37235","v":0},{"$f":"Parameters!AB37235","v":0},{"$f":"Parameters!AC37235","v":0},{"$f":"Parameters!AD37235","v":0},{"$f":"Parameters!AE37235","v":0},{"$f":"Parameters!AF37235","v":0},{"$f":"Parameters!AG37235","v":0},{"$f":"Parameters!AH37235","v":0},{"$f":"Parameters!AI37235","v":0},{"$f":"Parameters!AJ37235","v":0},{"$f":"Parameters!AK37235","v":0},{"$f":"Parameters!AL37235","v":0},{"$f":"Parameters!AM37235","v":0},{"$f":"Parameters!AN37235","v":0},{"$f":"Parameters!AO37235","v":0},{"$f":"Parameters!AP37235","v":0},{"$f":"Parameters!AQ37235","v":0},{"$f":"Parameters!AR37235","v":0},{"$f":"Parameters!AS37235","v":0},{"$f":"Parameters!AT37235","v":0},{"$f":"Parameters!AU37235","v":0},{"$f":"Parameters!AV37235","v":0},{"$f":"Parameters!AW37235","v":0},{"$f":"Parameters!AX37235","v":0},{"$f":"Parameters!AY37235","v":0},{"$f":"Parameters!AZ37235","v":0},{"$f":"Parameters!BA37235","v":0},{"$f":"Parameters!BB37235","v":0},{"$f":"Parameters!BC37235","v":0},{"$f":"Parameters!BD37235","v":0},{"$f":"Parameters!BE37235","v":0},{"$f":"Parameters!BF37235","v":0},{"$f":"Parameters!BG37235","v":0},{"$f":"Parameters!BH37235","v":0},{"$f":"Parameters!BI37235","v":0},{"$f":"Parameters!BJ37235","v":0},{"$f":"Parameters!BK37235","v":0},{"$f":"Parameters!BL37235","v":0},{"$f":"Parameters!BM37235","v":0},{"$f":"Parameters!BN37235","v":0}]
[{"$f":"CONCATENATE(\"[\",Parameters!B37256,\",\",Parameters!C37256,\",\",Parameters!F37256,\",*,*]:\")","v":"[RE1,TEC118,COM035,*,*]:"}]
[1,{"$f":"Parameters!K37325","v":0},{"$f":"Parameters!L37325","v":0},{"$f":"Parameters!M37325","v":0},{"$f":"Parameters!N37325","v":0},{"$f":"Parameters!O37325","v":0},{"$f":"Parameters!P37325","v":0},{"$f":"Parameters!Q37325","v":0},{"$f":"Parameters!R37325","v":0},{"$f":"Parameters!S37325","v":0},{"$f":"Parameters!T37325","v":0},{"$f":"Parameters!U37325","v":0},{"$f":"Parameters!V37325","v":0},{"$f":"Parameters!W37325","v":0},{"$f":"Parameters!X37325","v":0},{"$f":"Parameters!Y37325","v":0},{"$f":"Parameters!Z37325","v":0},{"$f":"Parameters!AA37325","v":0},{"$f":"Parameters!AB37325","v":0},{"$f":"Parameters!AC37325","v":0},{"$f":"Parameters!AD37325","v":0},{"$f":"Parameters!AE37325","v":0},{"$f":"Parameters!AF37325","v":0},{"$f":"Parameters!AG37325","v":0},{"$f":"Parameters!AH37325","v":0},{"$f":"Parameters!AI37325","v":0},{"$f":"Parameters!AJ37325","v":0},{"$f":"Parameters!AK37325","v":0},{"$f":"Parameters!AL37325","v":0},{"$f":"Parameters!AM37325","v":0},{"$f":"Parameters!AN37325","v":0},{"$f":"Parameters!AO37325","v":0},{"$f":"Parameters!AP37325","v":0},{"$f":"Parameters!AQ37325","v":0},{"$f":"Parameters!AR37325","v":0},{"$f":"Parameters!AS37325","v":0},{"$f":"Parameters!AT37325","v":0},{"$f":"Parameters!AU37325","v":0},{"$f":"Parameters!AV37325","v":0},{"$f":"Parameters!AW37325","v":0},{"$f":"Parameters!AX37325","v":0},{"$f":"Parameters!AY37325","v":0},{"$f":"Parameters!AZ37325","v":0},{"$f":"Parameters!BA37325","v":0},{"$f":"Parameters!BB37325","v":0},{"$f":"Parameters!BC37325","v":0},{"$f":"Parameters!BD37325","v":0},{"$f":"Parameters!BE37325","v":0},{"$f":"Parameters!BF37325","v":0},{"$f":"Parameters!BG37325","v":0},{"$f":"Parameters!BH37325","v":0},{"$f":"Parameters!BI37325","v":0},{"$f":"Parameters!BJ37325","v":0},{"$f":"Parameters!BK37325","v":0},{"$f":"Parameters!BL37325","v":0},{"$f":"Parameters!BM37325","v":0},{"$f":"Parameters!BN37325","v":0}]
[1,{"$f":"Parameters!K37391","v":0},{"$f":"Parameters!L37391","v":0},{"$f":"Parameters!M37391","v":0},{"$f":"Parameters!N37391","v":0},{"$f":"Parameters!O37391","v":0},{"$f":"Parameters!P37391","v":0},{"$f":"Parameters!Q37391","v":0},{"$f":"Parameters!R37391","v":0},{"$f":"Parameters!S37391","v":0},{"$f":"Parameters!T37391","v":0},{"$f":"Parameters!U37391","v":0},{"$f":"Parameters!V37391","v":0},{"$f":"Parameters!W37391","v":0},{"$f":"Parameters!X37391","v":0},{"$f":"Parameters!Y37391","v":0},{"$f":"Parameters!Z37391","v":0},{"$f":"Parameters!AA37391","v":0},{"$f":"Parameters!AB37391","v":0},{"$f":"Parameters!AC37391","v":0},{"$f":"Parameters!AD37391","v":0},{"$f":"Parameters!AE37391","v":0},{"$f":"Parameters!AF37391","v":0},{"$f":"Parameters!AG37391","v":0},{"$f":"Parameters!AH37391","v":0},{"$f":"Parameters!AI37391","v":0},{"$f":"Parameters!AJ37391","v":0},{"$f":"Parameters!AK37391","v":0},{"$f":"Parameters!AL37391","v":0},{"$f":"Parameters!AM37391","v":0},{"$f":"Parameters!AN37391","v":0},{"$f":"Parameters!AO37391","v":0},{"$f":"Parameters!AP37391","v":0},{"$f":"Parameters!AQ37391","v":0},{"$f":"Parameters!AR37391","v":0},{"$f":"Parameters!AS37391","v":0},{"$f":"Parameters!AT37391","v":0},{"$f":"Parameters!AU37391","v":0},{"$f":"Parameters!AV37391","v":0},{"$f":"Parameters!AW37391","v":0},{"$f":"Parameters!AX37391","v":0},{"$f":"Parameters!AY37391","v":0},{"$f":"Parameters!AZ37391","v":0},{"$f":"Parameters!BA37391","v":0},{"$f":"Parameters!BB37391","v":0},{"$f":"Parameters!BC37391","v":0},{"$f":"Parameters!BD37391","v":0},{"$f":"Parameters!BE37391","v":0},{"$f":"Parameters!BF37391","v":0},{"$f":"Parameters!BG37391","v":0},{"$f":"Parameters!BH37391","v":0},{"$f":"Parameters!BI37391","v":0},{"$f":"Parameters!BJ37391","v":0},{"$f":"Parameters!BK37391","v":0},{"$f":"Parameters!BL37391","v":0},{"$f":"Parameters!BM37391","v":0},{"$f":"Parameters!BN37391","v":0}]
[2015,2016,2017,2018,2019,2020,2021,2022,2023,2024,2025,2026,2027,2028,2029,2030,2031,2032,2033,2034,2035,2036,2037,2038,2039,2040,2041,2042,2043,2044,2045,2046,2047,2048,2049,2050,2051,2052,2053,2054,2055,2056,2057,2058,2059,2060,2061,2062,2063,2064,2065,2066,2067,2068,2069,"2070:="]
[{"$f":"CONCATENATE(\"[\",Parameters!B37502,\",\",Parameters!C37502,\",\",Parameters!F37502,\",*,*]:\")","v":"[RE1,TEC123,COM031,*,*]:"}]
[2015,2016,2017,2018,2019,2020,2021,2022,2023,2024,2025,2026,2027,2028,2029,2030,2031,2032,2033,2034,2035,2036,2037,2038,2039,2040,2041,2042,2043,2044,2045,2046,2047,2048,2049,2050,2051,2052,2053,2054,2055,2056,2057,2058,2059,2060,2061,2062,2063,2064,2065,2066,2067,2068,2069,"2070:="]
[{"$f":"CONCATENATE(\"[\",Parameters!B37655,\",\",Parameters!C37655,\",\",Parameters!F37655,\",*,*]:\")","v":"[RE1,TEC126,COM034,*,*]:"}]
[{"$f":"CONCATENATE(\"[\",Parameters!B37658,\",\",Parameters!C37658,\",\",Parameters!F37658,\",*,*]:\")","v":"[RE1,TEC126,COM037,*,*]:"}]
[1,{"$f":"Parameters!K37763","v":0},{"$f":"Parameters!L37763","v":0},{"$f":"Parameters!M37763","v":0},{"$f":"Parameters!N37763","v":0},{"$f":"Parameters!O37763","v":0},{"$f":"Parameters!P37763","v":0},{"$f":"Parameters!Q37763","v":0},{"$f":"Parameters!R37763","v":0},{"$f":"Parameters!S37763","v":0},{"$f":"Parameters!T37763","v":0},{"$f":"Parameters!U37763","v":0},{"$f":"Parameters!V37763","v":0},{"$f":"Parameters!W37763","v":0},{"$f":"Parameters!X37763","v":0},{"$f":"Parameters!Y37763","v":0},{"$f":"Parameters!Z37763","v":0},{"$f":"Parameters!AA37763","v":0},{"$f":"Parameters!AB37763","v":0},{"$f":"Parameters!AC37763","v":0},{"$f":"Parameters!AD37763","v":0},{"$f":"Parameters!AE37763","v":0},{"$f":"Parameters!AF37763","v":0},{"$f":"Parameters!AG37763","v":0},{"$f":"Parameters!AH37763","v":0},{"$f":"Parameters!AI37763","v":0},{"$f":"Parameters!AJ37763","v":0},{"$f":"Parameters!AK37763","v":0},{"$f":"Parameters!AL37763","v":0},{"$f":"Parameters!AM37763","v":0},{"$f":"Parameters!AN37763","v":0},{"$f":"Parameters!AO37763","v":0},{"$f":"Parameters!AP37763","v":0},{"$f":"Parameters!AQ37763","v":0},{"$f":"Parameters!AR37763","v":0},{"$f":"Parameters!AS37763","v":0},{"$f":"Parameters!AT37763","v":0},{"$f":"Parameters!AU37763","v":0},{"$f":"Parameters!AV37763","v":0},{"$f":"Parameters!AW37763","v":0},{"$f":"Parameters!AX37763","v":0},{"$f":"Parameters!AY37763","v":0},{"$f":"Parameters!AZ37763","v":0},{"$f":"Parameters!BA37763","v":0},{"$f":"Parameters!BB37763","v":0},{"$f":"Parameters!BC37763","v":0},{"$f":"Parameters!BD37763","v":0},{"$f":"Parameters!BE37763","v":0},{"$f":"Parameters!BF37763","v":0},{"$f":"Parameters!BG37763","v":0},{"$f":"Parameters!BH37763","v":0},{"$f":"Parameters!BI37763","v":0},{"$f":"Parameters!BJ37763","v":0},{"$f":"Parameters!BK37763","v":0},{"$f":"Parameters!BL37763","v":0},{"$f":"Parameters!BM37763","v":0},{"$f":"Parameters!BN37763","v":0}]
[2015,2016,2017,2018,2019,2020,2021,2022,2023,2024,2025,2026,2027,2028,2029,2030,2031,2032,2033,2034,2035,2036,2037,2038,2039,2040,2041,2042,2043,2044,2045,2046,2047,2048,2049,2050,2051,2052,2053,2054,2055,2056,2057,2058,2059,2060,2061,2062,2063,2064,2065,2066,2067,2068,2069,"2070:="]
[2015,2016,2017,2018,2019,2020,2021,2022,2023,2024,2025,2026,2027,2028,2029,2030,2031,2032,2033,2034,2035,2036,2037,2038,2039,2040,2041,2042,2043,2044,2045,2046,2047,2048,2049,2050,2051,2052,2053,2054,2055,2056,2057,2058,2059,2060,2061,2062,2063,2064,2065,2066,2067,2068,2069,"2070:="]
[{"$f":"CONCATENATE(\"[\",Parameters!B37904,\",\",Parameters!C37904,\",\",Parameters!F37904,\",*,*]:\")","v":"[RE1,TEC131,COM033,*,*]:"}]
[{"$f":"CONCATENATE(\"[\",Parameters!B37959,\",\",Parameters!C37959,\",\",Parameters!F37959,\",*,*]:\")","v":"[RE1,TEC132,COM038,*,*]:"}]
[1,{"$f":"Parameters!K38032","v":0},{"$f":"Parameters!L38032","v":0},{"$f":"Parameters!M38032","v":0},{"$f":"Parameters!N38032","v":0},{"$f":"Parameters!O38032","v":0},{"$f":"Parameters!P38032","v":0},{"$f":"Parameters!Q38032","v":0},{"$f":"Parameters!R38032","v":0},{"$f":"Parameters!S38032","v":0},{"$f":"Parameters!T38032","v":0},{"$f":"Parameters!U38032","v":0},{"$f":"Parameters!V38032","v":0},{"$f":"Parameters!W38032","v":0},{"$f":"Parameters!X38032","v":0},{"$f":"Parameters!Y38032","v":0},{"$f":"Parameters!Z38032","v":0},{"$f":"Parameters!AA38032","v":0},{"$f":"Parameters!AB38032","v":0},{"$f":"Parameters!AC38032","v":0},{"$f":"Parameters!AD38032","v":0},{"$f":"Parameters!AE38032","v":0},{"$f":"Parameters!AF38032","v":0},{"$f":"Parameters!AG38032","v":0},{"$f":"Parameters!AH38032","v":0},{"$f":"Parameters!AI38032","v":0},{"$f":"Parameters!AJ38032","v":0},{"$f":"Parameters!AK38032","v":0},{"$f":"Parameters!AL38032","v":0},{"$f":"Parameters!AM38032","v":0},{"$f":"Parameters!AN38032","v":0},{"$f":"Parameters!AO38032","v":0},{"$f":"Parameters!AP38032","v":0},{"$f":"Parameters!AQ38032","v":0},{"$f":"Parameters!AR38032","v":0},{"$f":"Parameters!AS38032","v":0},{"$f":"Parameters!AT38032","v":0},{"$f":"Parameters!AU38032","v":0},{"$f":"Parameters!AV38032","v":0},{"$f":"Parameters!AW38032","v":0},{"$f":"Parameters!AX38032","v":0},{"$f":"Parameters!AY38032","v":0},{"$f":"Parameters!AZ38032","v":0},{"$f":"Parameters!BA38032","v":0},{"$f":"Parameters!BB38032","v":0},{"$f":"Parameters!BC38032","v":0},{"$f":"Parameters!BD38032","v":0},{"$f":"Parameters!BE38032","v":0},{"$f":"Parameters!BF38032","v":0},{"$f":"Parameters!BG38032","v":0},{"$f":"Parameters!BH38032","v":0},{"$f":"Parameters!BI38032","v":0},{"$f":"Parameters!BJ38032","v":0},{"$f":"Parameters!BK38032","v":0},{"$f":"Parameters!BL38032","v":0},{"$f":"Parameters!BM38032","v":0},{"$f":"Parameters!BN38032","v":0}]
[1,{"$f":"Parameters!K38094","v":0},{"$f":"Parameters!L38094","v":0},{"$f":"Parameters!M38094","v":0},{"$f":"Parameters!N38094","v":0},{"$f":"Parameters!O38094","v":0},{"$f":"Parameters!P38094","v":0},{"$f":"Parameters!Q38094","v":0},{"$f":"Parameters!R38094","v":0},{"$f":"Parameters!S38094","v":0},{"$f":"Parameters!T38094","v":0},{"$f":"Parameters!U38094","v":0},{"$f":"Parameters!V38094","v":0},{"$f":"Parameters!W38094","v":0},{"$f":"Parameters!X38094","v":0},{"$f":"Parameters!Y38094","v":0},{"$f":"Parameters!Z38094","v":0},{"$f":"Parameters!AA38094","v":0},{"$f":"Parameters!AB38094","v":0},{"$f":"Parameters!AC38094","v":0},{"$f":"Parameters!AD38094","v":0},{"$f":"Parameters!AE38094","v":0},{"$f":"Parameters!AF38094","v":0},{"$f":"Parameters!AG38094","v":0},{"$f":"Parameters!AH38094","v":0},{"$f":"Parameters!AI38094","v":0},{"$f":"Parameters!AJ38094","v":0},{"$f":"Parameters!AK38094","v":0},{"$f":"Parameters!AL38094","v":0},{"$f":"Parameters!AM38094","v":0},{"$f":"Parameters!AN38094","v":0},{"$f":"Parameters!AO38094","v":0},{"$f":"Parameters!AP38094","v":0},{"$f":"Parameters!AQ38094","v":0},{"$f":"Parameters!AR38094","v":0},{"$f":"Parameters!AS38094","v":0},{"$f":"Parameters!AT38094","v":0},{"$f":"Parameters!AU38094","v":0},{"$f":"Parameters!AV38094","v":0},{"$f":"Parameters!AW38094","v":0},{"$f":"Parameters!AX38094","v":0},{"$f":"Parameters!AY38094","v":0},{"$f":"Parameters!AZ38094","v":0},{"$f":"Parameters!BA38094","v":0},{"$f":"Parameters!BB38094","v":0},{"$f":"Parameters!BC38094","v":0},{"$f":"Parameters!BD38094","v":0},{"$f":"Parameters!BE38094","v":0},{"$f":"Parameters!BF38094","v":0},{"$f":"Parameters!BG38094","v":0},{"$f":"Parameters!BH38094","v":0},{"$f":"Parameters!BI38094","v":0},{"$f":"Parameters!BJ38094","v":0},{"$f":"Parameters!BK38094","v":0},{"$f":"Parameters!BL38094","v":0},{"$f":"Parameters!BM38094","v":0},{"$f":"Parameters!BN38094","v":0}]
[2015,2016,2017,2018,2019,2020,2021,2022,2023,2024,2025,2026,2027,2028,2029,2030,2031,2032,2033,2034,2035,2036,2037,2038,2039,2040,2041,2042,2043,2044,2045,2046,2047,2048,2049,2050,2051,2052,2053,2054,2055,2056,2057,2058,2059,2060,2061,2062,2063,2064,2065,2066,2067,2068,2069,"2070:="]
[2015,2016,2017,2018,2019,2020,2021,2022,2023,2024,2025,2026,2027,2028,2029,2030,2031,2032,2033,2034,2035,2036,2037,2038,2039,2040,2041,2042,2043,2044,2045,2046,2047,2048,2049,2050,2051,2052,2053,2054,2055,2056,2057,2058,2059,2060,2061,2062,2063,2064,2065,2066,2067,2068,2069,"2070:="]
[2015,2016,2017,2018,2019,2020,2021,2022,2023,2024,2025,2026,2027,2028,2029,2030,2031,2032,2033,2034,2035,2036,2037,2038,2039,2040,2041,2042,2043,2044,2045,2046,2047,2048,2049,2050,2051,2052,2053,2054,2055,2056,2057,2058,2059,2060,2061,2062,2063,2064,2065,2066,2067,2068,2069,"2070:="]
[{"$f":"CONCATENATE(\"[\",Parameters!B38362,\",\",Parameters!C38362,\",\",Parameters!F38362,\",*,*]:\")","v":"[RE1,TEC140,COM041,*,*]:"}]
[{"$f":"CONCATENATE(\"[\",Parameters!B38421,\",\",Parameters!C38421,\",\",Parameters!F38421,\",*,*]:\")","v":"[RE1,TEC141,COM050,*,*]:"}]
[1,{"$f":"Parameters!K38465","v":0},{"$f":"Parameters!L38465","v":0},{"$f":"Parameters!M38465","v":0},{"$f":"Parameters!N38465","v":0},{"$f":"Parameters!O38465","v":0},{"$f":"Parameters!P38465","v":0},{"$f":"Parameters!Q38465","v":0},{"$f":"Parameters!R38465","v":0},{"$f":"Parameters!S38465","v":0},{"$f":"Parameters!T38465","v":0},{"$f":"Parameters!U38465","v":0},{"$f":"Parameters!V38465","v":0},{"$f":"Parameters!W38465","v":0},{"$f":"Parameters!X38465","v":0},{"$f":"Parameters!Y38465","v":0},{"$f":"Parameters!Z38465","v":0},{"$f":"Parameters!AA38465","v":0},{"$f":"Parameters!AB38465","v":0},{"$f":"Parameters!AC38465","v":0},{"$f":"Parameters!AD38465","v":0},{"$f":"Parameters!AE38465","v":0},{"$f":"Parameters!AF38465","v":0},{"$f":"Parameters!AG38465","v":0},{"$f":"Parameters!AH38465","v":0},{"$f":"Parameters!AI38465","v":0},{"$f":"Parameters!AJ38465","v":0},{"$f":"Parameters!AK38465","v":0},{"$f":"Parameters!AL38465","v":0},{"$f":"Parameters!AM38465","v":0},{"$f":"Parameters!AN38465","v":0},{"$f":"Parameters!AO38465","v":0},{"$f":"Parameters!AP38465","v":0},{"$f":"Parameters!AQ38465","v":0},{"$f":"Parameters!AR38465","v":0},{"$f":"Parameters!AS38465","v":0},{"$f":"Parameters!AT38465","v":0},{"$f":"Parameters!AU38465","v":0},{"$f":"Parameters!AV38465","v":0},{"$f":"Parameters!AW38465","v":0},{"$f":"Parameters!AX38465","v":0},{"$f":"Parameters!AY38465","v":0},{"$f":"Parameters!AZ38465","v":0},{"$f":"Parameters!BA38465","v":0},{"$f":"Parameters!BB38465","v":0},{"$f":"Parameters!BC38465","v":0},{"$f":"Parameters!BD38465","v":0},{"$f":"Parameters!BE38465","v":0},{"$f":"Parameters!BF38465","v":0},{"$f":"Parameters!BG38465","v":0},{"$f":"Parameters!BH38465","v":0},{"$f":"Parameters!BI38465","v":0},{"$f":"Parameters!BJ38465","v":0},{"$f":"Parameters!BK38465","v":0},{"$f":"Parameters!BL38465","v":0},{"$f":"Parameters!BM38465","v":0},{"$f":"Parameters!BN38465","v":0}]
[1,{"$f":"Parameters!K38556","v":0},{"$f":"Parameters!L38556","v":0},{"$f":"Parameters!M38556","v":0},{"$f":"Parameters!N38556","v":0},{"$f":"Parameters!O38556","v":0},{"$f":"Parameters!P38556","v":0},{"$f":"Parameters!Q38556","v":0},{"$f":"Parameters!R38556","v":0},{"$f":"Parameters!S38556","v":0},{"$f":"Parameters!T38556","v":0},{"$f":"Parameters!U38556","v":0},{"$f":"Parameters!V38556","v":0},{"$f":"Parameters!W38556","v":0},{"$f":"Parameters!X38556","v":0},{"$f":"Parameters!Y38556","v":0},{"$f":"Parameters!Z38556","v":0},{"$f":"Parameters!AA38556","v":0},{"$f":"Parameters!AB38556","v":0},{"$f":"Parameters!AC38556","v":0},{"$f":"Parameters!AD38556","v":0},{"$f":"Parameters!AE38556","v":0},{"$f":"Parameters!AF38556","v":0},{"$f":"Parameters!AG38556","v":0},{"$f":"Parameters!AH38556","v":0},{"$f":"Parameters!AI38556","v":0},{"$f":"Parameters!AJ38556","v":0},{"$f":"Parameters!AK38556","v":0},{"$f":"Parameters!AL38556","v":0},{"$f":"Parameters!AM38556","v":0},{"$f":"Parameters!AN38556","v":0},{"$f":"Parameters!AO38556","v":0},{"$f":"Parameters!AP38556","v":0},{"$f":"Parameters!AQ38556","v":0},{"$f":"Parameters!AR38556","v":0},{"$f":"Parameters!AS38556","v":0},{"$f":"Parameters!AT38556","v":0},{"$f":"Parameters!AU38556","v":0},{"$f":"Parameters!AV38556","v":0},{"$f":"Parameters!AW38556","v":0},{"$f":"Parameters!AX38556","v":0},{"$f":"Parameters!AY38556","v":0},{"$f":"Parameters!AZ38556","v":0},{"$f":"Parameters!BA38556","v":0},{"$f":"Parameters!BB38556","v":0},{"$f":"Parameters!BC38556","v":0},{"$f":"Parameters!BD38556","v":0},{"$f":"Parameters!BE38556","v":0},{"$f":"Parameters!BF38556","v":0},{"$f":"Parameters!BG38556","v":0},{"$f":"Parameters!BH38556","v":0},{"$f":"Parameters!BI38556","v":0},{"$f":"Parameters!BJ38556","v":0},{"$f":"Parameters!BK38556","v":0},{"$f":"Parameters!BL38556","v":0},{"$f":"Parameters!BM38556","v":0},{"$f":"Parameters!BN38556","v":0}]
[2015,2016,2017,2018,2019,2020,2021,2022,2023,2024,2025,2026,2027,2028,2029,2030,2031,2032,2033,2034,2035,2036,2037,2038,2039,2040,2041,2042,2043,2044,2045,2046,2047,2048,2049,2050,2051,2052,2053,2054,2055,2056,2057,2058,2059,2060,2061,2062,2063,2064,2065,2066,2067,2068,2069,"2070:="]
[2015,2016,2017,2018,2019,2020,2021,2022,2023,2024,2025,2026,2027,2028,2029,2030,2031,2032,2033,2034,2035,2036,2037,2038,2039,2040,2041,2042,2043,2044,2045,2046,2047,2048,2049,2050,2051,2052,2053,2054,2055,2056,2057,2058,2059,2060,2061,2062,2063,2064,2065,2066,2067,2068,2069,"2070:="]
[2015,2016,2017,2018,2019,2020,2021,2022,2023,2024,2025,2026,2027,2028,2029,2030,2031,2032,2033,2034,2035,2036,2037,2038,2039,2040,2041,2042,2043,2044,2045,2046,2047,2048,2049,2050,2051,2052,2053,2054,2055,2056,2057,2058,2059,2060,2061,2062,2063,2064,2065,2066,2067,2068,2069,"2070:="]
[{"$f":"CONCATENATE(\"[\",Parameters!B38795,\",\",Parameters!C38795,\",\",Parameters!F38795,\",*,*]:\")","v":"[RE1,TEC149,RESHEL,*,*]:"}]
[{"$f":"CONCATENATE(\"[\",Parameters!B38823,\",\",Parameters!C38823,\",\",Parameters!F38823,\",*,*]:\")","v":"[RE1,TEC150,BIO,*,*]:"}]
[1,{"$f":"Parameters!K38903","v":0},{"$f":"Parameters!L38903","v":0},{"$f":"Parameters!M38903","v":0},{"$f":"Parameters!N38903","v":0},{"$f":"Parameters!O38903","v":0},{"$f":"Parameters!P38903","v":0},{"$f":"Parameters!Q38903","v":0},{"$f":"Parameters!R38903","v":0},{"$f":"Parameters!S38903","v":0},{"$f":"Parameters!T38903","v":0},{"$f":"Parameters!U38903","v":0},{"$f":"Parameters!V38903","v":0},{"$f":"Parameters!W38903","v":0},{"$f":"Parameters!X38903","v":0},{"$f":"Parameters!Y38903","v":0},{"$f":"Parameters!Z38903","v":0},{"$f":"Parameters!AA38903","v":0},{"$f":"Parameters!AB38903","v":0},{"$f":"Parameters!AC38903","v":0},{"$f":"Parameters!AD38903","v":0},{"$f":"Parameters!AE38903","v":0},{"$f":"Parameters!AF38903","v":0},{"$f":"Parameters!AG38903","v":0},{"$f":"Parameters!AH38903","v":0},{"$f":"Parameters!AI38903","v":0},{"$f":"Parameters!AJ38903","v":0},{"$f":"Parameters!AK38903","v":0},{"$f":"Parameters!AL38903","v":0},{"$f":"Parameters!AM38903","v":0},{"$f":"Parameters!AN38903","v":0},{"$f":"Parameters!AO38903","v":0},{"$f":"Parameters!AP38903","v":0},{"$f":"Parameters!AQ38903","v":0},{"$f":"Parameters!AR38903","v":0},{"$f":"Parameters!AS38903","v":0},{"$f":"Parameters!AT38903","v":0},{"$f":"Parameters!AU38903","v":0},{"$f":"Parameters!AV38903","v":0},{"$f":"Parameters!AW38903","v":0},{"$f":"Parameters!AX38903","v":0},{"$f":"Parameters!AY38903","v":0},{"$f":"Parameters!AZ38903","v":0},{"$f":"Parameters!BA38903","v":0},{"$f":"Parameters!BB38903","v":0},{"$f":"Parameters!BC38903","v":0},{"$f":"Parameters!BD38903","v":0},{"$f":"Parameters!BE38903","v":0},{"$f":"Parameters!BF38903","v":0},{"$f":"Parameters!BG38903","v":0},{"$f":"Parameters!BH38903","v":0},{"$f":"Parameters!BI38903","v":0},{"$f":"Parameters!BJ38903","v":0},{"$f":"Parameters!BK38903","v":0},{"$f":"Parameters!BL38903","v":0},{"$f":"Parameters!BM38903","v":0},{"$f":"Parameters!BN38903","v":0}]
[1,{"$f":"Parameters!K38958","v":0},{"$f":"Parameters!L38958","v":0},{"$f":"Parameters!M38958","v":0},{"$f":"Parameters!N38958","v":0},{"$f":"Parameters!O38958","v":0},{"$f":"Parameters!P38958","v":0},{"$f":"Parameters!Q38958","v":0},{"$f":"Parameters!R38958","v":0},{"$f":"Parameters!S38958","v":0},{"$f":"Parameters!T38958","v":0},{"$f":"Parameters!U38958","v":0},{"$f":"Parameters!V38958","v":0},{"$f":"Parameters!W38958","v":0},{"$f":"Parameters!X38958","v":0},{"$f":"Parameters!Y38958","v":0},{"$f":"Parameters!Z38958","v":0},{"$f":"Parameters!AA38958","v":0},{"$f":"Parameters!AB38958","v":0},{"$f":"Parameters!AC38958","v":0},{"$f":"Parameters!AD38958","v":0},{"$f":"Parameters!AE38958","v":0},{"$f":"Parameters!AF38958","v":0},{"$f":"Parameters!AG38958","v":0},{"$f":"Parameters!AH38958","v":0},{"$f":"Parameters!AI38958","v":0},{"$f":"Parameters!AJ38958","v":0},{"$f":"Parameters!AK38958","v":0},{"$f":"Parameters!AL38958","v":0},{"$f":"Parameters!AM38958","v":0},{"$f":"Parameters!AN38958","v":0},{"$f":"Parameters!AO38958","v":0},{"$f":"Parameters!AP38958","v":0},{"$f":"Parameters!AQ38958","v":0},{"$f":"Parameters!AR38958","v":0},{"$f":"Parameters!AS38958","v":0},{"$f":"Parameters!AT38958","v":0},{"$f":"Parameters!AU38958","v":0},{"$f":"Parameters!AV38958","v":0},{"$f":"Parameters!AW38958","v":0},{"$f":"Parameters!AX38958","v":0},{"$f":"Parameters!AY38958","v":0},{"$f":"Parameters!AZ38958","v":0},{"$f":"Parameters!BA38958","v":0},{"$f":"Parameters!BB38958","v":0},{"$f":"Parameters!BC38958","v":0},{"$f":"Parameters!BD38958","v":0},{"$f":"Parameters!BE38958","v":0},{"$f":"Parameters!BF38958","v":0},{"$f":"Parameters!BG38958","v":0},{"$f":"Parameters!BH38958","v":0},{"$f":"Parameters!BI38958","v":0},{"$f":"Parameters!BJ38958","v":0},{"$f":"Parameters!BK38958","v":0},{"$f":"Parameters!BL38958","v":0},{"$f":"Parameters!BM38958","v":0},{"$f":"Parameters!BN38958","v":0}]
[1,{"$f":"Parameters!K39013","v":0},{"$f":"Parameters!L39013","v":0},{"$f":"Parameters!M39013","v":0},{"$f":"Parameters!N39013","v":0},{"$f":"Parameters!O39013","v":0},{"$f":"Parameters!P39013","v":0},{"$f":"Parameters!Q39013","v":0},{"$f":"Parameters!R39013","v":0},{"$f":"Parameters!S39013","v":0},{"$f":"Parameters!T39013","v":0},{"$f":"Parameters!U39013","v":0},{"$f":"Parameters!V39013","v":0},{"$f":"Parameters!W39013","v":0},{"$f":"Parameters!X39013","v":0},{"$f":"Parameters!Y39013","v":0},{"$f":"Parameters!Z39013","v":0},{"$f":"Parameters!AA39013","v":0},{"$f":"Parameters!AB39013","v":0},{"$f":"Parameters!AC39013","v":0},{"$f":"Parameters!AD39013","v":0},{"$f":"Parameters!AE39013","v":0},{"$f":"Parameters!AF39013","v":0},{"$f":"Parameters!AG39013","v":0},{"$f":"Parameters!AH39013","v":0},{"$f":"Parameters!AI39013","v":0},{"$f":"Parameters!AJ39013","v":0},{"$f":"Parameters!AK39013","v":0},{"$f":"Parameters!AL39013","v":0},{"$f":"Parameters!AM39013","v":0},{"$f":"Parameters!AN39013","v":0},{"$f":"Parameters!AO39013","v":0},{"$f":"Parameters!AP39013","v":0},{"$f":"Parameters!AQ39013","v":0},{"$f":"Parameters!AR39013","v":0},{"$f":"Parameters!AS39013","v":0},{"$f":"Parameters!AT39013","v":0},{"$f":"Parameters!AU39013","v":0},{"$f":"Parameters!AV39013","v":0},{"$f":"Parameters!AW39013","v":0},{"$f":"Parameters!AX39013","v":0},{"$f":"Parameters!AY39013","v":0},{"$f":"Parameters!AZ39013","v":0},{"$f":"Parameters!BA39013","v":0},{"$f":"Parameters!BB39013","v":0},{"$f":"Parameters!BC39013","v":0},{"$f":"Parameters!BD39013","v":0},{"$f":"Parameters!BE39013","v":0},{"$f":"Parameters!BF39013","v":0},{"$f":"Parameters!BG39013","v":0},{"$f":"Parameters!BH39013","v":0},{"$f":"Parameters!BI39013","v":0},{"$f":"Parameters!BJ39013","v":0},{"$f":"Parameters!BK39013","v":0},{"$f":"Parameters!BL39013","v":0},{"$f":"Parameters!BM39013","v":0},{"$f":"Parameters!BN39013","v":0}]
[{"$f":"CONCATENATE(\"[\",Parameters!B39064,\",\",Parameters!C39064,\",\",Parameters!F39064,\",*,*]:\")","v":"[RE1,TEC154,COM043,*,*]:"}]
[2015,2016,2017,2018,2019,2020,2021,2022,2023,2024,2025,2026,2027,2028,2029,2030,2031,2032,2033,2034,2035,2036,2037,2038,2039,2040,2041,2042,2043,2044,2045,2046,2047,2048,2049,2050,2051,2052,2053,2054,2055,2056,2057,2058,2059,2060,2061,2062,2063,2064,2065,2066,2067,2068,2069,"2070:="]
[1,{"$f":"Parameters!K39172","v":0},{"$f":"Parameters!L39172","v":0},{"$f":"Parameters!M39172","v":0},{"$f":"Parameters!N39172","v":0},{"$f":"Parameters!O39172","v":0},{"$f":"Parameters!P39172","v":0},{"$f":"Parameters!Q39172","v":0},{"$f":"Parameters!R39172","v":0},{"$f":"Parameters!S39172","v":0},{"$f":"Parameters!T39172","v":0},{"$f":"Parameters!U39172","v":0},{"$f":"Parameters!V39172","v":0},{"$f":"Parameters!W39172","v":0},{"$f":"Parameters!X39172","v":0},{"$f":"Parameters!Y39172","v":0},{"$f":"Parameters!Z39172","v":0},{"$f":"Parameters!AA39172","v":0},{"$f":"Parameters!AB39172","v":0},{"$f":"Parameters!AC39172","v":0},{"$f":"Parameters!AD39172","v":0},{"$f":"Parameters!AE39172","v":0},{"$f":"Parameters!AF39172","v":0},{"$f":"Parameters!AG39172","v":0},{"$f":"Parameters!AH39172","v":0},{"$f":"Parameters!AI39172","v":0},{"$f":"Parameters!AJ39172","v":0},{"$f":"Parameters!AK39172","v":0},{"$f":"Parameters!AL39172","v":0},{"$f":"Parameters!AM39172","v":0},{"$f":"Parameters!AN39172","v":0},{"$f":"Parameters!AO39172","v":0},{"$f":"Parameters!AP39172","v":0},{"$f":"Parameters!AQ39172","v":0},{"$f":"Parameters!AR39172","v":0},{"$f":"Parameters!AS39172","v":0},{"$f":"Parameters!AT39172","v":0},{"$f":"Parameters!AU39172","v":0},{"$f":"Parameters!AV39172","v":0},{"$f":"Parameters!AW39172","v":0},{"$f":"Parameters!AX39172","v":0},{"$f":"Parameters!AY39172","v":0},{"$f":"Parameters!AZ39172","v":0},{"$f":"Parameters!BA39172","v":0},{"$f":"Parameters!BB39172","v":0},{"$f":"Parameters!BC39172","v":0},{"$f":"Parameters!BD39172","v":0},{"$f":"Parameters!BE39172","v":0},{"$f":"Parameters!BF39172","v":0},{"$f":"Parameters!BG39172","v":0},{"$f":"Parameters!BH39172","v":0},{"$f":"Parameters!BI39172","v":0},{"$f":"Parameters!BJ39172","v":0},{"$f":"Parameters!BK39172","v":0},{"$f":"Parameters!BL39172","v":0},{"$f":"Parameters!BM39172","v":0},{"$f":"Parameters!BN39172","v":0}]
[1,{"$f":"Parameters!K39259","v":0},{"$f":"Parameters!L39259","v":0},{"$f":"Parameters!M39259","v":0},{"$f":"Parameters!N39259","v":0},{"$f":"Parameters!O39259","v":0},{"$f":"Parameters!P39259","v":0},{"$f":"Parameters!Q39259","v":0},{"$f":"Parameters!R39259","v":0},{"$f":"Parameters!S39259","v":0},{"$f":"Parameters!T39259","v":0},{"$f":"Parameters!U39259","v":0},{"$f":"Parameters!V39259","v":0},{"$f":"Parameters!W39259","v":0},{"$f":"Parameters!X39259","v":0},{"$f":"Parameters!Y39259","v":0},{"$f":"Parameters!Z39259","v":0},{"$f":"Parameters!AA39259","v":0},{"$f":"Parameters!AB39259","v":0},{"$f":"Parameters!AC39259","v":0},{"$f":"Parameters!AD39259","v":0},{"$f":"Parameters!AE39259","v":0},{"$f":"Parameters!AF39259","v":0},{"$f":"Parameters!AG39259","v":0},{"$f":"Parameters!AH39259","v":0},{"$f":"Parameters!AI39259","v":0},{"$f":"Parameters!AJ39259","v":0},{"$f":"Parameters!AK39259","v":0},{"$f":"Parameters!AL39259","v":0},{"$f":"Parameters!AM39259","v":0},{"$f":"Parameters!AN39259","v":0},{"$f":"Parameters!AO39259","v":0},{"$f":"Parameters!AP39259","v":0},{"$f":"Parameters!AQ39259","v":0},{"$f":"Parameters!AR39259","v":0},{"$f":"Parameters!AS39259","v":0},{"$f":"Parameters!AT39259","v":0},{"$f":"Parameters!AU39259","v":0},{"$f":"Parameters!AV39259","v":0},{"$f":"Parameters!AW39259","v":0},{"$f":"Parameters!AX39259","v":0},{"$f":"Parameters!AY39259","v":0},{"$f":"Parameters!AZ39259","v":0},{"$f":"Parameters!BA39259","v":0},{"$f":"Parameters!BB39259","v":0},{"$f":"Parameters!BC39259","v":0},{"$f":"Parameters!BD39259","v":0},{"$f":"Parameters!BE39259","v":0},{"$f":"Parameters!BF39259","v":0},{"$f":"Parameters!BG39259","v":0},{"$f":"Parameters!BH39259","v":0},{"$f":"Parameters!BI39259","v":0},{"$f":"Parameters!BJ39259","v":0},{"$f":"Parameters!BK39259","v":0},{"$f":"Parameters!BL39259","v":0},{"$f":"Parameters!BM39259","v":0},{"$f":"Parameters!BN39259","v":0}]
[2015,2016,2017,2018,2019,2020,2021,2022,2023,2024,2025,2026,2027,2028,2029,2030,2031,2032,2033,2034,2035,2036,2037,2038,2039,2040,2041,2042,2043,2044,2045,2046,2047,2048,2049,2050,2051,2052,2053,2054,2055,2056,2057,2058,2059,2060,2061,2062,2063,2064,2065,2066,2067,2068,2069,"2070:="]
[2015,2016,2017,2018,2019,2020,2021,2022,2023,2024,2025,2026,2027,2028,2029,2030,2031,2032,2033,2034,2035,2036,2037,2038,2039,2040,2041,2042,2043,2044,2045,2046,2047,2048,2049,2050,2051,2052,2053,2054,2055,2056,2057,2058,2059,2060,2061,2062,2063,2064,2065,2066,2067,2068,2069,"2070:="]
[1,{"$f":"Parameters!K39415","v":0},{"$f":"Parameters!L39415","v":0},{"$f":"Parameters!M39415","v":0},{"$f":"Parameters!N39415","v":0},{"$f":"Parameters!O39415","v":0},{"$f":"Parameters!P39415","v":0},{"$f":"Parameters!Q39415","v":0},{"$f":"Parameters!R39415","v":0},{"$f":"Parameters!S39415","v":0},{"$f":"Parameters!T39415","v":0},{"$f":"Parameters!U39415","v":0},{"$f":"Parameters!V39415","v":0},{"$f":"Parameters!W39415","v":0},{"$f":"Parameters!X39415","v":0},{"$f":"Parameters!Y39415","v":0},{"$f":"Parameters!Z39415","v":0},{"$f":"Parameters!AA39415","v":0},{"$f":"Parameters!AB39415","v":0},{"$f":"Parameters!AC39415","v":0},{"$f":"Parameters!AD39415","v":0},{"$f":"Parameters!AE39415","v":0},{"$f":"Parameters!AF39415","v":0},{"$f":"Parameters!AG39415","v":0},{"$f":"Parameters!AH39415","v":0},{"$f":"Parameters!AI39415","v":0},{"$f":"Parameters!AJ39415","v":0},{"$f":"Parameters!AK39415","v":0},{"$f":"Parameters!AL39415","v":0},{"$f":"Parameters!AM39415","v":0},{"$f":"Parameters!AN39415","v":0},{"$f":"Parameters!AO39415","v":0},{"$f":"Parameters!AP39415","v":0},{"$f":"Parameters!AQ39415","v":0},{"$f":"Parameters!AR39415","v":0},{"$f":"Parameters!AS39415","v":0},{"$f":"Parameters!AT39415","v":0},{"$f":"Parameters!AU39415","v":0},{"$f":"Parameters!AV39415","v":0},{"$f":"Parameters!AW39415","v":0},{"$f":"Parameters!AX39415","v":0},{"$f":"Parameters!AY39415","v":0},{"$f":"Parameters!AZ39415","v":0},{"$f":"Parameters!BA39415","v":0},{"$f":"Parameters!BB39415","v":0},{"$f":"Parameters!BC39415","v":0},{"$f":"Parameters!BD39415","v":0},{"$f":"Parameters!BE39415","v":0},{"$f":"Parameters!BF39415","v":0},{"$f":"Parameters!BG39415","v":0},{"$f":"Parameters!BH39415","v":0},{"$f":"Parameters!BI39415","v":0},{"$f":"Parameters!BJ39415","v":0},{"$f":"Parameters!BK39415","v":0},{"$f":"Parameters!BL39415","v":0},{"$f":"Parameters!BM39415","v":0},{"$f":"Parameters!BN39415","v":0}]
[{"$f":"CONCATENATE(\"[\",Parameters!B39502,\",\",Parameters!C39502,\",\",Parameters!F39502,\",*,*]:\")","v":"[RE1,TEC163,COM031,*,*]:"}]
[{"$f":"CONCATENATE(\"[\",Parameters!B39526,\",\",Parameters!C39526,\",\",Parameters!F39526,\",*,*]:\")","v":"[RE1,TEC164,NGS,*,*]:"}]
[1,{"$f":"Parameters!K39610","v":0},{"$f":"Parameters!L39610","v":0},{"$f":"Parameters!M39610","v":0},{"$f":"Parameters!N39610","v":0},{"$f":"Parameters!O39610","v":0},{"$f":"Parameters!P39610","v":0},{"$f":"Parameters!Q39610","v":0},{"$f":"Parameters!R39610","v":0},{"$f":"Parameters!S39610","v":0},{"$f":"Parameters!T39610","v":0},{"$f":"Parameters!U39610","v":0},{"$f":"Parameters!V39610","v":0},{"$f":"Parameters!W39610","v":0},{"$f":"Parameters!X39610","v":0},{"$f":"Parameters!Y39610","v":0},{"$f":"Parameters!Z39610","v":0},{"$f":"Parameters!AA39610","v":0},{"$f":"Parameters!AB39610","v":0},{"$f":"Parameters!AC39610","v":0},{"$f":"Parameters!AD39610","v":0},{"$f":"Parameters!AE39610","v":0},{"$f":"Parameters!AF39610","v":0},{"$f":"Parameters!AG39610","v":0},{"$f":"Parameters!AH39610","v":0},{"$f":"Parameters!AI39610","v":0},{"$f":"Parameters!AJ39610","v":0},{"$f":"Parameters!AK39610","v":0},{"$f":"Parameters!AL39610","v":0},{"$f":"Parameters!AM39610","v":0},{"$f":"Parameters!AN39610","v":0},{"$f":"Parameters!AO39610","v":0},{"$f":"Parameters!AP39610","v":0},{"$f":"Parameters!AQ39610","v":0},{"$f":"Parameters!AR39610","v":0},{"$f":"Parameters!AS39610","v":0},{"$f":"Parameters!AT39610","v":0},{"$f":"Parameters!AU39610","v":0},{"$f":"Parameters!AV39610","v":0},{"$f":"Parameters!AW39610","v":0},{"$f":"Parameters!AX39610","v":0},{"$f":"Parameters!AY39610","v":0},{"$f":"Parameters!AZ39610","v":0},{"$f":"Parameters!BA39610","v":0},{"$f":"Parameters!BB39610","v":0},{"$f":"Parameters!BC39610","v":0},{"$f":"Parameters!BD39610","v":0},{"$f":"Parameters!BE39610","v":0},{"$f":"Parameters!BF39610","v":0},{"$f":"Parameters!BG39610","v":0},{"$f":"Parameters!BH39610","v":0},{"$f":"Parameters!BI39610","v":0},{"$f":"Parameters!BJ39610","v":0},{"$f":"Parameters!BK39610","v":0},{"$f":"Parameters!BL39610","v":0},{"$f":"Parameters!BM39610","v":0},{"$f":"Parameters!BN39610","v":0}]
[1,{"$f":"Parameters!K39661","v":0},{"$f":"Parameters!L39661","v":0},{"$f":"Parameters!M39661","v":0},{"$f":"Parameters!N39661","v":0},{"$f":"Parameters!O39661","v":0},{"$f":"Parameters!P39661","v":0},{"$f":"Parameters!Q39661","v":0},{"$f":"Parameters!R39661","v":0},{"$f":"Parameters!S39661","v":0},{"$f":"Parameters!T39661","v":0},{"$f":"Parameters!U39661","v":0},{"$f":"Parameters!V39661","v":0},{"$f":"Parameters!W39661","v":0},{"$f":"Parameters!X39661","v":0},{"$f":"Parameters!Y39661","v":0},{"$f":"Parameters!Z39661","v":0},{"$f":"Parameters!AA39661","v":0},{"$f":"Parameters!AB39661","v":0},{"$f":"Parameters!AC39661","v":0},{"$f":"Parameters!AD39661","v":0},{"$f":"Parameters!AE39661","v":0},{"$f":"Parameters!AF39661","v":0},{"$f":"Parameters!AG39661","v":0},{"$f":"Parameters!AH39661","v":0},{"$f":"Parameters!AI39661","v":0},{"$f":"Parameters!AJ39661","v":0},{"$f":"Parameters!AK39661","v":0},{"$f":"Parameters!AL39661","v":0},{"$f":"Parameters!AM39661","v":0},{"$f":"Parameters!AN39661","v":0},{"$f":"Parameters!AO39661","v":0},{"$f":"Parameters!AP39661","v":0},{"$f":"Parameters!AQ39661","v":0},{"$f":"Parameters!AR39661","v":0},{"$f":"Parameters!AS39661","v":0},{"$f":"Parameters!AT39661","v":0},{"$f":"Parameters!AU39661","v":0},{"$f":"Parameters!AV39661","v":0},{"$f":"Parameters!AW39661","v":0},{"$f":"Parameters!AX39661","v":0},{"$f":"Parameters!AY39661","v":0},{"$f":"Parameters!AZ39661","v":0},{"$f":"Parameters!BA39661","v":0},{"$f":"Parameters!BB39661","v":0},{"$f":"Parameters!BC39661","v":0},{"$f":"Parameters!BD39661","v":0},{"$f":"Parameters!BE39661","v":0},{"$f":"Parameters!BF39661","v":0},{"$f":"Parameters!BG39661","v":0},{"$f":"Parameters!BH39661","v":0},{"$f":"Parameters!BI39661","v":0},{"$f":"Parameters!BJ39661","v":0},{"$f":"Parameters!BK39661","v":0},{"$f":"Parameters!BL39661","v":0},{"$f":"Parameters!BM39661","v":0},{"$f":"Parameters!BN39661","v":0}]
[{"$f":"CONCATENATE(\"[\",Parameters!B39742,\",\",Parameters!C39742,\",\",Parameters!F39742,\",*,*]:\")","v":"[RE1,TEC168,INDHEL,*,*]:"}]
[{"$f":"CONCATENATE(\"[\",Parameters!B39771,\",\",Parameters!C39771,\",\",Parameters!F39771,\",*,*]:\")","v":"[RE1,TEC168,COM050,*,*]:"}]
[2015,2016,2017,2018,2019,2020,2021,2022,2023,2024,2025,2026,2027,2028,2029,2030,2031,2032,2033,2034,2035,2036,2037,2038,2039,2040,2041,2042,2043,2044,2045,2046,2047,2048,2049,2050,2051,2052,2053,2054,2055,2056,2057,2058,2059,2060,2061,2062,2063,2064,2065,2066,2067,2068,2069,"2070:="]
[{"$f":"CONCATENATE(\"[\",Parameters!B39940,\",\",Parameters!C39940,\",\",Parameters!F39940,\",*,*]:\")","v":"[RE1,TEC172,INDELC,*,*]:"}]
[{"$f":"CONCATENATE(\"[\",Parameters!B39988,\",\",Parameters!C39988,\",\",Parameters!F39988,\",*,*]:\")","v":"[RE1,TEC173,TRACAR,*,*]:"}]
[1,{"$f":"Parameters!K40043","v":0},{"$f":"Parameters!L40043","v":0},{"$f":"Parameters!M40043","v":0},{"$f":"Parameters!N40043","v":0},{"$f":"Parameters!O40043","v":0},{"$f":"Parameters!P40043","v":0},{"$f":"Parameters!Q40043","v":0},{"$f":"Parameters!R40043","v":0},{"$f":"Parameters!S40043","v":0},{"$f":"Parameters!T40043","v":0},{"$f":"Parameters!U40043","v":0},{"$f":"Parameters!V40043","v":0},{"$f":"Parameters!W40043","v":0},{"$f":"Parameters!X40043","v":0},{"$f":"Parameters!Y40043","v":0},{"$f":"Parameters!Z40043","v":0},{"$f":"Parameters!AA40043","v":0},{"$f":"Parameters!AB40043","v":0},{"$f":"Parameters!AC40043","v":0},{"$f":"Parameters!AD40043","v":0},{"$f":"Parameters!AE40043","v":0},{"$f":"Parameters!AF40043","v":0},{"$f":"Parameters!AG40043","v":0},{"$f":"Parameters!AH40043","v":0},{"$f":"Parameters!AI40043","v":0},{"$f":"Parameters!AJ40043","v":0},{"$f":"Parameters!AK40043","v":0},{"$f":"Parameters!AL40043","v":0},{"$f":"Parameters!AM40043","v":0},{"$f":"Parameters!AN40043","v":0},{"$f":"Parameters!AO40043","v":0},{"$f":"Parameters!AP40043","v":0},{"$f":"Parameters!AQ40043","v":0},{"$f":"Parameters!AR40043","v":0},{"$f":"Parameters!AS40043","v":0},{"$f":"Parameters!AT40043","v":0},{"$f":"Parameters!AU40043","v":0},{"$f":"Parameters!AV40043","v":0},{"$f":"Parameters!AW40043","v":0},{"$f":"Parameters!AX40043","v":0},{"$f":"Parameters!AY40043","v":0},{"$f":"Parameters!AZ40043","v":0},{"$f":"Parameters!BA40043","v":0},{"$f":"Parameters!BB40043","v":0},{"$f":"Parameters!BC40043","v":0},{"$f":"Parameters!BD40043","v":0},{"$f":"Parameters!BE40043","v":0},{"$f":"Parameters!BF40043","v":0},{"$f":"Parameters!BG40043","v":0},{"$f":"Parameters!BH40043","v":0},{"$f":"Parameters!BI40043","v":0},{"$f":"Parameters!BJ40043","v":0},{"$f":"Parameters!BK40043","v":0},{"$f":"Parameters!BL40043","v":0},{"$f":"Parameters!BM40043","v":0},{"$f":"Parameters!BN40043","v":0}]
[1,{"$f":"Parameters!K40063","v":0},{"$f":"Parameters!L40063","v":0},{"$f":"Parameters!M40063","v":0},{"$f":"Parameters!N40063","v":0},{"$f":"Parameters!O40063","v":0},{"$f":"Parameters!P40063","v":0},{"$f":"Parameters!Q40063","v":0},{"$f":"Parameters!R40063","v":0},{"$f":"Parameters!S40063","v":0},{"$f":"Parameters!T40063","v":0},{"$f":"Parameters!U40063","v":0},{"$f":"Parameters!V40063","v":0},{"$f":"Parameters!W40063","v":0},{"$f":"Parameters!X40063","v":0},{"$f":"Parameters!Y40063","v":0},{"$f":"Parameters!Z40063","v":0},{"$f":"Parameters!AA40063","v":0},{"$f":"Parameters!AB40063","v":0},{"$f":"Parameters!AC40063","v":0},{"$f":"Parameters!AD40063","v":0},{"$f":"Parameters!AE40063","v":0},{"$f":"Parameters!AF40063","v":0},{"$f":"Parameters!AG40063","v":0},{"$f":"Parameters!AH40063","v":0},{"$f":"Parameters!AI40063","v":0},{"$f":"Parameters!AJ40063","v":0},{"$f":"Parameters!AK40063","v":0},{"$f":"Parameters!AL40063","v":0},{"$f":"Parameters!AM40063","v":0},{"$f":"Parameters!AN40063","v":0},{"$f":"Parameters!AO40063","v":0},{"$f":"Parameters!AP40063","v":0},{"$f":"Parameters!AQ40063","v":0},{"$f":"Parameters!AR40063","v":0},{"$f":"Parameters!AS40063","v":0},{"$f":"Parameters!AT40063","v":0},{"$f":"Parameters!AU40063","v":0},{"$f":"Parameters!AV40063","v":0},{"$f":"Parameters!AW40063","v":0},{"$f":"Parameters!AX40063","v":0},{"$f":"Parameters!AY40063","v":0},{"$f":"Parameters!AZ40063","v":0},{"$f":"Parameters!BA40063","v":0},{"$f":"Parameters!BB40063","v":0},{"$f":"Parameters!BC40063","v":0},{"$f":"Parameters!BD40063","v":0},{"$f":"Parameters!BE40063","v":0},{"$f":"Parameters!BF40063","v":0},{"$f":"Parameters!BG40063","v":0},{"$f":"Parameters!BH40063","v":0},{"$f":"Parameters!BI40063","v":0},{"$f":"Parameters!BJ40063","v":0},{"$f":"Parameters!BK40063","v":0},{"$f":"Parameters!BL40063","v":0},{"$f":"Parameters!BM40063","v":0},{"$f":"Parameters!BN40063","v":0}]
[1,{"$f":"Parameters!K40178","v":0},{"$f":"Parameters!L40178","v":0},{"$f":"Parameters!M40178","v":0},{"$f":"Parameters!N40178","v":0},{"$f":"Parameters!O40178","v":0},{"$f":"Parameters!P40178","v":0},{"$f":"Parameters!Q40178","v":0},{"$f":"Parameters!R40178","v":0},{"$f":"Parameters!S40178","v":0},{"$f":"Parameters!T40178","v":0},{"$f":"Parameters!U40178","v":0},{"$f":"Parameters!V40178","v":0},{"$f":"Parameters!W40178","v":0},{"$f":"Parameters!X40178","v":0},{"$f":"Parameters!Y40178","v":0},{"$f":"Parameters!Z40178","v":0},{"$f":"Parameters!AA40178","v":0},{"$f":"Parameters!AB40178","v":0},{"$f":"Parameters!AC40178","v":0},{"$f":"Parameters!AD40178","v":0},{"$f":"Parameters!AE40178","v":0},{"$f":"Parameters!AF40178","v":0},{"$f":"Parameters!AG40178","v":0},{"$f":"Parameters!AH40178","v":0},{"$f":"Parameters!AI40178","v":0},{"$f":"Parameters!AJ40178","v":0},{"$f":"Parameters!AK40178","v":0},{"$f":"Parameters!AL40178","v":0},{"$f":"Parameters!AM40178","v":0},{"$f":"Parameters!AN40178","v":0},{"$f":"Parameters!AO40178","v":0},{"$f":"Parameters!AP40178","v":0},{"$f":"Parameters!AQ40178","v":0},{"$f":"Parameters!AR40178","v":0},{"$f":"Parameters!AS40178","v":0},{"$f":"Parameters!AT40178","v":0},{"$f":"Parameters!AU40178","v":0},{"$f":"Parameters!AV40178","v":0},{"$f":"Parameters!AW40178","v":0},{"$f":"Parameters!AX40178","v":0},{"$f":"Parameters!AY40178","v":0},{"$f":"Parameters!AZ40178","v":0},{"$f":"Parameters!BA40178","v":0},{"$f":"Parameters!BB40178","v":0},{"$f":"Parameters!BC40178","v":0},{"$f":"Parameters!BD40178","v":0},{"$f":"Parameters!BE40178","v":0},{"$f":"Parameters!BF40178","v":0},{"$f":"Parameters!BG40178","v":0},{"$f":"Parameters!BH40178","v":0},{"$f":"Parameters!BI40178","v":0},{"$f":"Parameters!BJ40178","v":0},{"$f":"Parameters!BK40178","v":0},{"$f":"Parameters!BL40178","v":0},{"$f":"Parameters!BM40178","v":0},{"$f":"Parameters!BN40178","v":0}]
[{"$f":"CONCATENATE(\"[\",Parameters!B40209,\",\",Parameters!C40209,\",\",Parameters!F40209,\",*,*]:\")","v":"[RE1,TEC177,COM038,*,*]:"}]
[2015,2016,2017,2018,2019,2020,2021,2022,2023,2024,2025,2026,2027,2028,2029,2030,2031,2032,2033,2034,2035,2036,2037,2038,2039,2040,2041,2042,2043,2044,2045,2046,2047,2048,2049,2050,2051,2052,2053,2054,2055,2056,2057,2058,2059,2060,2061,2062,2063,2064,2065,2066,2067,2068,2069,"2070:="]
[1,{"$f":"Parameters!K40312","v":0},{"$f":"Parameters!L40312","v":0},{"$f":"Parameters!M40312","v":0},{"$f":"Parameters!N40312","v":0},{"$f":"Parameters!O40312","v":0},{"$f":"Parameters!P40312","v":0},{"$f":"Parameters!Q40312","v":0},{"$f":"Parameters!R40312","v":0},{"$f":"Parameters!S40312","v":0},{"$f":"Parameters!T40312","v":0},{"$f":"Parameters!U40312","v":0},{"$f":"Parameters!V40312","v":0},{"$f":"Parameters!W40312","v":0},{"$f":"Parameters!X40312","v":0},{"$f":"Parameters!Y40312","v":0},{"$f":"Parameters!Z40312","v":0},{"$f":"Parameters!AA40312","v":0},{"$f":"Parameters!AB40312","v":0},{"$f":"Parameters!AC40312","v":0},{"$f":"Parameters!AD40312","v":0},{"$f":"Parameters!AE40312","v":0},{"$f":"Parameters!AF40312","v":0},{"$f":"Parameters!AG40312","v":0},{"$f":"Parameters!AH40312","v":0},{"$f":"Parameters!AI40312","v":0},{"$f":"Parameters!AJ40312","v":0},{"$f":"Parameters!AK40312","v":0},{"$f":"Parameters!AL40312","v":0},{"$f":"Parameters!AM40312","v":0},{"$f":"Parameters!AN40312","v":0},{"$f":"Parameters!AO40312","v":0},{"$f":"Parameters!AP40312","v":0},{"$f":"Parameters!AQ40312","v":0},{"$f":"Parameters!AR40312","v":0},{"$f":"Parameters!AS40312","v":0},{"$f":"Parameters!AT40312","v":0},{"$f":"Parameters!AU40312","v":0},{"$f":"Parameters!AV40312","v":0},{"$f":"Parameters!AW40312","v":0},{"$f":"Parameters!AX40312","v":0},{"$f":"Parameters!AY40312","v":0},{"$f":"Parameters!AZ40312","v":0},{"$f":"Parameters!BA40312","v":0},{"$f":"Parameters!BB40312","v":0},{"$f":"Parameters!BC40312","v":0},{"$f":"Parameters!BD40312","v":0},{"$f":"Parameters!BE40312","v":0},{"$f":"Parameters!BF40312","v":0},{"$f":"Parameters!BG40312","v":0},{"$f":"Parameters!BH40312","v":0},{"$f":"Parameters!BI40312","v":0},{"$f":"Parameters!BJ40312","v":0},{"$f":"Parameters!BK40312","v":0},{"$f":"Parameters!BL40312","v":0},{"$f":"Parameters!BM40312","v":0},{"$f":"Parameters!BN40312","v":0}]
[{"$f":"CONCATENATE(\"[\",Parameters!B40390,\",\",Parameters!C40390,\",\",Parameters!F40390,\",*,*]:\")","v":"[RE1,TEC181,INDELC,*,*]:"}]
[1,{"$f":"Parameters!K40481","v":0},{"$f":"Parameters!L40481","v":0},{"$f":"Parameters!M40481","v":0},{"$f":"Parameters!N40481","v":0},{"$f":"Parameters!O40481","v":0},{"$f":"Parameters!P40481","v":0},{"$f":"Parameters!Q40481","v":0},{"$f":"Parameters!R40481","v":0},{"$f":"Parameters!S40481","v":0},{"$f":"Parameters!T40481","v":0},{"$f":"Parameters!U40481","v":0},{"$f":"Parameters!V40481","v":0},{"$f":"Parameters!W40481","v":0},{"$f":"Parameters!X40481","v":0},{"$f":"Parameters!Y40481","v":0},{"$f":"Parameters!Z40481","v":0},{"$f":"Parameters!AA40481","v":0},{"$f":"Parameters!AB40481","v":0},{"$f":"Parameters!AC40481","v":0},{"$f":"Parameters!AD40481","v":0},{"$f":"Parameters!AE40481","v":0},{"$f":"Parameters!AF40481","v":0},{"$f":"Parameters!AG40481","v":0},{"$f":"Parameters!AH40481","v":0},{"$f":"Parameters!AI40481","v":0},{"$f":"Parameters!AJ40481","v":0},{"$f":"Parameters!AK40481","v":0},{"$f":"Parameters!AL40481","v":0},{"$f":"Parameters!AM40481","v":0},{"$f":"Parameters!AN40481","v":0},{"$f":"Parameters!AO40481","v":0},{"$f":"Parameters!AP40481","v":0},{"$f":"Parameters!AQ40481","v":0},{"$f":"Parameters!AR40481","v":0},{"$f":"Parameters!AS40481","v":0},{"$f":"Parameters!AT40481","v":0},{"$f":"Parameters!AU40481","v":0},{"$f":"Parameters!AV40481","v":0},{"$f":"Parameters!AW40481","v":0},{"$f":"Parameters!AX40481","v":0},{"$f":"Parameters!AY40481","v":0},{"$f":"Parameters!AZ40481","v":0},{"$f":"Parameters!BA40481","v":0},{"$f":"Parameters!BB40481","v":0},{"$f":"Parameters!BC40481","v":0},{"$f":"Parameters!BD40481","v":0},{"$f":"Parameters!BE40481","v":0},{"$f":"Parameters!BF40481","v":0},{"$f":"Parameters!BG40481","v":0},{"$f":"Parameters!BH40481","v":0},{"$f":"Parameters!BI40481","v":0},{"$f":"Parameters!BJ40481","v":0},{"$f":"Parameters!BK40481","v":0},{"$f":"Parameters!BL40481","v":0},{"$f":"Parameters!BM40481","v":0},{"$f":"Parameters!BN40481","v":0}]
[2015,2016,2017,2018,2019,2020,2021,2022,2023,2024,2025,2026,2027,2028,2029,2030,2031,2032,2033,2034,2035,2036,2037,2038,2039,2040,2041,2042,2043,2044,2045,2046,2047,2048,2049,2050,2051,2052,2053,2054,2055,2056,2057,2058,2059,2060,2061,2062,2063,2064,2065,2066,2067,2068,2069,"2070:="]
[1,{"$f":"Parameters!K40580","v":0},{"$f":"Parameters!L40580","v":0},{"$f":"Parameters!M40580","v":0},{"$f":"Parameters!N40580","v":0},{"$f":"Parameters!O40580","v":0},{"$f":"Parameters!P40580","v":0},{"$f":"Parameters!Q40580","v":0},{"$f":"Parameters!R40580","v":0},{"$f":"Parameters!S40580","v":0},{"$f":"Parameters!T40580","v":0},{"$f":"Parameters!U40580","v":0},{"$f":"Parameters!V40580","v":0},{"$f":"Parameters!W40580","v":0},{"$f":"Parameters!X40580","v":0},{"$f":"Parameters!Y40580","v":0},{"$f":"Parameters!Z40580","v":0},{"$f":"Parameters!AA40580","v":0},{"$f":"Parameters!AB40580","v":0},{"$f":"Parameters!AC40580","v":0},{"$f":"Parameters!AD40580","v":0},{"$f":"Parameters!AE40580","v":0},{"$f":"Parameters!AF40580","v":0},{"$f":"Parameters!AG40580","v":0},{"$f":"Parameters!AH40580","v":0},{"$f":"Parameters!AI40580","v":0},{"$f":"Parameters!AJ40580","v":0},{"$f":"Parameters!AK40580","v":0},{"$f":"Parameters!AL40580","v":0},{"$f":"Parameters!AM40580","v":0},{"$f":"Parameters!AN40580","v":0},{"$f":"Parameters!AO40580","v":0},{"$f":"Parameters!AP40580","v":0},{"$f":"Parameters!AQ40580","v":0},{"$f":"Parameters!AR40580","v":0},{"$f":"Parameters!AS40580","v":0},{"$f":"Parameters!AT40580","v":0},{"$f":"Parameters!AU40580","v":0},{"$f":"Parameters!AV40580","v":0},{"$f":"Parameters!AW40580","v":0},{"$f":"Parameters!AX40580","v":0},{"$f":"Parameters!AY40580","v":0},{"$f":"Parameters!AZ40580","v":0},{"$f":"Parameters!BA40580","v":0},{"$f":"Parameters!BB40580","v":0},{"$f":"Parameters!BC40580","v":0},{"$f":"Parameters!BD40580","v":0},{"$f":"Parameters!BE40580","v":0},{"$f":"Parameters!BF40580","v":0},{"$f":"Parameters!BG40580","v":0},{"$f":"Parameters!BH40580","v":0},{"$f":"Parameters!BI40580","v":0},{"$f":"Parameters!BJ40580","v":0},{"$f":"Parameters!BK40580","v":0},{"$f":"Parameters!BL40580","v":0},{"$f":"Parameters!BM40580","v":0},{"$f":"Parameters!BN40580","v":0}]
[{"$f":"CONCATENATE(\"[\",Parameters!B40642,\",\",Parameters!C40642,\",\",Parameters!F40642,\",*,*]:\")","v":"[RE1,TEC186,INDHEL,*,*]:"}]
[2015,2016,2017,2018,2019,2020,2021,2022,2023,2024,2025,2026,2027,2028,2029,2030,2031,2032,2033,2034,2035,2036,2037,2038,2039,2040,2041,2042,2043,2044,2045,2046,2047,2048,2049,2050,2051,2052,2053,2054,2055,2056,2057,2058,2059,2060,2061,2062,2063,2064,2065,2066,2067,2068,2069,"2070:="]
[1,{"$f":"Parameters!K40750","v":0},{"$f":"Parameters!L40750","v":0},{"$f":"Parameters!M40750","v":0},{"$f":"Parameters!N40750","v":0},{"$f":"Parameters!O40750","v":0},{"$f":"Parameters!P40750","v":0},{"$f":"Parameters!Q40750","v":0},{"$f":"Parameters!R40750","v":0},{"$f":"Parameters!S40750","v":0},{"$f":"Parameters!T40750","v":0},{"$f":"Parameters!U40750","v":0},{"$f":"Parameters!V40750","v":0},{"$f":"Parameters!W40750","v":0},{"$f":"Parameters!X40750","v":0},{"$f":"Parameters!Y40750","v":0},{"$f":"Parameters!Z40750","v":0},{"$f":"Parameters!AA40750","v":0},{"$f":"Parameters!AB40750","v":0},{"$f":"Parameters!AC40750","v":0},{"$f":"Parameters!AD40750","v":0},{"$f":"Parameters!AE40750","v":0},{"$f":"Parameters!AF40750","v":0},{"$f":"Parameters!AG40750","v":0},{"$f":"Parameters!AH40750","v":0},{"$f":"Parameters!AI40750","v":0},{"$f":"Parameters!AJ40750","v":0},{"$f":"Parameters!AK40750","v":0},{"$f":"Parameters!AL40750","v":0},{"$f":"Parameters!AM40750","v":0},{"$f":"Parameters!AN40750","v":0},{"$f":"Parameters!AO40750","v":0},{"$f":"Parameters!AP40750","v":0},{"$f":"Parameters!AQ40750","v":0},{"$f":"Parameters!AR40750","v":0},{"$f":"Parameters!AS40750","v":0},{"$f":"Parameters!AT40750","v":0},{"$f":"Parameters!AU40750","v":0},{"$f":"Parameters!AV40750","v":0},{"$f":"Parameters!AW40750","v":0},{"$f":"Parameters!AX40750","v":0},{"$f":"Parameters!AY40750","v":0},{"$f":"Parameters!AZ40750","v":0},{"$f":"Parameters!BA40750","v":0},{"$f":"Parameters!BB40750","v":0},{"$f":"Parameters!BC40750","v":0},{"$f":"Parameters!BD40750","v":0},{"$f":"Parameters!BE40750","v":0},{"$f":"Parameters!BF40750","v":0},{"$f":"Parameters!BG40750","v":0},{"$f":"Parameters!BH40750","v":0},{"$f":"Parameters!BI40750","v":0},{"$f":"Parameters!BJ40750","v":0},{"$f":"Parameters!BK40750","v":0},{"$f":"Parameters!BL40750","v":0},{"$f":"Parameters!BM40750","v":0},{"$f":"Parameters!BN40750","v":0}]
[1,{"$f":"Parameters!K40826","v":0},{"$f":"Parameters!L40826","v":0},{"$f":"Parameters!M40826","v":0},{"$f":"Parameters!N40826","v":0},{"$f":"Parameters!O40826","v":0},{"$f":"Parameters!P40826","v":0},{"$f":"Parameters!Q40826","v":0},{"$f":"Parameters!R40826","v":0},{"$f":"Parameters!S40826","v":0},{"$f":"Parameters!T40826","v":0},{"$f":"Parameters!U40826","v":0},{"$f":"Parameters!V40826","v":0},{"$f":"Parameters!W40826","v":0},{"$f":"Parameters!X40826","v":0},{"$f":"Parameters!Y40826","v":0},{"$f":"Parameters!Z40826","v":0},{"$f":"Parameters!AA40826","v":0},{"$f":"Parameters!AB40826","v":0},{"$f":"Parameters!AC40826","v":0},{"$f":"Parameters!AD40826","v":0},{"$f":"Parameters!AE40826","v":0},{"$f":"Parameters!AF40826","v":0},{"$f":"Parameters!AG40826","v":0},{"$f":"Parameters!AH40826","v":0},{"$f":"Parameters!AI40826","v":0},{"$f":"Parameters!AJ40826","v":0},{"$f":"Parameters!AK40826","v":0},{"$f":"Parameters!AL40826","v":0},{"$f":"Parameters!AM40826","v":0},{"$f":"Parameters!AN40826","v":0},{"$f":"Parameters!AO40826","v":0},{"$f":"Parameters!AP40826","v":0},{"$f":"Parameters!AQ40826","v":0},{"$f":"Parameters!AR40826","v":0},{"$f":"Parameters!AS40826","v":0},{"$f":"Parameters!AT40826","v":0},{"$f":"Parameters!AU40826","v":0},{"$f":"Parameters!AV40826","v":0},{"$f":"Parameters!AW40826","v":0},{"$f":"Parameters!AX40826","v":0},{"$f":"Parameters!AY40826","v":0},{"$f":"Parameters!AZ40826","v":0},{"$f":"Parameters!BA40826","v":0},{"$f":"Parameters!BB40826","v":0},{"$f":"Parameters!BC40826","v":0},{"$f":"Parameters!BD40826","v":0},{"$f":"Parameters!BE40826","v":0},{"$f":"Parameters!BF40826","v":0},{"$f":"Parameters!BG40826","v":0},{"$f":"Parameters!BH40826","v":0},{"$f":"Parameters!BI40826","v":0},{"$f":"Parameters!BJ40826","v":0},{"$f":"Parameters!BK40826","v":0},{"$f":"Parameters!BL40826","v":0},{"$f":"Parameters!BM40826","v":0},{"$f":"Parameters!BN40826","v":0}]
[{"$f":"CONCATENATE(\"[\",Parameters!B40847,\",\",Parameters!C40847,\",\",Parameters!F40847,\",*,*]:\")","v":"[RE1,TEC190,COMHEL,*,*]:"}]
[{"$f":"CONCATENATE(\"[\",Parameters!B40911,\",\",Parameters!C40911,\",\",Parameters!F40911,\",*,*]:\")","v":"[RE1,TEC191,COM040,*,*]:"}]
[1,{"$f":"Parameters!K40982","v":0},{"$f":"Parameters!L40982","v":0},{"$f":"Parameters!M40982","v":0},{"$f":"Parameters!N40982","v":0},{"$f":"Parameters!O40982","v":0},{"$f":"Parameters!P40982","v":0},{"$f":"Parameters!Q40982","v":0},{"$f":"Parameters!R40982","v":0},{"$f":"Parameters!S40982","v":0},{"$f":"Parameters!T40982","v":0},{"$f":"Parameters!U40982","v":0},{"$f":"Parameters!V40982","v":0},{"$f":"Parameters!W40982","v":0},{"$f":"Parameters!X40982","v":0},{"$f":"Parameters!Y40982","v":0},{"$f":"Parameters!Z40982","v":0},{"$f":"Parameters!AA40982","v":0},{"$f":"Parameters!AB40982","v":0},{"$f":"Parameters!AC40982","v":0},{"$f":"Parameters!AD40982","v":0},{"$f":"Parameters!AE40982","v":0},{"$f":"Parameters!AF40982","v":0},{"$f":"Parameters!AG40982","v":0},{"$f":"Parameters!AH40982","v":0},{"$f":"Parameters!AI40982","v":0},{"$f":"Parameters!AJ40982","v":0},{"$f":"Parameters!AK40982","v":0},{"$f":"Parameters!AL40982","v":0},{"$f":"Parameters!AM40982","v":0},{"$f":"Parameters!AN40982","v":0},{"$f":"Parameters!AO40982","v":0},{"$f":"Parameters!AP40982","v":0},{"$f":"Parameters!AQ40982","v":0},{"$f":"Parameters!AR40982","v":0},{"$f":"Parameters!AS40982","v":0},{"$f":"Parameters!AT40982","v":0},{"$f":"Parameters!AU40982","v":0},{"$f":"Parameters!AV40982","v":0},{"$f":"Parameters!AW40982","v":0},{"$f":"Parameters!AX40982","v":0},{"$f":"Parameters!AY40982","v":0},{"$f":"Parameters!AZ40982","v":0},{"$f":"Parameters!BA40982","v":0},{"$f":"Parameters!BB40982","v":0},{"$f":"Parameters!BC40982","v":0},{"$f":"Parameters!BD40982","v":0},{"$f":"Parameters!BE40982","v":0},{"$f":"Parameters!BF40982","v":0},{"$f":"Parameters!BG40982","v":0},{"$f":"Parameters!BH40982","v":0},{"$f":"Parameters!BI40982","v":0},{"$f":"Parameters!BJ40982","v":0},{"$f":"Parameters!BK40982","v":0},{"$f":"Parameters!BL40982","v":0},{"$f":"Parameters!BM40982","v":0},{"$f":"Parameters!BN40982","v":0}]
[{"$f":"CONCATENATE(\"[\",Parameters!B41080,\",\",Parameters!C41080,\",\",Parameters!F41080,\",*,*]:\")","v":"[RE1,TEC195,WND,*,*]:"}]
[{"$f":"CONCATENATE(\"[\",Parameters!B41093,\",\",Parameters!C41093,\",\",Parameters!F41093,\",*,*]:\")","v":"[RE1,TEC195,RESELC,*,*]:"}]
[1,{"$f":"Parameters!K41188","v":0},{"$f":"Parameters!L41188","v":0},{"$f":"Parameters!M41188","v":0},{"$f":"Parameters!N41188","v":0},{"$f":"Parameters!O41188","v":0},{"$f":"Parameters!P41188","v":0},{"$f":"Parameters!Q41188","v":0},{"$f":"Parameters!R41188","v":0},{"$f":"Parameters!S41188","v":0},{"$f":"Parameters!T41188","v":0},{"$f":"Parameters!U41188","v":0},{"$f":"Parameters!V41188","v":0},{"$f":"Parameters!W41188","v":0},{"$f":"Parameters!X41188","v":0},{"$f":"Parameters!Y41188","v":0},{"$f":"Parameters!Z41188","v":0},{"$f":"Parameters!AA41188","v":0},{"$f":"Parameters!AB41188","v":0},{"$f":"Parameters!AC41188","v":0},{"$f":"Parameters!AD41188","v":0},{"$f":"Parameters!AE41188","v":0},{"$f":"Parameters!AF41188","v":0},{"$f":"Parameters!AG41188","v":0},{"$f":"Parameters!AH41188","v":0},{"$f":"Parameters!AI41188","v":0},{"$f":"Parameters!AJ41188","v":0},{"$f":"Parameters!AK41188","v":0},{"$f":"Parameters!AL41188","v":0},{"$f":"Parameters!AM41188","v":0},{"$f":"Parameters!AN41188","v":0},{"$f":"Parameters!AO41188","v":0},{"$f":"Parameters!AP41188","v":0},{"$f":"Parameters!AQ41188","v":0},{"$f":"Parameters!AR41188","v":0},{"$f":"Parameters!AS41188","v":0},{"$f":"Parameters!AT41188","v":0},{"$f":"Parameters!AU41188","v":0},{"$f":"Parameters!AV41188","v":0},{"$f":"Parameters!AW41188","v":0},{"$f":"Parameters!AX41188","v":0},{"$f":"Parameters!AY41188","v":0},{"$f":"Parameters!AZ41188","v":0},{"$f":"Parameters!BA41188","v":0},{"$f":"Parameters!BB41188","v":0},{"$f":"Parameters!BC41188","v":0},{"$f":"Parameters!BD41188","v":0},{"$f":"Parameters!BE41188","v":0},{"$f":"Parameters!BF41188","v":0},{"$f":"Parameters!BG41188","v":0},{"$f":"Parameters!BH41188","v":0},{"$f":"Parameters!BI41188","v":0},{"$f":"Parameters!BJ41188","v":0},{"$f":"Parameters!BK41188","v":0},{"$f":"Parameters!BL41188","v":0},{"$f":"Parameters!BM41188","v":0},{"$f":"Parameters!BN41188","v":0}]
[1,{"$f":"Parameters!K41228","v":0},{"$f":"Parameters!L41228","v":0},{"$f":"Parameters!M41228","v":0},{"$f":"Parameters!N41228","v":0},{"$f":"Parameters!O41228","v":0},{"$f":"Parameters!P41228","v":0},{"$f":"Parameters!Q41228","v":0},{"$f":"Parameters!R41228","v":0},{"$f":"Parameters!S41228","v":0},{"$f":"Parameters!T41228","v":0},{"$f":"Parameters!U41228","v":0},{"$f":"Parameters!V41228","v":0},{"$f":"Parameters!W41228","v":0},{"$f":"Parameters!X41228","v":0},{"$f":"Parameters!Y41228","v":0},{"$f":"Parameters!Z41228","v":0},{"$f":"Parameters!AA41228","v":0},{"$f":"Parameters!AB41228","v":0},{"$f":"Parameters!AC41228","v":0},{"$f":"Parameters!AD41228","v":0},{"$f":"Parameters!AE41228","v":0},{"$f":"Parameters!AF41228","v":0},{"$f":"Parameters!AG41228","v":0},{"$f":"Parameters!AH41228","v":0},{"$f":"Parameters!AI41228","v":0},{"$f":"Parameters!AJ41228","v":0},{"$f":"Parameters!AK41228","v":0},{"$f":"Parameters!AL41228","v":0},{"$f":"Parameters!AM41228","v":0},{"$f":"Parameters!AN41228","v":0},{"$f":"Parameters!AO41228","v":0},{"$f":"Parameters!AP41228","v":0},{"$f":"Parameters!AQ41228","v":0},{"$f":"Parameters!AR41228","v":0},{"$f":"Parameters!AS41228","v":0},{"$f":"Parameters!AT41228","v":0},{"$f":"Parameters!AU41228","v":0},{"$f":"Parameters!AV41228","v":0},{"$f":"Parameters!AW41228","v":0},{"$f":"Parameters!AX41228","v":0},{"$f":"Parameters!AY41228","v":0},{"$f":"Parameters!AZ41228","v":0},{"$f":"Parameters!BA41228","v":0},{"$f":"Parameters!BB41228","v":0},{"$f":"Parameters!BC41228","v":0},{"$f":"Parameters!BD41228","v":0},{"$f":"Parameters!BE41228","v":0},{"$f":"Parameters!BF41228","v":0},{"$f":"Parameters!BG41228","v":0},{"$f":"Parameters!BH41228","v":0},{"$f":"Parameters!BI41228","v":0},{"$f":"Parameters!BJ41228","v":0},{"$f":"Parameters!BK41228","v":0},{"$f":"Parameters!BL41228","v":0},{"$f":"Parameters!BM41228","v":0},{"$f":"Parameters!BN41228","v":0}]
[{"$f":"SETS!E28","v":"COMHEL"},{"$f":"Parameters!K41298","v":0},{"$f":"Parameters!L41298","v":0},{"$f":"Parameters!M41298","v":0},{"$f":"Parameters!N41298","v":0},{"$f":"Parameters!O41298","v":0},{"$f":"Parameters!P41298","v":0},{"$f":"Parameters!Q41298","v":0},{"$f":"Parameters!R41298","v":0},{"$f":"Parameters!S41298","v":0},{"$f":"Parameters!T41298","v":0},{"$f":"Parameters!U41298","v":0},{"$f":"Parameters!V41298","v":0},{"$f":"Parameters!W41298","v":0},{"$f":"Parameters!X41298","v":0},{"$f":"Parameters!Y41298","v":0},{"$f":"Parameters!Z41298","v":0},{"$f":"Parameters!AA41298","v":0},{"$f":"Parameters!AB41298","v":0},{"$f":"Parameters!AC41298","v":0},{"$f":"Parameters!AD41298","v":0},{"$f":"Parameters!AE41298","v":0},{"$f":"Parameters!AF41298","v":0},{"$f":"Parameters!AG41298","v":0},{"$f":"Parameters!AH41298","v":0},{"$f":"Parameters!AI41298","v":0},{"$f":"Parameters!AJ41298","v":0},{"$f":"Parameters!AK41298","v":0},{"$f":"Parameters!AL41298","v":0},{"$f":"Parameters!AM41298","v":0},{"$f":"Parameters!AN41298","v":0},{"$f":"Parameters!AO41298","v":0},{"$f":"Parameters!AP41298","v":0},{"$f":"Parameters!AQ41298","v":0},{"$f":"Parameters!AR41298","v":0},{"$f":"Parameters!AS41298","v":0},{"$f":"Parameters!AT41298","v":0},{"$f":"Parameters!AU41298","v":0},{"$f":"Parameters!AV41298","v":0},{"$f":"Parameters!AW41298","v":0},{"$f":"Parameters!AX41298","v":0},{"$f":"Parameters!AY41298","v":0},{"$f":"Parameters!AZ41298","v":0},{"$f":"Parameters!BA41298","v":0},{"$f":"Parameters!BB41298","v":0},{"$f":"Parameters!BC41298","v":0},{"$f":"Parameters!BD41298","v":0},{"$f":"Parameters!BE41298","v":0},{"$f":"Parameters!BF41298","v":0},{"$f":"Parameters!BG41298","v":0},{"$f":"Parameters!BH41298","v":0},{"$f":"Parameters!BI41298","v":0},{"$f":"Parameters!BJ41298","v":0},{"$f":"Parameters!BK41298","v":0},{"$f":"Parameters!BL41298","v":0},{"$f":"Parameters!BM41298","v":0},{"$f":"Parameters!BN41298","v":0}]
[{"$f":"SETS!B169","v":"TEC166"},{"$f":"Parameters!K41489","v":0},{"$f":"Parameters!L41489","v":0},{"$f":"Parameters!M41489","v":0},{"$f":"Parameters!N41489","v":0},{"$f":"Parameters!O41489","v":0},{"$f":"Parameters!P41489","v":0},{"$f":"Parameters!Q41489","v":0},{"$f":"Parameters!R41489","v":0},{"$f":"Parameters!S41489","v":0},{"$f":"Parameters!T41489","v":0},{"$f":"Parameters!U41489","v":0},{"$f":"Parameters!V41489","v":0},{"$f":"Parameters!W41489","v":0},{"$f":"Parameters!X41489","v":0},{"$f":"Parameters!Y41489","v":0},{"$f":"Parameters!Z41489","v":0},{"$f":"Parameters!AA41489","v":0},{"$f":"Parameters!AB41489","v":0},{"$f":"Parameters!AC41489","v":0},{"$f":"Parameters!AD41489","v":0},{"$f":"Parameters!AE41489","v":0},{"$f":"Parameters!AF41489","v":0},{"$f":"Parameters!AG41489","v":0},{"$f":"Parameters!AH41489","v":0},{"$f":"Parameters!AI41489","v":0},{"$f":"Parameters!AJ41489","v":0},{"$f":"Parameters!AK41489","v":0},{"$f":"Parameters!AL41489","v":0},{"$f":"Parameters!AM41489","v":0},{"$f":"Parameters!AN41489","v":0},{"$f":"Parameters!AO41489","v":0},{"$f":"Parameters!AP41489","v":0},{"$f":"Parameters!AQ41489","v":0},{"$f":"Parameters!AR41489","v":0},{"$f":"Parameters!AS41489","v":0},{"$f":"Parameters!AT41489","v":0},{"$f":"Parameters!AU41489","v":0},{"$f":"Parameters!AV41489","v":0},{"$f":"Parameters!AW41489","v":0},{"$f":"Parameters!AX41489","v":0},{"$f":"Parameters!AY41489","v":0},{"$f":"Parameters!AZ41489","v":0},{"$f":"Parameters!BA41489","v":0},{"$f":"Parameters!BB41489","v":0},{"$f":"Parameters!BC41489","v":0},{"$f":"Parameters!BD41489","v":0},{"$f":"Parameters!BE41489","v":0},{"$f":"Parameters!BF41489","v":0},{"$f":"Parameters!BG41489","v":0},{"$f":"Parameters!BH41489","v":0},{"$f":"Parameters!BI41489","v":0},{"$f":"Parameters!BJ41489","v":0},{"$f":"Parameters!BK41489","v":0},{"$f":"Parameters!BL41489","v":0},{"$f":"Parameters!BM41489","v":0},{"$f":"Parameters!BN41489","v":0}]
[{"$f":"SETS!B116","v":"TEC113"},{"$f":"Parameters!K41686","v":0},{"$f":"Parameters!L41686","v":0},{"$f":"Parameters!M41686","v":0},{"$f":"Parameters!N41686","v":0},{"$f":"Parameters!O41686","v":0},{"$f":"Parameters!P41686","v":0},{"$f":"Parameters!Q41686","v":0},{"$f":"Parameters!R41686","v":0},{"$f":"Parameters!S41686","v":0},{"$f":"Parameters!T41686","v":0},{"$f":"Parameters!U41686","v":0},{"$f":"Parameters!V41686","v":0},{"$f":"Parameters!W41686","v":0},{"$f":"Parameters!X41686","v":0},{"$f":"Parameters!Y41686","v":0},{"$f":"Parameters!Z41686","v":0},{"$f":"Parameters!AA41686","v":0},{"$f":"Parameters!AB41686","v":0},{"$f":"Parameters!AC41686","v":0},{"$f":"Parameters!AD41686","v":0},{"$f":"Parameters!AE41686","v":0},{"$f":"Parameters!AF41686","v":0},{"$f":"Parameters!AG41686","v":0},{"$f":"Parameters!AH41686","v":0},{"$f":"Parameters!AI41686","v":0},{"$f":"Parameters!AJ41686","v":0},{"$f":"Parameters!AK41686","v":0},{"$f":"Parameters!AL41686","v":0},{"$f":"Parameters!AM41686","v":0},{"$f":"Parameters!AN41686","v":0},{"$f":"Parameters!AO41686","v":0},{"$f":"Parameters!AP41686","v":0},{"$f":"Parameters!AQ41686","v":0},{"$f":"Parameters!AR41686","v":0},{"$f":"Parameters!AS41686","v":0},{"$f":"Parameters!AT41686","v":0},{"$f":"Parameters!AU41686","v":0},{"$f":"Parameters!AV41686","v":0},{"$f":"Parameters!AW41686","v":0},{"$f":"Parameters!AX41686","v":0},{"$f":"Parameters!AY41686","v":0},{"$f":"Parameters!AZ41686","v":0},{"$f":"Parameters!BA41686","v":0},{"$f":"Parameters!BB41686","v":0},{"$f":"Parameters!BC41686","v":0},{"$f":"Parameters!BD41686","v":0},{"$f":"Parameters!BE41686","v":0},{"$f":"Parameters!BF41686","v":0},{"$f":"Parameters!BG41686","v":0},{"$f":"Parameters!BH41686","v":0},{"$f":"Parameters!BI41686","v":0},{"$f":"Parameters!BJ41686","v":0},{"$f":"Parameters!BK41686","v":0},{"$f":"Parameters!BL41686","v":0},{"$f":"Parameters!BM41686","v":0},{"$f":"Parameters!BN41686","v":0}]
[{"$f":"SETS!B27","v":"PWRNGS001"},{"$f":"Parameters!K41796","v":7.3731259295999898},{"$f":"Parameters!L41796","v":7.3731259295999898},{"$f":"Parameters!M41796","v":7.3731259295999898},{"$f":"Parameters!N41796","v":7.3731259295999898},{"$f":"Parameters!O41796","v":7.3731259295999898},{"$f":"Parameters!P41796","v":7.3731259295999898},{"$f":"Parameters!Q41796","v":7.3731259295999898},{"$f":"Parameters!R41796","v":7.3731259295999898},{"$f":"Parameters!S41796","v":7.3731259295999898},{"$f":"Parameters!T41796","v":1.0619999999999901},{"$f":"Parameters!U41796","v":1.0619999999999901},{"$f":"Parameters!V41796","v":1.0619999999999901},{"$f":"Parameters!W41796","v":1.0619999999999901},{"$f":"Parameters!X41796","v":1.0619999999999901},{"$f":"Parameters!Y41796","v":1.0619999999999901},{"$f":"Parameters!Z41796","v":1.0619999999999901},{"$f":"Parameters!AA41796","v":1.0619999999999901},{"$f":"Parameters!AB41796","v":1.0619999999999901},{"$f":"Parameters!AC41796","v":1.0619999999999901},{"$f":"Parameters!AD41796","v":1.0619999999999901},{"$f":"Parameters!AE41796","v":1.0619999999999901},{"$f":"Parameters!AF41796","v":1.0619999999999901},{"$f":"Parameters!AG41796","v":1.0619999999999901},{"$f":"Parameters!AH41796","v":1.0619999999999901},{"$f":"Parameters!AI41796","v":1.0619999999999901},{"$f":"Parameters!AJ41796","v":1.0619999999999901},{"$f":"Parameters!AK41796","v":1.0619999999999901},{"$f":"Parameters!AL41796","v":1.0619999999999901},{"$f":"Parameters!AM41796","v":0},{"$f":"Parameters!AN41796","v":0},{"$f":"Parameters!AO41796","v":0},{"$f":"Parameters!AP41796","v":0},{"$f":"Parameters!AQ41796","v":0},{"$f":"Parameters!AR41796","v":0},{"$f":"Parameters!AS41796","v":0},{"$f":"Parameters!AT41796","v":0},{"$f":"Parameters!AU41796","v":0},{"$f":"Parameters!AV41796","v":0},{"$f":"Parameters!AW41796","v":0},{"$f":"Parameters!AX41796","v":0},{"$f":"Parameters!AY41796","v":0},{"$f":"Parameters!AZ41796","v":0},{"$f":"Parameters!BA41796","v":0},{"$f":"Parameters!BB41796","v":0},{"$f":"Parameters!BC41796","v":0},{"$f":"Parameters!BD41796","v":0},{"$f":"Parameters!BE41796","v":0},{"$f":"Parameters!BF41796","v":0},{"$f":"Parameters!BG41796","v":0},{"$f":"Parameters!BH41796","v":0},{"$f":"Parameters!BI41796","v":0},{"$f":"Parameters!BJ41796","v":0},{"$f":"Parameters!BK41796","v":0},{"$f":"Parameters!BL41796","v":0},{"$f":"Parameters!BM41796","v":0},{"$f":"Parameters!BN41796","v":0}]
["S310",{"$f":"Parameters!K42078","v":0},{"$f":"Parameters!L42078","v":0},{"$f":"Parameters!M42078","v":0},{"$f":"Parameters!N42078","v":0},{"$f":"Parameters!O42078","v":0},{"$f":"Parameters!P42078","v":0},{"$f":"Parameters!Q42078","v":0},{"$f":"Parameters!R42078","v":0},{"$f":"Parameters!S42078","v":0},{"$f":"Parameters!T42078","v":0},{"$f":"Parameters!U42078","v":0},{"$f":"Parameters!V42078","v":0},{"$f":"Parameters!W42078","v":0},{"$f":"Parameters!X42078","v":0},{"$f":"Parameters!Y42078","v":0},{"$f":"Parameters!Z42078","v":0},{"$f":"Parameters!AA42078","v":0},{"$f":"Parameters!AB42078","v":0},{"$f":"Parameters!AC42078","v":0},{"$f":"Parameters!AD42078","v":0},{"$f":"Parameters!AE42078","v":0},{"$f":"Parameters!AF42078","v":0},{"$f":"Parameters!AG42078","v":0},{"$f":"Parameters!AH42078","v":0},{"$f":"Parameters!AI42078","v":0},{"$f":"Parameters!AJ42078","v":0},{"$f":"Parameters!AK42078","v":0},{"$f":"Parameters!AL42078","v":0},{"$f":"Parameters!AM42078","v":0},{"$f":"Parameters!AN42078","v":0},{"$f":"Parameters!AO42078","v":0},{"$f":"Parameters!AP42078","v":0},{"$f":"Parameters!AQ42078","v":0},{"$f":"Parameters!AR42078","v":0},{"$f":"Parameters!AS42078","v":0},{"$f":"Parameters!AT42078","v":0},{"$f":"Parameters!AU42078","v":0},{"$f":"Parameters!AV42078","v":0},{"$f":"Parameters!AW42078","v":0},{"$f":"Parameters!AX42078","v":0},{"$f":"Parameters!AY42078","v":0},{"$f":"Parameters!AZ42078","v":0},{"$f":"Parameters!BA42078","v":0},{"$f":"Parameters!BB42078","v":0},{"$f":"Parameters!BC42078","v":0},{"$f":"Parameters!BD42078","v":0},{"$f":"Parameters!BE42078","v":0},{"$f":"Parameters!BF42078","v":0},{"$f":"Parameters!BG42078","v":0},{"$f":"Parameters!BH42078","v":0},{"$f":"Parameters!BI42078","v":0},{"$f":"Parameters!BJ42078","v":0},{"$f":"Parameters!BK42078","v":0},{"$f":"Parameters!BL42078","v":0},{"$f":"Parameters!BM42078","v":0},{"$f":"Parameters!BN42078","v":0}]
["S203",{"$f":"Parameters!K42239","v":0},{"$f":"Parameters!L42239","v":0},{"$f":"Parameters!M42239","v":0},{"$f":"Parameters!N42239","v":0},{"$f":"Parameters!O42239","v":0},{"$f":"Parameters!P42239","v":0},{"$f":"Parameters!Q42239","v":0},{"$f":"Parameters!R42239","v":0},{"$f":"Parameters!S42239","v":0},{"$f":"Parameters!T42239","v":0},{"$f":"Parameters!U42239","v":0},{"$f":"Parameters!V42239","v":0},{"$f":"Parameters!W42239","v":0},{"$f":"Parameters!X42239","v":0},{"$f":"Parameters!Y42239","v":0},{"$f":"Parameters!Z42239","v":0},{"$f":"Parameters!AA42239","v":0},{"$f":"Parameters!AB42239","v":0},{"$f":"Parameters!AC42239","v":0},{"$f":"Parameters!AD42239","v":0},{"$f":"Parameters!AE42239","v":0},{"$f":"Parameters!AF42239","v":0},{"$f":"Parameters!AG42239","v":0},{"$f":"Parameters!AH42239","v":0},{"$f":"Parameters!AI42239","v":0},{"$f":"Parameters!AJ42239","v":0},{"$f":"Parameters!AK42239","v":0},{"$f":"Parameters!AL42239","v":0},{"$f":"Parameters!AM42239","v":0},{"$f":"Parameters!AN42239","v":0},{"$f":"Parameters!AO42239","v":0},{"$f":"Parameters!AP42239","v":0},{"$f":"Parameters!AQ42239","v":0},{"$f":"Parameters!AR42239","v":0},{"$f":"Parameters!AS42239","v":0},{"$f":"Parameters!AT42239","v":0},{"$f":"Parameters!AU42239","v":0},{"$f":"Parameters!AV42239","v":0},{"$f":"Parameters!AW42239","v":0},{"$f":"Parameters!AX42239","v":0},{"$f":"Parameters!AY42239","v":0},{"$f":"Parameters!AZ42239","v":0},{"$f":"Parameters!BA42239","v":0},{"$f":"Parameters!BB42239","v":0},{"$f":"Parameters!BC42239","v":0},{"$f":"Parameters!BD42239","v":0},{"$f":"Parameters!BE42239","v":0},{"$f":"Parameters!BF42239","v":0},{"$f":"Parameters!BG42239","v":0},{"$f":"Parameters!BH42239","v":0},{"$f":"Parameters!BI42239","v":0},{"$f":"Parameters!BJ42239","v":0},{"$f":"Parameters!BK42239","v":0},{"$f":"Parameters!BL42239","v":0},{"$f":"Parameters!BM42239","v":0},{"$f":"Parameters!BN42239","v":0}]
["S212",{"$f":"Parameters!K42440","v":0},{"$f":"Parameters!L42440","v":0},{"$f":"Parameters!M42440","v":0},{"$f":"Parameters!N42440","v":0},{"$f":"Parameters!O42440","v":0},{"$f":"Parameters!P42440","v":0},{"$f":"Parameters!Q42440","v":0},{"$f":"Parameters!R42440","v":0},{"$f":"Parameters!S42440","v":0},{"$f":"Parameters!T42440","v":0},{"$f":"Parameters!U42440","v":0},{"$f":"Parameters!V42440","v":0},{"$f":"Parameters!W42440","v":0},{"$f":"Parameters!X42440","v":0},{"$f":"Parameters!Y42440","v":0},{"$f":"Parameters!Z42440","v":0},{"$f":"Parameters!AA42440","v":0},{"$f":"Parameters!AB42440","v":0},{"$f":"Parameters!AC42440","v":0},{"$f":"Parameters!AD42440","v":0},{"$f":"Parameters!AE42440","v":0},{"$f":"Parameters!AF42440","v":0},{"$f":"Parameters!AG42440","v":0},{"$f":"Parameters!AH42440","v":0},{"$f":"Parameters!AI42440","v":0},{"$f":"Parameters!AJ42440","v":0},{"$f":"Parameters!AK42440","v":0},{"$f":"Parameters!AL42440","v":0},{"$f":"Parameters!AM42440","v":0},{"$f":"Parameters!AN42440","v":0},{"$f":"Parameters!AO42440","v":0},{"$f":"Parameters!AP42440","v":0},{"$f":"Parameters!AQ42440","v":0},{"$f":"Parameters!AR42440","v":0},{"$f":"Parameters!AS42440","v":0},{"$f":"Parameters!AT42440","v":0},{"$f":"Parameters!AU42440","v":0},{"$f":"Parameters!AV42440","v":0},{"$f":"Parameters!AW42440","v":0},{"$f":"Parameters!AX42440","v":0},{"$f":"Parameters!AY42440","v":0},{"$f":"Parameters!AZ42440","v":0},{"$f":"Parameters!BA42440","v":0},{"$f":"Parameters!BB42440","v":0},{"$f":"Parameters!BC42440","v":0},{"$f":"Parameters!BD42440","v":0},{"$f":"Parameters!BE42440","v":0},{"$f":"Parameters!BF42440","v":0},{"$f":"Parameters!BG42440","v":0},{"$f":"Parameters!BH42440","v":0},{"$f":"Parameters!BI42440","v":0},{"$f":"Parameters!BJ42440","v":0},{"$f":"Parameters!BK42440","v":0},{"$f":"Parameters!BL42440","v":0},{"$f":"Parameters!BM42440","v":0},{"$f":"Parameters!BN42440","v":0}]
["S218",{"$f":"Parameters!K42638","v":0},{"$f":"Parameters!L42638","v":0},{"$f":"Parameters!M42638","v":0},{"$f":"Parameters!N42638","v":0},{"$f":"Parameters!O42638","v":0},{"$f":"Parameters!P42638","v":0},{"$f":"Parameters!Q42638","v":0},{"$f":"Parameters!R42638","v":0},{"$f":"Parameters!S42638","v":0},{"$f":"Parameters!T42638","v":0},{"$f":"Parameters!U42638","v":0},{"$f":"Parameters!V42638","v":0},{"$f":"Parameters!W42638","v":0},{"$f":"Parameters!X42638","v":0},{"$f":"Parameters!Y42638","v":0},{"$f":"Parameters!Z42638","v":0},{"$f":"Parameters!AA42638","v":0},{"$f":"Parameters!AB42638","v":0},{"$f":"Parameters!AC42638","v":0},{"$f":"Parameters!AD42638","v":0},{"$f":"Parameters!AE42638","v":0},{"$f":"Parameters!AF42638","v":0},{"$f":"Parameters!AG42638","v":0},{"$f":"Parameters!AH42638","v":0},{"$f":"Parameters!AI42638","v":0},{"$f":"Parameters!AJ42638","v":0},{"$f":"Parameters!AK42638","v":0},{"$f":"Parameters!AL42638","v":0},{"$f":"Parameters!AM42638","v":0},{"$f":"Parameters!AN42638","v":0},{"$f":"Parameters!AO42638","v":0},{"$f":"Parameters!AP42638","v":0},{"$f":"Parameters!AQ42638","v":0},{"$f":"Parameters!AR42638","v":0},{"$f":"Parameters!AS42638","v":0},{"$f":"Parameters!AT42638","v":0},{"$f":"Parameters!AU42638","v":0},{"$f":"Parameters!AV42638","v":0},{"$f":"Parameters!AW42638","v":0},{"$f":"Parameters!AX42638","v":0},{"$f":"Parameters!AY42638","v":0},{"$f":"Parameters!AZ42638","v":0},{"$f":"Parameters!BA42638","v":0},{"$f":"Parameters!BB42638","v":0},{"$f":"Parameters!BC42638","v":0},{"$f":"Parameters!BD42638","v":0},{"$f":"Parameters!BE42638","v":0},{"$f":"Parameters!BF42638","v":0},{"$f":"Parameters!BG42638","v":0},{"$f":"Parameters!BH42638","v":0},{"$f":"Parameters!BI42638","v":0},{"$f":"Parameters!BJ42638","v":0},{"$f":"Parameters!BK42638","v":0},{"$f":"Parameters!BL42638","v":0},{"$f":"Parameters!BM42638","v":0},{"$f":"Parameters!BN42638","v":0}]
["S305",{"$f":"Parameters!K42745","v":0},{"$f":"Parameters!L42745","v":0},{"$f":"Parameters!M42745","v":0},{"$f":"Parameters!N42745","v":0},{"$f":"Parameters!O42745","v":0},{"$f":"Parameters!P42745","v":0},{"$f":"Parameters!Q42745","v":0},{"$f":"Parameters!R42745","v":0},{"$f":"Parameters!S42745","v":0},{"$f":"Parameters!T42745","v":0},{"$f":"Parameters!U42745","v":0},{"$f":"Parameters!V42745","v":0},{"$f":"Parameters!W42745","v":0},{"$f":"Parameters!X42745","v":0},{"$f":"Parameters!Y42745","v":0},{"$f":"Parameters!Z42745","v":0},{"$f":"Parameters!AA42745","v":0},{"$f":"Parameters!AB42745","v":0},{"$f":"Parameters!AC42745","v":0},{"$f":"Parameters!AD42745","v":0},{"$f":"Parameters!AE42745","v":0},{"$f":"Parameters!AF42745","v":0},{"$f":"Parameters!AG42745","v":0},{"$f":"Parameters!AH42745","v":0},{"$f":"Parameters!AI42745","v":0},{"$f":"Parameters!AJ42745","v":0},{"$f":"Parameters!AK42745","v":0},{"$f":"Parameters!AL42745","v":0},{"$f":"Parameters!AM42745","v":0},{"$f":"Parameters!AN42745","v":0},{"$f":"Parameters!AO42745","v":0},{"$f":"Parameters!AP42745","v":0},{"$f":"Parameters!AQ42745","v":0},{"$f":"Parameters!AR42745","v":0},{"$f":"Parameters!AS42745","v":0},{"$f":"Parameters!AT42745","v":0},{"$f":"Parameters!AU42745","v":0},{"$f":"Parameters!AV42745","v":0},{"$f":"Parameters!AW42745","v":0},{"$f":"Parameters!AX42745","v":0},{"$f":"Parameters!AY42745","v":0},{"$f":"Parameters!AZ42745","v":0},{"$f":"Parameters!BA42745","v":0},{"$f":"Parameters!BB42745","v":0},{"$f":"Parameters!BC42745","v":0},{"$f":"Parameters!BD42745","v":0},{"$f":"Parameters!BE42745","v":0},{"$f":"Parameters!BF42745","v":0},{"$f":"Parameters!BG42745","v":0},{"$f":"Parameters!BH42745","v":0},{"$f":"Parameters!BI42745","v":0},{"$f":"Parameters!BJ42745","v":0},{"$f":"Parameters!BK42745","v":0},{"$f":"Parameters!BL42745","v":0},{"$f":"Parameters!BM42745","v":0},{"$f":"Parameters!BN42745","v":0}]
["S401",{"$f":"Parameters!K42861","v":0},{"$f":"Parameters!L42861","v":0},{"$f":"Parameters!M42861","v":0},{"$f":"Parameters!N42861","v":0},{"$f":"Parameters!O42861","v":0},{"$f":"Parameters!P42861","v":0},{"$f":"Parameters!Q42861","v":0},{"$f":"Parameters!R42861","v":0},{"$f":"Parameters!S42861","v":0},{"$f":"Parameters!T42861","v":0},{"$f":"Parameters!U42861","v":0},{"$f":"Parameters!V42861","v":0},{"$f":"Parameters!W42861","v":0},{"$f":"Parameters!X42861","v":0},{"$f":"Parameters!Y42861","v":0},{"$f":"Parameters!Z42861","v":0},{"$f":"Parameters!AA42861","v":0},{"$f":"Parameters!AB42861","v":0},{"$f":"Parameters!AC42861","v":0},{"$f":"Parameters!AD42861","v":0},{"$f":"Parameters!AE42861","v":0},{"$f":"Parameters!AF42861","v":0},{"$f":"Parameters!AG42861","v":0},{"$f":"Parameters!AH42861","v":0},{"$f":"Parameters!AI42861","v":0},{"$f":"Parameters!AJ42861","v":0},{"$f":"Parameters!AK42861","v":0},{"$f":"Parameters!AL42861","v":0},{"$f":"Parameters!AM42861","v":0},{"$f":"Parameters!AN42861","v":0},{"$f":"Parameters!AO42861","v":0},{"$f":"Parameters!AP42861","v":0},{"$f":"Parameters!AQ42861","v":0},{"$f":"Parameters!AR42861","v":0},{"$f":"Parameters!AS42861","v":0},{"$f":"Parameters!AT42861","v":0},{"$f":"Parameters!AU42861","v":0},{"$f":"Parameters!AV42861","v":0},{"$f":"Parameters!AW42861","v":0},{"$f":"Parameters!AX42861","v":0},{"$f":"Parameters!AY42861","v":0},{"$f":"Parameters!AZ42861","v":0},{"$f":"Parameters!BA42861","v":0},{"$f":"Parameters!BB42861","v":0},{"$f":"Parameters!BC42861","v":0},{"$f":"Parameters!BD42861","v":0},{"$f":"Parameters!BE42861","v":0},{"$f":"Parameters!BF42861","v":0},{"$f":"Parameters!BG42861","v":0},{"$f":"Parameters!BH42861","v":0},{"$f":"Parameters!BI42861","v":0},{"$f":"Parameters!BJ42861","v":0},{"$f":"Parameters!BK42861","v":0},{"$f":"Parameters!BL42861","v":0},{"$f":"Parameters!BM42861","v":0},{"$f":"Parameters!BN42861","v":0}]
["S413",{"$f":"Parameters!K43065","v":0},{"$f":"Parameters!L43065","v":0},{"$f":"Parameters!M43065","v":0},{"$f":"Parameters!N43065","v":0},{"$f":"Parameters!O43065","v":0},{"$f":"Parameters!P43065","v":0},{"$f":"Parameters!Q43065","v":0},{"$f":"Parameters!R43065","v":0},{"$f":"Parameters!S43065","v":0},{"$f":"Parameters!T43065","v":0},{"$f":"Parameters!U43065","v":0},{"$f":"Parameters!V43065","v":0},{"$f":"Parameters!W43065","v":0},{"$f":"Parameters!X43065","v":0},{"$f":"Parameters!Y43065","v":0},{"$f":"Parameters!Z43065","v":0},{"$f":"Parameters!AA43065","v":0},{"$f":"Parameters!AB43065","v":0},{"$f":"Parameters!AC43065","v":0},{"$f":"Parameters!AD43065","v":0},{"$f":"Parameters!AE43065","v":0},{"$f":"Parameters!AF43065","v":0},{"$f":"Parameters!AG43065","v":0},{"$f":"Parameters!AH43065","v":0},{"$f":"Parameters!AI43065","v":0},{"$f":"Parameters!AJ43065","v":0},{"$f":"Parameters!AK43065","v":0},{"$f":"Parameters!AL43065","v":0},{"$f":"Parameters!AM43065","v":0},{"$f":"Parameters!AN43065","v":0},{"$f":"Parameters!AO43065","v":0},{"$f":"Parameters!AP43065","v":0},{"$f":"Parameters!AQ43065","v":0},{"$f":"Parameters!AR43065","v":0},{"$f":"Parameters!AS43065","v":0},{"$f":"Parameters!AT43065","v":0},{"$f":"Parameters!AU43065","v":0},{"$f":"Parameters!AV43065","v":0},{"$f":"Parameters!AW43065","v":0},{"$f":"Parameters!AX43065","v":0},{"$f":"Parameters!AY43065","v":0},{"$f":"Parameters!AZ43065","v":0},{"$f":"Parameters!BA43065","v":0},{"$f":"Parameters!BB43065","v":0},{"$f":"Parameters!BC43065","v":0},{"$f":"Parameters!BD43065","v":0},{"$f":"Parameters!BE43065","v":0},{"$f":"Parameters!BF43065","v":0},{"$f":"Parameters!BG43065","v":0},{"$f":"Parameters!BH43065","v":0},{"$f":"Parameters!BI43065","v":0},{"$f":"Parameters!BJ43065","v":0},{"$f":"Parameters!BK43065","v":0},{"$f":"Parameters!BL43065","v":0},{"$f":"Parameters!BM43065","v":0},{"$f":"Parameters!BN43065","v":0}]
["S416",{"$f":"Parameters!K43260","v":0},{"$f":"Parameters!L43260","v":0},{"$f":"Parameters!M43260","v":0},{"$f":"Parameters!N43260","v":0},{"$f":"Parameters!O43260","v":0},{"$f":"Parameters!P43260","v":0},{"$f":"Parameters!Q43260","v":0},{"$f":"Parameters!R43260","v":0},{"$f":"Parameters!S43260","v":0},{"$f":"Parameters!T43260","v":0},{"$f":"Parameters!U43260","v":0},{"$f":"Parameters!V43260","v":0},{"$f":"Parameters!W43260","v":0},{"$f":"Parameters!X43260","v":0},{"$f":"Parameters!Y43260","v":0},{"$f":"Parameters!Z43260","v":0},{"$f":"Parameters!AA43260","v":0},{"$f":"Parameters!AB43260","v":0},{"$f":"Parameters!AC43260","v":0},{"$f":"Parameters!AD43260","v":0},{"$f":"Parameters!AE43260","v":0},{"$f":"Parameters!AF43260","v":0},{"$f":"Parameters!AG43260","v":0},{"$f":"Parameters!AH43260","v":0},{"$f":"Parameters!AI43260","v":0},{"$f":"Parameters!AJ43260","v":0},{"$f":"Parameters!AK43260","v":0},{"$f":"Parameters!AL43260","v":0},{"$f":"Parameters!AM43260","v":0},{"$f":"Parameters!AN43260","v":0},{"$f":"Parameters!AO43260","v":0},{"$f":"Parameters!AP43260","v":0},{"$f":"Parameters!AQ43260","v":0},{"$f":"Parameters!AR43260","v":0},{"$f":"Parameters!AS43260","v":0},{"$f":"Parameters!AT43260","v":0},{"$f":"Parameters!AU43260","v":0},{"$f":"Parameters!AV43260","v":0},{"$f":"Parameters!AW43260","v":0},{"$f":"Parameters!AX43260","v":0},{"$f":"Parameters!AY43260","v":0},{"$f":"Parameters!AZ43260","v":0},{"$f":"Parameters!BA43260","v":0},{"$f":"Parameters!BB43260","v":0},{"$f":"Parameters!BC43260","v":0},{"$f":"Parameters!BD43260","v":0},{"$f":"Parameters!BE43260","v":0},{"$f":"Parameters!BF43260","v":0},{"$f":"Parameters!BG43260","v":0},{"$f":"Parameters!BH43260","v":0},{"$f":"Parameters!BI43260","v":0},{"$f":"Parameters!BJ43260","v":0},{"$f":"Parameters!BK43260","v":0},{"$f":"Parameters!BL43260","v":0},{"$f":"Parameters!BM43260","v":0},{"$f":"Parameters!BN43260","v":0}]
["S309",{"$f":"Parameters!K43421","v":0},{"$f":"Parameters!L43421","v":0},{"$f":"Parameters!M43421","v":0},{"$f":"Parameters!N43421","v":0},{"$f":"Parameters!O43421","v":0},{"$f":"Parameters!P43421","v":0},{"$f":"Parameters!Q43421","v":0},{"$f":"Parameters!R43421","v":0},{"$f":"Parameters!S43421","v":0},{"$f":"Parameters!T43421","v":0},{"$f":"Parameters!U43421","v":0},{"$f":"Parameters!V43421","v":0},{"$f":"Parameters!W43421","v":0},{"$f":"Parameters!X43421","v":0},{"$f":"Parameters!Y43421","v":0},{"$f":"Parameters!Z43421","v":0},{"$f":"Parameters!AA43421","v":0},{"$f":"Parameters!AB43421","v":0},{"$f":"Parameters!AC43421","v":0},{"$f":"Parameters!AD43421","v":0},{"$f":"Parameters!AE43421","v":0},{"$f":"Parameters!AF43421","v":0},{"$f":"Parameters!AG43421","v":0},{"$f":"Parameters!AH43421","v":0},{"$f":"Parameters!AI43421","v":0},{"$f":"Parameters!AJ43421","v":0},{"$f":"Parameters!AK43421","v":0},{"$f":"Parameters!AL43421","v":0},{"$f":"Parameters!AM43421","v":0},{"$f":"Parameters!AN43421","v":0},{"$f":"Parameters!AO43421","v":0},{"$f":"Parameters!AP43421","v":0},{"$f":"Parameters!AQ43421","v":0},{"$f":"Parameters!AR43421","v":0},{"$f":"Parameters!AS43421","v":0},{"$f":"Parameters!AT43421","v":0},{"$f":"Parameters!AU43421","v":0},{"$f":"Parameters!AV43421","v":0},{"$f":"Parameters!AW43421","v":0},{"$f":"Parameters!AX43421","v":0},{"$f":"Parameters!AY43421","v":0},{"$f":"Parameters!AZ43421","v":0},{"$f":"Parameters!BA43421","v":0},{"$f":"Parameters!BB43421","v":0},{"$f":"Parameters!BC43421","v":0},{"$f":"Parameters!BD43421","v":0},{"$f":"Parameters!BE43421","v":0},{"$f":"Parameters!BF43421","v":0},{"$f":"Parameters!BG43421","v":0},{"$f":"Parameters!BH43421","v":0},{"$f":"Parameters!BI43421","v":0},{"$f":"Parameters!BJ43421","v":0},{"$f":"Parameters!BK43421","v":0},{"$f":"Parameters!BL43421","v":0},{"$f":"Parameters!BM43421","v":0},{"$f":"Parameters!BN43421","v":0}]
["S404",{"$f":"Parameters!K43536","v":0},{"$f":"Parameters!L43536","v":0},{"$f":"Parameters!M43536","v":0},{"$f":"Parameters!N43536","v":0},{"$f":"Parameters!O43536","v":0},{"$f":"Parameters!P43536","v":0},{"$f":"Parameters!Q43536","v":0},{"$f":"Parameters!R43536","v":0},{"$f":"Parameters!S43536","v":0},{"$f":"Parameters!T43536","v":0},{"$f":"Parameters!U43536","v":0},{"$f":"Parameters!V43536","v":0},{"$f":"Parameters!W43536","v":0},{"$f":"Parameters!X43536","v":0},{"$f":"Parameters!Y43536","v":0},{"$f":"Parameters!Z43536","v":0},{"$f":"Parameters!AA43536","v":0},{"$f":"Parameters!AB43536","v":0},{"$f":"Parameters!AC43536","v":0},{"$f":"Parameters!AD43536","v":0},{"$f":"Parameters!AE43536","v":0},{"$f":"Parameters!AF43536","v":0},{"$f":"Parameters!AG43536","v":0},{"$f":"Parameters!AH43536","v":0},{"$f":"Parameters!AI43536","v":0},{"$f":"Parameters!AJ43536","v":0},{"$f":"Parameters!AK43536","v":0},{"$f":"Parameters!AL43536","v":0},{"$f":"Parameters!AM43536","v":0},{"$f":"Parameters!AN43536","v":0},{"$f":"Parameters!AO43536","v":0},{"$f":"Parameters!AP43536","v":0},{"$f":"Parameters!AQ43536","v":0},{"$f":"Parameters!AR43536","v":0},{"$f":"Parameters!AS43536","v":0},{"$f":"Parameters!AT43536","v":0},{"$f":"Parameters!AU43536","v":0},{"$f":"Parameters!AV43536","v":0},{"$f":"Parameters!AW43536","v":0},{"$f":"Parameters!AX43536","v":0},{"$f":"Parameters!AY43536","v":0},{"$f":"Parameters!AZ43536","v":0},{"$f":"Parameters!BA43536","v":0},{"$f":"Parameters!BB43536","v":0},{"$f":"Parameters!BC43536","v":0},{"$f":"Parameters!BD43536","v":0},{"$f":"Parameters!BE43536","v":0},{"$f":"Parameters!BF43536","v":0},{"$f":"Parameters!BG43536","v":0},{"$f":"Parameters!BH43536","v":0},{"$f":"Parameters!BI43536","v":0},{"$f":"Parameters!BJ43536","v":0},{"$f":"Parameters!BK43536","v":0},{"$f":"Parameters!BL43536","v":0},{"$f":"Parameters!BM43536","v":0},{"$f":"Parameters!BN43536","v":0}]
["S324",{"$f":"Parameters!K43820","v":1.0515976853019301E-2},{"$f":"Parameters!L43820","v":1.0515976853019301E-2},{"$f":"Parameters!M43820","v":1.0515976853019301E-2},{"$f":"Parameters!N43820","v":1.0515976853019301E-2},{"$f":"Parameters!O43820","v":1.0515976853019301E-2},{"$f":"Parameters!P43820","v":1.0515976853019301E-2},{"$f":"Parameters!Q43820","v":1.0515976853019301E-2},{"$f":"Parameters!R43820","v":1.0515976853019301E-2},{"$f":"Parameters!S43820","v":1.0515976853019301E-2},{"$f":"Parameters!T43820","v":1.0515976853019301E-2},{"$f":"Parameters!U43820","v":1.0515976853019301E-2},{"$f":"Parameters!V43820","v":1.0515976853019301E-2},{"$f":"Parameters!W43820","v":1.0515976853019301E-2},{"$f":"Parameters!X43820","v":1.0515976853019301E-2},{"$f":"Parameters!Y43820","v":1.0515976853019301E-2},{"$f":"Parameters!Z43820","v":1.0515976853019301E-2},{"$f":"Parameters!AA43820","v":1.0515976853019301E-2},{"$f":"Parameters!AB43820","v":1.0515976853019301E-2},{"$f":"Parameters!AC43820","v":1.0515976853019301E-2},{"$f":"Parameters!AD43820","v":1.0515976853019301E-2},{"$f":"Parameters!AE43820","v":1.0515976853019301E-2},{"$f":"Parameters!AF43820","v":1.0515976853019301E-2},{"$f":"Parameters!AG43820","v":1.0515976853019301E-2},{"$f":"Parameters!AH43820","v":1.0515976853019301E-2},{"$f":"Parameters!AI43820","v":1.0515976853019301E-2},{"$f":"Parameters!AJ43820","v":1.0515976853019301E-2},{"$f":"Parameters!AK43820","v":1.0515976853019301E-2},{"$f":"Parameters!AL43820","v":1.0515976853019301E-2},{"$f":"Parameters!AM43820","v":1.0515976853019301E-2},{"$f":"Parameters!AN43820","v":1.0515976853019301E-2},{"$f":"Parameters!AO43820","v":1.0515976853019301E-2},{"$f":"Parameters!AP43820","v":1.0515976853019301E-2},{"$f":"Parameters!AQ43820","v":1.0515976853019301E-2},{"$f":"Parameters!AR43820","v":1.0515976853019301E-2},{"$f":"Parameters!AS43820","v":1.0515976853019301E-2},{"$f":"Parameters!AT43820","v":1.0515976853019301E-2},{"$f":"Parameters!AU43820","v":1.0515976853019301E-2},{"$f":"Parameters!AV43820","v":1.0515976853019301E-2},{"$f":"Parameters!AW43820","v":1.0515976853019301E-2},{"$f":"Parameters!AX43820","v":1.0515976853019301E-2},{"$f":"Parameters!AY43820","v":1.0515976853019301E-2},{"$f":"Parameters!AZ43820","v":1.0515976853019301E-2},{"$f":"Parameters!BA43820","v":1.0515976853019301E-2},{"$f":"Parameters!BB43820","v":1.0515976853019301E-2},{"$f":"Parameters!BC43820","v":1.0515976853019301E-2},{"$f":"Parameters!BD43820","v":1.0515976853019301E-2},{"$f":"Parameters!BE43820","v":1.0515976853019301E-2},{"$f":"Parameters!BF43820","v":1.0515976853019301E-2},{"$f":"Parameters!BG43820","v":1.0515976853019301E-2},{"$f":"Parameters!BH43820","v":1.0515976853019301E-2},{"$f":"Parameters!BI43820","v":1.0515976853019301E-2},{"$f":"Parameters!BJ43820","v":1.0515976853019301E-2},{"$f":"Parameters!BK43820","v":1.0515976853019301E-2},{"$f":"Parameters!BL43820","v":1.0515976853019301E-2},{"$f":"Parameters!BM43820","v":1.0515976853019301E-2},{"$f":"Parameters!BN43820","v":1.0515976853019301E-2}]
["S421",{"$f":"Parameters!K44033","v":0},{"$f":"Parameters!L44033","v":0},{"$f":"Parameters!M44033","v":0},{"$f":"Parameters!N44033","v":0},{"$f":"Parameters!O44033","v":0},{"$f":"Parameters!P44033","v":0},{"$f":"Parameters!Q44033","v":0},{"$f":"Parameters!R44033","v":0},{"$f":"Parameters!S44033","v":0},{"$f":"Parameters!T44033","v":0},{"$f":"Parameters!U44033","v":0},{"$f":"Parameters!V44033","v":0},{"$f":"Parameters!W44033","v":0},{"$f":"Parameters!X44033","v":0},{"$f":"Parameters!Y44033","v":0},{"$f":"Parameters!Z44033","v":0},{"$f":"Parameters!AA44033","v":0},{"$f":"Parameters!AB44033","v":0},{"$f":"Parameters!AC44033","v":0},{"$f":"Parameters!AD44033","v":0},{"$f":"Parameters!AE44033","v":0},{"$f":"Parameters!AF44033","v":0},{"$f":"Parameters!AG44033","v":0},{"$f":"Parameters!AH44033","v":0},{"$f":"Parameters!AI44033","v":0},{"$f":"Parameters!AJ44033","v":0},{"$f":"Parameters!AK44033","v":0},{"$f":"Parameters!AL44033","v":0},{"$f":"Parameters!AM44033","v":0},{"$f":"Parameters!AN44033","v":0},{"$f":"Parameters!AO44033","v":0},{"$f":"Parameters!AP44033","v":0},{"$f":"Parameters!AQ44033","v":0},{"$f":"Parameters!AR44033","v":0},{"$f":"Parameters!AS44033","v":0},{"$f":"Parameters!AT44033","v":0},{"$f":"Parameters!AU44033","v":0},{"$f":"Parameters!AV44033","v":0},{"$f":"Parameters!AW44033","v":0},{"$f":"Parameters!AX44033","v":0},{"$f":"Parameters!AY44033","v":0},{"$f":"Parameters!AZ44033","v":0},{"$f":"Parameters!BA44033","v":0},{"$f":"Parameters!BB44033","v":0},{"$f":"Parameters!BC44033","v":0},{"$f":"Parameters!BD44033","v":0},{"$f":"Parameters!BE44033","v":0},{"$f":"Parameters!BF44033","v":0},{"$f":"Parameters!BG44033","v":0},{"$f":"Parameters!BH44033","v":0},{"$f":"Parameters!BI44033","v":0},{"$f":"Parameters!BJ44033","v":0},{"$f":"Parameters!BK44033","v":0},{"$f":"Parameters!BL44033","v":0},{"$f":"Parameters!BM44033","v":0},{"$f":"Parameters!BN44033","v":0}]
["S415",{"$f":"Parameters!K44219","v":0},{"$f":"Parameters!L44219","v":0},{"$f":"Parameters!M44219","v":0},{"$f":"Parameters!N44219","v":0},{"$f":"Parameters!O44219","v":0},{"$f":"Parameters!P44219","v":0},{"$f":"Parameters!Q44219","v":0},{"$f":"Parameters!R44219","v":0},{"$f":"Parameters!S44219","v":0},{"$f":"Parameters!T44219","v":0},{"$f":"Parameters!U44219","v":0},{"$f":"Parameters!V44219","v":0},{"$f":"Parameters!W44219","v":0},{"$f":"Parameters!X44219","v":0},{"$f":"Parameters!Y44219","v":0},{"$f":"Parameters!Z44219","v":0},{"$f":"Parameters!AA44219","v":0},{"$f":"Parameters!AB44219","v":0},{"$f":"Parameters!AC44219","v":0},{"$f":"Parameters!AD44219","v":0},{"$f":"Parameters!AE44219","v":0},{"$f":"Parameters!AF44219","v":0},{"$f":"Parameters!AG44219","v":0},{"$f":"Parameters!AH44219","v":0},{"$f":"Parameters!AI44219","v":0},{"$f":"Parameters!AJ44219","v":0},{"$f":"Parameters!AK44219","v":0},{"$f":"Parameters!AL44219","v":0},{"$f":"Parameters!AM44219","v":0},{"$f":"Parameters!AN44219","v":0},{"$f":"Parameters!AO44219","v":0},{"$f":"Parameters!AP44219","v":0},{"$f":"Parameters!AQ44219","v":0},{"$f":"Parameters!AR44219","v":0},{"$f":"Parameters!AS44219","v":0},{"$f":"Parameters!AT44219","v":0},{"$f":"Parameters!AU44219","v":0},{"$f":"Parameters!AV44219","v":0},{"$f":"Parameters!AW44219","v":0},{"$f":"Parameters!AX44219","v":0},{"$f":"Parameters!AY44219","v":0},{"$f":"Parameters!AZ44219","v":0},{"$f":"Parameters!BA44219","v":0},{"$f":"Parameters!BB44219","v":0},{"$f":"Parameters!BC44219","v":0},{"$f":"Parameters!BD44219","v":0},{"$f":"Parameters!BE44219","v":0},{"$f":"Parameters!BF44219","v":0},{"$f":"Parameters!BG44219","v":0},{"$f":"Parameters!BH44219","v":0},{"$f":"Parameters!BI44219","v":0},{"$f":"Parameters!BJ44219","v":0},{"$f":"Parameters!BK44219","v":0},{"$f":"Parameters!BL44219","v":0},{"$f":"Parameters!BM44219","v":0},{"$f":"Parameters!BN44219","v":0}]
["S308",{"$f":"Parameters!K44380","v":1.0171273175567999E-2},{"$f":"Parameters!L44380","v":1.0171273175567999E-2},{"$f":"Parameters!M44380","v":1.0171273175567999E-2},{"$f":"Parameters!N44380","v":1.0171273175567999E-2},{"$f":"Parameters!O44380","v":1.0171273175567999E-2},{"$f":"Parameters!P44380","v":1.0171273175567999E-2},{"$f":"Parameters!Q44380","v":1.0171273175567999E-2},{"$f":"Parameters!R44380","v":1.0171273175567999E-2},{"$f":"Parameters!S44380","v":1.0171273175567999E-2},{"$f":"Parameters!T44380","v":1.0171273175567999E-2},{"$f":"Parameters!U44380","v":1.0171273175567999E-2},{"$f":"Parameters!V44380","v":1.0171273175567999E-2},{"$f":"Parameters!W44380","v":1.0171273175567999E-2},{"$f":"Parameters!X44380","v":1.0171273175567999E-2},{"$f":"Parameters!Y44380","v":1.0171273175567999E-2},{"$f":"Parameters!Z44380","v":1.0171273175567999E-2},{"$f":"Parameters!AA44380","v":1.0171273175567999E-2},{"$f":"Parameters!AB44380","v":1.0171273175567999E-2},{"$f":"Parameters!AC44380","v":1.0171273175567999E-2},{"$f":"Parameters!AD44380","v":1.0171273175567999E-2},{"$f":"Parameters!AE44380","v":1.0171273175567999E-2},{"$f":"Parameters!AF44380","v":1.0171273175567999E-2},{"$f":"Parameters!AG44380","v":1.0171273175567999E-2},{"$f":"Parameters!AH44380","v":1.0171273175567999E-2},{"$f":"Parameters!AI44380","v":1.0171273175567999E-2},{"$f":"Parameters!AJ44380","v":1.0171273175567999E-2},{"$f":"Parameters!AK44380","v":1.0171273175567999E-2},{"$f":"Parameters!AL44380","v":1.0171273175567999E-2},{"$f":"Parameters!AM44380","v":1.0171273175567999E-2},{"$f":"Parameters!AN44380","v":1.0171273175567999E-2},{"$f":"Parameters!AO44380","v":1.0171273175567999E-2},{"$f":"Parameters!AP44380","v":1.0171273175567999E-2},{"$f":"Parameters!AQ44380","v":1.0171273175567999E-2},{"$f":"Parameters!AR44380","v":1.0171273175567999E-2},{"$f":"Parameters!AS44380","v":1.0171273175567999E-2},{"$f":"Parameters!AT44380","v":1.0171273175567999E-2},{"$f":"Parameters!AU44380","v":1.0171273175567999E-2},{"$f":"Parameters!AV44380","v":1.0171273175567999E-2},{"$f":"Parameters!AW44380","v":1.0171273175567999E-2},{"$f":"Parameters!AX44380","v":1.0171273175567999E-2},{"$f":"Parameters!AY44380","v":1.0171273175567999E-2},{"$f":"Parameters!AZ44380","v":1.0171273175567999E-2},{"$f":"Parameters!BA44380","v":1.0171273175567999E-2},{"$f":"Parameters!BB44380","v":1.0171273175567999E-2},{"$f":"Parameters!BC44380","v":1.0171273175567999E-2},{"$f":"Parameters!BD44380","v":1.0171273175567999E-2},{"$f":"Parameters!BE44380","v":1.0171273175567999E-2},{"$f":"Parameters!BF44380","v":1.0171273175567999E-2},{"$f":"Parameters!BG44380","v":1.0171273175567999E-2},{"$f":"Parameters!BH44380","v":1.0171273175567999E-2},{"$f":"Parameters!BI44380","v":1.0171273175567999E-2},{"$f":"Parameters!BJ44380","v":1.0171273175567999E-2},{"$f":"Parameters!BK44380","v":1.0171273175567999E-2},{"$f":"Parameters!BL44380","v":1.0171273175567999E-2},{"$f":"Parameters!BM44380","v":1.0171273175567999E-2},{"$f":"Parameters!BN44380","v":1.0171273175567999E-2}]
["S412",{"$f":"Parameters!K44504","v":0},{"$f":"Parameters!L44504","v":0},{"$f":"Parameters!M44504","v":0},{"$f":"Parameters!N44504","v":0},{"$f":"Parameters!O44504","v":0},{"$f":"Parameters!P44504","v":0},{"$f":"Parameters!Q44504","v":0},{"$f":"Parameters!R44504","v":0},{"$f":"Parameters!S44504","v":0},{"$f":"Parameters!T44504","v":0},{"$f":"Parameters!U44504","v":0},{"$f":"Parameters!V44504","v":0},{"$f":"Parameters!W44504","v":0},{"$f":"Parameters!X44504","v":0},{"$f":"Parameters!Y44504","v":0},{"$f":"Parameters!Z44504","v":0},{"$f":"Parameters!AA44504","v":0},{"$f":"Parameters!AB44504","v":0},{"$f":"Parameters!AC44504","v":0},{"$f":"Parameters!AD44504","v":0},{"$f":"Parameters!AE44504","v":0},{"$f":"Parameters!AF44504","v":0},{"$f":"Parameters!AG44504","v":0},{"$f":"Parameters!AH44504","v":0},{"$f":"Parameters!AI44504","v":0},{"$f":"Parameters!AJ44504","v":0},{"$f":"Parameters!AK44504","v":0},{"$f":"Parameters!AL44504","v":0},{"$f":"Parameters!AM44504","v":0},{"$f":"Parameters!AN44504","v":0},{"$f":"Parameters!AO44504","v":0},{"$f":"Parameters!AP44504","v":0},{"$f":"Parameters!AQ44504","v":0},{"$f":"Parameters!AR44504","v":0},{"$f":"Parameters!AS44504","v":0},{"$f":"Parameters!AT44504","v":0},{"$f":"Parameters!AU44504","v":0},{"$f":"Parameters!AV44504","v":0},{"$f":"Parameters!AW44504","v":0},{"$f":"Parameters!AX44504","v":0},{"$f":"Parameters!AY44504","v":0},{"$f":"Parameters!AZ44504","v":0},{"$f":"Parameters!BA44504","v":0},{"$f":"Parameters!BB44504","v":0},{"$f":"Parameters!BC44504","v":0},{"$f":"Parameters!BD44504","v":0},{"$f":"Parameters!BE44504","v":0},{"$f":"Parameters!BF44504","v":0},{"$f":"Parameters!BG44504","v":0},{"$f":"Parameters!BH44504","v":0},{"$f":"Parameters!BI44504","v":0},{"$f":"Parameters!BJ44504","v":0},{"$f":"Parameters!BK44504","v":0},{"$f":"Parameters!BL44504","v":0},{"$f":"Parameters!BM44504","v":0},{"$f":"Parameters!BN44504","v":0}]
["S415",{"$f":"Parameters!K44603","v":0},{"$f":"Parameters!L44603","v":0},{"$f":"Parameters!M44603","v":0},{"$f":"Parameters!N44603","v":0},{"$f":"Parameters!O44603","v":0},{"$f":"Parameters!P44603","v":0},{"$f":"Parameters!Q44603","v":0},{"$f":"Parameters!R44603","v":0},{"$f":"Parameters!S44603","v":0},{"$f":"Parameters!T44603","v":0},{"$f":"Parameters!U44603","v":0},{"$f":"Parameters!V44603","v":0},{"$f":"Parameters!W44603","v":0},{"$f":"Parameters!X44603","v":0},{"$f":"Parameters!Y44603","v":0},{"$f":"Parameters!Z44603","v":0},{"$f":"Parameters!AA44603","v":0},{"$f":"Parameters!AB44603","v":0},{"$f":"Parameters!AC44603","v":0},{"$f":"Parameters!AD44603","v":0},{"$f":"Parameters!AE44603","v":0},{"$f":"Parameters!AF44603","v":0},{"$f":"Parameters!AG44603","v":0},{"$f":"Parameters!AH44603","v":0},{"$f":"Parameters!AI44603","v":0},{"$f":"Parameters!AJ44603","v":0},{"$f":"Parameters!AK44603","v":0},{"$f":"Parameters!AL44603","v":0},{"$f":"Parameters!AM44603","v":0},{"$f":"Parameters!AN44603","v":0},{"$f":"Parameters!AO44603","v":0},{"$f":"Parameters!AP44603","v":0},{"$f":"Parameters!AQ44603","v":0},{"$f":"Parameters!AR44603","v":0},{"$f":"Parameters!AS44603","v":0},{"$f":"Parameters!AT44603","v":0},{"$f":"Parameters!AU44603","v":0},{"$f":"Parameters!AV44603","v":0},{"$f":"Parameters!AW44603","v":0},{"$f":"Parameters!AX44603","v":0},{"$f":"Parameters!AY44603","v":0},{"$f":"Parameters!AZ44603","v":0},{"$f":"Parameters!BA44603","v":0},{"$f":"Parameters!BB44603","v":0},{"$f":"Parameters!BC44603","v":0},{"$f":"Parameters!BD44603","v":0},{"$f":"Parameters!BE44603","v":0},{"$f":"Parameters!BF44603","v":0},{"$f":"Parameters!BG44603","v":0},{"$f":"Parameters!BH44603","v":0},{"$f":"Parameters!BI44603","v":0},{"$f":"Parameters!BJ44603","v":0},{"$f":"Parameters!BK44603","v":0},{"$f":"Parameters!BL44603","v":0},{"$f":"Parameters!BM44603","v":0},{"$f":"Parameters!BN44603","v":0}]
["S118",{"$f":"Parameters!K44822","v":0},{"$f":"Parameters!L44822","v":0},{"$f":"Parameters!M44822","v":0},{"$f":"Parameters!N44822","v":0},{"$f":"Parameters!O44822","v":0},{"$f":"Parameters!P44822","v":0},{"$f":"Parameters!Q44822","v":0},{"$f":"Parameters!R44822","v":0},{"$f":"Parameters!S44822","v":0},{"$f":"Parameters!T44822","v":0},{"$f":"Parameters!U44822","v":0},{"$f":"Parameters!V44822","v":0},{"$f":"Parameters!W44822","v":0},{"$f":"Parameters!X44822","v":0},{"$f":"Parameters!Y44822","v":0},{"$f":"Parameters!Z44822","v":0},{"$f":"Parameters!AA44822","v":0},{"$f":"Parameters!AB44822","v":0},{"$f":"Parameters!AC44822","v":0},{"$f":"Parameters!AD44822","v":0},{"$f":"Parameters!AE44822","v":0},{"$f":"Parameters!AF44822","v":0},{"$f":"Parameters!AG44822","v":0},{"$f":"Parameters!AH44822","v":0},{"$f":"Parameters!AI44822","v":0},{"$f":"Parameters!AJ44822","v":0},{"$f":"Parameters!AK44822","v":0},{"$f":"Parameters!AL44822","v":0},{"$f":"Parameters!AM44822","v":0},{"$f":"Parameters!AN44822","v":0},{"$f":"Parameters!AO44822","v":0},{"$f":"Parameters!AP44822","v":0},{"$f":"Parameters!AQ44822","v":0},{"$f":"Parameters!AR44822","v":0},{"$f":"Parameters!AS44822","v":0},{"$f":"Parameters!AT44822","v":0},{"$f":"Parameters!AU44822","v":0},{"$f":"Parameters!AV44822","v":0},{"$f":"Parameters!AW44822","v":0},{"$f":"Parameters!AX44822","v":0},{"$f":"Parameters!AY44822","v":0},{"$f":"Parameters!AZ44822","v":0},{"$f":"Parameters!BA44822","v":0},{"$f":"Parameters!BB44822","v":0},{"$f":"Parameters!BC44822","v":0},{"$f":"Parameters!BD44822","v":0},{"$f":"Parameters!BE44822","v":0},{"$f":"Parameters!BF44822","v":0},{"$f":"Parameters!BG44822","v":0},{"$f":"Parameters!BH44822","v":0},{"$f":"Parameters!BI44822","v":0},{"$f":"Parameters!BJ44822","v":0},{"$f":"Parameters!BK44822","v":0},{"$f":"Parameters!BL44822","v":0},{"$f":"Parameters!BM44822","v":0},{"$f":"Parameters!BN44822","v":0}]
["S110",{"$f":"Parameters!K45102","v":0},{"$f":"Parameters!L45102","v":0},{"$f":"Parameters!M45102","v":0},{"$f":"Parameters!N45102","v":0},{"$f":"Parameters!O45102","v":0},{"$f":"Parameters!P45102","v":0},{"$f":"Parameters!Q45102","v":0},{"$f":"Parameters!R45102","v":0},{"$f":"Parameters!S45102","v":0},{"$f":"Parameters!T45102","v":0},{"$f":"Parameters!U45102","v":0},{"$f":"Parameters!V45102","v":0},{"$f":"Parameters!W45102","v":0},{"$f":"Parameters!X45102","v":0},{"$f":"Parameters!Y45102","v":0},{"$f":"Parameters!Z45102","v":0},{"$f":"Parameters!AA45102","v":0},{"$f":"Parameters!AB45102","v":0},{"$f":"Parameters!AC45102","v":0},{"$f":"Parameters!AD45102","v":0},{"$f":"Parameters!AE45102","v":0},{"$f":"Parameters!AF45102","v":0},{"$f":"Parameters!AG45102","v":0},{"$f":"Parameters!AH45102","v":0},{"$f":"Parameters!AI45102","v":0},{"$f":"Parameters!AJ45102","v":0},{"$f":"Parameters!AK45102","v":0},{"$f":"Parameters!AL45102","v":0},{"$f":"Parameters!AM45102","v":0},{"$f":"Parameters!AN45102","v":0},{"$f":"Parameters!AO45102","v":0},{"$f":"Parameters!AP45102","v":0},{"$f":"Parameters!AQ45102","v":0},{"$f":"Parameters!AR45102","v":0},{"$f":"Parameters!AS45102","v":0},{"$f":"Parameters!AT45102","v":0},{"$f":"Parameters!AU45102","v":0},{"$f":"Parameters!AV45102","v":0},{"$f":"Parameters!AW45102","v":0},{"$f":"Parameters!AX45102","v":0},{"$f":"Parameters!AY45102","v":0},{"$f":"Parameters!AZ45102","v":0},{"$f":"Parameters!BA45102","v":0},{"$f":"Parameters!BB45102","v":0},{"$f":"Parameters!BC45102","v":0},{"$f":"Parameters!BD45102","v":0},{"$f":"Parameters!BE45102","v":0},{"$f":"Parameters!BF45102","v":0},{"$f":"Parameters!BG45102","v":0},{"$f":"Parameters!BH45102","v":0},{"$f":"Parameters!BI45102","v":0},{"$f":"Parameters!BJ45102","v":0},{"$f":"Parameters!BK45102","v":0},{"$f":"Parameters!BL45102","v":0},{"$f":"Parameters!BM45102","v":0},{"$f":"Parameters!BN45102","v":0}]
["S302",{"$f":"Parameters!K45142","v":0},{"$f":"Parameters!L45142","v":0},{"$f":"Parameters!M45142","v":0},{"$f":"Parameters!N45142","v":0},{"$f":"Parameters!O45142","v":0},{"$f":"Parameters!P45142","v":0},{"$f":"Parameters!Q45142","v":0},{"$f":"Parameters!R45142","v":0},{"$f":"Parameters!S45142","v":0},{"$f":"Parameters!T45142","v":0},{"$f":"Parameters!U45142","v":0},{"$f":"Parameters!V45142","v":0},{"$f":"Parameters!W45142","v":0},{"$f":"Parameters!X45142","v":0},{"$f":"Parameters!Y45142","v":0},{"$f":"Parameters!Z45142","v":0},{"$f":"Parameters!AA45142","v":0},{"$f":"Parameters!AB45142","v":0},{"$f":"Parameters!AC45142","v":0},{"$f":"Parameters!AD45142","v":0},{"$f":"Parameters!AE45142","v":0},{"$f":"Parameters!AF45142","v":0},{"$f":"Parameters!AG45142","v":0},{"$f":"Parameters!AH45142","v":0},{"$f":"Parameters!AI45142","v":0},{"$f":"Parameters!AJ45142","v":0},{"$f":"Parameters!AK45142","v":0},{"$f":"Parameters!AL45142","v":0},{"$f":"Parameters!AM45142","v":0},{"$f":"Parameters!AN45142","v":0},{"$f":"Parameters!AO45142","v":0},{"$f":"Parameters!AP45142","v":0},{"$f":"Parameters!AQ45142","v":0},{"$f":"Parameters!AR45142","v":0},{"$f":"Parameters!AS45142","v":0},{"$f":"Parameters!AT45142","v":0},{"$f":"Parameters!AU45142","v":0},{"$f":"Parameters!AV45142","v":0},{"$f":"Parameters!AW45142","v":0},{"$f":"Parameters!AX45142","v":0},{"$f":"Parameters!AY45142","v":0},{"$f":"Parameters!AZ45142","v":0},{"$f":"Parameters!BA45142","v":0},{"$f":"Parameters!BB45142","v":0},{"$f":"Parameters!BC45142","v":0},{"$f":"Parameters!BD45142","v":0},{"$f":"Parameters!BE45142","v":0},{"$f":"Parameters!BF45142","v":0},{"$f":"Parameters!BG45142","v":0},{"$f":"Parameters!BH45142","v":0},{"$f":"Parameters!BI45142","v":0},{"$f":"Parameters!BJ45142","v":0},{"$f":"Parameters!BK45142","v":0},{"$f":"Parameters!BL45142","v":0},{"$f":"Parameters!BM45142","v":0},{"$f":"Parameters!BN45142","v":0}]
["S217",{"$f":"Parameters!K45325","v":0},{"$f":"Parameters!L45325","v":0},{"$f":"Parameters!M45325","v":0},{"$f":"Parameters!N45325","v":0},{"$f":"Parameters!O45325","v":0},{"$f":"Parameters!P45325","v":0},{"$f":"Parameters!Q45325","v":0},{"$f":"Parameters!R45325","v":0},{"$f":"Parameters!S45325","v":0},{"$f":"Parameters!T45325","v":0},{"$f":"Parameters!U45325","v":0},{"$f":"Parameters!V45325","v":0},{"$f":"Parameters!W45325","v":0},{"$f":"Parameters!X45325","v":0},{"$f":"Parameters!Y45325","v":0},{"$f":"Parameters!Z45325","v":0},{"$f":"Parameters!AA45325","v":0},{"$f":"Parameters!AB45325","v":0},{"$f":"Parameters!AC45325","v":0},{"$f":"Parameters!AD45325","v":0},{"$f":"Parameters!AE45325","v":0},{"$f":"Parameters!AF45325","v":0},{"$f":"Parameters!AG45325","v":0},{"$f":"Parameters!AH45325","v":0},{"$f":"Parameters!AI45325","v":0},{"$f":"Parameters!AJ45325","v":0},{"$f":"Parameters!AK45325","v":0},{"$f":"Parameters!AL45325","v":0},{"$f":"Parameters!AM45325","v":0},{"$f":"Parameters!AN45325","v":0},{"$f":"Parameters!AO45325","v":0},{"$f":"Parameters!AP45325","v":0},{"$f":"Parameters!AQ45325","v":0},{"$f":"Parameters!AR45325","v":0},{"$f":"Parameters!AS45325","v":0},{"$f":"Parameters!AT45325","v":0},{"$f":"Parameters!AU45325","v":0},{"$f":"Parameters!AV45325","v":0},{"$f":"Parameters!AW45325","v":0},{"$f":"Parameters!AX45325","v":0},{"$f":"Parameters!AY45325","v":0},{"$f":"Parameters!AZ45325","v":0},{"$f":"Parameters!BA45325","v":0},{"$f":"Parameters!BB45325","v":0},{"$f":"Parameters!BC45325","v":0},{"$f":"Parameters!BD45325","v":0},{"$f":"Parameters!BE45325","v":0},{"$f":"Parameters!BF45325","v":0},{"$f":"Parameters!BG45325","v":0},{"$f":"Parameters!BH45325","v":0},{"$f":"Parameters!BI45325","v":0},{"$f":"Parameters!BJ45325","v":0},{"$f":"Parameters!BK45325","v":0},{"$f":"Parameters!BL45325","v":0},{"$f":"Parameters!BM45325","v":0},{"$f":"Parameters!BN45325","v":0}]
["S414",{"$f":"Parameters!K45562","v":0},{"$f":"Parameters!L45562","v":0},{"$f":"Parameters!M45562","v":0},{"$f":"Parameters!N45562","v":0},{"$f":"Parameters!O45562","v":0},{"$f":"Parameters!P45562","v":0},{"$f":"Parameters!Q45562","v":0},{"$f":"Parameters!R45562","v":0},{"$f":"Parameters!S45562","v":0},{"$f":"Parameters!T45562","v":0},{"$f":"Parameters!U45562","v":0},{"$f":"Parameters!V45562","v":0},{"$f":"Parameters!W45562","v":0},{"$f":"Parameters!X45562","v":0},{"$f":"Parameters!Y45562","v":0},{"$f":"Parameters!Z45562","v":0},{"$f":"Parameters!AA45562","v":0},{"$f":"Parameters!AB45562","v":0},{"$f":"Parameters!AC45562","v":0},{"$f":"Parameters!AD45562","v":0},{"$f":"Parameters!AE45562","v":0},{"$f":"Parameters!AF45562","v":0},{"$f":"Parameters!AG45562","v":0},{"$f":"Parameters!AH45562","v":0},{"$f":"Parameters!AI45562","v":0},{"$f":"Parameters!AJ45562","v":0},{"$f":"Parameters!AK45562","v":0},{"$f":"Parameters!AL45562","v":0},{"$f":"Parameters!AM45562","v":0},{"$f":"Parameters!AN45562","v":0},{"$f":"Parameters!AO45562","v":0},{"$f":"Parameters!AP45562","v":0},{"$f":"Parameters!AQ45562","v":0},{"$f":"Parameters!AR45562","v":0},{"$f":"Parameters!AS45562","v":0},{"$f":"Parameters!AT45562","v":0},{"$f":"Parameters!AU45562","v":0},{"$f":"Parameters!AV45562","v":0},{"$f":"Parameters!AW45562","v":0},{"$f":"Parameters!AX45562","v":0},{"$f":"Parameters!AY45562","v":0},{"$f":"Parameters!AZ45562","v":0},{"$f":"Parameters!BA45562","v":0},{"$f":"Parameters!BB45562","v":0},{"$f":"Parameters!BC45562","v":0},{"$f":"Parameters!BD45562","v":0},{"$f":"Parameters!BE45562","v":0},{"$f":"Parameters!BF45562","v":0},{"$f":"Parameters!BG45562","v":0},{"$f":"Parameters!BH45562","v":0},{"$f":"Parameters!BI45562","v":0},{"$f":"Parameters!BJ45562","v":0},{"$f":"Parameters!BK45562","v":0},{"$f":"Parameters!BL45562","v":0},{"$f":"Parameters!BM45562","v":0},{"$f":"Parameters!BN45562","v":0}]
["S202",{"$f":"Parameters!K45790","v":0},{"$f":"Parameters!L45790","v":0},{"$f":"Parameters!M45790","v":0},{"$f":"Parameters!N45790","v":0},{"$f":"Parameters!O45790","v":0},{"$f":"Parameters!P45790","v":0},{"$f":"Parameters!Q45790","v":0},{"$f":"Parameters!R45790","v":0},{"$f":"Parameters!S45790","v":0},{"$f":"Parameters!T45790","v":0},{"$f":"Parameters!U45790","v":0},{"$f":"Parameters!V45790","v":0},{"$f":"Parameters!W45790","v":0},{"$f":"Parameters!X45790","v":0},{"$f":"Parameters!Y45790","v":0},{"$f":"Parameters!Z45790","v":0},{"$f":"Parameters!AA45790","v":0},{"$f":"Parameters!AB45790","v":0},{"$f":"Parameters!AC45790","v":0},{"$f":"Parameters!AD45790","v":0},{"$f":"Parameters!AE45790","v":0},{"$f":"Parameters!AF45790","v":0},{"$f":"Parameters!AG45790","v":0},{"$f":"Parameters!AH45790","v":0},{"$f":"Parameters!AI45790","v":0},{"$f":"Parameters!AJ45790","v":0},{"$f":"Parameters!AK45790","v":0},{"$f":"Parameters!AL45790","v":0},{"$f":"Parameters!AM45790","v":0},{"$f":"Parameters!AN45790","v":0},{"$f":"Parameters!AO45790","v":0},{"$f":"Parameters!AP45790","v":0},{"$f":"Parameters!AQ45790","v":0},{"$f":"Parameters!AR45790","v":0},{"$f":"Parameters!AS45790","v":0},{"$f":"Parameters!AT45790","v":0},{"$f":"Parameters!AU45790","v":0},{"$f":"Parameters!AV45790","v":0},{"$f":"Parameters!AW45790","v":0},{"$f":"Parameters!AX45790","v":0},{"$f":"Parameters!AY45790","v":0},{"$f":"Parameters!AZ45790","v":0},{"$f":"Parameters!BA45790","v":0},{"$f":"Parameters!BB45790","v":0},{"$f":"Parameters!BC45790","v":0},{"$f":"Parameters!BD45790","v":0},{"$f":"Parameters!BE45790","v":0},{"$f":"Parameters!BF45790","v":0},{"$f":"Parameters!BG45790","v":0},{"$f":"Parameters!BH45790","v":0},{"$f":"Parameters!BI45790","v":0},{"$f":"Parameters!BJ45790","v":0},{"$f":"Parameters!BK45790","v":0},{"$f":"Parameters!BL45790","v":0},{"$f":"Parameters!BM45790","v":0},{"$f":"Parameters!BN45790","v":0}]
["S201",{"$f":"Parameters!K45885","v":0},{"$f":"Parameters!L45885","v":0},{"$f":"Parameters!M45885","v":0},{"$f":"Parameters!N45885","v":0},{"$f":"Parameters!O45885","v":0},{"$f":"Parameters!P45885","v":0},{"$f":"Parameters!Q45885","v":0},{"$f":"Parameters!R45885","v":0},{"$f":"Parameters!S45885","v":0},{"$f":"Parameters!T45885","v":0},{"$f":"Parameters!U45885","v":0},{"$f":"Parameters!V45885","v":0},{"$f":"Parameters!W45885","v":0},{"$f":"Parameters!X45885","v":0},{"$f":"Parameters!Y45885","v":0},{"$f":"Parameters!Z45885","v":0},{"$f":"Parameters!AA45885","v":0},{"$f":"Parameters!AB45885","v":0},{"$f":"Parameters!AC45885","v":0},{"$f":"Parameters!AD45885","v":0},{"$f":"Parameters!AE45885","v":0},{"$f":"Parameters!AF45885","v":0},{"$f":"Parameters!AG45885","v":0},{"$f":"Parameters!AH45885","v":0},{"$f":"Parameters!AI45885","v":0},{"$f":"Parameters!AJ45885","v":0},{"$f":"Parameters!AK45885","v":0},{"$f":"Parameters!AL45885","v":0},{"$f":"Parameters!AM45885","v":0},{"$f":"Parameters!AN45885","v":0},{"$f":"Parameters!AO45885","v":0},{"$f":"Parameters!AP45885","v":0},{"$f":"Parameters!AQ45885","v":0},{"$f":"Parameters!AR45885","v":0},{"$f":"Parameters!AS45885","v":0},{"$f":"Parameters!AT45885","v":0},{"$f":"Parameters!AU45885","v":0},{"$f":"Parameters!AV45885","v":0},{"$f":"Parameters!AW45885","v":0},{"$f":"Parameters!AX45885","v":0},{"$f":"Parameters!AY45885","v":0},{"$f":"Parameters!AZ45885","v":0},{"$f":"Parameters!BA45885","v":0},{"$f":"Parameters!BB45885","v":0},{"$f":"Parameters!BC45885","v":0},{"$f":"Parameters!BD45885","v":0},{"$f":"Parameters!BE45885","v":0},{"$f":"Parameters!BF45885","v":0},{"$f":"Parameters!BG45885","v":0},{"$f":"Parameters!BH45885","v":0},{"$f":"Parameters!BI45885","v":0},{"$f":"Parameters!BJ45885","v":0},{"$f":"Parameters!BK45885","v":0},{"$f":"Parameters!BL45885","v":0},{"$f":"Parameters!BM45885","v":0},{"$f":"Parameters!BN45885","v":0}]
["S310",{"$f":"Parameters!K46110","v":0},{"$f":"Parameters!L46110","v":0},{"$f":"Parameters!M46110","v":0},{"$f":"Parameters!N46110","v":0},{"$f":"Parameters!O46110","v":0},{"$f":"Parameters!P46110","v":0},{"$f":"Parameters!Q46110","v":0},{"$f":"Parameters!R46110","v":0},{"$f":"Parameters!S46110","v":0},{"$f":"Parameters!T46110","v":0},{"$f":"Parameters!U46110","v":0},{"$f":"Parameters!V46110","v":0},{"$f":"Parameters!W46110","v":0},{"$f":"Parameters!X46110","v":0},{"$f":"Parameters!Y46110","v":0},{"$f":"Parameters!Z46110","v":0},{"$f":"Parameters!AA46110","v":0},{"$f":"Parameters!AB46110","v":0},{"$f":"Parameters!AC46110","v":0},{"$f":"Parameters!AD46110","v":0},{"$f":"Parameters!AE46110","v":0},{"$f":"Parameters!AF46110","v":0},{"$f":"Parameters!AG46110","v":0},{"$f":"Parameters!AH46110","v":0},{"$f":"Parameters!AI46110","v":0},{"$f":"Parameters!AJ46110","v":0},{"$f":"Parameters!AK46110","v":0},{"$f":"Parameters!AL46110","v":0},{"$f":"Parameters!AM46110","v":0},{"$f":"Parameters!AN46110","v":0},{"$f":"Parameters!AO46110","v":0},{"$f":"Parameters!AP46110","v":0},{"$f":"Parameters!AQ46110","v":0},{"$f":"Parameters!AR46110","v":0},{"$f":"Parameters!AS46110","v":0},{"$f":"Parameters!AT46110","v":0},{"$f":"Parameters!AU46110","v":0},{"$f":"Parameters!AV46110","v":0},{"$f":"Parameters!AW46110","v":0},{"$f":"Parameters!AX46110","v":0},{"$f":"Parameters!AY46110","v":0},{"$f":"Parameters!AZ46110","v":0},{"$f":"Parameters!BA46110","v":0},{"$f":"Parameters!BB46110","v":0},{"$f":"Parameters!BC46110","v":0},{"$f":"Parameters!BD46110","v":0},{"$f":"Parameters!BE46110","v":0},{"$f":"Parameters!BF46110","v":0},{"$f":"Parameters!BG46110","v":0},{"$f":"Parameters!BH46110","v":0},{"$f":"Parameters!BI46110","v":0},{"$f":"Parameters!BJ46110","v":0},{"$f":"Parameters!BK46110","v":0},{"$f":"Parameters!BL46110","v":0},{"$f":"Parameters!BM46110","v":0},{"$f":"Parameters!BN46110","v":0}]
["S216",{"$f":"Parameters!K46284","v":0},{"$f":"Parameters!L46284","v":0},{"$f":"Parameters!M46284","v":0},{"$f":"Parameters!N46284","v":0},{"$f":"Parameters!O46284","v":0},{"$f":"Parameters!P46284","v":0},{"$f":"Parameters!Q46284","v":0},{"$f":"Parameters!R46284","v":0},{"$f":"Parameters!S46284","v":0},{"$f":"Parameters!T46284","v":0},{"$f":"Parameters!U46284","v":0},{"$f":"Parameters!V46284","v":0},{"$f":"Parameters!W46284","v":0},{"$f":"Parameters!X46284","v":0},{"$f":"Parameters!Y46284","v":0},{"$f":"Parameters!Z46284","v":0},{"$f":"Parameters!AA46284","v":0},{"$f":"Parameters!AB46284","v":0},{"$f":"Parameters!AC46284","v":0},{"$f":"Parameters!AD46284","v":0},{"$f":"Parameters!AE46284","v":0},{"$f":"Parameters!AF46284","v":0},{"$f":"Parameters!AG46284","v":0},{"$f":"Parameters!AH46284","v":0},{"$f":"Parameters!AI46284","v":0},{"$f":"Parameters!AJ46284","v":0},{"$f":"Parameters!AK46284","v":0},{"$f":"Parameters!AL46284","v":0},{"$f":"Parameters!AM46284","v":0},{"$f":"Parameters!AN46284","v":0},{"$f":"Parameters!AO46284","v":0},{"$f":"Parameters!AP46284","v":0},{"$f":"Parameters!AQ46284","v":0},{"$f":"Parameters!AR46284","v":0},{"$f":"Parameters!AS46284","v":0},{"$f":"Parameters!AT46284","v":0},{"$f":"Parameters!AU46284","v":0},{"$f":"Parameters!AV46284","v":0},{"$f":"Parameters!AW46284","v":0},{"$f":"Parameters!AX46284","v":0},{"$f":"Parameters!AY46284","v":0},{"$f":"Parameters!AZ46284","v":0},{"$f":"Parameters!BA46284","v":0},{"$f":"Parameters!BB46284","v":0},{"$f":"Parameters!BC46284","v":0},{"$f":"Parameters!BD46284","v":0},{"$f":"Parameters!BE46284","v":0},{"$f":"Parameters!BF46284","v":0},{"$f":"Parameters!BG46284","v":0},{"$f":"Parameters!BH46284","v":0},{"$f":"Parameters!BI46284","v":0},{"$f":"Parameters!BJ46284","v":0},{"$f":"Parameters!BK46284","v":0},{"$f":"Parameters!BL46284","v":0},{"$f":"Parameters!BM46284","v":0},{"$f":"Parameters!BN46284","v":0}]
["S413",{"$f":"Parameters!K46521","v":0},{"$f":"Parameters!L46521","v":0},{"$f":"Parameters!M46521","v":0},{"$f":"Parameters!N46521","v":0},{"$f":"Parameters!O46521","v":0},{"$f":"Parameters!P46521","v":0},{"$f":"Parameters!Q46521","v":0},{"$f":"Parameters!R46521","v":0},{"$f":"Parameters!S46521","v":0},{"$f":"Parameters!T46521","v":0},{"$f":"Parameters!U46521","v":0},{"$f":"Parameters!V46521","v":0},{"$f":"Parameters!W46521","v":0},{"$f":"Parameters!X46521","v":0},{"$f":"Parameters!Y46521","v":0},{"$f":"Parameters!Z46521","v":0},{"$f":"Parameters!AA46521","v":0},{"$f":"Parameters!AB46521","v":0},{"$f":"Parameters!AC46521","v":0},{"$f":"Parameters!AD46521","v":0},{"$f":"Parameters!AE46521","v":0},{"$f":"Parameters!AF46521","v":0},{"$f":"Parameters!AG46521","v":0},{"$f":"Parameters!AH46521","v":0},{"$f":"Parameters!AI46521","v":0},{"$f":"Parameters!AJ46521","v":0},{"$f":"Parameters!AK46521","v":0},{"$f":"Parameters!AL46521","v":0},{"$f":"Parameters!AM46521","v":0},{"$f":"Parameters!AN46521","v":0},{"$f":"Parameters!AO46521","v":0},{"$f":"Parameters!AP46521","v":0},{"$f":"Parameters!AQ46521","v":0},{"$f":"Parameters!AR46521","v":0},{"$f":"Parameters!AS46521","v":0},{"$f":"Parameters!AT46521","v":0},{"$f":"Parameters!AU46521","v":0},{"$f":"Parameters!AV46521","v":0},{"$f":"Parameters!AW46521","v":0},{"$f":"Parameters!AX46521","v":0},{"$f":"Parameters!AY46521","v":0},{"$f":"Parameters!AZ46521","v":0},{"$f":"Parameters!BA46521","v":0},{"$f":"Parameters!BB46521","v":0},{"$f":"Parameters!BC46521","v":0},{"$f":"Parameters!BD46521","v":0},{"$f":"Parameters!BE46521","v":0},{"$f":"Parameters!BF46521","v":0},{"$f":"Parameters!BG46521","v":0},{"$f":"Parameters!BH46521","v":0},{"$f":"Parameters!BI46521","v":0},{"$f":"Parameters!BJ46521","v":0},{"$f":"Parameters!BK46521","v":0},{"$f":"Parameters!BL46521","v":0},{"$f":"Parameters!BM46521","v":0},{"$f":"Parameters!BN46521","v":0}]
["S301",{"$f":"Parameters!K46581","v":0},{"$f":"Parameters!L46581","v":0},{"$f":"Parameters!M46581","v":0},{"$f":"Parameters!N46581","v":0},{"$f":"Parameters!O46581","v":0},{"$f":"Parameters!P46581","v":0},{"$f":"Parameters!Q46581","v":0},{"$f":"Parameters!R46581","v":0},{"$f":"Parameters!S46581","v":0},{"$f":"Parameters!T46581","v":0},{"$f":"Parameters!U46581","v":0},{"$f":"Parameters!V46581","v":0},{"$f":"Parameters!W46581","v":0},{"$f":"Parameters!X46581","v":0},{"$f":"Parameters!Y46581","v":0},{"$f":"Parameters!Z46581","v":0},{"$f":"Parameters!AA46581","v":0},{"$f":"Parameters!AB46581","v":0},{"$f":"Parameters!AC46581","v":0},{"$f":"Parameters!AD46581","v":0},{"$f":"Parameters!AE46581","v":0},{"$f":"Parameters!AF46581","v":0},{"$f":"Parameters!AG46581","v":0},{"$f":"Parameters!AH46581","v":0},{"$f":"Parameters!AI46581","v":0},{"$f":"Parameters!AJ46581","v":0},{"$f":"Parameters!AK46581","v":0},{"$f":"Parameters!AL46581","v":0},{"$f":"Parameters!AM46581","v":0},{"$f":"Parameters!AN46581","v":0},{"$f":"Parameters!AO46581","v":0},{"$f":"Parameters!AP46581","v":0},{"$f":"Parameters!AQ46581","v":0},{"$f":"Parameters!AR46581","v":0},{"$f":"Parameters!AS46581","v":0},{"$f":"Parameters!AT46581","v":0},{"$f":"Parameters!AU46581","v":0},{"$f":"Parameters!AV46581","v":0},{"$f":"Parameters!AW46581","v":0},{"$f":"Parameters!AX46581","v":0},{"$f":"Parameters!AY46581","v":0},{"$f":"Parameters!AZ46581","v":0},{"$f":"Parameters!BA46581","v":0},{"$f":"Parameters!BB46581","v":0},{"$f":"Parameters!BC46581","v":0},{"$f":"Parameters!BD46581","v":0},{"$f":"Parameters!BE46581","v":0},{"$f":"Parameters!BF46581","v":0},{"$f":"Parameters!BG46581","v":0},{"$f":"Parameters!BH46581","v":0},{"$f":"Parameters!BI46581","v":0},{"$f":"Parameters!BJ46581","v":0},{"$f":"Parameters!BK46581","v":0},{"$f":"Parameters!BL46581","v":0},{"$f":"Parameters!BM46581","v":0},{"$f":"Parameters!BN46581","v":0}]
[{"$f":"SETS!B23","v":"TEC021"},{"$f":"Parameters!K46841","v":99999},{"$f":"Parameters!L46841","v":99999},{"$f":"Parameters!M46841","v":99999},{"$f":"Parameters!N46841","v":99999},{"$f":"Parameters!O46841","v":99999},{"$f":"Parameters!P46841","v":99999},{"$f":"Parameters!Q46841","v":99999},{"$f":"Parameters!R46841","v":99999},{"$f":"Parameters!S46841","v":99999},{"$f":"Parameters!T46841","v":99999},{"$f":"Parameters!U46841","v":99999},{"$f":"Parameters!V46841","v":99999},{"$f":"Parameters!W46841","v":99999},{"$f":"Parameters!X46841","v":99999},{"$f":"Parameters!Y46841","v":99999},{"$f":"Parameters!Z46841","v":99999},{"$f":"Parameters!AA46841","v":99999},{"$f":"Parameters!AB46841","v":99999},{"$f":"Parameters!AC46841","v":99999},{"$f":"Parameters!AD46841","v":99999},{"$f":"Parameters!AE46841","v":99999},{"$f":"Parameters!AF46841","v":99999},{"$f":"Parameters!AG46841","v":99999},{"$f":"Parameters!AH46841","v":99999},{"$f":"Parameters!AI46841","v":99999},{"$f":"Parameters!AJ46841","v":99999},{"$f":"Parameters!AK46841","v":99999},{"$f":"Parameters!AL46841","v":99999},{"$f":"Parameters!AM46841","v":99999},{"$f":"Parameters!AN46841","v":99999},{"$f":"Parameters!AO46841","v":99999},{"$f":"Parameters!AP46841","v":99999},{"$f":"Parameters!AQ46841","v":99999},{"$f":"Parameters!AR46841","v":99999},{"$f":"Parameters!AS46841","v":99999},{"$f":"Parameters!AT46841","v":99999},{"$f":"Parameters!AU46841","v":99999},{"$f":"Parameters!AV46841","v":99999},{"$f":"Parameters!AW46841","v":99999},{"$f":"Parameters!AX46841","v":99999},{"$f":"Parameters!AY46841","v":99999},{"$f":"Parameters!AZ46841","v":99999},{"$f":"Parameters!BA46841","v":99999},{"$f":"Parameters!BB46841","v":99999},{"$f":"Parameters!BC46841","v":99999},{"$f":"Parameters!BD46841","v":99999},{"$f":"Parameters!BE46841","v":99999},{"$f":"Parameters!BF46841","v":99999},{"$f":"Parameters!BG46841","v":99999},{"$f":"Parameters!BH46841","v":99999},{"$f":"Parameters!BI46841","v":99999},{"$f":"Parameters!BJ46841","v":99999},{"$f":"Parameters!BK46841","v":99999},{"$f":"Parameters!BL46841","v":99999},{"$f":"Parameters!BM46841","v":99999},{"$f":"Parameters!BN46841","v":99999}]
[{"$f":"SETS!B80","v":"BSTOPCAR"},{"$f":"Parameters!K46898","v":99999},{"$f":"Parameters!L46898","v":99999},{"$f":"Parameters!M46898","v":99999},{"$f":"Parameters!N46898","v":99999},{"$f":"Parameters!O46898","v":99999},{"$f":"Parameters!P46898","v":99999},{"$f":"Parameters!Q46898","v":99999},{"$f":"Parameters!R46898","v":99999},{"$f":"Parameters!S46898","v":99999},{"$f":"Parameters!T46898","v":99999},{"$f":"Parameters!U46898","v":99999},{"$f":"Parameters!V46898","v":99999},{"$f":"Parameters!W46898","v":99999},{"$f":"Parameters!X46898","v":99999},{"$f":"Parameters!Y46898","v":99999},{"$f":"Parameters!Z46898","v":99999},{"$f":"Parameters!AA46898","v":99999},{"$f":"Parameters!AB46898","v":99999},{"$f":"Parameters!AC46898","v":99999},{"$f":"Parameters!AD46898","v":99999},{"$f":"Parameters!AE46898","v":99999},{"$f":"Parameters!AF46898","v":99999},{"$f":"Parameters!AG46898","v":99999},{"$f":"Parameters!AH46898","v":99999},{"$f":"Parameters!AI46898","v":99999},{"$f":"Parameters!AJ46898","v":99999},{"$f":"Parameters!AK46898","v":99999},{"$f":"Parameters!AL46898","v":99999},{"$f":"Parameters!AM46898","v":99999},{"$f":"Parameters!AN46898","v":99999},{"$f":"Parameters!AO46898","v":99999},{"$f":"Parameters!AP46898","v":99999},{"$f":"Parameters!AQ46898","v":99999},{"$f":"Parameters!AR46898","v":99999},{"$f":"Parameters!AS46898","v":99999},{"$f":"Parameters!AT46898","v":99999},{"$f":"Parameters!AU46898","v":99999},{"$f":"Parameters!AV46898","v":99999},{"$f":"Parameters!AW46898","v":99999},{"$f":"Parameters!AX46898","v":99999},{"$f":"Parameters!AY46898","v":99999},{"$f":"Parameters!AZ46898","v":99999},{"$f":"Parameters!BA46898","v":99999},{"$f":"Parameters!BB46898","v":99999},{"$f":"Parameters!BC46898","v":99999},{"$f":"Parameters!BD46898","v":99999},{"$f":"Parameters!BE46898","v":99999},{"$f":"Parameters!BF46898","v":99999},{"$f":"Parameters!BG46898","v":99999},{"$f":"Parameters!BH46898","v":99999},{"$f":"Parameters!BI46898","v":99999},{"$f":"Parameters!BJ46898","v":99999},{"$f":"Parameters!BK46898","v":99999},{"$f":"Parameters!BL46898","v":99999},{"$f":"Parameters!BM46898","v":99999},{"$f":"Parameters!BN46898","v":99999}]
[{"$f":"SETS!B46","v":"PWRHYD004"},{"$f":"Parameters!K47063","v":99999},{"$f":"Parameters!L47063","v":99999},{"$f":"Parameters!M47063","v":99999},{"$f":"Parameters!N47063","v":99999},{"$f":"Parameters!O47063","v":99999},{"$f":"Parameters!P47063","v":99999},{"$f":"Parameters!Q47063","v":99999},{"$f":"Parameters!R47063","v":99999},{"$f":"Parameters!S47063","v":99999},{"$f":"Parameters!T47063","v":99999},{"$f":"Parameters!U47063","v":99999},{"$f":"Parameters!V47063","v":99999},{"$f":"Parameters!W47063","v":99999},{"$f":"Parameters!X47063","v":99999},{"$f":"Parameters!Y47063","v":99999},{"$f":"Parameters!Z47063","v":99999},{"$f":"Parameters!AA47063","v":99999},{"$f":"Parameters!AB47063","v":99999},{"$f":"Parameters!AC47063","v":99999},{"$f":"Parameters!AD47063","v":99999},{"$f":"Parameters!AE47063","v":99999},{"$f":"Parameters!AF47063","v":99999},{"$f":"Parameters!AG47063","v":99999},{"$f":"Parameters!AH47063","v":99999},{"$f":"Parameters!AI47063","v":99999},{"$f":"Parameters!AJ47063","v":99999},{"$f":"Parameters!AK47063","v":99999},{"$f":"Parameters!AL47063","v":99999},{"$f":"Parameters!AM47063","v":99999},{"$f":"Parameters!AN47063","v":99999},{"$f":"Parameters!AO47063","v":99999},{"$f":"Parameters!AP47063","v":99999},{"$f":"Parameters!AQ47063","v":99999},{"$f":"Parameters!AR47063","v":99999},{"$f":"Parameters!AS47063","v":99999},{"$f":"Parameters!AT47063","v":99999},{"$f":"Parameters!AU47063","v":99999},{"$f":"Parameters!AV47063","v":99999},{"$f":"Parameters!AW47063","v":99999},{"$f":"Parameters!AX47063","v":99999},{"$f":"Parameters!AY47063","v":99999},{"$f":"Parameters!AZ47063","v":99999},{"$f":"Parameters!BA47063","v":99999},{"$f":"Parameters!BB47063","v":99999},{"$f":"Parameters!BC47063","v":99999},{"$f":"Parameters!BD47063","v":99999},{"$f":"Parameters!BE47063","v":99999},{"$f":"Parameters!BF47063","v":99999},{"$f":"Parameters!BG47063","v":99999},{"$f":"Parameters!BH47063","v":99999},{"$f":"Parameters!BI47063","v":99999},{"$f":"Parameters!BJ47063","v":99999},{"$f":"Parameters!BK47063","v":99999},{"$f":"Parameters!BL47063","v":99999},{"$f":"Parameters!BM47063","v":99999},{"$f":"Parameters!BN47063","v":99999}]
[{"$f":"SETS!B164","v":"TEC161"},{"$f":"Parameters!K47380","v":0},{"$f":"Parameters!L47380","v":0},{"$f":"Parameters!M47380","v":0},{"$f":"Parameters!N47380","v":0},{"$f":"Parameters!O47380","v":0},{"$f":"Parameters!P47380","v":0},{"$f":"Parameters!Q47380","v":0},{"$f":"Parameters!R47380","v":0},{"$f":"Parameters!S47380","v":0},{"$f":"Parameters!T47380","v":0},{"$f":"Parameters!U47380","v":0},{"$f":"Parameters!V47380","v":0},{"$f":"Parameters!W47380","v":0},{"$f":"Parameters!X47380","v":0},{"$f":"Parameters!Y47380","v":0},{"$f":"Parameters!Z47380","v":0},{"$f":"Parameters!AA47380","v":0},{"$f":"Parameters!AB47380","v":0},{"$f":"Parameters!AC47380","v":0},{"$f":"Parameters!AD47380","v":0},{"$f":"Parameters!AE47380","v":0},{"$f":"Parameters!AF47380","v":0},{"$f":"Parameters!AG47380","v":0},{"$f":"Parameters!AH47380","v":0},{"$f":"Parameters!AI47380","v":0},{"$f":"Parameters!AJ47380","v":0},{"$f":"Parameters!AK47380","v":0},{"$f":"Parameters!AL47380","v":0},{"$f":"Parameters!AM47380","v":0},{"$f":"Parameters!AN47380","v":0},{"$f":"Parameters!AO47380","v":0},{"$f":"Parameters!AP47380","v":0},{"$f":"Parameters!AQ47380","v":0},{"$f":"Parameters!AR47380","v":0},{"$f":"Parameters!AS47380","v":0},{"$f":"Parameters!AT47380","v":0},{"$f":"Parameters!AU47380","v":0},{"$f":"Parameters!AV47380","v":0},{"$f":"Parameters!AW47380","v":0},{"$f":"Parameters!AX47380","v":0},{"$f":"Parameters!AY47380","v":0},{"$f":"Parameters!AZ47380","v":0},{"$f":"Parameters!BA47380","v":0},{"$f":"Parameters!BB47380","v":0},{"$f":"Parameters!BC47380","v":0},{"$f":"Parameters!BD47380","v":0},{"$f":"Parameters!BE47380","v":0},{"$f":"Parameters!BF47380","v":0},{"$f":"Parameters!BG47380","v":0},{"$f":"Parameters!BH47380","v":0},{"$f":"Parameters!BI47380","v":0},{"$f":"Parameters!BJ47380","v":0},{"$f":"Parameters!BK47380","v":0},{"$f":"Parameters!BL47380","v":0},{"$f":"Parameters!BM47380","v":0},{"$f":"Parameters!BN47380","v":0}]
[{"$f":"SETS!B45","v":"PWRSOL002"},{"$f":"Parameters!K47460","v":0},{"$f":"Parameters!L47460","v":0},{"$f":"Parameters!M47460","v":0},{"$f":"Parameters!N47460","v":0},{"$f":"Parameters!O47460","v":0},{"$f":"Parameters!P47460","v":0},{"$f":"Parameters!Q47460","v":0},{"$f":"Parameters!R47460","v":0},{"$f":"Parameters!S47460","v":0},{"$f":"Parameters!T47460","v":0},{"$f":"Parameters!U47460","v":0},{"$f":"Parameters!V47460","v":0},{"$f":"Parameters!W47460","v":0},{"$f":"Parameters!X47460","v":0},{"$f":"Parameters!Y47460","v":0},{"$f":"Parameters!Z47460","v":0},{"$f":"Parameters!AA47460","v":0},{"$f":"Parameters!AB47460","v":0},{"$f":"Parameters!AC47460","v":0},{"$f":"Parameters!AD47460","v":0},{"$f":"Parameters!AE47460","v":0},{"$f":"Parameters!AF47460","v":0},{"$f":"Parameters!AG47460","v":0},{"$f":"Parameters!AH47460","v":0},{"$f":"Parameters!AI47460","v":0},{"$f":"Parameters!AJ47460","v":0},{"$f":"Parameters!AK47460","v":0},{"$f":"Parameters!AL47460","v":0},{"$f":"Parameters!AM47460","v":0},{"$f":"Parameters!AN47460","v":0},{"$f":"Parameters!AO47460","v":0},{"$f":"Parameters!AP47460","v":0},{"$f":"Parameters!AQ47460","v":0},{"$f":"Parameters!AR47460","v":0},{"$f":"Parameters!AS47460","v":0},{"$f":"Parameters!AT47460","v":0},{"$f":"Parameters!AU47460","v":0},{"$f":"Parameters!AV47460","v":0},{"$f":"Parameters!AW47460","v":0},{"$f":"Parameters!AX47460","v":0},{"$f":"Parameters!AY47460","v":0},{"$f":"Parameters!AZ47460","v":0},{"$f":"Parameters!BA47460","v":0},{"$f":"Parameters!BB47460","v":0},{"$f":"Parameters!BC47460","v":0},{"$f":"Parameters!BD47460","v":0},{"$f":"Parameters!BE47460","v":0},{"$f":"Parameters!BF47460","v":0},{"$f":"Parameters!BG47460","v":0},{"$f":"Parameters!BH47460","v":0},{"$f":"Parameters!BI47460","v":0},{"$f":"Parameters!BJ47460","v":0},{"$f":"Parameters!BK47460","v":0},{"$f":"Parameters!BL47460","v":0},{"$f":"Parameters!BM47460","v":0},{"$f":"Parameters!BN47460","v":0}]
[{"$f":"SETS!B6","v":"MINBIO"},{"$f":"Parameters!K47620","v":0},{"$f":"Parameters!L47620","v":0},{"$f":"Parameters!M47620","v":0},{"$f":"Parameters!N47620","v":0},{"$f":"Parameters!O47620","v":0},{"$f":"Parameters!P47620","v":0},{"$f":"Parameters!Q47620","v":0},{"$f":"Parameters!R47620","v":0},{"$f":"Parameters!S47620","v":0},{"$f":"Parameters!T47620","v":0},{"$f":"Parameters!U47620","v":0},{"$f":"Parameters!V47620","v":0},{"$f":"Parameters!W47620","v":0},{"$f":"Parameters!X47620","v":0},{"$f":"Parameters!Y47620","v":0},{"$f":"Parameters!Z47620","v":0},{"$f":"Parameters!AA47620","v":0},{"$f":"Parameters!AB47620","v":0},{"$f":"Parameters!AC47620","v":0},{"$f":"Parameters!AD47620","v":0},{"$f":"Parameters!AE47620","v":0},{"$f":"Parameters!AF47620","v":0},{"$f":"Parameters!AG47620","v":0},{"$f":"Parameters!AH47620","v":0},{"$f":"Parameters!AI47620","v":0},{"$f":"Parameters!AJ47620","v":0},{"$f":"Parameters!AK47620","v":0},{"$f":"Parameters!AL47620","v":0},{"$f":"Parameters!AM47620","v":0},{"$f":"Parameters!AN47620","v":0},{"$f":"Parameters!AO47620","v":0},{"$f":"Parameters!AP47620","v":0},{"$f":"Parameters!AQ47620","v":0},{"$f":"Parameters!AR47620","v":0},{"$f":"Parameters!AS47620","v":0},{"$f":"Parameters!AT47620","v":0},{"$f":"Parameters!AU47620","v":0},{"$f":"Parameters!AV47620","v":0},{"$f":"Parameters!AW47620","v":0},{"$f":"Parameters!AX47620","v":0},{"$f":"Parameters!AY47620","v":0},{"$f":"Parameters!AZ47620","v":0},{"$f":"Parameters!BA47620","v":0},{"$f":"Parameters!BB47620","v":0},{"$f":"Parameters!BC47620","v":0},{"$f":"Parameters!BD47620","v":0},{"$f":"Parameters!BE47620","v":0},{"$f":"Parameters!BF47620","v":0},{"$f":"Parameters!BG47620","v":0},{"$f":"Parameters!BH47620","v":0},{"$f":"Parameters!BI47620","v":0},{"$f":"Parameters!BJ47620","v":0},{"$f":"Parameters!BK47620","v":0},{"$f":"Parameters!BL47620","v":0},{"$f":"Parameters!BM47620","v":0},{"$f":"Parameters!BN47620","v":0}]
[{"$f":"SETS!B48","v":"BACKSTOP002"},{"$f":"Parameters!K47861","v":99999},{"$f":"Parameters!L47861","v":99999},{"$f":"Parameters!M47861","v":99999},{"$f":"Parameters!N47861","v":99999},{"$f":"Parameters!O47861","v":99999},{"$f":"Parameters!P47861","v":99999},{"$f":"Parameters!Q47861","v":99999},{"$f":"Parameters!R47861","v":99999},{"$f":"Parameters!S47861","v":99999},{"$f":"Parameters!T47861","v":99999},{"$f":"Parameters!U47861","v":99999},{"$f":"Parameters!V47861","v":99999},{"$f":"Parameters!W47861","v":99999},{"$f":"Parameters!X47861","v":99999},{"$f":"Parameters!Y47861","v":99999},{"$f":"Parameters!Z47861","v":99999},{"$f":"Parameters!AA47861","v":99999},{"$f":"Parameters!AB47861","v":99999},{"$f":"Parameters!AC47861","v":99999},{"$f":"Parameters!AD47861","v":99999},{"$f":"Parameters!AE47861","v":99999},{"$f":"Parameters!AF47861","v":99999},{"$f":"Parameters!AG47861","v":99999},{"$f":"Parameters!AH47861","v":99999},{"$f":"Parameters!AI47861","v":99999},{"$f":"Parameters!AJ47861","v":99999},{"$f":"Parameters!AK47861","v":99999},{"$f":"Parameters!AL47861","v":99999},{"$f":"Parameters!AM47861","v":99999},{"$f":"Parameters!AN47861","v":99999},{"$f":"Parameters!AO47861","v":99999},{"$f":"Parameters!AP47861","v":99999},{"$f":"Parameters!AQ47861","v":99999},{"$f":"Parameters!AR47861","v":99999},{"$f":"Parameters!AS47861","v":99999},{"$f":"Parameters!AT47861","v":99999},{"$f":"Parameters!AU47861","v":99999},{"$f":"Parameters!AV47861","v":99999},{"$f":"Parameters!AW47861","v":99999},{"$f":"Parameters!AX47861","v":99999},{"$f":"Parameters!AY47861","v":99999},{"$f":"Parameters!AZ47861","v":99999},{"$f":"Parameters!BA47861","v":99999},{"$f":"Parameters!BB47861","v":99999},{"$f":"Parameters!BC47861","v":99999},{"$f":"Parameters!BD47861","v":99999},{"$f":"Parameters!BE47861","v":99999},{"$f":"Parameters!BF47861","v":99999},{"$f":"Parameters!BG47861","v":99999},{"$f":"Parameters!BH47861","v":99999},{"$f":"Parameters!BI47861","v":99999},{"$f":"Parameters!BJ47861","v":99999},{"$f":"Parameters!BK47861","v":99999},{"$f":"Parameters!BL47861","v":99999},{"$f":"Parameters!BM47861","v":99999},{"$f":"Parameters!BN47861","v":99999}]
["param","TotalTechnologyModelPeriodActivityUpperLimit","default",99999,":"]
[1,{"$f":"Parameters!K48492","v":1E-4},{"$f":"Parameters!L48492","v":1E-4},{"$f":"Parameters!M48492","v":1E-4},{"$f":"Parameters!N48492","v":1E-4},{"$f":"Parameters!O48492","v":1E-4},{"$f":"Parameters!P48492","v":1E-4},{"$f":"Parameters!Q48492","v":1E-4},{"$f":"Parameters!R48492","v":1E-4},{"$f":"Parameters!S48492","v":1E-4},{"$f":"Parameters!T48492","v":1E-4},{"$f":"Parameters!U48492","v":1E-4},{"$f":"Parameters!V48492","v":1E-4},{"$f":"Parameters!W48492","v":1E-4},{"$f":"Parameters!X48492","v":1E-4},{"$f":"Parameters!Y48492","v":1E-4},{"$f":"Parameters!Z48492","v":1E-4},{"$f":"Parameters!AA48492","v":1E-4},{"$f":"Parameters!AB48492","v":1E-4},{"$f":"Parameters!AC48492","v":1E-4},{"$f":"Parameters!AD48492","v":1E-4},{"$f":"Parameters!AE48492","v":1E-4},{"$f":"Parameters!AF48492","v":1E-4},{"$f":"Parameters!AG48492","v":1E-4},{"$f":"Parameters!AH48492","v":1E-4},{"$f":"Parameters!AI48492","v":1E-4},{"$f":"Parameters!AJ48492","v":1E-4},{"$f":"Parameters!AK48492","v":1E-4},{"$f":"Parameters!AL48492","v":1E-4},{"$f":"Parameters!AM48492","v":1E-4},{"$f":"Parameters!AN48492","v":1E-4},{"$f":"Parameters!AO48492","v":1E-4},{"$f":"Parameters!AP48492","v":1E-4},{"$f":"Parameters!AQ48492","v":1E-4},{"$f":"Parameters!AR48492","v":1E-4},{"$f":"Parameters!AS48492","v":1E-4},{"$f":"Parameters!AT48492","v":1E-4},{"$f":"Parameters!AU48492","v":1E-4},{"$f":"Parameters!AV48492","v":1E-4},{"$f":"Parameters!AW48492","v":1E-4},{"$f":"Parameters!AX48492","v":1E-4},{"$f":"Parameters!AY48492","v":1E-4},{"$f":"Parameters!AZ48492","v":1E-4},{"$f":"Parameters!BA48492","v":1E-4},{"$f":"Parameters!BB48492","v":1E-4},{"$f":"Parameters!BC48492","v":1E-4},{"$f":"Parameters!BD48492","v":1E-4},{"$f":"Parameters!BE48492","v":1E-4},{"$f":"Parameters!BF48492","v":1E-4},{"$f":"Parameters!BG48492","v":1E-4},{"$f":"Parameters!BH48492","v":1E-4},{"$f":"Parameters!BI48492","v":1E-4},{"$f":"Parameters!BJ48492","v":1E-4},{"$f":"Parameters!BK48492","v":1E-4},{"$f":"Parameters!BL48492","v":1E-4},{"$f":"Parameters!BM48492","v":1E-4},{"$f":"Parameters!BN48492","v":1E-4}]
[2015,2016,2017,2018,2019,2020,2021,2022,2023,2024,2025,2026,2027,2028,2029,2030,2031,2032,2033,2034,2035,2036,2037,2038,2039,2040,2041,2042,2043,2044,2045,2046,2047,2048,2049,2050,2051,2052,2053,2054,2055,2056,2057,2058,2059,2060,2061,2062,2063,2064,2065,2066,2067,2068,2069,"2070:="]
[2015,2016,2017,2018,2019,2020,2021,2022,2023,2024,2025,2026,2027,2028,2029,2030,2031,2032,2033,2034,2035,2036,2037,2038,2039,2040,2041,2042,2043,2044,2045,2046,2047,2048,2049,2050,2051,2052,2053,2054,2055,2056,2057,2058,2059,2060,2061,2062,2063,2064,2065,2066,2067,2068,2069,"2070:="]
[{"$f":"CONCATENATE(\"[\",SETS!H9,,\",\",SETS!B195,,\",\",\"*\",,\",\",\"*\",\"]:\")","v":"[RE1,TEC192,*,*]:"}]
[2015,2016,2017,2018,2019,2020,2021,2022,2023,2024,2025,2026,2027,2028,2029,2030,2031,2032,2033,2034,2035,2036,2037,2038,2039,2040,2041,2042,2043,2044,2045,2046,2047,2048,2049,2050,2051,2052,2053,2054,2055,2056,2057,2058,2059,2060,2061,2062,2063,2064,2065,2066,2067,2068,2069,"2070:="]
[1,{"$f":"Parameters!K48655","v":1E-4},{"$f":"Parameters!L48655","v":1E-4},{"$f":"Parameters!M48655","v":1E-4},{"$f":"Parameters!N48655","v":1E-4},{"$f":"Parameters!O48655","v":1E-4},{"$f":"Parameters!P48655","v":1E-4},{"$f":"Parameters!Q48655","v":1E-4},{"$f":"Parameters!R48655","v":1E-4},{"$f":"Parameters!S48655","v":1E-4},{"$f":"Parameters!T48655","v":1E-4},{"$f":"Parameters!U48655","v":1E-4},{"$f":"Parameters!V48655","v":1E-4},{"$f":"Parameters!W48655","v":1E-4},{"$f":"Parameters!X48655","v":1E-4},{"$f":"Parameters!Y48655","v":1E-4},{"$f":"Parameters!Z48655","v":1E-4},{"$f":"Parameters!AA48655","v":1E-4},{"$f":"Parameters!AB48655","v":1E-4},{"$f":"Parameters!AC48655","v":1E-4},{"$f":"Parameters!AD48655","v":1E-4},{"$f":"Parameters!AE48655","v":1E-4},{"$f":"Parameters!AF48655","v":1E-4},{"$f":"Parameters!AG48655","v":1E-4},{"$f":"Parameters!AH48655","v":1E-4},{"$f":"Parameters!AI48655","v":1E-4},{"$f":"Parameters!AJ48655","v":1E-4},{"$f":"Parameters!AK48655","v":1E-4},{"$f":"Parameters!AL48655","v":1E-4},{"$f":"Parameters!AM48655","v":1E-4},{"$f":"Parameters!AN48655","v":1E-4},{"$f":"Parameters!AO48655","v":1E-4},{"$f":"Parameters!AP48655","v":1E-4},{"$f":"Parameters!AQ48655","v":1E-4},{"$f":"Parameters!AR48655","v":1E-4},{"$f":"Parameters!AS48655","v":1E-4},{"$f":"Parameters!AT48655","v":1E-4},{"$f":"Parameters!AU48655","v":1E-4},{"$f":"Parameters!AV48655","v":1E-4},{"$f":"Parameters!AW48655","v":1E-4},{"$f":"Parameters!AX48655","v":1E-4},{"$f":"Parameters!AY48655","v":1E-4},{"$f":"Parameters!AZ48655","v":1E-4},{"$f":"Parameters!BA48655","v":1E-4},{"$f":"Parameters!BB48655","v":1E-4},{"$f":"Parameters!BC48655","v":1E-4},{"$f":"Parameters!BD48655","v":1E-4},{"$f":"Parameters!BE48655","v":1E-4},{"$f":"Parameters!BF48655","v":1E-4},{"$f":"Parameters!BG48655","v":1E-4},{"$f":"Parameters!BH48655","v":1E-4},{"$f":"Parameters!BI48655","v":1E-4},{"$f":"Parameters!BJ48655","v":1E-4},{"$f":"Parameters!BK48655","v":1E-4},{"$f":"Parameters!BL48655","v":1E-4},{"$f":"Parameters!BM48655","v":1E-4},{"$f":"Parameters!BN48655","v":1E-4}]
[{"$f":"CONCATENATE(\"[\",SETS!H9,,\",\",SETS!B196,,\",\",\"*\",,\",\",\"*\",\"]:\")","v":"[RE1,TEC193,*,*]:"}]
[2015,2016,2017,2018,2019,2020,2021,2022,2023,2024,2025,2026,2027,2028,2029,2030,2031,2032,2033,2034,2035,2036,2037,2038,2039,2040,2041,2042,2043,2044,2045,2046,2047,2048,2049,2050,2051,2052,2053,2054,2055,2056,2057,2058,2059,2060,2061,2062,2063,2064,2065,2066,2067,2068,2069,"2070:="]
[1,{"$f":"Parameters!K48656","v":1E-4},{"$f":"Parameters!L48656","v":1E-4},{"$f":"Parameters!M48656","v":1E-4},{"$f":"Parameters!N48656","v":1E-4},{"$f":"Parameters!O48656","v":1E-4},{"$f":"Parameters!P48656","v":1E-4},{"$f":"Parameters!Q48656","v":1E-4},{"$f":"Parameters!R48656","v":1E-4},{"$f":"Parameters!S48656","v":1E-4},{"$f":"Parameters!T48656","v":1E-4},{"$f":"Parameters!U48656","v":1E-4},{"$f":"Parameters!V48656","v":1E-4},{"$f":"Parameters!W48656","v":1E-4},{"$f":"Parameters!X48656","v":1E-4},{"$f":"Parameters!Y48656","v":1E-4},{"$f":"Parameters!Z48656","v":1E-4},{"$f":"Parameters!AA48656","v":1E-4},{"$f":"Parameters!AB48656","v":1E-4},{"$f":"Parameters!AC48656","v":1E-4},{"$f":"Parameters!AD48656","v":1E-4},{"$f":"Parameters!AE48656","v":1E-4},{"$f":"Parameters!AF48656","v":1E-4},{"$f":"Parameters!AG48656","v":1E-4},{"$f":"Parameters!AH48656","v":1E-4},{"$f":"Parameters!AI48656","v":1E-4},{"$f":"Parameters!AJ48656","v":1E-4},{"$f":"Parameters!AK48656","v":1E-4},{"$f":"Parameters!AL48656","v":1E-4},{"$f":"Parameters!AM48656","v":1E-4},{"$f":"Parameters!AN48656","v":1E-4},{"$f":"Parameters!AO48656","v":1E-4},{"$f":"Parameters!AP48656","v":1E-4},{"$f":"Parameters!AQ48656","v":1E-4},{"$f":"Parameters!AR48656","v":1E-4},{"$f":"Parameters!AS48656","v":1E-4},{"$f":"Parameters!AT48656","v":1E-4},{"$f":"Parameters!AU48656","v":1E-4},{"$f":"Parameters!AV48656","v":1E-4},{"$f":"Parameters!AW48656","v":1E-4},{"$f":"Parameters!AX48656","v":1E-4},{"$f":"Parameters!AY48656","v":1E-4},{"$f":"Parameters!AZ48656","v":1E-4},{"$f":"Parameters!BA48656","v":1E-4},{"$f":"Parameters!BB48656","v":1E-4},{"$f":"Parameters!BC48656","v":1E-4},{"$f":"Parameters!BD48656","v":1E-4},{"$f":"Parameters!BE48656","v":1E-4},{"$f":"Parameters!BF48656","v":1E-4},{"$f":"Parameters!BG48656","v":1E-4},{"$f":"Parameters!BH48656","v":1E-4},{"$f":"Parameters!BI48656","v":1E-4},{"$f":"Parameters!BJ48656","v":1E-4},{"$f":"Parameters!BK48656","v":1E-4},{"$f":"Parameters!BL48656","v":1E-4},{"$f":"Parameters!BM48656","v":1E-4},{"$f":"Parameters!BN48656","v":1E-4}]
[{"$f":"CONCATENATE(\"[\",SETS!H9,,\",\",SETS!B197,,\",\",\"*\",,\",\",\"*\",\"]:\")","v":"[RE1,TEC194,*,*]:"}]
[2015,2016,2017,2018,2019,2020,2021,2022,2023,2024,2025,2026,2027,2028,2029,2030,2031,2032,2033,2034,2035,2036,2037,2038,2039,2040,2041,2042,2043,2044,2045,2046,2047,2048,2049,2050,2051,2052,2053,2054,2055,2056,2057,2058,2059,2060,2061,2062,2063,2064,2065,2066,2067,2068,2069,"2070:="]
[1,{"$f":"Parameters!K48657","v":1E-4},{"$f":"Parameters!L48657","v":1E-4},{"$f":"Parameters!M48657","v":1E-4},{"$f":"Parameters!N48657","v":1E-4},{"$f":"Parameters!O48657","v":1E-4},{"$f":"Parameters!P48657","v":1E-4},{"$f":"Parameters!Q48657","v":1E-4},{"$f":"Parameters!R48657","v":1E-4},{"$f":"Parameters!S48657","v":1E-4},{"$f":"Parameters!T48657","v":1E-4},{"$f":"Parameters!U48657","v":1E-4},{"$f":"Parameters!V48657","v":1E-4},{"$f":"Parameters!W48657","v":1E-4},{"$f":"Parameters!X48657","v":1E-4},{"$f":"Parameters!Y48657","v":1E-4},{"$f":"Parameters!Z48657","v":1E-4},{"$f":"Parameters!AA48657","v":1E-4},{"$f":"Parameters!AB48657","v":1E-4},{"$f":"Parameters!AC48657","v":1E-4},{"$f":"Parameters!AD48657","v":1E-4},{"$f":"Parameters!AE48657","v":1E-4},{"$f":"Parameters!AF48657","v":1E-4},{"$f":"Parameters!AG48657","v":1E-4},{"$f":"Parameters!AH48657","v":1E-4},{"$f":"Parameters!AI48657","v":1E-4},{"$f":"Parameters!AJ48657","v":1E-4},{"$f":"Parameters!AK48657","v":1E-4},{"$f":"Parameters!AL48657","v":1E-4},{"$f":"Parameters!AM48657","v":1E-4},{"$f":"Parameters!AN48657","v":1E-4},{"$f":"Parameters!AO48657","v":1E-4},{"$f":"Parameters!AP48657","v":1E-4},{"$f":"Parameters!AQ48657","v":1E-4},{"$f":"Parameters!AR48657","v":1E-4},{"$f":"Parameters!AS48657","v":1E-4},{"$f":"Parameters!AT48657","v":1E-4},{"$f":"Parameters!AU48657","v":1E-4},{"$f":"Parameters!AV48657","v":1E-4},{"$f":"Parameters!AW48657","v":1E-4},{"$f":"Parameters!AX48657","v":1E-4},{"$f":"Parameters!AY48657","v":1E-4},{"$f":"Parameters!AZ48657","v":1E-4},{"$f":"Parameters!BA48657","v":1E-4},{"$f":"Parameters!BB48657","v":1E-4},{"$f":"Parameters!BC48657","v":1E-4},{"$f":"Parameters!BD48657","v":1E-4},{"$f":"Parameters!BE48657","v":1E-4},{"$f":"Parameters!BF48657","v":1E-4},{"$f":"Parameters!BG48657","v":1E-4},{"$f":"Parameters!BH48657","v":1E-4},{"$f":"Parameters!BI48657","v":1E-4},{"$f":"Parameters!BJ48657","v":1E-4},{"$f":"Parameters!BK48657","v":1E-4},{"$f":"Parameters!BL48657","v":1E-4},{"$f":"Parameters!BM48657","v":1E-4},{"$f":"Parameters!BN48657","v":1E-4}]
[{"$f":"CONCATENATE(\"[\",SETS!H9,,\",\",SETS!B198,,\",\",\"*\",,\",\",\"*\",\"]:\")","v":"[RE1,TEC195,*,*]:"}]
[2015,2016,2017,2018,2019,2020,2021,2022,2023,2024,2025,2026,2027,2028,2029,2030,2031,2032,2033,2034,2035,2036,2037,2038,2039,2040,2041,2042,2043,2044,2045,2046,2047,2048,2049,2050,2051,2052,2053,2054,2055,2056,2057,2058,2059,2060,2061,2062,2063,2064,2065,2066,2067,2068,2069,"2070:="]
[1,{"$f":"Parameters!K48658","v":1E-4},{"$f":"Parameters!L48658","v":1E-4},{"$f":"Parameters!M48658","v":1E-4},{"$f":"Parameters!N48658","v":1E-4},{"$f":"Parameters!O48658","v":1E-4},{"$f":"Parameters!P48658","v":1E-4},{"$f":"Parameters!Q48658","v":1E-4},{"$f":"Parameters!R48658","v":1E-4},{"$f":"Parameters!S48658","v":1E-4},{"$f":"Parameters!T48658","v":1E-4},{"$f":"Parameters!U48658","v":1E-4},{"$f":"Parameters!V48658","v":1E-4},{"$f":"Parameters!W48658","v":1E-4},{"$f":"Parameters!X48658","v":1E-4},{"$f":"Parameters!Y48658","v":1E-4},{"$f":"Parameters!Z48658","v":1E-4},{"$f":"Parameters!AA48658","v":1E-4},{"$f":"Parameters!AB48658","v":1E-4},{"$f":"Parameters!AC48658","v":1E-4},{"$f":"Parameters!AD48658","v":1E-4},{"$f":"Parameters!AE48658","v":1E-4},{"$f":"Parameters!AF48658","v":1E-4},{"$f":"Parameters!AG48658","v":1E-4},{"$f":"Parameters!AH48658","v":1E-4},{"$f":"Parameters!AI48658","v":1E-4},{"$f":"Parameters!AJ48658","v":1E-4},{"$f":"Parameters!AK48658","v":1E-4},{"$f":"Parameters!AL48658","v":1E-4},{"$f":"Parameters!AM48658","v":1E-4},{"$f":"Parameters!AN48658","v":1E-4},{"$f":"Parameters!AO48658","v":1E-4},{"$f":"Parameters!AP48658","v":1E-4},{"$f":"Parameters!AQ48658","v":1E-4},{"$f":"Parameters!AR48658","v":1E-4},{"$f":"Parameters!AS48658","v":1E-4},{"$f":"Parameters!AT48658","v":1E-4},{"$f":"Parameters!AU48658","v":1E-4},{"$f":"Parameters!AV48658","v":1E-4},{"$f":"Parameters!AW48658","v":1E-4},{"$f":"Parameters!AX48658","v":1E-4},{"$f":"Parameters!AY48658","v":1E-4},{"$f":"Parameters!AZ48658","v":1E-4},{"$f":"Parameters!BA48658","v":1E-4},{"$f":"Parameters!BB48658","v":1E-4},{"$f":"Parameters!BC48658","v":1E-4},{"$f":"Parameters!BD48658","v":1E-4},{"$f":"Parameters!BE48658","v":1E-4},{"$f":"Parameters!BF48658","v":1E-4},{"$f":"Parameters!BG48658","v":1E-4},{"$f":"Parameters!BH48658","v":1E-4},{"$f":"Parameters!BI48658","v":1E-4},{"$f":"Parameters!BJ48658","v":1E-4},{"$f":"Parameters!BK48658","v":1E-4},{"$f":"Parameters!BL48658","v":1E-4},{"$f":"Parameters!BM48658","v":1E-4},{"$f":"Parameters!BN48658","v":1E-4}]
[{"$f":"CONCATENATE(\"[\",SETS!H9,,\",\",SETS!B199,,\",\",\"*\",,\",\",\"*\",\"]:\")","v":"[RE1,TEC196,*,*]:"}]
[2015,2016,2017,2018,2019,2020,2021,2022,2023,2024,2025,2026,2027,2028,2029,2030,2031,2032,2033,2034,2035,2036,2037,2038,2039,2040,2041,2042,2043,2044,2045,2046,2047,2048,2049,2050,2051,2052,2053,2054,2055,2056,2057,2058,2059,2060,2061,2062,2063,2064,2065,2066,2067,2068,2069,"2070:="]
[1,{"$f":"Parameters!K48659","v":1E-4},{"$f":"Parameters!L48659","v":1E-4},{"$f":"Parameters!M48659","v":1E-4},{"$f":"Parameters!N48659","v":1E-4},{"$f":"Parameters!O48659","v":1E-4},{"$f":"Parameters!P48659","v":1E-4},{"$f":"Parameters!Q48659","v":1E-4},{"$f":"Parameters!R48659","v":1E-4},{"$f":"Parameters!S48659","v":1E-4},{"$f":"Parameters!T48659","v":1E-4},{"$f":"Parameters!U48659","v":1E-4},{"$f":"Parameters!V48659","v":1E-4},{"$f":"Parameters!W48659","v":1E-4},{"$f":"Parameters!X48659","v":1E-4},{"$f":"Parameters!Y48659","v":1E-4},{"$f":"Parameters!Z48659","v":1E-4},{"$f":"Parameters!AA48659","v":1E-4},{"$f":"Parameters!AB48659","v":1E-4},{"$f":"Parameters!AC48659","v":1E-4},{"$f":"Parameters!AD48659","v":1E-4},{"$f":"Parameters!AE48659","v":1E-4},{"$f":"Parameters!AF48659","v":1E-4},{"$f":"Parameters!AG48659","v":1E-4},{"$f":"Parameters!AH48659","v":1E-4},{"$f":"Parameters!AI48659","v":1E-4},{"$f":"Parameters!AJ48659","v":1E-4},{"$f":"Parameters!AK48659","v":1E-4},{"$f":"Parameters!AL48659","v":1E-4},{"$f":"Parameters!AM48659","v":1E-4},{"$f":"Parameters!AN48659","v":1E-4},{"$f":"Parameters!AO48659","v":1E-4},{"$f":"Parameters!AP48659","v":1E-4},{"$f":"Parameters!AQ48659","v":1E-4},{"$f":"Parameters!AR48659","v":1E-4},{"$f":"Parameters!AS48659","v":1E-4},{"$f":"Parameters!AT48659","v":1E-4},{"$f":"Parameters!AU48659","v":1E-4},{"$f":"Parameters!AV48659","v":1E-4},{"$f":"Parameters!AW48659","v":1E-4},{"$f":"Parameters!AX48659","v":1E-4},{"$f":"Parameters!AY48659","v":1E-4},{"$f":"Parameters!AZ48659","v":1E-4},{"$f":"Parameters!BA48659","v":1E-4},{"$f":"Parameters!BB48659","v":1E-4},{"$f":"Parameters!BC48659","v":1E-4},{"$f":"Parameters!BD48659","v":1E-4},{"$f":"Parameters!BE48659","v":1E-4},{"$f":"Parameters!BF48659","v":1E-4},{"$f":"Parameters!BG48659","v":1E-4},{"$f":"Parameters!BH48659","v":1E-4},{"$f":"Parameters!BI48659","v":1E-4},{"$f":"Parameters!BJ48659","v":1E-4},{"$f":"Parameters!BK48659","v":1E-4},{"$f":"Parameters!BL48659","v":1E-4},{"$f":"Parameters!BM48659","v":1E-4},{"$f":"Parameters!BN48659","v":1E-4}]
[{"$f":"CONCATENATE(\"[\",SETS!H9,,\",\",SETS!B200,,\",\",\"*\",,\",\",\"*\",\"]:\")","v":"[RE1,TEC197,*,*]:"}]
[2015,2016,2017,2018,2019,2020,2021,2022,2023,2024,2025,2026,2027,2028,2029,2030,2031,2032,2033,2034,2035,2036,2037,2038,2039,2040,2041,2042,2043,2044,2045,2046,2047,2048,2049,2050,2051,2052,2053,2054,2055,2056,2057,2058,2059,2060,2061,2062,2063,2064,2065,2066,2067,2068,2069,"2070:="]
[1,{"$f":"Parameters!K48660","v":1E-4},{"$f":"Parameters!L48660","v":1E-4},{"$f":"Parameters!M48660","v":1E-4},{"$f":"Parameters!N48660","v":1E-4},{"$f":"Parameters!O48660","v":1E-4},{"$f":"Parameters!P48660","v":1E-4},{"$f":"Parameters!Q48660","v":1E-4},{"$f":"Parameters!R48660","v":1E-4},{"$f":"Parameters!S48660","v":1E-4},{"$f":"Parameters!T48660","v":1E-4},{"$f":"Parameters!U48660","v":1E-4},{"$f":"Parameters!V48660","v":1E-4},{"$f":"Parameters!W48660","v":1E-4},{"$f":"Parameters!X48660","v":1E-4},{"$f":"Parameters!Y48660","v":1E-4},{"$f":"Parameters!Z48660","v":1E-4},{"$f":"Parameters!AA48660","v":1E-4},{"$f":"Parameters!AB48660","v":1E-4},{"$f":"Parameters!AC48660","v":1E-4},{"$f":"Parameters!AD48660","v":1E-4},{"$f":"Parameters!AE48660","v":1E-4},{"$f":"Parameters!AF48660","v":1E-4},{"$f":"Parameters!AG48660","v":1E-4},{"$f":"Parameters!AH48660","v":1E-4},{"$f":"Parameters!AI48660","v":1E-4},{"$f":"Parameters!AJ48660","v":1E-4},{"$f":"Parameters!AK48660","v":1E-4},{"$f":"Parameters!AL48660","v":1E-4},{"$f":"Parameters!AM48660","v":1E-4},{"$f":"Parameters!AN48660","v":1E-4},{"$f":"Parameters!AO48660","v":1E-4},{"$f":"Parameters!AP48660","v":1E-4},{"$f":"Parameters!AQ48660","v":1E-4},{"$f":"Parameters!AR48660","v":1E-4},{"$f":"Parameters!AS48660","v":1E-4},{"$f":"Parameters!AT48660","v":1E-4},{"$f":"Parameters!AU48660","v":1E-4},{"$f":"Parameters!AV48660","v":1E-4},{"$f":"Parameters!AW48660","v":1E-4},{"$f":"Parameters!AX48660","v":1E-4},{"$f":"Parameters!AY48660","v":1E-4},{"$f":"Parameters!AZ48660","v":1E-4},{"$f":"Parameters!BA48660","v":1E-4},{"$f":"Parameters!BB48660","v":1E-4},{"$f":"Parameters!BC48660","v":1E-4},{"$f":"Parameters!BD48660","v":1E-4},{"$f":"Parameters!BE48660","v":1E-4},{"$f":"Parameters!BF48660","v":1E-4},{"$f":"Parameters!BG48660","v":1E-4},{"$f":"Parameters!BH48660","v":1E-4},{"$f":"Parameters!BI48660","v":1E-4},{"$f":"Parameters!BJ48660","v":1E-4},{"$f":"Parameters!BK48660","v":1E-4},{"$f":"Parameters!BL48660","v":1E-4},{"$f":"Parameters!BM48660","v":1E-4},{"$f":"Parameters!BN48660","v":1E-4}]
[{"$f":"CONCATENATE(\"[\",SETS!H9,,\",\",SETS!B201,,\",\",\"*\",,\",\",\"*\",\"]:\")","v":"[RE1,TEC198,*,*]:"}]
[2015,2016,2017,2018,2019,2020,2021,2022,2023,2024,2025,2026,2027,2028,2029,2030,2031,2032,2033,2034,2035,2036,2037,2038,2039,2040,2041,2042,2043,2044,2045,2046,2047,2048,2049,2050,2051,2052,2053,2054,2055,2056,2057,2058,2059,2060,2061,2062,2063,2064,2065,2066,2067,2068,2069,"2070:="]
[1,{"$f":"Parameters!K48661","v":1E-4},{"$f":"Parameters!L48661","v":1E-4},{"$f":"Parameters!M48661","v":1E-4},{"$f":"Parameters!N48661","v":1E-4},{"$f":"Parameters!O48661","v":1E-4},{"$f":"Parameters!P48661","v":1E-4},{"$f":"Parameters!Q48661","v":1E-4},{"$f":"Parameters!R48661","v":1E-4},{"$f":"Parameters!S48661","v":1E-4},{"$f":"Parameters!T48661","v":1E-4},{"$f":"Parameters!U48661","v":1E-4},{"$f":"Parameters!V48661","v":1E-4},{"$f":"Parameters!W48661","v":1E-4},{"$f":"Parameters!X48661","v":1E-4},{"$f":"Parameters!Y48661","v":1E-4},{"$f":"Parameters!Z48661","v":1E-4},{"$f":"Parameters!AA48661","v":1E-4},{"$f":"Parameters!AB48661","v":1E-4},{"$f":"Parameters!AC48661","v":1E-4},{"$f":"Parameters!AD48661","v":1E-4},{"$f":"Parameters!AE48661","v":1E-4},{"$f":"Parameters!AF48661","v":1E-4},{"$f":"Parameters!AG48661","v":1E-4},{"$f":"Parameters!AH48661","v":1E-4},{"$f":"Parameters!AI48661","v":1E-4},{"$f":"Parameters!AJ48661","v":1E-4},{"$f":"Parameters!AK48661","v":1E-4},{"$f":"Parameters!AL48661","v":1E-4},{"$f":"Parameters!AM48661","v":1E-4},{"$f":"Parameters!AN48661","v":1E-4},{"$f":"Parameters!AO48661","v":1E-4},{"$f":"Parameters!AP48661","v":1E-4},{"$f":"Parameters!AQ48661","v":1E-4},{"$f":"Parameters!AR48661","v":1E-4},{"$f":"Parameters!AS48661","v":1E-4},{"$f":"Parameters!AT48661","v":1E-4},{"$f":"Parameters!AU48661","v":1E-4},{"$f":"Parameters!AV48661","v":1E-4},{"$f":"Parameters!AW48661","v":1E-4},{"$f":"Parameters!AX48661","v":1E-4},{"$f":"Parameters!AY48661","v":1E-4},{"$f":"Parameters!AZ48661","v":1E-4},{"$f":"Parameters!BA48661","v":1E-4},{"$f":"Parameters!BB48661","v":1E-4},{"$f":"Parameters!BC48661","v":1E-4},{"$f":"Parameters!BD48661","v":1E-4},{"$f":"Parameters!BE48661","v":1E-4},{"$f":"Parameters!BF48661","v":1E-4},{"$f":"Parameters!BG48661","v":1E-4},{"$f":"Parameters!BH48661","v":1E-4},{"$f":"Parameters!BI48661","v":1E-4},{"$f":"Parameters!BJ48661","v":1E-4},{"$f":"Parameters!BK48661","v":1E-4},{"$f":"Parameters!BL48661","v":1E-4},{"$f":"Parameters!BM48661","v":1E-4},{"$f":"Parameters!BN48661","v":1E-4}]
[";"]
[]
["param","YearSplit","default",0,":"]
[2015,2016,2017,2018,2019,2020,2021,2022,2023,2024,2025,2026,2027,2028,2029,2030,2031,2032,2033,2034,2035,2036,2037,2038,2039,2040,2041,2042,2043,2044,2045,2046,2047,2048,2049,2050,2051,2052,2053,2054,2055,2056,2057,2058,2059,2060,2061,2062,2063,2064,2065,2066,2067,2068,2069,"2070:="]
["S101",{"$f":"Parameters!K48662","v":1.0416666999999999E-2},{"$f":"Parameters!L48662","v":1.0416666999999999E-2},{"$f":"Parameters!M48662","v":1.0416666999999999E-2},{"$f":"Parameters!N48662","v":1.0416666999999999E-2},{"$f":"Parameters!O48662","v":1.0416666999999999E-2},{"$f":"Parameters!P48662","v":1.0416666999999999E-2},{"$f":"Parameters!Q48662","v":1.0416666999999999E-2},{"$f":"Parameters!R48662","v":1.0416666999999999E-2},{"$f":"Parameters!S48662","v":1.0416666999999999E-2},{"$f":"Parameters!T48662","v":1.0416666999999999E-2},{"$f":"Parameters!U48662","v":1.0416666999999999E-2},{"$f":"Parameters!V48662","v":1.0416666999999999E-2},{"$f":"Parameters!W48662","v":1.0416666999999999E-2},{"$f":"Parameters!X48662","v":1.0416666999999999E-2},{"$f":"Parameters!Y48662","v":1.0416666999999999E-2},{"$f":"Parameters!Z48662","v":1.0416666999999999E-2},{"$f":"Parameters!AA48662","v":1.0416666999999999E-2},{"$f":"Parameters!AB48662","v":1.0416666999999999E-2},{"$f":"Parameters!AC48662","v":1.0416666999999999E-2},{"$f":"Parameters!AD48662","v":1.0416666999999999E-2},{"$f":"Parameters!AE48662","v":1.0416666999999999E-2},{"$f":"Parameters!AF48662","v":1.0416666999999999E-2},{"$f":"Parameters!AG48662","v":1.0416666999999999E-2},{"$f":"Parameters!AH48662","v":1.0416666999999999E-2},{"$f":"Parameters!AI48662","v":1.0416666999999999E-2},{"$f":"Parameters!AJ48662","v":1.0416666999999999E-2},{"$f":"Parameters!AK48662","v":1.0416666999999999E-2},{"$f":"Parameters!AL48662","v":1.0416666999999999E-2},{"$f":"Parameters!AM48662","v":1.0416666999999999E-2},{"$f":"Parameters!AN48662","v":1.0416666999999999E-2},{"$f":"Parameters!AO48662","v":1.0416666999999999E-2},{"$f":"Parameters!AP48662","v":1.0416666999999999E-2},{"$f":"Parameters!AQ48662","v":1.0416666999999999E-2},{"$f":"Parameters!AR48662","v":1.0416666999999999E-2},{"$f":"Parameters!AS48662","v":1.0416666999999999E-2},{"$f":"Parameters!AT48662","v":1.0416666999999999E-2},{"$f":"Parameters!AU48662","v":1.0416666999999999E-2},{"$f":"Parameters!AV48662","v":1.0416666999999999E-2},{"$f":"Parameters!AW48662","v":1.0416666999999999E-2},{"$f":"Parameters!AX48662","v":1.0416666999999999E-2},{"$f":"Parameters!AY48662","v":1.0416666999999999E-2},{"$f":"Parameters!AZ48662","v":1.0416666999999999E-2},{"$f":"Parameters!BA48662","v":1.0416666999999999E-2},{"$f":"Parameters!BB48662","v":1.0416666999999999E-2},{"$f":"Parameters!BC48662","v":1.0416666999999999E-2},{"$f":"Parameters!BD48662","v":1.0416666999999999E-2},{"$f":"Parameters!BE48662","v":1.0416666999999999E-2},{"$f":"Parameters!BF48662","v":1.0416666999999999E-2},{"$f":"Parameters!BG48662","v":1.0416666999999999E-2},{"$f":"Parameters!BH48662","v":1.0416666999999999E-2},{"$f":"Parameters!BI48662","v":1.0416666999999999E-2},{"$f":"Parameters!BJ48662","v":1.0416666999999999E-2},{"$f":"Parameters!BK48662","v":1.0416666999999999E-2},{"$f":"Parameters!BL48662","v":1.0416666999999999E-2},{"$f":"Parameters!BM48662","v":1.0416666999999999E-2},{"$f":"Parameters!BN48662","v":1.0416666999999999E-2}]
["S102",{"$f":"Parameters!K48663","v":1.0416666999999999E-2},{"$f":"Parameters!L48663","v":1.0416666999999999E-2},{"$f":"Parameters!M48663","v":1.0416666999999999E-2},{"$f":"Parameters!N48663","v":1.0416666999999999E-2},{"$f":"Parameters!O48663","v":1.0416666999999999E-2},{"$f":"Parameters!P48663","v":1.0416666999999999E-2},{"$f":"Parameters!Q48663","v":1.0416666999999999E-2},{"$f":"Parameters!R48663","v":1.0416666999999999E-2},{"$f":"Parameters!S48663","v":1.0416666999999999E-2},{"$f":"Parameters!T48663","v":1.0416666999999999E-2},{"$f":"Parameters!U48663","v":1.0416666999999999E-2},{"$f":"Parameters!V48663","v":1.0416666999999999E-2},{"$f":"Parameters!W48663","v":1.0416666999999999E-2},{"$f":"Parameters!X48663","v":1.0416666999999999E-2},{"$f":"Parameters!Y48663","v":1.0416666999999999E-2},{"$f":"Parameters!Z48663","v":1.0416666999999999E-2},{"$f":"Parameters!AA48663","v":1.0416666999999999E-2},{"$f":"Parameters!AB48663","v":1.0416666999999999E-2},{"$f":"Parameters!AC48663","v":1.0416666999999999E-2},{"$f":"Parameters!AD48663","v":1.0416666999999999E-2},{"$f":"Parameters!AE48663","v":1.0416666999999999E-2},{"$f":"Parameters!AF48663","v":1.0416666999999999E-2},{"$f":"Parameters!AG48663","v":1.0416666999999999E-2},{"$f":"Parameters!AH48663","v":1.0416666999999999E-2},{"$f":"Parameters!AI48663","v":1.0416666999999999E-2},{"$f":"Parameters!AJ48663","v":1.0416666999999999E-2},{"$f":"Parameters!AK48663","v":1.0416666999999999E-2},{"$f":"Parameters!AL48663","v":1.0416666999999999E-2},{"$f":"Parameters!AM48663","v":1.0416666999999999E-2},{"$f":"Parameters!AN48663","v":1.0416666999999999E-2},{"$f":"Parameters!AO48663","v":1.0416666999999999E-2},{"$f":"Parameters!AP48663","v":1.0416666999999999E-2},{"$f":"Parameters!AQ48663","v":1.0416666999999999E-2},{"$f":"Parameters!AR48663","v":1.0416666999999999E-2},{"$f":"Parameters!AS48663","v":1.0416666999999999E-2},{"$f":"Parameters!AT48663","v":1.0416666999999999E-2},{"$f":"Parameters!AU48663","v":1.0416666999999999E-2},{"$f":"Parameters!AV48663","v":1.0416666999999999E-2},{"$f":"Parameters!AW48663","v":1.0416666999999999E-2},{"$f":"Parameters!AX48663","v":1.0416666999999999E-2},{"$f":"Parameters!AY48663","v":1.0416666999999999E-2},{"$f":"Parameters!AZ48663","v":1.0416666999999999E-2},{"$f":"Parameters!BA48663","v":1.0416666999999999E-2},{"$f":"Parameters!BB48663","v":1.0416666999999999E-2},{"$f":"Parameters!BC48663","v":1.0416666999999999E-2},{"$f":"Parameters!BD48663","v":1.0416666999999999E-2},{"$f":"Parameters!BE48663","v":1.0416666999999999E-2},{"$f":"Parameters!BF48663","v":1.0416666999999999E-2},{"$f":"Parameters!BG48663","v":1.0416666999999999E-2},{"$f":"Parameters!BH48663","v":1.0416666999999999E-2},{"$f":"Parameters!BI48663","v":1.0416666999999999E-2},{"$f":"Parameters!BJ48663","v":1.0416666999999999E-2},{"$f":"Parameters!BK48663","v":1.0416666999999999E-2},{"$f":"Parameters!BL48663","v":1.0416666999999999E-2},{"$f":"Parameters!BM48663","v":1.0416666999999999E-2},{"$f":"Parameters!BN48663","v":1.0416666999999999E-2}]
["S103",{"$f":"Parameters!K48664","v":1.0416666999999999E-2},{"$f":"Parameters!L48664","v":1.0416666999999999E-2},{"$f":"Parameters!M48664","v":1.0416666999999999E-2},{"$f":"Parameters!N48664","v":1.0416666999999999E-2},{"$f":"Parameters!O48664","v":1.0416666999999999E-2},{"$f":"Parameters!P48664","v":1.0416666999999999E-2},{"$f":"Parameters!Q48664","v":1.0416666999999999E-2},{"$f":"Parameters!R48664","v":1.0416666999999999E-2},{"$f":"Parameters!S48664","v":1.0416666999999999E-2},{"$f":"Parameters!T48664","v":1.0416666999999999E-2},{"$f":"Parameters!U48664","v":1.0416666999999999E-2},{"$f":"Parameters!V48664","v":1.0416666999999999E-2},{"$f":"Parameters!W48664","v":1.0416666999999999E-2},{"$f":"Parameters!X48664","v":1.0416666999999999E-2},{"$f":"Parameters!Y48664","v":1.0416666999999999E-2},{"$f":"Parameters!Z48664","v":1.0416666999999999E-2},{"$f":"Parameters!AA48664","v":1.0416666999999999E-2},{"$f":"Parameters!AB48664","v":1.0416666999999999E-2},{"$f":"Parameters!AC48664","v":1.0416666999999999E-2},{"$f":"Parameters!AD48664","v":1.0416666999999999E-2},{"$f":"Parameters!AE48664","v":1.0416666999999999E-2},{"$f":"Parameters!AF48664","v":1.0416666999999999E-2},{"$f":"Parameters!AG48664","v":1.0416666999999999E-2},{"$f":"Parameters!AH48664","v":1.0416666999999999E-2},{"$f":"Parameters!AI48664","v":1.0416666999999999E-2},{"$f":"Parameters!AJ48664","v":1.0416666999999999E-2},{"$f":"Parameters!AK48664","v":1.0416666999999999E-2},{"$f":"Parameters!AL48664","v":1.0416666999999999E-2},{"$f":"Parameters!AM48664","v":1.0416666999999999E-2},{"$f":"Parameters!AN48664","v":1.0416666999999999E-2},{"$f":"Parameters!AO48664","v":1.0416666999999999E-2},{"$f":"Parameters!AP48664","v":1.0416666999999999E-2},{"$f":"Parameters!AQ48664","v":1.0416666999999999E-2},{"$f":"Parameters!AR48664","v":1.0416666999999999E-2},{"$f":"Parameters!AS48664","v":1.0416666999999999E-2},{"$f":"Parameters!AT48664","v":1.0416666999999999E-2},{"$f":"Parameters!AU48664","v":1.0416666999999999E-2},{"$f":"Parameters!AV48664","v":1.0416666999999999E-2},{"$f":"Parameters!AW48664","v":1.0416666999999999E-2},{"$f":"Parameters!AX48664","v":1.0416666999999999E-2},{"$f":"Parameters!AY48664","v":1.0416666999999999E-2},{"$f":"Parameters!AZ48664","v":1.0416666999999999E-2},{"$f":"Parameters!BA48664","v":1.0416666999999999E-2},{"$f":"Parameters!BB48664","v":1.0416666999999999E-2},{"$f":"Parameters!BC48664","v":1.0416666999999999E-2},{"$f":"Parameters!BD48664","v":1.0416666999999999E-2},{"$f":"Parameters!BE48664","v":1.0416666999999999E-2},{"$f":"Parameters!BF48664","v":1.0416666999999999E-2},{"$f":"Parameters!BG48664","v":1.0416666999999999E-2},{"$f":"Parameters!BH48664","v":1.0416666999999999E-2},{"$f":"Parameters!BI48664","v":1.0416666999999999E-2},{"$f":"Parameters!BJ48664","v":1.0416666999999999E-2},{"$f":"Parameters!BK48664","v":1.0416666999999999E-2},{"$f":"Parameters!BL48664","v":1.0416666999999999E-2},{"$f":"Parameters!BM48664","v":1.0416666999999999E-2},{"$f":"Parameters!BN48664","v":1.0416666999999999E-2}]
["S104",{"$f":"Parameters!K48665","v":1.0416666999999999E-2},{"$f":"Parameters!L48665","v":1.0416666999999999E-2},{"$f":"Parameters!M48665","v":1.0416666999999999E-2},{"$f":"Parameters!N48665","v":1.0416666999999999E-2},{"$f":"Parameters!O48665","v":1.0416666999999999E-2},{"$f":"Parameters!P48665","v":1.0416666999999999E-2},{"$f":"Parameters!Q48665","v":1.0416666999999999E-2},{"$f":"Parameters!R48665","v":1.0416666999999999E-2},{"$f":"Parameters!S48665","v":1.0416666999999999E-2},{"$f":"Parameters!T48665","v":1.0416666999999999E-2},{"$f":"Parameters!U48665","v":1.0416666999999999E-2},{"$f":"Parameters!V48665","v":1.0416666999999999E-2},{"$f":"Parameters!W48665","v":1.0416666999999999E-2},{"$f":"Parameters!X48665","v":1.0416666999999999E-2},{"$f":"Parameters!Y48665","v":1.0416666999999999E-2},{"$f":"Parameters!Z48665","v":1.0416666999999999E-2},{"$f":"Parameters!AA48665","v":1.0416666999999999E-2},{"$f":"Parameters!AB48665","v":1.0416666999999999E-2},{"$f":"Parameters!AC48665","v":1.0416666999999999E-2},{"$f":"Parameters!AD48665","v":1.0416666999999999E-2},{"$f":"Parameters!AE48665","v":1.0416666999999999E-2},{"$f":"Parameters!AF48665","v":1.0416666999999999E-2},{"$f":"Parameters!AG48665","v":1.0416666999999999E-2},{"$f":"Parameters!AH48665","v":1.0416666999999999E-2},{"$f":"Parameters!AI48665","v":1.0416666999999999E-2},{"$f":"Parameters!AJ48665","v":1.0416666999999999E-2},{"$f":"Parameters!AK48665","v":1.0416666999999999E-2},{"$f":"Parameters!AL48665","v":1.0416666999999999E-2},{"$f":"Parameters!AM48665","v":1.0416666999999999E-2},{"$f":"Parameters!AN48665","v":1.0416666999999999E-2},{"$f":"Parameters!AO48665","v":1.0416666999999999E-2},{"$f":"Parameters!AP48665","v":1.0416666999999999E-2},{"$f":"Parameters!AQ48665","v":1.0416666999999999E-2},{"$f":"Parameters!AR48665","v":1.0416666999999999E-2},{"$f":"Parameters!AS48665","v":1.0416666999999999E-2},{"$f":"Parameters!AT48665","v":1.0416666999999999E-2},{"$f":"Parameters!AU48665","v":1.0416666999999999E-2},{"$f":"Parameters!AV48665","v":1.0416666999999999E-2},{"$f":"Parameters!AW48665","v":1.0416666999999999E-2},{"$f":"Parameters!AX48665","v":1.0416666999999999E-2},{"$f":"Parameters!AY48665","v":1.0416666999999999E-2},{"$f":"Parameters!AZ48665","v":1.0416666999999999E-2},{"$f":"Parameters!BA48665","v":1.0416666999999999E-2},{"$f":"Parameters!BB48665","v":1.0416666999999999E-2},{"$f":"Parameters!BC48665","v":1.0416666999999999E-2},{"$f":"Parameters!BD48665","v":1.0416666999999999E-2},{"$f":"Parameters!BE48665","v":1.0416666999999999E-2},{"$f":"Parameters!BF48665","v":1.0416666999999999E-2},{"$f":"Parameters!BG48665","v":1.0416666999999999E-2},{"$f":"Parameters!BH48665","v":1.0416666999999999E-2},{"$f":"Parameters!BI48665","v":1.0416666999999999E-2},{"$f":"Parameters!BJ48665","v":1.0416666999999999E-2},{"$f":"Parameters!BK48665","v":1.0416666999999999E-2},{"$f":"Parameters!BL48665","v":1.0416666999999999E-2},{"$f":"Parameters!BM48665","v":1.0416666999999999E-2},{"$f":"Parameters!BN48665","v":1.0416666999999999E-2}]
["S105",{"$f":"Parameters!K48666","v":1.0416666999999999E-2},{"$f":"Parameters!L48666","v":1.0416666999999999E-2},{"$f":"Parameters!M48666","v":1.0416666999999999E-2},{"$f":"Parameters!N48666","v":1.0416666999999999E-2},{"$f":"Parameters!O48666","v":1.0416666999999999E-2},{"$f":"Parameters!P48666","v":1.0416666999999999E-2},{"$f":"Parameters!Q48666","v":1.0416666999999999E-2},{"$f":"Parameters!R48666","v":1.0416666999999999E-2},{"$f":"Parameters!S48666","v":1.0416666999999999E-2},{"$f":"Parameters!T48666","v":1.0416666999999999E-2},{"$f":"Parameters!U48666","v":1.0416666999999999E-2},{"$f":"Parameters!V48666","v":1.0416666999999999E-2},{"$f":"Parameters!W48666","v":1.0416666999999999E-2},{"$f":"Parameters!X48666","v":1.0416666999999999E-2},{"$f":"Parameters!Y48666","v":1.0416666999999999E-2},{"$f":"Parameters!Z48666","v":1.0416666999999999E-2},{"$f":"Parameters!AA48666","v":1.0416666999999999E-2},{"$f":"Parameters!AB48666","v":1.0416666999999999E-2},{"$f":"Parameters!AC48666","v":1.0416666999999999E-2},{"$f":"Parameters!AD48666","v":1.0416666999999999E-2},{"$f":"Parameters!AE48666","v":1.0416666999999999E-2},{"$f":"Parameters!AF48666","v":1.0416666999999999E-2},{"$f":"Parameters!AG48666","v":1.0416666999999999E-2},{"$f":"Parameters!AH48666","v":1.0416666999999999E-2},{"$f":"Parameters!AI48666","v":1.0416666999999999E-2},{"$f":"Parameters!AJ48666","v":1.0416666999999999E-2},{"$f":"Parameters!AK48666","v":1.0416666999999999E-2},{"$f":"Parameters!AL48666","v":1.0416666999999999E-2},{"$f":"Parameters!AM48666","v":1.0416666999999999E-2},{"$f":"Parameters!AN48666","v":1.0416666999999999E-2},{"$f":"Parameters!AO48666","v":1.0416666999999999E-2},{"$f":"Parameters!AP48666","v":1.0416666999999999E-2},{"$f":"Parameters!AQ48666","v":1.0416666999999999E-2},{"$f":"Parameters!AR48666","v":1.0416666999999999E-2},{"$f":"Parameters!AS48666","v":1.0416666999999999E-2},{"$f":"Parameters!AT48666","v":1.0416666999999999E-2},{"$f":"Parameters!AU48666","v":1.0416666999999999E-2},{"$f":"Parameters!AV48666","v":1.0416666999999999E-2},{"$f":"Parameters!AW48666","v":1.0416666999999999E-2},{"$f":"Parameters!AX48666","v":1.0416666999999999E-2},{"$f":"Parameters!AY48666","v":1.0416666999999999E-2},{"$f":"Parameters!AZ48666","v":1.0416666999999999E-2},{"$f":"Parameters!BA48666","v":1.0416666999999999E-2},{"$f":"Parameters!BB48666","v":1.0416666999999999E-2},{"$f":"Parameters!BC48666","v":1.0416666999999999E-2},{"$f":"Parameters!BD48666","v":1.0416666999999999E-2},{"$f":"Parameters!BE48666","v":1.0416666999999999E-2},{"$f":"Parameters!BF48666","v":1.0416666999999999E-2},{"$f":"Parameters!BG48666","v":1.0416666999999999E-2},{"$f":"Parameters!BH48666","v":1.0416666999999999E-2},{"$f":"Parameters!BI48666","v":1.0416666999999999E-2},{"$f":"Parameters!BJ48666","v":1.0416666999999999E-2},{"$f":"Parameters!BK48666","v":1.0416666999999999E-2},{"$f":"Parameters!BL48666","v":1.0416666999999999E-2},{"$f":"Parameters!BM48666","v":1.0416666999999999E-2},{"$f":"Parameters!BN48666","v":1.0416666999999999E-2}]
["S106",{"$f":"Parameters!K48667","v":1.0416666999999999E-2},{"$f":"Parameters!L48667","v":1.0416666999999999E-2},{"$f":"Parameters!M48667","v":1.0416666999999999E-2},{"$f":"Parameters!N48667","v":1.0416666999999999E-2},{"$f":"Parameters!O48667","v":1.0416666999999999E-2},{"$f":"Parameters!P48667","v":1.0416666999999999E-2},{"$f":"Parameters!Q48667","v":1.0416666999999999E-2},{"$f":"Parameters!R48667","v":1.0416666999999999E-2},{"$f":"Parameters!S48667","v":1.0416666999999999E-2},{"$f":"Parameters!T48667","v":1.0416666999999999E-2},{"$f":"Parameters!U48667","v":1.0416666999999999E-2},{"$f":"Parameters!V48667","v":1.0416666999999999E-2},{"$f":"Parameters!W48667","v":1.0416666999999999E-2},{"$f":"Parameters!X48667","v":1.0416666999999999E-2},{"$f":"Parameters!Y48667","v":1.0416666999999999E-2},{"$f":"Parameters!Z48667","v":1.0416666999999999E-2},{"$f":"Parameters!AA48667","v":1.0416666999999999E-2},{"$f":"Parameters!AB48667","v":1.0416666999999999E-2},{"$f":"Parameters!AC48667","v":1.0416666999999999E-2},{"$f":"Parameters!AD48667","v":1.0416666999999999E-2},{"$f":"Parameters!AE48667","v":1.0416666999999999E-2},{"$f":"Parameters!AF48667","v":1.0416666999999999E-2},{"$f":"Parameters!AG48667","v":1.0416666999999999E-2},{"$f":"Parameters!AH48667","v":1.0416666999999999E-2},{"$f":"Parameters!AI48667","v":1.0416666999999999E-2},{"$f":"Parameters!AJ48667","v":1.0416666999999999E-2},{"$f":"Parameters!AK48667","v":1.0416666999999999E-2},{"$f":"Parameters!AL48667","v":1.0416666999999999E-2},{"$f":"Parameters!AM48667","v":1.0416666999999999E-2},{"$f":"Parameters!AN48667","v":1.0416666999999999E-2},{"$f":"Parameters!AO48667","v":1.0416666999999999E-2},{"$f":"Parameters!AP48667","v":1.0416666999999999E-2},{"$f":"Parameters!AQ48667","v":1.0416666999999999E-2},{"$f":"Parameters!AR48667","v":1.0416666999999999E-2},{"$f":"Parameters!AS48667","v":1.0416666999999999E-2},{"$f":"Parameters!AT48667","v":1.0416666999999999E-2},{"$f":"Parameters!AU48667","v":1.0416666999999999E-2},{"$f":"Parameters!AV48667","v":1.0416666999999999E-2},{"$f":"Parameters!AW48667","v":1.0416666999999999E-2},{"$f":"Parameters!AX48667","v":1.0416666999999999E-2},{"$f":"Parameters!AY48667","v":1.0416666999999999E-2},{"$f":"Parameters!AZ48667","v":1.0416666999999999E-2},{"$f":"Parameters!BA48667","v":1.0416666999999999E-2},{"$f":"Parameters!BB48667","v":1.0416666999999999E-2},{"$f":"Parameters!BC48667","v":1.0416666999999999E-2},{"$f":"Parameters!BD48667","v":1.0416666999999999E-2},{"$f":"Parameters!BE48667","v":1.0416666999999999E-2},{"$f":"Parameters!BF48667","v":1.0416666999999999E-2},{"$f":"Parameters!BG48667","v":1.0416666999999999E-2},{"$f":"Parameters!BH48667","v":1.0416666999999999E-2},{"$f":"Parameters!BI48667","v":1.0416666999999999E-2},{"$f":"Parameters!BJ48667","v":1.0416666999999999E-2},{"$f":"Parameters!BK48667","v":1.0416666999999999E-2},{"$f":"Parameters!BL48667","v":1.0416666999999999E-2},{"$f":"Parameters!BM48667","v":1.0416666999999999E-2},{"$f":"Parameters!BN48667","v":1.0416666999999999E-2}]
["S107",{"$f":"Parameters!K48668","v":1.0416666999999999E-2},{"$f":"Parameters!L48668","v":1.0416666999999999E-2},{"$f":"Parameters!M48668","v":1.0416666999999999E-2},{"$f":"Parameters!N48668","v":1.0416666999999999E-2},{"$f":"Parameters!O48668","v":1.0416666999999999E-2},{"$f":"Parameters!P48668","v":1.0416666999999999E-2},{"$f":"Parameters!Q48668","v":1.0416666999999999E-2},{"$f":"Parameters!R48668","v":1.0416666999999999E-2},{"$f":"Parameters!S48668","v":1.0416666999999999E-2},{"$f":"Parameters!T48668","v":1.0416666999999999E-2},{"$f":"Parameters!U48668","v":1.0416666999999999E-2},{"$f":"Parameters!V48668","v":1.0416666999999999E-2},{"$f":"Parameters!W48668","v":1.0416666999999999E-2},{"$f":"Parameters!X48668","v":1.0416666999999999E-2},{"$f":"Parameters!Y48668","v":1.0416666999999999E-2},{"$f":"Parameters!Z48668","v":1.0416666999999999E-2},{"$f":"Parameters!AA48668","v":1.0416666999999999E-2},{"$f":"Parameters!AB48668","v":1.0416666999999999E-2},{"$f":"Parameters!AC48668","v":1.0416666999999999E-2},{"$f":"Parameters!AD48668","v":1.0416666999999999E-2},{"$f":"Parameters!AE48668","v":1.0416666999999999E-2},{"$f":"Parameters!AF48668","v":1.0416666999999999E-2},{"$f":"Parameters!AG48668","v":1.0416666999999999E-2},{"$f":"Parameters!AH48668","v":1.0416666999999999E-2},{"$f":"Parameters!AI48668","v":1.0416666999999999E-2},{"$f":"Parameters!AJ48668","v":1.0416666999999999E-2},{"$f":"Parameters!AK48668","v":1.0416666999999999E-2},{"$f":"Parameters!AL48668","v":1.0416666999999999E-2},{"$f":"Parameters!AM48668","v":1.0416666999999999E-2},{"$f":"Parameters!AN48668","v":1.0416666999999999E-2},{"$f":"Parameters!AO48668","v":1.0416666999999999E-2},{"$f":"Parameters!AP48668","v":1.0416666999999999E-2},{"$f":"Parameters!AQ48668","v":1.0416666999999999E-2},{"$f":"Parameters!AR48668","v":1.0416666999999999E-2},{"$f":"Parameters!AS48668","v":1.0416666999999999E-2},{"$f":"Parameters!AT48668","v":1.0416666999999999E-2},{"$f":"Parameters!AU48668","v":1.0416666999999999E-2},{"$f":"Parameters!AV48668","v":1.0416666999999999E-2},{"$f":"Parameters!AW48668","v":1.0416666999999999E-2},{"$f":"Parameters!AX48668","v":1.0416666999999999E-2},{"$f":"Parameters!AY48668","v":1.0416666999999999E-2},{"$f":"Parameters!AZ48668","v":1.0416666999999999E-2},{"$f":"Parameters!BA48668","v":1.0416666999999999E-2},{"$f":"Parameters!BB48668","v":1.0416666999999999E-2},{"$f":"Parameters!BC48668","v":1.0416666999999999E-2},{"$f":"Parameters!BD48668","v":1.0416666999999999E-2},{"$f":"Parameters!BE48668","v":1.0416666999999999E-2},{"$f":"Parameters!BF48668","v":1.0416666999999999E-2},{"$f":"Parameters!BG48668","v":1.0416666999999999E-2},{"$f":"Parameters!BH48668","v":1.0416666999999999E-2},{"$f":"Parameters!BI48668","v":1.0416666999999999E-2},{"$f":"Parameters!BJ48668","v":1.0416666999999999E-2},{"$f":"Parameters!BK48668","v":1.0416666999999999E-2},{"$f":"Parameters!BL48668","v":1.0416666999999999E-2},{"$f":"Parameters!BM48668","v":1.0416666999999999E-2},{"$f":"Parameters!BN48668","v":1.0416666999999999E-2}]
["S108",{"$f":"Parameters!K48669","v":1.0416666999999999E-2},{"$f":"Parameters!L48669","v":1.0416666999999999E-2},{"$f":"Parameters!M48669","v":1.0416666999999999E-2},{"$f":"Parameters!N48669","v":1.0416666999999999E-2},{"$f":"Parameters!O48669","v":1.0416666999999999E-2},{"$f":"Parameters!P48669","v":1.0416666999999999E-2},{"$f":"Parameters!Q48669","v":1.0416666999999999E-2},{"$f":"Parameters!R48669","v":1.0416666999999999E-2},{"$f":"Parameters!S48669","v":1.0416666999999999E-2},{"$f":"Parameters!T48669","v":1.0416666999999999E-2},{"$f":"Parameters!U48669","v":1.0416666999999999E-2},{"$f":"Parameters!V48669","v":1.0416666999999999E-2},{"$f":"Parameters!W48669","v":1.0416666999999999E-2},{"$f":"Parameters!X48669","v":1.0416666999999999E-2},{"$f":"Parameters!Y48669","v":1.0416666999999999E-2},{"$f":"Parameters!Z48669","v":1.0416666999999999E-2},{"$f":"Parameters!AA48669","v":1.0416666999999999E-2},{"$f":"Parameters!AB48669","v":1.0416666999999999E-2},{"$f":"Parameters!AC48669","v":1.0416666999999999E-2},{"$f":"Parameters!AD48669","v":1.0416666999999999E-2},{"$f":"Parameters!AE48669","v":1.0416666999999999E-2},{"$f":"Parameters!AF48669","v":1.0416666999999999E-2},{"$f":"Parameters!AG48669","v":1.0416666999999999E-2},{"$f":"Parameters!AH48669","v":1.0416666999999999E-2},{"$f":"Parameters!AI48669","v":1.0416666999999999E-2},{"$f":"Parameters!AJ48669","v":1.0416666999999999E-2},{"$f":"Parameters!AK48669","v":1.0416666999999999E-2},{"$f":"Parameters!AL48669","v":1.0416666999999999E-2},{"$f":"Parameters!AM48669","v":1.0416666999999999E-2},{"$f":"Parameters!AN48669","v":1.0416666999999999E-2},{"$f":"Parameters!AO48669","v":1.0416666999999999E-2},{"$f":"Parameters!AP48669","v":1.0416666999999999E-2},{"$f":"Parameters!AQ48669","v":1.0416666999999999E-2},{"$f":"Parameters!AR48669","v":1.0416666999999999E-2},{"$f":"Parameters!AS48669","v":1.0416666999999999E-2},{"$f":"Parameters!AT48669","v":1.0416666999999999E-2},{"$f":"Parameters!AU48669","v":1.0416666999999999E-2},{"$f":"Parameters!AV48669","v":1.0416666999999999E-2},{"$f":"Parameters!AW48669","v":1.0416666999999999E-2},{"$f":"Parameters!AX48669","v":1.0416666999999999E-2},{"$f":"Parameters!AY48669","v":1.0416666999999999E-2},{"$f":"Parameters!AZ48669","v":1.0416666999999999E-2},{"$f":"Parameters!BA48669","v":1.0416666999999999E-2},{"$f":"Parameters!BB48669","v":1.0416666999999999E-2},{"$f":"Parameters!BC48669","v":1.0416666999999999E-2},{"$f":"Parameters!BD48669","v":1.0416666999999999E-2},{"$f":"Parameters!BE48669","v":1.0416666999999999E-2},{"$f":"Parameters!BF48669","v":1.0416666999999999E-2},{"$f":"Parameters!BG48669","v":1.0416666999999999E-2},{"$f":"Parameters!BH48669","v":1.0416666999999999E-2},{"$f":"Parameters!BI48669","v":1.0416666999999999E-2},{"$f":"Parameters!BJ48669","v":1.0416666999999999E-2},{"$f":"Parameters!BK48669","v":1.0416666999999999E-2},{"$f":"Parameters!BL48669","v":1.0416666999999999E-2},{"$f":"Parameters!BM48669","v":1.0416666999999999E-2},{"$f":"Parameters!BN48669","v":1.0416666999999999E-2}]
["S109",{"$f":"Parameters!K48670","v":1.0416666999999999E-2},{"$f":"Parameters!L48670","v":1.0416666999999999E-2},{"$f":"Parameters!M48670","v":1.0416666999999999E-2},{"$f":"Parameters!N48670","v":1.0416666999999999E-2},{"$f":"Parameters!O48670","v":1.0416666999999999E-2},{"$f":"Parameters!P48670","v":1.0416666999999999E-2},{"$f":"Parameters!Q48670","v":1.0416666999999999E-2},{"$f":"Parameters!R48670","v":1.0416666999999999E-2},{"$f":"Parameters!S48670","v":1.0416666999999999E-2},{"$f":"Parameters!T48670","v":1.0416666999999999E-2},{"$f":"Parameters!U48670","v":1.0416666999999999E-2},{"$f":"Parameters!V48670","v":1.0416666999999999E-2},{"$f":"Parameters!W48670","v":1.0416666999999999E-2},{"$f":"Parameters!X48670","v":1.0416666999999999E-2},{"$f":"Parameters!Y48670","v":1.0416666999999999E-2},{"$f":"Parameters!Z48670","v":1.0416666999999999E-2},{"$f":"Parameters!AA48670","v":1.0416666999999999E-2},{"$f":"Parameters!AB48670","v":1.0416666999999999E-2},{"$f":"Parameters!AC48670","v":1.0416666999999999E-2},{"$f":"Parameters!AD48670","v":1.0416666999999999E-2},{"$f":"Parameters!AE48670","v":1.0416666999999999E-2},{"$f":"Parameters!AF48670","v":1.0416666999999999E-2},{"$f":"Parameters!AG48670","v":1.0416666999999999E-2},{"$f":"Parameters!AH48670","v":1.0416666999999999E-2},{"$f":"Parameters!AI48670","v":1.0416666999999999E-2},{"$f":"Parameters!AJ48670","v":1.0416666999999999E-2},{"$f":"Parameters!AK48670","v":1.0416666999999999E-2},{"$f":"Parameters!AL48670","v":1.0416666999999999E-2},{"$f":"Parameters!AM48670","v":1.0416666999999999E-2},{"$f":"Parameters!AN48670","v":1.0416666999999999E-2},{"$f":"Parameters!AO48670","v":1.0416666999999999E-2},{"$f":"Parameters!AP48670","v":1.0416666999999999E-2},{"$f":"Parameters!AQ48670","v":1.0416666999999999E-2},{"$f":"Parameters!AR48670","v":1.0416666999999999E-2},{"$f":"Parameters!AS48670","v":1.0416666999999999E-2},{"$f":"Parameters!AT48670","v":1.0416666999999999E-2},{"$f":"Parameters!AU48670","v":1.0416666999999999E-2},{"$f":"Parameters!AV48670","v":1.0416666999999999E-2},{"$f":"Parameters!AW48670","v":1.0416666999999999E-2},{"$f":"Parameters!AX48670","v":1.0416666999999999E-2},{"$f":"Parameters!AY48670","v":1.0416666999999999E-2},{"$f":"Parameters!AZ48670","v":1.0416666999999999E-2},{"$f":"Parameters!BA48670","v":1.0416666999999999E-2},{"$f":"Parameters!BB48670","v":1.0416666999999999E-2},{"$f":"Parameters!BC48670","v":1.0416666999999999E-2},{"$f":"Parameters!BD48670","v":1.0416666999999999E-2},{"$f":"Parameters!BE48670","v":1.0416666999999999E-2},{"$f":"Parameters!BF48670","v":1.0416666999999999E-2},{"$f":"Parameters!BG48670","v":1.0416666999999999E-2},{"$f":"Parameters!BH48670","v":1.0416666999999999E-2},{"$f":"Parameters!BI48670","v":1.0416666999999999E-2},{"$f":"Parameters!BJ48670","v":1.0416666999999999E-2},{"$f":"Parameters!BK48670","v":1.0416666999999999E-2},{"$f":"Parameters!BL48670","v":1.0416666999999999E-2},{"$f":"Parameters!BM48670","v":1.0416666999999999E-2},{"$f":"Parameters!BN48670","v":1.0416666999999999E-2}]
["S110",{"$f":"Parameters!K48671","v":1.0416666999999999E-2},{"$f":"Parameters!L48671","v":1.0416666999999999E-2},{"$f":"Parameters!M48671","v":1.0416666999999999E-2},{"$f":"Parameters!N48671","v":1.0416666999999999E-2},{"$f":"Parameters!O48671","v":1.0416666999999999E-2},{"$f":"Parameters!P48671","v":1.0416666999999999E-2},{"$f":"Parameters!Q48671","v":1.0416666999999999E-2},{"$f":"Parameters!R48671","v":1.0416666999999999E-2},{"$f":"Parameters!S48671","v":1.0416666999999999E-2},{"$f":"Parameters!T48671","v":1.0416666999999999E-2},{"$f":"Parameters!U48671","v":1.0416666999999999E-2},{"$f":"Parameters!V48671","v":1.0416666999999999E-2},{"$f":"Parameters!W48671","v":1.0416666999999999E-2},{"$f":"Parameters!X48671","v":1.0416666999999999E-2},{"$f":"Parameters!Y48671","v":1.0416666999999999E-2},{"$f":"Parameters!Z48671","v":1.0416666999999999E-2},{"$f":"Parameters!AA48671","v":1.0416666999999999E-2},{"$f":"Parameters!AB48671","v":1.0416666999999999E-2},{"$f":"Parameters!AC48671","v":1.0416666999999999E-2},{"$f":"Parameters!AD48671","v":1.0416666999999999E-2},{"$f":"Parameters!AE48671","v":1.0416666999999999E-2},{"$f":"Parameters!AF48671","v":1.0416666999999999E-2},{"$f":"Parameters!AG48671","v":1.0416666999999999E-2},{"$f":"Parameters!AH48671","v":1.0416666999999999E-2},{"$f":"Parameters!AI48671","v":1.0416666999999999E-2},{"$f":"Parameters!AJ48671","v":1.0416666999999999E-2},{"$f":"Parameters!AK48671","v":1.0416666999999999E-2},{"$f":"Parameters!AL48671","v":1.0416666999999999E-2},{"$f":"Parameters!AM48671","v":1.0416666999999999E-2},{"$f":"Parameters!AN48671","v":1.0416666999999999E-2},{"$f":"Parameters!AO48671","v":1.0416666999999999E-2},{"$f":"Parameters!AP48671","v":1.0416666999999999E-2},{"$f":"Parameters!AQ48671","v":1.0416666999999999E-2},{"$f":"Parameters!AR48671","v":1.0416666999999999E-2},{"$f":"Parameters!AS48671","v":1.0416666999999999E-2},{"$f":"Parameters!AT48671","v":1.0416666999999999E-2},{"$f":"Parameters!AU48671","v":1.0416666999999999E-2},{"$f":"Parameters!AV48671","v":1.0416666999999999E-2},{"$f":"Parameters!AW48671","v":1.0416666999999999E-2},{"$f":"Parameters!AX48671","v":1.0416666999999999E-2},{"$f":"Parameters!AY48671","v":1.0416666999999999E-2},{"$f":"Parameters!AZ48671","v":1.0416666999999999E-2},{"$f":"Parameters!BA48671","v":1.0416666999999999E-2},{"$f":"Parameters!BB48671","v":1.0416666999999999E-2},{"$f":"Parameters!BC48671","v":1.0416666999999999E-2},{"$f":"Parameters!BD48671","v":1.0416666999999999E-2},{"$f":"Parameters!BE48671","v":1.0416666999999999E-2},{"$f":"Parameters!BF48671","v":1.0416666999999999E-2},{"$f":"Parameters!BG48671","v":1.0416666999999999E-2},{"$f":"Parameters!BH48671","v":1.0416666999999999E-2},{"$f":"Parameters!BI48671","v":1.0416666999999999E-2},{"$f":"Parameters!BJ48671","v":1.0416666999999999E-2},{"$f":"Parameters!BK48671","v":1.0416666999999999E-2},{"$f":"Parameters!BL48671","v":1.0416666999999999E-2},{"$f":"Parameters!BM48671","v":1.0416666999999999E-2},{"$f":"Parameters!BN48671","v":1.0416666999999999E-2}]
["S111",{"$f":"Parameters!K48672","v":1.0416666999999999E-2},{"$f":"Parameters!L48672","v":1.0416666999999999E-2},{"$f":"Parameters!M48672","v":1.0416666999999999E-2},{"$f":"Parameters!N48672","v":1.0416666999999999E-2},{"$f":"Parameters!O48672","v":1.0416666999999999E-2},{"$f":"Parameters!P48672","v":1.0416666999999999E-2},{"$f":"Parameters!Q48672","v":1.0416666999999999E-2},{"$f":"Parameters!R48672","v":1.0416666999999999E-2},{"$f":"Parameters!S48672","v":1.0416666999999999E-2},{"$f":"Parameters!T48672","v":1.0416666999999999E-2},{"$f":"Parameters!U48672","v":1.0416666999999999E-2},{"$f":"Parameters!V48672","v":1.0416666999999999E-2},{"$f":"Parameters!W48672","v":1.0416666999999999E-2},{"$f":"Parameters!X48672","v":1.0416666999999999E-2},{"$f":"Parameters!Y48672","v":1.0416666999999999E-2},{"$f":"Parameters!Z48672","v":1.0416666999999999E-2},{"$f":"Parameters!AA48672","v":1.0416666999999999E-2},{"$f":"Parameters!AB48672","v":1.0416666999999999E-2},{"$f":"Parameters!AC48672","v":1.0416666999999999E-2},{"$f":"Parameters!AD48672","v":1.0416666999999999E-2},{"$f":"Parameters!AE48672","v":1.0416666999999999E-2},{"$f":"Parameters!AF48672","v":1.0416666999999999E-2},{"$f":"Parameters!AG48672","v":1.0416666999999999E-2},{"$f":"Parameters!AH48672","v":1.0416666999999999E-2},{"$f":"Parameters!AI48672","v":1.0416666999999999E-2},{"$f":"Parameters!AJ48672","v":1.0416666999999999E-2},{"$f":"Parameters!AK48672","v":1.0416666999999999E-2},{"$f":"Parameters!AL48672","v":1.0416666999999999E-2},{"$f":"Parameters!AM48672","v":1.0416666999999999E-2},{"$f":"Parameters!AN48672","v":1.0416666999999999E-2},{"$f":"Parameters!AO48672","v":1.0416666999999999E-2},{"$f":"Parameters!AP48672","v":1.0416666999999999E-2},{"$f":"Parameters!AQ48672","v":1.0416666999999999E-2},{"$f":"Parameters!AR48672","v":1.0416666999999999E-2},{"$f":"Parameters!AS48672","v":1.0416666999999999E-2},{"$f":"Parameters!AT48672","v":1.0416666999999999E-2},{"$f":"Parameters!AU48672","v":1.0416666999999999E-2},{"$f":"Parameters!AV48672","v":1.0416666999999999E-2},{"$f":"Parameters!AW48672","v":1.0416666999999999E-2},{"$f":"Parameters!AX48672","v":1.0416666999999999E-2},{"$f":"Parameters!AY48672","v":1.0416666999999999E-2},{"$f":"Parameters!AZ48672","v":1.0416666999999999E-2},{"$f":"Parameters!BA48672","v":1.0416666999999999E-2},{"$f":"Parameters!BB48672","v":1.0416666999999999E-2},{"$f":"Parameters!BC48672","v":1.0416666999999999E-2},{"$f":"Parameters!BD48672","v":1.0416666999999999E-2},{"$f":"Parameters!BE48672","v":1.0416666999999999E-2},{"$f":"Parameters!BF48672","v":1.0416666999999999E-2},{"$f":"Parameters!BG48672","v":1.0416666999999999E-2},{"$f":"Parameters!BH48672","v":1.0416666999999999E-2},{"$f":"Parameters!BI48672","v":1.0416666999999999E-2},{"$f":"Parameters!BJ48672","v":1.0416666999999999E-2},{"$f":"Parameters!BK48672","v":1.0416666999999999E-2},{"$f":"Parameters!BL48672","v":1.0416666999999999E-2},{"$f":"Parameters!BM48672","v":1.0416666999999999E-2},{"$f":"Parameters!BN48672","v":1.0416666999999999E-2}]
["S112",{"$f":"Parameters!K48673","v":1.0416666999999999E-2},{"$f":"Parameters!L48673","v":1.0416666999999999E-2},{"$f":"Parameters!M48673","v":1.0416666999999999E-2},{"$f":"Parameters!N48673","v":1.0416666999999999E-2},{"$f":"Parameters!O48673","v":1.0416666999999999E-2},{"$f":"Parameters!P48673","v":1.0416666999999999E-2},{"$f":"Parameters!Q48673","v":1.0416666999999999E-2},{"$f":"Parameters!R48673","v":1.0416666999999999E-2},{"$f":"Parameters!S48673","v":1.0416666999999999E-2},{"$f":"Parameters!T48673","v":1.0416666999999999E-2},{"$f":"Parameters!U48673","v":1.0416666999999999E-2},{"$f":"Parameters!V48673","v":1.0416666999999999E-2},{"$f":"Parameters!W48673","v":1.0416666999999999E-2},{"$f":"Parameters!X48673","v":1.0416666999999999E-2},{"$f":"Parameters!Y48673","v":1.0416666999999999E-2},{"$f":"Parameters!Z48673","v":1.0416666999999999E-2},{"$f":"Parameters!AA48673","v":1.0416666999999999E-2},{"$f":"Parameters!AB48673","v":1.0416666999999999E-2},{"$f":"Parameters!AC48673","v":1.0416666999999999E-2},{"$f":"Parameters!AD48673","v":1.0416666999999999E-2},{"$f":"Parameters!AE48673","v":1.0416666999999999E-2},{"$f":"Parameters!AF48673","v":1.0416666999999999E-2},{"$f":"Parameters!AG48673","v":1.0416666999999999E-2},{"$f":"Parameters!AH48673","v":1.0416666999999999E-2},{"$f":"Parameters!AI48673","v":1.0416666999999999E-2},{"$f":"Parameters!AJ48673","v":1.0416666999999999E-2},{"$f":"Parameters!AK48673","v":1.0416666999999999E-2},{"$f":"Parameters!AL48673","v":1.0416666999999999E-2},{"$f":"Parameters!AM48673","v":1.0416666999999999E-2},{"$f":"Parameters!AN48673","v":1.0416666999999999E-2},{"$f":"Parameters!AO48673","v":1.0416666999999999E-2},{"$f":"Parameters!AP48673","v":1.0416666999999999E-2},{"$f":"Parameters!AQ48673","v":1.0416666999999999E-2},{"$f":"Parameters!AR48673","v":1.0416666999999999E-2},{"$f":"Parameters!AS48673","v":1.0416666999999999E-2},{"$f":"Parameters!AT48673","v":1.0416666999999999E-2},{"$f":"Parameters!AU48673","v":1.0416666999999999E-2},{"$f":"Parameters!AV48673","v":1.0416666999999999E-2},{"$f":"Parameters!AW48673","v":1.0416666999999999E-2},{"$f":"Parameters!AX48673","v":1.0416666999999999E-2},{"$f":"Parameters!AY48673","v":1.0416666999999999E-2},{"$f":"Parameters!AZ48673","v":1.0416666999999999E-2},{"$f":"Parameters!BA48673","v":1.0416666999999999E-2},{"$f":"Parameters!BB48673","v":1.0416666999999999E-2},{"$f":"Parameters!BC48673","v":1.0416666999999999E-2},{"$f":"Parameters!BD48673","v":1.0416666999999999E-2},{"$f":"Parameters!BE48673","v":1.0416666999999999E-2},{"$f":"Parameters!BF48673","v":1.0416666999999999E-2},{"$f":"Parameters!BG48673","v":1.0416666999999999E-2},{"$f":"Parameters!BH48673","v":1.0416666999999999E-2},{"$f":"Parameters!BI48673","v":1.0416666999999999E-2},{"$f":"Parameters!BJ48673","v":1.0416666999999999E-2},{"$f":"Parameters!BK48673","v":1.0416666999999999E-2},{"$f":"Parameters!BL48673","v":1.0416666999999999E-2},{"$f":"Parameters!BM48673","v":1.0416666999999999E-2},{"$f":"Parameters!BN48673","v":1.0416666999999999E-2}]
["S113",{"$f":"Parameters!K48674","v":1.0416666999999999E-2},{"$f":"Parameters!L48674","v":1.0416666999999999E-2},{"$f":"Parameters!M48674","v":1.0416666999999999E-2},{"$f":"Parameters!N48674","v":1.0416666999999999E-2},{"$f":"Parameters!O48674","v":1.0416666999999999E-2},{"$f":"Parameters!P48674","v":1.0416666999999999E-2},{"$f":"Parameters!Q48674","v":1.0416666999999999E-2},{"$f":"Parameters!R48674","v":1.0416666999999999E-2},{"$f":"Parameters!S48674","v":1.0416666999999999E-2},{"$f":"Parameters!T48674","v":1.0416666999999999E-2},{"$f":"Parameters!U48674","v":1.0416666999999999E-2},{"$f":"Parameters!V48674","v":1.0416666999999999E-2},{"$f":"Parameters!W48674","v":1.0416666999999999E-2},{"$f":"Parameters!X48674","v":1.0416666999999999E-2},{"$f":"Parameters!Y48674","v":1.0416666999999999E-2},{"$f":"Parameters!Z48674","v":1.0416666999999999E-2},{"$f":"Parameters!AA48674","v":1.0416666999999999E-2},{"$f":"Parameters!AB48674","v":1.0416666999999999E-2},{"$f":"Parameters!AC48674","v":1.0416666999999999E-2},{"$f":"Parameters!AD48674","v":1.0416666999999999E-2},{"$f":"Parameters!AE48674","v":1.0416666999999999E-2},{"$f":"Parameters!AF48674","v":1.0416666999999999E-2},{"$f":"Parameters!AG48674","v":1.0416666999999999E-2},{"$f":"Parameters!AH48674","v":1.0416666999999999E-2},{"$f":"Parameters!AI48674","v":1.0416666999999999E-2},{"$f":"Parameters!AJ48674","v":1.0416666999999999E-2},{"$f":"Parameters!AK48674","v":1.0416666999999999E-2},{"$f":"Parameters!AL48674","v":1.0416666999999999E-2},{"$f":"Parameters!AM48674","v":1.0416666999999999E-2},{"$f":"Parameters!AN48674","v":1.0416666999999999E-2},{"$f":"Parameters!AO48674","v":1.0416666999999999E-2},{"$f":"Parameters!AP48674","v":1.0416666999999999E-2},{"$f":"Parameters!AQ48674","v":1.0416666999999999E-2},{"$f":"Parameters!AR48674","v":1.0416666999999999E-2},{"$f":"Parameters!AS48674","v":1.0416666999999999E-2},{"$f":"Parameters!AT48674","v":1.0416666999999999E-2},{"$f":"Parameters!AU48674","v":1.0416666999999999E-2},{"$f":"Parameters!AV48674","v":1.0416666999999999E-2},{"$f":"Parameters!AW48674","v":1.0416666999999999E-2},{"$f":"Parameters!AX48674","v":1.0416666999999999E-2},{"$f":"Parameters!AY48674","v":1.0416666999999999E-2},{"$f":"Parameters!AZ48674","v":1.0416666999999999E-2},{"$f":"Parameters!BA48674","v":1.0416666999999999E-2},{"$f":"Parameters!BB48674","v":1.0416666999999999E-2},{"$f":"Parameters!BC48674","v":1.0416666999999999E-2},{"$f":"Parameters!BD48674","v":1.0416666999999999E-2},{"$f":"Parameters!BE48674","v":1.0416666999999999E-2},{"$f":"Parameters!BF48674","v":1.0416666999999999E-2},{"$f":"Parameters!BG48674","v":1.0416666999999999E-2},{"$f":"Parameters!BH48674","v":1.0416666999999999E-2},{"$f":"Parameters!BI48674","v":1.0416666999999999E-2},{"$f":"Parameters!BJ48674","v":1.0416666999999999E-2},{"$f":"Parameters!BK48674","v":1.0416666999999999E-2},{"$f":"Parameters!BL48674","v":1.0416666999999999E-2},{"$f":"Parameters!BM48674","v":1.0416666999999999E-2},{"$f":"Parameters!BN48674","v":1.0416666999999999E-2}]
["S114",{"$f":"Parameters!K48675","v":1.0416666999999999E-2},{"$f":"Parameters!L48675","v":1.0416666999999999E-2},{"$f":"Parameters!M48675","v":1.0416666999999999E-2},{"$f":"Parameters!N48675","v":1.0416666999999999E-2},{"$f":"Parameters!O48675","v":1.0416666999999999E-2},{"$f":"Parameters!P48675","v":1.0416666999999999E-2},{"$f":"Parameters!Q48675","v":1.0416666999999999E-2},{"$f":"Parameters!R48675","v":1.0416666999999999E-2},{"$f":"Parameters!S48675","v":1.0416666999999999E-2},{"$f":"Parameters!T48675","v":1.0416666999999999E-2},{"$f":"Parameters!U48675","v":1.0416666999999999E-2},{"$f":"Parameters!V48675","v":1.0416666999999999E-2},{"$f":"Parameters!W48675","v":1.0416666999999999E-2},{"$f":"Parameters!X48675","v":1.0416666999999999E-2},{"$f":"Parameters!Y48675","v":1.0416666999999999E-2},{"$f":"Parameters!Z48675","v":1.0416666999999999E-2},{"$f":"Parameters!AA48675","v":1.0416666999999999E-2},{"$f":"Parameters!AB48675","v":1.0416666999999999E-2},{"$f":"Parameters!AC48675","v":1.0416666999999999E-2},{"$f":"Parameters!AD48675","v":1.0416666999999999E-2},{"$f":"Parameters!AE48675","v":1.0416666999999999E-2},{"$f":"Parameters!AF48675","v":1.0416666999999999E-2},{"$f":"Parameters!AG48675","v":1.0416666999999999E-2},{"$f":"Parameters!AH48675","v":1.0416666999999999E-2},{"$f":"Parameters!AI48675","v":1.0416666999999999E-2},{"$f":"Parameters!AJ48675","v":1.0416666999999999E-2},{"$f":"Parameters!AK48675","v":1.0416666999999999E-2},{"$f":"Parameters!AL48675","v":1.0416666999999999E-2},{"$f":"Parameters!AM48675","v":1.0416666999999999E-2},{"$f":"Parameters!AN48675","v":1.0416666999999999E-2},{"$f":"Parameters!AO48675","v":1.0416666999999999E-2},{"$f":"Parameters!AP48675","v":1.0416666999999999E-2},{"$f":"Parameters!AQ48675","v":1.0416666999999999E-2},{"$f":"Parameters!AR48675","v":1.0416666999999999E-2},{"$f":"Parameters!AS48675","v":1.0416666999999999E-2},{"$f":"Parameters!AT48675","v":1.0416666999999999E-2},{"$f":"Parameters!AU48675","v":1.0416666999999999E-2},{"$f":"Parameters!AV48675","v":1.0416666999999999E-2},{"$f":"Parameters!AW48675","v":1.0416666999999999E-2},{"$f":"Parameters!AX48675","v":1.0416666999999999E-2},{"$f":"Parameters!AY48675","v":1.0416666999999999E-2},{"$f":"Parameters!AZ48675","v":1.0416666999999999E-2},{"$f":"Parameters!BA48675","v":1.0416666999999999E-2},{"$f":"Parameters!BB48675","v":1.0416666999999999E-2},{"$f":"Parameters!BC48675","v":1.0416666999999999E-2},{"$f":"Parameters!BD48675","v":1.0416666999999999E-2},{"$f":"Parameters!BE48675","v":1.0416666999999999E-2},{"$f":"Parameters!BF48675","v":1.0416666999999999E-2},{"$f":"Parameters!BG48675","v":1.0416666999999999E-2},{"$f":"Parameters!BH48675","v":1.0416666999999999E-2},{"$f":"Parameters!BI48675","v":1.0416666999999999E-2},{"$f":"Parameters!BJ48675","v":1.0416666999999999E-2},{"$f":"Parameters!BK48675","v":1.0416666999999999E-2},{"$f":"Parameters!BL48675","v":1.0416666999999999E-2},{"$f":"Parameters!BM48675","v":1.0416666999999999E-2},{"$f":"Parameters!BN48675","v":1.0416666999999999E-2}]
["S115",{"$f":"Parameters!K48676","v":1.0416666999999999E-2},{"$f":"Parameters!L48676","v":1.0416666999999999E-2},{"$f":"Parameters!M48676","v":1.0416666999999999E-2},{"$f":"Parameters!N48676","v":1.0416666999999999E-2},{"$f":"Parameters!O48676","v":1.0416666999999999E-2},{"$f":"Parameters!P48676","v":1.0416666999999999E-2},{"$f":"Parameters!Q48676","v":1.0416666999999999E-2},{"$f":"Parameters!R48676","v":1.0416666999999999E-2},{"$f":"Parameters!S48676","v":1.0416666999999999E-2},{"$f":"Parameters!T48676","v":1.0416666999999999E-2},{"$f":"Parameters!U48676","v":1.0416666999999999E-2},{"$f":"Parameters!V48676","v":1.0416666999999999E-2},{"$f":"Parameters!W48676","v":1.0416666999999999E-2},{"$f":"Parameters!X48676","v":1.0416666999999999E-2},{"$f":"Parameters!Y48676","v":1.0416666999999999E-2},{"$f":"Parameters!Z48676","v":1.0416666999999999E-2},{"$f":"Parameters!AA48676","v":1.0416666999999999E-2},{"$f":"Parameters!AB48676","v":1.0416666999999999E-2},{"$f":"Parameters!AC48676","v":1.0416666999999999E-2},{"$f":"Parameters!AD48676","v":1.0416666999999999E-2},{"$f":"Parameters!AE48676","v":1.0416666999999999E-2},{"$f":"Parameters!AF48676","v":1.0416666999999999E-2},{"$f":"Parameters!AG48676","v":1.0416666999999999E-2},{"$f":"Parameters!AH48676","v":1.0416666999999999E-2},{"$f":"Parameters!AI48676","v":1.0416666999999999E-2},{"$f":"Parameters!AJ48676","v":1.0416666999999999E-2},{"$f":"Parameters!AK48676","v":1.0416666999999999E-2},{"$f":"Parameters!AL48676","v":1.0416666999999999E-2},{"$f":"Parameters!AM48676","v":1.0416666999999999E-2},{"$f":"Parameters!AN48676","v":1.0416666999999999E-2},{"$f":"Parameters!AO48676","v":1.0416666999999999E-2},{"$f":"Parameters!AP48676","v":1.0416666999999999E-2},{"$f":"Parameters!AQ48676","v":1.0416666999999999E-2},{"$f":"Parameters!AR48676","v":1.0416666999999999E-2},{"$f":"Parameters!AS48676","v":1.0416666999999999E-2},{"$f":"Parameters!AT48676","v":1.0416666999999999E-2},{"$f":"Parameters!AU48676","v":1.0416666999999999E-2},{"$f":"Parameters!AV48676","v":1.0416666999999999E-2},{"$f":"Parameters!AW48676","v":1.0416666999999999E-2},{"$f":"Parameters!AX48676","v":1.0416666999999999E-2},{"$f":"Parameters!AY48676","v":1.0416666999999999E-2},{"$f":"Parameters!AZ48676","v":1.0416666999999999E-2},{"$f":"Parameters!BA48676","v":1.0416666999999999E-2},{"$f":"Parameters!BB48676","v":1.0416666999999999E-2},{"$f":"Parameters!BC48676","v":1.0416666999999999E-2},{"$f":"Parameters!BD48676","v":1.0416666999999999E-2},{"$f":"Parameters!BE48676","v":1.0416666999999999E-2},{"$f":"Parameters!BF48676","v":1.0416666999999999E-2},{"$f":"Parameters!BG48676","v":1.0416666999999999E-2},{"$f":"Parameters!BH48676","v":1.0416666999999999E-2},{"$f":"Parameters!BI48676","v":1.0416666999999999E-2},{"$f":"Parameters!BJ48676","v":1.0416666999999999E-2},{"$f":"Parameters!BK48676","v":1.0416666999999999E-2},{"$f":"Parameters!BL48676","v":1.0416666999999999E-2},{"$f":"Parameters!BM48676","v":1.0416666999999999E-2},{"$f":"Parameters!BN48676","v":1.0416666999999999E-2}]
["S116",{"$f":"Parameters!K48677","v":1.0416666999999999E-2},{"$f":"Parameters!L48677","v":1.0416666999999999E-2},{"$f":"Parameters!M48677","v":1.0416666999999999E-2},{"$f":"Parameters!N48677","v":1.0416666999999999E-2},{"$f":"Parameters!O48677","v":1.0416666999999999E-2},{"$f":"Parameters!P48677","v":1.0416666999999999E-2},{"$f":"Parameters!Q48677","v":1.0416666999999999E-2},{"$f":"Parameters!R48677","v":1.0416666999999999E-2},{"$f":"Parameters!S48677","v":1.0416666999999999E-2},{"$f":"Parameters!T48677","v":1.0416666999999999E-2},{"$f":"Parameters!U48677","v":1.0416666999999999E-2},{"$f":"Parameters!V48677","v":1.0416666999999999E-2},{"$f":"Parameters!W48677","v":1.0416666999999999E-2},{"$f":"Parameters!X48677","v":1.0416666999999999E-2},{"$f":"Parameters!Y48677","v":1.0416666999999999E-2},{"$f":"Parameters!Z48677","v":1.0416666999999999E-2},{"$f":"Parameters!AA48677","v":1.0416666999999999E-2},{"$f":"Parameters!AB48677","v":1.0416666999999999E-2},{"$f":"Parameters!AC48677","v":1.0416666999999999E-2},{"$f":"Parameters!AD48677","v":1.0416666999999999E-2},{"$f":"Parameters!AE48677","v":1.0416666999999999E-2},{"$f":"Parameters!AF48677","v":1.0416666999999999E-2},{"$f":"Parameters!AG48677","v":1.0416666999999999E-2},{"$f":"Parameters!AH48677","v":1.0416666999999999E-2},{"$f":"Parameters!AI48677","v":1.0416666999999999E-2},{"$f":"Parameters!AJ48677","v":1.0416666999999999E-2},{"$f":"Parameters!AK48677","v":1.0416666999999999E-2},{"$f":"Parameters!AL48677","v":1.0416666999999999E-2},{"$f":"Parameters!AM48677","v":1.0416666999999999E-2},{"$f":"Parameters!AN48677","v":1.0416666999999999E-2},{"$f":"Parameters!AO48677","v":1.0416666999999999E-2},{"$f":"Parameters!AP48677","v":1.0416666999999999E-2},{"$f":"Parameters!AQ48677","v":1.0416666999999999E-2},{"$f":"Parameters!AR48677","v":1.0416666999999999E-2},{"$f":"Parameters!AS48677","v":1.0416666999999999E-2},{"$f":"Parameters!AT48677","v":1.0416666999999999E-2},{"$f":"Parameters!AU48677","v":1.0416666999999999E-2},{"$f":"Parameters!AV48677","v":1.0416666999999999E-2},{"$f":"Parameters!AW48677","v":1.0416666999999999E-2},{"$f":"Parameters!AX48677","v":1.0416666999999999E-2},{"$f":"Parameters!AY48677","v":1.0416666999999999E-2},{"$f":"Parameters!AZ48677","v":1.0416666999999999E-2},{"$f":"Parameters!BA48677","v":1.0416666999999999E-2},{"$f":"Parameters!BB48677","v":1.0416666999999999E-2},{"$f":"Parameters!BC48677","v":1.0416666999999999E-2},{"$f":"Parameters!BD48677","v":1.0416666999999999E-2},{"$f":"Parameters!BE48677","v":1.0416666999999999E-2},{"$f":"Parameters!BF48677","v":1.0416666999999999E-2},{"$f":"Parameters!BG48677","v":1.0416666999999999E-2},{"$f":"Parameters!BH48677","v":1.0416666999999999E-2},{"$f":"Parameters!BI48677","v":1.0416666999999999E-2},{"$f":"Parameters!BJ48677","v":1.0416666999999999E-2},{"$f":"Parameters!BK48677","v":1.0416666999999999E-2},{"$f":"Parameters!BL48677","v":1.0416666999999999E-2},{"$f":"Parameters!BM48677","v":1.0416666999999999E-2},{"$f":"Parameters!BN48677","v":1.0416666999999999E-2}]
["S117",{"$f":"Parameters!K48678","v":1.0416666999999999E-2},{"$f":"Parameters!L48678","v":1.0416666999999999E-2},{"$f":"Parameters!M48678","v":1.0416666999999999E-2},{"$f":"Parameters!N48678","v":1.0416666999999999E-2},{"$f":"Parameters!O48678","v":1.0416666999999999E-2},{"$f":"Parameters!P48678","v":1.0416666999999999E-2},{"$f":"Parameters!Q48678","v":1.0416666999999999E-2},{"$f":"Parameters!R48678","v":1.0416666999999999E-2},{"$f":"Parameters!S48678","v":1.0416666999999999E-2},{"$f":"Parameters!T48678","v":1.0416666999999999E-2},{"$f":"Parameters!U48678","v":1.0416666999999999E-2},{"$f":"Parameters!V48678","v":1.0416666999999999E-2},{"$f":"Parameters!W48678","v":1.0416666999999999E-2},{"$f":"Parameters!X48678","v":1.0416666999999999E-2},{"$f":"Parameters!Y48678","v":1.0416666999999999E-2},{"$f":"Parameters!Z48678","v":1.0416666999999999E-2},{"$f":"Parameters!AA48678","v":1.0416666999999999E-2},{"$f":"Parameters!AB48678","v":1.0416666999999999E-2},{"$f":"Parameters!AC48678","v":1.0416666999999999E-2},{"$f":"Parameters!AD48678","v":1.0416666999999999E-2},{"$f":"Parameters!AE48678","v":1.0416666999999999E-2},{"$f":"Parameters!AF48678","v":1.0416666999999999E-2},{"$f":"Parameters!AG48678","v":1.0416666999999999E-2},{"$f":"Parameters!AH48678","v":1.0416666999999999E-2},{"$f":"Parameters!AI48678","v":1.0416666999999999E-2},{"$f":"Parameters!AJ48678","v":1.0416666999999999E-2},{"$f":"Parameters!AK48678","v":1.0416666999999999E-2},{"$f":"Parameters!AL48678","v":1.0416666999999999E-2},{"$f":"Parameters!AM48678","v":1.0416666999999999E-2},{"$f":"Parameters!AN48678","v":1.0416666999999999E-2},{"$f":"Parameters!AO48678","v":1.0416666999999999E-2},{"$f":"Parameters!AP48678","v":1.0416666999999999E-2},{"$f":"Parameters!AQ48678","v":1.0416666999999999E-2},{"$f":"Parameters!AR48678","v":1.0416666999999999E-2},{"$f":"Parameters!AS48678","v":1.0416666999999999E-2},{"$f":"Parameters!AT48678","v":1.0416666999999999E-2},{"$f":"Parameters!AU48678","v":1.0416666999999999E-2},{"$f":"Parameters!AV48678","v":1.0416666999999999E-2},{"$f":"Parameters!AW48678","v":1.0416666999999999E-2},{"$f":"Parameters!AX48678","v":1.0416666999999999E-2},{"$f":"Parameters!AY48678","v":1.0416666999999999E-2},{"$f":"Parameters!AZ48678","v":1.0416666999999999E-2},{"$f":"Parameters!BA48678","v":1.0416666999999999E-2},{"$f":"Parameters!BB48678","v":1.0416666999999999E-2},{"$f":"Parameters!BC48678","v":1.0416666999999999E-2},{"$f":"Parameters!BD48678","v":1.0416666999999999E-2},{"$f":"Parameters!BE48678","v":1.0416666999999999E-2},{"$f":"Parameters!BF48678","v":1.0416666999999999E-2},{"$f":"Parameters!BG48678","v":1.0416666999999999E-2},{"$f":"Parameters!BH48678","v":1.0416666999999999E-2},{"$f":"Parameters!BI48678","v":1.0416666999999999E-2},{"$f":"Parameters!BJ48678","v":1.0416666999999999E-2},{"$f":"Parameters!BK48678","v":1.0416666999999999E-2},{"$f":"Parameters!BL48678","v":1.0416666999999999E-2},{"$f":"Parameters!BM48678","v":1.0416666999999999E-2},{"$f":"Parameters!BN48678","v":1.0416666999999999E-2}]
["S118",{"$f":"Parameters!K48679","v":1.0416666999999999E-2},{"$f":"Parameters!L48679","v":1.0416666999999999E-2},{"$f":"Parameters!M48679","v":1.0416666999999999E-2},{"$f":"Parameters!N48679","v":1.0416666999999999E-2},{"$f":"Parameters!O48679","v":1.0416666999999999E-2},{"$f":"Parameters!P48679","v":1.0416666999999999E-2},{"$f":"Parameters!Q48679","v":1.0416666999999999E-2},{"$f":"Parameters!R48679","v":1.0416666999999999E-2},{"$f":"Parameters!S48679","v":1.0416666999999999E-2},{"$f":"Parameters!T48679","v":1.0416666999999999E-2},{"$f":"Parameters!U48679","v":1.0416666999999999E-2},{"$f":"Parameters!V48679","v":1.0416666999999999E-2},{"$f":"Parameters!W48679","v":1.0416666999999999E-2},{"$f":"Parameters!X48679","v":1.0416666999999999E-2},{"$f":"Parameters!Y48679","v":1.0416666999999999E-2},{"$f":"Parameters!Z48679","v":1.0416666999999999E-2},{"$f":"Parameters!AA48679","v":1.0416666999999999E-2},{"$f":"Parameters!AB48679","v":1.0416666999999999E-2},{"$f":"Parameters!AC48679","v":1.0416666999999999E-2},{"$f":"Parameters!AD48679","v":1.0416666999999999E-2},{"$f":"Parameters!AE48679","v":1.0416666999999999E-2},{"$f":"Parameters!AF48679","v":1.0416666999999999E-2},{"$f":"Parameters!AG48679","v":1.0416666999999999E-2},{"$f":"Parameters!AH48679","v":1.0416666999999999E-2},{"$f":"Parameters!AI48679","v":1.0416666999999999E-2},{"$f":"Parameters!AJ48679","v":1.0416666999999999E-2},{"$f":"Parameters!AK48679","v":1.0416666999999999E-2},{"$f":"Parameters!AL48679","v":1.0416666999999999E-2},{"$f":"Parameters!AM48679","v":1.0416666999999999E-2},{"$f":"Parameters!AN48679","v":1.0416666999999999E-2},{"$f":"Parameters!AO48679","v":1.0416666999999999E-2},{"$f":"Parameters!AP48679","v":1.0416666999999999E-2},{"$f":"Parameters!AQ48679","v":1.0416666999999999E-2},{"$f":"Parameters!AR48679","v":1.0416666999999999E-2},{"$f":"Parameters!AS48679","v":1.0416666999999999E-2},{"$f":"Parameters!AT48679","v":1.0416666999999999E-2},{"$f":"Parameters!AU48679","v":1.0416666999999999E-2},{"$f":"Parameters!AV48679","v":1.0416666999999999E-2},{"$f":"Parameters!AW48679","v":1.0416666999999999E-2},{"$f":"Parameters!AX48679","v":1.0416666999999999E-2},{"$f":"Parameters!AY48679","v":1.0416666999999999E-2},{"$f":"Parameters!AZ48679","v":1.0416666999999999E-2},{"$f":"Parameters!BA48679","v":1.0416666999999999E-2},{"$f":"Parameters!BB48679","v":1.0416666999999999E-2},{"$f":"Parameters!BC48679","v":1.0416666999999999E-2},{"$f":"Parameters!BD48679","v":1.0416666999999999E-2},{"$f":"Parameters!BE48679","v":1.0416666999999999E-2},{"$f":"Parameters!BF48679","v":1.0416666999999999E-2},{"$f":"Parameters!BG48679","v":1.0416666999999999E-2},{"$f":"Parameters!BH48679","v":1.0416666999999999E-2},{"$f":"Parameters!BI48679","v":1.0416666999999999E-2},{"$f":"Parameters!BJ48679","v":1.0416666999999999E-2},{"$f":"Parameters!BK48679","v":1.0416666999999999E-2},{"$f":"Parameters!BL48679","v":1.0416666999999999E-2},{"$f":"Parameters!BM48679","v":1.0416666999999999E-2},{"$f":"Parameters!BN48679","v":1.0416666999999999E-2}]
["S119",{"$f":"Parameters!K48680","v":1.0416666999999999E-2},{"$f":"Parameters!L48680","v":1.0416666999999999E-2},{"$f":"Parameters!M48680","v":1.0416666999999999E-2},{"$f":"Parameters!N48680","v":1.0416666999999999E-2},{"$f":"Parameters!O48680","v":1.0416666999999999E-2},{"$f":"Parameters!P48680","v":1.0416666999999999E-2},{"$f":"Parameters!Q48680","v":1.0416666999999999E-2},{"$f":"Parameters!R48680","v":1.0416666999999999E-2},{"$f":"Parameters!S48680","v":1.0416666999999999E-2},{"$f":"Parameters!T48680","v":1.0416666999999999E-2},{"$f":"Parameters!U48680","v":1.0416666999999999E-2},{"$f":"Parameters!V48680","v":1.0416666999999999E-2},{"$f":"Parameters!W48680","v":1.0416666999999999E-2},{"$f":"Parameters!X48680","v":1.0416666999999999E-2},{"$f":"Parameters!Y48680","v":1.0416666999999999E-2},{"$f":"Parameters!Z48680","v":1.0416666999999999E-2},{"$f":"Parameters!AA48680","v":1.0416666999999999E-2},{"$f":"Parameters!AB48680","v":1.0416666999999999E-2},{"$f":"Parameters!AC48680","v":1.0416666999999999E-2},{"$f":"Parameters!AD48680","v":1.0416666999999999E-2},{"$f":"Parameters!AE48680","v":1.0416666999999999E-2},{"$f":"Parameters!AF48680","v":1.0416666999999999E-2},{"$f":"Parameters!AG48680","v":1.0416666999999999E-2},{"$f":"Parameters!AH48680","v":1.0416666999999999E-2},{"$f":"Parameters!AI48680","v":1.0416666999999999E-2},{"$f":"Parameters!AJ48680","v":1.0416666999999999E-2},{"$f":"Parameters!AK48680","v":1.0416666999999999E-2},{"$f":"Parameters!AL48680","v":1.0416666999999999E-2},{"$f":"Parameters!AM48680","v":1.0416666999999999E-2},{"$f":"Parameters!AN48680","v":1.0416666999999999E-2},{"$f":"Parameters!AO48680","v":1.0416666999999999E-2},{"$f":"Parameters!AP48680","v":1.0416666999999999E-2},{"$f":"Parameters!AQ48680","v":1.0416666999999999E-2},{"$f":"Parameters!AR48680","v":1.0416666999999999E-2},{"$f":"Parameters!AS48680","v":1.0416666999999999E-2},{"$f":"Parameters!AT48680","v":1.0416666999999999E-2},{"$f":"Parameters!AU48680","v":1.0416666999999999E-2},{"$f":"Parameters!AV48680","v":1.0416666999999999E-2},{"$f":"Parameters!AW48680","v":1.0416666999999999E-2},{"$f":"Parameters!AX48680","v":1.0416666999999999E-2},{"$f":"Parameters!AY48680","v":1.0416666999999999E-2},{"$f":"Parameters!AZ48680","v":1.0416666999999999E-2},{"$f":"Parameters!BA48680","v":1.0416666999999999E-2},{"$f":"Parameters!BB48680","v":1.0416666999999999E-2},{"$f":"Parameters!BC48680","v":1.0416666999999999E-2},{"$f":"Parameters!BD48680","v":1.0416666999999999E-2},{"$f":"Parameters!BE48680","v":1.0416666999999999E-2},{"$f":"Parameters!BF48680","v":1.0416666999999999E-2},{"$f":"Parameters!BG48680","v":1.0416666999999999E-2},{"$f":"Parameters!BH48680","v":1.0416666999999999E-2},{"$f":"Parameters!BI48680","v":1.0416666999999999E-2},{"$f":"Parameters!BJ48680","v":1.0416666999999999E-2},{"$f":"Parameters!BK48680","v":1.0416666999999999E-2},{"$f":"Parameters!BL48680","v":1.0416666999999999E-2},{"$f":"Parameters!BM48680","v":1.0416666999999999E-2},{"$f":"Parameters!BN48680","v":1.0416666999999999E-2}]
["S120",{"$f":"Parameters!K48681","v":1.0416666999999999E-2},{"$f":"Parameters!L48681","v":1.0416666999999999E-2},{"$f":"Parameters!M48681","v":1.0416666999999999E-2},{"$f":"Parameters!N48681","v":1.0416666999999999E-2},{"$f":"Parameters!O48681","v":1.0416666999999999E-2},{"$f":"Parameters!P48681","v":1.0416666999999999E-2},{"$f":"Parameters!Q48681","v":1.0416666999999999E-2},{"$f":"Parameters!R48681","v":1.0416666999999999E-2},{"$f":"Parameters!S48681","v":1.0416666999999999E-2},{"$f":"Parameters!T48681","v":1.0416666999999999E-2},{"$f":"Parameters!U48681","v":1.0416666999999999E-2},{"$f":"Parameters!V48681","v":1.0416666999999999E-2},{"$f":"Parameters!W48681","v":1.0416666999999999E-2},{"$f":"Parameters!X48681","v":1.0416666999999999E-2},{"$f":"Parameters!Y48681","v":1.0416666999999999E-2},{"$f":"Parameters!Z48681","v":1.0416666999999999E-2},{"$f":"Parameters!AA48681","v":1.0416666999999999E-2},{"$f":"Parameters!AB48681","v":1.0416666999999999E-2},{"$f":"Parameters!AC48681","v":1.0416666999999999E-2},{"$f":"Parameters!AD48681","v":1.0416666999999999E-2},{"$f":"Parameters!AE48681","v":1.0416666999999999E-2},{"$f":"Parameters!AF48681","v":1.0416666999999999E-2},{"$f":"Parameters!AG48681","v":1.0416666999999999E-2},{"$f":"Parameters!AH48681","v":1.0416666999999999E-2},{"$f":"Parameters!AI48681","v":1.0416666999999999E-2},{"$f":"Parameters!AJ48681","v":1.0416666999999999E-2},{"$f":"Parameters!AK48681","v":1.0416666999999999E-2},{"$f":"Parameters!AL48681","v":1.0416666999999999E-2},{"$f":"Parameters!AM48681","v":1.0416666999999999E-2},{"$f":"Parameters!AN48681","v":1.0416666999999999E-2},{"$f":"Parameters!AO48681","v":1.0416666999999999E-2},{"$f":"Parameters!AP48681","v":1.0416666999999999E-2},{"$f":"Parameters!AQ48681","v":1.0416666999999999E-2},{"$f":"Parameters!AR48681","v":1.0416666999999999E-2},{"$f":"Parameters!AS48681","v":1.0416666999999999E-2},{"$f":"Parameters!AT48681","v":1.0416666999999999E-2},{"$f":"Parameters!AU48681","v":1.0416666999999999E-2},{"$f":"Parameters!AV48681","v":1.0416666999999999E-2},{"$f":"Parameters!AW48681","v":1.0416666999999999E-2},{"$f":"Parameters!AX48681","v":1.0416666999999999E-2},{"$f":"Parameters!AY48681","v":1.0416666999999999E-2},{"$f":"Parameters!AZ48681","v":1.0416666999999999E-2},{"$f":"Parameters!BA48681","v":1.0416666999999999E-2},{"$f":"Parameters!BB48681","v":1.0416666999999999E-2},{"$f":"Parameters!BC48681","v":1.0416666999999999E-2},{"$f":"Parameters!BD48681","v":1.0416666999999999E-2},{"$f":"Parameters!BE48681","v":1.0416666999999999E-2},{"$f":"Parameters!BF48681","v":1.0416666999999999E-2},{"$f":"Parameters!BG48681","v":1.0416666999999999E-2},{"$f":"Parameters!BH48681","v":1.0416666999999999E-2},{"$f":"Parameters!BI48681","v":1.0416666999999999E-2},{"$f":"Parameters!BJ48681","v":1.0416666999999999E-2},{"$f":"Parameters!BK48681","v":1.0416666999999999E-2},{"$f":"Parameters!BL48681","v":1.0416666999999999E-2},{"$f":"Parameters!BM48681","v":1.0416666999999999E-2},{"$f":"Parameters!BN48681","v":1.0416666999999999E-2}]
["S121",{"$f":"Parameters!K48682","v":1.0416666999999999E-2},{"$f":"Parameters!L48682","v":1.0416666999999999E-2},{"$f":"Parameters!M48682","v":1.0416666999999999E-2},{"$f":"Parameters!N48682","v":1.0416666999999999E-2},{"$f":"Parameters!O48682","v":1.0416666999999999E-2},{"$f":"Parameters!P48682","v":1.0416666999999999E-2},{"$f":"Parameters!Q48682","v":1.0416666999999999E-2},{"$f":"Parameters!R48682","v":1.0416666999999999E-2},{"$f":"Parameters!S48682","v":1.0416666999999999E-2},{"$f":"Parameters!T48682","v":1.0416666999999999E-2},{"$f":"Parameters!U48682","v":1.0416666999999999E-2},{"$f":"Parameters!V48682","v":1.0416666999999999E-2},{"$f":"Parameters!W48682","v":1.0416666999999999E-2},{"$f":"Parameters!X48682","v":1.0416666999999999E-2},{"$f":"Parameters!Y48682","v":1.0416666999999999E-2},{"$f":"Parameters!Z48682","v":1.0416666999999999E-2},{"$f":"Parameters!AA48682","v":1.0416666999999999E-2},{"$f":"Parameters!AB48682","v":1.0416666999999999E-2},{"$f":"Parameters!AC48682","v":1.0416666999999999E-2},{"$f":"Parameters!AD48682","v":1.0416666999999999E-2},{"$f":"Parameters!AE48682","v":1.0416666999999999E-2},{"$f":"Parameters!AF48682","v":1.0416666999999999E-2},{"$f":"Parameters!AG48682","v":1.0416666999999999E-2},{"$f":"Parameters!AH48682","v":1.0416666999999999E-2},{"$f":"Parameters!AI48682","v":1.0416666999999999E-2},{"$f":"Parameters!AJ48682","v":1.0416666999999999E-2},{"$f":"Parameters!AK48682","v":1.0416666999999999E-2},{"$f":"Parameters!AL48682","v":1.0416666999999999E-2},{"$f":"Parameters!AM48682","v":1.0416666999999999E-2},{"$f":"Parameters!AN48682","v":1.0416666999999999E-2},{"$f":"Parameters!AO48682","v":1.0416666999999999E-2},{"$f":"Parameters!AP48682","v":1.0416666999999999E-2},{"$f":"Parameters!AQ48682","v":1.0416666999999999E-2},{"$f":"Parameters!AR48682","v":1.0416666999999999E-2},{"$f":"Parameters!AS48682","v":1.0416666999999999E-2},{"$f":"Parameters!AT48682","v":1.0416666999999999E-2},{"$f":"Parameters!AU48682","v":1.0416666999999999E-2},{"$f":"Parameters!AV48682","v":1.0416666999999999E-2},{"$f":"Parameters!AW48682","v":1.0416666999999999E-2},{"$f":"Parameters!AX48682","v":1.0416666999999999E-2},{"$f":"Parameters!AY48682","v":1.0416666999999999E-2},{"$f":"Parameters!AZ48682","v":1.0416666999999999E-2},{"$f":"Parameters!BA48682","v":1.0416666999999999E-2},{"$f":"Parameters!BB48682","v":1.0416666999999999E-2},{"$f":"Parameters!BC48682","v":1.0416666999999999E-2},{"$f":"Parameters!BD48682","v":1.0416666999999999E-2},{"$f":"Parameters!BE48682","v":1.0416666999999999E-2},{"$f":"Parameters!BF48682","v":1.0416666999999999E-2},{"$f":"Parameters!BG48682","v":1.0416666999999999E-2},{"$f":"Parameters!BH48682","v":1.0416666999999999E-2},{"$f":"Parameters!BI48682","v":1.0416666999999999E-2},{"$f":"Parameters!BJ48682","v":1.0416666999999999E-2},{"$f":"Parameters!BK48682","v":1.0416666999999999E-2},{"$f":"Parameters!BL48682","v":1.0416666999999999E-2},{"$f":"Parameters!BM48682","v":1.0416666999999999E-2},{"$f":"Parameters!BN48682","v":1.0416666999999999E-2}]
["S122",{"$f":"Parameters!K48683","v":1.0416666999999999E-2},{"$f":"Parameters!L48683","v":1.0416666999999999E-2},{"$f":"Parameters!M48683","v":1.0416666999999999E-2},{"$f":"Parameters!N48683","v":1.0416666999999999E-2},{"$f":"Parameters!O48683","v":1.0416666999999999E-2},{"$f":"Parameters!P48683","v":1.0416666999999999E-2},{"$f":"Parameters!Q48683","v":1.0416666999999999E-2},{"$f":"Parameters!R48683","v":1.0416666999999999E-2},{"$f":"Parameters!S48683","v":1.0416666999999999E-2},{"$f":"Parameters!T48683","v":1.0416666999999999E-2},{"$f":"Parameters!U48683","v":1.0416666999999999E-2},{"$f":"Parameters!V48683","v":1.0416666999999999E-2},{"$f":"Parameters!W48683","v":1.0416666999999999E-2},{"$f":"Parameters!X48683","v":1.0416666999999999E-2},{"$f":"Parameters!Y48683","v":1.0416666999999999E-2},{"$f":"Parameters!Z48683","v":1.0416666999999999E-2},{"$f":"Parameters!AA48683","v":1.0416666999999999E-2},{"$f":"Parameters!AB48683","v":1.0416666999999999E-2},{"$f":"Parameters!AC48683","v":1.0416666999999999E-2},{"$f":"Parameters!AD48683","v":1.0416666999999999E-2},{"$f":"Parameters!AE48683","v":1.0416666999999999E-2},{"$f":"Parameters!AF48683","v":1.0416666999999999E-2},{"$f":"Parameters!AG48683","v":1.0416666999999999E-2},{"$f":"Parameters!AH48683","v":1.0416666999999999E-2},{"$f":"Parameters!AI48683","v":1.0416666999999999E-2},{"$f":"Parameters!AJ48683","v":1.0416666999999999E-2},{"$f":"Parameters!AK48683","v":1.0416666999999999E-2},{"$f":"Parameters!AL48683","v":1.0416666999999999E-2},{"$f":"Parameters!AM48683","v":1.0416666999999999E-2},{"$f":"Parameters!AN48683","v":1.0416666999999999E-2},{"$f":"Parameters!AO48683","v":1.0416666999999999E-2},{"$f":"Parameters!AP48683","v":1.0416666999999999E-2},{"$f":"Parameters!AQ48683","v":1.0416666999999999E-2},{"$f":"Parameters!AR48683","v":1.0416666999999999E-2},{"$f":"Parameters!AS48683","v":1.0416666999999999E-2},{"$f":"Parameters!AT48683","v":1.0416666999999999E-2},{"$f":"Parameters!AU48683","v":1.0416666999999999E-2},{"$f":"Parameters!AV48683","v":1.0416666999999999E-2},{"$f":"Parameters!AW48683","v":1.0416666999999999E-2},{"$f":"Parameters!AX48683","v":1.0416666999999999E-2},{"$f":"Parameters!AY48683","v":1.0416666999999999E-2},{"$f":"Parameters!AZ48683","v":1.0416666999999999E-2},{"$f":"Parameters!BA48683","v":1.0416666999999999E-2},{"$f":"Parameters!BB48683","v":1.0416666999999999E-2},{"$f":"Parameters!BC48683","v":1.0416666999999999E-2},{"$f":"Parameters!BD48683","v":1.0416666999999999E-2},{"$f":"Parameters!BE48683","v":1.0416666999999999E-2},{"$f":"Parameters!BF48683","v":1.0416666999999999E-2},{"$f":"Parameters!BG48683","v":1.0416666999999999E-2},{"$f":"Parameters!BH48683","v":1.0416666999999999E-2},{"$f":"Parameters!BI48683","v":1.0416666999999999E-2},{"$f":"Parameters!BJ48683","v":1.0416666999999999E-2},{"$f":"Parameters!BK48683","v":1.0416666999999999E-2},{"$f":"Parameters!BL48683","v":1.0416666999999999E-2},{"$f":"Parameters!BM48683","v":1.0416666999999999E-2},{"$f":"Parameters!BN48683","v":1.0416666999999999E-2}]
["S123",{"$f":"Parameters!K48684","v":1.0416666999999999E-2},{"$f":"Parameters!L48684","v":1.0416666999999999E-2},{"$f":"Parameters!M48684","v":1.0416666999999999E-2},{"$f":"Parameters!N48684","v":1.0416666999999999E-2},{"$f":"Parameters!O48684","v":1.0416666999999999E-2},{"$f":"Parameters!P48684","v":1.0416666999999999E-2},{"$f":"Parameters!Q48684","v":1.0416666999999999E-2},{"$f":"Parameters!R48684","v":1.0416666999999999E-2},{"$f":"Parameters!S48684","v":1.0416666999999999E-2},{"$f":"Parameters!T48684","v":1.0416666999999999E-2},{"$f":"Parameters!U48684","v":1.0416666999999999E-2},{"$f":"Parameters!V48684","v":1.0416666999999999E-2},{"$f":"Parameters!W48684","v":1.0416666999999999E-2},{"$f":"Parameters!X48684","v":1.0416666999999999E-2},{"$f":"Parameters!Y48684","v":1.0416666999999999E-2},{"$f":"Parameters!Z48684","v":1.0416666999999999E-2},{"$f":"Parameters!AA48684","v":1.0416666999999999E-2},{"$f":"Parameters!AB48684","v":1.0416666999999999E-2},{"$f":"Parameters!AC48684","v":1.0416666999999999E-2},{"$f":"Parameters!AD48684","v":1.0416666999999999E-2},{"$f":"Parameters!AE48684","v":1.0416666999999999E-2},{"$f":"Parameters!AF48684","v":1.0416666999999999E-2},{"$f":"Parameters!AG48684","v":1.0416666999999999E-2},{"$f":"Parameters!AH48684","v":1.0416666999999999E-2},{"$f":"Parameters!AI48684","v":1.0416666999999999E-2},{"$f":"Parameters!AJ48684","v":1.0416666999999999E-2},{"$f":"Parameters!AK48684","v":1.0416666999999999E-2},{"$f":"Parameters!AL48684","v":1.0416666999999999E-2},{"$f":"Parameters!AM48684","v":1.0416666999999999E-2},{"$f":"Parameters!AN48684","v":1.0416666999999999E-2},{"$f":"Parameters!AO48684","v":1.0416666999999999E-2},{"$f":"Parameters!AP48684","v":1.0416666999999999E-2},{"$f":"Parameters!AQ48684","v":1.0416666999999999E-2},{"$f":"Parameters!AR48684","v":1.0416666999999999E-2},{"$f":"Parameters!AS48684","v":1.0416666999999999E-2},{"$f":"Parameters!AT48684","v":1.0416666999999999E-2},{"$f":"Parameters!AU48684","v":1.0416666999999999E-2},{"$f":"Parameters!AV48684","v":1.0416666999999999E-2},{"$f":"Parameters!AW48684","v":1.0416666999999999E-2},{"$f":"Parameters!AX48684","v":1.0416666999999999E-2},{"$f":"Parameters!AY48684","v":1.0416666999999999E-2},{"$f":"Parameters!AZ48684","v":1.0416666999999999E-2},{"$f":"Parameters!BA48684","v":1.0416666999999999E-2},{"$f":"Parameters!BB48684","v":1.0416666999999999E-2},{"$f":"Parameters!BC48684","v":1.0416666999999999E-2},{"$f":"Parameters!BD48684","v":1.0416666999999999E-2},{"$f":"Parameters!BE48684","v":1.0416666999999999E-2},{"$f":"Parameters!BF48684","v":1.0416666999999999E-2},{"$f":"Parameters!BG48684","v":1.0416666999999999E-2},{"$f":"Parameters!BH48684","v":1.0416666999999999E-2},{"$f":"Parameters!BI48684","v":1.0416666999999999E-2},{"$f":"Parameters!BJ48684","v":1.0416666999999999E-2},{"$f":"Parameters!BK48684","v":1.0416666999999999E-2},{"$f":"Parameters!BL48684","v":1.0416666999999999E-2},{"$f":"Parameters!BM48684","v":1.0416666999999999E-2},{"$f":"Parameters!BN48684","v":1.0416666999999999E-2}]
["S124",{"$f":"Parameters!K48685","v":1.0416666999999999E-2},{"$f":"Parameters!L48685","v":1.0416666999999999E-2},{"$f":"Parameters!M48685","v":1.0416666999999999E-2},{"$f":"Parameters!N48685","v":1.0416666999999999E-2},{"$f":"Parameters!O48685","v":1.0416666999999999E-2},{"$f":"Parameters!P48685","v":1.0416666999999999E-2},{"$f":"Parameters!Q48685","v":1.0416666999999999E-2},{"$f":"Parameters!R48685","v":1.0416666999999999E-2},{"$f":"Parameters!S48685","v":1.0416666999999999E-2},{"$f":"Parameters!T48685","v":1.0416666999999999E-2},{"$f":"Parameters!U48685","v":1.0416666999999999E-2},{"$f":"Parameters!V48685","v":1.0416666999999999E-2},{"$f":"Parameters!W48685","v":1.0416666999999999E-2},{"$f":"Parameters!X48685","v":1.0416666999999999E-2},{"$f":"Parameters!Y48685","v":1.0416666999999999E-2},{"$f":"Parameters!Z48685","v":1.0416666999999999E-2},{"$f":"Parameters!AA48685","v":1.0416666999999999E-2},{"$f":"Parameters!AB48685","v":1.0416666999999999E-2},{"$f":"Parameters!AC48685","v":1.0416666999999999E-2},{"$f":"Parameters!AD48685","v":1.0416666999999999E-2},{"$f":"Parameters!AE48685","v":1.0416666999999999E-2},{"$f":"Parameters!AF48685","v":1.0416666999999999E-2},{"$f":"Parameters!AG48685","v":1.0416666999999999E-2},{"$f":"Parameters!AH48685","v":1.0416666999999999E-2},{"$f":"Parameters!AI48685","v":1.0416666999999999E-2},{"$f":"Parameters!AJ48685","v":1.0416666999999999E-2},{"$f":"Parameters!AK48685","v":1.0416666999999999E-2},{"$f":"Parameters!AL48685","v":1.0416666999999999E-2},{"$f":"Parameters!AM48685","v":1.0416666999999999E-2},{"$f":"Parameters!AN48685","v":1.0416666999999999E-2},{"$f":"Parameters!AO48685","v":1.0416666999999999E-2},{"$f":"Parameters!AP48685","v":1.0416666999999999E-2},{"$f":"Parameters!AQ48685","v":1.0416666999999999E-2},{"$f":"Parameters!AR48685","v":1.0416666999999999E-2},{"$f":"Parameters!AS48685","v":1.0416666999999999E-2},{"$f":"Parameters!AT48685","v":1.0416666999999999E-2},{"$f":"Parameters!AU48685","v":1.0416666999999999E-2},{"$f":"Parameters!AV48685","v":1.0416666999999999E-2},{"$f":"Parameters!AW48685","v":1.0416666999999999E-2},{"$f":"Parameters!AX48685","v":1.0416666999999999E-2},{"$f":"Parameters!AY48685","v":1.0416666999999999E-2},{"$f":"Parameters!AZ48685","v":1.0416666999999999E-2},{"$f":"Parameters!BA48685","v":1.0416666999999999E-2},{"$f":"Parameters!BB48685","v":1.0416666999999999E-2},{"$f":"Parameters!BC48685","v":1.0416666999999999E-2},{"$f":"Parameters!BD48685","v":1.0416666999999999E-2},{"$f":"Parameters!BE48685","v":1.0416666999999999E-2},{"$f":"Parameters!BF48685","v":1.0416666999999999E-2},{"$f":"Parameters!BG48685","v":1.0416666999999999E-2},{"$f":"Parameters!BH48685","v":1.0416666999999999E-2},{"$f":"Parameters!BI48685","v":1.0416666999999999E-2},{"$f":"Parameters!BJ48685","v":1.0416666999999999E-2},{"$f":"Parameters!BK48685","v":1.0416666999999999E-2},{"$f":"Parameters!BL48685","v":1.0416666999999999E-2},{"$f":"Parameters!BM48685","v":1.0416666999999999E-2},{"$f":"Parameters!BN48685","v":1.0416666999999999E-2}]
["S201",{"$f":"Parameters!K48686","v":1.0416666999999999E-2},{"$f":"Parameters!L48686","v":1.0416666999999999E-2},{"$f":"Parameters!M48686","v":1.0416666999999999E-2},{"$f":"Parameters!N48686","v":1.0416666999999999E-2},{"$f":"Parameters!O48686","v":1.0416666999999999E-2},{"$f":"Parameters!P48686","v":1.0416666999999999E-2},{"$f":"Parameters!Q48686","v":1.0416666999999999E-2},{"$f":"Parameters!R48686","v":1.0416666999999999E-2},{"$f":"Parameters!S48686","v":1.0416666999999999E-2},{"$f":"Parameters!T48686","v":1.0416666999999999E-2},{"$f":"Parameters!U48686","v":1.0416666999999999E-2},{"$f":"Parameters!V48686","v":1.0416666999999999E-2},{"$f":"Parameters!W48686","v":1.0416666999999999E-2},{"$f":"Parameters!X48686","v":1.0416666999999999E-2},{"$f":"Parameters!Y48686","v":1.0416666999999999E-2},{"$f":"Parameters!Z48686","v":1.0416666999999999E-2},{"$f":"Parameters!AA48686","v":1.0416666999999999E-2},{"$f":"Parameters!AB48686","v":1.0416666999999999E-2},{"$f":"Parameters!AC48686","v":1.0416666999999999E-2},{"$f":"Parameters!AD48686","v":1.0416666999999999E-2},{"$f":"Parameters!AE48686","v":1.0416666999999999E-2},{"$f":"Parameters!AF48686","v":1.0416666999999999E-2},{"$f":"Parameters!AG48686","v":1.0416666999999999E-2},{"$f":"Parameters!AH48686","v":1.0416666999999999E-2},{"$f":"Parameters!AI48686","v":1.0416666999999999E-2},{"$f":"Parameters!AJ48686","v":1.0416666999999999E-2},{"$f":"Parameters!AK48686","v":1.0416666999999999E-2},{"$f":"Parameters!AL48686","v":1.0416666999999999E-2},{"$f":"Parameters!AM48686","v":1.0416666999999999E-2},{"$f":"Parameters!AN48686","v":1.0416666999999999E-2},{"$f":"Parameters!AO48686","v":1.0416666999999999E-2},{"$f":"Parameters!AP48686","v":1.0416666999999999E-2},{"$f":"Parameters!AQ48686","v":1.0416666999999999E-2},{"$f":"Parameters!AR48686","v":1.0416666999999999E-2},{"$f":"Parameters!AS48686","v":1.0416666999999999E-2},{"$f":"Parameters!AT48686","v":1.0416666999999999E-2},{"$f":"Parameters!AU48686","v":1.0416666999999999E-2},{"$f":"Parameters!AV48686","v":1.0416666999999999E-2},{"$f":"Parameters!AW48686","v":1.0416666999999999E-2},{"$f":"Parameters!AX48686","v":1.0416666999999999E-2},{"$f":"Parameters!AY48686","v":1.0416666999999999E-2},{"$f":"Parameters!AZ48686","v":1.0416666999999999E-2},{"$f":"Parameters!BA48686","v":1.0416666999999999E-2},{"$f":"Parameters!BB48686","v":1.0416666999999999E-2},{"$f":"Parameters!BC48686","v":1.0416666999999999E-2},{"$f":"Parameters!BD48686","v":1.0416666999999999E-2},{"$f":"Parameters!BE48686","v":1.0416666999999999E-2},{"$f":"Parameters!BF48686","v":1.0416666999999999E-2},{"$f":"Parameters!BG48686","v":1.0416666999999999E-2},{"$f":"Parameters!BH48686","v":1.0416666999999999E-2},{"$f":"Parameters!BI48686","v":1.0416666999999999E-2},{"$f":"Parameters!BJ48686","v":1.0416666999999999E-2},{"$f":"Parameters!BK48686","v":1.0416666999999999E-2},{"$f":"Parameters!BL48686","v":1.0416666999999999E-2},{"$f":"Parameters!BM48686","v":1.0416666999999999E-2},{"$f":"Parameters!BN48686","v":1.0416666999999999E-2}]
["S202",{"$f":"Parameters!K48687","v":1.0416666999999999E-2},{"$f":"Parameters!L48687","v":1.0416666999999999E-2},{"$f":"Parameters!M48687","v":1.0416666999999999E-2},{"$f":"Parameters!N48687","v":1.0416666999999999E-2},{"$f":"Parameters!O48687","v":1.0416666999999999E-2},{"$f":"Parameters!P48687","v":1.0416666999999999E-2},{"$f":"Parameters!Q48687","v":1.0416666999999999E-2},{"$f":"Parameters!R48687","v":1.0416666999999999E-2},{"$f":"Parameters!S48687","v":1.0416666999999999E-2},{"$f":"Parameters!T48687","v":1.0416666999999999E-2},{"$f":"Parameters!U48687","v":1.0416666999999999E-2},{"$f":"Parameters!V48687","v":1.0416666999999999E-2},{"$f":"Parameters!W48687","v":1.0416666999999999E-2},{"$f":"Parameters!X48687","v":1.0416666999999999E-2},{"$f":"Parameters!Y48687","v":1.0416666999999999E-2},{"$f":"Parameters!Z48687","v":1.0416666999999999E-2},{"$f":"Parameters!AA48687","v":1.0416666999999999E-2},{"$f":"Parameters!AB48687","v":1.0416666999999999E-2},{"$f":"Parameters!AC48687","v":1.0416666999999999E-2},{"$f":"Parameters!AD48687","v":1.0416666999999999E-2},{"$f":"Parameters!AE48687","v":1.0416666999999999E-2},{"$f":"Parameters!AF48687","v":1.0416666999999999E-2},{"$f":"Parameters!AG48687","v":1.0416666999999999E-2},{"$f":"Parameters!AH48687","v":1.0416666999999999E-2},{"$f":"Parameters!AI48687","v":1.0416666999999999E-2},{"$f":"Parameters!AJ48687","v":1.0416666999999999E-2},{"$f":"Parameters!AK48687","v":1.0416666999999999E-2},{"$f":"Parameters!AL48687","v":1.0416666999999999E-2},{"$f":"Parameters!AM48687","v":1.0416666999999999E-2},{"$f":"Parameters!AN48687","v":1.0416666999999999E-2},{"$f":"Parameters!AO48687","v":1.0416666999999999E-2},{"$f":"Parameters!AP48687","v":1.0416666999999999E-2},{"$f":"Parameters!AQ48687","v":1.0416666999999999E-2},{"$f":"Parameters!AR48687","v":1.0416666999999999E-2},{"$f":"Parameters!AS48687","v":1.0416666999999999E-2},{"$f":"Parameters!AT48687","v":1.0416666999999999E-2},{"$f":"Parameters!AU48687","v":1.0416666999999999E-2},{"$f":"Parameters!AV48687","v":1.0416666999999999E-2},{"$f":"Parameters!AW48687","v":1.0416666999999999E-2},{"$f":"Parameters!AX48687","v":1.0416666999999999E-2},{"$f":"Parameters!AY48687","v":1.0416666999999999E-2},{"$f":"Parameters!AZ48687","v":1.0416666999999999E-2},{"$f":"Parameters!BA48687","v":1.0416666999999999E-2},{"$f":"Parameters!BB48687","v":1.0416666999999999E-2},{"$f":"Parameters!BC48687","v":1.0416666999999999E-2},{"$f":"Parameters!BD48687","v":1.0416666999999999E-2},{"$f":"Parameters!BE48687","v":1.0416666999999999E-2},{"$f":"Parameters!BF48687","v":1.0416666999999999E-2},{"$f":"Parameters!BG48687","v":1.0416666999999999E-2},{"$f":"Parameters!BH48687","v":1.0416666999999999E-2},{"$f":"Parameters!BI48687","v":1.0416666999999999E-2},{"$f":"Parameters!BJ48687","v":1.0416666999999999E-2},{"$f":"Parameters!BK48687","v":1.0416666999999999E-2},{"$f":"Parameters!BL48687","v":1.0416666999999999E-2},{"$f":"Parameters!BM48687","v":1.0416666999999999E-2},{"$f":"Parameters!BN48687","v":1.0416666999999999E-2}]
["S203",{"$f":"Parameters!K48688","v":1.0416666999999999E-2},{"$f":"Parameters!L48688","v":1.0416666999999999E-2},{"$f":"Parameters!M48688","v":1.0416666999999999E-2},{"$f":"Parameters!N48688","v":1.0416666999999999E-2},{"$f":"Parameters!O48688","v":1.0416666999999999E-2},{"$f":"Parameters!P48688","v":1.0416666999999999E-2},{"$f":"Parameters!Q48688","v":1.0416666999999999E-2},{"$f":"Parameters!R48688","v":1.0416666999999999E-2},{"$f":"Parameters!S48688","v":1.0416666999999999E-2},{"$f":"Parameters!T48688","v":1.0416666999999999E-2},{"$f":"Parameters!U48688","v":1.0416666999999999E-2},{"$f":"Parameters!V48688","v":1.0416666999999999E-2},{"$f":"Parameters!W48688","v":1.0416666999999999E-2},{"$f":"Parameters!X48688","v":1.0416666999999999E-2},{"$f":"Parameters!Y48688","v":1.0416666999999999E-2},{"$f":"Parameters!Z48688","v":1.0416666999999999E-2},{"$f":"Parameters!AA48688","v":1.0416666999999999E-2},{"$f":"Parameters!AB48688","v":1.0416666999999999E-2},{"$f":"Parameters!AC48688","v":1.0416666999999999E-2},{"$f":"Parameters!AD48688","v":1.0416666999999999E-2},{"$f":"Parameters!AE48688","v":1.0416666999999999E-2},{"$f":"Parameters!AF48688","v":1.0416666999999999E-2},{"$f":"Parameters!AG48688","v":1.0416666999999999E-2},{"$f":"Parameters!AH48688","v":1.0416666999999999E-2},{"$f":"Parameters!AI48688","v":1.0416666999999999E-2},{"$f":"Parameters!AJ48688","v":1.0416666999999999E-2},{"$f":"Parameters!AK48688","v":1.0416666999999999E-2},{"$f":"Parameters!AL48688","v":1.0416666999999999E-2},{"$f":"Parameters!AM48688","v":1.0416666999999999E-2},{"$f":"Parameters!AN48688","v":1.0416666999999999E-2},{"$f":"Parameters!AO48688","v":1.0416666999999999E-2},{"$f":"Parameters!AP48688","v":1.0416666999999999E-2},{"$f":"Parameters!AQ48688","v":1.0416666999999999E-2},{"$f":"Parameters!AR48688","v":1.0416666999999999E-2},{"$f":"Parameters!AS48688","v":1.0416666999999999E-2},{"$f":"Parameters!AT48688","v":1.0416666999999999E-2},{"$f":"Parameters!AU48688","v":1.0416666999999999E-2},{"$f":"Parameters!AV48688","v":1.0416666999999999E-2},{"$f":"Parameters!AW48688","v":1.0416666999999999E-2},{"$f":"Parameters!AX48688","v":1.0416666999999999E-2},{"$f":"Parameters!AY48688","v":1.0416666999999999E-2},{"$f":"Parameters!AZ48688","v":1.0416666999999999E-2},{"$f":"Parameters!BA48688","v":1.0416666999999999E-2},{"$f":"Parameters!BB48688","v":1.0416666999999999E-2},{"$f":"Parameters!BC48688","v":1.0416666999999999E-2},{"$f":"Parameters!BD48688","v":1.0416666999999999E-2},{"$f":"Parameters!BE48688","v":1.0416666999999999E-2},{"$f":"Parameters!BF48688","v":1.0416666999999999E-2},{"$f":"Parameters!BG48688","v":1.0416666999999999E-2},{"$f":"Parameters!BH48688","v":1.0416666999999999E-2},{"$f":"Parameters!BI48688","v":1.0416666999999999E-2},{"$f":"Parameters!BJ48688","v":1.0416666999999999E-2},{"$f":"Parameters!BK48688","v":1.0416666999999999E-2},{"$f":"Parameters!BL48688","v":1.0416666999999999E-2},{"$f":"Parameters!BM48688","v":1.0416666999999999E-2},{"$f":"Parameters!BN48688","v":1.0416666999999999E-2}]
["S204",{"$f":"Parameters!K48689","v":1.0416666999999999E-2},{"$f":"Parameters!L48689","v":1.0416666999999999E-2},{"$f":"Parameters!M48689","v":1.0416666999999999E-2},{"$f":"Parameters!N48689","v":1.0416666999999999E-2},{"$f":"Parameters!O48689","v":1.0416666999999999E-2},{"$f":"Parameters!P48689","v":1.0416666999999999E-2},{"$f":"Parameters!Q48689","v":1.0416666999999999E-2},{"$f":"Parameters!R48689","v":1.0416666999999999E-2},{"$f":"Parameters!S48689","v":1.0416666999999999E-2},{"$f":"Parameters!T48689","v":1.0416666999999999E-2},{"$f":"Parameters!U48689","v":1.0416666999999999E-2},{"$f":"Parameters!V48689","v":1.0416666999999999E-2},{"$f":"Parameters!W48689","v":1.0416666999999999E-2},{"$f":"Parameters!X48689","v":1.0416666999999999E-2},{"$f":"Parameters!Y48689","v":1.0416666999999999E-2},{"$f":"Parameters!Z48689","v":1.0416666999999999E-2},{"$f":"Parameters!AA48689","v":1.0416666999999999E-2},{"$f":"Parameters!AB48689","v":1.0416666999999999E-2},{"$f":"Parameters!AC48689","v":1.0416666999999999E-2},{"$f":"Parameters!AD48689","v":1.0416666999999999E-2},{"$f":"Parameters!AE48689","v":1.0416666999999999E-2},{"$f":"Parameters!AF48689","v":1.0416666999999999E-2},{"$f":"Parameters!AG48689","v":1.0416666999999999E-2},{"$f":"Parameters!AH48689","v":1.0416666999999999E-2},{"$f":"Parameters!AI48689","v":1.0416666999999999E-2},{"$f":"Parameters!AJ48689","v":1.0416666999999999E-2},{"$f":"Parameters!AK48689","v":1.0416666999999999E-2},{"$f":"Parameters!AL48689","v":1.0416666999999999E-2},{"$f":"Parameters!AM48689","v":1.0416666999999999E-2},{"$f":"Parameters!AN48689","v":1.0416666999999999E-2},{"$f":"Parameters!AO48689","v":1.0416666999999999E-2},{"$f":"Parameters!AP48689","v":1.0416666999999999E-2},{"$f":"Parameters!AQ48689","v":1.0416666999999999E-2},{"$f":"Parameters!AR48689","v":1.0416666999999999E-2},{"$f":"Parameters!AS48689","v":1.0416666999999999E-2},{"$f":"Parameters!AT48689","v":1.0416666999999999E-2},{"$f":"Parameters!AU48689","v":1.0416666999999999E-2},{"$f":"Parameters!AV48689","v":1.0416666999999999E-2},{"$f":"Parameters!AW48689","v":1.0416666999999999E-2},{"$f":"Parameters!AX48689","v":1.0416666999999999E-2},{"$f":"Parameters!AY48689","v":1.0416666999999999E-2},{"$f":"Parameters!AZ48689","v":1.0416666999999999E-2},{"$f":"Parameters!BA48689","v":1.0416666999999999E-2},{"$f":"Parameters!BB48689","v":1.0416666999999999E-2},{"$f":"Parameters!BC48689","v":1.0416666999999999E-2},{"$f":"Parameters!BD48689","v":1.0416666999999999E-2},{"$f":"Parameters!BE48689","v":1.0416666999999999E-2},{"$f":"Parameters!BF48689","v":1.0416666999999999E-2},{"$f":"Parameters!BG48689","v":1.0416666999999999E-2},{"$f":"Parameters!BH48689","v":1.0416666999999999E-2},{"$f":"Parameters!BI48689","v":1.0416666999999999E-2},{"$f":"Parameters!BJ48689","v":1.0416666999999999E-2},{"$f":"Parameters!BK48689","v":1.0416666999999999E-2},{"$f":"Parameters!BL48689","v":1.0416666999999999E-2},{"$f":"Parameters!BM48689","v":1.0416666999999999E-2},{"$f":"Parameters!BN48689","v":1.0416666999999999E-2}]
["S205",{"$f":"Parameters!K48690","v":1.0416666999999999E-2},{"$f":"Parameters!L48690","v":1.0416666999999999E-2},{"$f":"Parameters!M48690","v":1.0416666999999999E-2},{"$f":"Parameters!N48690","v":1.0416666999999999E-2},{"$f":"Parameters!O48690","v":1.0416666999999999E-2},{"$f":"Parameters!P48690","v":1.0416666999999999E-2},{"$f":"Parameters!Q48690","v":1.0416666999999999E-2},{"$f":"Parameters!R48690","v":1.0416666999999999E-2},{"$f":"Parameters!S48690","v":1.0416666999999999E-2},{"$f":"Parameters!T48690","v":1.0416666999999999E-2},{"$f":"Parameters!U48690","v":1.0416666999999999E-2},{"$f":"Parameters!V48690","v":1.0416666999999999E-2},{"$f":"Parameters!W48690","v":1.0416666999999999E-2},{"$f":"Parameters!X48690","v":1.0416666999999999E-2},{"$f":"Parameters!Y48690","v":1.0416666999999999E-2},{"$f":"Parameters!Z48690","v":1.0416666999999999E-2},{"$f":"Parameters!AA48690","v":1.0416666999999999E-2},{"$f":"Parameters!AB48690","v":1.0416666999999999E-2},{"$f":"Parameters!AC48690","v":1.0416666999999999E-2},{"$f":"Parameters!AD48690","v":1.0416666999999999E-2},{"$f":"Parameters!AE48690","v":1.0416666999999999E-2},{"$f":"Parameters!AF48690","v":1.0416666999999999E-2},{"$f":"Parameters!AG48690","v":1.0416666999999999E-2},{"$f":"Parameters!AH48690","v":1.0416666999999999E-2},{"$f":"Parameters!AI48690","v":1.0416666999999999E-2},{"$f":"Parameters!AJ48690","v":1.0416666999999999E-2},{"$f":"Parameters!AK48690","v":1.0416666999999999E-2},{"$f":"Parameters!AL48690","v":1.0416666999999999E-2},{"$f":"Parameters!AM48690","v":1.0416666999999999E-2},{"$f":"Parameters!AN48690","v":1.0416666999999999E-2},{"$f":"Parameters!AO48690","v":1.0416666999999999E-2},{"$f":"Parameters!AP48690","v":1.0416666999999999E-2},{"$f":"Parameters!AQ48690","v":1.0416666999999999E-2},{"$f":"Parameters!AR48690","v":1.0416666999999999E-2},{"$f":"Parameters!AS48690","v":1.0416666999999999E-2},{"$f":"Parameters!AT48690","v":1.0416666999999999E-2},{"$f":"Parameters!AU48690","v":1.0416666999999999E-2},{"$f":"Parameters!AV48690","v":1.0416666999999999E-2},{"$f":"Parameters!AW48690","v":1.0416666999999999E-2},{"$f":"Parameters!AX48690","v":1.0416666999999999E-2},{"$f":"Parameters!AY48690","v":1.0416666999999999E-2},{"$f":"Parameters!AZ48690","v":1.0416666999999999E-2},{"$f":"Parameters!BA48690","v":1.0416666999999999E-2},{"$f":"Parameters!BB48690","v":1.0416666999999999E-2},{"$f":"Parameters!BC48690","v":1.0416666999999999E-2},{"$f":"Parameters!BD48690","v":1.0416666999999999E-2},{"$f":"Parameters!BE48690","v":1.0416666999999999E-2},{"$f":"Parameters!BF48690","v":1.0416666999999999E-2},{"$f":"Parameters!BG48690","v":1.0416666999999999E-2},{"$f":"Parameters!BH48690","v":1.0416666999999999E-2},{"$f":"Parameters!BI48690","v":1.0416666999999999E-2},{"$f":"Parameters!BJ48690","v":1.0416666999999999E-2},{"$f":"Parameters!BK48690","v":1.0416666999999999E-2},{"$f":"Parameters!BL48690","v":1.0416666999999999E-2},{"$f":"Parameters!BM48690","v":1.0416666999999999E-2},{"$f":"Parameters!BN48690","v":1.0416666999999999E-2}]
["S206",{"$f":"Parameters!K48691","v":1.0416666999999999E-2},{"$f":"Parameters!L48691","v":1.0416666999999999E-2},{"$f":"Parameters!M48691","v":1.0416666999999999E-2},{"$f":"Parameters!N48691","v":1.0416666999999999E-2},{"$f":"Parameters!O48691","v":1.0416666999999999E-2},{"$f":"Parameters!P48691","v":1.0416666999999999E-2},{"$f":"Parameters!Q48691","v":1.0416666999999999E-2},{"$f":"Parameters!R48691","v":1.0416666999999999E-2},{"$f":"Parameters!S48691","v":1.0416666999999999E-2},{"$f":"Parameters!T48691","v":1.0416666999999999E-2},{"$f":"Parameters!U48691","v":1.0416666999999999E-2},{"$f":"Parameters!V48691","v":1.0416666999999999E-2},{"$f":"Parameters!W48691","v":1.0416666999999999E-2},{"$f":"Parameters!X48691","v":1.0416666999999999E-2},{"$f":"Parameters!Y48691","v":1.0416666999999999E-2},{"$f":"Parameters!Z48691","v":1.0416666999999999E-2},{"$f":"Parameters!AA48691","v":1.0416666999999999E-2},{"$f":"Parameters!AB48691","v":1.0416666999999999E-2},{"$f":"Parameters!AC48691","v":1.0416666999999999E-2},{"$f":"Parameters!AD48691","v":1.0416666999999999E-2},{"$f":"Parameters!AE48691","v":1.0416666999999999E-2},{"$f":"Parameters!AF48691","v":1.0416666999999999E-2},{"$f":"Parameters!AG48691","v":1.0416666999999999E-2},{"$f":"Parameters!AH48691","v":1.0416666999999999E-2},{"$f":"Parameters!AI48691","v":1.0416666999999999E-2},{"$f":"Parameters!AJ48691","v":1.0416666999999999E-2},{"$f":"Parameters!AK48691","v":1.0416666999999999E-2},{"$f":"Parameters!AL48691","v":1.0416666999999999E-2},{"$f":"Parameters!AM48691","v":1.0416666999999999E-2},{"$f":"Parameters!AN48691","v":1.0416666999999999E-2},{"$f":"Parameters!AO48691","v":1.0416666999999999E-2},{"$f":"Parameters!AP48691","v":1.0416666999999999E-2},{"$f":"Parameters!AQ48691","v":1.0416666999999999E-2},{"$f":"Parameters!AR48691","v":1.0416666999999999E-2},{"$f":"Parameters!AS48691","v":1.0416666999999999E-2},{"$f":"Parameters!AT48691","v":1.0416666999999999E-2},{"$f":"Parameters!AU48691","v":1.0416666999999999E-2},{"$f":"Parameters!AV48691","v":1.0416666999999999E-2},{"$f":"Parameters!AW48691","v":1.0416666999999999E-2},{"$f":"Parameters!AX48691","v":1.0416666999999999E-2},{"$f":"Parameters!AY48691","v":1.0416666999999999E-2},{"$f":"Parameters!AZ48691","v":1.0416666999999999E-2},{"$f":"Parameters!BA48691","v":1.0416666999999999E-2},{"$f":"Parameters!BB48691","v":1.0416666999999999E-2},{"$f":"Parameters!BC48691","v":1.0416666999999999E-2},{"$f":"Parameters!BD48691","v":1.0416666999999999E-2},{"$f":"Parameters!BE48691","v":1.0416666999999999E-2},{"$f":"Parameters!BF48691","v":1.0416666999999999E-2},{"$f":"Parameters!BG48691","v":1.0416666999999999E-2},{"$f":"Parameters!BH48691","v":1.0416666999999999E-2},{"$f":"Parameters!BI48691","v":1.0416666999999999E-2},{"$f":"Parameters!BJ48691","v":1.0416666999999999E-2},{"$f":"Parameters!BK48691","v":1.0416666999999999E-2},{"$f":"Parameters!BL48691","v":1.0416666999999999E-2},{"$f":"Parameters!BM48691","v":1.0416666999999999E-2},{"$f":"Parameters!BN48691","v":1.0416666999999999E-2}]
["S207",{"$f":"Parameters!K48692","v":1.0416666999999999E-2},{"$f":"Parameters!L48692","v":1.0416666999999999E-2},{"$f":"Parameters!M48692","v":1.0416666999999999E-2},{"$f":"Parameters!N48692","v":1.0416666999999999E-2},{"$f":"Parameters!O48692","v":1.0416666999999999E-2},{"$f":"Parameters!P48692","v":1.0416666999999999E-2},{"$f":"Parameters!Q48692","v":1.0416666999999999E-2},{"$f":"Parameters!R48692","v":1.0416666999999999E-2},{"$f":"Parameters!S48692","v":1.0416666999999999E-2},{"$f":"Parameters!T48692","v":1.0416666999999999E-2},{"$f":"Parameters!U48692","v":1.0416666999999999E-2},{"$f":"Parameters!V48692","v":1.0416666999999999E-2},{"$f":"Parameters!W48692","v":1.0416666999999999E-2},{"$f":"Parameters!X48692","v":1.0416666999999999E-2},{"$f":"Parameters!Y48692","v":1.0416666999999999E-2},{"$f":"Parameters!Z48692","v":1.0416666999999999E-2},{"$f":"Parameters!AA48692","v":1.0416666999999999E-2},{"$f":"Parameters!AB48692","v":1.0416666999999999E-2},{"$f":"Parameters!AC48692","v":1.0416666999999999E-2},{"$f":"Parameters!AD48692","v":1.0416666999999999E-2},{"$f":"Parameters!AE48692","v":1.0416666999999999E-2},{"$f":"Parameters!AF48692","v":1.0416666999999999E-2},{"$f":"Parameters!AG48692","v":1.0416666999999999E-2},{"$f":"Parameters!AH48692","v":1.0416666999999999E-2},{"$f":"Parameters!AI48692","v":1.0416666999999999E-2},{"$f":"Parameters!AJ48692","v":1.0416666999999999E-2},{"$f":"Parameters!AK48692","v":1.0416666999999999E-2},{"$f":"Parameters!AL48692","v":1.0416666999999999E-2},{"$f":"Parameters!AM48692","v":1.0416666999999999E-2},{"$f":"Parameters!AN48692","v":1.0416666999999999E-2},{"$f":"Parameters!AO48692","v":1.0416666999999999E-2},{"$f":"Parameters!AP48692","v":1.0416666999999999E-2},{"$f":"Parameters!AQ48692","v":1.0416666999999999E-2},{"$f":"Parameters!AR48692","v":1.0416666999999999E-2},{"$f":"Parameters!AS48692","v":1.0416666999999999E-2},{"$f":"Parameters!AT48692","v":1.0416666999999999E-2},{"$f":"Parameters!AU48692","v":1.0416666999999999E-2},{"$f":"Parameters!AV48692","v":1.0416666999999999E-2},{"$f":"Parameters!AW48692","v":1.0416666999999999E-2},{"$f":"Parameters!AX48692","v":1.0416666999999999E-2},{"$f":"Parameters!AY48692","v":1.0416666999999999E-2},{"$f":"Parameters!AZ48692","v":1.0416666999999999E-2},{"$f":"Parameters!BA48692","v":1.0416666999999999E-2},{"$f":"Parameters!BB48692","v":1.0416666999999999E-2},{"$f":"Parameters!BC48692","v":1.0416666999999999E-2},{"$f":"Parameters!BD48692","v":1.0416666999999999E-2},{"$f":"Parameters!BE48692","v":1.0416666999999999E-2},{"$f":"Parameters!BF48692","v":1.0416666999999999E-2},{"$f":"Parameters!BG48692","v":1.0416666999999999E-2},{"$f":"Parameters!BH48692","v":1.0416666999999999E-2},{"$f":"Parameters!BI48692","v":1.0416666999999999E-2},{"$f":"Parameters!BJ48692","v":1.0416666999999999E-2},{"$f":"Parameters!BK48692","v":1.0416666999999999E-2},{"$f":"Parameters!BL48692","v":1.0416666999999999E-2},{"$f":"Parameters!BM48692","v":1.0416666999999999E-2},{"$f":"Parameters!BN48692","v":1.0416666999999999E-2}]
["S208",{"$f":"Parameters!K48693","v":1.0416666999999999E-2},{"$f":"Parameters!L48693","v":1.0416666999999999E-2},{"$f":"Parameters!M48693","v":1.0416666999999999E-2},{"$f":"Parameters!N48693","v":1.0416666999999999E-2},{"$f":"Parameters!O48693","v":1.0416666999999999E-2},{"$f":"Parameters!P48693","v":1.0416666999999999E-2},{"$f":"Parameters!Q48693","v":1.0416666999999999E-2},{"$f":"Parameters!R48693","v":1.0416666999999999E-2},{"$f":"Parameters!S48693","v":1.0416666999999999E-2},{"$f":"Parameters!T48693","v":1.0416666999999999E-2},{"$f":"Parameters!U48693","v":1.0416666999999999E-2},{"$f":"Parameters!V48693","v":1.0416666999999999E-2},{"$f":"Parameters!W48693","v":1.0416666999999999E-2},{"$f":"Parameters!X48693","v":1.0416666999999999E-2},{"$f":"Parameters!Y48693","v":1.0416666999999999E-2},{"$f":"Parameters!Z48693","v":1.0416666999999999E-2},{"$f":"Parameters!AA48693","v":1.0416666999999999E-2},{"$f":"Parameters!AB48693","v":1.0416666999999999E-2},{"$f":"Parameters!AC48693","v":1.0416666999999999E-2},{"$f":"Parameters!AD48693","v":1.0416666999999999E-2},{"$f":"Parameters!AE48693","v":1.0416666999999999E-2},{"$f":"Parameters!AF48693","v":1.0416666999999999E-2},{"$f":"Parameters!AG48693","v":1.0416666999999999E-2},{"$f":"Parameters!AH48693","v":1.0416666999999999E-2},{"$f":"Parameters!AI48693","v":1.0416666999999999E-2},{"$f":"Parameters!AJ48693","v":1.0416666999999999E-2},{"$f":"Parameters!AK48693","v":1.0416666999999999E-2},{"$f":"Parameters!AL48693","v":1.0416666999999999E-2},{"$f":"Parameters!AM48693","v":1.0416666999999999E-2},{"$f":"Parameters!AN48693","v":1.0416666999999999E-2},{"$f":"Parameters!AO48693","v":1.0416666999999999E-2},{"$f":"Parameters!AP48693","v":1.0416666999999999E-2},{"$f":"Parameters!AQ48693","v":1.0416666999999999E-2},{"$f":"Parameters!AR48693","v":1.0416666999999999E-2},{"$f":"Parameters!AS48693","v":1.0416666999999999E-2},{"$f":"Parameters!AT48693","v":1.0416666999999999E-2},{"$f":"Parameters!AU48693","v":1.0416666999999999E-2},{"$f":"Parameters!AV48693","v":1.0416666999999999E-2},{"$f":"Parameters!AW48693","v":1.0416666999999999E-2},{"$f":"Parameters!AX48693","v":1.0416666999999999E-2},{"$f":"Parameters!AY48693","v":1.0416666999999999E-2},{"$f":"Parameters!AZ48693","v":1.0416666999999999E-2},{"$f":"Parameters!BA48693","v":1.0416666999999999E-2},{"$f":"Parameters!BB48693","v":1.0416666999999999E-2},{"$f":"Parameters!BC48693","v":1.0416666999999999E-2},{"$f":"Parameters!BD48693","v":1.0416666999999999E-2},{"$f":"Parameters!BE48693","v":1.0416666999999999E-2},{"$f":"Parameters!BF48693","v":1.0416666999999999E-2},{"$f":"Parameters!BG48693","v":1.0416666999999999E-2},{"$f":"Parameters!BH48693","v":1.0416666999999999E-2},{"$f":"Parameters!BI48693","v":1.0416666999999999E-2},{"$f":"Parameters!BJ48693","v":1.0416666999999999E-2},{"$f":"Parameters!BK48693","v":1.0416666999999999E-2},{"$f":"Parameters!BL48693","v":1.0416666999999999E-2},{"$f":"Parameters!BM48693","v":1.0416666999999999E-2},{"$f":"Parameters!BN48693","v":1.0416666999999999E-2}]
["S209",{"$f":"Parameters!K48694","v":1.0416666999999999E-2},{"$f":"Parameters!L48694","v":1.0416666999999999E-2},{"$f":"Parameters!M48694","v":1.0416666999999999E-2},{"$f":"Parameters!N48694","v":1.0416666999999999E-2},{"$f":"Parameters!O48694","v":1.0416666999999999E-2},{"$f":"Parameters!P48694","v":1.0416666999999999E-2},{"$f":"Parameters!Q48694","v":1.0416666999999999E-2},{"$f":"Parameters!R48694","v":1.0416666999999999E-2},{"$f":"Parameters!S48694","v":1.0416666999999999E-2},{"$f":"Parameters!T48694","v":1.0416666999999999E-2},{"$f":"Parameters!U48694","v":1.0416666999999999E-2},{"$f":"Parameters!V48694","v":1.0416666999999999E-2},{"$f":"Parameters!W48694","v":1.0416666999999999E-2},{"$f":"Parameters!X48694","v":1.0416666999999999E-2},{"$f":"Parameters!Y48694","v":1.0416666999999999E-2},{"$f":"Parameters!Z48694","v":1.0416666999999999E-2},{"$f":"Parameters!AA48694","v":1.0416666999999999E-2},{"$f":"Parameters!AB48694","v":1.0416666999999999E-2},{"$f":"Parameters!AC48694","v":1.0416666999999999E-2},{"$f":"Parameters!AD48694","v":1.0416666999999999E-2},{"$f":"Parameters!AE48694","v":1.0416666999999999E-2},{"$f":"Parameters!AF48694","v":1.0416666999999999E-2},{"$f":"Parameters!AG48694","v":1.0416666999999999E-2},{"$f":"Parameters!AH48694","v":1.0416666999999999E-2},{"$f":"Parameters!AI48694","v":1.0416666999999999E-2},{"$f":"Parameters!AJ48694","v":1.0416666999999999E-2},{"$f":"Parameters!AK48694","v":1.0416666999999999E-2},{"$f":"Parameters!AL48694","v":1.0416666999999999E-2},{"$f":"Parameters!AM48694","v":1.0416666999999999E-2},{"$f":"Parameters!AN48694","v":1.0416666999999999E-2},{"$f":"Parameters!AO48694","v":1.0416666999999999E-2},{"$f":"Parameters!AP48694","v":1.0416666999999999E-2},{"$f":"Parameters!AQ48694","v":1.0416666999999999E-2},{"$f":"Parameters!AR48694","v":1.0416666999999999E-2},{"$f":"Parameters!AS48694","v":1.0416666999999999E-2},{"$f":"Parameters!AT48694","v":1.0416666999999999E-2},{"$f":"Parameters!AU48694","v":1.0416666999999999E-2},{"$f":"Parameters!AV48694","v":1.0416666999999999E-2},{"$f":"Parameters!AW48694","v":1.0416666999999999E-2},{"$f":"Parameters!AX48694","v":1.0416666999999999E-2},{"$f":"Parameters!AY48694","v":1.0416666999999999E-2},{"$f":"Parameters!AZ48694","v":1.0416666999999999E-2},{"$f":"Parameters!BA48694","v":1.0416666999999999E-2},{"$f":"Parameters!BB48694","v":1.0416666999999999E-2},{"$f":"Parameters!BC48694","v":1.0416666999999999E-2},{"$f":"Parameters!BD48694","v":1.0416666999999999E-2},{"$f":"Parameters!BE48694","v":1.0416666999999999E-2},{"$f":"Parameters!BF48694","v":1.0416666999999999E-2},{"$f":"Parameters!BG48694","v":1.0416666999999999E-2},{"$f":"Parameters!BH48694","v":1.0416666999999999E-2},{"$f":"Parameters!BI48694","v":1.0416666999999999E-2},{"$f":"Parameters!BJ48694","v":1.0416666999999999E-2},{"$f":"Parameters!BK48694","v":1.0416666999999999E-2},{"$f":"Parameters!BL48694","v":1.0416666999999999E-2},{"$f":"Parameters!BM48694","v":1.0416666999999999E-2},{"$f":"Parameters!BN48694","v":1.0416666999999999E-2}]
["S210",{"$f":"Parameters!K48695","v":1.0416666999999999E-2},{"$f":"Parameters!L48695","v":1.0416666999999999E-2},{"$f":"Parameters!M48695","v":1.0416666999999999E-2},{"$f":"Parameters!N48695","v":1.0416666999999999E-2},{"$f":"Parameters!O48695","v":1.0416666999999999E-2},{"$f":"Parameters!P48695","v":1.0416666999999999E-2},{"$f":"Parameters!Q48695","v":1.0416666999999999E-2},{"$f":"Parameters!R48695","v":1.0416666999999999E-2},{"$f":"Parameters!S48695","v":1.0416666999999999E-2},{"$f":"Parameters!T48695","v":1.0416666999999999E-2},{"$f":"Parameters!U48695","v":1.0416666999999999E-2},{"$f":"Parameters!V48695","v":1.0416666999999999E-2},{"$f":"Parameters!W48695","v":1.0416666999999999E-2},{"$f":"Parameters!X48695","v":1.0416666999999999E-2},{"$f":"Parameters!Y48695","v":1.0416666999999999E-2},{"$f":"Parameters!Z48695","v":1.0416666999999999E-2},{"$f":"Parameters!AA48695","v":1.0416666999999999E-2},{"$f":"Parameters!AB48695","v":1.0416666999999999E-2},{"$f":"Parameters!AC48695","v":1.0416666999999999E-2},{"$f":"Parameters!AD48695","v":1.0416666999999999E-2},{"$f":"Parameters!AE48695","v":1.0416666999999999E-2},{"$f":"Parameters!AF48695","v":1.0416666999999999E-2},{"$f":"Parameters!AG48695","v":1.0416666999999999E-2},{"$f":"Parameters!AH48695","v":1.0416666999999999E-2},{"$f":"Parameters!AI48695","v":1.0416666999999999E-2},{"$f":"Parameters!AJ48695","v":1.0416666999999999E-2},{"$f":"Parameters!AK48695","v":1.0416666999999999E-2},{"$f":"Parameters!AL48695","v":1.0416666999999999E-2},{"$f":"Parameters!AM48695","v":1.0416666999999999E-2},{"$f":"Parameters!AN48695","v":1.0416666999999999E-2},{"$f":"Parameters!AO48695","v":1.0416666999999999E-2},{"$f":"Parameters!AP48695","v":1.0416666999999999E-2},{"$f":"Parameters!AQ48695","v":1.0416666999999999E-2},{"$f":"Parameters!AR48695","v":1.0416666999999999E-2},{"$f":"Parameters!AS48695","v":1.0416666999999999E-2},{"$f":"Parameters!AT48695","v":1.0416666999999999E-2},{"$f":"Parameters!AU48695","v":1.0416666999999999E-2},{"$f":"Parameters!AV48695","v":1.0416666999999999E-2},{"$f":"Parameters!AW48695","v":1.0416666999999999E-2},{"$f":"Parameters!AX48695","v":1.0416666999999999E-2},{"$f":"Parameters!AY48695","v":1.0416666999999999E-2},{"$f":"Parameters!AZ48695","v":1.0416666999999999E-2},{"$f":"Parameters!BA48695","v":1.0416666999999999E-2},{"$f":"Parameters!BB48695","v":1.0416666999999999E-2},{"$f":"Parameters!BC48695","v":1.0416666999999999E-2},{"$f":"Parameters!BD48695","v":1.0416666999999999E-2},{"$f":"Parameters!BE48695","v":1.0416666999999999E-2},{"$f":"Parameters!BF48695","v":1.0416666999999999E-2},{"$f":"Parameters!BG48695","v":1.0416666999999999E-2},{"$f":"Parameters!BH48695","v":1.0416666999999999E-2},{"$f":"Parameters!BI48695","v":1.0416666999999999E-2},{"$f":"Parameters!BJ48695","v":1.0416666999999999E-2},{"$f":"Parameters!BK48695","v":1.0416666999999999E-2},{"$f":"Parameters!BL48695","v":1.0416666999999999E-2},{"$f":"Parameters!BM48695","v":1.0416666999999999E-2},{"$f":"Parameters!BN48695","v":1.0416666999999999E-2}]
["S211",{"$f":"Parameters!K48696","v":1.0416666999999999E-2},{"$f":"Parameters!L48696","v":1.0416666999999999E-2},{"$f":"Parameters!M48696","v":1.0416666999999999E-2},{"$f":"Parameters!N48696","v":1.0416666999999999E-2},{"$f":"Parameters!O48696","v":1.0416666999999999E-2},{"$f":"Parameters!P48696","v":1.0416666999999999E-2},{"$f":"Parameters!Q48696","v":1.0416666999999999E-2},{"$f":"Parameters!R48696","v":1.0416666999999999E-2},{"$f":"Parameters!S48696","v":1.0416666999999999E-2},{"$f":"Parameters!T48696","v":1.0416666999999999E-2},{"$f":"Parameters!U48696","v":1.0416666999999999E-2},{"$f":"Parameters!V48696","v":1.0416666999999999E-2},{"$f":"Parameters!W48696","v":1.0416666999999999E-2},{"$f":"Parameters!X48696","v":1.0416666999999999E-2},{"$f":"Parameters!Y48696","v":1.0416666999999999E-2},{"$f":"Parameters!Z48696","v":1.0416666999999999E-2},{"$f":"Parameters!AA48696","v":1.0416666999999999E-2},{"$f":"Parameters!AB48696","v":1.0416666999999999E-2},{"$f":"Parameters!AC48696","v":1.0416666999999999E-2},{"$f":"Parameters!AD48696","v":1.0416666999999999E-2},{"$f":"Parameters!AE48696","v":1.0416666999999999E-2},{"$f":"Parameters!AF48696","v":1.0416666999999999E-2},{"$f":"Parameters!AG48696","v":1.0416666999999999E-2},{"$f":"Parameters!AH48696","v":1.0416666999999999E-2},{"$f":"Parameters!AI48696","v":1.0416666999999999E-2},{"$f":"Parameters!AJ48696","v":1.0416666999999999E-2},{"$f":"Parameters!AK48696","v":1.0416666999999999E-2},{"$f":"Parameters!AL48696","v":1.0416666999999999E-2},{"$f":"Parameters!AM48696","v":1.0416666999999999E-2},{"$f":"Parameters!AN48696","v":1.0416666999999999E-2},{"$f":"Parameters!AO48696","v":1.0416666999999999E-2},{"$f":"Parameters!AP48696","v":1.0416666999999999E-2},{"$f":"Parameters!AQ48696","v":1.0416666999999999E-2},{"$f":"Parameters!AR48696","v":1.0416666999999999E-2},{"$f":"Parameters!AS48696","v":1.0416666999999999E-2},{"$f":"Parameters!AT48696","v":1.0416666999999999E-2},{"$f":"Parameters!AU48696","v":1.0416666999999999E-2},{"$f":"Parameters!AV48696","v":1.0416666999999999E-2},{"$f":"Parameters!AW48696","v":1.0416666999999999E-2},{"$f":"Parameters!AX48696","v":1.0416666999999999E-2},{"$f":"Parameters!AY48696","v":1.0416666999999999E-2},{"$f":"Parameters!AZ48696","v":1.0416666999999999E-2},{"$f":"Parameters!BA48696","v":1.0416666999999999E-2},{"$f":"Parameters!BB48696","v":1.0416666999999999E-2},{"$f":"Parameters!BC48696","v":1.0416666999999999E-2},{"$f":"Parameters!BD48696","v":1.0416666999999999E-2},{"$f":"Parameters!BE48696","v":1.0416666999999999E-2},{"$f":"Parameters!BF48696","v":1.0416666999999999E-2},{"$f":"Parameters!BG48696","v":1.0416666999999999E-2},{"$f":"Parameters!BH48696","v":1.0416666999999999E-2},{"$f":"Parameters!BI48696","v":1.0416666999999999E-2},{"$f":"Parameters!BJ48696","v":1.0416666999999999E-2},{"$f":"Parameters!BK48696","v":1.0416666999999999E-2},{"$f":"Parameters!BL48696","v":1.0416666999999999E-2},{"$f":"Parameters!BM48696","v":1.0416666999999999E-2},{"$f":"Parameters!BN48696","v":1.0416666999999999E-2}]
["S212",{"$f":"Parameters!K48697","v":1.0416666999999999E-2},{"$f":"Parameters!L48697","v":1.0416666999999999E-2},{"$f":"Parameters!M48697","v":1.0416666999999999E-2},{"$f":"Parameters!N48697","v":1.0416666999999999E-2},{"$f":"Parameters!O48697","v":1.0416666999999999E-2},{"$f":"Parameters!P48697","v":1.0416666999999999E-2},{"$f":"Parameters!Q48697","v":1.0416666999999999E-2},{"$f":"Parameters!R48697","v":1.0416666999999999E-2},{"$f":"Parameters!S48697","v":1.0416666999999999E-2},{"$f":"Parameters!T48697","v":1.0416666999999999E-2},{"$f":"Parameters!U48697","v":1.0416666999999999E-2},{"$f":"Parameters!V48697","v":1.0416666999999999E-2},{"$f":"Parameters!W48697","v":1.0416666999999999E-2},{"$f":"Parameters!X48697","v":1.0416666999999999E-2},{"$f":"Parameters!Y48697","v":1.0416666999999999E-2},{"$f":"Parameters!Z48697","v":1.0416666999999999E-2},{"$f":"Parameters!AA48697","v":1.0416666999999999E-2},{"$f":"Parameters!AB48697","v":1.0416666999999999E-2},{"$f":"Parameters!AC48697","v":1.0416666999999999E-2},{"$f":"Parameters!AD48697","v":1.0416666999999999E-2},{"$f":"Parameters!AE48697","v":1.0416666999999999E-2},{"$f":"Parameters!AF48697","v":1.0416666999999999E-2},{"$f":"Parameters!AG48697","v":1.0416666999999999E-2},{"$f":"Parameters!AH48697","v":1.0416666999999999E-2},{"$f":"Parameters!AI48697","v":1.0416666999999999E-2},{"$f":"Parameters!AJ48697","v":1.0416666999999999E-2},{"$f":"Parameters!AK48697","v":1.0416666999999999E-2},{"$f":"Parameters!AL48697","v":1.0416666999999999E-2},{"$f":"Parameters!AM48697","v":1.0416666999999999E-2},{"$f":"Parameters!AN48697","v":1.0416666999999999E-2},{"$f":"Parameters!AO48697","v":1.0416666999999999E-2},{"$f":"Parameters!AP48697","v":1.0416666999999999E-2},{"$f":"Parameters!AQ48697","v":1.0416666999999999E-2},{"$f":"Parameters!AR48697","v":1.0416666999999999E-2},{"$f":"Parameters!AS48697","v":1.0416666999999999E-2},{"$f":"Parameters!AT48697","v":1.0416666999999999E-2},{"$f":"Parameters!AU48697","v":1.0416666999999999E-2},{"$f":"Parameters!AV48697","v":1.0416666999999999E-2},{"$f":"Parameters!AW48697","v":1.0416666999999999E-2},{"$f":"Parameters!AX48697","v":1.0416666999999999E-2},{"$f":"Parameters!AY48697","v":1.0416666999999999E-2},{"$f":"Parameters!AZ48697","v":1.0416666999999999E-2},{"$f":"Parameters!BA48697","v":1.0416666999999999E-2},{"$f":"Parameters!BB48697","v":1.0416666999999999E-2},{"$f":"Parameters!BC48697","v":1.0416666999999999E-2},{"$f":"Parameters!BD48697","v":1.0416666999999999E-2},{"$f":"Parameters!BE48697","v":1.0416666999999999E-2},{"$f":"Parameters!BF48697","v":1.0416666999999999E-2},{"$f":"Parameters!BG48697","v":1.0416666999999999E-2},{"$f":"Parameters!BH48697","v":1.0416666999999999E-2},{"$f":"Parameters!BI48697","v":1.0416666999999999E-2},{"$f":"Parameters!BJ48697","v":1.0416666999999999E-2},{"$f":"Parameters!BK48697","v":1.0416666999999999E-2},{"$f":"Parameters!BL48697","v":1.0416666999999999E-2},{"$f":"Parameters!BM48697","v":1.0416666999999999E-2},{"$f":"Parameters!BN48697","v":1.0416666999999999E-2}]
["S213",{"$f":"Parameters!K48698","v":1.0416666999999999E-2},{"$f":"Parameters!L48698","v":1.0416666999999999E-2},{"$f":"Parameters!M48698","v":1.0416666999999999E-2},{"$f":"Parameters!N48698","v":1.0416666999999999E-2},{"$f":"Parameters!O48698","v":1.0416666999999999E-2},{"$f":"Parameters!P48698","v":1.0416666999999999E-2},{"$f":"Parameters!Q48698","v":1.0416666999999999E-2},{"$f":"Parameters!R48698","v":1.0416666999999999E-2},{"$f":"Parameters!S48698","v":1.0416666999999999E-2},{"$f":"Parameters!T48698","v":1.0416666999999999E-2},{"$f":"Parameters!U48698","v":1.0416666999999999E-2},{"$f":"Parameters!V48698","v":1.0416666999999999E-2},{"$f":"Parameters!W48698","v":1.0416666999999999E-2},{"$f":"Parameters!X48698","v":1.0416666999999999E-2},{"$f":"Parameters!Y48698","v":1.0416666999999999E-2},{"$f":"Parameters!Z48698","v":1.0416666999999999E-2},{"$f":"Parameters!AA48698","v":1.0416666999999999E-2},{"$f":"Parameters!AB48698","v":1.0416666999999999E-2},{"$f":"Parameters!AC48698","v":1.0416666999999999E-2},{"$f":"Parameters!AD48698","v":1.0416666999999999E-2},{"$f":"Parameters!AE48698","v":1.0416666999999999E-2},{"$f":"Parameters!AF48698","v":1.0416666999999999E-2},{"$f":"Parameters!AG48698","v":1.0416666999999999E-2},{"$f":"Parameters!AH48698","v":1.0416666999999999E-2},{"$f":"Parameters!AI48698","v":1.0416666999999999E-2},{"$f":"Parameters!AJ48698","v":1.0416666999999999E-2},{"$f":"Parameters!AK48698","v":1.0416666999999999E-2},{"$f":"Parameters!AL48698","v":1.0416666999999999E-2},{"$f":"Parameters!AM48698","v":1.0416666999999999E-2},{"$f":"Parameters!AN48698","v":1.0416666999999999E-2},{"$f":"Parameters!AO48698","v":1.0416666999999999E-2},{"$f":"Parameters!AP48698","v":1.0416666999999999E-2},{"$f":"Parameters!AQ48698","v":1.0416666999999999E-2},{"$f":"Parameters!AR48698","v":1.0416666999999999E-2},{"$f":"Parameters!AS48698","v":1.0416666999999999E-2},{"$f":"Parameters!AT48698","v":1.0416666999999999E-2},{"$f":"Parameters!AU48698","v":1.0416666999999999E-2},{"$f":"Parameters!AV48698","v":1.0416666999999999E-2},{"$f":"Parameters!AW48698","v":1.0416666999999999E-2},{"$f":"Parameters!AX48698","v":1.0416666999999999E-2},{"$f":"Parameters!AY48698","v":1.0416666999999999E-2},{"$f":"Parameters!AZ48698","v":1.0416666999999999E-2},{"$f":"Parameters!BA48698","v":1.0416666999999999E-2},{"$f":"Parameters!BB48698","v":1.0416666999999999E-2},{"$f":"Parameters!BC48698","v":1.0416666999999999E-2},{"$f":"Parameters!BD48698","v":1.0416666999999999E-2},{"$f":"Parameters!BE48698","v":1.0416666999999999E-2},{"$f":"Parameters!BF48698","v":1.0416666999999999E-2},{"$f":"Parameters!BG48698","v":1.0416666999999999E-2},{"$f":"Parameters!BH48698","v":1.0416666999999999E-2},{"$f":"Parameters!BI48698","v":1.0416666999999999E-2},{"$f":"Parameters!BJ48698","v":1.0416666999999999E-2},{"$f":"Parameters!BK48698","v":1.0416666999999999E-2},{"$f":"Parameters!BL48698","v":1.0416666999999999E-2},{"$f":"Parameters!BM48698","v":1.0416666999999999E-2},{"$f":"Parameters!BN48698","v":1.0416666999999999E-2}]
["S214",{"$f":"Parameters!K48699","v":1.0416666999999999E-2},{"$f":"Parameters!L48699","v":1.0416666999999999E-2},{"$f":"Parameters!M48699","v":1.0416666999999999E-2},{"$f":"Parameters!N48699","v":1.0416666999999999E-2},{"$f":"Parameters!O48699","v":1.0416666999999999E-2},{"$f":"Parameters!P48699","v":1.0416666999999999E-2},{"$f":"Parameters!Q48699","v":1.0416666999999999E-2},{"$f":"Parameters!R48699","v":1.0416666999999999E-2},{"$f":"Parameters!S48699","v":1.0416666999999999E-2},{"$f":"Parameters!T48699","v":1.0416666999999999E-2},{"$f":"Parameters!U48699","v":1.0416666999999999E-2},{"$f":"Parameters!V48699","v":1.0416666999999999E-2},{"$f":"Parameters!W48699","v":1.0416666999999999E-2},{"$f":"Parameters!X48699","v":1.0416666999999999E-2},{"$f":"Parameters!Y48699","v":1.0416666999999999E-2},{"$f":"Parameters!Z48699","v":1.0416666999999999E-2},{"$f":"Parameters!AA48699","v":1.0416666999999999E-2},{"$f":"Parameters!AB48699","v":1.0416666999999999E-2},{"$f":"Parameters!AC48699","v":1.0416666999999999E-2},{"$f":"Parameters!AD48699","v":1.0416666999999999E-2},{"$f":"Parameters!AE48699","v":1.0416666999999999E-2},{"$f":"Parameters!AF48699","v":1.0416666999999999E-2},{"$f":"Parameters!AG48699","v":1.0416666999999999E-2},{"$f":"Parameters!AH48699","v":1.0416666999999999E-2},{"$f":"Parameters!AI48699","v":1.0416666999999999E-2},{"$f":"Parameters!AJ48699","v":1.0416666999999999E-2},{"$f":"Parameters!AK48699","v":1.0416666999999999E-2},{"$f":"Parameters!AL48699","v":1.0416666999999999E-2},{"$f":"Parameters!AM48699","v":1.0416666999999999E-2},{"$f":"Parameters!AN48699","v":1.0416666999999999E-2},{"$f":"Parameters!AO48699","v":1.0416666999999999E-2},{"$f":"Parameters!AP48699","v":1.0416666999999999E-2},{"$f":"Parameters!AQ48699","v":1.0416666999999999E-2},{"$f":"Parameters!AR48699","v":1.0416666999999999E-2},{"$f":"Parameters!AS48699","v":1.0416666999999999E-2},{"$f":"Parameters!AT48699","v":1.0416666999999999E-2},{"$f":"Parameters!AU48699","v":1.0416666999999999E-2},{"$f":"Parameters!AV48699","v":1.0416666999999999E-2},{"$f":"Parameters!AW48699","v":1.0416666999999999E-2},{"$f":"Parameters!AX48699","v":1.0416666999999999E-2},{"$f":"Parameters!AY48699","v":1.0416666999999999E-2},{"$f":"Parameters!AZ48699","v":1.0416666999999999E-2},{"$f":"Parameters!BA48699","v":1.0416666999999999E-2},{"$f":"Parameters!BB48699","v":1.0416666999999999E-2},{"$f":"Parameters!BC48699","v":1.0416666999999999E-2},{"$f":"Parameters!BD48699","v":1.0416666999999999E-2},{"$f":"Parameters!BE48699","v":1.0416666999999999E-2},{"$f":"Parameters!BF48699","v":1.0416666999999999E-2},{"$f":"Parameters!BG48699","v":1.0416666999999999E-2},{"$f":"Parameters!BH48699","v":1.0416666999999999E-2},{"$f":"Parameters!BI48699","v":1.0416666999999999E-2},{"$f":"Parameters!BJ48699","v":1.0416666999999999E-2},{"$f":"Parameters!BK48699","v":1.0416666999999999E-2},{"$f":"Parameters!BL48699","v":1.0416666999999999E-2},{"$f":"Parameters!BM48699","v":1.0416666999999999E-2},{"$f":"Parameters!BN48699","v":1.0416666999999999E-2}]
["S215",{"$f":"Parameters!K48700","v":1.0416666999999999E-2},{"$f":"Parameters!L48700","v":1.0416666999999999E-2},{"$f":"Parameters!M48700","v":1.0416666999999999E-2},{"$f":"Parameters!N48700","v":1.0416666999999999E-2},{"$f":"Parameters!O48700","v":1.0416666999999999E-2},{"$f":"Parameters!P48700","v":1.0416666999999999E-2},{"$f":"Parameters!Q48700","v":1.0416666999999999E-2},{"$f":"Parameters!R48700","v":1.0416666999999999E-2},{"$f":"Parameters!S48700","v":1.0416666999999999E-2},{"$f":"Parameters!T48700","v":1.0416666999999999E-2},{"$f":"Parameters!U48700","v":1.0416666999999999E-2},{"$f":"Parameters!V48700","v":1.0416666999999999E-2},{"$f":"Parameters!W48700","v":1.0416666999999999E-2},{"$f":"Parameters!X48700","v":1.0416666999999999E-2},{"$f":"Parameters!Y48700","v":1.0416666999999999E-2},{"$f":"Parameters!Z48700","v":1.0416666999999999E-2},{"$f":"Parameters!AA48700","v":1.0416666999999999E-2},{"$f":"Parameters!AB48700","v":1.0416666999999999E-2},{"$f":"Parameters!AC48700","v":1.0416666999999999E-2},{"$f":"Parameters!AD48700","v":1.0416666999999999E-2},{"$f":"Parameters!AE48700","v":1.0416666999999999E-2},{"$f":"Parameters!AF48700","v":1.0416666999999999E-2},{"$f":"Parameters!AG48700","v":1.0416666999999999E-2},{"$f":"Parameters!AH48700","v":1.0416666999999999E-2},{"$f":"Parameters!AI48700","v":1.0416666999999999E-2},{"$f":"Parameters!AJ48700","v":1.0416666999999999E-2},{"$f":"Parameters!AK48700","v":1.0416666999999999E-2},{"$f":"Parameters!AL48700","v":1.0416666999999999E-2},{"$f":"Parameters!AM48700","v":1.0416666999999999E-2},{"$f":"Parameters!AN48700","v":1.0416666999999999E-2},{"$f":"Parameters!AO48700","v":1.0416666999999999E-2},{"$f":"Parameters!AP48700","v":1.0416666999999999E-2},{"$f":"Parameters!AQ48700","v":1.0416666999999999E-2},{"$f":"Parameters!AR48700","v":1.0416666999999999E-2},{"$f":"Parameters!AS48700","v":1.0416666999999999E-2},{"$f":"Parameters!AT48700","v":1.0416666999999999E-2},{"$f":"Parameters!AU48700","v":1.0416666999999999E-2},{"$f":"Parameters!AV48700","v":1.0416666999999999E-2},{"$f":"Parameters!AW48700","v":1.0416666999999999E-2},{"$f":"Parameters!AX48700","v":1.0416666999999999E-2},{"$f":"Parameters!AY48700","v":1.0416666999999999E-2},{"$f":"Parameters!AZ48700","v":1.0416666999999999E-2},{"$f":"Parameters!BA48700","v":1.0416666999999999E-2},{"$f":"Parameters!BB48700","v":1.0416666999999999E-2},{"$f":"Parameters!BC48700","v":1.0416666999999999E-2},{"$f":"Parameters!BD48700","v":1.0416666999999999E-2},{"$f":"Parameters!BE48700","v":1.0416666999999999E-2},{"$f":"Parameters!BF48700","v":1.0416666999999999E-2},{"$f":"Parameters!BG48700","v":1.0416666999999999E-2},{"$f":"Parameters!BH48700","v":1.0416666999999999E-2},{"$f":"Parameters!BI48700","v":1.0416666999999999E-2},{"$f":"Parameters!BJ48700","v":1.0416666999999999E-2},{"$f":"Parameters!BK48700","v":1.0416666999999999E-2},{"$f":"Parameters!BL48700","v":1.0416666999999999E-2},{"$f":"Parameters!BM48700","v":1.0416666999999999E-2},{"$f":"Parameters!BN48700","v":1.0416666999999999E-2}]
["S216",{"$f":"Parameters!K48701","v":1.0416666999999999E-2},{"$f":"Parameters!L48701","v":1.0416666999999999E-2},{"$f":"Parameters!M48701","v":1.0416666999999999E-2},{"$f":"Parameters!N48701","v":1.0416666999999999E-2},{"$f":"Parameters!O48701","v":1.0416666999999999E-2},{"$f":"Parameters!P48701","v":1.0416666999999999E-2},{"$f":"Parameters!Q48701","v":1.0416666999999999E-2},{"$f":"Parameters!R48701","v":1.0416666999999999E-2},{"$f":"Parameters!S48701","v":1.0416666999999999E-2},{"$f":"Parameters!T48701","v":1.0416666999999999E-2},{"$f":"Parameters!U48701","v":1.0416666999999999E-2},{"$f":"Parameters!V48701","v":1.0416666999999999E-2},{"$f":"Parameters!W48701","v":1.0416666999999999E-2},{"$f":"Parameters!X48701","v":1.0416666999999999E-2},{"$f":"Parameters!Y48701","v":1.0416666999999999E-2},{"$f":"Parameters!Z48701","v":1.0416666999999999E-2},{"$f":"Parameters!AA48701","v":1.0416666999999999E-2},{"$f":"Parameters!AB48701","v":1.0416666999999999E-2},{"$f":"Parameters!AC48701","v":1.0416666999999999E-2},{"$f":"Parameters!AD48701","v":1.0416666999999999E-2},{"$f":"Parameters!AE48701","v":1.0416666999999999E-2},{"$f":"Parameters!AF48701","v":1.0416666999999999E-2},{"$f":"Parameters!AG48701","v":1.0416666999999999E-2},{"$f":"Parameters!AH48701","v":1.0416666999999999E-2},{"$f":"Parameters!AI48701","v":1.0416666999999999E-2},{"$f":"Parameters!AJ48701","v":1.0416666999999999E-2},{"$f":"Parameters!AK48701","v":1.0416666999999999E-2},{"$f":"Parameters!AL48701","v":1.0416666999999999E-2},{"$f":"Parameters!AM48701","v":1.0416666999999999E-2},{"$f":"Parameters!AN48701","v":1.0416666999999999E-2},{"$f":"Parameters!AO48701","v":1.0416666999999999E-2},{"$f":"Parameters!AP48701","v":1.0416666999999999E-2},{"$f":"Parameters!AQ48701","v":1.0416666999999999E-2},{"$f":"Parameters!AR48701","v":1.0416666999999999E-2},{"$f":"Parameters!AS48701","v":1.0416666999999999E-2},{"$f":"Parameters!AT48701","v":1.0416666999999999E-2},{"$f":"Parameters!AU48701","v":1.0416666999999999E-2},{"$f":"Parameters!AV48701","v":1.0416666999999999E-2},{"$f":"Parameters!AW48701","v":1.0416666999999999E-2},{"$f":"Parameters!AX48701","v":1.0416666999999999E-2},{"$f":"Parameters!AY48701","v":1.0416666999999999E-2},{"$f":"Parameters!AZ48701","v":1.0416666999999999E-2},{"$f":"Parameters!BA48701","v":1.0416666999999999E-2},{"$f":"Parameters!BB48701","v":1.0416666999999999E-2},{"$f":"Parameters!BC48701","v":1.0416666999999999E-2},{"$f":"Parameters!BD48701","v":1.0416666999999999E-2},{"$f":"Parameters!BE48701","v":1.0416666999999999E-2},{"$f":"Parameters!BF48701","v":1.0416666999999999E-2},{"$f":"Parameters!BG48701","v":1.0416666999999999E-2},{"$f":"Parameters!BH48701","v":1.0416666999999999E-2},{"$f":"Parameters!BI48701","v":1.0416666999999999E-2},{"$f":"Parameters!BJ48701","v":1.0416666999999999E-2},{"$f":"Parameters!BK48701","v":1.0416666999999999E-2},{"$f":"Parameters!BL48701","v":1.0416666999999999E-2},{"$f":"Parameters!BM48701","v":1.0416666999999999E-2},{"$f":"Parameters!BN48701","v":1.0416666999999999E-2}]
["S217",{"$f":"Parameters!K48702","v":1.0416666999999999E-2},{"$f":"Parameters!L48702","v":1.0416666999999999E-2},{"$f":"Parameters!M48702","v":1.0416666999999999E-2},{"$f":"Parameters!N48702","v":1.0416666999999999E-2},{"$f":"Parameters!O48702","v":1.0416666999999999E-2},{"$f":"Parameters!P48702","v":1.0416666999999999E-2},{"$f":"Parameters!Q48702","v":1.0416666999999999E-2},{"$f":"Parameters!R48702","v":1.0416666999999999E-2},{"$f":"Parameters!S48702","v":1.0416666999999999E-2},{"$f":"Parameters!T48702","v":1.0416666999999999E-2},{"$f":"Parameters!U48702","v":1.0416666999999999E-2},{"$f":"Parameters!V48702","v":1.0416666999999999E-2},{"$f":"Parameters!W48702","v":1.0416666999999999E-2},{"$f":"Parameters!X48702","v":1.0416666999999999E-2},{"$f":"Parameters!Y48702","v":1.0416666999999999E-2},{"$f":"Parameters!Z48702","v":1.0416666999999999E-2},{"$f":"Parameters!AA48702","v":1.0416666999999999E-2},{"$f":"Parameters!AB48702","v":1.0416666999999999E-2},{"$f":"Parameters!AC48702","v":1.0416666999999999E-2},{"$f":"Parameters!AD48702","v":1.0416666999999999E-2},{"$f":"Parameters!AE48702","v":1.0416666999999999E-2},{"$f":"Parameters!AF48702","v":1.0416666999999999E-2},{"$f":"Parameters!AG48702","v":1.0416666999999999E-2},{"$f":"Parameters!AH48702","v":1.0416666999999999E-2},{"$f":"Parameters!AI48702","v":1.0416666999999999E-2},{"$f":"Parameters!AJ48702","v":1.0416666999999999E-2},{"$f":"Parameters!AK48702","v":1.0416666999999999E-2},{"$f":"Parameters!AL48702","v":1.0416666999999999E-2},{"$f":"Parameters!AM48702","v":1.0416666999999999E-2},{"$f":"Parameters!AN48702","v":1.0416666999999999E-2},{"$f":"Parameters!AO48702","v":1.0416666999999999E-2},{"$f":"Parameters!AP48702","v":1.0416666999999999E-2},{"$f":"Parameters!AQ48702","v":1.0416666999999999E-2},{"$f":"Parameters!AR48702","v":1.0416666999999999E-2},{"$f":"Parameters!AS48702","v":1.0416666999999999E-2},{"$f":"Parameters!AT48702","v":1.0416666999999999E-2},{"$f":"Parameters!AU48702","v":1.0416666999999999E-2},{"$f":"Parameters!AV48702","v":1.0416666999999999E-2},{"$f":"Parameters!AW48702","v":1.0416666999999999E-2},{"$f":"Parameters!AX48702","v":1.0416666999999999E-2},{"$f":"Parameters!AY48702","v":1.0416666999999999E-2},{"$f":"Parameters!AZ48702","v":1.0416666999999999E-2},{"$f":"Parameters!BA48702","v":1.0416666999999999E-2},{"$f":"Parameters!BB48702","v":1.0416666999999999E-2},{"$f":"Parameters!BC48702","v":1.0416666999999999E-2},{"$f":"Parameters!BD48702","v":1.0416666999999999E-2},{"$f":"Parameters!BE48702","v":1.0416666999999999E-2},{"$f":"Parameters!BF48702","v":1.0416666999999999E-2},{"$f":"Parameters!BG48702","v":1.0416666999999999E-2},{"$f":"Parameters!BH48702","v":1.0416666999999999E-2},{"$f":"Parameters!BI48702","v":1.0416666999999999E-2},{"$f":"Parameters!BJ48702","v":1.0416666999999999E-2},{"$f":"Parameters!BK48702","v":1.0416666999999999E-2},{"$f":"Parameters!BL48702","v":1.0416666999999999E-2},{"$f":"Parameters!BM48702","v":1.0416666999999999E-2},{"$f":"Parameters!BN48702","v":1.0416666999999999E-2}]
["S218",{"$f":"Parameters!K48703","v":1.0416666999999999E-2},{"$f":"Parameters!L48703","v":1.0416666999999999E-2},{"$f":"Parameters!M48703","v":1.0416666999999999E-2},{"$f":"Parameters!N48703","v":1.0416666999999999E-2},{"$f":"Parameters!O48703","v":1.0416666999999999E-2},{"$f":"Parameters!P48703","v":1.0416666999999999E-2},{"$f":"Parameters!Q48703","v":1.0416666999999999E-2},{"$f":"Parameters!R48703","v":1.0416666999999999E-2},{"$f":"Parameters!S48703","v":1.0416666999999999E-2},{"$f":"Parameters!T48703","v":1.0416666999999999E-2},{"$f":"Parameters!U48703","v":1.0416666999999999E-2},{"$f":"Parameters!V48703","v":1.0416666999999999E-2},{"$f":"Parameters!W48703","v":1.0416666999999999E-2},{"$f":"Parameters!X48703","v":1.0416666999999999E-2},{"$f":"Parameters!Y48703","v":1.0416666999999999E-2},{"$f":"Parameters!Z48703","v":1.0416666999999999E-2},{"$f":"Parameters!AA48703","v":1.0416666999999999E-2},{"$f":"Parameters!AB48703","v":1.0416666999999999E-2},{"$f":"Parameters!AC48703","v":1.0416666999999999E-2},{"$f":"Parameters!AD48703","v":1.0416666999999999E-2},{"$f":"Parameters!AE48703","v":1.0416666999999999E-2},{"$f":"Parameters!AF48703","v":1.0416666999999999E-2},{"$f":"Parameters!AG48703","v":1.0416666999999999E-2},{"$f":"Parameters!AH48703","v":1.0416666999999999E-2},{"$f":"Parameters!AI48703","v":1.0416666999999999E-2},{"$f":"Parameters!AJ48703","v":1.0416666999999999E-2},{"$f":"Parameters!AK48703","v":1.0416666999999999E-2},{"$f":"Parameters!AL48703","v":1.0416666999999999E-2},{"$f":"Parameters!AM48703","v":1.0416666999999999E-2},{"$f":"Parameters!AN48703","v":1.0416666999999999E-2},{"$f":"Parameters!AO48703","v":1.0416666999999999E-2},{"$f":"Parameters!AP48703","v":1.0416666999999999E-2},{"$f":"Parameters!AQ48703","v":1.0416666999999999E-2},{"$f":"Parameters!AR48703","v":1.0416666999999999E-2},{"$f":"Parameters!AS48703","v":1.0416666999999999E-2},{"$f":"Parameters!AT48703","v":1.0416666999999999E-2},{"$f":"Parameters!AU48703","v":1.0416666999999999E-2},{"$f":"Parameters!AV48703","v":1.0416666999999999E-2},{"$f":"Parameters!AW48703","v":1.0416666999999999E-2},{"$f":"Parameters!AX48703","v":1.0416666999999999E-2},{"$f":"Parameters!AY48703","v":1.0416666999999999E-2},{"$f":"Parameters!AZ48703","v":1.0416666999999999E-2},{"$f":"Parameters!BA48703","v":1.0416666999999999E-2},{"$f":"Parameters!BB48703","v":1.0416666999999999E-2},{"$f":"Parameters!BC48703","v":1.0416666999999999E-2},{"$f":"Parameters!BD48703","v":1.0416666999999999E-2},{"$f":"Parameters!BE48703","v":1.0416666999999999E-2},{"$f":"Parameters!BF48703","v":1.0416666999999999E-2},{"$f":"Parameters!BG48703","v":1.0416666999999999E-2},{"$f":"Parameters!BH48703","v":1.0416666999999999E-2},{"$f":"Parameters!BI48703","v":1.0416666999999999E-2},{"$f":"Parameters!BJ48703","v":1.0416666999999999E-2},{"$f":"Parameters!BK48703","v":1.0416666999999999E-2},{"$f":"Parameters!BL48703","v":1.0416666999999999E-2},{"$f":"Parameters!BM48703","v":1.0416666999999999E-2},{"$f":"Parameters!BN48703","v":1.0416666999999999E-2}]
["S219",{"$f":"Parameters!K48704","v":1.0416666999999999E-2},{"$f":"Parameters!L48704","v":1.0416666999999999E-2},{"$f":"Parameters!M48704","v":1.0416666999999999E-2},{"$f":"Parameters!N48704","v":1.0416666999999999E-2},{"$f":"Parameters!O48704","v":1.0416666999999999E-2},{"$f":"Parameters!P48704","v":1.0416666999999999E-2},{"$f":"Parameters!Q48704","v":1.0416666999999999E-2},{"$f":"Parameters!R48704","v":1.0416666999999999E-2},{"$f":"Parameters!S48704","v":1.0416666999999999E-2},{"$f":"Parameters!T48704","v":1.0416666999999999E-2},{"$f":"Parameters!U48704","v":1.0416666999999999E-2},{"$f":"Parameters!V48704","v":1.0416666999999999E-2},{"$f":"Parameters!W48704","v":1.0416666999999999E-2},{"$f":"Parameters!X48704","v":1.0416666999999999E-2},{"$f":"Parameters!Y48704","v":1.0416666999999999E-2},{"$f":"Parameters!Z48704","v":1.0416666999999999E-2},{"$f":"Parameters!AA48704","v":1.0416666999999999E-2},{"$f":"Parameters!AB48704","v":1.0416666999999999E-2},{"$f":"Parameters!AC48704","v":1.0416666999999999E-2},{"$f":"Parameters!AD48704","v":1.0416666999999999E-2},{"$f":"Parameters!AE48704","v":1.0416666999999999E-2},{"$f":"Parameters!AF48704","v":1.0416666999999999E-2},{"$f":"Parameters!AG48704","v":1.0416666999999999E-2},{"$f":"Parameters!AH48704","v":1.0416666999999999E-2},{"$f":"Parameters!AI48704","v":1.0416666999999999E-2},{"$f":"Parameters!AJ48704","v":1.0416666999999999E-2},{"$f":"Parameters!AK48704","v":1.0416666999999999E-2},{"$f":"Parameters!AL48704","v":1.0416666999999999E-2},{"$f":"Parameters!AM48704","v":1.0416666999999999E-2},{"$f":"Parameters!AN48704","v":1.0416666999999999E-2},{"$f":"Parameters!AO48704","v":1.0416666999999999E-2},{"$f":"Parameters!AP48704","v":1.0416666999999999E-2},{"$f":"Parameters!AQ48704","v":1.0416666999999999E-2},{"$f":"Parameters!AR48704","v":1.0416666999999999E-2},{"$f":"Parameters!AS48704","v":1.0416666999999999E-2},{"$f":"Parameters!AT48704","v":1.0416666999999999E-2},{"$f":"Parameters!AU48704","v":1.0416666999999999E-2},{"$f":"Parameters!AV48704","v":1.0416666999999999E-2},{"$f":"Parameters!AW48704","v":1.0416666999999999E-2},{"$f":"Parameters!AX48704","v":1.0416666999999999E-2},{"$f":"Parameters!AY48704","v":1.0416666999999999E-2},{"$f":"Parameters!AZ48704","v":1.0416666999999999E-2},{"$f":"Parameters!BA48704","v":1.0416666999999999E-2},{"$f":"Parameters!BB48704","v":1.0416666999999999E-2},{"$f":"Parameters!BC48704","v":1.0416666999999999E-2},{"$f":"Parameters!BD48704","v":1.0416666999999999E-2},{"$f":"Parameters!BE48704","v":1.0416666999999999E-2},{"$f":"Parameters!BF48704","v":1.0416666999999999E-2},{"$f":"Parameters!BG48704","v":1.0416666999999999E-2},{"$f":"Parameters!BH48704","v":1.0416666999999999E-2},{"$f":"Parameters!BI48704","v":1.0416666999999999E-2},{"$f":"Parameters!BJ48704","v":1.0416666999999999E-2},{"$f":"Parameters!BK48704","v":1.0416666999999999E-2},{"$f":"Parameters!BL48704","v":1.0416666999999999E-2},{"$f":"Parameters!BM48704","v":1.0416666999999999E-2},{"$f":"Parameters!BN48704","v":1.0416666999999999E-2}]
["S220",{"$f":"Parameters!K48705","v":1.0416666999999999E-2},{"$f":"Parameters!L48705","v":1.0416666999999999E-2},{"$f":"Parameters!M48705","v":1.0416666999999999E-2},{"$f":"Parameters!N48705","v":1.0416666999999999E-2},{"$f":"Parameters!O48705","v":1.0416666999999999E-2},{"$f":"Parameters!P48705","v":1.0416666999999999E-2},{"$f":"Parameters!Q48705","v":1.0416666999999999E-2},{"$f":"Parameters!R48705","v":1.0416666999999999E-2},{"$f":"Parameters!S48705","v":1.0416666999999999E-2},{"$f":"Parameters!T48705","v":1.0416666999999999E-2},{"$f":"Parameters!U48705","v":1.0416666999999999E-2},{"$f":"Parameters!V48705","v":1.0416666999999999E-2},{"$f":"Parameters!W48705","v":1.0416666999999999E-2},{"$f":"Parameters!X48705","v":1.0416666999999999E-2},{"$f":"Parameters!Y48705","v":1.0416666999999999E-2},{"$f":"Parameters!Z48705","v":1.0416666999999999E-2},{"$f":"Parameters!AA48705","v":1.0416666999999999E-2},{"$f":"Parameters!AB48705","v":1.0416666999999999E-2},{"$f":"Parameters!AC48705","v":1.0416666999999999E-2},{"$f":"Parameters!AD48705","v":1.0416666999999999E-2},{"$f":"Parameters!AE48705","v":1.0416666999999999E-2},{"$f":"Parameters!AF48705","v":1.0416666999999999E-2},{"$f":"Parameters!AG48705","v":1.0416666999999999E-2},{"$f":"Parameters!AH48705","v":1.0416666999999999E-2},{"$f":"Parameters!AI48705","v":1.0416666999999999E-2},{"$f":"Parameters!AJ48705","v":1.0416666999999999E-2},{"$f":"Parameters!AK48705","v":1.0416666999999999E-2},{"$f":"Parameters!AL48705","v":1.0416666999999999E-2},{"$f":"Parameters!AM48705","v":1.0416666999999999E-2},{"$f":"Parameters!AN48705","v":1.0416666999999999E-2},{"$f":"Parameters!AO48705","v":1.0416666999999999E-2},{"$f":"Parameters!AP48705","v":1.0416666999999999E-2},{"$f":"Parameters!AQ48705","v":1.0416666999999999E-2},{"$f":"Parameters!AR48705","v":1.0416666999999999E-2},{"$f":"Parameters!AS48705","v":1.0416666999999999E-2},{"$f":"Parameters!AT48705","v":1.0416666999999999E-2},{"$f":"Parameters!AU48705","v":1.0416666999999999E-2},{"$f":"Parameters!AV48705","v":1.0416666999999999E-2},{"$f":"Parameters!AW48705","v":1.0416666999999999E-2},{"$f":"Parameters!AX48705","v":1.0416666999999999E-2},{"$f":"Parameters!AY48705","v":1.0416666999999999E-2},{"$f":"Parameters!AZ48705","v":1.0416666999999999E-2},{"$f":"Parameters!BA48705","v":1.0416666999999999E-2},{"$f":"Parameters!BB48705","v":1.0416666999999999E-2},{"$f":"Parameters!BC48705","v":1.0416666999999999E-2},{"$f":"Parameters!BD48705","v":1.0416666999999999E-2},{"$f":"Parameters!BE48705","v":1.0416666999999999E-2},{"$f":"Parameters!BF48705","v":1.0416666999999999E-2},{"$f":"Parameters!BG48705","v":1.0416666999999999E-2},{"$f":"Parameters!BH48705","v":1.0416666999999999E-2},{"$f":"Parameters!BI48705","v":1.0416666999999999E-2},{"$f":"Parameters!BJ48705","v":1.0416666999999999E-2},{"$f":"Parameters!BK48705","v":1.0416666999999999E-2},{"$f":"Parameters!BL48705","v":1.0416666999999999E-2},{"$f":"Parameters!BM48705","v":1.0416666999999999E-2},{"$f":"Parameters!BN48705","v":1.0416666999999999E-2}]
["S221",{"$f":"Parameters!K48706","v":1.0416666999999999E-2},{"$f":"Parameters!L48706","v":1.0416666999999999E-2},{"$f":"Parameters!M48706","v":1.0416666999999999E-2},{"$f":"Parameters!N48706","v":1.0416666999999999E-2},{"$f":"Parameters!O48706","v":1.0416666999999999E-2},{"$f":"Parameters!P48706","v":1.0416666999999999E-2},{"$f":"Parameters!Q48706","v":1.0416666999999999E-2},{"$f":"Parameters!R48706","v":1.0416666999999999E-2},{"$f":"Parameters!S48706","v":1.0416666999999999E-2},{"$f":"Parameters!T48706","v":1.0416666999999999E-2},{"$f":"Parameters!U48706","v":1.0416666999999999E-2},{"$f":"Parameters!V48706","v":1.0416666999999999E-2},{"$f":"Parameters!W48706","v":1.0416666999999999E-2},{"$f":"Parameters!X48706","v":1.0416666999999999E-2},{"$f":"Parameters!Y48706","v":1.0416666999999999E-2},{"$f":"Parameters!Z48706","v":1.0416666999999999E-2},{"$f":"Parameters!AA48706","v":1.0416666999999999E-2},{"$f":"Parameters!AB48706","v":1.0416666999999999E-2},{"$f":"Parameters!AC48706","v":1.0416666999999999E-2},{"$f":"Parameters!AD48706","v":1.0416666999999999E-2},{"$f":"Parameters!AE48706","v":1.0416666999999999E-2},{"$f":"Parameters!AF48706","v":1.0416666999999999E-2},{"$f":"Parameters!AG48706","v":1.0416666999999999E-2},{"$f":"Parameters!AH48706","v":1.0416666999999999E-2},{"$f":"Parameters!AI48706","v":1.0416666999999999E-2},{"$f":"Parameters!AJ48706","v":1.0416666999999999E-2},{"$f":"Parameters!AK48706","v":1.0416666999999999E-2},{"$f":"Parameters!AL48706","v":1.0416666999999999E-2},{"$f":"Parameters!AM48706","v":1.0416666999999999E-2},{"$f":"Parameters!AN48706","v":1.0416666999999999E-2},{"$f":"Parameters!AO48706","v":1.0416666999999999E-2},{"$f":"Parameters!AP48706","v":1.0416666999999999E-2},{"$f":"Parameters!AQ48706","v":1.0416666999999999E-2},{"$f":"Parameters!AR48706","v":1.0416666999999999E-2},{"$f":"Parameters!AS48706","v":1.0416666999999999E-2},{"$f":"Parameters!AT48706","v":1.0416666999999999E-2},{"$f":"Parameters!AU48706","v":1.0416666999999999E-2},{"$f":"Parameters!AV48706","v":1.0416666999999999E-2},{"$f":"Parameters!AW48706","v":1.0416666999999999E-2},{"$f":"Parameters!AX48706","v":1.0416666999999999E-2},{"$f":"Parameters!AY48706","v":1.0416666999999999E-2},{"$f":"Parameters!AZ48706","v":1.0416666999999999E-2},{"$f":"Parameters!BA48706","v":1.0416666999999999E-2},{"$f":"Parameters!BB48706","v":1.0416666999999999E-2},{"$f":"Parameters!BC48706","v":1.0416666999999999E-2},{"$f":"Parameters!BD48706","v":1.0416666999999999E-2},{"$f":"Parameters!BE48706","v":1.0416666999999999E-2},{"$f":"Parameters!BF48706","v":1.0416666999999999E-2},{"$f":"Parameters!BG48706","v":1.0416666999999999E-2},{"$f":"Parameters!BH48706","v":1.0416666999999999E-2},{"$f":"Parameters!BI48706","v":1.0416666999999999E-2},{"$f":"Parameters!BJ48706","v":1.0416666999999999E-2},{"$f":"Parameters!BK48706","v":1.0416666999999999E-2},{"$f":"Parameters!BL48706","v":1.0416666999999999E-2},{"$f":"Parameters!BM48706","v":1.0416666999999999E-2},{"$f":"Parameters!BN48706","v":1.0416666999999999E-2}]
["S222",{"$f":"Parameters!K48707","v":1.0416666999999999E-2},{"$f":"Parameters!L48707","v":1.0416666999999999E-2},{"$f":"Parameters!M48707","v":1.0416666999999999E-2},{"$f":"Parameters!N48707","v":1.0416666999999999E-2},{"$f":"Parameters!O48707","v":1.0416666999999999E-2},{"$f":"Parameters!P48707","v":1.0416666999999999E-2},{"$f":"Parameters!Q48707","v":1.0416666999999999E-2},{"$f":"Parameters!R48707","v":1.0416666999999999E-2},{"$f":"Parameters!S48707","v":1.0416666999999999E-2},{"$f":"Parameters!T48707","v":1.0416666999999999E-2},{"$f":"Parameters!U48707","v":1.0416666999999999E-2},{"$f":"Parameters!V48707","v":1.0416666999999999E-2},{"$f":"Parameters!W48707","v":1.0416666999999999E-2},{"$f":"Parameters!X48707","v":1.0416666999999999E-2},{"$f":"Parameters!Y48707","v":1.0416666999999999E-2},{"$f":"Parameters!Z48707","v":1.0416666999999999E-2},{"$f":"Parameters!AA48707","v":1.0416666999999999E-2},{"$f":"Parameters!AB48707","v":1.0416666999999999E-2},{"$f":"Parameters!AC48707","v":1.0416666999999999E-2},{"$f":"Parameters!AD48707","v":1.0416666999999999E-2},{"$f":"Parameters!AE48707","v":1.0416666999999999E-2},{"$f":"Parameters!AF48707","v":1.0416666999999999E-2},{"$f":"Parameters!AG48707","v":1.0416666999999999E-2},{"$f":"Parameters!AH48707","v":1.0416666999999999E-2},{"$f":"Parameters!AI48707","v":1.0416666999999999E-2},{"$f":"Parameters!AJ48707","v":1.0416666999999999E-2},{"$f":"Parameters!AK48707","v":1.0416666999999999E-2},{"$f":"Parameters!AL48707","v":1.0416666999999999E-2},{"$f":"Parameters!AM48707","v":1.0416666999999999E-2},{"$f":"Parameters!AN48707","v":1.0416666999999999E-2},{"$f":"Parameters!AO48707","v":1.0416666999999999E-2},{"$f":"Parameters!AP48707","v":1.0416666999999999E-2},{"$f":"Parameters!AQ48707","v":1.0416666999999999E-2},{"$f":"Parameters!AR48707","v":1.0416666999999999E-2},{"$f":"Parameters!AS48707","v":1.0416666999999999E-2},{"$f":"Parameters!AT48707","v":1.0416666999999999E-2},{"$f":"Parameters!AU48707","v":1.0416666999999999E-2},{"$f":"Parameters!AV48707","v":1.0416666999999999E-2},{"$f":"Parameters!AW48707","v":1.0416666999999999E-2},{"$f":"Parameters!AX48707","v":1.0416666999999999E-2},{"$f":"Parameters!AY48707","v":1.0416666999999999E-2},{"$f":"Parameters!AZ48707","v":1.0416666999999999E-2},{"$f":"Parameters!BA48707","v":1.0416666999999999E-2},{"$f":"Parameters!BB48707","v":1.0416666999999999E-2},{"$f":"Parameters!BC48707","v":1.0416666999999999E-2},{"$f":"Parameters!BD48707","v":1.0416666999999999E-2},{"$f":"Parameters!BE48707","v":1.0416666999999999E-2},{"$f":"Parameters!BF48707","v":1.0416666999999999E-2},{"$f":"Parameters!BG48707","v":1.0416666999999999E-2},{"$f":"Parameters!BH48707","v":1.0416666999999999E-2},{"$f":"Parameters!BI48707","v":1.0416666999999999E-2},{"$f":"Parameters!BJ48707","v":1.0416666999999999E-2},{"$f":"Parameters!BK48707","v":1.0416666999999999E-2},{"$f":"Parameters!BL48707","v":1.0416666999999999E-2},{"$f":"Parameters!BM48707","v":1.0416666999999999E-2},{"$f":"Parameters!BN48707","v":1.0416666999999999E-2}]
["S223",{"$f":"Parameters!K48708","v":1.0416666999999999E-2},{"$f":"Parameters!L48708","v":1.0416666999999999E-2},{"$f":"Parameters!M48708","v":1.0416666999999999E-2},{"$f":"Parameters!N48708","v":1.0416666999999999E-2},{"$f":"Parameters!O48708","v":1.0416666999999999E-2},{"$f":"Parameters!P48708","v":1.0416666999999999E-2},{"$f":"Parameters!Q48708","v":1.0416666999999999E-2},{"$f":"Parameters!R48708","v":1.0416666999999999E-2},{"$f":"Parameters!S48708","v":1.0416666999999999E-2},{"$f":"Parameters!T48708","v":1.0416666999999999E-2},{"$f":"Parameters!U48708","v":1.0416666999999999E-2},{"$f":"Parameters!V48708","v":1.0416666999999999E-2},{"$f":"Parameters!W48708","v":1.0416666999999999E-2},{"$f":"Parameters!X48708","v":1.0416666999999999E-2},{"$f":"Parameters!Y48708","v":1.0416666999999999E-2},{"$f":"Parameters!Z48708","v":1.0416666999999999E-2},{"$f":"Parameters!AA48708","v":1.0416666999999999E-2},{"$f":"Parameters!AB48708","v":1.0416666999999999E-2},{"$f":"Parameters!AC48708","v":1.0416666999999999E-2},{"$f":"Parameters!AD48708","v":1.0416666999999999E-2},{"$f":"Parameters!AE48708","v":1.0416666999999999E-2},{"$f":"Parameters!AF48708","v":1.0416666999999999E-2},{"$f":"Parameters!AG48708","v":1.0416666999999999E-2},{"$f":"Parameters!AH48708","v":1.0416666999999999E-2},{"$f":"Parameters!AI48708","v":1.0416666999999999E-2},{"$f":"Parameters!AJ48708","v":1.0416666999999999E-2},{"$f":"Parameters!AK48708","v":1.0416666999999999E-2},{"$f":"Parameters!AL48708","v":1.0416666999999999E-2},{"$f":"Parameters!AM48708","v":1.0416666999999999E-2},{"$f":"Parameters!AN48708","v":1.0416666999999999E-2},{"$f":"Parameters!AO48708","v":1.0416666999999999E-2},{"$f":"Parameters!AP48708","v":1.0416666999999999E-2},{"$f":"Parameters!AQ48708","v":1.0416666999999999E-2},{"$f":"Parameters!AR48708","v":1.0416666999999999E-2},{"$f":"Parameters!AS48708","v":1.0416666999999999E-2},{"$f":"Parameters!AT48708","v":1.0416666999999999E-2},{"$f":"Parameters!AU48708","v":1.0416666999999999E-2},{"$f":"Parameters!AV48708","v":1.0416666999999999E-2},{"$f":"Parameters!AW48708","v":1.0416666999999999E-2},{"$f":"Parameters!AX48708","v":1.0416666999999999E-2},{"$f":"Parameters!AY48708","v":1.0416666999999999E-2},{"$f":"Parameters!AZ48708","v":1.0416666999999999E-2},{"$f":"Parameters!BA48708","v":1.0416666999999999E-2},{"$f":"Parameters!BB48708","v":1.0416666999999999E-2},{"$f":"Parameters!BC48708","v":1.0416666999999999E-2},{"$f":"Parameters!BD48708","v":1.0416666999999999E-2},{"$f":"Parameters!BE48708","v":1.0416666999999999E-2},{"$f":"Parameters!BF48708","v":1.0416666999999999E-2},{"$f":"Parameters!BG48708","v":1.0416666999999999E-2},{"$f":"Parameters!BH48708","v":1.0416666999999999E-2},{"$f":"Parameters!BI48708","v":1.0416666999999999E-2},{"$f":"Parameters!BJ48708","v":1.0416666999999999E-2},{"$f":"Parameters!BK48708","v":1.0416666999999999E-2},{"$f":"Parameters!BL48708","v":1.0416666999999999E-2},{"$f":"Parameters!BM48708","v":1.0416666999999999E-2},{"$f":"Parameters!BN48708","v":1.0416666999999999E-2}]
["S224",{"$f":"Parameters!K48709","v":1.0416666999999999E-2},{"$f":"Parameters!L48709","v":1.0416666999999999E-2},{"$f":"Parameters!M48709","v":1.0416666999999999E-2},{"$f":"Parameters!N48709","v":1.0416666999999999E-2},{"$f":"Parameters!O48709","v":1.0416666999999999E-2},{"$f":"Parameters!P48709","v":1.0416666999999999E-2},{"$f":"Parameters!Q48709","v":1.0416666999999999E-2},{"$f":"Parameters!R48709","v":1.0416666999999999E-2},{"$f":"Parameters!S48709","v":1.0416666999999999E-2},{"$f":"Parameters!T48709","v":1.0416666999999999E-2},{"$f":"Parameters!U48709","v":1.0416666999999999E-2},{"$f":"Parameters!V48709","v":1.0416666999999999E-2},{"$f":"Parameters!W48709","v":1.0416666999999999E-2},{"$f":"Parameters!X48709","v":1.0416666999999999E-2},{"$f":"Parameters!Y48709","v":1.0416666999999999E-2},{"$f":"Parameters!Z48709","v":1.0416666999999999E-2},{"$f":"Parameters!AA48709","v":1.0416666999999999E-2},{"$f":"Parameters!AB48709","v":1.0416666999999999E-2},{"$f":"Parameters!AC48709","v":1.0416666999999999E-2},{"$f":"Parameters!AD48709","v":1.0416666999999999E-2},{"$f":"Parameters!AE48709","v":1.0416666999999999E-2},{"$f":"Parameters!AF48709","v":1.0416666999999999E-2},{"$f":"Parameters!AG48709","v":1.0416666999999999E-2},{"$f":"Parameters!AH48709","v":1.0416666999999999E-2},{"$f":"Parameters!AI48709","v":1.0416666999999999E-2},{"$f":"Parameters!AJ48709","v":1.0416666999999999E-2},{"$f":"Parameters!AK48709","v":1.0416666999999999E-2},{"$f":"Parameters!AL48709","v":1.0416666999999999E-2},{"$f":"Parameters!AM48709","v":1.0416666999999999E-2},{"$f":"Parameters!AN48709","v":1.0416666999999999E-2},{"$f":"Parameters!AO48709","v":1.0416666999999999E-2},{"$f":"Parameters!AP48709","v":1.0416666999999999E-2},{"$f":"Parameters!AQ48709","v":1.0416666999999999E-2},{"$f":"Parameters!AR48709","v":1.0416666999999999E-2},{"$f":"Parameters!AS48709","v":1.0416666999999999E-2},{"$f":"Parameters!AT48709","v":1.0416666999999999E-2},{"$f":"Parameters!AU48709","v":1.0416666999999999E-2},{"$f":"Parameters!AV48709","v":1.0416666999999999E-2},{"$f":"Parameters!AW48709","v":1.0416666999999999E-2},{"$f":"Parameters!AX48709","v":1.0416666999999999E-2},{"$f":"Parameters!AY48709","v":1.0416666999999999E-2},{"$f":"Parameters!AZ48709","v":1.0416666999999999E-2},{"$f":"Parameters!BA48709","v":1.0416666999999999E-2},{"$f":"Parameters!BB48709","v":1.0416666999999999E-2},{"$f":"Parameters!BC48709","v":1.0416666999999999E-2},{"$f":"Parameters!BD48709","v":1.0416666999999999E-2},{"$f":"Parameters!BE48709","v":1.0416666999999999E-2},{"$f":"Parameters!BF48709","v":1.0416666999999999E-2},{"$f":"Parameters!BG48709","v":1.0416666999999999E-2},{"$f":"Parameters!BH48709","v":1.0416666999999999E-2},{"$f":"Parameters!BI48709","v":1.0416666999999999E-2},{"$f":"Parameters!BJ48709","v":1.0416666999999999E-2},{"$f":"Parameters!BK48709","v":1.0416666999999999E-2},{"$f":"Parameters!BL48709","v":1.0416666999999999E-2},{"$f":"Parameters!BM48709","v":1.0416666999999999E-2},{"$f":"Parameters!BN48709","v":1.0416666999999999E-2}]
["S301",{"$f":"Parameters!K48710","v":1.0416666999999999E-2},{"$f":"Parameters!L48710","v":1.0416666999999999E-2},{"$f":"Parameters!M48710","v":1.0416666999999999E-2},{"$f":"Parameters!N48710","v":1.0416666999999999E-2},{"$f":"Parameters!O48710","v":1.0416666999999999E-2},{"$f":"Parameters!P48710","v":1.0416666999999999E-2},{"$f":"Parameters!Q48710","v":1.0416666999999999E-2},{"$f":"Parameters!R48710","v":1.0416666999999999E-2},{"$f":"Parameters!S48710","v":1.0416666999999999E-2},{"$f":"Parameters!T48710","v":1.0416666999999999E-2},{"$f":"Parameters!U48710","v":1.0416666999999999E-2},{"$f":"Parameters!V48710","v":1.0416666999999999E-2},{"$f":"Parameters!W48710","v":1.0416666999999999E-2},{"$f":"Parameters!X48710","v":1.0416666999999999E-2},{"$f":"Parameters!Y48710","v":1.0416666999999999E-2},{"$f":"Parameters!Z48710","v":1.0416666999999999E-2},{"$f":"Parameters!AA48710","v":1.0416666999999999E-2},{"$f":"Parameters!AB48710","v":1.0416666999999999E-2},{"$f":"Parameters!AC48710","v":1.0416666999999999E-2},{"$f":"Parameters!AD48710","v":1.0416666999999999E-2},{"$f":"Parameters!AE48710","v":1.0416666999999999E-2},{"$f":"Parameters!AF48710","v":1.0416666999999999E-2},{"$f":"Parameters!AG48710","v":1.0416666999999999E-2},{"$f":"Parameters!AH48710","v":1.0416666999999999E-2},{"$f":"Parameters!AI48710","v":1.0416666999999999E-2},{"$f":"Parameters!AJ48710","v":1.0416666999999999E-2},{"$f":"Parameters!AK48710","v":1.0416666999999999E-2},{"$f":"Parameters!AL48710","v":1.0416666999999999E-2},{"$f":"Parameters!AM48710","v":1.0416666999999999E-2},{"$f":"Parameters!AN48710","v":1.0416666999999999E-2},{"$f":"Parameters!AO48710","v":1.0416666999999999E-2},{"$f":"Parameters!AP48710","v":1.0416666999999999E-2},{"$f":"Parameters!AQ48710","v":1.0416666999999999E-2},{"$f":"Parameters!AR48710","v":1.0416666999999999E-2},{"$f":"Parameters!AS48710","v":1.0416666999999999E-2},{"$f":"Parameters!AT48710","v":1.0416666999999999E-2},{"$f":"Parameters!AU48710","v":1.0416666999999999E-2},{"$f":"Parameters!AV48710","v":1.0416666999999999E-2},{"$f":"Parameters!AW48710","v":1.0416666999999999E-2},{"$f":"Parameters!AX48710","v":1.0416666999999999E-2},{"$f":"Parameters!AY48710","v":1.0416666999999999E-2},{"$f":"Parameters!AZ48710","v":1.0416666999999999E-2},{"$f":"Parameters!BA48710","v":1.0416666999999999E-2},{"$f":"Parameters!BB48710","v":1.0416666999999999E-2},{"$f":"Parameters!BC48710","v":1.0416666999999999E-2},{"$f":"Parameters!BD48710","v":1.0416666999999999E-2},{"$f":"Parameters!BE48710","v":1.0416666999999999E-2},{"$f":"Parameters!BF48710","v":1.0416666999999999E-2},{"$f":"Parameters!BG48710","v":1.0416666999999999E-2},{"$f":"Parameters!BH48710","v":1.0416666999999999E-2},{"$f":"Parameters!BI48710","v":1.0416666999999999E-2},{"$f":"Parameters!BJ48710","v":1.0416666999999999E-2},{"$f":"Parameters!BK48710","v":1.0416666999999999E-2},{"$f":"Parameters!BL48710","v":1.0416666999999999E-2},{"$f":"Parameters!BM48710","v":1.0416666999999999E-2},{"$f":"Parameters!BN48710","v":1.0416666999999999E-2}]
["S302",{"$f":"Parameters!K48711","v":1.0416666999999999E-2},{"$f":"Parameters!L48711","v":1.0416666999999999E-2},{"$f":"Parameters!M48711","v":1.0416666999999999E-2},{"$f":"Parameters!N48711","v":1.0416666999999999E-2},{"$f":"Parameters!O48711","v":1.0416666999999999E-2},{"$f":"Parameters!P48711","v":1.0416666999999999E-2},{"$f":"Parameters!Q48711","v":1.0416666999999999E-2},{"$f":"Parameters!R48711","v":1.0416666999999999E-2},{"$f":"Parameters!S48711","v":1.0416666999999999E-2},{"$f":"Parameters!T48711","v":1.0416666999999999E-2},{"$f":"Parameters!U48711","v":1.0416666999999999E-2},{"$f":"Parameters!V48711","v":1.0416666999999999E-2},{"$f":"Parameters!W48711","v":1.0416666999999999E-2},{"$f":"Parameters!X48711","v":1.0416666999999999E-2},{"$f":"Parameters!Y48711","v":1.0416666999999999E-2},{"$f":"Parameters!Z48711","v":1.0416666999999999E-2},{"$f":"Parameters!AA48711","v":1.0416666999999999E-2},{"$f":"Parameters!AB48711","v":1.0416666999999999E-2},{"$f":"Parameters!AC48711","v":1.0416666999999999E-2},{"$f":"Parameters!AD48711","v":1.0416666999999999E-2},{"$f":"Parameters!AE48711","v":1.0416666999999999E-2},{"$f":"Parameters!AF48711","v":1.0416666999999999E-2},{"$f":"Parameters!AG48711","v":1.0416666999999999E-2},{"$f":"Parameters!AH48711","v":1.0416666999999999E-2},{"$f":"Parameters!AI48711","v":1.0416666999999999E-2},{"$f":"Parameters!AJ48711","v":1.0416666999999999E-2},{"$f":"Parameters!AK48711","v":1.0416666999999999E-2},{"$f":"Parameters!AL48711","v":1.0416666999999999E-2},{"$f":"Parameters!AM48711","v":1.0416666999999999E-2},{"$f":"Parameters!AN48711","v":1.0416666999999999E-2},{"$f":"Parameters!AO48711","v":1.0416666999999999E-2},{"$f":"Parameters!AP48711","v":1.0416666999999999E-2},{"$f":"Parameters!AQ48711","v":1.0416666999999999E-2},{"$f":"Parameters!AR48711","v":1.0416666999999999E-2},{"$f":"Parameters!AS48711","v":1.0416666999999999E-2},{"$f":"Parameters!AT48711","v":1.0416666999999999E-2},{"$f":"Parameters!AU48711","v":1.0416666999999999E-2},{"$f":"Parameters!AV48711","v":1.0416666999999999E-2},{"$f":"Parameters!AW48711","v":1.0416666999999999E-2},{"$f":"Parameters!AX48711","v":1.0416666999999999E-2},{"$f":"Parameters!AY48711","v":1.0416666999999999E-2},{"$f":"Parameters!AZ48711","v":1.0416666999999999E-2},{"$f":"Parameters!BA48711","v":1.0416666999999999E-2},{"$f":"Parameters!BB48711","v":1.0416666999999999E-2},{"$f":"Parameters!BC48711","v":1.0416666999999999E-2},{"$f":"Parameters!BD48711","v":1.0416666999999999E-2},{"$f":"Parameters!BE48711","v":1.0416666999999999E-2},{"$f":"Parameters!BF48711","v":1.0416666999999999E-2},{"$f":"Parameters!BG48711","v":1.0416666999999999E-2},{"$f":"Parameters!BH48711","v":1.0416666999999999E-2},{"$f":"Parameters!BI48711","v":1.0416666999999999E-2},{"$f":"Parameters!BJ48711","v":1.0416666999999999E-2},{"$f":"Parameters!BK48711","v":1.0416666999999999E-2},{"$f":"Parameters!BL48711","v":1.0416666999999999E-2},{"$f":"Parameters!BM48711","v":1.0416666999999999E-2},{"$f":"Parameters!BN48711","v":1.0416666999999999E-2}]
["S303",{"$f":"Parameters!K48712","v":1.0416666999999999E-2},{"$f":"Parameters!L48712","v":1.0416666999999999E-2},{"$f":"Parameters!M48712","v":1.0416666999999999E-2},{"$f":"Parameters!N48712","v":1.0416666999999999E-2},{"$f":"Parameters!O48712","v":1.0416666999999999E-2},{"$f":"Parameters!P48712","v":1.0416666999999999E-2},{"$f":"Parameters!Q48712","v":1.0416666999999999E-2},{"$f":"Parameters!R48712","v":1.0416666999999999E-2},{"$f":"Parameters!S48712","v":1.0416666999999999E-2},{"$f":"Parameters!T48712","v":1.0416666999999999E-2},{"$f":"Parameters!U48712","v":1.0416666999999999E-2},{"$f":"Parameters!V48712","v":1.0416666999999999E-2},{"$f":"Parameters!W48712","v":1.0416666999999999E-2},{"$f":"Parameters!X48712","v":1.0416666999999999E-2},{"$f":"Parameters!Y48712","v":1.0416666999999999E-2},{"$f":"Parameters!Z48712","v":1.0416666999999999E-2},{"$f":"Parameters!AA48712","v":1.0416666999999999E-2},{"$f":"Parameters!AB48712","v":1.0416666999999999E-2},{"$f":"Parameters!AC48712","v":1.0416666999999999E-2},{"$f":"Parameters!AD48712","v":1.0416666999999999E-2},{"$f":"Parameters!AE48712","v":1.0416666999999999E-2},{"$f":"Parameters!AF48712","v":1.0416666999999999E-2},{"$f":"Parameters!AG48712","v":1.0416666999999999E-2},{"$f":"Parameters!AH48712","v":1.0416666999999999E-2},{"$f":"Parameters!AI48712","v":1.0416666999999999E-2},{"$f":"Parameters!AJ48712","v":1.0416666999999999E-2},{"$f":"Parameters!AK48712","v":1.0416666999999999E-2},{"$f":"Parameters!AL48712","v":1.0416666999999999E-2},{"$f":"Parameters!AM48712","v":1.0416666999999999E-2},{"$f":"Parameters!AN48712","v":1.0416666999999999E-2},{"$f":"Parameters!AO48712","v":1.0416666999999999E-2},{"$f":"Parameters!AP48712","v":1.0416666999999999E-2},{"$f":"Parameters!AQ48712","v":1.0416666999999999E-2},{"$f":"Parameters!AR48712","v":1.0416666999999999E-2},{"$f":"Parameters!AS48712","v":1.0416666999999999E-2},{"$f":"Parameters!AT48712","v":1.0416666999999999E-2},{"$f":"Parameters!AU48712","v":1.0416666999999999E-2},{"$f":"Parameters!AV48712","v":1.0416666999999999E-2},{"$f":"Parameters!AW48712","v":1.0416666999999999E-2},{"$f":"Parameters!AX48712","v":1.0416666999999999E-2},{"$f":"Parameters!AY48712","v":1.0416666999999999E-2},{"$f":"Parameters!AZ48712","v":1.0416666999999999E-2},{"$f":"Parameters!BA48712","v":1.0416666999999999E-2},{"$f":"Parameters!BB48712","v":1.0416666999999999E-2},{"$f":"Parameters!BC48712","v":1.0416666999999999E-2},{"$f":"Parameters!BD48712","v":1.0416666999999999E-2},{"$f":"Parameters!BE48712","v":1.0416666999999999E-2},{"$f":"Parameters!BF48712","v":1.0416666999999999E-2},{"$f":"Parameters!BG48712","v":1.0416666999999999E-2},{"$f":"Parameters!BH48712","v":1.0416666999999999E-2},{"$f":"Parameters!BI48712","v":1.0416666999999999E-2},{"$f":"Parameters!BJ48712","v":1.0416666999999999E-2},{"$f":"Parameters!BK48712","v":1.0416666999999999E-2},{"$f":"Parameters!BL48712","v":1.0416666999999999E-2},{"$f":"Parameters!BM48712","v":1.0416666999999999E-2},{"$f":"Parameters!BN48712","v":1.0416666999999999E-2}]
["S304",{"$f":"Parameters!K48713","v":1.0416666999999999E-2},{"$f":"Parameters!L48713","v":1.0416666999999999E-2},{"$f":"Parameters!M48713","v":1.0416666999999999E-2},{"$f":"Parameters!N48713","v":1.0416666999999999E-2},{"$f":"Parameters!O48713","v":1.0416666999999999E-2},{"$f":"Parameters!P48713","v":1.0416666999999999E-2},{"$f":"Parameters!Q48713","v":1.0416666999999999E-2},{"$f":"Parameters!R48713","v":1.0416666999999999E-2},{"$f":"Parameters!S48713","v":1.0416666999999999E-2},{"$f":"Parameters!T48713","v":1.0416666999999999E-2},{"$f":"Parameters!U48713","v":1.0416666999999999E-2},{"$f":"Parameters!V48713","v":1.0416666999999999E-2},{"$f":"Parameters!W48713","v":1.0416666999999999E-2},{"$f":"Parameters!X48713","v":1.0416666999999999E-2},{"$f":"Parameters!Y48713","v":1.0416666999999999E-2},{"$f":"Parameters!Z48713","v":1.0416666999999999E-2},{"$f":"Parameters!AA48713","v":1.0416666999999999E-2},{"$f":"Parameters!AB48713","v":1.0416666999999999E-2},{"$f":"Parameters!AC48713","v":1.0416666999999999E-2},{"$f":"Parameters!AD48713","v":1.0416666999999999E-2},{"$f":"Parameters!AE48713","v":1.0416666999999999E-2},{"$f":"Parameters!AF48713","v":1.0416666999999999E-2},{"$f":"Parameters!AG48713","v":1.0416666999999999E-2},{"$f":"Parameters!AH48713","v":1.0416666999999999E-2},{"$f":"Parameters!AI48713","v":1.0416666999999999E-2},{"$f":"Parameters!AJ48713","v":1.0416666999999999E-2},{"$f":"Parameters!AK48713","v":1.0416666999999999E-2},{"$f":"Parameters!AL48713","v":1.0416666999999999E-2},{"$f":"Parameters!AM48713","v":1.0416666999999999E-2},{"$f":"Parameters!AN48713","v":1.0416666999999999E-2},{"$f":"Parameters!AO48713","v":1.0416666999999999E-2},{"$f":"Parameters!AP48713","v":1.0416666999999999E-2},{"$f":"Parameters!AQ48713","v":1.0416666999999999E-2},{"$f":"Parameters!AR48713","v":1.0416666999999999E-2},{"$f":"Parameters!AS48713","v":1.0416666999999999E-2},{"$f":"Parameters!AT48713","v":1.0416666999999999E-2},{"$f":"Parameters!AU48713","v":1.0416666999999999E-2},{"$f":"Parameters!AV48713","v":1.0416666999999999E-2},{"$f":"Parameters!AW48713","v":1.0416666999999999E-2},{"$f":"Parameters!AX48713","v":1.0416666999999999E-2},{"$f":"Parameters!AY48713","v":1.0416666999999999E-2},{"$f":"Parameters!AZ48713","v":1.0416666999999999E-2},{"$f":"Parameters!BA48713","v":1.0416666999999999E-2},{"$f":"Parameters!BB48713","v":1.0416666999999999E-2},{"$f":"Parameters!BC48713","v":1.0416666999999999E-2},{"$f":"Parameters!BD48713","v":1.0416666999999999E-2},{"$f":"Parameters!BE48713","v":1.0416666999999999E-2},{"$f":"Parameters!BF48713","v":1.0416666999999999E-2},{"$f":"Parameters!BG48713","v":1.0416666999999999E-2},{"$f":"Parameters!BH48713","v":1.0416666999999999E-2},{"$f":"Parameters!BI48713","v":1.0416666999999999E-2},{"$f":"Parameters!BJ48713","v":1.0416666999999999E-2},{"$f":"Parameters!BK48713","v":1.0416666999999999E-2},{"$f":"Parameters!BL48713","v":1.0416666999999999E-2},{"$f":"Parameters!BM48713","v":1.0416666999999999E-2},{"$f":"Parameters!BN48713","v":1.0416666999999999E-2}]
["S305",{"$f":"Parameters!K48714","v":1.0416666999999999E-2},{"$f":"Parameters!L48714","v":1.0416666999999999E-2},{"$f":"Parameters!M48714","v":1.0416666999999999E-2},{"$f":"Parameters!N48714","v":1.0416666999999999E-2},{"$f":"Parameters!O48714","v":1.0416666999999999E-2},{"$f":"Parameters!P48714","v":1.0416666999999999E-2},{"$f":"Parameters!Q48714","v":1.0416666999999999E-2},{"$f":"Parameters!R48714","v":1.0416666999999999E-2},{"$f":"Parameters!S48714","v":1.0416666999999999E-2},{"$f":"Parameters!T48714","v":1.0416666999999999E-2},{"$f":"Parameters!U48714","v":1.0416666999999999E-2},{"$f":"Parameters!V48714","v":1.0416666999999999E-2},{"$f":"Parameters!W48714","v":1.0416666999999999E-2},{"$f":"Parameters!X48714","v":1.0416666999999999E-2},{"$f":"Parameters!Y48714","v":1.0416666999999999E-2},{"$f":"Parameters!Z48714","v":1.0416666999999999E-2},{"$f":"Parameters!AA48714","v":1.0416666999999999E-2},{"$f":"Parameters!AB48714","v":1.0416666999999999E-2},{"$f":"Parameters!AC48714","v":1.0416666999999999E-2},{"$f":"Parameters!AD48714","v":1.0416666999999999E-2},{"$f":"Parameters!AE48714","v":1.0416666999999999E-2},{"$f":"Parameters!AF48714","v":1.0416666999999999E-2},{"$f":"Parameters!AG48714","v":1.0416666999999999E-2},{"$f":"Parameters!AH48714","v":1.0416666999999999E-2},{"$f":"Parameters!AI48714","v":1.0416666999999999E-2},{"$f":"Parameters!AJ48714","v":1.0416666999999999E-2},{"$f":"Parameters!AK48714","v":1.0416666999999999E-2},{"$f":"Parameters!AL48714","v":1.0416666999999999E-2},{"$f":"Parameters!AM48714","v":1.0416666999999999E-2},{"$f":"Parameters!AN48714","v":1.0416666999999999E-2},{"$f":"Parameters!AO48714","v":1.0416666999999999E-2},{"$f":"Parameters!AP48714","v":1.0416666999999999E-2},{"$f":"Parameters!AQ48714","v":1.0416666999999999E-2},{"$f":"Parameters!AR48714","v":1.0416666999999999E-2},{"$f":"Parameters!AS48714","v":1.0416666999999999E-2},{"$f":"Parameters!AT48714","v":1.0416666999999999E-2},{"$f":"Parameters!AU48714","v":1.0416666999999999E-2},{"$f":"Parameters!AV48714","v":1.0416666999999999E-2},{"$f":"Parameters!AW48714","v":1.0416666999999999E-2},{"$f":"Parameters!AX48714","v":1.0416666999999999E-2},{"$f":"Parameters!AY48714","v":1.0416666999999999E-2},{"$f":"Parameters!AZ48714","v":1.0416666999999999E-2},{"$f":"Parameters!BA48714","v":1.0416666999999999E-2},{"$f":"Parameters!BB48714","v":1.0416666999999999E-2},{"$f":"Parameters!BC48714","v":1.0416666999999999E-2},{"$f":"Parameters!BD48714","v":1.0416666999999999E-2},{"$f":"Parameters!BE48714","v":1.0416666999999999E-2},{"$f":"Parameters!BF48714","v":1.0416666999999999E-2},{"$f":"Parameters!BG48714","v":1.0416666999999999E-2},{"$f":"Parameters!BH48714","v":1.0416666999999999E-2},{"$f":"Parameters!BI48714","v":1.0416666999999999E-2},{"$f":"Parameters!BJ48714","v":1.0416666999999999E-2},{"$f":"Parameters!BK48714","v":1.0416666999999999E-2},{"$f":"Parameters!BL48714","v":1.0416666999999999E-2},{"$f":"Parameters!BM48714","v":1.0416666999999999E-2},{"$f":"Parameters!BN48714","v":1.0416666999999999E-2}]
["S306",{"$f":"Parameters!K48715","v":1.0416666999999999E-2},{"$f":"Parameters!L48715","v":1.0416666999999999E-2},{"$f":"Parameters!M48715","v":1.0416666999999999E-2},{"$f":"Parameters!N48715","v":1.0416666999999999E-2},{"$f":"Parameters!O48715","v":1.0416666999999999E-2},{"$f":"Parameters!P48715","v":1.0416666999999999E-2},{"$f":"Parameters!Q48715","v":1.0416666999999999E-2},{"$f":"Parameters!R48715","v":1.0416666999999999E-2},{"$f":"Parameters!S48715","v":1.0416666999999999E-2},{"$f":"Parameters!T48715","v":1.0416666999999999E-2},{"$f":"Parameters!U48715","v":1.0416666999999999E-2},{"$f":"Parameters!V48715","v":1.0416666999999999E-2},{"$f":"Parameters!W48715","v":1.0416666999999999E-2},{"$f":"Parameters!X48715","v":1.0416666999999999E-2},{"$f":"Parameters!Y48715","v":1.0416666999999999E-2},{"$f":"Parameters!Z48715","v":1.0416666999999999E-2},{"$f":"Parameters!AA48715","v":1.0416666999999999E-2},{"$f":"Parameters!AB48715","v":1.0416666999999999E-2},{"$f":"Parameters!AC48715","v":1.0416666999999999E-2},{"$f":"Parameters!AD48715","v":1.0416666999999999E-2},{"$f":"Parameters!AE48715","v":1.0416666999999999E-2},{"$f":"Parameters!AF48715","v":1.0416666999999999E-2},{"$f":"Parameters!AG48715","v":1.0416666999999999E-2},{"$f":"Parameters!AH48715","v":1.0416666999999999E-2},{"$f":"Parameters!AI48715","v":1.0416666999999999E-2},{"$f":"Parameters!AJ48715","v":1.0416666999999999E-2},{"$f":"Parameters!AK48715","v":1.0416666999999999E-2},{"$f":"Parameters!AL48715","v":1.0416666999999999E-2},{"$f":"Parameters!AM48715","v":1.0416666999999999E-2},{"$f":"Parameters!AN48715","v":1.0416666999999999E-2},{"$f":"Parameters!AO48715","v":1.0416666999999999E-2},{"$f":"Parameters!AP48715","v":1.0416666999999999E-2},{"$f":"Parameters!AQ48715","v":1.0416666999999999E-2},{"$f":"Parameters!AR48715","v":1.0416666999999999E-2},{"$f":"Parameters!AS48715","v":1.0416666999999999E-2},{"$f":"Parameters!AT48715","v":1.0416666999999999E-2},{"$f":"Parameters!AU48715","v":1.0416666999999999E-2},{"$f":"Parameters!AV48715","v":1.0416666999999999E-2},{"$f":"Parameters!AW48715","v":1.0416666999999999E-2},{"$f":"Parameters!AX48715","v":1.0416666999999999E-2},{"$f":"Parameters!AY48715","v":1.0416666999999999E-2},{"$f":"Parameters!AZ48715","v":1.0416666999999999E-2},{"$f":"Parameters!BA48715","v":1.0416666999999999E-2},{"$f":"Parameters!BB48715","v":1.0416666999999999E-2},{"$f":"Parameters!BC48715","v":1.0416666999999999E-2},{"$f":"Parameters!BD48715","v":1.0416666999999999E-2},{"$f":"Parameters!BE48715","v":1.0416666999999999E-2},{"$f":"Parameters!BF48715","v":1.0416666999999999E-2},{"$f":"Parameters!BG48715","v":1.0416666999999999E-2},{"$f":"Parameters!BH48715","v":1.0416666999999999E-2},{"$f":"Parameters!BI48715","v":1.0416666999999999E-2},{"$f":"Parameters!BJ48715","v":1.0416666999999999E-2},{"$f":"Parameters!BK48715","v":1.0416666999999999E-2},{"$f":"Parameters!BL48715","v":1.0416666999999999E-2},{"$f":"Parameters!BM48715","v":1.0416666999999999E-2},{"$f":"Parameters!BN48715","v":1.0416666999999999E-2}]
["S307",{"$f":"Parameters!K48716","v":1.0416666999999999E-2},{"$f":"Parameters!L48716","v":1.0416666999999999E-2},{"$f":"Parameters!M48716","v":1.0416666999999999E-2},{"$f":"Parameters!N48716","v":1.0416666999999999E-2},{"$f":"Parameters!O48716","v":1.0416666999999999E-2},{"$f":"Parameters!P48716","v":1.0416666999999999E-2},{"$f":"Parameters!Q48716","v":1.0416666999999999E-2},{"$f":"Parameters!R48716","v":1.0416666999999999E-2},{"$f":"Parameters!S48716","v":1.0416666999999999E-2},{"$f":"Parameters!T48716","v":1.0416666999999999E-2},{"$f":"Parameters!U48716","v":1.0416666999999999E-2},{"$f":"Parameters!V48716","v":1.0416666999999999E-2},{"$f":"Parameters!W48716","v":1.0416666999999999E-2},{"$f":"Parameters!X48716","v":1.0416666999999999E-2},{"$f":"Parameters!Y48716","v":1.0416666999999999E-2},{"$f":"Parameters!Z48716","v":1.0416666999999999E-2},{"$f":"Parameters!AA48716","v":1.0416666999999999E-2},{"$f":"Parameters!AB48716","v":1.0416666999999999E-2},{"$f":"Parameters!AC48716","v":1.0416666999999999E-2},{"$f":"Parameters!AD48716","v":1.0416666999999999E-2},{"$f":"Parameters!AE48716","v":1.0416666999999999E-2},{"$f":"Parameters!AF48716","v":1.0416666999999999E-2},{"$f":"Parameters!AG48716","v":1.0416666999999999E-2},{"$f":"Parameters!AH48716","v":1.0416666999999999E-2},{"$f":"Parameters!AI48716","v":1.0416666999999999E-2},{"$f":"Parameters!AJ48716","v":1.0416666999999999E-2},{"$f":"Parameters!AK48716","v":1.0416666999999999E-2},{"$f":"Parameters!AL48716","v":1.0416666999999999E-2},{"$f":"Parameters!AM48716","v":1.0416666999999999E-2},{"$f":"Parameters!AN48716","v":1.0416666999999999E-2},{"$f":"Parameters!AO48716","v":1.0416666999999999E-2},{"$f":"Parameters!AP48716","v":1.0416666999999999E-2},{"$f":"Parameters!AQ48716","v":1.0416666999999999E-2},{"$f":"Parameters!AR48716","v":1.0416666999999999E-2},{"$f":"Parameters!AS48716","v":1.0416666999999999E-2},{"$f":"Parameters!AT48716","v":1.0416666999999999E-2},{"$f":"Parameters!AU48716","v":1.0416666999999999E-2},{"$f":"Parameters!AV48716","v":1.0416666999999999E-2},{"$f":"Parameters!AW48716","v":1.0416666999999999E-2},{"$f":"Parameters!AX48716","v":1.0416666999999999E-2},{"$f":"Parameters!AY48716","v":1.0416666999999999E-2},{"$f":"Parameters!AZ48716","v":1.0416666999999999E-2},{"$f":"Parameters!BA48716","v":1.0416666999999999E-2},{"$f":"Parameters!BB48716","v":1.0416666999999999E-2},{"$f":"Parameters!BC48716","v":1.0416666999999999E-2},{"$f":"Parameters!BD48716","v":1.0416666999999999E-2},{"$f":"Parameters!BE48716","v":1.0416666999999999E-2},{"$f":"Parameters!BF48716","v":1.0416666999999999E-2},{"$f":"Parameters!BG48716","v":1.0416666999999999E-2},{"$f":"Parameters!BH48716","v":1.0416666999999999E-2},{"$f":"Parameters!BI48716","v":1.0416666999999999E-2},{"$f":"Parameters!BJ48716","v":1.0416666999999999E-2},{"$f":"Parameters!BK48716","v":1.0416666999999999E-2},{"$f":"Parameters!BL48716","v":1.0416666999999999E-2},{"$f":"Parameters!BM48716","v":1.0416666999999999E-2},{"$f":"Parameters!BN48716","v":1.0416666999999999E-2}]
["S308",{"$f":"Parameters!K48717","v":1.0416666999999999E-2},{"$f":"Parameters!L48717","v":1.0416666999999999E-2},{"$f":"Parameters!M48717","v":1.0416666999999999E-2},{"$f":"Parameters!N48717","v":1.0416666999999999E-2},{"$f":"Parameters!O48717","v":1.0416666999999999E-2},{"$f":"Parameters!P48717","v":1.0416666999999999E-2},{"$f":"Parameters!Q48717","v":1.0416666999999999E-2},{"$f":"Parameters!R48717","v":1.0416666999999999E-2},{"$f":"Parameters!S48717","v":1.0416666999999999E-2},{"$f":"Parameters!T48717","v":1.0416666999999999E-2},{"$f":"Parameters!U48717","v":1.0416666999999999E-2},{"$f":"Parameters!V48717","v":1.0416666999999999E-2},{"$f":"Parameters!W48717","v":1.0416666999999999E-2},{"$f":"Parameters!X48717","v":1.0416666999999999E-2},{"$f":"Parameters!Y48717","v":1.0416666999999999E-2},{"$f":"Parameters!Z48717","v":1.0416666999999999E-2},{"$f":"Parameters!AA48717","v":1.0416666999999999E-2},{"$f":"Parameters!AB48717","v":1.0416666999999999E-2},{"$f":"Parameters!AC48717","v":1.0416666999999999E-2},{"$f":"Parameters!AD48717","v":1.0416666999999999E-2},{"$f":"Parameters!AE48717","v":1.0416666999999999E-2},{"$f":"Parameters!AF48717","v":1.0416666999999999E-2},{"$f":"Parameters!AG48717","v":1.0416666999999999E-2},{"$f":"Parameters!AH48717","v":1.0416666999999999E-2},{"$f":"Parameters!AI48717","v":1.0416666999999999E-2},{"$f":"Parameters!AJ48717","v":1.0416666999999999E-2},{"$f":"Parameters!AK48717","v":1.0416666999999999E-2},{"$f":"Parameters!AL48717","v":1.0416666999999999E-2},{"$f":"Parameters!AM48717","v":1.0416666999999999E-2},{"$f":"Parameters!AN48717","v":1.0416666999999999E-2},{"$f":"Parameters!AO48717","v":1.0416666999999999E-2},{"$f":"Parameters!AP48717","v":1.0416666999999999E-2},{"$f":"Parameters!AQ48717","v":1.0416666999999999E-2},{"$f":"Parameters!AR48717","v":1.0416666999999999E-2},{"$f":"Parameters!AS48717","v":1.0416666999999999E-2},{"$f":"Parameters!AT48717","v":1.0416666999999999E-2},{"$f":"Parameters!AU48717","v":1.0416666999999999E-2},{"$f":"Parameters!AV48717","v":1.0416666999999999E-2},{"$f":"Parameters!AW48717","v":1.0416666999999999E-2},{"$f":"Parameters!AX48717","v":1.0416666999999999E-2},{"$f":"Parameters!AY48717","v":1.0416666999999999E-2},{"$f":"Parameters!AZ48717","v":1.0416666999999999E-2},{"$f":"Parameters!BA48717","v":1.0416666999999999E-2},{"$f":"Parameters!BB48717","v":1.0416666999999999E-2},{"$f":"Parameters!BC48717","v":1.0416666999999999E-2},{"$f":"Parameters!BD48717","v":1.0416666999999999E-2},{"$f":"Parameters!BE48717","v":1.0416666999999999E-2},{"$f":"Parameters!BF48717","v":1.0416666999999999E-2},{"$f":"Parameters!BG48717","v":1.0416666999999999E-2},{"$f":"Parameters!BH48717","v":1.0416666999999999E-2},{"$f":"Parameters!BI48717","v":1.0416666999999999E-2},{"$f":"Parameters!BJ48717","v":1.0416666999999999E-2},{"$f":"Parameters!BK48717","v":1.0416666999999999E-2},{"$f":"Parameters!BL48717","v":1.0416666999999999E-2},{"$f":"Parameters!BM48717","v":1.0416666999999999E-2},{"$f":"Parameters!BN48717","v":1.0416666999999999E-2}]
["S309",{"$f":"Parameters!K48718","v":1.0416666999999999E-2},{"$f":"Parameters!L48718","v":1.0416666999999999E-2},{"$f":"Parameters!M48718","v":1.0416666999999999E-2},{"$f":"Parameters!N48718","v":1.0416666999999999E-2},{"$f":"Parameters!O48718","v":1.0416666999999999E-2},{"$f":"Parameters!P48718","v":1.0416666999999999E-2},{"$f":"Parameters!Q48718","v":1.0416666999999999E-2},{"$f":"Parameters!R48718","v":1.0416666999999999E-2},{"$f":"Parameters!S48718","v":1.0416666999999999E-2},{"$f":"Parameters!T48718","v":1.0416666999999999E-2},{"$f":"Parameters!U48718","v":1.0416666999999999E-2},{"$f":"Parameters!V48718","v":1.0416666999999999E-2},{"$f":"Parameters!W48718","v":1.0416666999999999E-2},{"$f":"Parameters!X48718","v":1.0416666999999999E-2},{"$f":"Parameters!Y48718","v":1.0416666999999999E-2},{"$f":"Parameters!Z48718","v":1.0416666999999999E-2},{"$f":"Parameters!AA48718","v":1.0416666999999999E-2},{"$f":"Parameters!AB48718","v":1.0416666999999999E-2},{"$f":"Parameters!AC48718","v":1.0416666999999999E-2},{"$f":"Parameters!AD48718","v":1.0416666999999999E-2},{"$f":"Parameters!AE48718","v":1.0416666999999999E-2},{"$f":"Parameters!AF48718","v":1.0416666999999999E-2},{"$f":"Parameters!AG48718","v":1.0416666999999999E-2},{"$f":"Parameters!AH48718","v":1.0416666999999999E-2},{"$f":"Parameters!AI48718","v":1.0416666999999999E-2},{"$f":"Parameters!AJ48718","v":1.0416666999999999E-2},{"$f":"Parameters!AK48718","v":1.0416666999999999E-2},{"$f":"Parameters!AL48718","v":1.0416666999999999E-2},{"$f":"Parameters!AM48718","v":1.0416666999999999E-2},{"$f":"Parameters!AN48718","v":1.0416666999999999E-2},{"$f":"Parameters!AO48718","v":1.0416666999999999E-2},{"$f":"Parameters!AP48718","v":1.0416666999999999E-2},{"$f":"Parameters!AQ48718","v":1.0416666999999999E-2},{"$f":"Parameters!AR48718","v":1.0416666999999999E-2},{"$f":"Parameters!AS48718","v":1.0416666999999999E-2},{"$f":"Parameters!AT48718","v":1.0416666999999999E-2},{"$f":"Parameters!AU48718","v":1.0416666999999999E-2},{"$f":"Parameters!AV48718","v":1.0416666999999999E-2},{"$f":"Parameters!AW48718","v":1.0416666999999999E-2},{"$f":"Parameters!AX48718","v":1.0416666999999999E-2},{"$f":"Parameters!AY48718","v":1.0416666999999999E-2},{"$f":"Parameters!AZ48718","v":1.0416666999999999E-2},{"$f":"Parameters!BA48718","v":1.0416666999999999E-2},{"$f":"Parameters!BB48718","v":1.0416666999999999E-2},{"$f":"Parameters!BC48718","v":1.0416666999999999E-2},{"$f":"Parameters!BD48718","v":1.0416666999999999E-2},{"$f":"Parameters!BE48718","v":1.0416666999999999E-2},{"$f":"Parameters!BF48718","v":1.0416666999999999E-2},{"$f":"Parameters!BG48718","v":1.0416666999999999E-2},{"$f":"Parameters!BH48718","v":1.0416666999999999E-2},{"$f":"Parameters!BI48718","v":1.0416666999999999E-2},{"$f":"Parameters!BJ48718","v":1.0416666999999999E-2},{"$f":"Parameters!BK48718","v":1.0416666999999999E-2},{"$f":"Parameters!BL48718","v":1.0416666999999999E-2},{"$f":"Parameters!BM48718","v":1.0416666999999999E-2},{"$f":"Parameters!BN48718","v":1.0416666999999999E-2}]
["S310",{"$f":"Parameters!K48719","v":1.0416666999999999E-2},{"$f":"Parameters!L48719","v":1.0416666999999999E-2},{"$f":"Parameters!M48719","v":1.0416666999999999E-2},{"$f":"Parameters!N48719","v":1.0416666999999999E-2},{"$f":"Parameters!O48719","v":1.0416666999999999E-2},{"$f":"Parameters!P48719","v":1.0416666999999999E-2},{"$f":"Parameters!Q48719","v":1.0416666999999999E-2},{"$f":"Parameters!R48719","v":1.0416666999999999E-2},{"$f":"Parameters!S48719","v":1.0416666999999999E-2},{"$f":"Parameters!T48719","v":1.0416666999999999E-2},{"$f":"Parameters!U48719","v":1.0416666999999999E-2},{"$f":"Parameters!V48719","v":1.0416666999999999E-2},{"$f":"Parameters!W48719","v":1.0416666999999999E-2},{"$f":"Parameters!X48719","v":1.0416666999999999E-2},{"$f":"Parameters!Y48719","v":1.0416666999999999E-2},{"$f":"Parameters!Z48719","v":1.0416666999999999E-2},{"$f":"Parameters!AA48719","v":1.0416666999999999E-2},{"$f":"Parameters!AB48719","v":1.0416666999999999E-2},{"$f":"Parameters!AC48719","v":1.0416666999999999E-2},{"$f":"Parameters!AD48719","v":1.0416666999999999E-2},{"$f":"Parameters!AE48719","v":1.0416666999999999E-2},{"$f":"Parameters!AF48719","v":1.0416666999999999E-2},{"$f":"Parameters!AG48719","v":1.0416666999999999E-2},{"$f":"Parameters!AH48719","v":1.0416666999999999E-2},{"$f":"Parameters!AI48719","v":1.0416666999999999E-2},{"$f":"Parameters!AJ48719","v":1.0416666999999999E-2},{"$f":"Parameters!AK48719","v":1.0416666999999999E-2},{"$f":"Parameters!AL48719","v":1.0416666999999999E-2},{"$f":"Parameters!AM48719","v":1.0416666999999999E-2},{"$f":"Parameters!AN48719","v":1.0416666999999999E-2},{"$f":"Parameters!AO48719","v":1.0416666999999999E-2},{"$f":"Parameters!AP48719","v":1.0416666999999999E-2},{"$f":"Parameters!AQ48719","v":1.0416666999999999E-2},{"$f":"Parameters!AR48719","v":1.0416666999999999E-2},{"$f":"Parameters!AS48719","v":1.0416666999999999E-2},{"$f":"Parameters!AT48719","v":1.0416666999999999E-2},{"$f":"Parameters!AU48719","v":1.0416666999999999E-2},{"$f":"Parameters!AV48719","v":1.0416666999999999E-2},{"$f":"Parameters!AW48719","v":1.0416666999999999E-2},{"$f":"Parameters!AX48719","v":1.0416666999999999E-2},{"$f":"Parameters!AY48719","v":1.0416666999999999E-2},{"$f":"Parameters!AZ48719","v":1.0416666999999999E-2},{"$f":"Parameters!BA48719","v":1.0416666999999999E-2},{"$f":"Parameters!BB48719","v":1.0416666999999999E-2},{"$f":"Parameters!BC48719","v":1.0416666999999999E-2},{"$f":"Parameters!BD48719","v":1.0416666999999999E-2},{"$f":"Parameters!BE48719","v":1.0416666999999999E-2},{"$f":"Parameters!BF48719","v":1.0416666999999999E-2},{"$f":"Parameters!BG48719","v":1.0416666999999999E-2},{"$f":"Parameters!BH48719","v":1.0416666999999999E-2},{"$f":"Parameters!BI48719","v":1.0416666999999999E-2},{"$f":"Parameters!BJ48719","v":1.0416666999999999E-2},{"$f":"Parameters!BK48719","v":1.0416666999999999E-2},{"$f":"Parameters!BL48719","v":1.0416666999999999E-2},{"$f":"Parameters!BM48719","v":1.0416666999999999E-2},{"$f":"Parameters!BN48719","v":1.0416666999999999E-2}]
["S311",{"$f":"Parameters!K48720","v":1.0416666999999999E-2},{"$f":"Parameters!L48720","v":1.0416666999999999E-2},{"$f":"Parameters!M48720","v":1.0416666999999999E-2},{"$f":"Parameters!N48720","v":1.0416666999999999E-2},{"$f":"Parameters!O48720","v":1.0416666999999999E-2},{"$f":"Parameters!P48720","v":1.0416666999999999E-2},{"$f":"Parameters!Q48720","v":1.0416666999999999E-2},{"$f":"Parameters!R48720","v":1.0416666999999999E-2},{"$f":"Parameters!S48720","v":1.0416666999999999E-2},{"$f":"Parameters!T48720","v":1.0416666999999999E-2},{"$f":"Parameters!U48720","v":1.0416666999999999E-2},{"$f":"Parameters!V48720","v":1.0416666999999999E-2},{"$f":"Parameters!W48720","v":1.0416666999999999E-2},{"$f":"Parameters!X48720","v":1.0416666999999999E-2},{"$f":"Parameters!Y48720","v":1.0416666999999999E-2},{"$f":"Parameters!Z48720","v":1.0416666999999999E-2},{"$f":"Parameters!AA48720","v":1.0416666999999999E-2},{"$f":"Parameters!AB48720","v":1.0416666999999999E-2},{"$f":"Parameters!AC48720","v":1.0416666999999999E-2},{"$f":"Parameters!AD48720","v":1.0416666999999999E-2},{"$f":"Parameters!AE48720","v":1.0416666999999999E-2},{"$f":"Parameters!AF48720","v":1.0416666999999999E-2},{"$f":"Parameters!AG48720","v":1.0416666999999999E-2},{"$f":"Parameters!AH48720","v":1.0416666999999999E-2},{"$f":"Parameters!AI48720","v":1.0416666999999999E-2},{"$f":"Parameters!AJ48720","v":1.0416666999999999E-2},{"$f":"Parameters!AK48720","v":1.0416666999999999E-2},{"$f":"Parameters!AL48720","v":1.0416666999999999E-2},{"$f":"Parameters!AM48720","v":1.0416666999999999E-2},{"$f":"Parameters!AN48720","v":1.0416666999999999E-2},{"$f":"Parameters!AO48720","v":1.0416666999999999E-2},{"$f":"Parameters!AP48720","v":1.0416666999999999E-2},{"$f":"Parameters!AQ48720","v":1.0416666999999999E-2},{"$f":"Parameters!AR48720","v":1.0416666999999999E-2},{"$f":"Parameters!AS48720","v":1.0416666999999999E-2},{"$f":"Parameters!AT48720","v":1.0416666999999999E-2},{"$f":"Parameters!AU48720","v":1.0416666999999999E-2},{"$f":"Parameters!AV48720","v":1.0416666999999999E-2},{"$f":"Parameters!AW48720","v":1.0416666999999999E-2},{"$f":"Parameters!AX48720","v":1.0416666999999999E-2},{"$f":"Parameters!AY48720","v":1.0416666999999999E-2},{"$f":"Parameters!AZ48720","v":1.0416666999999999E-2},{"$f":"Parameters!BA48720","v":1.0416666999999999E-2},{"$f":"Parameters!BB48720","v":1.0416666999999999E-2},{"$f":"Parameters!BC48720","v":1.0416666999999999E-2},{"$f":"Parameters!BD48720","v":1.0416666999999999E-2},{"$f":"Parameters!BE48720","v":1.0416666999999999E-2},{"$f":"Parameters!BF48720","v":1.0416666999999999E-2},{"$f":"Parameters!BG48720","v":1.0416666999999999E-2},{"$f":"Parameters!BH48720","v":1.0416666999999999E-2},{"$f":"Parameters!BI48720","v":1.0416666999999999E-2},{"$f":"Parameters!BJ48720","v":1.0416666999999999E-2},{"$f":"Parameters!BK48720","v":1.0416666999999999E-2},{"$f":"Parameters!BL48720","v":1.0416666999999999E-2},{"$f":"Parameters!BM48720","v":1.0416666999999999E-2},{"$f":"Parameters!BN48720","v":1.0416666999999999E-2}]
["S312",{"$f":"Parameters!K48721","v":1.0416666999999999E-2},{"$f":"Parameters!L48721","v":1.0416666999999999E-2},{"$f":"Parameters!M48721","v":1.0416666999999999E-2},{"$f":"Parameters!N48721","v":1.0416666999999999E-2},{"$f":"Parameters!O48721","v":1.0416666999999999E-2},{"$f":"Parameters!P48721","v":1.0416666999999999E-2},{"$f":"Parameters!Q48721","v":1.0416666999999999E-2},{"$f":"Parameters!R48721","v":1.0416666999999999E-2},{"$f":"Parameters!S48721","v":1.0416666999999999E-2},{"$f":"Parameters!T48721","v":1.0416666999999999E-2},{"$f":"Parameters!U48721","v":1.0416666999999999E-2},{"$f":"Parameters!V48721","v":1.0416666999999999E-2},{"$f":"Parameters!W48721","v":1.0416666999999999E-2},{"$f":"Parameters!X48721","v":1.0416666999999999E-2},{"$f":"Parameters!Y48721","v":1.0416666999999999E-2},{"$f":"Parameters!Z48721","v":1.0416666999999999E-2},{"$f":"Parameters!AA48721","v":1.0416666999999999E-2},{"$f":"Parameters!AB48721","v":1.0416666999999999E-2},{"$f":"Parameters!AC48721","v":1.0416666999999999E-2},{"$f":"Parameters!AD48721","v":1.0416666999999999E-2},{"$f":"Parameters!AE48721","v":1.0416666999999999E-2},{"$f":"Parameters!AF48721","v":1.0416666999999999E-2},{"$f":"Parameters!AG48721","v":1.0416666999999999E-2},{"$f":"Parameters!AH48721","v":1.0416666999999999E-2},{"$f":"Parameters!AI48721","v":1.0416666999999999E-2},{"$f":"Parameters!AJ48721","v":1.0416666999999999E-2},{"$f":"Parameters!AK48721","v":1.0416666999999999E-2},{"$f":"Parameters!AL48721","v":1.0416666999999999E-2},{"$f":"Parameters!AM48721","v":1.0416666999999999E-2},{"$f":"Parameters!AN48721","v":1.0416666999999999E-2},{"$f":"Parameters!AO48721","v":1.0416666999999999E-2},{"$f":"Parameters!AP48721","v":1.0416666999999999E-2},{"$f":"Parameters!AQ48721","v":1.0416666999999999E-2},{"$f":"Parameters!AR48721","v":1.0416666999999999E-2},{"$f":"Parameters!AS48721","v":1.0416666999999999E-2},{"$f":"Parameters!AT48721","v":1.0416666999999999E-2},{"$f":"Parameters!AU48721","v":1.0416666999999999E-2},{"$f":"Parameters!AV48721","v":1.0416666999999999E-2},{"$f":"Parameters!AW48721","v":1.0416666999999999E-2},{"$f":"Parameters!AX48721","v":1.0416666999999999E-2},{"$f":"Parameters!AY48721","v":1.0416666999999999E-2},{"$f":"Parameters!AZ48721","v":1.0416666999999999E-2},{"$f":"Parameters!BA48721","v":1.0416666999999999E-2},{"$f":"Parameters!BB48721","v":1.0416666999999999E-2},{"$f":"Parameters!BC48721","v":1.0416666999999999E-2},{"$f":"Parameters!BD48721","v":1.0416666999999999E-2},{"$f":"Parameters!BE48721","v":1.0416666999999999E-2},{"$f":"Parameters!BF48721","v":1.0416666999999999E-2},{"$f":"Parameters!BG48721","v":1.0416666999999999E-2},{"$f":"Parameters!BH48721","v":1.0416666999999999E-2},{"$f":"Parameters!BI48721","v":1.0416666999999999E-2},{"$f":"Parameters!BJ48721","v":1.0416666999999999E-2},{"$f":"Parameters!BK48721","v":1.0416666999999999E-2},{"$f":"Parameters!BL48721","v":1.0416666999999999E-2},{"$f":"Parameters!BM48721","v":1.0416666999999999E-2},{"$f":"Parameters!BN48721","v":1.0416666999999999E-2}]
["S313",{"$f":"Parameters!K48722","v":1.0416666999999999E-2},{"$f":"Parameters!L48722","v":1.0416666999999999E-2},{"$f":"Parameters!M48722","v":1.0416666999999999E-2},{"$f":"Parameters!N48722","v":1.0416666999999999E-2},{"$f":"Parameters!O48722","v":1.0416666999999999E-2},{"$f":"Parameters!P48722","v":1.0416666999999999E-2},{"$f":"Parameters!Q48722","v":1.0416666999999999E-2},{"$f":"Parameters!R48722","v":1.0416666999999999E-2},{"$f":"Parameters!S48722","v":1.0416666999999999E-2},{"$f":"Parameters!T48722","v":1.0416666999999999E-2},{"$f":"Parameters!U48722","v":1.0416666999999999E-2},{"$f":"Parameters!V48722","v":1.0416666999999999E-2},{"$f":"Parameters!W48722","v":1.0416666999999999E-2},{"$f":"Parameters!X48722","v":1.0416666999999999E-2},{"$f":"Parameters!Y48722","v":1.0416666999999999E-2},{"$f":"Parameters!Z48722","v":1.0416666999999999E-2},{"$f":"Parameters!AA48722","v":1.0416666999999999E-2},{"$f":"Parameters!AB48722","v":1.0416666999999999E-2},{"$f":"Parameters!AC48722","v":1.0416666999999999E-2},{"$f":"Parameters!AD48722","v":1.0416666999999999E-2},{"$f":"Parameters!AE48722","v":1.0416666999999999E-2},{"$f":"Parameters!AF48722","v":1.0416666999999999E-2},{"$f":"Parameters!AG48722","v":1.0416666999999999E-2},{"$f":"Parameters!AH48722","v":1.0416666999999999E-2},{"$f":"Parameters!AI48722","v":1.0416666999999999E-2},{"$f":"Parameters!AJ48722","v":1.0416666999999999E-2},{"$f":"Parameters!AK48722","v":1.0416666999999999E-2},{"$f":"Parameters!AL48722","v":1.0416666999999999E-2},{"$f":"Parameters!AM48722","v":1.0416666999999999E-2},{"$f":"Parameters!AN48722","v":1.0416666999999999E-2},{"$f":"Parameters!AO48722","v":1.0416666999999999E-2},{"$f":"Parameters!AP48722","v":1.0416666999999999E-2},{"$f":"Parameters!AQ48722","v":1.0416666999999999E-2},{"$f":"Parameters!AR48722","v":1.0416666999999999E-2},{"$f":"Parameters!AS48722","v":1.0416666999999999E-2},{"$f":"Parameters!AT48722","v":1.0416666999999999E-2},{"$f":"Parameters!AU48722","v":1.0416666999999999E-2},{"$f":"Parameters!AV48722","v":1.0416666999999999E-2},{"$f":"Parameters!AW48722","v":1.0416666999999999E-2},{"$f":"Parameters!AX48722","v":1.0416666999999999E-2},{"$f":"Parameters!AY48722","v":1.0416666999999999E-2},{"$f":"Parameters!AZ48722","v":1.0416666999999999E-2},{"$f":"Parameters!BA48722","v":1.0416666999999999E-2},{"$f":"Parameters!BB48722","v":1.0416666999999999E-2},{"$f":"Parameters!BC48722","v":1.0416666999999999E-2},{"$f":"Parameters!BD48722","v":1.0416666999999999E-2},{"$f":"Parameters!BE48722","v":1.0416666999999999E-2},{"$f":"Parameters!BF48722","v":1.0416666999999999E-2},{"$f":"Parameters!BG48722","v":1.0416666999999999E-2},{"$f":"Parameters!BH48722","v":1.0416666999999999E-2},{"$f":"Parameters!BI48722","v":1.0416666999999999E-2},{"$f":"Parameters!BJ48722","v":1.0416666999999999E-2},{"$f":"Parameters!BK48722","v":1.0416666999999999E-2},{"$f":"Parameters!BL48722","v":1.0416666999999999E-2},{"$f":"Parameters!BM48722","v":1.0416666999999999E-2},{"$f":"Parameters!BN48722","v":1.0416666999999999E-2}]
["S314",{"$f":"Parameters!K48723","v":1.0416666999999999E-2},{"$f":"Parameters!L48723","v":1.0416666999999999E-2},{"$f":"Parameters!M48723","v":1.0416666999999999E-2},{"$f":"Parameters!N48723","v":1.0416666999999999E-2},{"$f":"Parameters!O48723","v":1.0416666999999999E-2},{"$f":"Parameters!P48723","v":1.0416666999999999E-2},{"$f":"Parameters!Q48723","v":1.0416666999999999E-2},{"$f":"Parameters!R48723","v":1.0416666999999999E-2},{"$f":"Parameters!S48723","v":1.0416666999999999E-2},{"$f":"Parameters!T48723","v":1.0416666999999999E-2},{"$f":"Parameters!U48723","v":1.0416666999999999E-2},{"$f":"Parameters!V48723","v":1.0416666999999999E-2},{"$f":"Parameters!W48723","v":1.0416666999999999E-2},{"$f":"Parameters!X48723","v":1.0416666999999999E-2},{"$f":"Parameters!Y48723","v":1.0416666999999999E-2},{"$f":"Parameters!Z48723","v":1.0416666999999999E-2},{"$f":"Parameters!AA48723","v":1.0416666999999999E-2},{"$f":"Parameters!AB48723","v":1.0416666999999999E-2},{"$f":"Parameters!AC48723","v":1.0416666999999999E-2},{"$f":"Parameters!AD48723","v":1.0416666999999999E-2},{"$f":"Parameters!AE48723","v":1.0416666999999999E-2},{"$f":"Parameters!AF48723","v":1.0416666999999999E-2},{"$f":"Parameters!AG48723","v":1.0416666999999999E-2},{"$f":"Parameters!AH48723","v":1.0416666999999999E-2},{"$f":"Parameters!AI48723","v":1.0416666999999999E-2},{"$f":"Parameters!AJ48723","v":1.0416666999999999E-2},{"$f":"Parameters!AK48723","v":1.0416666999999999E-2},{"$f":"Parameters!AL48723","v":1.0416666999999999E-2},{"$f":"Parameters!AM48723","v":1.0416666999999999E-2},{"$f":"Parameters!AN48723","v":1.0416666999999999E-2},{"$f":"Parameters!AO48723","v":1.0416666999999999E-2},{"$f":"Parameters!AP48723","v":1.0416666999999999E-2},{"$f":"Parameters!AQ48723","v":1.0416666999999999E-2},{"$f":"Parameters!AR48723","v":1.0416666999999999E-2},{"$f":"Parameters!AS48723","v":1.0416666999999999E-2},{"$f":"Parameters!AT48723","v":1.0416666999999999E-2},{"$f":"Parameters!AU48723","v":1.0416666999999999E-2},{"$f":"Parameters!AV48723","v":1.0416666999999999E-2},{"$f":"Parameters!AW48723","v":1.0416666999999999E-2},{"$f":"Parameters!AX48723","v":1.0416666999999999E-2},{"$f":"Parameters!AY48723","v":1.0416666999999999E-2},{"$f":"Parameters!AZ48723","v":1.0416666999999999E-2},{"$f":"Parameters!BA48723","v":1.0416666999999999E-2},{"$f":"Parameters!BB48723","v":1.0416666999999999E-2},{"$f":"Parameters!BC48723","v":1.0416666999999999E-2},{"$f":"Parameters!BD48723","v":1.0416666999999999E-2},{"$f":"Parameters!BE48723","v":1.0416666999999999E-2},{"$f":"Parameters!BF48723","v":1.0416666999999999E-2},{"$f":"Parameters!BG48723","v":1.0416666999999999E-2},{"$f":"Parameters!BH48723","v":1.0416666999999999E-2},{"$f":"Parameters!BI48723","v":1.0416666999999999E-2},{"$f":"Parameters!BJ48723","v":1.0416666999999999E-2},{"$f":"Parameters!BK48723","v":1.0416666999999999E-2},{"$f":"Parameters!BL48723","v":1.0416666999999999E-2},{"$f":"Parameters!BM48723","v":1.0416666999999999E-2},{"$f":"Parameters!BN48723","v":1.0416666999999999E-2}]
["S315",{"$f":"Parameters!K48724","v":1.0416666999999999E-2},{"$f":"Parameters!L48724","v":1.0416666999999999E-2},{"$f":"Parameters!M48724","v":1.0416666999999999E-2},{"$f":"Parameters!N48724","v":1.0416666999999999E-2},{"$f":"Parameters!O48724","v":1.0416666999999999E-2},{"$f":"Parameters!P48724","v":1.0416666999999999E-2},{"$f":"Parameters!Q48724","v":1.0416666999999999E-2},{"$f":"Parameters!R48724","v":1.0416666999999999E-2},{"$f":"Parameters!S48724","v":1.0416666999999999E-2},{"$f":"Parameters!T48724","v":1.0416666999999999E-2},{"$f":"Parameters!U48724","v":1.0416666999999999E-2},{"$f":"Parameters!V48724","v":1.0416666999999999E-2},{"$f":"Parameters!W48724","v":1.0416666999999999E-2},{"$f":"Parameters!X48724","v":1.0416666999999999E-2},{"$f":"Parameters!Y48724","v":1.0416666999999999E-2},{"$f":"Parameters!Z48724","v":1.0416666999999999E-2},{"$f":"Parameters!AA48724","v":1.0416666999999999E-2},{"$f":"Parameters!AB48724","v":1.0416666999999999E-2},{"$f":"Parameters!AC48724","v":1.0416666999999999E-2},{"$f":"Parameters!AD48724","v":1.0416666999999999E-2},{"$f":"Parameters!AE48724","v":1.0416666999999999E-2},{"$f":"Parameters!AF48724","v":1.0416666999999999E-2},{"$f":"Parameters!AG48724","v":1.0416666999999999E-2},{"$f":"Parameters!AH48724","v":1.0416666999999999E-2},{"$f":"Parameters!AI48724","v":1.0416666999999999E-2},{"$f":"Parameters!AJ48724","v":1.0416666999999999E-2},{"$f":"Parameters!AK48724","v":1.0416666999999999E-2},{"$f":"Parameters!AL48724","v":1.0416666999999999E-2},{"$f":"Parameters!AM48724","v":1.0416666999999999E-2},{"$f":"Parameters!AN48724","v":1.0416666999999999E-2},{"$f":"Parameters!AO48724","v":1.0416666999999999E-2},{"$f":"Parameters!AP48724","v":1.0416666999999999E-2},{"$f":"Parameters!AQ48724","v":1.0416666999999999E-2},{"$f":"Parameters!AR48724","v":1.0416666999999999E-2},{"$f":"Parameters!AS48724","v":1.0416666999999999E-2},{"$f":"Parameters!AT48724","v":1.0416666999999999E-2},{"$f":"Parameters!AU48724","v":1.0416666999999999E-2},{"$f":"Parameters!AV48724","v":1.0416666999999999E-2},{"$f":"Parameters!AW48724","v":1.0416666999999999E-2},{"$f":"Parameters!AX48724","v":1.0416666999999999E-2},{"$f":"Parameters!AY48724","v":1.0416666999999999E-2},{"$f":"Parameters!AZ48724","v":1.0416666999999999E-2},{"$f":"Parameters!BA48724","v":1.0416666999999999E-2},{"$f":"Parameters!BB48724","v":1.0416666999999999E-2},{"$f":"Parameters!BC48724","v":1.0416666999999999E-2},{"$f":"Parameters!BD48724","v":1.0416666999999999E-2},{"$f":"Parameters!BE48724","v":1.0416666999999999E-2},{"$f":"Parameters!BF48724","v":1.0416666999999999E-2},{"$f":"Parameters!BG48724","v":1.0416666999999999E-2},{"$f":"Parameters!BH48724","v":1.0416666999999999E-2},{"$f":"Parameters!BI48724","v":1.0416666999999999E-2},{"$f":"Parameters!BJ48724","v":1.0416666999999999E-2},{"$f":"Parameters!BK48724","v":1.0416666999999999E-2},{"$f":"Parameters!BL48724","v":1.0416666999999999E-2},{"$f":"Parameters!BM48724","v":1.0416666999999999E-2},{"$f":"Parameters!BN48724","v":1.0416666999999999E-2}]
["S316",{"$f":"Parameters!K48725","v":1.0416666999999999E-2},{"$f":"Parameters!L48725","v":1.0416666999999999E-2},{"$f":"Parameters!M48725","v":1.0416666999999999E-2},{"$f":"Parameters!N48725","v":1.0416666999999999E-2},{"$f":"Parameters!O48725","v":1.0416666999999999E-2},{"$f":"Parameters!P48725","v":1.0416666999999999E-2},{"$f":"Parameters!Q48725","v":1.0416666999999999E-2},{"$f":"Parameters!R48725","v":1.0416666999999999E-2},{"$f":"Parameters!S48725","v":1.0416666999999999E-2},{"$f":"Parameters!T48725","v":1.0416666999999999E-2},{"$f":"Parameters!U48725","v":1.0416666999999999E-2},{"$f":"Parameters!V48725","v":1.0416666999999999E-2},{"$f":"Parameters!W48725","v":1.0416666999999999E-2},{"$f":"Parameters!X48725","v":1.0416666999999999E-2},{"$f":"Parameters!Y48725","v":1.0416666999999999E-2},{"$f":"Parameters!Z48725","v":1.0416666999999999E-2},{"$f":"Parameters!AA48725","v":1.0416666999999999E-2},{"$f":"Parameters!AB48725","v":1.0416666999999999E-2},{"$f":"Parameters!AC48725","v":1.0416666999999999E-2},{"$f":"Parameters!AD48725","v":1.0416666999999999E-2},{"$f":"Parameters!AE48725","v":1.0416666999999999E-2},{"$f":"Parameters!AF48725","v":1.0416666999999999E-2},{"$f":"Parameters!AG48725","v":1.0416666999999999E-2},{"$f":"Parameters!AH48725","v":1.0416666999999999E-2},{"$f":"Parameters!AI48725","v":1.0416666999999999E-2},{"$f":"Parameters!AJ48725","v":1.0416666999999999E-2},{"$f":"Parameters!AK48725","v":1.0416666999999999E-2},{"$f":"Parameters!AL48725","v":1.0416666999999999E-2},{"$f":"Parameters!AM48725","v":1.0416666999999999E-2},{"$f":"Parameters!AN48725","v":1.0416666999999999E-2},{"$f":"Parameters!AO48725","v":1.0416666999999999E-2},{"$f":"Parameters!AP48725","v":1.0416666999999999E-2},{"$f":"Parameters!AQ48725","v":1.0416666999999999E-2},{"$f":"Parameters!AR48725","v":1.0416666999999999E-2},{"$f":"Parameters!AS48725","v":1.0416666999999999E-2},{"$f":"Parameters!AT48725","v":1.0416666999999999E-2},{"$f":"Parameters!AU48725","v":1.0416666999999999E-2},{"$f":"Parameters!AV48725","v":1.0416666999999999E-2},{"$f":"Parameters!AW48725","v":1.0416666999999999E-2},{"$f":"Parameters!AX48725","v":1.0416666999999999E-2},{"$f":"Parameters!AY48725","v":1.0416666999999999E-2},{"$f":"Parameters!AZ48725","v":1.0416666999999999E-2},{"$f":"Parameters!BA48725","v":1.0416666999999999E-2},{"$f":"Parameters!BB48725","v":1.0416666999999999E-2},{"$f":"Parameters!BC48725","v":1.0416666999999999E-2},{"$f":"Parameters!BD48725","v":1.0416666999999999E-2},{"$f":"Parameters!BE48725","v":1.0416666999999999E-2},{"$f":"Parameters!BF48725","v":1.0416666999999999E-2},{"$f":"Parameters!BG48725","v":1.0416666999999999E-2},{"$f":"Parameters!BH48725","v":1.0416666999999999E-2},{"$f":"Parameters!BI48725","v":1.0416666999999999E-2},{"$f":"Parameters!BJ48725","v":1.0416666999999999E-2},{"$f":"Parameters!BK48725","v":1.0416666999999999E-2},{"$f":"Parameters!BL48725","v":1.0416666999999999E-2},{"$f":"Parameters!BM48725","v":1.0416666999999999E-2},{"$f":"Parameters!BN48725","v":1.0416666999999999E-2}]
["S317",{"$f":"Parameters!K48726","v":1.0416666999999999E-2},{"$f":"Parameters!L48726","v":1.0416666999999999E-2},{"$f":"Parameters!M48726","v":1.0416666999999999E-2},{"$f":"Parameters!N48726","v":1.0416666999999999E-2},{"$f":"Parameters!O48726","v":1.0416666999999999E-2},{"$f":"Parameters!P48726","v":1.0416666999999999E-2},{"$f":"Parameters!Q48726","v":1.0416666999999999E-2},{"$f":"Parameters!R48726","v":1.0416666999999999E-2},{"$f":"Parameters!S48726","v":1.0416666999999999E-2},{"$f":"Parameters!T48726","v":1.0416666999999999E-2},{"$f":"Parameters!U48726","v":1.0416666999999999E-2},{"$f":"Parameters!V48726","v":1.0416666999999999E-2},{"$f":"Parameters!W48726","v":1.0416666999999999E-2},{"$f":"Parameters!X48726","v":1.0416666999999999E-2},{"$f":"Parameters!Y48726","v":1.0416666999999999E-2},{"$f":"Parameters!Z48726","v":1.0416666999999999E-2},{"$f":"Parameters!AA48726","v":1.0416666999999999E-2},{"$f":"Parameters!AB48726","v":1.0416666999999999E-2},{"$f":"Parameters!AC48726","v":1.0416666999999999E-2},{"$f":"Parameters!AD48726","v":1.0416666999999999E-2},{"$f":"Parameters!AE48726","v":1.0416666999999999E-2},{"$f":"Parameters!AF48726","v":1.0416666999999999E-2},{"$f":"Parameters!AG48726","v":1.0416666999999999E-2},{"$f":"Parameters!AH48726","v":1.0416666999999999E-2},{"$f":"Parameters!AI48726","v":1.0416666999999999E-2},{"$f":"Parameters!AJ48726","v":1.0416666999999999E-2},{"$f":"Parameters!AK48726","v":1.0416666999999999E-2},{"$f":"Parameters!AL48726","v":1.0416666999999999E-2},{"$f":"Parameters!AM48726","v":1.0416666999999999E-2},{"$f":"Parameters!AN48726","v":1.0416666999999999E-2},{"$f":"Parameters!AO48726","v":1.0416666999999999E-2},{"$f":"Parameters!AP48726","v":1.0416666999999999E-2},{"$f":"Parameters!AQ48726","v":1.0416666999999999E-2},{"$f":"Parameters!AR48726","v":1.0416666999999999E-2},{"$f":"Parameters!AS48726","v":1.0416666999999999E-2},{"$f":"Parameters!AT48726","v":1.0416666999999999E-2},{"$f":"Parameters!AU48726","v":1.0416666999999999E-2},{"$f":"Parameters!AV48726","v":1.0416666999999999E-2},{"$f":"Parameters!AW48726","v":1.0416666999999999E-2},{"$f":"Parameters!AX48726","v":1.0416666999999999E-2},{"$f":"Parameters!AY48726","v":1.0416666999999999E-2},{"$f":"Parameters!AZ48726","v":1.0416666999999999E-2},{"$f":"Parameters!BA48726","v":1.0416666999999999E-2},{"$f":"Parameters!BB48726","v":1.0416666999999999E-2},{"$f":"Parameters!BC48726","v":1.0416666999999999E-2},{"$f":"Parameters!BD48726","v":1.0416666999999999E-2},{"$f":"Parameters!BE48726","v":1.0416666999999999E-2},{"$f":"Parameters!BF48726","v":1.0416666999999999E-2},{"$f":"Parameters!BG48726","v":1.0416666999999999E-2},{"$f":"Parameters!BH48726","v":1.0416666999999999E-2},{"$f":"Parameters!BI48726","v":1.0416666999999999E-2},{"$f":"Parameters!BJ48726","v":1.0416666999999999E-2},{"$f":"Parameters!BK48726","v":1.0416666999999999E-2},{"$f":"Parameters!BL48726","v":1.0416666999999999E-2},{"$f":"Parameters!BM48726","v":1.0416666999999999E-2},{"$f":"Parameters!BN48726","v":1.0416666999999999E-2}]
["S318",{"$f":"Parameters!K48727","v":1.0416666999999999E-2},{"$f":"Parameters!L48727","v":1.0416666999999999E-2},{"$f":"Parameters!M48727","v":1.0416666999999999E-2},{"$f":"Parameters!N48727","v":1.0416666999999999E-2},{"$f":"Parameters!O48727","v":1.0416666999999999E-2},{"$f":"Parameters!P48727","v":1.0416666999999999E-2},{"$f":"Parameters!Q48727","v":1.0416666999999999E-2},{"$f":"Parameters!R48727","v":1.0416666999999999E-2},{"$f":"Parameters!S48727","v":1.0416666999999999E-2},{"$f":"Parameters!T48727","v":1.0416666999999999E-2},{"$f":"Parameters!U48727","v":1.0416666999999999E-2},{"$f":"Parameters!V48727","v":1.0416666999999999E-2},{"$f":"Parameters!W48727","v":1.0416666999999999E-2},{"$f":"Parameters!X48727","v":1.0416666999999999E-2},{"$f":"Parameters!Y48727","v":1.0416666999999999E-2},{"$f":"Parameters!Z48727","v":1.0416666999999999E-2},{"$f":"Parameters!AA48727","v":1.0416666999999999E-2},{"$f":"Parameters!AB48727","v":1.0416666999999999E-2},{"$f":"Parameters!AC48727","v":1.0416666999999999E-2},{"$f":"Parameters!AD48727","v":1.0416666999999999E-2},{"$f":"Parameters!AE48727","v":1.0416666999999999E-2},{"$f":"Parameters!AF48727","v":1.0416666999999999E-2},{"$f":"Parameters!AG48727","v":1.0416666999999999E-2},{"$f":"Parameters!AH48727","v":1.0416666999999999E-2},{"$f":"Parameters!AI48727","v":1.0416666999999999E-2},{"$f":"Parameters!AJ48727","v":1.0416666999999999E-2},{"$f":"Parameters!AK48727","v":1.0416666999999999E-2},{"$f":"Parameters!AL48727","v":1.0416666999999999E-2},{"$f":"Parameters!AM48727","v":1.0416666999999999E-2},{"$f":"Parameters!AN48727","v":1.0416666999999999E-2},{"$f":"Parameters!AO48727","v":1.0416666999999999E-2},{"$f":"Parameters!AP48727","v":1.0416666999999999E-2},{"$f":"Parameters!AQ48727","v":1.0416666999999999E-2},{"$f":"Parameters!AR48727","v":1.0416666999999999E-2},{"$f":"Parameters!AS48727","v":1.0416666999999999E-2},{"$f":"Parameters!AT48727","v":1.0416666999999999E-2},{"$f":"Parameters!AU48727","v":1.0416666999999999E-2},{"$f":"Parameters!AV48727","v":1.0416666999999999E-2},{"$f":"Parameters!AW48727","v":1.0416666999999999E-2},{"$f":"Parameters!AX48727","v":1.0416666999999999E-2},{"$f":"Parameters!AY48727","v":1.0416666999999999E-2},{"$f":"Parameters!AZ48727","v":1.0416666999999999E-2},{"$f":"Parameters!BA48727","v":1.0416666999999999E-2},{"$f":"Parameters!BB48727","v":1.0416666999999999E-2},{"$f":"Parameters!BC48727","v":1.0416666999999999E-2},{"$f":"Parameters!BD48727","v":1.0416666999999999E-2},{"$f":"Parameters!BE48727","v":1.0416666999999999E-2},{"$f":"Parameters!BF48727","v":1.0416666999999999E-2},{"$f":"Parameters!BG48727","v":1.0416666999999999E-2},{"$f":"Parameters!BH48727","v":1.0416666999999999E-2},{"$f":"Parameters!BI48727","v":1.0416666999999999E-2},{"$f":"Parameters!BJ48727","v":1.0416666999999999E-2},{"$f":"Parameters!BK48727","v":1.0416666999999999E-2},{"$f":"Parameters!BL48727","v":1.0416666999999999E-2},{"$f":"Parameters!BM48727","v":1.0416666999999999E-2},{"$f":"Parameters!BN48727","v":1.0416666999999999E-2}]
["S319",{"$f":"Parameters!K48728","v":1.0416666999999999E-2},{"$f":"Parameters!L48728","v":1.0416666999999999E-2},{"$f":"Parameters!M48728","v":1.0416666999999999E-2},{"$f":"Parameters!N48728","v":1.0416666999999999E-2},{"$f":"Parameters!O48728","v":1.0416666999999999E-2},{"$f":"Parameters!P48728","v":1.0416666999999999E-2},{"$f":"Parameters!Q48728","v":1.0416666999999999E-2},{"$f":"Parameters!R48728","v":1.0416666999999999E-2},{"$f":"Parameters!S48728","v":1.0416666999999999E-2},{"$f":"Parameters!T48728","v":1.0416666999999999E-2},{"$f":"Parameters!U48728","v":1.0416666999999999E-2},{"$f":"Parameters!V48728","v":1.0416666999999999E-2},{"$f":"Parameters!W48728","v":1.0416666999999999E-2},{"$f":"Parameters!X48728","v":1.0416666999999999E-2},{"$f":"Parameters!Y48728","v":1.0416666999999999E-2},{"$f":"Parameters!Z48728","v":1.0416666999999999E-2},{"$f":"Parameters!AA48728","v":1.0416666999999999E-2},{"$f":"Parameters!AB48728","v":1.0416666999999999E-2},{"$f":"Parameters!AC48728","v":1.0416666999999999E-2},{"$f":"Parameters!AD48728","v":1.0416666999999999E-2},{"$f":"Parameters!AE48728","v":1.0416666999999999E-2},{"$f":"Parameters!AF48728","v":1.0416666999999999E-2},{"$f":"Parameters!AG48728","v":1.0416666999999999E-2},{"$f":"Parameters!AH48728","v":1.0416666999999999E-2},{"$f":"Parameters!AI48728","v":1.0416666999999999E-2},{"$f":"Parameters!AJ48728","v":1.0416666999999999E-2},{"$f":"Parameters!AK48728","v":1.0416666999999999E-2},{"$f":"Parameters!AL48728","v":1.0416666999999999E-2},{"$f":"Parameters!AM48728","v":1.0416666999999999E-2},{"$f":"Parameters!AN48728","v":1.0416666999999999E-2},{"$f":"Parameters!AO48728","v":1.0416666999999999E-2},{"$f":"Parameters!AP48728","v":1.0416666999999999E-2},{"$f":"Parameters!AQ48728","v":1.0416666999999999E-2},{"$f":"Parameters!AR48728","v":1.0416666999999999E-2},{"$f":"Parameters!AS48728","v":1.0416666999999999E-2},{"$f":"Parameters!AT48728","v":1.0416666999999999E-2},{"$f":"Parameters!AU48728","v":1.0416666999999999E-2},{"$f":"Parameters!AV48728","v":1.0416666999999999E-2},{"$f":"Parameters!AW48728","v":1.0416666999999999E-2},{"$f":"Parameters!AX48728","v":1.0416666999999999E-2},{"$f":"Parameters!AY48728","v":1.0416666999999999E-2},{"$f":"Parameters!AZ48728","v":1.0416666999999999E-2},{"$f":"Parameters!BA48728","v":1.0416666999999999E-2},{"$f":"Parameters!BB48728","v":1.0416666999999999E-2},{"$f":"Parameters!BC48728","v":1.0416666999999999E-2},{"$f":"Parameters!BD48728","v":1.0416666999999999E-2},{"$f":"Parameters!BE48728","v":1.0416666999999999E-2},{"$f":"Parameters!BF48728","v":1.0416666999999999E-2},{"$f":"Parameters!BG48728","v":1.0416666999999999E-2},{"$f":"Parameters!BH48728","v":1.0416666999999999E-2},{"$f":"Parameters!BI48728","v":1.0416666999999999E-2},{"$f":"Parameters!BJ48728","v":1.0416666999999999E-2},{"$f":"Parameters!BK48728","v":1.0416666999999999E-2},{"$f":"Parameters!BL48728","v":1.0416666999999999E-2},{"$f":"Parameters!BM48728","v":1.0416666999999999E-2},{"$f":"Parameters!BN48728","v":1.0416666999999999E-2}]
["S320",{"$f":"Parameters!K48729","v":1.0416666999999999E-2},{"$f":"Parameters!L48729","v":1.0416666999999999E-2},{"$f":"Parameters!M48729","v":1.0416666999999999E-2},{"$f":"Parameters!N48729","v":1.0416666999999999E-2},{"$f":"Parameters!O48729","v":1.0416666999999999E-2},{"$f":"Parameters!P48729","v":1.0416666999999999E-2},{"$f":"Parameters!Q48729","v":1.0416666999999999E-2},{"$f":"Parameters!R48729","v":1.0416666999999999E-2},{"$f":"Parameters!S48729","v":1.0416666999999999E-2},{"$f":"Parameters!T48729","v":1.0416666999999999E-2},{"$f":"Parameters!U48729","v":1.0416666999999999E-2},{"$f":"Parameters!V48729","v":1.0416666999999999E-2},{"$f":"Parameters!W48729","v":1.0416666999999999E-2},{"$f":"Parameters!X48729","v":1.0416666999999999E-2},{"$f":"Parameters!Y48729","v":1.0416666999999999E-2},{"$f":"Parameters!Z48729","v":1.0416666999999999E-2},{"$f":"Parameters!AA48729","v":1.0416666999999999E-2},{"$f":"Parameters!AB48729","v":1.0416666999999999E-2},{"$f":"Parameters!AC48729","v":1.0416666999999999E-2},{"$f":"Parameters!AD48729","v":1.0416666999999999E-2},{"$f":"Parameters!AE48729","v":1.0416666999999999E-2},{"$f":"Parameters!AF48729","v":1.0416666999999999E-2},{"$f":"Parameters!AG48729","v":1.0416666999999999E-2},{"$f":"Parameters!AH48729","v":1.0416666999999999E-2},{"$f":"Parameters!AI48729","v":1.0416666999999999E-2},{"$f":"Parameters!AJ48729","v":1.0416666999999999E-2},{"$f":"Parameters!AK48729","v":1.0416666999999999E-2},{"$f":"Parameters!AL48729","v":1.0416666999999999E-2},{"$f":"Parameters!AM48729","v":1.0416666999999999E-2},{"$f":"Parameters!AN48729","v":1.0416666999999999E-2},{"$f":"Parameters!AO48729","v":1.0416666999999999E-2},{"$f":"Parameters!AP48729","v":1.0416666999999999E-2},{"$f":"Parameters!AQ48729","v":1.0416666999999999E-2},{"$f":"Parameters!AR48729","v":1.0416666999999999E-2},{"$f":"Parameters!AS48729","v":1.0416666999999999E-2},{"$f":"Parameters!AT48729","v":1.0416666999999999E-2},{"$f":"Parameters!AU48729","v":1.0416666999999999E-2},{"$f":"Parameters!AV48729","v":1.0416666999999999E-2},{"$f":"Parameters!AW48729","v":1.0416666999999999E-2},{"$f":"Parameters!AX48729","v":1.0416666999999999E-2},{"$f":"Parameters!AY48729","v":1.0416666999999999E-2},{"$f":"Parameters!AZ48729","v":1.0416666999999999E-2},{"$f":"Parameters!BA48729","v":1.0416666999999999E-2},{"$f":"Parameters!BB48729","v":1.0416666999999999E-2},{"$f":"Parameters!BC48729","v":1.0416666999999999E-2},{"$f":"Parameters!BD48729","v":1.0416666999999999E-2},{"$f":"Parameters!BE48729","v":1.0416666999999999E-2},{"$f":"Parameters!BF48729","v":1.0416666999999999E-2},{"$f":"Parameters!BG48729","v":1.0416666999999999E-2},{"$f":"Parameters!BH48729","v":1.0416666999999999E-2},{"$f":"Parameters!BI48729","v":1.0416666999999999E-2},{"$f":"Parameters!BJ48729","v":1.0416666999999999E-2},{"$f":"Parameters!BK48729","v":1.0416666999999999E-2},{"$f":"Parameters!BL48729","v":1.0416666999999999E-2},{"$f":"Parameters!BM48729","v":1.0416666999999999E-2},{"$f":"Parameters!BN48729","v":1.0416666999999999E-2}]
["S321",{"$f":"Parameters!K48730","v":1.0416666999999999E-2},{"$f":"Parameters!L48730","v":1.0416666999999999E-2},{"$f":"Parameters!M48730","v":1.0416666999999999E-2},{"$f":"Parameters!N48730","v":1.0416666999999999E-2},{"$f":"Parameters!O48730","v":1.0416666999999999E-2},{"$f":"Parameters!P48730","v":1.0416666999999999E-2},{"$f":"Parameters!Q48730","v":1.0416666999999999E-2},{"$f":"Parameters!R48730","v":1.0416666999999999E-2},{"$f":"Parameters!S48730","v":1.0416666999999999E-2},{"$f":"Parameters!T48730","v":1.0416666999999999E-2},{"$f":"Parameters!U48730","v":1.0416666999999999E-2},{"$f":"Parameters!V48730","v":1.0416666999999999E-2},{"$f":"Parameters!W48730","v":1.0416666999999999E-2},{"$f":"Parameters!X48730","v":1.0416666999999999E-2},{"$f":"Parameters!Y48730","v":1.0416666999999999E-2},{"$f":"Parameters!Z48730","v":1.0416666999999999E-2},{"$f":"Parameters!AA48730","v":1.0416666999999999E-2},{"$f":"Parameters!AB48730","v":1.0416666999999999E-2},{"$f":"Parameters!AC48730","v":1.0416666999999999E-2},{"$f":"Parameters!AD48730","v":1.0416666999999999E-2},{"$f":"Parameters!AE48730","v":1.0416666999999999E-2},{"$f":"Parameters!AF48730","v":1.0416666999999999E-2},{"$f":"Parameters!AG48730","v":1.0416666999999999E-2},{"$f":"Parameters!AH48730","v":1.0416666999999999E-2},{"$f":"Parameters!AI48730","v":1.0416666999999999E-2},{"$f":"Parameters!AJ48730","v":1.0416666999999999E-2},{"$f":"Parameters!AK48730","v":1.0416666999999999E-2},{"$f":"Parameters!AL48730","v":1.0416666999999999E-2},{"$f":"Parameters!AM48730","v":1.0416666999999999E-2},{"$f":"Parameters!AN48730","v":1.0416666999999999E-2},{"$f":"Parameters!AO48730","v":1.0416666999999999E-2},{"$f":"Parameters!AP48730","v":1.0416666999999999E-2},{"$f":"Parameters!AQ48730","v":1.0416666999999999E-2},{"$f":"Parameters!AR48730","v":1.0416666999999999E-2},{"$f":"Parameters!AS48730","v":1.0416666999999999E-2},{"$f":"Parameters!AT48730","v":1.0416666999999999E-2},{"$f":"Parameters!AU48730","v":1.0416666999999999E-2},{"$f":"Parameters!AV48730","v":1.0416666999999999E-2},{"$f":"Parameters!AW48730","v":1.0416666999999999E-2},{"$f":"Parameters!AX48730","v":1.0416666999999999E-2},{"$f":"Parameters!AY48730","v":1.0416666999999999E-2},{"$f":"Parameters!AZ48730","v":1.0416666999999999E-2},{"$f":"Parameters!BA48730","v":1.0416666999999999E-2},{"$f":"Parameters!BB48730","v":1.0416666999999999E-2},{"$f":"Parameters!BC48730","v":1.0416666999999999E-2},{"$f":"Parameters!BD48730","v":1.0416666999999999E-2},{"$f":"Parameters!BE48730","v":1.0416666999999999E-2},{"$f":"Parameters!BF48730","v":1.0416666999999999E-2},{"$f":"Parameters!BG48730","v":1.0416666999999999E-2},{"$f":"Parameters!BH48730","v":1.0416666999999999E-2},{"$f":"Parameters!BI48730","v":1.0416666999999999E-2},{"$f":"Parameters!BJ48730","v":1.0416666999999999E-2},{"$f":"Parameters!BK48730","v":1.0416666999999999E-2},{"$f":"Parameters!BL48730","v":1.0416666999999999E-2},{"$f":"Parameters!BM48730","v":1.0416666999999999E-2},{"$f":"Parameters!BN48730","v":1.0416666999999999E-2}]
["S322",{"$f":"Parameters!K48731","v":1.0416666999999999E-2},{"$f":"Parameters!L48731","v":1.0416666999999999E-2},{"$f":"Parameters!M48731","v":1.0416666999999999E-2},{"$f":"Parameters!N48731","v":1.0416666999999999E-2},{"$f":"Parameters!O48731","v":1.0416666999999999E-2},{"$f":"Parameters!P48731","v":1.0416666999999999E-2},{"$f":"Parameters!Q48731","v":1.0416666999999999E-2},{"$f":"Parameters!R48731","v":1.0416666999999999E-2},{"$f":"Parameters!S48731","v":1.0416666999999999E-2},{"$f":"Parameters!T48731","v":1.0416666999999999E-2},{"$f":"Parameters!U48731","v":1.0416666999999999E-2},{"$f":"Parameters!V48731","v":1.0416666999999999E-2},{"$f":"Parameters!W48731","v":1.0416666999999999E-2},{"$f":"Parameters!X48731","v":1.0416666999999999E-2},{"$f":"Parameters!Y48731","v":1.0416666999999999E-2},{"$f":"Parameters!Z48731","v":1.0416666999999999E-2},{"$f":"Parameters!AA48731","v":1.0416666999999999E-2},{"$f":"Parameters!AB48731","v":1.0416666999999999E-2},{"$f":"Parameters!AC48731","v":1.0416666999999999E-2},{"$f":"Parameters!AD48731","v":1.0416666999999999E-2},{"$f":"Parameters!AE48731","v":1.0416666999999999E-2},{"$f":"Parameters!AF48731","v":1.0416666999999999E-2},{"$f":"Parameters!AG48731","v":1.0416666999999999E-2},{"$f":"Parameters!AH48731","v":1.0416666999999999E-2},{"$f":"Parameters!AI48731","v":1.0416666999999999E-2},{"$f":"Parameters!AJ48731","v":1.0416666999999999E-2},{"$f":"Parameters!AK48731","v":1.0416666999999999E-2},{"$f":"Parameters!AL48731","v":1.0416666999999999E-2},{"$f":"Parameters!AM48731","v":1.0416666999999999E-2},{"$f":"Parameters!AN48731","v":1.0416666999999999E-2},{"$f":"Parameters!AO48731","v":1.0416666999999999E-2},{"$f":"Parameters!AP48731","v":1.0416666999999999E-2},{"$f":"Parameters!AQ48731","v":1.0416666999999999E-2},{"$f":"Parameters!AR48731","v":1.0416666999999999E-2},{"$f":"Parameters!AS48731","v":1.0416666999999999E-2},{"$f":"Parameters!AT48731","v":1.0416666999999999E-2},{"$f":"Parameters!AU48731","v":1.0416666999999999E-2},{"$f":"Parameters!AV48731","v":1.0416666999999999E-2},{"$f":"Parameters!AW48731","v":1.0416666999999999E-2},{"$f":"Parameters!AX48731","v":1.0416666999999999E-2},{"$f":"Parameters!AY48731","v":1.0416666999999999E-2},{"$f":"Parameters!AZ48731","v":1.0416666999999999E-2},{"$f":"Parameters!BA48731","v":1.0416666999999999E-2},{"$f":"Parameters!BB48731","v":1.0416666999999999E-2},{"$f":"Parameters!BC48731","v":1.0416666999999999E-2},{"$f":"Parameters!BD48731","v":1.0416666999999999E-2},{"$f":"Parameters!BE48731","v":1.0416666999999999E-2},{"$f":"Parameters!BF48731","v":1.0416666999999999E-2},{"$f":"Parameters!BG48731","v":1.0416666999999999E-2},{"$f":"Parameters!BH48731","v":1.0416666999999999E-2},{"$f":"Parameters!BI48731","v":1.0416666999999999E-2},{"$f":"Parameters!BJ48731","v":1.0416666999999999E-2},{"$f":"Parameters!BK48731","v":1.0416666999999999E-2},{"$f":"Parameters!BL48731","v":1.0416666999999999E-2},{"$f":"Parameters!BM48731","v":1.0416666999999999E-2},{"$f":"Parameters!BN48731","v":1.0416666999999999E-2}]
["S323",{"$f":"Parameters!K48732","v":1.0416666999999999E-2},{"$f":"Parameters!L48732","v":1.0416666999999999E-2},{"$f":"Parameters!M48732","v":1.0416666999999999E-2},{"$f":"Parameters!N48732","v":1.0416666999999999E-2},{"$f":"Parameters!O48732","v":1.0416666999999999E-2},{"$f":"Parameters!P48732","v":1.0416666999999999E-2},{"$f":"Parameters!Q48732","v":1.0416666999999999E-2},{"$f":"Parameters!R48732","v":1.0416666999999999E-2},{"$f":"Parameters!S48732","v":1.0416666999999999E-2},{"$f":"Parameters!T48732","v":1.0416666999999999E-2},{"$f":"Parameters!U48732","v":1.0416666999999999E-2},{"$f":"Parameters!V48732","v":1.0416666999999999E-2},{"$f":"Parameters!W48732","v":1.0416666999999999E-2},{"$f":"Parameters!X48732","v":1.0416666999999999E-2},{"$f":"Parameters!Y48732","v":1.0416666999999999E-2},{"$f":"Parameters!Z48732","v":1.0416666999999999E-2},{"$f":"Parameters!AA48732","v":1.0416666999999999E-2},{"$f":"Parameters!AB48732","v":1.0416666999999999E-2},{"$f":"Parameters!AC48732","v":1.0416666999999999E-2},{"$f":"Parameters!AD48732","v":1.0416666999999999E-2},{"$f":"Parameters!AE48732","v":1.0416666999999999E-2},{"$f":"Parameters!AF48732","v":1.0416666999999999E-2},{"$f":"Parameters!AG48732","v":1.0416666999999999E-2},{"$f":"Parameters!AH48732","v":1.0416666999999999E-2},{"$f":"Parameters!AI48732","v":1.0416666999999999E-2},{"$f":"Parameters!AJ48732","v":1.0416666999999999E-2},{"$f":"Parameters!AK48732","v":1.0416666999999999E-2},{"$f":"Parameters!AL48732","v":1.0416666999999999E-2},{"$f":"Parameters!AM48732","v":1.0416666999999999E-2},{"$f":"Parameters!AN48732","v":1.0416666999999999E-2},{"$f":"Parameters!AO48732","v":1.0416666999999999E-2},{"$f":"Parameters!AP48732","v":1.0416666999999999E-2},{"$f":"Parameters!AQ48732","v":1.0416666999999999E-2},{"$f":"Parameters!AR48732","v":1.0416666999999999E-2},{"$f":"Parameters!AS48732","v":1.0416666999999999E-2},{"$f":"Parameters!AT48732","v":1.0416666999999999E-2},{"$f":"Parameters!AU48732","v":1.0416666999999999E-2},{"$f":"Parameters!AV48732","v":1.0416666999999999E-2},{"$f":"Parameters!AW48732","v":1.0416666999999999E-2},{"$f":"Parameters!AX48732","v":1.0416666999999999E-2},{"$f":"Parameters!AY48732","v":1.0416666999999999E-2},{"$f":"Parameters!AZ48732","v":1.0416666999999999E-2},{"$f":"Parameters!BA48732","v":1.0416666999999999E-2},{"$f":"Parameters!BB48732","v":1.0416666999999999E-2},{"$f":"Parameters!BC48732","v":1.0416666999999999E-2},{"$f":"Parameters!BD48732","v":1.0416666999999999E-2},{"$f":"Parameters!BE48732","v":1.0416666999999999E-2},{"$f":"Parameters!BF48732","v":1.0416666999999999E-2},{"$f":"Parameters!BG48732","v":1.0416666999999999E-2},{"$f":"Parameters!BH48732","v":1.0416666999999999E-2},{"$f":"Parameters!BI48732","v":1.0416666999999999E-2},{"$f":"Parameters!BJ48732","v":1.0416666999999999E-2},{"$f":"Parameters!BK48732","v":1.0416666999999999E-2},{"$f":"Parameters!BL48732","v":1.0416666999999999E-2},{"$f":"Parameters!BM48732","v":1.0416666999999999E-2},{"$f":"Parameters!BN48732","v":1.0416666999999999E-2}]
["S324",{"$f":"Parameters!K48733","v":1.0416666999999999E-2},{"$f":"Parameters!L48733","v":1.0416666999999999E-2},{"$f":"Parameters!M48733","v":1.0416666999999999E-2},{"$f":"Parameters!N48733","v":1.0416666999999999E-2},{"$f":"Parameters!O48733","v":1.0416666999999999E-2},{"$f":"Parameters!P48733","v":1.0416666999999999E-2},{"$f":"Parameters!Q48733","v":1.0416666999999999E-2},{"$f":"Parameters!R48733","v":1.0416666999999999E-2},{"$f":"Parameters!S48733","v":1.0416666999999999E-2},{"$f":"Parameters!T48733","v":1.0416666999999999E-2},{"$f":"Parameters!U48733","v":1.0416666999999999E-2},{"$f":"Parameters!V48733","v":1.0416666999999999E-2},{"$f":"Parameters!W48733","v":1.0416666999999999E-2},{"$f":"Parameters!X48733","v":1.0416666999999999E-2},{"$f":"Parameters!Y48733","v":1.0416666999999999E-2},{"$f":"Parameters!Z48733","v":1.0416666999999999E-2},{"$f":"Parameters!AA48733","v":1.0416666999999999E-2},{"$f":"Parameters!AB48733","v":1.0416666999999999E-2},{"$f":"Parameters!AC48733","v":1.0416666999999999E-2},{"$f":"Parameters!AD48733","v":1.0416666999999999E-2},{"$f":"Parameters!AE48733","v":1.0416666999999999E-2},{"$f":"Parameters!AF48733","v":1.0416666999999999E-2},{"$f":"Parameters!AG48733","v":1.0416666999999999E-2},{"$f":"Parameters!AH48733","v":1.0416666999999999E-2},{"$f":"Parameters!AI48733","v":1.0416666999999999E-2},{"$f":"Parameters!AJ48733","v":1.0416666999999999E-2},{"$f":"Parameters!AK48733","v":1.0416666999999999E-2},{"$f":"Parameters!AL48733","v":1.0416666999999999E-2},{"$f":"Parameters!AM48733","v":1.0416666999999999E-2},{"$f":"Parameters!AN48733","v":1.0416666999999999E-2},{"$f":"Parameters!AO48733","v":1.0416666999999999E-2},{"$f":"Parameters!AP48733","v":1.0416666999999999E-2},{"$f":"Parameters!AQ48733","v":1.0416666999999999E-2},{"$f":"Parameters!AR48733","v":1.0416666999999999E-2},{"$f":"Parameters!AS48733","v":1.0416666999999999E-2},{"$f":"Parameters!AT48733","v":1.0416666999999999E-2},{"$f":"Parameters!AU48733","v":1.0416666999999999E-2},{"$f":"Parameters!AV48733","v":1.0416666999999999E-2},{"$f":"Parameters!AW48733","v":1.0416666999999999E-2},{"$f":"Parameters!AX48733","v":1.0416666999999999E-2},{"$f":"Parameters!AY48733","v":1.0416666999999999E-2},{"$f":"Parameters!AZ48733","v":1.0416666999999999E-2},{"$f":"Parameters!BA48733","v":1.0416666999999999E-2},{"$f":"Parameters!BB48733","v":1.0416666999999999E-2},{"$f":"Parameters!BC48733","v":1.0416666999999999E-2},{"$f":"Parameters!BD48733","v":1.0416666999999999E-2},{"$f":"Parameters!BE48733","v":1.0416666999999999E-2},{"$f":"Parameters!BF48733","v":1.0416666999999999E-2},{"$f":"Parameters!BG48733","v":1.0416666999999999E-2},{"$f":"Parameters!BH48733","v":1.0416666999999999E-2},{"$f":"Parameters!BI48733","v":1.0416666999999999E-2},{"$f":"Parameters!BJ48733","v":1.0416666999999999E-2},{"$f":"Parameters!BK48733","v":1.0416666999999999E-2},{"$f":"Parameters!BL48733","v":1.0416666999999999E-2},{"$f":"Parameters!BM48733","v":1.0416666999999999E-2},{"$f":"Parameters!BN48733","v":1.0416666999999999E-2}]
["S401",{"$f":"Parameters!K48734","v":1.0416666999999999E-2},{"$f":"Parameters!L48734","v":1.0416666999999999E-2},{"$f":"Parameters!M48734","v":1.0416666999999999E-2},{"$f":"Parameters!N48734","v":1.0416666999999999E-2},{"$f":"Parameters!O48734","v":1.0416666999999999E-2},{"$f":"Parameters!P48734","v":1.0416666999999999E-2},{"$f":"Parameters!Q48734","v":1.0416666999999999E-2},{"$f":"Parameters!R48734","v":1.0416666999999999E-2},{"$f":"Parameters!S48734","v":1.0416666999999999E-2},{"$f":"Parameters!T48734","v":1.0416666999999999E-2},{"$f":"Parameters!U48734","v":1.0416666999999999E-2},{"$f":"Parameters!V48734","v":1.0416666999999999E-2},{"$f":"Parameters!W48734","v":1.0416666999999999E-2},{"$f":"Parameters!X48734","v":1.0416666999999999E-2},{"$f":"Parameters!Y48734","v":1.0416666999999999E-2},{"$f":"Parameters!Z48734","v":1.0416666999999999E-2},{"$f":"Parameters!AA48734","v":1.0416666999999999E-2},{"$f":"Parameters!AB48734","v":1.0416666999999999E-2},{"$f":"Parameters!AC48734","v":1.0416666999999999E-2},{"$f":"Parameters!AD48734","v":1.0416666999999999E-2},{"$f":"Parameters!AE48734","v":1.0416666999999999E-2},{"$f":"Parameters!AF48734","v":1.0416666999999999E-2},{"$f":"Parameters!AG48734","v":1.0416666999999999E-2},{"$f":"Parameters!AH48734","v":1.0416666999999999E-2},{"$f":"Parameters!AI48734","v":1.0416666999999999E-2},{"$f":"Parameters!AJ48734","v":1.0416666999999999E-2},{"$f":"Parameters!AK48734","v":1.0416666999999999E-2},{"$f":"Parameters!AL48734","v":1.0416666999999999E-2},{"$f":"Parameters!AM48734","v":1.0416666999999999E-2},{"$f":"Parameters!AN48734","v":1.0416666999999999E-2},{"$f":"Parameters!AO48734","v":1.0416666999999999E-2},{"$f":"Parameters!AP48734","v":1.0416666999999999E-2},{"$f":"Parameters!AQ48734","v":1.0416666999999999E-2},{"$f":"Parameters!AR48734","v":1.0416666999999999E-2},{"$f":"Parameters!AS48734","v":1.0416666999999999E-2},{"$f":"Parameters!AT48734","v":1.0416666999999999E-2},{"$f":"Parameters!AU48734","v":1.0416666999999999E-2},{"$f":"Parameters!AV48734","v":1.0416666999999999E-2},{"$f":"Parameters!AW48734","v":1.0416666999999999E-2},{"$f":"Parameters!AX48734","v":1.0416666999999999E-2},{"$f":"Parameters!AY48734","v":1.0416666999999999E-2},{"$f":"Parameters!AZ48734","v":1.0416666999999999E-2},{"$f":"Parameters!BA48734","v":1.0416666999999999E-2},{"$f":"Parameters!BB48734","v":1.0416666999999999E-2},{"$f":"Parameters!BC48734","v":1.0416666999999999E-2},{"$f":"Parameters!BD48734","v":1.0416666999999999E-2},{"$f":"Parameters!BE48734","v":1.0416666999999999E-2},{"$f":"Parameters!BF48734","v":1.0416666999999999E-2},{"$f":"Parameters!BG48734","v":1.0416666999999999E-2},{"$f":"Parameters!BH48734","v":1.0416666999999999E-2},{"$f":"Parameters!BI48734","v":1.0416666999999999E-2},{"$f":"Parameters!BJ48734","v":1.0416666999999999E-2},{"$f":"Parameters!BK48734","v":1.0416666999999999E-2},{"$f":"Parameters!BL48734","v":1.0416666999999999E-2},{"$f":"Parameters!BM48734","v":1.0416666999999999E-2},{"$f":"Parameters!BN48734","v":1.0416666999999999E-2}]
["S402",{"$f":"Parameters!K48735","v":1.0416666999999999E-2},{"$f":"Parameters!L48735","v":1.0416666999999999E-2},{"$f":"Parameters!M48735","v":1.0416666999999999E-2},{"$f":"Parameters!N48735","v":1.0416666999999999E-2},{"$f":"Parameters!O48735","v":1.0416666999999999E-2},{"$f":"Parameters!P48735","v":1.0416666999999999E-2},{"$f":"Parameters!Q48735","v":1.0416666999999999E-2},{"$f":"Parameters!R48735","v":1.0416666999999999E-2},{"$f":"Parameters!S48735","v":1.0416666999999999E-2},{"$f":"Parameters!T48735","v":1.0416666999999999E-2},{"$f":"Parameters!U48735","v":1.0416666999999999E-2},{"$f":"Parameters!V48735","v":1.0416666999999999E-2},{"$f":"Parameters!W48735","v":1.0416666999999999E-2},{"$f":"Parameters!X48735","v":1.0416666999999999E-2},{"$f":"Parameters!Y48735","v":1.0416666999999999E-2},{"$f":"Parameters!Z48735","v":1.0416666999999999E-2},{"$f":"Parameters!AA48735","v":1.0416666999999999E-2},{"$f":"Parameters!AB48735","v":1.0416666999999999E-2},{"$f":"Parameters!AC48735","v":1.0416666999999999E-2},{"$f":"Parameters!AD48735","v":1.0416666999999999E-2},{"$f":"Parameters!AE48735","v":1.0416666999999999E-2},{"$f":"Parameters!AF48735","v":1.0416666999999999E-2},{"$f":"Parameters!AG48735","v":1.0416666999999999E-2},{"$f":"Parameters!AH48735","v":1.0416666999999999E-2},{"$f":"Parameters!AI48735","v":1.0416666999999999E-2},{"$f":"Parameters!AJ48735","v":1.0416666999999999E-2},{"$f":"Parameters!AK48735","v":1.0416666999999999E-2},{"$f":"Parameters!AL48735","v":1.0416666999999999E-2},{"$f":"Parameters!AM48735","v":1.0416666999999999E-2},{"$f":"Parameters!AN48735","v":1.0416666999999999E-2},{"$f":"Parameters!AO48735","v":1.0416666999999999E-2},{"$f":"Parameters!AP48735","v":1.0416666999999999E-2},{"$f":"Parameters!AQ48735","v":1.0416666999999999E-2},{"$f":"Parameters!AR48735","v":1.0416666999999999E-2},{"$f":"Parameters!AS48735","v":1.0416666999999999E-2},{"$f":"Parameters!AT48735","v":1.0416666999999999E-2},{"$f":"Parameters!AU48735","v":1.0416666999999999E-2},{"$f":"Parameters!AV48735","v":1.0416666999999999E-2},{"$f":"Parameters!AW48735","v":1.0416666999999999E-2},{"$f":"Parameters!AX48735","v":1.0416666999999999E-2},{"$f":"Parameters!AY48735","v":1.0416666999999999E-2},{"$f":"Parameters!AZ48735","v":1.0416666999999999E-2},{"$f":"Parameters!BA48735","v":1.0416666999999999E-2},{"$f":"Parameters!BB48735","v":1.0416666999999999E-2},{"$f":"Parameters!BC48735","v":1.0416666999999999E-2},{"$f":"Parameters!BD48735","v":1.0416666999999999E-2},{"$f":"Parameters!BE48735","v":1.0416666999999999E-2},{"$f":"Parameters!BF48735","v":1.0416666999999999E-2},{"$f":"Parameters!BG48735","v":1.0416666999999999E-2},{"$f":"Parameters!BH48735","v":1.0416666999999999E-2},{"$f":"Parameters!BI48735","v":1.0416666999999999E-2},{"$f":"Parameters!BJ48735","v":1.0416666999999999E-2},{"$f":"Parameters!BK48735","v":1.0416666999999999E-2},{"$f":"Parameters!BL48735","v":1.0416666999999999E-2},{"$f":"Parameters!BM48735","v":1.0416666999999999E-2},{"$f":"Parameters!BN48735","v":1.0416666999999999E-2}]
["S403",{"$f":"Parameters!K48736","v":1.0416666999999999E-2},{"$f":"Parameters!L48736","v":1.0416666999999999E-2},{"$f":"Parameters!M48736","v":1.0416666999999999E-2},{"$f":"Parameters!N48736","v":1.0416666999999999E-2},{"$f":"Parameters!O48736","v":1.0416666999999999E-2},{"$f":"Parameters!P48736","v":1.0416666999999999E-2},{"$f":"Parameters!Q48736","v":1.0416666999999999E-2},{"$f":"Parameters!R48736","v":1.0416666999999999E-2},{"$f":"Parameters!S48736","v":1.0416666999999999E-2},{"$f":"Parameters!T48736","v":1.0416666999999999E-2},{"$f":"Parameters!U48736","v":1.0416666999999999E-2},{"$f":"Parameters!V48736","v":1.0416666999999999E-2},{"$f":"Parameters!W48736","v":1.0416666999999999E-2},{"$f":"Parameters!X48736","v":1.0416666999999999E-2},{"$f":"Parameters!Y48736","v":1.0416666999999999E-2},{"$f":"Parameters!Z48736","v":1.0416666999999999E-2},{"$f":"Parameters!AA48736","v":1.0416666999999999E-2},{"$f":"Parameters!AB48736","v":1.0416666999999999E-2},{"$f":"Parameters!AC48736","v":1.0416666999999999E-2},{"$f":"Parameters!AD48736","v":1.0416666999999999E-2},{"$f":"Parameters!AE48736","v":1.0416666999999999E-2},{"$f":"Parameters!AF48736","v":1.0416666999999999E-2},{"$f":"Parameters!AG48736","v":1.0416666999999999E-2},{"$f":"Parameters!AH48736","v":1.0416666999999999E-2},{"$f":"Parameters!AI48736","v":1.0416666999999999E-2},{"$f":"Parameters!AJ48736","v":1.0416666999999999E-2},{"$f":"Parameters!AK48736","v":1.0416666999999999E-2},{"$f":"Parameters!AL48736","v":1.0416666999999999E-2},{"$f":"Parameters!AM48736","v":1.0416666999999999E-2},{"$f":"Parameters!AN48736","v":1.0416666999999999E-2},{"$f":"Parameters!AO48736","v":1.0416666999999999E-2},{"$f":"Parameters!AP48736","v":1.0416666999999999E-2},{"$f":"Parameters!AQ48736","v":1.0416666999999999E-2},{"$f":"Parameters!AR48736","v":1.0416666999999999E-2},{"$f":"Parameters!AS48736","v":1.0416666999999999E-2},{"$f":"Parameters!AT48736","v":1.0416666999999999E-2},{"$f":"Parameters!AU48736","v":1.0416666999999999E-2},{"$f":"Parameters!AV48736","v":1.0416666999999999E-2},{"$f":"Parameters!AW48736","v":1.0416666999999999E-2},{"$f":"Parameters!AX48736","v":1.0416666999999999E-2},{"$f":"Parameters!AY48736","v":1.0416666999999999E-2},{"$f":"Parameters!AZ48736","v":1.0416666999999999E-2},{"$f":"Parameters!BA48736","v":1.0416666999999999E-2},{"$f":"Parameters!BB48736","v":1.0416666999999999E-2},{"$f":"Parameters!BC48736","v":1.0416666999999999E-2},{"$f":"Parameters!BD48736","v":1.0416666999999999E-2},{"$f":"Parameters!BE48736","v":1.0416666999999999E-2},{"$f":"Parameters!BF48736","v":1.0416666999999999E-2},{"$f":"Parameters!BG48736","v":1.0416666999999999E-2},{"$f":"Parameters!BH48736","v":1.0416666999999999E-2},{"$f":"Parameters!BI48736","v":1.0416666999999999E-2},{"$f":"Parameters!BJ48736","v":1.0416666999999999E-2},{"$f":"Parameters!BK48736","v":1.0416666999999999E-2},{"$f":"Parameters!BL48736","v":1.0416666999999999E-2},{"$f":"Parameters!BM48736","v":1.0416666999999999E-2},{"$f":"Parameters!BN48736","v":1.0416666999999999E-2}]
["S404",{"$f":"Parameters!K48737","v":1.0416666999999999E-2},{"$f":"Parameters!L48737","v":1.0416666999999999E-2},{"$f":"Parameters!M48737","v":1.0416666999999999E-2},{"$f":"Parameters!N48737","v":1.0416666999999999E-2},{"$f":"Parameters!O48737","v":1.0416666999999999E-2},{"$f":"Parameters!P48737","v":1.0416666999999999E-2},{"$f":"Parameters!Q48737","v":1.0416666999999999E-2},{"$f":"Parameters!R48737","v":1.0416666999999999E-2},{"$f":"Parameters!S48737","v":1.0416666999999999E-2},{"$f":"Parameters!T48737","v":1.0416666999999999E-2},{"$f":"Parameters!U48737","v":1.0416666999999999E-2},{"$f":"Parameters!V48737","v":1.0416666999999999E-2},{"$f":"Parameters!W48737","v":1.0416666999999999E-2},{"$f":"Parameters!X48737","v":1.0416666999999999E-2},{"$f":"Parameters!Y48737","v":1.0416666999999999E-2},{"$f":"Parameters!Z48737","v":1.0416666999999999E-2},{"$f":"Parameters!AA48737","v":1.0416666999999999E-2},{"$f":"Parameters!AB48737","v":1.0416666999999999E-2},{"$f":"Parameters!AC48737","v":1.0416666999999999E-2},{"$f":"Parameters!AD48737","v":1.0416666999999999E-2},{"$f":"Parameters!AE48737","v":1.0416666999999999E-2},{"$f":"Parameters!AF48737","v":1.0416666999999999E-2},{"$f":"Parameters!AG48737","v":1.0416666999999999E-2},{"$f":"Parameters!AH48737","v":1.0416666999999999E-2},{"$f":"Parameters!AI48737","v":1.0416666999999999E-2},{"$f":"Parameters!AJ48737","v":1.0416666999999999E-2},{"$f":"Parameters!AK48737","v":1.0416666999999999E-2},{"$f":"Parameters!AL48737","v":1.0416666999999999E-2},{"$f":"Parameters!AM48737","v":1.0416666999999999E-2},{"$f":"Parameters!AN48737","v":1.0416666999999999E-2},{"$f":"Parameters!AO48737","v":1.0416666999999999E-2},{"$f":"Parameters!AP48737","v":1.0416666999999999E-2},{"$f":"Parameters!AQ48737","v":1.0416666999999999E-2},{"$f":"Parameters!AR48737","v":1.0416666999999999E-2},{"$f":"Parameters!AS48737","v":1.0416666999999999E-2},{"$f":"Parameters!AT48737","v":1.0416666999999999E-2},{"$f":"Parameters!AU48737","v":1.0416666999999999E-2},{"$f":"Parameters!AV48737","v":1.0416666999999999E-2},{"$f":"Parameters!AW48737","v":1.0416666999999999E-2},{"$f":"Parameters!AX48737","v":1.0416666999999999E-2},{"$f":"Parameters!AY48737","v":1.0416666999999999E-2},{"$f":"Parameters!AZ48737","v":1.0416666999999999E-2},{"$f":"Parameters!BA48737","v":1.0416666999999999E-2},{"$f":"Parameters!BB48737","v":1.0416666999999999E-2},{"$f":"Parameters!BC48737","v":1.0416666999999999E-2},{"$f":"Parameters!BD48737","v":1.0416666999999999E-2},{"$f":"Parameters!BE48737","v":1.0416666999999999E-2},{"$f":"Parameters!BF48737","v":1.0416666999999999E-2},{"$f":"Parameters!BG48737","v":1.0416666999999999E-2},{"$f":"Parameters!BH48737","v":1.0416666999999999E-2},{"$f":"Parameters!BI48737","v":1.0416666999999999E-2},{"$f":"Parameters!BJ48737","v":1.0416666999999999E-2},{"$f":"Parameters!BK48737","v":1.0416666999999999E-2},{"$f":"Parameters!BL48737","v":1.0416666999999999E-2},{"$f":"Parameters!BM48737","v":1.0416666999999999E-2},{"$f":"Parameters!BN48737","v":1.0416666999999999E-2}]
["S405",{"$f":"Parameters!K48738","v":1.0416666999999999E-2},{"$f":"Parameters!L48738","v":1.0416666999999999E-2},{"$f":"Parameters!M48738","v":1.0416666999999999E-2},{"$f":"Parameters!N48738","v":1.0416666999999999E-2},{"$f":"Parameters!O48738","v":1.0416666999999999E-2},{"$f":"Parameters!P48738","v":1.0416666999999999E-2},{"$f":"Parameters!Q48738","v":1.0416666999999999E-2},{"$f":"Parameters!R48738","v":1.0416666999999999E-2},{"$f":"Parameters!S48738","v":1.0416666999999999E-2},{"$f":"Parameters!T48738","v":1.0416666999999999E-2},{"$f":"Parameters!U48738","v":1.0416666999999999E-2},{"$f":"Parameters!V48738","v":1.0416666999999999E-2},{"$f":"Parameters!W48738","v":1.0416666999999999E-2},{"$f":"Parameters!X48738","v":1.0416666999999999E-2},{"$f":"Parameters!Y48738","v":1.0416666999999999E-2},{"$f":"Parameters!Z48738","v":1.0416666999999999E-2},{"$f":"Parameters!AA48738","v":1.0416666999999999E-2},{"$f":"Parameters!AB48738","v":1.0416666999999999E-2},{"$f":"Parameters!AC48738","v":1.0416666999999999E-2},{"$f":"Parameters!AD48738","v":1.0416666999999999E-2},{"$f":"Parameters!AE48738","v":1.0416666999999999E-2},{"$f":"Parameters!AF48738","v":1.0416666999999999E-2},{"$f":"Parameters!AG48738","v":1.0416666999999999E-2},{"$f":"Parameters!AH48738","v":1.0416666999999999E-2},{"$f":"Parameters!AI48738","v":1.0416666999999999E-2},{"$f":"Parameters!AJ48738","v":1.0416666999999999E-2},{"$f":"Parameters!AK48738","v":1.0416666999999999E-2},{"$f":"Parameters!AL48738","v":1.0416666999999999E-2},{"$f":"Parameters!AM48738","v":1.0416666999999999E-2},{"$f":"Parameters!AN48738","v":1.0416666999999999E-2},{"$f":"Parameters!AO48738","v":1.0416666999999999E-2},{"$f":"Parameters!AP48738","v":1.0416666999999999E-2},{"$f":"Parameters!AQ48738","v":1.0416666999999999E-2},{"$f":"Parameters!AR48738","v":1.0416666999999999E-2},{"$f":"Parameters!AS48738","v":1.0416666999999999E-2},{"$f":"Parameters!AT48738","v":1.0416666999999999E-2},{"$f":"Parameters!AU48738","v":1.0416666999999999E-2},{"$f":"Parameters!AV48738","v":1.0416666999999999E-2},{"$f":"Parameters!AW48738","v":1.0416666999999999E-2},{"$f":"Parameters!AX48738","v":1.0416666999999999E-2},{"$f":"Parameters!AY48738","v":1.0416666999999999E-2},{"$f":"Parameters!AZ48738","v":1.0416666999999999E-2},{"$f":"Parameters!BA48738","v":1.0416666999999999E-2},{"$f":"Parameters!BB48738","v":1.0416666999999999E-2},{"$f":"Parameters!BC48738","v":1.0416666999999999E-2},{"$f":"Parameters!BD48738","v":1.0416666999999999E-2},{"$f":"Parameters!BE48738","v":1.0416666999999999E-2},{"$f":"Parameters!BF48738","v":1.0416666999999999E-2},{"$f":"Parameters!BG48738","v":1.0416666999999999E-2},{"$f":"Parameters!BH48738","v":1.0416666999999999E-2},{"$f":"Parameters!BI48738","v":1.0416666999999999E-2},{"$f":"Parameters!BJ48738","v":1.0416666999999999E-2},{"$f":"Parameters!BK48738","v":1.0416666999999999E-2},{"$f":"Parameters!BL48738","v":1.0416666999999999E-2},{"$f":"Parameters!BM48738","v":1.0416666999999999E-2},{"$f":"Parameters!BN48738","v":1.0416666999999999E-2}]
["S406",{"$f":"Parameters!K48739","v":1.0416666999999999E-2},{"$f":"Parameters!L48739","v":1.0416666999999999E-2},{"$f":"Parameters!M48739","v":1.0416666999999999E-2},{"$f":"Parameters!N48739","v":1.0416666999999999E-2},{"$f":"Parameters!O48739","v":1.0416666999999999E-2},{"$f":"Parameters!P48739","v":1.0416666999999999E-2},{"$f":"Parameters!Q48739","v":1.0416666999999999E-2},{"$f":"Parameters!R48739","v":1.0416666999999999E-2},{"$f":"Parameters!S48739","v":1.0416666999999999E-2},{"$f":"Parameters!T48739","v":1.0416666999999999E-2},{"$f":"Parameters!U48739","v":1.0416666999999999E-2},{"$f":"Parameters!V48739","v":1.0416666999999999E-2},{"$f":"Parameters!W48739","v":1.0416666999999999E-2},{"$f":"Parameters!X48739","v":1.0416666999999999E-2},{"$f":"Parameters!Y48739","v":1.0416666999999999E-2},{"$f":"Parameters!Z48739","v":1.0416666999999999E-2},{"$f":"Parameters!AA48739","v":1.0416666999999999E-2},{"$f":"Parameters!AB48739","v":1.0416666999999999E-2},{"$f":"Parameters!AC48739","v":1.0416666999999999E-2},{"$f":"Parameters!AD48739","v":1.0416666999999999E-2},{"$f":"Parameters!AE48739","v":1.0416666999999999E-2},{"$f":"Parameters!AF48739","v":1.0416666999999999E-2},{"$f":"Parameters!AG48739","v":1.0416666999999999E-2},{"$f":"Parameters!AH48739","v":1.0416666999999999E-2},{"$f":"Parameters!AI48739","v":1.0416666999999999E-2},{"$f":"Parameters!AJ48739","v":1.0416666999999999E-2},{"$f":"Parameters!AK48739","v":1.0416666999999999E-2},{"$f":"Parameters!AL48739","v":1.0416666999999999E-2},{"$f":"Parameters!AM48739","v":1.0416666999999999E-2},{"$f":"Parameters!AN48739","v":1.0416666999999999E-2},{"$f":"Parameters!AO48739","v":1.0416666999999999E-2},{"$f":"Parameters!AP48739","v":1.0416666999999999E-2},{"$f":"Parameters!AQ48739","v":1.0416666999999999E-2},{"$f":"Parameters!AR48739","v":1.0416666999999999E-2},{"$f":"Parameters!AS48739","v":1.0416666999999999E-2},{"$f":"Parameters!AT48739","v":1.0416666999999999E-2},{"$f":"Parameters!AU48739","v":1.0416666999999999E-2},{"$f":"Parameters!AV48739","v":1.0416666999999999E-2},{"$f":"Parameters!AW48739","v":1.0416666999999999E-2},{"$f":"Parameters!AX48739","v":1.0416666999999999E-2},{"$f":"Parameters!AY48739","v":1.0416666999999999E-2},{"$f":"Parameters!AZ48739","v":1.0416666999999999E-2},{"$f":"Parameters!BA48739","v":1.0416666999999999E-2},{"$f":"Parameters!BB48739","v":1.0416666999999999E-2},{"$f":"Parameters!BC48739","v":1.0416666999999999E-2},{"$f":"Parameters!BD48739","v":1.0416666999999999E-2},{"$f":"Parameters!BE48739","v":1.0416666999999999E-2},{"$f":"Parameters!BF48739","v":1.0416666999999999E-2},{"$f":"Parameters!BG48739","v":1.0416666999999999E-2},{"$f":"Parameters!BH48739","v":1.0416666999999999E-2},{"$f":"Parameters!BI48739","v":1.0416666999999999E-2},{"$f":"Parameters!BJ48739","v":1.0416666999999999E-2},{"$f":"Parameters!BK48739","v":1.0416666999999999E-2},{"$f":"Parameters!BL48739","v":1.0416666999999999E-2},{"$f":"Parameters!BM48739","v":1.0416666999999999E-2},{"$f":"Parameters!BN48739","v":1.0416666999999999E-2}]
["S407",{"$f":"Parameters!K48740","v":1.0416666999999999E-2},{"$f":"Parameters!L48740","v":1.0416666999999999E-2},{"$f":"Parameters!M48740","v":1.0416666999999999E-2},{"$f":"Parameters!N48740","v":1.0416666999999999E-2},{"$f":"Parameters!O48740","v":1.0416666999999999E-2},{"$f":"Parameters!P48740","v":1.0416666999999999E-2},{"$f":"Parameters!Q48740","v":1.0416666999999999E-2},{"$f":"Parameters!R48740","v":1.0416666999999999E-2},{"$f":"Parameters!S48740","v":1.0416666999999999E-2},{"$f":"Parameters!T48740","v":1.0416666999999999E-2},{"$f":"Parameters!U48740","v":1.0416666999999999E-2},{"$f":"Parameters!V48740","v":1.0416666999999999E-2},{"$f":"Parameters!W48740","v":1.0416666999999999E-2},{"$f":"Parameters!X48740","v":1.0416666999999999E-2},{"$f":"Parameters!Y48740","v":1.0416666999999999E-2},{"$f":"Parameters!Z48740","v":1.0416666999999999E-2},{"$f":"Parameters!AA48740","v":1.0416666999999999E-2},{"$f":"Parameters!AB48740","v":1.0416666999999999E-2},{"$f":"Parameters!AC48740","v":1.0416666999999999E-2},{"$f":"Parameters!AD48740","v":1.0416666999999999E-2},{"$f":"Parameters!AE48740","v":1.0416666999999999E-2},{"$f":"Parameters!AF48740","v":1.0416666999999999E-2},{"$f":"Parameters!AG48740","v":1.0416666999999999E-2},{"$f":"Parameters!AH48740","v":1.0416666999999999E-2},{"$f":"Parameters!AI48740","v":1.0416666999999999E-2},{"$f":"Parameters!AJ48740","v":1.0416666999999999E-2},{"$f":"Parameters!AK48740","v":1.0416666999999999E-2},{"$f":"Parameters!AL48740","v":1.0416666999999999E-2},{"$f":"Parameters!AM48740","v":1.0416666999999999E-2},{"$f":"Parameters!AN48740","v":1.0416666999999999E-2},{"$f":"Parameters!AO48740","v":1.0416666999999999E-2},{"$f":"Parameters!AP48740","v":1.0416666999999999E-2},{"$f":"Parameters!AQ48740","v":1.0416666999999999E-2},{"$f":"Parameters!AR48740","v":1.0416666999999999E-2},{"$f":"Parameters!AS48740","v":1.0416666999999999E-2},{"$f":"Parameters!AT48740","v":1.0416666999999999E-2},{"$f":"Parameters!AU48740","v":1.0416666999999999E-2},{"$f":"Parameters!AV48740","v":1.0416666999999999E-2},{"$f":"Parameters!AW48740","v":1.0416666999999999E-2},{"$f":"Parameters!AX48740","v":1.0416666999999999E-2},{"$f":"Parameters!AY48740","v":1.0416666999999999E-2},{"$f":"Parameters!AZ48740","v":1.0416666999999999E-2},{"$f":"Parameters!BA48740","v":1.0416666999999999E-2},{"$f":"Parameters!BB48740","v":1.0416666999999999E-2},{"$f":"Parameters!BC48740","v":1.0416666999999999E-2},{"$f":"Parameters!BD48740","v":1.0416666999999999E-2},{"$f":"Parameters!BE48740","v":1.0416666999999999E-2},{"$f":"Parameters!BF48740","v":1.0416666999999999E-2},{"$f":"Parameters!BG48740","v":1.0416666999999999E-2},{"$f":"Parameters!BH48740","v":1.0416666999999999E-2},{"$f":"Parameters!BI48740","v":1.0416666999999999E-2},{"$f":"Parameters!BJ48740","v":1.0416666999999999E-2},{"$f":"Parameters!BK48740","v":1.0416666999999999E-2},{"$f":"Parameters!BL48740","v":1.0416666999999999E-2},{"$f":"Parameters!BM48740","v":1.0416666999999999E-2},{"$f":"Parameters!BN48740","v":1.0416666999999999E-2}]
["S408",{"$f":"Parameters!K48741","v":1.0416666999999999E-2},{"$f":"Parameters!L48741","v":1.0416666999999999E-2},{"$f":"Parameters!M48741","v":1.0416666999999999E-2},{"$f":"Parameters!N48741","v":1.0416666999999999E-2},{"$f":"Parameters!O48741","v":1.0416666999999999E-2},{"$f":"Parameters!P48741","v":1.0416666999999999E-2},{"$f":"Parameters!Q48741","v":1.0416666999999999E-2},{"$f":"Parameters!R48741","v":1.0416666999999999E-2},{"$f":"Parameters!S48741","v":1.0416666999999999E-2},{"$f":"Parameters!T48741","v":1.0416666999999999E-2},{"$f":"Parameters!U48741","v":1.0416666999999999E-2},{"$f":"Parameters!V48741","v":1.0416666999999999E-2},{"$f":"Parameters!W48741","v":1.0416666999999999E-2},{"$f":"Parameters!X48741","v":1.0416666999999999E-2},{"$f":"Parameters!Y48741","v":1.0416666999999999E-2},{"$f":"Parameters!Z48741","v":1.0416666999999999E-2},{"$f":"Parameters!AA48741","v":1.0416666999999999E-2},{"$f":"Parameters!AB48741","v":1.0416666999999999E-2},{"$f":"Parameters!AC48741","v":1.0416666999999999E-2},{"$f":"Parameters!AD48741","v":1.0416666999999999E-2},{"$f":"Parameters!AE48741","v":1.0416666999999999E-2},{"$f":"Parameters!AF48741","v":1.0416666999999999E-2},{"$f":"Parameters!AG48741","v":1.0416666999999999E-2},{"$f":"Parameters!AH48741","v":1.0416666999999999E-2},{"$f":"Parameters!AI48741","v":1.0416666999999999E-2},{"$f":"Parameters!AJ48741","v":1.0416666999999999E-2},{"$f":"Parameters!AK48741","v":1.0416666999999999E-2},{"$f":"Parameters!AL48741","v":1.0416666999999999E-2},{"$f":"Parameters!AM48741","v":1.0416666999999999E-2},{"$f":"Parameters!AN48741","v":1.0416666999999999E-2},{"$f":"Parameters!AO48741","v":1.0416666999999999E-2},{"$f":"Parameters!AP48741","v":1.0416666999999999E-2},{"$f":"Parameters!AQ48741","v":1.0416666999999999E-2},{"$f":"Parameters!AR48741","v":1.0416666999999999E-2},{"$f":"Parameters!AS48741","v":1.0416666999999999E-2},{"$f":"Parameters!AT48741","v":1.0416666999999999E-2},{"$f":"Parameters!AU48741","v":1.0416666999999999E-2},{"$f":"Parameters!AV48741","v":1.0416666999999999E-2},{"$f":"Parameters!AW48741","v":1.0416666999999999E-2},{"$f":"Parameters!AX48741","v":1.0416666999999999E-2},{"$f":"Parameters!AY48741","v":1.0416666999999999E-2},{"$f":"Parameters!AZ48741","v":1.0416666999999999E-2},{"$f":"Parameters!BA48741","v":1.0416666999999999E-2},{"$f":"Parameters!BB48741","v":1.0416666999999999E-2},{"$f":"Parameters!BC48741","v":1.0416666999999999E-2},{"$f":"Parameters!BD48741","v":1.0416666999999999E-2},{"$f":"Parameters!BE48741","v":1.0416666999999999E-2},{"$f":"Parameters!BF48741","v":1.0416666999999999E-2},{"$f":"Parameters!BG48741","v":1.0416666999999999E-2},{"$f":"Parameters!BH48741","v":1.0416666999999999E-2},{"$f":"Parameters!BI48741","v":1.0416666999999999E-2},{"$f":"Parameters!BJ48741","v":1.0416666999999999E-2},{"$f":"Parameters!BK48741","v":1.0416666999999999E-2},{"$f":"Parameters!BL48741","v":1.0416666999999999E-2},{"$f":"Parameters!BM48741","v":1.0416666999999999E-2},{"$f":"Parameters!BN48741","v":1.0416666999999999E-2}]
["S409",{"$f":"Parameters!K48742","v":1.0416666999999999E-2},{"$f":"Parameters!L48742","v":1.0416666999999999E-2},{"$f":"Parameters!M48742","v":1.0416666999999999E-2},{"$f":"Parameters!N48742","v":1.0416666999999999E-2},{"$f":"Parameters!O48742","v":1.0416666999999999E-2},{"$f":"Parameters!P48742","v":1.0416666999999999E-2},{"$f":"Parameters!Q48742","v":1.0416666999999999E-2},{"$f":"Parameters!R48742","v":1.0416666999999999E-2},{"$f":"Parameters!S48742","v":1.0416666999999999E-2},{"$f":"Parameters!T48742","v":1.0416666999999999E-2},{"$f":"Parameters!U48742","v":1.0416666999999999E-2},{"$f":"Parameters!V48742","v":1.0416666999999999E-2},{"$f":"Parameters!W48742","v":1.0416666999999999E-2},{"$f":"Parameters!X48742","v":1.0416666999999999E-2},{"$f":"Parameters!Y48742","v":1.0416666999999999E-2},{"$f":"Parameters!Z48742","v":1.0416666999999999E-2},{"$f":"Parameters!AA48742","v":1.0416666999999999E-2},{"$f":"Parameters!AB48742","v":1.0416666999999999E-2},{"$f":"Parameters!AC48742","v":1.0416666999999999E-2},{"$f":"Parameters!AD48742","v":1.0416666999999999E-2},{"$f":"Parameters!AE48742","v":1.0416666999999999E-2},{"$f":"Parameters!AF48742","v":1.0416666999999999E-2},{"$f":"Parameters!AG48742","v":1.0416666999999999E-2},{"$f":"Parameters!AH48742","v":1.0416666999999999E-2},{"$f":"Parameters!AI48742","v":1.0416666999999999E-2},{"$f":"Parameters!AJ48742","v":1.0416666999999999E-2},{"$f":"Parameters!AK48742","v":1.0416666999999999E-2},{"$f":"Parameters!AL48742","v":1.0416666999999999E-2},{"$f":"Parameters!AM48742","v":1.0416666999999999E-2},{"$f":"Parameters!AN48742","v":1.0416666999999999E-2},{"$f":"Parameters!AO48742","v":1.0416666999999999E-2},{"$f":"Parameters!AP48742","v":1.0416666999999999E-2},{"$f":"Parameters!AQ48742","v":1.0416666999999999E-2},{"$f":"Parameters!AR48742","v":1.0416666999999999E-2},{"$f":"Parameters!AS48742","v":1.0416666999999999E-2},{"$f":"Parameters!AT48742","v":1.0416666999999999E-2},{"$f":"Parameters!AU48742","v":1.0416666999999999E-2},{"$f":"Parameters!AV48742","v":1.0416666999999999E-2},{"$f":"Parameters!AW48742","v":1.0416666999999999E-2},{"$f":"Parameters!AX48742","v":1.0416666999999999E-2},{"$f":"Parameters!AY48742","v":1.0416666999999999E-2},{"$f":"Parameters!AZ48742","v":1.0416666999999999E-2},{"$f":"Parameters!BA48742","v":1.0416666999999999E-2},{"$f":"Parameters!BB48742","v":1.0416666999999999E-2},{"$f":"Parameters!BC48742","v":1.0416666999999999E-2},{"$f":"Parameters!BD48742","v":1.0416666999999999E-2},{"$f":"Parameters!BE48742","v":1.0416666999999999E-2},{"$f":"Parameters!BF48742","v":1.0416666999999999E-2},{"$f":"Parameters!BG48742","v":1.0416666999999999E-2},{"$f":"Parameters!BH48742","v":1.0416666999999999E-2},{"$f":"Parameters!BI48742","v":1.0416666999999999E-2},{"$f":"Parameters!BJ48742","v":1.0416666999999999E-2},{"$f":"Parameters!BK48742","v":1.0416666999999999E-2},{"$f":"Parameters!BL48742","v":1.0416666999999999E-2},{"$f":"Parameters!BM48742","v":1.0416666999999999E-2},{"$f":"Parameters!BN48742","v":1.0416666999999999E-2}]
["S410",{"$f":"Parameters!K48743","v":1.0416666999999999E-2},{"$f":"Parameters!L48743","v":1.0416666999999999E-2},{"$f":"Parameters!M48743","v":1.0416666999999999E-2},{"$f":"Parameters!N48743","v":1.0416666999999999E-2},{"$f":"Parameters!O48743","v":1.0416666999999999E-2},{"$f":"Parameters!P48743","v":1.0416666999999999E-2},{"$f":"Parameters!Q48743","v":1.0416666999999999E-2},{"$f":"Parameters!R48743","v":1.0416666999999999E-2},{"$f":"Parameters!S48743","v":1.0416666999999999E-2},{"$f":"Parameters!T48743","v":1.0416666999999999E-2},{"$f":"Parameters!U48743","v":1.0416666999999999E-2},{"$f":"Parameters!V48743","v":1.0416666999999999E-2},{"$f":"Parameters!W48743","v":1.0416666999999999E-2},{"$f":"Parameters!X48743","v":1.0416666999999999E-2},{"$f":"Parameters!Y48743","v":1.0416666999999999E-2},{"$f":"Parameters!Z48743","v":1.0416666999999999E-2},{"$f":"Parameters!AA48743","v":1.0416666999999999E-2},{"$f":"Parameters!AB48743","v":1.0416666999999999E-2},{"$f":"Parameters!AC48743","v":1.0416666999999999E-2},{"$f":"Parameters!AD48743","v":1.0416666999999999E-2},{"$f":"Parameters!AE48743","v":1.0416666999999999E-2},{"$f":"Parameters!AF48743","v":1.0416666999999999E-2},{"$f":"Parameters!AG48743","v":1.0416666999999999E-2},{"$f":"Parameters!AH48743","v":1.0416666999999999E-2},{"$f":"Parameters!AI48743","v":1.0416666999999999E-2},{"$f":"Parameters!AJ48743","v":1.0416666999999999E-2},{"$f":"Parameters!AK48743","v":1.0416666999999999E-2},{"$f":"Parameters!AL48743","v":1.0416666999999999E-2},{"$f":"Parameters!AM48743","v":1.0416666999999999E-2},{"$f":"Parameters!AN48743","v":1.0416666999999999E-2},{"$f":"Parameters!AO48743","v":1.0416666999999999E-2},{"$f":"Parameters!AP48743","v":1.0416666999999999E-2},{"$f":"Parameters!AQ48743","v":1.0416666999999999E-2},{"$f":"Parameters!AR48743","v":1.0416666999999999E-2},{"$f":"Parameters!AS48743","v":1.0416666999999999E-2},{"$f":"Parameters!AT48743","v":1.0416666999999999E-2},{"$f":"Parameters!AU48743","v":1.0416666999999999E-2},{"$f":"Parameters!AV48743","v":1.0416666999999999E-2},{"$f":"Parameters!AW48743","v":1.0416666999999999E-2},{"$f":"Parameters!AX48743","v":1.0416666999999999E-2},{"$f":"Parameters!AY48743","v":1.0416666999999999E-2},{"$f":"Parameters!AZ48743","v":1.0416666999999999E-2},{"$f":"Parameters!BA48743","v":1.0416666999999999E-2},{"$f":"Parameters!BB48743","v":1.0416666999999999E-2},{"$f":"Parameters!BC48743","v":1.0416666999999999E-2},{"$f":"Parameters!BD48743","v":1.0416666999999999E-2},{"$f":"Parameters!BE48743","v":1.0416666999999999E-2},{"$f":"Parameters!BF48743","v":1.0416666999999999E-2},{"$f":"Parameters!BG48743","v":1.0416666999999999E-2},{"$f":"Parameters!BH48743","v":1.0416666999999999E-2},{"$f":"Parameters!BI48743","v":1.0416666999999999E-2},{"$f":"Parameters!BJ48743","v":1.0416666999999999E-2},{"$f":"Parameters!BK48743","v":1.0416666999999999E-2},{"$f":"Parameters!BL48743","v":1.0416666999999999E-2},{"$f":"Parameters!BM48743","v":1.0416666999999999E-2},{"$f":"Parameters!BN48743","v":1.0416666999999999E-2}]
["S411",{"$f":"Parameters!K48744","v":1.0416666999999999E-2},{"$f":"Parameters!L48744","v":1.0416666999999999E-2},{"$f":"Parameters!M48744","v":1.0416666999999999E-2},{"$f":"Parameters!N48744","v":1.0416666999999999E-2},{"$f":"Parameters!O48744","v":1.0416666999999999E-2},{"$f":"Parameters!P48744","v":1.0416666999999999E-2},{"$f":"Parameters!Q48744","v":1.0416666999999999E-2},{"$f":"Parameters!R48744","v":1.0416666999999999E-2},{"$f":"Parameters!S48744","v":1.0416666999999999E-2},{"$f":"Parameters!T48744","v":1.0416666999999999E-2},{"$f":"Parameters!U48744","v":1.0416666999999999E-2},{"$f":"Parameters!V48744","v":1.0416666999999999E-2},{"$f":"Parameters!W48744","v":1.0416666999999999E-2},{"$f":"Parameters!X48744","v":1.0416666999999999E-2},{"$f":"Parameters!Y48744","v":1.0416666999999999E-2},{"$f":"Parameters!Z48744","v":1.0416666999999999E-2},{"$f":"Parameters!AA48744","v":1.0416666999999999E-2},{"$f":"Parameters!AB48744","v":1.0416666999999999E-2},{"$f":"Parameters!AC48744","v":1.0416666999999999E-2},{"$f":"Parameters!AD48744","v":1.0416666999999999E-2},{"$f":"Parameters!AE48744","v":1.0416666999999999E-2},{"$f":"Parameters!AF48744","v":1.0416666999999999E-2},{"$f":"Parameters!AG48744","v":1.0416666999999999E-2},{"$f":"Parameters!AH48744","v":1.0416666999999999E-2},{"$f":"Parameters!AI48744","v":1.0416666999999999E-2},{"$f":"Parameters!AJ48744","v":1.0416666999999999E-2},{"$f":"Parameters!AK48744","v":1.0416666999999999E-2},{"$f":"Parameters!AL48744","v":1.0416666999999999E-2},{"$f":"Parameters!AM48744","v":1.0416666999999999E-2},{"$f":"Parameters!AN48744","v":1.0416666999999999E-2},{"$f":"Parameters!AO48744","v":1.0416666999999999E-2},{"$f":"Parameters!AP48744","v":1.0416666999999999E-2},{"$f":"Parameters!AQ48744","v":1.0416666999999999E-2},{"$f":"Parameters!AR48744","v":1.0416666999999999E-2},{"$f":"Parameters!AS48744","v":1.0416666999999999E-2},{"$f":"Parameters!AT48744","v":1.0416666999999999E-2},{"$f":"Parameters!AU48744","v":1.0416666999999999E-2},{"$f":"Parameters!AV48744","v":1.0416666999999999E-2},{"$f":"Parameters!AW48744","v":1.0416666999999999E-2},{"$f":"Parameters!AX48744","v":1.0416666999999999E-2},{"$f":"Parameters!AY48744","v":1.0416666999999999E-2},{"$f":"Parameters!AZ48744","v":1.0416666999999999E-2},{"$f":"Parameters!BA48744","v":1.0416666999999999E-2},{"$f":"Parameters!BB48744","v":1.0416666999999999E-2},{"$f":"Parameters!BC48744","v":1.0416666999999999E-2},{"$f":"Parameters!BD48744","v":1.0416666999999999E-2},{"$f":"Parameters!BE48744","v":1.0416666999999999E-2},{"$f":"Parameters!BF48744","v":1.0416666999999999E-2},{"$f":"Parameters!BG48744","v":1.0416666999999999E-2},{"$f":"Parameters!BH48744","v":1.0416666999999999E-2},{"$f":"Parameters!BI48744","v":1.0416666999999999E-2},{"$f":"Parameters!BJ48744","v":1.0416666999999999E-2},{"$f":"Parameters!BK48744","v":1.0416666999999999E-2},{"$f":"Parameters!BL48744","v":1.0416666999999999E-2},{"$f":"Parameters!BM48744","v":1.0416666999999999E-2},{"$f":"Parameters!BN48744","v":1.0416666999999999E-2}]
["S412",{"$f":"Parameters!K48745","v":1.0416666999999999E-2},{"$f":"Parameters!L48745","v":1.0416666999999999E-2},{"$f":"Parameters!M48745","v":1.0416666999999999E-2},{"$f":"Parameters!N48745","v":1.0416666999999999E-2},{"$f":"Parameters!O48745","v":1.0416666999999999E-2},{"$f":"Parameters!P48745","v":1.0416666999999999E-2},{"$f":"Parameters!Q48745","v":1.0416666999999999E-2},{"$f":"Parameters!R48745","v":1.0416666999999999E-2},{"$f":"Parameters!S48745","v":1.0416666999999999E-2},{"$f":"Parameters!T48745","v":1.0416666999999999E-2},{"$f":"Parameters!U48745","v":1.0416666999999999E-2},{"$f":"Parameters!V48745","v":1.0416666999999999E-2},{"$f":"Parameters!W48745","v":1.0416666999999999E-2},{"$f":"Parameters!X48745","v":1.0416666999999999E-2},{"$f":"Parameters!Y48745","v":1.0416666999999999E-2},{"$f":"Parameters!Z48745","v":1.0416666999999999E-2},{"$f":"Parameters!AA48745","v":1.0416666999999999E-2},{"$f":"Parameters!AB48745","v":1.0416666999999999E-2},{"$f":"Parameters!AC48745","v":1.0416666999999999E-2},{"$f":"Parameters!AD48745","v":1.0416666999999999E-2},{"$f":"Parameters!AE48745","v":1.0416666999999999E-2},{"$f":"Parameters!AF48745","v":1.0416666999999999E-2},{"$f":"Parameters!AG48745","v":1.0416666999999999E-2},{"$f":"Parameters!AH48745","v":1.0416666999999999E-2},{"$f":"Parameters!AI48745","v":1.0416666999999999E-2},{"$f":"Parameters!AJ48745","v":1.0416666999999999E-2},{"$f":"Parameters!AK48745","v":1.0416666999999999E-2},{"$f":"Parameters!AL48745","v":1.0416666999999999E-2},{"$f":"Parameters!AM48745","v":1.0416666999999999E-2},{"$f":"Parameters!AN48745","v":1.0416666999999999E-2},{"$f":"Parameters!AO48745","v":1.0416666999999999E-2},{"$f":"Parameters!AP48745","v":1.0416666999999999E-2},{"$f":"Parameters!AQ48745","v":1.0416666999999999E-2},{"$f":"Parameters!AR48745","v":1.0416666999999999E-2},{"$f":"Parameters!AS48745","v":1.0416666999999999E-2},{"$f":"Parameters!AT48745","v":1.0416666999999999E-2},{"$f":"Parameters!AU48745","v":1.0416666999999999E-2},{"$f":"Parameters!AV48745","v":1.0416666999999999E-2},{"$f":"Parameters!AW48745","v":1.0416666999999999E-2},{"$f":"Parameters!AX48745","v":1.0416666999999999E-2},{"$f":"Parameters!AY48745","v":1.0416666999999999E-2},{"$f":"Parameters!AZ48745","v":1.0416666999999999E-2},{"$f":"Parameters!BA48745","v":1.0416666999999999E-2},{"$f":"Parameters!BB48745","v":1.0416666999999999E-2},{"$f":"Parameters!BC48745","v":1.0416666999999999E-2},{"$f":"Parameters!BD48745","v":1.0416666999999999E-2},{"$f":"Parameters!BE48745","v":1.0416666999999999E-2},{"$f":"Parameters!BF48745","v":1.0416666999999999E-2},{"$f":"Parameters!BG48745","v":1.0416666999999999E-2},{"$f":"Parameters!BH48745","v":1.0416666999999999E-2},{"$f":"Parameters!BI48745","v":1.0416666999999999E-2},{"$f":"Parameters!BJ48745","v":1.0416666999999999E-2},{"$f":"Parameters!BK48745","v":1.0416666999999999E-2},{"$f":"Parameters!BL48745","v":1.0416666999999999E-2},{"$f":"Parameters!BM48745","v":1.0416666999999999E-2},{"$f":"Parameters!BN48745","v":1.0416666999999999E-2}]
["S413",{"$f":"Parameters!K48746","v":1.0416666999999999E-2},{"$f":"Parameters!L48746","v":1.0416666999999999E-2},{"$f":"Parameters!M48746","v":1.0416666999999999E-2},{"$f":"Parameters!N48746","v":1.0416666999999999E-2},{"$f":"Parameters!O48746","v":1.0416666999999999E-2},{"$f":"Parameters!P48746","v":1.0416666999999999E-2},{"$f":"Parameters!Q48746","v":1.0416666999999999E-2},{"$f":"Parameters!R48746","v":1.0416666999999999E-2},{"$f":"Parameters!S48746","v":1.0416666999999999E-2},{"$f":"Parameters!T48746","v":1.0416666999999999E-2},{"$f":"Parameters!U48746","v":1.0416666999999999E-2},{"$f":"Parameters!V48746","v":1.0416666999999999E-2},{"$f":"Parameters!W48746","v":1.0416666999999999E-2},{"$f":"Parameters!X48746","v":1.0416666999999999E-2},{"$f":"Parameters!Y48746","v":1.0416666999999999E-2},{"$f":"Parameters!Z48746","v":1.0416666999999999E-2},{"$f":"Parameters!AA48746","v":1.0416666999999999E-2},{"$f":"Parameters!AB48746","v":1.0416666999999999E-2},{"$f":"Parameters!AC48746","v":1.0416666999999999E-2},{"$f":"Parameters!AD48746","v":1.0416666999999999E-2},{"$f":"Parameters!AE48746","v":1.0416666999999999E-2},{"$f":"Parameters!AF48746","v":1.0416666999999999E-2},{"$f":"Parameters!AG48746","v":1.0416666999999999E-2},{"$f":"Parameters!AH48746","v":1.0416666999999999E-2},{"$f":"Parameters!AI48746","v":1.0416666999999999E-2},{"$f":"Parameters!AJ48746","v":1.0416666999999999E-2},{"$f":"Parameters!AK48746","v":1.0416666999999999E-2},{"$f":"Parameters!AL48746","v":1.0416666999999999E-2},{"$f":"Parameters!AM48746","v":1.0416666999999999E-2},{"$f":"Parameters!AN48746","v":1.0416666999999999E-2},{"$f":"Parameters!AO48746","v":1.0416666999999999E-2},{"$f":"Parameters!AP48746","v":1.0416666999999999E-2},{"$f":"Parameters!AQ48746","v":1.0416666999999999E-2},{"$f":"Parameters!AR48746","v":1.0416666999999999E-2},{"$f":"Parameters!AS48746","v":1.0416666999999999E-2},{"$f":"Parameters!AT48746","v":1.0416666999999999E-2},{"$f":"Parameters!AU48746","v":1.0416666999999999E-2},{"$f":"Parameters!AV48746","v":1.0416666999999999E-2},{"$f":"Parameters!AW48746","v":1.0416666999999999E-2},{"$f":"Parameters!AX48746","v":1.0416666999999999E-2},{"$f":"Parameters!AY48746","v":1.0416666999999999E-2},{"$f":"Parameters!AZ48746","v":1.0416666999999999E-2},{"$f":"Parameters!BA48746","v":1.0416666999999999E-2},{"$f":"Parameters!BB48746","v":1.0416666999999999E-2},{"$f":"Parameters!BC48746","v":1.0416666999999999E-2},{"$f":"Parameters!BD48746","v":1.0416666999999999E-2},{"$f":"Parameters!BE48746","v":1.0416666999999999E-2},{"$f":"Parameters!BF48746","v":1.0416666999999999E-2},{"$f":"Parameters!BG48746","v":1.0416666999999999E-2},{"$f":"Parameters!BH48746","v":1.0416666999999999E-2},{"$f":"Parameters!BI48746","v":1.0416666999999999E-2},{"$f":"Parameters!BJ48746","v":1.0416666999999999E-2},{"$f":"Parameters!BK48746","v":1.0416666999999999E-2},{"$f":"Parameters!BL48746","v":1.0416666999999999E-2},{"$f":"Parameters!BM48746","v":1.0416666999999999E-2},{"$f":"Parameters!BN48746","v":1.0416666999999999E-2}]
["S414",{"$f":"Parameters!K48747","v":1.0416666999999999E-2},{"$f":"Parameters!L48747","v":1.0416666999999999E-2},{"$f":"Parameters!M48747","v":1.0416666999999999E-2},{"$f":"Parameters!N48747","v":1.0416666999999999E-2},{"$f":"Parameters!O48747","v":1.0416666999999999E-2},{"$f":"Parameters!P48747","v":1.0416666999999999E-2},{"$f":"Parameters!Q48747","v":1.0416666999999999E-2},{"$f":"Parameters!R48747","v":1.0416666999999999E-2},{"$f":"Parameters!S48747","v":1.0416666999999999E-2},{"$f":"Parameters!T48747","v":1.0416666999999999E-2},{"$f":"Parameters!U48747","v":1.0416666999999999E-2},{"$f":"Parameters!V48747","v":1.0416666999999999E-2},{"$f":"Parameters!W48747","v":1.0416666999999999E-2},{"$f":"Parameters!X48747","v":1.0416666999999999E-2},{"$f":"Parameters!Y48747","v":1.0416666999999999E-2},{"$f":"Parameters!Z48747","v":1.0416666999999999E-2},{"$f":"Parameters!AA48747","v":1.0416666999999999E-2},{"$f":"Parameters!AB48747","v":1.0416666999999999E-2},{"$f":"Parameters!AC48747","v":1.0416666999999999E-2},{"$f":"Parameters!AD48747","v":1.0416666999999999E-2},{"$f":"Parameters!AE48747","v":1.0416666999999999E-2},{"$f":"Parameters!AF48747","v":1.0416666999999999E-2},{"$f":"Parameters!AG48747","v":1.0416666999999999E-2},{"$f":"Parameters!AH48747","v":1.0416666999999999E-2},{"$f":"Parameters!AI48747","v":1.0416666999999999E-2},{"$f":"Parameters!AJ48747","v":1.0416666999999999E-2},{"$f":"Parameters!AK48747","v":1.0416666999999999E-2},{"$f":"Parameters!AL48747","v":1.0416666999999999E-2},{"$f":"Parameters!AM48747","v":1.0416666999999999E-2},{"$f":"Parameters!AN48747","v":1.0416666999999999E-2},{"$f":"Parameters!AO48747","v":1.0416666999999999E-2},{"$f":"Parameters!AP48747","v":1.0416666999999999E-2},{"$f":"Parameters!AQ48747","v":1.0416666999999999E-2},{"$f":"Parameters!AR48747","v":1.0416666999999999E-2},{"$f":"Parameters!AS48747","v":1.0416666999999999E-2},{"$f":"Parameters!AT48747","v":1.0416666999999999E-2},{"$f":"Parameters!AU48747","v":1.0416666999999999E-2},{"$f":"Parameters!AV48747","v":1.0416666999999999E-2},{"$f":"Parameters!AW48747","v":1.0416666999999999E-2},{"$f":"Parameters!AX48747","v":1.0416666999999999E-2},{"$f":"Parameters!AY48747","v":1.0416666999999999E-2},{"$f":"Parameters!AZ48747","v":1.0416666999999999E-2},{"$f":"Parameters!BA48747","v":1.0416666999999999E-2},{"$f":"Parameters!BB48747","v":1.0416666999999999E-2},{"$f":"Parameters!BC48747","v":1.0416666999999999E-2},{"$f":"Parameters!BD48747","v":1.0416666999999999E-2},{"$f":"Parameters!BE48747","v":1.0416666999999999E-2},{"$f":"Parameters!BF48747","v":1.0416666999999999E-2},{"$f":"Parameters!BG48747","v":1.0416666999999999E-2},{"$f":"Parameters!BH48747","v":1.0416666999999999E-2},{"$f":"Parameters!BI48747","v":1.0416666999999999E-2},{"$f":"Parameters!BJ48747","v":1.0416666999999999E-2},{"$f":"Parameters!BK48747","v":1.0416666999999999E-2},{"$f":"Parameters!BL48747","v":1.0416666999999999E-2},{"$f":"Parameters!BM48747","v":1.0416666999999999E-2},{"$f":"Parameters!BN48747","v":1.0416666999999999E-2}]
["S415",{"$f":"Parameters!K48748","v":1.0416666999999999E-2},{"$f":"Parameters!L48748","v":1.0416666999999999E-2},{"$f":"Parameters!M48748","v":1.0416666999999999E-2},{"$f":"Parameters!N48748","v":1.0416666999999999E-2},{"$f":"Parameters!O48748","v":1.0416666999999999E-2},{"$f":"Parameters!P48748","v":1.0416666999999999E-2},{"$f":"Parameters!Q48748","v":1.0416666999999999E-2},{"$f":"Parameters!R48748","v":1.0416666999999999E-2},{"$f":"Parameters!S48748","v":1.0416666999999999E-2},{"$f":"Parameters!T48748","v":1.0416666999999999E-2},{"$f":"Parameters!U48748","v":1.0416666999999999E-2},{"$f":"Parameters!V48748","v":1.0416666999999999E-2},{"$f":"Parameters!W48748","v":1.0416666999999999E-2},{"$f":"Parameters!X48748","v":1.0416666999999999E-2},{"$f":"Parameters!Y48748","v":1.0416666999999999E-2},{"$f":"Parameters!Z48748","v":1.0416666999999999E-2},{"$f":"Parameters!AA48748","v":1.0416666999999999E-2},{"$f":"Parameters!AB48748","v":1.0416666999999999E-2},{"$f":"Parameters!AC48748","v":1.0416666999999999E-2},{"$f":"Parameters!AD48748","v":1.0416666999999999E-2},{"$f":"Parameters!AE48748","v":1.0416666999999999E-2},{"$f":"Parameters!AF48748","v":1.0416666999999999E-2},{"$f":"Parameters!AG48748","v":1.0416666999999999E-2},{"$f":"Parameters!AH48748","v":1.0416666999999999E-2},{"$f":"Parameters!AI48748","v":1.0416666999999999E-2},{"$f":"Parameters!AJ48748","v":1.0416666999999999E-2},{"$f":"Parameters!AK48748","v":1.0416666999999999E-2},{"$f":"Parameters!AL48748","v":1.0416666999999999E-2},{"$f":"Parameters!AM48748","v":1.0416666999999999E-2},{"$f":"Parameters!AN48748","v":1.0416666999999999E-2},{"$f":"Parameters!AO48748","v":1.0416666999999999E-2},{"$f":"Parameters!AP48748","v":1.0416666999999999E-2},{"$f":"Parameters!AQ48748","v":1.0416666999999999E-2},{"$f":"Parameters!AR48748","v":1.0416666999999999E-2},{"$f":"Parameters!AS48748","v":1.0416666999999999E-2},{"$f":"Parameters!AT48748","v":1.0416666999999999E-2},{"$f":"Parameters!AU48748","v":1.0416666999999999E-2},{"$f":"Parameters!AV48748","v":1.0416666999999999E-2},{"$f":"Parameters!AW48748","v":1.0416666999999999E-2},{"$f":"Parameters!AX48748","v":1.0416666999999999E-2},{"$f":"Parameters!AY48748","v":1.0416666999999999E-2},{"$f":"Parameters!AZ48748","v":1.0416666999999999E-2},{"$f":"Parameters!BA48748","v":1.0416666999999999E-2},{"$f":"Parameters!BB48748","v":1.0416666999999999E-2},{"$f":"Parameters!BC48748","v":1.0416666999999999E-2},{"$f":"Parameters!BD48748","v":1.0416666999999999E-2},{"$f":"Parameters!BE48748","v":1.0416666999999999E-2},{"$f":"Parameters!BF48748","v":1.0416666999999999E-2},{"$f":"Parameters!BG48748","v":1.0416666999999999E-2},{"$f":"Parameters!BH48748","v":1.0416666999999999E-2},{"$f":"Parameters!BI48748","v":1.0416666999999999E-2},{"$f":"Parameters!BJ48748","v":1.0416666999999999E-2},{"$f":"Parameters!BK48748","v":1.0416666999999999E-2},{"$f":"Parameters!BL48748","v":1.0416666999999999E-2},{"$f":"Parameters!BM48748","v":1.0416666999999999E-2},{"$f":"Parameters!BN48748","v":1.0416666999999999E-2}]
["S416",{"$f":"Parameters!K48749","v":1.0416666999999999E-2},{"$f":"Parameters!L48749","v":1.0416666999999999E-2},{"$f":"Parameters!M48749","v":1.0416666999999999E-2},{"$f":"Parameters!N48749","v":1.0416666999999999E-2},{"$f":"Parameters!O48749","v":1.0416666999999999E-2},{"$f":"Parameters!P48749","v":1.0416666999999999E-2},{"$f":"Parameters!Q48749","v":1.0416666999999999E-2},{"$f":"Parameters!R48749","v":1.0416666999999999E-2},{"$f":"Parameters!S48749","v":1.0416666999999999E-2},{"$f":"Parameters!T48749","v":1.0416666999999999E-2},{"$f":"Parameters!U48749","v":1.0416666999999999E-2},{"$f":"Parameters!V48749","v":1.0416666999999999E-2},{"$f":"Parameters!W48749","v":1.0416666999999999E-2},{"$f":"Parameters!X48749","v":1.0416666999999999E-2},{"$f":"Parameters!Y48749","v":1.0416666999999999E-2},{"$f":"Parameters!Z48749","v":1.0416666999999999E-2},{"$f":"Parameters!AA48749","v":1.0416666999999999E-2},{"$f":"Parameters!AB48749","v":1.0416666999999999E-2},{"$f":"Parameters!AC48749","v":1.0416666999999999E-2},{"$f":"Parameters!AD48749","v":1.0416666999999999E-2},{"$f":"Parameters!AE48749","v":1.0416666999999999E-2},{"$f":"Parameters!AF48749","v":1.0416666999999999E-2},{"$f":"Parameters!AG48749","v":1.0416666999999999E-2},{"$f":"Parameters!AH48749","v":1.0416666999999999E-2},{"$f":"Parameters!AI48749","v":1.0416666999999999E-2},{"$f":"Parameters!AJ48749","v":1.0416666999999999E-2},{"$f":"Parameters!AK48749","v":1.0416666999999999E-2},{"$f":"Parameters!AL48749","v":1.0416666999999999E-2},{"$f":"Parameters!AM48749","v":1.0416666999999999E-2},{"$f":"Parameters!AN48749","v":1.0416666999999999E-2},{"$f":"Parameters!AO48749","v":1.0416666999999999E-2},{"$f":"Parameters!AP48749","v":1.0416666999999999E-2},{"$f":"Parameters!AQ48749","v":1.0416666999999999E-2},{"$f":"Parameters!AR48749","v":1.0416666999999999E-2},{"$f":"Parameters!AS48749","v":1.0416666999999999E-2},{"$f":"Parameters!AT48749","v":1.0416666999999999E-2},{"$f":"Parameters!AU48749","v":1.0416666999999999E-2},{"$f":"Parameters!AV48749","v":1.0416666999999999E-2},{"$f":"Parameters!AW48749","v":1.0416666999999999E-2},{"$f":"Parameters!AX48749","v":1.0416666999999999E-2},{"$f":"Parameters!AY48749","v":1.0416666999999999E-2},{"$f":"Parameters!AZ48749","v":1.0416666999999999E-2},{"$f":"Parameters!BA48749","v":1.0416666999999999E-2},{"$f":"Parameters!BB48749","v":1.0416666999999999E-2},{"$f":"Parameters!BC48749","v":1.0416666999999999E-2},{"$f":"Parameters!BD48749","v":1.0416666999999999E-2},{"$f":"Parameters!BE48749","v":1.0416666999999999E-2},{"$f":"Parameters!BF48749","v":1.0416666999999999E-2},{"$f":"Parameters!BG48749","v":1.0416666999999999E-2},{"$f":"Parameters!BH48749","v":1.0416666999999999E-2},{"$f":"Parameters!BI48749","v":1.0416666999999999E-2},{"$f":"Parameters!BJ48749","v":1.0416666999999999E-2},{"$f":"Parameters!BK48749","v":1.0416666999999999E-2},{"$f":"Parameters!BL48749","v":1.0416666999999999E-2},{"$f":"Parameters!BM48749","v":1.0416666999999999E-2},{"$f":"Parameters!BN48749","v":1.0416666999999999E-2}]
["S417",{"$f":"Parameters!K48750","v":1.0416666999999999E-2},{"$f":"Parameters!L48750","v":1.0416666999999999E-2},{"$f":"Parameters!M48750","v":1.0416666999999999E-2},{"$f":"Parameters!N48750","v":1.0416666999999999E-2},{"$f":"Parameters!O48750","v":1.0416666999999999E-2},{"$f":"Parameters!P48750","v":1.0416666999999999E-2},{"$f":"Parameters!Q48750","v":1.0416666999999999E-2},{"$f":"Parameters!R48750","v":1.0416666999999999E-2},{"$f":"Parameters!S48750","v":1.0416666999999999E-2},{"$f":"Parameters!T48750","v":1.0416666999999999E-2},{"$f":"Parameters!U48750","v":1.0416666999999999E-2},{"$f":"Parameters!V48750","v":1.0416666999999999E-2},{"$f":"Parameters!W48750","v":1.0416666999999999E-2},{"$f":"Parameters!X48750","v":1.0416666999999999E-2},{"$f":"Parameters!Y48750","v":1.0416666999999999E-2},{"$f":"Parameters!Z48750","v":1.0416666999999999E-2},{"$f":"Parameters!AA48750","v":1.0416666999999999E-2},{"$f":"Parameters!AB48750","v":1.0416666999999999E-2},{"$f":"Parameters!AC48750","v":1.0416666999999999E-2},{"$f":"Parameters!AD48750","v":1.0416666999999999E-2},{"$f":"Parameters!AE48750","v":1.0416666999999999E-2},{"$f":"Parameters!AF48750","v":1.0416666999999999E-2},{"$f":"Parameters!AG48750","v":1.0416666999999999E-2},{"$f":"Parameters!AH48750","v":1.0416666999999999E-2},{"$f":"Parameters!AI48750","v":1.0416666999999999E-2},{"$f":"Parameters!AJ48750","v":1.0416666999999999E-2},{"$f":"Parameters!AK48750","v":1.0416666999999999E-2},{"$f":"Parameters!AL48750","v":1.0416666999999999E-2},{"$f":"Parameters!AM48750","v":1.0416666999999999E-2},{"$f":"Parameters!AN48750","v":1.0416666999999999E-2},{"$f":"Parameters!AO48750","v":1.0416666999999999E-2},{"$f":"Parameters!AP48750","v":1.0416666999999999E-2},{"$f":"Parameters!AQ48750","v":1.0416666999999999E-2},{"$f":"Parameters!AR48750","v":1.0416666999999999E-2},{"$f":"Parameters!AS48750","v":1.0416666999999999E-2},{"$f":"Parameters!AT48750","v":1.0416666999999999E-2},{"$f":"Parameters!AU48750","v":1.0416666999999999E-2},{"$f":"Parameters!AV48750","v":1.0416666999999999E-2},{"$f":"Parameters!AW48750","v":1.0416666999999999E-2},{"$f":"Parameters!AX48750","v":1.0416666999999999E-2},{"$f":"Parameters!AY48750","v":1.0416666999999999E-2},{"$f":"Parameters!AZ48750","v":1.0416666999999999E-2},{"$f":"Parameters!BA48750","v":1.0416666999999999E-2},{"$f":"Parameters!BB48750","v":1.0416666999999999E-2},{"$f":"Parameters!BC48750","v":1.0416666999999999E-2},{"$f":"Parameters!BD48750","v":1.0416666999999999E-2},{"$f":"Parameters!BE48750","v":1.0416666999999999E-2},{"$f":"Parameters!BF48750","v":1.0416666999999999E-2},{"$f":"Parameters!BG48750","v":1.0416666999999999E-2},{"$f":"Parameters!BH48750","v":1.0416666999999999E-2},{"$f":"Parameters!BI48750","v":1.0416666999999999E-2},{"$f":"Parameters!BJ48750","v":1.0416666999999999E-2},{"$f":"Parameters!BK48750","v":1.0416666999999999E-2},{"$f":"Parameters!BL48750","v":1.0416666999999999E-2},{"$f":"Parameters!BM48750","v":1.0416666999999999E-2},{"$f":"Parameters!BN48750","v":1.0416666999999999E-2}]
["S418",{"$f":"Parameters!K48751","v":1.0416666999999999E-2},{"$f":"Parameters!L48751","v":1.0416666999999999E-2},{"$f":"Parameters!M48751","v":1.0416666999999999E-2},{"$f":"Parameters!N48751","v":1.0416666999999999E-2},{"$f":"Parameters!O48751","v":1.0416666999999999E-2},{"$f":"Parameters!P48751","v":1.0416666999999999E-2},{"$f":"Parameters!Q48751","v":1.0416666999999999E-2},{"$f":"Parameters!R48751","v":1.0416666999999999E-2},{"$f":"Parameters!S48751","v":1.0416666999999999E-2},{"$f":"Parameters!T48751","v":1.0416666999999999E-2},{"$f":"Parameters!U48751","v":1.0416666999999999E-2},{"$f":"Parameters!V48751","v":1.0416666999999999E-2},{"$f":"Parameters!W48751","v":1.0416666999999999E-2},{"$f":"Parameters!X48751","v":1.0416666999999999E-2},{"$f":"Parameters!Y48751","v":1.0416666999999999E-2},{"$f":"Parameters!Z48751","v":1.0416666999999999E-2},{"$f":"Parameters!AA48751","v":1.0416666999999999E-2},{"$f":"Parameters!AB48751","v":1.0416666999999999E-2},{"$f":"Parameters!AC48751","v":1.0416666999999999E-2},{"$f":"Parameters!AD48751","v":1.0416666999999999E-2},{"$f":"Parameters!AE48751","v":1.0416666999999999E-2},{"$f":"Parameters!AF48751","v":1.0416666999999999E-2},{"$f":"Parameters!AG48751","v":1.0416666999999999E-2},{"$f":"Parameters!AH48751","v":1.0416666999999999E-2},{"$f":"Parameters!AI48751","v":1.0416666999999999E-2},{"$f":"Parameters!AJ48751","v":1.0416666999999999E-2},{"$f":"Parameters!AK48751","v":1.0416666999999999E-2},{"$f":"Parameters!AL48751","v":1.0416666999999999E-2},{"$f":"Parameters!AM48751","v":1.0416666999999999E-2},{"$f":"Parameters!AN48751","v":1.0416666999999999E-2},{"$f":"Parameters!AO48751","v":1.0416666999999999E-2},{"$f":"Parameters!AP48751","v":1.0416666999999999E-2},{"$f":"Parameters!AQ48751","v":1.0416666999999999E-2},{"$f":"Parameters!AR48751","v":1.0416666999999999E-2},{"$f":"Parameters!AS48751","v":1.0416666999999999E-2},{"$f":"Parameters!AT48751","v":1.0416666999999999E-2},{"$f":"Parameters!AU48751","v":1.0416666999999999E-2},{"$f":"Parameters!AV48751","v":1.0416666999999999E-2},{"$f":"Parameters!AW48751","v":1.0416666999999999E-2},{"$f":"Parameters!AX48751","v":1.0416666999999999E-2},{"$f":"Parameters!AY48751","v":1.0416666999999999E-2},{"$f":"Parameters!AZ48751","v":1.0416666999999999E-2},{"$f":"Parameters!BA48751","v":1.0416666999999999E-2},{"$f":"Parameters!BB48751","v":1.0416666999999999E-2},{"$f":"Parameters!BC48751","v":1.0416666999999999E-2},{"$f":"Parameters!BD48751","v":1.0416666999999999E-2},{"$f":"Parameters!BE48751","v":1.0416666999999999E-2},{"$f":"Parameters!BF48751","v":1.0416666999999999E-2},{"$f":"Parameters!BG48751","v":1.0416666999999999E-2},{"$f":"Parameters!BH48751","v":1.0416666999999999E-2},{"$f":"Parameters!BI48751","v":1.0416666999999999E-2},{"$f":"Parameters!BJ48751","v":1.0416666999999999E-2},{"$f":"Parameters!BK48751","v":1.0416666999999999E-2},{"$f":"Parameters!BL48751","v":1.0416666999999999E-2},{"$f":"Parameters!BM48751","v":1.0416666999999999E-2},{"$f":"Parameters!BN48751","v":1.0416666999999999E-2}]
["S419",{"$f":"Parameters!K48752","v":1.0416666999999999E-2},{"$f":"Parameters!L48752","v":1.0416666999999999E-2},{"$f":"Parameters!M48752","v":1.0416666999999999E-2},{"$f":"Parameters!N48752","v":1.0416666999999999E-2},{"$f":"Parameters!O48752","v":1.0416666999999999E-2},{"$f":"Parameters!P48752","v":1.0416666999999999E-2},{"$f":"Parameters!Q48752","v":1.0416666999999999E-2},{"$f":"Parameters!R48752","v":1.0416666999999999E-2},{"$f":"Parameters!S48752","v":1.0416666999999999E-2},{"$f":"Parameters!T48752","v":1.0416666999999999E-2},{"$f":"Parameters!U48752","v":1.0416666999999999E-2},{"$f":"Parameters!V48752","v":1.0416666999999999E-2},{"$f":"Parameters!W48752","v":1.0416666999999999E-2},{"$f":"Parameters!X48752","v":1.0416666999999999E-2},{"$f":"Parameters!Y48752","v":1.0416666999999999E-2},{"$f":"Parameters!Z48752","v":1.0416666999999999E-2},{"$f":"Parameters!AA48752","v":1.0416666999999999E-2},{"$f":"Parameters!AB48752","v":1.0416666999999999E-2},{"$f":"Parameters!AC48752","v":1.0416666999999999E-2},{"$f":"Parameters!AD48752","v":1.0416666999999999E-2},{"$f":"Parameters!AE48752","v":1.0416666999999999E-2},{"$f":"Parameters!AF48752","v":1.0416666999999999E-2},{"$f":"Parameters!AG48752","v":1.0416666999999999E-2},{"$f":"Parameters!AH48752","v":1.0416666999999999E-2},{"$f":"Parameters!AI48752","v":1.0416666999999999E-2},{"$f":"Parameters!AJ48752","v":1.0416666999999999E-2},{"$f":"Parameters!AK48752","v":1.0416666999999999E-2},{"$f":"Parameters!AL48752","v":1.0416666999999999E-2},{"$f":"Parameters!AM48752","v":1.0416666999999999E-2},{"$f":"Parameters!AN48752","v":1.0416666999999999E-2},{"$f":"Parameters!AO48752","v":1.0416666999999999E-2},{"$f":"Parameters!AP48752","v":1.0416666999999999E-2},{"$f":"Parameters!AQ48752","v":1.0416666999999999E-2},{"$f":"Parameters!AR48752","v":1.0416666999999999E-2},{"$f":"Parameters!AS48752","v":1.0416666999999999E-2},{"$f":"Parameters!AT48752","v":1.0416666999999999E-2},{"$f":"Parameters!AU48752","v":1.0416666999999999E-2},{"$f":"Parameters!AV48752","v":1.0416666999999999E-2},{"$f":"Parameters!AW48752","v":1.0416666999999999E-2},{"$f":"Parameters!AX48752","v":1.0416666999999999E-2},{"$f":"Parameters!AY48752","v":1.0416666999999999E-2},{"$f":"Parameters!AZ48752","v":1.0416666999999999E-2},{"$f":"Parameters!BA48752","v":1.0416666999999999E-2},{"$f":"Parameters!BB48752","v":1.0416666999999999E-2},{"$f":"Parameters!BC48752","v":1.0416666999999999E-2},{"$f":"Parameters!BD48752","v":1.0416666999999999E-2},{"$f":"Parameters!BE48752","v":1.0416666999999999E-2},{"$f":"Parameters!BF48752","v":1.0416666999999999E-2},{"$f":"Parameters!BG48752","v":1.0416666999999999E-2},{"$f":"Parameters!BH48752","v":1.0416666999999999E-2},{"$f":"Parameters!BI48752","v":1.0416666999999999E-2},{"$f":"Parameters!BJ48752","v":1.0416666999999999E-2},{"$f":"Parameters!BK48752","v":1.0416666999999999E-2},{"$f":"Parameters!BL48752","v":1.0416666999999999E-2},{"$f":"Parameters!BM48752","v":1.0416666999999999E-2},{"$f":"Parameters!BN48752","v":1.0416666999999999E-2}]
["S420",{"$f":"Parameters!K48753","v":1.0416666999999999E-2},{"$f":"Parameters!L48753","v":1.0416666999999999E-2},{"$f":"Parameters!M48753","v":1.0416666999999999E-2},{"$f":"Parameters!N48753","v":1.0416666999999999E-2},{"$f":"Parameters!O48753","v":1.0416666999999999E-2},{"$f":"Parameters!P48753","v":1.0416666999999999E-2},{"$f":"Parameters!Q48753","v":1.0416666999999999E-2},{"$f":"Parameters!R48753","v":1.0416666999999999E-2},{"$f":"Parameters!S48753","v":1.0416666999999999E-2},{"$f":"Parameters!T48753","v":1.0416666999999999E-2},{"$f":"Parameters!U48753","v":1.0416666999999999E-2},{"$f":"Parameters!V48753","v":1.0416666999999999E-2},{"$f":"Parameters!W48753","v":1.0416666999999999E-2},{"$f":"Parameters!X48753","v":1.0416666999999999E-2},{"$f":"Parameters!Y48753","v":1.0416666999999999E-2},{"$f":"Parameters!Z48753","v":1.0416666999999999E-2},{"$f":"Parameters!AA48753","v":1.0416666999999999E-2},{"$f":"Parameters!AB48753","v":1.0416666999999999E-2},{"$f":"Parameters!AC48753","v":1.0416666999999999E-2},{"$f":"Parameters!AD48753","v":1.0416666999999999E-2},{"$f":"Parameters!AE48753","v":1.0416666999999999E-2},{"$f":"Parameters!AF48753","v":1.0416666999999999E-2},{"$f":"Parameters!AG48753","v":1.0416666999999999E-2},{"$f":"Parameters!AH48753","v":1.0416666999999999E-2},{"$f":"Parameters!AI48753","v":1.0416666999999999E-2},{"$f":"Parameters!AJ48753","v":1.0416666999999999E-2},{"$f":"Parameters!AK48753","v":1.0416666999999999E-2},{"$f":"Parameters!AL48753","v":1.0416666999999999E-2},{"$f":"Parameters!AM48753","v":1.0416666999999999E-2},{"$f":"Parameters!AN48753","v":1.0416666999999999E-2},{"$f":"Parameters!AO48753","v":1.0416666999999999E-2},{"$f":"Parameters!AP48753","v":1.0416666999999999E-2},{"$f":"Parameters!AQ48753","v":1.0416666999999999E-2},{"$f":"Parameters!AR48753","v":1.0416666999999999E-2},{"$f":"Parameters!AS48753","v":1.0416666999999999E-2},{"$f":"Parameters!AT48753","v":1.0416666999999999E-2},{"$f":"Parameters!AU48753","v":1.0416666999999999E-2},{"$f":"Parameters!AV48753","v":1.0416666999999999E-2},{"$f":"Parameters!AW48753","v":1.0416666999999999E-2},{"$f":"Parameters!AX48753","v":1.0416666999999999E-2},{"$f":"Parameters!AY48753","v":1.0416666999999999E-2},{"$f":"Parameters!AZ48753","v":1.0416666999999999E-2},{"$f":"Parameters!BA48753","v":1.0416666999999999E-2},{"$f":"Parameters!BB48753","v":1.0416666999999999E-2},{"$f":"Parameters!BC48753","v":1.0416666999999999E-2},{"$f":"Parameters!BD48753","v":1.0416666999999999E-2},{"$f":"Parameters!BE48753","v":1.0416666999999999E-2},{"$f":"Parameters!BF48753","v":1.0416666999999999E-2},{"$f":"Parameters!BG48753","v":1.0416666999999999E-2},{"$f":"Parameters!BH48753","v":1.0416666999999999E-2},{"$f":"Parameters!BI48753","v":1.0416666999999999E-2},{"$f":"Parameters!BJ48753","v":1.0416666999999999E-2},{"$f":"Parameters!BK48753","v":1.0416666999999999E-2},{"$f":"Parameters!BL48753","v":1.0416666999999999E-2},{"$f":"Parameters!BM48753","v":1.0416666999999999E-2},{"$f":"Parameters!BN48753","v":1.0416666999999999E-2}]
["S421",{"$f":"Parameters!K48754","v":1.0416666999999999E-2},{"$f":"Parameters!L48754","v":1.0416666999999999E-2},{"$f":"Parameters!M48754","v":1.0416666999999999E-2},{"$f":"Parameters!N48754","v":1.0416666999999999E-2},{"$f":"Parameters!O48754","v":1.0416666999999999E-2},{"$f":"Parameters!P48754","v":1.0416666999999999E-2},{"$f":"Parameters!Q48754","v":1.0416666999999999E-2},{"$f":"Parameters!R48754","v":1.0416666999999999E-2},{"$f":"Parameters!S48754","v":1.0416666999999999E-2},{"$f":"Parameters!T48754","v":1.0416666999999999E-2},{"$f":"Parameters!U48754","v":1.0416666999999999E-2},{"$f":"Parameters!V48754","v":1.0416666999999999E-2},{"$f":"Parameters!W48754","v":1.0416666999999999E-2},{"$f":"Parameters!X48754","v":1.0416666999999999E-2},{"$f":"Parameters!Y48754","v":1.0416666999999999E-2},{"$f":"Parameters!Z48754","v":1.0416666999999999E-2},{"$f":"Parameters!AA48754","v":1.0416666999999999E-2},{"$f":"Parameters!AB48754","v":1.0416666999999999E-2},{"$f":"Parameters!AC48754","v":1.0416666999999999E-2},{"$f":"Parameters!AD48754","v":1.0416666999999999E-2},{"$f":"Parameters!AE48754","v":1.0416666999999999E-2},{"$f":"Parameters!AF48754","v":1.0416666999999999E-2},{"$f":"Parameters!AG48754","v":1.0416666999999999E-2},{"$f":"Parameters!AH48754","v":1.0416666999999999E-2},{"$f":"Parameters!AI48754","v":1.0416666999999999E-2},{"$f":"Parameters!AJ48754","v":1.0416666999999999E-2},{"$f":"Parameters!AK48754","v":1.0416666999999999E-2},{"$f":"Parameters!AL48754","v":1.0416666999999999E-2},{"$f":"Parameters!AM48754","v":1.0416666999999999E-2},{"$f":"Parameters!AN48754","v":1.0416666999999999E-2},{"$f":"Parameters!AO48754","v":1.0416666999999999E-2},{"$f":"Parameters!AP48754","v":1.0416666999999999E-2},{"$f":"Parameters!AQ48754","v":1.0416666999999999E-2},{"$f":"Parameters!AR48754","v":1.0416666999999999E-2},{"$f":"Parameters!AS48754","v":1.0416666999999999E-2},{"$f":"Parameters!AT48754","v":1.0416666999999999E-2},{"$f":"Parameters!AU48754","v":1.0416666999999999E-2},{"$f":"Parameters!AV48754","v":1.0416666999999999E-2},{"$f":"Parameters!AW48754","v":1.0416666999999999E-2},{"$f":"Parameters!AX48754","v":1.0416666999999999E-2},{"$f":"Parameters!AY48754","v":1.0416666999999999E-2},{"$f":"Parameters!AZ48754","v":1.0416666999999999E-2},{"$f":"Parameters!BA48754","v":1.0416666999999999E-2},{"$f":"Parameters!BB48754","v":1.0416666999999999E-2},{"$f":"Parameters!BC48754","v":1.0416666999999999E-2},{"$f":"Parameters!BD48754","v":1.0416666999999999E-2},{"$f":"Parameters!BE48754","v":1.0416666999999999E-2},{"$f":"Parameters!BF48754","v":1.0416666999999999E-2},{"$f":"Parameters!BG48754","v":1.0416666999999999E-2},{"$f":"Parameters!BH48754","v":1.0416666999999999E-2},{"$f":"Parameters!BI48754","v":1.0416666999999999E-2},{"$f":"Parameters!BJ48754","v":1.0416666999999999E-2},{"$f":"Parameters!BK48754","v":1.0416666999999999E-2},{"$f":"Parameters!BL48754","v":1.0416666999999999E-2},{"$f":"Parameters!BM48754","v":1.0416666999999999E-2},{"$f":"Parameters!BN48754","v":1.0416666999999999E-2}]
["S422",{"$f":"Parameters!K48755","v":1.0416666999999999E-2},{"$f":"Parameters!L48755","v":1.0416666999999999E-2},{"$f":"Parameters!M48755","v":1.0416666999999999E-2},{"$f":"Parameters!N48755","v":1.0416666999999999E-2},{"$f":"Parameters!O48755","v":1.0416666999999999E-2},{"$f":"Parameters!P48755","v":1.0416666999999999E-2},{"$f":"Parameters!Q48755","v":1.0416666999999999E-2},{"$f":"Parameters!R48755","v":1.0416666999999999E-2},{"$f":"Parameters!S48755","v":1.0416666999999999E-2},{"$f":"Parameters!T48755","v":1.0416666999999999E-2},{"$f":"Parameters!U48755","v":1.0416666999999999E-2},{"$f":"Parameters!V48755","v":1.0416666999999999E-2},{"$f":"Parameters!W48755","v":1.0416666999999999E-2},{"$f":"Parameters!X48755","v":1.0416666999999999E-2},{"$f":"Parameters!Y48755","v":1.0416666999999999E-2},{"$f":"Parameters!Z48755","v":1.0416666999999999E-2},{"$f":"Parameters!AA48755","v":1.0416666999999999E-2},{"$f":"Parameters!AB48755","v":1.0416666999999999E-2},{"$f":"Parameters!AC48755","v":1.0416666999999999E-2},{"$f":"Parameters!AD48755","v":1.0416666999999999E-2},{"$f":"Parameters!AE48755","v":1.0416666999999999E-2},{"$f":"Parameters!AF48755","v":1.0416666999999999E-2},{"$f":"Parameters!AG48755","v":1.0416666999999999E-2},{"$f":"Parameters!AH48755","v":1.0416666999999999E-2},{"$f":"Parameters!AI48755","v":1.0416666999999999E-2},{"$f":"Parameters!AJ48755","v":1.0416666999999999E-2},{"$f":"Parameters!AK48755","v":1.0416666999999999E-2},{"$f":"Parameters!AL48755","v":1.0416666999999999E-2},{"$f":"Parameters!AM48755","v":1.0416666999999999E-2},{"$f":"Parameters!AN48755","v":1.0416666999999999E-2},{"$f":"Parameters!AO48755","v":1.0416666999999999E-2},{"$f":"Parameters!AP48755","v":1.0416666999999999E-2},{"$f":"Parameters!AQ48755","v":1.0416666999999999E-2},{"$f":"Parameters!AR48755","v":1.0416666999999999E-2},{"$f":"Parameters!AS48755","v":1.0416666999999999E-2},{"$f":"Parameters!AT48755","v":1.0416666999999999E-2},{"$f":"Parameters!AU48755","v":1.0416666999999999E-2},{"$f":"Parameters!AV48755","v":1.0416666999999999E-2},{"$f":"Parameters!AW48755","v":1.0416666999999999E-2},{"$f":"Parameters!AX48755","v":1.0416666999999999E-2},{"$f":"Parameters!AY48755","v":1.0416666999999999E-2},{"$f":"Parameters!AZ48755","v":1.0416666999999999E-2},{"$f":"Parameters!BA48755","v":1.0416666999999999E-2},{"$f":"Parameters!BB48755","v":1.0416666999999999E-2},{"$f":"Parameters!BC48755","v":1.0416666999999999E-2},{"$f":"Parameters!BD48755","v":1.0416666999999999E-2},{"$f":"Parameters!BE48755","v":1.0416666999999999E-2},{"$f":"Parameters!BF48755","v":1.0416666999999999E-2},{"$f":"Parameters!BG48755","v":1.0416666999999999E-2},{"$f":"Parameters!BH48755","v":1.0416666999999999E-2},{"$f":"Parameters!BI48755","v":1.0416666999999999E-2},{"$f":"Parameters!BJ48755","v":1.0416666999999999E-2},{"$f":"Parameters!BK48755","v":1.0416666999999999E-2},{"$f":"Parameters!BL48755","v":1.0416666999999999E-2},{"$f":"Parameters!BM48755","v":1.0416666999999999E-2},{"$f":"Parameters!BN48755","v":1.0416666999999999E-2}]
["S423",{"$f":"Parameters!K48756","v":1.0416666999999999E-2},{"$f":"Parameters!L48756","v":1.0416666999999999E-2},{"$f":"Parameters!M48756","v":1.0416666999999999E-2},{"$f":"Parameters!N48756","v":1.0416666999999999E-2},{"$f":"Parameters!O48756","v":1.0416666999999999E-2},{"$f":"Parameters!P48756","v":1.0416666999999999E-2},{"$f":"Parameters!Q48756","v":1.0416666999999999E-2},{"$f":"Parameters!R48756","v":1.0416666999999999E-2},{"$f":"Parameters!S48756","v":1.0416666999999999E-2},{"$f":"Parameters!T48756","v":1.0416666999999999E-2},{"$f":"Parameters!U48756","v":1.0416666999999999E-2},{"$f":"Parameters!V48756","v":1.0416666999999999E-2},{"$f":"Parameters!W48756","v":1.0416666999999999E-2},{"$f":"Parameters!X48756","v":1.0416666999999999E-2},{"$f":"Parameters!Y48756","v":1.0416666999999999E-2},{"$f":"Parameters!Z48756","v":1.0416666999999999E-2},{"$f":"Parameters!AA48756","v":1.0416666999999999E-2},{"$f":"Parameters!AB48756","v":1.0416666999999999E-2},{"$f":"Parameters!AC48756","v":1.0416666999999999E-2},{"$f":"Parameters!AD48756","v":1.0416666999999999E-2},{"$f":"Parameters!AE48756","v":1.0416666999999999E-2},{"$f":"Parameters!AF48756","v":1.0416666999999999E-2},{"$f":"Parameters!AG48756","v":1.0416666999999999E-2},{"$f":"Parameters!AH48756","v":1.0416666999999999E-2},{"$f":"Parameters!AI48756","v":1.0416666999999999E-2},{"$f":"Parameters!AJ48756","v":1.0416666999999999E-2},{"$f":"Parameters!AK48756","v":1.0416666999999999E-2},{"$f":"Parameters!AL48756","v":1.0416666999999999E-2},{"$f":"Parameters!AM48756","v":1.0416666999999999E-2},{"$f":"Parameters!AN48756","v":1.0416666999999999E-2},{"$f":"Parameters!AO48756","v":1.0416666999999999E-2},{"$f":"Parameters!AP48756","v":1.0416666999999999E-2},{"$f":"Parameters!AQ48756","v":1.0416666999999999E-2},{"$f":"Parameters!AR48756","v":1.0416666999999999E-2},{"$f":"Parameters!AS48756","v":1.0416666999999999E-2},{"$f":"Parameters!AT48756","v":1.0416666999999999E-2},{"$f":"Parameters!AU48756","v":1.0416666999999999E-2},{"$f":"Parameters!AV48756","v":1.0416666999999999E-2},{"$f":"Parameters!AW48756","v":1.0416666999999999E-2},{"$f":"Parameters!AX48756","v":1.0416666999999999E-2},{"$f":"Parameters!AY48756","v":1.0416666999999999E-2},{"$f":"Parameters!AZ48756","v":1.0416666999999999E-2},{"$f":"Parameters!BA48756","v":1.0416666999999999E-2},{"$f":"Parameters!BB48756","v":1.0416666999999999E-2},{"$f":"Parameters!BC48756","v":1.0416666999999999E-2},{"$f":"Parameters!BD48756","v":1.0416666999999999E-2},{"$f":"Parameters!BE48756","v":1.0416666999999999E-2},{"$f":"Parameters!BF48756","v":1.0416666999999999E-2},{"$f":"Parameters!BG48756","v":1.0416666999999999E-2},{"$f":"Parameters!BH48756","v":1.0416666999999999E-2},{"$f":"Parameters!BI48756","v":1.0416666999999999E-2},{"$f":"Parameters!BJ48756","v":1.0416666999999999E-2},{"$f":"Parameters!BK48756","v":1.0416666999999999E-2},{"$f":"Parameters!BL48756","v":1.0416666999999999E-2},{"$f":"Parameters!BM48756","v":1.0416666999999999E-2},{"$f":"Parameters!BN48756","v":1.0416666999999999E-2}]
["S424",{"$f":"Parameters!K48757","v":1.0416666999999999E-2},{"$f":"Parameters!L48757","v":1.0416666999999999E-2},{"$f":"Parameters!M48757","v":1.0416666999999999E-2},{"$f":"Parameters!N48757","v":1.0416666999999999E-2},{"$f":"Parameters!O48757","v":1.0416666999999999E-2},{"$f":"Parameters!P48757","v":1.0416666999999999E-2},{"$f":"Parameters!Q48757","v":1.0416666999999999E-2},{"$f":"Parameters!R48757","v":1.0416666999999999E-2},{"$f":"Parameters!S48757","v":1.0416666999999999E-2},{"$f":"Parameters!T48757","v":1.0416666999999999E-2},{"$f":"Parameters!U48757","v":1.0416666999999999E-2},{"$f":"Parameters!V48757","v":1.0416666999999999E-2},{"$f":"Parameters!W48757","v":1.0416666999999999E-2},{"$f":"Parameters!X48757","v":1.0416666999999999E-2},{"$f":"Parameters!Y48757","v":1.0416666999999999E-2},{"$f":"Parameters!Z48757","v":1.0416666999999999E-2},{"$f":"Parameters!AA48757","v":1.0416666999999999E-2},{"$f":"Parameters!AB48757","v":1.0416666999999999E-2},{"$f":"Parameters!AC48757","v":1.0416666999999999E-2},{"$f":"Parameters!AD48757","v":1.0416666999999999E-2},{"$f":"Parameters!AE48757","v":1.0416666999999999E-2},{"$f":"Parameters!AF48757","v":1.0416666999999999E-2},{"$f":"Parameters!AG48757","v":1.0416666999999999E-2},{"$f":"Parameters!AH48757","v":1.0416666999999999E-2},{"$f":"Parameters!AI48757","v":1.0416666999999999E-2},{"$f":"Parameters!AJ48757","v":1.0416666999999999E-2},{"$f":"Parameters!AK48757","v":1.0416666999999999E-2},{"$f":"Parameters!AL48757","v":1.0416666999999999E-2},{"$f":"Parameters!AM48757","v":1.0416666999999999E-2},{"$f":"Parameters!AN48757","v":1.0416666999999999E-2},{"$f":"Parameters!AO48757","v":1.0416666999999999E-2},{"$f":"Parameters!AP48757","v":1.0416666999999999E-2},{"$f":"Parameters!AQ48757","v":1.0416666999999999E-2},{"$f":"Parameters!AR48757","v":1.0416666999999999E-2},{"$f":"Parameters!AS48757","v":1.0416666999999999E-2},{"$f":"Parameters!AT48757","v":1.0416666999999999E-2},{"$f":"Parameters!AU48757","v":1.0416666999999999E-2},{"$f":"Parameters!AV48757","v":1.0416666999999999E-2},{"$f":"Parameters!AW48757","v":1.0416666999999999E-2},{"$f":"Parameters!AX48757","v":1.0416666999999999E-2},{"$f":"Parameters!AY48757","v":1.0416666999999999E-2},{"$f":"Parameters!AZ48757","v":1.0416666999999999E-2},{"$f":"Parameters!BA48757","v":1.0416666999999999E-2},{"$f":"Parameters!BB48757","v":1.0416666999999999E-2},{"$f":"Parameters!BC48757","v":1.0416666999999999E-2},{"$f":"Parameters!BD48757","v":1.0416666999999999E-2},{"$f":"Parameters!BE48757","v":1.0416666999999999E-2},{"$f":"Parameters!BF48757","v":1.0416666999999999E-2},{"$f":"Parameters!BG48757","v":1.0416666999999999E-2},{"$f":"Parameters!BH48757","v":1.0416666999999999E-2},{"$f":"Parameters!BI48757","v":1.0416666999999999E-2},{"$f":"Parameters!BJ48757","v":1.0416666999999999E-2},{"$f":"Parameters!BK48757","v":1.0416666999999999E-2},{"$f":"Parameters!BL48757","v":1.0416666999999999E-2},{"$f":"Parameters!BM48757","v":1.0416666999999999E-2},{"$f":"Parameters!BN48757","v":1.0416666999999999E-2}]
[";"]
[]
["#"]
["end;"]

{"sheet":"DS","index":4,"n_rows":0,"n_cols":0,"rows_kept":0,"cut":false,"hidden":true,"merged":[]}

{"sheet":"Your RES ","index":5,"n_rows":2,"n_cols":3,"rows_kept":2,"cut":false,"hidden":true,"merged":[]}
[]
[null,null,"this res will be changed with the SAND one and connected with macros to the other sheets. "]

{"sheet":"DS (2)","index":6,"n_rows":0,"n_cols":0,"rows_kept":0,"cut":false,"hidden":true,"merged":[]}