Workbook

Sheet Sheet1
A1: Number (Paper reference) | B1: Info provided by (Institution) | C1: Responsible Person | D1: Crop, Latin name | E1: Crop, English name | F1: Variety/Cultivar | G1: Main crop/ Cover crop | H1: Growing period | I1: Region | J1: Zone (Europe Country, US State) | K1: Soil type | L1: Nematode species | M1: Fungus species Main name | N1: Fungus species Other name | O1: Host status methodology | P1: Host status Decision | Q1: Host Tolerance Decision | R1: Reduction of disease | S1: Effect of green manure on yield of fellow crop | T1: Trial Type | U1: Source of information | V1: Type of source | W1: Language | X1: Title | Y1: Authors | Z1: Year | AA1: Summary (Abstract) | AB1: Main topic/ experiment of the paper | AC1: Remarks on the paper | AD1: Quality of the paper +/++/+++
A2: 1005 | B2: HAFL | C2: SVG | D2: F-Solanum tuberosum | E2: Potato | G2: MC | H2: n.i | I2: Worldwide | K2: unknown | M2: Pythium ultimum | O2: n.i | P2: hostplant suitability unknown | Q2: n.i | R2: n.i | S2: n.i | T2: n.i | U2: Agronomy for Sustainable Development | V2: Peer reviewed | W2: English | X2: Potato soil born disease.A review | Y2: Fiers, M., Edel-Hermann, V., Chatot, C., Le Hingrat, Y., Alabouvette, C., Steinberg, C. | Z2: 2012 | AA2: Abstract Potato crop is the fourth main food crop in the world and it will certainly feed a big part of the global population in the next years. The economical outlets for this crop are great; however, numerous diseases either soil- or airborne can cause huge losses in the production. Worldwide, about 40 soil-borne diseases affect potato and cause severe damages especially on tubers, the economically most important part of the plant. The occurrence and development of soilborne diseases depend on very diverse factors affecting either the pathogen or the plant. Favorable conditions for potato diseases development are frequently the same as the conditions needed for potato growth: temperature between 10°C and 25°C, high humidity, medium pH, etc. Adapted cultural practices such as a rotation longer than 4 years, appropriate fertilization and watermanagement, an adapted delay between haulm killing and harvest, and dry and cool conditions for tuber storage are good ways to control potato diseases. Inmost cases, potato pathogens develop specific survival forms, dissemination ways and host penetration methods. The genetic variability of the pathogens implies the use of adapted diagnostic and control methods. Decision support systems developed to predict yield losses allow choosing good control methods such as the use of healthy seeds, adapted pesticides, cultural practices, and biological control agents for each potato disease. The complexity of the interactions between a pathogen and its host, influenced by biotic and abiotic factors of the environment, make the control of the diseases often very difficult. However, deep knowledge of pathosystems allows setting up integrated pest management systems allowing the production of healthy and good quality potatoes. | AD2: +++

Sheet Sheet2
A1: Number (Paper reference) | B1: Info provided by (Institution) | C1: Responsible Person | D1: Crop, Latin name | E1: Crop, English name | F1: Variety/Cultivar | G1: Main crop/ Cover crop | H1: Growing period | I1: Region | J1: Zone (Europe Country, US State) | K1: Soil type | L1: Nematode species | M1: Fungus species Main name | N1: Fungus species Other name | O1: Host status methodology | P1: Host status Decision | Q1: Host Tolerance Decision | R1: Reduction of disease | S1: Effect of green manure on yield of fellow crop | T1: Trial Type | U1: Source of information | V1: Type of source | W1: Language | X1: Title | Y1: Authors | Z1: Year | AA1: Summary (Abstract) | AB1: Main topic/ experiment of the paper | AC1: Remarks on the paper | AD1: Quality of the paper +/++/+++
A2: 1006 | B2: HAFL | C2: SVG | D2: F-Zea mais | E2: Maize (corn) | G2: n.i | H2: n.i | K2: unknown | M2: Rhizoctonia solani | N2: Thanatephorus cucumeris | O2: n.i | P2: host | Q2: n.i | R2: n.i | S2: n.i | T2: n.i | U2: Plant Pathology | V2: Book | W2: English | X2: Plant Pathology, ISBN: 978-953-51-0489-6,General Description of Rhizoctonia Species Complex | Y2: Genhua Yang and Chengyun Li | Z2: 2012 | AB2: review on 13 anastomosis groups (AG) of R. solani and their host plants and disease symptoms | AC2: R. solani AG 4 | AD2: +++
A3: 1006 | B3: HAFL | C3: SVG | D3: F-Zea mais | E3: Maize (corn) | G3: n.i | H3: n.i | K3: unknown | M3: Rhizoctonia solani | N3: Thanatephorus cucumeris | O3: n.i | P3: host | Q3: n.i | R3: n.i | S3: n.i | T3: n.i | U3: Plant Pathology | V3: Book | W3: English | X3: Plant Pathology, ISBN: 978-953-51-0489-6,General Description of Rhizoctonia Species Complex | Y3: Genhua Yang and Chengyun Li | Z3: 2012 | AB3: review on 13 anastomosis groups (AG) of R. solani and their host plants and disease symptoms | AC3: R. solani AG 2-2lllB | AD3: +++
A4: 1006 | B4: HAFL | C4: SVG | D4: F-Zea mais | E4: Maize (corn) | G4: n.i | H4: n.i | K4: unknown | M4: Rhizoctonia solani | N4: Thanatephorus cucumeris | O4: n.i | P4: host | Q4: n.i | R4: n.i | S4: n.i | T4: n.i | U4: Plant Pathology | V4: Book | W4: English | X4: Plant Pathology, ISBN: 978-953-51-0489-6,General Description of Rhizoctonia Species Complex | Y4: Genhua Yang and Chengyun Li | Z4: 2012 | AB4: review on 13 anastomosis groups (AG) of R. solani and their host plants and disease symptoms | AC4: R. solani AG 1-lB | AD4: +++
A5: 1006 | B5: HAFL | C5: SVG | D5: F-Zea mais | E5: Maize (corn) | G5: n.i | H5: n.i | K5: unknown | M5: Rhizoctonia solani | N5: Thanatephorus cucumeris | O5: n.i | P5: host | Q5: n.i | R5: n.i | S5: n.i | T5: n.i | U5: Plant Pathology | V5: Book | W5: English | X5: Plant Pathology, ISBN: 978-953-51-0489-6,General Description of Rhizoctonia Species Complex | Y5: Genhua Yang and Chengyun Li | Z5: 2012 | AB5: review on 13 anastomosis groups (AG) of R. solani and their host plants and disease symptoms | AC5: R. solani (AG 1-lA | AD5: +++

Sheet Sheet3
A1: Number (Paper reference) | B1: Info provided by (Institution) | C1: Responsible Person | D1: Crop, Latin name | E1: Crop, English name | F1: Variety/Cultivar | G1: Main crop/ Cover crop | H1: Growing period | I1: Region | J1: Zone (Europe Country, US State) | K1: Soil type | L1: Nematode species | M1: Fungus species Main name | N1: Fungus species Other name | O1: Host status methodology | P1: Host status Decision | Q1: Host Tolerance Decision | R1: Reduction of disease | S1: Effect of green manure on yield of fellow crop | T1: Trial Type | U1: Source of information | V1: Type of source | W1: Language | X1: Title | Y1: Authors | Z1: Year | AA1: Summary (Abstract) | AB1: Main topic/ experiment of the paper | AC1: Remarks on the paper | AD1: Quality of the paper +/++/+++
A2: 1021 | B2: HAFL | C2: SVG | D2: F-Zea mais | E2: Maize (corn) | G2: MC | I2: USA | J2: Pennsylvania | K2: unknown | M2: Colletotrichum coccodes | N2: Colletotrichum atramentarium | O2: n.i | P2: non host | Q2: n.i | R2: n.i | S2: n.i | T2: greenhouse | U2: Amer J of Potato Res 83:503-512 | V2: Peer reviewed | W2: English | X2: Colonization of Rotation Crops and Weeds by the Potato Black Dot Pathogen Colletotrichum coccodes | Y2: Nadav Nitzan, Billie S. Lucas, and Barbara J. Christ | Z2: 2006 | AA2: The rotation crops wheat, barley, oat, maize, soybean, rye, yellow mustard, alfalfa, and spring canola and weeds eastern black nightshade, velvetleaf, timothy grass, orchard grass, and Giant foxtail common to potato-growing areas in North America were used to study the host range of Colletotrichum coccodes, the causal agent of potato black dot. The fungus was isolated from nine of 14 rotation crops and weeds that were inoculated: yellow mustard, soybean, spring canola, alfalfa, oat, eastern black nightshade, velvetleaf, giant foxtail, and timothy grass. In all, colonization was highest in black nightshades (87%) and velvetleaf (80%). Among the rotation crops, colonization was highest on yellow mustard (59%) followed by spring canola (33%) and soybean (30%). Colletotrichum coccodes was not isolated from wheat, barley, rye, maize, or orchard grass. The results indicated that crops used for rotation with potato should be selected carefully to prevent the increase of C. coccodes inoculum in the soil and that weeds may help maintain viable inoculum of C. coccodes in the absence of potato. Based on these results we recommend that wheat, barley, maize, or rye be used in rotation with potato in areas where C. coccodes is present in high levels in the soil | AB2: host testing of C. coccodes | AD2: ++

Sheet Sheet4
A1: Number (Paper reference) | B1: Info provided by (Institution) | C1: Responsible Person | D1: Crop, Latin name | E1: Crop, English name | F1: Variety/Cultivar | G1: Main crop/ Cover crop | H1: Growing period | I1: Region | J1: Zone (Europe Country, US State) | K1: Soil type | L1: Nematode species | M1: Fungus species Main name | N1: Fungus species Other name | O1: Host status methodology | P1: Host status Decision | Q1: Host Tolerance Decision | R1: Reduction of disease | S1: Effect of green manure on yield of fellow crop | T1: Trial Type | U1: Source of information | V1: Type of source | W1: Language | X1: Title | Y1: Authors | Z1: Year | AA1: Summary (Abstract) | AB1: Main topic/ experiment of the paper | AC1: Remarks on the paper | AD1: Quality of the paper +/++/+++
A2: 1007 | B2: HAFL | C2: SVG | D2: F-Zea mais | E2: Maize (corn) | H2: n.i | I2: West Asia | J2: Israel | K2: unknown | M2: Spongospora subterranea f. sp. subterranea | O2: n.i | P2: host | Q2: n.i | R2: n.i | S2: n.i | T2: greenhouse | U2: Presentation, Powdery scab Workshop, 2016, Switzerland | V2: Conference paper | W2: English | X2: Alternative hosts for Spongospora subterraneaunder semi-arid conditions | Y2: Tsror, L. (Dep.of Plant Pathology, Agricultural Research Organization, Gilat Research Center, Israel) | Z2: 2016 | AA2: Presentation of alternative host testing experiments of S. subterranea; naturally infected and artificially inoculated plants for detecting alternative hosts | AB2: host range testing of S. subterranea, ability of Spongospora to infect and complete life cycle in crops, ability to infect weeds in potato fields | AC2: do fungi complete their life cycles in all host plants??? | AD2: +

Sheet data collection
A1: T 1.1: Hostplant x pathogen/nematode data, info needed for the database
A2: Version 2019/05/28
K4: [drop down list] | L4: [drop down list] | N4: [linked to Fungus species Main name] | P4: [drop down list] | Q4: [drop down list] | R4: [drop down list] | S4: [drop down list] | T4: [drop down list] | V4: [drop down list]
A5: Number (Paper reference) | B5: Info provided by (Institution) | C5: Responsible Person | D5: Crop, Latin name | E5: Crop, English name | F5: Variety/Cultivar | G5: Main crop/ Cover crop | H5: Growing period | I5: Region | J5: Zone (Europe Country, US State) | K5: Soil type | L5: Nematode species | M5: Fungus species Main name NEW LIST | N5: Fungus species Other name | O5: Host status methodology | P5: Host status Decision | Q5: Host Tolerance Decision | R5: Reduction of disease | S5: Effect of green manure on yield of fellow crop | T5: Trial Type | U5: Source of information | V5: Type of source | W5: Language | X5: Title | Y5: Authors | Z5: Year | AA5: Summary (Abstract) | AB5: Main topic/ experiment of the paper | AC5: Remarks on the paper | AD5: Quality of the paper +/++/+++
A6: 1001 | B6: HAFL | C6: SVG | D6: G-Sorghum spp. | E6: =IF(D6>0,VLOOKUP(D6,lists!$C$6:$D$101,2,FALSE),"") -> Sorghum, Sudangrass | F6: Piper | G6: CC | H6: May-October | I6: USA | J6: Oregon | K6: sandy clay loam | L6: Meloidogyne chitwoodi | N6: =IF(M6>0,VLOOKUP(M6,lists!$Q$6:$R$161,2,FALSE),"") | P6: moderate host | Q6: n.i | R6: effective | S6: n.i | T6: greenhouse and field | U6: J. of Nematology 25(2):303-311 | V6: Peer reviewed | W6: English | X6: Suppression of Meloidogyne chitwoodi with Sudangrass Cultivars as Green Manure | Y6: Mojtahedi, H., Santo, G.S.,Ingham, R.E. | Z6: 1993 | AA6: Abstract: Meloidogyne chitwoodi race 1 reproduced on Piper sudangrass (Sorghum bicolor (L.) Moench), 332 (sudangrass hybrid), and P855F and P877F (sorghum-sudangrass hybrids), but failed to reproduce efficiently on Trudan 8, Trudex 9 (sudangrass hybrids), and Sordan 79, SS-222, and Bravo II (sorghum-sudangrass hybrids). Meloidogyne chitwoodi race 2 behaved similarly and reproduced more efficiently on Piper, P855F, and P877F than on Trudan 8, Trudex 9, or Sordan 79. The mean reproductive factor for M. chitwoodi races on the poorer hosts ranged from <0.1 to 0.9 undergreenhouse and field conditions. Meloidogyne hapla failed to reproduce on any of the cultivars tested.In the laboratory, leaves of each cultivar chopped and incorporated as green manure reduced the M.chitwoodi population in infested soil more than unamended or wheat green manure treatments.Trudan 8, although limited to the zone of incorporation, protected this zone from colonization of upward migrating second stage juveniles (]2) for up to 6 weeks. Leaves of Trudan 8 but not rootswere effective against M. chitwoodi, and J2 appeared to be more sensitive than egg masses. Trudan 8 and Sordan 79 as green manure reduced M. chitwoodi in bucket microplots under field conditions. Key words: Columbia root-knot nematode, control, green manure, host suitability, Meloidogyne chitwoodi, M. hapla, northern root-knot nematode, nematode, organic amendment, potato, Sorghum bicolor, sudangrass, sorghum-sudangrass hybrid. | AB6: host testing, green manure, source of inocula, depth of inocula, plant parts used as green manure | AC6: complex, much information, many experiments | AD6: +++
A7: 1001 | B7: HAFL | C7: SVG | D7: G-Sorghum spp. | E7: =IF(D7>0,VLOOKUP(D7,lists!$C$6:$D$101,2,FALSE),"") -> Sorghum, Sudangrass | F7: Trudan, Trudex | G7: CC | H7: May-October | I7: USA | J7: Oregon | K7: sandy clay loam | L7: Meloidogyne chitwoodi | N7: =IF(M7>0,VLOOKUP(M7,lists!$Q$6:$R$161,2,FALSE),"") | O7: soil samples Baerman, roots NaCl Hussey | P7: poor host | Q7: n.i | R7: effective | S7: n.i | T7: greenhouse and field | U7: J. of Nematology 25(2):303-311 | V7: Peer reviewed | W7: English | X7: Suppression of Meloidogyne chitwoodi with Sudangrass Cultivars as Green Manure | Y7: Mojtahedi, H., Santo, G.S.,Ingham, R.E. | Z7: 1993 | AA7: Abstract: Meloidogyne chitwoodi race 1 reproduced on Piper sudangrass (Sorghum bicolor (L.) Moench), 332 (sudangrass hybrid), and P855F and P877F (sorghum-sudangrass hybrids), but failed to reproduce efficiently on Trudan 8, Trudex 9 (sudangrass hybrids), and Sordan 79, SS-222, and Bravo II (sorghum-sudangrass hybrids). Meloidogyne chitwoodi race 2 behaved similarly and reproduced more efficiently on Piper, P855F, and P877F than on Trudan 8, Trudex 9, or Sordan 79. The mean reproductive factor for M. chitwoodi races on the poorer hosts ranged from <0.1 to 0.9 undergreenhouse and field conditions. Meloidogyne hapla failed to reproduce on any of the cultivars tested.In the laboratory, leaves of each cultivar chopped and incorporated as green manure reduced the M.chitwoodi population in infested soil more than unamended or wheat green manure treatments.Trudan 8, although limited to the zone of incorporation, protected this zone from colonization of upward migrating second stage juveniles (]2) for up to 6 weeks. Leaves of Trudan 8 but not rootswere effective against M. chitwoodi, and J2 appeared to be more sensitive than egg masses. Trudan 8 and Sordan 79 as green manure reduced M. chitwoodi in bucket microplots under field conditions. Key words: Columbia root-knot nematode, control, green manure, host suitability, Meloidogyne chitwoodi, M. hapla, northern root-knot nematode, nematode, organic amendment, potato, Sorghum bicolor, sudangrass, sorghum-sudangrass hybrid. | AB7: host testing, green manure, source of inocula, depth of inocula, plant parts used as green manure | AC7: complex, much information, many experiments | AD7: +++
A8: 1001 | B8: HAFL | C8: SVG | D8: G-Sorghum spp. | E8: Sorghum, Sudangrass | F8: Piper, Trudan, Trudex | G8: CC | H8: May-October | I8: USA | J8: Oregon | K8: sandy clay loam | L8: Meloidogyne hapla | N8: =IF(M8>0,VLOOKUP(M8,lists!$Q$6:$R$161,2,FALSE),"") | O8: soil samples Baerman, roots NaCl Hussey | P8: non host | Q8: n.i | R8: n.i | S8: n.i | T8: greenhouse and field | U8: J. of Nematology 25(2):303-311 1993 | V8: Peer reviewed | W8: English | X8: Suppression of Meloidogyne chitwoodi with Sudangrass Cultivars as Green Manure | Y8: Mojtahedi, H., Santo, G.S.,Ingham, R.E. | Z8: 1993 | AA8: Abstract: Meloidogyne chitwoodi race 1 reproduced on Piper sudangrass (Sorghum bicolor (L.) Moench), 332 (sudangrass hybrid), and P855F and P877F (sorghum-sudangrass hybrids), but failed to reproduce efficiently on Trudan 8, Trudex 9 (sudangrass hybrids), and Sordan 79, SS-222, and Bravo II (sorghum-sudangrass hybrids). Meloidogyne chitwoodi race 2 behaved similarly and reproduced more efficiently on Piper, P855F, and P877F than on Trudan 8, Trudex 9, or Sordan 79. The mean reproductive factor for M. chitwoodi races on the poorer hosts ranged from <0.1 to 0.9 undergreenhouse and field conditions. Meloidogyne hapla failed to reproduce on any of the cultivars tested.In the laboratory, leaves of each cultivar chopped and incorporated as green manure reduced the M.chitwoodi population in infested soil more than unamended or wheat green manure treatments.Trudan 8, although limited to the zone of incorporation, protected this zone from colonization of upward migrating second stage juveniles (]2) for up to 6 weeks. Leaves of Trudan 8 but not rootswere effective against M. chitwoodi, and J2 appeared to be more sensitive than egg masses. Trudan 8 and Sordan 79 as green manure reduced M. chitwoodi in bucket microplots under field conditions. Key words: Columbia root-knot nematode, control, green manure, host suitability, Meloidogyne chitwoodi, M. hapla, northern root-knot nematode, nematode, organic amendment, potato, Sorghum bicolor, sudangrass, sorghum-sudangrass hybrid. | AB8: host testing, green manure, source of inocula, depth of inocula, plant parts used as green manure | AC8: complex, much information, many experiments | AD8: +++
A9: 1002 | B9: HAFL | C9: SVG | D9: G-Brassica spp. | E9: Mustards | F9: Brassica juncea | G9: CC | H9: Mid June-Mid August | I9: USA | J9: Maine | K9: unknown | M9: Rhizoctonia solani | N9: =IF(M9>0,VLOOKUP(M9,lists!$Q$6:$R$161,2,FALSE),"") -> Thanatephorus cucumeris | O9: n.i | P9: hostplant suitability unknown | Q9: n.i | R9: very effective | S9: decrease of disease | T9: greenhouse | U9: Crop Protection 26: 1067–1077 | V9: Peer reviewed | W9: English | X9: Control of soilborne potato diseases using Brassica green manures | Y9: Larkin, R.P, Griffin, T.S | Z9: 2007 | AA9: Brassica crops used in crop rotations and as green manures have been associated with reductions in soilborne pests and pathogens. These reductions have been attributed to the production of volatile sulfur compounds through a process known as biofumigation, and to changes in soil microbial community structure. In this study, selected Brassica crops, including canola, rapeseed, radish, turnip, yellow mustard, and Indian mustard, were evaluated for control of various soilborne potato pathogens and diseases in culture, in greenhouse trials, and in field trials on commercial potato farms. In in vitro assays, volatiles released from chopped leaf material of Brassica crops and barley inhibited growth of a variety of soilborne pathogens of potato, including Rhizoctonia solani, Phytophthora erythroseptica, Pythium ultimum, Sclerotinia sclerotiorum, and Fusarium sambucinam, with Indian mustard resulting in nearly complete inhibition (80–100%). All Brassica crops and barley reduced inoculum levels of R. solani (20–56% reduction) in greenhouse tests, and radish, rapeseed, and Indian mustard reduced subsequent potato seedling disease by 40–83%. In an on-farm field trial at a site with a substantial powdery scab problem, Indian mustard, rapeseed, canola, and ryegrass grown as green manure rotation crops reduced powdery scab in the subsequent potato crop by 15–40%, and canola and rapeseed reduced black scurf by 70–80% relative to a standard oats rotation. At another field site where common scab was the primary disease problem, an Indian mustard green manure reduced common scab by 25%, and rapeseed, yellow mustard, and ‘Lemtal’ ryegrass also reduced black scurf relative to a standard ryegrass rotation. Disease reductions were not always associated with higher glucosinolate-producing crops, and were also observed with non-Brassica crops (barley and ryegrass), indicating other mechanisms and interactions are important, particularly for control of R. solani. Overall, Indian mustard was most effective for reducing powdery scab and common scab diseases, whereas rapeseed and canola were most effective in reducing Rhizoctonia diseases. These results indicate that Brassica crops have potential for use as green manures for the control of multiple soilborne disease problems. | AD9: +++
A10: 1002 | B10: HAFL | C10: SVG | D10: G-Sinapis alba | E10: White mustard | F10: IdaGold | G10: CC | H10: Mid June-Mid August | I10: USA | J10: Maine | K10: unknown | M10: Rhizoctonia solani | N10: =IF(M10>0,VLOOKUP(M10,lists!$Q$6:$R$161,2,FALSE),"") -> Thanatephorus cucumeris | O10: n.i | P10: hostplant suitability unknown | Q10: n.i | R10: effective | S10: decrease of disease | T10: greenhouse | U10: Crop Protection 26: 1067–1077 | V10: Peer reviewed | W10: English | X10: Control of soilborne potato diseases using Brassica green manures | Y10: Larkin, R.P, Griffin, T.S | Z10: 2007 | AA10: Brassica crops used in crop rotations and as green manures have been associated with reductions in soilborne pests and pathogens. These reductions have been attributed to the production of volatile sulfur compounds through a process known as biofumigation, and to changes in soil microbial community structure. In this study, selected Brassica crops, including canola, rapeseed, radish, turnip, yellow mustard, and Indian mustard, were evaluated for control of various soilborne potato pathogens and diseases in culture, in greenhouse trials, and in field trials on commercial potato farms. In in vitro assays, volatiles released from chopped leaf material of Brassica crops and barley inhibited growth of a variety of soilborne pathogens of potato, including Rhizoctonia solani, Phytophthora erythroseptica, Pythium ultimum, Sclerotinia sclerotiorum, and Fusarium sambucinam, with Indian mustard resulting in nearly complete inhibition (80–100%). All Brassica crops and barley reduced inoculum levels of R. solani (20–56% reduction) in greenhouse tests, and radish, rapeseed, and Indian mustard reduced subsequent potato seedling disease by 40–83%. In an on-farm field trial at a site with a substantial powdery scab problem, Indian mustard, rapeseed, canola, and ryegrass grown as green manure rotation crops reduced powdery scab in the subsequent potato crop by 15–40%, and canola and rapeseed reduced black scurf by 70–80% relative to a standard oats rotation. At another field site where common scab was the primary disease problem, an Indian mustard green manure reduced common scab by 25%, and rapeseed, yellow mustard, and ‘Lemtal’ ryegrass also reduced black scurf relative to a standard ryegrass rotation. Disease reductions were not always associated with higher glucosinolate-producing crops, and were also observed with non-Brassica crops (barley and ryegrass), indicating other mechanisms and interactions are important, particularly for control of R. solani. Overall, Indian mustard was most effective for reducing powdery scab and common scab diseases, whereas rapeseed and canola were most effective in reducing Rhizoctonia diseases. These results indicate that Brassica crops have potential for use as green manures for the control of multiple soilborne disease problems. | AD10: +++
A11: 1002 | B11: HAFL | C11: SVG | D11: F-Brassica napus | E11: =IF(D11>0,VLOOKUP(D11,lists!$C$6:$D$101,2,FALSE),"") -> Rapeseed | F11: Canola Hyola 401 | G11: CC | H11: Mid June-Mid August | I11: USA | J11: Maine | K11: unknown | M11: Rhizoctonia solani | N11: =IF(M11>0,VLOOKUP(M11,lists!$Q$6:$R$161,2,FALSE),"") -> Thanatephorus cucumeris | O11: n.i | P11: hostplant suitability unknown | Q11: n.i | R11: effective | S11: decrease of disease | T11: greenhouse | U11: Crop Protection 26: 1067–1077 | V11: Peer reviewed | W11: English | X11: Control of soilborne potato diseases using Brassica green manures | Y11: Larkin, R.P, Griffin, T.S | Z11: 2007 | AA11: Brassica crops used in crop rotations and as green manures have been associated with reductions in soilborne pests and pathogens. These reductions have been attributed to the production of volatile sulfur compounds through a process known as biofumigation, and to changes in soil microbial community structure. In this study, selected Brassica crops, including canola, rapeseed, radish, turnip, yellow mustard, and Indian mustard, were evaluated for control of various soilborne potato pathogens and diseases in culture, in greenhouse trials, and in field trials on commercial potato farms. In in vitro assays, volatiles released from chopped leaf material of Brassica crops and barley inhibited growth of a variety of soilborne pathogens of potato, including Rhizoctonia solani, Phytophthora erythroseptica, Pythium ultimum, Sclerotinia sclerotiorum, and Fusarium sambucinam, with Indian mustard resulting in nearly complete inhibition (80–100%). All Brassica crops and barley reduced inoculum levels of R. solani (20–56% reduction) in greenhouse tests, and radish, rapeseed, and Indian mustard reduced subsequent potato seedling disease by 40–83%. In an on-farm field trial at a site with a substantial powdery scab problem, Indian mustard, rapeseed, canola, and ryegrass grown as green manure rotation crops reduced powdery scab in the subsequent potato crop by 15–40%, and canola and rapeseed reduced black scurf by 70–80% relative to a standard oats rotation. At another field site where common scab was the primary disease problem, an Indian mustard green manure reduced common scab by 25%, and rapeseed, yellow mustard, and ‘Lemtal’ ryegrass also reduced black scurf relative to a standard ryegrass rotation. Disease reductions were not always associated with higher glucosinolate-producing crops, and were also observed with non-Brassica crops (barley and ryegrass), indicating other mechanisms and interactions are important, particularly for control of R. solani. Overall, Indian mustard was most effective for reducing powdery scab and common scab diseases, whereas rapeseed and canola were most effective in reducing Rhizoctonia diseases. These results indicate that Brassica crops have potential for use as green manures for the control of multiple soilborne disease problems. | AD11: +++
A12: 1002 | B12: HAFL | C12: SVG | D12: F-Brassica napus | E12: =IF(D12>0,VLOOKUP(D12,lists!$C$6:$D$101,2,FALSE),"") -> Rapeseed | F12: Dwarf Essex | G12: CC | H12: Mid June-Mid August | I12: USA | J12: Maine | K12: unknown | M12: Rhizoctonia solani | N12: =IF(M12>0,VLOOKUP(M12,lists!$Q$6:$R$161,2,FALSE),"") -> Thanatephorus cucumeris | O12: n.i | P12: hostplant suitability unknown | Q12: n.i | R12: effective | S12: decrease of disease | T12: greenhouse | U12: Crop Protection 26: 1067–1077 | V12: Peer reviewed | W12: English | X12: Control of soilborne potato diseases using Brassica green manures | Y12: Larkin, R.P, Griffin, T.S | Z12: 2007 | AA12: Brassica crops used in crop rotations and as green manures have been associated with reductions in soilborne pests and pathogens. These reductions have been attributed to the production of volatile sulfur compounds through a process known as biofumigation, and to changes in soil microbial community structure. In this study, selected Brassica crops, including canola, rapeseed, radish, turnip, yellow mustard, and Indian mustard, were evaluated for control of various soilborne potato pathogens and diseases in culture, in greenhouse trials, and in field trials on commercial potato farms. In in vitro assays, volatiles released from chopped leaf material of Brassica crops and barley inhibited growth of a variety of soilborne pathogens of potato, including Rhizoctonia solani, Phytophthora erythroseptica, Pythium ultimum, Sclerotinia sclerotiorum, and Fusarium sambucinam, with Indian mustard resulting in nearly complete inhibition (80–100%). All Brassica crops and barley reduced inoculum levels of R. solani (20–56% reduction) in greenhouse tests, and radish, rapeseed, and Indian mustard reduced subsequent potato seedling disease by 40–83%. In an on-farm field trial at a site with a substantial powdery scab problem, Indian mustard, rapeseed, canola, and ryegrass grown as green manure rotation crops reduced powdery scab in the subsequent potato crop by 15–40%, and canola and rapeseed reduced black scurf by 70–80% relative to a standard oats rotation. At another field site where common scab was the primary disease problem, an Indian mustard green manure reduced common scab by 25%, and rapeseed, yellow mustard, and ‘Lemtal’ ryegrass also reduced black scurf relative to a standard ryegrass rotation. Disease reductions were not always associated with higher glucosinolate-producing crops, and were also observed with non-Brassica crops (barley and ryegrass), indicating other mechanisms and interactions are important, particularly for control of R. solani. Overall, Indian mustard was most effective for reducing powdery scab and common scab diseases, whereas rapeseed and canola were most effective in reducing Rhizoctonia diseases. These results indicate that Brassica crops have potential for use as green manures for the control of multiple soilborne disease problems. | AD12: +++
A13: 1002 | B13: HAFL | C13: SVG | D13: G-Brassica rapa | E13: =IF(D13>0,VLOOKUP(D13,lists!$C$6:$D$101,2,FALSE),"") -> Turnip | F13: Purple Top | G13: CC | H13: Mid June-Mid August | I13: USA | J13: Maine | K13: unknown | M13: Rhizoctonia solani | N13: =IF(M13>0,VLOOKUP(M13,lists!$Q$6:$R$161,2,FALSE),"") -> Thanatephorus cucumeris | O13: n.i | P13: hostplant suitability unknown | Q13: n.i | R13: very effective | S13: decrease of disease | T13: greenhouse | U13: Crop Protection 26: 1067–1077 | V13: Peer reviewed | W13: English | X13: Control of soilborne potato diseases using Brassica green manures | Y13: Larkin, R.P, Griffin, T.S | Z13: 2007 | AA13: Brassica crops used in crop rotations and as green manures have been associated with reductions in soilborne pests and pathogens. These reductions have been attributed to the production of volatile sulfur compounds through a process known as biofumigation, and to changes in soil microbial community structure. In this study, selected Brassica crops, including canola, rapeseed, radish, turnip, yellow mustard, and Indian mustard, were evaluated for control of various soilborne potato pathogens and diseases in culture, in greenhouse trials, and in field trials on commercial potato farms. In in vitro assays, volatiles released from chopped leaf material of Brassica crops and barley inhibited growth of a variety of soilborne pathogens of potato, including Rhizoctonia solani, Phytophthora erythroseptica, Pythium ultimum, Sclerotinia sclerotiorum, and Fusarium sambucinam, with Indian mustard resulting in nearly complete inhibition (80–100%). All Brassica crops and barley reduced inoculum levels of R. solani (20–56% reduction) in greenhouse tests, and radish, rapeseed, and Indian mustard reduced subsequent potato seedling disease by 40–83%. In an on-farm field trial at a site with a substantial powdery scab problem, Indian mustard, rapeseed, canola, and ryegrass grown as green manure rotation crops reduced powdery scab in the subsequent potato crop by 15–40%, and canola and rapeseed reduced black scurf by 70–80% relative to a standard oats rotation. At another field site where common scab was the primary disease problem, an Indian mustard green manure reduced common scab by 25%, and rapeseed, yellow mustard, and ‘Lemtal’ ryegrass also reduced black scurf relative to a standard ryegrass rotation. Disease reductions were not always associated with higher glucosinolate-producing crops, and were also observed with non-Brassica crops (barley and ryegrass), indicating other mechanisms and interactions are important, particularly for control of R. solani. Overall, Indian mustard was most effective for reducing powdery scab and common scab diseases, whereas rapeseed and canola were most effective in reducing Rhizoctonia diseases. These results indicate that Brassica crops have potential for use as green manures for the control of multiple soilborne disease problems. | AD13: +++
A14: 1002 | B14: HAFL | C14: SVG | D14: G-Raphanus sativus | E14: =IF(D14>0,VLOOKUP(D14,lists!$C$6:$D$101,2,FALSE),"") -> Radish | F14: unknown | G14: CC | H14: Mid June-Mid August | I14: USA | J14: Maine | K14: unknown | M14: Rhizoctonia solani | N14: =IF(M14>0,VLOOKUP(M14,lists!$Q$6:$R$161,2,FALSE),"") -> Thanatephorus cucumeris | O14: n.i | P14: hostplant suitability unknown | Q14: n.i | R14: effective | S14: decrease of disease | T14: greenhouse | U14: Crop Protection 26: 1067–1077 | V14: Peer reviewed | W14: English | X14: Control of soilborne potato diseases using Brassica green manures | Y14: Larkin, R.P, Griffin, T.S | Z14: 2007 | AA14: Brassica crops used in crop rotations and as green manures have been associated with reductions in soilborne pests and pathogens. These reductions have been attributed to the production of volatile sulfur compounds through a process known as biofumigation, and to changes in soil microbial community structure. In this study, selected Brassica crops, including canola, rapeseed, radish, turnip, yellow mustard, and Indian mustard, were evaluated for control of various soilborne potato pathogens and diseases in culture, in greenhouse trials, and in field trials on commercial potato farms. In in vitro assays, volatiles released from chopped leaf material of Brassica crops and barley inhibited growth of a variety of soilborne pathogens of potato, including Rhizoctonia solani, Phytophthora erythroseptica, Pythium ultimum, Sclerotinia sclerotiorum, and Fusarium sambucinam, with Indian mustard resulting in nearly complete inhibition (80–100%). All Brassica crops and barley reduced inoculum levels of R. solani (20–56% reduction) in greenhouse tests, and radish, rapeseed, and Indian mustard reduced subsequent potato seedling disease by 40–83%. In an on-farm field trial at a site with a substantial powdery scab problem, Indian mustard, rapeseed, canola, and ryegrass grown as green manure rotation crops reduced powdery scab in the subsequent potato crop by 15–40%, and canola and rapeseed reduced black scurf by 70–80% relative to a standard oats rotation. At another field site where common scab was the primary disease problem, an Indian mustard green manure reduced common scab by 25%, and rapeseed, yellow mustard, and ‘Lemtal’ ryegrass also reduced black scurf relative to a standard ryegrass rotation. Disease reductions were not always associated with higher glucosinolate-producing crops, and were also observed with non-Brassica crops (barley and ryegrass), indicating other mechanisms and interactions are important, particularly for control of R. solani. Overall, Indian mustard was most effective for reducing powdery scab and common scab diseases, whereas rapeseed and canola were most effective in reducing Rhizoctonia diseases. These results indicate that Brassica crops have potential for use as green manures for the control of multiple soilborne disease problems. | AD14: +++
A15: 1002 | B15: HAFL | C15: SVG | D15: F-Hordeum vulgare | E15: =IF(D15>0,VLOOKUP(D15,lists!$C$6:$D$101,2,FALSE),"") -> Barley | F15: unknown | G15: CC | H15: Mid June-Mid August | I15: USA | J15: Maine | K15: unknown | M15: Rhizoctonia solani | N15: =IF(M15>0,VLOOKUP(M15,lists!$Q$6:$R$161,2,FALSE),"") -> Thanatephorus cucumeris | O15: n.i | P15: hostplant suitability unknown | Q15: n.i | R15: very effective | S15: decrease of disease | T15: greenhouse | U15: Crop Protection 26: 1067–1077 | V15: Peer reviewed | W15: English | X15: Control of soilborne potato diseases using Brassica green manures | Y15: Larkin, R.P, Griffin, T.S | Z15: 2007 | AA15: Brassica crops used in crop rotations and as green manures have been associated with reductions in soilborne pests and pathogens. These reductions have been attributed to the production of volatile sulfur compounds through a process known as biofumigation, and to changes in soil microbial community structure. In this study, selected Brassica crops, including canola, rapeseed, radish, turnip, yellow mustard, and Indian mustard, were evaluated for control of various soilborne potato pathogens and diseases in culture, in greenhouse trials, and in field trials on commercial potato farms. In in vitro assays, volatiles released from chopped leaf material of Brassica crops and barley inhibited growth of a variety of soilborne pathogens of potato, including Rhizoctonia solani, Phytophthora erythroseptica, Pythium ultimum, Sclerotinia sclerotiorum, and Fusarium sambucinam, with Indian mustard resulting in nearly complete inhibition (80–100%). All Brassica crops and barley reduced inoculum levels of R. solani (20–56% reduction) in greenhouse tests, and radish, rapeseed, and Indian mustard reduced subsequent potato seedling disease by 40–83%. In an on-farm field trial at a site with a substantial powdery scab problem, Indian mustard, rapeseed, canola, and ryegrass grown as green manure rotation crops reduced powdery scab in the subsequent potato crop by 15–40%, and canola and rapeseed reduced black scurf by 70–80% relative to a standard oats rotation. At another field site where common scab was the primary disease problem, an Indian mustard green manure reduced common scab by 25%, and rapeseed, yellow mustard, and ‘Lemtal’ ryegrass also reduced black scurf relative to a standard ryegrass rotation. Disease reductions were not always associated with higher glucosinolate-producing crops, and were also observed with non-Brassica crops (barley and ryegrass), indicating other mechanisms and interactions are important, particularly for control of R. solani. Overall, Indian mustard was most effective for reducing powdery scab and common scab diseases, whereas rapeseed and canola were most effective in reducing Rhizoctonia diseases. These results indicate that Brassica crops have potential for use as green manures for the control of multiple soilborne disease problems. | AD15: +++
A16: 1002 | B16: HAFL | C16: SVG | D16: G-Lolium multiflorum | E16: =IF(D16>0,VLOOKUP(D16,lists!$C$6:$D$101,2,FALSE),"") -> Italian ryegrass | F16: Lemtal | G16: CC | H16: Mid June-Mid August | I16: USA | J16: Maine | K16: unknown | M16: Rhizoctonia solani | N16: =IF(M16>0,VLOOKUP(M16,lists!$Q$6:$R$161,2,FALSE),"") -> Thanatephorus cucumeris | O16: n.i | P16: hostplant suitability unknown | Q16: n.i | R16: effective | S16: decrease of disease | T16: greenhouse | U16: Crop Protection 26: 1067–1077 | V16: Peer reviewed | W16: English | X16: Control of soilborne potato diseases using Brassica green manures | Y16: Larkin, R.P, Griffin, T.S | Z16: 2007 | AA16: Brassica crops used in crop rotations and as green manures have been associated with reductions in soilborne pests and pathogens. These reductions have been attributed to the production of volatile sulfur compounds through a process known as biofumigation, and to changes in soil microbial community structure. In this study, selected Brassica crops, including canola, rapeseed, radish, turnip, yellow mustard, and Indian mustard, were evaluated for control of various soilborne potato pathogens and diseases in culture, in greenhouse trials, and in field trials on commercial potato farms. In in vitro assays, volatiles released from chopped leaf material of Brassica crops and barley inhibited growth of a variety of soilborne pathogens of potato, including Rhizoctonia solani, Phytophthora erythroseptica, Pythium ultimum, Sclerotinia sclerotiorum, and Fusarium sambucinam, with Indian mustard resulting in nearly complete inhibition (80–100%). All Brassica crops and barley reduced inoculum levels of R. solani (20–56% reduction) in greenhouse tests, and radish, rapeseed, and Indian mustard reduced subsequent potato seedling disease by 40–83%. In an on-farm field trial at a site with a substantial powdery scab problem, Indian mustard, rapeseed, canola, and ryegrass grown as green manure rotation crops reduced powdery scab in the subsequent potato crop by 15–40%, and canola and rapeseed reduced black scurf by 70–80% relative to a standard oats rotation. At another field site where common scab was the primary disease problem, an Indian mustard green manure reduced common scab by 25%, and rapeseed, yellow mustard, and ‘Lemtal’ ryegrass also reduced black scurf relative to a standard ryegrass rotation. Disease reductions were not always associated with higher glucosinolate-producing crops, and were also observed with non-Brassica crops (barley and ryegrass), indicating other mechanisms and interactions are important, particularly for control of R. solani. Overall, Indian mustard was most effective for reducing powdery scab and common scab diseases, whereas rapeseed and canola were most effective in reducing Rhizoctonia diseases. These results indicate that Brassica crops have potential for use as green manures for the control of multiple soilborne disease problems. | AD16: +++
A17: 1002 | B17: HAFL | C17: SVG | D17: F-Brassica napus | E17: =IF(D17>0,VLOOKUP(D17,lists!$C$6:$D$101,2,FALSE),"") -> Rapeseed | F17: Canola Hyola 401 | G17: CC | H17: Mid June-Mid August | I17: USA | J17: Maine | K17: unknown | M17: Rhizoctonia solani | N17: =IF(M17>0,VLOOKUP(M17,lists!$Q$6:$R$161,2,FALSE),"") -> Thanatephorus cucumeris | O17: n.i | P17: hostplant suitability unknown | Q17: n.i | R17: very effective | S17: decrease of disease | T17: field | U17: Crop Protection 26: 1067–1077 | V17: Peer reviewed | W17: English | X17: Control of soilborne potato diseases using Brassica green manures | Y17: Larkin, R.P, Griffin, T.S | Z17: 2007 | AA17: Brassica crops used in crop rotations and as green manures have been associated with reductions in soilborne pests and pathogens. These reductions have been attributed to the production of volatile sulfur compounds through a process known as biofumigation, and to changes in soil microbial community structure. In this study, selected Brassica crops, including canola, rapeseed, radish, turnip, yellow mustard, and Indian mustard, were evaluated for control of various soilborne potato pathogens and diseases in culture, in greenhouse trials, and in field trials on commercial potato farms. In in vitro assays, volatiles released from chopped leaf material of Brassica crops and barley inhibited growth of a variety of soilborne pathogens of potato, including Rhizoctonia solani, Phytophthora erythroseptica, Pythium ultimum, Sclerotinia sclerotiorum, and Fusarium sambucinam, with Indian mustard resulting in nearly complete inhibition (80–100%). All Brassica crops and barley reduced inoculum levels of R. solani (20–56% reduction) in greenhouse tests, and radish, rapeseed, and Indian mustard reduced subsequent potato seedling disease by 40–83%. In an on-farm field trial at a site with a substantial powdery scab problem, Indian mustard, rapeseed, canola, and ryegrass grown as green manure rotation crops reduced powdery scab in the subsequent potato crop by 15–40%, and canola and rapeseed reduced black scurf by 70–80% relative to a standard oats rotation. At another field site where common scab was the primary disease problem, an Indian mustard green manure reduced common scab by 25%, and rapeseed, yellow mustard, and ‘Lemtal’ ryegrass also reduced black scurf relative to a standard ryegrass rotation. Disease reductions were not always associated with higher glucosinolate-producing crops, and were also observed with non-Brassica crops (barley and ryegrass), indicating other mechanisms and interactions are important, particularly for control of R. solani. Overall, Indian mustard was most effective for reducing powdery scab and common scab diseases, whereas rapeseed and canola were most effective in reducing Rhizoctonia diseases. These results indicate that Brassica crops have potential for use as green manures for the control of multiple soilborne disease problems. | AD17: +++
A18: 1002 | B18: HAFL | C18: SVG | D18: F-Brassica napus | E18: =IF(D18>0,VLOOKUP(D18,lists!$C$6:$D$101,2,FALSE),"") -> Rapeseed | F18: Dwarf Essex | G18: CC | H18: Mid June-Mid August | I18: USA | J18: Maine | K18: unknown | M18: Rhizoctonia solani | N18: =IF(M18>0,VLOOKUP(M18,lists!$Q$6:$R$161,2,FALSE),"") -> Thanatephorus cucumeris | O18: n.i | P18: hostplant suitability unknown | Q18: n.i | R18: very effective | S18: decrease of disease | T18: field | U18: Crop Protection 26: 1067–1077 | V18: Peer reviewed | W18: English | X18: Control of soilborne potato diseases using Brassica green manures | Y18: Larkin, R.P, Griffin, T.S | Z18: 2007 | AA18: Brassica crops used in crop rotations and as green manures have been associated with reductions in soilborne pests and pathogens. These reductions have been attributed to the production of volatile sulfur compounds through a process known as biofumigation, and to changes in soil microbial community structure. In this study, selected Brassica crops, including canola, rapeseed, radish, turnip, yellow mustard, and Indian mustard, were evaluated for control of various soilborne potato pathogens and diseases in culture, in greenhouse trials, and in field trials on commercial potato farms. In in vitro assays, volatiles released from chopped leaf material of Brassica crops and barley inhibited growth of a variety of soilborne pathogens of potato, including Rhizoctonia solani, Phytophthora erythroseptica, Pythium ultimum, Sclerotinia sclerotiorum, and Fusarium sambucinam, with Indian mustard resulting in nearly complete inhibition (80–100%). All Brassica crops and barley reduced inoculum levels of R. solani (20–56% reduction) in greenhouse tests, and radish, rapeseed, and Indian mustard reduced subsequent potato seedling disease by 40–83%. In an on-farm field trial at a site with a substantial powdery scab problem, Indian mustard, rapeseed, canola, and ryegrass grown as green manure rotation crops reduced powdery scab in the subsequent potato crop by 15–40%, and canola and rapeseed reduced black scurf by 70–80% relative to a standard oats rotation. At another field site where common scab was the primary disease problem, an Indian mustard green manure reduced common scab by 25%, and rapeseed, yellow mustard, and ‘Lemtal’ ryegrass also reduced black scurf relative to a standard ryegrass rotation. Disease reductions were not always associated with higher glucosinolate-producing crops, and were also observed with non-Brassica crops (barley and ryegrass), indicating other mechanisms and interactions are important, particularly for control of R. solani. Overall, Indian mustard was most effective for reducing powdery scab and common scab diseases, whereas rapeseed and canola were most effective in reducing Rhizoctonia diseases. These results indicate that Brassica crops have potential for use as green manures for the control of multiple soilborne disease problems. | AD18: +++
A19: 1002 | B19: HAFL | C19: SVG | D19: G-Brassica spp. | E19: Mustards | F19: Brassica juncea | G19: CC | H19: Mid June-Mid August | I19: USA | J19: Maine | K19: unknown | M19: Spongospora subterranea f. sp. subterranea | N19: =IF(M19>0,VLOOKUP(M19,lists!$Q$6:$R$161,2,FALSE),"") -> 0 | O19: n.i | P19: hostplant suitability unknown | Q19: n.i | R19: effective | S19: decrease of disease | T19: field | U19: Crop Protection 26: 1067–1077 | V19: Peer reviewed | W19: English | X19: Control of soilborne potato diseases using Brassica green manures | Y19: Larkin, R.P, Griffin, T.S | Z19: 2007 | AA19: Brassica crops used in crop rotations and as green manures have been associated with reductions in soilborne pests and pathogens. These reductions have been attributed to the production of volatile sulfur compounds through a process known as biofumigation, and to changes in soil microbial community structure. In this study, selected Brassica crops, including canola, rapeseed, radish, turnip, yellow mustard, and Indian mustard, were evaluated for control of various soilborne potato pathogens and diseases in culture, in greenhouse trials, and in field trials on commercial potato farms. In in vitro assays, volatiles released from chopped leaf material of Brassica crops and barley inhibited growth of a variety of soilborne pathogens of potato, including Rhizoctonia solani, Phytophthora erythroseptica, Pythium ultimum, Sclerotinia sclerotiorum, and Fusarium sambucinam, with Indian mustard resulting in nearly complete inhibition (80–100%). All Brassica crops and barley reduced inoculum levels of R. solani (20–56% reduction) in greenhouse tests, and radish, rapeseed, and Indian mustard reduced subsequent potato seedling disease by 40–83%. In an on-farm field trial at a site with a substantial powdery scab problem, Indian mustard, rapeseed, canola, and ryegrass grown as green manure rotation crops reduced powdery scab in the subsequent potato crop by 15–40%, and canola and rapeseed reduced black scurf by 70–80% relative to a standard oats rotation. At another field site where common scab was the primary disease problem, an Indian mustard green manure reduced common scab by 25%, and rapeseed, yellow mustard, and ‘Lemtal’ ryegrass also reduced black scurf relative to a standard ryegrass rotation. Disease reductions were not always associated with higher glucosinolate-producing crops, and were also observed with non-Brassica crops (barley and ryegrass), indicating other mechanisms and interactions are important, particularly for control of R. solani. Overall, Indian mustard was most effective for reducing powdery scab and common scab diseases, whereas rapeseed and canola were most effective in reducing Rhizoctonia diseases. These results indicate that Brassica crops have potential for use as green manures for the control of multiple soilborne disease problems. | AD19: +++
A20: 1002 | B20: HAFL | C20: SVG | D20: F-Brassica napus | E20: =IF(D20>0,VLOOKUP(D20,lists!$C$6:$D$101,2,FALSE),"") -> Rapeseed | F20: Canola Hyola 401 | G20: CC | H20: Mid June-Mid August | I20: USA | J20: Maine | K20: unknown | M20: Spongospora subterranea f. sp. subterranea | N20: =IF(M20>0,VLOOKUP(M20,lists!$Q$6:$R$161,2,FALSE),"") -> 0 | O20: n.i | P20: hostplant suitability unknown | Q20: n.i | R20: effective | S20: decrease of disease | T20: field | U20: Crop Protection 26: 1067–1077 | V20: Peer reviewed | W20: English | X20: Control of soilborne potato diseases using Brassica green manures | Y20: Larkin, R.P, Griffin, T.S | Z20: 2007 | AA20: Brassica crops used in crop rotations and as green manures have been associated with reductions in soilborne pests and pathogens. These reductions have been attributed to the production of volatile sulfur compounds through a process known as biofumigation, and to changes in soil microbial community structure. In this study, selected Brassica crops, including canola, rapeseed, radish, turnip, yellow mustard, and Indian mustard, were evaluated for control of various soilborne potato pathogens and diseases in culture, in greenhouse trials, and in field trials on commercial potato farms. In in vitro assays, volatiles released from chopped leaf material of Brassica crops and barley inhibited growth of a variety of soilborne pathogens of potato, including Rhizoctonia solani, Phytophthora erythroseptica, Pythium ultimum, Sclerotinia sclerotiorum, and Fusarium sambucinam, with Indian mustard resulting in nearly complete inhibition (80–100%). All Brassica crops and barley reduced inoculum levels of R. solani (20–56% reduction) in greenhouse tests, and radish, rapeseed, and Indian mustard reduced subsequent potato seedling disease by 40–83%. In an on-farm field trial at a site with a substantial powdery scab problem, Indian mustard, rapeseed, canola, and ryegrass grown as green manure rotation crops reduced powdery scab in the subsequent potato crop by 15–40%, and canola and rapeseed reduced black scurf by 70–80% relative to a standard oats rotation. At another field site where common scab was the primary disease problem, an Indian mustard green manure reduced common scab by 25%, and rapeseed, yellow mustard, and ‘Lemtal’ ryegrass also reduced black scurf relative to a standard ryegrass rotation. Disease reductions were not always associated with higher glucosinolate-producing crops, and were also observed with non-Brassica crops (barley and ryegrass), indicating other mechanisms and interactions are important, particularly for control of R. solani. Overall, Indian mustard was most effective for reducing powdery scab and common scab diseases, whereas rapeseed and canola were most effective in reducing Rhizoctonia diseases. These results indicate that Brassica crops have potential for use as green manures for the control of multiple soilborne disease problems. | AD20: +++
A21: 1002 | B21: HAFL | C21: SVG | D21: F-Brassica napus | E21: =IF(D21>0,VLOOKUP(D21,lists!$C$6:$D$101,2,FALSE),"") -> Rapeseed | F21: Dwarf Essex | G21: CC | H21: Mid June-Mid August | I21: USA | J21: Maine | K21: unknown | M21: Spongospora subterranea f. sp. subterranea | N21: =IF(M21>0,VLOOKUP(M21,lists!$Q$6:$R$161,2,FALSE),"") -> 0 | O21: n.i | P21: hostplant suitability unknown | Q21: n.i | R21: effective | S21: decrease of disease | T21: field | U21: Crop Protection 26: 1067–1077 | V21: Peer reviewed | W21: English | X21: Control of soilborne potato diseases using Brassica green manures | Y21: Larkin, R.P, Griffin, T.S | Z21: 2007 | AA21: Brassica crops used in crop rotations and as green manures have been associated with reductions in soilborne pests and pathogens. These reductions have been attributed to the production of volatile sulfur compounds through a process known as biofumigation, and to changes in soil microbial community structure. In this study, selected Brassica crops, including canola, rapeseed, radish, turnip, yellow mustard, and Indian mustard, were evaluated for control of various soilborne potato pathogens and diseases in culture, in greenhouse trials, and in field trials on commercial potato farms. In in vitro assays, volatiles released from chopped leaf material of Brassica crops and barley inhibited growth of a variety of soilborne pathogens of potato, including Rhizoctonia solani, Phytophthora erythroseptica, Pythium ultimum, Sclerotinia sclerotiorum, and Fusarium sambucinam, with Indian mustard resulting in nearly complete inhibition (80–100%). All Brassica crops and barley reduced inoculum levels of R. solani (20–56% reduction) in greenhouse tests, and radish, rapeseed, and Indian mustard reduced subsequent potato seedling disease by 40–83%. In an on-farm field trial at a site with a substantial powdery scab problem, Indian mustard, rapeseed, canola, and ryegrass grown as green manure rotation crops reduced powdery scab in the subsequent potato crop by 15–40%, and canola and rapeseed reduced black scurf by 70–80% relative to a standard oats rotation. At another field site where common scab was the primary disease problem, an Indian mustard green manure reduced common scab by 25%, and rapeseed, yellow mustard, and ‘Lemtal’ ryegrass also reduced black scurf relative to a standard ryegrass rotation. Disease reductions were not always associated with higher glucosinolate-producing crops, and were also observed with non-Brassica crops (barley and ryegrass), indicating other mechanisms and interactions are important, particularly for control of R. solani. Overall, Indian mustard was most effective for reducing powdery scab and common scab diseases, whereas rapeseed and canola were most effective in reducing Rhizoctonia diseases. These results indicate that Brassica crops have potential for use as green manures for the control of multiple soilborne disease problems. | AD21: +++
A22: 1002 | B22: HAFL | C22: SVG | D22: G-Lolium multiflorum | E22: =IF(D22>0,VLOOKUP(D22,lists!$C$6:$D$101,2,FALSE),"") -> Italian ryegrass | F22: Lemtal | G22: CC | H22: Mid June-Mid August | I22: USA | J22: Maine | K22: unknown | M22: Spongospora subterranea f. sp. subterranea | N22: =IF(M22>0,VLOOKUP(M22,lists!$Q$6:$R$161,2,FALSE),"") -> 0 | O22: n.i | P22: hostplant suitability unknown | Q22: n.i | R22: effective | S22: decrease of disease | T22: field | U22: Crop Protection 26: 1067–1077 | V22: Peer reviewed | W22: English | X22: Control of soilborne potato diseases using Brassica green manures | Y22: Larkin, R.P, Griffin, T.S | Z22: 2007 | AA22: Brassica crops used in crop rotations and as green manures have been associated with reductions in soilborne pests and pathogens. These reductions have been attributed to the production of volatile sulfur compounds through a process known as biofumigation, and to changes in soil microbial community structure. In this study, selected Brassica crops, including canola, rapeseed, radish, turnip, yellow mustard, and Indian mustard, were evaluated for control of various soilborne potato pathogens and diseases in culture, in greenhouse trials, and in field trials on commercial potato farms. In in vitro assays, volatiles released from chopped leaf material of Brassica crops and barley inhibited growth of a variety of soilborne pathogens of potato, including Rhizoctonia solani, Phytophthora erythroseptica, Pythium ultimum, Sclerotinia sclerotiorum, and Fusarium sambucinam, with Indian mustard resulting in nearly complete inhibition (80–100%). All Brassica crops and barley reduced inoculum levels of R. solani (20–56% reduction) in greenhouse tests, and radish, rapeseed, and Indian mustard reduced subsequent potato seedling disease by 40–83%. In an on-farm field trial at a site with a substantial powdery scab problem, Indian mustard, rapeseed, canola, and ryegrass grown as green manure rotation crops reduced powdery scab in the subsequent potato crop by 15–40%, and canola and rapeseed reduced black scurf by 70–80% relative to a standard oats rotation. At another field site where common scab was the primary disease problem, an Indian mustard green manure reduced common scab by 25%, and rapeseed, yellow mustard, and ‘Lemtal’ ryegrass also reduced black scurf relative to a standard ryegrass rotation. Disease reductions were not always associated with higher glucosinolate-producing crops, and were also observed with non-Brassica crops (barley and ryegrass), indicating other mechanisms and interactions are important, particularly for control of R. solani. Overall, Indian mustard was most effective for reducing powdery scab and common scab diseases, whereas rapeseed and canola were most effective in reducing Rhizoctonia diseases. These results indicate that Brassica crops have potential for use as green manures for the control of multiple soilborne disease problems. | AD22: +++
