Workbook

Sheet INDEX
Q2: =IF(D9="A", 20,0) -> 20
Q3: =IF(D10="A",20,0) -> 0
Q4: =IF(D9="B",2,0) -> 0
Q5: =IF(D10="B",2,0) -> 2
Q6: =SUM(Q2:Q5) -> 22
D8: Investigación | E8: Docencia | F8: Transferencia | G8: Gestión | H8: Formación | Q8: =IF(E9="A", 20,0) -> 20
C9: Méritos Obligatorios | D9: =Obligatorios_INV!E2 -> A | E9: =Obligatorios_DOC!G2 -> A | Q9: =IF(E10="A",20,0) -> 0
C10: Méritos Complementarios | D10: =Complementarios_INV!G2 -> B | E10: =Complementarios_DOC!E2 -> B | Q10: =IF(E9="B",2,0) -> 0
C11: Total | D11: =IF(Q6>19,"A",IF(Q6=4,"B",IF(Q6=2,"B",IF(Q6=0,"C")))) -> A | E11: =IF(Q12>19,"A",IF(Q12=4,"B",IF(Q12=2,"B",IF(Q12=0,"C")))) -> A | F11: =Transferencia_Formación!C6 -> A | G11: =Gestión!D6 -> B | H11: =Transferencia_Formación!H6 -> B | Q11: =IF(E10="B",2,0) -> 2
Q12: =SUM(Q8:Q11) -> 22

Sheet Obligatorios_INV
C2: Marcar con una X | E2: =IF(I4=1,"B",IF(I4=4,"A",IF(I4=0,"C"))) -> A | G2: Marcar con una X | I2: =IF(G4="B",1,0) -> 1
I3: =IF(C4="A",3,0) -> 3
B4: Méritos Obligatorios A / EXENCIÓN A CÁTEDRA | C4: =IF(C5>99%,"A","NULL") -> A | F4: Méritos Obligatorios B | G4: =IF(G5>99%,"B","NULL") -> B | I4: =SUM(I2:I3) -> 4
B5: Se deben cumplir todos | C5: =C11/4 -> 1 | F5: Se deben cumplir todos | G5: =G11/4 -> 1
B6: Cuatro aportaciones relevantes | C6: x | F6: Cuatro aportaciones relevantes | G6: X
B7: Un mínimo de 30 publicaciones, de las cuales, al menos, 20 deberán ser artículos de revistas | C7: X | F7: Un mínimo de 20 publicaciones, de las cuales, al menos, 7 deberán ser artículos de revistas | G7: x
B8: Diez artículos nivel 1 y 2 | C8: x | F8: Cuatro artículos nivel 1 y 2 | G8: x
B9: Primer firmante en al menos 1/2 de las publicaciones | C9: x | F9: Primer firmante en al menos 1/3 de las publicaciones | G9: x
C11: =COUNTIF(C6:C10,"=x") -> 4 | G11: =COUNTIF(G6:G10,"=x") -> 4

Sheet Complementarios_INV
I1: =IF(H6="B", 1,0) -> 1
G2: =IF(I3=1,"B",IF(I3=4,"A",IF(I3=0,"C"))) -> B | I2: =IF(C6="A", 3,0) -> 0
C3: Marcar con una X | H3: Marcar con una X | I3: =SUM(I1:I2) -> 1
B6: Méritos complementarios A | C6: =IF(C7>99%,"A","INSUF") -> INSUF | G6: Méritos complementarios B | H6: =IF(H7>99%,"B","INSUF") -> B
B7: Al menos 7 méritos (entre 23) | C7: =C34*0.1428 -> 0.8568 | G7: Al menos 4 méritos (entre 23) | H7: =H34*0.25 -> 1
B8: Alto índice H y elevado número de citas en GS, Publons (Clarivate) o SCOPUS, según el área de conocimiento o especialización de las personas solicitantes y siempre superior al promedio del área de conocimiento respectiva. | E8: = | G8: Alto índice H y elevado número de citas en GS, Publons (Clarivate) o SCOPUS, según el área de conocimiento o especialización de las personas solicitantes y siempre superior al promedio del área de conocimiento respectiva. | H8: X
B9: Libros, capítulos de libro y artículos de los niveles 1 y 2 adicionales a los presentados como méritos obligatorios en un número significativo a juicio de la comisión. | E9: = | G9: Libros, capítulos de libro y artículos de los niveles 1 y 2 adicionales a los presentados como méritos obligatorios en un número significativo a juicio de la comisión. | H9: X
B10: Dirección de 2 tesis doctorales que hayan dado lugar a publicaciones en revistas del nivel 1 o 2 o a monografías en editoriales de prestigio. Este mérito no se alegará como mérito docente en el caso de ser incluido en investigación. | C10: x | E10: = | G10: Dirección de 2 tesis doctorales que hayan dado lugar a publicaciones en revistas del nivel 1 o 2 o a monografías en editoriales de prestigio. Este mérito no se alegará como mérito docente en el caso de ser incluido en investigación.
B11: Dirección de tesis doctorales que hayan dado lugar a premios nacionales o internacionales reconocidos. | C11: x | G11: Dirección de tesis doctorales que hayan dado lugar a premios nacionales o internacionales reconocidos.
B12: Presentación de una comunicación, póster o ponencia en al menos 12 congresos nacionales con comité científico de la misma naturaleza, organizados todos ellos por asociaciones de referencia en el área correspondiente. | G12: Presentación de una comunicación, póster o ponencia en al menos 6 congresos nacionales con comité científico de la misma naturaleza, organizados todos ellos por asociaciones de referencia en el área correspondiente.
B13: Presentación de una comunicación, póster o ponencia en, al menos, 6 congresos internacionales con comité científico de la misma naturaleza, organizados todos ellos por asociaciones de referencia en el área correspondiente. | C13: x | E13: ≠ | G13: Presentación de una comunicación, póster o ponencia en, al menos, 4 congresos internacionales con comité científico de la misma naturaleza, organizados todos ellos por asociaciones de referencia en el área correspondiente.
B14: Tener reconocido al menos 2 sexenios de investigación evaluado por la CNEAI y otorgado en virtud de régimen de convenio. | C14: x | E14: ≠ | G14: Tener reconocido al menos 1 sexenio de investigación evaluado por la CNEAI y otorgado en virtud de régimen de convenio.
B15: IP de proyectos de investigación competitivos de ámbito autonómico, nacional (del Plan Nacional de l+D+i), europeo (Horizonte 2020 o similar) o internacional (ERC, ERC-Starting Grant, ...) durante al menos 6 años en conjunto. | E15: = | G15: IP de proyectos de investigación competitivos de ámbito autonómico, nacional (del Plan Nacional de l+D+i), europeo (Horizonte 2020 o similar) o internacional (ERC, ERC-Starting Grant, ...) durante al menos 6 años en conjunto.
B16: Participación en, al menos, 4 proyectos de investigación competitivos autonómicos, nacionales o internacionales. | C16: X | E16: ≠ | G16: Participación en, al menos, 2 proyectos de investigación competitivos autonómicos, nacionales o internacionales. | H16: X
B17: Haber obtenido un contrato en Programas Nacionales (Ramón y Cajal, Juan de la Cierva, etc.), Internacionales (Marie Curie, etc.) o equivalentes en convocatoria competitiva. | E17: = | G17: Haber obtenido un contrato en Programas Nacionales (Ramón y Cajal, Juan de la Cierva, etc.), Internacionales (Marie Curie, etc.) o equivalentes en convocatoria competitiva.
B18: Haber realizado un mínimo de 6 meses de estancias de investigación en centros de prestigio. La Comisión valorará la relevancia del centro receptor. ¿?¿? | E18: ≠ | G18: Haber realizado un mínimo de 6 meses de estancias de investigación en centros de prestigio, la mitad de ellos al menos en el extranjero, bien continuados o con estancias de movilidad con duración mínima de 4 semanas y, preferentemente, sin repetir más de dos veces en el mismo centro. Se aportarán en todos los casos resultados de las mismas. La Comisión valorará la relevancia del centro receptor.
B19: Pertenencia a comités de redacción en revistas nivel 1 o 2 durante, al menos, de 2 años. | E19: = | G19: Pertenencia a comités de redacción en revistas nivel 1 o 2 durante, al menos, de 2 años.
B20: Pertenencia a Consejos Editoriales o de Redacción de, al menos, 1 colección de libros incluida en posiciones preferentes (primer cuartil) de Scholarly Publishers Indicators (SPI), colecciones universitarias con sello CEA o equivalentes (durante un mínimo de 2 años) | C20: X | E20: = | G20: Pertenencia a Consejos Editoriales o de Redacción de, al menos, 1 colección de libros incluida en posiciones preferentes (primer cuartil) de Scholarly Publishers Indicators (SPI), colecciones universitarias con sello CEA o equivalentes (durante un mínimo de 2 años) | H20: X
B21: Pertenencia a comités científicos o académicos internacionales al menos durante 2 años. | E21: = | G21: Pertenencia a comités científicos o académicos internacionales al menos durante 2 años.
B22: Miembro de tribunales o comités de tesis doctorales o plazas estables de profesores en centros nacionales o internacionales relevantes. La Comisión valorará esa relevancia. | E22: = | G22: Miembro de tribunales o comités de tesis doctorales o plazas estables de profesores en centros nacionales o internacionales relevantes. La Comisión valorará esa relevancia.
B23: Actividades de evaluación científica en agencias nacionales, autonómicas o internacionales de acreditación y evaluación en programas competitivos, etc. (al menos dos años). | E23: = | G23: Actividades de evaluación científica en agencias nacionales, autonómicas o internacionales de acreditación y evaluación en programas competitivos, etc. (al menos dos años).
B24: Premios de investigación reconocidos a juicio de la Comisión. | E24: = | G24: Premios de investigación reconocidos a juicio de la Comisión.
B25: Obtención de ayudas en régimen competitivo para la movilidad (estancias de investigación, etc.). La Comisión valorará su número y relevancia. | E25: = | G25: Obtención de ayudas en régimen competitivo para la movilidad (estancias de investigación, etc.). La Comisión valorará su número y relevancia.
B26: Participación habitual como autor/a de reseñas de libros en revistas internacionales de nivel 1 o 2: mínimos de 10 participaciones. | E26: = | G26: Participación habitual como autor/a de reseñas de libros en revistas internacionales de nivel 1 o 2: mínimos de 10 participaciones.
B27: Evaluador/a habitual de artículos científicos en revistas de nivel 1 y 2 (al menos 10 artículos evaluados), registrado en Publons o certificado por la dirección de la/s revista/s científica/s correspondiente/s. | E27: = | G27: Evaluador/a habitual de artículos científicos en revistas de nivel 1 y 2 (al menos 10 artículos evaluados), registrado en Publons o certificado por la dirección de la/s revista/s científica/s correspondiente/s.
B28: Evaluador/a habitual de manuscritos de libros en editoriales de los niveles 1 y 2 (más de 3 manuscritos de libros evaluados), certificado por la dirección de la colección de libros o de la editorial. | E28: = | G28: Evaluador/a habitual de manuscritos de libros en editoriales de los niveles 1 y 2 (más de 3 manuscritos de libros evaluados), certificado por la dirección de la colección de libros o de la editorial.
B29: Cada mérito de Liderazgo y Reconocimiento académicos para CU, que no figure en esta relación y pueda acreditar el/la solicitante, será considerado como mérito complementario para TU. | E29: = | G29: Cada mérito de Liderazgo y Reconocimiento académicos para CU, que no figure en esta relación y pueda acreditar el/la solicitante, será considerado como mérito complementario para TU.
B30: Otros méritos que, debidamente justificados, la Comisión pueda considerar equivalentes. | E30: = | G30: Otros méritos que, debidamente justificados, la Comisión pueda considerar equivalentes.
C34: =COUNTIF(C8:C30,"=x") -> 6 | H34: =COUNTIF(H8:H30,"=x") -> 4

Sheet Obligatorios_DOC
G2: =IF(J4=1,"B",IF(J4=4,"A",IF(J4=0,"C",IF(J4=5,"A")))) -> A | J2: =IF(C6="A",4,0) -> 4
J3: =IF(H6="B",1,0) -> 1
J4: =SUM(J2:J3) -> 5
B6: Méritos Obligatorios A | C6: =IF(C7>99%,"A","INSUF") -> A | G6: Méritos Obligatorios B | H6: =IF(H7>99%,"B","INSUF") -> B
B7: Se deben cumplir todos | C7: =C14/4 -> 1 | G7: Se deben cumplir todos | H7: =H14/4 -> 1
B8: Experiencia Docuente 11 años. 1300 horas impartidas (1040 después del doctorado) | C8: X | E8: ≠ | G8: Experiencia Docuente 5 años. 600 horas impartidas (480 después del doctorado) | H8: X
B9: Se valorará la experiencia docente, impartida preferentemente en materias propias del área del conocimiento para la que se solicita la acreditación, teniendo en cuenta en su caso las circunstancias de los centros en los que los solicitantes hayan desarrollado su actividad y atendiendo a los siguientes factores: | G9: Se valorará la experiencia docente, impartida preferentemente en materias propias del área del conocimiento para la que se solicita la acreditación, teniendo en cuenta en su caso las circunstancias de los centros en los que los solicitantes hayan desarrollado su actividad y atendiendo a los siguientes factores:
B10: La diversidad de la docencia considerando el número y variedad de las materias del área de conocimiento de que haya sido responsable. | C10: x | E10: = | G10: La diversidad de la docencia considerando el número y variedad de las materias del área de conocimiento de que haya sido responsable. | H10: x
B11: Se valorará la dedicación a los distintos ciclos universitarios (Licenciatura, Diplomatura, Doctorado, Grado, Máster). | C11: x | E11: = | G11: Se valorará la dedicación a los distintos ciclos universitarios (Licenciatura, Diplomatura, Doctorado, Grado, Máster). | H11: x
B12: Los solicitantes deberán contar con valoraciones positivas de la actividad docente acreditada por programas de calidad como Docentia u otros análogos. | C12: x | E12: = | G12: Los solicitantes deberán contar con valoraciones positivas de la actividad docente acreditada por programas de calidad como Docentia u otros análogos. | H12: x
C14: =COUNTIF(C8:C13,"=x") -> 4 | H14: =COUNTIF(H8:H13,"=x") -> 4

Sheet Complementarios_DOC
I1: =IF(H8="B", 1,0) -> 1
E2: =IF(I3=1,"B",IF(I3=4,"A",IF(I3=0,"C"))) -> B | I2: =IF(C8="A", 3,0) -> 0
I3: =SUM(I1:I2) -> 1
C7: Marcar con una X | H7: Marcar con una X
B8: Méritos Específicos A | C8: =IF(C9>99%,"A","INSUF") -> INSUF | G8: Méritos Específicos B | H8: =IF(H9>99%,"B","INSUF") -> B
B9: Se deben cumplir 6 de 21 méritos | C9: =C35*0.25 -> 0.5 | G9: Se deben cumplir 4 de 21 méritos | H9: =H35*0.25 -> 1
B10: Dirección y codirección de tesis doctorales. Se valorarán los resultados de las tesis doctorales dirigidas. Se considerarán 2 tesis en el caso de dirección única y 4 en el caso de codirección. Este mérito no se alegará como mérito de docencia en el caso de ser incluido en investigación. | E10: ≠ | G10: Dirección y codirección de tesis doctorales. Se valorarán los resultados de las tesis doctorales dirigidas. Se considerarán 1 tesis en el caso de dirección única y 2 en el caso de codirección. Este mérito no se alegará como mérito de docencia en el caso de ser incluido en investigación. | H10: X
B11: Dirección de 4 trabajos avanzados de estudiantes de Máster o Doctorado (TFM, DEA o equivalente). | E11: = | G11: Dirección de 4 trabajos avanzados de estudiantes de Máster o Doctorado (TFM, DEA o equivalente).
B12: Docencia en centros internacionales de prestigio. | C12: X | E12: = | G12: Docencia en centros internacionales de prestigio. | H12: X
B13: Impartición de cursos de postgrado fuera de la universidad propia. | C13: X | E13: = | G13: Impartición de cursos de postgrado fuera de la universidad propia. | H13: X
B14: Docencia reglada en lengua extranjera en centros españoles. | E14: = | G14: Docencia reglada en lengua extranjera en centros españoles. | H14: X
B15: IP de Proyectos de Innovación Docente de convocatoria competitiva durante un curso académico, o miembro del equipo investigador de al menos dos, con resultados contrastables de calidad en forma de publicaciones u otros que la Comisión considere equivalentes. | E15: = | G15: IP de Proyectos de Innovación Docente de convocatoria competitiva durante un curso académico, o miembro del equipo investigador de al menos dos, con resultados contrastables de calidad en forma de publicaciones u otros que la Comisión considere equivalentes.
B16: Autoría de material docente publicado en editoriales especializadas y de claro prestigio en el área de conocimiento, que cuenten con procesos de evaluación externa y rigurosa selección de originales y, en su caso, indexadas en Scholarly Publishers Indicators. Se valorarán los aparecidos en colecciones de editoriales universitarias que cuenten con sellos de calidad (CEA), siempre que la publicación sea posterior a la concesión del mismo y esté vigente. También se valorarán publicaciones en forma de artículo de carácter docente. | E16: = | G16: Autoría de material docente publicado en editoriales especializadas y de claro prestigio en el área de conocimiento, que cuenten con procesos de evaluación externa y rigurosa selección de originales y, en su caso, indexadas en Scholarly Publishers Indicators. Se valorarán los aparecidos en colecciones de editoriales universitarias que cuenten con sellos de calidad (CEA), siempre que la publicación sea posterior a la concesión del mismo y esté vigente. También se valorarán publicaciones en forma de artículo de carácter docente.
B17: Obtención de un premio de excelencia docente concedido por la universidad u organismo superior. | E17: = | G17: Obtención de un premio de excelencia docente concedido por la universidad u organismo superior.
B18: Estancias docentes en centros relevantes con obtención de becas y ayudas de movilidad de convocatoria competitiva, con una duración mínima de tres meses. | E18: = | G18: Estancias docentes en centros relevantes con obtención de becas y ayudas de movilidad de convocatoria competitiva, con una duración mínima de tres meses.
B19: Presentación de al menos 4 comunicaciones o ponencias sobre temas docentes en jornadas o congresos con indicios relevantes de calidad. | E19: = | G19: Presentación de al menos 4 comunicaciones o ponencias sobre temas docentes en jornadas o congresos con indicios relevantes de calidad.
B20: Coordinación docente de grupos de estudiantes (intercambios, prácticas curriculares, etc.). | E20: = | G20: Coordinación docente de grupos de estudiantes (intercambios, prácticas curriculares, etc.).
B21: Elaboración e impartición de cursos online en plataformas de prestigio (OCW, EdX, Coursera, etc.) | E21: = | G21: Elaboración e impartición de cursos online en plataformas de prestigio (OCW, EdX, Coursera, etc.)
B22: Responsable de ayudas financiadas en concurrencia competitiva para el intercambio de profesorado (movilidad internacional) y recepción de personal docente extranjero o estudiantes de doctorado. Tutela de profesorado invitado externo a la universidad. | E22: = | G22: Responsable de ayudas financiadas en concurrencia competitiva para el intercambio de profesorado (movilidad internacional) y recepción de personal docente extranjero o estudiantes de doctorado. Tutela de profesorado invitado externo a la universidad.
B23: Informes externos de tesis doctorales o trabajos fin de máster con mención internacional. | E23: = | G23: Informes externos de tesis doctorales o trabajos fin de máster con mención internacional.
B24: Dirección y coordinación de cursos de extensión universitaria, verano o cursos de enseñanzas no oficiales relevantes en número e impacto a juicio de la Comisión. | E24: = | G24: Dirección y coordinación de cursos de extensión universitaria, verano o cursos de enseñanzas no oficiales relevantes en número e impacto a juicio de la Comisión.
B25: Coordinación docente de profesorado y/o tutela de profesorado novel. | E25: = | G25: Coordinación docente de profesorado y/o tutela de profesorado novel.
B26: Responsable o tutor/a de personal investigador o becario (FPI, FPU, etc.). | E26: = | G26: Responsable o tutor/a de personal investigador o becario (FPI, FPU, etc.).
... B30: Otros méritos que, debidamente justificados, la Comisión pueda considerar equivalentes. | E30: = | G30: Otros méritos que, debidamente justificados, la Comisión pueda considerar equivalentes.
C35: =COUNTIF(C10:C30,"=X") -> 2 | H35: =COUNTIF(H10:H30,"=X") -> 4

Sheet Transferencia_Formación
B6: Méritos Transferencia A / B | C6: =IF(C7=50%,"B",IF(C7>99%,"A",IF(C7<49,"INSUF"))) -> A | G6: Méritos Formación A / B | H6: =IF(H7=99%,"B",IF(H7>164%,"A",IF(H7<99%,"INSUF",IF(H7>100%>134%,"B")))) -> B
B7: Aportaciones relevantes en al menos 2 para la A o 1 para la B de los siguientes apartados: | C7: =C21*0.5 -> 1 | G7: Se podrá calificar con A la formación del solicitante cuando, además de poseer los méritos obligatorios necesarios para el nivel B, se puedan considerar excepcionales a discreción de la Comisión. A título orientativo, se considerarán excepcionales si superan en un 80% los requisitos exigibles para el nivel B. | H7: =H21*0.33 -> 1.32
B8: Liderazgo continuado en proyectos de investigación competitivos nacionales e internacionales de conocimiento o de tecnología que impliquen transferencia a empresas y organismos. | G8: Para obtener la B se requieren al menos, 3 de entre los siguientes méritos (5 para la A):
B9: Patentes y modelos de utilidad. Se tendrá en cuenta el ámbito de la protección (internacional, europea, nacional), así como que estén realmente en explotación. Se podrán considerar otras formas de protección de la propiedad industrial o intelectual allí donde no sea de aplicación la protección por patente (programas informáticos, por ejemplo). | C9: X | G9: Beca pre-doctoral o contrato predoctoral obtenido en convocatorias competitivas.
B10: Liderazgo o participación continuado en contratos relevantes con Administraciones públicas y otras instituciones o empresas suscritos al amparo del artículo 83 de la Ley orgánica 6/2001, de Universidades. Se valorará la cuantía del contrato, la duración y el número de investigadores implicados. | C10: X | G10: Beca postdoctoral obtenida en convocatorias competitivas. | H10: X
B11: Transferencia a través de la formación de investigadores y personal contratado a cargo de proyectos y contratos de I+D+I. | G11: Contratos asociados a proyectos de investigación de relevancia nacional y/o internacional. | H11: X
B12: Transferencia generadora de valor social como la participación en convenios y/o contratos con entidades sin ánimo de lucro o administraciones públicas para actividades con especial valor social. | G12: Obtención de ayudas de movilidad para formación, tanto pre-doctoral como postdoctoral en convocatoria competitiva. | H12: X
B13: Publicaciones de divulgación científica (libros, capítulos de libros o artículos), actividades de divulgación de la investigación en medios de comunicación o productos de divulgación profesional. | G13: Tesis doctoral: premio extraordinario de doctorado y otros premios, mención de doctorado europeo o internacional, mención de calidad o excelencia del programa de doctorado. | H13: X
B14: Otros méritos de transferencia, debidamente justificados que a juicio de la Comisión se consideren relevantes. | G14: Estancias de investigación (de al menos 3 meses de duración) pre y postdoctorales en centros de relevancia académica.
B15: Ejercicio profesional con trayectoria constatada y contrastada de calidad no simultánea a su actividad a tiempo completo a la universidad. | G15: Premio extraordinario de grado, máster o doctorado.
B16: Seis años suponen 1 mérito, pudiéndose alcanzar hasta 2 méritos en este apartado. | G16: Premio Nacional Final Diplomatura, Licenciatura o Grado.
B17: Doce años, marca esta celda y la anterior. | G17: Otra titulación superior complementaria a la exigida.
G18: Asistencia a cursos de especialización de relevancia.
G19: Otros méritos de formación académica.
C21: =COUNTIF(C8:C17,"=X") -> 2 | H21: =COUNTIF(H8:H17,"=X") -> 4

Sheet Gestión
C6: Méritos Gestión B | D6: =IF(D9>=4,"B","INSUF") -> B
C7: Sumar cuatro años en cargos del bloque III o superiores, | D7: =D9/4 -> 1
C8: siempre que el menor número de méritos de docencia se justifique por el tiempo dedicado a la gestión
C9: Años de cargos en Bloque I, II o III | D9: 4
