{"text_format":"1","workbook":"xlsx","n_sheets":11,"sheets":["Instructions","Raw data","Initial analysis","Summary","Soil 1","Soil 2","Soil 3","Soil 4","Soil 5","Statistics","Additional instructions"],"not_rendered":{"charts":17,"images":6,"macros":1,"external_links":0,"defined_names":7,"comments":0,"pivot_tables":0},"unopened":[],"bounds":{"document_bytes":16777216,"sheet_cells":100000,"rows_first":2000,"rows_last":500,"rows_between":2000,"halvings":0,"cell_chars":16384,"cell_head_chars":4096},"cells_cut":0,"cells_raw":0,"read":"whole","date_system":"1900"}

{"sheet":"Instructions","index":0,"n_rows":0,"n_cols":0,"rows_kept":0,"cut":false,"hidden":false,"merged":[]}

{"sheet":"Raw data","index":1,"n_rows":121,"n_cols":27,"rows_kept":121,"cut":false,"hidden":false,"merged":[[17,1,18,1],[17,2,18,2],[17,11,18,11],[17,12,18,12]]}
[]
[null,"Soils",null,null,null,null,"Volume and mass",null,null,"Mass balance"]
[]
[]
[null,"Soil ","Soil name","Organic carbon (%)","pH                            (H2O, CaCl2,     or KCl)",null,"Volume of aqueous phase (mL)","Mass of soil                 (g)",null,"Soil","f (%)                                        (i.e. losses)"]
[null,null,null,null,null,"pH (H2O)"]
[null,1,null,null,null,null,null,null,null,{"$f":"IF(C7=\"\",\"\",C7)","v":""}]
[null,2,null,null,null,null,null,null,null,{"$f":"IF(C8=\"\",\"\",C8)","v":""}]
[null,3,null,null,null,null,null,null,null,""]
[null,4,null,null,null,null,null,null,null,""]
[null,5,null,null,null,null,null,null,null,""]
[]
[]
[]
[null,"Initial aqueous solution concentrations "]
[]
[]
[null,"Soil ","Soil name",null,null,"Measured initial solution concentration (μg/mL)"]
[null,null,null,1,2,3,4,5]
[]
[null,1,{"$f":"IF(C7=\"\",\"\",C7)","v":""},null,null,null,null,null,null,null,null,null,null,null,null,{"$f":"IF(E21>D21,10,0)","v":0},{"$f":"IF(D21=\"\",100,P21)","v":100},{"$f":"IF('Raw data'!$H$31=\"single\",1,IF('Raw data'!$H$31=\"replicate\",2,3))","v":1},{"$f":"IF(C7=\"\",\"\",SUM(Q21:R21))","v":""}]
[null,2,{"$f":"IF(C8=\"\",\"\",C8)","v":""},null,null,null,null,null,null,null,null,null,null,null,null,{"$f":"IF(E22>D22,10,0)","v":0},{"$f":"IF(D22=\"\",100,P22)","v":100},{"$f":"IF('Raw data'!$H$31=\"single\",1,IF('Raw data'!$H$31=\"replicate\",2,3))","v":1},{"$f":"IF(C8=\"\",\"\",SUM(Q22:R22))","v":""}]
[null,3,{"$f":"IF(C9=\"\",\"\",C9)","v":""},null,null,null,null,null,null,null,null,null,null,null,null,0,100,{"$f":"IF('Raw data'!$H$31=\"single\",1,IF('Raw data'!$H$31=\"replicate\",2,3))","v":1},""]
[null,4,{"$f":"IF(C10=\"\",\"\",C10)","v":""},null,null,null,null,null,null,null,null,null,null,null,null,0,100,{"$f":"IF('Raw data'!$H$31=\"single\",1,IF('Raw data'!$H$31=\"replicate\",2,3))","v":1},""]
[null,5,{"$f":"IF(C11=\"\",\"\",C11)","v":""},null,null,null,null,null,null,null,null,null,null,null,null,0,100,{"$f":"IF('Raw data'!$H$31=\"single\",1,IF('Raw data'!$H$31=\"replicate\",2,3))","v":1},""]
[]
[]
[]
[null,"Concentrations at equilibrium",null,null,null,null,null,null,null,null,null,null,null,null,null,"Yes"]
[null,null,null,null,null,null,null,null,null,null,null,null,null,null,null,"No"]
[null,"Number of replicates used in the study?",null,null,null,null,null,{"$f":"IF(Q31=\"1\",\"single\",IF(Q31=\"2\",\"replicate\",\"triplicate\"))","v":"single"},null,null,null,null,null,null,null,1,"1"]
[null,"Do you want the spreadsheet to calculate concentrations in the soil?",null,null,null,null,null,"Yes",null,null,null,null,null,null,null,2]
[null,null,null,null,null,null,null,null,null,null,null,null,null,null,null,3]
[]
[null,"Soil","Initial concentration of test solution (µg/mL)","Concentration of supernatant (µg/mL)","Concentration in soil                       (µg/g)","Soil","Initial concentration of test solution (µg/mL)","Concentration of supernatant (µg/mL)","Concentration in soil                       (µg/g)","Soil","Nominal concentration of test solution (µg/mL)","Concentration of supernatant (µg/mL)","Concentration in soil                       (µg/g)",null,null,null,"Calculated soil concentration (μg/g)            triplicate","Calculated soil concentration (μg/g)            replicate","Calculated soil concentration (μg/g)                     single",null,"Calculated soil concentration (μg/g)            triplicate","Calculated soil concentration (μg/g)            replicate","Calculated soil concentration (μg/g)                     single",null,"Calculated soil concentration (μg/g)            triplicate","Calculated soil concentration (μg/g)            replicate","Calculated soil concentration (μg/g)                     single"]
[null,null,null,null,null,null,null,null,null,null,null,null,null,null,null,null,null,{"$f":"IF(H36=\"\",\"\",((G36-H36)*$G$7)/$H$7)","v":""}]
[null,{"$f":"IF(C7=\"\",\"\",C7)","v":""},{"$f":"IF(D21=\"\",\"\",D21)","v":""},null,null,{"$f":"IF(C7=\"\",\"\",C7)","v":""},{"$f":"IF(D$21=\"\",\"\",D$21)","v":""},null,null,{"$f":"IF(C7=\"\",\"\",C7)","v":""},{"$f":"IF(D$21=\"\",\"\",D$21)","v":""},null,null,null,null,null,{"$f":"IF(D37=\"\",\"\",((C37-D37)*$G$7)/$H$7)","v":""},{"$f":"IF(H37=\"\",\"\",((G37-H37)*$G$7)/$H$7)","v":""},{"$f":"IF(L37=\"\",\"\",((K37-L37)*$G$7)/$H$7)","v":""},null,{"$f":"IF($H$32=\"yes\",Q37,Y37)","v":""},{"$f":"IF($H$32=\"yes\",R37,Z37)","v":""},{"$f":"IF($H$32=\"yes\",S37,AA37)","v":""},null,{"$f":"IF(E37=\"\",\"\",E37)","v":""},{"$f":"IF(I37=\"\",\"\",I37)","v":""},{"$f":"IF(M37=\"\",\"\",M37)","v":""}]
[null,null,{"$f":"IF(D21=\"\",\"\",D21)","v":""},null,null,null,{"$f":"IF(D$21=\"\",\"\",D$21)","v":""},null,null,null,{"$f":"IF(E$21=\"\",\"\",E$21)","v":""},null,null,null,null,null,{"$f":"IF(D38=\"\",\"\",((C38-D38)*$G$7)/$H$7)","v":""},{"$f":"IF(H38=\"\",\"\",((G38-H38)*$G$7)/$H$7)","v":""},{"$f":"IF(L38=\"\",\"\",((K38-L38)*$G$7)/$H$7)","v":""},null,{"$f":"IF($H$32=\"yes\",Q38,Y38)","v":""},{"$f":"IF($H$32=\"yes\",R38,Z38)","v":""},{"$f":"IF($H$32=\"yes\",S38,AA38)","v":""},null,{"$f":"IF(E38=\"\",\"\",E38)","v":""},{"$f":"IF(I38=\"\",\"\",I38)","v":""},{"$f":"IF(M38=\"\",\"\",M38)","v":""}]
[null,null,{"$f":"IF(D21=\"\",\"\",D21)","v":""},null,null,null,{"$f":"IF(E$21=\"\",\"\",E$21)","v":""},null,null,null,{"$f":"IF(F$21=\"\",\"\",F$21)","v":""},null,null,null,null,null,"","","",null,"","","",null,"","",""]
[null,null,{"$f":"IF(E21=\"\",\"\",E21)","v":""},null,null,null,{"$f":"IF(E$21=\"\",\"\",E$21)","v":""},null,null,null,{"$f":"IF(G$21=\"\",\"\",G$21)","v":""},null,null,null,null,null,"","","",null,"","","",null,"","",""]
[null,null,{"$f":"IF(E21=\"\",\"\",E21)","v":""},null,null,null,{"$f":"IF(F$21=\"\",\"\",F$21)","v":""},null,null,null,{"$f":"IF(H$21=\"\",\"\",H$21)","v":""},null,null,null,null,null,"","","",null,"","","",null,"","",""]
[null,null,{"$f":"IF(E21=\"\",\"\",E21)","v":""},null,null,null,{"$f":"IF(F$21=\"\",\"\",F$21)","v":""},null,null,{"$f":"IF(C8=\"\",\"\",C8)","v":""},{"$f":"IF(D$22=\"\",\"\",D$22)","v":""},null,null,null,null,null,"","",{"$f":"IF(L42=\"\",\"\",((K42-L42)*$G$8)/$H$8)","v":""},null,"","","",null,"","",""]
[null,null,{"$f":"IF(F21=\"\",\"\",F21)","v":""},null,null,null,{"$f":"IF(G$21=\"\",\"\",G$21)","v":""},null,null,null,{"$f":"IF(E$22=\"\",\"\",E$22)","v":""},null,null,null,null,null,"","",{"$f":"IF(L43=\"\",\"\",((K43-L43)*$G$8)/$H$8)","v":""},null,"","","",null,"","",""]
[null,null,{"$f":"IF(F21=\"\",\"\",F21)","v":""},null,null,null,{"$f":"IF(G$21=\"\",\"\",G$21)","v":""},null,null,null,{"$f":"IF(F$22=\"\",\"\",F$22)","v":""},null,null,null,null,null,"","","",null,"","","",null,"","",""]
[null,null,{"$f":"IF(F21=\"\",\"\",F21)","v":""},null,null,null,{"$f":"IF(H$21=\"\",\"\",H$21)","v":""},null,null,null,{"$f":"IF(G$22=\"\",\"\",G$22)","v":""},null,null,null,null,null,"","","",null,"","","",null,"","",""]
[null,null,{"$f":"IF(G21=\"\",\"\",G21)","v":""},null,null,null,{"$f":"IF(H$21=\"\",\"\",H$21)","v":""},null,null,null,{"$f":"IF(H$22=\"\",\"\",H$22)","v":""},null,null,null,null,null,"","","",null,"","","",null,"","",""]
[null,null,{"$f":"IF(G21=\"\",\"\",G21)","v":""},null,null,{"$f":"IF(C8=\"\",\"\",C8)","v":""},{"$f":"IF(D$22=\"\",\"\",D$22)","v":""},null,null,{"$f":"IF(C9=\"\",\"\",C9)","v":""},{"$f":"IF(D$23=\"\",\"\",D$23)","v":""},null,null,null,null,null,"",{"$f":"IF(H47=\"\",\"\",((G47-H47)*$G$8)/$H$8)","v":""},{"$f":"IF(L47=\"\",\"\",((K47-L47)*$G$9)/$H$9)","v":""},null,"","","",null,"","",""]
[null,null,{"$f":"IF(G21=\"\",\"\",G21)","v":""},null,null,null,{"$f":"IF(D$22=\"\",\"\",D$22)","v":""},null,null,null,{"$f":"IF(E$23=\"\",\"\",E$23)","v":""},null,null,null,null,null,"",{"$f":"IF(H48=\"\",\"\",((G48-H48)*$G$8)/$H$8)","v":""},{"$f":"IF(L48=\"\",\"\",((K48-L48)*$G$9)/$H$9)","v":""},null,"","","",null,"","",""]
[null,null,{"$f":"IF(H21=\"\",\"\",H21)","v":""},null,null,null,{"$f":"IF(E$22=\"\",\"\",E$22)","v":""},null,null,null,{"$f":"IF(F$23=\"\",\"\",F$23)","v":""},null,null,null,null,null,"","","",null,"","","",null,"","",""]
[null,null,{"$f":"IF(H21=\"\",\"\",H21)","v":""},null,null,null,{"$f":"IF(E$22=\"\",\"\",E$22)","v":""},null,null,null,{"$f":"IF(G$23=\"\",\"\",G$23)","v":""},null,null,null,null,null,"","","",null,"","","",null,"","",""]
[null,null,{"$f":"IF(H21=\"\",\"\",H21)","v":""},null,null,null,{"$f":"IF(F$22=\"\",\"\",F$22)","v":""},null,null,null,{"$f":"IF(H$23=\"\",\"\",H$23)","v":""},null,null,null,null,null,"","","",null,"","","",null,"","",""]
[null,{"$f":"IF(C8=\"\",\"\",C8)","v":""},{"$f":"IF(D22=\"\",\"\",D22)","v":""},null,null,null,{"$f":"IF(F$22=\"\",\"\",F$22)","v":""},null,null,{"$f":"IF(C10=\"\",\"\",C10)","v":""},{"$f":"IF(D$24=\"\",\"\",D$24)","v":""},null,null,null,null,null,{"$f":"IF(D52=\"\",\"\",((C52-D52)*$G$8)/$H$8)","v":""},"",{"$f":"IF(L52=\"\",\"\",((K52-L52)*$G$10)/$H$10)","v":""},null,"","","",null,"","",""]
[null,null,{"$f":"IF(D22=\"\",\"\",D22)","v":""},null,null,null,{"$f":"IF(G$22=\"\",\"\",G$22)","v":""},null,null,null,{"$f":"IF(E$24=\"\",\"\",E$24)","v":""},null,null,null,null,null,{"$f":"IF(D53=\"\",\"\",((C53-D53)*$G$8)/$H$8)","v":""},"",{"$f":"IF(L53=\"\",\"\",((K53-L53)*$G$10)/$H$10)","v":""},null,"","","",null,"","",""]
[null,null,{"$f":"IF(D22=\"\",\"\",D22)","v":""},null,null,null,{"$f":"IF(G$22=\"\",\"\",G$22)","v":""},null,null,null,{"$f":"IF(F$24=\"\",\"\",F$24)","v":""},null,null,null,null,null,"","","",null,"","","",null,"","",""]
[null,null,{"$f":"IF(E22=\"\",\"\",E22)","v":""},null,null,null,{"$f":"IF(H$22=\"\",\"\",H$22)","v":""},null,null,null,{"$f":"IF(G$24=\"\",\"\",G$24)","v":""},null,null,null,null,null,"","","",null,"","","",null,"","",""]
[null,null,{"$f":"IF(E22=\"\",\"\",E22)","v":""},null,null,null,{"$f":"IF(H$22=\"\",\"\",H$22)","v":""},null,null,null,{"$f":"IF(H$24=\"\",\"\",H$24)","v":""},null,null,null,null,null,"","","",null,"","","",null,"","",""]
[null,null,{"$f":"IF(E22=\"\",\"\",E22)","v":""},null,null,{"$f":"IF(C9=\"\",\"\",C9)","v":""},{"$f":"IF(D$23=\"\",\"\",D$23)","v":""},null,null,{"$f":"IF(C11=\"\",\"\",C11)","v":""},{"$f":"IF(D$25=\"\",\"\",D$25)","v":""},null,null,null,null,null,"",{"$f":"IF(H57=\"\",\"\",((G57-H57)*$G$9)/$H$9)","v":""},{"$f":"IF(L57=\"\",\"\",((K57-L57)*$G$11)/$H$11)","v":""},null,"","","",null,"","",""]
[null,null,{"$f":"IF(F22=\"\",\"\",F22)","v":""},null,null,null,{"$f":"IF(D$23=\"\",\"\",D$23)","v":""},null,null,null,{"$f":"IF(E$25=\"\",\"\",E$25)","v":""},null,null,null,null,null,"",{"$f":"IF(H58=\"\",\"\",((G58-H58)*$G$9)/$H$9)","v":""},{"$f":"IF(L58=\"\",\"\",((K58-L58)*$G$11)/$H$11)","v":""},null,"","","",null,"","",""]
[null,null,{"$f":"IF(F22=\"\",\"\",F22)","v":""},null,null,null,{"$f":"IF(E$23=\"\",\"\",E$23)","v":""},null,null,null,{"$f":"IF(F$25=\"\",\"\",F$25)","v":""},null,null,null,null,null,"","","",null,"","","",null,"","",""]
[null,null,{"$f":"IF(F22=\"\",\"\",F22)","v":""},null,null,null,{"$f":"IF(E$23=\"\",\"\",E$23)","v":""},null,null,null,{"$f":"IF(G$25=\"\",\"\",G$25)","v":""},null,null,null,null,null,"","","",null,"","","",null,"","",""]
[null,null,{"$f":"IF(G22=\"\",\"\",G22)","v":""},null,null,null,{"$f":"IF(F$23=\"\",\"\",F$23)","v":""},null,null,null,{"$f":"IF(H$25=\"\",\"\",H$25)","v":""},null,null,null,null,null,"","","",null,"","","",null,"","",""]
[null,null,{"$f":"IF(G22=\"\",\"\",G22)","v":""},null,null,null,{"$f":"IF(F$23=\"\",\"\",F$23)","v":""},null,null,null,null,null,null,null,null,null,"","",null,null,"","",null,null,"",""]
[null,null,{"$f":"IF(G22=\"\",\"\",G22)","v":""},null,null,null,{"$f":"IF(G$23=\"\",\"\",G$23)","v":""},null,null,null,null,null,null,null,null,null,"","",null,null,"","",null,null,"",""]
[null,null,{"$f":"IF(H22=\"\",\"\",H22)","v":""},null,null,null,{"$f":"IF(G$23=\"\",\"\",G$23)","v":""},null,null,null,null,null,null,null,null,null,"","",null,null,"","",null,null,"",""]
[null,null,{"$f":"IF(H22=\"\",\"\",H22)","v":""},null,null,null,{"$f":"IF(H$23=\"\",\"\",H$23)","v":""},null,null,null,null,null,null,null,null,null,"","",null,null,"","",null,null,"",""]
[null,null,{"$f":"IF(H22=\"\",\"\",H22)","v":""},null,null,null,{"$f":"IF(H$23=\"\",\"\",H$23)","v":""},null,null,null,null,null,null,null,null,null,"","",null,null,"","",null,null,"",""]
[null,{"$f":"IF(C9=\"\",\"\",C9)","v":""},{"$f":"IF(D23=\"\",\"\",D23)","v":""},null,null,{"$f":"IF(C10=\"\",\"\",C10)","v":""},{"$f":"IF(D$24=\"\",\"\",D$24)","v":""},null,null,null,null,null,null,null,null,null,{"$f":"IF(D67=\"\",\"\",((C67-D67)*$G$9)/$H$9)","v":""},{"$f":"IF(H67=\"\",\"\",((G67-H67)*$G$10)/$H$10)","v":""},null,null,"","",null,null,"",""]
[null,null,{"$f":"IF(D23=\"\",\"\",D23)","v":""},null,null,null,{"$f":"IF(D$24=\"\",\"\",D$24)","v":""},null,null,null,null,null,null,null,null,null,{"$f":"IF(D68=\"\",\"\",((C68-D68)*$G$9)/$H$9)","v":""},{"$f":"IF(H68=\"\",\"\",((G68-H68)*$G$10)/$H$10)","v":""},null,null,"","",null,null,"",""]
[null,null,{"$f":"IF(D23=\"\",\"\",D23)","v":""},null,null,null,{"$f":"IF(E$24=\"\",\"\",E$24)","v":""},null,null,null,null,null,null,null,null,null,"","",null,null,"","",null,null,"",""]
[null,null,{"$f":"IF(E23=\"\",\"\",E23)","v":""},null,null,null,{"$f":"IF(E$24=\"\",\"\",E$24)","v":""},null,null,null,null,null,null,null,null,null,"","",null,null,"","",null,null,"",""]
[null,null,{"$f":"IF(E23=\"\",\"\",E23)","v":""},null,null,null,{"$f":"IF(F$24=\"\",\"\",F$24)","v":""},null,null,null,null,null,null,null,null,null,"","",null,null,"","",null,null,"",""]
[null,null,{"$f":"IF(E23=\"\",\"\",E23)","v":""},null,null,null,{"$f":"IF(F$24=\"\",\"\",F$24)","v":""},null,null,null,null,null,null,null,null,null,"","",null,null,"","",null,null,"",""]
[null,null,{"$f":"IF(F23=\"\",\"\",F23)","v":""},null,null,null,{"$f":"IF(G$24=\"\",\"\",G$24)","v":""},null,null,null,null,null,null,null,null,null,"","",null,null,"","",null,null,"",""]
[null,null,{"$f":"IF(F23=\"\",\"\",F23)","v":""},null,null,null,{"$f":"IF(G$24=\"\",\"\",G$24)","v":""},null,null,null,null,null,null,null,null,null,"","",null,null,"","",null,null,"",""]
[null,null,{"$f":"IF(F23=\"\",\"\",F23)","v":""},null,null,null,{"$f":"IF(H$24=\"\",\"\",H$24)","v":""},null,null,null,null,null,null,null,null,null,"","",null,null,"","",null,null,"",""]
[null,null,{"$f":"IF(G23=\"\",\"\",G23)","v":""},null,null,null,{"$f":"IF(H$24=\"\",\"\",H$24)","v":""},null,null,null,null,null,null,null,null,null,"","",null,null,"","",null,null,"",""]
[null,null,{"$f":"IF(G23=\"\",\"\",G23)","v":""},null,null,{"$f":"IF(C11=\"\",\"\",C11)","v":""},{"$f":"IF(D$25=\"\",\"\",D$25)","v":""},null,null,null,null,null,null,null,null,null,"",{"$f":"IF(H77=\"\",\"\",((G77-H77)*$G$11)/$H$11)","v":""},null,null,"","",null,null,"",""]
[null,null,{"$f":"IF(G23=\"\",\"\",G23)","v":""},null,null,null,{"$f":"IF(D$25=\"\",\"\",D$25)","v":""},null,null,null,null,null,null,null,null,null,"",{"$f":"IF(H78=\"\",\"\",((G78-H78)*$G$11)/$H$11)","v":""},null,null,"","",null,null,"",""]
[null,null,{"$f":"IF(H23=\"\",\"\",H23)","v":""},null,null,null,{"$f":"IF(E$25=\"\",\"\",E$25)","v":""},null,null,null,null,null,null,null,null,null,"","",null,null,"","",null,null,"",""]
[null,null,{"$f":"IF(H23=\"\",\"\",H23)","v":""},null,null,null,{"$f":"IF(E$25=\"\",\"\",E$25)","v":""},null,null,null,null,null,null,null,null,null,"","",null,null,"","",null,null,"",""]
[null,null,{"$f":"IF(H23=\"\",\"\",H23)","v":""},null,null,null,{"$f":"IF(F$25=\"\",\"\",F$25)","v":""},null,null,null,null,null,null,null,null,null,"","",null,null,"","",null,null,"",""]
[null,{"$f":"IF(C10=\"\",\"\",C10)","v":""},{"$f":"IF(D24=\"\",\"\",D24)","v":""},null,null,null,{"$f":"IF(F$25=\"\",\"\",F$25)","v":""},null,null,null,null,null,null,null,null,null,{"$f":"IF(D82=\"\",\"\",((C82-D82)*$G$10)/$H$10)","v":""},"",null,null,"","",null,null,"",""]
[null,null,{"$f":"IF(D24=\"\",\"\",D24)","v":""},null,null,null,{"$f":"IF(G$25=\"\",\"\",G$25)","v":""},null,null,null,null,null,null,null,null,null,{"$f":"IF(D83=\"\",\"\",((C83-D83)*$G$10)/$H$10)","v":""},"",null,null,"","",null,null,"",""]
[null,null,{"$f":"IF(D24=\"\",\"\",D24)","v":""},null,null,null,{"$f":"IF(G$25=\"\",\"\",G$25)","v":""},null,null,null,null,null,null,null,null,null,"","",null,null,"","",null,null,"",""]
[null,null,{"$f":"IF(E24=\"\",\"\",E24)","v":""},null,null,null,{"$f":"IF(H$25=\"\",\"\",H$25)","v":""},null,null,null,null,null,null,null,null,null,"","",null,null,"","",null,null,"",""]
[null,null,{"$f":"IF(E24=\"\",\"\",E24)","v":""},null,null,null,{"$f":"IF(H$25=\"\",\"\",H$25)","v":""},null,null,null,null,null,null,null,null,null,"","",null,null,"","",null,null,"",""]
[null,null,{"$f":"IF(E24=\"\",\"\",E24)","v":""},null,null,null,null,null,null,null,null,null,null,null,null,{"$f":"IF(M87=0,\"\",M87)","v":""},"",null,null,null,"",null,null,null,""]
[null,null,{"$f":"IF(F24=\"\",\"\",F24)","v":""},null,null,null,null,null,null,null,null,null,null,null,null,null,"",null,null,null,"",null,null,null,""]
[null,null,{"$f":"IF(F24=\"\",\"\",F24)","v":""},null,null,null,null,null,null,null,null,null,null,null,null,null,"",null,null,null,"",null,null,null,""]
[null,null,{"$f":"IF(F24=\"\",\"\",F24)","v":""},null,null,null,null,null,null,null,null,null,null,null,null,null,"",null,null,null,"",null,null,null,""]
[null,null,{"$f":"IF(G24=\"\",\"\",G24)","v":""},null,null,null,null,null,null,null,null,null,null,null,null,null,"",null,null,null,"",null,null,null,""]
[null,null,{"$f":"IF(G24=\"\",\"\",G24)","v":""},null,null,null,null,null,null,null,null,null,null,null,null,null,"",null,null,null,"",null,null,null,""]
[null,null,{"$f":"IF(G24=\"\",\"\",G24)","v":""},null,null,null,null,null,null,null,null,null,null,null,null,null,"",null,null,null,"",null,null,null,""]
[null,null,{"$f":"IF(H24=\"\",\"\",H24)","v":""},null,null,null,null,null,null,null,null,null,null,null,null,null,"",null,null,null,"",null,null,null,""]
[null,null,{"$f":"IF(H24=\"\",\"\",H24)","v":""},null,null,null,null,null,null,null,null,null,null,null,null,null,"",null,null,null,"",null,null,null,""]
[null,null,{"$f":"IF(H24=\"\",\"\",H24)","v":""},null,null,null,null,null,null,null,null,null,null,null,null,null,"",null,null,null,"",null,null,null,""]
[null,{"$f":"IF(C11=\"\",\"\",C11)","v":""},{"$f":"IF(D25=\"\",\"\",D25)","v":""},null,null,null,null,null,null,null,null,null,null,null,null,null,{"$f":"IF(D97=\"\",\"\",((C97-D97)*$G$11)/$H$11)","v":""},null,null,null,"",null,null,null,""]
[null,null,{"$f":"IF(D25=\"\",\"\",D25)","v":""},null,null,null,null,null,null,null,null,null,null,null,null,null,{"$f":"IF(D98=\"\",\"\",((C98-D98)*$G$11)/$H$11)","v":""},null,null,null,"",null,null,null,""]
[null,null,{"$f":"IF(D25=\"\",\"\",D25)","v":""},null,null,null,null,null,null,null,null,null,null,null,null,null,"",null,null,null,"",null,null,null,""]
[null,null,{"$f":"IF(E25=\"\",\"\",E25)","v":""},null,null,null,null,null,null,null,null,null,null,null,null,null,"",null,null,null,"",null,null,null,""]
[null,null,{"$f":"IF(E25=\"\",\"\",E25)","v":""},null,null,null,null,null,null,null,null,null,null,null,null,null,"",null,null,null,"",null,null,null,""]
[null,null,{"$f":"IF(E25=\"\",\"\",E25)","v":""},null,null,null,null,null,null,null,null,null,null,null,null,null,"",null,null,null,{"$f":"IF($H$32=\"yes\",Q102,Y102)","v":""},null,null,null,{"$f":"IF(E102=\"\",\"\",E102)","v":""}]
[null,null,{"$f":"IF(F25=\"\",\"\",F25)","v":""},null,null,null,null,null,null,null,null,null,null,null,null,null,"",null,null,null,"",null,null,null,""]
[null,null,{"$f":"IF(F25=\"\",\"\",F25)","v":""},null,null,null,null,null,null,null,null,null,null,null,null,null,"",null,null,null,"",null,null,null,""]
[null,null,{"$f":"IF(F25=\"\",\"\",F25)","v":""},null,null,null,null,null,null,null,null,null,null,null,null,null,"",null,null,null,"",null,null,null,""]
[null,null,{"$f":"IF(G25=\"\",\"\",G25)","v":""},null,null,null,null,null,null,null,null,null,null,null,null,null,"",null,null,null,"",null,null,null,""]
[null,null,{"$f":"IF(G25=\"\",\"\",G25)","v":""},null,null,null,null,null,null,null,null,null,null,null,null,null,"",null,null,null,"",null,null,null,""]
[null,null,{"$f":"IF(G25=\"\",\"\",G25)","v":""},null,null,null,null,null,null,null,null,null,null,null,null,null,"",null,null,null,"",null,null,null,""]
[null,null,{"$f":"IF(H25=\"\",\"\",H25)","v":""},null,null,null,null,null,null,null,null,null,null,null,null,null,"",null,null,null,"",null,null,null,""]
[null,null,{"$f":"IF(H25=\"\",\"\",H25)","v":""},null,null,null,null,null,null,null,null,null,null,null,null,null,"",null,null,null,"",null,null,null,""]
[null,null,{"$f":"IF(H25=\"\",\"\",H25)","v":""},null,null,null,null,null,null,null,null,null,null,null,null,null,"",null,null,null,"",null,null,null,""]
[]
[]
[]
[]
[]
[null,null,{"$f":"C21","v":""},{"$f":"SUMPRODUCT(--(D37:D51=\"\"))","v":15},null,null,null,{"$f":"SUMPRODUCT(--(H37:H46=\"\"))","v":10},null,null,null,{"$f":"SUMPRODUCT(--(L37:L41=\"\"))","v":5},null,null,null,{"$f":"IF($Q$31=\"3\",D117,IF($Q$31=\"2\",H117,L117))","v":5}]
[null,null,{"$f":"C22","v":""},{"$f":"SUMPRODUCT(--(D52:D66=\"\"))","v":15},null,null,null,{"$f":"SUMPRODUCT(--(H47:H56=\"\"))","v":10},null,null,null,{"$f":"SUMPRODUCT(--(L42:L46=\"\"))","v":5},null,null,null,{"$f":"IF($Q$31=\"3\",D118,IF($Q$31=\"2\",H118,L118))","v":5}]
[null,null,"",{"$f":"SUMPRODUCT(--(D67:D81=\"\"))","v":15},null,null,null,{"$f":"SUMPRODUCT(--(H57:H66=\"\"))","v":10},null,null,null,{"$f":"SUMPRODUCT(--(L47:L51=\"\"))","v":5},null,null,null,5]
[null,null,"",{"$f":"SUMPRODUCT(--(D82:D96=\"\"))","v":15},null,null,null,{"$f":"SUMPRODUCT(--(H67:H76=\"\"))","v":10},null,null,null,{"$f":"SUMPRODUCT(--(L52:L56=\"\"))","v":5},null,null,null,5]
[null,null,"",{"$f":"SUMPRODUCT(--(D97:D111=\"\"))","v":15},null,null,null,{"$f":"SUMPRODUCT(--(H77:H86=\"\"))","v":10},null,null,null,{"$f":"SUMPRODUCT(--(L57:L61=\"\"))","v":5},null,null,null,5]

{"sheet":"Initial analysis","index":2,"n_rows":82,"n_cols":29,"rows_kept":82,"cut":false,"hidden":false,"merged":[]}
[]
[null,"Initial analysis"]
[]
[]
[null,"Soil","Concentration of test solution (µg/mL)","Aqueous phase (µg/mL)","Soil                    (µg/g)","Kd                         (mL/g)","Koc                        (mL/g)",null,"Kd x soil/solution ratio","δ (delta, %)                          (decrease in concentration in aqueous phase, equivalent to % adsorbed)","KfE/Kf               (-)",null,null,"Aqueous phase (µg/mL)",null,"Koc                        (mL/g)","Kd x soil/solution ratio","δ (delta, %) ","KfE/Kf               (-)",null,"Koc                        (mL/g)","Kd x soil/solution ratio","δ (delta, %) ","KfE/Kf               (-)",null,"Koc                        (mL/g)","Kd x soil/solution ratio","δ (delta, %) ","KfE/Kf               (-)"]
[]
[null,{"$f":"IF('Raw data'!C7=\"\",\"\",'Raw data'!C7)","v":""},{"$f":"IF('Raw data'!$H$31=\"single\",'Raw data'!K37,IF('Raw data'!$H$31=\"replicate\",'Raw data'!G37,'Raw data'!C37))","v":""},{"$f":"IF(N7=0,\"\",N7)","v":""},{"$f":"IF('Raw data'!$H$31=\"single\",'Raw data'!W37,IF('Raw data'!$H$31=\"replicate\",'Raw data'!V37,'Raw data'!U37))","v":""},{"$f":"IF(D7=\"\",\"\",E7/D7)","v":""},{"$f":"IF('Raw data'!$H$31=\"single\",Z7,IF('Raw data'!$H$31=\"replicate\",U7,P7))","v":""},null,{"$f":"IF('Raw data'!$H$31=\"single\",AA7,IF('Raw data'!$H$31=\"replicate\",V7,Q7))","v":""},{"$f":"IF('Raw data'!$H$31=\"single\",AB7,IF('Raw data'!$H$31=\"replicate\",W7,R7))","v":""},{"$f":"IF('Raw data'!$H$31=\"single\",AC7,IF('Raw data'!$H$31=\"replicate\",X7,S7))","v":""},null,null,{"$f":"IF('Raw data'!$H$31=\"single\",'Raw data'!L37,IF('Raw data'!$H$31=\"replicate\",'Raw data'!H37,'Raw data'!D37))","v":0},null,{"$f":"IF(F7=\"\",\"\",F7/'Raw data'!$D$7*100)","v":""},{"$f":"IF(F7=\"\",\"\",F7*'Raw data'!$H$7/'Raw data'!$G$7)","v":""},{"$f":"IF(F7=\"\",\"\",((C7*'Raw data'!$G$7)-(D7*'Raw data'!$G$7))/(C7*'Raw data'!$G$7)*100)","v":""},{"$f":"IF(F7=\"\",\"\",J7/(J7-'Raw data'!$K$7))","v":""},null,{"$f":"IF(F7=\"\",\"\",F7/'Raw data'!$D$7*100)","v":""},{"$f":"IF(F7=\"\",\"\",F7*'Raw data'!$H$7/'Raw data'!$G$7)","v":""},{"$f":"IF(F7=\"\",\"\",((C7*'Raw data'!$G$7)-(D7*'Raw data'!$G$7))/(C7*'Raw data'!$G$7)*100)","v":""},{"$f":"IF(F7=\"\",\"\",J7/(J7-'Raw data'!$K$7))","v":""},null,{"$f":"IF(F7=\"\",\"\",F7/'Raw data'!$D$7*100)","v":""},{"$f":"IF(F7=\"\",\"\",F7*'Raw data'!$H$7/'Raw data'!$G$7)","v":""},{"$f":"IF(F7=\"\",\"\",((C7*'Raw data'!$G$7)-(D7*'Raw data'!$G$7))/(C7*'Raw data'!$G$7)*100)","v":""},{"$f":"IF(F7=\"\",\"\",J7/(J7-'Raw data'!$K$7))","v":""}]
[null,null,{"$f":"IF('Raw data'!$H$31=\"single\",'Raw data'!K38,IF('Raw data'!$H$31=\"replicate\",'Raw data'!G38,'Raw data'!C38))","v":""},{"$f":"IF(N8=0,\"\",N8)","v":""},{"$f":"IF('Raw data'!$H$31=\"single\",'Raw data'!W38,IF('Raw data'!$H$31=\"replicate\",'Raw data'!V38,'Raw data'!U38))","v":""},{"$f":"IF(D8=\"\",\"\",E8/D8)","v":""},{"$f":"IF('Raw data'!$H$31=\"single\",Z8,IF('Raw data'!$H$31=\"replicate\",U8,P8))","v":""},null,{"$f":"IF('Raw data'!$H$31=\"single\",AA8,IF('Raw data'!$H$31=\"replicate\",V8,Q8))","v":""},{"$f":"IF('Raw data'!$H$31=\"single\",AB8,IF('Raw data'!$H$31=\"replicate\",W8,R8))","v":""},{"$f":"IF('Raw data'!$H$31=\"single\",AC8,IF('Raw data'!$H$31=\"replicate\",X8,S8))","v":""},null,null,{"$f":"IF('Raw data'!$H$31=\"single\",'Raw data'!L38,IF('Raw data'!$H$31=\"replicate\",'Raw data'!H38,'Raw data'!D38))","v":0},null,{"$f":"IF(F8=\"\",\"\",F8/'Raw data'!$D$7*100)","v":""},{"$f":"IF(F8=\"\",\"\",F8*'Raw data'!$H$7/'Raw data'!$G$7)","v":""},{"$f":"IF(F8=\"\",\"\",((C8*'Raw data'!$G$7)-(D8*'Raw data'!$G$7))/(C8*'Raw data'!$G$7)*100)","v":""},{"$f":"IF(F8=\"\",\"\",J8/(J8-'Raw data'!$K$7))","v":""},null,{"$f":"IF(F8=\"\",\"\",F8/'Raw data'!$D$7*100)","v":""},{"$f":"IF(F8=\"\",\"\",F8*'Raw data'!$H$7/'Raw data'!$G$7)","v":""},{"$f":"IF(F8=\"\",\"\",((C8*'Raw data'!$G$7)-(D8*'Raw data'!$G$7))/(C8*'Raw data'!$G$7)*100)","v":""},{"$f":"IF(F8=\"\",\"\",J8/(J8-'Raw data'!$K$7))","v":""},null,{"$f":"IF(F8=\"\",\"\",F8/'Raw data'!$D$7*100)","v":""},{"$f":"IF(F8=\"\",\"\",F8*'Raw data'!$H$7/'Raw data'!$G$7)","v":""},{"$f":"IF(F8=\"\",\"\",((C8*'Raw data'!$G$7)-(D8*'Raw data'!$G$7))/(C8*'Raw data'!$G$7)*100)","v":""},{"$f":"IF(F8=\"\",\"\",J8/(J8-'Raw data'!$K$7))","v":""}]
[null,null,{"$f":"IF('Raw data'!$H$31=\"single\",'Raw data'!K39,IF('Raw data'!$H$31=\"replicate\",'Raw data'!G39,'Raw data'!C39))","v":""},"",{"$f":"IF('Raw data'!$H$31=\"single\",'Raw data'!W39,IF('Raw data'!$H$31=\"replicate\",'Raw data'!V39,'Raw data'!U39))","v":""},"",{"$f":"IF('Raw data'!$H$31=\"single\",Z9,IF('Raw data'!$H$31=\"replicate\",U9,P9))","v":""},null,{"$f":"IF('Raw data'!$H$31=\"single\",AA9,IF('Raw data'!$H$31=\"replicate\",V9,Q9))","v":""},{"$f":"IF('Raw data'!$H$31=\"single\",AB9,IF('Raw data'!$H$31=\"replicate\",W9,R9))","v":""},{"$f":"IF('Raw data'!$H$31=\"single\",AC9,IF('Raw data'!$H$31=\"replicate\",X9,S9))","v":""},null,null,{"$f":"IF('Raw data'!$H$31=\"single\",'Raw data'!L39,IF('Raw data'!$H$31=\"replicate\",'Raw data'!H39,'Raw data'!D39))","v":0},null,{"$f":"IF(F9=\"\",\"\",F9/'Raw data'!$D$7*100)","v":""},{"$f":"IF(F9=\"\",\"\",F9*'Raw data'!$H$7/'Raw data'!$G$7)","v":""},{"$f":"IF(F9=\"\",\"\",((C9*'Raw data'!$G$7)-(D9*'Raw data'!$G$7))/(C9*'Raw data'!$G$7)*100)","v":""},{"$f":"IF(F9=\"\",\"\",J9/(J9-'Raw data'!$K$7))","v":""},null,{"$f":"IF(F9=\"\",\"\",F9/'Raw data'!$D$7*100)","v":""},{"$f":"IF(F9=\"\",\"\",F9*'Raw data'!$H$7/'Raw data'!$G$7)","v":""},{"$f":"IF(F9=\"\",\"\",((C9*'Raw data'!$G$7)-(D9*'Raw data'!$G$7))/(C9*'Raw data'!$G$7)*100)","v":""},{"$f":"IF(F9=\"\",\"\",J9/(J9-'Raw data'!$K$7))","v":""},null,{"$f":"IF(F9=\"\",\"\",F9/'Raw data'!$D$7*100)","v":""},{"$f":"IF(F9=\"\",\"\",F9*'Raw data'!$H$7/'Raw data'!$G$7)","v":""},{"$f":"IF(F9=\"\",\"\",((C9*'Raw data'!$G$7)-(D9*'Raw data'!$G$7))/(C9*'Raw data'!$G$7)*100)","v":""},{"$f":"IF(F9=\"\",\"\",J9/(J9-'Raw data'!$K$7))","v":""}]
[null,null,{"$f":"IF('Raw data'!$H$31=\"single\",'Raw data'!K40,IF('Raw data'!$H$31=\"replicate\",'Raw data'!G40,'Raw data'!C40))","v":""},"",{"$f":"IF('Raw data'!$H$31=\"single\",'Raw data'!W40,IF('Raw data'!$H$31=\"replicate\",'Raw data'!V40,'Raw data'!U40))","v":""},"",{"$f":"IF('Raw data'!$H$31=\"single\",Z10,IF('Raw data'!$H$31=\"replicate\",U10,P10))","v":""},null,{"$f":"IF('Raw data'!$H$31=\"single\",AA10,IF('Raw data'!$H$31=\"replicate\",V10,Q10))","v":""},{"$f":"IF('Raw data'!$H$31=\"single\",AB10,IF('Raw data'!$H$31=\"replicate\",W10,R10))","v":""},{"$f":"IF('Raw data'!$H$31=\"single\",AC10,IF('Raw data'!$H$31=\"replicate\",X10,S10))","v":""},null,null,{"$f":"IF('Raw data'!$H$31=\"single\",'Raw data'!L40,IF('Raw data'!$H$31=\"replicate\",'Raw data'!H40,'Raw data'!D40))","v":0},null,{"$f":"IF(F10=\"\",\"\",F10/'Raw data'!$D$7*100)","v":""},{"$f":"IF(F10=\"\",\"\",F10*'Raw data'!$H$7/'Raw data'!$G$7)","v":""},{"$f":"IF(F10=\"\",\"\",((C10*'Raw data'!$G$7)-(D10*'Raw data'!$G$7))/(C10*'Raw data'!$G$7)*100)","v":""},{"$f":"IF(F10=\"\",\"\",J10/(J10-'Raw data'!$K$7))","v":""},null,{"$f":"IF(F10=\"\",\"\",F10/'Raw data'!$D$7*100)","v":""},{"$f":"IF(F10=\"\",\"\",F10*'Raw data'!$H$7/'Raw data'!$G$7)","v":""},{"$f":"IF(F10=\"\",\"\",((C10*'Raw data'!$G$7)-(D10*'Raw data'!$G$7))/(C10*'Raw data'!$G$7)*100)","v":""},{"$f":"IF(F10=\"\",\"\",J10/(J10-'Raw data'!$K$7))","v":""},null,{"$f":"IF(F10=\"\",\"\",F10/'Raw data'!$D$7*100)","v":""},{"$f":"IF(F10=\"\",\"\",F10*'Raw data'!$H$7/'Raw data'!$G$7)","v":""},{"$f":"IF(F10=\"\",\"\",((C10*'Raw data'!$G$7)-(D10*'Raw data'!$G$7))/(C10*'Raw data'!$G$7)*100)","v":""},{"$f":"IF(F10=\"\",\"\",J10/(J10-'Raw data'!$K$7))","v":""}]
[null,null,{"$f":"IF('Raw data'!$H$31=\"single\",'Raw data'!K41,IF('Raw data'!$H$31=\"replicate\",'Raw data'!G41,'Raw data'!C41))","v":""},{"$f":"IF(N11=0,\"\",N11)","v":""},{"$f":"IF('Raw data'!$H$31=\"single\",'Raw data'!W41,IF('Raw data'!$H$31=\"replicate\",'Raw data'!V41,'Raw data'!U41))","v":""},"",{"$f":"IF('Raw data'!$H$31=\"single\",Z11,IF('Raw data'!$H$31=\"replicate\",U11,P11))","v":""},null,{"$f":"IF('Raw data'!$H$31=\"single\",AA11,IF('Raw data'!$H$31=\"replicate\",V11,Q11))","v":""},{"$f":"IF('Raw data'!$H$31=\"single\",AB11,IF('Raw data'!$H$31=\"replicate\",W11,R11))","v":""},{"$f":"IF('Raw data'!$H$31=\"single\",AC11,IF('Raw data'!$H$31=\"replicate\",X11,S11))","v":""},null,null,{"$f":"IF('Raw data'!$H$31=\"single\",'Raw data'!L41,IF('Raw data'!$H$31=\"replicate\",'Raw data'!H41,'Raw data'!D41))","v":0},null,{"$f":"IF(F11=\"\",\"\",F11/'Raw data'!$D$7*100)","v":""},{"$f":"IF(F11=\"\",\"\",F11*'Raw data'!$H$7/'Raw data'!$G$7)","v":""},{"$f":"IF(F11=\"\",\"\",((C11*'Raw data'!$G$7)-(D11*'Raw data'!$G$7))/(C11*'Raw data'!$G$7)*100)","v":""},{"$f":"IF(F11=\"\",\"\",J11/(J11-'Raw data'!$K$7))","v":""},null,{"$f":"IF(F11=\"\",\"\",F11/'Raw data'!$D$7*100)","v":""},{"$f":"IF(F11=\"\",\"\",F11*'Raw data'!$H$7/'Raw data'!$G$7)","v":""},{"$f":"IF(F11=\"\",\"\",((C11*'Raw data'!$G$7)-(D11*'Raw data'!$G$7))/(C11*'Raw data'!$G$7)*100)","v":""},{"$f":"IF(F11=\"\",\"\",J11/(J11-'Raw data'!$K$7))","v":""},null,{"$f":"IF(F11=\"\",\"\",F11/'Raw data'!$D$7*100)","v":""},{"$f":"IF(F11=\"\",\"\",F11*'Raw data'!$H$7/'Raw data'!$G$7)","v":""},{"$f":"IF(F11=\"\",\"\",((C11*'Raw data'!$G$7)-(D11*'Raw data'!$G$7))/(C11*'Raw data'!$G$7)*100)","v":""},{"$f":"IF(F11=\"\",\"\",J11/(J11-'Raw data'!$K$7))","v":""}]
[null,{"$f":"IF('Raw data'!H31=\"single\",'Raw data'!C22,\"\")","v":""},{"$f":"IF('Raw data'!$H$31=\"single\",'Raw data'!K42,IF('Raw data'!$H$31=\"replicate\",'Raw data'!G42,'Raw data'!C42))","v":""},"",{"$f":"IF('Raw data'!$H$31=\"single\",'Raw data'!W42,IF('Raw data'!$H$31=\"replicate\",'Raw data'!V42,'Raw data'!U42))","v":""},"",{"$f":"IF('Raw data'!$H$31=\"single\",Z12,IF('Raw data'!$H$31=\"replicate\",U12,P12))","v":""},null,{"$f":"IF('Raw data'!$H$31=\"single\",AA12,IF('Raw data'!$H$31=\"replicate\",V12,Q12))","v":""},{"$f":"IF('Raw data'!$H$31=\"single\",AB12,IF('Raw data'!$H$31=\"replicate\",W12,R12))","v":""},{"$f":"IF('Raw data'!$H$31=\"single\",AC12,IF('Raw data'!$H$31=\"replicate\",X12,S12))","v":""},null,null,{"$f":"IF('Raw data'!$H$31=\"single\",'Raw data'!L42,IF('Raw data'!$H$31=\"replicate\",'Raw data'!H42,'Raw data'!D42))","v":0},null,{"$f":"IF(F12=\"\",\"\",F12/'Raw data'!$D$7*100)","v":""},{"$f":"IF(F12=\"\",\"\",F12*'Raw data'!$H$7/'Raw data'!$G$7)","v":""},{"$f":"IF(F12=\"\",\"\",((C12*'Raw data'!$G$7)-(D12*'Raw data'!$G$7))/(C12*'Raw data'!$G$7)*100)","v":""},{"$f":"IF(F12=\"\",\"\",J12/(J12-'Raw data'!$K$7))","v":""},null,{"$f":"IF(F12=\"\",\"\",F12/'Raw data'!$D$7*100)","v":""},{"$f":"IF(F12=\"\",\"\",F12*'Raw data'!$H$7/'Raw data'!$G$7)","v":""},{"$f":"IF(F12=\"\",\"\",((C12*'Raw data'!$G$7)-(D12*'Raw data'!$G$7))/(C12*'Raw data'!$G$7)*100)","v":""},{"$f":"IF(F12=\"\",\"\",J12/(J12-'Raw data'!$K$7))","v":""},null,{"$f":"IF(F12=\"\",\"\",F12/'Raw data'!$D$8*100)","v":""},{"$f":"IF(F12=\"\",\"\",F12*'Raw data'!$H$8/'Raw data'!$G$8)","v":""},{"$f":"IF(F12=\"\",\"\",((C12*'Raw data'!$G$8)-(D12*'Raw data'!$G$8))/(C12*'Raw data'!$G$8)*100)","v":""},{"$f":"IF(F12=\"\",\"\",J12/(J12-'Raw data'!$K$8))","v":""}]
[null,null,{"$f":"IF('Raw data'!$H$31=\"single\",'Raw data'!K43,IF('Raw data'!$H$31=\"replicate\",'Raw data'!G43,'Raw data'!C43))","v":""},"",{"$f":"IF('Raw data'!$H$31=\"single\",'Raw data'!W43,IF('Raw data'!$H$31=\"replicate\",'Raw data'!V43,'Raw data'!U43))","v":""},"",{"$f":"IF('Raw data'!$H$31=\"single\",Z13,IF('Raw data'!$H$31=\"replicate\",U13,P13))","v":""},null,{"$f":"IF('Raw data'!$H$31=\"single\",AA13,IF('Raw data'!$H$31=\"replicate\",V13,Q13))","v":""},{"$f":"IF('Raw data'!$H$31=\"single\",AB13,IF('Raw data'!$H$31=\"replicate\",W13,R13))","v":""},{"$f":"IF('Raw data'!$H$31=\"single\",AC13,IF('Raw data'!$H$31=\"replicate\",X13,S13))","v":""},null,null,{"$f":"IF('Raw data'!$H$31=\"single\",'Raw data'!L43,IF('Raw data'!$H$31=\"replicate\",'Raw data'!H43,'Raw data'!D43))","v":0},null,{"$f":"IF(F13=\"\",\"\",F13/'Raw data'!$D$7*100)","v":""},{"$f":"IF(F13=\"\",\"\",F13*'Raw data'!$H$7/'Raw data'!$G$7)","v":""},{"$f":"IF(F13=\"\",\"\",((C13*'Raw data'!$G$7)-(D13*'Raw data'!$G$7))/(C13*'Raw data'!$G$7)*100)","v":""},{"$f":"IF(F13=\"\",\"\",J13/(J13-'Raw data'!$K$7))","v":""},null,{"$f":"IF(F13=\"\",\"\",F13/'Raw data'!$D$7*100)","v":""},{"$f":"IF(F13=\"\",\"\",F13*'Raw data'!$H$7/'Raw data'!$G$7)","v":""},{"$f":"IF(F13=\"\",\"\",((C13*'Raw data'!$G$7)-(D13*'Raw data'!$G$7))/(C13*'Raw data'!$G$7)*100)","v":""},{"$f":"IF(F13=\"\",\"\",J13/(J13-'Raw data'!$K$7))","v":""},null,{"$f":"IF(F13=\"\",\"\",F13/'Raw data'!$D$8*100)","v":""},{"$f":"IF(F13=\"\",\"\",F13*'Raw data'!$H$8/'Raw data'!$G$8)","v":""},{"$f":"IF(F13=\"\",\"\",((C13*'Raw data'!$G$8)-(D13*'Raw data'!$G$8))/(C13*'Raw data'!$G$8)*100)","v":""},{"$f":"IF(F13=\"\",\"\",J13/(J13-'Raw data'!$K$8))","v":""}]
[null,null,{"$f":"IF('Raw data'!$H$31=\"single\",'Raw data'!K44,IF('Raw data'!$H$31=\"replicate\",'Raw data'!G44,'Raw data'!C44))","v":""},"",{"$f":"IF('Raw data'!$H$31=\"single\",'Raw data'!W44,IF('Raw data'!$H$31=\"replicate\",'Raw data'!V44,'Raw data'!U44))","v":""},"",{"$f":"IF('Raw data'!$H$31=\"single\",Z14,IF('Raw data'!$H$31=\"replicate\",U14,P14))","v":""},null,{"$f":"IF('Raw data'!$H$31=\"single\",AA14,IF('Raw data'!$H$31=\"replicate\",V14,Q14))","v":""},{"$f":"IF('Raw data'!$H$31=\"single\",AB14,IF('Raw data'!$H$31=\"replicate\",W14,R14))","v":""},{"$f":"IF('Raw data'!$H$31=\"single\",AC14,IF('Raw data'!$H$31=\"replicate\",X14,S14))","v":""},null,null,{"$f":"IF('Raw data'!$H$31=\"single\",'Raw data'!L44,IF('Raw data'!$H$31=\"replicate\",'Raw data'!H44,'Raw data'!D44))","v":0},null,{"$f":"IF(F14=\"\",\"\",F14/'Raw data'!$D$7*100)","v":""},{"$f":"IF(F14=\"\",\"\",F14*'Raw data'!$H$7/'Raw data'!$G$7)","v":""},{"$f":"IF(F14=\"\",\"\",((C14*'Raw data'!$G$7)-(D14*'Raw data'!$G$7))/(C14*'Raw data'!$G$7)*100)","v":""},{"$f":"IF(F14=\"\",\"\",J14/(J14-'Raw data'!$K$7))","v":""},null,{"$f":"IF(F14=\"\",\"\",F14/'Raw data'!$D$7*100)","v":""},{"$f":"IF(F14=\"\",\"\",F14*'Raw data'!$H$7/'Raw data'!$G$7)","v":""},{"$f":"IF(F14=\"\",\"\",((C14*'Raw data'!$G$7)-(D14*'Raw data'!$G$7))/(C14*'Raw data'!$G$7)*100)","v":""},{"$f":"IF(F14=\"\",\"\",J14/(J14-'Raw data'!$K$7))","v":""},null,{"$f":"IF(F14=\"\",\"\",F14/'Raw data'!$D$8*100)","v":""},{"$f":"IF(F14=\"\",\"\",F14*'Raw data'!$H$8/'Raw data'!$G$8)","v":""},{"$f":"IF(F14=\"\",\"\",((C14*'Raw data'!$G$8)-(D14*'Raw data'!$G$8))/(C14*'Raw data'!$G$8)*100)","v":""},{"$f":"IF(F14=\"\",\"\",J14/(J14-'Raw data'!$K$8))","v":""}]
[null,null,{"$f":"IF('Raw data'!$H$31=\"single\",'Raw data'!K45,IF('Raw data'!$H$31=\"replicate\",'Raw data'!G45,'Raw data'!C45))","v":""},"",{"$f":"IF('Raw data'!$H$31=\"single\",'Raw data'!W45,IF('Raw data'!$H$31=\"replicate\",'Raw data'!V45,'Raw data'!U45))","v":""},"",{"$f":"IF('Raw data'!$H$31=\"single\",Z15,IF('Raw data'!$H$31=\"replicate\",U15,P15))","v":""},null,{"$f":"IF('Raw data'!$H$31=\"single\",AA15,IF('Raw data'!$H$31=\"replicate\",V15,Q15))","v":""},{"$f":"IF('Raw data'!$H$31=\"single\",AB15,IF('Raw data'!$H$31=\"replicate\",W15,R15))","v":""},{"$f":"IF('Raw data'!$H$31=\"single\",AC15,IF('Raw data'!$H$31=\"replicate\",X15,S15))","v":""},null,null,{"$f":"IF('Raw data'!$H$31=\"single\",'Raw data'!L45,IF('Raw data'!$H$31=\"replicate\",'Raw data'!H45,'Raw data'!D45))","v":0},null,{"$f":"IF(F15=\"\",\"\",F15/'Raw data'!$D$7*100)","v":""},{"$f":"IF(F15=\"\",\"\",F15*'Raw data'!$H$7/'Raw data'!$G$7)","v":""},{"$f":"IF(F15=\"\",\"\",((C15*'Raw data'!$G$7)-(D15*'Raw data'!$G$7))/(C15*'Raw data'!$G$7)*100)","v":""},{"$f":"IF(F15=\"\",\"\",J15/(J15-'Raw data'!$K$7))","v":""},null,{"$f":"IF(F15=\"\",\"\",F15/'Raw data'!$D$7*100)","v":""},{"$f":"IF(F15=\"\",\"\",F15*'Raw data'!$H$7/'Raw data'!$G$7)","v":""},{"$f":"IF(F15=\"\",\"\",((C15*'Raw data'!$G$7)-(D15*'Raw data'!$G$7))/(C15*'Raw data'!$G$7)*100)","v":""},{"$f":"IF(F15=\"\",\"\",J15/(J15-'Raw data'!$K$7))","v":""},null,{"$f":"IF(F15=\"\",\"\",F15/'Raw data'!$D$8*100)","v":""},{"$f":"IF(F15=\"\",\"\",F15*'Raw data'!$H$8/'Raw data'!$G$8)","v":""},{"$f":"IF(F15=\"\",\"\",((C15*'Raw data'!$G$8)-(D15*'Raw data'!$G$8))/(C15*'Raw data'!$G$8)*100)","v":""},{"$f":"IF(F15=\"\",\"\",J15/(J15-'Raw data'!$K$8))","v":""}]
[null,null,{"$f":"IF('Raw data'!$H$31=\"single\",'Raw data'!K46,IF('Raw data'!$H$31=\"replicate\",'Raw data'!G46,'Raw data'!C46))","v":""},"",{"$f":"IF('Raw data'!$H$31=\"single\",'Raw data'!W46,IF('Raw data'!$H$31=\"replicate\",'Raw data'!V46,'Raw data'!U46))","v":""},"",{"$f":"IF('Raw data'!$H$31=\"single\",Z16,IF('Raw data'!$H$31=\"replicate\",U16,P16))","v":""},null,{"$f":"IF('Raw data'!$H$31=\"single\",AA16,IF('Raw data'!$H$31=\"replicate\",V16,Q16))","v":""},{"$f":"IF('Raw data'!$H$31=\"single\",AB16,IF('Raw data'!$H$31=\"replicate\",W16,R16))","v":""},{"$f":"IF('Raw data'!$H$31=\"single\",AC16,IF('Raw data'!$H$31=\"replicate\",X16,S16))","v":""},null,null,{"$f":"IF('Raw data'!$H$31=\"single\",'Raw data'!L46,IF('Raw data'!$H$31=\"replicate\",'Raw data'!H46,'Raw data'!D46))","v":0},null,{"$f":"IF(F16=\"\",\"\",F16/'Raw data'!$D$7*100)","v":""},{"$f":"IF(F16=\"\",\"\",F16*'Raw data'!$H$7/'Raw data'!$G$7)","v":""},{"$f":"IF(F16=\"\",\"\",((C16*'Raw data'!$G$7)-(D16*'Raw data'!$G$7))/(C16*'Raw data'!$G$7)*100)","v":""},{"$f":"IF(F16=\"\",\"\",J16/(J16-'Raw data'!$K$7))","v":""},null,{"$f":"IF(F16=\"\",\"\",F16/'Raw data'!$D$7*100)","v":""},{"$f":"IF(F16=\"\",\"\",F16*'Raw data'!$H$7/'Raw data'!$G$7)","v":""},{"$f":"IF(F16=\"\",\"\",((C16*'Raw data'!$G$7)-(D16*'Raw data'!$G$7))/(C16*'Raw data'!$G$7)*100)","v":""},{"$f":"IF(F16=\"\",\"\",J16/(J16-'Raw data'!$K$7))","v":""},null,{"$f":"IF(F16=\"\",\"\",F16/'Raw data'!$D$8*100)","v":""},{"$f":"IF(F16=\"\",\"\",F16*'Raw data'!$H$8/'Raw data'!$G$8)","v":""},{"$f":"IF(F16=\"\",\"\",((C16*'Raw data'!$G$8)-(D16*'Raw data'!$G$8))/(C16*'Raw data'!$G$8)*100)","v":""},{"$f":"IF(F16=\"\",\"\",J16/(J16-'Raw data'!$K$8))","v":""}]
[null,{"$f":"IF('Raw data'!H31=\"single\",'Raw data'!C23,IF('Raw data'!H31=\"replicate\",'Raw data'!C22,\"\"))","v":""},{"$f":"IF('Raw data'!$H$31=\"single\",'Raw data'!K47,IF('Raw data'!$H$31=\"replicate\",'Raw data'!G47,'Raw data'!C47))","v":""},"",{"$f":"IF('Raw data'!$H$31=\"single\",'Raw data'!W47,IF('Raw data'!$H$31=\"replicate\",'Raw data'!V47,'Raw data'!U47))","v":""},"",{"$f":"IF('Raw data'!$H$31=\"single\",Z17,IF('Raw data'!$H$31=\"replicate\",U17,P17))","v":""},null,{"$f":"IF('Raw data'!$H$31=\"single\",AA17,IF('Raw data'!$H$31=\"replicate\",V17,Q17))","v":""},{"$f":"IF('Raw data'!$H$31=\"single\",AB17,IF('Raw data'!$H$31=\"replicate\",W17,R17))","v":""},{"$f":"IF('Raw data'!$H$31=\"single\",AC17,IF('Raw data'!$H$31=\"replicate\",X17,S17))","v":""},null,null,{"$f":"IF('Raw data'!$H$31=\"single\",'Raw data'!L47,IF('Raw data'!$H$31=\"replicate\",'Raw data'!H47,'Raw data'!D47))","v":0},null,{"$f":"IF(F17=\"\",\"\",F17/'Raw data'!$D$7*100)","v":""},{"$f":"IF(F17=\"\",\"\",F17*'Raw data'!$H$7/'Raw data'!$G$7)","v":""},{"$f":"IF(F17=\"\",\"\",((C17*'Raw data'!$G$7)-(D17*'Raw data'!$G$7))/(C17*'Raw data'!$G$7)*100)","v":""},{"$f":"IF(F17=\"\",\"\",J17/(J17-'Raw data'!$K$7))","v":""},null,{"$f":"IF(F17=\"\",\"\",F17/'Raw data'!$D$8*100)","v":""},{"$f":"IF(F17=\"\",\"\",F17*'Raw data'!$H$8/'Raw data'!$G$8)","v":""},{"$f":"IF(F17=\"\",\"\",((C17*'Raw data'!$G$8)-(D17*'Raw data'!$G$8))/(C17*'Raw data'!$G$8)*100)","v":""},{"$f":"IF(F17=\"\",\"\",J17/(J17-'Raw data'!$K$8))","v":""},null,{"$f":"IF(F17=\"\",\"\",F17/'Raw data'!$D$9*100)","v":""},{"$f":"IF(F17=\"\",\"\",F17*'Raw data'!$H$9/'Raw data'!$G$9)","v":""},{"$f":"IF(F17=\"\",\"\",((C17*'Raw data'!$G$9)-(D17*'Raw data'!$G$9))/(C17*'Raw data'!$G$9)*100)","v":""},{"$f":"IF(F17=\"\",\"\",J17/(J17-'Raw data'!$K$9))","v":""}]
[null,null,{"$f":"IF('Raw data'!$H$31=\"single\",'Raw data'!K48,IF('Raw data'!$H$31=\"replicate\",'Raw data'!G48,'Raw data'!C48))","v":""},"",{"$f":"IF('Raw data'!$H$31=\"single\",'Raw data'!W48,IF('Raw data'!$H$31=\"replicate\",'Raw data'!V48,'Raw data'!U48))","v":""},"",{"$f":"IF('Raw data'!$H$31=\"single\",Z18,IF('Raw data'!$H$31=\"replicate\",U18,P18))","v":""},null,{"$f":"IF('Raw data'!$H$31=\"single\",AA18,IF('Raw data'!$H$31=\"replicate\",V18,Q18))","v":""},{"$f":"IF('Raw data'!$H$31=\"single\",AB18,IF('Raw data'!$H$31=\"replicate\",W18,R18))","v":""},{"$f":"IF('Raw data'!$H$31=\"single\",AC18,IF('Raw data'!$H$31=\"replicate\",X18,S18))","v":""},null,null,{"$f":"IF('Raw data'!$H$31=\"single\",'Raw data'!L48,IF('Raw data'!$H$31=\"replicate\",'Raw data'!H48,'Raw data'!D48))","v":0},null,{"$f":"IF(F18=\"\",\"\",F18/'Raw data'!$D$7*100)","v":""},{"$f":"IF(F18=\"\",\"\",F18*'Raw data'!$H$7/'Raw data'!$G$7)","v":""},{"$f":"IF(F18=\"\",\"\",((C18*'Raw data'!$G$7)-(D18*'Raw data'!$G$7))/(C18*'Raw data'!$G$7)*100)","v":""},{"$f":"IF(F18=\"\",\"\",J18/(J18-'Raw data'!$K$7))","v":""},null,{"$f":"IF(F18=\"\",\"\",F18/'Raw data'!$D$8*100)","v":""},{"$f":"IF(F18=\"\",\"\",F18*'Raw data'!$H$8/'Raw data'!$G$8)","v":""},{"$f":"IF(F18=\"\",\"\",((C18*'Raw data'!$G$8)-(D18*'Raw data'!$G$8))/(C18*'Raw data'!$G$8)*100)","v":""},{"$f":"IF(F18=\"\",\"\",J18/(J18-'Raw data'!$K$8))","v":""},null,{"$f":"IF(F18=\"\",\"\",F18/'Raw data'!$D$9*100)","v":""},{"$f":"IF(F18=\"\",\"\",F18*'Raw data'!$H$9/'Raw data'!$G$9)","v":""},{"$f":"IF(F18=\"\",\"\",((C18*'Raw data'!$G$9)-(D18*'Raw data'!$G$9))/(C18*'Raw data'!$G$9)*100)","v":""},{"$f":"IF(F18=\"\",\"\",J18/(J18-'Raw data'!$K$9))","v":""}]
[null,null,{"$f":"IF('Raw data'!$H$31=\"single\",'Raw data'!K49,IF('Raw data'!$H$31=\"replicate\",'Raw data'!G49,'Raw data'!C49))","v":""},"",{"$f":"IF('Raw data'!$H$31=\"single\",'Raw data'!W49,IF('Raw data'!$H$31=\"replicate\",'Raw data'!V49,'Raw data'!U49))","v":""},"",{"$f":"IF('Raw data'!$H$31=\"single\",Z19,IF('Raw data'!$H$31=\"replicate\",U19,P19))","v":""},null,{"$f":"IF('Raw data'!$H$31=\"single\",AA19,IF('Raw data'!$H$31=\"replicate\",V19,Q19))","v":""},{"$f":"IF('Raw data'!$H$31=\"single\",AB19,IF('Raw data'!$H$31=\"replicate\",W19,R19))","v":""},{"$f":"IF('Raw data'!$H$31=\"single\",AC19,IF('Raw data'!$H$31=\"replicate\",X19,S19))","v":""},null,null,{"$f":"IF('Raw data'!$H$31=\"single\",'Raw data'!L49,IF('Raw data'!$H$31=\"replicate\",'Raw data'!H49,'Raw data'!D49))","v":0},null,{"$f":"IF(F19=\"\",\"\",F19/'Raw data'!$D$7*100)","v":""},{"$f":"IF(F19=\"\",\"\",F19*'Raw data'!$H$7/'Raw data'!$G$7)","v":""},{"$f":"IF(F19=\"\",\"\",((C19*'Raw data'!$G$7)-(D19*'Raw data'!$G$7))/(C19*'Raw data'!$G$7)*100)","v":""},{"$f":"IF(F19=\"\",\"\",J19/(J19-'Raw data'!$K$7))","v":""},null,{"$f":"IF(F19=\"\",\"\",F19/'Raw data'!$D$8*100)","v":""},{"$f":"IF(F19=\"\",\"\",F19*'Raw data'!$H$8/'Raw data'!$G$8)","v":""},{"$f":"IF(F19=\"\",\"\",((C19*'Raw data'!$G$8)-(D19*'Raw data'!$G$8))/(C19*'Raw data'!$G$8)*100)","v":""},{"$f":"IF(F19=\"\",\"\",J19/(J19-'Raw data'!$K$8))","v":""},null,{"$f":"IF(F19=\"\",\"\",F19/'Raw data'!$D$9*100)","v":""},{"$f":"IF(F19=\"\",\"\",F19*'Raw data'!$H$9/'Raw data'!$G$9)","v":""},{"$f":"IF(F19=\"\",\"\",((C19*'Raw data'!$G$9)-(D19*'Raw data'!$G$9))/(C19*'Raw data'!$G$9)*100)","v":""},{"$f":"IF(F19=\"\",\"\",J19/(J19-'Raw data'!$K$9))","v":""}]
[null,null,{"$f":"IF('Raw data'!$H$31=\"single\",'Raw data'!K50,IF('Raw data'!$H$31=\"replicate\",'Raw data'!G50,'Raw data'!C50))","v":""},"",{"$f":"IF('Raw data'!$H$31=\"single\",'Raw data'!W50,IF('Raw data'!$H$31=\"replicate\",'Raw data'!V50,'Raw data'!U50))","v":""},"",{"$f":"IF('Raw data'!$H$31=\"single\",Z20,IF('Raw data'!$H$31=\"replicate\",U20,P20))","v":""},null,{"$f":"IF('Raw data'!$H$31=\"single\",AA20,IF('Raw data'!$H$31=\"replicate\",V20,Q20))","v":""},{"$f":"IF('Raw data'!$H$31=\"single\",AB20,IF('Raw data'!$H$31=\"replicate\",W20,R20))","v":""},{"$f":"IF('Raw data'!$H$31=\"single\",AC20,IF('Raw data'!$H$31=\"replicate\",X20,S20))","v":""},null,null,{"$f":"IF('Raw data'!$H$31=\"single\",'Raw data'!L50,IF('Raw data'!$H$31=\"replicate\",'Raw data'!H50,'Raw data'!D50))","v":0},null,{"$f":"IF(F20=\"\",\"\",F20/'Raw data'!$D$7*100)","v":""},{"$f":"IF(F20=\"\",\"\",F20*'Raw data'!$H$7/'Raw data'!$G$7)","v":""},{"$f":"IF(F20=\"\",\"\",((C20*'Raw data'!$G$7)-(D20*'Raw data'!$G$7))/(C20*'Raw data'!$G$7)*100)","v":""},{"$f":"IF(F20=\"\",\"\",J20/(J20-'Raw data'!$K$7))","v":""},null,{"$f":"IF(F20=\"\",\"\",F20/'Raw data'!$D$8*100)","v":""},{"$f":"IF(F20=\"\",\"\",F20*'Raw data'!$H$8/'Raw data'!$G$8)","v":""},{"$f":"IF(F20=\"\",\"\",((C20*'Raw data'!$G$8)-(D20*'Raw data'!$G$8))/(C20*'Raw data'!$G$8)*100)","v":""},{"$f":"IF(F20=\"\",\"\",J20/(J20-'Raw data'!$K$8))","v":""},null,{"$f":"IF(F20=\"\",\"\",F20/'Raw data'!$D$9*100)","v":""},{"$f":"IF(F20=\"\",\"\",F20*'Raw data'!$H$9/'Raw data'!$G$9)","v":""},{"$f":"IF(F20=\"\",\"\",((C20*'Raw data'!$G$9)-(D20*'Raw data'!$G$9))/(C20*'Raw data'!$G$9)*100)","v":""},{"$f":"IF(F20=\"\",\"\",J20/(J20-'Raw data'!$K$9))","v":""}]
[null,null,{"$f":"IF('Raw data'!$H$31=\"single\",'Raw data'!K51,IF('Raw data'!$H$31=\"replicate\",'Raw data'!G51,'Raw data'!C51))","v":""},"",{"$f":"IF('Raw data'!$H$31=\"single\",'Raw data'!W51,IF('Raw data'!$H$31=\"replicate\",'Raw data'!V51,'Raw data'!U51))","v":""},"",{"$f":"IF('Raw data'!$H$31=\"single\",Z21,IF('Raw data'!$H$31=\"replicate\",U21,P21))","v":""},null,{"$f":"IF('Raw data'!$H$31=\"single\",AA21,IF('Raw data'!$H$31=\"replicate\",V21,Q21))","v":""},{"$f":"IF('Raw data'!$H$31=\"single\",AB21,IF('Raw data'!$H$31=\"replicate\",W21,R21))","v":""},{"$f":"IF('Raw data'!$H$31=\"single\",AC21,IF('Raw data'!$H$31=\"replicate\",X21,S21))","v":""},null,null,{"$f":"IF('Raw data'!$H$31=\"single\",'Raw data'!L51,IF('Raw data'!$H$31=\"replicate\",'Raw data'!H51,'Raw data'!D51))","v":0},null,{"$f":"IF(F21=\"\",\"\",F21/'Raw data'!$D$7*100)","v":""},{"$f":"IF(F21=\"\",\"\",F21*'Raw data'!$H$7/'Raw data'!$G$7)","v":""},{"$f":"IF(F21=\"\",\"\",((C21*'Raw data'!$G$7)-(D21*'Raw data'!$G$7))/(C21*'Raw data'!$G$7)*100)","v":""},{"$f":"IF(F21=\"\",\"\",J21/(J21-'Raw data'!$K$7))","v":""},null,{"$f":"IF(F21=\"\",\"\",F21/'Raw data'!$D$8*100)","v":""},{"$f":"IF(F21=\"\",\"\",F21*'Raw data'!$H$8/'Raw data'!$G$8)","v":""},{"$f":"IF(F21=\"\",\"\",((C21*'Raw data'!$G$8)-(D21*'Raw data'!$G$8))/(C21*'Raw data'!$G$8)*100)","v":""},{"$f":"IF(F21=\"\",\"\",J21/(J21-'Raw data'!$K$8))","v":""},null,{"$f":"IF(F21=\"\",\"\",F21/'Raw data'!$D$9*100)","v":""},{"$f":"IF(F21=\"\",\"\",F21*'Raw data'!$H$9/'Raw data'!$G$9)","v":""},{"$f":"IF(F21=\"\",\"\",((C21*'Raw data'!$G$9)-(D21*'Raw data'!$G$9))/(C21*'Raw data'!$G$9)*100)","v":""},{"$f":"IF(F21=\"\",\"\",J21/(J21-'Raw data'!$K$9))","v":""}]
[null,{"$f":"IF('Raw data'!H31=\"single\",'Raw data'!C24,IF('Raw data'!H31=\"triplicate\",'Raw data'!C22,\"\"))","v":""},{"$f":"IF('Raw data'!$H$31=\"single\",'Raw data'!K52,IF('Raw data'!$H$31=\"replicate\",'Raw data'!G52,'Raw data'!C52))","v":""},"",{"$f":"IF('Raw data'!$H$31=\"single\",'Raw data'!W52,IF('Raw data'!$H$31=\"replicate\",'Raw data'!V52,'Raw data'!U52))","v":""},"",{"$f":"IF('Raw data'!$H$31=\"single\",Z22,IF('Raw data'!$H$31=\"replicate\",U22,P22))","v":""},null,{"$f":"IF('Raw data'!$H$31=\"single\",AA22,IF('Raw data'!$H$31=\"replicate\",V22,Q22))","v":""},{"$f":"IF('Raw data'!$H$31=\"single\",AB22,IF('Raw data'!$H$31=\"replicate\",W22,R22))","v":""},{"$f":"IF('Raw data'!$H$31=\"single\",AC22,IF('Raw data'!$H$31=\"replicate\",X22,S22))","v":""},null,null,{"$f":"IF('Raw data'!$H$31=\"single\",'Raw data'!L52,IF('Raw data'!$H$31=\"replicate\",'Raw data'!H52,'Raw data'!D52))","v":0},null,{"$f":"IF(F22=\"\",\"\",F22/'Raw data'!$D$8*100)","v":""},{"$f":"IF(F22=\"\",\"\",F22*'Raw data'!$H$8/'Raw data'!$G$8)","v":""},{"$f":"IF(F22=\"\",\"\",((C22*'Raw data'!$G$8)-(D22*'Raw data'!$G$8))/(C22*'Raw data'!$G$8)*100)","v":""},{"$f":"IF(F22=\"\",\"\",J22/(J22-'Raw data'!$K$8))","v":""},null,{"$f":"IF(F22=\"\",\"\",F22/'Raw data'!$D$8*100)","v":""},{"$f":"IF(F22=\"\",\"\",F22*'Raw data'!$H$8/'Raw data'!$G$8)","v":""},{"$f":"IF(F22=\"\",\"\",((C22*'Raw data'!$G$8)-(D22*'Raw data'!$G$8))/(C22*'Raw data'!$G$8)*100)","v":""},{"$f":"IF(F22=\"\",\"\",J22/(J22-'Raw data'!$K$8))","v":""},null,{"$f":"IF(F22=\"\",\"\",F22/'Raw data'!$D$10*100)","v":""},{"$f":"IF(F22=\"\",\"\",F22*'Raw data'!$H$10/'Raw data'!$G$10)","v":""},{"$f":"IF(F22=\"\",\"\",((C22*'Raw data'!$G$10)-(D22*'Raw data'!$G$10))/(C22*'Raw data'!$G$10)*100)","v":""},{"$f":"IF(F22=\"\",\"\",J22/(J22-'Raw data'!$K$10))","v":""}]
[null,null,{"$f":"IF('Raw data'!$H$31=\"single\",'Raw data'!K53,IF('Raw data'!$H$31=\"replicate\",'Raw data'!G53,'Raw data'!C53))","v":""},"",{"$f":"IF('Raw data'!$H$31=\"single\",'Raw data'!W53,IF('Raw data'!$H$31=\"replicate\",'Raw data'!V53,'Raw data'!U53))","v":""},"",{"$f":"IF('Raw data'!$H$31=\"single\",Z23,IF('Raw data'!$H$31=\"replicate\",U23,P23))","v":""},null,{"$f":"IF('Raw data'!$H$31=\"single\",AA23,IF('Raw data'!$H$31=\"replicate\",V23,Q23))","v":""},{"$f":"IF('Raw data'!$H$31=\"single\",AB23,IF('Raw data'!$H$31=\"replicate\",W23,R23))","v":""},{"$f":"IF('Raw data'!$H$31=\"single\",AC23,IF('Raw data'!$H$31=\"replicate\",X23,S23))","v":""},null,null,{"$f":"IF('Raw data'!$H$31=\"single\",'Raw data'!L53,IF('Raw data'!$H$31=\"replicate\",'Raw data'!H53,'Raw data'!D53))","v":0},null,{"$f":"IF(F23=\"\",\"\",F23/'Raw data'!$D$8*100)","v":""},{"$f":"IF(F23=\"\",\"\",F23*'Raw data'!$H$8/'Raw data'!$G$8)","v":""},{"$f":"IF(F23=\"\",\"\",((C23*'Raw data'!$G$8)-(D23*'Raw data'!$G$8))/(C23*'Raw data'!$G$8)*100)","v":""},{"$f":"IF(F23=\"\",\"\",J23/(J23-'Raw data'!$K$8))","v":""},null,{"$f":"IF(F23=\"\",\"\",F23/'Raw data'!$D$8*100)","v":""},{"$f":"IF(F23=\"\",\"\",F23*'Raw data'!$H$8/'Raw data'!$G$8)","v":""},{"$f":"IF(F23=\"\",\"\",((C23*'Raw data'!$G$8)-(D23*'Raw data'!$G$8))/(C23*'Raw data'!$G$8)*100)","v":""},{"$f":"IF(F23=\"\",\"\",J23/(J23-'Raw data'!$K$8))","v":""},null,{"$f":"IF(F23=\"\",\"\",F23/'Raw data'!$D$10*100)","v":""},{"$f":"IF(F23=\"\",\"\",F23*'Raw data'!$H$10/'Raw data'!$G$10)","v":""},{"$f":"IF(F23=\"\",\"\",((C23*'Raw data'!$G$10)-(D23*'Raw data'!$G$10))/(C23*'Raw data'!$G$10)*100)","v":""},{"$f":"IF(F23=\"\",\"\",J23/(J23-'Raw data'!$K$10))","v":""}]
[null,null,{"$f":"IF('Raw data'!$H$31=\"single\",'Raw data'!K54,IF('Raw data'!$H$31=\"replicate\",'Raw data'!G54,'Raw data'!C54))","v":""},"",{"$f":"IF('Raw data'!$H$31=\"single\",'Raw data'!W54,IF('Raw data'!$H$31=\"replicate\",'Raw data'!V54,'Raw data'!U54))","v":""},"",{"$f":"IF('Raw data'!$H$31=\"single\",Z24,IF('Raw data'!$H$31=\"replicate\",U24,P24))","v":""},null,{"$f":"IF('Raw data'!$H$31=\"single\",AA24,IF('Raw data'!$H$31=\"replicate\",V24,Q24))","v":""},{"$f":"IF('Raw data'!$H$31=\"single\",AB24,IF('Raw data'!$H$31=\"replicate\",W24,R24))","v":""},{"$f":"IF('Raw data'!$H$31=\"single\",AC24,IF('Raw data'!$H$31=\"replicate\",X24,S24))","v":""},null,null,{"$f":"IF('Raw data'!$H$31=\"single\",'Raw data'!L54,IF('Raw data'!$H$31=\"replicate\",'Raw data'!H54,'Raw data'!D54))","v":0},null,{"$f":"IF(F24=\"\",\"\",F24/'Raw data'!$D$8*100)","v":""},{"$f":"IF(F24=\"\",\"\",F24*'Raw data'!$H$8/'Raw data'!$G$8)","v":""},{"$f":"IF(F24=\"\",\"\",((C24*'Raw data'!$G$8)-(D24*'Raw data'!$G$8))/(C24*'Raw data'!$G$8)*100)","v":""},{"$f":"IF(F24=\"\",\"\",J24/(J24-'Raw data'!$K$8))","v":""},null,{"$f":"IF(F24=\"\",\"\",F24/'Raw data'!$D$8*100)","v":""},{"$f":"IF(F24=\"\",\"\",F24*'Raw data'!$H$8/'Raw data'!$G$8)","v":""},{"$f":"IF(F24=\"\",\"\",((C24*'Raw data'!$G$8)-(D24*'Raw data'!$G$8))/(C24*'Raw data'!$G$8)*100)","v":""},{"$f":"IF(F24=\"\",\"\",J24/(J24-'Raw data'!$K$8))","v":""},null,{"$f":"IF(F24=\"\",\"\",F24/'Raw data'!$D$10*100)","v":""},{"$f":"IF(F24=\"\",\"\",F24*'Raw data'!$H$10/'Raw data'!$G$10)","v":""},{"$f":"IF(F24=\"\",\"\",((C24*'Raw data'!$G$10)-(D24*'Raw data'!$G$10))/(C24*'Raw data'!$G$10)*100)","v":""},{"$f":"IF(F24=\"\",\"\",J24/(J24-'Raw data'!$K$10))","v":""}]
[null,null,{"$f":"IF('Raw data'!$H$31=\"single\",'Raw data'!K55,IF('Raw data'!$H$31=\"replicate\",'Raw data'!G55,'Raw data'!C55))","v":""},"",{"$f":"IF('Raw data'!$H$31=\"single\",'Raw data'!W55,IF('Raw data'!$H$31=\"replicate\",'Raw data'!V55,'Raw data'!U55))","v":""},"",{"$f":"IF('Raw data'!$H$31=\"single\",Z25,IF('Raw data'!$H$31=\"replicate\",U25,P25))","v":""},null,{"$f":"IF('Raw data'!$H$31=\"single\",AA25,IF('Raw data'!$H$31=\"replicate\",V25,Q25))","v":""},{"$f":"IF('Raw data'!$H$31=\"single\",AB25,IF('Raw data'!$H$31=\"replicate\",W25,R25))","v":""},{"$f":"IF('Raw data'!$H$31=\"single\",AC25,IF('Raw data'!$H$31=\"replicate\",X25,S25))","v":""},null,null,{"$f":"IF('Raw data'!$H$31=\"single\",'Raw data'!L55,IF('Raw data'!$H$31=\"replicate\",'Raw data'!H55,'Raw data'!D55))","v":0},null,{"$f":"IF(F25=\"\",\"\",F25/'Raw data'!$D$8*100)","v":""},{"$f":"IF(F25=\"\",\"\",F25*'Raw data'!$H$8/'Raw data'!$G$8)","v":""},{"$f":"IF(F25=\"\",\"\",((C25*'Raw data'!$G$8)-(D25*'Raw data'!$G$8))/(C25*'Raw data'!$G$8)*100)","v":""},{"$f":"IF(F25=\"\",\"\",J25/(J25-'Raw data'!$K$8))","v":""},null,{"$f":"IF(F25=\"\",\"\",F25/'Raw data'!$D$8*100)","v":""},{"$f":"IF(F25=\"\",\"\",F25*'Raw data'!$H$8/'Raw data'!$G$8)","v":""},{"$f":"IF(F25=\"\",\"\",((C25*'Raw data'!$G$8)-(D25*'Raw data'!$G$8))/(C25*'Raw data'!$G$8)*100)","v":""},{"$f":"IF(F25=\"\",\"\",J25/(J25-'Raw data'!$K$8))","v":""},null,{"$f":"IF(F25=\"\",\"\",F25/'Raw data'!$D$10*100)","v":""},{"$f":"IF(F25=\"\",\"\",F25*'Raw data'!$H$10/'Raw data'!$G$10)","v":""},{"$f":"IF(F25=\"\",\"\",((C25*'Raw data'!$G$10)-(D25*'Raw data'!$G$10))/(C25*'Raw data'!$G$10)*100)","v":""},{"$f":"IF(F25=\"\",\"\",J25/(J25-'Raw data'!$K$10))","v":""}]
[null,null,{"$f":"IF('Raw data'!$H$31=\"single\",'Raw data'!K56,IF('Raw data'!$H$31=\"replicate\",'Raw data'!G56,'Raw data'!C56))","v":""},"",{"$f":"IF('Raw data'!$H$31=\"single\",'Raw data'!W56,IF('Raw data'!$H$31=\"replicate\",'Raw data'!V56,'Raw data'!U56))","v":""},"",{"$f":"IF('Raw data'!$H$31=\"single\",Z26,IF('Raw data'!$H$31=\"replicate\",U26,P26))","v":""},null,{"$f":"IF('Raw data'!$H$31=\"single\",AA26,IF('Raw data'!$H$31=\"replicate\",V26,Q26))","v":""},{"$f":"IF('Raw data'!$H$31=\"single\",AB26,IF('Raw data'!$H$31=\"replicate\",W26,R26))","v":""},{"$f":"IF('Raw data'!$H$31=\"single\",AC26,IF('Raw data'!$H$31=\"replicate\",X26,S26))","v":""},null,null,{"$f":"IF('Raw data'!$H$31=\"single\",'Raw data'!L56,IF('Raw data'!$H$31=\"replicate\",'Raw data'!H56,'Raw data'!D56))","v":0},null,{"$f":"IF(F26=\"\",\"\",F26/'Raw data'!$D$8*100)","v":""},{"$f":"IF(F26=\"\",\"\",F26*'Raw data'!$H$8/'Raw data'!$G$8)","v":""},{"$f":"IF(F26=\"\",\"\",((C26*'Raw data'!$G$8)-(D26*'Raw data'!$G$8))/(C26*'Raw data'!$G$8)*100)","v":""},{"$f":"IF(F26=\"\",\"\",J26/(J26-'Raw data'!$K$8))","v":""},null,{"$f":"IF(F26=\"\",\"\",F26/'Raw data'!$D$8*100)","v":""},{"$f":"IF(F26=\"\",\"\",F26*'Raw data'!$H$8/'Raw data'!$G$8)","v":""},{"$f":"IF(F26=\"\",\"\",((C26*'Raw data'!$G$8)-(D26*'Raw data'!$G$8))/(C26*'Raw data'!$G$8)*100)","v":""},{"$f":"IF(F26=\"\",\"\",J26/(J26-'Raw data'!$K$8))","v":""},null,{"$f":"IF(F26=\"\",\"\",F26/'Raw data'!$D$10*100)","v":""},{"$f":"IF(F26=\"\",\"\",F26*'Raw data'!$H$10/'Raw data'!$G$10)","v":""},{"$f":"IF(F26=\"\",\"\",((C26*'Raw data'!$G$10)-(D26*'Raw data'!$G$10))/(C26*'Raw data'!$G$10)*100)","v":""},{"$f":"IF(F26=\"\",\"\",J26/(J26-'Raw data'!$K$10))","v":""}]
[null,{"$f":"IF('Raw data'!H31=\"single\",'Raw data'!C25,IF('Raw data'!H31=\"replicate\",'Raw data'!C23,\"\"))","v":""},{"$f":"IF('Raw data'!$H$31=\"single\",'Raw data'!K57,IF('Raw data'!$H$31=\"replicate\",'Raw data'!G57,'Raw data'!C57))","v":""},"",{"$f":"IF('Raw data'!$H$31=\"single\",'Raw data'!W57,IF('Raw data'!$H$31=\"replicate\",'Raw data'!V57,'Raw data'!U57))","v":""},"",{"$f":"IF('Raw data'!$H$31=\"single\",Z27,IF('Raw data'!$H$31=\"replicate\",U27,P27))","v":""},null,{"$f":"IF('Raw data'!$H$31=\"single\",AA27,IF('Raw data'!$H$31=\"replicate\",V27,Q27))","v":""},{"$f":"IF('Raw data'!$H$31=\"single\",AB27,IF('Raw data'!$H$31=\"replicate\",W27,R27))","v":""},{"$f":"IF('Raw data'!$H$31=\"single\",AC27,IF('Raw data'!$H$31=\"replicate\",X27,S27))","v":""},null,null,{"$f":"IF('Raw data'!$H$31=\"single\",'Raw data'!L57,IF('Raw data'!$H$31=\"replicate\",'Raw data'!H57,'Raw data'!D57))","v":0},null,{"$f":"IF(F27=\"\",\"\",F27/'Raw data'!$D$8*100)","v":""},{"$f":"IF(F27=\"\",\"\",F27*'Raw data'!$H$8/'Raw data'!$G$8)","v":""},{"$f":"IF(F27=\"\",\"\",((C27*'Raw data'!$G$8)-(D27*'Raw data'!$G$8))/(C27*'Raw data'!$G$8)*100)","v":""},{"$f":"IF(F27=\"\",\"\",J27/(J27-'Raw data'!$K$8))","v":""},null,{"$f":"IF(F27=\"\",\"\",F27/'Raw data'!$D$9*100)","v":""},{"$f":"IF(F27=\"\",\"\",F27*'Raw data'!$H$9/'Raw data'!$G$9)","v":""},{"$f":"IF(F27=\"\",\"\",((C27*'Raw data'!$G$9)-(D27*'Raw data'!$G$9))/(C27*'Raw data'!$G$9)*100)","v":""},{"$f":"IF(F27=\"\",\"\",J27/(J27-'Raw data'!$K$9))","v":""},null,{"$f":"IF(F27=\"\",\"\",F27/'Raw data'!$D$11*100)","v":""},{"$f":"IF(F27=\"\",\"\",F27*'Raw data'!$H$11/'Raw data'!$G$11)","v":""},{"$f":"IF(F27=\"\",\"\",((C27*'Raw data'!$G$11)-(D27*'Raw data'!$G$11))/(C27*'Raw data'!$G$11)*100)","v":""},{"$f":"IF(F27=\"\",\"\",J27/(J27-'Raw data'!$K$11))","v":""}]
[null,null,{"$f":"IF('Raw data'!$H$31=\"single\",'Raw data'!K58,IF('Raw data'!$H$31=\"replicate\",'Raw data'!G58,'Raw data'!C58))","v":""},"",{"$f":"IF('Raw data'!$H$31=\"single\",'Raw data'!W58,IF('Raw data'!$H$31=\"replicate\",'Raw data'!V58,'Raw data'!U58))","v":""},"",{"$f":"IF('Raw data'!$H$31=\"single\",Z28,IF('Raw data'!$H$31=\"replicate\",U28,P28))","v":""},null,{"$f":"IF('Raw data'!$H$31=\"single\",AA28,IF('Raw data'!$H$31=\"replicate\",V28,Q28))","v":""},{"$f":"IF('Raw data'!$H$31=\"single\",AB28,IF('Raw data'!$H$31=\"replicate\",W28,R28))","v":""},{"$f":"IF('Raw data'!$H$31=\"single\",AC28,IF('Raw data'!$H$31=\"replicate\",X28,S28))","v":""},null,null,{"$f":"IF('Raw data'!$H$31=\"single\",'Raw data'!L58,IF('Raw data'!$H$31=\"replicate\",'Raw data'!H58,'Raw data'!D58))","v":0},null,{"$f":"IF(F28=\"\",\"\",F28/'Raw data'!$D$8*100)","v":""},{"$f":"IF(F28=\"\",\"\",F28*'Raw data'!$H$8/'Raw data'!$G$8)","v":""},{"$f":"IF(F28=\"\",\"\",((C28*'Raw data'!$G$8)-(D28*'Raw data'!$G$8))/(C28*'Raw data'!$G$8)*100)","v":""},{"$f":"IF(F28=\"\",\"\",J28/(J28-'Raw data'!$K$8))","v":""},null,{"$f":"IF(F28=\"\",\"\",F28/'Raw data'!$D$9*100)","v":""},{"$f":"IF(F28=\"\",\"\",F28*'Raw data'!$H$9/'Raw data'!$G$9)","v":""},{"$f":"IF(F28=\"\",\"\",((C28*'Raw data'!$G$9)-(D28*'Raw data'!$G$9))/(C28*'Raw data'!$G$9)*100)","v":""},{"$f":"IF(F28=\"\",\"\",J28/(J28-'Raw data'!$K$9))","v":""},null,{"$f":"IF(F28=\"\",\"\",F28/'Raw data'!$D$11*100)","v":""},{"$f":"IF(F28=\"\",\"\",F28*'Raw data'!$H$11/'Raw data'!$G$11)","v":""},{"$f":"IF(F28=\"\",\"\",((C28*'Raw data'!$G$11)-(D28*'Raw data'!$G$11))/(C28*'Raw data'!$G$11)*100)","v":""},{"$f":"IF(F28=\"\",\"\",J28/(J28-'Raw data'!$K$11))","v":""}]
[null,null,{"$f":"IF('Raw data'!$H$31=\"single\",'Raw data'!K59,IF('Raw data'!$H$31=\"replicate\",'Raw data'!G59,'Raw data'!C59))","v":""},"",{"$f":"IF('Raw data'!$H$31=\"single\",'Raw data'!W59,IF('Raw data'!$H$31=\"replicate\",'Raw data'!V59,'Raw data'!U59))","v":""},"",{"$f":"IF('Raw data'!$H$31=\"single\",Z29,IF('Raw data'!$H$31=\"replicate\",U29,P29))","v":""},null,{"$f":"IF('Raw data'!$H$31=\"single\",AA29,IF('Raw data'!$H$31=\"replicate\",V29,Q29))","v":""},{"$f":"IF('Raw data'!$H$31=\"single\",AB29,IF('Raw data'!$H$31=\"replicate\",W29,R29))","v":""},{"$f":"IF('Raw data'!$H$31=\"single\",AC29,IF('Raw data'!$H$31=\"replicate\",X29,S29))","v":""},null,null,{"$f":"IF('Raw data'!$H$31=\"single\",'Raw data'!L59,IF('Raw data'!$H$31=\"replicate\",'Raw data'!H59,'Raw data'!D59))","v":0},null,{"$f":"IF(F29=\"\",\"\",F29/'Raw data'!$D$8*100)","v":""},{"$f":"IF(F29=\"\",\"\",F29*'Raw data'!$H$8/'Raw data'!$G$8)","v":""},{"$f":"IF(F29=\"\",\"\",((C29*'Raw data'!$G$8)-(D29*'Raw data'!$G$8))/(C29*'Raw data'!$G$8)*100)","v":""},{"$f":"IF(F29=\"\",\"\",J29/(J29-'Raw data'!$K$8))","v":""},null,{"$f":"IF(F29=\"\",\"\",F29/'Raw data'!$D$9*100)","v":""},{"$f":"IF(F29=\"\",\"\",F29*'Raw data'!$H$9/'Raw data'!$G$9)","v":""},{"$f":"IF(F29=\"\",\"\",((C29*'Raw data'!$G$9)-(D29*'Raw data'!$G$9))/(C29*'Raw data'!$G$9)*100)","v":""},{"$f":"IF(F29=\"\",\"\",J29/(J29-'Raw data'!$K$9))","v":""},null,{"$f":"IF(F29=\"\",\"\",F29/'Raw data'!$D$11*100)","v":""},{"$f":"IF(F29=\"\",\"\",F29*'Raw data'!$H$11/'Raw data'!$G$11)","v":""},{"$f":"IF(F29=\"\",\"\",((C29*'Raw data'!$G$11)-(D29*'Raw data'!$G$11))/(C29*'Raw data'!$G$11)*100)","v":""},{"$f":"IF(F29=\"\",\"\",J29/(J29-'Raw data'!$K$11))","v":""}]
[null,null,{"$f":"IF('Raw data'!$H$31=\"single\",'Raw data'!K60,IF('Raw data'!$H$31=\"replicate\",'Raw data'!G60,'Raw data'!C60))","v":""},"",{"$f":"IF('Raw data'!$H$31=\"single\",'Raw data'!W60,IF('Raw data'!$H$31=\"replicate\",'Raw data'!V60,'Raw data'!U60))","v":""},"",{"$f":"IF('Raw data'!$H$31=\"single\",Z30,IF('Raw data'!$H$31=\"replicate\",U30,P30))","v":""},null,{"$f":"IF('Raw data'!$H$31=\"single\",AA30,IF('Raw data'!$H$31=\"replicate\",V30,Q30))","v":""},{"$f":"IF('Raw data'!$H$31=\"single\",AB30,IF('Raw data'!$H$31=\"replicate\",W30,R30))","v":""},{"$f":"IF('Raw data'!$H$31=\"single\",AC30,IF('Raw data'!$H$31=\"replicate\",X30,S30))","v":""},null,null,{"$f":"IF('Raw data'!$H$31=\"single\",'Raw data'!L60,IF('Raw data'!$H$31=\"replicate\",'Raw data'!H60,'Raw data'!D60))","v":0},null,{"$f":"IF(F30=\"\",\"\",F30/'Raw data'!$D$8*100)","v":""},{"$f":"IF(F30=\"\",\"\",F30*'Raw data'!$H$8/'Raw data'!$G$8)","v":""},{"$f":"IF(F30=\"\",\"\",((C30*'Raw data'!$G$8)-(D30*'Raw data'!$G$8))/(C30*'Raw data'!$G$8)*100)","v":""},{"$f":"IF(F30=\"\",\"\",J30/(J30-'Raw data'!$K$8))","v":""},null,{"$f":"IF(F30=\"\",\"\",F30/'Raw data'!$D$9*100)","v":""},{"$f":"IF(F30=\"\",\"\",F30*'Raw data'!$H$9/'Raw data'!$G$9)","v":""},{"$f":"IF(F30=\"\",\"\",((C30*'Raw data'!$G$9)-(D30*'Raw data'!$G$9))/(C30*'Raw data'!$G$9)*100)","v":""},{"$f":"IF(F30=\"\",\"\",J30/(J30-'Raw data'!$K$9))","v":""},null,{"$f":"IF(F30=\"\",\"\",F30/'Raw data'!$D$11*100)","v":""},{"$f":"IF(F30=\"\",\"\",F30*'Raw data'!$H$11/'Raw data'!$G$11)","v":""},{"$f":"IF(F30=\"\",\"\",((C30*'Raw data'!$G$11)-(D30*'Raw data'!$G$11))/(C30*'Raw data'!$G$11)*100)","v":""},{"$f":"IF(F30=\"\",\"\",J30/(J30-'Raw data'!$K$11))","v":""}]
[null,null,{"$f":"IF('Raw data'!$H$31=\"single\",'Raw data'!K61,IF('Raw data'!$H$31=\"replicate\",'Raw data'!G61,'Raw data'!C61))","v":""},"",{"$f":"IF('Raw data'!$H$31=\"single\",'Raw data'!W61,IF('Raw data'!$H$31=\"replicate\",'Raw data'!V61,'Raw data'!U61))","v":""},"",{"$f":"IF('Raw data'!$H$31=\"single\",Z31,IF('Raw data'!$H$31=\"replicate\",U31,P31))","v":""},null,{"$f":"IF('Raw data'!$H$31=\"single\",AA31,IF('Raw data'!$H$31=\"replicate\",V31,Q31))","v":""},{"$f":"IF('Raw data'!$H$31=\"single\",AB31,IF('Raw data'!$H$31=\"replicate\",W31,R31))","v":""},{"$f":"IF('Raw data'!$H$31=\"single\",AC31,IF('Raw data'!$H$31=\"replicate\",X31,S31))","v":""},null,null,{"$f":"IF('Raw data'!$H$31=\"single\",'Raw data'!L61,IF('Raw data'!$H$31=\"replicate\",'Raw data'!H61,'Raw data'!D61))","v":0},null,{"$f":"IF(F31=\"\",\"\",F31/'Raw data'!$D$8*100)","v":""},{"$f":"IF(F31=\"\",\"\",F31*'Raw data'!$H$8/'Raw data'!$G$8)","v":""},{"$f":"IF(F31=\"\",\"\",((C31*'Raw data'!$G$8)-(D31*'Raw data'!$G$8))/(C31*'Raw data'!$G$8)*100)","v":""},{"$f":"IF(F31=\"\",\"\",J31/(J31-'Raw data'!$K$8))","v":""},null,{"$f":"IF(F31=\"\",\"\",F31/'Raw data'!$D$9*100)","v":""},{"$f":"IF(F31=\"\",\"\",F31*'Raw data'!$H$9/'Raw data'!$G$9)","v":""},{"$f":"IF(F31=\"\",\"\",((C31*'Raw data'!$G$9)-(D31*'Raw data'!$G$9))/(C31*'Raw data'!$G$9)*100)","v":""},{"$f":"IF(F31=\"\",\"\",J31/(J31-'Raw data'!$K$9))","v":""},null,{"$f":"IF(F31=\"\",\"\",F31/'Raw data'!$D$11*100)","v":""},{"$f":"IF(F31=\"\",\"\",F31*'Raw data'!$H$11/'Raw data'!$G$11)","v":""},{"$f":"IF(F31=\"\",\"\",((C31*'Raw data'!$G$11)-(D31*'Raw data'!$G$11))/(C31*'Raw data'!$G$11)*100)","v":""},{"$f":"IF(F31=\"\",\"\",J31/(J31-'Raw data'!$K$11))","v":""}]
[null,null,{"$f":"IF('Raw data'!$H$31=\"single\",'Raw data'!K62,IF('Raw data'!$H$31=\"replicate\",'Raw data'!G62,'Raw data'!C62))","v":0},"",{"$f":"IF('Raw data'!$H$31=\"single\",'Raw data'!W62,IF('Raw data'!$H$31=\"replicate\",'Raw data'!V62,'Raw data'!U62))","v":0},"",{"$f":"IF('Raw data'!$H$31=\"single\",Z32,IF('Raw data'!$H$31=\"replicate\",U32,P32))","v":0},null,{"$f":"IF('Raw data'!$H$31=\"single\",AA32,IF('Raw data'!$H$31=\"replicate\",V32,Q32))","v":0},{"$f":"IF('Raw data'!$H$31=\"single\",AB32,IF('Raw data'!$H$31=\"replicate\",W32,R32))","v":0},{"$f":"IF('Raw data'!$H$31=\"single\",AC32,IF('Raw data'!$H$31=\"replicate\",X32,S32))","v":0},null,null,{"$f":"IF('Raw data'!$H$31=\"single\",'Raw data'!L62,IF('Raw data'!$H$31=\"replicate\",'Raw data'!H62,'Raw data'!D62))","v":0},null,{"$f":"IF(F32=\"\",\"\",F32/'Raw data'!$D$8*100)","v":""},{"$f":"IF(F32=\"\",\"\",F32*'Raw data'!$H$8/'Raw data'!$G$8)","v":""},{"$f":"IF(F32=\"\",\"\",((C32*'Raw data'!$G$8)-(D32*'Raw data'!$G$8))/(C32*'Raw data'!$G$8)*100)","v":""},{"$f":"IF(F32=\"\",\"\",J32/(J32-'Raw data'!$K$8))","v":""},null,{"$f":"IF(F32=\"\",\"\",F32/'Raw data'!$D$9*100)","v":""},{"$f":"IF(F32=\"\",\"\",F32*'Raw data'!$H$9/'Raw data'!$G$9)","v":""},{"$f":"IF(F32=\"\",\"\",((C32*'Raw data'!$G$9)-(D32*'Raw data'!$G$9))/(C32*'Raw data'!$G$9)*100)","v":""},{"$f":"IF(F32=\"\",\"\",J32/(J32-'Raw data'!$K$9))","v":""}]
[null,null,{"$f":"IF('Raw data'!$H$31=\"single\",'Raw data'!K63,IF('Raw data'!$H$31=\"replicate\",'Raw data'!G63,'Raw data'!C63))","v":0},"",{"$f":"IF('Raw data'!$H$31=\"single\",'Raw data'!W63,IF('Raw data'!$H$31=\"replicate\",'Raw data'!V63,'Raw data'!U63))","v":0},"",{"$f":"IF('Raw data'!$H$31=\"single\",Z33,IF('Raw data'!$H$31=\"replicate\",U33,P33))","v":0},null,{"$f":"IF('Raw data'!$H$31=\"single\",AA33,IF('Raw data'!$H$31=\"replicate\",V33,Q33))","v":0},{"$f":"IF('Raw data'!$H$31=\"single\",AB33,IF('Raw data'!$H$31=\"replicate\",W33,R33))","v":0},{"$f":"IF('Raw data'!$H$31=\"single\",AC33,IF('Raw data'!$H$31=\"replicate\",X33,S33))","v":0},null,null,{"$f":"IF('Raw data'!$H$31=\"single\",'Raw data'!L63,IF('Raw data'!$H$31=\"replicate\",'Raw data'!H63,'Raw data'!D63))","v":0},null,{"$f":"IF(F33=\"\",\"\",F33/'Raw data'!$D$8*100)","v":""},{"$f":"IF(F33=\"\",\"\",F33*'Raw data'!$H$8/'Raw data'!$G$8)","v":""},{"$f":"IF(F33=\"\",\"\",((C33*'Raw data'!$G$8)-(D33*'Raw data'!$G$8))/(C33*'Raw data'!$G$8)*100)","v":""},{"$f":"IF(F33=\"\",\"\",J33/(J33-'Raw data'!$K$8))","v":""},null,{"$f":"IF(F33=\"\",\"\",F33/'Raw data'!$D$9*100)","v":""},{"$f":"IF(F33=\"\",\"\",F33*'Raw data'!$H$9/'Raw data'!$G$9)","v":""},{"$f":"IF(F33=\"\",\"\",((C33*'Raw data'!$G$9)-(D33*'Raw data'!$G$9))/(C33*'Raw data'!$G$9)*100)","v":""},{"$f":"IF(F33=\"\",\"\",J33/(J33-'Raw data'!$K$9))","v":""}]
[null,null,{"$f":"IF('Raw data'!$H$31=\"single\",'Raw data'!K64,IF('Raw data'!$H$31=\"replicate\",'Raw data'!G64,'Raw data'!C64))","v":0},"",{"$f":"IF('Raw data'!$H$31=\"single\",'Raw data'!W64,IF('Raw data'!$H$31=\"replicate\",'Raw data'!V64,'Raw data'!U64))","v":0},"",{"$f":"IF('Raw data'!$H$31=\"single\",Z34,IF('Raw data'!$H$31=\"replicate\",U34,P34))","v":0},null,{"$f":"IF('Raw data'!$H$31=\"single\",AA34,IF('Raw data'!$H$31=\"replicate\",V34,Q34))","v":0},{"$f":"IF('Raw data'!$H$31=\"single\",AB34,IF('Raw data'!$H$31=\"replicate\",W34,R34))","v":0},{"$f":"IF('Raw data'!$H$31=\"single\",AC34,IF('Raw data'!$H$31=\"replicate\",X34,S34))","v":0},null,null,{"$f":"IF('Raw data'!$H$31=\"single\",'Raw data'!L64,IF('Raw data'!$H$31=\"replicate\",'Raw data'!H64,'Raw data'!D64))","v":0},null,{"$f":"IF(F34=\"\",\"\",F34/'Raw data'!$D$8*100)","v":""},{"$f":"IF(F34=\"\",\"\",F34*'Raw data'!$H$8/'Raw data'!$G$8)","v":""},{"$f":"IF(F34=\"\",\"\",((C34*'Raw data'!$G$8)-(D34*'Raw data'!$G$8))/(C34*'Raw data'!$G$8)*100)","v":""},{"$f":"IF(F34=\"\",\"\",J34/(J34-'Raw data'!$K$8))","v":""},null,{"$f":"IF(F34=\"\",\"\",F34/'Raw data'!$D$9*100)","v":""},{"$f":"IF(F34=\"\",\"\",F34*'Raw data'!$H$9/'Raw data'!$G$9)","v":""},{"$f":"IF(F34=\"\",\"\",((C34*'Raw data'!$G$9)-(D34*'Raw data'!$G$9))/(C34*'Raw data'!$G$9)*100)","v":""},{"$f":"IF(F34=\"\",\"\",J34/(J34-'Raw data'!$K$9))","v":""}]
[null,null,{"$f":"IF('Raw data'!$H$31=\"single\",'Raw data'!K65,IF('Raw data'!$H$31=\"replicate\",'Raw data'!G65,'Raw data'!C65))","v":0},"",{"$f":"IF('Raw data'!$H$31=\"single\",'Raw data'!W65,IF('Raw data'!$H$31=\"replicate\",'Raw data'!V65,'Raw data'!U65))","v":0},"",{"$f":"IF('Raw data'!$H$31=\"single\",Z35,IF('Raw data'!$H$31=\"replicate\",U35,P35))","v":0},null,{"$f":"IF('Raw data'!$H$31=\"single\",AA35,IF('Raw data'!$H$31=\"replicate\",V35,Q35))","v":0},{"$f":"IF('Raw data'!$H$31=\"single\",AB35,IF('Raw data'!$H$31=\"replicate\",W35,R35))","v":0},{"$f":"IF('Raw data'!$H$31=\"single\",AC35,IF('Raw data'!$H$31=\"replicate\",X35,S35))","v":0},null,null,{"$f":"IF('Raw data'!$H$31=\"single\",'Raw data'!L65,IF('Raw data'!$H$31=\"replicate\",'Raw data'!H65,'Raw data'!D65))","v":0},null,{"$f":"IF(F35=\"\",\"\",F35/'Raw data'!$D$8*100)","v":""},{"$f":"IF(F35=\"\",\"\",F35*'Raw data'!$H$8/'Raw data'!$G$8)","v":""},{"$f":"IF(F35=\"\",\"\",((C35*'Raw data'!$G$8)-(D35*'Raw data'!$G$8))/(C35*'Raw data'!$G$8)*100)","v":""},{"$f":"IF(F35=\"\",\"\",J35/(J35-'Raw data'!$K$8))","v":""},null,{"$f":"IF(F35=\"\",\"\",F35/'Raw data'!$D$9*100)","v":""},{"$f":"IF(F35=\"\",\"\",F35*'Raw data'!$H$9/'Raw data'!$G$9)","v":""},{"$f":"IF(F35=\"\",\"\",((C35*'Raw data'!$G$9)-(D35*'Raw data'!$G$9))/(C35*'Raw data'!$G$9)*100)","v":""},{"$f":"IF(F35=\"\",\"\",J35/(J35-'Raw data'!$K$9))","v":""}]
[null,null,{"$f":"IF('Raw data'!$H$31=\"single\",'Raw data'!K66,IF('Raw data'!$H$31=\"replicate\",'Raw data'!G66,'Raw data'!C66))","v":0},"",{"$f":"IF('Raw data'!$H$31=\"single\",'Raw data'!W66,IF('Raw data'!$H$31=\"replicate\",'Raw data'!V66,'Raw data'!U66))","v":0},"",{"$f":"IF('Raw data'!$H$31=\"single\",Z36,IF('Raw data'!$H$31=\"replicate\",U36,P36))","v":0},null,{"$f":"IF('Raw data'!$H$31=\"single\",AA36,IF('Raw data'!$H$31=\"replicate\",V36,Q36))","v":0},{"$f":"IF('Raw data'!$H$31=\"single\",AB36,IF('Raw data'!$H$31=\"replicate\",W36,R36))","v":0},{"$f":"IF('Raw data'!$H$31=\"single\",AC36,IF('Raw data'!$H$31=\"replicate\",X36,S36))","v":0},null,null,{"$f":"IF('Raw data'!$H$31=\"single\",'Raw data'!L66,IF('Raw data'!$H$31=\"replicate\",'Raw data'!H66,'Raw data'!D66))","v":0},null,{"$f":"IF(F36=\"\",\"\",F36/'Raw data'!$D$8*100)","v":""},{"$f":"IF(F36=\"\",\"\",F36*'Raw data'!$H$8/'Raw data'!$G$8)","v":""},{"$f":"IF(F36=\"\",\"\",((C36*'Raw data'!$G$8)-(D36*'Raw data'!$G$8))/(C36*'Raw data'!$G$8)*100)","v":""},{"$f":"IF(F36=\"\",\"\",J36/(J36-'Raw data'!$K$8))","v":""},null,{"$f":"IF(F36=\"\",\"\",F36/'Raw data'!$D$9*100)","v":""},{"$f":"IF(F36=\"\",\"\",F36*'Raw data'!$H$9/'Raw data'!$G$9)","v":""},{"$f":"IF(F36=\"\",\"\",((C36*'Raw data'!$G$9)-(D36*'Raw data'!$G$9))/(C36*'Raw data'!$G$9)*100)","v":""},{"$f":"IF(F36=\"\",\"\",J36/(J36-'Raw data'!$K$9))","v":""}]
[null,{"$f":"IF('Raw data'!H31=\"replicate\",'Raw data'!C24,IF('Raw data'!H31=\"triplicate\",'Raw data'!C23,\"\"))","v":""},{"$f":"IF('Raw data'!$H$31=\"single\",'Raw data'!K67,IF('Raw data'!$H$31=\"replicate\",'Raw data'!G67,'Raw data'!C67))","v":0},"",{"$f":"IF('Raw data'!$H$31=\"single\",'Raw data'!W67,IF('Raw data'!$H$31=\"replicate\",'Raw data'!V67,'Raw data'!U67))","v":0},"",{"$f":"IF('Raw data'!$H$31=\"single\",Z37,IF('Raw data'!$H$31=\"replicate\",U37,P37))","v":0},null,{"$f":"IF('Raw data'!$H$31=\"single\",AA37,IF('Raw data'!$H$31=\"replicate\",V37,Q37))","v":0},{"$f":"IF('Raw data'!$H$31=\"single\",AB37,IF('Raw data'!$H$31=\"replicate\",W37,R37))","v":0},{"$f":"IF('Raw data'!$H$31=\"single\",AC37,IF('Raw data'!$H$31=\"replicate\",X37,S37))","v":0},null,null,{"$f":"IF('Raw data'!$H$31=\"single\",'Raw data'!L67,IF('Raw data'!$H$31=\"replicate\",'Raw data'!H67,'Raw data'!D67))","v":0},null,{"$f":"IF(F37=\"\",\"\",F37/'Raw data'!$D$9*100)","v":""},{"$f":"IF(F37=\"\",\"\",F37*'Raw data'!$H$9/'Raw data'!$G$9)","v":""},{"$f":"IF(F37=\"\",\"\",((C37*'Raw data'!$G$9)-(D37*'Raw data'!$G$9))/(C37*'Raw data'!$G$9)*100)","v":""},{"$f":"IF(F37=\"\",\"\",J37/(J37-'Raw data'!$K$9))","v":""},null,{"$f":"IF(F37=\"\",\"\",F37/'Raw data'!$D$10*100)","v":""},{"$f":"IF(F37=\"\",\"\",F37*'Raw data'!$H$10/'Raw data'!$G$10)","v":""},{"$f":"IF(F37=\"\",\"\",((C37*'Raw data'!$G$10)-(D37*'Raw data'!$G$10))/(C37*'Raw data'!$G$10)*100)","v":""},{"$f":"IF(F37=\"\",\"\",J37/(J37-'Raw data'!$K$10))","v":""}]
[null,null,{"$f":"IF('Raw data'!$H$31=\"single\",'Raw data'!K68,IF('Raw data'!$H$31=\"replicate\",'Raw data'!G68,'Raw data'!C68))","v":0},"",{"$f":"IF('Raw data'!$H$31=\"single\",'Raw data'!W68,IF('Raw data'!$H$31=\"replicate\",'Raw data'!V68,'Raw data'!U68))","v":0},"",{"$f":"IF('Raw data'!$H$31=\"single\",Z38,IF('Raw data'!$H$31=\"replicate\",U38,P38))","v":0},null,{"$f":"IF('Raw data'!$H$31=\"single\",AA38,IF('Raw data'!$H$31=\"replicate\",V38,Q38))","v":0},{"$f":"IF('Raw data'!$H$31=\"single\",AB38,IF('Raw data'!$H$31=\"replicate\",W38,R38))","v":0},{"$f":"IF('Raw data'!$H$31=\"single\",AC38,IF('Raw data'!$H$31=\"replicate\",X38,S38))","v":0},null,null,{"$f":"IF('Raw data'!$H$31=\"single\",'Raw data'!L68,IF('Raw data'!$H$31=\"replicate\",'Raw data'!H68,'Raw data'!D68))","v":0},null,{"$f":"IF(F38=\"\",\"\",F38/'Raw data'!$D$9*100)","v":""},{"$f":"IF(F38=\"\",\"\",F38*'Raw data'!$H$9/'Raw data'!$G$9)","v":""},{"$f":"IF(F38=\"\",\"\",((C38*'Raw data'!$G$9)-(D38*'Raw data'!$G$9))/(C38*'Raw data'!$G$9)*100)","v":""},{"$f":"IF(F38=\"\",\"\",J38/(J38-'Raw data'!$K$9))","v":""},null,{"$f":"IF(F38=\"\",\"\",F38/'Raw data'!$D$10*100)","v":""},{"$f":"IF(F38=\"\",\"\",F38*'Raw data'!$H$10/'Raw data'!$G$10)","v":""},{"$f":"IF(F38=\"\",\"\",((C38*'Raw data'!$G$10)-(D38*'Raw data'!$G$10))/(C38*'Raw data'!$G$10)*100)","v":""},{"$f":"IF(F38=\"\",\"\",J38/(J38-'Raw data'!$K$10))","v":""}]
[null,null,{"$f":"IF('Raw data'!$H$31=\"single\",'Raw data'!K69,IF('Raw data'!$H$31=\"replicate\",'Raw data'!G69,'Raw data'!C69))","v":0},"",{"$f":"IF('Raw data'!$H$31=\"single\",'Raw data'!W69,IF('Raw data'!$H$31=\"replicate\",'Raw data'!V69,'Raw data'!U69))","v":0},"",{"$f":"IF('Raw data'!$H$31=\"single\",Z39,IF('Raw data'!$H$31=\"replicate\",U39,P39))","v":0},null,{"$f":"IF('Raw data'!$H$31=\"single\",AA39,IF('Raw data'!$H$31=\"replicate\",V39,Q39))","v":0},{"$f":"IF('Raw data'!$H$31=\"single\",AB39,IF('Raw data'!$H$31=\"replicate\",W39,R39))","v":0},{"$f":"IF('Raw data'!$H$31=\"single\",AC39,IF('Raw data'!$H$31=\"replicate\",X39,S39))","v":0},null,null,{"$f":"IF('Raw data'!$H$31=\"single\",'Raw data'!L69,IF('Raw data'!$H$31=\"replicate\",'Raw data'!H69,'Raw data'!D69))","v":0},null,{"$f":"IF(F39=\"\",\"\",F39/'Raw data'!$D$9*100)","v":""},{"$f":"IF(F39=\"\",\"\",F39*'Raw data'!$H$9/'Raw data'!$G$9)","v":""},{"$f":"IF(F39=\"\",\"\",((C39*'Raw data'!$G$9)-(D39*'Raw data'!$G$9))/(C39*'Raw data'!$G$9)*100)","v":""},{"$f":"IF(F39=\"\",\"\",J39/(J39-'Raw data'!$K$9))","v":""},null,{"$f":"IF(F39=\"\",\"\",F39/'Raw data'!$D$10*100)","v":""},{"$f":"IF(F39=\"\",\"\",F39*'Raw data'!$H$10/'Raw data'!$G$10)","v":""},{"$f":"IF(F39=\"\",\"\",((C39*'Raw data'!$G$10)-(D39*'Raw data'!$G$10))/(C39*'Raw data'!$G$10)*100)","v":""},{"$f":"IF(F39=\"\",\"\",J39/(J39-'Raw data'!$K$10))","v":""}]
[null,null,{"$f":"IF('Raw data'!$H$31=\"single\",'Raw data'!K70,IF('Raw data'!$H$31=\"replicate\",'Raw data'!G70,'Raw data'!C70))","v":0},"",{"$f":"IF('Raw data'!$H$31=\"single\",'Raw data'!W70,IF('Raw data'!$H$31=\"replicate\",'Raw data'!V70,'Raw data'!U70))","v":0},"",{"$f":"IF('Raw data'!$H$31=\"single\",Z40,IF('Raw data'!$H$31=\"replicate\",U40,P40))","v":0},null,{"$f":"IF('Raw data'!$H$31=\"single\",AA40,IF('Raw data'!$H$31=\"replicate\",V40,Q40))","v":0},{"$f":"IF('Raw data'!$H$31=\"single\",AB40,IF('Raw data'!$H$31=\"replicate\",W40,R40))","v":0},{"$f":"IF('Raw data'!$H$31=\"single\",AC40,IF('Raw data'!$H$31=\"replicate\",X40,S40))","v":0},null,null,{"$f":"IF('Raw data'!$H$31=\"single\",'Raw data'!L70,IF('Raw data'!$H$31=\"replicate\",'Raw data'!H70,'Raw data'!D70))","v":0},null,{"$f":"IF(F40=\"\",\"\",F40/'Raw data'!$D$9*100)","v":""},{"$f":"IF(F40=\"\",\"\",F40*'Raw data'!$H$9/'Raw data'!$G$9)","v":""},{"$f":"IF(F40=\"\",\"\",((C40*'Raw data'!$G$9)-(D40*'Raw data'!$G$9))/(C40*'Raw data'!$G$9)*100)","v":""},{"$f":"IF(F40=\"\",\"\",J40/(J40-'Raw data'!$K$9))","v":""},null,{"$f":"IF(F40=\"\",\"\",F40/'Raw data'!$D$10*100)","v":""},{"$f":"IF(F40=\"\",\"\",F40*'Raw data'!$H$10/'Raw data'!$G$10)","v":""},{"$f":"IF(F40=\"\",\"\",((C40*'Raw data'!$G$10)-(D40*'Raw data'!$G$10))/(C40*'Raw data'!$G$10)*100)","v":""},{"$f":"IF(F40=\"\",\"\",J40/(J40-'Raw data'!$K$10))","v":""}]
[null,null,{"$f":"IF('Raw data'!$H$31=\"single\",'Raw data'!K71,IF('Raw data'!$H$31=\"replicate\",'Raw data'!G71,'Raw data'!C71))","v":0},"",{"$f":"IF('Raw data'!$H$31=\"single\",'Raw data'!W71,IF('Raw data'!$H$31=\"replicate\",'Raw data'!V71,'Raw data'!U71))","v":0},"",{"$f":"IF('Raw data'!$H$31=\"single\",Z41,IF('Raw data'!$H$31=\"replicate\",U41,P41))","v":0},null,{"$f":"IF('Raw data'!$H$31=\"single\",AA41,IF('Raw data'!$H$31=\"replicate\",V41,Q41))","v":0},{"$f":"IF('Raw data'!$H$31=\"single\",AB41,IF('Raw data'!$H$31=\"replicate\",W41,R41))","v":0},{"$f":"IF('Raw data'!$H$31=\"single\",AC41,IF('Raw data'!$H$31=\"replicate\",X41,S41))","v":0},null,null,{"$f":"IF('Raw data'!$H$31=\"single\",'Raw data'!L71,IF('Raw data'!$H$31=\"replicate\",'Raw data'!H71,'Raw data'!D71))","v":0},null,{"$f":"IF(F41=\"\",\"\",F41/'Raw data'!$D$9*100)","v":""},{"$f":"IF(F41=\"\",\"\",F41*'Raw data'!$H$9/'Raw data'!$G$9)","v":""},{"$f":"IF(F41=\"\",\"\",((C41*'Raw data'!$G$9)-(D41*'Raw data'!$G$9))/(C41*'Raw data'!$G$9)*100)","v":""},{"$f":"IF(F41=\"\",\"\",J41/(J41-'Raw data'!$K$9))","v":""},null,{"$f":"IF(F41=\"\",\"\",F41/'Raw data'!$D$10*100)","v":""},{"$f":"IF(F41=\"\",\"\",F41*'Raw data'!$H$10/'Raw data'!$G$10)","v":""},{"$f":"IF(F41=\"\",\"\",((C41*'Raw data'!$G$10)-(D41*'Raw data'!$G$10))/(C41*'Raw data'!$G$10)*100)","v":""},{"$f":"IF(F41=\"\",\"\",J41/(J41-'Raw data'!$K$10))","v":""}]
[null,null,{"$f":"IF('Raw data'!$H$31=\"single\",'Raw data'!K72,IF('Raw data'!$H$31=\"replicate\",'Raw data'!G72,'Raw data'!C72))","v":0},"",{"$f":"IF('Raw data'!$H$31=\"single\",'Raw data'!W72,IF('Raw data'!$H$31=\"replicate\",'Raw data'!V72,'Raw data'!U72))","v":0},"",{"$f":"IF('Raw data'!$H$31=\"single\",Z42,IF('Raw data'!$H$31=\"replicate\",U42,P42))","v":0},null,{"$f":"IF('Raw data'!$H$31=\"single\",AA42,IF('Raw data'!$H$31=\"replicate\",V42,Q42))","v":0},{"$f":"IF('Raw data'!$H$31=\"single\",AB42,IF('Raw data'!$H$31=\"replicate\",W42,R42))","v":0},{"$f":"IF('Raw data'!$H$31=\"single\",AC42,IF('Raw data'!$H$31=\"replicate\",X42,S42))","v":0},null,null,{"$f":"IF('Raw data'!$H$31=\"single\",'Raw data'!L72,IF('Raw data'!$H$31=\"replicate\",'Raw data'!H72,'Raw data'!D72))","v":0},null,{"$f":"IF(F42=\"\",\"\",F42/'Raw data'!$D$9*100)","v":""},{"$f":"IF(F42=\"\",\"\",F42*'Raw data'!$H$9/'Raw data'!$G$9)","v":""},{"$f":"IF(F42=\"\",\"\",((C42*'Raw data'!$G$9)-(D42*'Raw data'!$G$9))/(C42*'Raw data'!$G$9)*100)","v":""},{"$f":"IF(F42=\"\",\"\",J42/(J42-'Raw data'!$K$9))","v":""},null,{"$f":"IF(F42=\"\",\"\",F42/'Raw data'!$D$10*100)","v":""},{"$f":"IF(F42=\"\",\"\",F42*'Raw data'!$H$10/'Raw data'!$G$10)","v":""},{"$f":"IF(F42=\"\",\"\",((C42*'Raw data'!$G$10)-(D42*'Raw data'!$G$10))/(C42*'Raw data'!$G$10)*100)","v":""},{"$f":"IF(F42=\"\",\"\",J42/(J42-'Raw data'!$K$10))","v":""}]
[null,null,{"$f":"IF('Raw data'!$H$31=\"single\",'Raw data'!K73,IF('Raw data'!$H$31=\"replicate\",'Raw data'!G73,'Raw data'!C73))","v":0},"",{"$f":"IF('Raw data'!$H$31=\"single\",'Raw data'!W73,IF('Raw data'!$H$31=\"replicate\",'Raw data'!V73,'Raw data'!U73))","v":0},"",{"$f":"IF('Raw data'!$H$31=\"single\",Z43,IF('Raw data'!$H$31=\"replicate\",U43,P43))","v":0},null,{"$f":"IF('Raw data'!$H$31=\"single\",AA43,IF('Raw data'!$H$31=\"replicate\",V43,Q43))","v":0},{"$f":"IF('Raw data'!$H$31=\"single\",AB43,IF('Raw data'!$H$31=\"replicate\",W43,R43))","v":0},{"$f":"IF('Raw data'!$H$31=\"single\",AC43,IF('Raw data'!$H$31=\"replicate\",X43,S43))","v":0},null,null,{"$f":"IF('Raw data'!$H$31=\"single\",'Raw data'!L73,IF('Raw data'!$H$31=\"replicate\",'Raw data'!H73,'Raw data'!D73))","v":0},null,{"$f":"IF(F43=\"\",\"\",F43/'Raw data'!$D$9*100)","v":""},{"$f":"IF(F43=\"\",\"\",F43*'Raw data'!$H$9/'Raw data'!$G$9)","v":""},{"$f":"IF(F43=\"\",\"\",((C43*'Raw data'!$G$9)-(D43*'Raw data'!$G$9))/(C43*'Raw data'!$G$9)*100)","v":""},{"$f":"IF(F43=\"\",\"\",J43/(J43-'Raw data'!$K$9))","v":""},null,{"$f":"IF(F43=\"\",\"\",F43/'Raw data'!$D$10*100)","v":""},{"$f":"IF(F43=\"\",\"\",F43*'Raw data'!$H$10/'Raw data'!$G$10)","v":""},{"$f":"IF(F43=\"\",\"\",((C43*'Raw data'!$G$10)-(D43*'Raw data'!$G$10))/(C43*'Raw data'!$G$10)*100)","v":""},{"$f":"IF(F43=\"\",\"\",J43/(J43-'Raw data'!$K$10))","v":""}]
[null,null,{"$f":"IF('Raw data'!$H$31=\"single\",'Raw data'!K74,IF('Raw data'!$H$31=\"replicate\",'Raw data'!G74,'Raw data'!C74))","v":0},"",{"$f":"IF('Raw data'!$H$31=\"single\",'Raw data'!W74,IF('Raw data'!$H$31=\"replicate\",'Raw data'!V74,'Raw data'!U74))","v":0},"",{"$f":"IF('Raw data'!$H$31=\"single\",Z44,IF('Raw data'!$H$31=\"replicate\",U44,P44))","v":0},null,{"$f":"IF('Raw data'!$H$31=\"single\",AA44,IF('Raw data'!$H$31=\"replicate\",V44,Q44))","v":0},{"$f":"IF('Raw data'!$H$31=\"single\",AB44,IF('Raw data'!$H$31=\"replicate\",W44,R44))","v":0},{"$f":"IF('Raw data'!$H$31=\"single\",AC44,IF('Raw data'!$H$31=\"replicate\",X44,S44))","v":0},null,null,{"$f":"IF('Raw data'!$H$31=\"single\",'Raw data'!L74,IF('Raw data'!$H$31=\"replicate\",'Raw data'!H74,'Raw data'!D74))","v":0},null,{"$f":"IF(F44=\"\",\"\",F44/'Raw data'!$D$9*100)","v":""},{"$f":"IF(F44=\"\",\"\",F44*'Raw data'!$H$9/'Raw data'!$G$9)","v":""},{"$f":"IF(F44=\"\",\"\",((C44*'Raw data'!$G$9)-(D44*'Raw data'!$G$9))/(C44*'Raw data'!$G$9)*100)","v":""},{"$f":"IF(F44=\"\",\"\",J44/(J44-'Raw data'!$K$9))","v":""},null,{"$f":"IF(F44=\"\",\"\",F44/'Raw data'!$D$10*100)","v":""},{"$f":"IF(F44=\"\",\"\",F44*'Raw data'!$H$10/'Raw data'!$G$10)","v":""},{"$f":"IF(F44=\"\",\"\",((C44*'Raw data'!$G$10)-(D44*'Raw data'!$G$10))/(C44*'Raw data'!$G$10)*100)","v":""},{"$f":"IF(F44=\"\",\"\",J44/(J44-'Raw data'!$K$10))","v":""}]
[null,null,{"$f":"IF('Raw data'!$H$31=\"single\",'Raw data'!K75,IF('Raw data'!$H$31=\"replicate\",'Raw data'!G75,'Raw data'!C75))","v":0},"",{"$f":"IF('Raw data'!$H$31=\"single\",'Raw data'!W75,IF('Raw data'!$H$31=\"replicate\",'Raw data'!V75,'Raw data'!U75))","v":0},"",{"$f":"IF('Raw data'!$H$31=\"single\",Z45,IF('Raw data'!$H$31=\"replicate\",U45,P45))","v":0},null,{"$f":"IF('Raw data'!$H$31=\"single\",AA45,IF('Raw data'!$H$31=\"replicate\",V45,Q45))","v":0},{"$f":"IF('Raw data'!$H$31=\"single\",AB45,IF('Raw data'!$H$31=\"replicate\",W45,R45))","v":0},{"$f":"IF('Raw data'!$H$31=\"single\",AC45,IF('Raw data'!$H$31=\"replicate\",X45,S45))","v":0},null,null,{"$f":"IF('Raw data'!$H$31=\"single\",'Raw data'!L75,IF('Raw data'!$H$31=\"replicate\",'Raw data'!H75,'Raw data'!D75))","v":0},null,{"$f":"IF(F45=\"\",\"\",F45/'Raw data'!$D$9*100)","v":""},{"$f":"IF(F45=\"\",\"\",F45*'Raw data'!$H$9/'Raw data'!$G$9)","v":""},{"$f":"IF(F45=\"\",\"\",((C45*'Raw data'!$G$9)-(D45*'Raw data'!$G$9))/(C45*'Raw data'!$G$9)*100)","v":""},{"$f":"IF(F45=\"\",\"\",J45/(J45-'Raw data'!$K$9))","v":""},null,{"$f":"IF(F45=\"\",\"\",F45/'Raw data'!$D$10*100)","v":""},{"$f":"IF(F45=\"\",\"\",F45*'Raw data'!$H$10/'Raw data'!$G$10)","v":""},{"$f":"IF(F45=\"\",\"\",((C45*'Raw data'!$G$10)-(D45*'Raw data'!$G$10))/(C45*'Raw data'!$G$10)*100)","v":""},{"$f":"IF(F45=\"\",\"\",J45/(J45-'Raw data'!$K$10))","v":""}]
[null,null,{"$f":"IF('Raw data'!$H$31=\"single\",'Raw data'!K76,IF('Raw data'!$H$31=\"replicate\",'Raw data'!G76,'Raw data'!C76))","v":0},"",{"$f":"IF('Raw data'!$H$31=\"single\",'Raw data'!W76,IF('Raw data'!$H$31=\"replicate\",'Raw data'!V76,'Raw data'!U76))","v":0},"",{"$f":"IF('Raw data'!$H$31=\"single\",Z46,IF('Raw data'!$H$31=\"replicate\",U46,P46))","v":0},null,{"$f":"IF('Raw data'!$H$31=\"single\",AA46,IF('Raw data'!$H$31=\"replicate\",V46,Q46))","v":0},{"$f":"IF('Raw data'!$H$31=\"single\",AB46,IF('Raw data'!$H$31=\"replicate\",W46,R46))","v":0},{"$f":"IF('Raw data'!$H$31=\"single\",AC46,IF('Raw data'!$H$31=\"replicate\",X46,S46))","v":0},null,null,{"$f":"IF('Raw data'!$H$31=\"single\",'Raw data'!L76,IF('Raw data'!$H$31=\"replicate\",'Raw data'!H76,'Raw data'!D76))","v":0},null,{"$f":"IF(F46=\"\",\"\",F46/'Raw data'!$D$9*100)","v":""},{"$f":"IF(F46=\"\",\"\",F46*'Raw data'!$H$9/'Raw data'!$G$9)","v":""},{"$f":"IF(F46=\"\",\"\",((C46*'Raw data'!$G$9)-(D46*'Raw data'!$G$9))/(C46*'Raw data'!$G$9)*100)","v":""},{"$f":"IF(F46=\"\",\"\",J46/(J46-'Raw data'!$K$9))","v":""},null,{"$f":"IF(F46=\"\",\"\",F46/'Raw data'!$D$10*100)","v":""},{"$f":"IF(F46=\"\",\"\",F46*'Raw data'!$H$10/'Raw data'!$G$10)","v":""},{"$f":"IF(F46=\"\",\"\",((C46*'Raw data'!$G$10)-(D46*'Raw data'!$G$10))/(C46*'Raw data'!$G$10)*100)","v":""},{"$f":"IF(F46=\"\",\"\",J46/(J46-'Raw data'!$K$10))","v":""}]
[null,{"$f":"IF('Raw data'!H31=\"replicate\",'Raw data'!C25,\"\")","v":""},{"$f":"IF('Raw data'!$H$31=\"single\",'Raw data'!K77,IF('Raw data'!$H$31=\"replicate\",'Raw data'!G77,'Raw data'!C77))","v":0},"",{"$f":"IF('Raw data'!$H$31=\"single\",'Raw data'!W77,IF('Raw data'!$H$31=\"replicate\",'Raw data'!V77,'Raw data'!U77))","v":0},"",{"$f":"IF('Raw data'!$H$31=\"single\",Z47,IF('Raw data'!$H$31=\"replicate\",U47,P47))","v":0},null,{"$f":"IF('Raw data'!$H$31=\"single\",AA47,IF('Raw data'!$H$31=\"replicate\",V47,Q47))","v":0},{"$f":"IF('Raw data'!$H$31=\"single\",AB47,IF('Raw data'!$H$31=\"replicate\",W47,R47))","v":0},{"$f":"IF('Raw data'!$H$31=\"single\",AC47,IF('Raw data'!$H$31=\"replicate\",X47,S47))","v":0},null,null,{"$f":"IF('Raw data'!$H$31=\"single\",'Raw data'!L77,IF('Raw data'!$H$31=\"replicate\",'Raw data'!H77,'Raw data'!D77))","v":0},null,{"$f":"IF(F47=\"\",\"\",F47/'Raw data'!$D$9*100)","v":""},{"$f":"IF(F47=\"\",\"\",F47*'Raw data'!$H$9/'Raw data'!$G$9)","v":""},{"$f":"IF(F47=\"\",\"\",((C47*'Raw data'!$G$9)-(D47*'Raw data'!$G$9))/(C47*'Raw data'!$G$9)*100)","v":""},{"$f":"IF(F47=\"\",\"\",J47/(J47-'Raw data'!$K$9))","v":""},null,{"$f":"IF(F47=\"\",\"\",F47/'Raw data'!$D$11*100)","v":""},{"$f":"IF(F47=\"\",\"\",F47*'Raw data'!$H$11/'Raw data'!$G$11)","v":""},{"$f":"IF(F47=\"\",\"\",((C47*'Raw data'!$G$11)-(D47*'Raw data'!$G$11))/(C47*'Raw data'!$G$11)*100)","v":""},{"$f":"IF(F47=\"\",\"\",J47/(J47-'Raw data'!$K$11))","v":""}]
[null,null,{"$f":"IF('Raw data'!$H$31=\"single\",'Raw data'!K78,IF('Raw data'!$H$31=\"replicate\",'Raw data'!G78,'Raw data'!C78))","v":0},"",{"$f":"IF('Raw data'!$H$31=\"single\",'Raw data'!W78,IF('Raw data'!$H$31=\"replicate\",'Raw data'!V78,'Raw data'!U78))","v":0},"",{"$f":"IF('Raw data'!$H$31=\"single\",Z48,IF('Raw data'!$H$31=\"replicate\",U48,P48))","v":0},null,{"$f":"IF('Raw data'!$H$31=\"single\",AA48,IF('Raw data'!$H$31=\"replicate\",V48,Q48))","v":0},{"$f":"IF('Raw data'!$H$31=\"single\",AB48,IF('Raw data'!$H$31=\"replicate\",W48,R48))","v":0},{"$f":"IF('Raw data'!$H$31=\"single\",AC48,IF('Raw data'!$H$31=\"replicate\",X48,S48))","v":0},null,null,{"$f":"IF('Raw data'!$H$31=\"single\",'Raw data'!L78,IF('Raw data'!$H$31=\"replicate\",'Raw data'!H78,'Raw data'!D78))","v":0},null,{"$f":"IF(F48=\"\",\"\",F48/'Raw data'!$D$9*100)","v":""},{"$f":"IF(F48=\"\",\"\",F48*'Raw data'!$H$9/'Raw data'!$G$9)","v":""},{"$f":"IF(F48=\"\",\"\",((C48*'Raw data'!$G$9)-(D48*'Raw data'!$G$9))/(C48*'Raw data'!$G$9)*100)","v":""},{"$f":"IF(F48=\"\",\"\",J48/(J48-'Raw data'!$K$9))","v":""},null,{"$f":"IF(F48=\"\",\"\",F48/'Raw data'!$D$11*100)","v":""},{"$f":"IF(F48=\"\",\"\",F48*'Raw data'!$H$11/'Raw data'!$G$11)","v":""},{"$f":"IF(F48=\"\",\"\",((C48*'Raw data'!$G$11)-(D48*'Raw data'!$G$11))/(C48*'Raw data'!$G$11)*100)","v":""},{"$f":"IF(F48=\"\",\"\",J48/(J48-'Raw data'!$K$11))","v":""}]
[null,null,{"$f":"IF('Raw data'!$H$31=\"single\",'Raw data'!K79,IF('Raw data'!$H$31=\"replicate\",'Raw data'!G79,'Raw data'!C79))","v":0},"",{"$f":"IF('Raw data'!$H$31=\"single\",'Raw data'!W79,IF('Raw data'!$H$31=\"replicate\",'Raw data'!V79,'Raw data'!U79))","v":0},"",{"$f":"IF('Raw data'!$H$31=\"single\",Z49,IF('Raw data'!$H$31=\"replicate\",U49,P49))","v":0},null,{"$f":"IF('Raw data'!$H$31=\"single\",AA49,IF('Raw data'!$H$31=\"replicate\",V49,Q49))","v":0},{"$f":"IF('Raw data'!$H$31=\"single\",AB49,IF('Raw data'!$H$31=\"replicate\",W49,R49))","v":0},{"$f":"IF('Raw data'!$H$31=\"single\",AC49,IF('Raw data'!$H$31=\"replicate\",X49,S49))","v":0},null,null,{"$f":"IF('Raw data'!$H$31=\"single\",'Raw data'!L79,IF('Raw data'!$H$31=\"replicate\",'Raw data'!H79,'Raw data'!D79))","v":0},null,{"$f":"IF(F49=\"\",\"\",F49/'Raw data'!$D$9*100)","v":""},{"$f":"IF(F49=\"\",\"\",F49*'Raw data'!$H$9/'Raw data'!$G$9)","v":""},{"$f":"IF(F49=\"\",\"\",((C49*'Raw data'!$G$9)-(D49*'Raw data'!$G$9))/(C49*'Raw data'!$G$9)*100)","v":""},{"$f":"IF(F49=\"\",\"\",J49/(J49-'Raw data'!$K$9))","v":""},null,{"$f":"IF(F49=\"\",\"\",F49/'Raw data'!$D$11*100)","v":""},{"$f":"IF(F49=\"\",\"\",F49*'Raw data'!$H$11/'Raw data'!$G$11)","v":""},{"$f":"IF(F49=\"\",\"\",((C49*'Raw data'!$G$11)-(D49*'Raw data'!$G$11))/(C49*'Raw data'!$G$11)*100)","v":""},{"$f":"IF(F49=\"\",\"\",J49/(J49-'Raw data'!$K$11))","v":""}]
[null,null,{"$f":"IF('Raw data'!$H$31=\"single\",'Raw data'!K80,IF('Raw data'!$H$31=\"replicate\",'Raw data'!G80,'Raw data'!C80))","v":0},"",{"$f":"IF('Raw data'!$H$31=\"single\",'Raw data'!W80,IF('Raw data'!$H$31=\"replicate\",'Raw data'!V80,'Raw data'!U80))","v":0},"",{"$f":"IF('Raw data'!$H$31=\"single\",Z50,IF('Raw data'!$H$31=\"replicate\",U50,P50))","v":0},null,{"$f":"IF('Raw data'!$H$31=\"single\",AA50,IF('Raw data'!$H$31=\"replicate\",V50,Q50))","v":0},{"$f":"IF('Raw data'!$H$31=\"single\",AB50,IF('Raw data'!$H$31=\"replicate\",W50,R50))","v":0},{"$f":"IF('Raw data'!$H$31=\"single\",AC50,IF('Raw data'!$H$31=\"replicate\",X50,S50))","v":0},null,null,{"$f":"IF('Raw data'!$H$31=\"single\",'Raw data'!L80,IF('Raw data'!$H$31=\"replicate\",'Raw data'!H80,'Raw data'!D80))","v":0},null,{"$f":"IF(F50=\"\",\"\",F50/'Raw data'!$D$9*100)","v":""},{"$f":"IF(F50=\"\",\"\",F50*'Raw data'!$H$9/'Raw data'!$G$9)","v":""},{"$f":"IF(F50=\"\",\"\",((C50*'Raw data'!$G$9)-(D50*'Raw data'!$G$9))/(C50*'Raw data'!$G$9)*100)","v":""},{"$f":"IF(F50=\"\",\"\",J50/(J50-'Raw data'!$K$9))","v":""},null,{"$f":"IF(F50=\"\",\"\",F50/'Raw data'!$D$11*100)","v":""},{"$f":"IF(F50=\"\",\"\",F50*'Raw data'!$H$11/'Raw data'!$G$11)","v":""},{"$f":"IF(F50=\"\",\"\",((C50*'Raw data'!$G$11)-(D50*'Raw data'!$G$11))/(C50*'Raw data'!$G$11)*100)","v":""},{"$f":"IF(F50=\"\",\"\",J50/(J50-'Raw data'!$K$11))","v":""}]
[null,null,{"$f":"IF('Raw data'!$H$31=\"single\",'Raw data'!K81,IF('Raw data'!$H$31=\"replicate\",'Raw data'!G81,'Raw data'!C81))","v":0},"",{"$f":"IF('Raw data'!$H$31=\"single\",'Raw data'!W81,IF('Raw data'!$H$31=\"replicate\",'Raw data'!V81,'Raw data'!U81))","v":0},"",{"$f":"IF('Raw data'!$H$31=\"single\",Z51,IF('Raw data'!$H$31=\"replicate\",U51,P51))","v":0},null,{"$f":"IF('Raw data'!$H$31=\"single\",AA51,IF('Raw data'!$H$31=\"replicate\",V51,Q51))","v":0},{"$f":"IF('Raw data'!$H$31=\"single\",AB51,IF('Raw data'!$H$31=\"replicate\",W51,R51))","v":0},{"$f":"IF('Raw data'!$H$31=\"single\",AC51,IF('Raw data'!$H$31=\"replicate\",X51,S51))","v":0},null,null,{"$f":"IF('Raw data'!$H$31=\"single\",'Raw data'!L81,IF('Raw data'!$H$31=\"replicate\",'Raw data'!H81,'Raw data'!D81))","v":0},null,{"$f":"IF(F51=\"\",\"\",F51/'Raw data'!$D$9*100)","v":""},{"$f":"IF(F51=\"\",\"\",F51*'Raw data'!$H$9/'Raw data'!$G$9)","v":""},{"$f":"IF(F51=\"\",\"\",((C51*'Raw data'!$G$9)-(D51*'Raw data'!$G$9))/(C51*'Raw data'!$G$9)*100)","v":""},{"$f":"IF(F51=\"\",\"\",J51/(J51-'Raw data'!$K$9))","v":""},null,{"$f":"IF(F51=\"\",\"\",F51/'Raw data'!$D$11*100)","v":""},{"$f":"IF(F51=\"\",\"\",F51*'Raw data'!$H$11/'Raw data'!$G$11)","v":""},{"$f":"IF(F51=\"\",\"\",((C51*'Raw data'!$G$11)-(D51*'Raw data'!$G$11))/(C51*'Raw data'!$G$11)*100)","v":""},{"$f":"IF(F51=\"\",\"\",J51/(J51-'Raw data'!$K$11))","v":""}]
[null,{"$f":"IF('Raw data'!H31=\"triplicate\",'Raw data'!C24,\"\")","v":""},{"$f":"IF('Raw data'!$H$31=\"single\",'Raw data'!K82,IF('Raw data'!$H$31=\"replicate\",'Raw data'!G82,'Raw data'!C82))","v":0},"",{"$f":"IF('Raw data'!$H$31=\"single\",'Raw data'!W82,IF('Raw data'!$H$31=\"replicate\",'Raw data'!V82,'Raw data'!U82))","v":0},"",{"$f":"IF('Raw data'!$H$31=\"single\",Z52,IF('Raw data'!$H$31=\"replicate\",U52,P52))","v":0},null,{"$f":"IF('Raw data'!$H$31=\"single\",AA52,IF('Raw data'!$H$31=\"replicate\",V52,Q52))","v":0},{"$f":"IF('Raw data'!$H$31=\"single\",AB52,IF('Raw data'!$H$31=\"replicate\",W52,R52))","v":0},{"$f":"IF('Raw data'!$H$31=\"single\",AC52,IF('Raw data'!$H$31=\"replicate\",X52,S52))","v":0},null,null,{"$f":"IF('Raw data'!$H$31=\"single\",'Raw data'!L82,IF('Raw data'!$H$31=\"replicate\",'Raw data'!H82,'Raw data'!D82))","v":0},null,{"$f":"IF(F52=\"\",\"\",F52/'Raw data'!$D$10*100)","v":""},{"$f":"IF(F52=\"\",\"\",F52*'Raw data'!$H$10/'Raw data'!$G$10)","v":""},{"$f":"IF(F52=\"\",\"\",((C52*'Raw data'!$G$10)-(D52*'Raw data'!$G$10))/(C52*'Raw data'!$G$10)*100)","v":""},{"$f":"IF(F52=\"\",\"\",J52/(J52-'Raw data'!$K$10))","v":""},null,{"$f":"IF(F52=\"\",\"\",F52/'Raw data'!$D$11*100)","v":""},{"$f":"IF(F52=\"\",\"\",F52*'Raw data'!$H$11/'Raw data'!$G$11)","v":""},{"$f":"IF(F52=\"\",\"\",((C52*'Raw data'!$G$11)-(D52*'Raw data'!$G$11))/(C52*'Raw data'!$G$11)*100)","v":""},{"$f":"IF(F52=\"\",\"\",J52/(J52-'Raw data'!$K$11))","v":""}]
[null,null,{"$f":"IF('Raw data'!$H$31=\"single\",'Raw data'!K83,IF('Raw data'!$H$31=\"replicate\",'Raw data'!G83,'Raw data'!C83))","v":0},"",{"$f":"IF('Raw data'!$H$31=\"single\",'Raw data'!W83,IF('Raw data'!$H$31=\"replicate\",'Raw data'!V83,'Raw data'!U83))","v":0},"",{"$f":"IF('Raw data'!$H$31=\"single\",Z53,IF('Raw data'!$H$31=\"replicate\",U53,P53))","v":0},null,{"$f":"IF('Raw data'!$H$31=\"single\",AA53,IF('Raw data'!$H$31=\"replicate\",V53,Q53))","v":0},{"$f":"IF('Raw data'!$H$31=\"single\",AB53,IF('Raw data'!$H$31=\"replicate\",W53,R53))","v":0},{"$f":"IF('Raw data'!$H$31=\"single\",AC53,IF('Raw data'!$H$31=\"replicate\",X53,S53))","v":0},null,null,{"$f":"IF('Raw data'!$H$31=\"single\",'Raw data'!L83,IF('Raw data'!$H$31=\"replicate\",'Raw data'!H83,'Raw data'!D83))","v":0},null,{"$f":"IF(F53=\"\",\"\",F53/'Raw data'!$D$10*100)","v":""},{"$f":"IF(F53=\"\",\"\",F53*'Raw data'!$H$10/'Raw data'!$G$10)","v":""},{"$f":"IF(F53=\"\",\"\",((C53*'Raw data'!$G$10)-(D53*'Raw data'!$G$10))/(C53*'Raw data'!$G$10)*100)","v":""},{"$f":"IF(F53=\"\",\"\",J53/(J53-'Raw data'!$K$10))","v":""},null,{"$f":"IF(F53=\"\",\"\",F53/'Raw data'!$D$11*100)","v":""},{"$f":"IF(F53=\"\",\"\",F53*'Raw data'!$H$11/'Raw data'!$G$11)","v":""},{"$f":"IF(F53=\"\",\"\",((C53*'Raw data'!$G$11)-(D53*'Raw data'!$G$11))/(C53*'Raw data'!$G$11)*100)","v":""},{"$f":"IF(F53=\"\",\"\",J53/(J53-'Raw data'!$K$11))","v":""}]
[null,null,{"$f":"IF('Raw data'!$H$31=\"single\",'Raw data'!K84,IF('Raw data'!$H$31=\"replicate\",'Raw data'!G84,'Raw data'!C84))","v":0},"",{"$f":"IF('Raw data'!$H$31=\"single\",'Raw data'!W84,IF('Raw data'!$H$31=\"replicate\",'Raw data'!V84,'Raw data'!U84))","v":0},"",{"$f":"IF('Raw data'!$H$31=\"single\",Z54,IF('Raw data'!$H$31=\"replicate\",U54,P54))","v":0},null,{"$f":"IF('Raw data'!$H$31=\"single\",AA54,IF('Raw data'!$H$31=\"replicate\",V54,Q54))","v":0},{"$f":"IF('Raw data'!$H$31=\"single\",AB54,IF('Raw data'!$H$31=\"replicate\",W54,R54))","v":0},{"$f":"IF('Raw data'!$H$31=\"single\",AC54,IF('Raw data'!$H$31=\"replicate\",X54,S54))","v":0},null,null,{"$f":"IF('Raw data'!$H$31=\"single\",'Raw data'!L84,IF('Raw data'!$H$31=\"replicate\",'Raw data'!H84,'Raw data'!D84))","v":0},null,{"$f":"IF(F54=\"\",\"\",F54/'Raw data'!$D$10*100)","v":""},{"$f":"IF(F54=\"\",\"\",F54*'Raw data'!$H$10/'Raw data'!$G$10)","v":""},{"$f":"IF(F54=\"\",\"\",((C54*'Raw data'!$G$10)-(D54*'Raw data'!$G$10))/(C54*'Raw data'!$G$10)*100)","v":""},{"$f":"IF(F54=\"\",\"\",J54/(J54-'Raw data'!$K$10))","v":""},null,{"$f":"IF(F54=\"\",\"\",F54/'Raw data'!$D$11*100)","v":""},{"$f":"IF(F54=\"\",\"\",F54*'Raw data'!$H$11/'Raw data'!$G$11)","v":""},{"$f":"IF(F54=\"\",\"\",((C54*'Raw data'!$G$11)-(D54*'Raw data'!$G$11))/(C54*'Raw data'!$G$11)*100)","v":""},{"$f":"IF(F54=\"\",\"\",J54/(J54-'Raw data'!$K$11))","v":""}]
[null,null,{"$f":"IF('Raw data'!$H$31=\"single\",'Raw data'!K85,IF('Raw data'!$H$31=\"replicate\",'Raw data'!G85,'Raw data'!C85))","v":0},"",{"$f":"IF('Raw data'!$H$31=\"single\",'Raw data'!W85,IF('Raw data'!$H$31=\"replicate\",'Raw data'!V85,'Raw data'!U85))","v":0},"",{"$f":"IF('Raw data'!$H$31=\"single\",Z55,IF('Raw data'!$H$31=\"replicate\",U55,P55))","v":0},null,{"$f":"IF('Raw data'!$H$31=\"single\",AA55,IF('Raw data'!$H$31=\"replicate\",V55,Q55))","v":0},{"$f":"IF('Raw data'!$H$31=\"single\",AB55,IF('Raw data'!$H$31=\"replicate\",W55,R55))","v":0},{"$f":"IF('Raw data'!$H$31=\"single\",AC55,IF('Raw data'!$H$31=\"replicate\",X55,S55))","v":0},null,null,{"$f":"IF('Raw data'!$H$31=\"single\",'Raw data'!L85,IF('Raw data'!$H$31=\"replicate\",'Raw data'!H85,'Raw data'!D85))","v":0},null,{"$f":"IF(F55=\"\",\"\",F55/'Raw data'!$D$10*100)","v":""},{"$f":"IF(F55=\"\",\"\",F55*'Raw data'!$H$10/'Raw data'!$G$10)","v":""},{"$f":"IF(F55=\"\",\"\",((C55*'Raw data'!$G$10)-(D55*'Raw data'!$G$10))/(C55*'Raw data'!$G$10)*100)","v":""},{"$f":"IF(F55=\"\",\"\",J55/(J55-'Raw data'!$K$10))","v":""},null,{"$f":"IF(F55=\"\",\"\",F55/'Raw data'!$D$11*100)","v":""},{"$f":"IF(F55=\"\",\"\",F55*'Raw data'!$H$11/'Raw data'!$G$11)","v":""},{"$f":"IF(F55=\"\",\"\",((C55*'Raw data'!$G$11)-(D55*'Raw data'!$G$11))/(C55*'Raw data'!$G$11)*100)","v":""},{"$f":"IF(F55=\"\",\"\",J55/(J55-'Raw data'!$K$11))","v":""}]
[null,null,{"$f":"IF('Raw data'!$H$31=\"single\",'Raw data'!K86,IF('Raw data'!$H$31=\"replicate\",'Raw data'!G86,'Raw data'!C86))","v":0},"",{"$f":"IF('Raw data'!$H$31=\"single\",'Raw data'!W86,IF('Raw data'!$H$31=\"replicate\",'Raw data'!V86,'Raw data'!U86))","v":0},"",{"$f":"IF('Raw data'!$H$31=\"single\",Z56,IF('Raw data'!$H$31=\"replicate\",U56,P56))","v":0},null,{"$f":"IF('Raw data'!$H$31=\"single\",AA56,IF('Raw data'!$H$31=\"replicate\",V56,Q56))","v":0},{"$f":"IF('Raw data'!$H$31=\"single\",AB56,IF('Raw data'!$H$31=\"replicate\",W56,R56))","v":0},{"$f":"IF('Raw data'!$H$31=\"single\",AC56,IF('Raw data'!$H$31=\"replicate\",X56,S56))","v":0},null,null,{"$f":"IF('Raw data'!$H$31=\"single\",'Raw data'!L86,IF('Raw data'!$H$31=\"replicate\",'Raw data'!H86,'Raw data'!D86))","v":0},null,{"$f":"IF(F56=\"\",\"\",F56/'Raw data'!$D$10*100)","v":""},{"$f":"IF(F56=\"\",\"\",F56*'Raw data'!$H$10/'Raw data'!$G$10)","v":""},{"$f":"IF(F56=\"\",\"\",((C56*'Raw data'!$G$10)-(D56*'Raw data'!$G$10))/(C56*'Raw data'!$G$10)*100)","v":""},{"$f":"IF(F56=\"\",\"\",J56/(J56-'Raw data'!$K$10))","v":""},null,{"$f":"IF(F56=\"\",\"\",F56/'Raw data'!$D$11*100)","v":""},{"$f":"IF(F56=\"\",\"\",F56*'Raw data'!$H$11/'Raw data'!$G$11)","v":""},{"$f":"IF(F56=\"\",\"\",((C56*'Raw data'!$G$11)-(D56*'Raw data'!$G$11))/(C56*'Raw data'!$G$11)*100)","v":""},{"$f":"IF(F56=\"\",\"\",J56/(J56-'Raw data'!$K$11))","v":""}]
[null,null,{"$f":"IF('Raw data'!$H$31=\"single\",'Raw data'!K87,IF('Raw data'!$H$31=\"replicate\",'Raw data'!G87,'Raw data'!C87))","v":0},"",{"$f":"IF('Raw data'!$H$31=\"single\",'Raw data'!W87,IF('Raw data'!$H$31=\"replicate\",'Raw data'!V87,'Raw data'!U87))","v":0},"",{"$f":"IF('Raw data'!$H$31=\"single\",Z57,IF('Raw data'!$H$31=\"replicate\",U57,P57))","v":0},null,{"$f":"IF('Raw data'!$H$31=\"single\",AA57,IF('Raw data'!$H$31=\"replicate\",V57,Q57))","v":0},{"$f":"IF('Raw data'!$H$31=\"single\",AB57,IF('Raw data'!$H$31=\"replicate\",W57,R57))","v":0},{"$f":"IF('Raw data'!$H$31=\"single\",AC57,IF('Raw data'!$H$31=\"replicate\",X57,S57))","v":0},null,null,{"$f":"IF('Raw data'!$H$31=\"single\",'Raw data'!L87,IF('Raw data'!$H$31=\"replicate\",'Raw data'!H87,'Raw data'!D87))","v":0},null,{"$f":"IF(F57=\"\",\"\",F57/'Raw data'!$D$10*100)","v":""},{"$f":"IF(F57=\"\",\"\",F57*'Raw data'!$H$10/'Raw data'!$G$10)","v":""},{"$f":"IF(F57=\"\",\"\",((C57*'Raw data'!$G$10)-(D57*'Raw data'!$G$10))/(C57*'Raw data'!$G$10)*100)","v":""},{"$f":"IF(F57=\"\",\"\",J57/(J57-'Raw data'!$K$10))","v":""}]
[null,null,{"$f":"IF('Raw data'!$H$31=\"single\",'Raw data'!K88,IF('Raw data'!$H$31=\"replicate\",'Raw data'!G88,'Raw data'!C88))","v":0},"",{"$f":"IF('Raw data'!$H$31=\"single\",'Raw data'!W88,IF('Raw data'!$H$31=\"replicate\",'Raw data'!V88,'Raw data'!U88))","v":0},"",{"$f":"IF('Raw data'!$H$31=\"single\",Z58,IF('Raw data'!$H$31=\"replicate\",U58,P58))","v":0},null,{"$f":"IF('Raw data'!$H$31=\"single\",AA58,IF('Raw data'!$H$31=\"replicate\",V58,Q58))","v":0},{"$f":"IF('Raw data'!$H$31=\"single\",AB58,IF('Raw data'!$H$31=\"replicate\",W58,R58))","v":0},{"$f":"IF('Raw data'!$H$31=\"single\",AC58,IF('Raw data'!$H$31=\"replicate\",X58,S58))","v":0},null,null,{"$f":"IF('Raw data'!$H$31=\"single\",'Raw data'!L88,IF('Raw data'!$H$31=\"replicate\",'Raw data'!H88,'Raw data'!D88))","v":0},null,{"$f":"IF(F58=\"\",\"\",F58/'Raw data'!$D$10*100)","v":""},{"$f":"IF(F58=\"\",\"\",F58*'Raw data'!$H$10/'Raw data'!$G$10)","v":""},{"$f":"IF(F58=\"\",\"\",((C58*'Raw data'!$G$10)-(D58*'Raw data'!$G$10))/(C58*'Raw data'!$G$10)*100)","v":""},{"$f":"IF(F58=\"\",\"\",J58/(J58-'Raw data'!$K$10))","v":""}]
[null,null,{"$f":"IF('Raw data'!$H$31=\"single\",'Raw data'!K89,IF('Raw data'!$H$31=\"replicate\",'Raw data'!G89,'Raw data'!C89))","v":0},"",{"$f":"IF('Raw data'!$H$31=\"single\",'Raw data'!W89,IF('Raw data'!$H$31=\"replicate\",'Raw data'!V89,'Raw data'!U89))","v":0},"",{"$f":"IF('Raw data'!$H$31=\"single\",Z59,IF('Raw data'!$H$31=\"replicate\",U59,P59))","v":0},null,{"$f":"IF('Raw data'!$H$31=\"single\",AA59,IF('Raw data'!$H$31=\"replicate\",V59,Q59))","v":0},{"$f":"IF('Raw data'!$H$31=\"single\",AB59,IF('Raw data'!$H$31=\"replicate\",W59,R59))","v":0},{"$f":"IF('Raw data'!$H$31=\"single\",AC59,IF('Raw data'!$H$31=\"replicate\",X59,S59))","v":0},null,null,{"$f":"IF('Raw data'!$H$31=\"single\",'Raw data'!L89,IF('Raw data'!$H$31=\"replicate\",'Raw data'!H89,'Raw data'!D89))","v":0},null,{"$f":"IF(F59=\"\",\"\",F59/'Raw data'!$D$10*100)","v":""},{"$f":"IF(F59=\"\",\"\",F59*'Raw data'!$H$10/'Raw data'!$G$10)","v":""},{"$f":"IF(F59=\"\",\"\",((C59*'Raw data'!$G$10)-(D59*'Raw data'!$G$10))/(C59*'Raw data'!$G$10)*100)","v":""},{"$f":"IF(F59=\"\",\"\",J59/(J59-'Raw data'!$K$10))","v":""}]
[null,null,{"$f":"IF('Raw data'!$H$31=\"single\",'Raw data'!K90,IF('Raw data'!$H$31=\"replicate\",'Raw data'!G90,'Raw data'!C90))","v":0},"",{"$f":"IF('Raw data'!$H$31=\"single\",'Raw data'!W90,IF('Raw data'!$H$31=\"replicate\",'Raw data'!V90,'Raw data'!U90))","v":0},"",{"$f":"IF('Raw data'!$H$31=\"single\",Z60,IF('Raw data'!$H$31=\"replicate\",U60,P60))","v":0},null,{"$f":"IF('Raw data'!$H$31=\"single\",AA60,IF('Raw data'!$H$31=\"replicate\",V60,Q60))","v":0},{"$f":"IF('Raw data'!$H$31=\"single\",AB60,IF('Raw data'!$H$31=\"replicate\",W60,R60))","v":0},{"$f":"IF('Raw data'!$H$31=\"single\",AC60,IF('Raw data'!$H$31=\"replicate\",X60,S60))","v":0},null,null,{"$f":"IF('Raw data'!$H$31=\"single\",'Raw data'!L90,IF('Raw data'!$H$31=\"replicate\",'Raw data'!H90,'Raw data'!D90))","v":0},null,{"$f":"IF(F60=\"\",\"\",F60/'Raw data'!$D$10*100)","v":""},{"$f":"IF(F60=\"\",\"\",F60*'Raw data'!$H$10/'Raw data'!$G$10)","v":""},{"$f":"IF(F60=\"\",\"\",((C60*'Raw data'!$G$10)-(D60*'Raw data'!$G$10))/(C60*'Raw data'!$G$10)*100)","v":""},{"$f":"IF(F60=\"\",\"\",J60/(J60-'Raw data'!$K$10))","v":""}]
[null,null,{"$f":"IF('Raw data'!$H$31=\"single\",'Raw data'!K91,IF('Raw data'!$H$31=\"replicate\",'Raw data'!G91,'Raw data'!C91))","v":0},"",{"$f":"IF('Raw data'!$H$31=\"single\",'Raw data'!W91,IF('Raw data'!$H$31=\"replicate\",'Raw data'!V91,'Raw data'!U91))","v":0},"",{"$f":"IF('Raw data'!$H$31=\"single\",Z61,IF('Raw data'!$H$31=\"replicate\",U61,P61))","v":0},null,{"$f":"IF('Raw data'!$H$31=\"single\",AA61,IF('Raw data'!$H$31=\"replicate\",V61,Q61))","v":0},{"$f":"IF('Raw data'!$H$31=\"single\",AB61,IF('Raw data'!$H$31=\"replicate\",W61,R61))","v":0},{"$f":"IF('Raw data'!$H$31=\"single\",AC61,IF('Raw data'!$H$31=\"replicate\",X61,S61))","v":0},null,null,{"$f":"IF('Raw data'!$H$31=\"single\",'Raw data'!L91,IF('Raw data'!$H$31=\"replicate\",'Raw data'!H91,'Raw data'!D91))","v":0},null,{"$f":"IF(F61=\"\",\"\",F61/'Raw data'!$D$10*100)","v":""},{"$f":"IF(F61=\"\",\"\",F61*'Raw data'!$H$10/'Raw data'!$G$10)","v":""},{"$f":"IF(F61=\"\",\"\",((C61*'Raw data'!$G$10)-(D61*'Raw data'!$G$10))/(C61*'Raw data'!$G$10)*100)","v":""},{"$f":"IF(F61=\"\",\"\",J61/(J61-'Raw data'!$K$10))","v":""}]
[null,null,{"$f":"IF('Raw data'!$H$31=\"single\",'Raw data'!K92,IF('Raw data'!$H$31=\"replicate\",'Raw data'!G92,'Raw data'!C92))","v":0},"",{"$f":"IF('Raw data'!$H$31=\"single\",'Raw data'!W92,IF('Raw data'!$H$31=\"replicate\",'Raw data'!V92,'Raw data'!U92))","v":0},"",{"$f":"IF('Raw data'!$H$31=\"single\",Z62,IF('Raw data'!$H$31=\"replicate\",U62,P62))","v":0},null,{"$f":"IF('Raw data'!$H$31=\"single\",AA62,IF('Raw data'!$H$31=\"replicate\",V62,Q62))","v":0},{"$f":"IF('Raw data'!$H$31=\"single\",AB62,IF('Raw data'!$H$31=\"replicate\",W62,R62))","v":0},{"$f":"IF('Raw data'!$H$31=\"single\",AC62,IF('Raw data'!$H$31=\"replicate\",X62,S62))","v":0},null,null,{"$f":"IF('Raw data'!$H$31=\"single\",'Raw data'!L92,IF('Raw data'!$H$31=\"replicate\",'Raw data'!H92,'Raw data'!D92))","v":0},null,{"$f":"IF(F62=\"\",\"\",F62/'Raw data'!$D$10*100)","v":""},{"$f":"IF(F62=\"\",\"\",F62*'Raw data'!$H$10/'Raw data'!$G$10)","v":""},{"$f":"IF(F62=\"\",\"\",((C62*'Raw data'!$G$10)-(D62*'Raw data'!$G$10))/(C62*'Raw data'!$G$10)*100)","v":""},{"$f":"IF(F62=\"\",\"\",J62/(J62-'Raw data'!$K$10))","v":""}]
[null,null,{"$f":"IF('Raw data'!$H$31=\"single\",'Raw data'!K93,IF('Raw data'!$H$31=\"replicate\",'Raw data'!G93,'Raw data'!C93))","v":0},"",{"$f":"IF('Raw data'!$H$31=\"single\",'Raw data'!W93,IF('Raw data'!$H$31=\"replicate\",'Raw data'!V93,'Raw data'!U93))","v":0},"",{"$f":"IF('Raw data'!$H$31=\"single\",Z63,IF('Raw data'!$H$31=\"replicate\",U63,P63))","v":0},null,{"$f":"IF('Raw data'!$H$31=\"single\",AA63,IF('Raw data'!$H$31=\"replicate\",V63,Q63))","v":0},{"$f":"IF('Raw data'!$H$31=\"single\",AB63,IF('Raw data'!$H$31=\"replicate\",W63,R63))","v":0},{"$f":"IF('Raw data'!$H$31=\"single\",AC63,IF('Raw data'!$H$31=\"replicate\",X63,S63))","v":0},null,null,{"$f":"IF('Raw data'!$H$31=\"single\",'Raw data'!L93,IF('Raw data'!$H$31=\"replicate\",'Raw data'!H93,'Raw data'!D93))","v":0},null,{"$f":"IF(F63=\"\",\"\",F63/'Raw data'!$D$10*100)","v":""},{"$f":"IF(F63=\"\",\"\",F63*'Raw data'!$H$10/'Raw data'!$G$10)","v":""},{"$f":"IF(F63=\"\",\"\",((C63*'Raw data'!$G$10)-(D63*'Raw data'!$G$10))/(C63*'Raw data'!$G$10)*100)","v":""},{"$f":"IF(F63=\"\",\"\",J63/(J63-'Raw data'!$K$10))","v":""}]
[null,null,{"$f":"IF('Raw data'!$H$31=\"single\",'Raw data'!K94,IF('Raw data'!$H$31=\"replicate\",'Raw data'!G94,'Raw data'!C94))","v":0},"",{"$f":"IF('Raw data'!$H$31=\"single\",'Raw data'!W94,IF('Raw data'!$H$31=\"replicate\",'Raw data'!V94,'Raw data'!U94))","v":0},"",{"$f":"IF('Raw data'!$H$31=\"single\",Z64,IF('Raw data'!$H$31=\"replicate\",U64,P64))","v":0},null,{"$f":"IF('Raw data'!$H$31=\"single\",AA64,IF('Raw data'!$H$31=\"replicate\",V64,Q64))","v":0},{"$f":"IF('Raw data'!$H$31=\"single\",AB64,IF('Raw data'!$H$31=\"replicate\",W64,R64))","v":0},{"$f":"IF('Raw data'!$H$31=\"single\",AC64,IF('Raw data'!$H$31=\"replicate\",X64,S64))","v":0},null,null,{"$f":"IF('Raw data'!$H$31=\"single\",'Raw data'!L94,IF('Raw data'!$H$31=\"replicate\",'Raw data'!H94,'Raw data'!D94))","v":0},null,{"$f":"IF(F64=\"\",\"\",F64/'Raw data'!$D$10*100)","v":""},{"$f":"IF(F64=\"\",\"\",F64*'Raw data'!$H$10/'Raw data'!$G$10)","v":""},{"$f":"IF(F64=\"\",\"\",((C64*'Raw data'!$G$10)-(D64*'Raw data'!$G$10))/(C64*'Raw data'!$G$10)*100)","v":""},{"$f":"IF(F64=\"\",\"\",J64/(J64-'Raw data'!$K$10))","v":""}]
[null,null,{"$f":"IF('Raw data'!$H$31=\"single\",'Raw data'!K95,IF('Raw data'!$H$31=\"replicate\",'Raw data'!G95,'Raw data'!C95))","v":0},"",{"$f":"IF('Raw data'!$H$31=\"single\",'Raw data'!W95,IF('Raw data'!$H$31=\"replicate\",'Raw data'!V95,'Raw data'!U95))","v":0},"",{"$f":"IF('Raw data'!$H$31=\"single\",Z65,IF('Raw data'!$H$31=\"replicate\",U65,P65))","v":0},null,{"$f":"IF('Raw data'!$H$31=\"single\",AA65,IF('Raw data'!$H$31=\"replicate\",V65,Q65))","v":0},{"$f":"IF('Raw data'!$H$31=\"single\",AB65,IF('Raw data'!$H$31=\"replicate\",W65,R65))","v":0},{"$f":"IF('Raw data'!$H$31=\"single\",AC65,IF('Raw data'!$H$31=\"replicate\",X65,S65))","v":0},null,null,{"$f":"IF('Raw data'!$H$31=\"single\",'Raw data'!L95,IF('Raw data'!$H$31=\"replicate\",'Raw data'!H95,'Raw data'!D95))","v":0},null,{"$f":"IF(F65=\"\",\"\",F65/'Raw data'!$D$10*100)","v":""},{"$f":"IF(F65=\"\",\"\",F65*'Raw data'!$H$10/'Raw data'!$G$10)","v":""},{"$f":"IF(F65=\"\",\"\",((C65*'Raw data'!$G$10)-(D65*'Raw data'!$G$10))/(C65*'Raw data'!$G$10)*100)","v":""},{"$f":"IF(F65=\"\",\"\",J65/(J65-'Raw data'!$K$10))","v":""}]
[null,null,{"$f":"IF('Raw data'!$H$31=\"single\",'Raw data'!K96,IF('Raw data'!$H$31=\"replicate\",'Raw data'!G96,'Raw data'!C96))","v":0},"",{"$f":"IF('Raw data'!$H$31=\"single\",'Raw data'!W96,IF('Raw data'!$H$31=\"replicate\",'Raw data'!V96,'Raw data'!U96))","v":0},"",{"$f":"IF('Raw data'!$H$31=\"single\",Z66,IF('Raw data'!$H$31=\"replicate\",U66,P66))","v":0},null,{"$f":"IF('Raw data'!$H$31=\"single\",AA66,IF('Raw data'!$H$31=\"replicate\",V66,Q66))","v":0},{"$f":"IF('Raw data'!$H$31=\"single\",AB66,IF('Raw data'!$H$31=\"replicate\",W66,R66))","v":0},{"$f":"IF('Raw data'!$H$31=\"single\",AC66,IF('Raw data'!$H$31=\"replicate\",X66,S66))","v":0},null,null,{"$f":"IF('Raw data'!$H$31=\"single\",'Raw data'!L96,IF('Raw data'!$H$31=\"replicate\",'Raw data'!H96,'Raw data'!D96))","v":0},null,{"$f":"IF(F66=\"\",\"\",F66/'Raw data'!$D$10*100)","v":""},{"$f":"IF(F66=\"\",\"\",F66*'Raw data'!$H$10/'Raw data'!$G$10)","v":""},{"$f":"IF(F66=\"\",\"\",((C66*'Raw data'!$G$10)-(D66*'Raw data'!$G$10))/(C66*'Raw data'!$G$10)*100)","v":""},{"$f":"IF(F66=\"\",\"\",J66/(J66-'Raw data'!$K$10))","v":""}]
[null,{"$f":"IF('Raw data'!H31=\"triplicate\",'Raw data'!C25,\"\")","v":""},{"$f":"IF('Raw data'!$H$31=\"single\",'Raw data'!K97,IF('Raw data'!$H$31=\"replicate\",'Raw data'!G97,'Raw data'!C97))","v":0},"",{"$f":"IF('Raw data'!$H$31=\"single\",'Raw data'!W97,IF('Raw data'!$H$31=\"replicate\",'Raw data'!V97,'Raw data'!U97))","v":0},"",{"$f":"IF('Raw data'!$H$31=\"single\",Z67,IF('Raw data'!$H$31=\"replicate\",U67,P67))","v":0},null,{"$f":"IF('Raw data'!$H$31=\"single\",AA67,IF('Raw data'!$H$31=\"replicate\",V67,Q67))","v":0},{"$f":"IF('Raw data'!$H$31=\"single\",AB67,IF('Raw data'!$H$31=\"replicate\",W67,R67))","v":0},{"$f":"IF('Raw data'!$H$31=\"single\",AC67,IF('Raw data'!$H$31=\"replicate\",X67,S67))","v":0},null,null,{"$f":"IF('Raw data'!$H$31=\"single\",'Raw data'!L97,IF('Raw data'!$H$31=\"replicate\",'Raw data'!H97,'Raw data'!D97))","v":0},null,{"$f":"IF(F67=\"\",\"\",F67/'Raw data'!$D$11*100)","v":""},{"$f":"IF(F67=\"\",\"\",F67*'Raw data'!$H$11/'Raw data'!$G$11)","v":""},{"$f":"IF(F67=\"\",\"\",((C67*'Raw data'!$G$11)-(D67*'Raw data'!$G$11))/(C67*'Raw data'!$G$11)*100)","v":""},{"$f":"IF(F67=\"\",\"\",J67/(J67-'Raw data'!$K$11))","v":""}]
[null,null,{"$f":"IF('Raw data'!$H$31=\"single\",'Raw data'!K98,IF('Raw data'!$H$31=\"replicate\",'Raw data'!G98,'Raw data'!C98))","v":0},"",{"$f":"IF('Raw data'!$H$31=\"single\",'Raw data'!W98,IF('Raw data'!$H$31=\"replicate\",'Raw data'!V98,'Raw data'!U98))","v":0},"",{"$f":"IF('Raw data'!$H$31=\"single\",Z68,IF('Raw data'!$H$31=\"replicate\",U68,P68))","v":0},null,{"$f":"IF('Raw data'!$H$31=\"single\",AA68,IF('Raw data'!$H$31=\"replicate\",V68,Q68))","v":0},{"$f":"IF('Raw data'!$H$31=\"single\",AB68,IF('Raw data'!$H$31=\"replicate\",W68,R68))","v":0},{"$f":"IF('Raw data'!$H$31=\"single\",AC68,IF('Raw data'!$H$31=\"replicate\",X68,S68))","v":0},null,null,{"$f":"IF('Raw data'!$H$31=\"single\",'Raw data'!L98,IF('Raw data'!$H$31=\"replicate\",'Raw data'!H98,'Raw data'!D98))","v":0},null,{"$f":"IF(F68=\"\",\"\",F68/'Raw data'!$D$11*100)","v":""},{"$f":"IF(F68=\"\",\"\",F68*'Raw data'!$H$11/'Raw data'!$G$11)","v":""},{"$f":"IF(F68=\"\",\"\",((C68*'Raw data'!$G$11)-(D68*'Raw data'!$G$11))/(C68*'Raw data'!$G$11)*100)","v":""},{"$f":"IF(F68=\"\",\"\",J68/(J68-'Raw data'!$K$11))","v":""}]
[null,null,{"$f":"IF('Raw data'!$H$31=\"single\",'Raw data'!K99,IF('Raw data'!$H$31=\"replicate\",'Raw data'!G99,'Raw data'!C99))","v":0},"",{"$f":"IF('Raw data'!$H$31=\"single\",'Raw data'!W99,IF('Raw data'!$H$31=\"replicate\",'Raw data'!V99,'Raw data'!U99))","v":0},"",{"$f":"IF('Raw data'!$H$31=\"single\",Z69,IF('Raw data'!$H$31=\"replicate\",U69,P69))","v":0},null,{"$f":"IF('Raw data'!$H$31=\"single\",AA69,IF('Raw data'!$H$31=\"replicate\",V69,Q69))","v":0},{"$f":"IF('Raw data'!$H$31=\"single\",AB69,IF('Raw data'!$H$31=\"replicate\",W69,R69))","v":0},{"$f":"IF('Raw data'!$H$31=\"single\",AC69,IF('Raw data'!$H$31=\"replicate\",X69,S69))","v":0},null,null,{"$f":"IF('Raw data'!$H$31=\"single\",'Raw data'!L99,IF('Raw data'!$H$31=\"replicate\",'Raw data'!H99,'Raw data'!D99))","v":0},null,{"$f":"IF(F69=\"\",\"\",F69/'Raw data'!$D$11*100)","v":""},{"$f":"IF(F69=\"\",\"\",F69*'Raw data'!$H$11/'Raw data'!$G$11)","v":""},{"$f":"IF(F69=\"\",\"\",((C69*'Raw data'!$G$11)-(D69*'Raw data'!$G$11))/(C69*'Raw data'!$G$11)*100)","v":""},{"$f":"IF(F69=\"\",\"\",J69/(J69-'Raw data'!$K$11))","v":""}]
[null,null,{"$f":"IF('Raw data'!$H$31=\"single\",'Raw data'!K100,IF('Raw data'!$H$31=\"replicate\",'Raw data'!G100,'Raw data'!C100))","v":0},"",{"$f":"IF('Raw data'!$H$31=\"single\",'Raw data'!W100,IF('Raw data'!$H$31=\"replicate\",'Raw data'!V100,'Raw data'!U100))","v":0},"",{"$f":"IF('Raw data'!$H$31=\"single\",Z70,IF('Raw data'!$H$31=\"replicate\",U70,P70))","v":0},null,{"$f":"IF('Raw data'!$H$31=\"single\",AA70,IF('Raw data'!$H$31=\"replicate\",V70,Q70))","v":0},{"$f":"IF('Raw data'!$H$31=\"single\",AB70,IF('Raw data'!$H$31=\"replicate\",W70,R70))","v":0},{"$f":"IF('Raw data'!$H$31=\"single\",AC70,IF('Raw data'!$H$31=\"replicate\",X70,S70))","v":0},null,null,{"$f":"IF('Raw data'!$H$31=\"single\",'Raw data'!L100,IF('Raw data'!$H$31=\"replicate\",'Raw data'!H100,'Raw data'!D100))","v":0},null,{"$f":"IF(F70=\"\",\"\",F70/'Raw data'!$D$11*100)","v":""},{"$f":"IF(F70=\"\",\"\",F70*'Raw data'!$H$11/'Raw data'!$G$11)","v":""},{"$f":"IF(F70=\"\",\"\",((C70*'Raw data'!$G$11)-(D70*'Raw data'!$G$11))/(C70*'Raw data'!$G$11)*100)","v":""},{"$f":"IF(F70=\"\",\"\",J70/(J70-'Raw data'!$K$11))","v":""}]
[null,null,{"$f":"IF('Raw data'!$H$31=\"single\",'Raw data'!K101,IF('Raw data'!$H$31=\"replicate\",'Raw data'!G101,'Raw data'!C101))","v":0},"",{"$f":"IF('Raw data'!$H$31=\"single\",'Raw data'!W101,IF('Raw data'!$H$31=\"replicate\",'Raw data'!V101,'Raw data'!U101))","v":0},"",{"$f":"IF('Raw data'!$H$31=\"single\",Z71,IF('Raw data'!$H$31=\"replicate\",U71,P71))","v":0},null,{"$f":"IF('Raw data'!$H$31=\"single\",AA71,IF('Raw data'!$H$31=\"replicate\",V71,Q71))","v":0},{"$f":"IF('Raw data'!$H$31=\"single\",AB71,IF('Raw data'!$H$31=\"replicate\",W71,R71))","v":0},{"$f":"IF('Raw data'!$H$31=\"single\",AC71,IF('Raw data'!$H$31=\"replicate\",X71,S71))","v":0},null,null,{"$f":"IF('Raw data'!$H$31=\"single\",'Raw data'!L101,IF('Raw data'!$H$31=\"replicate\",'Raw data'!H101,'Raw data'!D101))","v":0},null,{"$f":"IF(F71=\"\",\"\",F71/'Raw data'!$D$11*100)","v":""},{"$f":"IF(F71=\"\",\"\",F71*'Raw data'!$H$11/'Raw data'!$G$11)","v":""},{"$f":"IF(F71=\"\",\"\",((C71*'Raw data'!$G$11)-(D71*'Raw data'!$G$11))/(C71*'Raw data'!$G$11)*100)","v":""},{"$f":"IF(F71=\"\",\"\",J71/(J71-'Raw data'!$K$11))","v":""}]
[null,null,{"$f":"IF('Raw data'!$H$31=\"single\",'Raw data'!K102,IF('Raw data'!$H$31=\"replicate\",'Raw data'!G102,'Raw data'!C102))","v":0},{"$f":"IF(N72=0,\"\",N72)","v":""},{"$f":"IF('Raw data'!$H$31=\"single\",'Raw data'!W102,IF('Raw data'!$H$31=\"replicate\",'Raw data'!V102,'Raw data'!U102))","v":0},{"$f":"IF(D72=\"\",\"\",E72/D72)","v":""},{"$f":"IF('Raw data'!$H$31=\"single\",Z72,IF('Raw data'!$H$31=\"replicate\",U72,P72))","v":0},null,{"$f":"IF('Raw data'!$H$31=\"single\",AA72,IF('Raw data'!$H$31=\"replicate\",V72,Q72))","v":0},{"$f":"IF('Raw data'!$H$31=\"single\",AB72,IF('Raw data'!$H$31=\"replicate\",W72,R72))","v":0},{"$f":"IF('Raw data'!$H$31=\"single\",AC72,IF('Raw data'!$H$31=\"replicate\",X72,S72))","v":0},null,null,{"$f":"IF('Raw data'!$H$31=\"single\",'Raw data'!L102,IF('Raw data'!$H$31=\"replicate\",'Raw data'!H102,'Raw data'!D102))","v":0},null,{"$f":"IF(F72=\"\",\"\",F72/'Raw data'!$D$11*100)","v":""},{"$f":"IF(F72=\"\",\"\",F72*'Raw data'!$H$11/'Raw data'!$G$11)","v":""},{"$f":"IF(F72=\"\",\"\",((C72*'Raw data'!$G$11)-(D72*'Raw data'!$G$11))/(C72*'Raw data'!$G$11)*100)","v":""},{"$f":"IF(F72=\"\",\"\",J72/(J72-'Raw data'!$K$11))","v":""}]
[null,null,{"$f":"IF('Raw data'!$H$31=\"single\",'Raw data'!K103,IF('Raw data'!$H$31=\"replicate\",'Raw data'!G103,'Raw data'!C103))","v":0},"",{"$f":"IF('Raw data'!$H$31=\"single\",'Raw data'!W103,IF('Raw data'!$H$31=\"replicate\",'Raw data'!V103,'Raw data'!U103))","v":0},"",{"$f":"IF('Raw data'!$H$31=\"single\",Z73,IF('Raw data'!$H$31=\"replicate\",U73,P73))","v":0},null,{"$f":"IF('Raw data'!$H$31=\"single\",AA73,IF('Raw data'!$H$31=\"replicate\",V73,Q73))","v":0},{"$f":"IF('Raw data'!$H$31=\"single\",AB73,IF('Raw data'!$H$31=\"replicate\",W73,R73))","v":0},{"$f":"IF('Raw data'!$H$31=\"single\",AC73,IF('Raw data'!$H$31=\"replicate\",X73,S73))","v":0},null,null,{"$f":"IF('Raw data'!$H$31=\"single\",'Raw data'!L103,IF('Raw data'!$H$31=\"replicate\",'Raw data'!H103,'Raw data'!D103))","v":0},null,{"$f":"IF(F73=\"\",\"\",F73/'Raw data'!$D$11*100)","v":""},{"$f":"IF(F73=\"\",\"\",F73*'Raw data'!$H$11/'Raw data'!$G$11)","v":""},{"$f":"IF(F73=\"\",\"\",((C73*'Raw data'!$G$11)-(D73*'Raw data'!$G$11))/(C73*'Raw data'!$G$11)*100)","v":""},{"$f":"IF(F73=\"\",\"\",J73/(J73-'Raw data'!$K$11))","v":""}]
[null,null,{"$f":"IF('Raw data'!$H$31=\"single\",'Raw data'!K104,IF('Raw data'!$H$31=\"replicate\",'Raw data'!G104,'Raw data'!C104))","v":0},"",{"$f":"IF('Raw data'!$H$31=\"single\",'Raw data'!W104,IF('Raw data'!$H$31=\"replicate\",'Raw data'!V104,'Raw data'!U104))","v":0},"",{"$f":"IF('Raw data'!$H$31=\"single\",Z74,IF('Raw data'!$H$31=\"replicate\",U74,P74))","v":0},null,{"$f":"IF('Raw data'!$H$31=\"single\",AA74,IF('Raw data'!$H$31=\"replicate\",V74,Q74))","v":0},{"$f":"IF('Raw data'!$H$31=\"single\",AB74,IF('Raw data'!$H$31=\"replicate\",W74,R74))","v":0},{"$f":"IF('Raw data'!$H$31=\"single\",AC74,IF('Raw data'!$H$31=\"replicate\",X74,S74))","v":0},null,null,{"$f":"IF('Raw data'!$H$31=\"single\",'Raw data'!L104,IF('Raw data'!$H$31=\"replicate\",'Raw data'!H104,'Raw data'!D104))","v":0},null,{"$f":"IF(F74=\"\",\"\",F74/'Raw data'!$D$11*100)","v":""},{"$f":"IF(F74=\"\",\"\",F74*'Raw data'!$H$11/'Raw data'!$G$11)","v":""},{"$f":"IF(F74=\"\",\"\",((C74*'Raw data'!$G$11)-(D74*'Raw data'!$G$11))/(C74*'Raw data'!$G$11)*100)","v":""},{"$f":"IF(F74=\"\",\"\",J74/(J74-'Raw data'!$K$11))","v":""}]
[null,null,{"$f":"IF('Raw data'!$H$31=\"single\",'Raw data'!K105,IF('Raw data'!$H$31=\"replicate\",'Raw data'!G105,'Raw data'!C105))","v":0},"",{"$f":"IF('Raw data'!$H$31=\"single\",'Raw data'!W105,IF('Raw data'!$H$31=\"replicate\",'Raw data'!V105,'Raw data'!U105))","v":0},"",{"$f":"IF('Raw data'!$H$31=\"single\",Z75,IF('Raw data'!$H$31=\"replicate\",U75,P75))","v":0},null,{"$f":"IF('Raw data'!$H$31=\"single\",AA75,IF('Raw data'!$H$31=\"replicate\",V75,Q75))","v":0},{"$f":"IF('Raw data'!$H$31=\"single\",AB75,IF('Raw data'!$H$31=\"replicate\",W75,R75))","v":0},{"$f":"IF('Raw data'!$H$31=\"single\",AC75,IF('Raw data'!$H$31=\"replicate\",X75,S75))","v":0},null,null,{"$f":"IF('Raw data'!$H$31=\"single\",'Raw data'!L105,IF('Raw data'!$H$31=\"replicate\",'Raw data'!H105,'Raw data'!D105))","v":0},null,{"$f":"IF(F75=\"\",\"\",F75/'Raw data'!$D$11*100)","v":""},{"$f":"IF(F75=\"\",\"\",F75*'Raw data'!$H$11/'Raw data'!$G$11)","v":""},{"$f":"IF(F75=\"\",\"\",((C75*'Raw data'!$G$11)-(D75*'Raw data'!$G$11))/(C75*'Raw data'!$G$11)*100)","v":""},{"$f":"IF(F75=\"\",\"\",J75/(J75-'Raw data'!$K$11))","v":""}]
[null,null,{"$f":"IF('Raw data'!$H$31=\"single\",'Raw data'!K106,IF('Raw data'!$H$31=\"replicate\",'Raw data'!G106,'Raw data'!C106))","v":0},"",{"$f":"IF('Raw data'!$H$31=\"single\",'Raw data'!W106,IF('Raw data'!$H$31=\"replicate\",'Raw data'!V106,'Raw data'!U106))","v":0},"",{"$f":"IF('Raw data'!$H$31=\"single\",Z76,IF('Raw data'!$H$31=\"replicate\",U76,P76))","v":0},null,{"$f":"IF('Raw data'!$H$31=\"single\",AA76,IF('Raw data'!$H$31=\"replicate\",V76,Q76))","v":0},{"$f":"IF('Raw data'!$H$31=\"single\",AB76,IF('Raw data'!$H$31=\"replicate\",W76,R76))","v":0},{"$f":"IF('Raw data'!$H$31=\"single\",AC76,IF('Raw data'!$H$31=\"replicate\",X76,S76))","v":0},null,null,{"$f":"IF('Raw data'!$H$31=\"single\",'Raw data'!L106,IF('Raw data'!$H$31=\"replicate\",'Raw data'!H106,'Raw data'!D106))","v":0},null,{"$f":"IF(F76=\"\",\"\",F76/'Raw data'!$D$11*100)","v":""},{"$f":"IF(F76=\"\",\"\",F76*'Raw data'!$H$11/'Raw data'!$G$11)","v":""},{"$f":"IF(F76=\"\",\"\",((C76*'Raw data'!$G$11)-(D76*'Raw data'!$G$11))/(C76*'Raw data'!$G$11)*100)","v":""},{"$f":"IF(F76=\"\",\"\",J76/(J76-'Raw data'!$K$11))","v":""}]
[null,null,{"$f":"IF('Raw data'!$H$31=\"single\",'Raw data'!K107,IF('Raw data'!$H$31=\"replicate\",'Raw data'!G107,'Raw data'!C107))","v":0},"",{"$f":"IF('Raw data'!$H$31=\"single\",'Raw data'!W107,IF('Raw data'!$H$31=\"replicate\",'Raw data'!V107,'Raw data'!U107))","v":0},"",{"$f":"IF('Raw data'!$H$31=\"single\",Z77,IF('Raw data'!$H$31=\"replicate\",U77,P77))","v":0},null,{"$f":"IF('Raw data'!$H$31=\"single\",AA77,IF('Raw data'!$H$31=\"replicate\",V77,Q77))","v":0},{"$f":"IF('Raw data'!$H$31=\"single\",AB77,IF('Raw data'!$H$31=\"replicate\",W77,R77))","v":0},{"$f":"IF('Raw data'!$H$31=\"single\",AC77,IF('Raw data'!$H$31=\"replicate\",X77,S77))","v":0},null,null,{"$f":"IF('Raw data'!$H$31=\"single\",'Raw data'!L107,IF('Raw data'!$H$31=\"replicate\",'Raw data'!H107,'Raw data'!D107))","v":0},null,{"$f":"IF(F77=\"\",\"\",F77/'Raw data'!$D$11*100)","v":""},{"$f":"IF(F77=\"\",\"\",F77*'Raw data'!$H$11/'Raw data'!$G$11)","v":""},{"$f":"IF(F77=\"\",\"\",((C77*'Raw data'!$G$11)-(D77*'Raw data'!$G$11))/(C77*'Raw data'!$G$11)*100)","v":""},{"$f":"IF(F77=\"\",\"\",J77/(J77-'Raw data'!$K$11))","v":""}]
[null,null,{"$f":"IF('Raw data'!$H$31=\"single\",'Raw data'!K108,IF('Raw data'!$H$31=\"replicate\",'Raw data'!G108,'Raw data'!C108))","v":0},"",{"$f":"IF('Raw data'!$H$31=\"single\",'Raw data'!W108,IF('Raw data'!$H$31=\"replicate\",'Raw data'!V108,'Raw data'!U108))","v":0},"",{"$f":"IF('Raw data'!$H$31=\"single\",Z78,IF('Raw data'!$H$31=\"replicate\",U78,P78))","v":0},null,{"$f":"IF('Raw data'!$H$31=\"single\",AA78,IF('Raw data'!$H$31=\"replicate\",V78,Q78))","v":0},{"$f":"IF('Raw data'!$H$31=\"single\",AB78,IF('Raw data'!$H$31=\"replicate\",W78,R78))","v":0},{"$f":"IF('Raw data'!$H$31=\"single\",AC78,IF('Raw data'!$H$31=\"replicate\",X78,S78))","v":0},null,null,{"$f":"IF('Raw data'!$H$31=\"single\",'Raw data'!L108,IF('Raw data'!$H$31=\"replicate\",'Raw data'!H108,'Raw data'!D108))","v":0},null,{"$f":"IF(F78=\"\",\"\",F78/'Raw data'!$D$11*100)","v":""},{"$f":"IF(F78=\"\",\"\",F78*'Raw data'!$H$11/'Raw data'!$G$11)","v":""},{"$f":"IF(F78=\"\",\"\",((C78*'Raw data'!$G$11)-(D78*'Raw data'!$G$11))/(C78*'Raw data'!$G$11)*100)","v":""},{"$f":"IF(F78=\"\",\"\",J78/(J78-'Raw data'!$K$11))","v":""}]
[null,null,{"$f":"IF('Raw data'!$H$31=\"single\",'Raw data'!K109,IF('Raw data'!$H$31=\"replicate\",'Raw data'!G109,'Raw data'!C109))","v":0},"",{"$f":"IF('Raw data'!$H$31=\"single\",'Raw data'!W109,IF('Raw data'!$H$31=\"replicate\",'Raw data'!V109,'Raw data'!U109))","v":0},"",{"$f":"IF('Raw data'!$H$31=\"single\",Z79,IF('Raw data'!$H$31=\"replicate\",U79,P79))","v":0},null,{"$f":"IF('Raw data'!$H$31=\"single\",AA79,IF('Raw data'!$H$31=\"replicate\",V79,Q79))","v":0},{"$f":"IF('Raw data'!$H$31=\"single\",AB79,IF('Raw data'!$H$31=\"replicate\",W79,R79))","v":0},{"$f":"IF('Raw data'!$H$31=\"single\",AC79,IF('Raw data'!$H$31=\"replicate\",X79,S79))","v":0},null,null,{"$f":"IF('Raw data'!$H$31=\"single\",'Raw data'!L109,IF('Raw data'!$H$31=\"replicate\",'Raw data'!H109,'Raw data'!D109))","v":0},null,{"$f":"IF(F79=\"\",\"\",F79/'Raw data'!$D$11*100)","v":""},{"$f":"IF(F79=\"\",\"\",F79*'Raw data'!$H$11/'Raw data'!$G$11)","v":""},{"$f":"IF(F79=\"\",\"\",((C79*'Raw data'!$G$11)-(D79*'Raw data'!$G$11))/(C79*'Raw data'!$G$11)*100)","v":""},{"$f":"IF(F79=\"\",\"\",J79/(J79-'Raw data'!$K$11))","v":""}]
[null,null,{"$f":"IF('Raw data'!$H$31=\"single\",'Raw data'!K110,IF('Raw data'!$H$31=\"replicate\",'Raw data'!G110,'Raw data'!C110))","v":0},"",{"$f":"IF('Raw data'!$H$31=\"single\",'Raw data'!W110,IF('Raw data'!$H$31=\"replicate\",'Raw data'!V110,'Raw data'!U110))","v":0},"",{"$f":"IF('Raw data'!$H$31=\"single\",Z80,IF('Raw data'!$H$31=\"replicate\",U80,P80))","v":0},null,{"$f":"IF('Raw data'!$H$31=\"single\",AA80,IF('Raw data'!$H$31=\"replicate\",V80,Q80))","v":0},{"$f":"IF('Raw data'!$H$31=\"single\",AB80,IF('Raw data'!$H$31=\"replicate\",W80,R80))","v":0},{"$f":"IF('Raw data'!$H$31=\"single\",AC80,IF('Raw data'!$H$31=\"replicate\",X80,S80))","v":0},null,null,{"$f":"IF('Raw data'!$H$31=\"single\",'Raw data'!L110,IF('Raw data'!$H$31=\"replicate\",'Raw data'!H110,'Raw data'!D110))","v":0},null,{"$f":"IF(F80=\"\",\"\",F80/'Raw data'!$D$11*100)","v":""},{"$f":"IF(F80=\"\",\"\",F80*'Raw data'!$H$11/'Raw data'!$G$11)","v":""},{"$f":"IF(F80=\"\",\"\",((C80*'Raw data'!$G$11)-(D80*'Raw data'!$G$11))/(C80*'Raw data'!$G$11)*100)","v":""},{"$f":"IF(F80=\"\",\"\",J80/(J80-'Raw data'!$K$11))","v":""}]
[null,null,{"$f":"IF('Raw data'!$H$31=\"single\",'Raw data'!K111,IF('Raw data'!$H$31=\"replicate\",'Raw data'!G111,'Raw data'!C111))","v":0},"",{"$f":"IF('Raw data'!$H$31=\"single\",'Raw data'!W111,IF('Raw data'!$H$31=\"replicate\",'Raw data'!V111,'Raw data'!U111))","v":0},"",{"$f":"IF('Raw data'!$H$31=\"single\",Z81,IF('Raw data'!$H$31=\"replicate\",U81,P81))","v":0},null,{"$f":"IF('Raw data'!$H$31=\"single\",AA81,IF('Raw data'!$H$31=\"replicate\",V81,Q81))","v":0},{"$f":"IF('Raw data'!$H$31=\"single\",AB81,IF('Raw data'!$H$31=\"replicate\",W81,R81))","v":0},{"$f":"IF('Raw data'!$H$31=\"single\",AC81,IF('Raw data'!$H$31=\"replicate\",X81,S81))","v":0},null,null,{"$f":"IF('Raw data'!$H$31=\"single\",'Raw data'!L111,IF('Raw data'!$H$31=\"replicate\",'Raw data'!H111,'Raw data'!D111))","v":0},null,{"$f":"IF(F81=\"\",\"\",F81/'Raw data'!$D$11*100)","v":""},{"$f":"IF(F81=\"\",\"\",F81*'Raw data'!$H$11/'Raw data'!$G$11)","v":""},{"$f":"IF(F81=\"\",\"\",((C81*'Raw data'!$G$11)-(D81*'Raw data'!$G$11))/(C81*'Raw data'!$G$11)*100)","v":""},{"$f":"IF(F81=\"\",\"\",J81/(J81-'Raw data'!$K$11))","v":""}]
[null,null,null,null,null,null,null,null,null,null,null,null,null,null,null,{"$f":"IF(F82=\"\",\"\",F82/'Raw data'!$D$7*100)","v":""},{"$f":"IF(F82=\"\",\"\",F82*'Raw data'!$H$7/'Raw data'!$G$7)","v":""},{"$f":"IF(F82=\"\",\"\",((C82*'Raw data'!$G$7)-(D82*'Raw data'!$G$7))/(C82*'Raw data'!$G$7)*100)","v":""},{"$f":"IF(F82=\"\",\"\",J82/(J82-'Raw data'!$K$7))","v":""}]

{"sheet":"Summary","index":3,"n_rows":43,"n_cols":50,"rows_kept":43,"cut":false,"hidden":false,"merged":[]}
[]
[null,"Summary and assessment of pH correlation"]
[]
[]
[null,"Soil","Organic carbon (%)","pH","KF,ads","KFoc,ads","1/n","r2",null,null,null,null,null,null,null,null,null,null,null,null,null,null,null,null,null,null,null,null,null,null,null,null,null,null,null,null,null,null,null,null,null,null,null,null,null,null,"Organic carbon (%)","pH","KF,ads","KFOC,ads"]
[]
[null,{"$f":"IF('Raw data'!C7=\"\",\"\",'Raw data'!C7)","v":""},{"$f":"IF('Raw data'!C7=\"\",\"\",'Raw data'!D7)","v":""},{"$f":"IF('Raw data'!C7=\"\",\"\",'Raw data'!E7)","v":""},{"$f":"IF('Soil 1'!F29=\"\",\"\",'Soil 1'!F29)","v":""},{"$f":"IF('Soil 1'!F30=\"\",\"\",'Soil 1'!F30)","v":""},{"$f":"IF('Soil 1'!F31=\"\",\"\",'Soil 1'!F31)","v":""},{"$f":"IF('Soil 1'!D31=\"\",\"\",'Soil 1'!D31)","v":""},null,null,null,null,null,null,null,null,null,null,null,null,null,null,null,null,null,null,null,null,null,null,null,null,null,null,null,null,null,null,null,null,null,null,null,null,null,null,{"$f":"IF(C7=\"\",#N/A,C7)","v":{"$error":"#N/A"}},{"$f":"IF(D7=\"\",#N/A,D7)","v":{"$error":"#N/A"}},{"$f":"IF(E7=\"\",#N/A,E7)","v":{"$error":"#N/A"}},{"$f":"IF(F7=\"\",#N/A,F7)","v":{"$error":"#N/A"}}]
[null,{"$f":"IF('Raw data'!C8=\"\",\"\",'Raw data'!C8)","v":""},{"$f":"IF('Raw data'!C8=\"\",\"\",'Raw data'!D8)","v":""},{"$f":"IF('Raw data'!C8=\"\",\"\",'Raw data'!E8)","v":""},{"$f":"IF('Soil 2'!F29=\"\",\"\",'Soil 2'!F29)","v":""},{"$f":"IF('Soil 2'!F30=\"\",\"\",'Soil 2'!F30)","v":""},{"$f":"IF('Soil 2'!F31=\"\",\"\",'Soil 2'!F31)","v":""},{"$f":"IF('Soil 2'!D31=\"\",\"\",'Soil 2'!D31)","v":""},null,null,null,null,null,null,null,null,null,null,null,null,null,null,null,null,null,null,null,null,null,null,null,null,null,null,null,null,null,null,null,null,null,null,null,null,null,null,{"$f":"IF(C8=\"\",#N/A,C8)","v":{"$error":"#N/A"}},{"$error":"#N/A"},{"$error":"#N/A"},{"$f":"IF(F8=\"\",#N/A,F8)","v":{"$error":"#N/A"}}]
[null,{"$f":"IF('Raw data'!C9=\"\",\"\",'Raw data'!C9)","v":""},{"$f":"IF('Raw data'!C9=\"\",\"\",'Raw data'!D9)","v":""},{"$f":"IF('Raw data'!C9=\"\",\"\",'Raw data'!E9)","v":""},{"$f":"IF('Soil 3'!F29=\"\",\"\",'Soil 3'!F29)","v":""},{"$f":"IF('Soil 3'!F30=\"\",\"\",'Soil 3'!F30)","v":""},{"$f":"IF('Soil 3'!F31=\"\",\"\",'Soil 3'!F31)","v":""},{"$f":"IF('Soil 3'!D31=\"\",\"\",'Soil 3'!D31)","v":""},null,null,null,null,null,null,null,null,null,null,null,null,null,null,null,null,null,null,null,null,null,null,null,null,null,null,null,null,null,null,null,null,null,null,null,null,null,null,{"$error":"#N/A"},{"$error":"#N/A"},{"$error":"#N/A"},{"$f":"IF(F9=\"\",#N/A,F9)","v":{"$error":"#N/A"}}]
[null,{"$f":"IF('Raw data'!C10=\"\",\"\",'Raw data'!C10)","v":""},{"$f":"IF('Raw data'!C10=\"\",\"\",'Raw data'!D10)","v":""},{"$f":"IF('Raw data'!C10=\"\",\"\",'Raw data'!E10)","v":""},{"$f":"IF('Soil 4'!F29=\"\",\"\",'Soil 4'!F29)","v":""},{"$f":"IF('Soil 4'!F30=\"\",\"\",'Soil 4'!F30)","v":""},{"$f":"IF('Soil 4'!F31=\"\",\"\",'Soil 4'!F31)","v":""},{"$f":"IF('Soil 4'!D31=\"\",\"\",'Soil 4'!D31)","v":""},null,null,null,null,null,null,null,null,null,null,null,null,null,null,null,null,null,null,null,null,null,null,null,null,null,null,null,null,null,null,null,null,null,null,null,null,null,null,{"$error":"#N/A"},{"$error":"#N/A"},{"$error":"#N/A"},{"$f":"IF(F10=\"\",#N/A,F10)","v":{"$error":"#N/A"}}]
[null,{"$f":"IF('Raw data'!C11=\"\",\"\",'Raw data'!C11)","v":""},{"$f":"IF('Raw data'!C11=\"\",\"\",'Raw data'!D11)","v":""},{"$f":"IF('Raw data'!C11=\"\",\"\",'Raw data'!E11)","v":""},{"$f":"IF('Soil 5'!F29=\"\",\"\",'Soil 5'!F29)","v":""},{"$f":"IF('Soil 5'!F30=\"\",\"\",'Soil 5'!F30)","v":""},{"$f":"IF('Soil 5'!F31=\"\",\"\",'Soil 5'!F31)","v":""},{"$f":"IF('Soil 5'!D31=\"\",\"\",'Soil 5'!D31)","v":""},null,null,null,null,null,null,null,null,null,null,null,null,null,null,null,null,null,null,null,null,null,null,null,null,null,null,null,null,null,null,null,null,null,null,null,null,null,null,{"$error":"#N/A"},{"$error":"#N/A"},{"$error":"#N/A"},{"$f":"IF(F11=\"\",#N/A,F11)","v":{"$error":"#N/A"}}]
[]
[null,null,"mean",null,{"$f":"AVERAGE(E7:E11)","v":{"$error":"#DIV/0!"}},{"$f":"AVERAGE(F7:F11)","v":{"$error":"#DIV/0!"}},{"$error":"#DIV/0!"}]
[null,null,"geomean",null,{"$f":"GEOMEAN(E7:E11)","v":{"$error":"#NUM!"}},{"$f":"GEOMEAN(F7:F11)","v":{"$error":"#NUM!"}},{"$error":"#NUM!"}]
[]
[]
[]
[]
[null,"Confidence intervals ",null,null,null,null,null,"Correlations"]
[]
[]
[]
[]
[]
[]
[null,"Soil","KF,ads","KF,ads                 (lower 95%)","KF,ads                 (upper 95%)"]
[]
[null,{"$f":"IF('Raw data'!C7=\"\",\"\",'Raw data'!C7)","v":""},{"$f":"IF('Soil 1'!F29=\"\",\"\",'Soil 1'!F29)","v":""},{"$f":"IF(Statistics!G41=0,\"\",IF('Raw data'!$H$31=\"single\",10^(Statistics!AC41),IF('Raw data'!$H$31=\"replicate\",10^(Statistics!R41),10^(Statistics!G41))))","v":""},{"$f":"IF(Statistics!H41=0,\"\",IF('Raw data'!$H$31=\"single\",10^(Statistics!AD41),IF('Raw data'!$H$31=\"replicate\",10^(Statistics!S41),10^(Statistics!H41))))","v":""}]
[null,{"$f":"IF('Raw data'!C8=\"\",\"\",'Raw data'!C8)","v":""},{"$f":"IF('Soil 2'!F29=\"\",\"\",'Soil 2'!F29)","v":""},{"$f":"IF(Statistics!G61=0,\"\",IF('Raw data'!$H$31=\"single\",10^(Statistics!AC61),IF('Raw data'!$H$31=\"replicate\",10^(Statistics!R61),10^(Statistics!G61))))","v":""},{"$f":"IF(Statistics!H61=0,\"\",IF('Raw data'!$H$31=\"single\",10^(Statistics!AD61),IF('Raw data'!$H$31=\"replicate\",10^(Statistics!S61),10^(Statistics!H61))))","v":""}]
[null,{"$f":"IF('Raw data'!C9=\"\",\"\",'Raw data'!C9)","v":""},{"$f":"IF('Soil 3'!F29=\"\",\"\",'Soil 3'!F29)","v":""},{"$f":"IF(Statistics!G81=0,\"\",IF('Raw data'!$H$31=\"single\",10^(Statistics!AC81),IF('Raw data'!$H$31=\"replicate\",10^(Statistics!R81),10^(Statistics!G81))))","v":""},{"$f":"IF(Statistics!H81=0,\"\",IF('Raw data'!$H$31=\"single\",10^(Statistics!AD81),IF('Raw data'!$H$31=\"replicate\",10^(Statistics!S81),10^(Statistics!H81))))","v":""}]
[null,{"$f":"IF('Raw data'!C10=\"\",\"\",'Raw data'!C10)","v":""},{"$f":"IF('Soil 4'!F29=\"\",\"\",'Soil 4'!F29)","v":""},{"$f":"IF(Statistics!G101=0,\"\",IF('Raw data'!$H$31=\"single\",10^(Statistics!AC101),IF('Raw data'!$H$31=\"replicate\",10^(Statistics!R101),10^(Statistics!G101))))","v":""},{"$f":"IF(Statistics!H101=0,\"\",IF('Raw data'!$H$31=\"single\",10^(Statistics!AD101),IF('Raw data'!$H$31=\"replicate\",10^(Statistics!S101),10^(Statistics!H101))))","v":""}]
[null,{"$f":"IF('Raw data'!C11=\"\",\"\",'Raw data'!C11)","v":""},{"$f":"IF('Soil 5'!F29=\"\",\"\",'Soil 5'!F29)","v":""},{"$f":"IF(Statistics!G121=0,\"\",IF('Raw data'!$H$31=\"single\",10^(Statistics!AC121),IF('Raw data'!$H$31=\"replicate\",10^(Statistics!R121),10^(Statistics!G121))))","v":""},{"$f":"IF(Statistics!H121=0,\"\",IF('Raw data'!$H$31=\"single\",10^(Statistics!AD121),IF('Raw data'!$H$31=\"replicate\",10^(Statistics!S121),10^(Statistics!H121))))","v":""}]
[]
[]
[]
[]
[null,"Soil","1/n","1/n                 (lower 95%)","1/n                     (upper 95%)"]
[]
[null,{"$f":"IF('Raw data'!C7=\"\",\"\",'Raw data'!C7)","v":""},{"$f":"IF('Soil 1'!F31=\"\",\"\",'Soil 1'!F31)","v":""},{"$f":"IF(Statistics!G42=0,\"\",IF('Raw data'!$H$31=\"single\",Statistics!AC42,IF('Raw data'!$H$31=\"replicate\", Statistics!R42,Statistics!G42)))","v":""},{"$f":"IF(Statistics!H42=0,\"\",IF('Raw data'!$H$31=\"single\",Statistics!AD42,IF('Raw data'!$H$31=\"replicate\", Statistics!S42,Statistics!H42)))","v":""}]
[null,{"$f":"IF('Raw data'!C8=\"\",\"\",'Raw data'!C8)","v":""},{"$f":"IF('Soil 2'!F31=\"\",\"\",'Soil 2'!F31)","v":""},{"$f":"IF(Statistics!G62=0,\"\",IF('Raw data'!$H$31=\"single\",Statistics!AC62,IF('Raw data'!$H$31=\"replicate\", Statistics!R62,Statistics!G62)))","v":""},{"$f":"IF(Statistics!H62=0,\"\",IF('Raw data'!$H$31=\"single\",Statistics!AD62,IF('Raw data'!$H$31=\"replicate\", Statistics!S62,Statistics!H62)))","v":""}]
[null,{"$f":"IF('Raw data'!C9=\"\",\"\",'Raw data'!C9)","v":""},{"$f":"IF('Soil 3'!F31=\"\",\"\",'Soil 3'!F31)","v":""},{"$f":"IF(Statistics!G82=0,\"\",IF('Raw data'!$H$31=\"single\",Statistics!AC82,IF('Raw data'!$H$31=\"replicate\", Statistics!R82,Statistics!G82)))","v":""},{"$f":"IF(Statistics!H82=0,\"\",IF('Raw data'!$H$31=\"single\",Statistics!AD82,IF('Raw data'!$H$31=\"replicate\", Statistics!S82,Statistics!H82)))","v":""}]
[null,{"$f":"IF('Raw data'!C10=\"\",\"\",'Raw data'!C10)","v":""},{"$f":"IF('Soil 4'!F31=\"\",\"\",'Soil 4'!F31)","v":""},{"$f":"IF(Statistics!G102=0,\"\",IF('Raw data'!$H$31=\"single\",Statistics!AC102,IF('Raw data'!$H$31=\"replicate\", Statistics!R102,Statistics!G102)))","v":""},{"$f":"IF(Statistics!H102=0,\"\",IF('Raw data'!$H$31=\"single\",Statistics!AD102,IF('Raw data'!$H$31=\"replicate\", Statistics!S102,Statistics!H102)))","v":""}]
[null,{"$f":"IF('Raw data'!C11=\"\",\"\",'Raw data'!C11)","v":""},{"$f":"IF('Soil 5'!F31=\"\",\"\",'Soil 5'!F31)","v":""},{"$f":"IF(Statistics!G122=0,\"\",IF('Raw data'!$H$31=\"single\",Statistics!AC122,IF('Raw data'!$H$31=\"replicate\", Statistics!R122,Statistics!G122)))","v":""},{"$f":"IF(Statistics!H122=0,\"\",IF('Raw data'!$H$31=\"single\",Statistics!AD122,IF('Raw data'!$H$31=\"replicate\", Statistics!S122,Statistics!H122)))","v":""}]

{"sheet":"Soil 1","index":4,"n_rows":31,"n_cols":43,"rows_kept":31,"cut":false,"hidden":false,"merged":[]}
[]
[null,"Freundlich adsorption plots for:",null,null,{"$f":"IF('Raw data'!C7=\"\",\"\",'Raw data'!C7)","v":""}]
[]
[]
[null,"Concentration of test solution (µg/mL)","Aqueous phase (µg/mL)","Soil              (µg/g)","Log Caq","Log CS",null,"Log Cs       (fitted curve)","Residuals","RMS of residuals","Cs (fitted)",null,null,null,null,null,null,null,null,null,null,null,null,null,null,null,null,null,null,null,null,null,null,null,null,null,"Aqueous phase (µg/mL)","Soil              (µg/g)","Log Caq","Log CS",null,"Log Cs       (fitted curve)","Residuals"]
[]
[null,{"$f":"IF('Raw data'!$H$31=\"single\",'Initial analysis'!C7,IF('Raw data'!$H$31=\"replicate\",'Initial analysis'!C7,'Initial analysis'!C7))","v":""},{"$f":"IF('Raw data'!$H$31=\"single\",'Initial analysis'!D7,IF('Raw data'!$H$31=\"replicate\",'Initial analysis'!D7,'Initial analysis'!D7))","v":""},{"$f":"IF('Raw data'!$H$31=\"single\",'Initial analysis'!E7,IF('Raw data'!$H$31=\"replicate\",'Initial analysis'!E7,'Initial analysis'!E7))","v":""},{"$f":"IF(C7=\"\",\"\",LOG(C7))","v":""},{"$f":"IF(D7=\"\",\"\",LOG(D7))","v":""},null,{"$f":"IF(C7=\"\",\"\",E7*$D$28+$D$29)","v":""},{"$f":"IF(C7=\"\",\"\",F7-H7)","v":""},{"$f":"IF(C7=\"\",\"\",(I7^2)^0.5)","v":""},{"$f":"IF(C7=\"\",\"\",10^H7)","v":""},null,null,null,null,null,null,null,null,null,null,null,null,null,null,null,null,null,null,null,null,null,null,null,null,null,{"$f":"IF(C7=\"\",#N/A,C7)","v":{"$error":"#N/A"}},{"$f":"IF(D7=\"\",#N/A,D7)","v":{"$error":"#N/A"}},{"$f":"IF(AK7=\"\",#N/A,LOG(AK7))","v":{"$error":"#N/A"}},{"$f":"IF(AL7=\"\",#N/A,LOG(AL7))","v":{"$error":"#N/A"}},null,{"$f":"IF(AK7=\"\",#N/A,AM7*$D$28+$D$29)","v":{"$error":"#N/A"}},{"$f":"IF(AK7=\"\",#N/A,AN7-AP7)","v":{"$error":"#N/A"}}]
[null,{"$f":"IF('Raw data'!$H$31=\"single\",'Initial analysis'!C8,IF('Raw data'!$H$31=\"replicate\",'Initial analysis'!C8,'Initial analysis'!C8))","v":""},{"$f":"IF('Raw data'!$H$31=\"single\",'Initial analysis'!D8,IF('Raw data'!$H$31=\"replicate\",'Initial analysis'!D8,'Initial analysis'!D8))","v":""},{"$f":"IF('Raw data'!$H$31=\"single\",'Initial analysis'!E8,IF('Raw data'!$H$31=\"replicate\",'Initial analysis'!E8,'Initial analysis'!E8))","v":""},{"$f":"IF(C8=\"\",\"\",LOG(C8))","v":""},{"$f":"IF(D8=\"\",\"\",LOG(D8))","v":""},null,"",{"$f":"IF(C8=\"\",\"\",F8-H8)","v":""},{"$f":"IF(C8=\"\",\"\",(I8^2)^0.5)","v":""},{"$f":"IF(C8=\"\",\"\",10^H8)","v":""},null,null,null,null,null,null,null,null,null,null,null,null,null,null,null,null,null,null,null,null,null,null,null,null,null,{"$error":"#N/A"},{"$error":"#N/A"},{"$f":"IF(AK8=\"\",#N/A,LOG(AK8))","v":{"$error":"#N/A"}},{"$error":"#N/A"},null,{"$error":"#N/A"},{"$f":"IF(AK8=\"\",#N/A,AN8-AP8)","v":{"$error":"#N/A"}}]
[null,{"$f":"IF('Raw data'!$H$31=\"single\",'Initial analysis'!C9,IF('Raw data'!$H$31=\"replicate\",'Initial analysis'!C9,'Initial analysis'!C9))","v":""},{"$f":"IF('Raw data'!$H$31=\"single\",'Initial analysis'!D9,IF('Raw data'!$H$31=\"replicate\",'Initial analysis'!D9,'Initial analysis'!D9))","v":""},{"$f":"IF('Raw data'!$H$31=\"single\",'Initial analysis'!E9,IF('Raw data'!$H$31=\"replicate\",'Initial analysis'!E9,'Initial analysis'!E9))","v":""},"","",null,"","","","",null,null,null,null,null,null,null,null,null,null,null,null,null,null,null,null,null,null,null,null,null,null,null,null,null,{"$error":"#N/A"},{"$error":"#N/A"},{"$error":"#N/A"},{"$error":"#N/A"},null,{"$error":"#N/A"},{"$error":"#N/A"}]
[null,{"$f":"IF('Raw data'!$H$31=\"single\",'Initial analysis'!C10,IF('Raw data'!$H$31=\"replicate\",'Initial analysis'!C10,'Initial analysis'!C10))","v":""},{"$f":"IF('Raw data'!$H$31=\"single\",'Initial analysis'!D10,IF('Raw data'!$H$31=\"replicate\",'Initial analysis'!D10,'Initial analysis'!D10))","v":""},{"$f":"IF('Raw data'!$H$31=\"single\",'Initial analysis'!E10,IF('Raw data'!$H$31=\"replicate\",'Initial analysis'!E10,'Initial analysis'!E10))","v":""},"","",null,"","","","",null,null,null,null,null,null,null,null,null,null,null,null,null,null,null,null,null,null,null,null,null,null,null,null,null,{"$error":"#N/A"},{"$error":"#N/A"},{"$error":"#N/A"},{"$error":"#N/A"},null,{"$error":"#N/A"},{"$error":"#N/A"}]
[null,{"$f":"IF('Raw data'!$H$31=\"single\",'Initial analysis'!C11,IF('Raw data'!$H$31=\"replicate\",'Initial analysis'!C11,'Initial analysis'!C11))","v":""},{"$f":"IF('Raw data'!$H$31=\"single\",'Initial analysis'!D11,IF('Raw data'!$H$31=\"replicate\",'Initial analysis'!D11,'Initial analysis'!D11))","v":""},{"$f":"IF('Raw data'!$H$31=\"single\",'Initial analysis'!E11,IF('Raw data'!$H$31=\"replicate\",'Initial analysis'!E11,'Initial analysis'!E11))","v":""},"","",null,"","","","",null,null,null,null,null,null,null,null,null,null,null,null,null,null,null,null,null,null,null,null,null,null,null,null,null,{"$error":"#N/A"},{"$error":"#N/A"},{"$error":"#N/A"},{"$error":"#N/A"},null,{"$error":"#N/A"},{"$error":"#N/A"}]
[null,{"$f":"IF('Raw data'!$H$31=\"single\",\"\",IF('Raw data'!$H$31=\"replicate\",'Initial analysis'!C12,'Initial analysis'!C12))","v":""},{"$f":"IF('Raw data'!$H$31=\"single\",\"\",IF('Raw data'!$H$31=\"replicate\",'Initial analysis'!D12,'Initial analysis'!D12))","v":""},{"$f":"IF('Raw data'!$H$31=\"single\",\"\",IF('Raw data'!$H$31=\"replicate\",'Initial analysis'!E12,'Initial analysis'!E12))","v":""},"","",null,"","","","",null,null,null,null,null,null,null,null,null,null,null,null,null,null,null,null,null,null,null,null,null,null,null,null,null,{"$error":"#N/A"},{"$error":"#N/A"},{"$f":"IF(AK12=\"\",#N/A,LOG(AK12))","v":{"$error":"#N/A"}},{"$f":"IF(AL12=\"\",#N/A,LOG(AL12))","v":{"$error":"#N/A"}},null,{"$error":"#N/A"},{"$f":"IF(AK12=\"\",#N/A,AN12-AP12)","v":{"$error":"#N/A"}}]
[null,{"$f":"IF('Raw data'!$H$31=\"single\",\"\",IF('Raw data'!$H$31=\"replicate\",'Initial analysis'!C13,'Initial analysis'!C13))","v":""},{"$f":"IF('Raw data'!$H$31=\"single\",\"\",IF('Raw data'!$H$31=\"replicate\",'Initial analysis'!D13,'Initial analysis'!D13))","v":""},{"$f":"IF('Raw data'!$H$31=\"single\",\"\",IF('Raw data'!$H$31=\"replicate\",'Initial analysis'!E13,'Initial analysis'!E13))","v":""},"","",null,"","","","",null,null,null,null,null,null,null,null,null,null,null,null,null,null,null,null,null,null,null,null,null,null,null,null,null,{"$error":"#N/A"},{"$error":"#N/A"},{"$error":"#N/A"},{"$error":"#N/A"},null,{"$error":"#N/A"},{"$error":"#N/A"}]
[null,{"$f":"IF('Raw data'!$H$31=\"single\",\"\",IF('Raw data'!$H$31=\"replicate\",'Initial analysis'!C14,'Initial analysis'!C14))","v":""},{"$f":"IF('Raw data'!$H$31=\"single\",\"\",IF('Raw data'!$H$31=\"replicate\",'Initial analysis'!D14,'Initial analysis'!D14))","v":""},{"$f":"IF('Raw data'!$H$31=\"single\",\"\",IF('Raw data'!$H$31=\"replicate\",'Initial analysis'!E14,'Initial analysis'!E14))","v":""},"","",null,"","","","",null,null,null,null,null,null,null,null,null,null,null,null,null,null,null,null,null,null,null,null,null,null,null,null,null,{"$error":"#N/A"},{"$error":"#N/A"},{"$error":"#N/A"},{"$error":"#N/A"},null,{"$error":"#N/A"},{"$error":"#N/A"}]
[null,{"$f":"IF('Raw data'!$H$31=\"single\",\"\",IF('Raw data'!$H$31=\"replicate\",'Initial analysis'!C15,'Initial analysis'!C15))","v":""},{"$f":"IF('Raw data'!$H$31=\"single\",\"\",IF('Raw data'!$H$31=\"replicate\",'Initial analysis'!D15,'Initial analysis'!D15))","v":""},{"$f":"IF('Raw data'!$H$31=\"single\",\"\",IF('Raw data'!$H$31=\"replicate\",'Initial analysis'!E15,'Initial analysis'!E15))","v":""},"","",null,"","","","",null,null,null,null,null,null,null,null,null,null,null,null,null,null,null,null,null,null,null,null,null,null,null,null,null,{"$error":"#N/A"},{"$error":"#N/A"},{"$error":"#N/A"},{"$error":"#N/A"},null,{"$error":"#N/A"},{"$error":"#N/A"}]
[null,{"$f":"IF('Raw data'!$H$31=\"single\",\"\",IF('Raw data'!$H$31=\"replicate\",'Initial analysis'!C16,'Initial analysis'!C16))","v":""},{"$f":"IF('Raw data'!$H$31=\"single\",\"\",IF('Raw data'!$H$31=\"replicate\",'Initial analysis'!D16,'Initial analysis'!D16))","v":""},{"$f":"IF('Raw data'!$H$31=\"single\",\"\",IF('Raw data'!$H$31=\"replicate\",'Initial analysis'!E16,'Initial analysis'!E16))","v":""},"","",null,"","","","",null,null,null,null,null,null,null,null,null,null,null,null,null,null,null,null,null,null,null,null,null,null,null,null,null,{"$error":"#N/A"},{"$error":"#N/A"},{"$error":"#N/A"},{"$error":"#N/A"},null,{"$error":"#N/A"},{"$error":"#N/A"}]
[null,{"$f":"IF('Raw data'!$H$31=\"single\",\"\",IF('Raw data'!$H$31=\"replicate\",\"\",'Initial analysis'!C17))","v":""},{"$f":"IF('Raw data'!$H$31=\"single\",\"\",IF('Raw data'!$H$31=\"replicate\",\"\",'Initial analysis'!D17))","v":""},{"$f":"IF('Raw data'!$H$31=\"single\",\"\",IF('Raw data'!$H$31=\"replicate\",\"\",'Initial analysis'!E17))","v":""},"","",null,"","","","",null,null,null,null,null,null,null,null,null,null,null,null,null,null,null,null,null,null,null,null,null,null,null,null,null,{"$error":"#N/A"},{"$error":"#N/A"},{"$error":"#N/A"},{"$error":"#N/A"},null,{"$error":"#N/A"},{"$error":"#N/A"}]
[null,{"$f":"IF('Raw data'!$H$31=\"single\",\"\",IF('Raw data'!$H$31=\"replicate\",\"\",'Initial analysis'!C18))","v":""},{"$f":"IF('Raw data'!$H$31=\"single\",\"\",IF('Raw data'!$H$31=\"replicate\",\"\",'Initial analysis'!D18))","v":""},{"$f":"IF('Raw data'!$H$31=\"single\",\"\",IF('Raw data'!$H$31=\"replicate\",\"\",'Initial analysis'!E18))","v":""},"","",null,"","","","",null,null,null,null,null,null,null,null,null,null,null,null,null,null,null,null,null,null,null,null,null,null,null,null,null,{"$error":"#N/A"},{"$error":"#N/A"},{"$error":"#N/A"},{"$error":"#N/A"},null,{"$error":"#N/A"},{"$error":"#N/A"}]
[null,{"$f":"IF('Raw data'!$H$31=\"single\",\"\",IF('Raw data'!$H$31=\"replicate\",\"\",'Initial analysis'!C19))","v":""},{"$f":"IF('Raw data'!$H$31=\"single\",\"\",IF('Raw data'!$H$31=\"replicate\",\"\",'Initial analysis'!D19))","v":""},{"$f":"IF('Raw data'!$H$31=\"single\",\"\",IF('Raw data'!$H$31=\"replicate\",\"\",'Initial analysis'!E19))","v":""},"","",null,"","","","",null,null,null,null,null,null,null,null,null,null,null,null,null,null,null,null,null,null,null,null,null,null,null,null,null,{"$error":"#N/A"},{"$error":"#N/A"},{"$error":"#N/A"},{"$error":"#N/A"},null,{"$error":"#N/A"},{"$error":"#N/A"}]
[null,{"$f":"IF('Raw data'!$H$31=\"single\",\"\",IF('Raw data'!$H$31=\"replicate\",\"\",'Initial analysis'!C20))","v":""},{"$f":"IF('Raw data'!$H$31=\"single\",\"\",IF('Raw data'!$H$31=\"replicate\",\"\",'Initial analysis'!D20))","v":""},{"$f":"IF('Raw data'!$H$31=\"single\",\"\",IF('Raw data'!$H$31=\"replicate\",\"\",'Initial analysis'!E20))","v":""},"","",null,"","","","",null,null,null,null,null,null,null,null,null,null,null,null,null,null,null,null,null,null,null,null,null,null,null,null,null,{"$error":"#N/A"},{"$error":"#N/A"},{"$error":"#N/A"},{"$error":"#N/A"},null,{"$error":"#N/A"},{"$error":"#N/A"}]
[null,{"$f":"IF('Raw data'!$H$31=\"single\",\"\",IF('Raw data'!$H$31=\"replicate\",\"\",'Initial analysis'!C21))","v":""},{"$f":"IF('Raw data'!$H$31=\"single\",\"\",IF('Raw data'!$H$31=\"replicate\",\"\",'Initial analysis'!D21))","v":""},{"$f":"IF('Raw data'!$H$31=\"single\",\"\",IF('Raw data'!$H$31=\"replicate\",\"\",'Initial analysis'!E21))","v":""},"","",null,"","","","",null,null,null,null,null,null,null,null,null,null,null,null,null,null,null,null,null,null,null,null,null,null,null,null,null,{"$error":"#N/A"},{"$error":"#N/A"},{"$error":"#N/A"},{"$error":"#N/A"},null,{"$error":"#N/A"},{"$error":"#N/A"}]
[]
[null,null,null,null,null,null,null,null,"SUM",{"$f":"IF('Raw data'!C7=\"\",\"\",SUM(J7:J21))","v":""}]
[]
[]
[null,"Linear plot parameters and derived adsorption values"]
[]
[null,null,"Slope =",{"$f":"IF('Raw data'!C7=\"\",\"\",SLOPE(F7:F21,E7:E21))","v":""},"logKF = ",{"$f":"IF(D29=\"\",\"\",D29)","v":""}]
[null,null,"Intercept =",{"$f":"IF('Raw data'!C7=\"\",\"\",INTERCEPT(F7:F21,E7:E21))","v":""},"KF = ",{"$f":"IF(F28=\"\",\"\",10^(F28))","v":""}]
[null,null,"Correlation coefficient (r) =",{"$f":"IF('Raw data'!C7=\"\",\"\",CORREL(F7:F21,E7:E21))","v":""},"KFoc = ",{"$f":"IF(F29=\"\",\"\",F29*100/'Raw data'!D7)","v":""}]
[null,null,"Coefficent of determination (r2) =",{"$f":"IF(D30=\"\",\"\",D30^2)","v":""},"1/n =",{"$f":"IF(D28=\"\",\"\",D28)","v":""}]

{"sheet":"Soil 2","index":5,"n_rows":31,"n_cols":43,"rows_kept":31,"cut":false,"hidden":false,"merged":[]}
[]
[null,"Freundlich adsorption plots for:",null,null,{"$f":"IF('Raw data'!C8=\"\",\"\",'Raw data'!C8)","v":""}]
[]
[]
[null,"Concentration of test solution (µg/mL)","Aqueous phase (µg/mL)","Soil              (µg/g)","Log Caq","Log CS",null,"Log Cs       (fitted curve)","Residuals","RMS of residuals","Cs (fitted)",null,null,null,null,null,null,null,null,null,null,null,null,null,null,null,null,null,null,null,null,null,null,null,null,null,"Aqueous phase (µg/mL)","Soil              (µg/g)","Log Caq","Log CS",null,"Log Cs       (fitted curve)","Residuals"]
[]
[null,{"$f":"IF('Raw data'!$H$31=\"single\",'Initial analysis'!C12,IF('Raw data'!$H$31=\"replicate\",'Initial analysis'!C17,'Initial analysis'!C22))","v":""},{"$f":"IF('Raw data'!$H$31=\"single\",'Initial analysis'!D12,IF('Raw data'!$H$31=\"replicate\",'Initial analysis'!D17,'Initial analysis'!D22))","v":""},{"$f":"IF('Raw data'!$H$31=\"single\",'Initial analysis'!E12,IF('Raw data'!$H$31=\"replicate\",'Initial analysis'!E17,'Initial analysis'!E22))","v":""},{"$f":"IF(C7=\"\",\"\",LOG(C7))","v":""},{"$f":"IF(D7=\"\",\"\",LOG(D7))","v":""},null,{"$f":"IF(C7=\"\",\"\",E7*$D$28+$D$29)","v":""},{"$f":"IF(C7=\"\",\"\",F7-H7)","v":""},{"$f":"IF(C7=\"\",\"\",(I7^2)^0.5)","v":""},{"$f":"IF(C7=\"\",\"\",10^H7)","v":""},null,null,null,null,null,null,null,null,null,null,null,null,null,null,null,null,null,null,null,null,null,null,null,null,null,{"$f":"IF(C7=\"\",#N/A,C7)","v":{"$error":"#N/A"}},{"$f":"IF(D7=\"\",#N/A,D7)","v":{"$error":"#N/A"}},{"$f":"IF(AK7=\"\",#N/A,LOG(AK7))","v":{"$error":"#N/A"}},{"$f":"IF(AL7=\"\",#N/A,LOG(AL7))","v":{"$error":"#N/A"}},null,{"$f":"IF(AK7=\"\",#N/A,AM7*$D$28+$D$29)","v":{"$error":"#N/A"}},{"$f":"IF(AK7=\"\",#N/A,AN7-AP7)","v":{"$error":"#N/A"}}]
[null,{"$f":"IF('Raw data'!$H$31=\"single\",'Initial analysis'!C13,IF('Raw data'!$H$31=\"replicate\",'Initial analysis'!C18,'Initial analysis'!C23))","v":""},{"$f":"IF('Raw data'!$H$31=\"single\",'Initial analysis'!D13,IF('Raw data'!$H$31=\"replicate\",'Initial analysis'!D18,'Initial analysis'!D23))","v":""},{"$f":"IF('Raw data'!$H$31=\"single\",'Initial analysis'!E13,IF('Raw data'!$H$31=\"replicate\",'Initial analysis'!E18,'Initial analysis'!E23))","v":""},{"$f":"IF(C8=\"\",\"\",LOG(C8))","v":""},"",null,"",{"$f":"IF(C8=\"\",\"\",F8-H8)","v":""},{"$f":"IF(C8=\"\",\"\",(I8^2)^0.5)","v":""},{"$f":"IF(C8=\"\",\"\",10^H8)","v":""},null,null,null,null,null,null,null,null,null,null,null,null,null,null,null,null,null,null,null,null,null,null,null,null,null,{"$error":"#N/A"},{"$error":"#N/A"},{"$f":"IF(AK8=\"\",#N/A,LOG(AK8))","v":{"$error":"#N/A"}},{"$error":"#N/A"},null,{"$error":"#N/A"},{"$f":"IF(AK8=\"\",#N/A,AN8-AP8)","v":{"$error":"#N/A"}}]
[null,{"$f":"IF('Raw data'!$H$31=\"single\",'Initial analysis'!C14,IF('Raw data'!$H$31=\"replicate\",'Initial analysis'!C19,'Initial analysis'!C24))","v":""},{"$f":"IF('Raw data'!$H$31=\"single\",'Initial analysis'!D14,IF('Raw data'!$H$31=\"replicate\",'Initial analysis'!D19,'Initial analysis'!D24))","v":""},{"$f":"IF('Raw data'!$H$31=\"single\",'Initial analysis'!E14,IF('Raw data'!$H$31=\"replicate\",'Initial analysis'!E19,'Initial analysis'!E24))","v":""},"","",null,"","","","",null,null,null,null,null,null,null,null,null,null,null,null,null,null,null,null,null,null,null,null,null,null,null,null,null,{"$error":"#N/A"},{"$error":"#N/A"},{"$error":"#N/A"},{"$error":"#N/A"},null,{"$error":"#N/A"},{"$error":"#N/A"}]
[null,{"$f":"IF('Raw data'!$H$31=\"single\",'Initial analysis'!C15,IF('Raw data'!$H$31=\"replicate\",'Initial analysis'!C20,'Initial analysis'!C25))","v":""},{"$f":"IF('Raw data'!$H$31=\"single\",'Initial analysis'!D15,IF('Raw data'!$H$31=\"replicate\",'Initial analysis'!D20,'Initial analysis'!D25))","v":""},{"$f":"IF('Raw data'!$H$31=\"single\",'Initial analysis'!E15,IF('Raw data'!$H$31=\"replicate\",'Initial analysis'!E20,'Initial analysis'!E25))","v":""},"","",null,"","","","",null,null,null,null,null,null,null,null,null,null,null,null,null,null,null,null,null,null,null,null,null,null,null,null,null,{"$error":"#N/A"},{"$error":"#N/A"},{"$error":"#N/A"},{"$error":"#N/A"},null,{"$error":"#N/A"},{"$error":"#N/A"}]
[null,{"$f":"IF('Raw data'!$H$31=\"single\",'Initial analysis'!C16,IF('Raw data'!$H$31=\"replicate\",'Initial analysis'!C21,'Initial analysis'!C26))","v":""},{"$f":"IF('Raw data'!$H$31=\"single\",'Initial analysis'!D16,IF('Raw data'!$H$31=\"replicate\",'Initial analysis'!D21,'Initial analysis'!D26))","v":""},{"$f":"IF('Raw data'!$H$31=\"single\",'Initial analysis'!E16,IF('Raw data'!$H$31=\"replicate\",'Initial analysis'!E21,'Initial analysis'!E26))","v":""},"","",null,"","","","",null,null,null,null,null,null,null,null,null,null,null,null,null,null,null,null,null,null,null,null,null,null,null,null,null,{"$error":"#N/A"},{"$error":"#N/A"},{"$error":"#N/A"},{"$error":"#N/A"},null,{"$error":"#N/A"},{"$error":"#N/A"}]
[null,{"$f":"IF('Raw data'!$H$31=\"single\",\"\",IF('Raw data'!$H$31=\"replicate\",'Initial analysis'!C22,'Initial analysis'!C27))","v":""},{"$f":"IF('Raw data'!$H$31=\"single\",\"\",IF('Raw data'!$H$31=\"replicate\",'Initial analysis'!D22,'Initial analysis'!D27))","v":""},{"$f":"IF('Raw data'!$H$31=\"single\",\"\",IF('Raw data'!$H$31=\"replicate\",'Initial analysis'!E22,'Initial analysis'!E27))","v":""},"","",null,"","","","",null,null,null,null,null,null,null,null,null,null,null,null,null,null,null,null,null,null,null,null,null,null,null,null,null,{"$error":"#N/A"},{"$error":"#N/A"},{"$error":"#N/A"},{"$error":"#N/A"},null,{"$error":"#N/A"},{"$error":"#N/A"}]
[null,{"$f":"IF('Raw data'!$H$31=\"single\",\"\",IF('Raw data'!$H$31=\"replicate\",'Initial analysis'!C23,'Initial analysis'!C28))","v":""},{"$f":"IF('Raw data'!$H$31=\"single\",\"\",IF('Raw data'!$H$31=\"replicate\",'Initial analysis'!D23,'Initial analysis'!D28))","v":""},{"$f":"IF('Raw data'!$H$31=\"single\",\"\",IF('Raw data'!$H$31=\"replicate\",'Initial analysis'!E23,'Initial analysis'!E28))","v":""},"","",null,"","","","",null,null,null,null,null,null,null,null,null,null,null,null,null,null,null,null,null,null,null,null,null,null,null,null,null,{"$error":"#N/A"},{"$error":"#N/A"},{"$error":"#N/A"},{"$error":"#N/A"},null,{"$error":"#N/A"},{"$error":"#N/A"}]
[null,{"$f":"IF('Raw data'!$H$31=\"single\",\"\",IF('Raw data'!$H$31=\"replicate\",'Initial analysis'!C24,'Initial analysis'!C29))","v":""},{"$f":"IF('Raw data'!$H$31=\"single\",\"\",IF('Raw data'!$H$31=\"replicate\",'Initial analysis'!D24,'Initial analysis'!D29))","v":""},{"$f":"IF('Raw data'!$H$31=\"single\",\"\",IF('Raw data'!$H$31=\"replicate\",'Initial analysis'!E24,'Initial analysis'!E29))","v":""},"","",null,"","","","",null,null,null,null,null,null,null,null,null,null,null,null,null,null,null,null,null,null,null,null,null,null,null,null,null,{"$error":"#N/A"},{"$error":"#N/A"},{"$error":"#N/A"},{"$error":"#N/A"},null,{"$error":"#N/A"},{"$error":"#N/A"}]
[null,{"$f":"IF('Raw data'!$H$31=\"single\",\"\",IF('Raw data'!$H$31=\"replicate\",'Initial analysis'!C25,'Initial analysis'!C30))","v":""},{"$f":"IF('Raw data'!$H$31=\"single\",\"\",IF('Raw data'!$H$31=\"replicate\",'Initial analysis'!D25,'Initial analysis'!D30))","v":""},{"$f":"IF('Raw data'!$H$31=\"single\",\"\",IF('Raw data'!$H$31=\"replicate\",'Initial analysis'!E25,'Initial analysis'!E30))","v":""},"","",null,"","","","",null,null,null,null,null,null,null,null,null,null,null,null,null,null,null,null,null,null,null,null,null,null,null,null,null,{"$error":"#N/A"},{"$error":"#N/A"},{"$error":"#N/A"},{"$error":"#N/A"},null,{"$error":"#N/A"},{"$error":"#N/A"}]
[null,{"$f":"IF('Raw data'!$H$31=\"single\",\"\",IF('Raw data'!$H$31=\"replicate\",'Initial analysis'!C26,'Initial analysis'!C31))","v":""},{"$f":"IF('Raw data'!$H$31=\"single\",\"\",IF('Raw data'!$H$31=\"replicate\",'Initial analysis'!D26,'Initial analysis'!D31))","v":""},{"$f":"IF('Raw data'!$H$31=\"single\",\"\",IF('Raw data'!$H$31=\"replicate\",'Initial analysis'!E26,'Initial analysis'!E31))","v":""},"","",null,"","","","",null,null,null,null,null,null,null,null,null,null,null,null,null,null,null,null,null,null,null,null,null,null,null,null,null,{"$error":"#N/A"},{"$error":"#N/A"},{"$error":"#N/A"},{"$error":"#N/A"},null,{"$error":"#N/A"},{"$error":"#N/A"}]
[null,{"$f":"IF('Raw data'!$H$31=\"single\",\"\",IF('Raw data'!$H$31=\"replicate\",\"\",'Initial analysis'!C32))","v":""},{"$f":"IF('Raw data'!$H$31=\"single\",\"\",IF('Raw data'!$H$31=\"replicate\",\"\",'Initial analysis'!D32))","v":""},{"$f":"IF('Raw data'!$H$31=\"single\",\"\",IF('Raw data'!$H$31=\"replicate\",\"\",'Initial analysis'!E32))","v":""},"","",null,"","","","",null,null,null,null,null,null,null,null,null,null,null,null,null,null,null,null,null,null,null,null,null,null,null,null,null,{"$error":"#N/A"},{"$error":"#N/A"},{"$error":"#N/A"},{"$error":"#N/A"},null,{"$error":"#N/A"},{"$error":"#N/A"}]
[null,{"$f":"IF('Raw data'!$H$31=\"single\",\"\",IF('Raw data'!$H$31=\"replicate\",\"\",'Initial analysis'!C33))","v":""},{"$f":"IF('Raw data'!$H$31=\"single\",\"\",IF('Raw data'!$H$31=\"replicate\",\"\",'Initial analysis'!D33))","v":""},{"$f":"IF('Raw data'!$H$31=\"single\",\"\",IF('Raw data'!$H$31=\"replicate\",\"\",'Initial analysis'!E33))","v":""},"","",null,"","","","",null,null,null,null,null,null,null,null,null,null,null,null,null,null,null,null,null,null,null,null,null,null,null,null,null,{"$error":"#N/A"},{"$error":"#N/A"},{"$error":"#N/A"},{"$error":"#N/A"},null,{"$error":"#N/A"},{"$error":"#N/A"}]
[null,{"$f":"IF('Raw data'!$H$31=\"single\",\"\",IF('Raw data'!$H$31=\"replicate\",\"\",'Initial analysis'!C34))","v":""},{"$f":"IF('Raw data'!$H$31=\"single\",\"\",IF('Raw data'!$H$31=\"replicate\",\"\",'Initial analysis'!D34))","v":""},{"$f":"IF('Raw data'!$H$31=\"single\",\"\",IF('Raw data'!$H$31=\"replicate\",\"\",'Initial analysis'!E34))","v":""},"","",null,"","","","",null,null,null,null,null,null,null,null,null,null,null,null,null,null,null,null,null,null,null,null,null,null,null,null,null,{"$error":"#N/A"},{"$error":"#N/A"},{"$error":"#N/A"},{"$error":"#N/A"},null,{"$error":"#N/A"},{"$error":"#N/A"}]
[null,{"$f":"IF('Raw data'!$H$31=\"single\",\"\",IF('Raw data'!$H$31=\"replicate\",\"\",'Initial analysis'!C35))","v":""},{"$f":"IF('Raw data'!$H$31=\"single\",\"\",IF('Raw data'!$H$31=\"replicate\",\"\",'Initial analysis'!D35))","v":""},{"$f":"IF('Raw data'!$H$31=\"single\",\"\",IF('Raw data'!$H$31=\"replicate\",\"\",'Initial analysis'!E35))","v":""},"","",null,"","","","",null,null,null,null,null,null,null,null,null,null,null,null,null,null,null,null,null,null,null,null,null,null,null,null,null,{"$error":"#N/A"},{"$error":"#N/A"},{"$error":"#N/A"},{"$error":"#N/A"},null,{"$error":"#N/A"},{"$error":"#N/A"}]
[null,{"$f":"IF('Raw data'!$H$31=\"single\",\"\",IF('Raw data'!$H$31=\"replicate\",\"\",'Initial analysis'!C36))","v":""},{"$f":"IF('Raw data'!$H$31=\"single\",\"\",IF('Raw data'!$H$31=\"replicate\",\"\",'Initial analysis'!D36))","v":""},{"$f":"IF('Raw data'!$H$31=\"single\",\"\",IF('Raw data'!$H$31=\"replicate\",\"\",'Initial analysis'!E36))","v":""},"","",null,"","","","",null,null,null,null,null,null,null,null,null,null,null,null,null,null,null,null,null,null,null,null,null,null,null,null,null,{"$error":"#N/A"},{"$error":"#N/A"},{"$error":"#N/A"},{"$error":"#N/A"},null,{"$error":"#N/A"},{"$error":"#N/A"}]
[]
[null,null,null,null,null,null,null,null,"SUM",{"$f":"IF('Raw data'!C8=\"\",\"\",SUM(J7:J21))","v":""}]
[]
[]
[null,"Linear plot parameters and derived adsorption values"]
[]
[null,null,"Slope =",{"$f":"IF('Raw data'!C8=\"\",\"\",SLOPE(F7:F21,E7:E21))","v":""},"logKF = ",{"$f":"IF(D29=\"\",\"\",D29)","v":""}]
[null,null,"Intercept =",{"$f":"IF('Raw data'!C8=\"\",\"\",INTERCEPT(F7:F21,E7:E21))","v":""},"KF = ",{"$f":"IF(F28=\"\",\"\",10^(F28))","v":""}]
[null,null,"Correlation coefficient (r) =",{"$f":"IF('Raw data'!C8=\"\",\"\",CORREL(F7:F21,E7:E21))","v":""},"KFoc = ",{"$f":"IF(F29=\"\",\"\",F29*100/'Raw data'!D8)","v":""}]
[null,null,"Coefficent of determination (r2) =",{"$f":"IF(D30=\"\",\"\",D30^2)","v":""},"1/n =",{"$f":"IF(D28=\"\",\"\",D28)","v":""}]

{"sheet":"Soil 3","index":6,"n_rows":31,"n_cols":43,"rows_kept":31,"cut":false,"hidden":false,"merged":[]}
[]
[null,"Freundlich adsorption plots for:",null,null,{"$f":"IF('Raw data'!C9=\"\",\"\",'Raw data'!C9)","v":""}]
[]
[]
[null,"Concentration of test solution (µg/mL)","Aqueous phase (µg/mL)","Soil              (µg/g)","Log Caq","Log CS",null,"Log Cs       (fitted curve)","Residuals","RMS of residuals","Cs (fitted)",null,null,null,null,null,null,null,null,null,null,null,null,null,null,null,null,null,null,null,null,null,null,null,null,null,"Aqueous phase (µg/mL)","Soil              (µg/g)","Log Caq","Log CS",null,"Log Cs       (fitted curve)","Residuals"]
[]
[null,{"$f":"IF('Raw data'!$H$31=\"single\",'Initial analysis'!C17,IF('Raw data'!$H$31=\"replicate\",'Initial analysis'!C27,'Initial analysis'!C37))","v":""},{"$f":"IF('Raw data'!$H$31=\"single\",'Initial analysis'!D17,IF('Raw data'!$H$31=\"replicate\",'Initial analysis'!D27,'Initial analysis'!D37))","v":""},{"$f":"IF('Raw data'!$H$31=\"single\",'Initial analysis'!E17,IF('Raw data'!$H$31=\"replicate\",'Initial analysis'!E27,'Initial analysis'!E37))","v":""},{"$f":"IF(C7=\"\",\"\",LOG(C7))","v":""},{"$f":"IF(D7=\"\",\"\",LOG(D7))","v":""},null,{"$f":"IF(C7=\"\",\"\",E7*$D$28+$D$29)","v":""},{"$f":"IF(C7=\"\",\"\",F7-H7)","v":""},{"$f":"IF(C7=\"\",\"\",(I7^2)^0.5)","v":""},{"$f":"IF(C7=\"\",\"\",10^H7)","v":""},null,null,null,null,null,null,null,null,null,null,null,null,null,null,null,null,null,null,null,null,null,null,null,null,null,{"$f":"IF(C7=\"\",#N/A,C7)","v":{"$error":"#N/A"}},{"$f":"IF(D7=\"\",#N/A,D7)","v":{"$error":"#N/A"}},{"$f":"IF(AK7=\"\",#N/A,LOG(AK7))","v":{"$error":"#N/A"}},{"$f":"IF(AL7=\"\",#N/A,LOG(AL7))","v":{"$error":"#N/A"}},null,{"$f":"IF(AK7=\"\",#N/A,AM7*$D$28+$D$29)","v":{"$error":"#N/A"}},{"$f":"IF(AK7=\"\",#N/A,AN7-AP7)","v":{"$error":"#N/A"}}]
[null,{"$f":"IF('Raw data'!$H$31=\"single\",'Initial analysis'!C18,IF('Raw data'!$H$31=\"replicate\",'Initial analysis'!C28,'Initial analysis'!C38))","v":""},{"$f":"IF('Raw data'!$H$31=\"single\",'Initial analysis'!D18,IF('Raw data'!$H$31=\"replicate\",'Initial analysis'!D28,'Initial analysis'!D38))","v":""},{"$f":"IF('Raw data'!$H$31=\"single\",'Initial analysis'!E18,IF('Raw data'!$H$31=\"replicate\",'Initial analysis'!E28,'Initial analysis'!E38))","v":""},{"$f":"IF(C8=\"\",\"\",LOG(C8))","v":""},"",null,"",{"$f":"IF(C8=\"\",\"\",F8-H8)","v":""},{"$f":"IF(C8=\"\",\"\",(I8^2)^0.5)","v":""},{"$f":"IF(C8=\"\",\"\",10^H8)","v":""},null,null,null,null,null,null,null,null,null,null,null,null,null,null,null,null,null,null,null,null,null,null,null,null,null,{"$error":"#N/A"},{"$error":"#N/A"},{"$f":"IF(AK8=\"\",#N/A,LOG(AK8))","v":{"$error":"#N/A"}},{"$error":"#N/A"},null,{"$error":"#N/A"},{"$f":"IF(AK8=\"\",#N/A,AN8-AP8)","v":{"$error":"#N/A"}}]
[null,{"$f":"IF('Raw data'!$H$31=\"single\",'Initial analysis'!C19,IF('Raw data'!$H$31=\"replicate\",'Initial analysis'!C29,'Initial analysis'!C39))","v":""},{"$f":"IF('Raw data'!$H$31=\"single\",'Initial analysis'!D19,IF('Raw data'!$H$31=\"replicate\",'Initial analysis'!D29,'Initial analysis'!D39))","v":""},{"$f":"IF('Raw data'!$H$31=\"single\",'Initial analysis'!E19,IF('Raw data'!$H$31=\"replicate\",'Initial analysis'!E29,'Initial analysis'!E39))","v":""},"","",null,"","","","",null,null,null,null,null,null,null,null,null,null,null,null,null,null,null,null,null,null,null,null,null,null,null,null,null,{"$error":"#N/A"},{"$error":"#N/A"},{"$error":"#N/A"},{"$error":"#N/A"},null,{"$error":"#N/A"},{"$error":"#N/A"}]
[null,{"$f":"IF('Raw data'!$H$31=\"single\",'Initial analysis'!C20,IF('Raw data'!$H$31=\"replicate\",'Initial analysis'!C30,'Initial analysis'!C40))","v":""},{"$f":"IF('Raw data'!$H$31=\"single\",'Initial analysis'!D20,IF('Raw data'!$H$31=\"replicate\",'Initial analysis'!D30,'Initial analysis'!D40))","v":""},{"$f":"IF('Raw data'!$H$31=\"single\",'Initial analysis'!E20,IF('Raw data'!$H$31=\"replicate\",'Initial analysis'!E30,'Initial analysis'!E40))","v":""},"","",null,"","","","",null,null,null,null,null,null,null,null,null,null,null,null,null,null,null,null,null,null,null,null,null,null,null,null,null,{"$error":"#N/A"},{"$error":"#N/A"},{"$error":"#N/A"},{"$error":"#N/A"},null,{"$error":"#N/A"},{"$error":"#N/A"}]
[null,{"$f":"IF('Raw data'!$H$31=\"single\",'Initial analysis'!C21,IF('Raw data'!$H$31=\"replicate\",'Initial analysis'!C31,'Initial analysis'!C41))","v":""},{"$f":"IF('Raw data'!$H$31=\"single\",'Initial analysis'!D21,IF('Raw data'!$H$31=\"replicate\",'Initial analysis'!D31,'Initial analysis'!D41))","v":""},{"$f":"IF('Raw data'!$H$31=\"single\",'Initial analysis'!E21,IF('Raw data'!$H$31=\"replicate\",'Initial analysis'!E31,'Initial analysis'!E41))","v":""},"","",null,"","","","",null,null,null,null,null,null,null,null,null,null,null,null,null,null,null,null,null,null,null,null,null,null,null,null,null,{"$error":"#N/A"},{"$error":"#N/A"},{"$error":"#N/A"},{"$error":"#N/A"},null,{"$error":"#N/A"},{"$error":"#N/A"}]
[null,{"$f":"IF('Raw data'!$H$31=\"single\",\"\",IF('Raw data'!$H$31=\"replicate\",'Initial analysis'!C32,'Initial analysis'!C42))","v":""},{"$f":"IF('Raw data'!$H$31=\"single\",\"\",IF('Raw data'!$H$31=\"replicate\",'Initial analysis'!D32,'Initial analysis'!D42))","v":""},{"$f":"IF('Raw data'!$H$31=\"single\",\"\",IF('Raw data'!$H$31=\"replicate\",'Initial analysis'!E32,'Initial analysis'!E42))","v":""},"","",null,"","","","",null,null,null,null,null,null,null,null,null,null,null,null,null,null,null,null,null,null,null,null,null,null,null,null,null,{"$error":"#N/A"},{"$error":"#N/A"},{"$error":"#N/A"},{"$error":"#N/A"},null,{"$error":"#N/A"},{"$error":"#N/A"}]
[null,{"$f":"IF('Raw data'!$H$31=\"single\",\"\",IF('Raw data'!$H$31=\"replicate\",'Initial analysis'!C33,'Initial analysis'!C43))","v":""},{"$f":"IF('Raw data'!$H$31=\"single\",\"\",IF('Raw data'!$H$31=\"replicate\",'Initial analysis'!D33,'Initial analysis'!D43))","v":""},{"$f":"IF('Raw data'!$H$31=\"single\",\"\",IF('Raw data'!$H$31=\"replicate\",'Initial analysis'!E33,'Initial analysis'!E43))","v":""},"","",null,"","","","",null,null,null,null,null,null,null,null,null,null,null,null,null,null,null,null,null,null,null,null,null,null,null,null,null,{"$error":"#N/A"},{"$error":"#N/A"},{"$error":"#N/A"},{"$error":"#N/A"},null,{"$error":"#N/A"},{"$error":"#N/A"}]
[null,{"$f":"IF('Raw data'!$H$31=\"single\",\"\",IF('Raw data'!$H$31=\"replicate\",'Initial analysis'!C34,'Initial analysis'!C44))","v":""},{"$f":"IF('Raw data'!$H$31=\"single\",\"\",IF('Raw data'!$H$31=\"replicate\",'Initial analysis'!D34,'Initial analysis'!D44))","v":""},{"$f":"IF('Raw data'!$H$31=\"single\",\"\",IF('Raw data'!$H$31=\"replicate\",'Initial analysis'!E34,'Initial analysis'!E44))","v":""},"","",null,"","","","",null,null,null,null,null,null,null,null,null,null,null,null,null,null,null,null,null,null,null,null,null,null,null,null,null,{"$error":"#N/A"},{"$error":"#N/A"},{"$error":"#N/A"},{"$error":"#N/A"},null,{"$error":"#N/A"},{"$error":"#N/A"}]
[null,{"$f":"IF('Raw data'!$H$31=\"single\",\"\",IF('Raw data'!$H$31=\"replicate\",'Initial analysis'!C35,'Initial analysis'!C45))","v":""},{"$f":"IF('Raw data'!$H$31=\"single\",\"\",IF('Raw data'!$H$31=\"replicate\",'Initial analysis'!D35,'Initial analysis'!D45))","v":""},{"$f":"IF('Raw data'!$H$31=\"single\",\"\",IF('Raw data'!$H$31=\"replicate\",'Initial analysis'!E35,'Initial analysis'!E45))","v":""},"","",null,"","","","",null,null,null,null,null,null,null,null,null,null,null,null,null,null,null,null,null,null,null,null,null,null,null,null,null,{"$error":"#N/A"},{"$error":"#N/A"},{"$error":"#N/A"},{"$error":"#N/A"},null,{"$error":"#N/A"},{"$error":"#N/A"}]
[null,{"$f":"IF('Raw data'!$H$31=\"single\",\"\",IF('Raw data'!$H$31=\"replicate\",'Initial analysis'!C36,'Initial analysis'!C46))","v":""},{"$f":"IF('Raw data'!$H$31=\"single\",\"\",IF('Raw data'!$H$31=\"replicate\",'Initial analysis'!D36,'Initial analysis'!D46))","v":""},{"$f":"IF('Raw data'!$H$31=\"single\",\"\",IF('Raw data'!$H$31=\"replicate\",'Initial analysis'!E36,'Initial analysis'!E46))","v":""},"","",null,"","","","",null,null,null,null,null,null,null,null,null,null,null,null,null,null,null,null,null,null,null,null,null,null,null,null,null,{"$error":"#N/A"},{"$error":"#N/A"},{"$error":"#N/A"},{"$error":"#N/A"},null,{"$error":"#N/A"},{"$error":"#N/A"}]
[null,{"$f":"IF('Raw data'!$H$31=\"single\",\"\",IF('Raw data'!$H$31=\"replicate\",\"\",'Initial analysis'!C47))","v":""},{"$f":"IF('Raw data'!$H$31=\"single\",\"\",IF('Raw data'!$H$31=\"replicate\",\"\",'Initial analysis'!D47))","v":""},{"$f":"IF('Raw data'!$H$31=\"single\",\"\",IF('Raw data'!$H$31=\"replicate\",\"\",'Initial analysis'!E47))","v":""},"","",null,"","","","",null,null,null,null,null,null,null,null,null,null,null,null,null,null,null,null,null,null,null,null,null,null,null,null,null,{"$error":"#N/A"},{"$error":"#N/A"},{"$error":"#N/A"},{"$error":"#N/A"},null,{"$error":"#N/A"},{"$error":"#N/A"}]
[null,{"$f":"IF('Raw data'!$H$31=\"single\",\"\",IF('Raw data'!$H$31=\"replicate\",\"\",'Initial analysis'!C48))","v":""},{"$f":"IF('Raw data'!$H$31=\"single\",\"\",IF('Raw data'!$H$31=\"replicate\",\"\",'Initial analysis'!D48))","v":""},{"$f":"IF('Raw data'!$H$31=\"single\",\"\",IF('Raw data'!$H$31=\"replicate\",\"\",'Initial analysis'!E48))","v":""},"","",null,"","","","",null,null,null,null,null,null,null,null,null,null,null,null,null,null,null,null,null,null,null,null,null,null,null,null,null,{"$error":"#N/A"},{"$error":"#N/A"},{"$error":"#N/A"},{"$error":"#N/A"},null,{"$error":"#N/A"},{"$error":"#N/A"}]
[null,{"$f":"IF('Raw data'!$H$31=\"single\",\"\",IF('Raw data'!$H$31=\"replicate\",\"\",'Initial analysis'!C49))","v":""},{"$f":"IF('Raw data'!$H$31=\"single\",\"\",IF('Raw data'!$H$31=\"replicate\",\"\",'Initial analysis'!D49))","v":""},{"$f":"IF('Raw data'!$H$31=\"single\",\"\",IF('Raw data'!$H$31=\"replicate\",\"\",'Initial analysis'!E49))","v":""},"","",null,"","","","",null,null,null,null,null,null,null,null,null,null,null,null,null,null,null,null,null,null,null,null,null,null,null,null,null,{"$error":"#N/A"},{"$error":"#N/A"},{"$error":"#N/A"},{"$error":"#N/A"},null,{"$error":"#N/A"},{"$error":"#N/A"}]
[null,{"$f":"IF('Raw data'!$H$31=\"single\",\"\",IF('Raw data'!$H$31=\"replicate\",\"\",'Initial analysis'!C50))","v":""},{"$f":"IF('Raw data'!$H$31=\"single\",\"\",IF('Raw data'!$H$31=\"replicate\",\"\",'Initial analysis'!D50))","v":""},{"$f":"IF('Raw data'!$H$31=\"single\",\"\",IF('Raw data'!$H$31=\"replicate\",\"\",'Initial analysis'!E50))","v":""},"","",null,"","","","",null,null,null,null,null,null,null,null,null,null,null,null,null,null,null,null,null,null,null,null,null,null,null,null,null,{"$error":"#N/A"},{"$error":"#N/A"},{"$error":"#N/A"},{"$error":"#N/A"},null,{"$error":"#N/A"},{"$error":"#N/A"}]
[null,{"$f":"IF('Raw data'!$H$31=\"single\",\"\",IF('Raw data'!$H$31=\"replicate\",\"\",'Initial analysis'!C51))","v":""},{"$f":"IF('Raw data'!$H$31=\"single\",\"\",IF('Raw data'!$H$31=\"replicate\",\"\",'Initial analysis'!D51))","v":""},{"$f":"IF('Raw data'!$H$31=\"single\",\"\",IF('Raw data'!$H$31=\"replicate\",\"\",'Initial analysis'!E51))","v":""},"","",null,"","","","",null,null,null,null,null,null,null,null,null,null,null,null,null,null,null,null,null,null,null,null,null,null,null,null,null,{"$error":"#N/A"},{"$error":"#N/A"},{"$error":"#N/A"},{"$error":"#N/A"},null,{"$error":"#N/A"},{"$error":"#N/A"}]
[]
[null,null,null,null,null,null,null,null,"SUM",{"$f":"IF('Raw data'!C9=\"\",\"\",SUM(J7:J21))","v":""}]
[]
[]
[null,"Linear plot parameters and derived adsorption values"]
[]
[null,null,"Slope =",{"$f":"IF('Raw data'!C9=\"\",\"\",SLOPE(F7:F21,E7:E21))","v":""},"logKF = ",{"$f":"IF(D29=\"\",\"\",D29)","v":""}]
[null,null,"Intercept =",{"$f":"IF('Raw data'!C9=\"\",\"\",INTERCEPT(F7:F21,E7:E21))","v":""},"KF = ",{"$f":"IF(F28=\"\",\"\",10^(F28))","v":""}]
[null,null,"Correlation coefficient (r) =",{"$f":"IF('Raw data'!C9=\"\",\"\",CORREL(F7:F21,E7:E21))","v":""},"KFoc = ",{"$f":"IF(F29=\"\",\"\",F29*100/'Raw data'!D9)","v":""}]
[null,null,"Coefficent of determination (r2) =",{"$f":"IF(D30=\"\",\"\",D30^2)","v":""},"1/n =",{"$f":"IF(D28=\"\",\"\",D28)","v":""}]

{"sheet":"Soil 4","index":7,"n_rows":31,"n_cols":43,"rows_kept":31,"cut":false,"hidden":false,"merged":[]}
[]
[null,"Freundlich adsorption plots for:",null,null,{"$f":"IF('Raw data'!C10=\"\",\"\",'Raw data'!C10)","v":""}]
[]
[]
[null,"Concentration of test solution (µg/mL)","Aqueous phase (µg/mL)","Soil              (µg/g)","Log Caq","Log CS",null,"Log Cs       (fitted curve)","Residuals","RMS of residuals","Cs (fitted)",null,null,null,null,null,null,null,null,null,null,null,null,null,null,null,null,null,null,null,null,null,null,null,null,null,"Aqueous phase (µg/mL)","Soil              (µg/g)","Log Caq","Log CS",null,"Log Cs       (fitted curve)","Residuals"]
[]
[null,{"$f":"IF('Raw data'!$H$31=\"single\",'Initial analysis'!C22,IF('Raw data'!$H$31=\"replicate\",'Initial analysis'!C37,'Initial analysis'!C52))","v":""},{"$f":"IF('Raw data'!$H$31=\"single\",'Initial analysis'!D22,IF('Raw data'!$H$31=\"replicate\",'Initial analysis'!D37,'Initial analysis'!D52))","v":""},{"$f":"IF('Raw data'!$H$31=\"single\",'Initial analysis'!E22,IF('Raw data'!$H$31=\"replicate\",'Initial analysis'!E37,'Initial analysis'!E52))","v":""},{"$f":"IF(C7=\"\",\"\",LOG(C7))","v":""},{"$f":"IF(D7=\"\",\"\",LOG(D7))","v":""},null,{"$f":"IF(C7=\"\",\"\",E7*$D$28+$D$29)","v":""},{"$f":"IF(C7=\"\",\"\",F7-H7)","v":""},{"$f":"IF(C7=\"\",\"\",(I7^2)^0.5)","v":""},{"$f":"IF(C7=\"\",\"\",10^H7)","v":""},null,null,null,null,null,null,null,null,null,null,null,null,null,null,null,null,null,null,null,null,null,null,null,null,null,{"$f":"IF(C7=\"\",#N/A,C7)","v":{"$error":"#N/A"}},{"$f":"IF(D7=\"\",#N/A,D7)","v":{"$error":"#N/A"}},{"$f":"IF(AK7=\"\",#N/A,LOG(AK7))","v":{"$error":"#N/A"}},{"$f":"IF(AL7=\"\",#N/A,LOG(AL7))","v":{"$error":"#N/A"}},null,{"$f":"IF(AK7=\"\",#N/A,AM7*$D$28+$D$29)","v":{"$error":"#N/A"}},{"$f":"IF(AK7=\"\",#N/A,AN7-AP7)","v":{"$error":"#N/A"}}]
[null,{"$f":"IF('Raw data'!$H$31=\"single\",'Initial analysis'!C23,IF('Raw data'!$H$31=\"replicate\",'Initial analysis'!C38,'Initial analysis'!C53))","v":""},{"$f":"IF('Raw data'!$H$31=\"single\",'Initial analysis'!D23,IF('Raw data'!$H$31=\"replicate\",'Initial analysis'!D38,'Initial analysis'!D53))","v":""},{"$f":"IF('Raw data'!$H$31=\"single\",'Initial analysis'!E23,IF('Raw data'!$H$31=\"replicate\",'Initial analysis'!E38,'Initial analysis'!E53))","v":""},{"$f":"IF(C8=\"\",\"\",LOG(C8))","v":""},"",null,"",{"$f":"IF(C8=\"\",\"\",F8-H8)","v":""},{"$f":"IF(C8=\"\",\"\",(I8^2)^0.5)","v":""},{"$f":"IF(C8=\"\",\"\",10^H8)","v":""},null,null,null,null,null,null,null,null,null,null,null,null,null,null,null,null,null,null,null,null,null,null,null,null,null,{"$error":"#N/A"},{"$error":"#N/A"},{"$f":"IF(AK8=\"\",#N/A,LOG(AK8))","v":{"$error":"#N/A"}},{"$error":"#N/A"},null,{"$error":"#N/A"},{"$f":"IF(AK8=\"\",#N/A,AN8-AP8)","v":{"$error":"#N/A"}}]
[null,{"$f":"IF('Raw data'!$H$31=\"single\",'Initial analysis'!C24,IF('Raw data'!$H$31=\"replicate\",'Initial analysis'!C39,'Initial analysis'!C54))","v":""},{"$f":"IF('Raw data'!$H$31=\"single\",'Initial analysis'!D24,IF('Raw data'!$H$31=\"replicate\",'Initial analysis'!D39,'Initial analysis'!D54))","v":""},{"$f":"IF('Raw data'!$H$31=\"single\",'Initial analysis'!E24,IF('Raw data'!$H$31=\"replicate\",'Initial analysis'!E39,'Initial analysis'!E54))","v":""},"","",null,"","","","",null,null,null,null,null,null,null,null,null,null,null,null,null,null,null,null,null,null,null,null,null,null,null,null,null,{"$error":"#N/A"},{"$error":"#N/A"},{"$error":"#N/A"},{"$error":"#N/A"},null,{"$error":"#N/A"},{"$error":"#N/A"}]
[null,{"$f":"IF('Raw data'!$H$31=\"single\",'Initial analysis'!C25,IF('Raw data'!$H$31=\"replicate\",'Initial analysis'!C40,'Initial analysis'!C55))","v":""},{"$f":"IF('Raw data'!$H$31=\"single\",'Initial analysis'!D25,IF('Raw data'!$H$31=\"replicate\",'Initial analysis'!D40,'Initial analysis'!D55))","v":""},{"$f":"IF('Raw data'!$H$31=\"single\",'Initial analysis'!E25,IF('Raw data'!$H$31=\"replicate\",'Initial analysis'!E40,'Initial analysis'!E55))","v":""},"","",null,"","","","",null,null,null,null,null,null,null,null,null,null,null,null,null,null,null,null,null,null,null,null,null,null,null,null,null,{"$error":"#N/A"},{"$error":"#N/A"},{"$error":"#N/A"},{"$error":"#N/A"},null,{"$error":"#N/A"},{"$error":"#N/A"}]
[null,{"$f":"IF('Raw data'!$H$31=\"single\",'Initial analysis'!C26,IF('Raw data'!$H$31=\"replicate\",'Initial analysis'!C41,'Initial analysis'!C56))","v":""},{"$f":"IF('Raw data'!$H$31=\"single\",'Initial analysis'!D26,IF('Raw data'!$H$31=\"replicate\",'Initial analysis'!D41,'Initial analysis'!D56))","v":""},{"$f":"IF('Raw data'!$H$31=\"single\",'Initial analysis'!E26,IF('Raw data'!$H$31=\"replicate\",'Initial analysis'!E41,'Initial analysis'!E56))","v":""},"","",null,"","","","",null,null,null,null,null,null,null,null,null,null,null,null,null,null,null,null,null,null,null,null,null,null,null,null,null,{"$error":"#N/A"},{"$error":"#N/A"},{"$error":"#N/A"},{"$error":"#N/A"},null,{"$error":"#N/A"},{"$error":"#N/A"}]
[null,{"$f":"IF('Raw data'!$H$31=\"single\",\"\",IF('Raw data'!$H$31=\"replicate\",'Initial analysis'!C42,'Initial analysis'!C57))","v":""},{"$f":"IF('Raw data'!$H$31=\"single\",\"\",IF('Raw data'!$H$31=\"replicate\",'Initial analysis'!D42,'Initial analysis'!D57))","v":""},{"$f":"IF('Raw data'!$H$31=\"single\",\"\",IF('Raw data'!$H$31=\"replicate\",'Initial analysis'!E42,'Initial analysis'!E57))","v":""},"","",null,"","","","",null,null,null,null,null,null,null,null,null,null,null,null,null,null,null,null,null,null,null,null,null,null,null,null,null,{"$error":"#N/A"},{"$error":"#N/A"},{"$error":"#N/A"},{"$error":"#N/A"},null,{"$error":"#N/A"},{"$error":"#N/A"}]
[null,{"$f":"IF('Raw data'!$H$31=\"single\",\"\",IF('Raw data'!$H$31=\"replicate\",'Initial analysis'!C43,'Initial analysis'!C58))","v":""},{"$f":"IF('Raw data'!$H$31=\"single\",\"\",IF('Raw data'!$H$31=\"replicate\",'Initial analysis'!D43,'Initial analysis'!D58))","v":""},{"$f":"IF('Raw data'!$H$31=\"single\",\"\",IF('Raw data'!$H$31=\"replicate\",'Initial analysis'!E43,'Initial analysis'!E58))","v":""},"","",null,"","","","",null,null,null,null,null,null,null,null,null,null,null,null,null,null,null,null,null,null,null,null,null,null,null,null,null,{"$error":"#N/A"},{"$error":"#N/A"},{"$error":"#N/A"},{"$error":"#N/A"},null,{"$error":"#N/A"},{"$error":"#N/A"}]
[null,{"$f":"IF('Raw data'!$H$31=\"single\",\"\",IF('Raw data'!$H$31=\"replicate\",'Initial analysis'!C44,'Initial analysis'!C59))","v":""},{"$f":"IF('Raw data'!$H$31=\"single\",\"\",IF('Raw data'!$H$31=\"replicate\",'Initial analysis'!D44,'Initial analysis'!D59))","v":""},{"$f":"IF('Raw data'!$H$31=\"single\",\"\",IF('Raw data'!$H$31=\"replicate\",'Initial analysis'!E44,'Initial analysis'!E59))","v":""},"","",null,"","","","",null,null,null,null,null,null,null,null,null,null,null,null,null,null,null,null,null,null,null,null,null,null,null,null,null,{"$error":"#N/A"},{"$error":"#N/A"},{"$error":"#N/A"},{"$error":"#N/A"},null,{"$error":"#N/A"},{"$error":"#N/A"}]
[null,{"$f":"IF('Raw data'!$H$31=\"single\",\"\",IF('Raw data'!$H$31=\"replicate\",'Initial analysis'!C45,'Initial analysis'!C60))","v":""},{"$f":"IF('Raw data'!$H$31=\"single\",\"\",IF('Raw data'!$H$31=\"replicate\",'Initial analysis'!D45,'Initial analysis'!D60))","v":""},{"$f":"IF('Raw data'!$H$31=\"single\",\"\",IF('Raw data'!$H$31=\"replicate\",'Initial analysis'!E45,'Initial analysis'!E60))","v":""},"","",null,"","","","",null,null,null,null,null,null,null,null,null,null,null,null,null,null,null,null,null,null,null,null,null,null,null,null,null,{"$error":"#N/A"},{"$error":"#N/A"},{"$error":"#N/A"},{"$error":"#N/A"},null,{"$error":"#N/A"},{"$error":"#N/A"}]
[null,{"$f":"IF('Raw data'!$H$31=\"single\",\"\",IF('Raw data'!$H$31=\"replicate\",'Initial analysis'!C46,'Initial analysis'!C61))","v":""},{"$f":"IF('Raw data'!$H$31=\"single\",\"\",IF('Raw data'!$H$31=\"replicate\",'Initial analysis'!D46,'Initial analysis'!D61))","v":""},{"$f":"IF('Raw data'!$H$31=\"single\",\"\",IF('Raw data'!$H$31=\"replicate\",'Initial analysis'!E46,'Initial analysis'!E61))","v":""},"","",null,"","","","",null,null,null,null,null,null,null,null,null,null,null,null,null,null,null,null,null,null,null,null,null,null,null,null,null,{"$error":"#N/A"},{"$error":"#N/A"},{"$error":"#N/A"},{"$error":"#N/A"},null,{"$error":"#N/A"},{"$error":"#N/A"}]
[null,{"$f":"IF('Raw data'!$H$31=\"single\",\"\",IF('Raw data'!$H$31=\"replicate\",\"\",'Initial analysis'!C62))","v":""},{"$f":"IF('Raw data'!$H$31=\"single\",\"\",IF('Raw data'!$H$31=\"replicate\",\"\",'Initial analysis'!D62))","v":""},{"$f":"IF('Raw data'!$H$31=\"single\",\"\",IF('Raw data'!$H$31=\"replicate\",\"\",'Initial analysis'!E62))","v":""},"","",null,"","","","",null,null,null,null,null,null,null,null,null,null,null,null,null,null,null,null,null,null,null,null,null,null,null,null,null,{"$error":"#N/A"},{"$error":"#N/A"},{"$error":"#N/A"},{"$error":"#N/A"},null,{"$error":"#N/A"},{"$error":"#N/A"}]
[null,{"$f":"IF('Raw data'!$H$31=\"single\",\"\",IF('Raw data'!$H$31=\"replicate\",\"\",'Initial analysis'!C63))","v":""},{"$f":"IF('Raw data'!$H$31=\"single\",\"\",IF('Raw data'!$H$31=\"replicate\",\"\",'Initial analysis'!D63))","v":""},{"$f":"IF('Raw data'!$H$31=\"single\",\"\",IF('Raw data'!$H$31=\"replicate\",\"\",'Initial analysis'!E63))","v":""},"","",null,"","","","",null,null,null,null,null,null,null,null,null,null,null,null,null,null,null,null,null,null,null,null,null,null,null,null,null,{"$error":"#N/A"},{"$error":"#N/A"},{"$error":"#N/A"},{"$error":"#N/A"},null,{"$error":"#N/A"},{"$error":"#N/A"}]
[null,{"$f":"IF('Raw data'!$H$31=\"single\",\"\",IF('Raw data'!$H$31=\"replicate\",\"\",'Initial analysis'!C64))","v":""},{"$f":"IF('Raw data'!$H$31=\"single\",\"\",IF('Raw data'!$H$31=\"replicate\",\"\",'Initial analysis'!D64))","v":""},{"$f":"IF('Raw data'!$H$31=\"single\",\"\",IF('Raw data'!$H$31=\"replicate\",\"\",'Initial analysis'!E64))","v":""},"","",null,"","","","",null,null,null,null,null,null,null,null,null,null,null,null,null,null,null,null,null,null,null,null,null,null,null,null,null,{"$error":"#N/A"},{"$error":"#N/A"},{"$error":"#N/A"},{"$error":"#N/A"},null,{"$error":"#N/A"},{"$error":"#N/A"}]
[null,{"$f":"IF('Raw data'!$H$31=\"single\",\"\",IF('Raw data'!$H$31=\"replicate\",\"\",'Initial analysis'!C65))","v":""},{"$f":"IF('Raw data'!$H$31=\"single\",\"\",IF('Raw data'!$H$31=\"replicate\",\"\",'Initial analysis'!D65))","v":""},{"$f":"IF('Raw data'!$H$31=\"single\",\"\",IF('Raw data'!$H$31=\"replicate\",\"\",'Initial analysis'!E65))","v":""},"","",null,"","","","",null,null,null,null,null,null,null,null,null,null,null,null,null,null,null,null,null,null,null,null,null,null,null,null,null,{"$error":"#N/A"},{"$error":"#N/A"},{"$error":"#N/A"},{"$error":"#N/A"},null,{"$error":"#N/A"},{"$error":"#N/A"}]
[null,{"$f":"IF('Raw data'!$H$31=\"single\",\"\",IF('Raw data'!$H$31=\"replicate\",\"\",'Initial analysis'!C66))","v":""},{"$f":"IF('Raw data'!$H$31=\"single\",\"\",IF('Raw data'!$H$31=\"replicate\",\"\",'Initial analysis'!D66))","v":""},{"$f":"IF('Raw data'!$H$31=\"single\",\"\",IF('Raw data'!$H$31=\"replicate\",\"\",'Initial analysis'!E66))","v":""},"","",null,"","","","",null,null,null,null,null,null,null,null,null,null,null,null,null,null,null,null,null,null,null,null,null,null,null,null,null,{"$error":"#N/A"},{"$error":"#N/A"},{"$error":"#N/A"},{"$error":"#N/A"},null,{"$error":"#N/A"},{"$error":"#N/A"}]
[]
[null,null,null,null,null,null,null,null,"SUM",{"$f":"IF('Raw data'!C10=\"\",\"\",SUM(J7:J21))","v":""}]
[]
[]
[null,"Linear plot parameters and derived adsorption values"]
[]
[null,null,"Slope =",{"$f":"IF('Raw data'!C10=\"\",\"\",SLOPE(F7:F21,E7:E21))","v":""},"logKF = ",{"$f":"IF(D29=\"\",\"\",D29)","v":""}]
[null,null,"Intercept =",{"$f":"IF('Raw data'!C10=\"\",\"\",INTERCEPT(F7:F21,E7:E21))","v":""},"KF = ",{"$f":"IF(F28=\"\",\"\",10^(F28))","v":""}]
[null,null,"Correlation coefficient (r) =",{"$f":"IF('Raw data'!C10=\"\",\"\",CORREL(F7:F21,E7:E21))","v":""},"KFoc = ",{"$f":"IF(F29=\"\",\"\",F29*100/'Raw data'!D10)","v":""}]
[null,null,"Coefficent of determination (r2) =",{"$f":"IF(D30=\"\",\"\",D30^2)","v":""},"1/n =",{"$f":"IF(D28=\"\",\"\",D28)","v":""}]

{"sheet":"Soil 5","index":8,"n_rows":31,"n_cols":43,"rows_kept":31,"cut":false,"hidden":false,"merged":[]}
[]
[null,"Freundlich adsorption plots for:",null,null,{"$f":"IF('Raw data'!C11=\"\",\"\",'Raw data'!C11)","v":""}]
[]
[]
[null,"Concentration of test solution (µg/mL)","Aqueous phase (µg/mL)","Soil              (µg/g)","Log Caq","Log CS",null,"Log Cs       (fitted curve)","Residuals","RMS of residuals","Cs (fitted)",null,null,null,null,null,null,null,null,null,null,null,null,null,null,null,null,null,null,null,null,null,null,null,null,null,"Aqueous phase (µg/mL)","Soil              (µg/g)","Log Caq","Log CS",null,"Log Cs       (fitted curve)","Residuals"]
[]
[null,{"$f":"IF('Raw data'!$H$31=\"single\",'Initial analysis'!C27,IF('Raw data'!$H$31=\"replicate\",'Initial analysis'!C47,'Initial analysis'!C67))","v":""},{"$f":"IF('Raw data'!$H$31=\"single\",'Initial analysis'!D27,IF('Raw data'!$H$31=\"replicate\",'Initial analysis'!D47,'Initial analysis'!D67))","v":""},{"$f":"IF('Raw data'!$H$31=\"single\",'Initial analysis'!E27,IF('Raw data'!$H$31=\"replicate\",'Initial analysis'!E47,'Initial analysis'!E67))","v":""},{"$f":"IF(C7=\"\",\"\",LOG(C7))","v":""},{"$f":"IF(D7=\"\",\"\",LOG(D7))","v":""},null,{"$f":"IF(C7=\"\",\"\",E7*$D$28+$D$29)","v":""},{"$f":"IF(C7=\"\",\"\",F7-H7)","v":""},{"$f":"IF(C7=\"\",\"\",(I7^2)^0.5)","v":""},{"$f":"IF(C7=\"\",\"\",10^H7)","v":""},null,null,null,null,null,null,null,null,null,null,null,null,null,null,null,null,null,null,null,null,null,null,null,null,null,{"$f":"IF(C7=\"\",#N/A,C7)","v":{"$error":"#N/A"}},{"$f":"IF(D7=\"\",#N/A,D7)","v":{"$error":"#N/A"}},{"$f":"IF(AK7=\"\",#N/A,LOG(AK7))","v":{"$error":"#N/A"}},{"$f":"IF(AL7=\"\",#N/A,LOG(AL7))","v":{"$error":"#N/A"}},null,{"$f":"IF(AK7=\"\",#N/A,AM7*$D$28+$D$29)","v":{"$error":"#N/A"}},{"$f":"IF(AK7=\"\",#N/A,AN7-AP7)","v":{"$error":"#N/A"}}]
[null,{"$f":"IF('Raw data'!$H$31=\"single\",'Initial analysis'!C28,IF('Raw data'!$H$31=\"replicate\",'Initial analysis'!C48,'Initial analysis'!C68))","v":""},{"$f":"IF('Raw data'!$H$31=\"single\",'Initial analysis'!D28,IF('Raw data'!$H$31=\"replicate\",'Initial analysis'!D48,'Initial analysis'!D68))","v":""},{"$f":"IF('Raw data'!$H$31=\"single\",'Initial analysis'!E28,IF('Raw data'!$H$31=\"replicate\",'Initial analysis'!E48,'Initial analysis'!E68))","v":""},{"$f":"IF(C8=\"\",\"\",LOG(C8))","v":""},"",null,"",{"$f":"IF(C8=\"\",\"\",F8-H8)","v":""},{"$f":"IF(C8=\"\",\"\",(I8^2)^0.5)","v":""},{"$f":"IF(C8=\"\",\"\",10^H8)","v":""},null,null,null,null,null,null,null,null,null,null,null,null,null,null,null,null,null,null,null,null,null,null,null,null,null,{"$error":"#N/A"},{"$error":"#N/A"},{"$f":"IF(AK8=\"\",#N/A,LOG(AK8))","v":{"$error":"#N/A"}},{"$error":"#N/A"},null,{"$error":"#N/A"},{"$f":"IF(AK8=\"\",#N/A,AN8-AP8)","v":{"$error":"#N/A"}}]
[null,{"$f":"IF('Raw data'!$H$31=\"single\",'Initial analysis'!C29,IF('Raw data'!$H$31=\"replicate\",'Initial analysis'!C49,'Initial analysis'!C69))","v":""},{"$f":"IF('Raw data'!$H$31=\"single\",'Initial analysis'!D29,IF('Raw data'!$H$31=\"replicate\",'Initial analysis'!D49,'Initial analysis'!D69))","v":""},{"$f":"IF('Raw data'!$H$31=\"single\",'Initial analysis'!E29,IF('Raw data'!$H$31=\"replicate\",'Initial analysis'!E49,'Initial analysis'!E69))","v":""},"","",null,"","","","",null,null,null,null,null,null,null,null,null,null,null,null,null,null,null,null,null,null,null,null,null,null,null,null,null,{"$error":"#N/A"},{"$error":"#N/A"},{"$error":"#N/A"},{"$error":"#N/A"},null,{"$error":"#N/A"},{"$error":"#N/A"}]
[null,{"$f":"IF('Raw data'!$H$31=\"single\",'Initial analysis'!C30,IF('Raw data'!$H$31=\"replicate\",'Initial analysis'!C50,'Initial analysis'!C70))","v":""},{"$f":"IF('Raw data'!$H$31=\"single\",'Initial analysis'!D30,IF('Raw data'!$H$31=\"replicate\",'Initial analysis'!D50,'Initial analysis'!D70))","v":""},{"$f":"IF('Raw data'!$H$31=\"single\",'Initial analysis'!E30,IF('Raw data'!$H$31=\"replicate\",'Initial analysis'!E50,'Initial analysis'!E70))","v":""},"","",null,"","","","",null,null,null,null,null,null,null,null,null,null,null,null,null,null,null,null,null,null,null,null,null,null,null,null,null,{"$error":"#N/A"},{"$error":"#N/A"},{"$error":"#N/A"},{"$error":"#N/A"},null,{"$error":"#N/A"},{"$error":"#N/A"}]
[null,{"$f":"IF('Raw data'!$H$31=\"single\",'Initial analysis'!C31,IF('Raw data'!$H$31=\"replicate\",'Initial analysis'!C51,'Initial analysis'!C71))","v":""},{"$f":"IF('Raw data'!$H$31=\"single\",'Initial analysis'!D31,IF('Raw data'!$H$31=\"replicate\",'Initial analysis'!D51,'Initial analysis'!D71))","v":""},{"$f":"IF('Raw data'!$H$31=\"single\",'Initial analysis'!E31,IF('Raw data'!$H$31=\"replicate\",'Initial analysis'!E51,'Initial analysis'!E71))","v":""},"","",null,"","","","",null,null,null,null,null,null,null,null,null,null,null,null,null,null,null,null,null,null,null,null,null,null,null,null,null,{"$error":"#N/A"},{"$error":"#N/A"},{"$error":"#N/A"},{"$error":"#N/A"},null,{"$error":"#N/A"},{"$error":"#N/A"}]
[null,{"$f":"IF('Raw data'!$H$31=\"single\",\"\",IF('Raw data'!$H$31=\"replicate\",'Initial analysis'!C52,'Initial analysis'!C72))","v":""},{"$f":"IF('Raw data'!$H$31=\"single\",\"\",IF('Raw data'!$H$31=\"replicate\",'Initial analysis'!D52,'Initial analysis'!D72))","v":""},{"$f":"IF('Raw data'!$H$31=\"single\",\"\",IF('Raw data'!$H$31=\"replicate\",'Initial analysis'!E52,'Initial analysis'!E72))","v":""},"","",null,"","","","",null,null,null,null,null,null,null,null,null,null,null,null,null,null,null,null,null,null,null,null,null,null,null,null,null,{"$error":"#N/A"},{"$error":"#N/A"},{"$error":"#N/A"},{"$error":"#N/A"},null,{"$error":"#N/A"},{"$error":"#N/A"}]
[null,{"$f":"IF('Raw data'!$H$31=\"single\",\"\",IF('Raw data'!$H$31=\"replicate\",'Initial analysis'!C53,'Initial analysis'!C73))","v":""},{"$f":"IF('Raw data'!$H$31=\"single\",\"\",IF('Raw data'!$H$31=\"replicate\",'Initial analysis'!D53,'Initial analysis'!D73))","v":""},{"$f":"IF('Raw data'!$H$31=\"single\",\"\",IF('Raw data'!$H$31=\"replicate\",'Initial analysis'!E53,'Initial analysis'!E73))","v":""},"","",null,"","","","",null,null,null,null,null,null,null,null,null,null,null,null,null,null,null,null,null,null,null,null,null,null,null,null,null,{"$error":"#N/A"},{"$error":"#N/A"},{"$error":"#N/A"},{"$error":"#N/A"},null,{"$error":"#N/A"},{"$error":"#N/A"}]
[null,{"$f":"IF('Raw data'!$H$31=\"single\",\"\",IF('Raw data'!$H$31=\"replicate\",'Initial analysis'!C54,'Initial analysis'!C74))","v":""},{"$f":"IF('Raw data'!$H$31=\"single\",\"\",IF('Raw data'!$H$31=\"replicate\",'Initial analysis'!D54,'Initial analysis'!D74))","v":""},{"$f":"IF('Raw data'!$H$31=\"single\",\"\",IF('Raw data'!$H$31=\"replicate\",'Initial analysis'!E54,'Initial analysis'!E74))","v":""},"","",null,"","","","",null,null,null,null,null,null,null,null,null,null,null,null,null,null,null,null,null,null,null,null,null,null,null,null,null,{"$error":"#N/A"},{"$error":"#N/A"},{"$error":"#N/A"},{"$error":"#N/A"},null,{"$error":"#N/A"},{"$error":"#N/A"}]
[null,{"$f":"IF('Raw data'!$H$31=\"single\",\"\",IF('Raw data'!$H$31=\"replicate\",'Initial analysis'!C55,'Initial analysis'!C75))","v":""},{"$f":"IF('Raw data'!$H$31=\"single\",\"\",IF('Raw data'!$H$31=\"replicate\",'Initial analysis'!D55,'Initial analysis'!D75))","v":""},{"$f":"IF('Raw data'!$H$31=\"single\",\"\",IF('Raw data'!$H$31=\"replicate\",'Initial analysis'!E55,'Initial analysis'!E75))","v":""},"","",null,"","","","",null,null,null,null,null,null,null,null,null,null,null,null,null,null,null,null,null,null,null,null,null,null,null,null,null,{"$error":"#N/A"},{"$error":"#N/A"},{"$error":"#N/A"},{"$error":"#N/A"},null,{"$error":"#N/A"},{"$error":"#N/A"}]
[null,{"$f":"IF('Raw data'!$H$31=\"single\",\"\",IF('Raw data'!$H$31=\"replicate\",'Initial analysis'!C56,'Initial analysis'!C76))","v":""},{"$f":"IF('Raw data'!$H$31=\"single\",\"\",IF('Raw data'!$H$31=\"replicate\",'Initial analysis'!D56,'Initial analysis'!D76))","v":""},{"$f":"IF('Raw data'!$H$31=\"single\",\"\",IF('Raw data'!$H$31=\"replicate\",'Initial analysis'!E56,'Initial analysis'!E76))","v":""},"","",null,"","","","",null,null,null,null,null,null,null,null,null,null,null,null,null,null,null,null,null,null,null,null,null,null,null,null,null,{"$error":"#N/A"},{"$error":"#N/A"},{"$error":"#N/A"},{"$error":"#N/A"},null,{"$error":"#N/A"},{"$error":"#N/A"}]
[null,{"$f":"IF('Raw data'!$H$31=\"single\",\"\",IF('Raw data'!$H$31=\"replicate\",\"\",'Initial analysis'!C77))","v":""},{"$f":"IF('Raw data'!$H$31=\"single\",\"\",IF('Raw data'!$H$31=\"replicate\",\"\",'Initial analysis'!D77))","v":""},{"$f":"IF('Raw data'!$H$31=\"single\",\"\",IF('Raw data'!$H$31=\"replicate\",\"\",'Initial analysis'!E77))","v":""},"","",null,"","","","",null,null,null,null,null,null,null,null,null,null,null,null,null,null,null,null,null,null,null,null,null,null,null,null,null,{"$error":"#N/A"},{"$error":"#N/A"},{"$error":"#N/A"},{"$error":"#N/A"},null,{"$error":"#N/A"},{"$error":"#N/A"}]
[null,{"$f":"IF('Raw data'!$H$31=\"single\",\"\",IF('Raw data'!$H$31=\"replicate\",\"\",'Initial analysis'!C78))","v":""},{"$f":"IF('Raw data'!$H$31=\"single\",\"\",IF('Raw data'!$H$31=\"replicate\",\"\",'Initial analysis'!D78))","v":""},{"$f":"IF('Raw data'!$H$31=\"single\",\"\",IF('Raw data'!$H$31=\"replicate\",\"\",'Initial analysis'!E78))","v":""},"","",null,"","","","",null,null,null,null,null,null,null,null,null,null,null,null,null,null,null,null,null,null,null,null,null,null,null,null,null,{"$error":"#N/A"},{"$error":"#N/A"},{"$error":"#N/A"},{"$error":"#N/A"},null,{"$error":"#N/A"},{"$error":"#N/A"}]
[null,{"$f":"IF('Raw data'!$H$31=\"single\",\"\",IF('Raw data'!$H$31=\"replicate\",\"\",'Initial analysis'!C79))","v":""},{"$f":"IF('Raw data'!$H$31=\"single\",\"\",IF('Raw data'!$H$31=\"replicate\",\"\",'Initial analysis'!D79))","v":""},{"$f":"IF('Raw data'!$H$31=\"single\",\"\",IF('Raw data'!$H$31=\"replicate\",\"\",'Initial analysis'!E79))","v":""},"","",null,"","","","",null,null,null,null,null,null,null,null,null,null,null,null,null,null,null,null,null,null,null,null,null,null,null,null,null,{"$error":"#N/A"},{"$error":"#N/A"},{"$error":"#N/A"},{"$error":"#N/A"},null,{"$error":"#N/A"},{"$error":"#N/A"}]
[null,{"$f":"IF('Raw data'!$H$31=\"single\",\"\",IF('Raw data'!$H$31=\"replicate\",\"\",'Initial analysis'!C80))","v":""},{"$f":"IF('Raw data'!$H$31=\"single\",\"\",IF('Raw data'!$H$31=\"replicate\",\"\",'Initial analysis'!D80))","v":""},{"$f":"IF('Raw data'!$H$31=\"single\",\"\",IF('Raw data'!$H$31=\"replicate\",\"\",'Initial analysis'!E80))","v":""},"","",null,"","","","",null,null,null,null,null,null,null,null,null,null,null,null,null,null,null,null,null,null,null,null,null,null,null,null,null,{"$error":"#N/A"},{"$error":"#N/A"},{"$error":"#N/A"},{"$error":"#N/A"},null,{"$error":"#N/A"},{"$error":"#N/A"}]
[null,{"$f":"IF('Raw data'!$H$31=\"single\",\"\",IF('Raw data'!$H$31=\"replicate\",\"\",'Initial analysis'!C81))","v":""},{"$f":"IF('Raw data'!$H$31=\"single\",\"\",IF('Raw data'!$H$31=\"replicate\",\"\",'Initial analysis'!D81))","v":""},{"$f":"IF('Raw data'!$H$31=\"single\",\"\",IF('Raw data'!$H$31=\"replicate\",\"\",'Initial analysis'!E81))","v":""},"","",null,"","","","",null,null,null,null,null,null,null,null,null,null,null,null,null,null,null,null,null,null,null,null,null,null,null,null,null,{"$error":"#N/A"},{"$error":"#N/A"},{"$error":"#N/A"},{"$error":"#N/A"},null,{"$error":"#N/A"},{"$error":"#N/A"}]
[]
[null,null,null,null,null,null,null,null,"SUM",{"$f":"IF('Raw data'!C11=\"\",\"\",SUM(J7:J21))","v":""}]
[]
[]
[null,"Linear plot parameters and derived adsorption values"]
[]
[null,null,"Slope =",{"$f":"IF('Raw data'!C11=\"\",\"\",SLOPE(F7:F21,E7:E21))","v":""},"logKF = ",{"$f":"IF(D29=\"\",\"\",D29)","v":""}]
[null,null,"Intercept =",{"$f":"IF('Raw data'!C11=\"\",\"\",INTERCEPT(F7:F21,E7:E21))","v":""},"KF = ",{"$f":"IF(F28=\"\",\"\",10^(F28))","v":""}]
[null,null,"Correlation coefficient (r) =",{"$f":"IF('Raw data'!C11=\"\",\"\",CORREL(F7:F21,E7:E21))","v":""},"KFoc = ",{"$f":"IF(F29=\"\",\"\",F29*100/'Raw data'!D11)","v":""}]
[null,null,"Coefficent of determination (r2) =",{"$f":"IF(D30=\"\",\"\",D30^2)","v":""},"1/n =",{"$f":"IF(D28=\"\",\"\",D28)","v":""}]

{"sheet":"Statistics","index":9,"n_rows":19,"n_cols":33,"rows_kept":19,"cut":false,"hidden":false,"merged":[]}
[]
[]
[null,{"$f":"'Raw data'!C21","v":""},null,{"$f":"'Raw data'!C22","v":""},null,{"$f":"'Raw data'!C23","v":""},null,{"$f":"'Raw data'!C24","v":""},null,{"$f":"'Raw data'!C25","v":""},null,null,{"$f":"'Raw data'!C21","v":""},null,{"$f":"'Raw data'!C22","v":""},null,{"$f":"'Raw data'!C23","v":""},null,{"$f":"'Raw data'!C24","v":""},null,{"$f":"'Raw data'!C25","v":""},null,null,{"$f":"'Raw data'!C21","v":""},null,{"$f":"'Raw data'!C22","v":""},null,{"$f":"'Raw data'!C23","v":""},null,{"$f":"'Raw data'!C24","v":""},null,{"$f":"'Raw data'!C25","v":""}]
[null,"Log Caq","Log CS","Log Caq","Log CS","Log Caq","Log CS","Log Caq","Log CS","Log Caq","Log CS",null,"Log Caq","Log CS","Log Caq","Log CS","Log Caq","Log CS","Log Caq","Log CS","Log Caq","Log CS",null,"Log Caq","Log CS","Log Caq","Log CS","Log Caq","Log CS","Log Caq","Log CS","Log Caq","Log CS"]
[null,{"$f":"IF('Soil 1'!E7=\"\",0,'Soil 1'!E7)","v":0},{"$f":"IF('Soil 1'!F7=\"\",0,'Soil 1'!F7)","v":0},{"$f":"IF('Soil 2'!E7=\"\",0,'Soil 2'!E7)","v":0},{"$f":"IF('Soil 2'!F7=\"\",0,'Soil 2'!F7)","v":0},{"$f":"IF('Soil 3'!E7=\"\",0,'Soil 3'!E7)","v":0},{"$f":"IF('Soil 3'!F7=\"\",0,'Soil 3'!F7)","v":0},{"$f":"IF('Soil 4'!E7=\"\",0,'Soil 4'!E7)","v":0},{"$f":"IF('Soil 4'!F7=\"\",0,'Soil 4'!F7)","v":0},{"$f":"IF('Soil 5'!E7=\"\",0,'Soil 5'!E7)","v":0},{"$f":"IF('Soil 5'!F7=\"\",0,'Soil 5'!F7)","v":0},null,{"$f":"IF('Soil 1'!E7=\"\",0,'Soil 1'!E7)","v":0},{"$f":"IF('Soil 1'!F7=\"\",0,'Soil 1'!F7)","v":0},{"$f":"IF('Soil 2'!E7=\"\",0,'Soil 2'!E7)","v":0},{"$f":"IF('Soil 2'!F7=\"\",0,'Soil 2'!F7)","v":0},{"$f":"IF('Soil 3'!E7=\"\",0,'Soil 3'!E7)","v":0},{"$f":"IF('Soil 3'!F7=\"\",0,'Soil 3'!F7)","v":0},{"$f":"IF('Soil 4'!E7=\"\",0,'Soil 4'!E7)","v":0},{"$f":"IF('Soil 4'!F7=\"\",0,'Soil 4'!F7)","v":0},{"$f":"IF('Soil 5'!E7=\"\",0,'Soil 5'!E7)","v":0},{"$f":"IF('Soil 5'!F7=\"\",0,'Soil 5'!F7)","v":0},null,{"$f":"IF('Soil 1'!E7=\"\",0,'Soil 1'!E7)","v":0},{"$f":"IF('Soil 1'!F7=\"\",0,'Soil 1'!F7)","v":0},{"$f":"IF('Soil 2'!E7=\"\",0,'Soil 2'!E7)","v":0},{"$f":"IF('Soil 2'!F7=\"\",0,'Soil 2'!F7)","v":0},{"$f":"IF('Soil 3'!E7=\"\",0,'Soil 3'!E7)","v":0},{"$f":"IF('Soil 3'!F7=\"\",0,'Soil 3'!F7)","v":0},{"$f":"IF('Soil 4'!E7=\"\",0,'Soil 4'!E7)","v":0},{"$f":"IF('Soil 4'!F7=\"\",0,'Soil 4'!F7)","v":0},{"$f":"IF('Soil 5'!E7=\"\",0,'Soil 5'!E7)","v":0},{"$f":"IF('Soil 5'!F7=\"\",0,'Soil 5'!F7)","v":0}]
[null,{"$f":"IF('Soil 1'!E8=\"\",0,'Soil 1'!E8)","v":0},{"$f":"IF('Soil 1'!F8=\"\",0,'Soil 1'!F8)","v":0},{"$f":"IF('Soil 2'!E8=\"\",0,'Soil 2'!E8)","v":0},{"$f":"IF('Soil 2'!F8=\"\",0,'Soil 2'!F8)","v":0},{"$f":"IF('Soil 3'!E8=\"\",0,'Soil 3'!E8)","v":0},{"$f":"IF('Soil 3'!F8=\"\",0,'Soil 3'!F8)","v":0},{"$f":"IF('Soil 4'!E8=\"\",0,'Soil 4'!E8)","v":0},{"$f":"IF('Soil 4'!F8=\"\",0,'Soil 4'!F8)","v":0},{"$f":"IF('Soil 5'!E8=\"\",0,'Soil 5'!E8)","v":0},{"$f":"IF('Soil 5'!F8=\"\",0,'Soil 5'!F8)","v":0},null,{"$f":"IF('Soil 1'!E8=\"\",0,'Soil 1'!E8)","v":0},{"$f":"IF('Soil 1'!F8=\"\",0,'Soil 1'!F8)","v":0},{"$f":"IF('Soil 2'!E8=\"\",0,'Soil 2'!E8)","v":0},{"$f":"IF('Soil 2'!F8=\"\",0,'Soil 2'!F8)","v":0},{"$f":"IF('Soil 3'!E8=\"\",0,'Soil 3'!E8)","v":0},{"$f":"IF('Soil 3'!F8=\"\",0,'Soil 3'!F8)","v":0},{"$f":"IF('Soil 4'!E8=\"\",0,'Soil 4'!E8)","v":0},{"$f":"IF('Soil 4'!F8=\"\",0,'Soil 4'!F8)","v":0},{"$f":"IF('Soil 5'!E8=\"\",0,'Soil 5'!E8)","v":0},{"$f":"IF('Soil 5'!F8=\"\",0,'Soil 5'!F8)","v":0},null,{"$f":"IF('Soil 1'!E8=\"\",0,'Soil 1'!E8)","v":0},{"$f":"IF('Soil 1'!F8=\"\",0,'Soil 1'!F8)","v":0},{"$f":"IF('Soil 2'!E8=\"\",0,'Soil 2'!E8)","v":0},{"$f":"IF('Soil 2'!F8=\"\",0,'Soil 2'!F8)","v":0},{"$f":"IF('Soil 3'!E8=\"\",0,'Soil 3'!E8)","v":0},{"$f":"IF('Soil 3'!F8=\"\",0,'Soil 3'!F8)","v":0},{"$f":"IF('Soil 4'!E8=\"\",0,'Soil 4'!E8)","v":0},{"$f":"IF('Soil 4'!F8=\"\",0,'Soil 4'!F8)","v":0},{"$f":"IF('Soil 5'!E8=\"\",0,'Soil 5'!E8)","v":0},{"$f":"IF('Soil 5'!F8=\"\",0,'Soil 5'!F8)","v":0}]
[null,{"$f":"IF('Soil 1'!E9=\"\",0,'Soil 1'!E9)","v":0},{"$f":"IF('Soil 1'!F9=\"\",0,'Soil 1'!F9)","v":0},{"$f":"IF('Soil 2'!E9=\"\",0,'Soil 2'!E9)","v":0},{"$f":"IF('Soil 2'!F9=\"\",0,'Soil 2'!F9)","v":0},{"$f":"IF('Soil 3'!E9=\"\",0,'Soil 3'!E9)","v":0},{"$f":"IF('Soil 3'!F9=\"\",0,'Soil 3'!F9)","v":0},{"$f":"IF('Soil 4'!E9=\"\",0,'Soil 4'!E9)","v":0},{"$f":"IF('Soil 4'!F9=\"\",0,'Soil 4'!F9)","v":0},{"$f":"IF('Soil 5'!E9=\"\",0,'Soil 5'!E9)","v":0},{"$f":"IF('Soil 5'!F9=\"\",0,'Soil 5'!F9)","v":0},null,{"$f":"IF('Soil 1'!E9=\"\",0,'Soil 1'!E9)","v":0},{"$f":"IF('Soil 1'!F9=\"\",0,'Soil 1'!F9)","v":0},{"$f":"IF('Soil 2'!E9=\"\",0,'Soil 2'!E9)","v":0},{"$f":"IF('Soil 2'!F9=\"\",0,'Soil 2'!F9)","v":0},{"$f":"IF('Soil 3'!E9=\"\",0,'Soil 3'!E9)","v":0},{"$f":"IF('Soil 3'!F9=\"\",0,'Soil 3'!F9)","v":0},{"$f":"IF('Soil 4'!E9=\"\",0,'Soil 4'!E9)","v":0},{"$f":"IF('Soil 4'!F9=\"\",0,'Soil 4'!F9)","v":0},{"$f":"IF('Soil 5'!E9=\"\",0,'Soil 5'!E9)","v":0},{"$f":"IF('Soil 5'!F9=\"\",0,'Soil 5'!F9)","v":0},null,{"$f":"IF('Soil 1'!E9=\"\",0,'Soil 1'!E9)","v":0},{"$f":"IF('Soil 1'!F9=\"\",0,'Soil 1'!F9)","v":0},{"$f":"IF('Soil 2'!E9=\"\",0,'Soil 2'!E9)","v":0},{"$f":"IF('Soil 2'!F9=\"\",0,'Soil 2'!F9)","v":0},{"$f":"IF('Soil 3'!E9=\"\",0,'Soil 3'!E9)","v":0},{"$f":"IF('Soil 3'!F9=\"\",0,'Soil 3'!F9)","v":0},{"$f":"IF('Soil 4'!E9=\"\",0,'Soil 4'!E9)","v":0},{"$f":"IF('Soil 4'!F9=\"\",0,'Soil 4'!F9)","v":0},{"$f":"IF('Soil 5'!E9=\"\",0,'Soil 5'!E9)","v":0},{"$f":"IF('Soil 5'!F9=\"\",0,'Soil 5'!F9)","v":0}]
[null,{"$f":"IF('Soil 1'!E10=\"\",0,'Soil 1'!E10)","v":0},{"$f":"IF('Soil 1'!F10=\"\",0,'Soil 1'!F10)","v":0},{"$f":"IF('Soil 2'!E10=\"\",0,'Soil 2'!E10)","v":0},{"$f":"IF('Soil 2'!F10=\"\",0,'Soil 2'!F10)","v":0},{"$f":"IF('Soil 3'!E10=\"\",0,'Soil 3'!E10)","v":0},{"$f":"IF('Soil 3'!F10=\"\",0,'Soil 3'!F10)","v":0},{"$f":"IF('Soil 4'!E10=\"\",0,'Soil 4'!E10)","v":0},{"$f":"IF('Soil 4'!F10=\"\",0,'Soil 4'!F10)","v":0},{"$f":"IF('Soil 5'!E10=\"\",0,'Soil 5'!E10)","v":0},{"$f":"IF('Soil 5'!F10=\"\",0,'Soil 5'!F10)","v":0},null,{"$f":"IF('Soil 1'!E10=\"\",0,'Soil 1'!E10)","v":0},{"$f":"IF('Soil 1'!F10=\"\",0,'Soil 1'!F10)","v":0},{"$f":"IF('Soil 2'!E10=\"\",0,'Soil 2'!E10)","v":0},{"$f":"IF('Soil 2'!F10=\"\",0,'Soil 2'!F10)","v":0},{"$f":"IF('Soil 3'!E10=\"\",0,'Soil 3'!E10)","v":0},{"$f":"IF('Soil 3'!F10=\"\",0,'Soil 3'!F10)","v":0},{"$f":"IF('Soil 4'!E10=\"\",0,'Soil 4'!E10)","v":0},{"$f":"IF('Soil 4'!F10=\"\",0,'Soil 4'!F10)","v":0},{"$f":"IF('Soil 5'!E10=\"\",0,'Soil 5'!E10)","v":0},{"$f":"IF('Soil 5'!F10=\"\",0,'Soil 5'!F10)","v":0},null,{"$f":"IF('Soil 1'!E10=\"\",0,'Soil 1'!E10)","v":0},{"$f":"IF('Soil 1'!F10=\"\",0,'Soil 1'!F10)","v":0},{"$f":"IF('Soil 2'!E10=\"\",0,'Soil 2'!E10)","v":0},{"$f":"IF('Soil 2'!F10=\"\",0,'Soil 2'!F10)","v":0},{"$f":"IF('Soil 3'!E10=\"\",0,'Soil 3'!E10)","v":0},{"$f":"IF('Soil 3'!F10=\"\",0,'Soil 3'!F10)","v":0},{"$f":"IF('Soil 4'!E10=\"\",0,'Soil 4'!E10)","v":0},{"$f":"IF('Soil 4'!F10=\"\",0,'Soil 4'!F10)","v":0},{"$f":"IF('Soil 5'!E10=\"\",0,'Soil 5'!E10)","v":0},{"$f":"IF('Soil 5'!F10=\"\",0,'Soil 5'!F10)","v":0}]
[null,{"$f":"IF('Soil 1'!E11=\"\",0,'Soil 1'!E11)","v":0},{"$f":"IF('Soil 1'!F11=\"\",0,'Soil 1'!F11)","v":0},{"$f":"IF('Soil 2'!E11=\"\",0,'Soil 2'!E11)","v":0},{"$f":"IF('Soil 2'!F11=\"\",0,'Soil 2'!F11)","v":0},{"$f":"IF('Soil 3'!E11=\"\",0,'Soil 3'!E11)","v":0},{"$f":"IF('Soil 3'!F11=\"\",0,'Soil 3'!F11)","v":0},{"$f":"IF('Soil 4'!E11=\"\",0,'Soil 4'!E11)","v":0},{"$f":"IF('Soil 4'!F11=\"\",0,'Soil 4'!F11)","v":0},{"$f":"IF('Soil 5'!E11=\"\",0,'Soil 5'!E11)","v":0},{"$f":"IF('Soil 5'!F11=\"\",0,'Soil 5'!F11)","v":0},null,{"$f":"IF('Soil 1'!E11=\"\",0,'Soil 1'!E11)","v":0},{"$f":"IF('Soil 1'!F11=\"\",0,'Soil 1'!F11)","v":0},{"$f":"IF('Soil 2'!E11=\"\",0,'Soil 2'!E11)","v":0},{"$f":"IF('Soil 2'!F11=\"\",0,'Soil 2'!F11)","v":0},{"$f":"IF('Soil 3'!E11=\"\",0,'Soil 3'!E11)","v":0},{"$f":"IF('Soil 3'!F11=\"\",0,'Soil 3'!F11)","v":0},{"$f":"IF('Soil 4'!E11=\"\",0,'Soil 4'!E11)","v":0},{"$f":"IF('Soil 4'!F11=\"\",0,'Soil 4'!F11)","v":0},{"$f":"IF('Soil 5'!E11=\"\",0,'Soil 5'!E11)","v":0},{"$f":"IF('Soil 5'!F11=\"\",0,'Soil 5'!F11)","v":0},null,{"$f":"IF('Soil 1'!E11=\"\",0,'Soil 1'!E11)","v":0},{"$f":"IF('Soil 1'!F11=\"\",0,'Soil 1'!F11)","v":0},{"$f":"IF('Soil 2'!E11=\"\",0,'Soil 2'!E11)","v":0},{"$f":"IF('Soil 2'!F11=\"\",0,'Soil 2'!F11)","v":0},{"$f":"IF('Soil 3'!E11=\"\",0,'Soil 3'!E11)","v":0},{"$f":"IF('Soil 3'!F11=\"\",0,'Soil 3'!F11)","v":0},{"$f":"IF('Soil 4'!E11=\"\",0,'Soil 4'!E11)","v":0},{"$f":"IF('Soil 4'!F11=\"\",0,'Soil 4'!F11)","v":0},{"$f":"IF('Soil 5'!E11=\"\",0,'Soil 5'!E11)","v":0},{"$f":"IF('Soil 5'!F11=\"\",0,'Soil 5'!F11)","v":0}]
[null,{"$f":"IF('Soil 1'!E12=\"\",0,'Soil 1'!E12)","v":0},{"$f":"IF('Soil 1'!F12=\"\",0,'Soil 1'!F12)","v":0},{"$f":"IF('Soil 2'!E12=\"\",0,'Soil 2'!E12)","v":0},{"$f":"IF('Soil 2'!F12=\"\",0,'Soil 2'!F12)","v":0},{"$f":"IF('Soil 3'!E12=\"\",0,'Soil 3'!E12)","v":0},{"$f":"IF('Soil 3'!F12=\"\",0,'Soil 3'!F12)","v":0},{"$f":"IF('Soil 4'!E12=\"\",0,'Soil 4'!E12)","v":0},{"$f":"IF('Soil 4'!F12=\"\",0,'Soil 4'!F12)","v":0},{"$f":"IF('Soil 5'!E12=\"\",0,'Soil 5'!E12)","v":0},{"$f":"IF('Soil 5'!F12=\"\",0,'Soil 5'!F12)","v":0},null,{"$f":"IF('Soil 1'!E12=\"\",0,'Soil 1'!E12)","v":0},{"$f":"IF('Soil 1'!F12=\"\",0,'Soil 1'!F12)","v":0},{"$f":"IF('Soil 2'!E12=\"\",0,'Soil 2'!E12)","v":0},{"$f":"IF('Soil 2'!F12=\"\",0,'Soil 2'!F12)","v":0},{"$f":"IF('Soil 3'!E12=\"\",0,'Soil 3'!E12)","v":0},{"$f":"IF('Soil 3'!F12=\"\",0,'Soil 3'!F12)","v":0},{"$f":"IF('Soil 4'!E12=\"\",0,'Soil 4'!E12)","v":0},{"$f":"IF('Soil 4'!F12=\"\",0,'Soil 4'!F12)","v":0},{"$f":"IF('Soil 5'!E12=\"\",0,'Soil 5'!E12)","v":0},{"$f":"IF('Soil 5'!F12=\"\",0,'Soil 5'!F12)","v":0}]
[null,{"$f":"IF('Soil 1'!E13=\"\",0,'Soil 1'!E13)","v":0},{"$f":"IF('Soil 1'!F13=\"\",0,'Soil 1'!F13)","v":0},{"$f":"IF('Soil 2'!E13=\"\",0,'Soil 2'!E13)","v":0},{"$f":"IF('Soil 2'!F13=\"\",0,'Soil 2'!F13)","v":0},{"$f":"IF('Soil 3'!E13=\"\",0,'Soil 3'!E13)","v":0},{"$f":"IF('Soil 3'!F13=\"\",0,'Soil 3'!F13)","v":0},{"$f":"IF('Soil 4'!E13=\"\",0,'Soil 4'!E13)","v":0},{"$f":"IF('Soil 4'!F13=\"\",0,'Soil 4'!F13)","v":0},{"$f":"IF('Soil 5'!E13=\"\",0,'Soil 5'!E13)","v":0},{"$f":"IF('Soil 5'!F13=\"\",0,'Soil 5'!F13)","v":0},null,{"$f":"IF('Soil 1'!E13=\"\",0,'Soil 1'!E13)","v":0},{"$f":"IF('Soil 1'!F13=\"\",0,'Soil 1'!F13)","v":0},{"$f":"IF('Soil 2'!E13=\"\",0,'Soil 2'!E13)","v":0},{"$f":"IF('Soil 2'!F13=\"\",0,'Soil 2'!F13)","v":0},{"$f":"IF('Soil 3'!E13=\"\",0,'Soil 3'!E13)","v":0},{"$f":"IF('Soil 3'!F13=\"\",0,'Soil 3'!F13)","v":0},{"$f":"IF('Soil 4'!E13=\"\",0,'Soil 4'!E13)","v":0},{"$f":"IF('Soil 4'!F13=\"\",0,'Soil 4'!F13)","v":0},{"$f":"IF('Soil 5'!E13=\"\",0,'Soil 5'!E13)","v":0},{"$f":"IF('Soil 5'!F13=\"\",0,'Soil 5'!F13)","v":0}]
[null,{"$f":"IF('Soil 1'!E14=\"\",0,'Soil 1'!E14)","v":0},{"$f":"IF('Soil 1'!F14=\"\",0,'Soil 1'!F14)","v":0},{"$f":"IF('Soil 2'!E14=\"\",0,'Soil 2'!E14)","v":0},{"$f":"IF('Soil 2'!F14=\"\",0,'Soil 2'!F14)","v":0},{"$f":"IF('Soil 3'!E14=\"\",0,'Soil 3'!E14)","v":0},{"$f":"IF('Soil 3'!F14=\"\",0,'Soil 3'!F14)","v":0},{"$f":"IF('Soil 4'!E14=\"\",0,'Soil 4'!E14)","v":0},{"$f":"IF('Soil 4'!F14=\"\",0,'Soil 4'!F14)","v":0},{"$f":"IF('Soil 5'!E14=\"\",0,'Soil 5'!E14)","v":0},{"$f":"IF('Soil 5'!F14=\"\",0,'Soil 5'!F14)","v":0},null,{"$f":"IF('Soil 1'!E14=\"\",0,'Soil 1'!E14)","v":0},{"$f":"IF('Soil 1'!F14=\"\",0,'Soil 1'!F14)","v":0},{"$f":"IF('Soil 2'!E14=\"\",0,'Soil 2'!E14)","v":0},{"$f":"IF('Soil 2'!F14=\"\",0,'Soil 2'!F14)","v":0},{"$f":"IF('Soil 3'!E14=\"\",0,'Soil 3'!E14)","v":0},{"$f":"IF('Soil 3'!F14=\"\",0,'Soil 3'!F14)","v":0},{"$f":"IF('Soil 4'!E14=\"\",0,'Soil 4'!E14)","v":0},{"$f":"IF('Soil 4'!F14=\"\",0,'Soil 4'!F14)","v":0},{"$f":"IF('Soil 5'!E14=\"\",0,'Soil 5'!E14)","v":0},{"$f":"IF('Soil 5'!F14=\"\",0,'Soil 5'!F14)","v":0}]
[null,{"$f":"IF('Soil 1'!E15=\"\",0,'Soil 1'!E15)","v":0},{"$f":"IF('Soil 1'!F15=\"\",0,'Soil 1'!F15)","v":0},{"$f":"IF('Soil 2'!E15=\"\",0,'Soil 2'!E15)","v":0},{"$f":"IF('Soil 2'!F15=\"\",0,'Soil 2'!F15)","v":0},{"$f":"IF('Soil 3'!E15=\"\",0,'Soil 3'!E15)","v":0},{"$f":"IF('Soil 3'!F15=\"\",0,'Soil 3'!F15)","v":0},{"$f":"IF('Soil 4'!E15=\"\",0,'Soil 4'!E15)","v":0},{"$f":"IF('Soil 4'!F15=\"\",0,'Soil 4'!F15)","v":0},{"$f":"IF('Soil 5'!E15=\"\",0,'Soil 5'!E15)","v":0},{"$f":"IF('Soil 5'!F15=\"\",0,'Soil 5'!F15)","v":0},null,{"$f":"IF('Soil 1'!E15=\"\",0,'Soil 1'!E15)","v":0},{"$f":"IF('Soil 1'!F15=\"\",0,'Soil 1'!F15)","v":0},{"$f":"IF('Soil 2'!E15=\"\",0,'Soil 2'!E15)","v":0},{"$f":"IF('Soil 2'!F15=\"\",0,'Soil 2'!F15)","v":0},{"$f":"IF('Soil 3'!E15=\"\",0,'Soil 3'!E15)","v":0},{"$f":"IF('Soil 3'!F15=\"\",0,'Soil 3'!F15)","v":0},{"$f":"IF('Soil 4'!E15=\"\",0,'Soil 4'!E15)","v":0},{"$f":"IF('Soil 4'!F15=\"\",0,'Soil 4'!F15)","v":0},{"$f":"IF('Soil 5'!E15=\"\",0,'Soil 5'!E15)","v":0},{"$f":"IF('Soil 5'!F15=\"\",0,'Soil 5'!F15)","v":0}]
[null,{"$f":"IF('Soil 1'!E16=\"\",0,'Soil 1'!E16)","v":0},{"$f":"IF('Soil 1'!F16=\"\",0,'Soil 1'!F16)","v":0},{"$f":"IF('Soil 2'!E16=\"\",0,'Soil 2'!E16)","v":0},{"$f":"IF('Soil 2'!F16=\"\",0,'Soil 2'!F16)","v":0},{"$f":"IF('Soil 3'!E16=\"\",0,'Soil 3'!E16)","v":0},{"$f":"IF('Soil 3'!F16=\"\",0,'Soil 3'!F16)","v":0},{"$f":"IF('Soil 4'!E16=\"\",0,'Soil 4'!E16)","v":0},{"$f":"IF('Soil 4'!F16=\"\",0,'Soil 4'!F16)","v":0},{"$f":"IF('Soil 5'!E16=\"\",0,'Soil 5'!E16)","v":0},{"$f":"IF('Soil 5'!F16=\"\",0,'Soil 5'!F16)","v":0},null,{"$f":"IF('Soil 1'!E16=\"\",0,'Soil 1'!E16)","v":0},{"$f":"IF('Soil 1'!F16=\"\",0,'Soil 1'!F16)","v":0},{"$f":"IF('Soil 2'!E16=\"\",0,'Soil 2'!E16)","v":0},{"$f":"IF('Soil 2'!F16=\"\",0,'Soil 2'!F16)","v":0},{"$f":"IF('Soil 3'!E16=\"\",0,'Soil 3'!E16)","v":0},{"$f":"IF('Soil 3'!F16=\"\",0,'Soil 3'!F16)","v":0},{"$f":"IF('Soil 4'!E16=\"\",0,'Soil 4'!E16)","v":0},{"$f":"IF('Soil 4'!F16=\"\",0,'Soil 4'!F16)","v":0},{"$f":"IF('Soil 5'!E16=\"\",0,'Soil 5'!E16)","v":0},{"$f":"IF('Soil 5'!F16=\"\",0,'Soil 5'!F16)","v":0}]
[null,{"$f":"IF('Soil 1'!E17=\"\",0,'Soil 1'!E17)","v":0},{"$f":"IF('Soil 1'!F17=\"\",0,'Soil 1'!F17)","v":0},{"$f":"IF('Soil 2'!E17=\"\",0,'Soil 2'!E17)","v":0},{"$f":"IF('Soil 2'!F17=\"\",0,'Soil 2'!F17)","v":0},{"$f":"IF('Soil 3'!E17=\"\",0,'Soil 3'!E17)","v":0},{"$f":"IF('Soil 3'!F17=\"\",0,'Soil 3'!F17)","v":0},{"$f":"IF('Soil 4'!E17=\"\",0,'Soil 4'!E17)","v":0},{"$f":"IF('Soil 4'!F17=\"\",0,'Soil 4'!F17)","v":0},{"$f":"IF('Soil 5'!E17=\"\",0,'Soil 5'!E17)","v":0},{"$f":"IF('Soil 5'!F17=\"\",0,'Soil 5'!F17)","v":0}]
[null,{"$f":"IF('Soil 1'!E18=\"\",0,'Soil 1'!E18)","v":0},{"$f":"IF('Soil 1'!F18=\"\",0,'Soil 1'!F18)","v":0},{"$f":"IF('Soil 2'!E18=\"\",0,'Soil 2'!E18)","v":0},{"$f":"IF('Soil 2'!F18=\"\",0,'Soil 2'!F18)","v":0},{"$f":"IF('Soil 3'!E18=\"\",0,'Soil 3'!E18)","v":0},{"$f":"IF('Soil 3'!F18=\"\",0,'Soil 3'!F18)","v":0},{"$f":"IF('Soil 4'!E18=\"\",0,'Soil 4'!E18)","v":0},{"$f":"IF('Soil 4'!F18=\"\",0,'Soil 4'!F18)","v":0},{"$f":"IF('Soil 5'!E18=\"\",0,'Soil 5'!E18)","v":0},{"$f":"IF('Soil 5'!F18=\"\",0,'Soil 5'!F18)","v":0}]
[null,{"$f":"IF('Soil 1'!E19=\"\",0,'Soil 1'!E19)","v":0},{"$f":"IF('Soil 1'!F19=\"\",0,'Soil 1'!F19)","v":0},{"$f":"IF('Soil 2'!E19=\"\",0,'Soil 2'!E19)","v":0},{"$f":"IF('Soil 2'!F19=\"\",0,'Soil 2'!F19)","v":0},{"$f":"IF('Soil 3'!E19=\"\",0,'Soil 3'!E19)","v":0},{"$f":"IF('Soil 3'!F19=\"\",0,'Soil 3'!F19)","v":0},{"$f":"IF('Soil 4'!E19=\"\",0,'Soil 4'!E19)","v":0},{"$f":"IF('Soil 4'!F19=\"\",0,'Soil 4'!F19)","v":0},{"$f":"IF('Soil 5'!E19=\"\",0,'Soil 5'!E19)","v":0},{"$f":"IF('Soil 5'!F19=\"\",0,'Soil 5'!F19)","v":0}]
[null,{"$f":"IF('Soil 1'!E20=\"\",0,'Soil 1'!E20)","v":0},{"$f":"IF('Soil 1'!F20=\"\",0,'Soil 1'!F20)","v":0},{"$f":"IF('Soil 2'!E20=\"\",0,'Soil 2'!E20)","v":0},{"$f":"IF('Soil 2'!F20=\"\",0,'Soil 2'!F20)","v":0},{"$f":"IF('Soil 3'!E20=\"\",0,'Soil 3'!E20)","v":0},{"$f":"IF('Soil 3'!F20=\"\",0,'Soil 3'!F20)","v":0},{"$f":"IF('Soil 4'!E20=\"\",0,'Soil 4'!E20)","v":0},{"$f":"IF('Soil 4'!F20=\"\",0,'Soil 4'!F20)","v":0},{"$f":"IF('Soil 5'!E20=\"\",0,'Soil 5'!E20)","v":0},{"$f":"IF('Soil 5'!F20=\"\",0,'Soil 5'!F20)","v":0}]
[null,{"$f":"IF('Soil 1'!E21=\"\",0,'Soil 1'!E21)","v":0},{"$f":"IF('Soil 1'!F21=\"\",0,'Soil 1'!F21)","v":0},{"$f":"IF('Soil 2'!E21=\"\",0,'Soil 2'!E21)","v":0},{"$f":"IF('Soil 2'!F21=\"\",0,'Soil 2'!F21)","v":0},{"$f":"IF('Soil 3'!E21=\"\",0,'Soil 3'!E21)","v":0},{"$f":"IF('Soil 3'!F21=\"\",0,'Soil 3'!F21)","v":0},{"$f":"IF('Soil 4'!E21=\"\",0,'Soil 4'!E21)","v":0},{"$f":"IF('Soil 4'!F21=\"\",0,'Soil 4'!F21)","v":0},{"$f":"IF('Soil 5'!E21=\"\",0,'Soil 5'!E21)","v":0},{"$f":"IF('Soil 5'!F21=\"\",0,'Soil 5'!F21)","v":0}]

{"sheet":"Additional instructions","index":10,"n_rows":59,"n_cols":2,"rows_kept":59,"cut":false,"hidden":false,"merged":[]}
[]
[]
[]
[null,"Instructions for performing statistical analysis outside of the automated tool"]
[]
[null,"If you need to perform statistical analysis to generate confidence intervals outside of the automated tool functions, first arrange data in adjacent columns of log "]
[null,"aqueous phase concentration (µg/ml) at equilibrium and then log sorbed concentration (µg/g) at equilibrium.  This may be necessary if you have missing "]
[null,"values (e.g. data for only 4 test concentrations) where the automated statistical functions of this sheet will not work.  This method may also be used to analyse"]
[null,"studies where triplicate data values are available, which cannot be handled by the current automated tool functions. "]
[]
[null,"Select 'Data Analysis' from the Data menu tab in Excel."]
[]
[]
[]
[]
[]
[]
[]
[null,"Then select 'Regression' and select 'OK'."]
[]
[]
[]
[]
[]
[]
[]
[]
[]
[]
[]
[null,"Select the Y (sorbed phase concentration) and X (aqueous phase concentration) input ranges."]
[null,"Tick the 'Confidence Level' box."]
[null,"Select the 'Output Range' - this can be a single cell reference directly below your data."]
[null,"If you want Excel to generate residual and line fit plots, tick the respective boxes."]
[null,"Click OK."]
[]
[]
[]
[]
[]
[]
[]
[]
[]
[]
[]
[]
[]
[]
[]
[]
[]
[]
[null,"Results are created in' Summary Output' form.  The 'Intercept' coefficient is log Kf."]
[null,"The 'X Variable 1' is the 1/n value."]
[null,"The lower and upper 95% confidence interval for the log Kf must be converted from log values (i.e. in Excel, using the =10^'cell reference' function). "]
[null,"Confidence intervals for 1/n can be read directly from the 'Summary Output'."]
[null,"A linear trendline can be added to the 'Line Fit' plot by right-clicking on the Y data and selecting 'add trendline', and choosing the 'linear' checkbox.  The equation and"]
[null,"The R-squared value can also be displayed by selecting the respective checkboxes in the 'Trendline options' box."]