Workbook

Sheet Cadenas
A2: Cadena SCOPUS: | B2: ( TITLE-ABS-KEY ( complex* OR "complex thinking" OR "critical thinking" OR "systemic thinking" OR "innovative thinking" OR "scientific thinking" ) AND TITLE-ABS-KEY ( "computational thinking" ) AND TITLE-ABS-KEY ( assess* OR evaluat* ) AND TITLE-ABS-KEY ( "higher education" OR university ) ) AND PUBYEAR > 2013
A3: Cantidad: | B3: 62
A4: Fecha: | B4: 09 de abril de 2025.
A7: Cadena WOS: | B7: (((TS=(Complex* OR "complex thinking" OR “critical thinking” OR “systemic thinking” OR “innovative thinking” OR “scientific thinking”)) AND TS=(computational thinking)) AND TS=(assess* OR evaluat*)) AND TS=("higher education" OR university)
A8: Cantidad: | B8: 346
A9: Fecha: | B9: 09 de abril de 2025

Sheet Arts Scopus Original
A1: # | B1: Database | C1: Authors | D1: Keywords | E1: Title | F1: Year | G1: Source title | H1: Cited by | I1: DOI | J1: Affiliations | K1: Language | L1: Document Type | M1: Country | N1: Abstract
A2: 1 | B2: Scopus | C2: Sari N.A.R.M.; Putri A.P.R.Z.; Chen H.-R.; Wu T.-T. | D2: Collaborative Project-based Learning; Computational Thinking; Design and Implementation; Economics and Business Education; Student Attitudes | E2: Effects of Computational Thinking and Collaborative Project-Based Learning on Student Attitudes Toward Learning: A Design and Implementation Study | F2: 2024 | G2: Lecture Notes in Computer Science (including subseries Lecture Notes in Artificial Intelligence and Lecture Notes in Bioinformatics) | H2: 0 | I2: 10.1007/978-3-031-65881-5_9 | J2: National Yunlin University of Science and Technology, Yunlin, 64002, Taiwan; Faculty of Economics and Business, Universitas Muhammadiyah Semarang, Semarang, 50273, Indonesia; Department of Digital Content and Technology, National Taichung University of Education, Taichung, 403, Taiwan | K2: English | L2: Conference paper | M2: Taiwan | N2: This study examines the impact of integrating computational thinking (CT) into collaborative project-based learning (CPBL) approaches on undergraduate student attitudes toward learning in economics and business disciplines. Forty-seven students from a private university in Indonesia participated in a quasi-experimental design, with 23 students in the control group and 24 in the experimental group. Pretest and posttest scores for the Real-World Connection, Conceptual Connections, Applied Conceptual Understanding, and General Problem-Solving subscales were assessed using a modified Colorado Learning Attitude Science Survey (CLASS). Results indicated significant improvements in posttest scores for all subscales in the experimental group compared to the control group. Specifically, students in the experimental group demonstrated stronger perceptions of the relevance of course materials to real-world contexts, enhanced conceptual understanding, an improved ability to apply conceptual knowledge, and increased problem-solving skills. These findings suggest that integrating CT into CPBL approaches enriches students’ learning experiences and prepares them for the dynamic challenges of the modern workforce. Educators are encouraged to consider the implications of these results and explore innovative pedagogical approaches that promote deeper learning and critical thinking skills among students. © The Author(s), under exclusive license to Springer Nature Switzerland AG 2024.
A3: 2 | B3: Scopus | C3: Kules B. | D3: computational thinking; Critical thinking; curriculum; education; student learning outcomes | E3: Computational thinking is critical thinking: Connecting to university discourse, goals, and learning outcomes | F3: 2016 | G3: Proceedings of the Association for Information Science and Technology | H3: 36 | I3: 10.1002/pra2.2016.14505301092 | J3: College of Information Studies, University of Maryland, College Park, MD, United States | K3: English | L3: Article | M3: United States | N3: Computational thinking complements critical thinking as a way of reasoning to solve problems, make decisions and interact with our world. It draws concepts and techniques such as abstraction, decomposition, algorithmic design, generalization, evaluation and iteration from computer and information science, but has broad application in the arts, sciences, humanities and social sciences. This paper compares computational and critical modes of thinking, identifying concepts and terminology that support cross-disciplinary discourse, inform faculty and curriculum development efforts, and interconnect learning outcomes at the course, program and university level, thus helping programs better articulate contributions to institutional goals. A better understanding of each mode can enrich what we teach aspiring information professionals about computational and critical thinking, how we teach it, and how we apply these skills in our professional work. Copyright © 2016 by Association for Information Science and Technology
A4: 3 | B4: Scopus | C4: Chang S.-C.; Wongwatkit C. | D4: Collaborative learning; Computer programming; Higher order thinking; Peer assessment; Scrum project | E4: Effects of a peer assessment-based scrum project learning system on computer programming’s learning motivation, collaboration, communication, critical thinking, and cognitive load | F4: 2024 | G4: Education and Information Technologies | H4: 7 | I4: 10.1007/s10639-023-12084-x | J4: Department of International Bachelor Program in Informatics and the Department of Information Communication, Yuan Ze University, Taipei, Taiwan; School of Information Technology, Mae Fah Luang University, Chiang Rai, Thailand; Center of Excellence in AI and Emerging Technology, School of Information Technology, Mae Fah Luang University, Chiang Rai, Thailand; Digital Education and Learning Engineering Association of Thailand, Bangkok, Thailand | K4: English | L4: Article | M4: Taipei | N4: As computational thinking becomes increasingly essential, the challenge of designing effective teaching approaches to foster students’ abilities in this area persists, especially for higher order thinking skills. This study addresses this challenge by proposing and implementing a peer assessment-based Scrum project (PA-SP) learning approach in university computer programming learning. The approach involves dividing 98 third-year college students into an experimental group, which employs the PA-SP approach, and a control group, which uses the conventional Scrum project (C-SP) approach. The study investigates the impact of the PA-SP approach on students’ programming projects, learning motivation, project collaboration, communication, critical thinking, and cognitive load. The results demonstrate that the PA-SP approach significantly enhances learning achievement and motivation while also improving collaboration, communication, and critical thinking. By providing practical insights into effective teaching strategies to promote students’ computational thinking, this research has significant implications for improving programming education in universities. © The Author(s), under exclusive licence to Springer Science+Business Media, LLC, part of Springer Nature 2023.
A5: 4 | B5: Scopus | C5: Rasmussen E.L.; Musaeus P. | D5: curriculum change; curriculum development/evaluation; curriculum innovation; curriculum reform; dental education | E5: Subject matter changes in the dental curriculum: A scoping review of the last two decades | F5: 2024 | G5: Journal of Dental Education | H5: 1 | I5: 10.1002/jdd.13530 | J5: Centre for Educational Development, Aarhus University, Aarhus, Denmark | K5: English | L5: Review | M5: Denmark | N5: Purpose: In recent years, dental education has witnessed significant advancements and curriculum shifts in response to evolving healthcare needs, technological advances, and changing societal demands. As a result, dental universities worldwide have undergone substantial curriculum changes to ensure the adequate education and training of future dental professionals. The purpose of this study was to delineate the curriculum innovations over the past 20 years, with a focus on content within the current dental curriculum at universities worldwide. Method: The articles reviewed for this manuscript were published from 2000 to June 2023. Search queries were conducted in four databases: Embase, PubMed, Web of Science, and ERIC, yielding 367 unique studies. Of these, 31 were included in the final synthesis. Results: The nine principal subject matter themes identified in the thematic analysis of these articles were critical scientific thinking, computational thinking, global mindset, geriatric dental care, interprofessional teamwork, transition to practice, local community, integration, and lifelong learning. The themes were modeled and mapped in a three-axis figure, elucidating the interconnections between the themes. Conclusion: The identified themes signify the trajectory that dental education has taken and provide insights into the future course of the dental profession. © 2024 The Authors. Journal of Dental Education published by Wiley Periodicals LLC on behalf of American Dental Education Association.
A6: 5 | B6: Scopus | C6: Sannicandro K.; De Santis A.; Bellini C.; Minerva T. | D6: computational thinking; digital education; educational robotics; inclusive education; robotic healthcare; scoping review; special needs; teaching | E6: A scoping review on the relationship between robotics in educational contexts and e-health | F6: 2022 | G6: Frontiers in Education | H6: 7 | I6: 10.3389/feduc.2022.955572 | J6: Research Center Robotics and E-Health: A Challenge for Education (RECE), University of Modena and Reggio Emilia, Reggio Emilia, Italy | K6: English | L6: Review | M6: Italy | N6: In recent years, due to technological advancement, research has been directed to the development and analysis of resources and tools related to educational robotics with particular attention to the field of special needs and training actions aimed at learners, teachers, professionals, and families. The use of robotics in all levels of education can support the development of logical and computational thinking, interaction, communication, and socialization, and the acquisition of particularly complex work practices, for example, in the medical field. The adoption of successful educational robotics training practices can be a potential tool to support rehabilitation interventions for disabilities and comprehensive training for students or future professionals in healthcare. A scoping review was conducted on the main topics “education” AND “robotics” with three specific focuses on complementary themes in educational research about ER: (1) teaching and computational thinking, (2) training in the health sector, and (3) education and special needs. The authors systematically searched two online databases, Scopus and Web of Science, up to April 2022. A total of 164 articles were evaluated, and 59 articles were analyzed, in a particular way N = 33 related to computational thinking, N = 15 related to e-health, and N = 11 related to special needs. The following four questions guided our research: (1) What are the educational and experimental experiences conducted through robotics in transdisciplinary fields? (2) What tools and resources are most used in such experiments (educational robotics kit, humanoid robots, telepresence robots etc.)? (3) What are the constitutive elements of the experiments and studies involving robotics and health in educational contexts? and (4) What are those explicitly related to students with special needs? In this study, part of the research project “Robotics and E-health: new Challenges for Education” (RECE) activated at the University of Modena and Reggio Emilia. RECE aims to investigate the training, educational, cognitive, and legal processes induced by the increasing diffusion of educational robotics and telemedicine in clinical and surgical contexts. Copyright © 2022 Sannicandro, De Santis, Bellini and Minerva.
A7: 6 | B7: Scopus | C7: Sobreira P.D.L.; Abijaude J.W.; Viana H.D.G.; Santiago L.M.S.; Guemhioui K.E.; Wahab O.A.; Greve F. | D7: Cognitive Walkthrough; Computational Thinking; Engineering Education; Evaluation; Internet of Things; IoT; Learning; Scratch; Usability | E7: Usability evaluation of block programming tools in IoT contexts for initial engineering courses | F7: 2020 | G7: EDUNINE 2020 - 4th IEEE World Engineering Education Conference: The Challenges of Education in Engineering, Computing and Technology without Exclusions: Innovation in the Era of the Industrial Revolution 4.0, Proceedings | H7: 7 | I7: 10.1109/EDUNINE48860.2020.9149481 | J7: University of Québec at Outaouais, Gatineau, Canada; Santa Cruz State University, Ilhéus, Brazil; Federal University of Bahia, Salvador, Brazil | K7: English | L7: Conference paper | M7: Canada | N7: Scratch has been shown as one of the main tools for teaching Computational Thinking through the concept of(block-based) programming. In the present research, two platforms based on/inspired by Scratch were considered for the analysis of their usability characteristics through the Cognitive Walkthrough method, for later use by engineering students at the beginning of their university courses for the development of their competences of logical thinking and abstraction of complex concepts: Snap4Arduino (used in the development of solutions for Internet of Things), and; App Inventor (used in the development of Android applications). The results show a positive evaluation of these tools, generating motivation for their use by new engineering students in their teaching-learning processes. © 2020 IEEE.
A8: 7 | B8: Scopus | C8: Zhang J.-H.; Meng B.; Zou L.-C.; Zhu Y.; Hwang G.-J. | D8: Computational thinking; flowchart; programming self-efficacy; progressive teaching; scaffolding theory | E8: Progressive flowchart development scaffolding to improve university students’ computational thinking and programming self-efficacy | F8: 2023 | G8: Interactive Learning Environments | H8: 37 | I8: 10.1080/10494820.2021.1943687 | J8: Department of Educational Technology, Zhejiang Normal University, Jinhua, China; Yanwu Primary School affiliated to Xiamen University, Xiamen, China; Graduate Institute of Digital Learning and Education, National Taiwan University of Science and Technology, Taipei, Taiwan | K8: English | L8: Article | M8: China | N8: As one of the core skills of the 21st century, computational thinking has received increasing attention from educators and researchers. Although some research has been conducted on computational thinking, few studies examined the impact of learning activities on students’ computation thinking skills from the perspective of cognitive development. Based on the theory of scaffolding instruction, a progressive thinking training approach with flowcharts was proposed to cultivate students’ computational thinking skills. A quasi-experiment was designed to evaluate the effectiveness of the training. Forty-nine Chinese tertiary students undertaking a programming course were randomly assigned into two groups–the experimental and control groups. During the course, the experimental group received progressive training, and the control group received non-progressive training. The results showed that the experimental group gained a significantly higher level of academic achievement than the control group. Meanwhile, the experimental group showed a remarkable improvement in programming self-efficacy. Furthermore, the participants in the experimental group showed a higher level of computational thinking skills, including cooperative learning, critical thinking, and problem solving skills. In summary, the progressive thinking training approach with flowcharts could not only improve the participants’ computational thinking skills and programming self-efficacy, but also help them to achieve better academic outcomes. © 2021 Informa UK Limited, trading as Taylor & Francis Group.
A9: 8 | B9: Scopus | C9: Lai C.-F.; Zhong H.-X.; Chang J.-H.; Chiu P.-S. | D9: (DT) design thinking; CDIO engineering design; Computational thinking (CT) ability; Flipped learning; Learning achievement | E9: Applying the DT-CDIO engineering design model in a flipped learning programming course | F9: 2022 | G9: Educational Technology Research and Development | H9: 6 | I9: 10.1007/s11423-022-10086-z | J9: Department of Engineering Science, National Cheng Kung University, 1, University Rd., Tainan, 701, Taiwan; Computer and Network Center, Department of Computer Science and Information Engineering Department of Computer Science, National Cheng Kung University, 1, University Rd., Tainan, 701, Taiwan; Department of E-Learning Design and Management, National Chiayi University, No.85 Wenlong, Minxiong Township,Chiayi County, 621, Taiwan | K9: English | L9: Article | M9: Taiwan | N9: A web design course has complex and diverse skills, which may attract students with an interest in technology and art fields to learn to program. It makes a need to have a flexible learning framework to develop all students to learn in a programming course. This study was designed to develop students’ learning achievement and computational thinking (CT) abilities by using a Design Thinking (DT)—Conceive-Design-Implement-Operate (CDIO) engineering design framework in a flipped web programming course. The participants were 41 students (males = 17, females = 24) coming from a Taiwan University. All of the students (20–21 years old) had e-learning-related backgrounds in a teacher’s college. The experiment was conducted for 14 weeks. The flipped learning and flipped DT-CDIO course each had a total teaching time of 6 weeks, and the midterm exam and final exam each took one week. We used a questionnaire and formative assessment to examine the students’ computational thinking ability and learning achievement before and after the course was applied. The results showed the students significantly improved their learning achievement and computational thinking ability. There were no significant gender differences in learning achievement. Some gender differences could be seen in some dimensions of CT ability. This study shows that the DT-CDIO framework brings many benefits to promote interdisciplinary learning by attracting STEAM talent and providing evidence to support the importance of flipped web programming courses. © 2022, Association for Educational Communications and Technology.
A10: 9 | B10: Scopus | C10: Wardani W.; Rosidin U.; Yulianti D. | D10: 7C skills; engagement theory; global competence; measurement tool; multicultural learning | E10: The 7C Skills Framework: A Measurement Tool to Enhance Global Competence in Multicultural Learning Based on Engagement Theory | F10: 2025 | G10: International Journal of Learning, Teaching and Educational Research | H10: 1 | I10: 10.26803/ijlter.24.2.1 | J10: Department of Education, Faculty of Teacher Training and Education, Lampung University, Bandar Lampung, Indonesia | K10: English | L10: Article | M10: Indonesia | N10: The need to understand global competence in higher education in Indonesia currently relies on the 7C skills measuring instrument, which originates from Western cultural contexts and may lead to potential biases. This study aims to develop a 7C skills measuring instrument grounded in engagement theory through theoretical studies, expert validation, empirical testing, and construct validity. Adopting an exploratory sequential mixed-methods design, the research was conducted in two phases: the qualitative phase followed by the quantitative phase. The qualitative phase aimed to conceptualize the development of the 7C skills measuring instrument based on engagement theory through theoretical studies and expert evaluations. The findings from the qualitative phase revealed that the 7C skills framework consists of seven dimensions: critical thinking, collaboration, communication, creativity, connectivity, computational thinking, and cross-cultural understanding. The instrument was tested on 385 university students in Indonesia and analyzed for feasibility, factor structure, and construct validity. As a result, the instrument was reduced to 61 items, as certain items did not meet eligibility criteria. These findings demonstrate that the 7C skills measuring instrument, grounded in engagement theory, is valid and applicable for university students in Indonesia. Additionally, this study contributes to both the refinement of engagement theory as the foundation for constructing the 7C skills framework and the advancement of engagement theory by integrating perspectives from motivational theory and environmental fit. The practical implications include the development of a more precise and applicable 7C skills measurement tool for various educational contexts, fostering the enhancement of 21st-century skills. © 2025 Society for Research and Knowledge Management. All rights reserved.
A11: 10 | B11: Scopus | C11: Izquierdo-Álvarez V.; Pinto-Llorente A.M. | D11: algorithmic thinking; computational thinking; digital competence; education for sustainable development; higher education; pre-service teachers; programming; quality education; STEM; teacher training | E11: Exploring Pre-Service Teachers’ Perceptions of the Educational Value and Benefits of Computational Thinking and Programming | F11: 2025 | G11: Sustainability (Switzerland) | H11: 0 | I11: 10.3390/su17052164 | J11: Research GRoup in InterAction and eLearning (GRIAL), Research Institute for Educational Sciences (IUCE), University of Salamanca, Salamanca, 37008, Spain | K11: English | L11: Article | M11: Spain | N11: Computational Thinking (CT) and programming encompass a range of skills that are essential in everyday life and play a crucial role in addressing social and environmental challenges. They facilitate the analysis and understanding of global issues, the evaluation of viable solutions, and the formulation of strategic decisions that contribute to Education for Sustainable Development and the achievement of the Sustainable Development Goals. The primary objective of this study was to examine pre-service teachers’ perceptions of these areas. A quantitative study was conducted with 134 university students from the Faculty of Education and Tourism at the University of Salamanca. The findings indicate that CT and programming significantly contribute to enhancing digital competence, fostering essential skills for the effective use of technological tools, developing problem-solving strategies, and increasing self-confidence in identifying and refining solutions to complex problems. Regarding gender differences, significant differences were observed, with women scoring higher on average in various aspects. These included the ability to actively seek, compare, and select digital information from diverse sources and contexts, assess the potential risks associated with digital tools—such as security and identity concerns—and demonstrate confidence in accessing the necessary resources and training to integrate CT and programming into education. © 2025 by the authors.
A12: 11 | B12: Scopus | C12: Shin Y.; Jung J.; Choi S.; Jung B. | D12: Cognitive load; Collaborative programming; Computational thinking; Higher education; Problem-solving | E12: The influence of scaffolding for computational thinking on cognitive load and problem-solving skills in collaborative programming | F12: 2025 | G12: Education and Information Technologies | H12: 1 | I12: 10.1007/s10639-024-13104-0 | J12: College of Education, Hanyang University, Wangsimni-Ro, Seongdong-Gu, Seoul, 222, South Korea; Korean Educational Development Institute (KEDI), 7 Gyohak-Ro, Deoksan-Eup, Chungcheongbuk-Do, Jincheon-Gun, South Korea; Korea National University of Education, 250 Taeseongtabyeon-ro, Gangnae-myeon, Heungdeok-gu, Chungbuk, Cheongju-si, 28173, South Korea | K12: English | L12: Article | M12: South Korea | N12: This study investigates the effects of metacognitive and cognitive strategies for computational thinking (CT) on managing cognitive load and enhancing problem-solving skills in collaborative programming. Four different scaffolding conditions were provided to help learners optimize cognitive load and improve their problem-solving abilities. A total of 110 participants were randomly assigned to one of the four groups. The four-week experiment included scaffolding, with two hours of Python programming each week to solve two real-world problems. Upon completing the learning process, participants’ cognitive load and problem-solving skills were assessed. The results provide empirical evidence that using faded worked examples (WOE) combined with metacognitive scaffolding for CT effectively optimizes cognitive load and enhances problem-solving skills in collaborative programming, leading to improved efficiency and complexity in their solutions. © The Author(s), under exclusive licence to Springer Science+Business Media, LLC, part of Springer Nature 2024.
A13: 12 | B13: Scopus | C13: Fang X. | D13: Financial and economic universities; Python programming language; Teaching models; The new business | E13: The teaching innovation and research of python programming in financial and economic universities | F13: 2020 | G13: 15th International Conference on Computer Science and Education, ICCSE 2020 | H13: 0 | I13: 10.1109/ICCSE49874.2020.9201735 | J13: Shandong Technology and Business University, School of Computer Science and Technology, Yantai, 264005, China | K13: English | L13: Conference paper | M13: China | N13: For the teaching status of Python Programming course in financial and economic colleges and universities, this paper analyzes the common shortcomings and proposes the reconstruction of the program design course from four aspects: teaching objectives, course contents, teaching methods and assessment methods. That is, under the teaching objectives and principles based on market demand, the teaching contents should be integrated, the practice teaching should be strengthened, multi-dimensional hybrid teaching methods and procedural assessment should be used for the purpose of stimulating students' interests, keeping high motivation. Finally, it can mobilize students' enthusiasm for independent learning, and cultivating their ability to solve complex professional problems with computational thinking. © 2020 IEEE.
A14: 13 | B14: Scopus | C14: Volcz I. | D14: Computational thinking; Digital Literacies; Project-based learning | E14: The use of computational thinking to advance learning in the pre-university subject of digital literacies | F14: 2018 | G14: Proceedings of International Conference on Computational Thinking Education | H14: 1 | J14: University of Technology, Insearch, Sydney, Australia | K14: English | L14: Conference paper | M14: Australia | N14: This paper describes how elements of computational thinking are employed to advance student learning and engagement in the Digital Literacies subject of the Foundations Studies of the University of Technology, Sydney. This study does not focus on enhancing technical coding skills, rather it takes the conceptual view on computational thinking and investigates how aspects of it can be used to further students’ academic skills and develop their abilities to solve complex problems in collaboration and with the use of technology. This paper will also reveal 115 students’ responses of the use of computational thinking elements in project-based assessment. © 2018, The Education University of Hong Kong. All rights reserved.
A15: 14 | B15: Scopus | C15: Van Dyne M.; Braun J. | D15: Analytical skills; Computational thinking; Course effectiveness; Critical thinking; CS0; Problem solving | E15: Effectiveness of a Computational Thinking (CS0) course on student analytical skills | F15: 2014 | G15: SIGCSE 2014 - Proceedings of the 45th ACM Technical Symposium on Computer Science Education | H15: 20 | I15: 10.1145/2538862.2538956 | J15: Montana Tech, University of Montana, Butte, MT 59701, 1300 W. Park St., United States | K15: English | L15: Conference paper | M15: United States | N15: In this paper, we describe the content and evaluation of a Computational Thinking (CS0) course developed to improve the analytical problem solving of students participating in the course. The course is targeted to students who are mathematically underprepared to enter our introductory programming sequence; however, it has recently been included in the University's general education curriculum so that students majoring in any discipline may take the course. Using the Whimbey Analytical Skills Inventory (WASI) students in the CS0 class, along with students in an analogous level engineering class (FESP), were tested at the beginning of the course and again at the end, using different versions of the test. The improvement in scores was statistically significant when measured by both the student t-test and the Cohen d (effect size) for CS0 students but not for the FESP students, providing support that the course does, in fact, increase student analytical problem solving skills. Courses in Computational Thinking have demonstrated success in many schools; however, this research demonstrates its effectiveness in improving analytical skills in majors as well as non-majors.
A16: 15 | B16: Scopus | C16: Zhong H.-X.; Chang J.-H.; Lai C.-F.; Chen P.-W.; Ku S.-H.; Chen S.-Y. | D16: Artificial intelligence learning platform; Computational thinking; Partial least squares; Research model; STEM education | E16: Information undergraduate and non-information undergraduate on an artificial intelligence learning platform: an artificial intelligence assessment model using PLS-SEM analysis | F16: 2024 | G16: Education and Information Technologies | H16: 5 | I16: 10.1007/s10639-023-11961-9 | J16: Department of Engineering Science, National Cheng Kung University 1, University Rd., Tainan, 701, Taiwan; Computer and Network Center, and Department of Computer Science and Information Engineering, National Cheng Kung University, Tainan, Taiwan; Department of Computer Science and Information Engineering, National Cheng Kung University 1, University Rd., Tainan, 701, Taiwan; Department of Computer Science and Engineering, National Taiwan Ocean University, Keelung, Taiwan | K16: English | L16: Article | M16: Taiwan | N16: Artificial intelligence (AI) education is becoming an advanced learning trend in programming education. However, AI subjects can be difficult to understand because they require high programming skills and complex knowledge. This makes it challenging to determine how different departments of students are affected by them. This study draws on research in programming education and STEM education to explore the different factors that affect students in AI learning. Therefore, the purpose of this study is to investigate the impact of AI learning platforms on information undergraduate and non-information undergraduate by using a research model. The course was implemented for 65 students in the information undergraduate group and 39 students in the non-information undergraduate group. The findings showed that the two groups had different learning effects under different variables. Students with different cognitive styles may use different skills to positively influence self-regulated learning. This study provides important evidence to understand the learning impact of artificial intelligence among university students from different disciplines. © The Author(s), under exclusive licence to Springer Science+Business Media, LLC, part of Springer Nature 2023.
A17: 16 | B17: Scopus | C17: Maesschalck S. | D17: computer science education; critical thinking; curriculum development; higher education; professional skills | E17: Critical Thinking: the code to crack Computer Science Education | F17: 2024 | G17: Journal of Information Technology Education: Innovations in Practice | H17: 0 | I17: 10.28945/5387 | J17: Nexova Group, Redu, Belgium; Lancaster University, Lancaster, United Kingdom | K17: English | L17: Article | M17: United Kingdom | N17: Aim/Purpose This paper explores the potential value of critical thinking in computer science education and discusses strategies for its integration across the curriculum. Background As technology rapidly evolves and becomes increasingly integrated into society, there is a growing need for computer science graduates who can think critically about the ethical, societal, and technical implications of their work. Methodology This study employs a conceptual analysis approach, reviewing existing literature on critical thinking in computer science education and synthesising insights from various sources. The analysis focuses on identifying challenges in imple-menting critical thinking instruction and proposing practical solutions. Contribution This paper provides an overview of the current discourse on integrating critical thinking into computer science curricula. It explores the distinction between critical thinking and computational thinking, discusses various pedagogical ap-proaches, and offers insights into potential challenges of implementation. Findings The paper identifies six key challenges in embedding critical thinking into com-puter science education. It proposes initial steps to address these challenges, in-cluding curriculum redesign, innovative assessment methods, and faculty devel-opment strategies. Recommendations for Practitioners Educators should adopt a balanced approach that complements technical edu-cation with critical thinking exercises, using diverse teaching methods such as dialogue-based teaching and authentic instruction. Recommendations for Researchers Future research should focus on empirical studies to assess the effectiveness of the proposed solutions and develop standardised tools for evaluating critical thinking skills in computer science. Impact on Society By enhancing critical thinking skills in computer science education, we can pro-duce graduates who are better equipped to address complex technological chal-lenges and their societal implications. Future Research Further investigation is needed into the most effective pedagogical approaches for teaching critical thinking in computer science, with a focus on multidiscipli-nary perspectives. © (2024), (Informing Science Institute). All rights reserved.
A18: 17 | B18: Scopus | C18: Romero M.; Lepage A.; Lille B. | D18: Assessment; Computational thinking; Creativity; Problem-solving | E18: Computational thinking development through creative programming in higher education | F18: 2017 | G18: International Journal of Educational Technology in Higher Education | H18: 164 | I18: 10.1186/s41239-017-0080-z | J18: Laboratoire d’Innovation et Numérique pour l’Education, Université Nice Sophia Antipolis, Nice, France; Université Laval, Québec, Canada | K18: English | L18: Article | M18: France | N18: Creative and problem-solving competencies are part of the so-called twenty-first century skills. The creative use of digital technologies to solve problems is also related to computational thinking as a set of cognitive and metacognitive strategies in which the learner is engaged in an active design and creation process and mobilized computational concepts and methods. At different educational levels, computational thinking can be developed and assessed through solving ill-defined problems. This paper introduces computational thinking in the context of Higher Education creative programming activities. In this study, we engage undergraduate students in a creative programming activity using Scratch. Then, we analyze the computational thinking scores of an automatic analysis tool and the human assessment of the creative programming projects. Results suggested the need for a human assessment of creative programming while pointing the limits of an automated analytical tool, which does not reflect the creative diversity of the Scratch projects and overrates algorithmic complexity. © 2017, The Author(s).
A19: 18 | B19: Scopus | C19: Prompolmaueng W.; Wetmaha A.; Jamsri P. | D19: Computational Thinking; Game Development; Game-based Learning; Mixed Reality Technology | E19: A Game Development to Promote Computational Thinking | F19: 2021 | G19: 2021 13th International Conference on Information Technology and Electrical Engineering, ICITEE 2021 | H19: 6 | I19: 10.1109/ICITEE53064.2021.9611850 | J19: King Mongkut's Institute of Technology Ladkrabang, Faculty of Information Technology, Bangkok, 10520, Thailand | K19: English | L19: Conference paper | M19: Thailand | N19: This paper focuses on game development using Mixed Reality technology, the Magic Leap One device, by exploring with The Lab and Unreal Engine program that are developed in game interpolating Computational Thinking (CT). The research device focuses on integrating thinking skills into 3D games with real-time user interaction. From mixed reality (MR) the application of technology is evaluated in its use for learning effectiveness. The game aims to promote a computational thinking process based on the terms and conditions within 5 levels as well as the complexity of the game with more obstacles in each level as the character travels from beginning to destination. Commands provide for different contexts. Major goal is using mixed reality technology to advance convergence in computing education and training in computational thinking (CT) to help players strengthen their thinking process and CT through the game. This game can be an alternative learning medium for the educator in primary school (Grade 4-6). The assessment of target users 10-15 persons before and after the game tests have 3 aspects in technology, CT, and usability of game performance. An expert evaluation was conducted after the test. Assessment of the overall game focuses on building of CT skill within the game relative to project objectives. Evaluation results were 77.8% by users and 88.6% by the expert. Furthermore, some useful suggestions from assessment suggest adding workshop guidelines for educators or trainers. Thus, this project contributes to the computing education community by using available cutting-edge technology as an optional teaching tool in CT that suits learners in education at the primary level and looks toward future development for higher education. © 2021 IEEE.
A20: 19 | B20: Scopus | C20: Kui X.; Liu W.; Guo K.; Xia J.; Du H. | D20: Computational thinking; Higher education; Minimum knowledge sets; Python language | E20: Teaching method reform of python language programming course based on minimum knowledge sets | F20: 2018 | G20: Mechatronic Systems and Control | H20: 4 | I20: 10.2316/Journal.201.2018.4.201-2956 | J20: School of Information Science and Engineering, Central SouthUniversity, China; School of Geosciences and Info-Physics, Central South University, China | K20: English | L20: Article | M20: China | N20: Reform of teaching content, teaching methods, and evaluation of examination system is an urgent issue of current teaching reform in higher education. Python language is released under the background of calculating ecology, which is concise, clear, elegant, and easy to learn. There are more than thousands of third-party programming libraries. Rich resources of an open community also incur new problem, much information will consume large amounts of attention. How to make students absorb more knowledge and master more skills in the limited class time? Also, it is important for teachers to think about how to improve the efficiency of information cognition. The paper puts forward a teaching method of Python language based on minimum knowledge sets, combining with the characteristics of different major students; the method can not only help students understand the ideas and methods of solving practical problems with the concept of calculation ecology but also raise good computational thinking, innovative thinking, and programming ability, and then effectively improve the quality of teaching and promote the development of higher education. © 2018 Acta Press. All rights reserved.
A21: 20 | B21: Scopus | C21: Wang H.-H.; Wang C.-H.A. | D21: Computational thinking; Industrial design; Learning motivation; Machine learning; Student self-assessment; Teaching technology | E21: Teaching design students machine learning to enhance motivation for learning computational thinking skills | F21: 2024 | G21: Acta Psychologica | H21: 0 | I21: 10.1016/j.actpsy.2024.104619 | J21: Department of Industrial Design, National Taipei University of Technology, 1, Sec. 3, Zhongxiao E. Rd., Taipei, 10608, Taiwan; Department of Computational Media, University of California, Santa Cruz, 1156 High Street, Santa Cruz, 95064, CA, United States | K21: English | L21: Article | M21: Taiwan | N21: The integration of computational thinking (CT) to enhance creativity in design students has often been underexplored in design education. While design thinking has traditionally been the cornerstone of university design pedagogy and remains essential, the increasing role of digital tools and artificial intelligence in modern design practices presents new opportunities for innovation. By introducing CT alongside design thinking, students can expand their creative toolkit and engage with emerging technologies more effectively. Although many design students may have limited experience with programming, incorporating accessible, no-code tools can help them confidently embrace computational methods, unlocking new pathways for creative exploration and innovation. This study proposes an alternative approach to improve the motivation of design students by introducing machine learning tools into product design processes. We developed an experimental pedagogy in which 56 industrial design university students learned how to use Waikato Environment for Knowledge Analysis (Weka), a machine learning tool, for three hours of design work a week, for a total of eight weeks. Our covariate analysis of data collected in the pretest and posttest shows that the general learning motivations in the group using Weka are significantly higher than those in the group without Weka. However, no significant differences were found between the two groups in terms of learning strategies, collaboration, or critical thinking. Students using Weka spent more time focusing on model training and tended to improve their algorithmic thinking, and the introduction of Weka appeared to enhance their motivation to learn. On the other hand, these students might have been focusing on working individually at their computers, potentially neglecting communication and collaboration. The findings suggest that teaching machine learning applications without requiring coding has the potential to boost design students' motivation to engage with CT skills, though care must be taken to maintain collaborative practices. © 2024
A22: 21 | B22: Scopus | C22: Sukkamart A.; Sermsri N.; Kantathanawat T.; Nakwijit R.; Meekhobtong S. | D22: Collaborative learning Management; Complex problem-solving skills; computational thinking; Thailand; visualization | E22: Computer Education Student Teacher Complex Problem-Solving Skills Development using Computational Thinking and Visualization Tools | F22: 2024 | G22: Pakistan Journal of Life and Social Sciences | H22: 0 | I22: 10.57239/PJLSS-2024-22.2.00364 | J22: School of Industrial Education and Technology, The King Mongkut’s Institute of Technology Ladkrabang (KMITL), Bangkok, Thailand | K22: English | L22: Article | M22: Thailand | N22: This research explores the impact of a Collaborative Learning Management Model (CLMM) integrating Computational Thinking (CT) and Visualization Tools (VT) on the development of Complex Problem-Solving Skills (CPSS) in first-year computer education student teachers in Thailand. The study, conducted with 15 student-teachers from Dhonburi Rajabhat University, involved a six-module CPSS learning intervention. Notably, Unit 2’s Alternative Flowchart Writing (AFW) and Unit 4’s Sequential Python Writing (SPW) excelled, while Units 1 and 3 showed initial shortcomings. The overall evaluation, however, revealed that CLMM yielded a final mean of 90.40 and SD of 5.59, emphasizing its effectiveness in enhancing student-teacher CPSS. The research advocates for educators to prioritize advanced tools, including emerging Artificial Intelligence (AI) visualization tools, to further elevate CPSS education, preparing a new generation of educators for the challenges of educating digitally enabled knowledge workers. © (2024), (Elite Scientific Publications). All rights reserved.
A23: 22 | B23: Scopus | C23: Díaz J.; López J.A.; Sepúlveda S.; Villegas G.M.R.; Ahumada D.; Moreira F. | D23: Human-Computer Interaction; Usability; Video-games; Training; Computer Programming | E23: Evaluating aspects of usability in video game-based programming learning platforms | F23: 2021 | G23: Procedia Computer Science | H23: 16 | I23: 10.1016/j.procs.2021.01.141 | J23: Universidad de La Frontera, Depto. Cs. de la Computación e Informática, Temuco, Chile; Universidad de Caldas, Depto. de Sistemas e Informática, Manizales, Colombia; Universidad Nacional Abierta y a Distancia, ECBTI, Bogotá, Colombia; Universidad Católica de Temuco, Depto. Procesos Diagnósticos y Evaluación, Temuco, Chile; REMIT, IJP, Universidade Portucalense, Porto, Portugal; IEETA, Universidade Aveiro, Aveiro, Portugal | K23: English | L23: Conference paper | M23: Chile | N23: Teaching computer programming is an important topic. Due to Science and Technology initiatives, these topics are considered in different training cycles. For higher education, students must cultivate fundamental concepts for the development of software applications, which not only contribute to the knowledge of programming languages but also to opening guidelines for computational thinking. However, selecting a proper tool can be complex. Especially for the diversity of alternatives on the web. Further, not all of them meet basic usability requirements. In this study, we present a set of platforms that seek to develop programming skills based on video games. The search consisted of 4 stages: (i) definition of the research questions, (ii) scope review, (iii) execution of search and (iv) platform selection. Finally, we employ a usability heuristic evaluation for a novice programming system to determine best practices. © 2021 The Authors. Published by Elsevier B.V.
A24: 23 | B24: Scopus | C24: Zhang C.; Wang F. | D24: blended learning; multivariate assessment and evaluation system; teaching reform; TPACK | E24: Research on Teaching Methods of 'C Language Programming' Based on TPACK | F24: 2024 | G24: 2024 4th International Conference on Educational Technology, ICET 2024 | H24: 0 | I24: 10.1109/ICET62460.2024.10868501 | J24: Qingdao University of Science & Technology, Faculty of Information Science and Technology, Qingdao, 266061, China | K24: English | L24: Conference paper | M24: China | N24: The 'C Language Programming' course is a specialized elective for 33 non-computer undergraduate majors in 9 faculties of our university. It aims to develop students ' computational thinking. And it aims to make student's ability to solve practical problems using computer programs. In response to the pain points of 'significant differences in student basic knowledge and difficulty in unifying teaching difficulty' in teaching content, teaching evaluation methods, and teacher-student teaching and learning, the teaching method based on TPACK has been adopted. Following the educational philosophy of 'output oriented and continuous improvement', the subject teaching knowledge has been integrated. With the help of modern information technology, based on various integrated teaching modes of online and offline, and of class and extracurricular, a corresponding teaching environment has been constructed, curriculum ideological and political education has been strengthened, and a diversified assessment and evaluation system has been constructed. Based on the above research, multiple disciplinary competition awards have been obtained. Teaching practice has proven that the above teaching methods effectively solve pain points. The transformation has been achieved from traditional classrooms to smart classrooms, from knowledge classrooms to ability classrooms, and from indoctrination classrooms to innovative classrooms. The students ' learning interest and self-learning abilities have been enhanced. The students' ability to apply knowledge, solve problems, perform hands-on operations, and cooperate in teams have been developed. The students' patriotism has been cultivated. The correct life values of students has been shaped. The students' innovative thinking and determination to challenge themselves have been stimulated. © 2024 IEEE.
A25: 24 | B25: Scopus | C25: Bubnic B.; Mernik M.; Kosar T. | D25: computational thinking; introductory programming; predictors of performance; problem-solving; structural equation modeling | E25: Exploring the Predictive Potential of Complex Problem-Solving in Computing Education: A Case Study in the Introductory Programming Course | F25: 2024 | G25: Mathematics | H25: 1 | I25: 10.3390/math12111655 | J25: Faculty of Electrical Engineering and Computer Science, University of Maribor, Koroška Cesta 46, Maribor, 2000, Slovenia | K25: English | L25: Article | M25: Slovenia | N25: Programming is acknowledged widely as a cornerstone skill in Computer Science education. Despite significant efforts to refine teaching methodologies, a segment of students is still at risk of failing programming courses. It is crucial to identify potentially struggling students at risk of underperforming or academic failure. This study explores the predictive potential of students’ problem-solving skills through dynamic, domain-independent, complex problem-solving assessment. To evaluate the predictive potential of complex problem-solving empirically, a case study with 122 participants was conducted in the undergraduate Introductory Programming Course at the University of Maribor, Slovenia. A latent variable approach was employed to examine the associations. The study results showed that complex problem-solving has a strong positive effect on performance in Introductory Programming Courses. According to the results of structural equation modeling, 64% of the variance in programming performance is explained by complex problem-solving ability. Our findings indicate that complex problem-solving performance could serve as a significant, cognitive, dynamic predictor, applicable to the Introductory Programming Course. Moreover, we present evidence that the demonstrated approach could also be used to predict success in the broader computing education community, including K-12, and the wider education landscape. Apart from predictive potential, our results suggest that valid and reliable instruments for assessing complex problem-solving could also be used for assessing general-purpose, domain-independent problem-solving skills in computing education. Likewise, the results confirmed the positive effect of previous programming experience on programming performance. On the other hand, there was no significant direct effect of performance in High School mathematics on Introductory Programming. © 2024 by the authors.
A26: 25 | B26: Scopus | C26: Sermsri N.; Sukkamart A.; Kantathanawat T. | D26: computer programming; information communications technology (ICT); pre-service teachers; Thailand | E26: Thai Computer Studies Student Teacher Complex Problem-Solving Skills Development: A Cooperative Learning Management Model | F26: 2022 | G26: Journal of Higher Education Theory and Practice | H26: 6 | I26: 10.33423/jhetp.v22i16.5603 | J26: King Mongkut’s Institute of Technology, Ladkrabang, Thailand | K26: English | L26: Article | M26: Thailand | N26: The research aim was to develop cooperative learning management (CLM) model using computational thinking (CT) and mind mapping techniques to promote Thai computer studies student-teacher (CSST) complex problem-solving skills (CPSS). The sample was 15 first-year CSSTs in the Faculty of Education's Computer Studies Department of Thailand's Thonburi Rajabhat University. The pre-study achievement test classified students into three levels (weak, moderate, or strong). Five experts were involved in the assessment of the CLM plan, which was determined to have a content validity index (CVI) at the highest level (mean = 4.00). They also evaluated the 21 indicator rubric scoring-type test tool for complex problem-solving skills (CPSS) and determined its CVI mean = 3.99. After a pilot test of 30 student teachers, a 42-item questionnaire was finalized. The final CPSS course involved five primary components within an eight-step process. The CSST used six sessions of four hours each. Results showed that the final course post-test score was 90.40 for all 15 student-teachers, significantly higher than the 70% achievement level setting. © 2022, North American Business Press. All rights reserved.
... A37: 36 | B37: Scopus | C37: Arslantaş T.K. | D37: Computational thinking; Design-based learning; Integrating computational thinking; Theoretical background | E37: Theoretical Framework for Integrating Computational Thinking in Education | F37: 2025 | G37: Integrating Computational Thinking Through Design-Based Learning: Strategies for Integration in Different Disciplines | H37: 0 | I37: 10.1007/978-981-96-0853-9_2 | J37: Department of Special Education, Aksaray University, Aksaray, Turkey | K37: English | L37: Book chapter | M37: Turkey | N37: Computational Thinking (CT) encompasses the cognitive processes utilized to articulate problems, allowing their resolution through computational steps and algorithms. Evolving into a centering skill applicable across diverse professional domains, CT extends beyond computer science, reaching learners in various disci-plines. Its impact on education is evident as teachers integrate it from preschool to higher education levels. The role and significance of CT in education can be outlined across four key dimensions, namely fostering problem-solving skills, preparing for the future workforce, fostering critical thinking skills, and exploring creativity. As the importance of CT continues to grow in the modern world, educators recognize the need to integrate CT into academic disciplines at all levels of education. However, the incorporation of CT into education presents both challenges and opportunities. One of the significant challenges educators face is how to design and deliver CT learning activities that align with their teaching goals and objectives. Teachers must have the knowledge and skills to design and implement practical CT learning activities and assess students’ CT competencies. Addressing these challenges necessitates a robust foundation, where theoretical frameworks are crucial. Several theoretical frameworks have been proposed in the literature to address these challenges and guide educators in integrating CT into teaching. These frameworks offer guidelines and strategies for designing, delivering, and assessing CT learning activities. This chapter discusses three theoretical frameworks, namely problem-based instruction (PBI), Digital Story-telling (DST), and The CT Integration Elements. These frameworks were selected due to their alignment with the principles of design-based learning, which is the focus of this book. Each framework offers unique perspectives and approaches to integrating CT into teaching. © The Editor(s) (if applicable) and The Author(s), under exclusive license to Springer Nature Singapore Pte Ltd. 2024.
A38: 37 | B38: Scopus | C38: Li Z.; Chai S.; He Z. | D38: Computational thinking; Knowledge building; Knowledge Forum | E38: Promoting Undergraduates Computational Thinking in a Knowledge Building Environment | F38: 2024 | G38: Proceedings of International Conference on Computational Thinking Education | H38: 0 | J38: University of Macau, Macao; South China Normal University, China | K38: English | L38: Conference paper | M38: China | N38: Promoting undergraduates computational thinking (CT) remains a significant challenge. The purpose of this study was to foster students’ CT in a knowledge building (KB) environment. The participants were 49 college students from a Chinese university. They were randomly assigned to ten groups. Each group used Knowledge Forum (a computer-supported collaborative knowledge-building environment), supported by customized scaffolding, to discuss and develop the computational artifacts of their choice. Data were collected from student groups’ online discourse, pre-post CT scale, and group artifacts. We employed Friedman test, Wilcoxon signed rankings test, and Kruskal-Wallis test to analysis data. In general, we found KB activities facilitated students’ CT. Engaging in KB activities can significantly promote students’ algorithmic thinking, cooperativity, critical thinking, and problem-solving skills, except for their creativity. Moreover, students demonstrated differential engagement in various CT tasks, as reflected by their discourse and products, and needed more support in evaluation & generalization. This study can offer insights for educators to design KB environment to support students’ CT. © 2024, The Education University of Hong Kong. All rights reserved.
