Workbook

Sheet Steps and tiers
C2: 1 | D2: 2 | E2: 3 | F2: 4 | G2: 5 | H2: 6 | I2: 7 | J2: 8
C3: System Definition | D3: Ontologically grounded questions from domain expertise | E3: Assumptions about network representation | F3: Elements that represent system's components | G3: Relationships betwen the elements | H3: Network structure | I3: Theory of network representation and analysis | J3: Data sources
B4: A | C4: UN Agenda content (goals, targets, indicators) | D4: Visualization of the links between the SDGs or of the most represented topics or policy objectives | E4: Network of verbal definitions (goals and targets) | F4: Verbal descriptions of goals and targets | G4: Dyadic unweighted and undirected networks | H4: Monoplex, single layer | I4: Visual graph showing node connections | J4: Verbal dewscriptions as nodes, with expert-interpreted relationships
B5: B | C5: UN Agenda plus similar objectives | D5: Prioritization of the UN Agenda targets | E5: Network of statistical data (indicators and indexes) | F5: Statistical values of SDG indicators or indexes | G5: Dyadic weighted and/or directed networks | H5: Multiplex, homogeneous layers | I5: Standard social network measures (e.g. centrality, betweenness) | J5: Statistical indicators as nodes, with correlation-based relationships
B6: C | C6: Causal pathways | D6: Ana;ysis of synergies and trade-offs within implementation pathways | E6: Network of pathways components (processes, actors, sectors, systems) | F6: Components of the SDG pathways | G6: Hypernetworks (multi-node relationships) | H6: Network of networks, heterogeneous multilevel | I6: Specific theories of networks representation | J6: Pathway components as nodes, with evidence-based relationships

Sheet Table texts
E1: 1 | G1: 2 | I1: 3 | K1: 4 | M1: 5 | O1: 6 | Q1: 7 | S1: 8
C2: ` | E2: ='Steps and tiers'!C3 -> System Definition | F2: ='Steps and tiers'!D3 -> Ontologically grounded questions from domain expertise | H2: ='Steps and tiers'!E3 -> Assumptions about network representation | J2: ='Steps and tiers'!F3 -> Elements that represent system's components | L2: ='Steps and tiers'!G3 -> Relationships betwen the elements | N2: ='Steps and tiers'!H3 -> Network structure | P2: ='Steps and tiers'!I3 -> Theory of network representation and analysis | R2: ='Steps and tiers'!J3 -> Data sources
B3: 1 | C3: Allen et al. (2019) | D3: A | E3: "Description of targets… interlinkages". | F3: B | G3: Network analysis applied to explore interactions between targets and to support the prioritisation of SDG targets | H3: A | I3: Cross-impact scores from textual target links. | J3: A | K3: "Targets are the nodes" - verbal descriptions | L3: B | M3: Signed, weighted influences used in analysis. | N3: A | O3: Single layer network | P3: B | Q3: Compare centrality metrics / eigen properties. | R3: A | S3: Expert scoring / narrative tables.
C4: Androna et al. (2024) | D4: B | E4: Extends UN schema by integrating UN + EU indicators (and third-party sources) via a knowledge graph. | F4: B | G4: Assess synergies and trade-offs to inform policy | H4: B | I4: Statistical interlinkages on KG entities, Spearman correlations | J4: B | K4: Indicators as nodes (national and NUTS-2) | L4: B | M4: Weighted correlations, sign for synergy vs trade-off | N4: A | O4: Monoplex per geography | P4: B | Q4: Standard centralities to rank SDGs | R4: B | S4: UN and Eurostat indicator datasets
B5: 2 | C5: Bali Swain & Ranganathan (2021) | D5: A | E5: SDG indicator data for interlinkages. | F5: B | G5: “Identify trade-offs and synergies.” | H5: B | I5: Correlational/association network | J5: A | K5: Analysis is “at the SDG target level,” targets are the nodes | L5: B | M5: Edges are signed/weighted through “positive and negative interlinkages.” | N5: A | O5: Consistent with a single-layer network | P5: B | Q5: Standard centralities. | R5: B | S5: IAEG-SDG/indicator series.
B6: 3 | C6: Bellantuono et al. (2022) | D6: A | E6: Goals/targets via semantics and communication. | F6: B | G6: “detecting the presence of central goals” | H6: B | I6: “Achievement” layer instantiated with SDG indicators and a “conceptualisation” layer built from text similarity | J6: A | K6: SDGs are nodes | L6: B | M6: Weighted similarity links (semantic; indicators; tweets) | N6: B | O6: Three-layer multiplex (conceptual, communication, achievement). | P6: B | Q6: Standard SNA metrics, centrality, layer comparison | R6: B | S6: one layer is instantiated by indicator data; the model’s data backbone includes quantitative indicators
C7: Cao (2023) | D7: A | E7: SDG goals modeled from indicator series | F7: B | G7: Diagnose synergies and trade-offs for policy | H7: B | I7: Causal diagnosis to build directed indicator-driven SDG networks | J7: A | K7: Nodes = goals; indicators feed edge weights/direction | L7: B | M7: Directed, weighted ties across provinces and years | N7: A | O7: Causal diagnosis to build directed indicator-driven SDG networks | P7: B | Q7: Network analysis of roles and loops | R7: B | S7: Provincial indicator time series
B8: 4 | C8: Dalampira & Nastis (2020) | D8: A | E8: SDGs mapped to 3 pillars | F8: A | G8: “simplified… using Venn/pillars… expert elicitation” | H8: A | I8: Expert-elicited concept links. | J8: A | K8: Nodes = 17 SDGs + pillars. | L8: B | M8: Weights = mean expert scores; directed pillar→goal | N8: A | O8: Layers not addressed | P8: A | Q8: Visual graphs | R8: A | S8: Expert surveys
B9: 5 | C9: Dawes et al. (2020) | D9: A | E9: Uses ICSU target-to-target link narratives | F9: A | G9: “secure better outcomes on each Goal” (consistency/achievability) | H9: A | I9: Direction/sign inferred from ICSU narrative | J9: A | K9: The nodes are Goals | L9: B | M9: Constructs directed, weighted goal-level network | N9: A | O9: Layers not addressed | P9: C | Q9: Provides a mathematical definition of self-consistency. | R9: A | S9: ICSU report’s qualitative commentary
B10: 6 | C10: Dörgo et al. (2018) | D10: A | E10: Interconnectedness via indicator time-series | F10: B | G10: Identify key problem areas via causal loops | H10: B | I10: Granger causality of indicators, statistical/causal inference on data | J10: B | K10: Indicators as nodes | L10: B | M10: Directed causal edges; out-closeness used | N10: A | O10: Layers not addressed | P10: B | Q10: Standard centralities in causal graph | R10: B | S10: Quantitative SDG indicator time series across regions
B11: 7 | C11: El-Maghrabi et al. (2018) | D11: A | E11: SDG indicators network for priorities | F11: B | G11: “assist policy makers to prioritize targets” | H11: B | I11: Pairwise correlations; co-performance logic | J11: B | K11: Indicators grouped by goal | L11: B | M11: Correlation-based weighted ties | N11: A | O11: Layers are not addressed | P11: B | Q11: “SDG centrality” measure introduced | R11: B | S11: 423 indicators; pairwise correlations
B12: 8 | C12: Jaramillo et al. (2019) | D12: A | E12: SDG targets for wetlands decision-making | F12: B | G12: Prioritise targets; find synergies/trade-offs | H12: A | I12: Expert scoring of interactions | J12: A | K12: Targets (and wetlandscapes in bimodal viz) | L12: B | M12: Weighted interactions from scores | N12: A | O12: Layers are not addressed | P12: B | Q12: Clustering (DIRTLPAwb+) applied | R12: A | S12: Expert survey data
B13: 9 | C13: Laumann et al. (2022) | D13: A | E13: SDGs + climate objective via indicators | F13: B | G13: “detect and rank complex interlinkages” | H13: B | I13: Partial distance correlations among indicators | J13: A | K13: Nodes are goals (17 SDGs + climate); indicators only quantify links | L13: B | M13: Undirected weighted networks per country group | N13: A | O13: Layers are not addressed | P13: B | Q13: Eigenvector centrality; clustering | R13: B | S13: World Bank time-series
B14: 10 | C14: Le Blanc (2015) | D14: A | E14: “Goals/targets as a network… through targets” | F14: A | G14: Political mapping of agenda links | H14: A | I14: Matrix of cross-references in wording | J14: A | K14: Goals/targets (verbal) | L14: A | M14: Co-reference (unweighted/undirected in text) | N14: A | O14: Layers not addressed | P14: A | Q14: “Network analysis techniques” unspecified (descriptive) | R14: A | S14: Target wording matrix
B15: 11 | C15: Lim et al. (2018) | D15: A | E15: “Network of 107 SDG targets… shared challenges/keywords” | F15: A | G15: Map interconnections & trade-offs | H15: A | I15: Keyword co-occurrence between targets | J15: A | K15: Targets (text) | L15: A | M15: Basic target-to-target links; not quantified | N15: A | O15: Layers are not addressed | P15: A | Q15: Descriptive graphing | R15: A | S15: Textual target definitions
B16: 12 | C16: Lusseau & Mancini (2019) | D16: A | E16: Indicator-based “sustainome” (centralities) | F16: B | G16: Rank SDG importance/influence | H16: B | I16: Empirical indicator links | J16: B | K16: Indicators per SDG | L16: B | M16: Weighted/possibly signed dependencies | N16: A | O16: Layers are not addressed | P16: B | Q16: Eigenvector/closeness centralities | R16: B | S16: Indicator datasets
B17: 13 | C17: Mainali et al. (2018) | D17: A | E17: Synergies/trade-offs across SDGs (conceptual) | F17: A | G17: Explore link types (reinforcing/constraints) | H17: A | I17: Literature-based interactions | J17: A | K17: Goals/targets as concepts | L17: A | M17: Signed interactions discussed; not consistently weighted | N17: A | O17: Layers are not addressed | P17: A | Q17: Qualitative mapping; limited metrics | R17: A | S17: Review-based textual evidence
B18: 14 | C18: McGowan et al. (2019) | D18: A | E18: ICSU links among targets | F18: A | G18: Examine indivisibility/graph model | H18: A | I18: Verbal/ontology-based interlinkages | J18: A | K18: Goals/targets | L18: B | M18: Directed edges; igraph; centralities | N18: A | O18: Layers are not addressed | P18: B | Q18: Degree/betweenness/closeness | R18: A | S18: Expert linkages from ICSU 2015; no indicator time-series instantiation
B19: 15 | C19: Pham-Truffert et al. (2020) | D19: A | E19: Goals/targets, literature-synthesised links | F19: B | G19: “steer policy action and prioritization” | H19: A | I19: Signed, directed, weighted ties (literature, qualitatively sourced) | J19: A | K19: Nodes: goals/targets | L19: B | M19: Weighted/directed influences; multipliers | N19: A | O19: Layers are not addressed | P19: B | Q19: Standard network concepts/measures | R19: A | S19: Systematic literature review
B20: 16 | C20: Sebestyén et al. (2019) | D20: A | E20: SDG indicators + targets + goals across datasets | F20: B | G20: Model synergies/trade-offs; identify key indicators | H20: B | I20: Correlation-based linking across SDG levels | J20: C | K20: Indicators/targets/goals as distinct node sets (pathway components across levels) | L20: B | M20: Weighted links from correlations | N20: C | O20: Multilayer/network-of-networks (“MuxViz”; links across indicators→targets→goals) | P20: C | Q20: Centrality & community analysis in MuxViz (layer-aware) | R20: B | S20: World Bank + SDG datasets
C21: Song (2023) | D21: A | E21: Target texts mapped via semantic similarity | F21: A | G21: Identify interlinkages among targets | H21: A | I21: Text-based semantic network using Word2Vec | J21: A | K21: Targets as nodes | L21: B | M21: Weighted similarity scores define edges | N21: A | O21: Single target-level layer | P21: B | Q21: Community detection and centralities reported | R21: A | S21: Textual descriptions instantiate links
B22: 17 | C22: Türkeli (2020) | D22: A | E22: 2019 SDG Index performance network | F22: B | G22: Reveal performance interactions for policy mixes | H22: B | I22: ANN-inferred direct-influence graph over SDG scores | J22: B | K22: Indicators/scores per SDG | L22: B | M22: Directed influence edges from ANN | N22: A | O22: “not conceptualized through layers” | P22: B | Q22: ANN-based inference; visualisation | R22: B | S22: "2019 SDG Index" performance data and "artificial neural networks
B23: 18 | C23: Weitz et al. (2018) | D23: A | E23: Target-level cross-impact approach | F23: B | G23: Priority setting using interactions | H23: A | I23: Typology; expert scoring in matrix | J23: A | K23: Targets as nodes | L23: B | M23: Signed/weighted influences among targets | N23: A | O23: Layers are not addressed | P23: B | Q23: Standard software/centralities discussed | R23: A | S23: Expert judgment matrix
B24: 19 | C24: Xiao et al. (2022) | D24: A | E24: Interactions “across SDGs” with time-series | F24: B | G24: Maximise synergies/minimise trade-offs | H24: B | I24: Influence analysis (direct & indirect) among targets | J24: A | K24: Nodes are targets (150); World Bank indicators drive edges | L24: B | M24: Weighted influences; directed visual graph | N24: A | O24: Layers are not addressed | P24: B | Q24: Degree centrality interpretation | R24: B | S24: World Bank indicators (2000–2019)
C25: Xiao et al. (2024) | D25: A | E25: SDG indicators as the system; channels used for weights, not system elements | F25: A | G25: Quantify transboundary synergies/trade-offs; not a prioritisation study | H25: B | I25: Channel-specific interaction modeling among indicators | J25: A | K25: Indicators as nodes; single combined graph (channels as weights), not replicated layers. | L25: B | M25: Weighted/directed dyads; channel effects enter via spatial weight matrices | N25: A | O25: Monoplex network; multiple channel-specific weight matrices, no multiplex architecture | P25: B | Q25: Multi-source indicator databases and spillover data | R25: B | S25: SDG indicator set plus spillover data by channel, trade, river, ocean, air.
C26: Xing et al. (2024) | D26: A | E26: Goal-level SDG mapping | F26: B | G26: Reveal priorities via synergy/trade-off analysis | H26: B | I26: Statistical aggregation from 102 indicators to goal pairs | J26: A | K26: Nodes are goals; edges aggregated from indicator pairs | L26: B | M26: Signed, weighted edges, hub scores | N26: A | O26: Monoplex goal network | P26: B | Q26: Hub/centrality and community patterns | R26: B | S26: National and provincial indicators
B27: 20 | C27: Zhou et al. (2017) | D27: A | E27: SDG interlinkages framework & web tool | F27: B | G27: Policy priority identification via SNA | H27: B | I27: Directed links among targets; indicator-based quantification | J27: A | K27: Nodes are targets; indicators/metrics quantify directed links | L27: B | M27: Directed, weighted links; considers indirect links | N27: A | O27: Layers are not addressed | P27: B | Q27: Array of centrality measures | R27: B | S27: Country-specific indicators + qualitative links
B28: 21
B29: 22
B30: 23
B31: 24
B32: 25
B33: 26
B34: 27
B35: 28
B36: 29
B37: 30
B38: 31
B39: 32
... B41: 34

Sheet Chart
D1: 1 | E1: 2 | F1: 3 | G1: 4 | H1: 5
C2: Author | D2: System | E2: Questions | F2: Assumptions | G2: Elements | H2: Relationships | I2: Structure | J2: Theory | K2: Data
C4: ='Coding source'!B3 -> Mainali et al., 2018 | D4: =Codes!D33-0.27 -> 0.73 | E4: =Codes!E33-0.27 -> 0.73 | F4: =Codes!F33-0.27 -> 0.73 | G4: =Codes!G33-0.27 -> 0.73 | H4: =Codes!H33-0.27 -> 0.73 | I4: =Codes!I33-0.27 -> 0.73 | J4: =Codes!J33-0.27 -> 0.73 | K4: =Codes!K33-0.27 -> 0.73
C5: ='Coding source'!B4 -> Le Blanc, 2015 | D5: =Codes!D34-0.24 -> 0.76 | E5: =Codes!E34-0.24 -> 0.76 | F5: =Codes!F34-0.24 -> 0.76 | G5: =Codes!G34-0.24 -> 0.76 | H5: =Codes!H34-0.24 -> 0.76 | I5: =Codes!I34-0.24 -> 0.76 | J5: =Codes!J34-0.24 -> 0.76 | K5: =Codes!K34-0.24 -> 0.76
C6: ='Coding source'!B5 -> Lim et al., 2018 | D6: =Codes!D35-0.21 -> 0.79 | E6: =Codes!E35-0.21 -> 0.79 | F6: =Codes!F35-0.21 -> 0.79 | G6: =Codes!G35-0.21 -> 0.79 | H6: =Codes!H35-0.21 -> 0.79 | I6: =Codes!I35-0.21 -> 0.79 | J6: =Codes!J35-0.21 -> 0.79 | K6: =Codes!K35-0.21 -> 0.79
C7: ='Coding source'!B6 -> Dalampira & Nastis, 2020 | D7: =Codes!D36-0.18 -> 0.82 | E7: =Codes!E36-0.18 -> 0.82 | F7: =Codes!F36-0.18 -> 0.82 | G7: =Codes!G36-0.18 -> 0.82 | H7: =Codes!H36-0.18 -> 1.82 | I7: =Codes!I36-0.18 -> 0.82 | J7: =Codes!J36-0.18 -> 0.82 | K7: =Codes!K36-0.18 -> 0.82
C8: ='Coding source'!B7 -> McGowan et al., 2019 | D8: =Codes!D37-0.15 -> 0.85 | E8: =Codes!E37-0.15 -> 0.85 | F8: =Codes!F37-0.15 -> 0.85 | G8: =Codes!G37-0.15 -> 0.85 | H8: =Codes!H37-0.15 -> 1.85 | I8: =Codes!I37-0.15 -> 0.85 | J8: =Codes!J37-0.06 -> 1.94 | K8: =Codes!K37-0.03 -> 0.97
C9: ='Coding source'!B8 -> Song, 2023 | D9: =Codes!D38-0.12 -> 0.88 | E9: =Codes!E38-0.12 -> 0.88 | F9: =Codes!F38-0.12 -> 0.88 | G9: =Codes!G38-0.12 -> 0.88 | H9: =Codes!H38-0.12 -> 1.88 | I9: =Codes!I38-0.12 -> 0.88 | J9: =Codes!J38-0.12 -> 1.88 | K9: =Codes!K38-0.01 -> 0.99
C10: ='Coding source'!B9 -> Allen et al., 2019 | D10: =Codes!D39+0.05 -> 1.05 | E10: =Codes!E39-0.05 -> 1.95 | F10: =Codes!F39+0.05 -> 1.05 | G10: =Codes!G39-0.04 -> 0.96 | H10: =Codes!H39 -> 2 | I10: =Codes!I39+0.04 -> 1.04 | J10: =Codes!J39-0.04 -> 1.96 | K10: =Codes!K39 -> 1
C11: ='Coding source'!B10 -> Dawes, 2020 | D11: =Codes!D40-0.1 -> 0.9 | E11: =Codes!E40-0.1 -> 0.9 | F11: =Codes!F40-0.1 -> 0.9 | G11: =Codes!G40-0.05 -> 0.95 | H11: =Codes!H40-0.11 -> 1.89 | I11: =Codes!I40-0.14 -> 0.86 | J11: =Codes!J40-0.08 -> 2.92 | K11: =Codes!K40-0.05 -> 0.95
C12: ='Coding source'!B11 -> Pham-Truffert et al., 2020 | D12: =Codes!D41-0.08 -> 0.92 | E12: =Codes!E41-0.08 -> 1.92 | F12: =Codes!F41-0.08 -> 0.92 | G12: =Codes!G41-0.05 -> 0.95 | H12: =Codes!H41-0.14 -> 1.86 | I12: =Codes!I41-0.09 -> 0.91 | J12: =Codes!J41-0.09 -> 1.91 | K12: =Codes!K41-0.06 -> 0.94
C13: ='Coding source'!B12 -> Weitz et al., 2018 | D13: =Codes!D42-0.03 -> 0.97 | E13: =Codes!E42-0.06 -> 1.94 | F13: =Codes!F42-0.01 -> 0.99 | G13: =Codes!G42-0.02 -> 0.98 | H13: =Codes!H42-0.17 -> 1.83 | I13: =Codes!I42-0.1 -> 0.9 | J13: =Codes!J42-0.12 -> 1.88 | K13: =Codes!K42-0.1 -> 0.9
C14: ='Coding source'!B13 -> Jaramillo et al., 2019 | D14: =Codes!D43-0.06 -> 0.94 | E14: =Codes!E43-0.07 -> 1.93 | F14: =Codes!F43-0.04 -> 0.96 | G14: =Codes!G43-0.09 -> 0.91 | H14: =Codes!H43-0.09 -> 1.91 | I14: =Codes!I43-0.11 -> 0.89 | J14: =Codes!J43-0.13 -> 1.87 | K14: =Codes!K43-0.11 -> 0.89
C15: ='Coding source'!B15 -> Bali Swain & Ranganathan, 2021 | D15: =Codes!D45+0.1 -> 1.1 | E15: =Codes!E45+0.09 -> 2.09 | F15: =Codes!F45 -> 2 | G15: =Codes!G45 -> 1 | H15: =Codes!H45-0.05 -> 1.95 | I15: =Codes!I45 -> 1 | J15: =Codes!J45 -> 2 | K15: =Codes!K45-0.03 -> 1.97
C16: ='Coding source'!B16 -> Dörgo et al., 2018 | D16: =Codes!D46+0.1 -> 1.1 | E16: =Codes!E46+0.1 -> 2.1 | F16: =Codes!F46+0.1 -> 2.1 | G16: =Codes!G46+0.05 -> 2.05 | H16: =Codes!H46-0.01 -> 1.99 | I16: =Codes!I46-0.01 -> 0.99 | J16: =Codes!J46+0.11 -> 2.11 | K16: =Codes!K46 -> 2
C17: ='Coding source'!B17 -> El-Maghrabi et al., 2018 | D17: =Codes!D47+0.11 -> 1.11 | E17: =Codes!E47+0.14 -> 2.14 | F17: =Codes!F47+0.12 -> 2.12 | G17: =Codes!G47+0.08 -> 2.08 | H17: =Codes!H47+0.02 -> 2.02 | I17: =Codes!I47 -> 1 | J17: =Codes!J47+0.13 -> 2.13 | K17: =Codes!K47+0.01 -> 2.01
C18: ='Coding source'!B18 -> Laumann et al., 2022 | D18: =Codes!D48+0.11 -> 1.11 | E18: =Codes!E48+0.07 -> 2.07 | F18: =Codes!F48+0.07 -> 2.07 | G18: =Codes!G48 -> 1 | H18: =Codes!H48-0.04 -> 1.96 | I18: =Codes!I48+0.08 -> 1.08 | J18: =Codes!J48+0.12 -> 2.12 | K18: =Codes!K48+0.07 -> 2.07
C19: ='Coding source'!B19 -> Lusseau & Mancini, 2019 | D19: =Codes!D45+0.01 -> 1.01 | E19: =Codes!E45+0.12 -> 2.12 | F19: =Codes!F45+0.1 -> 2.1 | G19: =Codes!G45 -> 1 | H19: =Codes!H45+0.01 -> 2.01 | I19: =Codes!I45+0.04 -> 1.04 | J19: =Codes!J45+0.07 -> 2.07 | K19: =Codes!K45+0.04 -> 2.04
C20: ='Coding source'!B20 -> Türkeli, 2020 | D20: =Codes!D50+0.11 -> 1.11 | E20: =Codes!E50+0.08 -> 2.08 | F20: =Codes!F50+0.18 -> 2.18 | G20: =Codes!G50+0.05 -> 2.05 | H20: =Codes!H50 -> 2 | I20: =Codes!I50+0.06 -> 1.06 | J20: =Codes!J50+0.05 -> 2.05 | K20: =Codes!K50+0.03 -> 2.03
C21: ='Coding source'!B21 -> Xiao et al., 2022 | D21: =Codes!D51+0.04 -> 1.04 | E21: =Codes!E51+0.07 -> 2.07 | F21: =Codes!F51+0.07 -> 2.07 | G21: =Codes!G51+0.03 -> 1.03 | H21: =Codes!H51+0.02 -> 2.02 | I21: =Codes!I51 -> 1 | J21: =Codes!J51+0.02 -> 2.02 | K21: =Codes!K51+0.01 -> 2.01
C22: ='Coding source'!B22 -> Zhou et al., 2017 | D22: =Codes!D52+0.1 -> 1.1 | E22: =Codes!E52+0.07 -> 2.07 | F22: =Codes!F52+0.08 -> 2.08 | G22: =Codes!G52 -> 1 | H22: =Codes!H52 -> 2 | I22: =Codes!I52+0.02 -> 1.02 | J22: =Codes!J52+0.11 -> 2.11 | K22: =Codes!K52+0.01 -> 2.01
C23: ='Coding source'!B23 -> Cao et al., 2023 | D23: =Codes!D53+0.11 -> 1.11 | E23: =Codes!E53+0.06 -> 2.06 | F23: =Codes!F53+0.1 -> 2.1 | G23: =Codes!G53 -> 1 | H23: =Codes!H53 -> 2 | I23: =Codes!I53+0.03 -> 1.03 | J23: =Codes!J53+0.12 -> 2.12 | K23: =Codes!K53+0.02 -> 2.02
C24: ='Coding source'!B24 -> Xing et al., 2024 | D24: =Codes!D54+0.08 -> 1.08 | E24: =Codes!E54+0.04 -> 2.04 | F24: =Codes!F54+0.03 -> 2.03 | G24: =Codes!G54 -> 1 | H24: =Codes!H54 -> 2 | I24: =Codes!I54-0.03 -> 0.97 | J24: =Codes!J54+0.1 -> 2.1 | K24: =Codes!K54 -> 2
C25: ='Coding source'!B25 -> Sebestyén et al., 2019 | D25: =Codes!D55+0.21 -> 1.21 | E25: =Codes!E55+0.21 -> 2.21 | F25: =Codes!F55+0.2 -> 2.2 | G25: =Codes!G55 -> 3 | H25: =Codes!H55+0.24 -> 2.24 | I25: =Codes!I55 -> 3 | J25: =Codes!J55 -> 3 | K25: =Codes!K55+0.13 -> 2.13
C26: ='Coding source'!B14 -> Bellantuono et al., 2022 | D26: =Codes!D44+0.16 -> 1.16 | E26: =Codes!E44+0.15 -> 2.15 | F26: =Codes!F44 -> 2 | G26: =Codes!G44-0.04 -> 0.96 | H26: =Codes!H44+0.1 -> 2.1 | I26: =Codes!I44+0.16 -> 2.16 | J26: =Codes!J44+0.16 -> 2.16 | K26: =Codes!K44+0.16 -> 2.16
C27: ='Coding source'!B26 -> Androna et al., 2024 | D27: =Codes!D56+0.18 -> 2.18 | E27: =Codes!E56+0.18 -> 2.18 | F27: =Codes!F56+0.14 -> 2.14 | G27: =Codes!G56+0.1 -> 2.1 | H27: =Codes!H56+0.02 -> 2.02 | I27: =Codes!I56+0.1 -> 1.1 | J27: =Codes!J56+0.1 -> 2.1 | K27: =Codes!K56+0.11 -> 2.11
C28: ='Coding source'!B27 -> Xiao et al., 2024 | D28: =Codes!D57+0.02 -> 1.02 | E28: =Codes!E57+0.02 -> 1.02 | F28: =Codes!F57+0.01 -> 2.01 | G28: =Codes!G57+0.04 -> 1.04 | H28: =Codes!H57+0.01 -> 2.01 | I28: =Codes!I57+0.1 -> 1.1 | J28: =Codes!J57+0.1 -> 2.1 | K28: =Codes!K57+0.12 -> 2.12

Sheet Coding source
C1: System | D1: Questions | E1: Assumptions | F1: Elements | G1: Relationships | H1: Structure | I1: Theory | J1: Data
B2: Paper | C2: 1 | D2: 2 | E2: 3 | F2: 4 | G2: 5 | H2: 6 | I2: 7 | J2: 8
A3: 1 | B3: Mainali et al., 2018 | C3: ='Table texts'!D17 -> A | D3: ='Table texts'!F17 -> A | E3: ='Table texts'!H17 -> A | F3: ='Table texts'!J17 -> A | G3: ='Table texts'!L17 -> A | H3: ='Table texts'!N17 -> A | I3: ='Table texts'!P17 -> A | J3: ='Table texts'!R17 -> A
A4: 2 | B4: Le Blanc, 2015 | C4: ='Table texts'!D14 -> A | D4: ='Table texts'!F14 -> A | E4: ='Table texts'!H14 -> A | F4: ='Table texts'!J14 -> A | G4: ='Table texts'!L14 -> A | H4: ='Table texts'!N14 -> A | I4: ='Table texts'!P14 -> A | J4: ='Table texts'!R14 -> A
A5: 3 | B5: Lim et al., 2018 | C5: ='Table texts'!D15 -> A | D5: ='Table texts'!F15 -> A | E5: ='Table texts'!H15 -> A | F5: ='Table texts'!J15 -> A | G5: ='Table texts'!L15 -> A | H5: ='Table texts'!N15 -> A | I5: ='Table texts'!P15 -> A | J5: ='Table texts'!R15 -> A
A6: 4 | B6: Dalampira & Nastis, 2020 | C6: ='Table texts'!D8 -> A | D6: ='Table texts'!F8 -> A | E6: ='Table texts'!H8 -> A | F6: ='Table texts'!J8 -> A | G6: ='Table texts'!L8 -> B | H6: ='Table texts'!N8 -> A | I6: ='Table texts'!P8 -> A | J6: ='Table texts'!R8 -> A
A7: 5 | B7: McGowan et al., 2019 | C7: ='Table texts'!D18 -> A | D7: ='Table texts'!F18 -> A | E7: ='Table texts'!H18 -> A | F7: ='Table texts'!J18 -> A | G7: ='Table texts'!L18 -> B | H7: ='Table texts'!N18 -> A | I7: ='Table texts'!P18 -> B | J7: ='Table texts'!R18 -> A
A8: 6 | B8: Song, 2023 | C8: ='Table texts'!D21 -> A | D8: ='Table texts'!F21 -> A | E8: ='Table texts'!H21 -> A | F8: ='Table texts'!J21 -> A | G8: ='Table texts'!L21 -> B | H8: ='Table texts'!N21 -> A | I8: ='Table texts'!P21 -> B | J8: ='Table texts'!R21 -> A
A9: 7 | B9: Allen et al., 2019 | C9: ='Table texts'!D3 -> A | D9: ='Table texts'!F3 -> B | E9: ='Table texts'!H3 -> A | F9: ='Table texts'!J3 -> A | G9: ='Table texts'!L3 -> B | H9: ='Table texts'!N3 -> A | I9: ='Table texts'!P3 -> B | J9: ='Table texts'!R3 -> A
A10: 8 | B10: Dawes, 2020 | C10: ='Table texts'!D9 -> A | D10: ='Table texts'!F9 -> A | E10: ='Table texts'!H9 -> A | F10: ='Table texts'!J9 -> A | G10: ='Table texts'!L9 -> B | H10: ='Table texts'!N9 -> A | I10: ='Table texts'!P9 -> C | J10: ='Table texts'!R9 -> A
A11: 9 | B11: Pham-Truffert et al., 2020 | C11: ='Table texts'!D19 -> A | D11: ='Table texts'!F19 -> B | E11: ='Table texts'!H19 -> A | F11: ='Table texts'!J19 -> A | G11: ='Table texts'!L19 -> B | H11: ='Table texts'!N19 -> A | I11: ='Table texts'!P19 -> B | J11: ='Table texts'!R19 -> A
A12: 10 | B12: Weitz et al., 2018 | C12: ='Table texts'!D23 -> A | D12: ='Table texts'!F23 -> B | E12: ='Table texts'!H23 -> A | F12: ='Table texts'!J23 -> A | G12: ='Table texts'!L23 -> B | H12: ='Table texts'!N23 -> A | I12: ='Table texts'!P23 -> B | J12: ='Table texts'!R23 -> A
A13: 11 | B13: Jaramillo et al., 2019 | C13: ='Table texts'!D12 -> A | D13: ='Table texts'!F12 -> B | E13: ='Table texts'!H12 -> A | F13: ='Table texts'!J12 -> A | G13: ='Table texts'!L12 -> B | H13: ='Table texts'!N12 -> A | I13: ='Table texts'!P12 -> B | J13: ='Table texts'!R12 -> A
A14: 12 | B14: Bellantuono et al., 2022 | C14: ='Table texts'!D6 -> A | D14: ='Table texts'!F6 -> B | E14: ='Table texts'!H6 -> B | F14: ='Table texts'!J6 -> A | G14: ='Table texts'!L6 -> B | H14: ='Table texts'!N6 -> B | I14: ='Table texts'!P6 -> B | J14: ='Table texts'!R6 -> B
A15: 13 | B15: Bali Swain & Ranganathan, 2021 | C15: ='Table texts'!D5 -> A | D15: ='Table texts'!F5 -> B | E15: ='Table texts'!H5 -> B | F15: ='Table texts'!J5 -> A | G15: ='Table texts'!L5 -> B | H15: ='Table texts'!N5 -> A | I15: ='Table texts'!P5 -> B | J15: ='Table texts'!R5 -> B
A16: 14 | B16: Dörgo et al., 2018 | C16: ='Table texts'!D10 -> A | D16: ='Table texts'!F10 -> B | E16: ='Table texts'!H10 -> B | F16: ='Table texts'!J10 -> B | G16: ='Table texts'!L10 -> B | H16: ='Table texts'!N10 -> A | I16: ='Table texts'!P10 -> B | J16: ='Table texts'!R10 -> B
A17: 15 | B17: El-Maghrabi et al., 2018 | C17: ='Table texts'!D11 -> A | D17: ='Table texts'!F11 -> B | E17: ='Table texts'!H11 -> B | F17: ='Table texts'!J11 -> B | G17: ='Table texts'!L11 -> B | H17: ='Table texts'!N11 -> A | I17: ='Table texts'!P11 -> B | J17: ='Table texts'!R11 -> B
A18: 16 | B18: Laumann et al., 2022 | C18: ='Table texts'!D13 -> A | D18: ='Table texts'!F13 -> B | E18: ='Table texts'!H13 -> B | F18: ='Table texts'!J13 -> A | G18: ='Table texts'!L13 -> B | H18: ='Table texts'!N13 -> A | I18: ='Table texts'!P13 -> B | J18: ='Table texts'!R13 -> B
A19: 17 | B19: Lusseau & Mancini, 2019 | C19: ='Table texts'!D16 -> A | D19: ='Table texts'!F16 -> B | E19: ='Table texts'!H16 -> B | F19: ='Table texts'!J16 -> B | G19: ='Table texts'!L16 -> B | H19: ='Table texts'!N16 -> A | I19: ='Table texts'!P16 -> B | J19: ='Table texts'!R16 -> B
A20: 18 | B20: Türkeli, 2020 | C20: ='Table texts'!D22 -> A | D20: ='Table texts'!F22 -> B | E20: ='Table texts'!H22 -> B | F20: ='Table texts'!J22 -> B | G20: ='Table texts'!L22 -> B | H20: ='Table texts'!N22 -> A | I20: ='Table texts'!P22 -> B | J20: ='Table texts'!R22 -> B
A21: 19 | B21: Xiao et al., 2022 | C21: ='Table texts'!D24 -> A | D21: ='Table texts'!F24 -> B | E21: ='Table texts'!H24 -> B | F21: ='Table texts'!J24 -> A | G21: ='Table texts'!L24 -> B | H21: ='Table texts'!N24 -> A | I21: ='Table texts'!P24 -> B | J21: ='Table texts'!R24 -> B
A22: 20 | B22: Zhou et al., 2017 | C22: ='Table texts'!D27 -> A | D22: ='Table texts'!F27 -> B | E22: ='Table texts'!H27 -> B | F22: ='Table texts'!J27 -> A | G22: ='Table texts'!L27 -> B | H22: ='Table texts'!N27 -> A | I22: ='Table texts'!P27 -> B | J22: ='Table texts'!R27 -> B
A23: 21 | B23: Cao et al., 2023 | C23: ='Table texts'!D7 -> A | D23: ='Table texts'!F7 -> B | E23: ='Table texts'!H7 -> B | F23: ='Table texts'!J7 -> A | G23: ='Table texts'!L7 -> B | H23: ='Table texts'!N7 -> A | I23: ='Table texts'!P7 -> B | J23: ='Table texts'!R7 -> B
A24: 22 | B24: Xing et al., 2024 | C24: ='Table texts'!D26 -> A | D24: ='Table texts'!F26 -> B | E24: ='Table texts'!H26 -> B | F24: ='Table texts'!J26 -> A | G24: ='Table texts'!L26 -> B | H24: ='Table texts'!N26 -> A | I24: ='Table texts'!P26 -> B | J24: ='Table texts'!R26 -> B
A25: 23 | B25: Sebestyén et al., 2019 | C25: ='Table texts'!D20 -> A | D25: ='Table texts'!F20 -> B | E25: ='Table texts'!H20 -> B | F25: ='Table texts'!J20 -> C | G25: ='Table texts'!L20 -> B | H25: ='Table texts'!N20 -> C | I25: ='Table texts'!P20 -> C | J25: ='Table texts'!R20 -> B
A26: 24 | B26: Androna et al., 2024 | C26: ='Table texts'!D4 -> B | D26: ='Table texts'!F4 -> B | E26: ='Table texts'!H4 -> B | F26: ='Table texts'!J4 -> B | G26: ='Table texts'!L4 -> B | H26: ='Table texts'!N4 -> A | I26: ='Table texts'!P4 -> B | J26: ='Table texts'!R4 -> B
A27: 25 | B27: Xiao et al., 2024 | C27: ='Table texts'!D25 -> A | D27: ='Table texts'!F25 -> A | E27: ='Table texts'!H25 -> B | F27: ='Table texts'!J25 -> A | G27: ='Table texts'!L25 -> B | H27: ='Table texts'!N25 -> A | I27: ='Table texts'!P25 -> B | J27: ='Table texts'!R25 -> B
J37: Í

Sheet Codes
D2: System Definition | E2: Ontologically grounded questions from domain expertise | F2: Assumptions about network representation | G2: Elements that represent system's components | H2: Relationships betwen the elements | I2: Network structure | J2: Theory of network representation and analysis | K2: Data sources
C3: ='Coding source'!B3 -> Mainali et al., 2018 | D3: ='Coding source'!C3 -> A | E3: ='Coding source'!D3 -> A | F3: ='Coding source'!E3 -> A | G3: ='Coding source'!F3 -> A | H3: ='Coding source'!G3 -> A | I3: ='Coding source'!H3 -> A | J3: ='Coding source'!I3 -> A | K3: ='Coding source'!J3 -> A
C4: ='Coding source'!B4 -> Le Blanc, 2015 | D4: ='Coding source'!C4 -> A | E4: ='Coding source'!D4 -> A | F4: ='Coding source'!E4 -> A | G4: ='Coding source'!F4 -> A | H4: ='Coding source'!G4 -> A | I4: ='Coding source'!H4 -> A | J4: ='Coding source'!I4 -> A | K4: ='Coding source'!J4 -> A
C5: ='Coding source'!B5 -> Lim et al., 2018 | D5: ='Coding source'!C5 -> A | E5: ='Coding source'!D5 -> A | F5: ='Coding source'!E5 -> A | G5: ='Coding source'!F5 -> A | H5: ='Coding source'!G5 -> A | I5: ='Coding source'!H5 -> A | J5: ='Coding source'!I5 -> A | K5: ='Coding source'!J5 -> A
C6: ='Coding source'!B6 -> Dalampira & Nastis, 2020 | D6: ='Coding source'!C6 -> A | E6: ='Coding source'!D6 -> A | F6: ='Coding source'!E6 -> A | G6: ='Coding source'!F6 -> A | H6: ='Coding source'!G6 -> B | I6: ='Coding source'!H6 -> A | J6: ='Coding source'!I6 -> A | K6: ='Coding source'!J6 -> A
C7: ='Coding source'!B7 -> McGowan et al., 2019 | D7: ='Coding source'!C7 -> A | E7: ='Coding source'!D7 -> A | F7: ='Coding source'!E7 -> A | G7: ='Coding source'!F7 -> A | H7: ='Coding source'!G7 -> B | I7: ='Coding source'!H7 -> A | J7: ='Coding source'!I7 -> B | K7: ='Coding source'!J7 -> A
C8: ='Coding source'!B8 -> Song, 2023 | D8: ='Coding source'!C8 -> A | E8: ='Coding source'!D8 -> A | F8: ='Coding source'!E8 -> A | G8: ='Coding source'!F8 -> A | H8: ='Coding source'!G8 -> B | I8: ='Coding source'!H8 -> A | J8: ='Coding source'!I8 -> B | K8: ='Coding source'!J8 -> A
C9: ='Coding source'!B9 -> Allen et al., 2019 | D9: ='Coding source'!C9 -> A | E9: ='Coding source'!D9 -> B | F9: ='Coding source'!E9 -> A | G9: ='Coding source'!F9 -> A | H9: ='Coding source'!G9 -> B | I9: ='Coding source'!H9 -> A | J9: ='Coding source'!I9 -> B | K9: ='Coding source'!J9 -> A
C10: ='Coding source'!B10 -> Dawes, 2020 | D10: ='Coding source'!C10 -> A | E10: ='Coding source'!D10 -> A | F10: ='Coding source'!E10 -> A | G10: ='Coding source'!F10 -> A | H10: ='Coding source'!G10 -> B | I10: ='Coding source'!H10 -> A | J10: ='Coding source'!I10 -> C | K10: ='Coding source'!J10 -> A
C11: ='Coding source'!B11 -> Pham-Truffert et al., 2020 | D11: ='Coding source'!C11 -> A | E11: ='Coding source'!D11 -> B | F11: ='Coding source'!E11 -> A | G11: ='Coding source'!F11 -> A | H11: ='Coding source'!G11 -> B | I11: ='Coding source'!H11 -> A | J11: ='Coding source'!I11 -> B | K11: ='Coding source'!J11 -> A
C12: ='Coding source'!B12 -> Weitz et al., 2018 | D12: ='Coding source'!C12 -> A | E12: ='Coding source'!D12 -> B | F12: ='Coding source'!E12 -> A | G12: ='Coding source'!F12 -> A | H12: ='Coding source'!G12 -> B | I12: ='Coding source'!H12 -> A | J12: ='Coding source'!I12 -> B | K12: ='Coding source'!J12 -> A
C13: ='Coding source'!B13 -> Jaramillo et al., 2019 | D13: ='Coding source'!C13 -> A | E13: ='Coding source'!D13 -> B | F13: ='Coding source'!E13 -> A | G13: ='Coding source'!F13 -> A | H13: ='Coding source'!G13 -> B | I13: ='Coding source'!H13 -> A | J13: ='Coding source'!I13 -> B | K13: ='Coding source'!J13 -> A
C14: ='Coding source'!B14 -> Bellantuono et al., 2022 | D14: ='Coding source'!C14 -> A | E14: ='Coding source'!D14 -> B | F14: ='Coding source'!E14 -> B | G14: ='Coding source'!F14 -> A | H14: ='Coding source'!G14 -> B | I14: ='Coding source'!H14 -> B | J14: ='Coding source'!I14 -> B | K14: ='Coding source'!J14 -> B
... C27: ='Coding source'!B27 -> Xiao et al., 2024 | D27: ='Coding source'!C27 -> A | E27: ='Coding source'!D27 -> A | F27: ='Coding source'!E27 -> B | G27: ='Coding source'!F27 -> A | H27: ='Coding source'!G27 -> B | I27: ='Coding source'!H27 -> A | J27: ='Coding source'!I27 -> B | K27: ='Coding source'!J27 -> B
C32: Ordered
B33: 1 | C33: =C3 -> Mainali et al., 2018 | D33: =IF(D3="A", 1, IF(D3="b", 2, IF(D3="c", 3))) -> 1 | E33: =IF(E3="A", 1, IF(E3="b", 2, IF(E3="c", 3))) -> 1 | F33: =IF(F3="A", 1, IF(F3="b", 2, IF(F3="c", 3))) -> 1 | G33: =IF(G3="A", 1, IF(G3="b", 2, IF(G3="c", 3))) -> 1 | H33: =IF(H3="A", 1, IF(H3="b", 2, IF(H3="c", 3))) -> 1 | I33: =IF(I3="A", 1, IF(I3="b", 2, IF(I3="c", 3))) -> 1 | J33: =IF(J3="A", 1, IF(J3="b", 2, IF(J3="c", 3))) -> 1 | K33: =IF(K3="A", 1, IF(K3="b", 2, IF(K3="c", 3))) -> 1
B34: 1 | C34: =C4 -> Le Blanc, 2015 | D34: =IF(D4="A", 1, IF(D4="b", 2, IF(D4="c", 3))) -> 1 | E34: =IF(E4="A", 1, IF(E4="b", 2, IF(E4="c", 3))) -> 1 | F34: =IF(F4="A", 1, IF(F4="b", 2, IF(F4="c", 3))) -> 1 | G34: =IF(G4="A", 1, IF(G4="b", 2, IF(G4="c", 3))) -> 1 | H34: =IF(H4="A", 1, IF(H4="b", 2, IF(H4="c", 3))) -> 1 | I34: =IF(I4="A", 1, IF(I4="b", 2, IF(I4="c", 3))) -> 1 | J34: =IF(J4="A", 1, IF(J4="b", 2, IF(J4="c", 3))) -> 1 | K34: =IF(K4="A", 1, IF(K4="b", 2, IF(K4="c", 3))) -> 1
B35: 2 | C35: =C5 -> Lim et al., 2018 | D35: =IF(D5="A", 1, IF(D5="b", 2, IF(D5="c", 3))) -> 1 | E35: =IF(E5="A", 1, IF(E5="b", 2, IF(E5="c", 3))) -> 1 | F35: =IF(F5="A", 1, IF(F5="b", 2, IF(F5="c", 3))) -> 1 | G35: =IF(G5="A", 1, IF(G5="b", 2, IF(G5="c", 3))) -> 1 | H35: =IF(H5="A", 1, IF(H5="b", 2, IF(H5="c", 3))) -> 1 | I35: =IF(I5="A", 1, IF(I5="b", 2, IF(I5="c", 3))) -> 1 | J35: =IF(J5="A", 1, IF(J5="b", 2, IF(J5="c", 3))) -> 1 | K35: =IF(K5="A", 1, IF(K5="b", 2, IF(K5="c", 3))) -> 1
B36: 3 | C36: =C6 -> Dalampira & Nastis, 2020 | D36: =IF(D6="A", 1, IF(D6="b", 2, IF(D6="c", 3))) -> 1 | E36: =IF(E6="A", 1, IF(E6="b", 2, IF(E6="c", 3))) -> 1 | F36: =IF(F6="A", 1, IF(F6="b", 2, IF(F6="c", 3))) -> 1 | G36: =IF(G6="A", 1, IF(G6="b", 2, IF(G6="c", 3))) -> 1 | H36: =IF(H6="A", 1, IF(H6="b", 2, IF(H6="c", 3))) -> 2 | I36: =IF(I6="A", 1, IF(I6="b", 2, IF(I6="c", 3))) -> 1 | J36: =IF(J6="A", 1, IF(J6="b", 2, IF(J6="c", 3))) -> 1 | K36: =IF(K6="A", 1, IF(K6="b", 2, IF(K6="c", 3))) -> 1
B37: 4 | C37: =C7 -> McGowan et al., 2019 | D37: =IF(D7="A", 1, IF(D7="b", 2, IF(D7="c", 3))) -> 1 | E37: =IF(E7="A", 1, IF(E7="b", 2, IF(E7="c", 3))) -> 1 | F37: =IF(F7="A", 1, IF(F7="b", 2, IF(F7="c", 3))) -> 1 | G37: =IF(G7="A", 1, IF(G7="b", 2, IF(G7="c", 3))) -> 1 | H37: =IF(H7="A", 1, IF(H7="b", 2, IF(H7="c", 3))) -> 2 | I37: =IF(I7="A", 1, IF(I7="b", 2, IF(I7="c", 3))) -> 1 | J37: =IF(J7="A", 1, IF(J7="b", 2, IF(J7="c", 3))) -> 2 | K37: =IF(K7="A", 1, IF(K7="b", 2, IF(K7="c", 3))) -> 1
B38: 5 | C38: =C8 -> Song, 2023 | D38: =IF(D8="A", 1, IF(D8="b", 2, IF(D8="c", 3))) -> 1 | E38: =IF(E8="A", 1, IF(E8="b", 2, IF(E8="c", 3))) -> 1 | F38: =IF(F8="A", 1, IF(F8="b", 2, IF(F8="c", 3))) -> 1 | G38: =IF(G8="A", 1, IF(G8="b", 2, IF(G8="c", 3))) -> 1 | H38: =IF(H8="A", 1, IF(H8="b", 2, IF(H8="c", 3))) -> 2 | I38: =IF(I8="A", 1, IF(I8="b", 2, IF(I8="c", 3))) -> 1 | J38: =IF(J8="A", 1, IF(J8="b", 2, IF(J8="c", 3))) -> 2 | K38: =IF(K8="A", 1, IF(K8="b", 2, IF(K8="c", 3))) -> 1
B39: 6 | C39: =C9 -> Allen et al., 2019 | D39: =IF(D9="A", 1, IF(D9="b", 2, IF(D9="c", 3))) -> 1 | E39: =IF(E9="A", 1, IF(E9="b", 2, IF(E9="c", 3))) -> 2 | F39: =IF(F9="A", 1, IF(F9="b", 2, IF(F9="c", 3))) -> 1 | G39: =IF(G9="A", 1, IF(G9="b", 2, IF(G9="c", 3))) -> 1 | H39: =IF(H9="A", 1, IF(H9="b", 2, IF(H9="c", 3))) -> 2 | I39: =IF(I9="A", 1, IF(I9="b", 2, IF(I9="c", 3))) -> 1 | J39: =IF(J9="A", 1, IF(J9="b", 2, IF(J9="c", 3))) -> 2 | K39: =IF(K9="A", 1, IF(K9="b", 2, IF(K9="c", 3))) -> 1
B40: 7 | C40: =C10 -> Dawes, 2020 | D40: =IF(D10="A", 1, IF(D10="b", 2, IF(D10="c", 3))) -> 1 | E40: =IF(E10="A", 1, IF(E10="b", 2, IF(E10="c", 3))) -> 1 | F40: =IF(F10="A", 1, IF(F10="b", 2, IF(F10="c", 3))) -> 1 | G40: =IF(G10="A", 1, IF(G10="b", 2, IF(G10="c", 3))) -> 1 | H40: =IF(H10="A", 1, IF(H10="b", 2, IF(H10="c", 3))) -> 2 | I40: =IF(I10="A", 1, IF(I10="b", 2, IF(I10="c", 3))) -> 1 | J40: =IF(J10="A", 1, IF(J10="b", 2, IF(J10="c", 3))) -> 3 | K40: =IF(K10="A", 1, IF(K10="b", 2, IF(K10="c", 3))) -> 1
B41: 8 | C41: =C11 -> Pham-Truffert et al., 2020 | D41: =IF(D11="A", 1, IF(D11="b", 2, IF(D11="c", 3))) -> 1 | E41: =IF(E11="A", 1, IF(E11="b", 2, IF(E11="c", 3))) -> 2 | F41: =IF(F11="A", 1, IF(F11="b", 2, IF(F11="c", 3))) -> 1 | G41: =IF(G11="A", 1, IF(G11="b", 2, IF(G11="c", 3))) -> 1 | H41: =IF(H11="A", 1, IF(H11="b", 2, IF(H11="c", 3))) -> 2 | I41: =IF(I11="A", 1, IF(I11="b", 2, IF(I11="c", 3))) -> 1 | J41: =IF(J11="A", 1, IF(J11="b", 2, IF(J11="c", 3))) -> 2 | K41: =IF(K11="A", 1, IF(K11="b", 2, IF(K11="c", 3))) -> 1
B42: 9 | C42: =C12 -> Weitz et al., 2018 | D42: =IF(D12="A", 1, IF(D12="b", 2, IF(D12="c", 3))) -> 1 | E42: =IF(E12="A", 1, IF(E12="b", 2, IF(E12="c", 3))) -> 2 | F42: =IF(F12="A", 1, IF(F12="b", 2, IF(F12="c", 3))) -> 1 | G42: =IF(G12="A", 1, IF(G12="b", 2, IF(G12="c", 3))) -> 1 | H42: =IF(H12="A", 1, IF(H12="b", 2, IF(H12="c", 3))) -> 2 | I42: =IF(I12="A", 1, IF(I12="b", 2, IF(I12="c", 3))) -> 1 | J42: =IF(J12="A", 1, IF(J12="b", 2, IF(J12="c", 3))) -> 2 | K42: =IF(K12="A", 1, IF(K12="b", 2, IF(K12="c", 3))) -> 1
B43: 10 | C43: =C13 -> Jaramillo et al., 2019 | D43: =IF(D13="A", 1, IF(D13="b", 2, IF(D13="c", 3))) -> 1 | E43: =IF(E13="A", 1, IF(E13="b", 2, IF(E13="c", 3))) -> 2 | F43: =IF(F13="A", 1, IF(F13="b", 2, IF(F13="c", 3))) -> 1 | G43: =IF(G13="A", 1, IF(G13="b", 2, IF(G13="c", 3))) -> 1 | H43: =IF(H13="A", 1, IF(H13="b", 2, IF(H13="c", 3))) -> 2 | I43: =IF(I13="A", 1, IF(I13="b", 2, IF(I13="c", 3))) -> 1 | J43: =IF(J13="A", 1, IF(J13="b", 2, IF(J13="c", 3))) -> 2 | K43: =IF(K13="A", 1, IF(K13="b", 2, IF(K13="c", 3))) -> 1
B44: 10.745455 | C44: =C14 -> Bellantuono et al., 2022 | D44: =IF(D14="A", 1, IF(D14="b", 2, IF(D14="c", 3))) -> 1 | E44: =IF(E14="A", 1, IF(E14="b", 2, IF(E14="c", 3))) -> 2 | F44: =IF(F14="A", 1, IF(F14="b", 2, IF(F14="c", 3))) -> 2 | G44: =IF(G14="A", 1, IF(G14="b", 2, IF(G14="c", 3))) -> 1 | H44: =IF(H14="A", 1, IF(H14="b", 2, IF(H14="c", 3))) -> 2 | I44: =IF(I14="A", 1, IF(I14="b", 2, IF(I14="c", 3))) -> 2 | J44: =IF(J14="A", 1, IF(J14="b", 2, IF(J14="c", 3))) -> 2 | K44: =IF(K14="A", 1, IF(K14="b", 2, IF(K14="c", 3))) -> 2
... B57: 23.036364 | C57: =C27 -> Xiao et al., 2024 | D57: =IF(D27="A", 1, IF(D27="b", 2, IF(D27="c", 3))) -> 1 | E57: =IF(E27="A", 1, IF(E27="b", 2, IF(E27="c", 3))) -> 1 | F57: =IF(F27="A", 1, IF(F27="b", 2, IF(F27="c", 3))) -> 2 | G57: =IF(G27="A", 1, IF(G27="b", 2, IF(G27="c", 3))) -> 1 | H57: =IF(H27="A", 1, IF(H27="b", 2, IF(H27="c", 3))) -> 2 | I57: =IF(I27="A", 1, IF(I27="b", 2, IF(I27="c", 3))) -> 1 | J57: =IF(J27="A", 1, IF(J27="b", 2, IF(J27="c", 3))) -> 2 | K57: =IF(K27="A", 1, IF(K27="b", 2, IF(K27="c", 3))) -> 2

Sheet SotA Bennich
M17: McGowan
M18: gyula
M19: wood
M20: Mainali
M21: dorgo
M22: Lusseau, mancini
N31: =66/316 -> 0.20886076
N33: =238/316 -> 0.75316456
X43: Total | Y43: 70
X44: M1 | Y44: =COUNTIF(Table2[M1], "X") -> 11 | Z44: =Y44/Y43 -> 0.15714286
B45: Article | C45: Policy integration | D45: Policy innovation | E45: Context | F45: Policy prioritization | G45: Integrated perspective | H45: MAE | I45: Goal-goal interaction | J45: Target-target interaction | K45: Indicator-indicator interaction | L45: Policy-policy interaction | M45: GTI and policy | N45: External entities | O45: Geographic location | P45: Actor interaction | Q45: Scientific literature | R45: Official databases | S45: Expert knowledge | T45: Direct observations | U45: Model as data source | V45: Spatial map | W45: N/S | X45: Network analysis | Y45: Cross-impact analysis | Z45: Participatory methods | AA45: Quantitative modeling | AB45: Statistical analysis | AC45: Conceptual systems modeling | AD45: Document analysis | AE45: Qualitative scenario analysis | AF45: Multi-criteria analysis
C46: P1 | D46: P2 | E46: P3 | F46: P4 | G46: P5 | H46: P6 | I46: C1 | J46: C2 | K46: C3 | L46: C4 | M46: C5 | N46: C6 | O46: C7 | P46: C8 | Q46: D1 | R46: D2 | S46: D3 | T46: D4 | U46: D5 | V46: D6 | W46: D7 | X46: M1 | Y46: M2 | Z46: M3 | AA46: M4 | AB46: M5 | AC46: M6 | AD46: M7 | AE46: M8 | AF46: M9
B47: 1. (Kopainsky et al., 2018) | H47: X | M47: X | N47: X | Q47: X | AC47: X
B48: 2. (Glover et al., 2016) | F48: X | L48: X | N48: X | Q48: X | S48: X | Z48: X | AC48: X | AD48: X | AE48: X
B49: 3. (Bijl et al., 2017) | E49: X | N49: X | R49: X | AA49: X | AC49: X
B50: 4. (Singh et al., 2018) | E50: X | F50: X | I50: X | Q50: X | S50: X | Z50: X | AC50: X
B51: 5. (Pradhan et al., 2017) | D51: X | F51: X | K51: X | R51: X | AB51: X
B52: 6. (Moyer and Bohl, 2019) | D52: X | E52: X | N52: X | R52: X | AA52: X | AC52: X
B53: 7. (McGowan et al., 2018) | E53: X | F53: X | I53: X | S53: X | X53: X
B54: 8. (Elder et al., 2016) | C54: X | F54: X | N54: X | Q54: X | AC54: X | AD54: X
B55: 9. (Flörke et al., 2019) | F55: X | I55: X | Q55: X | AC55: X | AD55: X
B56: 10. (Josephsen, 2017) | H56: X | N56: X | Q56: X | AD56: X
B57: 11. (Obersteiner et al., 2016) | C57: X | D57: X | G57: X | N57: X | R57: X | AA57: X | AB57: X | AC57: X
B58: 12. (Gyula et al., 2018) | G58: X | N58: X | Q58: X | U58: X | X58: X | AA58: X | AD58: X
B59: 13. (Heimann, 2018) | C59: X | N59: X | Q59: X | Y59: X
B60: 14. (Cucurachi and Suh, 2017) | C60: X | H60: X | N60: X | Q60: X | AD60: X
B61: 15. (Rosenthal et al., 2018) | C61: X | E61: X | N61: X | R61: X | T61: X | AA61: X
B62: 16. (De Jong et al., 2018) | E62: X | F62: X | N62: X | Q62: X | S62: X | AC62: X | AD62: X
B63: 17. (McCollum et al., 2018) | C63: X | E63: X | G63: X | N63: X | Q63: X | S63: X | Y63: X | AD63: X
B64: 18. (Kumar et al., 2018) | F64: X | I64: X | Q64: X | S64: X | Y64: X | AC64: X
B65: 19. (Wood et al., 2018) | C65: X | N65: X | Q65: X | S65: X | X65: X | AD65: X
B66: 20. (Kanter et al., 2018) | C66: X | E66: X | G66: X | N66: X | Q66: X | AD66: X
B67: 21. (Mainali et al., 2018) | C67: X | E67: X | M67: X | Q67: X | R67: X | S67: X | X67: X | AB67: X | AC67: X
B68: 22. (Dörgő et al., 2018) | C68: X | K68: X | R68: X | X68: X | AB68: X | AC68: X
B69: 23. (Santika et al., 2019) | C69: X | G69: X | N69: X | Q69: X | R69: X | S69: X | Z69: X | AC69: X | AD69: X
B70: 24. (Manandhar et al., 2018) | C70: X | G70: X | H70: X | N70: X | Q70: X | AC70: X | AD70: X
B71: 25. (Bowen et al., 2017) | C71: X | G71: X | H71: X | N71: X | Q71: X | T71: X | AD71: X
B72: 26. (Iyer et al., 2018) | E72: X | N72: X | R72: X | AA72: X
B73: 27. (Lusseau and Mancini, 2019) | C73: X | E73: X | I73: X | J73: X | R73: X | X73: X | AA73: X | AB73: X
B74: 28. (Allen et al., 2017) | G74: X | M74: X | Q74: X | R74: X | S74: X | Z74: X | AB74: X
...
