Workbook

Sheet Home
G3: ANNEX A - BIOBASEDCERT Monitoring Tool (BMT)
G4: Joint Deliverable for HORIZON–CL6-2021-ZEROPOLLUTION-01-07
B5: NAVIGATION
B8: System Level Assessment
B10: ReadMe System Level
B11: Standard_Setting
B12: Assurance | G12: INTRODUCTION
B13: Traceability_Claims | G13: Welcome to the BIOBASEDCERT Monitoring Tool (BMT)
B14: Governance_Management
B15: Results_SystemLevel | G15: The BMT is developed as part of a collaborative effort between three EU-funded projects STAR4BBS, SUSTCERTBIOBASED, and HARMONITOR for assessment of robustness, comprehensiveness and effectiveness of certification schemes and labels (CSLs) relevant to industrial biobased value chains.
G17: The BMT is organized into three levels of analysis: • System Level (led by STAR4BBS) – Assesses governance, transparency, traceability, and assurance mechanisms to evaluate the overall robustness of CSLs. • Content Level (led by SUSTCERT4BIOBASED) – Reviews the sustainability and circularity requirements set by CSLs for certified operators, providing an assessment of their comprehensiveness. • Outcome Level (led by HARMONITOR) - Examines the evidence of performance and impacts associated with CSL implementation, offering insights into the effectiveness of the schemes. This multi-level approach provides a holistic framework for assessing and enhancing the role of certification schemes in supporting the biobased economy.
B18: Content Level Assessment
B20: ReadMe Content Level
B21: Pre-assessment
B22: Minimum backstop
B23: Environment
B24: Circularity
B25: Social
B26: Economic | G26: How to Use This Tool
B27: Results_ContentLevel | G27: 1. Start with the ReadMe tab of the level you wish to assess (System, Content, or Outcome) to review detailed instructions. 2. Complete the assessment by following the guidance provided in the corresponding level-specific ReadMe tab. 3. View the results in the Results tab, where results are visualized for easy interpretation.
B28: Glossary
B31: Outcome Level Assessment | G31: Disclaimer
B33: ReadMe Outcome Level | G33: Funded by the European Union. Views and opinions expressed are, however, those of the author(s) only and do not necessarily reflect those of the European Union or the European Research Executive Agency (REA).
B34: InitialAssessment | G34: Neither the European Union nor the granting authority can be held responsible for them.
B35: ImpactMonitoringIndicators
B36: LiteratureReview
B37: Results_OutcomeLevel

Sheet ReadMe System Level
A1: BIOBASEDCERT Monitoring Tool How to use this tool
A3: Column explanation
B5: Category | C5: Principles | D5: Criteria | E5: Requirements (including guidance notes) | F5: Response options | G5: Scoring | H5: Requirement fulfilled | I5: Points received | J5: % of Requirement fulfilled | K5: % of points per Principle | L5: Justification | M5: Feedback from tester
B6: Key Area/Topic Assurance | C6: Represent a specific focus within the category. Auditing | D6: The specific aspect of the principle being assessed. The scheme owner defines the type of activities CABs are required to undertake during a full audit. | E6: Describes what is expected from the certification scheme/label regarding this criterion. It specifies how the scheme owner should define the requested indicator. It also provides context and example to help the evaluator understand the requirements of the pertaining criterion. The scheme owner defines this requirement in certification requirements/methodologies, or in the contract/agreement between the scheme owner and the AB, or in a separate accreditation manual. | F6: These are possible responses for evaluating whether the certification scheme meets the requirement. Field visit (incl. office visit & doc. review) Document review (off-site or onsite) only No Not applicable | G6: This column provides a numeric evaluation based on the response options. Higher scores indicate better compliance with the requirements. In this case, 2 points for field visits (most comprehensive), 1 for document review, and 0 for no action. | H6: This column indicates whether the specific requirement (from the criterion being evaluated) has been met by the certification scheme. It could be answered as "Yes" or "No" or "Not Applicable". | I6: Reflects the score awarded based on the level of compliance. This would follow the defined scoring system (e.g., 2, 1, 0, or N/A depending on the response option). | J6: This column shows the percentage of how much the requirement is met, based on the points received. | K6: Indicates what percentage of points the scheme has obtained out of the total possible points for that principle. | L6: Provides reasoning or evidence supporting the points received and whether the requirement is fulfilled. This could involve referring to documents, procedures, or other relevant data obtained by the evaluator. | M6: This section would include any observations, suggestions, or comments from the evaluator. It provides an opportunity to give qualitative feedback on how the indicator could potentially be improved.
A9: Response options
B10: Yes, fully | C10: 0 | D10: 0 | E10: 0 | F10: 0
B11: Yes, partially | C11: 1 | D11: 1 | E11: 1 | F11: 1
B12: No | C12: 2 | D12: N/A | E12: 2
B13: Not Applicable | C13: N/A

Sheet Standard_Setting
A1: BIOBASEDCERT Monitoring Tool System Level
A2: Name of the scheme:
A3: Category | B3: Principles | C3: Code | D3: Criteria | E3: Requirements (including guidance notes) | F3: Response options | G3: Scoring | H3: Requirement fulfilled | I3: Points received | J3: % of Requirement fulfilled | K3: % of points per Principle | L3: Justification | M3: Feedback from tester
A4: Standard setting | B4: Standards content | C4: SS-SS-1 | D4: The scheme owner makes final versions of its standards freely available and easily accessible in the scheme’s official languages. | E4: Either of the following: - The standard document is freely available for download on the scheme owner's website, incl. all criteria and correspponding accompanying documents to support consistent interpretation. - An online statement that the standard is made available to any interested party on request free of charge - Available only for members or for a fee - Not available | F4: Yes (publicly, on request (no fee)) Yes, for a fee No | G4: 2 1 0 | J4: =IF(H4="No", 0, IF(AND(I4=1, H4="Yes, partially"), 0.5, IF(AND(I4=2, H4="Yes, fully"), 1, IF(AND(I4=1, H4="Yes, fully"), 1, "")))) | K4: =AVERAGE(J4:J5) -> #DIV/0!
A5: Standard setting | B5: Standards content | C5: SS-SS-2 | D5: The scheme owner ensures that guidance is in place to support consistent interpretation of the standard. | E5: The standard and/or separate guidance documents for interpretation shall be formulated in a comprehensive and binding way, so that each individual criterion can be assessed consistently and thoroughly by third parties. - The standard and/or guidance documents shall specify necessary evidence for each criterion. | F5: Yes No | G5: 1 0 | J5: =IF(H5="No", 0, IF(AND(I5=1, H5="Yes, partially"), 0.5, IF(AND(I5=2, H5="Yes, fully"), 1, IF(AND(I5=1, H5="Yes, fully"), 1, ""))))
A6: Standard setting | B6: Standard-setting process | C6: SS-SP-1 | D6: The scheme owner reviews and revises the standards at least once every 5 years. | E6: The scheme owner reviews standards at least once every five years for continued relevance and for effectiveness in meeting their stated objectives and, if necessary, revises them in a timely manner. | F6: Yes No | G6: 1 0 | J6: =IF(H6="No", 0, IF(AND(I6=1, H6="Yes, partially"), 0.5, IF(AND(I6=2, H6="Yes, fully"), 1, IF(AND(I6=1, H6="Yes, fully"), 1, "")))) | K6: =AVERAGE(J6:J7) -> #DIV/0!
A7: Standard setting | B7: Standard-setting process | C7: SS-SP-2 | D7: The scheme owner makes publicly available a summary that includes the decision-making procedures of how decisions are made and who makes them. | E7: The procedures for decision-making, including decision-making roles and responsibilities, are documented. The documentation includes the bodies involved in the standard-setting process and their respective roles and decision-making functions. | F7: Yes, publicly Yes (on request) No | G7: 2 1 0 | J7: =IF(H7="No", 0, IF(AND(I7=1, H7="Yes, partially"), 0.5, IF(AND(I7=2, H7="Yes, fully"), 1, IF(AND(I7=1, H7="Yes, fully"), 1, ""))))
A8: Standard setting | B8: Standards consultation | C8: SS-SC-1 | D8: The scheme owner subjects the development of new standards and the revision of existing standards to public consultation. | E8: The scheme provides sufficient time and opportunity for stakeholders to participate in the consultation. The ISEAL Code recommends: - at least two rounds of input on initial standards development; and - at least one round of input on standards revision. 60 days and 30 days have generally been considered adequate time to submit comments in first and second rounds of consultation, respectively. | F8: Yes, specified number of rounds Yes, unspecified No | G8: 2 1 0 | J8: =IF(H8="No", 0, IF(AND(I8=1, H8="Yes, partially"), 0.5, IF(AND(I8=2, H8="Yes, fully"), 1, IF(AND(I8=1, H8="Yes, fully"), 1, "")))) | K8: =AVERAGE(J8:J13) -> #DIV/0!
A9: Standard setting | B9: Standards consultation | C9: SS-SC-2 | D9: The scheme owner shall ensure that participation in the consultation process is open to all stakeholders. | E9: Interested parties can participate in the consultation process, through a consultation forum or stakeholders are made aware of alternative mechanisms by which they can participate. | F9: Yes, possible No | G9: 1 0 | J9: =IF(H9="No", 0, IF(AND(I9=1, H9="Yes, partially"), 0.5, IF(AND(I9=2, H9="Yes, fully"), 1, IF(AND(I9=1, H9="Yes, fully"), 1, ""))))
A10: Standard setting | B10: Standards consultation | C10: SS-SC-3 | D10: The scheme owner proactively encourages participation in standard-setting of all stakeholders directly affected. | E10: There should be evidence of identification and documentation outlining how stakeholders are directly affected by implementation of the scheme or by the sector the scheme seeks to impact, and records of activities set by the scheme to proactively reach out to these stakeholders and encourage their participation in standard setting. | F10: Yes No | G10: 1 0 | J10: =IF(H10="No", 0, IF(AND(I10=1, H10="Yes, partially"), 0.5, IF(AND(I10=2, H10="Yes, fully"), 1, IF(AND(I10=1, H10="Yes, fully"), 1, ""))))
A11: Standard setting | B11: Standards consultation | C11: SS-SC-4 | D11: The scheme owner ensures balanced participation of stakeholder interests in the consultation and decision-making processes. | E11: The scheme owner ensures participation by independent technical experts and encourages balanced participation by stakeholders in the standard development, revision, and approval process. Documented information on the voting procedure of the highest decision-making body responsible for the standard setting process specifies that all categories of stakeholders are represented. The procedure shall also ensure that one stakeholder category is not able to dominate decision-making. | F11: Yes No | G11: 1 0 | J11: =IF(H11="No", 0, IF(AND(I11=1, H11="Yes, partially"), 0.5, IF(AND(I11=2, H11="Yes, fully"), 1, IF(AND(I11=1, H11="Yes, fully"), 1, ""))))
A12: Standard setting | B12: Standards consultation | C12: SS-SC-5 | D12: The scheme owner allows for adaptation or interpretation of the standard to regional contexts based on multistakeholder consultation processes. | E12: There are procedures and guidance in place to ensure that any adaptations of a scheme’s standard (e.g., for national or regional relevance, scale of enterprise, or for specific products or sectors) is developed through a multistakeholder consultation process. → Not applicable for schemes that develop product-specific standards based on a life-cycle and multi-criteria approach (ISO type I labels) as said approach does not allow for the recognition of local contexts. Either of the following: - Information in the standard about how each of the requirements can be interpreted for application at a local level - Procedure for development of a local adaptation of the standard including stakeholder consultation measures. - The standard organization has country-specific standards | F12: Yes No Not applicable | G12: 1 0 - | H12: Not Applicable | I12: N/A | J12: =IF(H12="No", 0, IF(AND(I12=1, H12="Yes, partially"), 0.5, IF(AND(I12=2, H12="Yes, fully"), 1, IF(AND(I12=1, H12="Yes, fully"), 1, ""))))
A13: Standard setting | B13: Standards consultation | C13: SS-SC-6 | D13: The scheme owner provides information on the input received from stakeholder consultations and how it was used. | E13: The scheme owner makes publicly available the comments received during the consultations or, at a minimum, accurate summaries of these comments, along with explanations of how the comments were considered, through: • documentation of collected feedback from previous public consultations • a statement on how the collected feedback was used for the setting or revision of the Standard. | F13: Yes, comments and explanations Yes, comments only No | G13: 2 1 0 | J13: =IF(H13="No", 0, IF(AND(I13=1, H13="Yes, partially"), 0.5, IF(AND(I13=2, H13="Yes, fully"), 1, IF(AND(I13=1, H13="Yes, fully"), 1, ""))))

Sheet Assurance
A1: BIOBASEDCERT Monitoring Tool System Level
A2: Name of the scheme:
A3: Category | B3: Principles | C3: Code | D3: Criteria | E3: Requirements (including guidance notes) | F3: Response options | G3: Scoring | H3: Requirement fulfilled | I3: Points received | J3: % of Requirement fulfilled | K3: % of points per Principle | L3: Justification | M3: Feedback from tester
A4: Assurance | B4: Assurance system | C4: AS-AS-1 | D4: The scheme owner ensures that there is a publicly available description of the consistent methodology used to assess compliance with the standard. | E4: Certification processes are conducted according to consistent methodologies. Refers to the summary of assessment process undertaken in granting or denying licence or certificate to operating unit: - type(s) of assessment employed - how clients are assessed, how often and by whom, and the basis for decisions - scoring system, applicability of criteria, etc. | F4: Yes No | G4: 1 0 | J4: =IF(H4="No", 0, IF(AND(I4=1, H4="Yes, partially"), 0.5, IF(AND(I4=2, H4="Yes, fully"), 1, IF(AND(I4=1, H4="Yes, fully"), 1, "")))) | K4: =AVERAGE(J4:J5) -> #DIV/0!
A5: Assurance | B5: Assurance system | C5: AS-AS-2 | D5: The scheme owner ensures that summary certification/verification reports are made available. | E5: The scheme owner defines this requirement in certification requirements/methodologies, or in the contract/agreement between the scheme owner and the Accreditation Body (AB), or in a separate accreditation manual. The report should be made available in a UN and local language. At least basic information about the results of assessments of clients and assurance providers, that includes, at a minimum, information about the client's assurance status should be provided. For schemes where assessment reports are not publicly available online, summary reports are available from Conformity Assessment Bodies (CABs) upon request (request to verify availability). If assessment reports cannot be shared by the scheme or by CABs due to confidentiality, it is "confidential". If no assessment reports are written at all, it is "No, no reports". | F5: Yes, publicly Yes (on request) / Confidential No, no reports | G5: 2 1 0 | J5: =IF(H5="No", 0, IF(AND(I5=1, H5="Yes, partially"), 0.5, IF(AND(I5=2, H5="Yes, fully"), 1, IF(AND(I5=1, H5="Yes, fully"), 1, ""))))
A6: Assurance | B6: Conformity assessment | C6: AS-CA-1 | D6: Minimum level of conformity assessment required by the scheme owner. | E6: The most independent level is the 3rd party audit (independent from the client). The 1st party is a self-assessment and the 2nd party is done by an interested stakeholder (e.g. an industry or trade association or NGO). The scheme owner defines this requirement in certification requirements/methodologies, or in the contract/agreement between the scheme owner and the AB, or in a separate accreditation manual. | F6: 3rd party 2nd party or 1st party | G6: 1 0 | J6: =IF(H6="No", 0, IF(AND(I6=1, H6="Yes, partially"), 0.5, IF(AND(I6=2, H6="Yes, fully"), 1, IF(AND(I6=1, H6="Yes, fully"), 1, "")))) | K6: =AVERAGE(J6:J7) -> #DIV/0!
A7: Assurance | B7: Conformity assessment | C7: AS-CA-2 | D7: The scheme owner requires CABs to have a procedure in place for how clients are required to address non-conformities, including when a certificate or license is suspended or revoked. | E7: The scheme owner defines this requirement in certification requirements/methodologies, or in the contract/agreement between the scheme owner and the AB, or in a separate accreditation manual - The procedure specifies how different degrees of non-conformity (if applicable) are to be addressed and remediated, verifying corrective actions arising from non-compliances and allowing for appeals of non-compliances, in order to support consistency between CABs. - The procedure also specifies the conditions under which certification / the licence may be suspended or withdrawn, partially or in total, for all or part of the scope of certification / the licence. | F7: Yes No | G7: 1 0 | J7: =IF(H7="No", 0, IF(AND(I7=1, H7="Yes, partially"), 0.5, IF(AND(I7=2, H7="Yes, fully"), 1, IF(AND(I7=1, H7="Yes, fully"), 1, ""))))
A8: Assurance | B8: Conformity assessment bodies | C8: AS-CB-1 | D8: The scheme owner requires CABs to be compliant with and accredited according to ISO/IEC 17065, ISO/IEC 17021, ISO/IEC 17020, or equivalent. | E8: The scheme owner defines quality requirements: • in certification requirements/methodologies, or • in the contract/agreement between the scheme owner and the CAB, or • in a separate accreditation manual. | F8: Yes No | G8: 1 0 | J8: =IF(H8="No", 0, IF(AND(I8=1, H8="Yes, partially"), 0.5, IF(AND(I8=2, H8="Yes, fully"), 1, IF(AND(I8=1, H8="Yes, fully"), 1, "")))) | K8: =AVERAGE(J8:J12) -> #DIV/0!
A9: Assurance | B9: Conformity assessment bodies | C9: AS-CB-2 | D9: The scheme owner makes public a list of all accredited/approved CABs. | E9: A system to list all CABs accepted by the scheme or accredited by respective ABs is publicly available, up-to-date and complete. | F9: Yes, publicly Yes (on request) No | G9: 2 1 0 | J9: =IF(H9="No", 0, IF(AND(I9=1, H9="Yes, partially"), 0.5, IF(AND(I9=2, H9="Yes, fully"), 1, IF(AND(I9=1, H9="Yes, fully"), 1, ""))))
A10: Assurance | B10: Conformity assessment bodies | C10: AS-CB-3 | D10: The scheme owner requires specific qualifications and competencies for auditors of conformity assessment bodies (CABs). | E10: The scheme owner has guidance specifying qualifications and competence criteria for CABs or requires that CABs have these set out. The scheme owner should also perform examinations for auditors, or trainings and other forms of professional development practices. | F10: Yes, examination or training included Yes, no examination or training No | G10: 2 1 0 | J10: =IF(H10="No", 0, IF(AND(I10=1, H10="Yes, partially"), 0.5, IF(AND(I10=2, H10="Yes, fully"), 1, IF(AND(I10=1, H10="Yes, fully"), 1, ""))))
A11: Assurance | B11: Conformity assessment bodies | C11: AS-CB-4 | D11: The scheme owner maintains or requires CABs to maintain a publicly accessible list of certified products/product groups. | E11: A system to show the enterprises producing certified/ verified products is publicly available (for example in a database or by uploaded lists). This system shall be up-to-date and complete (managed by the scheme owner or outsourced to the ABs or CABs), including the scope of certificate/license. If the management system is outsourced to the ABs or CABs, this is required and described in the contract/agreement between the scheme owner and the AB/CAB, in a separate accreditation manual or for example in certification requirements/methodologies. As a minimum, the certification body shall provide information, upon request, about the validity of a given certification. | F11: Yes, incl. scope of certificate/license Yes No | G11: 2 1 0 | J11: =IF(H11="No", 0, IF(AND(I11=1, H11="Yes, partially"), 0.5, IF(AND(I11=2, H11="Yes, fully"), 1, IF(AND(I11=1, H11="Yes, fully"), 1, ""))))
A12: Assurance | B12: Conformity assessment bodies | C12: AS-CB-5 | D12: The scheme owner requires CABs to have a documented, and publicly available, mechanism for clients who want to appeal compliance decisions. | E12: The procedure defines: - clear instructions for how clients should submit their request to reconsider the compliance decision; and - and overview of the appeal process by which the CAB will assess the request, including timelines. | F12: Yes, with an appeal overview Yes, only submission instructions No | G12: 2 1 0 | J12: =IF(H12="No", 0, IF(AND(I12=1, H12="Yes, partially"), 0.5, IF(AND(I12=2, H12="Yes, fully"), 1, IF(AND(I12=1, H12="Yes, fully"), 1, ""))))
A13: Assurance | B13: Auditing | C13: AS-AU-1 | D13: The scheme owner has or requires CABs to have documented procedures for reliable auditing methods. | E13: The scheme owner/CAB shall have clear procedures that describe how audits are planned, conducted and reported on. Examples of evidence: - requirements in the contract/agreement between the Scheme Owner and the certification body, in a separate accreditation manual or for e.g. in certification requirements/methodologies. - guidance interpretation specifying auditing methods and risk factors, in order to support consistency between certification bodies. | F13: Yes No | G13: 1 0 | J13: =IF(H13="No", 0, IF(AND(I13=1, H13="Yes, partially"), 0.5, IF(AND(I13=2, H13="Yes, fully"), 1, IF(AND(I13=1, H13="Yes, fully"), 1, "")))) | K13: =AVERAGE(J13:J17) -> #DIV/0!
A14: Assurance | B14: Auditing | C14: AS-AU-2 | D14: The scheme owner defines or requires CABs to state frequency of surveillance audits. | E14: The scheme owner/CAB defines this requirement in certification requirements/methodologies, or in the contract/agreement between the scheme owner and the AB, or in a separate accreditation manual. | F14: Yes No | G14: 1 0 | J14: =IF(H14="No", 0, IF(AND(I14=1, H14="Yes, partially"), 0.5, IF(AND(I14=2, H14="Yes, fully"), 1, IF(AND(I14=1, H14="Yes, fully"), 1, ""))))
A15: Assurance | B15: Auditing | C15: AS-AU-3 | D15: The scheme owner defines the type of activities CABs are required to undertake during an initial audit. | E15: The scheme owner has to clarify whether CABs are required to perform onsite visits for the initial audit, including premises visit and documents review, or an off-site (remote) documentation review would suffice. The scheme owner defines this requirement in certification requirements/methodologies, or in the contract/agreement between the scheme owner and the AB, or in a separate accreditation manual. | F15: Yes, onsite Yes, fully or partly remote No | G15: 2 1 0 | J15: =IF(H15="No", 0, IF(AND(I15=1, H15="Yes, partially"), 0.5, IF(AND(I15=2, H15="Yes, fully"), 1, IF(AND(I15=1, H15="Yes, fully"), 1, ""))))
A16: Assurance | B16: Auditing | C16: AS-AU-4 | D16: The scheme owner requires or allows CABs to do unscheduled audits. | E16: The Scheme Owner defines this requirement for certification bodies to conduct unscheduled (without significant advance warning) or surprise audits. The scheme owner/CAB defines this requirement in certification requirements/methodologies, or in the contract/agreement between the scheme owner and the AB, or in a separate accreditation manual. | F16: Yes, required Yes, allowed No | G16: 2 1 0 | J16: =IF(H16="No", 0, IF(AND(I16=1, H16="Yes, partially"), 0.5, IF(AND(I16=2, H16="Yes, fully"), 1, IF(AND(I16=1, H16="Yes, fully"), 1, ""))))
A17: Assurance | B17: Auditing | C17: AS-AU-5 | D17: The scheme owner ensures or requires CABs to ensure consistency in audit report formats. | E17: The scheme owner/CAB defines this requirement with a system for quality control. Possible sources of evidence: - guidance specifying formats for audit reports and reporting, mandatory audit templates; - review of the online audit reports for consistency of report format and reporting, or the scheme's quality management system. | F17: Yes No | G17: 1 0 | J17: =IF(H17="No", 0, IF(AND(I17=1, H17="Yes, partially"), 0.5, IF(AND(I17=2, H17="Yes, fully"), 1, IF(AND(I17=1, H17="Yes, fully"), 1, ""))))
A18: Assurance | B18: Oversight mechanism | C18: AS-OM-1 | D18: The scheme owner has defined an approach to oversight of assurance activities and assurance providers. | E18: The scheme has documented its oversight mechanism, that is independent of the assurance programme, and that evaluates implementation of that programme to ensure its consistent and competent implementation. These can include, but not restricted to: the roles and responsibilities for different oversight functions; the frequency of oversight activities; the oversight procedures to be followed; the process that oversight bodies should follow for assessing the performance of assurance providers. The externality of the Oversight Body ensures independence of the oversight function from assurance. Information on the oversight mechanism may be found in a contract/agreement between the scheme owner and an Accreditation Body or another Oversight Body, in a separate Oversight manual or for example in certification requirements/methodologies. 'Not Applicable' if it is a government-owned scheme. | F18: Yes, external Oversight Body Yes, internal Oversight Body No Not applicable | G18: 2 1 0 - | J18: =IF(H18="No", 0, IF(AND(I18=1, H18="Yes, partially"), 0.5, IF(AND(I18=2, H18="Yes, fully"), 1, IF(AND(I18=1, H18="Yes, fully"), 1, "")))) | K18: =AVERAGE(J18:J19) -> #DIV/0!
A19: Assurance | B19: Oversight mechanism | C19: AS-OM-2 | D19: The scheme owner requires oversight bodies to have a documented, and publicly available, mechanism on the escalation of appeals for compliance decisions. | E19: The documentation should include: - instructions for how clients should submit the request to reconsider a compliance decision to the oversight mechanism; and - an overview of the process that the oversight body will follow to assess the appeal and make a decision on the request. 'Not Applicable' if there is no Oversight mechanism (government-owned scheme). | F19: Yes No Not applicable | G19: 1 0 - | J19: =IF(H19="No", 0, IF(AND(I19=1, H19="Yes, partially"), 0.5, IF(AND(I19=2, H19="Yes, fully"), 1, IF(AND(I19=1, H19="Yes, fully"), 1, ""))))

Sheet Traceability_Claims
A1: BIOBASEDCERT Monitoring Tool System Level
A2: Name of the scheme:
A3: Category | B3: Principles | C3: Code | D3: Criteria | E3: Requirements (including guidance notes) | F3: Response options | G3: Scoring | H3: Requirement fulfilled | I3: Points received | J3: % of Requirement fulfilled | K3: % of points per Principle | L3: Justification | M3: Feedback from tester
A4: Traceability and claims | B4: CoC traceability system | C4: TC-CT-1 | D4: The scheme owner has a documented Chain of Custody (CoC) standard or other traceability requirements for checking product flow between links of the supply chain. | E4: Either of the following: - A CoC standard document which provides a description of its chain of custody approach - A description of other measures to collect and analyze data from suppliers in order to trace back different certified inputs across different supply chain entities (e.g. data sheets). | F4: Yes, publicly Yes, on request No | G4: 2 1 0 | J4: =IF(H4="No", 0, IF(AND(I4=1, H4="Yes, partially"), 0.5, IF(AND(I4=2, H4="Yes, fully"), 1, IF(AND(I4=1, H4="Yes, fully"), 1, "")))) | K4: =AVERAGE(J4:J10) -> #DIV/0!
A5: Traceability and claims | B5: CoC traceability system | C5: TC-CT-2 | D5: The scheme owner requires all enterprises that are physically handling the certified feedstock/product to undergo a CoC audit if intended to be sold as a certified, labeled product. | E5: All enterprises that physically handle and have legal ownership of the certified feedstock or product are to undergo a CoC audit. This shall be in the form of a written requirement as part of the certification requirements. Possibly review scope of certificates, if available online. → Only applicable if claims are made regarding the origin of certain ingredients or products (CoC is required; applicable to certain CoC models). | F5: Yes No Not applicable | G5: 1 0 - | J5: =IF(H5="No", 0, IF(AND(I5=1, H5="Yes, partially"), 0.5, IF(AND(I5=2, H5="Yes, fully"), 1, IF(AND(I5=1, H5="Yes, fully"), 1, ""))))
A6: Traceability and claims | B6: CoC traceability system | C6: TC-CT-3 | D6: The scheme owner defines procedures for CoC certification of multiple sites of one or several legal entities. | E6: The scheme owner defines procedures for multi-sites (under control of one or more entities) and requirements for internal control management system. Those procedures ensure that all sites comply with the CoC certification requirements, and that they undergo a CoC audit. Control can include direct ownership, franchises, or where the entity has a signed agreement or contract with each site. Examples of evidence: - CoC standard, guidance or checklist specifying procedure and internal control system. → Only applicable if there is multiple-site CoC certification, OR if the scheme owner allows Chain of Custody of multi-sites. | F6: Yes No Not applicable | G6: 1 0 - | H6: Not Applicable | I6: N/A | J6: =IF(H6="No", 0, IF(AND(I6=1, H6="Yes, partially"), 0.5, IF(AND(I6=2, H6="Yes, fully"), 1, IF(AND(I6=1, H6="Yes, fully"), 1, ""))))
A7: Traceability and claims | B7: CoC traceability system | C7: TC-CT-4 | D7: The scheme owner requires subcontractors to meet the CoC requirements. | E7: The scheme owner ensures that certified entity takes full responsibility that all subcontractors fully meet CoC requirements and has a system to demonstrate this. Examples of evidence: - Sub-contract agreements, internal audits. If there is no sub-contracting then this criterion is “Not Applicable”. | F7: Yes No Not applicable | G7: 1 0 - | H7: Not Applicable | I7: N/A | J7: =IF(H7="No", 0, IF(AND(I7=1, H7="Yes, partially"), 0.5, IF(AND(I7=2, H7="Yes, fully"), 1, IF(AND(I7=1, H7="Yes, fully"), 1, ""))))
A8: Traceability and claims | B8: CoC traceability system | C8: TC-CT-5 | D8: The scheme owner allows different chain of custody models as traceability systems. | E8: In case of identification and separation of certified and non-certified products, Identity Preserved or Segragated are allowed as models. In case mixing is allowed, applicable system is Mass Balance. If no model is stated or if the model includes decoupling of the claim from the certified product (e.g. Certificate trading, or Book and claim), then it is a "No". Examples of evidence: - Chain of Custody standards, audit checklists, certification requirements/methodologies specifying requirement. - Chain of Custody audit reports | F8: Yes, Identity Preservation or Segregation model Yes, Mass Balance No, no specific model or Book and claim | G8: 2 1 0 | J8: =IF(H8="No", 0, IF(AND(I8=1, H8="Yes, partially"), 0.5, IF(AND(I8=2, H8="Yes, fully"), 1, IF(AND(I8=1, H8="Yes, fully"), 1, ""))))
A9: Traceability and claims | B9: CoC traceability system | C9: TC-CT-6 | D9: The scheme provides a clear statement on the handling of certified and uncertified inputs in its traceability system. | E9: Schemes that prohibit mixing and have a clear statement on it receive the highest score, reflecting their stronger traceability and robustness. Schemes that do allow mixing but transparently disclose this, acknowledge their effort to ensure traceability while recognizing that mixing introduces a weaker control system. Finally, if there is a mixing but there is no evidence of a written statement this shall be “No” . “Not applicable” if it is a product label (ISO type I label, e.g. Blue Angel). | F9: Yes, prohibits mixing Yes, allows mixing but with statement No Not applicable | G9: 2 1 0 - | H9: Not Applicable | I9: N/A | J9: =IF(H9="No", 0, IF(AND(I9=1, H9="Yes, partially"), 0.5, IF(AND(I9=2, H9="Yes, fully"), 1, IF(AND(I9=1, H9="Yes, fully"), 1, "")))) | L9: ISO type I label, so not applicable.
A10: Traceability and claims | B10: CoC traceability system | C10: TC-CT-7 | D10: The scheme owner requires or asks CABs to verify that all enterprises within the supply chain maintain and keep accurate and accessible traceability records. | E10: The Scheme Owner defines the requirement that all entities within the supply chain, including those which may not undergo a Chain of Custody audit, maintain up to date, complete and accessible records that may provide a tool to trace products through the supply chain. These include all records relating to shipment, receipt and invoicing. Examples of evidence: - Chain of Custody standard. - contract/agreement between the Scheme Owner and the certification body, accreditation/certification requirements/methodologies specifying criteria for document control and maintenance, and retention. - auditor checklists or guidance interpretation. → Only applicable if claims are made regarding the origin of certain ingredients or products (CoC is required) | F10: Yes No Not applicable | G10: 1 0 - | H10: Not Applicable | I10: N/A | J10: =IF(H10="No", 0, IF(AND(I10=1, H10="Yes, partially"), 0.5, IF(AND(I10=2, H10="Yes, fully"), 1, IF(AND(I10=1, H10="Yes, fully"), 1, ""))))
A11: Traceability and claims | B11: Claims and products labelling policy | C11: TC-CP-1 | D11: The scheme owner provides description of its specific policies for products labelling and claims use. | E11: Refers to the standard system's specific policies for product labeling. There should be rules and procedures for client use of claims (e.g., claims and logo use guide). Example: - A policy document on how to use symbols, logos and claims | F11: Yes, publicly Yes, on request No | G11: 2 1 0 | J11: =IF(H11="No", 0, IF(AND(I11=1, H11="Yes, partially"), 0.5, IF(AND(I11=2, H11="Yes, fully"), 1, IF(AND(I11=1, H11="Yes, fully"), 1, "")))) | K11: =AVERAGE(J11:J16) -> #DIV/0!
A12: Traceability and claims | B12: Claims and products labelling policy | C12: TC-CP-2 | D12: Claims and labelling requirements ensure that claims or logos clearly indicate to what they apply. | E12: A clear indication to what the claim/label applies, e.g. the complete product, a product component, packaging, service, for promotional use, etc. | F12: Yes No | G12: 1 0 | J12: =IF(H12="No", 0, IF(AND(I12=1, H12="Yes, partially"), 0.5, IF(AND(I12=2, H12="Yes, fully"), 1, IF(AND(I12=1, H12="Yes, fully"), 1, ""))))
A13: Traceability and claims | B13: Claims and products labelling policy | C13: TC-CP-3 | D13: The scheme requires the use of honest marketing and advertising techniques. | E13: The scheme specifies clear rules for on-product and off-product communication, including the use of certification claims in marketing and promotional materials. | F13: Yes No | G13: 1 0 | J13: =IF(H13="No", 0, IF(AND(I13=1, H13="Yes, partially"), 0.5, IF(AND(I13=2, H13="Yes, fully"), 1, IF(AND(I13=1, H13="Yes, fully"), 1, ""))))
A14: Traceability and claims | B14: Claims and products labelling policy | C14: TC-CP-4 | D14: The label is accompanied by an explanatory text claim or a link to further information. | E14: Refers to either of the following: • A short text next to the logo explaining some detail about the label • A QR code, link or any other form of additional information which helps to understand the label Criterion “Not applicable” if no graphic labels are used. | F14: Yes No Not applicable | G14: 1 0 - | J14: =IF(H14="No", 0, IF(AND(I14=1, H14="Yes, partially"), 0.5, IF(AND(I14=2, H14="Yes, fully"), 1, IF(AND(I14=1, H14="Yes, fully"), 1, ""))))
A15: Traceability and claims | B15: Claims and products labelling policy | C15: TC-CP-5 | D15: Claims and label users are required to use unique license numbers or other tracking mechanisms. | E15: Refers to a visible mechanism to be used by label and claims users which provides the ability to trace back the product to its origins. Example of evidence: COC-numbers to be applied on claims and logo license numbers to be applied when labels are used. → Only applicable if claims are made regarding the origin of certain ingredients or products (CoC is required) | F15: Yes No Not applicable | G15: 1 0 - | J15: =IF(H15="No", 0, IF(AND(I15=1, H15="Yes, partially"), 0.5, IF(AND(I15=2, H15="Yes, fully"), 1, IF(AND(I15=1, H15="Yes, fully"), 1, ""))))
A16: Traceability and claims | B16: Claims and products labelling policy | C16: TC-CP-6 | D16: Claims requirements specify the types of claims that can be made for different types of CoC models, where the scheme owner allows for more than one model. | E16: The scheme provides a publicly available overview of differences in claims, depending on the types of CoC used. These claims shall accurately reflect the type of CoC. For example: • Claims on origin can only be made under Identity Preservation model. • Claims on 100% certified material require Segregation model. • When Mass Balance or Controlled Blending models are used, claims need to show that mixing is allowed. • When Certificate Trading (Book & Claim) model is allowed, "supports sustainable production" (or similar) is an adequate claim. "Not applicable" if: • It is a product label (ISO type I label, e.g. Blue Angel) • Only use of one CoC model. | F16: Yes No Not applicable | G16: 1 0 - | H16: Not Applicable | I16: N/A | J16: =IF(H16="No", 0, IF(AND(I16=1, H16="Yes, partially"), 0.5, IF(AND(I16=2, H16="Yes, fully"), 1, IF(AND(I16=1, H16="Yes, fully"), 1, "")))) | L16: This requirement is considered as Not Applicable as it is a product label (ISO type I label).
A17: Traceability and claims | B17: Consequences of misuse of claims | C17: TC-CM-1 | D17: The scheme owner has a procedure in place that defines specific consequences of misuse of claims. | E17: This question also relates to fraudulent claim use. Either of the following: -A statement/policy that defines what happens if misuse is discovered. - A described procedure for suspending or withdrawing permissions to use claims, including monitoring that suspended or former clients have stopped making claims. | F17: Yes No | G17: 1 0 | J17: =IF(H17="No", 0, IF(AND(I17=1, H17="Yes, partially"), 0.5, IF(AND(I17=2, H17="Yes, fully"), 1, IF(AND(I17=1, H17="Yes, fully"), 1, "")))) | K17: =AVERAGE(J17:J18) -> #DIV/0!
A18: Traceability and claims | B18: Consequences of misuse of claims | C18: TC-CM-2 | D18: The scheme owner requires surveillance of the accurate use of claims and labels in the market. | E18: Either of the following: - Clearly defined activities pursued to make sure labels and claims are used accurately - A complaints mechanism that allows stakeholders to report the false use of labels and claims | F18: Yes No | G18: 1 0 | J18: =IF(H18="No", 0, IF(AND(I18=1, H18="Yes, partially"), 0.5, IF(AND(I18=2, H18="Yes, fully"), 1, IF(AND(I18=1, H18="Yes, fully"), 1, ""))))
A19: Traceability and claims | B19: Minimum percentage claims | C19: TC-CM-3 | D19: The scheme owner defines the minimum percentage of a certified / verified input in a single ingredient product for a claim to be allowed for that product. | E19: Refers to a public written statement on the minimum percentage requirements in a single-ingredient product. Different schemes permit different percentages. Stating the percentages provides transparency and informed decision making. 'No' if: - No evidence of minimum percentages even though mixing is allowed. 'Not Applicable' if: - Claim does not refer to product inputs/single ingredients but to the whole/ final product or if % claims are not included in system. | F19: More or equal 75% Less than 75% No Not applicable | G19: 2 1 0 - | J19: =IF(H19="No", 0, IF(AND(I19=1, H19="Yes, partially"), 0.5, IF(AND(I19=2, H19="Yes, fully"), 1, IF(AND(I19=1, H19="Yes, fully"), 1, ""))))
A20: Traceability and claims | B20: Minimum percentage claims | C20: TC-CM-4 | D20: The scheme owner defines the minimum percentage of certified / verified material in a composite product for a claim to be allowed for that product. | E20: Refers to a public written statement on the minimum percentage requirements in a composite product. 'No' if: - No evidence of minimum percentages even though mixing is allowed. 'Not applicable' if: - Claim does not refer to product inputs/single ingredients but to the whole/final product or if % claims are not included in system. | F20: More or equal 50% Less than 50% No Not applicable | G20: 2 1 0 - | J20: =IF(H20="No", 0, IF(AND(I20=1, H20="Yes, partially"), 0.5, IF(AND(I20=2, H20="Yes, fully"), 1, IF(AND(I20=1, H20="Yes, fully"), 1, ""))))

Sheet Governance_Management
A1: BIOBASEDCERT Monitoring Tool System Level
A2: Name of the scheme:
A3: Category | B3: Principles | C3: Code | D3: Criteria | E3: Requirements (including guidance notes) | F3: Response options | G3: Scoring | H3: Requirement fulfilled | I3: Points received | J3: % of Requirement fulfilled | K3: % of points per Principle | L3: Justification | M3: Feedback from tester
A4: Governance and Scheme management | B4: Scheme scope and objectives | C4: GM-SO-1 | D4: The scheme has a clearly defined scope of its certification programme. | E4: The scheme clearly defines the scope of its certification programme in terms of sector coverage, feedstock type, geography, value chain segment, subject of certification, and sustainability dimensions. Possible source of evidence: - standard document - certification requirements (scope definition) - compliance assessment methodology | F4: Yes No | G4: 1 0 | J4: =IF(H4="No", 0, IF(AND(I4=1, H4="Yes, partially"), 0.5, IF(AND(I4=2, H4="Yes, fully"), 1, IF(AND(I4=1, H4="Yes, fully"), 1, "")))) | K4: =AVERAGE(J4:J6) -> #DIV/0!
A5: Governance and Scheme management | B5: Scheme scope and objectives | C5: GM-SO-2 | D5: The scheme makes explicit its sustainability-defined goals and objectives. | E5: The scheme owner explicitly defines scheme's objectives and overall goals it intends to achieve. The scheme should strive to provide a detailed explanation of how its different strategies and activities contribute to those intended goals. The objectives should be sustainability-defined, promoting responsible use of resources and improving environmental and/or socio-economic impacts. Possible source of evidence: - scheme website - strategy document - Theory of Change | F5: Yes, with a link between strategies and goals Yes, just citing the goals No | G5: 2 1 0 | J5: =IF(H5="No", 0, IF(AND(I5=1, H5="Yes, partially"), 0.5, IF(AND(I5=2, H5="Yes, fully"), 1, IF(AND(I5=1, H5="Yes, fully"), 1, ""))))
A6: Governance and Scheme management | B6: Scheme scope and objectives | C6: GM-SO-3 | D6: The scheme has procedures for taking into account the special circumstances of smallholders' operations. | E6: The Scheme Owner processes and policies reduce barriers or promote more access of smallholders. This may include specific standards or exemptions that do not lower the requirements of the standards themselves. Examples of evidence: - separate specific standard for smallholders - requirements for smallholder certification - programs such as capacity building and access to finance targeted to smallholders. | F6: Yes No | G6: 1 0 | J6: =IF(H6="No", 0, IF(AND(I6=1, H6="Yes, partially"), 0.5, IF(AND(I6=2, H6="Yes, fully"), 1, IF(AND(I6=1, H6="Yes, fully"), 1, ""))))
A7: Governance and Scheme management | B7: Governance structure | C7: GM-GS-1 | D7: The scheme owner is a legal entity, or an organization that is a partnership of legal entities, or a government or inter-governmental agency. | E7: Information showing the legal status of the organization, often also listed in publicly available commercial registers (commonly also for non-commercial organisations). | F7: Yes No | G7: 1 0 | J7: =IF(H7="No", 0, IF(AND(I7=1, H7="Yes, partially"), 0.5, IF(AND(I7=2, H7="Yes, fully"), 1, IF(AND(I7=1, H7="Yes, fully"), 1, "")))) | K7: =AVERAGE(J7:J11) -> #DIV/0!
A8: Governance and Scheme management | B8: Governance structure | C8: GM-GS-2 | D8: The scheme owner make its organizational structure available. | E8: Refers to an overview of the different governance bodies that manage and govern the scheme (i.e. board, advisory board, board of trustees, etc.). This can be in the form of an organizational chart or narrative document. | F8: Yes, publicly Yes, on request No | G8: 2 1 0 | J8: =IF(H8="No", 0, IF(AND(I8=1, H8="Yes, partially"), 0.5, IF(AND(I8=2, H8="Yes, fully"), 1, IF(AND(I8=1, H8="Yes, fully"), 1, ""))))
A9: Governance and Scheme management | B9: Governance structure | C9: GM-GS-3 | D9: The top decision-making body members are accountable to all stakeholders. | E9: A clear accountability mechanism (e.g. elections with voting members, accountability through deeds of trust, appointment by boards that are in turn elected, stakeholder advisory body). Stakeholders in this case mean any parties who are directly or indirectly affected by the decisions of the top-decision making body (e.g. producers, consumer organizations, members, etc.). | F9: Yes No | G9: 1 0 | J9: =IF(H9="No", 0, IF(AND(I9=1, H9="Yes, partially"), 0.5, IF(AND(I9=2, H9="Yes, fully"), 1, IF(AND(I9=1, H9="Yes, fully"), 1, ""))))
A10: Governance and Scheme management | B10: Governance structure | C10: GM-GS-4 | D10: The scheme owner has a clear statement in case of a mutual recognition agreement with at least one other scheme. | E10: The mutual recognition conditions should be stated if the scheme owner recognizes an existing standard as partially or fully equivalent to its standard (referring to e.g. harmonized standards content or assessment of client performance). The accepted schemes are the ones approved by the European Commission. Please note: national vis-a-vis international standards of the same scheme owner are not eligible for a 'Yes'. | F10: Yes No Not applicable | G10: 1 0 - | J10: =IF(H10="No", 0, IF(AND(I10=1, H10="Yes, partially"), 0.5, IF(AND(I10=2, H10="Yes, fully"), 1, IF(AND(I10=1, H10="Yes, fully"), 1, ""))))
A11: Governance and Scheme management | B11: Governance structure | C11: GM-GS-5 | D11: The scheme owner makes quantitative information on the income sources or financing structure of the scheme available. | E11: An overview of quantitative information on the income sources or financing structure of the scheme (e.g. potentially including type of funding (i.e. financial, assets, manpower, etc), name of funders, amount or %-distribution of income sources). This could be provided in the form of an annex to annual reports. | F11: Yes, publicly No | G11: 1 0 | J11: =IF(H11="No", 0, IF(AND(I11=1, H11="Yes, partially"), 0.5, IF(AND(I11=2, H11="Yes, fully"), 1, IF(AND(I11=1, H11="Yes, fully"), 1, ""))))
A12: Governance and Scheme management | B12: Stakeholder participation | C12: GM-SP-1 | D12: Stakeholders have the possibility to participate in or contribute formal input on the scheme's governance. | E12: The scheme owner provides stakeholders the opportunity to easily contribute input to the governance structures, scheme's intended strategies and impacts, unintended effects, assessment of clients' performance or conformity, and on claims that the scheme makes and allows clients to make. The scheme owner informs stakeholders about these opportunities and how their input will be taken into account. Examples of evidence: -online process document for submission of input, governance body selection process and stakeholder composition, review of previous stakeholder inputs. | F12: Yes No | G12: 1 0 | J12: =IF(H12="No", 0, IF(AND(I12=1, H12="Yes, partially"), 0.5, IF(AND(I12=2, H12="Yes, fully"), 1, IF(AND(I12=1, H12="Yes, fully"), 1, "")))) | K12: =AVERAGE(J12:J15) -> #DIV/0!
A13: Governance and Scheme management | B13: Stakeholder participation | C13: GM-SP-2 | D13: The procedures of the top decision-making body ensure that there is a balanced representation of stakeholder interests, where no single interest predominates. | E13: Enough information on the voting procedure to be sure that there is a balanced representation of stakeholder interests. The procedure shall also assure that no single interest predominates. Examples of evidence: -internal procedure documents, revision and approval processes that describe achieved balance, such as through stakeholder mapping, announcements and invitation. | F13: Yes No | G13: 1 0 | J13: =IF(H13="No", 0, IF(AND(I13=1, H13="Yes, partially"), 0.5, IF(AND(I13=2, H13="Yes, fully"), 1, IF(AND(I13=1, H13="Yes, fully"), 1, ""))))
A14: Governance and Scheme management | B14: Stakeholder participation | C14: GM-SP-3 | D14: The scheme owner supports participation of under-represented stakeholders when seeking input from stakeholders. | E14: The scheme owner proactively seeks contributions of under-engaged and under-represented stakeholders to the scheme's strategies and impacts, unintended effects, assessment of clients' performance or conformity, and on claims that the scheme makes and allows clients to make. It is highly recommended that the scheme owner considers how best to seek input from women. This can be done through for e.g. providing funding or standardisation training to targeted actors, such as SMEs, consumer organizations or environmental groups. | F14: Yes No | G14: 1 0 | J14: =IF(H14="No", 0, IF(AND(I14=1, H14="Yes, partially"), 0.5, IF(AND(I14=2, H14="Yes, fully"), 1, IF(AND(I14=1, H14="Yes, fully"), 1, ""))))
A15: Governance and Scheme management | B15: Stakeholder participation | C15: GM-SP-4 | D15: The scheme owner ensures that clients and implementing partners have adequate time and notice to comply with new requirements. | E15: The scheme has procedures that set out when changes will come into effect and how the changes will be communicated to those affected, allowing adequate time for stakeholders to comply. Changes might relate to changes in scheme requirements or the requirements in the standard. | F15: Yes No | G15: 1 0 | J15: =IF(H15="No", 0, IF(AND(I15=1, H15="Yes, partially"), 0.5, IF(AND(I15=2, H15="Yes, fully"), 1, IF(AND(I15=1, H15="Yes, fully"), 1, ""))))
A16: Governance and Scheme management | B16: Due diligence | C16: GM-DD-1 | D16: The scheme recognises due diligence as ongoing process to be undertaken by operators. | E16: The scheme owner encourages operators to proactively carry out due diligence and to react to changes of circumstances and risks in the supply chain. This can be in form of due diligence policies or procedures, implementation activities, add-on modules, formation of expert working groups, offering trainings on due diligence. | F16: Yes No | G16: 1 0 | J16: =IF(H16="No", 0, IF(AND(I16=1, H16="Yes, partially"), 0.5, IF(AND(I16=2, H16="Yes, fully"), 1, IF(AND(I16=1, H16="Yes, fully"), 1, "")))) | K16: =AVERAGE(J16:J17) -> #DIV/0!
A17: Governance and Scheme management | B17: Due diligence | C17: GM-DD-2 | D17: The scheme expects operators’ due diligence activities to be guided by their own risk assessments. | E17: The scheme requires adequate measures for risk assessment and risk mitigation, to ascertain that products are deforestation-free and produced in accordance with relevant legislation in the country of production. | F17: Yes No | G17: 1 0 | J17: =IF(H17="No", 0, IF(AND(I17=1, H17="Yes, partially"), 0.5, IF(AND(I17=2, H17="Yes, fully"), 1, IF(AND(I17=1, H17="Yes, fully"), 1, ""))))
A18: Governance and Scheme management | B18: Complaints and dispute resolution mechanism | C18: GM-CD-1 | D18: The scheme owner has a open and accessible dispute resolution system to facilitate the impartial handling of complaints and grievances. | E18: The system should be open and accessible to all stakeholders. At a minimum, the system accepts complaints and grievances related to standards development and maintenance, assurance processes and decisions, codes of conduct or policies of association for clients or members, and claims processes and controlled claims. Requests by clients to re-consider compliance decisions are not considered complaints but appeals. Possible sources of evidence: - complaints policy - grievance policy - impartiality policy - safeguarding policy - whistleblower protection policy | F18: Yes No | G18: 1 0 | J18: =IF(H18="No", 0, IF(AND(I18=1, H18="Yes, partially"), 0.5, IF(AND(I18=2, H18="Yes, fully"), 1, IF(AND(I18=1, H18="Yes, fully"), 1, "")))) | K18: =AVERAGE(J18) -> #DIV/0!

Sheet Results System Level
A1: BIOBASEDCERT Monitoring Tool (BMT) System Level Results
B3: Overall score
B5: CATEGORY | C5: % OF POINTS RECEIVED
B6: All categories
B7: Average of assessed CSLs
B8: Standard Setting | C8: =AVERAGE(C22:C24) -> #DIV/0!
B9: Average of assessed CSLs
B10: Assurance | C10: =AVERAGE(C30:C34) -> #DIV/0!
B11: Average of assessed CSLs
B12: Traceability and Claims | C12: =AVERAGE(C40:C43) -> #DIV/0!
B13: Average of assessed CSLs
B14: Governance and Management | C14: =AVERAGE(C49:C53) -> #DIV/0!
B15: Average of assessed CSLs
B19: Standard Setting
B21: Principle | C21: Percentage of points received
B22: Standards content and structure | C22: =Standard_Setting!K4 -> #DIV/0!
B23: Standard-setting process | C23: =Standard_Setting!K6 -> #DIV/0!
B24: Standards consultation | C24: =Standard_Setting!K8 -> #DIV/0!
B27: Assurance
B29: Principle | C29: Percentage of points received
B30: Assurance system | C30: =Assurance!K4 -> #DIV/0!
B31: Conformity assessment | C31: =Assurance!K6 -> #DIV/0!
B32: Conformity assessment bodies | C32: =Assurance!K8 -> #DIV/0!
B33: Auditing | C33: =Assurance!K13 -> #DIV/0!
B34: Oversight mechanism | C34: =Assurance!K18 -> #DIV/0!
B37: Traceability and Claims
B39: Principle | C39: Percentage of points received
B40: CoC traceability system | C40: =Traceability_Claims!K4 -> #DIV/0!
B41: Claims and products labelling policy | C41: =Traceability_Claims!K11 -> #DIV/0!
B42: Consequences of misuse of claims | C42: =Traceability_Claims!K17 -> #DIV/0!
B43: Minimum percentage claims | C43: N/A
B46: Governance and Management
B48: Principle | C48: Percentage of points received
B49: Scheme scope and objectives | C49: =Governance_Management!K4 -> #DIV/0!
B50: Governance structure | C50: =Governance_Management!K7 -> #DIV/0!
B51: Stakeholder participation | C51: =Governance_Management!K12 -> #DIV/0!
B52: Due diligence | C52: =Governance_Management!K16 -> #DIV/0!
B53: Complaints and dispute resolution mechanism | C53: =Governance_Management!K18 -> #DIV/0!

Sheet ReadMe Content Level
A1: BIOBASEDCERT Monitoring Tool (BMT)
A2: Content Level
A3: How to use this tool
A5: Column explanation
B6: Principle | C6: Code | D6: Criterion | E6: Requirements | F6: Requirement fulfilled Yes/No | G6: Justification | H6: Examples and context | I6: Requirement level | J6: Applicable feedstock(s) | K6: Applicable value chain phase(s) | L6: Source Reference | M6: % of requirements fulfilled | N6: % of points received per principle | O6: Calibrated points received per principle | P6: Max. Calibrated points per principle
B8: Theme/Topic Climate change management | C8: Criterion code EN-CC-1 | D8: Criterion for what the scheme requires from the organisations it certifies. The scheme requires activities that reduce GHG emissions. | E8: Requirements can be understood as sub-criterias. They outline in more detail the ways in which the scheme should meet the criteria. i. Adoption of GHG emissions reduction activities is demonstrated. | F8: This is a column where the assessor should fill in. The assessor check the requirement in the adjacent cell and selects either "Yes" or "No" from the drop-down menu in this column for each requirement. "Yes" means that the scheme fulfils the requirement, "No" that it does not, and blank (available in the drop-down menu) means that the requirement has not yet been assessed. ! No other comments or wording should be written in this cell ! Please use the dropdown menu to plug in your response, or copy-paste it from a cell that has used the dropdown menu selection. If there is, for example, an additional empty space in the cell, the Excel will not be able to analyse it correctly. | G8: This is a column where the assessor should fill in. If the requirement is fulfilled, the assessor provides justification in this column refering to scheme standard documents. | H8: Examples and context helps the reader understand the requirements of the criterion and to give the assessor examples of how the criterion might be met. They are not be considered as requirements. i. GHG emissions reductions activities can include, for example, increasing the use of renewable energy; increasing energy efficiency; increasing/stock soil carbon content; promoting activities such as forest restoration on working land. | I8: A requirement is either mandatory, basic, or advanced. See definitions in ''Guidance document''. Mandatory | J8: Some criteria are only applicable to some feedstocks. This column determines if the criterion is only applicable to a certain feedstock or all. Agrarian and forestry residues;Crop;Forest;Waste and residues | K8: Some criteria are only applicable to some phases of the value chain. This column determines if the criterion is only applicable to a certain phase of the value chain or all. Biomass producer;Industrial processor;Final product manufacturer | L8: This is a column where the assessor should fill in. The assessor provides references to the standard documents used in making the assessment and providing the justification. | M8: Shows what percetage of the criterion's requirements have been met, based on what has been inputted in column "Requirement fulfilled Yes/No". | N8: Shows what percentage of the points of the principle in question the scheme has received. | O8: Shows how many points the scheme has received for a certain principle, calibrated based on the principle neutrality principle. | P8: Shows how many calibrated points are available for the principle in question.
A11: Where to start?
B12: 1. Open the "Pre-assessment" tab.
B13: 2. Fill in the name of the scheme being assessed.
B14: 3. Choose the feedstock applicable to the scheme. If all four feedstock listed in the drop-down menu are applicable, select one for each empty cell with a drop-down menu (if not already selected). If not all are applicable, only select the applicable ones and change the non-applicable feedstock cells to blank cells (available in drop-down menu).
B15: 4. Choose the value chain phases applicable to the scheme. If all three value chain phases listed in the drop-down menu are applicable, select one for each empty cell with a drop-down menu (if not already selected). If not all are applicable, only select the applicable ones and change the non-applicable value chain phases cells to blank cells (available in drop-down menu).
B16: 5. Choose whether all the principles are relevant to your scheme. The assumption should be that all principles are relevant, unless explicitly justified by the scheme. When first starting an assessment, it is recommended to keep all of these as "Yes", unless a scheme, in later phases on the process, justifies non-applicability of a principle. When this happens, you can check "No", and the results will automatically be modified.
B17: 6. Start with the "Minimum backstop" tab. After that, you can continue with any of the following tabs: Environment, Circularity, Social, or Economic. Go requirement by requirement, selecting "Yes" or "No" from the drop-down menu for each requirement.
B18: 7.As an assessor, you only need the following columns to conduct your analysis: Principle, Code, Criterion, Requirements, Requirements fulfilled, Examples and context. Other columns are informative when assessing the results.
B19: 8.The "Results" tab will update automatically as you go along.

Sheet Pre-assessment
A1: BIOBASEDCERT Monitoring Tool (BMT)
