Workbook

Sheet Guidance
B27: D4.5 RADIANT-Metrics, state-of-the-art quantitative framework & decision support tool
B39: Disclaimer
B40: This tool is developed by the University of Galway in collaboration with Trinity College Dublin, the University of Gastronomic Sciences (Pollenzo), and Wageningen University, under the RADIANT project (Grant No. 101000622 - RADIANT - H2020-SFS-2018-2020 / H2020-SFS-2020-2).
B44: Purpose of the tool
B45: • The tool is designed to present results from comparative case studies of underutilised crop (UC) value chains, versus conventional comparator value chains, within a novel framework that combines indicators pertinent to sustainability and resilience. It captures key metrics such as ecosystem services, economic indicators, life cycle assessment (LCA), and agricultural efficiency, all integrated into an interactive dashboard. • Users are encouraged to adapt the tool for other comparisons involving UC versus conventional crop value chains. Note that the tool does not support animal production. For detailed methodology, please refer to Deliverable 4.5 of the RADIANT project.
B52: Input Data
B53: General Information
B54: • Clearly name the alternatives under comparison. These names will appear in the summary and subtitles of the dashboard graphics.
B56: Life Cycle Assessment (LCA)
B57: • Use external tools to calculate carbon footprints and other environmental impacts, following the EU Product Environmental Footprint impact assessment methodology. Paste relevant impact assessment results into the specified cells. • Specify the functional unit at the top of the LCA results. Ensure that each alternative reflects the achievement of the same functional unit (e.g., "Alternative 1: Barley flour from UC system" vs. "Alternative 2: Barley flour from conventional cropping").
B61: Agricultural environmental efficiency
B62: These indicators assess environmental efficiency, focusing on nitrogen (N) and phosphorus (P) use efficiency, as well as crop yields. Unlike Life Cycle Assessment (LCA), these indicators evaluate efficiency on a per-hectare basis for each alternative under analysis. Users can calculate these indicators using information on farm-level inputs (e.g. compost or synthetic fertilisers) and outputs (yields).
... B106: This tab facilitates intermediate calculations and normalization based on user input. Users should not alter this tab to maintain the integrity of calculations. It remains openly accessible to ensure methodological transparency, with final results displayed on the dashboard.

Sheet Input Data
B3: Realizing dynamic value chains for underutilised crops | D3: Alternative 1 | E3: Alternative 2
B4: Indicator | C4: Unit | D4: Fermented Acorns (Focused approach) | E4: Pickled Olives
B5: Life Cycle Assessment and Life Cycle Inventory (environmental efficiency)
B6: Functional Unit: | C6: 1 kg pickled food
B7: Carbon footprint | C7: kg CO2 eq. per Funcional Unit | D7: -2.7 | E7: -0.071
B8: Eutrophication (marine) | C8: kg N eq per Funcional Unit | D8: 0.081019072 | E8: 0.001
B9: Eutrophication (freshwater) | C9: kg P eq per Funcional Unit | D9: 0.00013336174 | E9: 3e-05
B10: Water consumption (AWARE) | C10: m3 depriv. per Funcional Unit per Funcional Unit | D10: 0.2 | E10: 1.9
B11: Resources depletion - mineral | C11: kg Sb eq per Funcional Unit | D11: 4.8e-06 | E11: 1.9e-06
B12: Resources depletion - non renewable energy (Fossils) | C12: MJ, net calorific value per Funcional Unit | D12: 8.9 | E12: 1.4
B13: Environmental efficiency indicators
B14: N Balance | C14: kg/ha | D14: 0.081019072 | E14: 0.0013102775
B15: P Balance | C15: kg/ha | D15: 0.00013336174 | E15: 3.0385536e-05
B16: Yields | C16: kg/ha | D16: 387 | E16: 5020
B17: Agroecological indicators (ecosystem Services & resilience)
B18: Conservation and no-tillage systems | C18: Scale 0-3, 3 = best | D18: 3 | E18: 1
B19: Crop rotation | C19: Scale 0-3, 3 = best | D19: 0 | E19: 0
B20: Intercropping | C20: Scale 0-3, 3 = best | D20: 3 | E20: 0
B21: Cover crops | C21: Scale 0-3, 3 = best | D21: 3 | E21: 1
B22: Soil organic matter input | C22: Scale 0-3, 3 = best | D22: 3 | E22: 1
B23: Organic pest and disease control | C23: Scale 0-3, 3 = best | D23: 3 | E23: 0
B24: Water management practices | C24: Scale 0-3, 3 = best | D24: 2 | E24: 1
B25: Agroforestry | C25: Scale 0-3, 3 = best | D25: 3 | E25: 2
B26: Economic indicators (economic viability & resilience)
B27: Profit | C27: Scale 1-5 , 5= best | D27: 5 | E27: 3
B28: Risk | C28: Scale 1-5 , 5= best | D28: 4 | E28: 4
B29: Diversification of activities | C29: Scale 1-5 , 5= best | D29: 5 | E29: 2
B30: Value chain lenght | C30: Scale 1-5 , 5= best | D30: 5 | E30: 3
B31: Power/trust | C31: Scale 1-5 , 5= best | D31: 5 | E31: 2
B32: Autonomy | C32: Scale 1-5 , 5= best | D32: 5 | E32: 3

Sheet Dashboard
H2: Summary
H3: Alternative 1 | I3: ='Input Data'!D4 -> Fermented Acorns (Focused approach)
H4: Alternative 2 | I4: ='Input Data'!E4 -> Pickled Olives
A12: Overview
I14: =I32 -> Alternative 1 | J14: =J32 -> Alternative 2
I15: =I33 -> Fermented Acorns (Focused approach) | J15: =J33 -> Pickled Olives
H16: =A30 -> Life Cycle Assessment | I16: ='Normalisation & Calcs'!D13 -> 1 | J16: ='Normalisation & Calcs'!E13 -> 0.067431788
H17: =A54 -> Environmental efficiency indicators | I17: ='Normalisation & Calcs'!D19 -> 1 | J17: ='Normalisation & Calcs'!E19 -> 0.077091633
H18: =A76 -> Ecosystem Services | I18: ='Normalisation & Calcs'!D28 -> 0.33333333 | J18: ='Normalisation & Calcs'!E28 -> 1
H19: =A98 -> Economic indicators (economic viability & resilience) | I19: ='Normalisation & Calcs'!D37 -> 0.076923077 | J19: ='Normalisation & Calcs'!E37 -> 1
A30: Life Cycle Assessment
I32: =I58 -> Alternative 1 | J32: =J58 -> Alternative 2
G33: - (Worse) | I33: =I59 -> Fermented Acorns (Focused approach) | J33: =J59 -> Pickled Olives
H34: ='Normalisation & Calcs'!B6 -> Carbon footprint | I34: ='Normalisation & Calcs'!D6 -> -0.00033345 | J34: ='Normalisation & Calcs'!E6 -> -8.7685e-06
H35: ='Normalisation & Calcs'!B7 -> Eutrophication (marine) | I35: ='Normalisation & Calcs'!D7 -> 0.0041449357 | J35: ='Normalisation & Calcs'!E7 -> 5.116e-05
H36: ='Normalisation & Calcs'!B8 -> Eutrophication (freshwater) | I36: ='Normalisation & Calcs'!D8 -> 8.299101e-05 | J36: ='Normalisation & Calcs'!E8 -> 1.8669e-05
H37: ='Normalisation & Calcs'!B9 -> Water consumption (AWARE) | I37: ='Normalisation & Calcs'!D9 -> 1.7438e-05 | J37: ='Normalisation & Calcs'!E9 -> 0.000165661
H38: ='Normalisation & Calcs'!B10 -> Resources depletion - mineral | I38: ='Normalisation & Calcs'!D10 -> 7.5408e-05 | J38: ='Normalisation & Calcs'!E10 -> 2.9849e-05
H39: ='Normalisation & Calcs'!B11 -> Resources depletion - non renewable energy | I39: ='Normalisation & Calcs'!D11 -> 0.000136882 | J39: ='Normalisation & Calcs'!E11 -> 2.1532e-05
H40: ='Normalisation & Calcs'!B12 -> Sum of normalised values, equal weights for single score (higher worst) | I40: ='Normalisation & Calcs'!D12 -> 0.0041242047 | J40: ='Normalisation & Calcs'!E12 -> 0.0002781025
H41: ='Normalisation & Calcs'!B13 -> normalisation between 0-1 (1=worst) | I41: ='Normalisation & Calcs'!D13 -> 1 | J41: ='Normalisation & Calcs'!E13 -> 0.067431788
G42: + (Better)
A54: Environmental efficiency indicators
I58: =I81 -> Alternative 1 | J58: =J81 -> Alternative 2
G59: - (Worse) | I59: =I82 -> Fermented Acorns (Focused approach) | J59: =J82 -> Pickled Olives
H60: ='Normalisation & Calcs'!B15 -> N Balance | I60: ='Normalisation & Calcs'!D15 -> 0 | J60: ='Normalisation & Calcs'!E15 -> 0
H61: ='Normalisation & Calcs'!B16 -> P Balance | I61: ='Normalisation & Calcs'!D16 -> 0 | J61: ='Normalisation & Calcs'!E16 -> 0
H62: ='Normalisation & Calcs'!B17 -> Land occupation | I62: ='Normalisation & Calcs'!D17 -> 1 | J62: ='Normalisation & Calcs'!E17 -> 0.077091633
H63: normalisation between 0-1 (1=worst) | I63: ='Normalisation & Calcs'!D19 -> 1 | J63: ='Normalisation & Calcs'!E19 -> 0.077091633
G70: + (Better)
A76: Ecosystem Services
G80: - (Worse)
I81: =H3 -> Alternative 1 | J81: =H4 -> Alternative 2
I82: =I3 -> Fermented Acorns (Focused approach) | J82: =I4 -> Pickled Olives
H83: ='Normalisation & Calcs'!B21 -> Carbon Sequestration | I83: ='Normalisation & Calcs'!D21 -> 0.33333333 | J83: ='Normalisation & Calcs'!E21 -> 0.66666667
H84: ='Normalisation & Calcs'!B22 -> Increase N fixation | I84: ='Normalisation & Calcs'!D22 -> 0.33333333 | J84: ='Normalisation & Calcs'!E22 -> 0.66666667
H85: ='Normalisation & Calcs'!B23 -> Minimise soil erosion | I85: ='Normalisation & Calcs'!D23 -> 0 | J85: ='Normalisation & Calcs'!E23 -> 0.66666667
H86: ='Normalisation & Calcs'!B24 -> Pest and Disease Control | I86: ='Normalisation & Calcs'!D24 -> 0.33333333 | J86: ='Normalisation & Calcs'!E24 -> 0.66666667
H87: ='Normalisation & Calcs'!B25 -> Pollination | I87: ='Normalisation & Calcs'!D25 -> 0.33333333 | J87: ='Normalisation & Calcs'!E25 -> 0.66666667
H88: ='Normalisation & Calcs'!B26 -> Biodiversity | I88: ='Normalisation & Calcs'!D26 -> 0 | J88: ='Normalisation & Calcs'!E26 -> 0.66666667
...

Sheet Normalisation & Calcs
B3: Realizing dynamic value chains for underutilised crops | D3: Alternative 1 | E3: Alternative 2 | F3: Normalisation
B4: Indicator | C4: Unit | D4: ='Input Data'!D4 -> Fermented Acorns (Focused approach) | E4: ='Input Data'!E4 -> Pickled Olives
B5: Life Cycle Assessment
B6: Carbon footprint | C6: person per yr (higher worst) | D6: =('Input Data'!D7/$F$7) -> -0.00033345 | E6: =('Input Data'!E7/$F$7) -> -8.7685e-06 | F6: PEF Normalisation value
B7: Eutrophication (marine) | C7: person per yr (higher worst) | D7: =('Input Data'!D8/$F$8) -> 0.0041449357 | E7: =('Input Data'!E8/$F$8) -> 5.116e-05 | F7: 8097.166 | G7: Carbon footprint
B8: Eutrophication (freshwater) | C8: person per yr (higher worst) | D8: =('Input Data'!D9/$F$9) -> 8.299101e-05 | E8: =('Input Data'!E9/$F$9) -> 1.8669e-05 | F8: 19.546521 | G8: Eutrophication (marine)
B9: Water consumption (AWARE) | C9: person per yr (higher worst) | D9: =('Input Data'!D10/$F$10) -> 1.7438e-05 | E9: =('Input Data'!E10/$F$10) -> 0.000165661 | F9: 1.606942 | G9: Eutrophication (freshwater)
B10: Resources depletion - mineral | C10: person per yr (higher worst) | D10: =('Input Data'!D11/$F$11) -> 7.5408e-05 | E10: =('Input Data'!E11/$F$11) -> 2.9849e-05 | F10: 11469.205 | G10: Water consumption (AWARE)
B11: Resources depletion - non renewable energy | C11: person per yr (higher worst) | D11: =('Input Data'!D12/$F$12) -> 0.000136882 | E11: =('Input Data'!E12/$F$12) -> 2.1532e-05 | F11: 0.063653724 | G11: Resources depletion - mineral
B12: Sum of normalised values, equal weights for single score (higher worst) | D12: =SUM(D6:D11) -> 0.0041242047 | E12: =SUM(E6:E11) -> 0.0002781025 | F12: 65019.506 | G12: Resources depletion - non renewable energy
B13: normalisation between 0-1 (1=worst) | D13: =D12/$G$13 -> 1 | E13: =E12/$G$13 -> 0.067431788 | F13: normalised by the max | G13: =MAX(D12:E12) -> 0.0041242047
B14: Environmental efficiency indicators
B15: N Balance | C15: 0-1, 1=worst | D15: =IF('Input Data'!D14<=-50,$E$64,IF('Input Data'!D14<-30,$E$65,IF('Input Data'!D14<=30,$E$66,IF('Input Data'!D14<50,$E$67,IF('Input Data'!D14>=50,$E$68,))))) -> 0 | E15: =IF('Input Data'!E14<=-50,$E$64,IF('Input Data'!E14<-30,$E$65,IF('Input Data'!E14<=30,$E$66,IF('Input Data'!E14<50,$E$67,IF('Input Data'!E14>=50,$E$68,))))) -> 0
B16: P Balance | C16: 0-1, 1=worst | D16: =IF('Input Data'!D15<=-10,$H$64,IF('Input Data'!D15<-5,$H$65,IF('Input Data'!D15<=5,$H$66,IF('Input Data'!D15<10,$H$67,IF('Input Data'!D15>=10,$H$68,))))) -> 0 | E16: =IF('Input Data'!E15<=-10,$H$64,IF('Input Data'!E15<-5,$H$65,IF('Input Data'!E15<=5,$H$66,IF('Input Data'!E15<10,$H$67,IF('Input Data'!E15>=10,$H$68,))))) -> 0
B17: Land occupation | C17: 0-1, 1=worst (comparatively) | D17: =((1/'Input Data'!D16)/(1/'Normalisation & Calcs'!$G$17)) -> 1 | E17: =((1/'Input Data'!E16)/(1/'Normalisation & Calcs'!$G$17)) -> 0.077091633 | F17: normalised by the min LU | G17: =MIN('Input Data'!D16:E16) -> 387
B18: Sum of normalised values, equal weights | D18: =SUM(D15:D17) -> 1 | E18: =SUM(E15:E17) -> 0.077091633 | F18: normalised by the max | G18: =MAX(D18:E18) -> 1
B19: normalisation between 0-1 (1=worst) | D19: =D18/$G$18 -> 1 | E19: =E18/$G$18 -> 0.077091633
B20: Ecosystem Services
B21: =D42 -> Carbon Sequestration | C21: Scale 0-1 (1 = Worst) | D21: =VLOOKUP(E53,'Normalisation & Calcs'!$F$22:$G$25,2,FALSE) -> 0.33333333 | E21: =VLOOKUP(F53,'Normalisation & Calcs'!$F$22:$G$25,2,FALSE) -> 0.66666667 | F21: ES rating | G21: Normalisation value
B22: =E42 -> Increase N fixation | C22: Scale 0-1 (1 = Worst) | D22: =VLOOKUP(E54,'Normalisation & Calcs'!$F$22:$G$25,2,FALSE) -> 0.33333333 | E22: =VLOOKUP(F54,'Normalisation & Calcs'!$F$22:$G$25,2,FALSE) -> 0.66666667 | F22: 0 | G22: 1
B23: =F42 -> Minimise soil erosion | C23: Scale 0-1 (1 = Worst) | D23: =VLOOKUP(E55,'Normalisation & Calcs'!$F$22:$G$25,2,FALSE) -> 0 | E23: =VLOOKUP(F55,'Normalisation & Calcs'!$F$22:$G$25,2,FALSE) -> 0.66666667 | F23: 1 | G23: =2/3 -> 0.66666667
B24: =G42 -> Pest and Disease Control | C24: Scale 0-1 (1 = Worst) | D24: =VLOOKUP(E56,'Normalisation & Calcs'!$F$22:$G$25,2,FALSE) -> 0.33333333 | E24: =VLOOKUP(F56,'Normalisation & Calcs'!$F$22:$G$25,2,FALSE) -> 0.66666667 | F24: 2 | G24: =1/3 -> 0.33333333
B25: =H42 -> Pollination | C25: Scale 0-1 (1 = Worst) | D25: =VLOOKUP(E57,'Normalisation & Calcs'!$F$22:$G$25,2,FALSE) -> 0.33333333 | E25: =VLOOKUP(F57,'Normalisation & Calcs'!$F$22:$G$25,2,FALSE) -> 0.66666667 | F25: 3 | G25: 0
B26: =I42 -> Biodiversity | C26: Scale 0-1 (1 = Worst) | D26: =VLOOKUP(E58,'Normalisation & Calcs'!$F$22:$G$25,2,FALSE) -> 0 | E26: =VLOOKUP(F58,'Normalisation & Calcs'!$F$22:$G$25,2,FALSE) -> 0.66666667
B27: Sum of normalised values, equal weights | D27: =SUM(D21:D26) -> 1.3333333 | E27: =SUM(E21:E26) -> 4 | F27: normalised by the max | G27: =MAX(D27:E27) -> 4
B28: normalisation between 0-1 (1=worst) | D28: =D27/$G$27 -> 0.33333333 | E28: =E27/$G$27 -> 1
B29: Economic indicators (economic viability & resilience)
B30: Profit | C30: Scale 0-1 (1 = Worst) | D30: =VLOOKUP('Input Data'!D27,'Normalisation & Calcs'!$F$31:$G$35,2,FALSE) -> 0 | E30: =VLOOKUP('Input Data'!E27,'Normalisation & Calcs'!$F$31:$G$35,2,FALSE) -> 0.5 | F30: ES rating | G30: Normalisation value
B31: Risk | C31: Scale 0-1 (1 = Worst) | D31: =VLOOKUP('Input Data'!D28,'Normalisation & Calcs'!$F$31:$G$35,2,FALSE) -> 0.25 | E31: =VLOOKUP('Input Data'!E28,'Normalisation & Calcs'!$F$31:$G$35,2,FALSE) -> 0.25 | F31: 1 | G31: 1
B32: Diversification of activities | C32: Scale 0-1 (1 = Worst) | D32: =VLOOKUP('Input Data'!D29,'Normalisation & Calcs'!$F$31:$G$35,2,FALSE) -> 0 | E32: =VLOOKUP('Input Data'!E29,'Normalisation & Calcs'!$F$31:$G$35,2,FALSE) -> 0.75 | F32: 2 | G32: 0.75
B33: Value chain lenght | C33: Scale 0-1 (1 = Worst) | D33: =VLOOKUP('Input Data'!D30,'Normalisation & Calcs'!$F$31:$G$35,2,FALSE) -> 0 | E33: =VLOOKUP('Input Data'!E30,'Normalisation & Calcs'!$F$31:$G$35,2,FALSE) -> 0.5 | F33: 3 | G33: 0.5
B34: Power/trust | C34: Scale 0-1 (1 = Worst) | D34: =VLOOKUP('Input Data'!D31,'Normalisation & Calcs'!$F$31:$G$35,2,FALSE) -> 0 | E34: =VLOOKUP('Input Data'!E31,'Normalisation & Calcs'!$F$31:$G$35,2,FALSE) -> 0.75 | F34: 4 | G34: 0.25
B35: Autonomy | C35: Scale 0-1 (1 = Worst) | D35: =VLOOKUP('Input Data'!D32,'Normalisation & Calcs'!$F$31:$G$35,2,FALSE) -> 0 | E35: =VLOOKUP('Input Data'!E32,'Normalisation & Calcs'!$F$31:$G$35,2,FALSE) -> 0.5 | F35: 5 | G35: 0
B36: Sum of normalised values, equal weights | D36: =SUM(D30:D35) -> 0.25 | E36: =SUM(E30:E35) -> 3.25 | F36: 1 =Worst
B37: normalisation between 0-1 (1=worst) | D37: =D36/$G$37 -> 0.076923077 | E37: =E36/$G$37 -> 1 | F37: normalised by the max | G37: =MAX(D36:E36) -> 3.25
D41: Ecosystem services (ES) and Agriculture Indicators Correlation
C42: Correlation AI and ES by Bassignana et al 2025 | D42: Carbon Sequestration | E42: Increase N fixation | F42: Minimise soil erosion | G42: Pest and Disease Control | H42: Pollination | I42: Biodiversity
B43: Agricultural indicators (AI) | C43: Conservation and no-tillage systems | D43: x | E43: x | F43: x | G43: x | I43: x
C44: Crop rotation | D44: x | E44: x | G44: x | H44: x | I44: x
C45: Intercropping | D45: x | E45: x | G45: x | H45: x | I45: x
...

Sheet ES Rating
C1: Realizing dynamic value chains for underutilised crops
B2: Indicator | C2: Definition | H2: Rating | I2: Rating description
B3: Conservation and no-tillage systems | C3: The soil is disturbed minimally (no more than 3-5 cm deep) and with no inversion (soil ‘cracking’ up to 25 cm is allowed to de-com- pact the soil). The crop is seeded directly into a mulch or living crop (which is usually mown, rolled or tarped prior to seed), without any soil disturbance preceding. | H3: 0 | I3: Deep ploughing (more than 30 cm in depth) or rotavating one or more time per year
H4: 1 | I4: Ploughing maximum 30 cm in depth and/or using power harrow once a year
H5: 2 | I5: Reduced tillage up to 5 cm (e.g., superficial disc-harrowin g, wide-cutter or rotary hoe), strip tillage, ridge tillage
H6: 3 | I6: No-till
B7: Crop rotation | C7: Long and diverse crop rotation, legume-based temporary grasslands in crop rotations, pulses in crop rotation | H7: 0 | I7: Mainly monocrop
H8: 1 | I8: 2-3 year rotation cycle
H9: 2 | I9: 4-5 year rotation cycle
H10: 3 | I10: more than 6 years rotation cycle
B11: Intercropping | C11: Simple crop mix-tures (e.g., cereal and pulse), polycultures with push-pull crops, permanent soil cover with companion species of the main crop(s), using allelopathic crops, Inter-row permanent crops on the uua (utilised agricultural area) | H11: 0 | I11: 0 intercropping on uaa
H12: 1 | I12: 30% uaa
H13: 2 | I13: 30-50 uaa
H14: 3 | I14: >50
B15: Cover crops | C15: Mixtures of legume-based green manure, Cover crops, Soil fertility management with complex mixtures of green manures, Complex mixtures of green manures (cover crops), Main crop sown in green | H15: 0 | I15: The soil is covered with plants less than 6 months of the year on the total farm land
H16: 1 | I16: The soil is covered for 6 to 8 months a year on the total farm land
H17: 2 | I17: The soil is covered for 8 to 10 months a year
H18: 3 | I18: The soil is covered at least 11 months of the year
B19: Soil organic matter input | C19: Compost tea, Green manure, composting, Balanced fertilisation, using organic manure - farmyard manure, recycled crop waste, Wood chips (or ramial wood chip (RWC), organic agroindustrial waste, biochar, straw mulching, in- oculation with mycorrhiza | H19: 0 | I19: No organic matter inputs (the fertility management is completely based on synthetic fertilizers)
H20: 1 | I20: Rarely used Organic inputs and/or only in a small part of the farm (up to 30% of used farmed land)
H21: 2 | I21: Moderate use of practice and/or in up to one half of the farmed land
H22: 3 | I22: Several strategies are implemented in at least 75% of the farmland
B23: Organic pest and disease control | C23: Organic Pest and disease control derived from plants and plant extract | H23: 0 | I23: Chemicals inputs, not include organic products
H24: 1 | I24: 30 % Organic pest control, purchased
H25: 2 | I25: 30% - 50% Organic pest control, purchased
H26: 3 | I26: Only organic pest control and 50% self-produced
B27: Water management practices | C27: Drip irrigation, mulching, dryland farming, proper irrigation scheduling (e.g.,irrigating at night), buried clay pot irrigation in market gardening, drainage | H27: 0 | I27: No implementation of techniques, practices and strategies for conserving water, noticeable inefficient water use in the farm
H28: 1 | I28: Water conservation practices used rarely and/or only in a small part of the farm (up to 30% of the farmed land (on land where applicable)
H29: 2 | I29: Moderate use of water conservation practices, in 31-50% of the farmed land
H30: 3 | I30: Water conservation practices often used on more than 50% of the farmed land
B31: Agroforestry | C31: Windbreaks, use of shading trees, etc., Trees and other woody species can produce fruit, timber, firewood, forage, etc., Hedges, wooded strips, and tree lines, Traditional European agroforestry systems include the ‘bocage’ (hedge-row network) in livestock breeding regions, grazed traditional orchards, pollard tree rows, and the Mediterranean open forest associating several oak species and grazed by cattle, sheep and pig (Dehesa/Montado). Silvoarable systems. Silvopastoral systems. Forest farming. | H31: 0 | I31: Not implemented at all
H32: 1 | I32: Rarely used and/or only in a small part of the farmed land (less than 25%)
H33: 2 | I33: Moderate use, in up to one half of the farmed land (25-50%)
H34: 3 | I34: Often used, in more than one half of the farmed land

Sheet Econ.  Rating
C1: Realizing dynamic value chains for underutilised crops
B2: Indicator | C2: Definition | H2: Rating | I2: Rating description
B3: Profit | C3: Sufficient profit is being made in order to sustain the business over time. When a comparison between structurally similar alternatives is being made, net pre-tax profit can be used (revenue - all costs). In the case of more diverse alternatives (e.g. marked differences in size or capital structure), EBITDA (earnings before interest, taxes, depreciation, and amortization) should be used instead to focus on operational profits before taking capital structure into account. | H3: 1 | I3: Highly unprofitable (losses are made, farm survival is at high risk)
H4: 2 | I4: Poor profitability (farm is making marginal losses or breaking even)
H5: 3 | I5: Moderate profitability (small profits are generated, but farm remains vulnerable)
H6: 4 | I6: Good profitability (consistent and sufficient profit is generated)
H7: 5 | I7: High profitability (strong financial performance by the farm, well above average)
B8: Risk | C8: Volatility of profit (as selected under economic indicator #1) is acceptable over a period of time. While some fluctuations are to be expected, these should be within reasonable and manageable bounds. Farmers can take risk management efforts to reduce their risk. | H8: 1 | I8: Extremely high risk (Profit volatility is severe and unpredictable)
H9: 2 | I9: High risk (profit fluctuates significantly but remains somewhat manageable)
H10: 3 | I10: Moderate risk (profit shows some expected fluctuations but remains within acceptable bounds)
H11: 4 | I11: Low risk (profit is stable with minor, predictable fluctuations)
H12: 5 | I12: Very low risk (profit is highly stable with minimal fluctuations)
B13: Diversification | C13: Activities and revenue streams are sufficiently diversified in order to deal with changes. Diversification could be either within the farm between different crops/varieties or between farm and non-farming activities. Diversification can help farms to reduce their economic vulnerability and enhance their economic resilience. | H13: 1 | I13: No diversification (farm relies on a single crop / revenue stream)
H14: 2 | I14: Limited diversification (farm relies on a handful of main crops/activities)
H15: 3 | I15: Moderate diversification (a small mix of crops and/or activities is present on the farm)
H16: 4 | I16: Well diversified (multiple revenue streams exist across different crops and activities)
H17: 5 | I17: Highly diversified (the farm has a wide variety of crops and income sources where no single source dominates)
B18: Value chain length | C18: Value chains are dynamic and not overly complex and long. Short value chains constitute an excellent way to gain higher added value, especially for small and medium size farms by removal of excessive middlemen. | H18: 1 | I18: Long and complex (multiple intermediaries and low level of organisation)
H19: 2 | I19: Long (long chain but some level of organisation emerging)
H20: 3 | I20: Moderate (chain or reasonable length, balancing efficiency and reach)
H21: 4 | I21: Short (short value chain with good organisation)
H22: 5 | I22: Short and efficient (streamlined value chain with only key partners that coordinate well)
B23: Power/trust | C23: Value chain actors trust each other and hence collaborate well, without significant power imbalances. Equality within the value chain leading to more win/win scenario's. | H23: 1 | I23: Extreme power imbalance and no trust (one dominant actor controls the entire value chain)
H24: 2 | I24: High power imbalance - low trust (large players exert significant control leaving smaller actors with limited negotiating power; leading to unfair value distribution
H25: 3 | I25: Moderate trust - some power imbalances (larger players may still dominate, but negotiations are becoming more balanced leading to fairer contracts and cooperation)
H26: 4 | I26: Good trust - balanced power (value chain actors collaborate effectively, trust is strong allowing for long-term partnerships)
H27: 5 | I27: High trust and power balance (all value chain actors operate with mutual trust and transparency, with equal opportunities for all)
B28: Autonomy | C28: The value chain is not overly reliant on external parties to ensure its survival. Examples include government subsidies, debt through external financers, dependency or on global markets. | H28: 1 | I28: No Autonomy (the value chain heavily relies on external support to function, without external financing or aid it would collapse)
H29: 2 | I29: High Dependence (the value chain still relies significantly on external support, but some internal mechanisms exist)
H30: 3 | I30: Moderate Dependence (the value chain has a mix of internal and external dependencies with steps being taken to reduce reliance)
H31: 4 | I31: Low Dependence (the value chain is largely self-sustaining, with minimal reliance on external forces)
H32: 5 | I32: Fully Autonomous (the value chain operates independently and is considered self-sustaining)
