Workbook

Sheet Overview
B2: Country / Region | C2: Project Name/Acronym (Institution) | D2: Reference/Contact | E2: Sample Size | F2: =IF(ISBLANK(Bld_Vent_Details!G2), "", Bld_Vent_Details!G2) -> Building Type | G2: =IF(ISBLANK(Bld_Vent_Details!J2), "", Bld_Vent_Details!J2) -> Ventilation Type
B3: =Bld_Vent_Details!B9 -> AUS / Melbourne | C3: =Bld_Vent_Details!C9 -> Indoor air project (CSIRO) | D3: =Bld_Vent_Details!D9 -> Galbally et al. (2011) | E3: =Bld_Vent_Details!E9 -> 40 | F3: =IF(ISBLANK(Bld_Vent_Details!G9), "", Bld_Vent_Details!G9) -> various | G3: =IF(ISBLANK(Bld_Vent_Details!J9), "", Bld_Vent_Details!J9) -> unknown | I3: =Bld_Vent_Details!G9 -> various | J3: SFH
B4: =Bld_Vent_Details!B43 -> AUS / Melbourne | C4: =Bld_Vent_Details!C43 -> - (Monash University) | D4: =Bld_Vent_Details!D43 -> Kang et al. (2021) | E4: =Bld_Vent_Details!E43 -> 12 | F4: =IF(ISBLANK(Bld_Vent_Details!G43), "", Bld_Vent_Details!G43) -> AB | G4: =IF(ISBLANK(Bld_Vent_Details!J43), "", Bld_Vent_Details!J43) -> MVHR | I4: =Bld_Vent_Details!G43 -> AB | J4: MFH
B5: =Bld_Vent_Details!B35 -> AUT | C5: =Bld_Vent_Details!C35 -> Lueftung 3.0 (IBO) | D5: =Bld_Vent_Details!D35 -> Wallner et al. (2014) | E5: =Bld_Vent_Details!E35 -> 120 | F5: =IF(ISBLANK(Bld_Vent_Details!G35), "", Bld_Vent_Details!G35) -> various | G5: =IF(ISBLANK(Bld_Vent_Details!J35), "", Bld_Vent_Details!J35) -> Win, MVHR | I5: =Bld_Vent_Details!G35 -> various | J5: SFH
B6: =Bld_Vent_Details!B45 -> AUT / Innsbruck | C6: =Bld_Vent_Details!C45 -> Sinfonia (UIBK) | D6: =Bld_Vent_Details!D45 -> Bliem (2021) | E6: =Bld_Vent_Details!E45 -> 200 | F6: =IF(ISBLANK(Bld_Vent_Details!G45), "", Bld_Vent_Details!G45) -> MFH | G6: =IF(ISBLANK(Bld_Vent_Details!J45), "", Bld_Vent_Details!J45) -> Win, MVHR | I6: =Bld_Vent_Details!G45 -> MFH | J6: MFH
B7: =Bld_Vent_Details!B7 -> AUT / Innsbruck and Kufstein | C7: =Bld_Vent_Details!C7 -> Lodenareal (UIBK) | D7: =Bld_Vent_Details!D7 -> Rojas et al. (2015) | E7: =Bld_Vent_Details!E7 -> 24 | F7: =IF(ISBLANK(Bld_Vent_Details!G7), "", Bld_Vent_Details!G7) -> AB | G7: =IF(ISBLANK(Bld_Vent_Details!J7), "", Bld_Vent_Details!J7) -> MVHR, Win | I7: =Bld_Vent_Details!G7 -> AB | J7: MFH
B8: =Bld_Vent_Details!B20 -> BEL | C8: =Bld_Vent_Details!C20 -> Clean Air, Low Energy (VITO) | D8: =Bld_Vent_Details!D20 -> Stranger et al. (2012) | E8: =Bld_Vent_Details!E20 -> 51 | F8: =IF(ISBLANK(Bld_Vent_Details!G20), "", Bld_Vent_Details!G20) -> SFH, MFH | G8: =IF(ISBLANK(Bld_Vent_Details!J20), "", Bld_Vent_Details!J20) -> various | I8: =Bld_Vent_Details!G20 -> SFH, MFH | J8: various
B9: =Bld_Vent_Details!B21 -> BEL | C9: =Bld_Vent_Details!C21 -> Renovair (UGENT) | D9: =Bld_Vent_Details!D21 -> Jelle Laverge | E9: =Bld_Vent_Details!E21 | F9: =IF(ISBLANK(Bld_Vent_Details!G21), "", Bld_Vent_Details!G21) -> SFH, MFH | G9: =IF(ISBLANK(Bld_Vent_Details!J21), "", Bld_Vent_Details!J21) -> various | I9: =Bld_Vent_Details!G21 -> SFH, MFH
B10: =Bld_Vent_Details!B22 -> BEL | C10: =Bld_Vent_Details!C22 -> My Healthy Home (UGENT) | D10: =Bld_Vent_Details!D22 -> Jelle Laverge | E10: =Bld_Vent_Details!E22 | F10: =IF(ISBLANK(Bld_Vent_Details!G22), "", Bld_Vent_Details!G22) -> SFH, MFH | G10: =IF(ISBLANK(Bld_Vent_Details!J22), "", Bld_Vent_Details!J22) -> various | I10: =Bld_Vent_Details!G22 -> SFH, MFH
B11: =Bld_Vent_Details!B23 -> BEL | C11: =Bld_Vent_Details!C23 -> - (Renson) | D11: =Bld_Vent_Details!D23 -> De Maré et al. (2019) | E11: =Bld_Vent_Details!E23 -> 350 | F11: =IF(ISBLANK(Bld_Vent_Details!G23), "", Bld_Vent_Details!G23) -> SFH, MFH | G11: =IF(ISBLANK(Bld_Vent_Details!J23), "", Bld_Vent_Details!J23) -> MEV | I11: =Bld_Vent_Details!G23 -> SFH, MFH | J11: SFH, MFH
B12: =Bld_Vent_Details!B6 -> CHE | C12: =Bld_Vent_Details!C6 -> Mesqualair (EPFL, HEIA) | D12: =Bld_Vent_Details!D6 -> Shen Yang et al. (2020) | E12: =Bld_Vent_Details!E6 -> 650 | F12: =IF(ISBLANK(Bld_Vent_Details!G6), "", Bld_Vent_Details!G6) -> various | G12: =IF(ISBLANK(Bld_Vent_Details!J6), "", Bld_Vent_Details!J6) -> various | I12: =Bld_Vent_Details!G6 -> various | J12: SFH
B13: =Bld_Vent_Details!B51 -> CHE | C13: =Bld_Vent_Details!C51 -> Buren (Zehnder) | D13: =Bld_Vent_Details!D51 -> Bart Cremers | E13: =Bld_Vent_Details!E51 -> 4 | F13: =IF(ISBLANK(Bld_Vent_Details!G51), "", Bld_Vent_Details!G51) -> MFH | G13: =IF(ISBLANK(Bld_Vent_Details!J51), "", Bld_Vent_Details!J51) -> Win, MVHR | I13: =Bld_Vent_Details!G51 -> MFH
B14: =Bld_Vent_Details!B46 -> CHL | C14: =Bld_Vent_Details!C46 -> Fondecyt Iniciación (UC) | D14: =Bld_Vent_Details!D46 -> Constanza Molina | E14: =Bld_Vent_Details!E46 -> 32 | F14: =IF(ISBLANK(Bld_Vent_Details!G46), "", Bld_Vent_Details!G46) -> unknown | G14: =IF(ISBLANK(Bld_Vent_Details!J46), "", Bld_Vent_Details!J46) -> unknown | I14: =Bld_Vent_Details!G46 -> unknown
B15: =Bld_Vent_Details!B8 -> CHL / Santiago, Antofagasta, Temuco, Valparaiso, Aysen | C15: =Bld_Vent_Details!C8 -> RENAM (UC) | D15: =Bld_Vent_Details!D8 -> Constanza Molina | E15: =Bld_Vent_Details!E8 -> 284 | F15: =IF(ISBLANK(Bld_Vent_Details!G8), "", Bld_Vent_Details!G8) -> SFH, MFH | G15: =IF(ISBLANK(Bld_Vent_Details!J8), "", Bld_Vent_Details!J8) -> Nat, Win | I15: =Bld_Vent_Details!G8 -> SFH, MFH | J15: various
B16: =Bld_Vent_Details!B31 -> DEU / Berlin, Leipzig | C16: =Bld_Vent_Details!C31 -> - (TROPOS) | D16: =Bld_Vent_Details!D31 -> Zhao et al. (2022) | E16: =Bld_Vent_Details!E31 -> 40 | F16: =IF(ISBLANK(Bld_Vent_Details!G31), "", Bld_Vent_Details!G31) -> various | G16: =IF(ISBLANK(Bld_Vent_Details!J31), "", Bld_Vent_Details!J31) -> various | I16: =Bld_Vent_Details!G31 -> various | J16: various
B17: =Bld_Vent_Details!B32 -> DEU / Erfurt | C17: =Bld_Vent_Details!C32 -> INGA (GSF) | D17: =Bld_Vent_Details!D32 -> Schneider et al. (1999) | E17: =Bld_Vent_Details!E32 -> 20 | F17: =IF(ISBLANK(Bld_Vent_Details!G32), "", Bld_Vent_Details!G32) -> MFH | G17: =IF(ISBLANK(Bld_Vent_Details!J32), "", Bld_Vent_Details!J32) -> Nat | I17: =Bld_Vent_Details!G32 -> MFH
B18: =Bld_Vent_Details!B16 -> DNK / Copenhagen | C18: =Bld_Vent_Details!C16 -> CISBO (DTU) | D18: =Bld_Vent_Details!D16 -> Bekö et al. (2013) | E18: =Bld_Vent_Details!E16 -> 58 | F18: =IF(ISBLANK(Bld_Vent_Details!G16), "", Bld_Vent_Details!G16) -> various | G18: =IF(ISBLANK(Bld_Vent_Details!J16), "", Bld_Vent_Details!J16) -> various | I18: =Bld_Vent_Details!G16 -> various
B19: =Bld_Vent_Details!B14 -> DNK / Odense | C19: =Bld_Vent_Details!C14 -> IECH (DTU) | D19: =Bld_Vent_Details!D14 -> Bekö et al. (2019) | E19: =Bld_Vent_Details!E14 -> 500 | F19: =IF(ISBLANK(Bld_Vent_Details!G14), "", Bld_Vent_Details!G14) -> various | G19: =IF(ISBLANK(Bld_Vent_Details!J14), "", Bld_Vent_Details!J14) -> various | I19: =Bld_Vent_Details!G14 -> various | J19: various
B20: =Bld_Vent_Details!B38 -> ESP / Madrid | C20: =Bld_Vent_Details!C38 -> CISC (IETCC) | D20: =Bld_Vent_Details!D38 -> Sonia Garcia | E20: =Bld_Vent_Details!E38 -> 12 | F20: =IF(ISBLANK(Bld_Vent_Details!G38), "", Bld_Vent_Details!G38) -> MFH, AB | G20: =IF(ISBLANK(Bld_Vent_Details!J38), "", Bld_Vent_Details!J38) -> Nat, Win | I20: =Bld_Vent_Details!G38 -> MFH, AB | J20: various
B21: =Bld_Vent_Details!B44 -> ESP / Pamplona, Seville | C21: =Bld_Vent_Details!C44 -> ClimateReady (UNAV) | D21: =Bld_Vent_Details!D44 -> Aurora Monge-Barrio | E21: =Bld_Vent_Details!E44 -> 23 | F21: =IF(ISBLANK(Bld_Vent_Details!G44), "", Bld_Vent_Details!G44) -> MFH | G21: =IF(ISBLANK(Bld_Vent_Details!J44), "", Bld_Vent_Details!J44) -> various | I21: =Bld_Vent_Details!G44 -> MFH | J21: MFH
B22: =Bld_Vent_Details!B34 -> FRA | C22: =Bld_Vent_Details!C34 -> - (CETIAT) | D22: =Bld_Vent_Details!D34 -> Laure Mouradian, Benoit Golaz | E22: =Bld_Vent_Details!E34 -> 4 | F22: =IF(ISBLANK(Bld_Vent_Details!G34), "", Bld_Vent_Details!G34) -> various | G22: =IF(ISBLANK(Bld_Vent_Details!J34), "", Bld_Vent_Details!J34) -> Mech | I22: =Bld_Vent_Details!G34 -> various | J22: various
B23: =Bld_Vent_Details!B47 -> FRA | C23: =Bld_Vent_Details!C47 -> ALLO (ULR) | D23: =Bld_Vent_Details!D47 -> Marc Abadie | E23: =Bld_Vent_Details!E47 -> 6 | F23: =IF(ISBLANK(Bld_Vent_Details!G47), "", Bld_Vent_Details!G47) -> unknown | G23: =IF(ISBLANK(Bld_Vent_Details!J47), "", Bld_Vent_Details!J47) -> Hyb | I23: =Bld_Vent_Details!G47 -> unknown
B24: =Bld_Vent_Details!B3 -> FRA / French Alps | C24: =Bld_Vent_Details!C3 -> Kanama (Cerema) | D24: =Bld_Vent_Details!D3 -> Gaelle Guyot | E24: =Bld_Vent_Details!E3 -> 1 | F24: =IF(ISBLANK(Bld_Vent_Details!G3), "", Bld_Vent_Details!G3) -> SFH | G24: =IF(ISBLANK(Bld_Vent_Details!J3), "", Bld_Vent_Details!J3) -> MVHR | I24: =Bld_Vent_Details!G3 -> SFH | J24: SFH
B25: =Bld_Vent_Details!B29 -> GBR | C25: =Bld_Vent_Details!C29 -> AMR (STRATH) | D25: =Bld_Vent_Details!D29 -> Sharpe et al. (2020) | E25: =Bld_Vent_Details!E29 -> 21 | F25: =IF(ISBLANK(Bld_Vent_Details!G29), "", Bld_Vent_Details!G29) -> TH, AB | G25: =IF(ISBLANK(Bld_Vent_Details!J29), "", Bld_Vent_Details!J29) -> Nat, Mech | I25: =Bld_Vent_Details!G29 -> TH, AB | J25: various
B26: =Bld_Vent_Details!B28 -> GBR / Scotland | C26: =Bld_Vent_Details!C28 -> dMEV (STRATH) | D26: =Bld_Vent_Details!D28 -> Sharpe et al. (2019) | E26: =Bld_Vent_Details!E28 -> 41 | F26: =IF(ISBLANK(Bld_Vent_Details!G28), "", Bld_Vent_Details!G28) -> various | G26: =IF(ISBLANK(Bld_Vent_Details!J28), "", Bld_Vent_Details!J28) -> MEV | I26: =Bld_Vent_Details!G28 -> various | J26: various
B27: =Bld_Vent_Details!B30 -> GBR / Scotland | C27: =Bld_Vent_Details!C30 -> VentStd (STRATH) | D27: =Bld_Vent_Details!D30 -> Sharpe et al. (2023) | E27: =Bld_Vent_Details!E30 -> 16 | F27: =IF(ISBLANK(Bld_Vent_Details!G30), "", Bld_Vent_Details!G30) -> various | G27: =IF(ISBLANK(Bld_Vent_Details!J30), "", Bld_Vent_Details!J30) -> MEV, MVHR | I27: =Bld_Vent_Details!G30 -> various | J27: various
B28: =Bld_Vent_Details!B48 -> IRL | C28: =Bld_Vent_Details!C48 -> ALIVE (UGA) | D28: =Bld_Vent_Details!D48 -> James McGrath, Ibrahim Alhindawi | E28: =Bld_Vent_Details!E48 -> 9 | F28: =IF(ISBLANK(Bld_Vent_Details!G48), "", Bld_Vent_Details!G48) -> SFH | G28: =IF(ISBLANK(Bld_Vent_Details!J48), "", Bld_Vent_Details!J48) -> Nat | I28: =Bld_Vent_Details!G48 -> SFH
B29: =Bld_Vent_Details!B49 -> IRL | C29: =Bld_Vent_Details!C49 -> ARDEN (UGA) | D29: =Bld_Vent_Details!D49 -> Coggins et al. (2022) | E29: =Bld_Vent_Details!E49 -> 26 | F29: =IF(ISBLANK(Bld_Vent_Details!G49), "", Bld_Vent_Details!G49) -> SFH | G29: =IF(ISBLANK(Bld_Vent_Details!J49), "", Bld_Vent_Details!J49) -> Win, Mech | I29: =Bld_Vent_Details!G49 -> SFH
B30: =Bld_Vent_Details!B50 -> IRL | C30: =Bld_Vent_Details!C50 -> VALIDate (MU) | D30: =Bld_Vent_Details!D50 -> James McGrath | E30: =Bld_Vent_Details!E50 -> 87 | F30: =IF(ISBLANK(Bld_Vent_Details!G50), "", Bld_Vent_Details!G50) -> SFH, TH, AB | G30: =IF(ISBLANK(Bld_Vent_Details!J50), "", Bld_Vent_Details!J50) -> various | I30: =Bld_Vent_Details!G50 -> SFH, TH, AB
B31: =Bld_Vent_Details!B40 -> ITA / Bari | C31: =Bld_Vent_Details!C40 -> - (ARPA) | D31: =Bld_Vent_Details!D40 -> De Gennaro et al. (2015) | E31: =Bld_Vent_Details!E40 -> 6 | F31: =IF(ISBLANK(Bld_Vent_Details!G40), "", Bld_Vent_Details!G40) -> SFH | G31: =IF(ISBLANK(Bld_Vent_Details!J40), "", Bld_Vent_Details!J40) -> unknown | I31: =Bld_Vent_Details!G40 -> SFH
B32: =Bld_Vent_Details!B39 -> ITA / Ferrara, Medolla | C32: =Bld_Vent_Details!C39 -> - (UNIFE) | D32: =Bld_Vent_Details!D39 -> Pietrogrande et al. (2021) | E32: =Bld_Vent_Details!E39 -> 2 | F32: =IF(ISBLANK(Bld_Vent_Details!G39), "", Bld_Vent_Details!G39) -> AB | G32: =IF(ISBLANK(Bld_Vent_Details!J39), "", Bld_Vent_Details!J39) -> various | I32: =Bld_Vent_Details!G39 -> AB | J32: MFH
B33: =Bld_Vent_Details!B41 -> ITA / Lodi | C33: =Bld_Vent_Details!C41 -> - (UNIMI) | D33: =Bld_Vent_Details!D41 -> Cattaneo et al. (2011) | E33: =Bld_Vent_Details!E41 -> 60 | F33: =IF(ISBLANK(Bld_Vent_Details!G41), "", Bld_Vent_Details!G41) -> SFH | G33: =IF(ISBLANK(Bld_Vent_Details!J41), "", Bld_Vent_Details!J41) -> unknown | I33: =Bld_Vent_Details!G41 -> SFH
B34: =Bld_Vent_Details!B25 -> MEX / Mexico City | C34: =Bld_Vent_Details!C25 -> - (GSA) | D34: =Bld_Vent_Details!D25 -> Moreno-Rangel et al. (2018) | E34: =Bld_Vent_Details!E25 -> 1 | F34: =IF(ISBLANK(Bld_Vent_Details!G25), "", Bld_Vent_Details!G25) -> AB | G34: =IF(ISBLANK(Bld_Vent_Details!J25), "", Bld_Vent_Details!J25) -> Hyb | I34: =Bld_Vent_Details!G25 -> AB | J34: MFH
B35: =Bld_Vent_Details!B27 -> MEX, USA, GBR / Mexico City, San Francisco, Dunfermline | C35: =Bld_Vent_Details!C27 -> - (GSA) | D35: =Bld_Vent_Details!D27 -> Moreno-Rangel (2019) | E35: =Bld_Vent_Details!E27 -> 7 | F35: =IF(ISBLANK(Bld_Vent_Details!G27), "", Bld_Vent_Details!G27) -> various | G35: =IF(ISBLANK(Bld_Vent_Details!J27), "", Bld_Vent_Details!J27) -> Hyb, MVHR | I35: =Bld_Vent_Details!G27 -> various | J35: various
B36: =Bld_Vent_Details!B33 -> NLD | C36: =Bld_Vent_Details!C33 -> Care facilities (TUe) | D36: =Bld_Vent_Details!D33 -> Kulve et al. (2017) | E36: =Bld_Vent_Details!E33 -> 7 | F36: =IF(ISBLANK(Bld_Vent_Details!G33), "", Bld_Vent_Details!G33) -> unknown | G36: =IF(ISBLANK(Bld_Vent_Details!J33), "", Bld_Vent_Details!J33) -> Mech | I36: =Bld_Vent_Details!G33 -> unknown
B37: =Bld_Vent_Details!B52 -> NLD | C37: =Bld_Vent_Details!C52 -> PH renovation (TU/e) | D37: =Bld_Vent_Details!D52 -> Marcel Loomans | E37: =Bld_Vent_Details!E52 -> 10 | F37: =IF(ISBLANK(Bld_Vent_Details!G52), "", Bld_Vent_Details!G52) -> TH | G37: =IF(ISBLANK(Bld_Vent_Details!J52), "", Bld_Vent_Details!J52) -> MVHR | I37: =Bld_Vent_Details!G52 -> TH
B38: =Bld_Vent_Details!B36 -> NOR / Trondheim | C38: =Bld_Vent_Details!C36 -> ZEN (NTNU) | D38: =Bld_Vent_Details!D36 -> Alonso et al. (2021) | E38: =Bld_Vent_Details!E36 -> 21 | F38: =IF(ISBLANK(Bld_Vent_Details!G36), "", Bld_Vent_Details!G36) -> various | G38: =IF(ISBLANK(Bld_Vent_Details!J36), "", Bld_Vent_Details!J36) -> various | I38: =Bld_Vent_Details!G36 -> various | J38: various
B39: =Bld_Vent_Details!B37 -> PRT / Porto | C39: =Bld_Vent_Details!C37 -> - (PUV) | D39: =Bld_Vent_Details!D37 -> Ricardo Almeida, Eva Barreira | E39: =Bld_Vent_Details!E37 -> 3 | F39: =IF(ISBLANK(Bld_Vent_Details!G37), "", Bld_Vent_Details!G37) -> various | G39: =IF(ISBLANK(Bld_Vent_Details!J37), "", Bld_Vent_Details!J37) -> various | I39: =Bld_Vent_Details!G37 -> various | J39: SFH
B40: =Bld_Vent_Details!B42 -> SGP | C40: =Bld_Vent_Details!C42 -> - (NTU) | D40: =Bld_Vent_Details!D42 -> Zhou et al. (2013) | E40: =Bld_Vent_Details!E42 -> 5 | F40: =IF(ISBLANK(Bld_Vent_Details!G42), "", Bld_Vent_Details!G42) -> unknown | G40: =IF(ISBLANK(Bld_Vent_Details!J42), "", Bld_Vent_Details!J42) -> various | I40: =Bld_Vent_Details!G42 -> unknown | J40: MFH
B41: =Bld_Vent_Details!B19 -> SVK / Samorin | C41: =Bld_Vent_Details!C19 -> Renovation (SUT) | D41: =Bld_Vent_Details!D19 -> Földvary et al. (2017) | E41: =Bld_Vent_Details!E19 -> 94 | F41: =IF(ISBLANK(Bld_Vent_Details!G19), "", Bld_Vent_Details!G19) -> MFH, AB | G41: =IF(ISBLANK(Bld_Vent_Details!J19), "", Bld_Vent_Details!J19) -> Nat | I41: =Bld_Vent_Details!G19 -> MFH, AB | J41: MFH, AB
B42: =Bld_Vent_Details!B17 -> SWE | C42: =Bld_Vent_Details!C17 -> Swedish housing stock (IVL) | D42: =Bld_Vent_Details!D17 -> Langer and Bekö (2013) | E42: =Bld_Vent_Details!E17 -> 305 | F42: =IF(ISBLANK(Bld_Vent_Details!G17), "", Bld_Vent_Details!G17) -> various | G42: =IF(ISBLANK(Bld_Vent_Details!J17), "", Bld_Vent_Details!J17) -> various | I42: =Bld_Vent_Details!G17 -> various | J42: various
B43: =Bld_Vent_Details!B24 -> SWE / Falun | C43: =Bld_Vent_Details!C24 -> - (Renson) | D43: =Bld_Vent_Details!D24 -> Ivan Pollet | E43: =Bld_Vent_Details!E24 -> 1 | F43: =IF(ISBLANK(Bld_Vent_Details!G24), "", Bld_Vent_Details!G24) -> SFH | G43: =IF(ISBLANK(Bld_Vent_Details!J24), "", Bld_Vent_Details!J24) -> MEV | I43: =Bld_Vent_Details!G24 -> SFH | J43: SFH
B44: =Bld_Vent_Details!B18 -> SWE / Goteborg, Kungsbacka, Malmo, Stockholm and Kalmar | C44: =Bld_Vent_Details!C18 -> Swedish passive house (IVL) | D44: =Bld_Vent_Details!D18 -> Langer et al. (2014) | E44: =Bld_Vent_Details!E18 -> 41 | F44: =IF(ISBLANK(Bld_Vent_Details!G18), "", Bld_Vent_Details!G18) -> various | G44: =IF(ISBLANK(Bld_Vent_Details!J18), "", Bld_Vent_Details!J18) -> MVHR | I44: =Bld_Vent_Details!G18 -> various | J44: various
B45: =Bld_Vent_Details!B13 -> USA | C45: =Bld_Vent_Details!C13 -> Particle Penetration (UT Austin) | D45: =Bld_Vent_Details!D13 -> Stephens and Siegel (2012) | E45: =Bld_Vent_Details!E13 -> 19 | F45: =IF(ISBLANK(Bld_Vent_Details!G13), "", Bld_Vent_Details!G13) -> SFH | G45: =IF(ISBLANK(Bld_Vent_Details!J13), "", Bld_Vent_Details!J13) -> Nat, Mech | I45: =Bld_Vent_Details!G13 -> SFH | J45: SFH
B46: =Bld_Vent_Details!B4 -> USA / California | C46: =Bld_Vent_Details!C4 -> HENGH (LBNL) | D46: =Bld_Vent_Details!D4 -> Singer et al. (2020) | E46: =Bld_Vent_Details!E4 -> 70 | F46: =IF(ISBLANK(Bld_Vent_Details!G4), "", Bld_Vent_Details!G4) -> SFH | G46: =IF(ISBLANK(Bld_Vent_Details!J4), "", Bld_Vent_Details!J4) -> MEV (mostly) | I46: =Bld_Vent_Details!G4 -> SFH | J46: SFH
B47: =Bld_Vent_Details!B5 -> USA / California | C47: =Bld_Vent_Details!C5 -> LIA (LBNL) | D47: =Bld_Vent_Details!D5 -> Zhao et al. (2020) | E47: =Bld_Vent_Details!E5 -> 23 | F47: =IF(ISBLANK(Bld_Vent_Details!G5), "", Bld_Vent_Details!G5) -> AB | G47: =IF(ISBLANK(Bld_Vent_Details!J5), "", Bld_Vent_Details!J5) -> MEV | I47: =Bld_Vent_Details!G5 -> AB | J47: MFH
B48: =Bld_Vent_Details!B10 -> USA / California | C48: =Bld_Vent_Details!C10 -> High Perf. Homes (LBNL) | D48: =Bld_Vent_Details!D10 -> Less et al. (2015) | E48: =Bld_Vent_Details!E10 -> 24 | F48: =IF(ISBLANK(Bld_Vent_Details!G10), "", Bld_Vent_Details!G10) -> unknown | G48: =IF(ISBLANK(Bld_Vent_Details!J10), "", Bld_Vent_Details!J10) -> various | I48: =Bld_Vent_Details!G10 -> unknown
B49: =Bld_Vent_Details!B11 -> USA / California | C49: =Bld_Vent_Details!C11 -> Apt. Retrofits (LBNL) | D49: =Bld_Vent_Details!D11 -> Noris et al. (2013) | E49: =Bld_Vent_Details!E11 -> 16 | F49: =IF(ISBLANK(Bld_Vent_Details!G11), "", Bld_Vent_Details!G11) -> AB | G49: =IF(ISBLANK(Bld_Vent_Details!J11), "", Bld_Vent_Details!J11) -> Mech, Hyb | I49: =Bld_Vent_Details!G11 -> AB | J49: AB
B50: =Bld_Vent_Details!B26 -> USA / McAllen | C50: =Bld_Vent_Details!C26 -> - (GSA) | D50: =Bld_Vent_Details!D26 -> Moreno-Rangel et al. (2020) | E50: =Bld_Vent_Details!E26 -> 13 | F50: =IF(ISBLANK(Bld_Vent_Details!G26), "", Bld_Vent_Details!G26) -> SFH | G50: =IF(ISBLANK(Bld_Vent_Details!J26), "", Bld_Vent_Details!J26) -> Nat | I50: =Bld_Vent_Details!G26 -> SFH | J50: SFH
B51: =Bld_Vent_Details!B12 -> USA / Washington State | C51: =Bld_Vent_Details!C12 -> Weather influence (WSU) | D51: =Bld_Vent_Details!D12 -> Huangfu et al. (2019) | E51: =Bld_Vent_Details!E12 -> 1 | F51: =IF(ISBLANK(Bld_Vent_Details!G12), "", Bld_Vent_Details!G12) -> SFH | G51: =IF(ISBLANK(Bld_Vent_Details!J12), "", Bld_Vent_Details!J12) -> Mech | I51: =Bld_Vent_Details!G12 -> SFH | J51: SFH
B52: =Bld_Vent_Details!B15 -> USA / Washington State | C52: =Bld_Vent_Details!C15 -> Wildfires (WSU) | D52: =Bld_Vent_Details!D15 -> Kirk et al. (2017) | E52: =Bld_Vent_Details!E15 -> 2 | F52: =IF(ISBLANK(Bld_Vent_Details!G15), "", Bld_Vent_Details!G15) -> SFH | G52: =IF(ISBLANK(Bld_Vent_Details!J15), "", Bld_Vent_Details!J15) -> Mech | I52: =Bld_Vent_Details!G15 -> SFH | J52: SFH
F54: =Bld_Vent_Details!G56 -> SFH: Single family house | G54: =Bld_Vent_Details!J56 -> Window: Window airing (not designed)
F55: =Bld_Vent_Details!G57 -> TH: Terraced house | G55: =Bld_Vent_Details!J57 -> Natural: Natural ventilation (designed)
F56: =Bld_Vent_Details!G58 -> MFH: Multi-family house | G56: =Bld_Vent_Details!J58 -> Hyb: Hybrid/mixed mode ventilation
F57: =Bld_Vent_Details!G59 -> AB: Apartment block | G57: =Bld_Vent_Details!J59 -> Mech: Mechanical ventilation
G58: =Bld_Vent_Details!J60 -> MVHR: balanced mechanical ventilation with hear recovery
G59: =Bld_Vent_Details!J61 -> MEV: mechanical extract ventilation

Sheet Bld_Vent_Details
B1: Study Details | G1: Building Details | J1: Ventilation System | O1: add. / old information
B2: Country / Region | C2: Project Name/Acronym (Institution) | D2: Reference/Contact | E2: Sample Size | F2: Reference | G2: Building Type | H2: Energy Standard | I2: Airtightness | J2: Ventilation Type | K2: Locations | L2: Method/Device | M2: Available Data | O2: Project / Author / Year
B3: FRA / French Alps | C3: Kanama (Cerema) | D3: Gaelle Guyot | E3: 1 | G3: SFH | H3: low-energy (BBC) | I3: 2.4 ACH50 | J3: MVHR | K3: each vent/room | L3: measured using a calibrated hood | M3: TS | O3: Kanama, Cerema / LOCIE / 2019
B4: USA / California | C4: HENGH (LBNL) | D4: Singer et al. (2020) | E4: 70 | F4: https://onlinelibrary.wiley.com/doi/10.1111/ina.12676 https://eta-publications.lbl.gov/sites/default/files/lbnl-2001246.pdf | G4: SFH | H4: CA T24 | I4: 4.5 ACH50 | J4: MEV (mostly) | K4: Whole house | L4: Measured | M4: TS | O4: HENGH / LBNL / 2020
B5: USA / California | C5: LIA (LBNL) | D5: Zhao et al. (2020) | E5: 23 | F5: https://onlinelibrary.wiley.com/doi/10.1111/ina.12764 | G5: AB | I5: 8 ACH50 | J5: MEV | O5: LIA / LBNL / 2021
B6: CHE | C6: Mesqualair (EPFL, HEIA) | D6: Shen Yang et al. (2020) | E6: 650 | F6: https://onlinelibrary.wiley.com/doi/full/10.1111/ina.12667 https://www.mdpi.com/2073-4433/10/12/777 https://www.mdpi.com/1660-4601/17/14/4936 | G6: various | H6: Some energy-renovated and some Minergie-certified | J6: various | O6: Mesqualair / EPFL and HEIA / 2019
B7: AUT / Innsbruck and Kufstein | C7: Lodenareal (UIBK) | D7: Rojas et al. (2015) | E7: 24 | F7: https://doi.org/10.1080/17512549.2015.1040072 | G7: AB | H7: Passive House (certified) + low energy standard | I7: PH: 0.6 ACH50 | J7: MVHR, Win | K7: roomwise | L7: Ventilation design values + punctual control measurements | M7: Snapshot values | O7: Lodenareal / UIBK / 2013
B8: CHL / Santiago, Antofagasta, Temuco, Valparaiso, Aysen | C8: RENAM (UC) | D8: Constanza Molina | E8: 284 | F8: www.renam.cl | G8: SFH, MFH | I8: Pending | J8: Nat, Win | L8: No available data | O8: RENAM / 2017-202X
B9: AUS / Melbourne | C9: Indoor air project (CSIRO) | D9: Galbally et al. (2011) | E9: 40 | F9: https://www.researchgate.net/publication/255793639_An_overview_of_the_CSIRO_2008-2009_indoor_air_quality_study | G9: various | J9: unknown | L9: CO2 tracer release method | M9: individual houses closed and opened status | O9: Indoor air project / CSIRO / 2010
B10: USA / California | C10: High Perf. Homes (LBNL) | D10: Less et al. (2015) | E10: 24 | F10: https://www.tandfonline.com/doi/full/10.1080/10789669.2014.961850 | G10: unknown | J10: various | O10: High Performance California Homes LBNL / Less and Mullen / 2015
B11: USA / California | C11: Apt. Retrofits (LBNL) | D11: Noris et al. (2013) | E11: 16 | F11: https://www.sciencedirect.com/science/article/pii/S0360132313001947 | G11: AB | J11: Mech, Hyb | O11: Apartment Retrofits LBNL / 2013
B12: USA / Washington State | C12: Weather influence (WSU) | D12: Huangfu et al. (2019) | E12: 1 | F12: https://www.researchgate.net/profile/Patrick-Okeeffe-3/publication/338383161_Whole_house_emission_rates_and_loss_coefficients_of_formaldehyde_and_other_VOCs_as_a_function_of_air_change_rate/links/5e3329b2a6fdccd96578f420/Whole-house-emission-rates-and-loss-coefficients-of-formaldehyde-and-other-VOCs-as-a-function-of-air-change-rate.pdf | G12: SFH | J12: Mech | K12: Garage and attic air sampled in some homes | O12: Weather influence on emissions / Huangfu / 2019
B13: USA | C13: Particle Penetration (UT Austin) | D13: Stephens and Siegel (2012) | E13: 19 | F13: https://onlinelibrary.wiley.com/doi/10.1111/j.1600-0668.2012.00779.x | G13: SFH | J13: Nat, Mech | O13: Particle Penetration / Stephens and Siegel / 2012
B14: DNK / Odense | C14: IECH (DTU) | D14: Bekö et al. (2019) | E14: 500 | F14: https://www.sciencedirect.com/science/article/pii/S0360132310001216?via%3Dihub | G14: various | J14: various | K14: BED | L14: CO2 decay | M14: one average across all measured decays | O14: Bekö / IECH / 2008
B15: USA / Washington State | C15: Wildfires (WSU) | D15: Kirk et al. (2017) | E15: 2 | F15: https://www.tandfonline.com/doi/full/10.1080/23744731.2017.1393256#d1e265 | G15: SFH | J15: Mech | O15: Wildfires / Kirk / 2017
B16: DNK / Copenhagen | C16: CISBO (DTU) | D16: Bekö et al. (2013) | E16: 58 | F16: https://pubs.acs.org/doi/full/10.1021/es402429h | G16: various | J16: various | K16: LIV | L16: CO2 decay | M16: one average across all measured decays | O16: CISBO / 2012
B17: SWE | C17: Swedish housing stock (IVL) | D17: Langer and Bekö (2013) | E17: 305 | F17: https://www.sciencedirect.com/science/article/pii/S0360132313002102 | G17: various | J17: various | K17: whole residence | L17: measured - passive tracer gas method | O17: Swedish housing stock / 2007-2008
B18: SWE / Goteborg, Kungsbacka, Malmo, Stockholm and Kalmar | C18: Swedish passive house (IVL) | D18: Langer et al. (2014) | E18: 41 | F18: https://www.sciencedirect.com/science/article/pii/S0360132315000463 | G18: various | J18: MVHR | K18: BED | L18: CO2 decay | M18: average of min 5 decays | O18: Swedish passive house / 2012-14
B19: SVK / Samorin | C19: Renovation (SUT) | D19: Földvary et al. (2017) | E19: 94 | F19: https://www.sciencedirect.com/science/article/pii/S0360132317302433 | G19: MFH, AB | J19: Nat | K19: BED | L19: CO2 decay | M19: time-weighted average | O19: Renovation multifamily b. / 2013-4
B20: BEL | C20: Clean Air, Low Energy (VITO) | D20: Stranger et al. (2012) | E20: 51 | F20: https://omgeving.vlaanderen.be/sites/default/files/2021-10/CleanAirLowEnergy-final.pdf | G20: SFH, MFH | J20: various | K20: Whole house | L20: measured | O20: Clean Air Low Energy
B21: BEL | C21: Renovair (UGENT) | D21: Jelle Laverge | G21: SFH, MFH | J21: various | K21: Whole house | L21: measured | O21: Renovair
B22: BEL | C22: My Healthy Home (UGENT) | D22: Jelle Laverge | G22: SFH, MFH | J22: various | K22: Whole house | L22: measured | O22: My Healthy Home
B23: BEL | C23: - (Renson) | D23: De Maré et al. (2019) | E23: 350 | F23: https://www.aivc.org/sites/default/files/D2_S6A-03_1.pdf | G23: SFH, MFH | J23: MEV | K23: Whole house | L23: measured | O23: Large-scale performance analysis of a smart residential MEV system based on cloud data / BDM / 2019
B24: SWE / Falun | C24: - (Renson) | D24: Ivan Pollet | E24: 1 | F24: (Paper to be published) | G24: SFH | J24: MEV | K24: BED | L24: measured | O24: Exhaust Ventilation Strategies and Bedroom CO2: a Field Study in a Cold Climate, Single Family House / 2021 (to be published)
B25: MEX / Mexico City | C25: - (GSA) | D25: Moreno-Rangel et al. (2018) | E25: 1 | F25: 10.5027/jnrd.v8i0.08 | G25: AB | H25: Passivhaus | J25: Hyb | K25: Whole house | L25: Measured (Only for mechanical one) | O25: Indoor Fine Particle (PM2.5) Pollution and Occupant Perception of the Indoor Environment During Summer of the First Passivhaus Certified Dwelling in Latin America / AMR / 2018
B26: USA / McAllen | C26: - (GSA) | D26: Moreno-Rangel et al. (2020) | E26: 13 | F26: 10.1155/2020/6042146 | G26: SFH | J26: Nat | O26: Assessing Impact of Household Intervention on Indoor Air Quality and Health of Children with Asthma in the US-Mexico Border: A Pilot Study
B27: MEX, USA, GBR / Mexico City, San Francisco, Dunfermline | C27: - (GSA) | D27: Moreno-Rangel (2019) | E27: 7 | F27: https://discovery.gsa.ac.uk/discovery/fulldisplay?context=L&vid=44GSA_INST:44GSA_VU1&docid=alma991000649329706296 | G27: various | H27: Passivhaus / Standard, Passivhaus / Gold (Scottish Regs) / Satandad | J27: Hyb, MVHR | K27: Whole house | L27: Measured (Only for mechanical one) | O27: Continuous IAQ monitoring with low-cost monitors: Protocol development, performance and application in residential building
B28: GBR / Scotland | C28: dMEV (STRATH) | D28: Sharpe et al. (2019) | E28: 41 | F28: https://strathprints.strath.ac.uk/70734/ | G28: various | H28: SAP 83-84B | I28: Designed <5 m3/hr/m2 @50Pa | J28: MEV | K28: KIT, BAT | L28: Measured | M28: Flow rates (l/s) for trickle and boost | O28: dMEV study / Sharpe, McGill et al. /2017-2018
B29: GBR | C29: AMR (STRATH) | D29: Sharpe et al. (2020) | E29: 21 | F29: https://www.nature.com/articles/s41598-020-68809-2 | G29: TH, AB | J29: Nat, Mech | K29: Whole house | L29: Measured for mechanical ones | O29: AMR study / Sharpe, McGill et al. 2019
B30: GBR / Scotland | C30: VentStd (STRATH) | D30: Sharpe et al. (2023) | E30: 16 | F30: https://www.gov.scot/publications/research-identify-changes-guidance-standard-3-14-ventilation-2015-effective-improving-ventilation-indoor-air-quality/ | G30: various | H30: new construction (15), Passivhaus (1) | J30: MEV, MVHR | K30: Whole house | L30: Measured for mechanical ones | M30: Flow rates (l/s) for trickle and boost | O30: Research to identify if changes to guidance in standard 3.14 ventilation in 2015 have been effective in improving ventilation and indoor air quality / Sharpe et al. / 2023
B31: DEU / Berlin, Leipzig | C31: - (TROPOS) | D31: Zhao et al. (2022) | E31: 40 | F31: https://onlinelibrary.wiley.com/doi/10.1111/ina.12773 | G31: various | J31: various | K31: LIV | L31: measured | O31: Particle number emission rates of aerosol sources in 40 German households and their contributions to ultrafine and fine particle exposure / 2017-2019
B32: DEU / Erfurt | C32: INGA (GSF) | D32: Schneider et al. (1999) | E32: 20 | F32: https://doi.org/10.1038/sj.jea.7500030 | G32: MFH | J32: Nat | O32: Vertical and horizontal variability of volatile organic compounds in homes in Eastern Germany / 1994
B33: NLD | C33: Care facilities (TUe) | D33: Kulve et al. (2017) | E33: 7 | F33: https://journal.gerontechnology.org/currentIssueContent.aspx?aid=2530 | G33: unknown | J33: Mech | O33: IAQ in Long-term care facilities
B34: FRA | C34: - (CETIAT) | D34: Laure Mouradian, Benoit Golaz | E34: 4 | F34: https://www.aivc.org/sites/default/files/AIVCProceedings_034.pdf | G34: various | J34: Mech | K34: air inlets / air outlet | L34: measured | O34: Measurment of particles in French houses with different filters / Mouradian Golaz
B35: AUT | C35: Lueftung 3.0 (IBO) | D35: Wallner et al. (2014) | E35: 120 | F35: https://pubmed.ncbi.nlm.nih.gov/26561823/ | G35: various | H35: LEH or Passive Houses | J35: Win, MVHR | K35: roomwise | L35: Tracer gas and FlowFinder | M35: Snapshot values | O35: Lueftung 3.0 / Tappler et. al. / 2014
B36: NOR / Trondheim | C36: ZEN (NTNU) | D36: Alonso et al. (2021) | E36: 21 | F36: https://www.sciencedirect.com/science/article/pii/S0360132322008101 https://www.e3s-conferences.org/articles/e3sconf/pdf/2021/22/e3sconf_hvac2021_01002.pdf | G36: various | H36: unknown | I36: unknown | J36: various | O36: ZEN / Justo Alonso / 2020
B37: PRT / Porto | C37: - (PUV) | D37: Ricardo Almeida, Eva Barreira | E37: 3 | G37: various | H37: regular building stock | I37: unknown | J37: various | K37: for each room | L37: Tracer gas measurement (CO2) | M37: Snapshot values | O37: Ventilation strategies,CO2 concentration and relative humidity monitoring in residential buildings
B38: ESP / Madrid | C38: CISC (IETCC) | D38: Sonia Garcia | E38: 12 | F38: https://doi.org/10.3989/ic.6447 https://doi.org/10.20868/UPM.thesis.80533 | G38: MFH, AB | H38: regular building stock | I38: unknown | J38: Nat, Win | O38: IAQ conditions and ventilation systems in existing buildings in Madrid
B39: ITA / Ferrara, Medolla | C39: - (UNIFE) | D39: Pietrogrande et al. (2021) | E39: 2 | F39: https://www.mdpi.com/1660-4601/18/8/4060 | G39: AB | H39: energy efficient house | J39: various | O39: IAQ during periods close to Italian COVID-19 Lockdown / Pietrogrande et al. / 2021
B40: ITA / Bari | C40: - (ARPA) | D40: De Gennaro et al. (2015) | E40: 6 | F40: https://www.mdpi.com/1660-4601/13/1/78 | G40: SFH | J40: unknown | O40: Homes with Fireplaces orWood Stoves / de Gennaro et al. / 2015
B41: ITA / Lodi | C41: - (UNIMI) | D41: Cattaneo et al. (2011) | E41: 60 | F41: https://pubmed.ncbi.nlm.nih.gov/21699563/ | G41: SFH | J41: unknown | L41: AER determined from the decay of indoor CO | O41: Airborne particulate matter and gaseous air pollutants in residential structures in Lodi province, Italy / Cattaneo et al. / 2011
B42: SGP | C42: - (NTU) | D42: Zhou et al. (2013) | E42: 5 | F42: https://www.sciencedirect.com/science/article/pii/S036013231500195X | G42: unknown | H42: regular building stock | I42: varies | J42: various | K42: For each room where pollutant was measured | L42: Regression analysis from CO2 measurements | M42: Avg, Med, P5, P25, P75, P95 for each dwelling | O42: Particle exposure during the 2013 haze in Singapore: Importance of the built environment / Zhou et al. / 2015
B43: AUS / Melbourne | C43: - (Monash University) | D43: Kang et al. (2021) | E43: 12 | F43: https://www.sciencedirect.com/science/article/pii/S0360132321001153 | G43: AB | H43: Passive House | I43: 0.6 ACH (assumed because Passive House standard) | J43: MVHR | K43: Whole house | L43: Ventilation design values | M43: Avg, Med, P5, P25, P75, P95 for each dwelling | O43: IAQ in passivehaus building
B44: ESP / Pamplona, Seville | C44: ClimateReady (UNAV) | D44: Aurora Monge-Barrio | E44: 23 | G44: MFH | H44: varied (3 built periods) | I44: varied (3 built periods) | J44: various | O44: ClimateReady Project. IAQ in dwellings with different built periods
B45: AUT / Innsbruck | C45: Sinfonia (UIBK) | D45: Bliem (2021) | E45: 200 | F45: http://ulb-dok.uibk.ac.at/ulbtirolhs/5848129 | G45: MFH | H45: Energy-renovated (EnerPhit) | J45: Win, MVHR | O45: Sinfonia / W. Streicher / 2021
B46: CHL | C46: Fondecyt Iniciación (UC) | D46: Constanza Molina | E46: 32 | G46: unknown | J46: unknown | O46: Fondecyt Iniciación 22110965
B47: FRA | C47: ALLO (ULR) | D47: Marc Abadie | E47: 6 | G47: unknown | J47: Hyb | O47: Allo study (La Rochelle)
B48: IRL | C48: ALIVE (UGA) | D48: James McGrath, Ibrahim Alhindawi | E48: 9 | G48: SFH | J48: Nat | O48: ALIVE (Galway)
B49: IRL | C49: ARDEN (UGA) | D49: Coggins et al. (2022) | E49: 26 | F49: https://doi.org/10.1016/j.buildenv.2022.109236 https://doi.org/10.1016/j.buildenv.2024.111637 | G49: SFH | J49: Win, Mech | O49: ARDEN (Galway)
B50: IRL | C50: VALIDate (MU) | D50: James McGrath | E50: 87 | G50: SFH, TH, AB | J50: various | O50: VALIDate (Galway)
B51: CHE | C51: Buren (Zehnder) | D51: Bart Cremers | E51: 4 | G51: MFH | J51: Win, MVHR | O51: Buren House
B52: NLD | C52: PH renovation (TU/e) | D52: Marcel Loomans | E52: 10 | F52: https://cordis.europa.eu/project/id/260058 | G52: TH | J52: MVHR | O52: Passiv House renovation project
C55: Institution Akronyms | G55: Type of building | J55: Vent type
C56: UC: Pontificia Universidad Católica de Chile | G56: SFH: Single family house | J56: Window: Window airing (not designed)
C57: UIBK: University of Innsbruck, Austria | G57: TH: Terraced house | J57: Natural: Natural ventilation (designed)
C58: LBNL: Lawrence Berkeley National Laboratory, USA | G58: MFH: Multi-family house | J58: Hyb: Hybrid/mixed mode ventilation
C59: WSU: Waschington State University, USA | G59: AB: Apartment block | J59: Mech: Mechanical ventilation
C60: SUT: Slovak University of Technology | G60: various | J60: MVHR: balanced mechanical ventilation with hear recovery
C61: IVL: IVL Svenska Miljöinstitutet AB, Sweden | G61: Undefined/Not known | J61: MEV: mechanical extract ventilation
C62: GSA: Glasgow School of Art, UK
C63: STRATH: University of Strathclyde, UK
C64: TUe: Eindhoven University of Technology, Netherlands
C65: IBO: IBO Innenraumanalytik OG, Austria
C66: CETIAT: Le Centre Technique des Industries Aérauliques et Thermiques, France
C67: NTNU: Norwegian University of Science and Technology
C68: PUV: Polytechnic University of Viseu, Portugal
C69: UNAV: Universidad de Navarra, Spain
C70: ULR: La Rochelle Universite, France
C71: UGA: University of Galway, Irland
C72: MU: Maynooth University, Irland
C73: IETCC: Eduardo Torroja Institute for Construction Sciences, Spain
... C75: GSF: National Research Center for Environment and Health, Germany

Sheet Meas_Details
A1: Study Details | C1: Pollutant Measurements | G1: Data available
A2: Project Name/Acronym (Institution) | B2: Reference/Contact | C2: Pollutants | D2: Locations | E2: Method/Device | F2: Available Data
A3: =Bld_Vent_Details!C3 -> Kanama (Cerema) | B3: =Bld_Vent_Details!D3 -> Gaelle Guyot | C3: CO2 | D3: AMB, KIT, LIV, BED | E3: NDIR | F3: TS (10 min)
C4: R.H. | D4: AMB, KIT, LIV, BED | E4: Non-condensing sensor | F4: TS (10 min)
C5: HCHO | D5: KIT, BED | E5: Optical reading on a nanoporous adsorbent | F5: TS (10 min)
C6: VOC (Light) | D6: KIT, BED | F6: TS (1h)
C7: PM2.5 | D7: AMB, KIT, LIV, BED | E7: Airvisual Node (Light scattering) | F7: TS (1 h)
C8: PM (0.3/0.5/1/10 microm) | D8: AMB, KIT, LIV, BED | E8: GRIMM laser beam optical particle counter | F8: TS (10 min)
A9: =Bld_Vent_Details!C4 -> HENGH (LBNL) | B9: =Bld_Vent_Details!D4 -> Singer et al. (2020) | C9: CO2 | D9: AMB, LIV, BED | E9: Extech SD-800 | F9: TS (10 s to 15 min) | G9: https://datadryad.org/dataset/doi:10.7941/D1ZS7X
C10: NO2 | D10: AMB, LIV | E10: Aeroqual Series 500 | F10: TS (2-3 min indoor 17 min outdoor) | G10: https://public.tableau.com/app/profile/meghna.thomas/viz/CaliforniaNewHomesIndoorAirQualityStudy/CaliforniaNewHomesHomePage
C11: PM2.5 | D11: AMB, LIV | E11: BT-645 photometer indoors and BT-642 outdoor | F11: TS (1-3 min)
C12: HCHO | D12: AMB, LIV, BED | E12: Gray Wolf FM-801 (Shinyei Multimode) | F12: TS (30 min)
A13: =Bld_Vent_Details!C5 -> LIA (LBNL) | B13: =Bld_Vent_Details!D5 -> Zhao et al. (2020) | C13: CO2 | D13: AMB, LIV, BED | E13: Extech SD-800 | F13: TS (10 s to 15 min) | G13: https://datadryad.org/dataset/doi:10.7941/D1T050
C14: NO2 | D14: AMB, LIV | E14: Clarity Node | F14: TS (2-3 min indoor 17 min outdoor)
C15: PM2.5 | D15: AMB, LIV | E15: Clarity Node, TSi Dust Trak II-8530, Thermo pDR 1500, IQAir | F15: TS (1-3 min)
C16: HCHO | D16: LIV, BED | E16: Gray Wolf FM-801 (Shinyei Multimode) | F16: TS (30 min)
A17: =Bld_Vent_Details!C6 -> Mesqualair (EPFL, HEIA) | B17: =Bld_Vent_Details!D6 -> Shen Yang et al. (2020) | C17: VOC (comments) | D17: BED | E17: passive badge sampler for VOCs (carbon molecular sieve, Anasorb 747) | F17: integral value for each dwelling
C18: HCHO | D18: BED | E18: passive sampler 2,4-dinitrophenylhydrazine impregnated silical gel | F18: integral value for each dwelling
C19: Radon | D19: LAU | E19: passive sampling dosimeter (Radtrak2, Sweden) | F19: integral value for each dwelling
C20: Fungi | D20: LAU | E20: surface swabs + settled dust | F20: integral value for each dwelling
A21: =Bld_Vent_Details!C7 -> Lodenareal (UIBK) | B21: =Bld_Vent_Details!D7 -> Rojas et al. (2015) | C21: CO2 | D21: LAU, BED, AMB | E21: NDIR sensor (EE80, E+E Elektronik) | F21: TS (5 min)
C22: R.H. | D22: LAU, BED | E22: R.H. sensor | F22: TS (5 min)
A23: =Bld_Vent_Details!C8 -> RENAM (UC) | B23: =Bld_Vent_Details!D8 -> Constanza Molina | C23: CO2 | D23: LIV | E23: Netatmo | F23: TS (30 min)
C24: R.H. | D24: LIV, AMB | E24: Netatmo | F24: TS (30 min)
C25: PM2.5 | D25: LIV | E25: Plantower | F25: TS (30 min)
A26: =Bld_Vent_Details!C9 -> Indoor air project (CSIRO) | B26: =Bld_Vent_Details!D9 -> Galbally et al. (2011) | C26: R.H. | D26: AMB, LIV, BAT | F26: TS (30 min)
C27: O3 | D27: AMB
C28: CO2 | D28: AMB | F28: TS (30 min)
C29: CO | D29: AMB | F29: TS (30 min)
C30: HCHO | D30: AMB
C31: PM2.5 | D31: AMB, KIT | F31: TS (30 min)
C32: PM (comments) | D32: AMB
C33: NO2 | D33: AMB
C34: NOx | D34: AMB, KIT
C35: TVOC | D35: AMB
C36: VOC (comments) | D36: AMB
C37: Fungi | D37: AMB
A38: =Bld_Vent_Details!C10 -> High Perf. Homes (LBNL) | B38: =Bld_Vent_Details!D10 -> Less et al. (2015) | C38: CO2 | D38: BED | E38: Extech SD800 | F38: TS (1 min)
C39: CO | D39: KIT | E39: Lascar, USB-EL-CO300 | F39: TS (1 min)
C40: NO2 | D40: AMB, BED, KIT | E40: Ogawa NOx/NO2 sampler
C41: PM2.5 | D41: KIT | E41: Dylos DC1700 | F41: TS (1 min)
C42: PM (Ultrafines <0.1 micron during coiking events) | D42: KIT | E42: TSI P-Track 8525 | F42: TS (1 min)
C43: VOC (Aldehydes: formaldehyde acetaldehyde) | D43: AMB, BED, KIT | E43: Waters, Sep-Pak XPoSure
C44: NOx | D44: AMB, BED, KIT | E44: Ogawa NOx/NO2 sampler
A45: =Bld_Vent_Details!C11 -> Apt. Retrofits (LBNL) | B45: =Bld_Vent_Details!D11 -> Noris et al. (2013) | C45: CO2 | D45: AMB, LAU | E45: Langan Model L76v
C46: CO | D46: AMB, LAU | E46: Langan Model L76v
C47: PM2.5 | D47: AMB, LAU | E47: TSI dustrack
C48: NO2 | D48: AMB, LAU, BED | E48: Ogawa NOx/NO2 sampler
C49: VOC (Fomaldehyde, acetaldehyde and VOCS) | D49: AMB, LAU | E49: Waters, Sep-Pak XPoSure
A50: =Bld_Vent_Details!C12 -> Weather influence (WSU) | B50: =Bld_Vent_Details!D12 -> Huangfu et al. (2019) | C50: O3 | D50: AMB, LAU | E50: Teledyne
C51: NOx | D51: AMB, LAU | E51: Teledyne
C52: CO | D52: AMB, LAU | E52: Teledyne
C53: CO2 | D53: AMB, LAU | E53: K30 sensair
C54: VOC (comments) | D54: AMB, LAU | E54: PTR-MS, Ionicon Analytik
C55: PM2.5 | D55: AMB, LAU | E55: TSI dustrack & Dylos
A56: =Bld_Vent_Details!C13 -> Particle Penetration (UT Austin) | B56: =Bld_Vent_Details!D13 -> Stephens and Siegel (2012) | C56: PM2.5 | D56: AMB, LIV | E56: TSI P-Trak Model 8525 | F56: TS (1 min)
C57: PM (comments) | D57: AMB, LIV | F57: TS (1 min)
A58: =Bld_Vent_Details!C14 -> IECH (DTU) | B58: =Bld_Vent_Details!D14 -> Bekö et al. (2019) | C58: CO2 | D58: BED | E58: NDIR sensor (Vaisala) | F58: TS (5 min)
C59: R.H. | D59: BED | E59: HOBO
A60: =Bld_Vent_Details!C15 -> Wildfires (WSU) | B60: =Bld_Vent_Details!D15 -> Kirk et al. (2017) | C60: VOC (comments) | D60: AMB, LIV | E60: PTR-MS
C61: CO2 | D61: AMB, LIV | E61: LiCOR 840A, Los Gatos UGGA
C62: O3 | D62: AMB, LIV | E62: TECO 48, 2B Tech. 205
C63: NO2 | D63: AMB, LIV | E63: TECO 42C, 2B Tech. 405
C64: NOx | D64: AMB, LIV | E64: TSI dustrack
C65: CO | D65: AMB, LIV | E65: Monitor Labs. Alphasense
C66: PM2.5 | D66: AMB, LIV | E66: TSI dustrack
A67: =Bld_Vent_Details!C16 -> CISBO (DTU) | B67: =Bld_Vent_Details!D16 -> Bekö et al. (2013) | C67: CO2 | D67: LIV, BED | E67: NDIR sensor (Vaisala) | F67: TS (5 min)
C68: R.H. | D68: LIV, BED | E68: HOBO | F68: TS (5min)
C69: PM (10-300 nm UFP) | D69: LIV | E69: Philips Aerasense | F69: TS (16 s)
A70: =Bld_Vent_Details!C17 -> Swedish housing stock (IVL) | B70: =Bld_Vent_Details!D17 -> Langer and Bekö (2013) | C70: R.H. | D70: LAU | E70: SatelLite20 TH sensors | F70: TS (15 min)
C71: HCHO | D71: LAU | E71: UmeX-100
C72: TVOC | D72: LAU | E72: Tenax TA adsorbent
C73: VOC (comments) | D73: LAU | E73: Tenax TA adsorbent
C74: NO2 | D74: LAU | E74: Palmes Tube technique
A75: =Bld_Vent_Details!C18 -> Swedish passive house (IVL) | B75: =Bld_Vent_Details!D18 -> Langer et al. (2014) | C75: R.H. | D75: LAU | E75: Hobo | F75: TS (5 min)
C76: NO2 | D76: LAU, AMB | E76: IVL passive/diffusive samplers
C77: O3 | D77: LAU, AMB | E77: IVL passive/diffusive samplers
C78: HCHO | D78: LAU, AMB | E78: DSD-DNPH Aldehyde Diffusive sampling Device
C79: VOC (comments) | D79: LAU, AMB | E79: Tenax TA adsorbent
C80: TVOC | D80: LAU, AMB | E80: Tenax TA adsorbent
C81: CO2 | D81: BED | E81: Vaisala | F81: TS (5 min)
A82: =Bld_Vent_Details!C19 -> Renovation (SUT) | B82: =Bld_Vent_Details!D19 -> Földvary et al. (2017) | C82: CO2 | D82: BED | E82: Vaisala | F82: TS (5 min)
C83: R.H. | D83: BED, AMB | E83: Hobo | F83: TS (5 min)
C84: NO2 | D84: LIV, AMB | E84: IVL diffusive samplers
C85: TVOC | D85: LIV | E85: Tenax TA adsorbent
C86: VOC (comments) | D86: LIV | E86: Tenax TA adsorbent
C87: HCHO | D87: LIV | E87: DSD-DNPH Aldehyde Diffusive sampling Device
A88: =Bld_Vent_Details!C20 -> Clean Air, Low Energy (VITO) | B88: =Bld_Vent_Details!D20 -> Stranger et al. (2012) | C88: CO2 | D88: LIV, KIT
C89: R.H. | D89: LIV
C90: VOC (comments) | D90: LIV
A91: =Bld_Vent_Details!C21 -> Renovair (UGENT) | B91: =Bld_Vent_Details!D21 -> Jelle Laverge | C91: CO2 | D91: LIV, KIT
C92: R.H. | D92: LIV
C93: VOC (comments) | D93: LIV
A94: =Bld_Vent_Details!C22 -> My Healthy Home (UGENT) | B94: =Bld_Vent_Details!D22 -> Jelle Laverge | C94: CO2 | D94: LIV, KIT
C95: R.H. | D95: LIV
C96: VOC (comments) | D96: LIV
A97: =Bld_Vent_Details!C23 -> - (Renson) | B97: =Bld_Vent_Details!D23 -> De Maré et al. (2019) | C97: CO2 | D97: BED, KIT | E97: Healthbox 3.0
C98: R.H. | D98: BAT | E98: Healthbox 3.0
C99: VOC (comments) | D99: BAT | E99: Healthbox 3.0
A100: =Bld_Vent_Details!C24 -> - (Renson) | B100: =Bld_Vent_Details!D24 -> Ivan Pollet | C100: CO2 | D100: BED | E100: Healthbox 3.0
...
