Workbook

Sheet Pre-Scorecards Worksheet
A1: Use the pre-worksheet to collect information that may help with filling out the scorecards. | D1: Repository Name:
A2: DOI: 10.5281/zenodo.15122045 | D2: Repository Parent Organization:
A3: Repository Crisis Scorecards Instructions | C3: Date: | D3: Project:
A4: Descriptor | B4: Question | C4: Answer | D4: Resiliency Considerations
A5: Total metadata/data volume | B5: What is the total volume of metadata and data? | D5: The total volume of metadata and data can influence the ease and speed with which data and metadata can be replicated, and can be important to discuss when collaborating with other repositories for arranging backups. Having this information readily available can be useful in making these plans.
A6: Bandwidth availability | B6: How much bandwidth is available for upload and download? | D6: Knowing the available bandwidth can help in planning a schedule of data backups or planning for replication resources in the event of a crisis.
A7: Total irreplaceable datasets | B7: For how many datasets is this repository the primary (only?) archive? What datasets need to be prioritized because they can't be obtained elsewhere? | D7: Understanding the proportion of resources that are unique is important in evaluating the risk of loss of information. This can help in prioritizing efforts and time.
A8: Metadata schemas | B8: How many and which metadata schemas can be outputted?
A9: Dataset Packaging | B9: Is it possible to download an archive copy of all datasets with all metadata attached? | D9: Ex: Frictionless Data Package
A10: Data types | B10: Can datasets be regenerated in the case of loss? What data types are held, ex. observations, model analysis, others. | D10: In the case of a repository holding multiple projects or a wide variety of data types, it may be helpful to fill out multiple paragraphs or multiple scorecards for each project.
A11: Dynamic (near real-time) or static datasets | B11: Do you host dynamic datasets, and if so how often do they change?
A12: Sensitive data considerations | B12: What sensitivities are there around the data? (e.g., restricted data, indigenous data, etc) | D12: When setting up an alternate data host, consideration should be given to whether there are proprietary or sovereignty considerations that need to be accounted for (e.g. via restricted access log-in). In addition, any personally identifiable information (PII) should continue to be managed according to requirements/regulations and best data management & governance practices.
A13: Are metadata and data stored separately? | B13: What are the strategies for backups and how are data and metadata harmonized?
A14: Hosted Software Location | B14: What are critical cyberinfrastructure services such as databases and hardware maintenance, and are they administered on-premise or a commercial service managed elsewhere/software as a service (SAAS), such as in the cloud?
A15: Public Plans | B15: Are there links to public plans detailing disaster recovery, data migration, and repository shutdown? | D15: List webpages or DOIs to plans, ex: https://rda.ucar.edu/resources/docs/
A16: Service Level Agreements | B16: What, if any, are your service level agreements to keep and/or restore service during crisis and non-crisis periods?

Sheet Repository Resilience Scorecard
A1: The Repository Resilience Scorecard is used to help digital data repository staff assess crisis risks to their repository. A higher score is better. | L1: Repository Name:
A2: DOI: 10.5281/zenodo.15122045 | L2: Repository Parent Organization:
A3: Repository Crisis Scorecards Instructions | L3: Date: | N3: Project:
B4: Repository Descriptors | E4: Resiliency Metric | L4: Scenarios
E5: No resiliency | G5: More resiliency | H5: Fill in this column only! | L5: (Yes/No question to be asked, "No" = 0)
A6: Big Picture Question | B6: Descriptor | C6: Descriptor definition | E6: Class 1 | F6: Class 2 | G6: Class 3 | H6: User Entered Score. (Integers only) Score Range: 1 -Class 1 2 -Class 2 3 -Class 3 | I6: Suggested Weight (If score > 1) | J6: Weighted Score | L6: Scenario Weighted Score (Zeros are assigned to categories that would be impacted during a crisis) | M6: 1: Natural Disaster hits in less than 48 hours | N6: 2: Repository defunding by parent organization or primary funder, ex. government | O6: 3: Current cyberattack, cybercrime, or other loss of control over cyberinfrastructure | P6: 4: Loss of technical expertise critical to running repository
A8: Section Theme: Single Repository Dataset Replication
A9: This section is filled out from the viewpoint of the organization looking at its datasets. Datasets held by another organization in the same project (ICARUS at NSF NCAR vs UC Davis) must fill this out separately.
A10: How many dataset copies does the repository have? | B10: Total number of logical copies | C10: Number of discrete logical copies managed by the repository. RAID schemes are not a logical copy. | E10: One copy on one physical device | F10: Multiple copies on one physical device | G10: Multiple copies on multiple physical devices | I10: 1 | J10: =IF(H10>1,H10*I10,H10) -> 0 | L10: Could any logical copies survive the crisis? | M10: 0 | N10: 0 | O10: =J10 -> 0 | P10: =J10 -> 0
B11: Total number of storage medium types | C11: Digital storage medium physical devices includes: hard disk drives, solid state drives, tape drives, Blu-ray discs, cloud storage | E11: One type of storage medium | F11: Two types of storage medium | G11: Three or more types of storage medium | I11: 1 | J11: =IF(H11>1,H11*I11,H11) -> 0 | L11: Would any types of used storage medium survive the crisis? | M11: 0 | N11: 0 | O11: =J11 -> 0 | P11: =J11 -> 0
B12: Total number of offline copies | C12: Dataset copies that are held offline in an environment controlled, secure location to prevent bit rot or tampering. | E12: Zero offline copies | F12: One offline copy | G12: Two or more offline copies | I12: 2 | J12: =IF(H12>1,H12*I12,H12) -> 0 | L12: Could a secure offline copy be preserved and used after the crisis? | M12: =J12 -> 0 | N12: 0 | O12: =J12 -> 0 | P12: =J12 -> 0
B13: Total number of national repository facilities storing copies | C13: Facilities are managed by the repository and are geographically separated and grid separated, ex. Los Angeles, USA and Richmond, USA. | E13: One data facility | F13: Two data facilities, geographically separated | G13: Three or more data facilities, geographically separated | I13: 2 | J13: =IF(H13>1,H13*I13,H13) -> 0 | L13: Would a different data facility be able to maintain preserving and serving data during the crisis? | M13: =J13 -> 0 | N13: 0 | O13: =J13 -> 0 | P13: =J13 -> 0
B14: Total number of extranational repository facilities storing copies | C14: Facilities are managed by the repository and are geographically separated and grid separated, ex. Los Angeles, USA and Tokyo, Japan. The facilities could be self-owned or a commercial cloud service. | E14: Zero international data facilities | F14: One international data facility | G14: Two or more international data facilities | I14: 2 | J14: =IF(H14>1,H14*I14,H14) -> 0 | L14: Would a different data facility be able to maintain preserving and serving data during the crisis? | M14: =J14 -> 0 | N14: 0 | O14: =J14 -> 0 | P14: =J14 -> 0
G15: ="Section Total Raw Score. (Min="&Formulas!B4&", Max="&Formulas!C4&")" -> Section Total Raw Score. (Min=5, Max=15) | H15: =SUM(H10:H14) -> 0 | I15: ="Section Total Weighted Score. (Min="&Formulas!B4&", Max="&Formulas!D4&")" -> Section Total Weighted Score. (Min=5, Max=24) | J15: =SUM(J10:J14) -> 0 | L15: ="Section Total Weighted Scenario Score. (Min="&MIN(Formulas!K4:N4)&", Max="&Formulas!D4&")" -> Section Total Weighted Scenario Score. (Min=0, Max=24) | M15: =SUM(M10:M14) -> 0 | N15: =SUM(N10:N14) -> 0 | O15: =SUM(O10:O14) -> 0 | P15: =SUM(P10:P14) -> 0
A17: Section Theme: Repository Infrastructure
A18: Can the physical operations of the repository run smoothly when in a crisis? | B18: Repository Staff and Training | C18: Are there redundant staff and requisite training for the repository? Can staff cover for each other in case of unavailability? | E18: Each staff member is specialized and unable to do each other's role, or there is only one staff member. | F18: There is one staff member in each role and staff in each role can cover for staff in other roles. | G18: There are multiple staff members for each role and staff in each role can cover for staff in other roles. | I18: 2 | J18: =IF(H18>1,H18*I18,H18) -> 0 | L18: Are staff able to perform their duties? | M18: =J18 -> 0 | N18: =J18 -> 0 | O18: =J18 -> 0 | P18: 0
B19: Repository Supported Virtual Data Transfer | C19: Do bandwidth limitations impede data transfer options for critical datasets from the repository? | E19: Data volume is too large to effectively transfer all data within one month. | F19: Data volume is too large to effectively transfer all data within one week. | G19: Data volume is small enough to effectively transfer all data within one day. | I19: 1 | J19: =IF(H19>1,H19*I19,H19) -> 0 | L19: Is it possible to virtually move data in the time remaining? | M19: =J19 -> 0 | N19: =J19 -> 0 | O19: 0 | P19: =J19 -> 0
B20: Repository Supported Physical Data Transfer | C20: What is the capability to send datasets physically in an emergency, ex. hard drives in a van? | E20: There are no plans or training to physically move datasets, and/or it would take more than 48 hours. | F20: There is capability to break down and physically move datasets in two days notice. | G20: There is capability to break down and physically move datasets in one hour notice. | I20: 1 | J20: =IF(H20>1,H20*I20,H20) -> 0 | L20: Is it possible to physically move data in the time remaining? | M20: =IF(J20=1,0,J20) -> 0 | N20: =J20 -> 0 | O20: =J20 -> 0 | P20: =J20 -> 0
B21: Physical Plant Infrastructure Capability | C21: How stable are power, HVAC, plumbing, building maintenance? (Should this question be split further?) | E21: There are no redundant systems at any level. | F21: Some systems have redundancy, others don't. | G21: There is redundant power/HVAC/emergency power generation for 24 hours or more. | I21: 2 | J21: =IF(H21>1,H21*I21,H21) -> 0 | L21: Will the physical plant infrastructure keep cyberinfrastructure running? | M21: =J21 -> 0 | N21: 0 | O21: =J21 -> 0 | P21: =J21 -> 0
G22: ="Section Total Raw Score. (Min="&Formulas!B5&", Max="&Formulas!C5&")" -> Section Total Raw Score. (Min=4, Max=12) | H22: =SUM(H18:H21) -> 0 | I22: ="Section Total Weighted Score. (Min="&Formulas!B5&", Max="&Formulas!D5&")" -> Section Total Weighted Score. (Min=4, Max=18) | J22: =SUM(J18:J21) -> 0 | L22: ="Section Total Weighted Scenario Score. (Min="&MIN(Formulas!K5:N5)&", Max="&Formulas!D5&")" -> Section Total Weighted Scenario Score. (Min=3, Max=18) | M22: =SUM(M18:M21) -> 0 | N22: =SUM(N18:N21) -> 0 | O22: =SUM(O18:O21) -> 0 | P22: =SUM(P18:P21) -> 0
A24: Section Theme: Routine Operations
A25: Are processes and documentation in place to ensure resiliency on a routine basis? | B25: Backup Schedule | C25: How often are backups performed of the repository? | E25: No regular updates or backups, or no device to backup to. | F25: Backups are manual, irregular, and on the same device, and/or backups are not tested regularly. | G25: Backups occur regularly and to one or more devices. Backups are tested on a regular schedule. | I25: 1 | J25: =IF(H25>1,H25*I25,H25) -> 0 | L25: Can backups be restored from after the crisis? | M25: 0 | N25: 0 | O25: =J25 -> 0 | P25: =J25 -> 0
B26: Service Level Agreements | C26: Are there Service Level Agreements (SLAs) in place to communicate to users when they can expect services to be resumed in case of problems? | E26: No SLAs are defined. | F26: SLAs are defined for some operations. | G26: SLAs are defined and publicly accessible. | I26: 1 | J26: =IF(H26>1,H26*I26,H26) -> 0 | L26: Can SLAs and their deadlines be found by the public and followed during or after the crisis? | M26: =J26 -> 0 | N26: 0 | O26: 0 | P26: 0
B27: Continued Training/Professional Development | C27: Do staff have regular training opportunities? | E27: No required training for repository work or time allocated for staff improvement. | F27: Required training for staff but no time/funds for staff improvement via optional conferences, trainings, or certifications. | G27: Required training for staff and time/funds for staff improvement via optional conferences, trainings, or certifications. | I27: 1 | J27: =IF(H27>1,H27*I27,H27) -> 0 | L27: Can training continue after the crisis? | M27: =J27 -> 0 | N27: 0 | O27: =J27 -> 0 | P27: =J27 -> 0
G28: ="Section Total Raw Score. (Min="&Formulas!B6&", Max="&Formulas!C6&")" -> Section Total Raw Score. (Min=3, Max=9) | H28: =SUM(H25:H27) -> 0 | I28: ="Section Total Weighted Score. (Min="&Formulas!B6&", Max="&Formulas!D6&")" -> Section Total Weighted Score. (Min=3, Max=9) | J28: =SUM(J25:J27) -> 0 | L28: ="Section Total Weighted Scenario Score. (Min="&MIN(Formulas!K6:N6)&", Max="&Formulas!D6&")" -> Section Total Weighted Scenario Score. (Min=0, Max=9) | M28: =SUM(M25:M27) -> 0 | N28: =SUM(N25:N27) -> 0 | O28: =SUM(O25:O27) -> 0 | P28: =SUM(P25:P27) -> 0
A30: Section Theme: Software
A31: Is the software currently being used to manage datasets integral to the accessibility of the holdings? Could this software be replaced with other software easily when considering potential costs to use and maintain the software, and use and maintain the holdings? Is the software publicly accessible outside of the repository? | B31: Software as Requirement for Interpreting Datasets | C31: Is the software a critical piece needed to understand and interact with the data and metadata? Ex. NetCDF library and tools | E31: The software is integral to using the data and metadata efficiently, and datasets would not be accessible without the software. | F31: There are multiple pieces of software that can be used to interact with the data and metadata that are interchangeable. | G31: The dataset can be made available as text (e.g. PDF file or CSV or just a plain printout or even photograph). | I31: 1 | J31: =IF(H31>1,H31*I31,H31) -> 0 | L31: Is the primary software or alternatives available during the crisis? | M31: =J31 -> 0 | N31: =J31 -> 0 | O31: =J31 -> 0 | P31: =J31 -> 0
B32: Software Packaging and Backup Format | C32: How are the systems software delivered by the developers and backed up by the repository? Is it possible for the public to get the software? | E32: The software is not compiled by the developer to be delivered as a binary executable, and may be multiple files spread across directories. | G32: The software is packaged by the developer and possibly held in software repository indices. The repository has made images and backups of their current software and configuration, and can redeploy with minimal downtime. | I32: 1 | J32: =IF(H32>1,H32*I32,H32) -> 0 | L32: Is the technical expertise to package the software systems the repository runs on available? | M32: =J32 -> 0 | N32: =J32 -> 0 | O32: =J32 -> 0 | P32: 0
B33: Software Availability and Licensing | C33: Are the systems software open source and unencumbered by licenses? If proprietary, how easy is it to acquire a license? | E33: The software is proprietary and it is hard or impossible to get a license to use it. | F33: The software is open source but has been abandoned/no updates to it in a while, OR the software is proprietary but still being supported by a company. | G33: The software is open source and has an active community supporting it. | I33: 2 | J33: =IF(H33>1,H33*I33,H33) -> 0 | L33: Is the technical expertise creating the software still available? | M33: =J33 -> 0 | N33: =J33 -> 0 | O33: =J33 -> 0 | P33: 0
B34: Ease of Software Deployment | C34: Is the software well documented and easy to install? Are there images or virtual machines to ease deployment? Are there sane initial configurations to use the software? | E34: There is very little code and supporting documentation. Source code is difficult to understand and manage or not available. | F34: Source code is well documented and easy to install by a technical user. Configuration may take some time. There is very little support for non-technical users to deploy the software. | G34: Source code is well documented and easy to install. There are images available for deployment by non-technical users. | I34: 1 | J34: =IF(H34>1,H34*I34,H34) -> 0 | L34: Can the software be installed by someone with no experience in an acceptable timeline? | M34: =J34 -> 0 | N34: =J34 -> 0 | O34: =J34 -> 0 | P34: 0
B35: Maintainability of Software | C35: How easy is it to maintain and extend the code? | E35: The software is written in a language(s) that are not as popular and/or leverage unmaintained or expensive libraries. Code discipline is weak and the codebase would be greatly improved by a rewrite. | F35: The software is in a common language and has decent code discipline, documentation, and testing. The software may rely on some libraries with weak support, or need some code changes to be supported by more robust communities. | G35: The software is in a common language and does not require niche software libraries and licensed compilers to execute. Code discipline is good and there is thorough test coverage of the software. | I35: 1 | J35: =IF(H35>1,H35*I35,H35) -> 0 | L35: Can the software be maintained by someone with no experience in an acceptable time frame? | M35: =J35 -> 0 | N35: =J35 -> 0 | O35: =J35 -> 0 | P35: 0
B36: Ease of Use of Software | C36: How easy is it for an experienced non-programming user to work with the software to curate and access datasets? | E36: Curators and users require a long training period to use the software. Documentation is lacking or non-existent. Programmatic access is lacking or non-existent. | F36: Curators or users might have trouble using the software. Documentation exists but could be filled out. Some defaults are provided when performing common actions. | G36: User Interface and User Experience of the software is polished for all users. Documentation is clear and thorough. Sane defaults and examples are available for the software. Programmatic access is well documented and tested. | I36: 1 | J36: =IF(H36>1,H36*I36,H36) -> 0 | L36: Can the software be used by someone with no experience in an acceptable time frame? | M36: =J36 -> 0 | N36: =J36 -> 0 | O36: =J36 -> 0 | P36: 0
G37: ="Section Total Raw Score. (Min="&Formulas!B7&", Max="&Formulas!C7&")" -> Section Total Raw Score. (Min=6, Max=18) | H37: =SUM(H31:H36) -> 0 | I37: ="Section Total Weighted Score. (Min="&Formulas!B7&", Max="&Formulas!D7&")" -> Section Total Weighted Score. (Min=6, Max=21) | J37: =SUM(J31:J36) -> 0 | L37: ="Section Total Weighted Scenario Score. (Min="&MIN(Formulas!K7:N7)&", Max="&Formulas!D7&")" -> Section Total Weighted Scenario Score. (Min=1, Max=21) | M37: =SUM(M31:M36) -> 0 | N37: =SUM(N31:N36) -> 0 | O37: =SUM(O31:O36) -> 0 | P37: =SUM(P31:P36) -> 0
A39: Section Theme: Cybersecurity and Access Control
A40: Are best practices in place to ensure cyber security? | B40: Logging and Change Monitoring | C40: How are changes tracked or logged? Can changes be rolled-back? What processes exist to ensure unauthorized changes are noted, alerted, and corrected? | E40: There is no automated logging activated at the OS or repository systems level, and manual logging of actions is ad hoc. | F40: There is automated logging at the OS level. There may be automated logging at the repository systems level, but monitoring of logs are ad hoc and infrequent. Logs may not be comprehensive, understandable, or easily accessible. | G40: There is real time logging with alerts at the operating systems level and repository systems level. Alerts will notify staff of anomalous changes such as increased deletions or access. Logging is available for all facilities and are monitored before an update of off-site copies. | I40: 1 | J40: =IF(H40>1,H40*I40,H40) -> 0 | L40: Is logging still working and being monitored during the crisis to ensure normal operations are occuring? | M40: =J40 -> 0 | N40: =J40 -> 0 | O40: 0 | P40: 0
B41: Access Control and Deletion Privileges | C41: Are permissions appropriately scoped for each account? Are policies in place to limit accidental or hostile access to critical systems? Are editing and deletion privileges restricted to authorized users and clearly documented? | E41: Staff permissions are not differentiated. There are no clear policies to follow for deletion of deposits, and no logs or records of deletions exist. | F41: There are some accounts with higher permissions allowed to delete data. Some policies may be defined for deletion of data, but no additional safeguards. | G41: There are some accounts with higher permissions for modifying datasets and systems. There is multi factor authentication required for authentication and executing critical tasks like deletion of data. Logs around stopping of systems and deletion of deposits are reviewed periodically. | I41: 1 | J41: =IF(H41>1,H41*I41,H41) -> 0 | L41: Are permissions being maintained and authorized access and actions being controlled to ensure normal operations during the crisis? | M41: =J41 -> 0 | N41: =J41 -> 0 | O41: 0 | P41: 0
B42: Cybersecurity Staffing | C42: Are there dedicated roles for cybersecurity, and how many are there in the repository and larger organization? Do cybersecurity personnel have appropriate qualifications? | E42: There are no cybersecurity professionals on staff or available through a larger organization. | F42: There are cybersecurity professionals available through a larger organization. | G42: There are cybersecurity professionals available through a larger organization and a cybersecurity professional on staff. | I42: 1 | J42: =IF(H42>1,H42*I42,H42) -> 0 | L42: Would cybersecurity staff be able to mitigate issues of the crisis? | M42: 0 | N42: =J42 -> 0 | O42: =J42 -> 0 | P42: 0
G43: ="Section Total Raw Score. (Min="&Formulas!B8&", Max="&Formulas!C8&")" -> Section Total Raw Score. (Min=3, Max=9) | H43: =SUM(H40:H42) -> 0 | I43: ="Section Total Weighted Score. (Min="&Formulas!B8&", Max="&Formulas!D8&")" -> Section Total Weighted Score. (Min=3, Max=9) | J43: =SUM(J40:J42) -> 0 | L43: ="Section Total Weighted Scenario Score. (Min="&MIN(Formulas!K8:N8)&", Max="&Formulas!D8&")" -> Section Total Weighted Scenario Score. (Min=0, Max=9) | M43: =SUM(M40:M42) -> 0 | N43: =SUM(N40:N42) -> 0 | O43: =SUM(O40:O42) -> 0 | P43: =SUM(P40:P42) -> 0
A45: Section Theme: Sustainability
A46: What agreements and plans are in place to preserve the mission of the repository in the face of crisis or after cessation of activities? | B46: Data or Systems Modernization or Migration Plans | C46: Does the repository have plans for the modernization of non versionless (ex. RAW image format, text) datasets and systems to new formats, tools, audiences? | E46: Datasets/data systems are frozen, no data modernization capacity. | F46: Dataset/data systems modernization tools and/or tutorials are available, but new versions of datasets are not hosted. | G46: Datasets/data systems are regularly modernized with links to tools for accessing them. There is input from the community on how modernization should be done. | I46: 2 | J46: =IF(H46>1,H46*I46,H46) -> 0 | L46: Can data modernization or migration happen after the crisis? | M46: =J46 -> 0 | N46: 0 | O46: =J46 -> 0 | P46: 0
...

Sheet Sheet1

Sheet Data Impact and Recovery Scorec
A1: The Data Impact and Recovery Scorecard (DIRS) is used to determine metadata resiliency and societal impacts. A higher score is better/more impactful. | L1: Repository Name:
A2: DOI: 10.5281/zenodo.15122045 | L2: Repository Parent Organization:
A3: Repository Crisis Scorecards Instructions | L3: Date: | N3: Project:
B4: Repository Descriptors | E4: Resiliency Metric
E5: No resiliency | G5: More resiliency | H5: Fill in this column only!
A6: Big Picture Question | B6: Descriptor | C6: Descriptor definition | E6: Class 1 | F6: Class 2 | G6: Class 3 | H6: User Entered Score. (Integers only) Score Range: 0 -N/A (Impact only) 1 -Class 1 2 -Class 2 3 -Class 3 | I6: Suggested Weight (If score > 1) | J6: Weighted Score
A8: Section Theme: Data and Metadata
A9: Can the data be reconstructed if the central servers are offline? Look at https://metadata-health-ui.vercel.app/ for a summary of repository metadata health.
B10: Data Management Plans | C10: Is there a data management plan (DMP) attached to the dataset that describes all related publications and datasets? | E10: There is no DMP attached to the dataset. | F10: There is a incomplete or inaccurate DMP attached to the dataset. It doesn't address all the places where the dataset is described. | G10: There is a DMP attached to the dataset, and it describes other related publications and datasets. | I10: 1 | J10: =IF(H10>1,H10*I10,H10) -> 0
A11: Would it be straightforward for others to understand and reuse your data and metadata? | B11: PID Coverage and Landing Pages | C11: Does each resource have a persistent identifier (PID)? Does each resource have its own landing page? | E11: No PIDs used in this repository; no landing pages or sitemap. | F11: There are either PIDs and landing pages or sitemaps but not both. | G11: Every resource has a PID and landing page, and the repository has a sitemap including all resources. | I11: 2 | J11: =IF(H11>1,H11*I11,H11) -> 0
B12: Metadata Completeness | C12: How complete are the metadata currently? How complete do they need to be for someone to reuse/reconstruct the data/metadata? e.g., OAIS reference model completeness | E12: Every resource has incomplete metadata for required and optional fields. | F12: All resources have complete metadata for required fields, some have metadata for optional fields. | G12: All resources have complete metadata for required fields and optional fields. | I12: 2 | J12: =IF(H12>1,H12*I12,H12) -> 0
B13: FAIR Compliance | C13: In particular, does the (meta)data follow recognised standards and are all semantic resources used to describe the datasets such as vocabularies, metadata schemas, ontologies, etc.? | E13: FAIR is not considered. | F13: Dataset considers FAIR, but is only human readable. | G13: Dataset is as FAIR compliant as possible including machine actionable. | I13: 1 | J13: =IF(H13>1,H13*I13,H13) -> 0
B14: CARE Compliance or Ethical Usage Considerations | C14: Are ethical considerations taken regarding a dataset, including ownership and governance of the dataset by and for the people the data comes from? | E14: Datasets could have direct impact on people but have not been considered through an ethical framework, such as CARE principles. | F14: Dataset has considered ethical frameworks and indigenous community standards or other ethical considerations implemented, such as Local Context notices. | G14: Dataset has ethical frameworks implemented and metadata allows for fine grained data governance, and for ethical metadata to persist with the datasets; or dataset has considered ethical frameworks and they are not applicable. | I14: 1 | J14: =IF(H14>1,H14*I14,H14) -> 0
B15: Data Deprecation Plans | C15: Does the repository have a process for evaluating and deprecating datasets if needed? | E15: Datasets are never evaluated for deprecation. | F15: Datasets are deprecated ad hoc upon request from depositors. No formal process exists for evaluating dataset deprecation. | G15: Datasets are periodically evaluated for deprecation according to a published schedule, and feedback is solicited from the community as to appropriateness. | I15: 1 | J15: =IF(H15>1,H15*I15,H15) -> 0
G16: ="Section Total Raw Score. (Min="&Formulas!B30&", Max="&Formulas!C30&")" -> Section Total Raw Score. (Min=6, Max=18) | H16: =SUM(H10:H15) -> 0 | I16: ="Section Total Weighted Score. (Min="&Formulas!B30&", Max="&Formulas!D30&")" -> Section Total Weighted Score. (Min=6, Max=24) | J16: =SUM(J10:J15) -> 0
A18: Section Theme: Impact
A19: How would the loss of repository access impact others relying on dataset access? | B19: Third Party Application Support Through Transition | C19: Can third party applications still access data needed if access is lost e.g., earthquake detections, tsunami detections, Marine Protected Area monitoring, data pushed to the WMO for forecast models, etc? | E19: There are no alternate paths for datasets to be delivered and/or transformed to users. | F19: There are tools or alternate paths to the data but they may not be free and may not be public. | G19: There are free public tools and alternate pipelines for delivering datasets that can be simply reconfigured to use a different endpoint. | I19: 2 | J19: =IF(H19>1,H19*I19,H19) -> 0
B20: Audience Impact | C20: Are warnings still able to be issued to the public by others based on datasets and analysis held by the repository, e.g warnings to floods, hurricanes, tornadoes, air quality, etc? | E20: There are no other agencies able to perform similar actions, i.e. issue similar warnings. | F20: There are agencies that provide a paid service for similar actions, i.e. pay for warnings. | G20: There are multiple other agencies, including international agencies, that can perform similar actions for free with similar reach. | I20: 2 | J20: =IF(H20>1,H20*I20,H20) -> 0
B21: Federated Networks | C21: Will the loss of access cause holes in networks relying on data hosted by members? | E21: The repository is the only host that provides access for the network, and loss of access causes a hole. | F21: There are other organizations in the network that mirror some but not all of the repository's holdings to provide a partial solution. | G21: There are one or more organizations in the network that hold a full replica of the repository that is regularly synced for changes. | I21: 1 | J21: =IF(H21>1,H21*I21,H21) -> 0
B22: Replicating Other Repositories | C22: If the repository is replicating datasets for other repositories such that if the other repository(s) were to go offline, would there be no access to the datasets? | E22: The repository is hosting the only known replica of another repository, and the loss of both repositories would lead to the complete loss of access to the deposits. | F22: The repository is one of many hosting replicas of another repository, such that the loss of this repository and the replicated repository causes a partial loss of access to the deposits. | G22: The repository is one of many hosting replicas of another repository, such that the loss of this repository and the replicated repository does not cause any loss of access to the deposits. | I22: 1 | J22: =IF(H22>1,H22*I22,H22) -> 0
G23: ="Section Total Raw Score. (Min="&Formulas!B31&", Max="&Formulas!C31&")" -> Section Total Raw Score. (Min=4, Max=12) | H23: =SUM(H19:H22) -> 0 | I23: ="Section Total Weighted Score. (Min="&Formulas!B31&", Max="&Formulas!D31&")" -> Section Total Weighted Score. (Min=4, Max=18) | J23: =SUM(J19:J22) -> 0

Sheet Formulas
A1: Repository Resilience Scorecard (RRS) | G1: RCS, Version 1.02 Released 2025-04-15
A2: RRS Raw and Weighted Score | J2: RRS Section x Scenario Weighted Min
B3: Raw Min | C3: Raw Max | D3: Weighted Max | E3: Thirds | G3: RRS Total Scores | K3: Scenario 1 | L3: Scenario 2 | M3: Scenario 3 | N3: Scenario 4
A4: Section 1 | B4: =ROWS('Repository Resilience Scorecard'!I10:I14) -> 5 | C4: =ROWS('Repository Resilience Scorecard'!I10:I14)*3 -> 15 | D4: =SUM('Repository Resilience Scorecard'!I10:I14)*3 -> 24 | E4: =(D4-B4)/3 -> 6.3333333 | G4: Raw Min | H4: =B11 -> 31 | J4: Section 1 | K4: {=ROWS('Repository Resilience Scorecard'!I12:I14)} -> 3 | L4: 0 | M4: {=ROWS('Repository Resilience Scorecard'!I10:I14)} -> 5 | N4: {=ROWS('Repository Resilience Scorecard'!I10:I14)} -> 5
A5: Section 2 | B5: =ROWS('Repository Resilience Scorecard'!I18:I21) -> 4 | C5: =ROWS('Repository Resilience Scorecard'!I18:I21)*3 -> 12 | D5: =SUM('Repository Resilience Scorecard'!I18:I21)*3 -> 18 | E5: =(D5-B5)/3 -> 4.6666667 | G5: Raw Max | H5: =C11 -> 93 | J5: Section 2 | K5: 3 | L5: {=ROWS('Repository Resilience Scorecard'!I18:I20)} -> 3 | M5: 3 | N5: {=ROWS('Repository Resilience Scorecard'!I19:I21)} -> 3
A6: Section 3 | B6: =ROWS('Repository Resilience Scorecard'!I25:I27) -> 3 | C6: =ROWS('Repository Resilience Scorecard'!I25:I27)*3 -> 9 | D6: =SUM('Repository Resilience Scorecard'!I25:I27)*3 -> 9 | E6: =(D6-B6)/3 -> 2 | G6: Weighted Max | H6: =D11 -> 129 | J6: Section 3 | K6: {=ROWS('Repository Resilience Scorecard'!I26:I27)} -> 2 | L6: 0 | M6: 1 | N6: 1
A7: Section 4 | B7: =ROWS('Repository Resilience Scorecard'!I31:I36) -> 6 | C7: =ROWS('Repository Resilience Scorecard'!I31:I36)*3 -> 18 | D7: =SUM('Repository Resilience Scorecard'!I31:I36)*3 -> 21 | E7: =(D7-B7)/3 -> 5 | G7: Lower Third | H7: =H6/3 -> 43 | J7: Section 4 | K7: {=ROWS('Repository Resilience Scorecard'!I31:I36)} -> 6 | L7: {=ROWS('Repository Resilience Scorecard'!I31:I36)} -> 6 | M7: {=ROWS('Repository Resilience Scorecard'!I31:I36)} -> 6 | N7: {=ROWS('Repository Resilience Scorecard'!I31)} -> 1
A8: Section 5 | B8: =ROWS('Repository Resilience Scorecard'!I40:I42) -> 3 | C8: =ROWS('Repository Resilience Scorecard'!I40:I42)*3 -> 9 | D8: =SUM('Repository Resilience Scorecard'!I40:I42)*3 -> 9 | E8: =(D8-B8)/3 -> 2 | G8: Upper Third | H8: =(H6/3)*2 -> 86 | J8: Section 5 | K8: {=ROWS('Repository Resilience Scorecard'!I40:I41)} -> 2 | L8: {=ROWS('Repository Resilience Scorecard'!I40:I42)} -> 3 | M8: {=ROWS('Repository Resilience Scorecard'!I42)} -> 1 | N8: 0
A9: Section 6 | B9: =ROWS('Repository Resilience Scorecard'!I46:I51) -> 6 | C9: =ROWS('Repository Resilience Scorecard'!I46:I51)*3 -> 18 | D9: =SUM('Repository Resilience Scorecard'!I46:I51)*3 -> 30 | E9: =(D9-B9)/3 -> 8 | G9: Lower Third w/min floor added | H9: 64 | J9: Section 6 | K9: {=ROWS('Repository Resilience Scorecard'!I46:I51)} -> 6 | L9: {=ROWS('Repository Resilience Scorecard'!I47:I50)} -> 4 | M9: 4 | N9: 3
A10: Section 7 | B10: =ROWS('Repository Resilience Scorecard'!I55:I58) -> 4 | C10: =ROWS('Repository Resilience Scorecard'!I55:I58)*3 -> 12 | D10: =SUM('Repository Resilience Scorecard'!I55:I58)*3 -> 18 | E10: =(D10-B10)/3 -> 4.6666667 | G10: Upper Third w/min floor added | H10: 97 | J10: Section 7 | K10: {=ROWS('Repository Resilience Scorecard'!I55:I58)} -> 4 | L10: 3 | M10: {=ROWS('Repository Resilience Scorecard'!I55:I56)} -> 2 | N10: 3
A11: Total | B11: =SUM(B4:B10) -> 31 | C11: =SUM(C4:C10) -> 93 | D11: =SUM(D4:D10) -> 129 | J11: Total | K11: =SUM(K4:K10) -> 26 | L11: =SUM(L4:L10) -> 19 | M11: =SUM(M4:M10) -> 22 | N11: =SUM(N4:N10) -> 16
A13: RRS Scenario Combinatorics Score | J13: RRS Section x Scenario Weighted Max
C14: Weighted Min | D14: Weighted Max | E14: Thirds | F14: Sum | K14: Scenario 1 | L14: Scenario 2 | M14: Scenario 3 | N14: Scenario 4
A15: 1&2: Nat Disaster & Defunding | C15: 18 | D15: 75 | E15: =(D15-C15)/3 -> 19 | F15: 0 | J15: Section 1 | K15: =3*SUM('Repository Resilience Scorecard'!I12:I14) -> 18 | L15: =3*SUM('Repository Resilience Scorecard'!I14) -> 6 | M15: =3*SUM('Repository Resilience Scorecard'!I10:I14) -> 24 | N15: =3*SUM('Repository Resilience Scorecard'!I10:I14) -> 24
A16: 1&3: Nat Disaster & Cyberattack | C16: 17 | D16: 81 | E16: =(D16-C16)/3 -> 21.333333 | F16: 0 | J16: Section 2 | K16: =3*(SUM('Repository Resilience Scorecard'!I18:I19,'Repository Resilience Scorecard'!I21)+IF('Repository Resilience Scorecard'!M20=0,0,'Repository Resilience Scorecard'!I20)) -> 15 | L16: =3*SUM('Repository Resilience Scorecard'!I18:I20) -> 12 | M16: =3*SUM('Repository Resilience Scorecard'!I18,'Repository Resilience Scorecard'!I20:I21) -> 15 | N16: =3*SUM('Repository Resilience Scorecard'!I19:I21) -> 12
A17: 1&4: Nat Disaster & Tech Exp Loss | C17: 13 | D17: 66 | E17: =(D17-C17)/3 -> 17.666667 | F17: =SUM('Repository Resilience Scorecard'!M12:M14,'Repository Resilience Scorecard'!M19,'Repository Resilience Scorecard'!M21,'Repository Resilience Scorecard'!M27,'Repository Resilience Scorecard'!M31,'Repository Resilience Scorecard'!M48:M49,'Repository Resilience Scorecard'!M51,'Repository Resilience Scorecard'!M55:M56,'Repository Resilience Scorecard'!M58)+IF('Repository Resilience Scorecard'!M20=0,0,'Repository Resilience Scorecard'!M20) -> 0 | J17: Section 3 | K17: =3*SUM('Repository Resilience Scorecard'!I26:I27) -> 6 | L17: 0 | M17: =3*SUM('Repository Resilience Scorecard'!I25,'Repository Resilience Scorecard'!I27) -> 6 | N17: =3*SUM('Repository Resilience Scorecard'!I25,'Repository Resilience Scorecard'!I27) -> 6
A18: 2&3: Defunding & Cyberattack | C18: 12 | D18: 51 | E18: =(D18-C18)/3 -> 13 | F18: =SUM('Repository Resilience Scorecard'!N14,'Repository Resilience Scorecard'!N20,'Repository Resilience Scorecard'!N31:N36,'Repository Resilience Scorecard'!N42,'Repository Resilience Scorecard'!N48:N49,'Repository Resilience Scorecard'!N55) -> 0 | J18: Section 4 | K18: =3*SUM('Repository Resilience Scorecard'!I31:I36) -> 21 | L18: =3*SUM('Repository Resilience Scorecard'!I31:I36) -> 21 | M18: =3*SUM('Repository Resilience Scorecard'!I31:I36) -> 21 | N18: =3*SUM('Repository Resilience Scorecard'!I31) -> 3
A19: 2&4: Defunding & Tech Exp Loss | C19: 7 | D19: 33 | E19: =(D19-C19)/3 -> 8.6666667 | F19: 0 | J19: Section 5 | K19: =3*SUM('Repository Resilience Scorecard'!I40:I41) -> 6 | L19: =3*SUM('Repository Resilience Scorecard'!I40:I42) -> 9 | M19: =3*SUM('Repository Resilience Scorecard'!I42) -> 3 | N19: 0
A20: 3&4: Cyberattack & Tech Exp Loss | C20: 15 | D20: 69 | E20: =(D20-C20)/3 -> 18 | F20: 0 | J20: Section 6 | K20: =3*SUM('Repository Resilience Scorecard'!I46:I51) -> 30 | L20: =3*SUM('Repository Resilience Scorecard'!I47:I50) -> 18 | M20: =3*SUM('Repository Resilience Scorecard'!I46,'Repository Resilience Scorecard'!I48:I49,'Repository Resilience Scorecard'!I51) -> 24 | N20: =3*SUM('Repository Resilience Scorecard'!I48:I49,'Repository Resilience Scorecard'!I51) -> 18
A21: 1&2&3: Nat Disaster & Defunding & Cyberattack | C21: 10 | D21: 45 | E21: =(D21-C21)/3 -> 11.666667 | F21: 0 | J21: Section 7 | K21: =3*SUM('Repository Resilience Scorecard'!I55:I58) -> 18 | L21: =3*SUM('Repository Resilience Scorecard'!I55,'Repository Resilience Scorecard'!I57:I58) -> 15 | M21: =3*SUM('Repository Resilience Scorecard'!I55:I56) -> 9 | N21: =3*SUM('Repository Resilience Scorecard'!I55:I56,'Repository Resilience Scorecard'!I58) -> 15
A22: 1&2&4: Nat Disaster & Defunding & Tech Exp Loss | C22: 5 | D22: 24 | E22: =(D22-C22)/3 -> 6.3333333 | F22: 0 | J22: Total | K22: =SUM(K15:K21) -> 114 | L22: =SUM(L15:L21) -> 81 | M22: =SUM(M15:M21) -> 102 | N22: =SUM(N15:N21) -> 78
A23: 1&3&4: Nat Disaster & Cyberattack & Tech Exp Loss | C23: 11 | D23: 57 | E23: =(D23-C23)/3 -> 15.333333 | F23: 0
A24: 2&3&4: Defunding & Cyberattack & Tech Exp Loss | C24: 5 | D24: 24 | E24: =(D24-C24)/3 -> 6.3333333 | F24: 0
A25: 1&2&3&4: Nat Disaster & Defunding & Cyberattack & Tech Exp Loss | C25: 4 | D25: 18 | E25: =(D25-C25)/3 -> 4.6666667 | F25: 0
A27: Data Impact and Recovery Scorecard (DIRS)
A28: DIRS Raw and Weighted Score | G28: DIRS Total Scores
B29: Raw Min | C29: Raw Max | D29: Weighted Max | E29: Thirds | G29: Raw Min | H29: =SUM(B30,B31) -> 10
A30: Section 1 | B30: =ROWS('Data Impact and Recovery Scorec'!I10:I15) -> 6 | C30: =ROWS('Data Impact and Recovery Scorec'!I10:I15)*3 -> 18 | D30: =SUM('Data Impact and Recovery Scorec'!I10:I15)*3 -> 24 | E30: =(D30-B30)/3 -> 6 | G30: Raw Max | H30: =SUM(C30,C31) -> 30
A31: Section 2 | B31: =ROWS('Data Impact and Recovery Scorec'!I19:I22) -> 4 | C31: =ROWS('Data Impact and Recovery Scorec'!I19:I22)*3 -> 12 | D31: =SUM('Data Impact and Recovery Scorec'!I19:I22)*3 -> 18 | E31: =(D31-B31)/3 -> 4.6666667 | G31: Weighted Max | H31: =SUM(D30,D31) -> 42
A34: Scenario Combinatorics Score | M34: Section Themes Total Weighted Score
A35: ="Scenario "&Formulas!A15 &": Min="&Formulas!C15&", Max="&Formulas!D15&", Total="&Formulas!F15 -> Scenario 1&2: Nat Disaster & Defunding: Min=18, Max=75, Total=0 | B35: ="Scenario "&Formulas!A16 &": Min="&Formulas!C16&", Max="&Formulas!D16&", Total="&Formulas!F16 -> Scenario 1&3: Nat Disaster & Cyberattack: Min=17, Max=81, Total=0 | C35: ="Scenario "&Formulas!A17 &": Min="&Formulas!C17&", Max="&Formulas!D17&", Total="&Formulas!F17 -> Scenario 1&4: Nat Disaster & Tech Exp Loss: Min=13, Max=66, Total=0 | D35: ="Scenario "&Formulas!A18 &": Min="&Formulas!C18&", Max="&Formulas!D18&", Total="&Formulas!F18 -> Scenario 2&3: Defunding & Cyberattack: Min=12, Max=51, Total=0 | E35: ="Scenario "&Formulas!A19 &": Min="&Formulas!C19&", Max="&Formulas!D19&", Total="&Formulas!F19 -> Scenario 2&4: Defunding & Tech Exp Loss: Min=7, Max=33, Total=0 | F35: ="Scenario "&Formulas!A20 &": Min="&Formulas!C20&", Max="&Formulas!D20&", Total="&Formulas!F20 -> Scenario 3&4: Cyberattack & Tech Exp Loss: Min=15, Max=69, Total=0 | G35: ="Scenario "&Formulas!A21 &": Min="&Formulas!C21&", Max="&Formulas!D21&", Total="&Formulas!F21 -> Scenario 1&2&3: Nat Disaster & Defunding & Cyberattack: Min=10, Max=45, Total=0 | H35: ="Scenario "&Formulas!A22 &": Min="&Formulas!C22&", Max="&Formulas!D22&", Total="&Formulas!F22 -> Scenario 1&2&4: Nat Disaster & Defunding & Tech Exp Loss: Min=5, Max=24, Total=0 | I35: ="Scenario "&Formulas!A23 &": Min="&Formulas!C23&", Max="&Formulas!D23&", Total="&Formulas!F23 -> Scenario 1&3&4: Nat Disaster & Cyberattack & Tech Exp Loss: Min=11, Max=57, Total=0 | J35: ="Scenario "&Formulas!A24 &": Min="&Formulas!C24&", Max="&Formulas!D24&", Total="&Formulas!F24 -> Scenario 2&3&4: Defunding & Cyberattack & Tech Exp Loss: Min=5, Max=24, Total=0 | K35: ="Scenario "&Formulas!A25 &": Min="&Formulas!C25&", Max="&Formulas!D25&", Total="&Formulas!F25 -> Scenario 1&2&3&4: Nat Disaster & Defunding & Cyberattack & Tech Exp Loss: Min=4, Max=18, Total=0 | M35: ="Data and Metadata (Min="&Formulas!B30&", Max="&Formulas!D30&")" -> Data and Metadata (Min=6, Max=24) | N35: ="Impact (Min="&Formulas!B31&", Max="&Formulas!D31&")" -> Impact (Min=4, Max=18)
M36: ='Data Impact and Recovery Scorec'!J16 -> 0 | N36: ='Data Impact and Recovery Scorec'!J23 -> 0
