Workbook

Sheet Displacement method G1
B1: Free Stress Geometry | F1: Displacement PIO 16 mmHg (2133.16 Pa) | I1: Estimated Physiological Geometry PIO 16 mmHg ( 2133.16 Pa) | L1: Measured Physiological Geometry PIO 16 mmHg ( 2133.16 Pa) | O1: Difference | R1: =MAX(R3:R59) -> 1.1949059e-07
B2: POINT | C2: X (m) | D2: Y (m) | E2: Z (m) | F2: dx (mm) | G2: dy(mm) | H2: dz (mm) | I2: X (m) | J2: Y (m) | K2: Z (m) | L2: X (m) | M2: Y (m) | N2: Z (m) | O2: X (m) | P2: Y (m) | Q2: Z (m) | R2: ERROR (m) | S2: RADIUS (mm)
A3: ANTERIOR FACE | B3: 2 | C3: 1.7726e-06 | D3: -6.5614e-07 | E3: 0.00021357 | F3: -1.7725e-06 | G3: 6.5613e-07 | H3: -0.0002132 | I3: =C3+F3 -> 1e-10 | J3: =D3+G3 -> -1e-11 | K3: =E3+H3 -> 3.7e-07 | L3: 6.6243e-13 | M3: -2.7439e-13 | N3: 3.7158e-07 | O3: =L3-I3 -> -9.933757e-11 | P3: =M3-J3 -> 9.72561e-12 | Q3: =N3-K3 -> 1.58e-09 | R3: =(O3^2+P3^2+Q3^2)^0.5 -> 1.5831496e-09 | S3: =1000*(L3^2+M3^2)^0.5 -> 7.1701003e-10
B4: 10 | C4: 0.00094254 | D4: -0.00038993 | E4: 0.00029234 | F4: 1.6767e-05 | G4: -7.426e-06 | H4: -0.00021553 | I4: =C4+F4 -> 0.000959307 | J4: =D4+G4 -> -0.000397356 | K4: =E4+H4 -> 7.681e-05 | L4: 0.00095931 | M4: -0.00039736 | N4: 7.6811e-05 | O4: =L4-I4 -> 3e-09 | P4: =M4-J4 -> -4e-09 | Q4: =N4-K4 -> 1e-09 | R4: =(O4^2+P4^2+Q4^2)^0.5 -> 5.0990195e-09 | S4: =1000*(L4^2+M4^2)^0.5 -> 1.03835
B5: 150 | C5: 0.00094245 | D5: 0.00038861 | E5: 0.00029277 | F5: 1.7019e-05 | G5: 8.8175e-06 | H5: -0.00021702 | I5: =C5+F5 -> 0.000959469 | J5: =D5+G5 -> 0.0003974275 | K5: =E5+H5 -> 7.575e-05 | L5: 0.00095946 | M5: 0.00039742 | N5: 7.5749e-05 | O5: =L5-I5 -> -9e-09 | P5: =M5-J5 -> -7.5e-09 | Q5: =N5-K5 -> -1e-09 | R5: =(O5^2+P5^2+Q5^2)^0.5 -> 1.1757976e-08 | S5: =1000*(L5^2+M5^2)^0.5 -> 1.0385115
B6: 1657 | C6: 0.0018552 | D6: -0.00076822 | E6: 0.00052038 | F6: 3.7561e-05 | G6: -1.5804e-05 | H6: -0.00021936 | I6: =C6+F6 -> 0.001892761 | J6: =D6+G6 -> -0.000784024 | K6: =E6+H6 -> 0.00030102 | L6: 0.0018928 | M6: -0.00078402 | N6: 0.00030102 | O6: =L6-I6 -> 3.9e-08 | P6: =M6-J6 -> 4e-09 | Q6: =N6-K6 -> 0 | R6: =(O6^2+P6^2+Q6^2)^0.5 -> 3.9204592e-08 | S6: =1000*(L6^2+M6^2)^0.5 -> 2.0487506
B7: 1741 | C7: 0.0018559 | D7: 0.00076763 | E7: 0.00051885 | F7: 3.7981e-05 | G7: 1.683e-05 | H7: -0.0002216 | I7: =C7+F7 -> 0.001893881 | J7: =D7+G7 -> 0.00078446 | K7: =E7+H7 -> 0.00029725 | L7: 0.0018939 | M7: 0.00078446 | N7: 0.00029725 | O7: =L7-I7 -> 1.9e-08 | P7: =M7-J7 -> 0 | Q7: =N7-K7 -> 0 | R7: =(O7^2+P7^2+Q7^2)^0.5 -> 1.9e-08 | S7: =1000*(L7^2+M7^2)^0.5 -> 2.0499353
B8: 2881 | C8: 0.0027935 | D8: -0.0011581 | E8: 0.00091569 | F8: 6.2957e-05 | G8: -2.5024e-05 | H8: -0.00021285 | I8: =C8+F8 -> 0.002856457 | J8: =D8+G8 -> -0.001183124 | K8: =E8+H8 -> 0.00070284 | L8: 0.0028564 | M8: -0.0011832 | N8: 0.00070284 | O8: =L8-I8 -> -5.7e-08 | P8: =M8-J8 -> -7.6e-08 | Q8: =N8-K8 -> 0 | R8: =(O8^2+P8^2+Q8^2)^0.5 -> 9.5e-08 | S8: =1000*(L8^2+M8^2)^0.5 -> 3.0917605
B9: 2965 | C9: 0.002798 | D9: 0.0011595 | E9: 0.00090698 | F9: 6.3026e-05 | G9: 2.5548e-05 | H9: -0.00021434 | I9: =C9+F9 -> 0.002861026 | J9: =D9+G9 -> 0.001185048 | K9: =E9+H9 -> 0.00069264 | L9: 0.002861 | M9: 0.0011851 | N9: 0.00069264 | O9: =L9-I9 -> -2.6e-08 | P9: =M9-J9 -> 5.2e-08 | Q9: =N9-K9 -> 0 | R9: =(O9^2+P9^2+Q9^2)^0.5 -> 5.8137767e-08 | S9: =1000*(L9^2+M9^2)^0.5 -> 3.0967375
B10: 4105 | C10: 0.0037496 | D10: -0.0015551 | E10: 0.0014912 | F10: 8.1246e-05 | G10: -3.1698e-05 | H10: -0.00017625 | I10: =C10+F10 -> 0.003830846 | J10: =D10+G10 -> -0.001586798 | K10: =E10+H10 -> 0.00131495 | L10: 0.0038308 | M10: -0.0015868 | N10: 0.0013149 | O10: =L10-I10 -> -4.6e-08 | P10: =M10-J10 -> -2e-09 | Q10: =N10-K10 -> -5e-08 | R10: =(O10^2+P10^2+Q10^2)^0.5 -> 6.7970582e-08 | S10: =1000*(L10^2+M10^2)^0.5 -> 4.1464398
B11: 4189 | C11: 0.0037626 | D11: 0.0015599 | E11: 0.0014728 | F11: 7.9603e-05 | G11: 3.1572e-05 | H11: -0.00017588 | I11: =C11+F11 -> 0.003842203 | J11: =D11+G11 -> 0.001591472 | K11: =E11+H11 -> 0.00129692 | L11: 0.0038422 | M11: 0.0015915 | N11: 0.0012969 | O11: =L11-I11 -> -3e-09 | P11: =M11-J11 -> 2.8e-08 | Q11: =N11-K11 -> -2e-08 | R11: =(O11^2+P11^2+Q11^2)^0.5 -> 3.4539832e-08 | S11: =1000*(L11^2+M11^2)^0.5 -> 4.1587706
B12: 5329 | C12: 0.0047624 | D12: -0.0019724 | E12: 0.002276 | F12: 6.357e-05 | G12: -2.6576e-05 | H12: -8.8042e-05 | I12: =C12+F12 -> 0.00482597 | J12: =D12+G12 -> -0.001998976 | K12: =E12+H12 -> 0.002187958 | L12: 0.004826 | M12: -0.001999 | N12: 0.002188 | O12: =L12-I12 -> 3e-08 | P12: =M12-J12 -> -2.4e-08 | Q12: =N12-K12 -> 4.2e-08 | R12: =(O12^2+P12^2+Q12^2)^0.5 -> 5.6920998e-08 | S12: =1000*(L12^2+M12^2)^0.5 -> 5.2236268
B13: 5413 | C13: 0.0047736 | D13: 0.0019762 | E13: 0.0022657 | F13: 6.1781e-05 | G13: 2.6739e-05 | H13: -8.8881e-05 | I13: =C13+F13 -> 0.004835381 | J13: =D13+G13 -> 0.002002939 | K13: =E13+H13 -> 0.002176819 | L13: 0.0048354 | M13: 0.0020029 | N13: 0.0021768 | O13: =L13-I13 -> 1.9e-08 | P13: =M13-J13 -> -3.9e-08 | Q13: =N13-K13 -> -1.9e-08 | R13: =(O13^2+P13^2+Q13^2)^0.5 -> 4.7360321e-08 | S13: =1000*(L13^2+M13^2)^0.5 -> 5.2338037
B14: 6547 | C14: 0.0052989 | D14: -0.0021935 | E14: 0.002772 | F14: 3.0369e-05 | G14: -1.3965e-05 | H14: -2.6629e-05 | I14: =C14+F14 -> 0.005329269 | J14: =D14+G14 -> -0.002207465 | K14: =E14+H14 -> 0.002745371 | L14: 0.0053293 | M14: -0.0022075 | N14: 0.0027454 | O14: =L14-I14 -> 3.1e-08 | P14: =M14-J14 -> -3.5e-08 | Q14: =N14-K14 -> 2.9e-08 | R14: =(O14^2+P14^2+Q14^2)^0.5 -> 5.5018179e-08 | S14: =1000*(L14^2+M14^2)^0.5 -> 5.7684049
B15: 6589 | C15: 0.005312 | D15: 0.0021979 | E15: 0.0027628 | F15: 2.8707e-05 | G15: 1.4247e-05 | H15: -2.6926e-05 | I15: =C15+F15 -> 0.005340707 | J15: =D15+G15 -> 0.002212147 | K15: =E15+H15 -> 0.002735874 | L15: 0.0053407 | M15: 0.0022122 | N15: 0.0027359 | O15: =L15-I15 -> -7e-09 | P15: =M15-J15 -> 5.3e-08 | Q15: =N15-K15 -> 2.6e-08 | R15: =(O15^2+P15^2+Q15^2)^0.5 -> 5.9447456e-08 | S15: =1000*(L15^2+M15^2)^0.5 -> 5.7807357
... B59: 48863 | C59: 0.0024278 | D59: 0.0058613 | E59: 0.0031501 | F59: 0 | G59: 0 | H59: 0 | I59: =C59+F59 -> 0.0024278 | J59: =D59+G59 -> 0.0058613 | K59: =E59+H59 -> 0.0031501 | L59: 0.0024278 | M59: 0.0058613 | N59: 0.0031501 | O59: =L59-I59 -> 0 | P59: =M59-J59 -> 0 | Q59: =N59-K59 -> 0 | R59: =(O59^2+P59^2+Q59^2)^0.5 -> 0 | S59: =1000*(L59^2+M59^2)^0.5 -> 6.3442139
B60: Free Stress Geometry | F60: Displacement PIO 16 mmHg (2133.16 Pa) | I60: Estimated Physiological Geometry PIO 16 mmHg ( 2133.16 Pa) | L60: Measured Physiological Geometry PIO 16 mmHg ( 2133.16 Pa) | O60: Difference | R60: =MAX(R62:R118) -> 1.1552056e-07
B61: POINT | C61: X (m) | D61: Y (m) | E61: Z (m) | F61: dx (mm) | G61: dy(mm) | H61: dz (mm) | I61: X (m) | J61: Y (m) | K61: Z (m) | L61: X (m) | M61: Y (m) | N61: Z (m) | O61: X (m) | P61: Y (m) | Q61: Z (m) | R61: ERROR (m) | S61: RADIUS (mm)
A62: POSTERIOR FACE | B62: 1 | C62: 1.6852e-06 | D62: -1.864e-06 | E62: 0.00071411 | F62: -1.6852e-06 | G62: 1.864e-06 | H62: -0.00023531 | I62: =C62+F62 -> 0 | J62: =D62+G62 -> 0 | K62: =E62+H62 -> 0.0004788 | L62: 6.6243e-13 | M62: -2.7439e-13 | N62: 0.0004788 | O62: =L62-I62 -> 6.6243e-13 | P62: =M62-J62 -> -2.7439e-13 | Q62: =N62-K62 -> 0 | R62: =(O62^2+P62^2+Q62^2)^0.5 -> 7.1701003e-13 | S62: =1000*(L62^2+M62^2)^0.5 -> 7.1701003e-10
B63: 30 | C63: 0.00086845 | D63: -0.00036087 | E63: 0.00078175 | F63: 2.2479e-05 | G63: -8.1612e-06 | H63: -0.00023692 | I63: =C63+F63 -> 0.000890929 | J63: =D63+G63 -> -0.0003690312 | K63: =E63+H63 -> 0.00054483 | L63: 0.00089092 | M63: -0.00036903 | N63: 0.00054483 | O63: =L63-I63 -> -9e-09 | P63: =M63-J63 -> 1.2e-09 | Q63: =N63-K63 -> 0 | R63: =(O63^2+P63^2+Q63^2)^0.5 -> 9.0796476e-09 | S63: =1000*(L63^2+M63^2)^0.5 -> 0.96432442
B64: 170 | C64: 0.0008678 | D64: 0.00035692 | E64: 0.00078725 | F64: 2.2541e-05 | G64: 1.1873e-05 | H64: -0.00023842 | I64: =C64+F64 -> 0.000890341 | J64: =D64+G64 -> 0.000368793 | K64: =E64+H64 -> 0.00054883 | L64: 0.00089034 | M64: 0.00036879 | N64: 0.00054882 | O64: =L64-I64 -> -1e-09 | P64: =M64-J64 -> -3e-09 | Q64: =N64-K64 -> -1e-08 | R64: =(O64^2+P64^2+Q64^2)^0.5 -> 1.0488088e-08 | S64: =1000*(L64^2+M64^2)^0.5 -> 0.96369673
B65: 1645 | C65: 0.0017176 | D65: -0.00071287 | E65: 0.00099734 | F65: 4.6777e-05 | G65: -1.7964e-05 | H65: -0.0002405 | I65: =C65+F65 -> 0.001764377 | J65: =D65+G65 -> -0.000730834 | K65: =E65+H65 -> 0.00075684 | L65: 0.0017644 | M65: -0.00073083 | N65: 0.00075684 | O65: =L65-I65 -> 2.3e-08 | P65: =M65-J65 -> 4e-09 | Q65: =N65-K65 -> 0 | R65: =(O65^2+P65^2+Q65^2)^0.5 -> 2.3345235e-08 | S65: =1000*(L65^2+M65^2)^0.5 -> 1.9097696
B66: 1729 | C66: 0.001716 | D66: 0.00070891 | E66: 0.0010062 | F66: 4.6583e-05 | G66: 2.1173e-05 | H66: -0.00024293 | I66: =C66+F66 -> 0.001762583 | J66: =D66+G66 -> 0.000730083 | K66: =E66+H66 -> 0.00076327 | L66: 0.0017626 | M66: 0.00073008 | N66: 0.00076327 | O66: =L66-I66 -> 1.7e-08 | P66: =M66-J66 -> -3e-09 | Q66: =N66-K66 -> 0 | R66: =(O66^2+P66^2+Q66^2)^0.5 -> 1.7262677e-08 | S66: =1000*(L66^2+M66^2)^0.5 -> 1.9078196
B67: 2869 | C67: 0.002588 | D67: -0.0010737 | E67: 0.0013813 | F67: 7.0158e-05 | G67: -2.7358e-05 | H67: -0.00023644 | I67: =C67+F67 -> 0.002658158 | J67: =D67+G67 -> -0.001101058 | K67: =E67+H67 -> 0.00114486 | L67: 0.0026582 | M67: -0.001101 | N67: 0.0011449 | O67: =L67-I67 -> 4.2e-08 | P67: =M67-J67 -> 5.8e-08 | Q67: =N67-K67 -> 4e-08 | R67: =(O67^2+P67^2+Q67^2)^0.5 -> 8.2024387e-08 | S67: =1000*(L67^2+M67^2)^0.5 -> 2.877191
B68: 2953 | C68: 0.0025852 | D68: 0.0010695 | E68: 0.0013936 | F68: 6.8577e-05 | G68: 2.9692e-05 | H68: -0.00023894 | I68: =C68+F68 -> 0.002653777 | J68: =D68+G68 -> 0.001099192 | K68: =E68+H68 -> 0.00115466 | L68: 0.0026538 | M68: 0.0010992 | N68: 0.0011546 | O68: =L68-I68 -> 2.3e-08 | P68: =M68-J68 -> 8e-09 | Q68: =N68-K68 -> -6e-08 | R68: =(O68^2+P68^2+Q68^2)^0.5 -> 6.4753378e-08 | S68: =1000*(L68^2+M68^2)^0.5 -> 2.8724371
B69: 4093 | C69: 0.0034687 | D69: -0.0014383 | E69: 0.0019708 | F69: 7.8235e-05 | G69: -3.0844e-05 | H69: -0.00020807 | I69: =C69+F69 -> 0.003546935 | J69: =D69+G69 -> -0.001469144 | K69: =E69+H69 -> 0.00176273 | L69: 0.0035469 | M69: -0.0014692 | N69: 0.0017627 | O69: =L69-I69 -> -3.5e-08 | P69: =M69-J69 -> -5.6e-08 | Q69: =N69-K69 -> -3e-08 | R69: =(O69^2+P69^2+Q69^2)^0.5 -> 7.2532751e-08 | S69: =1000*(L69^2+M69^2)^0.5 -> 3.8391468
B70: 4177 | C70: 0.0034692 | D70: 0.0014361 | E70: 0.0019767 | F70: 7.4795e-05 | G70: 3.1832e-05 | H70: -0.00020936 | I70: =C70+F70 -> 0.003543995 | J70: =D70+G70 -> 0.001467932 | K70: =E70+H70 -> 0.00176734 | L70: 0.003544 | M70: 0.001468 | N70: 0.0017673 | O70: =L70-I70 -> 5e-09 | P70: =M70-J70 -> 6.8e-08 | Q70: =N70-K70 -> -4e-08 | R70: =(O70^2+P70^2+Q70^2)^0.5 -> 7.9050617e-08 | S70: =1000*(L70^2+M70^2)^0.5 -> 3.8360083
B71: 5317 | C71: 0.0043591 | D71: -0.0018064 | E71: 0.0028264 | F71: 4.2704e-05 | G71: -1.6914e-05 | H71: -0.00013609 | I71: =C71+F71 -> 0.004401804 | J71: =D71+G71 -> -0.001823314 | K71: =E71+H71 -> 0.00269031 | L71: 0.0044018 | M71: -0.0018233 | N71: 0.0026903 | O71: =L71-I71 -> -4e-09 | P71: =M71-J71 -> 1.4e-08 | Q71: =N71-K71 -> -1e-08 | R71: =(O71^2+P71^2+Q71^2)^0.5 -> 1.7663522e-08 | S71: =1000*(L71^2+M71^2)^0.5 -> 4.7644796
B72: 5401 | C72: 0.0043721 | D72: 0.0018101 | E72: 0.0028152 | F72: 4.0442e-05 | G72: 1.7652e-05 | H72: -0.00013763 | I72: =C72+F72 -> 0.004412542 | J72: =D72+G72 -> 0.001827752 | K72: =E72+H72 -> 0.00267757 | L72: 0.0044125 | M72: 0.0018277 | N72: 0.0026776 | O72: =L72-I72 -> -4.2e-08 | P72: =M72-J72 -> -5.2e-08 | Q72: =N72-K72 -> 3e-08 | R72: =(O72^2+P72^2+Q72^2)^0.5 -> 7.3266636e-08 | S72: =1000*(L72^2+M72^2)^0.5 -> 4.7760489
B73: 6541 | C73: 0.0047798 | D73: -0.0019782 | E73: 0.0032733 | F73: 1.4476e-05 | G73: -7.659e-06 | H73: -8.4349e-05 | I73: =C73+F73 -> 0.004794276 | J73: =D73+G73 -> -0.001985859 | K73: =E73+H73 -> 0.003188951 | L73: 0.0047943 | M73: -0.0019859 | N73: 0.0031889 | O73: =L73-I73 -> 2.4e-08 | P73: =M73-J73 -> -4.1e-08 | Q73: =N73-K73 -> -5.1e-08 | R73: =(O73^2+P73^2+Q73^2)^0.5 -> 6.9699354e-08 | S73: =1000*(L73^2+M73^2)^0.5 -> 5.1893267
B74: 6583 | C74: 0.0048146 | D74: 0.0019911 | E74: 0.0032451 | F74: 1.2878e-05 | G74: 8.5092e-06 | H74: -8.3668e-05 | I74: =C74+F74 -> 0.004827478 | J74: =D74+G74 -> 0.0019996092 | K74: =E74+H74 -> 0.003161432 | L74: 0.0048275 | M74: 0.0019996 | N74: 0.0031614 | O74: =L74-I74 -> 2.2e-08 | P74: =M74-J74 -> -9.2e-09 | Q74: =N74-K74 -> -3.2e-08 | R74: =(O74^2+P74^2+Q74^2)^0.5 -> 3.9907894e-08 | S74: =1000*(L74^2+M74^2)^0.5 -> 5.2252422
B75: 7153 | C75: 0.0052913 | D75: -0.0021917 | E75: 0.0039 | F75: 0 | G75: 0 | H75: 0 | I75: =C75+F75 -> 0.0052913 | J75: =D75+G75 -> -0.0021917 | K75: =E75+H75 -> 0.0039 | L75: 0.0052913 | M75: -0.0021917 | N75: 0.0039 | O75: =L75-I75 -> 0 | P75: =M75-J75 -> 0 | Q75: =N75-K75 -> 0 | R75: =(O75^2+P75^2+Q75^2)^0.5 -> 0 | S75: =1000*(L75^2+M75^2)^0.5 -> 5.727251 | Z75: 0
B76: 7181 | C76: 0.005327 | D76: 0.0022065 | E76: 0.0039 | F76: 0 | G76: 0 | H76: 0 | I76: =C76+F76 -> 0.005327 | J76: =D76+G76 -> 0.0022065 | K76: =E76+H76 -> 0.0039 | L76: 0.005327 | M76: 0.0022065 | N76: 0.0039 | O76: =L76-I76 -> 0 | P76: =M76-J76 -> 0 | Q76: =N76-K76 -> 0 | R76: =(O76^2+P76^2+Q76^2)^0.5 -> 0 | S76: =1000*(L76^2+M76^2)^0.5 -> 5.7658973 | Z76: 0
B77: 7581 | C77: 0.00036097 | D77: -0.00086809 | E77: 0.0007839 | F77: 7.7914e-06 | G77: -2.2178e-05 | H77: -0.00023457 | I77: =C77+F77 -> 0.0003687614 | J77: =D77+G77 -> -0.000890268 | K77: =E77+H77 -> 0.00054933 | L77: 0.00036876 | M77: -0.00089027 | N77: 0.00054933 | O77: =L77-I77 -> -1.4e-09 | P77: =M77-J77 -> -2e-09 | Q77: =N77-K77 -> 0 | R77: =(O77^2+P77^2+Q77^2)^0.5 -> 2.4413111e-09 | S77: =1000*(L77^2+M77^2)^0.5 -> 0.96362057
B78: 9056 | C78: 0.00071198 | D78: -0.0017165 | E78: 0.0010011 | F78: 1.7457e-05 | G78: -4.4536e-05 | H78: -0.0002323 | I78: =C78+F78 -> 0.000729437 | J78: =D78+G78 -> -0.001761036 | K78: =E78+H78 -> 0.0007688 | L78: 0.00072944 | M78: -0.001761 | N78: 0.00076876 | O78: =L78-I78 -> 3e-09 | P78: =M78-J78 -> 3.6e-08 | Q78: =N78-K78 -> -4e-08 | R78: =(O78^2+P78^2+Q78^2)^0.5 -> 5.3898052e-08 | S78: =1000*(L78^2+M78^2)^0.5 -> 1.9060965
B79: 10196 | C79: 0.0010697 | D79: -0.0025825 | E79: 0.0013913 | F79: 2.6265e-05 | G79: -6.3441e-05 | H79: -0.0002191 | I79: =C79+F79 -> 0.001095965 | J79: =D79+G79 -> -0.002645941 | K79: =E79+H79 -> 0.0011722 | L79: 0.001096 | M79: -0.0026459 | N79: 0.0011722 | O79: =L79-I79 -> 3.5e-08 | P79: =M79-J79 -> 4.1e-08 | Q79: =N79-K79 -> 0 | R79: =(O79^2+P79^2+Q79^2)^0.5 -> 5.3907328e-08 | S79: =1000*(L79^2+M79^2)^0.5 -> 2.8639139
B80: 11336 | C80: 0.001426 | D80: -0.0034486 | E80: 0.0019991 | F80: 2.8768e-05 | G80: -6.3619e-05 | H80: -0.00018164 | I80: =C80+F80 -> 0.001454768 | J80: =D80+G80 -> -0.003512219 | K80: =E80+H80 -> 0.00181746 | L80: 0.0014548 | M80: -0.0035122 | N80: 0.0018174 | O80: =L80-I80 -> 3.2e-08 | P80: =M80-J80 -> 1.9e-08 | Q80: =N80-K80 -> -6e-08 | R80: =(O80^2+P80^2+Q80^2)^0.5 -> 7.0604532e-08 | S80: =1000*(L80^2+M80^2)^0.5 -> 3.8015776
B81: 12476 | C81: 0.0018001 | D81: -0.0043559 | E81: 0.0028095 | F81: 1.6183e-05 | G81: -2.9151e-05 | H81: -9.9295e-05 | I81: =C81+F81 -> 0.001816283 | J81: =D81+G81 -> -0.004385051 | K81: =E81+H81 -> 0.002710205 | L81: 0.0018163 | M81: -0.004385 | N81: 0.0027102 | O81: =L81-I81 -> 1.7e-08 | P81: =M81-J81 -> 5.1e-08 | Q81: =N81-K81 -> -5e-09 | R81: =(O81^2+P81^2+Q81^2)^0.5 -> 5.399074e-08 | S81: =1000*(L81^2+M81^2)^0.5 -> 4.7462797
B82: 13616 | C82: 0.0019531 | D82: -0.0047304 | E82: 0.0032904 | F82: 1.0741e-05 | G82: -1.0831e-05 | H82: -5.7452e-05 | I82: =C82+F82 -> 0.001963841 | J82: =D82+G82 -> -0.004741231 | K82: =E82+H82 -> 0.003232948 | L82: 0.0019639 | M82: -0.0047412 | N82: 0.0032329 | O82: =L82-I82 -> 5.9e-08 | P82: =M82-J82 -> 3.1e-08 | Q82: =N82-K82 -> -4.8e-08 | R82: =(O82^2+P82^2+Q82^2)^0.5 -> 8.2134037e-08 | S82: =1000*(L82^2+M82^2)^0.5 -> 5.1318496
B83: 14186 | C83: 0.0020997 | D83: -0.0050691 | E83: 0.0039 | F83: 0 | G83: 0 | H83: 0 | I83: =C83+F83 -> 0.0020997 | J83: =D83+G83 -> -0.0050691 | K83: =E83+H83 -> 0.0039 | L83: 0.0020997 | M83: -0.0050691 | N83: 0.0039 | O83: =L83-I83 -> 0 | P83: =M83-J83 -> 0 | Q83: =N83-K83 -> 0 | R83: =(O83^2+P83^2+Q83^2)^0.5 -> 0 | S83: =1000*(L83^2+M83^2)^0.5 -> 5.4867581 | Z83: 0
B84: 14586 | C84: -0.00035617 | D84: -0.00086641 | E84: 0.00079358 | F84: -1.2034e-05 | G84: -2.2511e-05 | H84: -0.00023503 | I84: =C84+F84 -> -0.000368204 | J84: =D84+G84 -> -0.000888921 | K84: =E84+H84 -> 0.00055855 | L84: -0.0003682 | M84: -0.00088892 | N84: 0.00055855 | O84: =L84-I84 -> 4e-09 | P84: =M84-J84 -> 1e-09 | Q84: =N84-K84 -> 0 | R84: =(O84^2+P84^2+Q84^2)^0.5 -> 4.1231056e-09 | S84: =1000*(L84^2+M84^2)^0.5 -> 0.96215903
B85: 16073 | C85: -0.00070622 | D85: -0.0017114 | E85: 0.0010219 | F85: -2.0855e-05 | G85: -4.394e-05 | H85: -0.00023288 | I85: =C85+F85 -> -0.000727075 | J85: =D85+G85 -> -0.00175534 | K85: =E85+H85 -> 0.00078902 | L85: -0.00072707 | M85: -0.0017553 | N85: 0.00078906 | O85: =L85-I85 -> 5e-09 | P85: =M85-J85 -> 4e-08 | Q85: =N85-K85 -> 4e-08 | R85: =(O85^2+P85^2+Q85^2)^0.5 -> 5.6789083e-08 | S85: =1000*(L85^2+M85^2)^0.5 -> 1.8999234
B86: 17201 | C86: -0.0010632 | D86: -0.0025723 | E86: 0.0014196 | F86: -2.747e-05 | G86: -6.0712e-05 | H86: -0.00021858 | I86: =C86+F86 -> -0.00109067 | J86: =D86+G86 -> -0.002633012 | K86: =E86+H86 -> 0.00120102 | L86: -0.0010906 | M86: -0.002633 | N86: 0.001201 | O86: =L86-I86 -> 7e-08 | P86: =M86-J86 -> 1.2e-08 | Q86: =N86-K86 -> -2e-08 | R86: =(O86^2+P86^2+Q86^2)^0.5 -> 7.3783467e-08 | S86: =1000*(L86^2+M86^2)^0.5 -> 2.8499294
B87: 18353 | C87: -0.001424 | D87: -0.0034414 | E87: 0.0020164 | F87: -2.5146e-05 | G87: -5.7096e-05 | H87: -0.00017733 | I87: =C87+F87 -> -0.001449146 | J87: =D87+G87 -> -0.003498496 | K87: =E87+H87 -> 0.00183907 | L87: -0.0014491 | M87: -0.0034985 | N87: 0.0018391 | O87: =L87-I87 -> 4.6e-08 | P87: =M87-J87 -> -4e-09 | Q87: =N87-K87 -> 3e-08 | R87: =(O87^2+P87^2+Q87^2)^0.5 -> 5.50636e-08 | S87: =1000*(L87^2+M87^2)^0.5 -> 3.7867391
B88: 19481 | C88: -0.0018 | D88: -0.0043512 | E88: 0.0028115 | F88: -1.2438e-05 | G88: -2.4326e-05 | H88: -9.0126e-05 | I88: =C88+F88 -> -0.001812438 | J88: =D88+G88 -> -0.004375526 | K88: =E88+H88 -> 0.002721374 | L88: -0.0018124 | M88: -0.0043755 | N88: 0.0027214 | O88: =L88-I88 -> 3.8e-08 | P88: =M88-J88 -> 2.6e-08 | Q88: =N88-K88 -> 2.6e-08 | R88: =(O88^2+P88^2+Q88^2)^0.5 -> 5.2877216e-08 | S88: =1000*(L88^2+M88^2)^0.5 -> 4.7360103
B89: 20621 | C89: -0.001943 | D89: -0.0047056 | E89: 0.003306 | F89: -1.038e-05 | G89: -1.0342e-05 | H89: -5.2103e-05 | I89: =C89+F89 -> -0.00195338 | J89: =D89+G89 -> -0.004715942 | K89: =E89+H89 -> 0.003253897 | L89: -0.0019534 | M89: -0.004716 | N89: 0.0032539 | O89: =L89-I89 -> -2e-08 | P89: =M89-J89 -> -5.8e-08 | Q89: =N89-K89 -> 3e-09 | R89: =(O89^2+P89^2+Q89^2)^0.5 -> 6.1424751e-08 | S89: =1000*(L89^2+M89^2)^0.5 -> 5.1045497
B90: 21191 | C90: -0.0020811 | D90: -0.0050243 | E90: 0.0039 | F90: 0 | G90: 0 | H90: 0 | I90: =C90+F90 -> -0.0020811 | J90: =D90+G90 -> -0.0050243 | K90: =E90+H90 -> 0.0039 | L90: -0.0020811 | M90: -0.0050243 | N90: 0.0039 | O90: =L90-I90 -> 0 | P90: =M90-J90 -> 0 | Q90: =N90-K90 -> 0 | R90: =(O90^2+P90^2+Q90^2)^0.5 -> 0 | S90: =1000*(L90^2+M90^2)^0.5 -> 5.4382504 | Z90: 0
B91: 21571 | C91: -0.00086235 | D91: -0.00035954 | E91: 0.00079806 | F91: -2.622e-05 | G91: -8.5141e-06 | H91: -0.00023711 | I91: =C91+F91 -> -0.00088857 | J91: =D91+G91 -> -0.0003680541 | K91: =E91+H91 -> 0.00056095 | L91: -0.00088857 | M91: -0.00036806 | N91: 0.00056096 | O91: =L91-I91 -> 0 | P91: =M91-J91 -> -5.9e-09 | Q91: =N91-K91 -> 1e-08 | R91: =(O91^2+P91^2+Q91^2)^0.5 -> 1.1610771e-08 | S91: =1000*(L91^2+M91^2)^0.5 -> 0.9617821
B92: 23066 | C92: -0.0017068 | D92: -0.00070944 | E92: 0.0010282 | F92: -4.8698e-05 | G92: -1.7726e-05 | H92: -0.00023997 | I92: =C92+F92 -> -0.001755498 | J92: =D92+G92 -> -0.000727166 | K92: =E92+H92 -> 0.00078823 | L92: -0.0017555 | M92: -0.00072716 | N92: 0.00078828 | O92: =L92-I92 -> -2e-09 | P92: =M92-J92 -> 6e-09 | Q92: =N92-K92 -> 5e-08 | R92: =(O92^2+P92^2+Q92^2)^0.5 -> 5.0398413e-08 | S92: =1000*(L92^2+M92^2)^0.5 -> 1.9001426
B93: 24206 | C93: -0.0025687 | D93: -0.001066 | E93: 0.0014263 | F93: -6.7437e-05 | G93: -2.5921e-05 | H93: -0.00023239 | I93: =C93+F93 -> -0.002636137 | J93: =D93+G93 -> -0.001091921 | K93: =E93+H93 -> 0.00119391 | L93: -0.0026362 | M93: -0.0010919 | N93: 0.0011939 | O93: =L93-I93 -> -6.3e-08 | P93: =M93-J93 -> 2.1e-08 | Q93: =N93-K93 -> -1e-08 | R93: =(O93^2+P93^2+Q93^2)^0.5 -> 6.7156534e-08 | S93: =1000*(L93^2+M93^2)^0.5 -> 2.8533833
B94: 25346 | C94: -0.0034464 | D94: -0.001429 | E94: 0.0020174 | F94: -6.3319e-05 | G94: -2.4747e-05 | H94: -0.00019605 | I94: =C94+F94 -> -0.003509719 | J94: =D94+G94 -> -0.001453747 | K94: =E94+H94 -> 0.00182135 | L94: -0.0035097 | M94: -0.0014538 | N94: 0.0018214 | O94: =L94-I94 -> 1.9e-08 | P94: =M94-J94 -> -5.3e-08 | Q94: =N94-K94 -> 5e-08 | R94: =(O94^2+P94^2+Q94^2)^0.5 -> 7.5299402e-08 | S94: =1000*(L94^2+M94^2)^0.5 -> 3.7988852
B95: 26486 | C95: -0.0043893 | D95: -0.0018176 | E95: 0.0027779 | F95: -2.966e-05 | G95: -1.2785e-05 | H95: -0.00010793 | I95: =C95+F95 -> -0.00441896 | J95: =D95+G95 -> -0.001830385 | K95: =E95+H95 -> 0.00266997 | L95: -0.004419 | M95: -0.0018304 | N95: 0.0026699 | O95: =L95-I95 -> -4e-08 | P95: =M95-J95 -> -1.5e-08 | Q95: =N95-K95 -> -7e-08 | R95: =(O95^2+P95^2+Q95^2)^0.5 -> 8.2006097e-08 | S95: =1000*(L95^2+M95^2)^0.5 -> 4.7830874
B96: 27626 | C96: -0.0047859 | D96: -0.0019785 | E96: 0.0032482 | F96: -1.2336e-05 | G96: -8.9859e-06 | H96: -6.2583e-05 | I96: =C96+F96 -> -0.004798236 | J96: =D96+G96 -> -0.0019874859 | K96: =E96+H96 -> 0.003185617 | L96: -0.0047982 | M96: -0.0019875 | N96: 0.0031857 | O96: =L96-I96 -> 3.6e-08 | P96: =M96-J96 -> -1.41e-08 | Q96: =N96-K96 -> 8.3e-08 | R96: =(O96^2+P96^2+Q96^2)^0.5 -> 9.1563148e-08 | S96: =1000*(L96^2+M96^2)^0.5 -> 5.1935421
B97: 28196 | C97: -0.00519 | D97: -0.0021498 | E97: 0.0039 | F97: 0 | G97: 0 | H97: 0 | I97: =C97+F97 -> -0.00519 | J97: =D97+G97 -> -0.0021498 | K97: =E97+H97 -> 0.0039 | L97: -0.00519 | M97: -0.0021498 | N97: 0.0039 | O97: =L97-I97 -> 0 | P97: =M97-J97 -> 0 | Q97: =N97-K97 -> 0 | R97: =(O97^2+P97^2+Q97^2)^0.5 -> 0 | S97: =1000*(L97^2+M97^2)^0.5 -> 5.6176276 | Z97: 0
B98: 28596 | C98: -0.000862 | D98: 0.00035629 | E98: 0.00080612 | F98: -2.5601e-05 | G98: 1.1364e-05 | H98: -0.00023852 | I98: =C98+F98 -> -0.000887601 | J98: =D98+G98 -> 0.000367654 | K98: =E98+H98 -> 0.0005676 | L98: -0.0008876 | M98: 0.00036765 | N98: 0.0005676 | O98: =L98-I98 -> 1e-09 | P98: =M98-J98 -> -4e-09 | Q98: =N98-K98 -> 0 | R98: =(O98^2+P98^2+Q98^2)^0.5 -> 4.1231056e-09 | S98: =1000*(L98^2+M98^2)^0.5 -> 0.96072904
B99: 30071 | C99: -0.0017058 | D99: 0.00070712 | E99: 0.0010403 | F99: -4.6552e-05 | G99: 1.8718e-05 | H99: -0.00024074 | I99: =C99+F99 -> -0.001752352 | J99: =D99+G99 -> 0.000725838 | K99: =E99+H99 -> 0.00079956 | L99: -0.0017523 | M99: 0.00072584 | N99: 0.00079958 | O99: =L99-I99 -> 5.2e-08 | P99: =M99-J99 -> 2e-09 | Q99: =N99-K99 -> 2e-08 | R99: =(O99^2+P99^2+Q99^2)^0.5 -> 5.5749439e-08 | S99: =1000*(L99^2+M99^2)^0.5 -> 1.896681
B100: 31211 | C100: -0.0025667 | D100: 0.0010657 | E100: 0.0014411 | F100: -6.1791e-05 | G100: 2.307e-05 | H100: -0.00023004 | I100: =C100+F100 -> -0.002628491 | J100: =D100+G100 -> 0.00108877 | K100: =E100+H100 -> 0.00121106 | L100: -0.0026285 | M100: 0.0010888 | N100: 0.0012111 | O100: =L100-I100 -> -9e-09 | P100: =M100-J100 -> 3e-08 | Q100: =N100-K100 -> 4e-08 | R100: =(O100^2+P100^2+Q100^2)^0.5 -> 5.0803543e-08 | S100: =1000*(L100^2+M100^2)^0.5 -> 2.8450831
B101: 32351 | C101: -0.0034571 | D101: 0.0014361 | E101: 0.0020042 | F101: -5.4573e-05 | G101: 1.8461e-05 | H101: -0.00018586 | I101: =C101+F101 -> -0.003511673 | J101: =D101+G101 -> 0.001454561 | K101: =E101+H101 -> 0.00181834 | L101: -0.0035116 | M101: 0.0014546 | N101: 0.0018183 | O101: =L101-I101 -> 7.3e-08 | P101: =M101-J101 -> 3.9e-08 | Q101: =N101-K101 -> -4e-08 | R101: =(O101^2+P101^2+Q101^2)^0.5 -> 9.1923882e-08 | S101: =1000*(L101^2+M101^2)^0.5 -> 3.8009467
B102: 33491 | C102: -0.0043942 | D102: 0.0018203 | E102: 0.0027631 | F102: -2.4866e-05 | G102: 1.0099e-05 | H102: -9.3299e-05 | I102: =C102+F102 -> -0.004419066 | J102: =D102+G102 -> 0.001830399 | K102: =E102+H102 -> 0.002669801 | L102: -0.0044191 | M102: 0.0018304 | N102: 0.0026698 | O102: =L102-I102 -> -3.4e-08 | P102: =M102-J102 -> 1e-09 | Q102: =N102-K102 -> -1e-09 | R102: =(O102^2+P102^2+Q102^2)^0.5 -> 3.4029399e-08 | S102: =1000*(L102^2+M102^2)^0.5 -> 4.7831798
B103: 34631 | C103: -0.0047679 | D103: 0.0019722 | E103: 0.0032553 | F103: -1.1778e-05 | G103: 7.5885e-06 | H103: -5.4241e-05 | I103: =C103+F103 -> -0.004779678 | J103: =D103+G103 -> 0.0019797885 | K103: =E103+H103 -> 0.003201059 | L103: -0.0047797 | M103: 0.0019798 | N103: 0.003201 | O103: =L103-I103 -> -2.2e-08 | P103: =M103-J103 -> 1.15e-08 | Q103: =N103-K103 -> -5.9e-08 | R103: =(O103^2+P103^2+Q103^2)^0.5 -> 6.4009765e-08 | S103: =1000*(L103^2+M103^2)^0.5 -> 5.1735037
B104: 35201 | C104: -0.0051506 | D104: 0.0021334 | E104: 0.0038999 | F104: 0 | G104: 0 | H104: 0 | I104: =C104+F104 -> -0.0051506 | J104: =D104+G104 -> 0.0021334 | K104: =E104+H104 -> 0.0038999 | L104: -0.0051506 | M104: 0.0021334 | N104: 0.0038999 | O104: =L104-I104 -> 0 | P104: =M104-J104 -> 0 | Q104: =N104-K104 -> 0 | R104: =(O104^2+P104^2+Q104^2)^0.5 -> 0 | S104: =1000*(L104^2+M104^2)^0.5 -> 5.5749508 | Z104: 0
B105: 35601 | C105: -0.00035632 | D105: 0.00086101 | E105: 0.00081101 | F105: -1.1056e-05 | G105: 2.5908e-05 | H105: -0.00023873 | I105: =C105+F105 -> -0.000367376 | J105: =D105+G105 -> 0.000886918 | K105: =E105+H105 -> 0.00057228 | L105: -0.00036737 | M105: 0.00088691 | N105: 0.00057228 | O105: =L105-I105 -> 6e-09 | P105: =M105-J105 -> -8e-09 | Q105: =N105-K105 -> 0 | R105: =(O105^2+P105^2+Q105^2)^0.5 -> 1e-08 | S105: =1000*(L105^2+M105^2)^0.5 -> 0.95998441
B106: 37076 | C106: -0.0007064 | D106: 0.0017023 | E106: 0.0010511 | F106: -1.7979e-05 | G106: 4.6488e-05 | H106: -0.00023894 | I106: =C106+F106 -> -0.000724379 | J106: =D106+G106 -> 0.001748788 | K106: =E106+H106 -> 0.00081216 | L106: -0.00072438 | M106: 0.0017488 | N106: 0.00081212 | O106: =L106-I106 -> -1e-09 | P106: =M106-J106 -> 1.2e-08 | Q106: =N106-K106 -> -4e-08 | R106: =(O106^2+P106^2+Q106^2)^0.5 -> 4.1773197e-08 | S106: =1000*(L106^2+M106^2)^0.5 -> 1.8928888
B107: 38216 | C107: -0.0010644 | D107: 0.0025607 | E107: 0.0014527 | F107: -2.1063e-05 | G107: 5.9776e-05 | H107: -0.00022364 | I107: =C107+F107 -> -0.001085463 | J107: =D107+G107 -> 0.002620476 | K107: =E107+H107 -> 0.00122906 | L107: -0.0010854 | M107: 0.0026204 | N107: 0.001229 | O107: =L107-I107 -> 6.3e-08 | P107: =M107-J107 -> -7.6e-08 | Q107: =N107-K107 -> -6e-08 | R107: =(O107^2+P107^2+Q107^2)^0.5 -> 1.1552056e-07 | S107: =1000*(L107^2+M107^2)^0.5 -> 2.8362985
B108: 39356 | C108: -0.0014339 | D108: 0.0034489 | E108: 0.002011 | F108: -1.5273e-05 | G108: 4.9624e-05 | H108: -0.00017202 | I108: =C108+F108 -> -0.001449173 | J108: =D108+G108 -> 0.003498524 | K108: =E108+H108 -> 0.00183898 | L108: -0.0014492 | M108: 0.0034986 | N108: 0.001839 | O108: =L108-I108 -> -2.7e-08 | P108: =M108-J108 -> 7.6e-08 | Q108: =N108-K108 -> 2e-08 | R108: =(O108^2+P108^2+Q108^2)^0.5 -> 8.309633e-08 | S108: =1000*(L108^2+M108^2)^0.5 -> 3.7868698
B109: 40496 | C109: -0.0018072 | D109: 0.0043624 | E109: 0.0027906 | F109: -7.6292e-06 | G109: 1.8981e-05 | H109: -7.6167e-05 | I109: =C109+F109 -> -0.0018148292 | J109: =D109+G109 -> 0.004381381 | K109: =E109+H109 -> 0.002714433 | L109: -0.0018148 | M109: 0.0043814 | N109: 0.0027144 | O109: =L109-I109 -> 2.92e-08 | P109: =M109-J109 -> 1.9e-08 | Q109: =N109-K109 -> -3.3e-08 | R109: =(O109^2+P109^2+Q109^2)^0.5 -> 4.7985831e-08 | S109: =1000*(L109^2+M109^2)^0.5 -> 4.7423797
B110: 41636 | C110: -0.0019423 | D110: 0.0046981 | E110: 0.0033048 | F110: -7.8924e-06 | G110: 1.0008e-05 | H110: -4.4425e-05 | I110: =C110+F110 -> -0.0019501924 | J110: =D110+G110 -> 0.004708108 | K110: =E110+H110 -> 0.003260375 | L110: -0.0019502 | M110: 0.0047081 | N110: 0.0032603 | O110: =L110-I110 -> -7.6e-09 | P110: =M110-J110 -> -8e-09 | Q110: =N110-K110 -> -7.5e-08 | R110: =(O110^2+P110^2+Q110^2)^0.5 -> 7.5807388e-08 | S110: =1000*(L110^2+M110^2)^0.5 -> 5.0960265
B111: 42226 | C111: 0.00035961 | D111: 0.0008623 | E111: 0.00079991 | F111: 8.4237e-06 | G111: 2.6202e-05 | H111: -0.00023852 | I111: =C111+F111 -> 0.0003680337 | J111: =D111+G111 -> 0.000888502 | K111: =E111+H111 -> 0.00056139 | L111: 0.00036803 | M111: 0.00088851 | N111: 0.00056138 | O111: =L111-I111 -> -3.7e-09 | P111: =M111-J111 -> 8e-09 | Q111: =N111-K111 -> -1e-08 | R111: =(O111^2+P111^2+Q111^2)^0.5 -> 1.3330041e-08 | S111: =1000*(L111^2+M111^2)^0.5 -> 0.96171519
B112: 43701 | C112: 0.00070747 | D112: 0.0017044 | E112: 0.0010352 | F112: 1.9066e-05 | G112: 4.9597e-05 | H112: -0.0002415 | I112: =C112+F112 -> 0.000726536 | J112: =D112+G112 -> 0.001753997 | K112: =E112+H112 -> 0.0007937 | L112: 0.00072653 | M112: 0.001754 | N112: 0.00079366 | O112: =L112-I112 -> -6e-09 | P112: =M112-J112 -> 3e-09 | Q112: =N112-K112 -> -4e-08 | R112: =(O112^2+P112^2+Q112^2)^0.5 -> 4.05586e-08 | S112: =1000*(L112^2+M112^2)^0.5 -> 1.8985157
B113: 44841 | C113: 0.0010609 | D113: 0.0025627 | E113: 0.0014392 | F113: 2.9136e-05 | G113: 6.88e-05 | H113: -0.00023486 | I113: =C113+F113 -> 0.001090036 | J113: =D113+G113 -> 0.0026315 | K113: =E113+H113 -> 0.00120434 | L113: 0.00109 | M113: 0.0026315 | N113: 0.0012043 | O113: =L113-I113 -> -3.6e-08 | P113: =M113-J113 -> 0 | Q113: =N113-K113 -> -4e-08 | R113: =(O113^2+P113^2+Q113^2)^0.5 -> 5.3814496e-08 | S113: =1000*(L113^2+M113^2)^0.5 -> 2.8483139
B114: 45981 | C114: 0.0014187 | D114: 0.0034353 | E114: 0.0020339 | F114: 3.2363e-05 | G114: 6.7754e-05 | H114: -0.00020203 | I114: =C114+F114 -> 0.001451063 | J114: =D114+G114 -> 0.003503054 | K114: =E114+H114 -> 0.00183187 | L114: 0.001451 | M114: 0.0035031 | N114: 0.0018319 | O114: =L114-I114 -> -6.3e-08 | P114: =M114-J114 -> 4.6e-08 | Q114: =N114-K114 -> 3e-08 | R114: =(O114^2+P114^2+Q114^2)^0.5 -> 8.3576312e-08 | S114: =1000*(L114^2+M114^2)^0.5 -> 3.7917161
B115: 47121 | C115: 0.0018103 | D115: 0.0043861 | E115: 0.0027894 | F115: 1.8402e-05 | G115: 2.8855e-05 | H115: -0.00011467 | I115: =C115+F115 -> 0.001828702 | J115: =D115+G115 -> 0.004414955 | K115: =E115+H115 -> 0.00267473 | L115: 0.0018287 | M115: 0.0044149 | N115: 0.0026747 | O115: =L115-I115 -> -2e-09 | P115: =M115-J115 -> -5.5e-08 | Q115: =N115-K115 -> -3e-08 | R115: =(O115^2+P115^2+Q115^2)^0.5 -> 6.2681736e-08 | S115: =1000*(L115^2+M115^2)^0.5 -> 4.7786489
B116: 48261 | C116: 0.0019852 | D116: 0.0048114 | E116: 0.0032309 | F116: 1.1179e-05 | G116: 8.262e-06 | H116: -6.3028e-05 | I116: =C116+F116 -> 0.001996379 | J116: =D116+G116 -> 0.004819662 | K116: =E116+H116 -> 0.003167872 | L116: 0.0019964 | M116: 0.0048197 | N116: 0.0031679 | O116: =L116-I116 -> 2.1e-08 | P116: =M116-J116 -> 3.8e-08 | Q116: =N116-K116 -> 2.8e-08 | R116: =(O116^2+P116^2+Q116^2)^0.5 -> 5.1662365e-08 | S116: =1000*(L116^2+M116^2)^0.5 -> 5.2168114
B117: 48835 | C117: -0.0020752 | D117: 0.0050099 | E117: 0.0039 | F117: 0 | G117: 0 | H117: 0 | I117: =C117+F117 -> -0.0020752 | J117: =D117+G117 -> 0.0050099 | K117: =E117+H117 -> 0.0039 | L117: -0.0020752 | M117: 0.0050099 | N117: 0.0039 | O117: =L117-I117 -> 0 | P117: =M117-J117 -> 0 | Q117: =N117-K117 -> 0 | R117: =(O117^2+P117^2+Q117^2)^0.5 -> 0 | S117: =1000*(L117^2+M117^2)^0.5 -> 5.4226887 | Z117: 0
B118: 48859 | C118: 0.0021531 | D118: 0.005198 | E118: 0.0039 | F118: 0 | G118: 0 | H118: 0 | I118: =C118+F118 -> 0.0021531 | J118: =D118+G118 -> 0.005198 | K118: =E118+H118 -> 0.0039 | L118: 0.0021531 | M118: 0.005198 | N118: 0.0039 | O118: =L118-I118 -> 0 | P118: =M118-J118 -> 0 | Q118: =N118-K118 -> 0 | R118: =(O118^2+P118^2+Q118^2)^0.5 -> 0 | S118: =1000*(L118^2+M118^2)^0.5 -> 5.6262815 | Z118: 0

Sheet Pre-stress method G1
B1: Free Stress Geometry | F1: Displacement PIO 16 mmHg (2133.16 Pa) | I1: Estimated Physiological Geometry PIO 16 mmHg ( 2133.16 Pa) | L1: Measured Physiological Geometry PIO 16 mmHg ( 2133.16 Pa) | O1: Difference | R1: =MAX(R3:R59) -> 7.4995838e-10 | T1: RESIDUAL DISPLACEMENT PIO16 mmHg ( 2133.16 Pa)
B2: POINT | C2: X (m) | D2: Y (m) | E2: Z (m) | F2: dx (mm) | G2: dy(mm) | H2: dz (mm) | I2: X (m) | J2: Y (m) | K2: Z (m) | L2: X (m) | M2: Y (m) | N2: Z (m) | O2: X (m) | P2: Y (m) | Q2: Z (m) | R2: ERROR (m) | S2: RADIUS (mm) | T2: dx (mm) | U2: dy(mm) | V2: dz (mm)
A3: ANTERIOR FACE | B3: 2 | C3: =I3+F3 -> 1.9373269e-06 | D3: =J3+G3 -> -1.453709e-06 | E3: =K3+H3 -> 0.00020911229 | F3: 1.9373e-06 | G3: -1.4537e-06 | H3: 0.00020874 | I3: =L3+T3 -> 2.691043e-11 | J3: =M3+U3 -> -8.99099e-12 | K3: =N3+V3 -> 3.7229359e-07 | L3: 6.6243e-13 | M3: -2.7439e-13 | N3: 3.7158e-07 | O3: =L3-I3 -> -2.6248e-11 | P3: =M3-J3 -> 8.7166e-12 | Q3: =N3-K3 -> -7.1359e-10 | R3: =(O3^2+P3^2+Q3^2)^0.5 -> 7.1412578e-10 | S3: =1000*(L3^2+M3^2)^0.5 -> 7.1701003e-10 | T3: 2.6248e-11 | U3: -8.7166e-12 | V3: 7.1359e-10
B4: 10 | C4: =I4+F4 -> 0.00094256589 | D4: =J4+G4 -> -0.00039089986 | E4: =K4+H4 -> 0.00028768174 | F4: -1.6744e-05 | G4: 6.4601e-06 | H4: 0.00021087 | I4: =L4+T4 -> 0.00095930989 | J4: =M4+U4 -> -0.00039735996 | K4: =N4+V4 -> 7.6811742e-05 | L4: 0.00095931 | M4: -0.00039736 | N4: 7.6811e-05 | O4: =L4-I4 -> 1.0505e-10 | P4: =M4-J4 -> -3.956e-11 | Q4: =N4-K4 -> -7.4151e-10 | R4: =(O4^2+P4^2+Q4^2)^0.5 -> 7.4995838e-10 | S4: =1000*(L4^2+M4^2)^0.5 -> 1.03835 | T4: -1.0505e-10 | U4: 3.956e-11 | V4: 7.4151e-10
B5: 150 | C5: =I5+F5 -> 0.00094242092 | D5: =J5+G5 -> 0.00038773174 | E5: =K5+H5 -> 0.00028857965 | F5: -1.7039e-05 | G5: -9.6882e-06 | H5: 0.00021283 | I5: =L5+T5 -> 0.00095945992 | J5: =M5+U5 -> 0.00039741994 | K5: =N5+V5 -> 7.5749653e-05 | L5: 0.00095946 | M5: 0.00039742 | N5: 7.5749e-05 | O5: =L5-I5 -> 7.8623e-11 | P5: =M5-J5 -> 6.1121e-11 | Q5: =N5-K5 -> -6.5289e-10 | R5: =(O5^2+P5^2+Q5^2)^0.5 -> 6.604413e-10 | S5: =1000*(L5^2+M5^2)^0.5 -> 1.0385115 | T5: -7.8623e-11 | U5: -6.1121e-11 | V5: 6.5289e-10
B6: 1657 | C6: =I6+F6 -> 0.0018549629 | D6: =J6+G6 -> -0.00076907496 | E6: =K6+H6 -> 0.00051745035 | F6: -3.7837e-05 | G6: 1.4945e-05 | H6: 0.00021643 | I6: =L6+T6 -> 0.0018927999 | J6: =M6+U6 -> -0.00078401996 | K6: =N6+V6 -> 0.00030102035 | L6: 0.0018928 | M6: -0.00078402 | N6: 0.00030102 | O6: =L6-I6 -> 1.1326e-10 | P6: =M6-J6 -> -3.6366e-11 | Q6: =N6-K6 -> -3.4613e-10 | R6: =(O6^2+P6^2+Q6^2)^0.5 -> 3.660004e-10 | S6: =1000*(L6^2+M6^2)^0.5 -> 2.0487506 | T6: -1.1326e-10 | U6: 3.6366e-11 | V6: 3.4613e-10
B7: 1741 | C7: =I7+F7 -> 0.0018556479 | D7: =J7+G7 -> 0.00076681696 | E7: =K7+H7 -> 0.00051653026 | F7: -3.8252e-05 | G7: -1.7643e-05 | H7: 0.00021928 | I7: =L7+T7 -> 0.0018938999 | J7: =M7+U7 -> 0.00078445996 | K7: =N7+V7 -> 0.00029725026 | L7: 0.0018939 | M7: 0.00078446 | N7: 0.00029725 | O7: =L7-I7 -> 7.4888e-11 | P7: =M7-J7 -> 4.4207e-11 | Q7: =N7-K7 -> -2.5759e-10 | R7: =(O7^2+P7^2+Q7^2)^0.5 -> 2.7187328e-10 | S7: =1000*(L7^2+M7^2)^0.5 -> 2.0499353 | T7: -7.4888e-11 | U7: -4.4207e-11 | V7: 2.5759e-10
B8: 2881 | C8: =I8+F8 -> 0.0027927411 | D8: =J8+G8 -> -0.001158714 | E8: =K8+H8 -> 0.00091575993 | F8: -6.3659e-05 | G8: 2.4486e-05 | H8: 0.00021292 | I8: =L8+T8 -> 0.0028564001 | J8: =M8+U8 -> -0.0011832 | K8: =N8+V8 -> 0.00070283993 | L8: 0.0028564 | M8: -0.0011832 | N8: 0.00070284 | O8: =L8-I8 -> -6.2444e-11 | P8: =M8-J8 -> 3.0586e-11 | Q8: =N8-K8 -> 7.0985e-11 | R8: =(O8^2+P8^2+Q8^2)^0.5 -> 9.9366125e-11 | S8: =1000*(L8^2+M8^2)^0.5 -> 3.0917605 | T8: 6.2444e-11 | U8: -3.0586e-11 | V8: -7.0985e-11
B9: 2965 | C9: =I9+F9 -> 0.0027974941 | D9: =J9+G9 -> 0.001158859 | E9: =K9+H9 -> 0.00090750994 | F9: -6.3506e-05 | G9: -2.6241e-05 | H9: 0.00021487 | I9: =L9+T9 -> 0.0028610001 | J9: =M9+U9 -> 0.0011851 | K9: =N9+V9 -> 0.00069263994 | L9: 0.002861 | M9: 0.0011851 | N9: 0.00069264 | O9: =L9-I9 -> -6.1399e-11 | P9: =M9-J9 -> -4.3288e-11 | Q9: =N9-K9 -> 5.9443e-11 | R9: =(O9^2+P9^2+Q9^2)^0.5 -> 9.5797486e-11 | S9: =1000*(L9^2+M9^2)^0.5 -> 3.0967375 | T9: 6.1399e-11 | U9: 4.3288e-11 | V9: -5.9443e-11
B10: 4105 | C10: =I10+F10 -> 0.0037485632 | D10: =J10+G10 -> -0.0015552861 | E10: =K10+H10 -> 0.0014944699 | F10: -8.2237e-05 | G10: 3.1514e-05 | H10: 0.00017957 | I10: =L10+T10 -> 0.0038308002 | J10: =M10+U10 -> -0.0015868001 | K10: =N10+V10 -> 0.0013148999 | L10: 0.0038308 | M10: -0.0015868 | N10: 0.0013149 | O10: =L10-I10 -> -1.5984e-10 | P10: =M10-J10 -> 8.0304e-11 | Q10: =N10-K10 -> 1.2646e-10 | R10: =(O10^2+P10^2+Q10^2)^0.5 -> 2.1906549e-10 | S10: =1000*(L10^2+M10^2)^0.5 -> 4.1464398 | T10: 1.5984e-10 | U10: -8.0304e-11 | V10: -1.2646e-10
B11: 4189 | C11: =I11+F11 -> 0.0037622381 | D11: =J11+G11 -> 0.0015594801 | E11: =K11+H11 -> 0.0014761299 | F11: -7.9962e-05 | G11: -3.202e-05 | H11: 0.00017923 | I11: =L11+T11 -> 0.0038422001 | J11: =M11+U11 -> 0.0015915001 | K11: =N11+V11 -> 0.0012968999 | L11: 0.0038422 | M11: 0.0015915 | N11: 0.0012969 | O11: =L11-I11 -> -1.2201e-10 | P11: =M11-J11 -> -5.9588e-11 | Q11: =N11-K11 -> 9.8574e-11 | R11: =(O11^2+P11^2+Q11^2)^0.5 -> 1.6779155e-10 | S11: =1000*(L11^2+M11^2)^0.5 -> 4.1587706 | T11: 1.2201e-10 | U11: 5.9588e-11 | V11: -9.8574e-11
B12: 5329 | C12: =I12+F12 -> 0.0047619631 | D12: =J12+G12 -> -0.001972344 | E12: =K12+H12 -> 0.002279623 | F12: -6.4037e-05 | G12: 2.6656e-05 | H12: 9.1623e-05 | I12: =L12+T12 -> 0.0048260001 | J12: =M12+U12 -> -0.001999 | K12: =N12+V12 -> 0.002188 | L12: 0.004826 | M12: -0.001999 | N12: 0.002188 | O12: =L12-I12 -> -5.7691e-11 | P12: =M12-J12 -> 1.4904e-11 | Q12: =N12-K12 -> 3.1856e-11 | R12: =(O12^2+P12^2+Q12^2)^0.5 -> 6.7566156e-11 | S12: =1000*(L12^2+M12^2)^0.5 -> 5.2236268 | T12: 5.7691e-11 | U12: -1.4904e-11 | V12: -3.1856e-11
B13: 5413 | C13: =I13+F13 -> 0.004773814 | D13: =J13+G13 -> 0.001975823 | E13: =K13+H13 -> 0.002269238 | F13: -6.1586e-05 | G13: -2.7077e-05 | H13: 9.2438e-05 | I13: =L13+T13 -> 0.0048354 | J13: =M13+U13 -> 0.0020029 | K13: =N13+V13 -> 0.0021768 | L13: 0.0048354 | M13: 0.0020029 | N13: 0.0021768 | O13: =L13-I13 -> -2.6915e-11 | P13: =M13-J13 -> -1.401e-11 | Q13: =N13-K13 -> 2.6009e-11 | R13: =(O13^2+P13^2+Q13^2)^0.5 -> 3.9964552e-11 | S13: =1000*(L13^2+M13^2)^0.5 -> 5.2338037 | T13: 2.6915e-11 | U13: 1.401e-11 | V13: -2.6009e-11
B14: 6547 | C14: =I14+F14 -> 0.005298952 | D14: =J14+G14 -> -0.00219351 | E14: =K14+H14 -> 0.002773583 | F14: -3.0348e-05 | G14: 1.399e-05 | H14: 2.8183e-05 | I14: =L14+T14 -> 0.0053293 | J14: =M14+U14 -> -0.0022075 | K14: =N14+V14 -> 0.0027454 | L14: 0.0053293 | M14: -0.0022075 | N14: 0.0027454 | O14: =L14-I14 -> -1.3185e-11 | P14: =M14-J14 -> 9.2391979e-13 | Q14: =N14-K14 -> 1.0265e-11 | R14: =(O14^2+P14^2+Q14^2)^0.5 -> 1.6735234e-11 | S14: =1000*(L14^2+M14^2)^0.5 -> 5.7684049 | T14: 1.3185e-11 | U14: -9.2392e-13 | V14: -1.0265e-11
B15: 6589 | C15: =I15+F15 -> 0.005312552 | D15: =J15+G15 -> 0.002197781 | E15: =K15+H15 -> 0.00276429 | F15: -2.8148e-05 | G15: -1.4419e-05 | H15: 2.839e-05 | I15: =L15+T15 -> 0.0053407 | J15: =M15+U15 -> 0.0022122 | K15: =N15+V15 -> 0.0027359 | L15: 0.0053407 | M15: 0.0022122 | N15: 0.0027359 | O15: =L15-I15 -> 2.5884e-12 | P15: =M15-J15 -> -2.3089e-12 | Q15: =N15-K15 -> 7.9825998e-12 | R15: =(O15^2+P15^2+Q15^2)^0.5 -> 8.7036046e-12 | S15: =1000*(L15^2+M15^2)^0.5 -> 5.7807357 | T15: -2.5884e-12 | U15: 2.3089e-12 | V15: -7.9826e-12
... B59: 48863 | C59: =I59+F59 -> 0.0024278 | D59: =J59+G59 -> 0.0058613 | E59: =K59+H59 -> 0.0031501 | F59: 0 | G59: 0 | H59: 0 | I59: =L59+T59 -> 0.0024278 | J59: =M59+U59 -> 0.0058613 | K59: =N59+V59 -> 0.0031501 | L59: 0.0024278 | M59: 0.0058613 | N59: 0.0031501 | O59: =L59-I59 -> 0 | P59: =M59-J59 -> 0 | Q59: =N59-K59 -> 0 | R59: =(O59^2+P59^2+Q59^2)^0.5 -> 0 | S59: =1000*(L59^2+M59^2)^0.5 -> 6.3442139 | T59: 0 | U59: 0 | V59: 0
B60: Free Stress Geometry | F60: Displacement PIO 16 mmHg (2133.16 Pa) | I60: Estimated Physiological Geometry PIO 16 mmHg ( 2133.16 Pa) | L60: Measured Physiological Geometry PIO 16 mmHg ( 2133.16 Pa) | O60: Difference | R60: =MAX(R62:R118) -> 7.7474381e-10 | T60: RESIDUAL DISPLACEMENT PIO16 mmHg ( 2133.16 Pa)
B61: POINT | C61: X (m) | D61: Y (m) | E61: Z (m) | F61: dx (mm) | G61: dy(mm) | H61: dz (mm) | I61: X (m) | J61: Y (m) | K61: Z (m) | L61: X (m) | M61: Y (m) | N61: Z (m) | O61: X (m) | P61: Y (m) | Q61: Z (m) | R61: ERROR (m) | S61: RADIUS (mm) | T61: dx (mm) | U61: dy(mm) | V61: dz (mm)
A62: POSTERIOR FACE | B62: 1 | C62: =I62+F62 -> 2.3800061e-06 | D62: =J62+G62 -> -2.7298586e-06 | E62: =K62+H62 -> 0.00071004073 | F62: 2.3801e-06 | G62: -2.7299e-06 | H62: 0.00023124 | I62: =L62+T62 -> -9.391557e-11 | J62: =M62+U62 -> 4.142361e-11 | K62: =N62+V62 -> 0.00047880073 | L62: 6.6243e-13 | M62: -2.7439e-13 | N62: 0.0004788 | O62: =L62-I62 -> 9.4578e-11 | P62: =M62-J62 -> -4.1698e-11 | Q62: =N62-K62 -> -7.2958e-10 | R62: =(O62^2+P62^2+Q62^2)^0.5 -> 7.3686545e-10 | S62: =1000*(L62^2+M62^2)^0.5 -> 7.1701003e-10 | T62: -9.4578e-11 | U62: 4.1698e-11 | V62: 7.2958e-10
B63: 30 | C63: =I63+F63 -> 0.00086865399 | D63: =J63+G63 -> -0.0003614587 | E63: =K63+H63 -> 0.00077748077 | F63: -2.2266e-05 | G63: 7.5713e-06 | H63: 0.00023265 | I63: =L63+T63 -> 0.00089091999 | J63: =M63+U63 -> -0.00036903 | K63: =N63+V63 -> 0.00054483077 | L63: 0.00089092 | M63: -0.00036903 | N63: 0.00054483 | O63: =L63-I63 -> 5.9014e-12 | P63: =M63-J63 -> 1.4375e-12 | Q63: =N63-K63 -> -7.7472e-10 | R63: =(O63^2+P63^2+Q63^2)^0.5 -> 7.7474381e-10 | S63: =1000*(L63^2+M63^2)^0.5 -> 0.96432442 | T63: -5.9014e-12 | U63: -1.4375e-12 | V63: 7.7472e-10
B64: 170 | C64: =I64+F64 -> 0.000868006 | D64: =J64+G64 -> 0.00035568708 | E64: =K64+H64 -> 0.0007834407 | F64: -2.2334e-05 | G64: -1.3103e-05 | H64: 0.00023462 | I64: =L64+T64 -> 0.00089034 | J64: =M64+U64 -> 0.00036879008 | K64: =N64+V64 -> 0.0005488207 | L64: 0.00089034 | M64: 0.00036879 | N64: 0.00054882 | O64: =L64-I64 -> -1.3707e-12 | P64: =M64-J64 -> -8.4629e-11 | Q64: =N64-K64 -> -6.9507e-10 | R64: =(O64^2+P64^2+Q64^2)^0.5 -> 7.0020444e-10 | S64: =1000*(L64^2+M64^2)^0.5 -> 0.96369673 | T64: 1.3707e-12 | U64: 8.4629e-11 | V64: 6.9507e-10
B65: 1645 | C65: =I65+F65 -> 0.0017169011 | D65: =J65+G65 -> -0.00071301204 | E65: =K65+H65 -> 0.00099460042 | F65: -4.7499e-05 | G65: 1.7818e-05 | H65: 0.00023776 | I65: =L65+T65 -> 0.0017644001 | J65: =M65+U65 -> -0.00073083004 | K65: =N65+V65 -> 0.00075684042 | L65: 0.0017644 | M65: -0.00073083 | N65: 0.00075684 | O65: =L65-I65 -> -1.1751e-10 | P65: =M65-J65 -> 4.1597e-11 | Q65: =N65-K65 -> -4.1744e-10 | R65: =(O65^2+P65^2+Q65^2)^0.5 -> 4.3565475e-10 | S65: =1000*(L65^2+M65^2)^0.5 -> 1.9097696 | T65: 1.1751e-10 | U65: -4.1597e-11 | V65: 4.1744e-10
B66: 1729 | C66: =I66+F66 -> 0.0017153091 | D66: =J66+G66 -> 0.0007074221 | E66: =K66+H66 -> 0.0010040803 | F66: -4.7291e-05 | G66: -2.2658e-05 | H66: 0.00024081 | I66: =L66+T66 -> 0.0017626001 | J66: =M66+U66 -> 0.0007300801 | K66: =N66+V66 -> 0.00076327033 | L66: 0.0017626 | M66: 0.00073008 | N66: 0.00076327 | O66: =L66-I66 -> -1.136e-10 | P66: =M66-J66 -> -9.533e-11 | Q66: =N66-K66 -> -3.265e-10 | R66: =(O66^2+P66^2+Q66^2)^0.5 -> 3.5860148e-10 | S66: =1000*(L66^2+M66^2)^0.5 -> 1.9078196 | T66: 1.136e-10 | U66: 9.533e-11 | V66: 3.265e-10
B67: 2869 | C67: =I67+F67 -> 0.0025854112 | D67: =J67+G67 -> -0.0010729911 | E67: =K67+H67 -> 0.00138085 | F67: -7.2789e-05 | G67: 2.8009e-05 | H67: 0.00023595 | I67: =L67+T67 -> 0.0026582002 | J67: =M67+U67 -> -0.0011010001 | K67: =N67+V67 -> 0.0011449 | L67: 0.0026582 | M67: -0.001101 | N67: 0.0011449 | O67: =L67-I67 -> -1.8413e-10 | P67: =M67-J67 -> 6.3519e-11 | Q67: =N67-K67 -> 2.3191e-11 | R67: =(O67^2+P67^2+Q67^2)^0.5 -> 1.9615388e-10 | S67: =1000*(L67^2+M67^2)^0.5 -> 2.877191 | T67: 1.8413e-10 | U67: -6.3519e-11 | V67: -2.3191e-11
B68: 2953 | C68: =I68+F68 -> 0.0025828021 | D68: =J68+G68 -> 0.0010676131 | E68: =K68+H68 -> 0.00139348 | F68: -7.0998e-05 | G68: -3.1587e-05 | H68: 0.00023888 | I68: =L68+T68 -> 0.0026538001 | J68: =M68+U68 -> 0.0010992001 | K68: =N68+V68 -> 0.0011546 | L68: 0.0026538 | M68: 0.0010992 | N68: 0.0011546 | O68: =L68-I68 -> -1.3596e-10 | P68: =M68-J68 -> -7.2095e-11 | Q68: =N68-K68 -> 3.6272e-11 | R68: =(O68^2+P68^2+Q68^2)^0.5 -> 1.5810904e-10 | S68: =1000*(L68^2+M68^2)^0.5 -> 2.8724371 | T68: 1.3596e-10 | U68: 7.2095e-11 | V68: -3.6272e-11
B69: 4093 | C69: =I69+F69 -> 0.0034638091 | D69: =J69+G69 -> -0.001436684 | E69: =K69+H69 -> 0.0019719198 | F69: -8.3091e-05 | G69: 3.2516e-05 | H69: 0.00020922 | I69: =L69+T69 -> 0.0035469001 | J69: =M69+U69 -> -0.0014692 | K69: =N69+V69 -> 0.0017626998 | L69: 0.0035469 | M69: -0.0014692 | N69: 0.0017627 | O69: =L69-I69 -> -1.3221e-10 | P69: =M69-J69 -> 3.4886e-11 | Q69: =N69-K69 -> 1.687e-10 | R69: =(O69^2+P69^2+Q69^2)^0.5 -> 2.171548e-10 | S69: =1000*(L69^2+M69^2)^0.5 -> 3.8391468 | T69: 1.3221e-10 | U69: -3.4886e-11 | V69: -1.687e-10
B70: 4177 | C70: =I70+F70 -> 0.0034649211 | D70: =J70+G70 -> 0.001433871 | E70: =K70+H70 -> 0.0019777999 | F70: -7.9079e-05 | G70: -3.4129e-05 | H70: 0.0002105 | I70: =L70+T70 -> 0.0035440001 | J70: =M70+U70 -> 0.001468 | K70: =N70+V70 -> 0.0017672999 | L70: 0.003544 | M70: 0.001468 | N70: 0.0017673 | O70: =L70-I70 -> -9.6213e-11 | P70: =M70-J70 -> -2.6738e-11 | Q70: =N70-K70 -> 1.4607e-10 | R70: =(O70^2+P70^2+Q70^2)^0.5 -> 1.7694154e-10 | S70: =1000*(L70^2+M70^2)^0.5 -> 3.8360083 | T70: 9.6213e-11 | U70: 2.6738e-11 | V70: -1.4607e-10
B71: 5317 | C71: =I71+F71 -> 0.004354725 | D71: =J71+G71 -> -0.001804219 | E71: =K71+H71 -> 0.0028263899 | F71: -4.7075e-05 | G71: 1.9081e-05 | H71: 0.00013609 | I71: =L71+T71 -> 0.0044018 | J71: =M71+U71 -> -0.0018233 | K71: =N71+V71 -> 0.0026902999 | L71: 0.0044018 | M71: -0.0018233 | N71: 0.0026903 | O71: =L71-I71 -> -2.0337e-11 | P71: =M71-J71 -> -1.1128e-11 | Q71: =N71-K71 -> 7.8594e-11 | R71: =(O71^2+P71^2+Q71^2)^0.5 -> 8.1941703e-11 | S71: =1000*(L71^2+M71^2)^0.5 -> 4.7644796 | T71: 2.0337e-11 | U71: 1.1128e-11 | V71: -7.8594e-11
B72: 5401 | C72: =I72+F72 -> 0.004367981 | D72: =J72+G72 -> 0.001807823 | E72: =K72+H72 -> 0.0028152199 | F72: -4.4519e-05 | G72: -1.9877e-05 | H72: 0.00013762 | I72: =L72+T72 -> 0.0044125 | J72: =M72+U72 -> 0.0018277 | K72: =N72+V72 -> 0.0026775999 | L72: 0.0044125 | M72: 0.0018277 | N72: 0.0026776 | O72: =L72-I72 -> -1.4951e-11 | P72: =M72-J72 -> 1.2628e-11 | Q72: =N72-K72 -> 5.9233e-11 | R72: =(O72^2+P72^2+Q72^2)^0.5 -> 6.2382266e-11 | S72: =1000*(L72^2+M72^2)^0.5 -> 4.7760489 | T72: 1.4951e-11 | U72: -1.2628e-11 | V72: -5.9233e-11
B73: 6541 | C73: =I73+F73 -> 0.004776733 | D73: =J73+G73 -> -0.0019765599 | E73: =K73+H73 -> 0.003271178 | F73: -1.7567e-05 | G73: 9.3401e-06 | H73: 8.2278e-05 | I73: =L73+T73 -> 0.0047943 | J73: =M73+U73 -> -0.0019859 | K73: =N73+V73 -> 0.0031889 | L73: 0.0047943 | M73: -0.0019859 | N73: 0.0031889 | O73: =L73-I73 -> -1.7592004e-12 | P73: =M73-J73 -> -4.0535002e-12 | Q73: =N73-K73 -> 2.9454e-11 | R73: =(O73^2+P73^2+Q73^2)^0.5 -> 2.9783616e-11 | S73: =1000*(L73^2+M73^2)^0.5 -> 5.1893267 | T73: 1.7592e-12 | U73: 4.0535e-12 | V73: -2.9454e-11
B74: 6583 | C74: =I74+F74 -> 0.004811456 | D74: =J74+G74 -> 0.0019896472 | E74: =K74+H74 -> 0.003242896 | F74: -1.6044e-05 | G74: -9.9528e-06 | H74: 8.1496e-05 | I74: =L74+T74 -> 0.0048275 | J74: =M74+U74 -> 0.0019996 | K74: =N74+V74 -> 0.0031614 | L74: 0.0048275 | M74: 0.0019996 | N74: 0.0031614 | O74: =L74-I74 -> 3.6726004e-12 | P74: =M74-J74 -> 3.9313002e-12 | Q74: =N74-K74 -> 2.7846e-11 | R74: =(O74^2+P74^2+Q74^2)^0.5 -> 2.8360938e-11 | S74: =1000*(L74^2+M74^2)^0.5 -> 5.2252422 | T74: -3.6726e-12 | U74: -3.9313e-12 | V74: -2.7846e-11
... B118: 48859 | C118: =I118+F118 -> 0.0021531 | D118: =J118+G118 -> 0.005198 | E118: =K118+H118 -> 0.0039 | F118: 0 | G118: 0 | H118: 0 | I118: =L118+T118 -> 0.0021531 | J118: =M118+U118 -> 0.005198 | K118: =N118+V118 -> 0.0039 | L118: 0.0021531 | M118: 0.005198 | N118: 0.0039 | O118: =L118-I118 -> 0 | P118: =M118-J118 -> 0 | Q118: =N118-K118 -> 0 | R118: =(O118^2+P118^2+Q118^2)^0.5 -> 0 | S118: =1000*(L118^2+M118^2)^0.5 -> 5.6262815 | T118: 0 | U118: 0 | V118: 0

Sheet Inverse Geo Difference G1
A1: FREE STRESS GEOMETRY DIFFERENCE | E1: =1000000*MAX(E3:E59) -> 7.575659 | F1: DIFFERENCE | J1: AVERAGE | K1: STANDARD DEVIATION
A2: POINT | B2: X (m) | C2: Y (m) | D2: Z (m) | E2: ERROR (m) | F2: RADIUS (mm) | G2: ERROR (μm) | J2: =AVERAGE(G:G) -> 2.9153463 | K2: =_xlfn.STDEV.S((G:G)) -> 1.8315062
A3: ='Displacement method G1'!B3 -> 2 | B3: ='Displacement method G1'!C3-'Pre-stress method G1'!C3 -> -1.6472691e-07 | C3: ='Displacement method G1'!D3-'Pre-stress method G1'!D3 -> 7.9756899e-07 | D3: ='Displacement method G1'!E3-'Pre-stress method G1'!E3 -> 4.4577064e-06 | E3: =(B3^2+C3^2+D3^2)^0.5 -> 4.5314896e-06 | F3: ='Displacement method G1'!S3 -> 7.1701003e-10 | G3: =E3*1000000 -> 4.5314896
A4: ='Displacement method G1'!B4 -> 10 | B4: ='Displacement method G1'!C4-'Pre-stress method G1'!C4 -> -2.589495e-08 | C4: ='Displacement method G1'!D4-'Pre-stress method G1'!D4 -> 9.6986044e-07 | D4: ='Displacement method G1'!E4-'Pre-stress method G1'!E4 -> 4.6582585e-06 | E4: =(B4^2+C4^2+D4^2)^0.5 -> 4.7582215e-06 | F4: ='Displacement method G1'!S4 -> 1.03835 | G4: =E4*1000000 -> 4.7582215
A5: ='Displacement method G1'!B5 -> 150 | B5: ='Displacement method G1'!C5-'Pre-stress method G1'!C5 -> 2.9078623e-08 | C5: ='Displacement method G1'!D5-'Pre-stress method G1'!D5 -> 8.7826112e-07 | D5: ='Displacement method G1'!E5-'Pre-stress method G1'!E5 -> 4.1903471e-06 | E5: =(B5^2+C5^2+D5^2)^0.5 -> 4.2814947e-06 | F5: ='Displacement method G1'!S5 -> 1.0385115 | G5: =E5*1000000 -> 4.2814947
A6: ='Displacement method G1'!B6 -> 1657 | B6: ='Displacement method G1'!C6-'Pre-stress method G1'!C6 -> 2.3711326e-07 | C6: ='Displacement method G1'!D6-'Pre-stress method G1'!D6 -> 8.5496363e-07 | D6: ='Displacement method G1'!E6-'Pre-stress method G1'!E6 -> 2.9296539e-06 | E6: =(B6^2+C6^2+D6^2)^0.5 -> 3.0610549e-06 | F6: ='Displacement method G1'!S6 -> 2.0487506 | G6: =E6*1000000 -> 3.0610549
A7: ='Displacement method G1'!B7 -> 1741 | B7: ='Displacement method G1'!C7-'Pre-stress method G1'!C7 -> 2.5207489e-07 | C7: ='Displacement method G1'!D7-'Pre-stress method G1'!D7 -> 8.1304421e-07 | D7: ='Displacement method G1'!E7-'Pre-stress method G1'!E7 -> 2.3197424e-06 | E7: =(B7^2+C7^2+D7^2)^0.5 -> 2.4709892e-06 | F7: ='Displacement method G1'!S7 -> 2.0499353 | G7: =E7*1000000 -> 2.4709892
A8: ='Displacement method G1'!B8 -> 2881 | B8: ='Displacement method G1'!C8-'Pre-stress method G1'!C8 -> 7.5893756e-07 | C8: ='Displacement method G1'!D8-'Pre-stress method G1'!D8 -> 6.1403059e-07 | D8: ='Displacement method G1'!E8-'Pre-stress method G1'!E8 -> -6.9929015e-08 | E8: =(B8^2+C8^2+D8^2)^0.5 -> 9.7872869e-07 | F8: ='Displacement method G1'!S8 -> 3.0917605 | G8: =E8*1000000 -> 0.97872869
A9: ='Displacement method G1'!B9 -> 2965 | B9: ='Displacement method G1'!C9-'Pre-stress method G1'!C9 -> 5.059386e-07 | C9: ='Displacement method G1'!D9-'Pre-stress method G1'!D9 -> 6.4095671e-07 | D9: ='Displacement method G1'!E9-'Pre-stress method G1'!E9 -> -5.2994056e-07 | E9: =(B9^2+C9^2+D9^2)^0.5 -> 9.7346616e-07 | F9: ='Displacement method G1'!S9 -> 3.0967375 | G9: =E9*1000000 -> 0.97346616
A10: ='Displacement method G1'!B10 -> 4105 | B10: ='Displacement method G1'!C10-'Pre-stress method G1'!C10 -> 1.0368402e-06 | C10: ='Displacement method G1'!D10-'Pre-stress method G1'!D10 -> 1.860803e-07 | D10: ='Displacement method G1'!E10-'Pre-stress method G1'!E10 -> -3.2698735e-06 | E10: =(B10^2+C10^2+D10^2)^0.5 -> 3.4353655e-06 | F10: ='Displacement method G1'!S10 -> 4.1464398 | G10: =E10*1000000 -> 3.4353655
A11: ='Displacement method G1'!B11 -> 4189 | B11: ='Displacement method G1'!C11-'Pre-stress method G1'!C11 -> 3.6187799e-07 | C11: ='Displacement method G1'!D11-'Pre-stress method G1'!D11 -> 4.1994041e-07 | D11: ='Displacement method G1'!E11-'Pre-stress method G1'!E11 -> -3.3299014e-06 | E11: =(B11^2+C11^2+D11^2)^0.5 -> 3.3757294e-06 | F11: ='Displacement method G1'!S11 -> 4.1587706 | G11: =E11*1000000 -> 3.3757294
A12: ='Displacement method G1'!B12 -> 5329 | B12: ='Displacement method G1'!C12-'Pre-stress method G1'!C12 -> 4.3694231e-07 | C12: ='Displacement method G1'!D12-'Pre-stress method G1'!D12 -> -5.5985096e-08 | D12: ='Displacement method G1'!E12-'Pre-stress method G1'!E12 -> -3.6229681e-06 | E12: =(B12^2+C12^2+D12^2)^0.5 -> 3.6496508e-06 | F12: ='Displacement method G1'!S12 -> 5.2236268 | G12: =E12*1000000 -> 3.6496508
A13: ='Displacement method G1'!B13 -> 5413 | B13: ='Displacement method G1'!C13-'Pre-stress method G1'!C13 -> -2.1402691e-07 | C13: ='Displacement method G1'!D13-'Pre-stress method G1'!D13 -> 3.7698599e-07 | D13: ='Displacement method G1'!E13-'Pre-stress method G1'!E13 -> -3.537974e-06 | E13: =(B13^2+C13^2+D13^2)^0.5 -> 3.5644335e-06 | F13: ='Displacement method G1'!S13 -> 5.2338037 | G13: =E13*1000000 -> 3.5644335
A14: ='Displacement method G1'!B14 -> 6547 | B14: ='Displacement method G1'!C14-'Pre-stress method G1'!C14 -> -5.2013185e-08 | C14: ='Displacement method G1'!D14-'Pre-stress method G1'!D14 -> 1.0000924e-08 | D14: ='Displacement method G1'!E14-'Pre-stress method G1'!E14 -> -1.5829897e-06 | E14: =(B14^2+C14^2+D14^2)^0.5 -> 1.5838756e-06 | F14: ='Displacement method G1'!S14 -> 5.7684049 | G14: =E14*1000000 -> 1.5838756
... A59: ='Displacement method G1'!B59 -> 48863 | B59: ='Displacement method G1'!C59-'Pre-stress method G1'!C59 -> 0 | C59: ='Displacement method G1'!D59-'Pre-stress method G1'!D59 -> 0 | D59: ='Displacement method G1'!E59-'Pre-stress method G1'!E59 -> 0 | E59: =(B59^2+C59^2+D59^2)^0.5 -> 0 | F59: ='Displacement method G1'!S59 -> 6.3442139 | G59: =E59*1000000 -> 0
A60: FREE STRESS GEOMETRY DIFFERENCE | E60: =1000000*MAX(E62:E118) -> 8.3635548 | F60: DIFFERENCE
A61: POINT | B61: X (m) | C61: Y (m) | D61: Z (m) | E61: ERROR (m) | F61: RADIUS (mm) | G61: ERROR (μm)
A62: ='Displacement method G1'!B62 -> 1 | B62: ='Displacement method G1'!C62-'Pre-stress method G1'!C62 -> -6.9480608e-07 | C62: ='Displacement method G1'!D62-'Pre-stress method G1'!D62 -> 8.6585858e-07 | D62: ='Displacement method G1'!E62-'Pre-stress method G1'!E62 -> 4.0692704e-06 | E62: =(B62^2+C62^2+D62^2)^0.5 -> 4.2179887e-06 | F62: ='Displacement method G1'!S62 -> 7.1701003e-10 | G62: =E62*1000000 -> 4.2179887
A63: ='Displacement method G1'!B63 -> 30 | B63: ='Displacement method G1'!C63-'Pre-stress method G1'!C63 -> -2.039941e-07 | C63: ='Displacement method G1'!D63-'Pre-stress method G1'!D63 -> 5.8870144e-07 | D63: ='Displacement method G1'!E63-'Pre-stress method G1'!E63 -> 4.2692253e-06 | E63: =(B63^2+C63^2+D63^2)^0.5 -> 4.3144487e-06 | F63: ='Displacement method G1'!S63 -> 0.96432442 | G63: =E63*1000000 -> 4.3144487
A64: ='Displacement method G1'!B64 -> 170 | B64: ='Displacement method G1'!C64-'Pre-stress method G1'!C64 -> -2.0600137e-07 | C64: ='Displacement method G1'!D64-'Pre-stress method G1'!D64 -> 1.2329154e-06 | D64: ='Displacement method G1'!E64-'Pre-stress method G1'!E64 -> 3.8093049e-06 | E64: =(B64^2+C64^2+D64^2)^0.5 -> 4.0091546e-06 | F64: ='Displacement method G1'!S64 -> 0.96369673 | G64: =E64*1000000 -> 4.0091546
A65: ='Displacement method G1'!B65 -> 1645 | B65: ='Displacement method G1'!C65-'Pre-stress method G1'!C65 -> 6.9888249e-07 | C65: ='Displacement method G1'!D65-'Pre-stress method G1'!D65 -> 1.420416e-07 | D65: ='Displacement method G1'!E65-'Pre-stress method G1'!E65 -> 2.7395826e-06 | E65: =(B65^2+C65^2+D65^2)^0.5 -> 2.8308877e-06 | F65: ='Displacement method G1'!S65 -> 1.9097696 | G65: =E65*1000000 -> 2.8308877
A66: ='Displacement method G1'!B66 -> 1729 | B66: ='Displacement method G1'!C66-'Pre-stress method G1'!C66 -> 6.908864e-07 | C66: ='Displacement method G1'!D66-'Pre-stress method G1'!D66 -> 1.4879047e-06 | D66: ='Displacement method G1'!E66-'Pre-stress method G1'!E66 -> 2.1196735e-06 | E66: =(B66^2+C66^2+D66^2)^0.5 -> 2.6803358e-06 | F66: ='Displacement method G1'!S66 -> 1.9078196 | G66: =E66*1000000 -> 2.6803358
A67: ='Displacement method G1'!B67 -> 2869 | B67: ='Displacement method G1'!C67-'Pre-stress method G1'!C67 -> 2.5888159e-06 | C67: ='Displacement method G1'!D67-'Pre-stress method G1'!D67 -> -7.0893648e-07 | D67: ='Displacement method G1'!E67-'Pre-stress method G1'!E67 -> 4.5002319e-07 | E67: =(B67^2+C67^2+D67^2)^0.5 -> 2.721595e-06 | F67: ='Displacement method G1'!S67 -> 2.877191 | G67: =E67*1000000 -> 2.721595
A68: ='Displacement method G1'!B68 -> 2953 | B68: ='Displacement method G1'!C68-'Pre-stress method G1'!C68 -> 2.397864e-06 | C68: ='Displacement method G1'!D68-'Pre-stress method G1'!D68 -> 1.8869279e-06 | D68: ='Displacement method G1'!E68-'Pre-stress method G1'!E68 -> 1.2003627e-07 | E68: =(B68^2+C68^2+D68^2)^0.5 -> 3.0536302e-06 | F68: ='Displacement method G1'!S68 -> 2.8724371 | G68: =E68*1000000 -> 3.0536302
A69: ='Displacement method G1'!B69 -> 4093 | B69: ='Displacement method G1'!C69-'Pre-stress method G1'!C69 -> 4.8908678e-06 | C69: ='Displacement method G1'!D69-'Pre-stress method G1'!D69 -> -1.6159651e-06 | D69: ='Displacement method G1'!E69-'Pre-stress method G1'!E69 -> -1.1198313e-06 | E69: =(B69^2+C69^2+D69^2)^0.5 -> 5.2712383e-06 | F69: ='Displacement method G1'!S69 -> 3.8391468 | G69: =E69*1000000 -> 5.2712383
A70: ='Displacement method G1'!B70 -> 4177 | B70: ='Displacement method G1'!C70-'Pre-stress method G1'!C70 -> 4.2789038e-06 | C70: ='Displacement method G1'!D70-'Pre-stress method G1'!D70 -> 2.2289733e-06 | D70: ='Displacement method G1'!E70-'Pre-stress method G1'!E70 -> -1.0998539e-06 | E70: =(B70^2+C70^2+D70^2)^0.5 -> 4.9484359e-06 | F70: ='Displacement method G1'!S70 -> 3.8360083 | G70: =E70*1000000 -> 4.9484359
A71: ='Displacement method G1'!B71 -> 5317 | B71: ='Displacement method G1'!C71-'Pre-stress method G1'!C71 -> 4.3749797e-06 | C71: ='Displacement method G1'!D71-'Pre-stress method G1'!D71 -> -2.1810111e-06 | D71: ='Displacement method G1'!E71-'Pre-stress method G1'!E71 -> 1.0078594e-08 | E71: =(B71^2+C71^2+D71^2)^0.5 -> 4.8884924e-06 | F71: ='Displacement method G1'!S71 -> 4.7644796 | G71: =E71*1000000 -> 4.8884924
A72: ='Displacement method G1'!B72 -> 5401 | B72: ='Displacement method G1'!C72-'Pre-stress method G1'!C72 -> 4.118985e-06 | C72: ='Displacement method G1'!D72-'Pre-stress method G1'!D72 -> 2.2770126e-06 | D72: ='Displacement method G1'!E72-'Pre-stress method G1'!E72 -> -1.9940767e-08 | E72: =(B72^2+C72^2+D72^2)^0.5 -> 4.7065085e-06 | F72: ='Displacement method G1'!S72 -> 4.7760489 | G72: =E72*1000000 -> 4.7065085
A73: ='Displacement method G1'!B73 -> 6541 | B73: ='Displacement method G1'!C73-'Pre-stress method G1'!C73 -> 3.0669982e-06 | C73: ='Displacement method G1'!D73-'Pre-stress method G1'!D73 -> -1.6401041e-06 | D73: ='Displacement method G1'!E73-'Pre-stress method G1'!E73 -> 2.1220295e-06 | E73: =(B73^2+C73^2+D73^2)^0.5 -> 4.0742396e-06 | F73: ='Displacement method G1'!S73 -> 5.1893267 | G73: =E73*1000000 -> 4.0742396
... A118: ='Displacement method G1'!B118 -> 48859 | B118: ='Displacement method G1'!C118-'Pre-stress method G1'!C118 -> 0 | C118: ='Displacement method G1'!D118-'Pre-stress method G1'!D118 -> 0 | D118: ='Displacement method G1'!E118-'Pre-stress method G1'!E118 -> 0 | E118: =(B118^2+C118^2+D118^2)^0.5 -> 0 | F118: ='Displacement method G1'!S118 -> 5.6262815 | G118: =E118*1000000 -> 0

Sheet Physiological Geo Difference G1
A1: PHYSIOLOGICAL GEOMETRY DIFFERENCE | E1: =1000000*MAX(E3:E59) -> 0.11950708 | F1: MAX DIFFERENCE | J1: AVERAGE | K1: STANDARD DEVIATION
A2: POINT | B2: X (m) | C2: Y (m) | D2: Z (m) | E2: ERROR (m) | F2: RADIUS (mm) | G2: ERROR (μm) | J2: =AVERAGE(G:G) -> 0.044709313 | K2: =_xlfn.STDEV.S((G:G)) -> 0.032951557
A3: ='Displacement method G1'!B3 -> 2 | B3: ='Displacement method G1'!I3-'Pre-stress method G1'!I3 -> 7.308957e-11 | C3: ='Displacement method G1'!J3-'Pre-stress method G1'!J3 -> -1.00901e-12 | D3: ='Displacement method G1'!K3-'Pre-stress method G1'!K3 -> -2.29359e-09 | E3: =(B3^2+C3^2+D3^2)^0.5 -> 2.2947545e-09 | F3: ='Displacement method G1'!S3 -> 7.1701003e-10 | G3: =E3*1000000 -> 0.0022947545
A4: ='Displacement method G1'!B4 -> 10 | B4: ='Displacement method G1'!I4-'Pre-stress method G1'!I4 -> -2.89495e-09 | C4: ='Displacement method G1'!J4-'Pre-stress method G1'!J4 -> 3.96044e-09 | D4: ='Displacement method G1'!K4-'Pre-stress method G1'!K4 -> -1.74151e-09 | E4: =(B4^2+C4^2+D4^2)^0.5 -> 5.205639e-09 | F4: ='Displacement method G1'!S4 -> 1.03835 | G4: =E4*1000000 -> 0.005205639
A5: ='Displacement method G1'!B5 -> 150 | B5: ='Displacement method G1'!I5-'Pre-stress method G1'!I5 -> 9.078623e-09 | C5: ='Displacement method G1'!J5-'Pre-stress method G1'!J5 -> 7.561121e-09 | D5: ='Displacement method G1'!K5-'Pre-stress method G1'!K5 -> 3.4711e-10 | E5: =(B5^2+C5^2+D5^2)^0.5 -> 1.1820001e-08 | F5: ='Displacement method G1'!S5 -> 1.0385115 | G5: =E5*1000000 -> 0.011820001
A6: ='Displacement method G1'!B6 -> 1657 | B6: ='Displacement method G1'!I6-'Pre-stress method G1'!I6 -> -3.888674e-08 | C6: ='Displacement method G1'!J6-'Pre-stress method G1'!J6 -> -4.036366e-09 | D6: ='Displacement method G1'!K6-'Pre-stress method G1'!K6 -> -3.4613e-10 | E6: =(B6^2+C6^2+D6^2)^0.5 -> 3.9097194e-08 | F6: ='Displacement method G1'!S6 -> 2.0487506 | G6: =E6*1000000 -> 0.039097194
A7: ='Displacement method G1'!B7 -> 1741 | B7: ='Displacement method G1'!I7-'Pre-stress method G1'!I7 -> -1.8925112e-08 | C7: ='Displacement method G1'!J7-'Pre-stress method G1'!J7 -> 4.4207e-11 | D7: ='Displacement method G1'!K7-'Pre-stress method G1'!K7 -> -2.5759e-10 | E7: =(B7^2+C7^2+D7^2)^0.5 -> 1.8926917e-08 | F7: ='Displacement method G1'!S7 -> 2.0499353 | G7: =E7*1000000 -> 0.018926917
A8: ='Displacement method G1'!B8 -> 2881 | B8: ='Displacement method G1'!I8-'Pre-stress method G1'!I8 -> 5.6937556e-08 | C8: ='Displacement method G1'!J8-'Pre-stress method G1'!J8 -> 7.6030586e-08 | D8: ='Displacement method G1'!K8-'Pre-stress method G1'!K8 -> 7.0985e-11 | E8: =(B8^2+C8^2+D8^2)^0.5 -> 9.4987053e-08 | F8: ='Displacement method G1'!S8 -> 3.0917605 | G8: =E8*1000000 -> 0.094987053
A9: ='Displacement method G1'!B9 -> 2965 | B9: ='Displacement method G1'!I9-'Pre-stress method G1'!I9 -> 2.5938601e-08 | C9: ='Displacement method G1'!J9-'Pre-stress method G1'!J9 -> -5.2043288e-08 | D9: ='Displacement method G1'!K9-'Pre-stress method G1'!K9 -> 5.9443e-11 | E9: =(B9^2+C9^2+D9^2)^0.5 -> 5.8149105e-08 | F9: ='Displacement method G1'!S9 -> 3.0967375 | G9: =E9*1000000 -> 0.058149105
A10: ='Displacement method G1'!B10 -> 4105 | B10: ='Displacement method G1'!I10-'Pre-stress method G1'!I10 -> 4.584016e-08 | C10: ='Displacement method G1'!J10-'Pre-stress method G1'!J10 -> 2.080304e-09 | D10: ='Displacement method G1'!K10-'Pre-stress method G1'!K10 -> 5.012646e-08 | E10: =(B10^2+C10^2+D10^2)^0.5 -> 6.7958148e-08 | F10: ='Displacement method G1'!S10 -> 4.1464398 | G10: =E10*1000000 -> 0.067958148
A11: ='Displacement method G1'!B11 -> 4189 | B11: ='Displacement method G1'!I11-'Pre-stress method G1'!I11 -> 2.87799e-09 | C11: ='Displacement method G1'!J11-'Pre-stress method G1'!J11 -> -2.8059588e-08 | D11: ='Displacement method G1'!K11-'Pre-stress method G1'!K11 -> 2.0098574e-08 | E11: =(B11^2+C11^2+D11^2)^0.5 -> 3.4634895e-08 | F11: ='Displacement method G1'!S11 -> 4.1587706 | G11: =E11*1000000 -> 0.034634895
A12: ='Displacement method G1'!B12 -> 5329 | B12: ='Displacement method G1'!I12-'Pre-stress method G1'!I12 -> -3.0057691e-08 | C12: ='Displacement method G1'!J12-'Pre-stress method G1'!J12 -> 2.4014904e-08 | D12: ='Displacement method G1'!K12-'Pre-stress method G1'!K12 -> -4.1968144e-08 | E12: =(B12^2+C12^2+D12^2)^0.5 -> 5.6934221e-08 | F12: ='Displacement method G1'!S12 -> 5.2236268 | G12: =E12*1000000 -> 0.056934221
A13: ='Displacement method G1'!B13 -> 5413 | B13: ='Displacement method G1'!I13-'Pre-stress method G1'!I13 -> -1.9026915e-08 | C13: ='Displacement method G1'!J13-'Pre-stress method G1'!J13 -> 3.898599e-08 | D13: ='Displacement method G1'!K13-'Pre-stress method G1'!K13 -> 1.9026009e-08 | E13: =(B13^2+C13^2+D13^2)^0.5 -> 4.7370032e-08 | F13: ='Displacement method G1'!S13 -> 5.2338037 | G13: =E13*1000000 -> 0.047370032
A14: ='Displacement method G1'!B14 -> 6547 | B14: ='Displacement method G1'!I14-'Pre-stress method G1'!I14 -> -3.1013185e-08 | C14: ='Displacement method G1'!J14-'Pre-stress method G1'!J14 -> 3.5000924e-08 | D14: ='Displacement method G1'!K14-'Pre-stress method G1'!K14 -> -2.8989735e-08 | E14: =(B14^2+C14^2+D14^2)^0.5 -> 5.5020787e-08 | F14: ='Displacement method G1'!S14 -> 5.7684049 | G14: =E14*1000000 -> 0.055020787
... A59: ='Displacement method G1'!B59 -> 48863 | B59: ='Displacement method G1'!I59-'Pre-stress method G1'!I59 -> 0 | C59: ='Displacement method G1'!J59-'Pre-stress method G1'!J59 -> 0 | D59: ='Displacement method G1'!K59-'Pre-stress method G1'!K59 -> 0 | E59: =(B59^2+C59^2+D59^2)^0.5 -> 0 | F59: ='Displacement method G1'!S59 -> 6.3442139 | G59: =E59*1000000 -> 0
A60: PHYSIOLOGICAL GEOMETRY DIFFERENCE | E60: =1000000*MAX(E62:E118) -> 0.1155058 | F60: MAX DIFFERENCE
A61: POINT | B61: X (m) | C61: Y (m) | D61: Z (m) | E61: ERROR (m) | F61: RADIUS (mm) | G61: ERROR (μm)
A62: ='Displacement method G1'!#REF! -> #REF! | B62: ='Displacement method G1'!I62-'Pre-stress method G1'!I62 -> 9.391557e-11 | C62: ='Displacement method G1'!J62-'Pre-stress method G1'!J62 -> -4.142361e-11 | D62: ='Displacement method G1'!K62-'Pre-stress method G1'!K62 -> -7.2958e-10 | E62: =(B62^2+C62^2+D62^2)^0.5 -> 7.3676524e-10 | F62: ='Displacement method G1'!S62 -> 7.1701003e-10 | G62: =E62*1000000 -> 0.00073676524
A63: ='Displacement method G1'!#REF! -> #REF! | B63: ='Displacement method G1'!I63-'Pre-stress method G1'!I63 -> 9.0059014e-09 | C63: ='Displacement method G1'!J63-'Pre-stress method G1'!J63 -> -1.1985625e-09 | D63: ='Displacement method G1'!K63-'Pre-stress method G1'!K63 -> -7.7472e-10 | E63: =(B63^2+C63^2+D63^2)^0.5 -> 9.1182785e-09 | F63: ='Displacement method G1'!S63 -> 0.96432442 | G63: =E63*1000000 -> 0.0091182785
A64: ='Displacement method G1'!#REF! -> #REF! | B64: ='Displacement method G1'!I64-'Pre-stress method G1'!I64 -> 9.986293e-10 | C64: ='Displacement method G1'!J64-'Pre-stress method G1'!J64 -> 2.915371e-09 | D64: ='Displacement method G1'!K64-'Pre-stress method G1'!K64 -> 9.30493e-09 | E64: =(B64^2+C64^2+D64^2)^0.5 -> 9.8019575e-09 | F64: ='Displacement method G1'!S64 -> 0.96369673 | G64: =E64*1000000 -> 0.0098019575
A65: ='Displacement method G1'!#REF! -> #REF! | B65: ='Displacement method G1'!I65-'Pre-stress method G1'!I65 -> -2.311751e-08 | C65: ='Displacement method G1'!J65-'Pre-stress method G1'!J65 -> -3.958403e-09 | D65: ='Displacement method G1'!K65-'Pre-stress method G1'!K65 -> -4.1744e-10 | E65: =(B65^2+C65^2+D65^2)^0.5 -> 2.3457674e-08 | F65: ='Displacement method G1'!S65 -> 1.9097696 | G65: =E65*1000000 -> 0.023457674
A66: ='Displacement method G1'!#REF! -> #REF! | B66: ='Displacement method G1'!I66-'Pre-stress method G1'!I66 -> -1.71136e-08 | C66: ='Displacement method G1'!J66-'Pre-stress method G1'!J66 -> 2.90467e-09 | D66: ='Displacement method G1'!K66-'Pre-stress method G1'!K66 -> -3.265e-10 | E66: =(B66^2+C66^2+D66^2)^0.5 -> 1.7361423e-08 | F66: ='Displacement method G1'!S66 -> 1.9078196 | G66: =E66*1000000 -> 0.017361423
A67: ='Displacement method G1'!#REF! -> #REF! | B67: ='Displacement method G1'!I67-'Pre-stress method G1'!I67 -> -4.218413e-08 | C67: ='Displacement method G1'!J67-'Pre-stress method G1'!J67 -> -5.7936481e-08 | D67: ='Displacement method G1'!K67-'Pre-stress method G1'!K67 -> -3.9976809e-08 | E67: =(B67^2+C67^2+D67^2)^0.5 -> 8.2062671e-08 | F67: ='Displacement method G1'!S67 -> 2.877191 | G67: =E67*1000000 -> 0.082062671
A68: ='Displacement method G1'!#REF! -> #REF! | B68: ='Displacement method G1'!I68-'Pre-stress method G1'!I68 -> -2.313596e-08 | C68: ='Displacement method G1'!J68-'Pre-stress method G1'!J68 -> -8.072095e-09 | D68: ='Displacement method G1'!K68-'Pre-stress method G1'!K68 -> 6.0036272e-08 | E68: =(B68^2+C68^2+D68^2)^0.5 -> 6.4844316e-08 | F68: ='Displacement method G1'!S68 -> 2.8724371 | G68: =E68*1000000 -> 0.064844316
A69: ='Displacement method G1'!#REF! -> #REF! | B69: ='Displacement method G1'!I69-'Pre-stress method G1'!I69 -> 3.486779e-08 | C69: ='Displacement method G1'!J69-'Pre-stress method G1'!J69 -> 5.6034886e-08 | D69: ='Displacement method G1'!K69-'Pre-stress method G1'!K69 -> 3.01687e-08 | E69: =(B69^2+C69^2+D69^2)^0.5 -> 7.2565982e-08 | F69: ='Displacement method G1'!S69 -> 3.8391468 | G69: =E69*1000000 -> 0.072565982
A70: ='Displacement method G1'!#REF! -> #REF! | B70: ='Displacement method G1'!I70-'Pre-stress method G1'!I70 -> -5.096213e-09 | C70: ='Displacement method G1'!J70-'Pre-stress method G1'!J70 -> -6.8026738e-08 | D70: ='Displacement method G1'!K70-'Pre-stress method G1'!K70 -> 4.014607e-08 | E70: =(B70^2+C70^2+D70^2)^0.5 -> 7.9153745e-08 | F70: ='Displacement method G1'!S70 -> 3.8360083 | G70: =E70*1000000 -> 0.079153745
A71: ='Displacement method G1'!#REF! -> #REF! | B71: ='Displacement method G1'!I71-'Pre-stress method G1'!I71 -> 3.979663e-09 | C71: ='Displacement method G1'!J71-'Pre-stress method G1'!J71 -> -1.4011128e-08 | D71: ='Displacement method G1'!K71-'Pre-stress method G1'!K71 -> 1.0078594e-08 | E71: =(B71^2+C71^2+D71^2)^0.5 -> 1.7712354e-08 | F71: ='Displacement method G1'!S71 -> 4.7644796 | G71: =E71*1000000 -> 0.017712354
A72: ='Displacement method G1'!#REF! -> #REF! | B72: ='Displacement method G1'!I72-'Pre-stress method G1'!I72 -> 4.1985049e-08 | C72: ='Displacement method G1'!J72-'Pre-stress method G1'!J72 -> 5.2012628e-08 | D72: ='Displacement method G1'!K72-'Pre-stress method G1'!K72 -> -2.9940767e-08 | E72: =(B72^2+C72^2+D72^2)^0.5 -> 7.3242797e-08 | F72: ='Displacement method G1'!S72 -> 4.7760489 | G72: =E72*1000000 -> 0.073242797
A73: ='Displacement method G1'!#REF! -> #REF! | B73: ='Displacement method G1'!I73-'Pre-stress method G1'!I73 -> -2.4001759e-08 | C73: ='Displacement method G1'!J73-'Pre-stress method G1'!J73 -> 4.0995946e-08 | D73: ='Displacement method G1'!K73-'Pre-stress method G1'!K73 -> 5.1029454e-08 | E73: =(B73^2+C73^2+D73^2)^0.5 -> 6.9719131e-08 | F73: ='Displacement method G1'!S73 -> 5.1893267 | G73: =E73*1000000 -> 0.069719131
... A118: ='Displacement method G1'!#REF! -> #REF! | B118: ='Displacement method G1'!I118-'Pre-stress method G1'!I118 -> 0 | C118: ='Displacement method G1'!J118-'Pre-stress method G1'!J118 -> 0 | D118: ='Displacement method G1'!K118-'Pre-stress method G1'!K118 -> 0 | E118: =(B118^2+C118^2+D118^2)^0.5 -> 0 | F118: ='Displacement method G1'!S118 -> 5.6262815 | G118: =E118*1000000 -> 0

Sheet Displacement methodI G2
B1: Free Stress Geometry | F1: Displacement PIO 14 mmHg (1850.61 Pa) | I1: Estimated Physiological Geometry PIO 14 mmHg ( 1860.51 Pa) | L1: Measured Physiological Geometry PIO 14 mmHg (1866.51 Pa) | O1: Difference | R1: =MAX(R3:R59) -> 1.1119802e-07
B2: POINT | C2: X (m) | D2: Y (m) | E2: Z (m) | F2: dx (mm) | G2: dy(mm) | H2: dz (mm) | I2: X (m) | J2: Y (m) | K2: Z (m) | L2: X (m) | M2: Y (m) | N2: Z (m) | O2: X (m) | P2: Y (m) | Q2: Z (m) | R2: ERROR (m) | S2: RADIUS (mm)
A3: CARA ANTERIOR | B3: 257 | C3: -1.3056e-06 | D3: 4.3144e-06 | E3: 0.00021825 | F3: 1.3056e-06 | G3: -4.3145e-06 | H3: -0.00021825 | I3: =C3+F3 -> 0 | J3: =D3+G3 -> -1e-10 | K3: =E3+H3 -> 0 | L3: 0 | M3: 0 | N3: 0 | O3: =L3-I3 -> 0 | P3: =M3-J3 -> 1e-10 | Q3: =N3-K3 -> 0 | R3: =(O3^2+P3^2+Q3^2)^0.5 -> 1e-10 | S3: =1000*(L3^2+M3^2)^0.5 -> 0
B4: 265 | C4: -0.00092691 | D4: -0.00037685 | E4: 0.00027476 | F4: -1.1497e-05 | G4: -1.1854e-05 | H4: -0.00021045 | I4: =C4+F4 -> -0.000938407 | J4: =D4+G4 -> -0.000388704 | K4: =E4+H4 -> 6.431e-05 | L4: -0.00093841 | M4: -0.0003887 | N4: 6.4312e-05 | O4: =L4-I4 -> -3e-09 | P4: =M4-J4 -> 4e-09 | Q4: =N4-K4 -> 2e-09 | R4: =(O4^2+P4^2+Q4^2)^0.5 -> 5.3851648e-09 | S4: =1000*(L4^2+M4^2)^0.5 -> 1.0157268
B5: 385 | C5: -0.00091723 | D5: 0.00038005 | E5: 0.00033941 | F5: -1.4472e-05 | G5: 5.8758e-06 | H5: -0.00023449 | I5: =C5+F5 -> -0.000931702 | J5: =D5+G5 -> 0.0003859258 | K5: =E5+H5 -> 0.00010492 | L5: -0.00093171 | M5: 0.00038593 | N5: 0.00010492 | O5: =L5-I5 -> -8e-09 | P5: =M5-J5 -> 4.2e-09 | Q5: =N5-K5 -> 0 | R5: =(O5^2+P5^2+Q5^2)^0.5 -> 9.0354856e-09 | S5: =1000*(L5^2+M5^2)^0.5 -> 1.0084768
B6: 1837 | C6: -0.0019118 | D6: -0.000786 | E6: 0.00055743 | F6: -3.6828e-05 | G6: -2.1169e-05 | H6: -0.00023188 | I6: =C6+F6 -> -0.001948628 | J6: =D6+G6 -> -0.000807169 | K6: =E6+H6 -> 0.00032555 | L6: -0.0019487 | M6: -0.00080716 | N6: 0.00032555 | O6: =L6-I6 -> -7.2e-08 | P6: =M6-J6 -> 9e-09 | Q6: =N6-K6 -> 0 | R6: =(O6^2+P6^2+Q6^2)^0.5 -> 7.256032e-08 | S6: =1000*(L6^2+M6^2)^0.5 -> 2.1092508
B7: 1909 | C7: -0.001898 | D7: 0.00078581 | E7: 0.00061246 | F7: -3.8356e-05 | G7: 1.6236e-05 | H7: -0.00024562 | I7: =C7+F7 -> -0.001936356 | J7: =D7+G7 -> 0.000802046 | K7: =E7+H7 -> 0.00036684 | L7: -0.0019363 | M7: 0.00080205 | N7: 0.00036684 | O7: =L7-I7 -> 5.6e-08 | P7: =M7-J7 -> 4e-09 | Q7: =N7-K7 -> 0 | R7: =(O7^2+P7^2+Q7^2)^0.5 -> 5.6142675e-08 | S7: =1000*(L7^2+M7^2)^0.5 -> 2.0958392
B8: 3061 | C8: -0.0028568 | D8: -0.0011803 | E8: 0.0010076 | F8: -7.2246e-05 | G8: -3.2993e-05 | H8: -0.00023942 | I8: =C8+F8 -> -0.002929046 | J8: =D8+G8 -> -0.001213293 | K8: =E8+H8 -> 0.00076818 | L8: -0.002929 | M8: -0.0012132 | N8: 0.00076814 | O8: =L8-I8 -> 4.6e-08 | P8: =M8-J8 -> 9.3e-08 | Q8: =N8-K8 -> -4e-08 | R8: =(O8^2+P8^2+Q8^2)^0.5 -> 1.1119802e-07 | S8: =1000*(L8^2+M8^2)^0.5 -> 3.1703147
B9: 3133 | C9: -0.0028689 | D9: 0.0011878 | E9: 0.0009894 | F9: -5.9935e-05 | G9: 2.5412e-05 | H9: -0.00022084 | I9: =C9+F9 -> -0.002928835 | J9: =D9+G9 -> 0.001213212 | K9: =E9+H9 -> 0.00076856 | L9: -0.0029289 | M9: 0.0012132 | N9: 0.00076856 | O9: =L9-I9 -> -6.5e-08 | P9: =M9-J9 -> -1.2e-08 | Q9: =N9-K9 -> 0 | R9: =(O9^2+P9^2+Q9^2)^0.5 -> 6.6098411e-08 | S9: =1000*(L9^2+M9^2)^0.5 -> 3.1702223
B10: 4285 | C10: -0.0037766 | D10: -0.0015619 | E10: 0.0015391 | F10: -8.6329e-05 | G10: -3.8201e-05 | H10: -0.0001895 | I10: =C10+F10 -> -0.003862929 | J10: =D10+G10 -> -0.001600101 | K10: =E10+H10 -> 0.0013496 | L10: -0.0038629 | M10: -0.0016001 | N10: 0.0013496 | O10: =L10-I10 -> 2.9e-08 | P10: =M10-J10 -> 1e-09 | Q10: =N10-K10 -> 0 | R10: =(O10^2+P10^2+Q10^2)^0.5 -> 2.9017236e-08 | S10: =1000*(L10^2+M10^2)^0.5 -> 4.181186
B11: 4357 | C11: -0.0038262 | D11: 0.0015816 | E11: 0.0014577 | F11: -6.4071e-05 | G11: 2.9805e-05 | H11: -0.00015543 | I11: =C11+F11 -> -0.003890271 | J11: =D11+G11 -> 0.001611405 | K11: =E11+H11 -> 0.00130227 | L11: -0.0038902 | M11: 0.0016114 | N11: 0.0013022 | O11: =L11-I11 -> 7.1e-08 | P11: =M11-J11 -> -5e-09 | Q11: =N11-K11 -> -7e-08 | R11: =(O11^2+P11^2+Q11^2)^0.5 -> 9.9829855e-08 | S11: =1000*(L11^2+M11^2)^0.5 -> 4.2107322
B12: 5509 | C12: -0.0047544 | D12: -0.0019658 | E12: 0.0021931 | F12: -5.6076e-05 | G12: -2.6734e-05 | H12: -8.0044e-05 | I12: =C12+F12 -> -0.004810476 | J12: =D12+G12 -> -0.001992534 | K12: =E12+H12 -> 0.002113056 | L12: -0.0048105 | M12: -0.0019926 | N12: 0.0021131 | O12: =L12-I12 -> -2.4e-08 | P12: =M12-J12 -> -6.6e-08 | Q12: =N12-K12 -> 4.4e-08 | R12: =(O12^2+P12^2+Q12^2)^0.5 -> 8.2873397e-08 | S12: =1000*(L12^2+M12^2)^0.5 -> 5.2068575
B13: 5581 | C13: -0.0048313 | D13: 0.0019955 | E13: 0.0020906 | F13: -3.9309e-05 | G13: 2.2004e-05 | H13: -5.8898e-05 | I13: =C13+F13 -> -0.004870609 | J13: =D13+G13 -> 0.002017504 | K13: =E13+H13 -> 0.002031702 | L13: -0.0048706 | M13: 0.0020175 | N13: 0.0020317 | O13: =L13-I13 -> 9e-09 | P13: =M13-J13 -> -4e-09 | Q13: =N13-K13 -> -2e-09 | R13: =(O13^2+P13^2+Q13^2)^0.5 -> 1.0049876e-08 | S13: =1000*(L13^2+M13^2)^0.5 -> 5.2719115
B14: 6637 | C14: -0.0052626 | D14: -0.0021775 | E14: 0.0025893 | F14: -2.2366e-05 | G14: -1.1622e-05 | H14: -2.1578e-05 | I14: =C14+F14 -> -0.005284966 | J14: =D14+G14 -> -0.002189122 | K14: =E14+H14 -> 0.002567722 | L14: -0.005285 | M14: -0.0021891 | N14: 0.0025678 | O14: =L14-I14 -> -3.4e-08 | P14: =M14-J14 -> 2.2e-08 | Q14: =N14-K14 -> 7.8e-08 | R14: =(O14^2+P14^2+Q14^2)^0.5 -> 8.788629e-08 | S14: =1000*(L14^2+M14^2)^0.5 -> 5.7204356
B15: 6673 | C15: -0.0053392 | D15: 0.0022089 | E15: 0.0025101 | F15: -1.6259e-05 | G15: 9.4055e-06 | H15: -1.6164e-05 | I15: =C15+F15 -> -0.005355459 | J15: =D15+G15 -> 0.0022183055 | K15: =E15+H15 -> 0.002493936 | L15: -0.0053555 | M15: 0.0022183 | N15: 0.0024939 | O15: =L15-I15 -> -4.1e-08 | P15: =M15-J15 -> -5.5e-09 | Q15: =N15-K15 -> -3.6e-08 | R15: =(O15^2+P15^2+Q15^2)^0.5 -> 5.4838399e-08 | S15: =1000*(L15^2+M15^2)^0.5 -> 5.7967435
... B59: 50455 | C59: -0.0022799 | D59: -0.0053672 | E59: 0.0027911 | F59: 0 | G59: 0 | H59: 0 | I59: =C59+F59 -> -0.0022799 | J59: =D59+G59 -> -0.0053672 | K59: =E59+H59 -> 0.0027911 | L59: -0.0022799 | M59: -0.0053672 | N59: 0.0027911 | O59: =L59-I59 -> 0 | P59: =M59-J59 -> 0 | Q59: =N59-K59 -> 0 | R59: =(O59^2+P59^2+Q59^2)^0.5 -> 0 | S59: =1000*(L59^2+M59^2)^0.5 -> 5.8313617
B60: Free Stress Geometry | F60: Displacement PIO 14 mmHg (1850.61 Pa) | I60: Estimated Physiological Geometry PIO 14 mmHg ( 1860.51 Pa) | L60: Measured Physiological Geometry PIO 14 mmHg (1866.51 Pa) | O60: Difference | R60: =MAX(R62:R118) -> 1.027331e-07
B61: POINT | C61: X (m) | D61: Y (m) | E61: Z (m) | F61: dx (mm) | G61: dy(mm) | H61: dz (mm) | I61: X (m) | J61: Y (m) | K61: Z (m) | L61: X (m) | M61: Y (m) | N61: Z (m) | O61: X (m) | P61: Y (m) | Q61: Z (m) | R61: ERROR (m) | S61: RADIUS (mm)
A62: CARA POSTERIOR | B62: 1 | C62: -4.704e-06 | D62: -1.2377e-05 | E62: 0.00070181 | F62: 4.704e-06 | G62: 1.2377e-05 | H62: -0.00023793 | I62: =C62+F62 -> 0 | J62: =D62+G62 -> 0 | K62: =E62+H62 -> 0.00046388 | L62: -1.3767e-11 | M62: -5.7024e-12 | N62: 0.00046389 | O62: =L62-I62 -> -1.3767e-11 | P62: =M62-J62 -> -5.7024e-12 | Q62: =N62-K62 -> 1e-08 | R62: =(O62^2+P62^2+Q62^2)^0.5 -> 1.0000011e-08 | S62: =1000*(L62^2+M62^2)^0.5 -> 1.4901264e-08
B63: 2 | C63: -0.00084146 | D63: -0.00035973 | E63: 0.00073636 | F63: -2.3751e-05 | G63: 1.3441e-06 | H63: -0.00022856 | I63: =C63+F63 -> -0.000865211 | J63: =D63+G63 -> -0.0003583859 | K63: =E63+H63 -> 0.0005078 | L63: -0.00086521 | M63: -0.00035838 | N63: 0.00050781 | O63: =L63-I63 -> 1e-09 | P63: =M63-J63 -> 5.9e-09 | Q63: =N63-K63 -> 1e-08 | R63: =(O63^2+P63^2+Q63^2)^0.5 -> 1.1653755e-08 | S63: =1000*(L63^2+M63^2)^0.5 -> 0.9364959
B64: 22 | C64: -0.00083062 | D64: 0.00033352 | E64: 0.00083865 | F64: -2.1863e-05 | G64: 1.9586e-05 | H64: -0.00025372 | I64: =C64+F64 -> -0.000852483 | J64: =D64+G64 -> 0.000353106 | K64: =E64+H64 -> 0.00058493 | L64: -0.00085248 | M64: 0.00035311 | N64: 0.00058493 | O64: =L64-I64 -> 3e-09 | P64: =M64-J64 -> 4e-09 | Q64: =N64-K64 -> 0 | R64: =(O64^2+P64^2+Q64^2)^0.5 -> 5e-09 | S64: =1000*(L64^2+M64^2)^0.5 -> 0.92271817
B65: 1645 | C65: -0.0017474 | D65: -0.00073188 | E65: 0.0010456 | F65: -6.0014e-05 | G65: -1.6784e-05 | H65: -0.00024805 | I65: =C65+F65 -> -0.001807414 | J65: =D65+G65 -> -0.000748664 | K65: =E65+H65 -> 0.00079755 | L65: -0.0018074 | M65: -0.00074866 | N65: 0.00079751 | O65: =L65-I65 -> 1.4e-08 | P65: =M65-J65 -> 4e-09 | Q65: =N65-K65 -> -4e-08 | R65: =(O65^2+P65^2+Q65^2)^0.5 -> 4.2567593e-08 | S65: =1000*(L65^2+M65^2)^0.5 -> 1.9563196
B66: 1657 | C66: -0.0017427 | D66: 0.00072494 | E66: 0.0011301 | F66: -4.5463e-05 | G66: 1.5735e-05 | H66: -0.00026812 | I66: =C66+F66 -> -0.001788163 | J66: =D66+G66 -> 0.000740675 | K66: =E66+H66 -> 0.00086198 | L66: -0.0017881 | M66: 0.00074067 | N66: 0.00086196 | O66: =L66-I66 -> 6.3e-08 | P66: =M66-J66 -> -5e-09 | Q66: =N66-K66 -> -2e-08 | R66: =(O66^2+P66^2+Q66^2)^0.5 -> 6.6287254e-08 | S66: =1000*(L66^2+M66^2)^0.5 -> 1.9354311
B67: 2869 | C67: -0.0026449 | D67: -0.0010996 | E67: 0.0015292 | F67: -8.2461e-05 | G67: -3.0063e-05 | H67: -0.00026137 | I67: =C67+F67 -> -0.002727361 | J67: =D67+G67 -> -0.001129663 | K67: =E67+H67 -> 0.00126783 | L67: -0.0027274 | M67: -0.0011297 | N67: 0.0012678 | O67: =L67-I67 -> -3.9e-08 | P67: =M67-J67 -> -3.7e-08 | Q67: =N67-K67 -> -3e-08 | R67: =(O67^2+P67^2+Q67^2)^0.5 -> 6.1562976e-08 | S67: =1000*(L67^2+M67^2)^0.5 -> 2.9521065
B68: 2881 | C68: -0.0026744 | D68: 0.0011217 | E68: 0.001505 | F68: -5.8066e-05 | G68: 1.0131e-05 | H68: -0.00024992 | I68: =C68+F68 -> -0.002732466 | J68: =D68+G68 -> 0.001131831 | K68: =E68+H68 -> 0.00125508 | L68: -0.0027325 | M68: 0.0011318 | N68: 0.0012551 | O68: =L68-I68 -> -3.4e-08 | P68: =M68-J68 -> -3.1e-08 | Q68: =N68-K68 -> 2e-08 | R68: =(O68^2+P68^2+Q68^2)^0.5 -> 5.0169712e-08 | S68: =1000*(L68^2+M68^2)^0.5 -> 2.9576219
B69: 4093 | C69: -0.0035173 | D69: -0.0014575 | E69: 0.0020491 | F69: -7.1917e-05 | G69: -2.9215e-05 | H69: -0.00022558 | I69: =C69+F69 -> -0.003589217 | J69: =D69+G69 -> -0.001486715 | K69: =E69+H69 -> 0.00182352 | L69: -0.0035892 | M69: -0.0014867 | N69: 0.0018235 | O69: =L69-I69 -> 1.7e-08 | P69: =M69-J69 -> 1.5e-08 | Q69: =N69-K69 -> -2e-08 | R69: =(O69^2+P69^2+Q69^2)^0.5 -> 3.0232433e-08 | S69: =1000*(L69^2+M69^2)^0.5 -> 3.8849239
B70: 4105 | C70: -0.0035608 | D70: 0.0014887 | E70: 0.0019757 | F70: -5.1876e-05 | G70: 7.7037e-06 | H70: -0.00019281 | I70: =C70+F70 -> -0.003612676 | J70: =D70+G70 -> 0.0014964037 | K70: =E70+H70 -> 0.00178289 | L70: -0.0036127 | M70: 0.0014964 | N70: 0.0017829 | O70: =L70-I70 -> -2.4e-08 | P70: =M70-J70 -> -3.7e-09 | Q70: =N70-K70 -> 1e-08 | R70: =(O70^2+P70^2+Q70^2)^0.5 -> 2.626195e-08 | S70: =1000*(L70^2+M70^2)^0.5 -> 3.9103471
B71: 5317 | C71: -0.0044214 | D71: -0.0018311 | E71: 0.0027317 | F71: -2.5859e-05 | G71: -1.0972e-05 | H71: -0.00012739 | I71: =C71+F71 -> -0.004447259 | J71: =D71+G71 -> -0.001842072 | K71: =E71+H71 -> 0.00260431 | L71: -0.0044473 | M71: -0.0018421 | N71: 0.0026043 | O71: =L71-I71 -> -4.1e-08 | P71: =M71-J71 -> -2.8e-08 | Q71: =N71-K71 -> -1e-08 | R71: =(O71^2+P71^2+Q71^2)^0.5 -> 5.0645829e-08 | S71: =1000*(L71^2+M71^2)^0.5 -> 4.8137106
B72: 5329 | C72: -0.0044794 | D72: 0.0018607 | E72: 0.0026324 | F72: -2.0425e-05 | G72: 3.2271e-06 | H72: -9.9183e-05 | I72: =C72+F72 -> -0.004499825 | J72: =D72+G72 -> 0.0018639271 | K72: =E72+H72 -> 0.002533217 | L72: -0.0044998 | M72: 0.0018639 | N72: 0.0025332 | O72: =L72-I72 -> 2.5e-08 | P72: =M72-J72 -> -2.71e-08 | Q72: =N72-K72 -> -1.7e-08 | R72: =(O72^2+P72^2+Q72^2)^0.5 -> 4.0600616e-08 | S72: =1000*(L72^2+M72^2)^0.5 -> 4.8705568
B73: 6541 | C73: -0.0048305 | D73: -0.0019975 | E73: 0.0031102 | F73: -2.7683e-06 | G73: -4.533e-06 | H73: -6.935e-05 | I73: =C73+F73 -> -0.0048332683 | J73: =D73+G73 -> -0.002002033 | K73: =E73+H73 -> 0.00304085 | L73: -0.0048332 | M73: -0.002002 | N73: 0.0030408 | O73: =L73-I73 -> 6.83e-08 | P73: =M73-J73 -> 3.3e-08 | Q73: =N73-K73 -> -5e-08 | R73: =(O73^2+P73^2+Q73^2)^0.5 -> 9.0850922e-08 | S73: =1000*(L73^2+M73^2)^0.5 -> 5.2314268
B74: 6547 | C74: -0.0048827 | D74: 0.0020249 | E74: 0.0030334 | F74: -7.2495e-06 | G74: 5.7288e-07 | H74: -5.1943e-05 | I74: =C74+F74 -> -0.0048899495 | J74: =D74+G74 -> 0.0020254729 | K74: =E74+H74 -> 0.002981457 | L74: -0.00489 | M74: 0.0020255 | N74: 0.0029814 | O74: =L74-I74 -> -5.05e-08 | P74: =M74-J74 -> 2.712e-08 | Q74: =N74-K74 -> -5.7e-08 | R74: =(O74^2+P74^2+Q74^2)^0.5 -> 8.0837766e-08 | S74: =1000*(L74^2+M74^2)^0.5 -> 5.2928962
... B118: 50365 | C118: -0.0021702 | D118: -0.005109 | E118: 0.0036911 | F118: 0 | G118: 0 | H118: 0 | I118: =C118+F118 -> -0.0021702 | J118: =D118+G118 -> -0.005109 | K118: =E118+H118 -> 0.0036911 | L118: -0.0021702 | M118: -0.005109 | N118: 0.0036911 | O118: =L118-I118 -> 0 | P118: =M118-J118 -> 0 | Q118: =N118-K118 -> 0 | R118: =(O118^2+P118^2+Q118^2)^0.5 -> 0 | S118: =1000*(L118^2+M118^2)^0.5 -> 5.5508242

Sheet Pre-stress method G2
B1: Free Stress Geometry | F1: Displacement PIO 14 mmHg (1850.61 Pa) | I1: Estimated Physiological Geometry PIO 14 mmHg ( 1860.51 Pa) | L1: Measured Physiological Geometry PIO 14 mmHg (1866.51 Pa) | O1: Difference | R1: =MAX(R3:R59) -> 5.6919856e-10 | T1: RESIDUAL DISPLACEMENT PIO 14 mmHg ( 1860.51 Pa)
B2: POINT | C2: X (m) | D2: Y (m) | E2: Z (m) | F2: dx (mm) | G2: dy(mm) | H2: dz (mm) | I2: X (m) | J2: Y (m) | K2: Z (m) | L2: X (m) | M2: Y (m) | N2: Z (m) | O2: X (m) | P2: Y (m) | Q2: Z (m) | R2: ERROR (m) | S2: RADIUS (mm) | T2: dx (mm) | U2: dy(mm) | V2: dz (mm)
A3: CARA ANTERIOR | B3: 257 | C3: =I3+F3 -> -2.1408147e-06 | D3: =J3+G3 -> 3.6716531e-06 | E3: =K3+H3 -> 0.00021432057 | F3: -2.1408e-06 | G3: 3.6717e-06 | H3: 0.00021432 | I3: =L3+T3 -> -1.4745e-11 | J3: =M3+U3 -> -4.6917e-11 | K3: =N3+V3 -> 5.6707e-10 | L3: 0 | M3: 0 | N3: 0 | O3: =L3-I3 -> 1.4745e-11 | P3: =M3-J3 -> 4.6917e-11 | Q3: =N3-K3 -> -5.6707e-10 | R3: =(O3^2+P3^2+Q3^2)^0.5 -> 5.6919856e-10 | S3: =1000*(L3^2+M3^2)^0.5 -> 0 | T3: -1.4745e-11 | U3: -4.6917e-11 | V3: 5.6707e-10
B4: 265 | C4: =I4+F4 -> -0.00092761593 | D4: =J4+G4 -> -0.000377344 | E4: =K4+H4 -> 0.00026759241 | F4: 1.0794e-05 | G4: 1.1356e-05 | H4: 0.00020328 | I4: =L4+T4 -> -0.00093840993 | J4: =M4+U4 -> -0.0003887 | K4: =N4+V4 -> 6.4312406e-05 | L4: -0.00093841 | M4: -0.0003887 | N4: 6.4312e-05 | O4: =L4-I4 -> -7.1569e-11 | P4: =M4-J4 -> 4.8777e-12 | Q4: =N4-K4 -> -4.0586e-10 | R4: =(O4^2+P4^2+Q4^2)^0.5 -> 4.1215077e-10 | S4: =1000*(L4^2+M4^2)^0.5 -> 1.0157268 | T4: 7.1569e-11 | U4: -4.8777e-12 | V4: 4.0586e-10
B5: 385 | C5: =I5+F5 -> -0.00091737694 | D5: =J5+G5 -> 0.00037936084 | E5: =K5+H5 -> 0.00034117039 | F5: 1.4333e-05 | G5: -6.5691e-06 | H5: 0.00023625 | I5: =L5+T5 -> -0.00093170994 | J5: =M5+U5 -> 0.00038592994 | K5: =N5+V5 -> 0.00010492039 | L5: -0.00093171 | M5: 0.00038593 | N5: 0.00010492 | O5: =L5-I5 -> -5.7223e-11 | P5: =M5-J5 -> 5.5441e-11 | Q5: =N5-K5 -> -3.9449e-10 | R5: =(O5^2+P5^2+Q5^2)^0.5 -> 4.0245563e-10 | S5: =1000*(L5^2+M5^2)^0.5 -> 1.0084768 | T5: 5.7223e-11 | U5: -5.5441e-11 | V5: 3.9449e-10
B6: 1837 | C6: =I6+F6 -> -0.00190999 | D6: =J6+G6 -> -0.00078517102 | E6: =K6+H6 -> 0.00055707991 | F6: 3.871e-05 | G6: 2.1989e-05 | H6: 0.00023153 | I6: =L6+T6 -> -0.0019487 | J6: =M6+U6 -> -0.00080716002 | K6: =N6+V6 -> 0.00032554991 | L6: -0.0019487 | M6: -0.00080716 | N6: 0.00032555 | O6: =L6-I6 -> 7.481e-12 | P6: =M6-J6 -> 1.8398e-11 | Q6: =N6-K6 -> 8.6017e-11 | R6: =(O6^2+P6^2+Q6^2)^0.5 -> 8.82801e-11 | S6: =1000*(L6^2+M6^2)^0.5 -> 2.1092508 | T6: -7.481e-12 | U6: -1.8398e-11 | V6: -8.6017e-11
B7: 1909 | C7: =I7+F7 -> -0.00189686 | D7: =J7+G7 -> 0.000786931 | E7: =K7+H7 -> 0.00062051003 | F7: 3.944e-05 | G7: -1.5119e-05 | H7: 0.00025367 | I7: =L7+T7 -> -0.0019363 | J7: =M7+U7 -> 0.00080205 | K7: =N7+V7 -> 0.00036684003 | L7: -0.0019363 | M7: 0.00080205 | N7: 0.00036684 | O7: =L7-I7 -> -1.9801e-11 | P7: =M7-J7 -> -1.4799e-12 | Q7: =N7-K7 -> -3.0128e-11 | R7: =(O7^2+P7^2+Q7^2)^0.5 -> 3.6082767e-11 | S7: =1000*(L7^2+M7^2)^0.5 -> 2.0958392 | T7: 1.9801e-11 | U7: 1.4799e-12 | V7: 3.0128e-11
B8: 3061 | C8: =I8+F8 -> -0.0028516632 | D8: =J8+G8 -> -0.0011779581 | E8: =K8+H8 -> 0.0010152697 | F8: 7.7337e-05 | G8: 3.5242e-05 | H8: 0.00024713 | I8: =L8+T8 -> -0.0029290002 | J8: =M8+U8 -> -0.0012132001 | K8: =N8+V8 -> 0.0007681397 | L8: -0.002929 | M8: -0.0012132 | N8: 0.00076814 | O8: =L8-I8 -> 1.7952e-10 | P8: =M8-J8 -> 6.5602e-11 | Q8: =N8-K8 -> 2.9631e-10 | R8: =(O8^2+P8^2+Q8^2)^0.5 -> 3.5260554e-10 | S8: =1000*(L8^2+M8^2)^0.5 -> 3.1703147 | T8: -1.7952e-10 | U8: -6.5602e-11 | V8: -2.9631e-10
B9: 3133 | C9: =I9+F9 -> -0.0028682701 | D9: =J9+G9 -> 0.0011903681 | E9: =K9+H9 -> 0.00099785984 | F9: 6.063e-05 | G9: -2.2832e-05 | H9: 0.0002293 | I9: =L9+T9 -> -0.0029289001 | J9: =M9+U9 -> 0.0012132001 | K9: =N9+V9 -> 0.00076855984 | L9: -0.0029289 | M9: 0.0012132 | N9: 0.00076856 | O9: =L9-I9 -> 1.1436e-10 | P9: =M9-J9 -> -5.6325e-11 | Q9: =N9-K9 -> 1.5516e-10 | R9: =(O9^2+P9^2+Q9^2)^0.5 -> 2.008117e-10 | S9: =1000*(L9^2+M9^2)^0.5 -> 3.1702223 | T9: -1.1436e-10 | U9: 5.6325e-11 | V9: -1.5516e-10
B10: 4285 | C10: =I10+F10 -> -0.0037722002 | D10: =J10+G10 -> -0.0015597621 | E10: =K10+H10 -> 0.0015481498 | F10: 9.07e-05 | G10: 4.0338e-05 | H10: 0.00019855 | I10: =L10+T10 -> -0.0038629002 | J10: =M10+U10 -> -0.0016001001 | K10: =N10+V10 -> 0.0013495998 | L10: -0.0038629 | M10: -0.0016001 | N10: 0.0013496 | O10: =L10-I10 -> 2.0895e-10 | P10: =M10-J10 -> 9.051e-11 | Q10: =N10-K10 -> 2.0685e-10 | R10: =(O10^2+P10^2+Q10^2)^0.5 -> 3.0763466e-10 | S10: =1000*(L10^2+M10^2)^0.5 -> 4.181186 | T10: -2.0895e-10 | U10: -9.051e-11 | V10: -2.0685e-10
B11: 4357 | C11: =I11+F11 -> -0.0038272751 | D11: =J11+G11 -> 0.0015846221 | E11: =K11+H11 -> 0.0014626399 | F11: 6.2925e-05 | G11: -2.6778e-05 | H11: 0.00016044 | I11: =L11+T11 -> -0.0038902001 | J11: =M11+U11 -> 0.0016114001 | K11: =N11+V11 -> 0.0013021999 | L11: -0.0038902 | M11: 0.0016114 | N11: 0.0013022 | O11: =L11-I11 -> 9.7626e-11 | P11: =M11-J11 -> -5.6821e-11 | Q11: =N11-K11 -> 7.3429e-11 | R11: =(O11^2+P11^2+Q11^2)^0.5 -> 1.3472669e-10 | S11: =1000*(L11^2+M11^2)^0.5 -> 4.2107322 | T11: -9.7626e-11 | U11: 5.6821e-11 | V11: -7.3429e-11
B12: 5509 | C12: =I12+F12 -> -0.0047532001 | D12: =J12+G12 -> -0.001965191 | E12: =K12+H12 -> 0.002197271 | F12: 5.73e-05 | G12: 2.7409e-05 | H12: 8.4171e-05 | I12: =L12+T12 -> -0.0048105001 | J12: =M12+U12 -> -0.0019926 | K12: =N12+V12 -> 0.0021131 | L12: -0.0048105 | M12: -0.0019926 | N12: 0.0021131 | O12: =L12-I12 -> 5.5676e-11 | P12: =M12-J12 -> 3.0958e-11 | Q12: =N12-K12 -> 1.9063e-11 | R12: =(O12^2+P12^2+Q12^2)^0.5 -> 6.6495208e-11 | S12: =1000*(L12^2+M12^2)^0.5 -> 5.2068575 | T12: -5.5676e-11 | U12: -3.0958e-11 | V12: -1.9063e-11
B13: 5581 | C13: =I13+F13 -> -0.004833284 | D13: =J13+G13 -> 0.001997762 | E13: =K13+H13 -> 0.002091854 | F13: 3.7316e-05 | G13: -1.9738e-05 | H13: 6.0154e-05 | I13: =L13+T13 -> -0.0048706 | J13: =M13+U13 -> 0.0020175 | K13: =N13+V13 -> 0.0020317 | L13: -0.0048706 | M13: 0.0020175 | N13: 0.0020317 | O13: =L13-I13 -> 2.4985e-11 | P13: =M13-J13 -> -9.5559021e-13 | Q13: =N13-K13 -> 2.8603999e-12 | R13: =(O13^2+P13^2+Q13^2)^0.5 -> 2.5166352e-11 | S13: =1000*(L13^2+M13^2)^0.5 -> 5.2719115 | T13: -2.4985e-11 | U13: 9.5559e-13 | V13: -2.8604e-12
B14: 6637 | C14: =I14+F14 -> -0.005262401 | D14: =J14+G14 -> -0.00217711 | E14: =K14+H14 -> 0.002590547 | F14: 2.2599e-05 | G14: 1.199e-05 | H14: 2.2747e-05 | I14: =L14+T14 -> -0.005285 | J14: =M14+U14 -> -0.0021891 | K14: =N14+V14 -> 0.0025678 | L14: -0.005285 | M14: -0.0021891 | N14: 0.0025678 | O14: =L14-I14 -> 1.4519e-11 | P14: =M14-J14 -> 2.2801999e-12 | Q14: =N14-K14 -> 3.2952998e-12 | R14: =(O14^2+P14^2+Q14^2)^0.5 -> 1.5061861e-11 | S14: =1000*(L14^2+M14^2)^0.5 -> 5.7204356 | T14: -1.4519e-11 | U14: -2.2802e-12 | V14: -3.2953e-12
B15: 6673 | C15: =I15+F15 -> -0.00534038 | D15: =J15+G15 -> 0.0022101455 | E15: =K15+H15 -> 0.002510363 | F15: 1.512e-05 | G15: -8.1545e-06 | H15: 1.6463e-05 | I15: =L15+T15 -> -0.0053555 | J15: =M15+U15 -> 0.0022183 | K15: =N15+V15 -> 0.0024939 | L15: -0.0053555 | M15: 0.0022183 | N15: 0.0024939 | O15: =L15-I15 -> 9.5591e-12 | P15: =M15-J15 -> 8.8978e-12 | Q15: =N15-K15 -> -4.1336999e-12 | R15: =(O15^2+P15^2+Q15^2)^0.5 -> 1.3697982e-11 | S15: =1000*(L15^2+M15^2)^0.5 -> 5.7967435 | T15: -9.5591e-12 | U15: -8.8978e-12 | V15: 4.1337e-12
... B59: 50455 | C59: =I59+F59 -> -0.0022799 | D59: =J59+G59 -> -0.0053672 | E59: =K59+H59 -> 0.0027911 | F59: 0 | G59: 0 | H59: 0 | I59: =L59+T59 -> -0.0022799 | J59: =M59+U59 -> -0.0053672 | K59: =N59+V59 -> 0.0027911 | L59: -0.0022799 | M59: -0.0053672 | N59: 0.0027911 | O59: =L59-I59 -> 0 | P59: =M59-J59 -> 0 | Q59: =N59-K59 -> 0 | R59: =(O59^2+P59^2+Q59^2)^0.5 -> 0 | S59: =1000*(L59^2+M59^2)^0.5 -> 5.8313617 | T59: 0 | U59: 0 | V59: 0
B60: Free Stress Geometry | F60: Displacement PIO 14 mmHg (1850.61 Pa) | I60: Estimated Physiological Geometry PIO 14 mmHg ( 1860.51 Pa) | L60: Measured Physiological Geometry PIO 14 mmHg (1866.51 Pa) | O60: Difference | R60: =MAX(R62:R118) -> 5.8086113e-10 | T60: RESIDUAL DISPLACEMENT PIO14 mmHg ( 1860.51 Pa)
B61: POINT | C61: X (m) | D61: Y (m) | E61: Z (m) | F61: dx (mm) | G61: dy(mm) | H61: dz (mm) | I61: X (m) | J61: Y (m) | K61: Z (m) | L61: X (m) | M61: Y (m) | N61: Z (m) | O61: X (m) | P61: Y (m) | Q61: Z (m) | R61: ERROR (m) | S61: RADIUS (mm) | T61: dx (mm) | U61: dy(mm) | V61: dz (mm)
A62: CARA POSTERIOR | B62: 1 | C62: =I62+F62 -> -5.8296058e-06 | D62: =J62+G62 -> -1.5775008e-05 | E62: =K62+H62 -> 0.00069822058 | F62: -5.8296e-06 | G62: -1.5775e-05 | H62: 0.00023433 | I62: =L62+T62 -> -5.7698e-12 | J62: =M62+U62 -> -8.3585e-12 | K62: =N62+V62 -> 0.00046389058 | L62: -1.3767e-11 | M62: -5.7024e-12 | N62: 0.00046389 | O62: =L62-I62 -> -7.9972e-12 | P62: =M62-J62 -> 2.6561e-12 | Q62: =N62-K62 -> -5.808e-10 | R62: =(O62^2+P62^2+Q62^2)^0.5 -> 5.8086113e-10 | S62: =1000*(L62^2+M62^2)^0.5 -> 1.4901264e-08 | T62: 7.9972e-12 | U62: -2.6561e-12 | V62: 5.808e-10
B63: 2 | C63: =I63+F63 -> -0.00084140811 | D63: =J63+G63 -> -0.00036202783 | E63: =K63+H63 -> 0.00072956044 | F63: 2.3802e-05 | G63: -3.6478e-06 | H63: 0.00022175 | I63: =L63+T63 -> -0.00086521011 | J63: =M63+U63 -> -0.00035838003 | K63: =N63+V63 -> 0.00050781044 | L63: -0.00086521 | M63: -0.00035838 | N63: 0.00050781 | O63: =L63-I63 -> 1.0811e-10 | P63: =M63-J63 -> 2.5942e-11 | Q63: =N63-K63 -> -4.4315e-10 | R63: =(O63^2+P63^2+Q63^2)^0.5 -> 4.5688366e-10 | S63: =1000*(L63^2+M63^2)^0.5 -> 0.9364959 | T63: -1.0811e-10 | U63: -2.5942e-11 | V63: 4.4315e-10
B64: 22 | C64: =I64+F64 -> -0.0008303801 | D64: =J64+G64 -> 0.00032967499 | E64: =K64+H64 -> 0.00084049043 | F64: 2.21e-05 | G64: -2.3435e-05 | H64: 0.00025556 | I64: =L64+T64 -> -0.0008524801 | J64: =M64+U64 -> 0.00035310999 | K64: =N64+V64 -> 0.00058493043 | L64: -0.00085248 | M64: 0.00035311 | N64: 0.00058493 | O64: =L64-I64 -> 1.039e-10 | P64: =M64-J64 -> 1.0764e-11 | Q64: =N64-K64 -> -4.2732e-10 | R64: =(O64^2+P64^2+Q64^2)^0.5 -> 4.3990164e-10 | S64: =1000*(L64^2+M64^2)^0.5 -> 0.92271817 | T64: -1.039e-10 | U64: -1.0764e-11 | V64: 4.2732e-10
B65: 1645 | C65: =I65+F65 -> -0.0017432482 | D65: =J65+G65 -> -0.00073153504 | E65: =K65+H65 -> 0.00104483 | F65: 6.4152e-05 | G65: 1.7125e-05 | H65: 0.00024732 | I65: =L65+T65 -> -0.0018074002 | J65: =M65+U65 -> -0.00074866004 | K65: =N65+V65 -> 0.00079750998 | L65: -0.0018074 | M65: -0.00074866 | N65: 0.00079751 | O65: =L65-I65 -> 2.383e-10 | P65: =M65-J65 -> 3.6135e-11 | Q65: =N65-K65 -> 1.8709e-11 | R65: =(O65^2+P65^2+Q65^2)^0.5 -> 2.4174916e-10 | S65: =1000*(L65^2+M65^2)^0.5 -> 1.9563196 | T65: -2.383e-10 | U65: -3.6135e-11 | V65: -1.8709e-11
B66: 1657 | C66: =I66+F66 -> -0.0017406392 | D66: =J66+G66 -> 0.00072316995 | E66: =K66+H66 -> 0.0011382001 | F66: 4.7461e-05 | G66: -1.75e-05 | H66: 0.00027624 | I66: =L66+T66 -> -0.0017881002 | J66: =M66+U66 -> 0.00074066995 | K66: =N66+V66 -> 0.00086196007 | L66: -0.0017881 | M66: 0.00074067 | N66: 0.00086196 | O66: =L66-I66 -> 2.106e-10 | P66: =M66-J66 -> 4.5241e-11 | Q66: =N66-K66 -> -7.266e-11 | R66: =(O66^2+P66^2+Q66^2)^0.5 -> 2.2732924e-10 | S66: =1000*(L66^2+M66^2)^0.5 -> 1.9354311 | T66: -2.106e-10 | U66: -4.5241e-11 | V66: 7.266e-11
B67: 2869 | C67: =I67+F67 -> -0.0026368353 | D67: =J67+G67 -> -0.001096698 | E67: =K67+H67 -> 0.0015359197 | F67: 9.0565e-05 | G67: 3.3002e-05 | H67: 0.00026812 | I67: =L67+T67 -> -0.0027274003 | J67: =M67+U67 -> -0.0011297 | K67: =N67+V67 -> 0.0012677997 | L67: -0.0027274 | M67: -0.0011297 | N67: 0.0012678 | O67: =L67-I67 -> 2.5451e-10 | P67: =M67-J67 -> -4.0014997e-13 | Q67: =N67-K67 -> 2.9166e-10 | R67: =(O67^2+P67^2+Q67^2)^0.5 -> 3.8709308e-10 | S67: =1000*(L67^2+M67^2)^0.5 -> 2.9521065 | T67: -2.5451e-10 | U67: 4.0015e-13 | V67: -2.9166e-10
B68: 2881 | C68: =I68+F68 -> -0.0026718122 | D68: =J68+G68 -> 0.0011219736 | E68: =K68+H68 -> 0.0015132798 | F68: 6.0688e-05 | G68: -9.8263e-06 | H68: 0.00025818 | I68: =L68+T68 -> -0.0027325002 | J68: =M68+U68 -> 0.0011317999 | K68: =N68+V68 -> 0.0012550998 | L68: -0.0027325 | M68: 0.0011318 | N68: 0.0012551 | O68: =L68-I68 -> 1.7659e-10 | P68: =M68-J68 -> 7.39e-11 | Q68: =N68-K68 -> 1.5641e-10 | R68: =(O68^2+P68^2+Q68^2)^0.5 -> 2.4720301e-10 | S68: =1000*(L68^2+M68^2)^0.5 -> 2.9576219 | T68: -1.7659e-10 | U68: -7.39e-11 | V68: -1.5641e-10
B69: 4093 | C69: =I69+F69 -> -0.0035094251 | D69: =J69+G69 -> -0.001453756 | E69: =K69+H69 -> 0.0020563797 | F69: 7.9775e-05 | G69: 3.2944e-05 | H69: 0.00023288 | I69: =L69+T69 -> -0.0035892001 | J69: =M69+U69 -> -0.0014867 | K69: =N69+V69 -> 0.0018234997 | L69: -0.0035892 | M69: -0.0014867 | N69: 0.0018235 | O69: =L69-I69 -> 1.4221e-10 | P69: =M69-J69 -> -8.1373001e-12 | Q69: =N69-K69 -> 2.5568e-10 | R69: =(O69^2+P69^2+Q69^2)^0.5 -> 2.9268099e-10 | S69: =1000*(L69^2+M69^2)^0.5 -> 3.8849239 | T69: -1.4221e-10 | U69: 8.1373e-12 | V69: -2.5568e-10
B70: 4105 | C70: =I70+F70 -> -0.0035585181 | D70: =J70+G70 -> 0.0014893623 | E70: =K70+H70 -> 0.0019792699 | F70: 5.4182e-05 | G70: -7.0376e-06 | H70: 0.00019637 | I70: =L70+T70 -> -0.0036127001 | J70: =M70+U70 -> 0.0014963999 | K70: =N70+V70 -> 0.0017828999 | L70: -0.0036127 | M70: 0.0014964 | N70: 0.0017829 | O70: =L70-I70 -> 7.8093e-11 | P70: =M70-J70 -> 6.6741e-11 | Q70: =N70-K70 -> 1.2343e-10 | R70: =(O70^2+P70^2+Q70^2)^0.5 -> 1.6058594e-10 | S70: =1000*(L70^2+M70^2)^0.5 -> 3.9103471 | T70: -7.8093e-11 | U70: -6.6741e-11 | V70: -1.2343e-10
B71: 5317 | C71: =I71+F71 -> -0.004416949 | D71: =J71+G71 -> -0.001828854 | E71: =K71+H71 -> 0.0027331299 | F71: 3.0351e-05 | G71: 1.3246e-05 | H71: 0.00012883 | I71: =L71+T71 -> -0.0044473 | J71: =M71+U71 -> -0.0018421 | K71: =N71+V71 -> 0.0026042999 | L71: -0.0044473 | M71: -0.0018421 | N71: 0.0026043 | O71: =L71-I71 -> 1.986e-11 | P71: =M71-J71 -> -2.5227e-11 | Q71: =N71-K71 -> 7.4204e-11 | R71: =(O71^2+P71^2+Q71^2)^0.5 -> 8.0852055e-11 | S71: =1000*(L71^2+M71^2)^0.5 -> 4.8137106 | T71: -1.986e-11 | U71: 2.5227e-11 | V71: -7.4204e-11
B72: 5329 | C72: =I72+F72 -> -0.004477729 | D72: =J72+G72 -> 0.0018607936 | E72: =K72+H72 -> 0.002631212 | F72: 2.2071e-05 | G72: -3.1064e-06 | H72: 9.8012e-05 | I72: =L72+T72 -> -0.0044998 | J72: =M72+U72 -> 0.0018639 | K72: =N72+V72 -> 0.0025332 | L72: -0.0044998 | M72: 0.0018639 | N72: 0.0025332 | O72: =L72-I72 -> 1.1832e-11 | P72: =M72-J72 -> 3.5001e-11 | Q72: =N72-K72 -> 2.34e-11 | R72: =(O72^2+P72^2+Q72^2)^0.5 -> 4.3733582e-11 | S72: =1000*(L72^2+M72^2)^0.5 -> 4.8705568 | T72: -1.1832e-11 | U72: -3.5001e-11 | V72: -2.34e-11
B73: 6541 | C73: =I73+F73 -> -0.004827459 | D73: =J73+G73 -> -0.0019966922 | E73: =K73+H73 -> 0.00310861 | F73: 5.741e-06 | G73: 5.3078e-06 | H73: 6.781e-05 | I73: =L73+T73 -> -0.0048332 | J73: =M73+U73 -> -0.002002 | K73: =N73+V73 -> 0.0030408 | L73: -0.0048332 | M73: -0.002002 | N73: 0.0030408 | O73: =L73-I73 -> 1.6420979e-13 | P73: =M73-J73 -> -1.3328e-11 | Q73: =N73-K73 -> 2.0863e-11 | R73: =(O73^2+P73^2+Q73^2)^0.5 -> 2.4757369e-11 | S73: =1000*(L73^2+M73^2)^0.5 -> 5.2314268 | T73: -1.6421e-13 | U73: 1.3328e-11 | V73: -2.0863e-11
B74: 6547 | C74: =I74+F74 -> -0.0048811049 | D74: =J74+G74 -> 0.0020251602 | E74: =K74+H74 -> 0.003031544 | F74: 8.8951e-06 | G74: -3.3983e-07 | H74: 5.0144e-05 | I74: =L74+T74 -> -0.00489 | J74: =M74+U74 -> 0.0020255 | K74: =N74+V74 -> 0.0029814 | L74: -0.00489 | M74: 0.0020255 | N74: 0.0029814 | O74: =L74-I74 -> 6.3422002e-12 | P74: =M74-J74 -> 1.4337e-11 | Q74: =N74-K74 -> 5.2034002e-12 | R74: =(O74^2+P74^2+Q74^2)^0.5 -> 1.6518125e-11 | S74: =1000*(L74^2+M74^2)^0.5 -> 5.2928962 | T74: -6.3422e-12 | U74: -1.4337e-11 | V74: -5.2034e-12
... B118: 50365 | C118: =I118+F118 -> -0.0021702 | D118: =J118+G118 -> -0.005109 | E118: =K118+H118 -> 0.0036911 | F118: 0 | G118: 0 | H118: 0 | I118: =L118+T118 -> -0.0021702 | J118: =M118+U118 -> -0.005109 | K118: =N118+V118 -> 0.0036911 | L118: -0.0021702 | M118: -0.005109 | N118: 0.0036911 | O118: =L118-I118 -> 0 | P118: =M118-J118 -> 0 | Q118: =N118-K118 -> 0 | R118: =(O118^2+P118^2+Q118^2)^0.5 -> 0 | S118: =1000*(L118^2+M118^2)^0.5 -> 5.5508242 | T118: 0 | U118: 0 | V118: 0

Sheet Inverse Geo Difference G2
A1: FREE STRESS GEOMETRY DIFFERENCE | E1: =1000000*MAX(E3:E59) -> 14.453158 | F1: DIFFERENCE | J1: AVERAGE | K1: STANDARD DEVIATION
A2: POINT | B2: X (m) | C2: Y (m) | D2: Z (m) | E2: ERROR (m) | F2: RADIUS (mm) | G2: ERROR (μm) | J2: =AVERAGE(G:G) -> 5.1658434 | K2: =_xlfn.STDEV.S((G:G)) -> 3.9696863
A3: ='Displacement methodI G2'!B3 -> 257 | B3: ='Displacement methodI G2'!C3-'Pre-stress method G2'!C3 -> 8.3521474e-07 | C3: ='Displacement methodI G2'!D3-'Pre-stress method G2'!D3 -> 6.4274692e-07 | D3: ='Displacement methodI G2'!E3-'Pre-stress method G2'!E3 -> 3.9294329e-06 | E3: =(B3^2+C3^2+D3^2)^0.5 -> 4.0683105e-06 | F3: ='Displacement methodI G2'!S3 -> 0 | G3: =E3*1000000 -> 4.0683105
A4: ='Displacement methodI G2'!B4 -> 265 | B4: ='Displacement methodI G2'!C4-'Pre-stress method G2'!C4 -> 7.0592843e-07 | C4: ='Displacement methodI G2'!D4-'Pre-stress method G2'!D4 -> 4.9400488e-07 | D4: ='Displacement methodI G2'!E4-'Pre-stress method G2'!E4 -> 7.1675941e-06 | E4: =(B4^2+C4^2+D4^2)^0.5 -> 7.2191954e-06 | F4: ='Displacement methodI G2'!S4 -> 1.0157268 | G4: =E4*1000000 -> 7.2191954
A5: ='Displacement methodI G2'!B5 -> 385 | B5: ='Displacement methodI G2'!C5-'Pre-stress method G2'!C5 -> 1.4694278e-07 | C5: ='Displacement methodI G2'!D5-'Pre-stress method G2'!D5 -> 6.8915544e-07 | D5: ='Displacement methodI G2'!E5-'Pre-stress method G2'!E5 -> -1.7603945e-06 | E5: =(B5^2+C5^2+D5^2)^0.5 -> 1.8961846e-06 | F5: ='Displacement methodI G2'!S5 -> 1.0084768 | G5: =E5*1000000 -> 1.8961846
A6: ='Displacement methodI G2'!B6 -> 1837 | B6: ='Displacement methodI G2'!C6-'Pre-stress method G2'!C6 -> -1.8099925e-06 | C6: ='Displacement methodI G2'!D6-'Pre-stress method G2'!D6 -> -8.289816e-07 | D6: ='Displacement methodI G2'!E6-'Pre-stress method G2'!E6 -> 3.5008602e-07 | E6: =(B6^2+C6^2+D6^2)^0.5 -> 2.021347e-06 | F6: ='Displacement methodI G2'!S6 -> 2.1092508 | G6: =E6*1000000 -> 2.021347
A7: ='Displacement methodI G2'!B7 -> 1909 | B7: ='Displacement methodI G2'!C7-'Pre-stress method G2'!C7 -> -1.1400198e-06 | C7: ='Displacement methodI G2'!D7-'Pre-stress method G2'!D7 -> -1.1210015e-06 | D7: ='Displacement methodI G2'!E7-'Pre-stress method G2'!E7 -> -8.0500301e-06 | E7: =(B7^2+C7^2+D7^2)^0.5 -> 8.2072696e-06 | F7: ='Displacement methodI G2'!S7 -> 2.0958392 | G7: =E7*1000000 -> 8.2072696
A8: ='Displacement methodI G2'!B8 -> 3061 | B8: ='Displacement methodI G2'!C8-'Pre-stress method G2'!C8 -> -5.1368205e-06 | C8: ='Displacement methodI G2'!D8-'Pre-stress method G2'!D8 -> -2.3419344e-06 | D8: ='Displacement methodI G2'!E8-'Pre-stress method G2'!E8 -> -7.6697037e-06 | E8: =(B8^2+C8^2+D8^2)^0.5 -> 9.5234414e-06 | F8: ='Displacement methodI G2'!S8 -> 3.1703147 | G8: =E8*1000000 -> 9.5234414
A9: ='Displacement methodI G2'!B9 -> 3133 | B9: ='Displacement methodI G2'!C9-'Pre-stress method G2'!C9 -> -6.2988564e-07 | C9: ='Displacement methodI G2'!D9-'Pre-stress method G2'!D9 -> -2.5680563e-06 | D9: ='Displacement methodI G2'!E9-'Pre-stress method G2'!E9 -> -8.4598448e-06 | E9: =(B9^2+C9^2+D9^2)^0.5 -> 8.8634442e-06 | F9: ='Displacement methodI G2'!S9 -> 3.1702223 | G9: =E9*1000000 -> 8.8634442
A10: ='Displacement methodI G2'!B10 -> 4285 | B10: ='Displacement methodI G2'!C10-'Pre-stress method G2'!C10 -> -4.3997911e-06 | C10: ='Displacement methodI G2'!D10-'Pre-stress method G2'!D10 -> -2.1379095e-06 | D10: ='Displacement methodI G2'!E10-'Pre-stress method G2'!E10 -> -9.0497932e-06 | E10: =(B10^2+C10^2+D10^2)^0.5 -> 1.0287253e-05 | F10: ='Displacement methodI G2'!S10 -> 4.181186 | G10: =E10*1000000 -> 10.287253
A11: ='Displacement methodI G2'!B11 -> 4357 | B11: ='Displacement methodI G2'!C11-'Pre-stress method G2'!C11 -> 1.0750976e-06 | C11: ='Displacement methodI G2'!D11-'Pre-stress method G2'!D11 -> -3.0220568e-06 | D11: ='Displacement methodI G2'!E11-'Pre-stress method G2'!E11 -> -4.9399266e-06 | E11: =(B11^2+C11^2+D11^2)^0.5 -> 5.8899522e-06 | F11: ='Displacement methodI G2'!S11 -> 4.2107322 | G11: =E11*1000000 -> 5.8899522
A12: ='Displacement methodI G2'!B12 -> 5509 | B12: ='Displacement methodI G2'!C12-'Pre-stress method G2'!C12 -> -1.1999443e-06 | C12: ='Displacement methodI G2'!D12-'Pre-stress method G2'!D12 -> -6.0896904e-07 | D12: ='Displacement methodI G2'!E12-'Pre-stress method G2'!E12 -> -4.1709809e-06 | E12: =(B12^2+C12^2+D12^2)^0.5 -> 4.3826695e-06 | F12: ='Displacement methodI G2'!S12 -> 5.2068575 | G12: =E12*1000000 -> 4.3826695
A13: ='Displacement methodI G2'!B13 -> 5581 | B13: ='Displacement methodI G2'!C13-'Pre-stress method G2'!C13 -> 1.984025e-06 | C13: ='Displacement methodI G2'!D13-'Pre-stress method G2'!D13 -> -2.262001e-06 | D13: ='Displacement methodI G2'!E13-'Pre-stress method G2'!E13 -> -1.2539971e-06 | E13: =(B13^2+C13^2+D13^2)^0.5 -> 3.2596798e-06 | F13: ='Displacement methodI G2'!S13 -> 5.2719115 | G13: =E13*1000000 -> 3.2596798
A14: ='Displacement methodI G2'!B14 -> 6637 | B14: ='Displacement methodI G2'!C14-'Pre-stress method G2'!C14 -> -1.9898548e-07 | C14: ='Displacement methodI G2'!D14-'Pre-stress method G2'!D14 -> -3.8999772e-07 | D14: ='Displacement methodI G2'!E14-'Pre-stress method G2'!E14 -> -1.2469967e-06 | E14: =(B14^2+C14^2+D14^2)^0.5 -> 1.3216256e-06 | F14: ='Displacement methodI G2'!S14 -> 5.7204356 | G14: =E14*1000000 -> 1.3216256
... A59: ='Displacement methodI G2'!B59 -> 50455 | B59: ='Displacement methodI G2'!C59-'Pre-stress method G2'!C59 -> 0 | C59: ='Displacement methodI G2'!D59-'Pre-stress method G2'!D59 -> 0 | D59: ='Displacement methodI G2'!E59-'Pre-stress method G2'!E59 -> 0 | E59: =(B59^2+C59^2+D59^2)^0.5 -> 0 | F59: ='Displacement methodI G2'!S59 -> 5.8313617 | G59: =E59*1000000 -> 0
A60: FREE STRESS GEOMETRY DIFFERENCE | E60: =1000000*MAX(E62:E118) -> 14.130424 | F60: DIFFERENCE
A61: POINT | B61: X (m) | C61: Y (m) | D61: Z (m) | E61: ERROR (m) | F61: RADIUS (mm) | G61: ERROR (μm)
A62: ='Displacement methodI G2'!B62 -> 1 | B62: ='Displacement methodI G2'!C62-'Pre-stress method G2'!C62 -> 1.1256058e-06 | C62: ='Displacement methodI G2'!D62-'Pre-stress method G2'!D62 -> 3.3980084e-06 | D62: ='Displacement methodI G2'!E62-'Pre-stress method G2'!E62 -> 3.5894192e-06 | E62: =(B62^2+C62^2+D62^2)^0.5 -> 5.0692583e-06 | F62: ='Displacement methodI G2'!S62 -> 1.4901264e-08 | G62: =E62*1000000 -> 5.0692583
A63: ='Displacement methodI G2'!B63 -> 2 | B63: ='Displacement methodI G2'!C63-'Pre-stress method G2'!C63 -> -5.189189e-08 | C63: ='Displacement methodI G2'!D63-'Pre-stress method G2'!D63 -> 2.2978259e-06 | D63: ='Displacement methodI G2'!E63-'Pre-stress method G2'!E63 -> 6.7995569e-06 | E63: =(B63^2+C63^2+D63^2)^0.5 -> 7.1775114e-06 | F63: ='Displacement methodI G2'!S63 -> 0.9364959 | G63: =E63*1000000 -> 7.1775114
A64: ='Displacement methodI G2'!B64 -> 22 | B64: ='Displacement methodI G2'!C64-'Pre-stress method G2'!C64 -> -2.398961e-07 | C64: ='Displacement methodI G2'!D64-'Pre-stress method G2'!D64 -> 3.8450108e-06 | D64: ='Displacement methodI G2'!E64-'Pre-stress method G2'!E64 -> -1.8404273e-06 | E64: =(B64^2+C64^2+D64^2)^0.5 -> 4.2695235e-06 | F64: ='Displacement methodI G2'!S64 -> 0.92271817 | G64: =E64*1000000 -> 4.2695235
A65: ='Displacement methodI G2'!B65 -> 1645 | B65: ='Displacement methodI G2'!C65-'Pre-stress method G2'!C65 -> -4.1517617e-06 | C65: ='Displacement methodI G2'!D65-'Pre-stress method G2'!D65 -> -3.4496386e-07 | D65: ='Displacement methodI G2'!E65-'Pre-stress method G2'!E65 -> 7.7001871e-07 | E65: =(B65^2+C65^2+D65^2)^0.5 -> 4.2366324e-06 | F65: ='Displacement methodI G2'!S65 -> 1.9563196 | G65: =E65*1000000 -> 4.2366324
A66: ='Displacement methodI G2'!B66 -> 1657 | B66: ='Displacement methodI G2'!C66-'Pre-stress method G2'!C66 -> -2.0607894e-06 | C66: ='Displacement methodI G2'!D66-'Pre-stress method G2'!D66 -> 1.7700452e-06 | D66: ='Displacement methodI G2'!E66-'Pre-stress method G2'!E66 -> -8.1000727e-06 | E66: =(B66^2+C66^2+D66^2)^0.5 -> 8.5434823e-06 | F66: ='Displacement methodI G2'!S66 -> 1.9354311 | G66: =E66*1000000 -> 8.5434823
A67: ='Displacement methodI G2'!B67 -> 2869 | B67: ='Displacement methodI G2'!C67-'Pre-stress method G2'!C67 -> -8.0647455e-06 | C67: ='Displacement methodI G2'!D67-'Pre-stress method G2'!D67 -> -2.9020004e-06 | D67: ='Displacement methodI G2'!E67-'Pre-stress method G2'!E67 -> -6.7197083e-06 | E67: =(B67^2+C67^2+D67^2)^0.5 -> 1.0891107e-05 | F67: ='Displacement methodI G2'!S67 -> 2.9521065 | G67: =E67*1000000 -> 10.891107
A68: ='Displacement methodI G2'!B68 -> 2881 | B68: ='Displacement methodI G2'!C68-'Pre-stress method G2'!C68 -> -2.5878234e-06 | C68: ='Displacement methodI G2'!D68-'Pre-stress method G2'!D68 -> -2.736261e-07 | D68: ='Displacement methodI G2'!E68-'Pre-stress method G2'!E68 -> -8.2798436e-06 | E68: =(B68^2+C68^2+D68^2)^0.5 -> 8.6791423e-06 | F68: ='Displacement methodI G2'!S68 -> 2.9576219 | G68: =E68*1000000 -> 8.6791423
A69: ='Displacement methodI G2'!B69 -> 4093 | B69: ='Displacement methodI G2'!C69-'Pre-stress method G2'!C69 -> -7.8748578e-06 | C69: ='Displacement methodI G2'!D69-'Pre-stress method G2'!D69 -> -3.7440081e-06 | D69: ='Displacement methodI G2'!E69-'Pre-stress method G2'!E69 -> -7.2797443e-06 | E69: =(B69^2+C69^2+D69^2)^0.5 -> 1.1358946e-05 | F69: ='Displacement methodI G2'!S69 -> 3.8849239 | G69: =E69*1000000 -> 11.358946
A70: ='Displacement methodI G2'!B70 -> 4105 | B70: ='Displacement methodI G2'!C70-'Pre-stress method G2'!C70 -> -2.2819219e-06 | C70: ='Displacement methodI G2'!D70-'Pre-stress method G2'!D70 -> -6.6233326e-07 | D70: ='Displacement methodI G2'!E70-'Pre-stress method G2'!E70 -> -3.5698766e-06 | E70: =(B70^2+C70^2+D70^2)^0.5 -> 4.2883414e-06 | F70: ='Displacement methodI G2'!S70 -> 3.9103471 | G70: =E70*1000000 -> 4.2883414
A71: ='Displacement methodI G2'!B71 -> 5317 | B71: ='Displacement methodI G2'!C71-'Pre-stress method G2'!C71 -> -4.4509801e-06 | C71: ='Displacement methodI G2'!D71-'Pre-stress method G2'!D71 -> -2.2460252e-06 | D71: ='Displacement methodI G2'!E71-'Pre-stress method G2'!E71 -> -1.4299258e-06 | E71: =(B71^2+C71^2+D71^2)^0.5 -> 5.1865732e-06 | F71: ='Displacement methodI G2'!S71 -> 4.8137106 | G71: =E71*1000000 -> 5.1865732
A72: ='Displacement methodI G2'!B72 -> 5329 | B72: ='Displacement methodI G2'!C72-'Pre-stress method G2'!C72 -> -1.6709882e-06 | C72: ='Displacement methodI G2'!D72-'Pre-stress method G2'!D72 -> -9.3564999e-08 | D72: ='Displacement methodI G2'!E72-'Pre-stress method G2'!E72 -> 1.1880234e-06 | E72: =(B72^2+C72^2+D72^2)^0.5 -> 2.0524024e-06 | F72: ='Displacement methodI G2'!S72 -> 4.8705568 | G72: =E72*1000000 -> 2.0524024
A73: ='Displacement methodI G2'!B73 -> 6541 | B73: ='Displacement methodI G2'!C73-'Pre-stress method G2'!C73 -> -3.0409998e-06 | C73: ='Displacement methodI G2'!D73-'Pre-stress method G2'!D73 -> -8.0781333e-07 | D73: ='Displacement methodI G2'!E73-'Pre-stress method G2'!E73 -> 1.5900209e-06 | E73: =(B73^2+C73^2+D73^2)^0.5 -> 3.5253948e-06 | F73: ='Displacement methodI G2'!S73 -> 5.2314268 | G73: =E73*1000000 -> 3.5253948
... A118: ='Displacement methodI G2'!B118 -> 50365 | B118: ='Displacement methodI G2'!C118-'Pre-stress method G2'!C118 -> 0 | C118: ='Displacement methodI G2'!D118-'Pre-stress method G2'!D118 -> 0 | D118: ='Displacement methodI G2'!E118-'Pre-stress method G2'!E118 -> 0 | E118: =(B118^2+C118^2+D118^2)^0.5 -> 0 | F118: ='Displacement methodI G2'!S118 -> 5.5508242 | G118: =E118*1000000 -> 0

Sheet Physiological Geo Difference G2
A1: PHYSIOLOGICAL GEOMETRY DIFFERENCE | E1: =1000000*MAX(E3:E59) -> 0.11117604 | F1: MAX DIFFERENCE | J1: AVERAGE | K1: STANDARD DEVIATION
A2: POINT | B2: X (m) | C2: Y (m) | D2: Z (m) | E2: ERROR (m) | F2: RADIUS (mm) | G2: ERROR (μm) | J2: =AVERAGE(G:G) -> 0.040707139 | K2: =_xlfn.STDEV.S((G:G)) -> 0.031924691
A3: ='Displacement methodI G2'!B3 -> 257 | B3: ='Displacement methodI G2'!I3-'Pre-stress method G2'!I3 -> 1.4745e-11 | C3: ='Displacement methodI G2'!J3-'Pre-stress method G2'!J3 -> -5.3083e-11 | D3: ='Displacement methodI G2'!K3-'Pre-stress method G2'!K3 -> -5.6707e-10 | E3: =(B3^2+C3^2+D3^2)^0.5 -> 5.6973994e-10 | F3: ='Displacement methodI G2'!S3 -> 0 | G3: =E3*1000000 -> 0.00056973994
A4: ='Displacement methodI G2'!B4 -> 265 | B4: ='Displacement methodI G2'!I4-'Pre-stress method G2'!I4 -> 2.928431e-09 | C4: ='Displacement methodI G2'!J4-'Pre-stress method G2'!J4 -> -3.9951223e-09 | D4: ='Displacement methodI G2'!K4-'Pre-stress method G2'!K4 -> -2.40586e-09 | E4: =(B4^2+C4^2+D4^2)^0.5 -> 5.5068024e-09 | F4: ='Displacement methodI G2'!S4 -> 1.0157268 | G4: =E4*1000000 -> 0.0055068024
A5: ='Displacement methodI G2'!B5 -> 385 | B5: ='Displacement methodI G2'!I5-'Pre-stress method G2'!I5 -> 7.942777e-09 | C5: ='Displacement methodI G2'!J5-'Pre-stress method G2'!J5 -> -4.144559e-09 | D5: ='Displacement methodI G2'!K5-'Pre-stress method G2'!K5 -> -3.9449e-10 | E5: =(B5^2+C5^2+D5^2)^0.5 -> 8.9677588e-09 | F5: ='Displacement methodI G2'!S5 -> 1.0084768 | G5: =E5*1000000 -> 0.0089677588
A6: ='Displacement methodI G2'!B6 -> 1837 | B6: ='Displacement methodI G2'!I6-'Pre-stress method G2'!I6 -> 7.2007481e-08 | C6: ='Displacement methodI G2'!J6-'Pre-stress method G2'!J6 -> -8.981602e-09 | D6: ='Displacement methodI G2'!K6-'Pre-stress method G2'!K6 -> 8.6017e-11 | E6: =(B6^2+C6^2+D6^2)^0.5 -> 7.2565514e-08 | F6: ='Displacement methodI G2'!S6 -> 2.1092508 | G6: =E6*1000000 -> 0.072565514
A7: ='Displacement methodI G2'!B7 -> 1909 | B7: ='Displacement methodI G2'!I7-'Pre-stress method G2'!I7 -> -5.6019801e-08 | C7: ='Displacement methodI G2'!J7-'Pre-stress method G2'!J7 -> -4.0014799e-09 | D7: ='Displacement methodI G2'!K7-'Pre-stress method G2'!K7 -> -3.0128e-11 | E7: =(B7^2+C7^2+D7^2)^0.5 -> 5.616254e-08 | F7: ='Displacement methodI G2'!S7 -> 2.0958392 | G7: =E7*1000000 -> 0.05616254
A8: ='Displacement methodI G2'!B8 -> 3061 | B8: ='Displacement methodI G2'!I8-'Pre-stress method G2'!I8 -> -4.582048e-08 | C8: ='Displacement methodI G2'!J8-'Pre-stress method G2'!J8 -> -9.2934398e-08 | D8: ='Displacement methodI G2'!K8-'Pre-stress method G2'!K8 -> 4.029631e-08 | E8: =(B8^2+C8^2+D8^2)^0.5 -> 1.1117604e-07 | F8: ='Displacement methodI G2'!S8 -> 3.1703147 | G8: =E8*1000000 -> 0.11117604
A9: ='Displacement methodI G2'!B9 -> 3133 | B9: ='Displacement methodI G2'!I9-'Pre-stress method G2'!I9 -> 6.511436e-08 | C9: ='Displacement methodI G2'!J9-'Pre-stress method G2'!J9 -> 1.1943675e-08 | D9: ='Displacement methodI G2'!K9-'Pre-stress method G2'!K9 -> 1.5516e-10 | E9: =(B9^2+C9^2+D9^2)^0.5 -> 6.6200871e-08 | F9: ='Displacement methodI G2'!S9 -> 3.1702223 | G9: =E9*1000000 -> 0.066200871
A10: ='Displacement methodI G2'!B10 -> 4285 | B10: ='Displacement methodI G2'!I10-'Pre-stress method G2'!I10 -> -2.879105e-08 | C10: ='Displacement methodI G2'!J10-'Pre-stress method G2'!J10 -> -9.0949e-10 | D10: ='Displacement methodI G2'!K10-'Pre-stress method G2'!K10 -> 2.0685e-10 | E10: =(B10^2+C10^2+D10^2)^0.5 -> 2.8806154e-08 | F10: ='Displacement methodI G2'!S10 -> 4.181186 | G10: =E10*1000000 -> 0.028806154
A11: ='Displacement methodI G2'!B11 -> 4357 | B11: ='Displacement methodI G2'!I11-'Pre-stress method G2'!I11 -> -7.0902374e-08 | C11: ='Displacement methodI G2'!J11-'Pre-stress method G2'!J11 -> 4.943179e-09 | D11: ='Displacement methodI G2'!K11-'Pre-stress method G2'!K11 -> 7.0073429e-08 | E11: =(B11^2+C11^2+D11^2)^0.5 -> 9.9809153e-08 | F11: ='Displacement methodI G2'!S11 -> 4.2107322 | G11: =E11*1000000 -> 0.099809153
A12: ='Displacement methodI G2'!B12 -> 5509 | B12: ='Displacement methodI G2'!I12-'Pre-stress method G2'!I12 -> 2.4055676e-08 | C12: ='Displacement methodI G2'!J12-'Pre-stress method G2'!J12 -> 6.6030958e-08 | D12: ='Displacement methodI G2'!K12-'Pre-stress method G2'!K12 -> -4.3980937e-08 | E12: =(B12^2+C12^2+D12^2)^0.5 -> 8.2904076e-08 | F12: ='Displacement methodI G2'!S12 -> 5.2068575 | G12: =E12*1000000 -> 0.082904076
A13: ='Displacement methodI G2'!B13 -> 5581 | B13: ='Displacement methodI G2'!I13-'Pre-stress method G2'!I13 -> -8.975015e-09 | C13: ='Displacement methodI G2'!J13-'Pre-stress method G2'!J13 -> 3.9990444e-09 | D13: ='Displacement methodI G2'!K13-'Pre-stress method G2'!K13 -> 2.0028604e-09 | E13: =(B13^2+C13^2+D13^2)^0.5 -> 1.0027697e-08 | F13: ='Displacement methodI G2'!S13 -> 5.2719115 | G13: =E13*1000000 -> 0.010027697
A14: ='Displacement methodI G2'!B14 -> 6637 | B14: ='Displacement methodI G2'!I14-'Pre-stress method G2'!I14 -> 3.4014519e-08 | C14: ='Displacement methodI G2'!J14-'Pre-stress method G2'!J14 -> -2.199772e-08 | D14: ='Displacement methodI G2'!K14-'Pre-stress method G2'!K14 -> -7.7996705e-08 | E14: =(B14^2+C14^2+D14^2)^0.5 -> 8.7888413e-08 | F14: ='Displacement methodI G2'!S14 -> 5.7204356 | G14: =E14*1000000 -> 0.087888413
... A59: ='Displacement methodI G2'!B59 -> 50455 | B59: ='Displacement methodI G2'!I59-'Pre-stress method G2'!I59 -> 0 | C59: ='Displacement methodI G2'!J59-'Pre-stress method G2'!J59 -> 0 | D59: ='Displacement methodI G2'!K59-'Pre-stress method G2'!K59 -> 0 | E59: =(B59^2+C59^2+D59^2)^0.5 -> 0 | F59: ='Displacement methodI G2'!S59 -> 5.8313617 | G59: =E59*1000000 -> 0
A60: PHYSIOLOGICAL GEOMETRY DIFFERENCE | E60: =1000000*MAX(E62:E118) -> 0.10272795 | F60: MAX DIFFERENCE
A61: POINT | B61: X (m) | C61: Y (m) | D61: Z (m) | E61: ERROR (m) | F61: RADIUS (mm) | G61: ERROR (μm)
A62: ='Displacement methodI G2'!#REF! -> #REF! | B62: ='Displacement methodI G2'!I62-'Pre-stress method G2'!I62 -> 5.7698e-12 | C62: ='Displacement methodI G2'!J62-'Pre-stress method G2'!J62 -> 8.3585e-12 | D62: ='Displacement methodI G2'!K62-'Pre-stress method G2'!K62 -> -1.05808e-08 | E62: =(B62^2+C62^2+D62^2)^0.5 -> 1.0580805e-08 | F62: ='Displacement methodI G2'!S62 -> 1.4901264e-08 | G62: =E62*1000000 -> 0.010580805
A63: ='Displacement methodI G2'!#REF! -> #REF! | B63: ='Displacement methodI G2'!I63-'Pre-stress method G2'!I63 -> -8.9189e-10 | C63: ='Displacement methodI G2'!J63-'Pre-stress method G2'!J63 -> -5.874058e-09 | D63: ='Displacement methodI G2'!K63-'Pre-stress method G2'!K63 -> -1.044315e-08 | E63: =(B63^2+C63^2+D63^2)^0.5 -> 1.2014966e-08 | F63: ='Displacement methodI G2'!S63 -> 0.9364959 | G63: =E63*1000000 -> 0.012014966
A64: ='Displacement methodI G2'!#REF! -> #REF! | B64: ='Displacement methodI G2'!I64-'Pre-stress method G2'!I64 -> -2.8961e-09 | C64: ='Displacement methodI G2'!J64-'Pre-stress method G2'!J64 -> -3.989236e-09 | D64: ='Displacement methodI G2'!K64-'Pre-stress method G2'!K64 -> -4.2732e-10 | E64: =(B64^2+C64^2+D64^2)^0.5 -> 4.9481311e-09 | F64: ='Displacement methodI G2'!S64 -> 0.92271817 | G64: =E64*1000000 -> 0.0049481311
A65: ='Displacement methodI G2'!#REF! -> #REF! | B65: ='Displacement methodI G2'!I65-'Pre-stress method G2'!I65 -> -1.37617e-08 | C65: ='Displacement methodI G2'!J65-'Pre-stress method G2'!J65 -> -3.963865e-09 | D65: ='Displacement methodI G2'!K65-'Pre-stress method G2'!K65 -> 4.0018709e-08 | E65: =(B65^2+C65^2+D65^2)^0.5 -> 4.2504043e-08 | F65: ='Displacement methodI G2'!S65 -> 1.9563196 | G65: =E65*1000000 -> 0.042504043
A66: ='Displacement methodI G2'!#REF! -> #REF! | B66: ='Displacement methodI G2'!I66-'Pre-stress method G2'!I66 -> -6.27894e-08 | C66: ='Displacement methodI G2'!J66-'Pre-stress method G2'!J66 -> 5.045241e-09 | D66: ='Displacement methodI G2'!K66-'Pre-stress method G2'!K66 -> 1.992734e-08 | E66: =(B66^2+C66^2+D66^2)^0.5 -> 6.6068617e-08 | F66: ='Displacement methodI G2'!S66 -> 1.9354311 | G66: =E66*1000000 -> 0.066068617
A67: ='Displacement methodI G2'!#REF! -> #REF! | B67: ='Displacement methodI G2'!I67-'Pre-stress method G2'!I67 -> 3.925451e-08 | C67: ='Displacement methodI G2'!J67-'Pre-stress method G2'!J67 -> 3.69996e-08 | D67: ='Displacement methodI G2'!K67-'Pre-stress method G2'!K67 -> 3.029166e-08 | E67: =(B67^2+C67^2+D67^2)^0.5 -> 6.1866563e-08 | F67: ='Displacement methodI G2'!S67 -> 2.9521065 | G67: =E67*1000000 -> 0.061866563
A68: ='Displacement methodI G2'!#REF! -> #REF! | B68: ='Displacement methodI G2'!I68-'Pre-stress method G2'!I68 -> 3.417659e-08 | C68: ='Displacement methodI G2'!J68-'Pre-stress method G2'!J68 -> 3.10739e-08 | D68: ='Displacement methodI G2'!K68-'Pre-stress method G2'!K68 -> -1.984359e-08 | E68: =(B68^2+C68^2+D68^2)^0.5 -> 5.02732e-08 | F68: ='Displacement methodI G2'!S68 -> 2.9576219 | G68: =E68*1000000 -> 0.0502732
A69: ='Displacement methodI G2'!#REF! -> #REF! | B69: ='Displacement methodI G2'!I69-'Pre-stress method G2'!I69 -> -1.685779e-08 | C69: ='Displacement methodI G2'!J69-'Pre-stress method G2'!J69 -> -1.5008137e-08 | D69: ='Displacement methodI G2'!K69-'Pre-stress method G2'!K69 -> 2.025568e-08 | E69: =(B69^2+C69^2+D69^2)^0.5 -> 3.0326916e-08 | F69: ='Displacement methodI G2'!S69 -> 3.8849239 | G69: =E69*1000000 -> 0.030326916
A70: ='Displacement methodI G2'!#REF! -> #REF! | B70: ='Displacement methodI G2'!I70-'Pre-stress method G2'!I70 -> 2.4078093e-08 | C70: ='Displacement methodI G2'!J70-'Pre-stress method G2'!J70 -> 3.766741e-09 | D70: ='Displacement methodI G2'!K70-'Pre-stress method G2'!K70 -> -9.87657e-09 | E70: =(B70^2+C70^2+D70^2)^0.5 -> 2.6296189e-08 | F70: ='Displacement methodI G2'!S70 -> 3.9103471 | G70: =E70*1000000 -> 0.026296189
A71: ='Displacement methodI G2'!#REF! -> #REF! | B71: ='Displacement methodI G2'!I71-'Pre-stress method G2'!I71 -> 4.101986e-08 | C71: ='Displacement methodI G2'!J71-'Pre-stress method G2'!J71 -> 2.7974773e-08 | D71: ='Displacement methodI G2'!K71-'Pre-stress method G2'!K71 -> 1.0074204e-08 | E71: =(B71^2+C71^2+D71^2)^0.5 -> 5.0662673e-08 | F71: ='Displacement methodI G2'!S71 -> 4.8137106 | G71: =E71*1000000 -> 0.050662673
A72: ='Displacement methodI G2'!#REF! -> #REF! | B72: ='Displacement methodI G2'!I72-'Pre-stress method G2'!I72 -> -2.4988168e-08 | C72: ='Displacement methodI G2'!J72-'Pre-stress method G2'!J72 -> 2.7135001e-08 | D72: ='Displacement methodI G2'!K72-'Pre-stress method G2'!K72 -> 1.70234e-08 | E72: =(B72^2+C72^2+D72^2)^0.5 -> 4.0626506e-08 | F72: ='Displacement methodI G2'!S72 -> 4.8705568 | G72: =E72*1000000 -> 0.040626506
A73: ='Displacement methodI G2'!#REF! -> #REF! | B73: ='Displacement methodI G2'!I73-'Pre-stress method G2'!I73 -> -6.8299836e-08 | C73: ='Displacement methodI G2'!J73-'Pre-stress method G2'!J73 -> -3.3013328e-08 | D73: ='Displacement methodI G2'!K73-'Pre-stress method G2'!K73 -> 5.0020863e-08 | E73: =(B73^2+C73^2+D73^2)^0.5 -> 9.0867123e-08 | F73: ='Displacement methodI G2'!S73 -> 5.2314268 | G73: =E73*1000000 -> 0.090867123
... A118: ='Displacement methodI G2'!#REF! -> #REF! | B118: ='Displacement methodI G2'!I118-'Pre-stress method G2'!I118 -> 0 | C118: ='Displacement methodI G2'!J118-'Pre-stress method G2'!J118 -> 0 | D118: ='Displacement methodI G2'!K118-'Pre-stress method G2'!K118 -> 0 | E118: =(B118^2+C118^2+D118^2)^0.5 -> 0 | F118: ='Displacement methodI G2'!S118 -> 5.5508242 | G118: =E118*1000000 -> 0

Sheet Displacement method G3
B1: Free Stress Geometry | F1: Displacement PIO 15 mmHg (1998.4 Pa) | I1: Estimated Physiological Geometry PIO 15 mmHg ( 1998.4 Pa) | L1: Measured Physiological Geometry PIO 15 mmHg (1998.4 Pa) | O1: Difference | R1: =MAX(R3:R59) -> 1.0949429e-07
B2: POINT | C2: X (m) | D2: Y (m) | E2: Z (m) | F2: dx (mm) | G2: dy(mm) | H2: dz (mm) | I2: X (m) | J2: Y (m) | K2: Z (m) | L2: X (m) | M2: Y (m) | N2: Z (m) | O2: X (m) | P2: Y (m) | Q2: Z (m) | R2: ERROR (m) | S2: RADIUS (mm)
A3: ANTERIOR FACE | B3: 257 | C3: 0.00086079 | D3: -0.00039312 | E3: 0.00030729 | F3: 1.6876e-05 | G3: -9.746e-06 | H3: -0.00023606 | I3: =C3+F3 -> 0.000877666 | J3: =D3+G3 -> -0.000402866 | K3: =E3+H3 -> 7.123e-05 | L3: 0.00087767 | M3: -0.00040287 | N3: 7.1228e-05 | O3: =L3-I3 -> 4e-09 | P3: =M3-J3 -> -4e-09 | Q3: =N3-K3 -> -2e-09 | R3: =(O3^2+P3^2+Q3^2)^0.5 -> 6e-09 | S3: =1000*(L3^2+M3^2)^0.5 -> 0.96571676
B4: 265 | C4: -9.5723e-05 | D4: -1.8514e-06 | E4: 0.00023881 | F4: 7.786e-07 | G4: 1.8514e-06 | H4: -0.00024039 | I4: =C4+F4 -> -9.49444e-05 | J4: =D4+G4 -> 0 | K4: =E4+H4 -> -1.58e-06 | L4: -9.4944e-05 | M4: -3.2252e-13 | N4: -1.5733e-06 | O4: =L4-I4 -> 4e-10 | P4: =M4-J4 -> -3.2252e-13 | Q4: =N4-K4 -> 6.7e-09 | R4: =(O4^2+P4^2+Q4^2)^0.5 -> 6.7119297e-09 | S4: =1000*(L4^2+M4^2)^0.5 -> 0.094944
B5: 385 | C5: 0.00031035 | D5: -0.00096399 | E5: 0.00021472 | F5: 2.0943e-06 | G5: -1.9538e-05 | H5: -0.00018699 | I5: =C5+F5 -> 0.0003124443 | J5: =D5+G5 -> -0.000983528 | K5: =E5+H5 -> 2.773e-05 | L5: 0.00031244 | M5: -0.00098352 | N5: 2.7723e-05 | O5: =L5-I5 -> -4.3e-09 | P5: =M5-J5 -> 8e-09 | Q5: =N5-K5 -> -7e-09 | R5: =(O5^2+P5^2+Q5^2)^0.5 -> 1.1466909e-08 | S5: =1000*(L5^2+M5^2)^0.5 -> 1.0319546
B6: 1837 | C6: 0.0017872 | D6: -0.00077757 | E6: 0.00059756 | F6: 4.4982e-05 | G6: -2.0671e-05 | H6: -0.00026264 | I6: =C6+F6 -> 0.001832182 | J6: =D6+G6 -> -0.000798241 | K6: =E6+H6 -> 0.00033492 | L6: 0.0018322 | M6: -0.00079824 | N6: 0.00033491 | O6: =L6-I6 -> 1.8e-08 | P6: =M6-J6 -> 1e-09 | Q6: =N6-K6 -> -1e-08 | R6: =(O6^2+P6^2+Q6^2)^0.5 -> 2.0615528e-08 | S6: =1000*(L6^2+M6^2)^0.5 -> 1.9985354
B7: 1909 | C7: 0.00070339 | D7: -0.0019092 | E7: 0.00048008 | F7: 7.5641e-06 | G7: -3.6393e-05 | H7: -0.00019102 | I7: =C7+F7 -> 0.0007109541 | J7: =D7+G7 -> -0.001945593 | K7: =E7+H7 -> 0.00028906 | L7: 0.00071095 | M7: -0.0019456 | N7: 0.00028906 | O7: =L7-I7 -> -4.1e-09 | P7: =M7-J7 -> -7e-09 | Q7: =N7-K7 -> 0 | R7: =(O7^2+P7^2+Q7^2)^0.5 -> 8.1123363e-09 | S7: =1000*(L7^2+M7^2)^0.5 -> 2.0714269
B8: 3061 | C8: 0.0026735 | D8: -0.001148 | E8: 0.0010451 | F8: 8.8258e-05 | G8: -3.5311e-05 | H8: -0.00029469 | I8: =C8+F8 -> 0.002761758 | J8: =D8+G8 -> -0.001183311 | K8: =E8+H8 -> 0.00075041 | L8: 0.0027618 | M8: -0.0011833 | N8: 0.00075044 | O8: =L8-I8 -> 4.2e-08 | P8: =M8-J8 -> 1.1e-08 | Q8: =N8-K8 -> 3e-08 | R8: =(O8^2+P8^2+Q8^2)^0.5 -> 5.2773099e-08 | S8: =1000*(L8^2+M8^2)^0.5 -> 3.0046195
B9: 3133 | C9: 0.0010649 | D9: -0.0027786 | E9: 0.00096859 | F9: 2.1567e-05 | G9: -7.3596e-05 | H9: -0.00020803 | I9: =C9+F9 -> 0.001086467 | J9: =D9+G9 -> -0.002852196 | K9: =E9+H9 -> 0.00076056 | L9: 0.0010865 | M9: -0.0028522 | N9: 0.00076056 | O9: =L9-I9 -> 3.3e-08 | P9: =M9-J9 -> -4e-09 | Q9: =N9-K9 -> 0 | R9: =(O9^2+P9^2+Q9^2)^0.5 -> 3.324154e-08 | S9: =1000*(L9^2+M9^2)^0.5 -> 3.0521348
B10: 4285 | C10: 0.0035944 | D10: -0.0015291 | E10: 0.0016163 | F10: 0.00012052 | G10: -4.9011e-05 | H10: -0.00027585 | I10: =C10+F10 -> 0.00371492 | J10: =D10+G10 -> -0.001578111 | K10: =E10+H10 -> 0.00134045 | L10: 0.0037149 | M10: -0.0015781 | N10: 0.0013404 | O10: =L10-I10 -> -2e-08 | P10: =M10-J10 -> 1.1e-08 | Q10: =N10-K10 -> -5e-08 | R10: =(O10^2+P10^2+Q10^2)^0.5 -> 5.4963624e-08 | S10: =1000*(L10^2+M10^2)^0.5 -> 4.0361964
B11: 4357 | C11: 0.0014323 | D11: -0.0036704 | E11: 0.0015724 | F11: 2.9701e-05 | G11: -8.8496e-05 | H11: -0.00016289 | I11: =C11+F11 -> 0.001462001 | J11: =D11+G11 -> -0.003758896 | K11: =E11+H11 -> 0.00140951 | L11: 0.001462 | M11: -0.0037589 | N11: 0.0014095 | O11: =L11-I11 -> -1e-09 | P11: =M11-J11 -> -4e-09 | Q11: =N11-K11 -> -1e-08 | R11: =(O11^2+P11^2+Q11^2)^0.5 -> 1.0816654e-08 | S11: =1000*(L11^2+M11^2)^0.5 -> 4.0332088
B12: 5509 | C12: 0.0045288 | D12: -0.0019136 | E12: 0.0021722 | F12: 0.00010046 | G12: -4.3183e-05 | H12: -0.00015879 | I12: =C12+F12 -> 0.00462926 | J12: =D12+G12 -> -0.001956783 | K12: =E12+H12 -> 0.00201341 | L12: 0.0046292 | M12: -0.0019568 | N12: 0.0020135 | O12: =L12-I12 -> -6e-08 | P12: =M12-J12 -> -1.7e-08 | Q12: =N12-K12 -> 9e-08 | R12: =(O12^2+P12^2+Q12^2)^0.5 -> 1.0949429e-07 | S12: =1000*(L12^2+M12^2)^0.5 -> 5.0257894
B13: 5581 | C13: 0.0017938 | D13: -0.0045627 | E13: 0.0022345 | F13: 2.3283e-05 | G13: -5.3239e-05 | H13: -6.1029e-05 | I13: =C13+F13 -> 0.001817083 | J13: =D13+G13 -> -0.004615939 | K13: =E13+H13 -> 0.002173471 | L13: 0.001817 | M13: -0.0046159 | N13: 0.0021735 | O13: =L13-I13 -> -8.3e-08 | P13: =M13-J13 -> 3.9e-08 | Q13: =N13-K13 -> 2.9e-08 | R13: =(O13^2+P13^2+Q13^2)^0.5 -> 9.6182119e-08 | S13: =1000*(L13^2+M13^2)^0.5 -> 4.9606473
B14: 6637 | C14: 0.0050461 | D14: -0.0021289 | E14: 0.0024664 | F14: 6.3657e-05 | G14: -2.6939e-05 | H14: -6.7044e-05 | I14: =C14+F14 -> 0.005109757 | J14: =D14+G14 -> -0.002155839 | K14: =E14+H14 -> 0.002399356 | L14: 0.0051097 | M14: -0.0021558 | N14: 0.0023993 | O14: =L14-I14 -> -5.7e-08 | P14: =M14-J14 -> 3.9e-08 | Q14: =N14-K14 -> -5.6e-08 | R14: =(O14^2+P14^2+Q14^2)^0.5 -> 8.891569e-08 | S14: =1000*(L14^2+M14^2)^0.5 -> 5.545855
B15: 6673 | C15: 0.0019863 | D15: -0.0050362 | E15: 0.0025999 | F15: 1.2587e-05 | G15: -1.874e-05 | H15: -7.7541e-06 | I15: =C15+F15 -> 0.001998887 | J15: =D15+G15 -> -0.00505494 | K15: =E15+H15 -> 0.0025921459 | L15: 0.0019989 | M15: -0.005055 | N15: 0.0025921 | O15: =L15-I15 -> 1.3e-08 | P15: =M15-J15 -> -6e-08 | Q15: =N15-K15 -> -4.59e-08 | R15: =(O15^2+P15^2+Q15^2)^0.5 -> 7.6653832e-08 | S15: =1000*(L15^2+M15^2)^0.5 -> 5.4358648
... B59: 45007 | C59: 0.0056919 | D59: 0.002397 | E59: 0.0030857 | F59: 0 | G59: 0 | H59: 0 | I59: =C59+F59 -> 0.0056919 | J59: =D59+G59 -> 0.002397 | K59: =E59+H59 -> 0.0030857 | L59: 0.0056919 | M59: 0.002397 | N59: 0.0030857 | O59: =L59-I59 -> 0 | P59: =M59-J59 -> 0 | Q59: =N59-K59 -> 0 | R59: =(O59^2+P59^2+Q59^2)^0.5 -> 0 | S59: =1000*(L59^2+M59^2)^0.5 -> 6.176029
B60: Free Stress Geometry | F60: Displacement PIO 15 mmHg (1998.4 Pa) | I60: Estimated Physiological Geometry PIO 15 mmHg ( 1998.4 Pa) | L60: Measured Physiological Geometry PIO 15 mmHg (1998.4 Pa) | O60: Difference | R60: =MAX(R62:R118) -> 1.1006007e-07
B61: POINT | C61: X (m) | D61: Y (m) | E61: Z (m) | F61: dx (mm) | G61: dy(mm) | H61: dz (mm) | I61: X (m) | J61: Y (m) | K61: Z (m) | L61: X (m) | M61: Y (m) | N61: Z (m) | O61: X (m) | P61: Y (m) | Q61: Z (m) | R61: ERROR (m) | S61: RADIUS (mm)
A62: POSTERIOR FACE | B62: 1 | C62: -0.00010043 | D62: -2.4564e-05 | E62: 0.0005974 | F62: 5.4899e-06 | G62: 2.4564e-05 | H62: -0.00025739 | I62: =C62+F62 -> -9.49401e-05 | J62: =D62+G62 -> 0 | K62: =E62+H62 -> 0.00034001 | L62: -9.4944e-05 | M62: -3.2252e-13 | N62: 0.00034001 | O62: =L62-I62 -> -3.9e-09 | P62: =M62-J62 -> -3.2252e-13 | Q62: =N62-K62 -> 0 | R62: =(O62^2+P62^2+Q62^2)^0.5 -> 3.9e-09 | S62: =1000*(L62^2+M62^2)^0.5 -> 0.094944
B63: 2 | C63: 0.00076514 | D63: -0.00038137 | E63: 0.00064087 | F63: 3.2591e-05 | G63: 1.161e-05 | H63: -0.00025083 | I63: =C63+F63 -> 0.000797731 | J63: =D63+G63 -> -0.00036976 | K63: =E63+H63 -> 0.00039004 | L63: 0.00079773 | M63: -0.00036976 | N63: 0.00039004 | O63: =L63-I63 -> -1e-09 | P63: =M63-J63 -> 0 | Q63: =N63-K63 -> 0 | R63: =(O63^2+P63^2+Q63^2)^0.5 -> 1e-09 | S63: =1000*(L63^2+M63^2)^0.5 -> 0.87925856
B64: 22 | C64: 0.00027277 | D64: -0.00090007 | E64: 0.0005294 | F64: 8.6876e-06 | G64: -8.6477e-06 | H64: -0.00020334 | I64: =C64+F64 -> 0.0002814576 | J64: =D64+G64 -> -0.0009087177 | K64: =E64+H64 -> 0.00032606 | L64: 0.00028146 | M64: -0.00090872 | N64: 0.00032605 | O64: =L64-I64 -> 2.4e-09 | P64: =M64-J64 -> -2.3e-09 | Q64: =N64-K64 -> -1e-08 | R64: =(O64^2+P64^2+Q64^2)^0.5 -> 1.0538026e-08 | S64: =1000*(L64^2+M64^2)^0.5 -> 0.95131055
B65: 1645 | C65: 0.0016443 | D65: -0.00074232 | E65: 0.00090014 | F65: 6.9956e-05 | G65: -7.0695e-06 | H65: -0.00027262 | I65: =C65+F65 -> 0.001714256 | J65: =D65+G65 -> -0.0007493895 | K65: =E65+H65 -> 0.00062752 | L65: 0.0017143 | M65: -0.00074939 | N65: 0.00062753 | O65: =L65-I65 -> 4.4e-08 | P65: =M65-J65 -> -5e-10 | Q65: =N65-K65 -> 1e-08 | R65: =(O65^2+P65^2+Q65^2)^0.5 -> 4.5124827e-08 | S65: =1000*(L65^2+M65^2)^0.5 -> 1.8709382
B66: 1657 | C66: 0.00064014 | D66: -0.0017762 | E66: 0.00079732 | F66: 1.9759e-05 | G66: -4.6165e-05 | H66: -0.00020246 | I66: =C66+F66 -> 0.000659899 | J66: =D66+G66 -> -0.001822365 | K66: =E66+H66 -> 0.00059486 | L66: 0.0006599 | M66: -0.0018224 | N66: 0.00059486 | O66: =L66-I66 -> 1e-09 | P66: =M66-J66 -> -3.5e-08 | Q66: =N66-K66 -> 0 | R66: =(O66^2+P66^2+Q66^2)^0.5 -> 3.5014283e-08 | S66: =1000*(L66^2+M66^2)^0.5 -> 1.9381976
B67: 2869 | C67: 0.0025092 | D67: -0.0010995 | E67: 0.0013754 | F67: 0.00011242 | G67: -2.5737e-05 | H67: -0.00030718 | I67: =C67+F67 -> 0.00262162 | J67: =D67+G67 -> -0.001125237 | K67: =E67+H67 -> 0.00106822 | L67: 0.0026216 | M67: -0.0011252 | N67: 0.0010683 | O67: =L67-I67 -> -2e-08 | P67: =M67-J67 -> 3.7e-08 | Q67: =N67-K67 -> 8e-08 | R67: =(O67^2+P67^2+Q67^2)^0.5 -> 9.038252e-08 | S67: =1000*(L67^2+M67^2)^0.5 -> 2.852869
B68: 2881 | C68: 0.00098886 | D68: -0.0026058 | E68: 0.0013531 | F68: 3.0573e-05 | G68: -8.4513e-05 | H68: -0.00022536 | I68: =C68+F68 -> 0.001019433 | J68: =D68+G68 -> -0.002690313 | K68: =E68+H68 -> 0.00112774 | L68: 0.0010194 | M68: -0.0026903 | N68: 0.0011277 | O68: =L68-I68 -> -3.3e-08 | P68: =M68-J68 -> 1.3e-08 | Q68: =N68-K68 -> -4e-08 | R68: =(O68^2+P68^2+Q68^2)^0.5 -> 5.3460266e-08 | S68: =1000*(L68^2+M68^2)^0.5 -> 2.8769585
B69: 4093 | C69: 0.0033581 | D69: -0.0014481 | E69: 0.0019634 | F69: 0.00012203 | G69: -3.2756e-05 | H69: -0.00030509 | I69: =C69+F69 -> 0.00348013 | J69: =D69+G69 -> -0.001480856 | K69: =E69+H69 -> 0.00165831 | L69: 0.0034801 | M69: -0.0014808 | N69: 0.0016583 | O69: =L69-I69 -> -3e-08 | P69: =M69-J69 -> 5.6e-08 | Q69: =N69-K69 -> -1e-08 | R69: =(O69^2+P69^2+Q69^2)^0.5 -> 6.4311741e-08 | S69: =1000*(L69^2+M69^2)^0.5 -> 3.782045
B70: 4105 | C70: 0.0013136 | D70: -0.003392 | E70: 0.0019976 | F70: 2.934e-05 | G70: -7.9252e-05 | H70: -0.00019874 | I70: =C70+F70 -> 0.00134294 | J70: =D70+G70 -> -0.003471252 | K70: =E70+H70 -> 0.00179886 | L70: 0.0013429 | M70: -0.0034712 | N70: 0.0017988 | O70: =L70-I70 -> -4e-08 | P70: =M70-J70 -> 5.2e-08 | Q70: =N70-K70 -> -6e-08 | R70: =(O70^2+P70^2+Q70^2)^0.5 -> 8.8904443e-08 | S70: =1000*(L70^2+M70^2)^0.5 -> 3.7219094
B71: 5317 | C71: 0.0042887 | D71: -0.0018274 | E71: 0.0026366 | F71: 6.173e-05 | G71: -1.3902e-05 | H71: -0.00021101 | I71: =C71+F71 -> 0.00435043 | J71: =D71+G71 -> -0.001841302 | K71: =E71+H71 -> 0.00242559 | L71: 0.0043504 | M71: -0.0018413 | N71: 0.0024256 | O71: =L71-I71 -> -3e-08 | P71: =M71-J71 -> 2e-09 | Q71: =N71-K71 -> 1e-08 | R71: =(O71^2+P71^2+Q71^2)^0.5 -> 3.1685959e-08 | S71: =1000*(L71^2+M71^2)^0.5 -> 4.7240201
B72: 5329 | C72: 0.0016623 | D72: -0.0042494 | E72: 0.0027805 | F72: 1.3396e-05 | G72: -2.5278e-05 | H72: -0.00010278 | I72: =C72+F72 -> 0.001675696 | J72: =D72+G72 -> -0.004274678 | K72: =E72+H72 -> 0.00267772 | L72: 0.0016757 | M72: -0.0042747 | N72: 0.0026778 | O72: =L72-I72 -> 4e-09 | P72: =M72-J72 -> -2.2e-08 | Q72: =N72-K72 -> 8e-08 | R72: =(O72^2+P72^2+Q72^2)^0.5 -> 8.3066239e-08 | S72: =1000*(L72^2+M72^2)^0.5 -> 4.5914083
B73: 6541 | C73: 0.0047648 | D73: -0.0020216 | E73: 0.0029407 | F73: 2.2274e-05 | G73: -5.8826e-07 | H73: -0.00012572 | I73: =C73+F73 -> 0.004787074 | J73: =D73+G73 -> -0.0020221883 | K73: =E73+H73 -> 0.00281498 | L73: 0.0047871 | M73: -0.0020222 | N73: 0.002815 | O73: =L73-I73 -> 2.6e-08 | P73: =M73-J73 -> -1.174e-08 | Q73: =N73-K73 -> 2e-08 | R73: =(O73^2+P73^2+Q73^2)^0.5 -> 3.4840029e-08 | S73: =1000*(L73^2+M73^2)^0.5 -> 5.1966931
B74: 6547 | C74: 0.0018169 | D74: -0.0046409 | E74: 0.0031703 | F74: 1.1579e-05 | G74: -2.7349e-06 | H74: -4.8147e-05 | I74: =C74+F74 -> 0.001828479 | J74: =D74+G74 -> -0.0046436349 | K74: =E74+H74 -> 0.003122153 | L74: 0.0018285 | M74: -0.0046436 | N74: 0.0031221 | O74: =L74-I74 -> 2.1e-08 | P74: =M74-J74 -> 3.49e-08 | Q74: =N74-K74 -> -5.3e-08 | R74: =(O74^2+P74^2+Q74^2)^0.5 -> 6.6843175e-08 | S74: =1000*(L74^2+M74^2)^0.5 -> 4.9906345
... B118: 44917 | C118: 0.0052744 | D118: 0.0022241 | E118: 0.0033857 | F118: 0 | G118: 0 | H118: 0 | I118: =C118+F118 -> 0.0052744 | J118: =D118+G118 -> 0.0022241 | K118: =E118+H118 -> 0.0033857 | L118: 0.0052744 | M118: 0.0022241 | N118: 0.0033857 | O118: =L118-I118 -> 0 | P118: =M118-J118 -> 0 | Q118: =N118-K118 -> 0 | R118: =(O118^2+P118^2+Q118^2)^0.5 -> 0 | S118: =1000*(L118^2+M118^2)^0.5 -> 5.724152

Sheet Pre-stress method G3
B1: Free Stress Geometry | F1: Displacement PIO 15 mmHg (1998.4 Pa) | I1: Estimated Physiological Geometry PIO 15 mmHg ( 1998.4 Pa) | L1: Measured Physiological Geometry PIO 15 mmHg (1998.4 Pa) | O1: Difference | R1: =MAX(R3:R59) -> 9.2171394e-10 | T1: RESIDUAL DISPLACEMENT PIO 15 mmHg ( 1998.4 Pa)
B2: POINT | C2: X (m) | D2: Y (m) | E2: Z (m) | F2: dx (mm) | G2: dy(mm) | H2: dz (mm) | I2: X (m) | J2: Y (m) | K2: Z (m) | L2: X (m) | M2: Y (m) | N2: Z (m) | O2: X (m) | P2: Y (m) | Q2: Z (m) | R2: ERROR (m) | S2: RADIUS (mm) | T2: dx (mm) | U2: dy(mm) | V2: dz (mm)
A3: CARA ANTERIOR | B3: 257 | C3: =I3+F3 -> 0.00085732606 | D3: =J3+G3 -> -0.00040089766 | E3: =K3+H3 -> 0.00029739789 | F3: -2.0344e-05 | G3: 1.9723e-06 | H3: 0.00022617 | I3: =L3+T3 -> 0.00087767006 | J3: =M3+U3 -> -0.00040286996 | K3: =N3+V3 -> 7.1227887e-05 | L3: 0.00087767 | M3: -0.00040287 | N3: 7.1228e-05 | O3: =L3-I3 -> -5.7559e-11 | P3: =M3-J3 -> -4.3684e-11 | Q3: =N3-K3 -> 1.1298e-10 | R3: =(O3^2+P3^2+Q3^2)^0.5 -> 1.3411119e-10 | S3: =1000*(L3^2+M3^2)^0.5 -> 0.96571676 | T3: 5.7559e-11 | U3: 4.3684e-11 | V3: -1.1298e-10 | X3: -2.0344e-05 | Y3: 1.9723e-06 | Z3: 0.00022617
B4: 265 | C4: =I4+F4 -> -9.9299363e-05 | D4: =J4+G4 -> -1.1335011e-05 | E4: =K4+H4 -> 0.00023281682 | F4: -4.3554e-06 | G4: -1.1335e-05 | H4: 0.00023439 | I4: =L4+T4 -> -9.4943963e-05 | J4: =M4+U4 -> -1.118052e-11 | K4: =N4+V4 -> -1.5731796e-06 | L4: -9.4944e-05 | M4: -3.2252e-13 | N4: -1.5733e-06 | O4: =L4-I4 -> -3.7e-11 | P4: =M4-J4 -> 1.0858e-11 | Q4: =N4-K4 -> -1.204e-10 | R4: =(O4^2+P4^2+Q4^2)^0.5 -> 1.2642411e-10 | S4: =1000*(L4^2+M4^2)^0.5 -> 0.094944 | T4: 3.7e-11 | U4: -1.0858e-11 | V4: 1.204e-10 | X4: -4.3554e-06 | Y4: -1.1335e-05 | Z4: 0.00023439
B5: 385 | C5: =I5+F5 -> 0.00031051162 | D5: =J5+G5 -> -0.00097228596 | E5: =K5+H5 -> 0.0001892132 | F5: -1.9284e-06 | G5: 1.1234e-05 | H5: 0.00016149 | I5: =L5+T5 -> 0.00031244002 | J5: =M5+U5 -> -0.00098351996 | K5: =N5+V5 -> 2.7723202e-05 | L5: 0.00031244 | M5: -0.00098352 | N5: 2.7723e-05 | O5: =L5-I5 -> -1.5805e-11 | P5: =M5-J5 -> -3.912e-11 | Q5: =N5-K5 -> -2.017e-10 | R5: =(O5^2+P5^2+Q5^2)^0.5 -> 2.0606568e-10 | S5: =1000*(L5^2+M5^2)^0.5 -> 1.0319546 | T5: 1.5805e-11 | U5: 3.912e-11 | V5: 2.017e-10 | X5: -1.9284e-06 | Y5: 1.1234e-05 | Z5: 0.00016149
B6: 1837 | C6: =I6+F6 -> 0.001781796 | D6: =J6+G6 -> -0.00078275894 | E6: =K6+H6 -> 0.00059126005 | F6: -5.0404e-05 | G6: 1.5481e-05 | H6: 0.00025635 | I6: =L6+T6 -> 0.0018322 | J6: =M6+U6 -> -0.00079823994 | K6: =N6+V6 -> 0.00033491005 | L6: 0.0018322 | M6: -0.00079824 | N6: 0.00033491 | O6: =L6-I6 -> -9.5016e-12 | P6: =M6-J6 -> -5.5723e-11 | Q6: =N6-K6 -> -5.1315e-11 | R6: =(O6^2+P6^2+Q6^2)^0.5 -> 7.6345022e-11 | S6: =1000*(L6^2+M6^2)^0.5 -> 1.9985354 | T6: 9.5016e-12 | U6: 5.5723e-11 | V6: 5.1315e-11 | X6: -5.0404e-05 | Y6: 1.5481e-05 | Z6: 0.00025635
B7: 1909 | C7: =I7+F7 -> 0.00070422127 | D7: =J7+G7 -> -0.0019165039 | E7: =K7+H7 -> 0.00046159031 | F7: -6.7287e-06 | G7: 2.9096e-05 | H7: 0.00017253 | I7: =L7+T7 -> 0.00071094997 | J7: =M7+U7 -> -0.0019455999 | K7: =N7+V7 -> 0.00028906031 | L7: 0.00071095 | M7: -0.0019456 | N7: 0.00028906 | O7: =L7-I7 -> 3.1108e-11 | P7: =M7-J7 -> -1.386e-10 | Q7: =N7-K7 -> -3.1237e-10 | R7: =(O7^2+P7^2+Q7^2)^0.5 -> 3.4315111e-10 | S7: =1000*(L7^2+M7^2)^0.5 -> 2.0714269 | T7: -3.1108e-11 | U7: 1.386e-10 | V7: 3.1237e-10 | X7: -6.7287e-06 | Y7: 2.9096e-05 | Z7: 0.00017253
B8: 3061 | C8: =I8+F8 -> 0.0026628718 | D8: =J8+G8 -> -0.0011505489 | E8: =K8+H8 -> 0.0010518903 | F8: -9.8928e-05 | G8: 3.2751e-05 | H8: 0.00030145 | I8: =L8+T8 -> 0.0027617998 | J8: =M8+U8 -> -0.0011832999 | K8: =N8+V8 -> 0.00075044028 | L8: 0.0027618 | M8: -0.0011833 | N8: 0.00075044 | O8: =L8-I8 -> 1.5688e-10 | P8: =M8-J8 -> -1.1882e-10 | Q8: =N8-K8 -> -2.7644e-10 | R8: =(O8^2+P8^2+Q8^2)^0.5 -> 3.3933553e-10 | S8: =1000*(L8^2+M8^2)^0.5 -> 3.0046195 | T8: -1.5688e-10 | U8: 1.1882e-10 | V8: 2.7644e-10 | X8: -9.8928e-05 | Y8: 3.2751e-05 | Z8: 0.00030145
B9: 3133 | C9: =I9+F9 -> 0.0010638359 | D9: =J9+G9 -> -0.0027767068 | E9: =K9+H9 -> 0.00097067027 | F9: -2.2664e-05 | G9: 7.5493e-05 | H9: 0.00021011 | I9: =L9+T9 -> 0.0010864999 | J9: =M9+U9 -> -0.0028521998 | K9: =N9+V9 -> 0.00076056027 | L9: 0.0010865 | M9: -0.0028522 | N9: 0.00076056 | O9: =L9-I9 -> 7.814e-11 | P9: =M9-J9 -> -2.2574e-10 | Q9: =N9-K9 -> -2.7448e-10 | R9: =(O9^2+P9^2+Q9^2)^0.5 -> 3.6387316e-10 | S9: =1000*(L9^2+M9^2)^0.5 -> 3.0521348 | T9: -7.814e-11 | U9: 2.2574e-10 | V9: 2.7448e-10 | X9: -2.2664e-05 | Y9: 7.5493e-05 | Z9: 0.00021011
B10: 4285 | C10: =I10+F10 -> 0.0035825398 | D10: =J10+G10 -> -0.0015297179 | E10: =K10+H10 -> 0.0016327403 | F10: -0.00013236 | G10: 4.8382e-05 | H10: 0.00029234 | I10: =L10+T10 -> 0.0037148998 | J10: =M10+U10 -> -0.0015780999 | K10: =N10+V10 -> 0.0013404003 | L10: 0.0037149 | M10: -0.0015781 | N10: 0.0013404 | O10: =L10-I10 -> 2.2746e-10 | P10: =M10-J10 -> -1.4521e-10 | Q10: =N10-K10 -> -2.6239e-10 | R10: =(O10^2+P10^2+Q10^2)^0.5 -> 3.7639409e-10 | S10: =1000*(L10^2+M10^2)^0.5 -> 4.0361964 | T10: -2.2746e-10 | U10: 1.4521e-10 | V10: 2.6239e-10 | X10: -0.00013236 | Y10: 4.8382e-05 | Z10: 0.00029234
B11: 4357 | C11: =I11+F11 -> 0.0014301499 | D11: =J11+G11 -> -0.0036644878 | E11: =K11+H11 -> 0.0015832401 | F11: -3.185e-05 | G11: 9.4412e-05 | H11: 0.00017374 | I11: =L11+T11 -> 0.0014619999 | J11: =M11+U11 -> -0.0037588998 | K11: =N11+V11 -> 0.0014095001 | L11: 0.001462 | M11: -0.0037589 | N11: 0.0014095 | O11: =L11-I11 -> 5.3182e-11 | P11: =M11-J11 -> -1.6053e-10 | Q11: =N11-K11 -> -1.4457e-10 | R11: =(O11^2+P11^2+Q11^2)^0.5 -> 2.2248301e-10 | S11: =1000*(L11^2+M11^2)^0.5 -> 4.0332088 | T11: -5.3182e-11 | U11: 1.6053e-10 | V11: 1.4457e-10 | X11: -3.185e-05 | Y11: 9.4412e-05 | Z11: 0.00017374
B12: 5509 | C12: =I12+F12 -> 0.0045241699 | D12: =J12+G12 -> -0.0019153069 | E12: =K12+H12 -> 0.0021821301 | F12: -0.00010503 | G12: 4.1493e-05 | H12: 0.00016863 | I12: =L12+T12 -> 0.0046291999 | J12: =M12+U12 -> -0.0019567999 | K12: =N12+V12 -> 0.0020135001 | L12: 0.0046292 | M12: -0.0019568 | N12: 0.0020135 | O12: =L12-I12 -> 1.2565e-10 | P12: =M12-J12 -> -9.6706e-11 | Q12: =N12-K12 -> -1.0934e-10 | R12: =(O12^2+P12^2+Q12^2)^0.5 -> 1.9260116e-10 | S12: =1000*(L12^2+M12^2)^0.5 -> 5.0257894 | T12: -1.2565e-10 | U12: 9.6706e-11 | V12: 1.0934e-10 | X12: -0.00010503 | Y12: 4.1493e-05 | Z12: 0.00016863
B13: 5581 | C13: =I13+F13 -> 0.001792714 | D13: =J13+G13 -> -0.0045604009 | E13: =K13+H13 -> 0.002239312 | F13: -2.4286e-05 | G13: 5.5499e-05 | H13: 6.5812e-05 | I13: =L13+T13 -> 0.001817 | J13: =M13+U13 -> -0.0046158999 | K13: =N13+V13 -> 0.0021735 | L13: 0.001817 | M13: -0.0046159 | N13: 0.0021735 | O13: =L13-I13 -> 2.2427e-11 | P13: =M13-J13 -> -5.1737e-11 | Q13: =N13-K13 -> -3.7539e-11 | R13: =(O13^2+P13^2+Q13^2)^0.5 -> 6.7741155e-11 | S13: =1000*(L13^2+M13^2)^0.5 -> 4.9606473 | T13: -2.2427e-11 | U13: 5.1737e-11 | V13: 3.7539e-11 | X13: -2.4286e-05 | Y13: 5.5499e-05 | Z13: 6.5812e-05
B14: 6637 | C14: =I14+F14 -> 0.0050453549 | D14: =J14+G14 -> -0.002130958 | E14: =K14+H14 -> 0.002469734 | F14: -6.4345e-05 | G14: 2.4842e-05 | H14: 7.0434e-05 | I14: =L14+T14 -> 0.0051096999 | J14: =M14+U14 -> -0.0021558 | K14: =N14+V14 -> 0.0023993 | L14: 0.0051097 | M14: -0.0021558 | N14: 0.0023993 | O14: =L14-I14 -> 5.6997e-11 | P14: =M14-J14 -> -4.8602e-11 | Q14: =N14-K14 -> -3.6042e-11 | R14: =(O14^2+P14^2+Q14^2)^0.5 -> 8.3125436e-11 | S14: =1000*(L14^2+M14^2)^0.5 -> 5.545855 | T14: -5.6997e-11 | U14: 4.8602e-11 | V14: 3.6042e-11 | X14: -6.4345e-05 | Y14: 2.4842e-05 | Z14: 7.0434e-05
B15: 6673 | C15: =I15+F15 -> 0.001985778 | D15: =J15+G15 -> -0.005036387 | E15: =K15+H15 -> 0.0026003458 | F15: -1.3122e-05 | G15: 1.8613e-05 | H15: 8.2458e-06 | I15: =L15+T15 -> 0.0019989 | J15: =M15+U15 -> -0.005055 | K15: =N15+V15 -> 0.0025921 | L15: 0.0019989 | M15: -0.005055 | N15: 0.0025921 | O15: =L15-I15 -> 8.4160001e-12 | P15: =M15-J15 -> -1.4041e-11 | Q15: =N15-K15 -> -6.9411e-12 | R15: =(O15^2+P15^2+Q15^2)^0.5 -> 1.7780821e-11 | S15: =1000*(L15^2+M15^2)^0.5 -> 5.4358648 | T15: -8.416e-12 | U15: 1.4041e-11 | V15: 6.9411e-12 | X15: -1.3122e-05 | Y15: 1.8613e-05 | Z15: 8.2458e-06
... B20: 12248 | C20: =I20+F20 -> -0.001973357 | D20: =J20+G20 -> -0.004523869 | E20: =K20+H20 -> 0.002290586 | F20: 2.5543e-05 | G20: 7.2731e-05 | H20: 8.8486e-05 | I20: =L20+T20 -> -0.0019989 | J20: =M20+U20 -> -0.0045966 | K20: =N20+V20 -> 0.0022021 | L20: -0.0019989 | M20: -0.0045966 | N20: 0.0022021 | O20: =L20-I20 -> 1.5268e-11 | P20: =M20-J20 -> -1.8543e-11 | Q20: =N20-K20 -> -7.2341e-12 | R20: =(O20^2+P20^2+Q20^2)^0.5 -> 2.5085591e-11 | S20: =1000*(L20^2+M20^2)^0.5 -> 5.0124179 | T20: -1.5268e-11 | U20: 1.8543e-11 | V20: 7.2341e-12 | X20: 2.5543e-05 | Y20: 7.2731e-05 | Z20: 8.8486e-05
B21: 13304 | C21: =I21+F21 -> 0.005787 | D21: =J21+G21 -> -0.0024364 | E21: =K21+H21 -> 0.0030857 | F21: 0 | G21: 0 | H21: 0 | I21: =L21+T21 -> 0.005787 | J21: =M21+U21 -> -0.0024364 | K21: =N21+V21 -> 0.0030857 | L21: 0.005787 | M21: -0.0024364 | N21: 0.0030857 | O21: =L21-I21 -> 0 | P21: =M21-J21 -> 0 | Q21: =N21-K21 -> 0 | R21: =(O21^2+P21^2+Q21^2)^0.5 -> 0 | S21: =1000*(L21^2+M21^2)^0.5 -> 6.278966 | T21: 0 | U21: 0 | V21: 0 | X21: 0 | Y21: 0 | Z21: 0 | AD21: 0
B22: 13340 | C22: =I22+F22 -> 0.002205 | D22: =J22+G22 -> -0.0055526 | E22: =K22+H22 -> 0.0030855 | F22: 0 | G22: 0 | H22: 0 | I22: =L22+T22 -> 0.002205 | J22: =M22+U22 -> -0.0055526 | K22: =N22+V22 -> 0.0030855 | L22: 0.002205 | M22: -0.0055526 | N22: 0.0030855 | O22: =L22-I22 -> 0 | P22: =M22-J22 -> 0 | Q22: =N22-K22 -> 0 | R22: =(O22^2+P22^2+Q22^2)^0.5 -> 0 | S22: =1000*(L22^2+M22^2)^0.5 -> 5.9743947 | T22: 0 | U22: 0 | V22: 0 | X22: 0 | Y22: 0 | Z22: 0 | AD22: 0
B23: 13910 | C23: =I23+F23 -> -0.002157173 | D23: =J23+G23 -> -0.004985614 | E23: =K23+H23 -> 0.002664674 | F23: 1.4227e-05 | G23: 2.7386e-05 | H23: 1.8474e-05 | I23: =L23+T23 -> -0.0021714 | J23: =M23+U23 -> -0.005013 | K23: =N23+V23 -> 0.0026462 | L23: -0.0021714 | M23: -0.005013 | N23: 0.0026462 | O23: =L23-I23 -> 5.4531002e-12 | P23: =M23-J23 -> -3.0301e-11 | Q23: =N23-K23 -> -3.1839999e-12 | R23: =(O23^2+P23^2+Q23^2)^0.5 -> 3.0951975e-11 | S23: =1000*(L23^2+M23^2)^0.5 -> 5.4630712 | T23: -5.4531e-12 | U23: 3.0301e-11 | V23: 3.184e-12 | X23: 1.4227e-05 | Y23: 2.7386e-05 | Z23: 1.8474e-05
B24: 14480 | C24: =I24+F24 -> -0.0023351 | D24: =J24+G24 -> -0.0054081 | E24: =K24+H24 -> 0.0030857 | F24: 0 | G24: 0 | H24: 0 | I24: =L24+T24 -> -0.0023351 | J24: =M24+U24 -> -0.0054081 | K24: =N24+V24 -> 0.0030857 | L24: -0.0023351 | M24: -0.0054081 | N24: 0.0030857 | O24: =L24-I24 -> 0 | P24: =M24-J24 -> 0 | Q24: =N24-K24 -> 0 | R24: =(O24^2+P24^2+Q24^2)^0.5 -> 0 | S24: =1000*(L24^2+M24^2)^0.5 -> 5.8906908 | T24: 0 | U24: 0 | V24: 0 | X24: 0 | Y24: 0 | Z24: 0 | AD24: 0
B25: 15195 | C25: =I25+F25 -> -0.0010519929 | D25: =J25+G25 -> -0.00039985781 | E25: =K25+H25 -> 0.0002736136 | F25: 1.7907e-05 | G25: 3.9822e-06 | H25: 0.00021176 | I25: =L25+T25 -> -0.0010698999 | J25: =M25+U25 -> -0.00040384001 | K25: =N25+V25 -> 6.18536e-05 | L25: -0.0010699 | M25: -0.00040384 | N25: 6.1853e-05 | O25: =L25-I25 -> -1.2815e-10 | P25: =M25-J25 -> 1.4764e-11 | Q25: =N25-K25 -> -6.0015e-10 | R25: =(O25^2+P25^2+Q25^2)^0.5 -> 6.13857e-10 | S25: =1000*(L25^2+M25^2)^0.5 -> 1.1435789 | T25: 1.2815e-10 | U25: -1.4764e-11 | V25: 6.0015e-10 | X25: 1.7907e-05 | Y25: 3.9822e-06 | Z25: 0.00021176
B26: 16635 | C26: =I26+F26 -> -0.0019720419 | D26: =J26+G26 -> -0.00077863901 | E26: =K26+H26 -> 0.00057425037 | F26: 5.8058e-05 | G26: 2.2941e-05 | H26: 0.00025934 | I26: =L26+T26 -> -0.0020300999 | J26: =M26+U26 -> -0.00080158001 | K26: =N26+V26 -> 0.00031491037 | L26: -0.0020301 | M26: -0.00080158 | N26: 0.00031491 | O26: =L26-I26 -> -1.4473e-10 | P26: =M26-J26 -> 7.816e-12 | Q26: =N26-K26 -> -3.7243e-10 | R26: =(O26^2+P26^2+Q26^2)^0.5 -> 3.996398e-10 | S26: =1000*(L26^2+M26^2)^0.5 -> 2.1826215 | T26: 1.4473e-10 | U26: -7.816e-12 | V26: 3.7243e-10 | X26: 5.8058e-05 | Y26: 2.2941e-05 | Z26: 0.00025934
B27: 17775 | C27: =I27+F27 -> -0.0028390701 | D27: =J27+G27 -> -0.0011397511 | E27: =K27+H27 -> 0.0010575398 | F27: 0.00012043 | G27: 4.6749e-05 | H27: 0.00032494 | I27: =L27+T27 -> -0.0029595001 | J27: =M27+U27 -> -0.0011865001 | K27: =N27+V27 -> 0.0007325998 | L27: -0.0029595 | M27: -0.0011865 | N27: 0.0007326 | O27: =L27-I27 -> 9.7486e-11 | P27: =M27-J27 -> 9.3549e-11 | Q27: =N27-K27 -> 1.9767e-10 | R27: =(O27^2+P27^2+Q27^2)^0.5 -> 2.3943342e-10 | S27: =1000*(L27^2+M27^2)^0.5 -> 3.1884828 | T27: -9.7486e-11 | U27: -9.3549e-11 | V27: -1.9767e-10 | X27: 0.00012043 | Y27: 4.6749e-05 | Z27: 0.00032494
B28: 18915 | C28: =I28+F28 -> -0.0037359403 | D28: =J28+G28 -> -0.0015132972 | E28: =K28+H28 -> 0.0016711496 | F28: 0.00016306 | G28: 6.2403e-05 | H28: 0.00032285 | I28: =L28+T28 -> -0.0038990003 | J28: =M28+U28 -> -0.0015757002 | K28: =N28+V28 -> 0.0013482996 | L28: -0.003899 | M28: -0.0015757 | N28: 0.0013483 | O28: =L28-I28 -> 2.9108e-10 | P28: =M28-J28 -> 2.0205e-10 | Q28: =N28-K28 -> 3.6724e-10 | R28: =(O28^2+P28^2+Q28^2)^0.5 -> 5.1031068e-10 | S28: =1000*(L28^2+M28^2)^0.5 -> 4.2053575 | T28: -2.9108e-10 | U28: -2.0205e-10 | V28: -3.6724e-10 | X28: 0.00016306 | Y28: 6.2403e-05 | Z28: 0.00032285
B29: 20055 | C29: =I29+F29 -> -0.0046544301 | D29: =J29+G29 -> -0.0018909711 | E29: =K29+H29 -> 0.0022549999 | F29: 0.00012007 | G29: 4.7329e-05 | H29: 0.0001755 | I29: =L29+T29 -> -0.0047745001 | J29: =M29+U29 -> -0.0019383001 | K29: =N29+V29 -> 0.0020794999 | L29: -0.0047745 | M29: -0.0019383 | N29: 0.0020795 | O29: =L29-I29 -> 1.4335e-10 | P29: =M29-J29 -> 1.2638e-10 | Q29: =N29-K29 -> 1.2207e-10 | R29: =(O29^2+P29^2+Q29^2)^0.5 -> 2.2676466e-10 | S29: =1000*(L29^2+M29^2)^0.5 -> 5.1529465 | T29: -1.4335e-10 | U29: -1.2638e-10 | V29: -1.2207e-10 | X29: 0.00012007 | Y29: 4.7329e-05 | Z29: 0.0001755
B30: 21105 | C30: =I30+F30 -> -0.0051538491 | D30: =J30+G30 -> -0.0020967841 | E30: =K30+H30 -> 0.002568534 | F30: 6.4051e-05 | G30: 2.5216e-05 | H30: 6.3934e-05 | I30: =L30+T30 -> -0.0052179001 | J30: =M30+U30 -> -0.0021220001 | K30: =N30+V30 -> 0.0025046 | L30: -0.0052179 | M30: -0.002122 | N30: 0.0025046 | O30: =L30-I30 -> 5.8272e-11 | P30: =M30-J30 -> 5.9252e-11 | Q30: =N30-K30 -> 3.6518e-11 | R30: =(O30^2+P30^2+Q30^2)^0.5 -> 9.077439e-11 | S30: =1000*(L30^2+M30^2)^0.5 -> 5.6328824 | T30: -5.8272e-11 | U30: -5.9252e-11 | V30: -3.6518e-11 | X30: 6.4051e-05 | Y30: 2.5216e-05 | Z30: 6.3934e-05
B31: 21675 | C31: =I31+F31 -> -0.0057613 | D31: =J31+G31 -> -0.0023471 | E31: =K31+H31 -> 0.0030857 | F31: 0 | G31: 0 | H31: 0 | I31: =L31+T31 -> -0.0057613 | J31: =M31+U31 -> -0.0023471 | K31: =N31+V31 -> 0.0030857 | L31: -0.0057613 | M31: -0.0023471 | N31: 0.0030857 | O31: =L31-I31 -> 0 | P31: =M31-J31 -> 0 | Q31: =N31-K31 -> 0 | R31: =(O31^2+P31^2+Q31^2)^0.5 -> 0 | S31: =1000*(L31^2+M31^2)^0.5 -> 6.2210494 | T31: 0 | U31: 0 | V31: 0 | X31: 0 | Y31: 0 | Z31: 0 | AD31: 0
B32: 22175 | C32: =I32+F32 -> -0.0010486589 | D32: =J32+G32 -> 0.00038318791 | E32: =K32+H32 -> 0.00034215957 | F32: 1.4341e-05 | G32: -1.7782e-05 | H32: 0.00025264 | I32: =L32+T32 -> -0.0010629999 | J32: =M32+U32 -> 0.00040096991 | K32: =N32+V32 -> 8.9519574e-05 | L32: -0.001063 | M32: 0.00040097 | N32: 8.9519e-05 | O32: =L32-I32 -> -1.3303e-10 | P32: =M32-J32 -> 9.3832e-11 | Q32: =N32-K32 -> -5.7384e-10 | R32: =(O32^2+P32^2+Q32^2)^0.5 -> 5.9648451e-10 | S32: =1000*(L32^2+M32^2)^0.5 -> 1.13611 | T32: 1.3303e-10 | U32: -9.3832e-11 | V32: 5.7384e-10 | X32: 1.4341e-05 | Y32: -1.7782e-05 | Z32: 0.00025264
B33: 22307 | C33: =I33+F33 -> -0.0019874437 | D33: =J33+G33 -> 0.00077912381 | E33: =K33+H33 -> 0.00060495085 | F33: 3.5856e-05 | G33: -1.9626e-05 | H33: 0.00027309 | I33: =L33+T33 -> -0.0020232997 | J33: =M33+U33 -> 0.00079874981 | K33: =N33+V33 -> 0.00033186085 | L33: -0.0020233 | M33: 0.00079875 | N33: 0.00033186 | O33: =L33-I33 -> -3.02e-10 | P33: =M33-J33 -> 1.8718e-10 | Q33: =N33-K33 -> -8.5048e-10 | R33: =(O33^2+P33^2+Q33^2)^0.5 -> 9.2171394e-10 | S33: =1000*(L33^2+M33^2)^0.5 -> 2.1752573 | T33: 3.02e-10 | U33: -1.8718e-10 | V33: 8.5048e-10 | X33: 3.5856e-05 | Y33: -1.9626e-05 | Z33: 0.00027309
B34: 22391 | C34: =I34+F34 -> -0.0028903806 | D34: =J34+G34 -> 0.0011602488 | E34: =K34+H34 -> 0.0010289407 | F34: 7.0319e-05 | G34: -2.6751e-05 | H34: 0.00029909 | I34: =L34+T34 -> -0.0029606996 | J34: =M34+U34 -> 0.0011869998 | K34: =N34+V34 -> 0.00072985071 | L34: -0.0029607 | M34: 0.001187 | N34: 0.00072985 | O34: =L34-I34 -> -3.7291e-10 | P34: =M34-J34 -> 2.0928e-10 | Q34: =N34-K34 -> -7.0737e-10 | R34: =(O34^2+P34^2+Q34^2)^0.5 -> 8.2657867e-10 | S34: =1000*(L34^2+M34^2)^0.5 -> 3.1897827 | T34: 3.7291e-10 | U34: -2.0928e-10 | V34: 7.0737e-10 | X34: 7.0319e-05 | Y34: -2.6751e-05 | Z34: 0.00029909
B35: 22475 | C35: =I35+F35 -> -0.0038281477 | D35: =J35+G35 -> 0.0015514849 | E35: =K35+H35 -> 0.0015826603 | F35: 9.8852e-05 | G35: -3.5815e-05 | H35: 0.00027226 | I35: =L35+T35 -> -0.0039269997 | J35: =M35+U35 -> 0.0015872999 | K35: =N35+V35 -> 0.0013104003 | L35: -0.003927 | M35: 0.0015873 | N35: 0.0013104 | O35: =L35-I35 -> -2.8127e-10 | P35: =M35-J35 -> 1.4286e-10 | Q35: =N35-K35 -> -3.3626e-10 | R35: =(O35^2+P35^2+Q35^2)^0.5 -> 4.6107763e-10 | S35: =1000*(L35^2+M35^2)^0.5 -> 4.2356641 | T35: 2.8127e-10 | U35: -1.4286e-10 | V35: 3.3626e-10 | X35: 9.8852e-05 | Y35: -3.5815e-05 | Z35: 0.00027226
B36: 22578 | C36: =I36+F36 -> -0.0047596199 | D36: =J36+G36 -> 0.0019304389 | E36: =K36+H36 -> 0.0021325301 | F36: 7.388e-05 | G36: -3.2361e-05 | H36: 0.00014023 | I36: =L36+T36 -> -0.0048334999 | J36: =M36+U36 -> 0.0019627999 | K36: =N36+V36 -> 0.0019923001 | L36: -0.0048335 | M36: 0.0019628 | N36: 0.0019923 | O36: =L36-I36 -> -1.0278e-10 | P36: =M36-J36 -> 7.2691e-11 | Q36: =N36-K36 -> -1.0032e-10 | R36: =(O36^2+P36^2+Q36^2)^0.5 -> 1.6097146e-10 | S36: =1000*(L36^2+M36^2)^0.5 -> 5.2168291 | T36: 1.0278e-10 | U36: -7.2691e-11 | V36: 1.0032e-10 | X36: 7.388e-05 | Y36: -3.2361e-05 | Z36: 0.00014023
B37: 22852 | C37: =I37+F37 -> -0.0052561359 | D37: =J37+G37 -> 0.002133813 | E37: =K37+H37 -> 0.002462368 | F37: 3.4764e-05 | G37: -1.8387e-05 | H37: 5.1768e-05 | I37: =L37+T37 -> -0.0052908999 | J37: =M37+U37 -> 0.0021522 | K37: =N37+V37 -> 0.0024106 | L37: -0.0052909 | M37: 0.0021522 | N37: 0.0024106 | O37: =L37-I37 -> -5.0886e-11 | P37: =M37-J37 -> 3.7882e-11 | Q37: =N37-K37 -> -3.1374e-11 | R37: =(O37^2+P37^2+Q37^2)^0.5 -> 7.0772585e-11 | S37: =1000*(L37^2+M37^2)^0.5 -> 5.7118813 | T37: 5.0886e-11 | U37: -3.7882e-11 | V37: 3.1374e-11 | X37: 3.4764e-05 | Y37: -1.8387e-05 | Z37: 5.1768e-05
B38: 23422 | C38: =I38+F38 -> -0.0058215 | D38: =J38+G38 -> 0.002372 | E38: =K38+H38 -> 0.0030857 | F38: 0 | G38: 0 | H38: 0 | I38: =L38+T38 -> -0.0058215 | J38: =M38+U38 -> 0.002372 | K38: =N38+V38 -> 0.0030857 | L38: -0.0058215 | M38: 0.002372 | N38: 0.0030857 | O38: =L38-I38 -> 0 | P38: =M38-J38 -> 0 | Q38: =N38-K38 -> 0 | R38: =(O38^2+P38^2+Q38^2)^0.5 -> 0 | S38: =1000*(L38^2+M38^2)^0.5 -> 6.2861949 | T38: 0 | U38: 0 | V38: 0 | X38: 0 | Y38: 0 | Z38: 0 | AD38: 0
B39: 24137 | C39: =I39+F39 -> -0.00049278062 | D39: =J39+G39 -> 0.00091400496 | E39: =K39+H39 -> 0.0004181601 | F39: -3.3068e-07 | G39: -4.5665e-05 | H39: 0.00029529 | I39: =L39+T39 -> -0.00049244994 | J39: =M39+U39 -> 0.00095966996 | K39: =N39+V39 -> 0.0001228701 | L39: -0.00049245 | M39: 0.00095967 | N39: 0.00012287 | O39: =L39-I39 -> -5.9583e-11 | P39: =M39-J39 -> 3.5917e-11 | Q39: =N39-K39 -> -9.802e-11 | R39: =(O39^2+P39^2+Q39^2)^0.5 -> 1.2020019e-10 | S39: =1000*(L39^2+M39^2)^0.5 -> 1.0786443 | T39: 5.9583e-11 | U39: -3.5917e-11 | V39: 9.802e-11 | X39: -3.3068e-07 | Y39: -4.5665e-05 | Z39: 0.00029529
B40: 25577 | C40: =I40+F40 -> -0.00087579583 | D40: =J40+G40 -> 0.0018295249 | E40: =K40+H40 -> 0.00070280008 | F40: 9.3541e-06 | G40: -7.8175e-05 | H40: 0.00031974 | I40: =L40+T40 -> -0.00088514993 | J40: =M40+U40 -> 0.0019076999 | K40: =N40+V40 -> 0.00038306008 | L40: -0.00088515 | M40: 0.0019077 | N40: 0.00038306 | O40: =L40-I40 -> -6.7757e-11 | P40: =M40-J40 -> 6.0152e-11 | Q40: =N40-K40 -> -7.5705e-11 | R40: =(O40^2+P40^2+Q40^2)^0.5 -> 1.1806998e-10 | S40: =1000*(L40^2+M40^2)^0.5 -> 2.1030477 | T40: 6.7757e-11 | U40: -6.0152e-11 | V40: 7.5705e-11 | X40: 9.3541e-06 | Y40: -7.8175e-05 | Z40: 0.00031974
B41: 26717 | C41: =I41+F41 -> -0.0012524599 | D41: =J41+G41 -> 0.00274062 | E41: =K41+H41 -> 0.00107781 | F41: 1.964e-05 | G41: -0.00010138 | H41: 0.00029398 | I41: =L41+T41 -> -0.0012720999 | J41: =M41+U41 -> 0.002842 | K41: =N41+V41 -> 0.00078383002 | L41: -0.0012721 | M41: 0.002842 | N41: 0.00078383 | O41: =L41-I41 -> -6.2949e-11 | P41: =M41-J41 -> 3.7148e-11 | Q41: =N41-K41 -> -2.4858e-11 | R41: =(O41^2+P41^2+Q41^2)^0.5 -> 7.7204084e-11 | S41: =1000*(L41^2+M41^2)^0.5 -> 3.113712 | T41: 6.2949e-11 | U41: -3.7148e-11 | V41: 2.4858e-11 | X41: 1.964e-05 | Y41: -0.00010138 | Z41: 0.00029398
B42: 27857 | C42: =I42+F42 -> -0.001653006 | D42: =J42+G42 -> 0.003723236 | E42: =K42+H42 -> 0.00151436 | F42: 2.2994e-05 | G42: -9.3764e-05 | H42: 0.00018356 | I42: =L42+T42 -> -0.001676 | J42: =M42+U42 -> 0.003817 | K42: =N42+V42 -> 0.0013308 | L42: -0.001676 | M42: 0.003817 | N42: 0.0013308 | O42: =L42-I42 -> -3.4843e-11 | P42: =M42-J42 -> -6.3992999e-12 | Q42: =N42-K42 -> 1.1315e-11 | R42: =(O42^2+P42^2+Q42^2)^0.5 -> 3.7188908e-11 | S42: =1000*(L42^2+M42^2)^0.5 -> 4.1687486 | T42: 3.4843e-11 | U42: 6.3993e-12 | V42: -1.1315e-11 | X42: 2.2994e-05 | Y42: -9.3764e-05 | Z42: 0.00018356
B43: 28997 | C43: =I43+F43 -> -0.00204708 | D43: =J43+G43 -> 0.004703515 | E43: =K43+H43 -> 0.002032094 | F43: 1.172e-05 | G43: -3.7785e-05 | H43: 4.3894e-05 | I43: =L43+T43 -> -0.0020588 | J43: =M43+U43 -> 0.0047413 | K43: =N43+V43 -> 0.0019882 | L43: -0.0020588 | M43: 0.0047413 | N43: 0.0019882 | O43: =L43-I43 -> -2.0347e-11 | P43: =M43-J43 -> -2.3741e-11 | Q43: =N43-K43 -> 1.8725e-11 | R43: =(O43^2+P43^2+Q43^2)^0.5 -> 3.6445317e-11 | S43: =1000*(L43^2+M43^2)^0.5 -> 5.1690021 | T43: 2.0347e-11 | U43: 2.3741e-11 | V43: -1.8725e-11 | X43: 1.172e-05 | Y43: -3.7785e-05 | Z43: 4.3894e-05
B44: 30047 | C44: =I44+F44 -> -0.0022283232 | D44: =J44+G44 -> 0.0051586098 | E44: =K44+H44 -> 0.0024573323 | F44: 6.3768e-06 | G44: -7.1902e-06 | H44: 7.9323e-06 | I44: =L44+T44 -> -0.0022347 | J44: =M44+U44 -> 0.0051658 | K44: =N44+V44 -> 0.0024494 | L44: -0.0022347 | M44: 0.0051658 | N44: 0.0024494 | O44: =L44-I44 -> -1.1097e-11 | P44: =M44-J44 -> -2.1813e-11 | Q44: =N44-K44 -> 9.0498e-12 | R44: =(O44^2+P44^2+Q44^2)^0.5 -> 2.6093088e-11 | S44: =1000*(L44^2+M44^2)^0.5 -> 5.6284433 | T44: 1.1097e-11 | U44: 2.1813e-11 | V44: -9.0498e-12 | X44: 6.3768e-06 | Y44: -7.1902e-06 | Z44: 7.9323e-06
B45: 30617 | C45: =I45+F45 -> -0.0024008 | D45: =J45+G45 -> 0.0055668 | E45: =K45+H45 -> 0.0030856 | F45: 0 | G45: 0 | H45: 0 | I45: =L45+T45 -> -0.0024008 | J45: =M45+U45 -> 0.0055668 | K45: =N45+V45 -> 0.0030856 | L45: -0.0024008 | M45: 0.0055668 | N45: 0.0030856 | O45: =L45-I45 -> 0 | P45: =M45-J45 -> 0 | Q45: =N45-K45 -> 0 | R45: =(O45^2+P45^2+Q45^2)^0.5 -> 0 | S45: =1000*(L45^2+M45^2)^0.5 -> 6.0624337 | T45: 0 | U45: 0 | V45: 0 | X45: 0 | Y45: 0 | Z45: 0 | AD45: 0
B46: 31332 | C46: =I46+F46 -> 0.00028013709 | D46: =J46+G46 -> 0.00090515508 | E46: =K46+H46 -> 0.00044961972 | F46: -2.1163e-05 | G46: -5.1475e-05 | H46: 0.00031463 | I46: =L46+T46 -> 0.00030130009 | J46: =M46+U46 -> 0.00095663008 | K46: =N46+V46 -> 0.00013498972 | L46: 0.0003013 | M46: 0.00095663 | N46: 0.00013499 | O46: =L46-I46 -> -9.2207e-11 | P46: =M46-J46 -> -7.9546e-11 | Q46: =N46-K46 -> 2.8323e-10 | R46: =(O46^2+P46^2+Q46^2)^0.5 -> 3.0830006e-10 | S46: =1000*(L46^2+M46^2)^0.5 -> 1.002957 | T46: 9.2207e-11 | U46: 7.9546e-11 | V46: -2.8323e-10 | X46: -2.1163e-05 | Y46: -5.1475e-05 | Z46: 0.00031463
B47: 32772 | C47: =I47+F47 -> 0.00065729114 | D47: =J47+G47 -> 0.0018081221 | E47: =K47+H47 -> 0.00075657961 | F47: -3.3979e-05 | G47: -8.9978e-05 | H47: 0.00034965 | I47: =L47+T47 -> 0.00069127014 | J47: =M47+U47 -> 0.0018981001 | K47: =N47+V47 -> 0.00040692961 | L47: 0.00069127 | M47: 0.0018981 | N47: 0.00040693 | O47: =L47-I47 -> -1.3746e-10 | P47: =M47-J47 -> -1.4631e-10 | Q47: =N47-K47 -> 3.9405e-10 | R47: =(O47^2+P47^2+Q47^2)^0.5 -> 4.4224119e-10 | S47: =1000*(L47^2+M47^2)^0.5 -> 2.0200589 | T47: 1.3746e-10 | U47: 1.4631e-10 | V47: -3.9405e-10 | X47: -3.3979e-05 | Y47: -8.9978e-05 | Z47: 0.00034965
B48: 33912 | C48: =I48+F48 -> 0.0010380241 | D48: =J48+G48 -> 0.0027227902 | E48: =K48+H48 -> 0.0011137597 | F48: -4.0276e-05 | G48: -0.00010961 | H48: 0.00030825 | I48: =L48+T48 -> 0.0010783001 | J48: =M48+U48 -> 0.0028324002 | K48: =N48+V48 -> 0.00080550972 | L48: 0.0010783 | M48: 0.0028324 | N48: 0.00080551 | O48: =L48-I48 -> -1.3252e-10 | P48: =M48-J48 -> -1.8765e-10 | Q48: =N48-K48 -> 2.7855e-10 | R48: =(O48^2+P48^2+Q48^2)^0.5 -> 3.6105979e-10 | S48: =1000*(L48^2+M48^2)^0.5 -> 3.0307129 | T48: 1.3252e-10 | U48: 1.8765e-10 | V48: -2.7855e-10 | X48: -4.0276e-05 | Y48: -0.00010961 | Z48: 0.00030825
B49: 35052 | C49: =I49+F49 -> 0.0014469181 | D49: =J49+G49 -> 0.0037096561 | E49: =K49+H49 -> 0.0015206599 | F49: -3.1682e-05 | G49: -8.9144e-05 | H49: 0.00016526 | I49: =L49+T49 -> 0.0014786001 | J49: =M49+U49 -> 0.0037988001 | K49: =N49+V49 -> 0.0013553999 | L49: 0.0014786 | M49: 0.0037988 | N49: 0.0013554 | O49: =L49-I49 -> -6.8711e-11 | P49: =M49-J49 -> -7.538e-11 | Q49: =N49-K49 -> 8.7888e-11 | R49: =(O49^2+P49^2+Q49^2)^0.5 -> 1.3463895e-10 | S49: =1000*(L49^2+M49^2)^0.5 -> 4.0764126 | T49: 6.8711e-11 | U49: 7.538e-11 | V49: -8.7888e-11 | X49: -3.1682e-05 | Y49: -8.9144e-05 | Z49: 0.00016526
B50: 36192 | C50: =I50+F50 -> 0.001845131 | D50: =J50+G50 -> 0.004690291 | E50: =K50+H50 -> 0.00205504 | F50: -1.5069e-05 | G50: -2.9809e-05 | H50: 3.554e-05 | I50: =L50+T50 -> 0.0018602 | J50: =M50+U50 -> 0.0047201 | K50: =N50+V50 -> 0.0020195 | L50: 0.0018602 | M50: 0.0047201 | N50: 0.0020195 | O50: =L50-I50 -> -1.9729e-11 | P50: =M50-J50 -> 2.3685004e-12 | Q50: =N50-K50 -> 1.4028002e-12 | R50: =(O50^2+P50^2+Q50^2)^0.5 -> 1.9920117e-11 | S50: =1000*(L50^2+M50^2)^0.5 -> 5.0734296 | T50: 1.9729e-11 | U50: -2.3685e-12 | V50: -1.4028e-12 | X50: -1.5069e-05 | Y50: -2.9809e-05 | Z50: 3.554e-05
B51: 37242 | C51: =I51+F51 -> 0.0020151513 | D51: =J51+G51 -> 0.0051128308 | E51: =K51+H51 -> 0.0025218331 | F51: -8.3487e-06 | G51: -1.4692e-06 | H51: 6.1331e-06 | I51: =L51+T51 -> 0.0020235 | J51: =M51+U51 -> 0.0051143 | K51: =N51+V51 -> 0.0025157 | L51: 0.0020235 | M51: 0.0051143 | N51: 0.0025157 | O51: =L51-I51 -> -7.9893999e-12 | P51: =M51-J51 -> 9.4229997e-12 | Q51: =N51-K51 -> -2.0703001e-12 | R51: =(O51^2+P51^2+Q51^2)^0.5 -> 1.2526355e-11 | S51: =1000*(L51^2+M51^2)^0.5 -> 5.5000561 | T51: 7.9894e-12 | U51: -9.423e-12 | V51: 2.0703e-12 | X51: -8.3487e-06 | Y51: -1.4692e-06 | Z51: 6.1331e-06
B52: 37812 | C52: =I52+F52 -> 0.0021638 | D52: =J52+G52 -> 0.005453 | E52: =K52+H52 -> 0.0030856 | F52: 0 | G52: 0 | H52: 0 | I52: =L52+T52 -> 0.0021638 | J52: =M52+U52 -> 0.005453 | K52: =N52+V52 -> 0.0030856 | L52: 0.0021638 | M52: 0.005453 | N52: 0.0030856 | O52: =L52-I52 -> 0 | P52: =M52-J52 -> 0 | Q52: =N52-K52 -> 0 | R52: =(O52^2+P52^2+Q52^2)^0.5 -> 0 | S52: =1000*(L52^2+M52^2)^0.5 -> 5.8666208 | T52: 0 | U52: 0 | V52: 0 | X52: 0 | Y52: 0 | Z52: 0 | AD52: 0
B53: 38527 | C53: =I53+F53 -> 0.00083391711 | D53: =J53+G53 -> 0.00037068209 | E53: =K53+H53 -> 0.00041271964 | F53: -3.2773e-05 | G53: -2.7638e-05 | H53: 0.0002977 | I53: =L53+T53 -> 0.00086669011 | J53: =M53+U53 -> 0.00039832009 | K53: =N53+V53 -> 0.00011501964 | L53: 0.00086669 | M53: 0.00039832 | N53: 0.00011502 | O53: =L53-I53 -> -1.1162e-10 | P53: =M53-J53 -> -8.6564e-11 | Q53: =N53-K53 -> 3.5992e-10 | R53: =(O53^2+P53^2+Q53^2)^0.5 -> 3.8664552e-10 | S53: =1000*(L53^2+M53^2)^0.5 -> 0.95383981 | T53: 1.1162e-10 | U53: 8.6564e-11 | V53: -3.5992e-10 | X53: -3.2773e-05 | Y53: -2.7638e-05 | Z53: 0.0002977
B54: 39967 | C54: =I54+F54 -> 0.0017376922 | D54: =J54+G54 -> 0.00074869511 | E54: =K54+H54 -> 0.00075577952 | F54: -7.3908e-05 | G54: -4.1015e-05 | H54: 0.00036975 | I54: =L54+T54 -> 0.0018116002 | J54: =M54+U54 -> 0.00078971011 | K54: =N54+V54 -> 0.00038602952 | L54: 0.0018116 | M54: 0.00078971 | N54: 0.00038603 | O54: =L54-I54 -> -1.8302e-10 | P54: =M54-J54 -> -1.1237e-10 | Q54: =N54-K54 -> 4.8164e-10 | R54: =(O54^2+P54^2+Q54^2)^0.5 -> 5.2735228e-10 | S54: =1000*(L54^2+M54^2)^0.5 -> 1.976243 | T54: 1.8302e-10 | U54: 1.1237e-10 | V54: -4.8164e-10 | X54: -7.3908e-05 | Y54: -4.1015e-05 | Z54: 0.00036975
B55: 41107 | C55: =I55+F55 -> 0.0026302202 | D55: =J55+G55 -> 0.0011288571 | E55: =K55+H55 -> 0.0011812397 | F55: -0.00011568 | G55: -4.7843e-05 | H55: 0.00039478 | I55: =L55+T55 -> 0.0027459002 | J55: =M55+U55 -> 0.0011767001 | K55: =N55+V55 -> 0.00078645967 | L55: 0.0027459 | M55: 0.0011767 | N55: 0.00078646 | O55: =L55-I55 -> -1.71e-10 | P55: =M55-J55 -> -1.292e-10 | Q55: =N55-K55 -> 3.2691e-10 | R55: =(O55^2+P55^2+Q55^2)^0.5 -> 3.9090125e-10 | S55: =1000*(L55^2+M55^2)^0.5 -> 2.9874052 | T55: 1.71e-10 | U55: 1.292e-10 | V55: -3.2691e-10 | X55: -0.00011568 | Y55: -4.7843e-05 | Z55: 0.00039478
B56: 42247 | C56: =I56+F56 -> 0.0036033702 | D56: =J56+G56 -> 0.0015364001 | E56: =K56+H56 -> 0.0016374599 | F56: -0.00012603 | G56: -4.77e-05 | H56: 0.00031666 | I56: =L56+T56 -> 0.0037294002 | J56: =M56+U56 -> 0.0015841001 | K56: =N56+V56 -> 0.0013207999 | L56: 0.0037294 | M56: 0.0015841 | N56: 0.0013208 | O56: =L56-I56 -> -1.5429e-10 | P56: =M56-J56 -> -7.8696e-11 | Q56: =N56-K56 -> 1.3399e-10 | R56: =(O56^2+P56^2+Q56^2)^0.5 -> 2.1897896e-10 | S56: =1000*(L56^2+M56^2)^0.5 -> 4.0518881 | T56: 1.5429e-10 | U56: 7.8696e-11 | V56: -1.3399e-10 | X56: -0.00012603 | Y56: -4.77e-05 | Z56: 0.00031666
B57: 43387 | C57: =I57+F57 -> 0.004586938 | D57: =J57+G57 -> 0.001939449 | E57: =K57+H57 -> 0.0020923 | F57: -8.7762e-05 | G57: -3.6151e-05 | H57: 0.000146 | I57: =L57+T57 -> 0.0046747 | J57: =M57+U57 -> 0.0019756 | K57: =N57+V57 -> 0.0019463 | L57: 0.0046747 | M57: 0.0019756 | N57: 0.0019463 | O57: =L57-I57 -> -3.2967e-11 | P57: =M57-J57 -> -4.4671e-11 | Q57: =N57-K57 -> 4.3666e-11 | R57: =(O57^2+P57^2+Q57^2)^0.5 -> 7.0633143e-11 | S57: =1000*(L57^2+M57^2)^0.5 -> 5.0750188 | T57: 3.2967e-11 | U57: 4.4671e-11 | V57: -4.3666e-11 | X57: -8.7762e-05 | Y57: -3.6151e-05 | Z57: 0.000146
B58: 44437 | C58: =I58+F58 -> 0.005100732 | D58: =J58+G58 -> 0.002151453 | E58: =K58+H58 -> 0.002405563 | F58: -4.4168e-05 | G58: -1.8947e-05 | H58: 5.1663e-05 | I58: =L58+T58 -> 0.0051449 | J58: =M58+U58 -> 0.0021704 | K58: =N58+V58 -> 0.0023539 | L58: 0.0051449 | M58: 0.0021704 | N58: 0.0023539 | O58: =L58-I58 -> -4.8140996e-12 | P58: =M58-J58 -> -1.8109e-11 | Q58: =N58-K58 -> 1.5879e-11 | R58: =(O58^2+P58^2+Q58^2)^0.5 -> 2.4561231e-11 | S58: =1000*(L58^2+M58^2)^0.5 -> 5.583962 | T58: 4.8141e-12 | U58: 1.8109e-11 | V58: -1.5879e-11 | X58: -4.4168e-05 | Y58: -1.8947e-05 | Z58: 5.1663e-05
B59: 45007 | C59: =I59+F59 -> 0.0056919 | D59: =J59+G59 -> 0.002397 | E59: =K59+H59 -> 0.0030857 | F59: 0 | G59: 0 | H59: 0 | I59: =L59+T59 -> 0.0056919 | J59: =M59+U59 -> 0.002397 | K59: =N59+V59 -> 0.0030857 | L59: 0.0056919 | M59: 0.002397 | N59: 0.0030857 | O59: =L59-I59 -> 0 | P59: =M59-J59 -> 0 | Q59: =N59-K59 -> 0 | R59: =(O59^2+P59^2+Q59^2)^0.5 -> 0 | S59: =1000*(L59^2+M59^2)^0.5 -> 6.176029 | T59: 0 | U59: 0 | V59: 0 | X59: 0 | Y59: 0 | Z59: 0 | AD59: 0
B60: Free Stress Geometry | F60: Displacement PIO 15 mmHg (1998.4 Pa) | I60: Estimated Physiological Geometry PIO 15 mmHg ( 1998.4 Pa) | L60: Measured Physiological Geometry PIO 15 mmHg (1998.4 Pa) | O60: Difference | R60: =MAX(R62:R118) -> 9.2324657e-10 | T60: RESIDUAL DISPLACEMENT PIO 15 mmHg ( 1998.4 Pa)
B61: POINT | C61: X (m) | D61: Y (m) | E61: Z (m) | F61: dx (mm) | G61: dy(mm) | H61: dz (mm) | I61: X (m) | J61: Y (m) | K61: Z (m) | L61: X (m) | M61: Y (m) | N61: Z (m) | O61: X (m) | P61: Y (m) | Q61: Z (m) | R61: ERROR (m) | S61: RADIUS (mm) | T61: dx (mm) | U61: dy(mm) | V61: dz (mm)
A62: CARA POSTERIOR | B62: 1 | C62: =I62+F62 -> -0.00010436586 | D62: =J62+G62 -> -3.5672907e-05 | E62: =K62+H62 -> 0.00059246011 | F62: -9.4221e-06 | G62: -3.5673e-05 | H62: 0.00025245 | I62: =L62+T62 -> -9.4943758e-05 | J62: =M62+U62 -> 9.315448e-11 | K62: =N62+V62 -> 0.00034001011 | L62: -9.4944e-05 | M62: -3.2252e-13 | N62: 0.00034001 | O62: =L62-I62 -> -2.4152e-10 | P62: =M62-J62 -> -9.3477e-11 | Q62: =N62-K62 -> -1.1451e-10 | R62: =(O62^2+P62^2+Q62^2)^0.5 -> 2.8316497e-10 | S62: =1000*(L62^2+M62^2)^0.5 -> 0.094944 | T62: 2.4152e-10 | U62: 9.3477e-11 | V62: 1.1451e-10 | X62: -9.4221e-06 | Y62: -3.5673e-05 | Z62: 0.00025245
B63: 2 | C63: =I63+F63 -> 0.00076185415 | D63: =J63+G63 -> -0.00039035181 | E63: =K63+H63 -> 0.00063239988 | F63: -3.5876e-05 | G63: -2.0592e-05 | H63: 0.00024236 | I63: =L63+T63 -> 0.00079773015 | J63: =M63+U63 -> -0.00036975981 | K63: =N63+V63 -> 0.00039003988 | L63: 0.00079773 | M63: -0.00036976 | N63: 0.00039004 | O63: =L63-I63 -> -1.4726e-10 | P63: =M63-J63 -> -1.9114e-10 | Q63: =N63-K63 -> 1.2377e-10 | R63: =(O63^2+P63^2+Q63^2)^0.5 -> 2.7118079e-10 | S63: =1000*(L63^2+M63^2)^0.5 -> 0.87925856 | T63: 1.4726e-10 | U63: 1.9114e-10 | V63: -1.2377e-10 | X63: -3.5876e-05 | Y63: -2.0592e-05 | Z63: 0.00024236
B64: 22 | C64: =I64+F64 -> 0.00027292828 | D64: =J64+G64 -> -0.00090790966 | E64: =K64+H64 -> 0.0005050202 | F64: -8.5318e-06 | G64: 8.1022e-07 | H64: 0.00017897 | I64: =L64+T64 -> 0.00028146008 | J64: =M64+U64 -> -0.00090871988 | K64: =N64+V64 -> 0.0003260502 | L64: 0.00028146 | M64: -0.00090872 | N64: 0.00032605 | O64: =L64-I64 -> -7.8553e-11 | P64: =M64-J64 -> -1.17e-10 | Q64: =N64-K64 -> -1.98e-10 | R64: =(O64^2+P64^2+Q64^2)^0.5 -> 2.4302999e-10 | S64: =1000*(L64^2+M64^2)^0.5 -> 0.95131055 | T64: 7.8553e-11 | U64: 1.17e-10 | V64: 1.98e-10 | X64: -8.5318e-06 | Y64: 8.1022e-07 | Z64: 0.00017897
B65: 1645 | C65: =I65+F65 -> 0.001638495 | D65: =J65+G65 -> -0.00074684846 | E65: =K65+H65 -> 0.00089446 | F65: -7.5805e-05 | G65: 2.5413e-06 | H65: 0.00026693 | I65: =L65+T65 -> 0.0017143 | J65: =M65+U65 -> -0.00074938976 | K65: =N65+V65 -> 0.00062753 | L65: 0.0017143 | M65: -0.00074939 | N65: 0.00062753 | O65: =L65-I65 -> -7.7994e-12 | P65: =M65-J65 -> -2.3829e-10 | Q65: =N65-K65 -> 8.8112005e-13 | R65: =(O65^2+P65^2+Q65^2)^0.5 -> 2.3841923e-10 | S65: =1000*(L65^2+M65^2)^0.5 -> 1.8709382 | T65: 7.7994e-12 | U65: 2.3829e-10 | V65: -8.8112e-13 | X65: -7.5805e-05 | Y65: 2.5413e-06 | Z65: 0.00026693
B66: 1657 | C66: =I66+F66 -> 0.00064068491 | D66: =J66+G66 -> -0.0017804088 | E66: =K66+H66 -> 0.0007779303 | F66: -1.9215e-05 | G66: 4.1991e-05 | H66: 0.00018307 | I66: =L66+T66 -> 0.00065989991 | J66: =M66+U66 -> -0.0018223998 | K66: =N66+V66 -> 0.0005948603 | L66: 0.0006599 | M66: -0.0018224 | N66: 0.00059486 | O66: =L66-I66 -> 8.7421e-11 | P66: =M66-J66 -> -1.5144e-10 | Q66: =N66-K66 -> -3.0297e-10 | R66: =(O66^2+P66^2+Q66^2)^0.5 -> 3.4981041e-10 | S66: =1000*(L66^2+M66^2)^0.5 -> 1.9381976 | T66: -8.7421e-11 | U66: 1.5144e-10 | V66: 3.0297e-10 | X66: -1.9215e-05 | Y66: 4.1991e-05 | Z66: 0.00018307
B67: 2869 | C67: =I67+F67 -> 0.0024964699 | D67: =J67+G67 -> -0.0010992147 | E67: =K67+H67 -> 0.0013813503 | F67: -0.00012513 | G67: 2.5985e-05 | H67: 0.00031305 | I67: =L67+T67 -> 0.0026215999 | J67: =M67+U67 -> -0.0011251997 | K67: =N67+V67 -> 0.0010683003 | L67: 0.0026216 | M67: -0.0011252 | N67: 0.0010683 | O67: =L67-I67 -> 1.3481e-10 | P67: =M67-J67 -> -2.5761e-10 | Q67: =N67-K67 -> -2.5742e-10 | R67: =(O67^2+P67^2+Q67^2)^0.5 -> 3.8833195e-10 | S67: =1000*(L67^2+M67^2)^0.5 -> 2.852869 | T67: -1.3481e-10 | U67: 2.5761e-10 | V67: 2.5742e-10 | X67: -0.00012513 | Y67: 2.5985e-05 | Z67: 0.00031305
B68: 2881 | C68: =I68+F68 -> 0.00098725588 | D68: =J68+G68 -> -0.0025979618 | E68: =K68+H68 -> 0.0013535203 | F68: -3.2144e-05 | G68: 9.2338e-05 | H68: 0.00022582 | I68: =L68+T68 -> 0.0010193999 | J68: =M68+U68 -> -0.0026902998 | K68: =N68+V68 -> 0.0011277003 | L68: 0.0010194 | M68: -0.0026903 | N68: 0.0011277 | O68: =L68-I68 -> 1.1653e-10 | P68: =M68-J68 -> -1.6617e-10 | Q68: =N68-K68 -> -3.1155e-10 | R68: =(O68^2+P68^2+Q68^2)^0.5 -> 3.7182672e-10 | S68: =1000*(L68^2+M68^2)^0.5 -> 2.8769585 | T68: -1.1653e-10 | U68: 1.6617e-10 | V68: 3.1155e-10 | X68: -3.2144e-05 | Y68: 9.2338e-05 | Z68: 0.00022582
B69: 4093 | C69: =I69+F69 -> 0.0033430298 | D69: =J69+G69 -> -0.0014436948 | E69: =K69+H69 -> 0.0019782003 | F69: -0.00013707 | G69: 3.7105e-05 | H69: 0.0003199 | I69: =L69+T69 -> 0.0034800998 | J69: =M69+U69 -> -0.0014807998 | K69: =N69+V69 -> 0.0016583003 | L69: 0.0034801 | M69: -0.0014808 | N69: 0.0016583 | O69: =L69-I69 -> 1.5643e-10 | P69: =M69-J69 -> -1.7123e-10 | Q69: =N69-K69 -> -2.9941e-10 | R69: =(O69^2+P69^2+Q69^2)^0.5 -> 3.7872999e-10 | S69: =1000*(L69^2+M69^2)^0.5 -> 3.782045 | T69: -1.5643e-10 | U69: 1.7123e-10 | V69: 2.9941e-10 | X69: -0.00013707 | Y69: 3.7105e-05 | Z69: 0.0003199
B70: 4105 | C70: =I70+F70 -> 0.0013113679 | D70: =J70+G70 -> -0.0033806379 | E70: =K70+H70 -> 0.0020058302 | F70: -3.1532e-05 | G70: 9.0562e-05 | H70: 0.00020703 | I70: =L70+T70 -> 0.0013428999 | J70: =M70+U70 -> -0.0034711999 | K70: =N70+V70 -> 0.0017988002 | L70: 0.0013429 | M70: -0.0034712 | N70: 0.0017988 | O70: =L70-I70 -> 7.4867e-11 | P70: =M70-J70 -> -9.8132e-11 | Q70: =N70-K70 -> -2.1419e-10 | R70: =(O70^2+P70^2+Q70^2)^0.5 -> 2.4720905e-10 | S70: =1000*(L70^2+M70^2)^0.5 -> 3.7219094 | T70: -7.4867e-11 | U70: 9.8132e-11 | V70: 2.1419e-10 | X70: -3.1532e-05 | Y70: 9.0562e-05 | Z70: 0.00020703
B71: 5317 | C71: =I71+F71 -> 0.0042811189 | D71: =J71+G71 -> -0.0018236769 | E71: =K71+H71 -> 0.0026440702 | F71: -6.9281e-05 | G71: 1.7623e-05 | H71: 0.00021847 | I71: =L71+T71 -> 0.0043503999 | J71: =M71+U71 -> -0.0018412999 | K71: =N71+V71 -> 0.0024256002 | L71: 0.0043504 | M71: -0.0018413 | N71: 0.0024256 | O71: =L71-I71 -> 6.3198e-11 | P71: =M71-J71 -> -5.9431e-11 | Q71: =N71-K71 -> -1.617e-10 | R71: =(O71^2+P71^2+Q71^2)^0.5 -> 1.8350183e-10 | S71: =1000*(L71^2+M71^2)^0.5 -> 4.7240201 | T71: -6.3198e-11 | U71: 5.9431e-11 | V71: 1.617e-10 | X71: -6.9281e-05 | Y71: 1.7623e-05 | Z71: 0.00021847
B72: 5329 | C72: =I72+F72 -> 0.001661647 | D72: =J72+G72 -> -0.004243805 | E72: =K72+H72 -> 0.0027820101 | F72: -1.4053e-05 | G72: 3.0895e-05 | H72: 0.00010421 | I72: =L72+T72 -> 0.0016757 | J72: =M72+U72 -> -0.0042747 | K72: =N72+V72 -> 0.0026778001 | L72: 0.0016757 | M72: -0.0042747 | N72: 0.0026778 | O72: =L72-I72 -> 1.7291e-11 | P72: =M72-J72 -> -8.6548997e-12 | Q72: =N72-K72 -> -7.6285e-11 | R72: =(O72^2+P72^2+Q72^2)^0.5 -> 7.8697441e-11 | S72: =1000*(L72^2+M72^2)^0.5 -> 4.5914083 | T72: -1.7291e-11 | U72: 8.6549e-12 | V72: 7.6285e-11 | X72: -1.4053e-05 | Y72: 3.0895e-05 | Z72: 0.00010421
B73: 6541 | C73: =I73+F73 -> 0.00476081 | D73: =J73+G73 -> -0.002020238 | E73: =K73+H73 -> 0.0029408501 | F73: -2.629e-05 | G73: 1.962e-06 | H73: 0.00012585 | I73: =L73+T73 -> 0.0047871 | J73: =M73+U73 -> -0.0020222 | K73: =N73+V73 -> 0.0028150001 | L73: 0.0047871 | M73: -0.0020222 | N73: 0.002815 | O73: =L73-I73 -> 1.6494e-11 | P73: =M73-J73 -> -2.3514e-11 | Q73: =N73-K73 -> -7.8711e-11 | R73: =(O73^2+P73^2+Q73^2)^0.5 -> 8.3787718e-11 | S73: =1000*(L73^2+M73^2)^0.5 -> 5.1966931 | T73: -1.6494e-11 | U73: 2.3514e-11 | V73: 7.8711e-11 | X73: -2.629e-05 | Y73: 1.962e-06 | Z73: 0.00012585
B74: 6547 | C74: =I74+F74 -> 0.001816712 | D74: =J74+G74 -> -0.004638554 | E74: =K74+H74 -> 0.003167161 | F74: -1.1788e-05 | G74: 5.046e-06 | H74: 4.5061e-05 | I74: =L74+T74 -> 0.0018285 | J74: =M74+U74 -> -0.0046436 | K74: =N74+V74 -> 0.0031221 | L74: 0.0018285 | M74: -0.0046436 | N74: 0.0031221 | O74: =L74-I74 -> 1.6297e-11 | P74: =M74-J74 -> 6.7734004e-12 | Q74: =N74-K74 -> -3.7796e-11 | R74: =(O74^2+P74^2+Q74^2)^0.5 -> 4.1713412e-11 | S74: =1000*(L74^2+M74^2)^0.5 -> 4.9906345 | T74: -1.6297e-11 | U74: -6.7734e-12 | V74: 3.7796e-11 | X74: -1.1788e-05 | Y74: 5.046e-06 | Z74: 4.5061e-05
... B79: 12068 | C79: =I79+F79 -> -0.001866392 | D79: =J79+G79 -> -0.004280304 | E79: =K79+H79 -> 0.0027244 | F79: 2.0808e-05 | G79: 4.6596e-05 | H79: 0.0001238 | I79: =L79+T79 -> -0.0018872 | J79: =M79+U79 -> -0.0043269 | K79: =N79+V79 -> 0.0026006 | L79: -0.0018872 | M79: -0.0043269 | N79: 0.0026006 | O79: =L79-I79 -> 2.8495e-11 | P79: =M79-J79 -> -3.3035e-11 | Q79: =N79-K79 -> 5.1181e-12 | R79: =(O79^2+P79^2+Q79^2)^0.5 -> 4.3925746e-11 | S79: =1000*(L79^2+M79^2)^0.5 -> 4.7205495 | T79: -2.8495e-11 | U79: 3.3035e-11 | V79: -5.1181e-12 | X79: 2.0808e-05 | Y79: 4.6596e-05 | Z79: 0.0001238
B80: 13208 | C80: =I80+F80 -> 0.0053567 | D80: =J80+G80 -> -0.0022581 | E80: =K80+H80 -> 0.0033857 | F80: 0 | G80: 0 | H80: 0 | I80: =L80+T80 -> 0.0053567 | J80: =M80+U80 -> -0.0022581 | K80: =N80+V80 -> 0.0033857 | L80: 0.0053567 | M80: -0.0022581 | N80: 0.0033857 | O80: =L80-I80 -> 0 | P80: =M80-J80 -> 0 | Q80: =N80-K80 -> 0 | R80: =(O80^2+P80^2+Q80^2)^0.5 -> 0 | S80: =1000*(L80^2+M80^2)^0.5 -> 5.8131962 | T80: 0 | U80: 0 | V80: 0 | X80: 0 | Y80: 0 | Z80: 0 | AC80: 0
B81: 13214 | C81: =I81+F81 -> 0.0019132 | D81: =J81+G81 -> -0.0048482 | E81: =K81+H81 -> 0.0033857 | F81: 0 | G81: 0 | H81: 0 | I81: =L81+T81 -> 0.0019132 | J81: =M81+U81 -> -0.0048482 | K81: =N81+V81 -> 0.0033857 | L81: 0.0019132 | M81: -0.0048482 | N81: 0.0033857 | O81: =L81-I81 -> 0 | P81: =M81-J81 -> 0 | Q81: =N81-K81 -> 0 | R81: =(O81^2+P81^2+Q81^2)^0.5 -> 0 | S81: =1000*(L81^2+M81^2)^0.5 -> 5.2120416 | T81: 0 | U81: 0 | V81: 0 | X81: 0 | Y81: 0 | Z81: 0 | AC81: 0
B82: 13820 | C82: =I82+F82 -> -0.002022279 | D82: =J82+G82 -> -0.0046749455 | E82: =K82+H82 -> 0.003125467 | F82: 1.2921e-05 | G82: 9.1545e-06 | H82: 5.5567e-05 | I82: =L82+T82 -> -0.0020352 | J82: =M82+U82 -> -0.0046841 | K82: =N82+V82 -> 0.0030699 | L82: -0.0020352 | M82: -0.0046841 | N82: 0.0030699 | O82: =L82-I82 -> 1.4459e-11 | P82: =M82-J82 -> -1.935e-11 | Q82: =N82-K82 -> -9.7754001e-12 | R82: =(O82^2+P82^2+Q82^2)^0.5 -> 2.6058465e-11 | S82: =1000*(L82^2+M82^2)^0.5 -> 5.1071354 | T82: -1.4459e-11 | U82: 1.935e-11 | V82: 9.7754e-12 | X82: 1.2921e-05 | Y82: 9.1545e-06 | Z82: 5.5567e-05
B83: 14390 | C83: =I83+F83 -> -0.002127 | D83: =J83+G83 -> -0.0049059 | E83: =K83+H83 -> 0.0033856 | F83: 0 | G83: 0 | H83: 0 | I83: =L83+T83 -> -0.002127 | J83: =M83+U83 -> -0.0049059 | K83: =N83+V83 -> 0.0033856 | L83: -0.002127 | M83: -0.0049059 | N83: 0.0033856 | O83: =L83-I83 -> 0 | P83: =M83-J83 -> 0 | Q83: =N83-K83 -> 0 | R83: =(O83^2+P83^2+Q83^2)^0.5 -> 0 | S83: =1000*(L83^2+M83^2)^0.5 -> 5.3471473 | T83: 0 | U83: 0 | V83: 0 | X83: 0 | Y83: 0 | Z83: 0 | AC83: 0
B84: 14960 | C84: =I84+F84 -> -0.00096653178 | D84: =J84+G84 -> -0.00037903157 | E84: =K84+H84 -> 0.00059267058 | F84: 2.7408e-05 | G84: -6.6615e-06 | H84: 0.00022783 | I84: =L84+T84 -> -0.00099393978 | J84: =M84+U84 -> -0.00037237007 | K84: =N84+V84 -> 0.00036484058 | L84: -0.00099394 | M84: -0.00037237 | N84: 0.00036484 | O84: =L84-I84 -> -2.1522e-10 | P84: =M84-J84 -> 7.0305e-11 | Q84: =N84-K84 -> -5.8165e-10 | R84: =(O84^2+P84^2+Q84^2)^0.5 -> 6.2416277e-10 | S84: =1000*(L84^2+M84^2)^0.5 -> 1.0614029 | T84: 2.1522e-10 | U84: -7.0305e-11 | V84: 5.8165e-10 | X84: 2.7408e-05 | Y84: -6.6615e-06 | Z84: 0.00022783
B85: 16455 | C85: =I85+F85 -> -0.0018379719 | D85: =J85+G85 -> -0.00072926726 | E85: =K85+H85 -> 0.00086232044 | F85: 7.9728e-05 | G85: 2.5723e-05 | H85: 0.00026833 | I85: =L85+T85 -> -0.0019176999 | J85: =M85+U85 -> -0.00075499026 | K85: =N85+V85 -> 0.00059399044 | L85: -0.0019177 | M85: -0.00075499 | N85: 0.00059399 | O85: =L85-I85 -> -6.4281e-11 | P85: =M85-J85 -> 2.6207e-10 | Q85: =N85-K85 -> -4.3988e-10 | R85: =(O85^2+P85^2+Q85^2)^0.5 -> 5.1604956e-10 | S85: =1000*(L85^2+M85^2)^0.5 -> 2.0609666 | T85: 6.4281e-11 | U85: -2.6207e-10 | V85: 4.3988e-10 | X85: 7.9728e-05 | Y85: 2.5723e-05 | Z85: 0.00026833
B86: 17595 | C86: =I86+F86 -> -0.0026890302 | D86: =J86+G86 -> -0.0010794783 | E86: =K86+H86 -> 0.0013574598 | F86: 0.00014297 | G86: 5.4222e-05 | H86: 0.00033576 | I86: =L86+T86 -> -0.0028320002 | J86: =M86+U86 -> -0.0011337003 | K86: =N86+V86 -> 0.0010216998 | L86: -0.002832 | M86: -0.0011337 | N86: 0.0010217 | O86: =L86-I86 -> 1.762e-10 | P86: =M86-J86 -> 3.3447e-10 | Q86: =N86-K86 -> 1.7149e-10 | R86: =(O86^2+P86^2+Q86^2)^0.5 -> 4.15121e-10 | S86: =1000*(L86^2+M86^2)^0.5 -> 3.0504917 | T86: -1.762e-10 | U86: -3.3447e-10 | V86: -1.7149e-10 | X86: 0.00014297 | Y86: 5.4222e-05 | Z86: 0.00033576
B87: 18735 | C87: =I87+F87 -> -0.0035383902 | D87: =J87+G87 -> -0.0014312333 | E87: =K87+H87 -> 0.0019634296 | F87: 0.00016391 | G87: 6.2967e-05 | H87: 0.00034883 | I87: =L87+T87 -> -0.0037023002 | J87: =M87+U87 -> -0.0014942003 | K87: =N87+V87 -> 0.0016145996 | L87: -0.0037023 | M87: -0.0014942 | N87: 0.0016146 | O87: =L87-I87 -> 2.3871e-10 | P87: =M87-J87 -> 2.5359e-10 | Q87: =N87-K87 -> 4.1747e-10 | R87: =(O87^2+P87^2+Q87^2)^0.5 -> 5.4366493e-10 | S87: =1000*(L87^2+M87^2)^0.5 -> 3.9924502 | T87: -2.3871e-10 | U87: -2.5359e-10 | V87: -4.1747e-10 | X87: 0.00016391 | Y87: 6.2967e-05 | Z87: 0.00034883
B88: 19875 | C88: =I88+F88 -> -0.0044723521 | D88: =J88+G88 -> -0.0018149301 | E88: =K88+H88 -> 0.0026185898 | F88: 8.5348e-05 | G88: 3.357e-05 | H88: 0.00021879 | I88: =L88+T88 -> -0.0045577001 | J88: =M88+U88 -> -0.0018485001 | K88: =N88+V88 -> 0.0023997998 | L88: -0.0045577 | M88: -0.0018485 | N88: 0.0023998 | O88: =L88-I88 -> 8.1912e-11 | P88: =M88-J88 -> 8.6837e-11 | Q88: =N88-K88 -> 1.8723e-10 | R88: =(O88^2+P88^2+Q88^2)^0.5 -> 2.22048e-10 | S88: =1000*(L88^2+M88^2)^0.5 -> 4.9182905 | T88: -8.1912e-11 | U88: -8.6837e-11 | V88: -1.8723e-10 | X88: 8.5348e-05 | Y88: 3.357e-05 | Z88: 0.00021879
B89: 21015 | C89: =I89+F89 -> -0.004923625 | D89: =J89+G89 -> -0.001999861 | E89: =K89+H89 -> 0.0029594699 | F89: 2.7975e-05 | G89: 1.1839e-05 | H89: 0.00011187 | I89: =L89+T89 -> -0.0049516 | J89: =M89+U89 -> -0.0020117 | K89: =N89+V89 -> 0.0028475999 | L89: -0.0049516 | M89: -0.0020117 | N89: 0.0028476 | O89: =L89-I89 -> 6.5172997e-12 | P89: =M89-J89 -> 3.1551e-11 | Q89: =N89-K89 -> 8.7966e-11 | R89: =(O89^2+P89^2+Q89^2)^0.5 -> 9.3680083e-11 | S89: =1000*(L89^2+M89^2)^0.5 -> 5.3446496 | T89: -6.5173e-12 | U89: -3.1551e-11 | V89: -8.7966e-11 | X89: 2.7975e-05 | Y89: 1.1839e-05 | Z89: 0.00011187
B90: 21585 | C90: =I90+F90 -> -0.0053592 | D90: =J90+G90 -> -0.0021805 | E90: =K90+H90 -> 0.0033856 | F90: 0 | G90: 0 | H90: 0 | I90: =L90+T90 -> -0.0053592 | J90: =M90+U90 -> -0.0021805 | K90: =N90+V90 -> 0.0033856 | L90: -0.0053592 | M90: -0.0021805 | N90: 0.0033856 | O90: =L90-I90 -> 0 | P90: =M90-J90 -> 0 | Q90: =N90-K90 -> 0 | R90: =(O90^2+P90^2+Q90^2)^0.5 -> 0 | S90: =1000*(L90^2+M90^2)^0.5 -> 5.7858107 | T90: 0 | U90: 0 | V90: 0 | X90: 0 | Y90: 0 | Z90: 0 | AC90: 0
B91: 22155 | C91: =I91+F91 -> -0.00096363668 | D91: =J91+G91 -> 0.00032952297 | E91: =K91+H91 -> 0.00069574054 | F91: 1.5083e-05 | G91: -3.6547e-05 | H91: 0.0002702 | I91: =L91+T91 -> -0.00097871968 | J91: =M91+U91 -> 0.00036606997 | K91: =N91+V91 -> 0.00042554054 | L91: -0.00097872 | M91: 0.00036607 | N91: 0.00042554 | O91: =L91-I91 -> -3.2274e-10 | P91: =M91-J91 -> 2.7554e-11 | Q91: =N91-K91 -> -5.4125e-10 | R91: =(O91^2+P91^2+Q91^2)^0.5 -> 6.3077087e-10 | S91: =1000*(L91^2+M91^2)^0.5 -> 1.0449402 | T91: 3.2274e-10 | U91: -2.7554e-11 | V91: 5.4125e-10 | X91: 1.5083e-05 | Y91: -3.6547e-05 | Z91: 0.0002702
B92: 22295 | C92: =I92+F92 -> -0.0018509026 | D92: =J92+G92 -> 0.00071428587 | E92: =K92+H92 -> 0.00094010083 | F92: 4.4097e-05 | G92: -3.1324e-05 | H92: 0.00028989 | I92: =L92+T92 -> -0.0018949996 | J92: =M92+U92 -> 0.00074560987 | K92: =N92+V92 -> 0.00065021083 | L92: -0.001895 | M92: 0.00074561 | N92: 0.00065021 | O92: =L92-I92 -> -3.7266e-10 | P92: =M92-J92 -> 1.3498e-10 | Q92: =N92-K92 -> -8.3384e-10 | R92: =(O92^2+P92^2+Q92^2)^0.5 -> 9.2324657e-10 | S92: =1000*(L92^2+M92^2)^0.5 -> 2.0364084 | T92: 3.7266e-10 | U92: -1.3498e-10 | V92: 8.3384e-10 | X92: 4.4097e-05 | Y92: -3.1324e-05 | Z92: 0.00028989
B93: 22379 | C93: =I93+F93 -> -0.0027322777 | D93: =J93+G93 -> 0.0010939348 | E93: =K93+H93 -> 0.0013774408 | F93: 8.3522e-05 | G93: -3.3065e-05 | H93: 0.00031884 | I93: =L93+T93 -> -0.0028157997 | J93: =M93+U93 -> 0.0011269998 | K93: =N93+V93 -> 0.0010586008 | L93: -0.0028158 | M93: 0.001127 | N93: 0.0010586 | O93: =L93-I93 -> -3.0971e-10 | P93: =M93-J93 -> 1.8009e-10 | Q93: =N93-K93 -> -7.6462e-10 | R93: =(O93^2+P93^2+Q93^2)^0.5 -> 8.4439116e-10 | S93: =1000*(L93^2+M93^2)^0.5 -> 3.032962 | T93: 3.0971e-10 | U93: -1.8009e-10 | V93: 7.6462e-10 | X93: 8.3522e-05 | Y93: -3.3065e-05 | Z93: 0.00031884
B94: 22463 | C94: =I94+F94 -> -0.0035967058 | D94: =J94+G94 -> 0.0014625879 | E94: =K94+H94 -> 0.0019277604 | F94: 9.9594e-05 | G94: -2.9112e-05 | H94: 0.00030506 | I94: =L94+T94 -> -0.0036962998 | J94: =M94+U94 -> 0.0014916999 | K94: =N94+V94 -> 0.0016227004 | L94: -0.0036963 | M94: 0.0014917 | N94: 0.0016227 | O94: =L94-I94 -> -1.5422e-10 | P94: =M94-J94 -> 1.2524e-10 | Q94: =N94-K94 -> -4.4412e-10 | R94: =(O94^2+P94^2+Q94^2)^0.5 -> 4.8653e-10 | S94: =1000*(L94^2+M94^2)^0.5 -> 3.9859506 | T94: 1.5422e-10 | U94: -1.2524e-10 | V94: 4.4412e-10 | X94: 9.9594e-05 | Y94: -2.9112e-05 | Z94: 0.00030506
B95: 22547 | C95: =I95+F95 -> -0.004522956 | D95: =J95+G95 -> 0.0018421199 | E95: =K95+H95 -> 0.0025691702 | F95: 4.6544e-05 | G95: -1.128e-05 | H95: 0.00018677 | I95: =L95+T95 -> -0.0045695 | J95: =M95+U95 -> 0.0018533999 | K95: =N95+V95 -> 0.0023824002 | L95: -0.0045695 | M95: 0.0018534 | N95: 0.0023824 | O95: =L95-I95 -> -3.7449e-11 | P95: =M95-J95 -> 5.9927e-11 | Q95: =N95-K95 -> -1.5615e-10 | R95: =(O95^2+P95^2+Q95^2)^0.5 -> 1.7139573e-10 | S95: =1000*(L95^2+M95^2)^0.5 -> 4.931067 | T95: 3.7449e-11 | U95: -5.9927e-11 | V95: 1.5615e-10 | X95: 4.6544e-05 | Y95: -1.128e-05 | Z95: 0.00018677
B96: 22762 | C96: =I96+F96 -> -0.004984274 | D96: =J96+G96 -> 0.0020258986 | E96: =K96+H96 -> 0.0028862891 | F96: 1.2226e-05 | G96: -4.4014e-06 | H96: 9.6389e-05 | I96: =L96+T96 -> -0.0049965 | J96: =M96+U96 -> 0.0020303 | K96: =N96+V96 -> 0.0027899001 | L96: -0.0049965 | M96: 0.0020303 | N96: 0.0027899 | O96: =L96-I96 -> 8.8928864e-14 | P96: =M96-J96 -> 3.2004e-11 | Q96: =N96-K96 -> -6.6201e-11 | R96: =(O96^2+P96^2+Q96^2)^0.5 -> 7.3531193e-11 | S96: =1000*(L96^2+M96^2)^0.5 -> 5.3932486 | T96: -8.8929e-14 | U96: -3.2004e-11 | V96: 6.6201e-11 | X96: 1.2226e-05 | Y96: -4.4014e-06 | Z96: 9.6389e-05
B97: 23332 | C97: =I97+F97 -> -0.0054465 | D97: =J97+G97 -> 0.0022167 | E97: =K97+H97 -> 0.0033857 | F97: 0 | G97: 0 | H97: 0 | I97: =L97+T97 -> -0.0054465 | J97: =M97+U97 -> 0.0022167 | K97: =N97+V97 -> 0.0033857 | L97: -0.0054465 | M97: 0.0022167 | N97: 0.0033857 | O97: =L97-I97 -> 0 | P97: =M97-J97 -> 0 | Q97: =N97-K97 -> 0 | R97: =(O97^2+P97^2+Q97^2)^0.5 -> 0 | S97: =1000*(L97^2+M97^2)^0.5 -> 5.8803164 | T97: 0 | U97: 0 | V97: 0 | X97: 0 | Y97: 0 | Z97: 0 | AA97: 0 | AC97: 0
B98: 23902 | C98: =I98+F98 -> -0.0004608524 | D98: =J98+G98 -> 0.00080048107 | E98: =K98+H98 -> 0.00080106009 | F98: -6.5227e-06 | G98: -6.7169e-05 | H98: 0.00031121 | I98: =L98+T98 -> -0.0004543297 | J98: =M98+U98 -> 0.00086765007 | K98: =N98+V98 -> 0.00048985009 | L98: -0.00045433 | M98: 0.00086765 | N98: 0.00048985 | O98: =L98-I98 -> -2.9999e-10 | P98: =M98-J98 -> -7.3685e-11 | Q98: =N98-K98 -> -9.1276e-11 | R98: =(O98^2+P98^2+Q98^2)^0.5 -> 3.221099e-10 | S98: =1000*(L98^2+M98^2)^0.5 -> 0.97940404 | T98: 2.9999e-10 | U98: 7.3685e-11 | V98: 9.1276e-11 | X98: -6.5227e-06 | Y98: -6.7169e-05 | Z98: 0.00031121
B99: 25397 | C99: =I99+F99 -> -0.00081676011 | D99: =J99+G99 -> 0.001663183 | E99: =K99+H99 -> 0.0011053501 | F99: 4.6296e-06 | G99: -9.0617e-05 | H99: 0.00034034 | I99: =L99+T99 -> -0.00082138971 | J99: =M99+U99 -> 0.0017538 | K99: =N99+V99 -> 0.00076501008 | L99: -0.00082139 | M99: 0.0017538 | N99: 0.00076501 | O99: =L99-I99 -> -2.8757e-10 | P99: =M99-J99 -> -4.6332e-11 | Q99: =N99-K99 -> -8.4601e-11 | R99: =(O99^2+P99^2+Q99^2)^0.5 -> 3.0331582e-10 | S99: =1000*(L99^2+M99^2)^0.5 -> 1.9366197 | T99: 2.8757e-10 | U99: 4.6332e-11 | V99: 8.4601e-11 | X99: 4.6296e-06 | Y99: -9.0617e-05 | Z99: 0.00034034
B100: 26537 | C100: =I100+F100 -> -0.0011802458 | D100: =J100+G100 -> 0.002571672 | E100: =K100+H100 -> 0.00149875 | F100: 2.0154e-05 | G100: -9.7128e-05 | H100: 0.00032225 | I100: =L100+T100 -> -0.0012003998 | J100: =M100+U100 -> 0.0026688 | K100: =N100+V100 -> 0.0011765 | L100: -0.0012004 | M100: 0.0026688 | N100: 0.0011765 | O100: =L100-I100 -> -2.0392e-10 | P100: =M100-J100 -> -4.0174e-11 | Q100: =N100-K100 -> -3.7383e-11 | R100: =(O100^2+P100^2+Q100^2)^0.5 -> 2.1117482e-10 | S100: =1000*(L100^2+M100^2)^0.5 -> 2.9263379 | T100: 2.0392e-10 | U100: 4.0174e-11 | V100: 3.7383e-11 | X100: 2.0154e-05 | Y100: -9.7128e-05 | Z100: 0.00032225
B101: 27677 | C101: =I101+F101 -> -0.0015294039 | D101: =J101+G101 -> 0.003453491 | E101: =K101+H101 -> 0.00197174 | F101: 2.2396e-05 | G101: -6.3709e-05 | H101: 0.00023514 | I101: =L101+T101 -> -0.0015517999 | J101: =M101+U101 -> 0.0035172 | K101: =N101+V101 -> 0.0017366 | L101: -0.0015518 | M101: 0.0035172 | N101: 0.0017366 | O101: =L101-I101 -> -9.5798e-11 | P101: =M101-J101 -> -4.2425e-11 | Q101: =N101-K101 -> 1.4834e-11 | R101: =(O101^2+P101^2+Q101^2)^0.5 -> 1.0581675e-10 | S101: =1000*(L101^2+M101^2)^0.5 -> 3.8443178 | T101: 9.5798e-11 | U101: 4.2425e-11 | V101: -1.4834e-11 | X101: 2.2396e-05 | Y101: -6.3709e-05 | Z101: 0.00023514
B102: 28817 | C102: =I102+F102 -> -0.0019116049 | D102: =J102+G102 -> 0.004396094 | E102: =K102+H102 -> 0.002554078 | F102: 9.8951e-06 | G102: -1.3606e-05 | H102: 7.5878e-05 | I102: =L102+T102 -> -0.0019215 | J102: =M102+U102 -> 0.0044097 | K102: =N102+V102 -> 0.0024782 | L102: -0.0019215 | M102: 0.0044097 | N102: 0.0024782 | O102: =L102-I102 -> -1.9368e-11 | P102: =M102-J102 -> -2.4812e-11 | Q102: =N102-K102 -> 2.1604e-11 | R102: =(O102^2+P102^2+Q102^2)^0.5 -> 3.8177055e-11 | S102: =1000*(L102^2+M102^2)^0.5 -> 4.8101576 | T102: 1.9368e-11 | U102: 2.4812e-11 | V102: -2.1604e-11 | X102: 9.8951e-06 | Y102: -1.3606e-05 | Z102: 7.5878e-05
B103: 29957 | C103: =I103+F103 -> -0.0020470494 | D103: =J103+G103 -> 0.0047304342 | E103: =K103+H103 -> 0.003039503 | F103: 9.5506e-06 | G103: -5.4658e-06 | H103: 3.6303e-05 | I103: =L103+T103 -> -0.0020566 | J103: =M103+U103 -> 0.0047359 | K103: =N103+V103 -> 0.0030032 | L103: -0.0020566 | M103: 0.0047359 | N103: 0.0030032 | O103: =L103-I103 -> -9.9948001e-12 | P103: =M103-J103 -> -2.017e-11 | Q103: =N103-K103 -> 1.1779e-11 | R103: =(O103^2+P103^2+Q103^2)^0.5 -> 2.5406097e-11 | S103: =1000*(L103^2+M103^2)^0.5 -> 5.1631727 | T103: 9.9948e-12 | U103: 2.017e-11 | V103: -1.1779e-11 | X103: 9.5506e-06 | Y103: -5.4658e-06 | Z103: 3.6303e-05
B104: 30527 | C104: =I104+F104 -> -0.0021318 | D104: =J104+G104 -> 0.0049174 | E104: =K104+H104 -> 0.0033857 | F104: 0 | G104: 0 | H104: 0 | I104: =L104+T104 -> -0.0021318 | J104: =M104+U104 -> 0.0049174 | K104: =N104+V104 -> 0.0033857 | L104: -0.0021318 | M104: 0.0049174 | N104: 0.0033857 | O104: =L104-I104 -> 0 | P104: =M104-J104 -> 0 | Q104: =N104-K104 -> 0 | R104: =(O104^2+P104^2+Q104^2)^0.5 -> 0 | S104: =1000*(L104^2+M104^2)^0.5 -> 5.3596076 | T104: 0 | U104: 0 | V104: 0 | X104: 0 | Y104: 0 | Z104: 0 | AA104: 0 | AC104: 0
B105: 31097 | C105: =I105+F105 -> 0.00023101126 | D105: =J105+G105 -> 0.00079044114 | E105: =K105+H105 -> 0.00083560973 | F105: -3.1689e-05 | G105: -7.2979e-05 | H105: 0.0003289 | I105: =L105+T105 -> 0.00026270026 | J105: =M105+U105 -> 0.00086342014 | K105: =N105+V105 -> 0.00050670973 | L105: 0.0002627 | M105: 0.00086342 | N105: 0.00050671 | O105: =L105-I105 -> -2.5736e-10 | P105: =M105-J105 -> -1.3647e-10 | Q105: =N105-K105 -> 2.7419e-10 | R105: =(O105^2+P105^2+Q105^2)^0.5 -> 4.0004798e-10 | S105: =1000*(L105^2+M105^2)^0.5 -> 0.90249952 | T105: 2.5736e-10 | U105: 1.3647e-10 | V105: -2.7419e-10 | X105: -3.1689e-05 | Y105: -7.2979e-05 | Z105: 0.0003289
B106: 32592 | C106: =I106+F106 -> 0.00058126023 | D106: =J106+G106 -> 0.0016440141 | E106: =K106+H106 -> 0.0011675896 | F106: -4.488e-05 | G106: -9.6886e-05 | H106: 0.00037048 | I106: =L106+T106 -> 0.00062614023 | J106: =M106+U106 -> 0.0017409001 | K106: =N106+V106 -> 0.00079710959 | L106: 0.00062614 | M106: 0.0017409 | N106: 0.00079711 | O106: =L106-I106 -> -2.263e-10 | P106: =M106-J106 -> -1.226e-10 | Q106: =N106-K106 -> 4.12e-10 | R106: =(O106^2+P106^2+Q106^2)^0.5 -> 4.8578437e-10 | S106: =1000*(L106^2+M106^2)^0.5 -> 1.8500768 | T106: 2.263e-10 | U106: 1.226e-10 | V106: -4.12e-10 | X106: -4.488e-05 | Y106: -9.6886e-05 | Z106: 0.00037048
B107: 33732 | C107: =I107+F107 -> 0.00094986913 | D107: =J107+G107 -> 0.0025464671 | E107: =K107+H107 -> 0.0015900097 | F107: -4.7771e-05 | G107: -9.1233e-05 | H107: 0.00034301 | I107: =L107+T107 -> 0.00099764013 | J107: =M107+U107 -> 0.0026377001 | K107: =N107+V107 -> 0.0012469997 | L107: 0.00099764 | M107: 0.0026377 | N107: 0.001247 | O107: =L107-I107 -> -1.305e-10 | P107: =M107-J107 -> -8.1966e-11 | Q107: =N107-K107 -> 3.4008e-10 | R107: =(O107^2+P107^2+Q107^2)^0.5 -> 3.7336722e-10 | S107: =1000*(L107^2+M107^2)^0.5 -> 2.8200615 | T107: 1.305e-10 | U107: 8.1966e-11 | V107: -3.4008e-10 | X107: -4.7771e-05 | Y107: -9.1233e-05 | Z107: 0.00034301
B108: 34872 | C108: =I108+F108 -> 0.0013245501 | D108: =J108+G108 -> 0.003448058 | E108: =K108+H108 -> 0.0019723798 | F108: -3.225e-05 | G108: -5.6842e-05 | H108: 0.00021918 | I108: =L108+T108 -> 0.0013568001 | J108: =M108+U108 -> 0.0035049 | K108: =N108+V108 -> 0.0017531998 | L108: 0.0013568 | M108: 0.0035049 | N108: 0.0017532 | O108: =L108-I108 -> -6.1119e-11 | P108: =M108-J108 -> 1.6616e-11 | Q108: =N108-K108 -> 1.8369e-10 | R108: =(O108^2+P108^2+Q108^2)^0.5 -> 1.9430296e-10 | S108: =1000*(L108^2+M108^2)^0.5 -> 3.7583547 | T108: 6.1119e-11 | U108: -1.6616e-11 | V108: -1.8369e-10 | X108: -3.225e-05 | Y108: -5.6842e-05 | Z108: 0.00021918
...

Sheet Inverse Geo Difference G3
A1: FREE STRESS GEOMETRY DIFFERENCE | E1: =1000000*MAX(E3:E59) -> 41.788235 | F1: DIFFERENCE | J1: AVERAGE | K1: STANDARD DEVIATION
A2: POINT | B2: X (m) | C2: Y (m) | D2: Z (m) | E2: ERROR (m) | F2: RADIUS (mm) | G2: ERROR (μm) | J2: =AVERAGE(G:G) -> 13.177063 | K2: =_xlfn.STDEV.S((G:G)) -> 11.346783
A3: ='Displacement method G3'!B3 -> 257 | B3: ='Displacement method G3'!C3-'Pre-stress method G3'!C3 -> 3.4639424e-06 | C3: ='Displacement method G3'!D3-'Pre-stress method G3'!D3 -> 7.7776563e-06 | D3: ='Displacement method G3'!E3-'Pre-stress method G3'!E3 -> 9.892113e-06 | E3: =(B3^2+C3^2+D3^2)^0.5 -> 1.3051618e-05 | F3: ='Displacement method G3'!S3 -> 0.96571676 | G3: =E3*1000000 -> 13.051618
A4: ='Displacement method G3'!B4 -> 265 | B4: ='Displacement method G3'!C4-'Pre-stress method G3'!C4 -> 3.576363e-06 | C4: ='Displacement method G3'!D4-'Pre-stress method G3'!D4 -> 9.4836112e-06 | D4: ='Displacement method G3'!E4-'Pre-stress method G3'!E4 -> 5.9931796e-06 | E4: =(B4^2+C4^2+D4^2)^0.5 -> 1.1774865e-05 | F4: ='Displacement method G3'!S4 -> 0.094944 | G4: =E4*1000000 -> 11.774865
A5: ='Displacement method G3'!B5 -> 385 | B5: ='Displacement method G3'!C5-'Pre-stress method G3'!C5 -> -1.616158e-07 | C5: ='Displacement method G3'!D5-'Pre-stress method G3'!D5 -> 8.2959609e-06 | D5: ='Displacement method G3'!E5-'Pre-stress method G3'!E5 -> 2.5506798e-05 | E5: =(B5^2+C5^2+D5^2)^0.5 -> 2.6822488e-05 | F5: ='Displacement method G3'!S5 -> 1.0319546 | G5: =E5*1000000 -> 26.822488
A6: ='Displacement method G3'!B6 -> 1837 | B6: ='Displacement method G3'!C6-'Pre-stress method G3'!C6 -> 5.4039905e-06 | C6: ='Displacement method G3'!D6-'Pre-stress method G3'!D6 -> 5.1889443e-06 | D6: ='Displacement method G3'!E6-'Pre-stress method G3'!E6 -> 6.2999487e-06 | E6: =(B6^2+C6^2+D6^2)^0.5 -> 9.788647e-06 | F6: ='Displacement method G3'!S6 -> 1.9985354 | G6: =E6*1000000 -> 9.788647
A7: ='Displacement method G3'!B7 -> 1909 | B7: ='Displacement method G3'!C7-'Pre-stress method G3'!C7 -> -8.3126889e-07 | C7: ='Displacement method G3'!D7-'Pre-stress method G3'!D7 -> 7.3038614e-06 | D7: ='Displacement method G3'!E7-'Pre-stress method G3'!E7 -> 1.8489688e-05 | E7: =(B7^2+C7^2+D7^2)^0.5 -> 1.9897385e-05 | F7: ='Displacement method G3'!S7 -> 2.0714269 | G7: =E7*1000000 -> 19.897385
A8: ='Displacement method G3'!B8 -> 3061 | B8: ='Displacement method G3'!C8-'Pre-stress method G3'!C8 -> 1.0628157e-05 | C8: ='Displacement method G3'!D8-'Pre-stress method G3'!D8 -> 2.5488812e-06 | D8: ='Displacement method G3'!E8-'Pre-stress method G3'!E8 -> -6.7902764e-06 | E8: =(B8^2+C8^2+D8^2)^0.5 -> 1.2867104e-05 | F8: ='Displacement method G3'!S8 -> 3.0046195 | G8: =E8*1000000 -> 12.867104
A9: ='Displacement method G3'!B9 -> 3133 | B9: ='Displacement method G3'!C9-'Pre-stress method G3'!C9 -> 1.0640781e-06 | C9: ='Displacement method G3'!D9-'Pre-stress method G3'!D9 -> -1.8932257e-06 | D9: ='Displacement method G3'!E9-'Pre-stress method G3'!E9 -> -2.0802745e-06 | E9: =(B9^2+C9^2+D9^2)^0.5 -> 3.0073423e-06 | F9: ='Displacement method G3'!S9 -> 3.0521348 | G9: =E9*1000000 -> 3.0073423
A10: ='Displacement method G3'!B10 -> 4285 | B10: ='Displacement method G3'!C10-'Pre-stress method G3'!C10 -> 1.1860227e-05 | C10: ='Displacement method G3'!D10-'Pre-stress method G3'!D10 -> 6.1785479e-07 | D10: ='Displacement method G3'!E10-'Pre-stress method G3'!E10 -> -1.6440262e-05 | E10: =(B10^2+C10^2+D10^2)^0.5 -> 2.0281247e-05 | F10: ='Displacement method G3'!S10 -> 4.0361964 | G10: =E10*1000000 -> 20.281247
A11: ='Displacement method G3'!B11 -> 4357 | B11: ='Displacement method G3'!C11-'Pre-stress method G3'!C11 -> 2.1500532e-06 | C11: ='Displacement method G3'!D11-'Pre-stress method G3'!D11 -> -5.9121605e-06 | D11: ='Displacement method G3'!E11-'Pre-stress method G3'!E11 -> -1.0840145e-05 | E11: =(B11^2+C11^2+D11^2)^0.5 -> 1.253336e-05 | F11: ='Displacement method G3'!S11 -> 4.0332088 | G11: =E11*1000000 -> 12.53336
A12: ='Displacement method G3'!B12 -> 5509 | B12: ='Displacement method G3'!C12-'Pre-stress method G3'!C12 -> 4.6301257e-06 | C12: ='Displacement method G3'!D12-'Pre-stress method G3'!D12 -> 1.7069033e-06 | D12: ='Displacement method G3'!E12-'Pre-stress method G3'!E12 -> -9.9301093e-06 | E12: =(B12^2+C12^2+D12^2)^0.5 -> 1.1088672e-05 | F12: ='Displacement method G3'!S12 -> 5.0257894 | G12: =E12*1000000 -> 11.088672
A13: ='Displacement method G3'!B13 -> 5581 | B13: ='Displacement method G3'!C13-'Pre-stress method G3'!C13 -> 1.0860224e-06 | C13: ='Displacement method G3'!D13-'Pre-stress method G3'!D13 -> -2.2990517e-06 | D13: ='Displacement method G3'!E13-'Pre-stress method G3'!E13 -> -4.8120375e-06 | E13: =(B13^2+C13^2+D13^2)^0.5 -> 5.4424984e-06 | F13: ='Displacement method G3'!S13 -> 4.9606473 | G13: =E13*1000000 -> 5.4424984
A14: ='Displacement method G3'!B14 -> 6637 | B14: ='Displacement method G3'!C14-'Pre-stress method G3'!C14 -> 7.45057e-07 | C14: ='Displacement method G3'!D14-'Pre-stress method G3'!D14 -> 2.0579514e-06 | D14: ='Displacement method G3'!E14-'Pre-stress method G3'!E14 -> -3.334036e-06 | E14: =(B14^2+C14^2+D14^2)^0.5 -> 3.9882415e-06 | F14: ='Displacement method G3'!S14 -> 5.545855 | G14: =E14*1000000 -> 3.9882415
... A59: ='Displacement method G3'!B59 -> 45007 | B59: ='Displacement method G3'!C59-'Pre-stress method G3'!C59 -> 0 | C59: ='Displacement method G3'!D59-'Pre-stress method G3'!D59 -> 0 | D59: ='Displacement method G3'!E59-'Pre-stress method G3'!E59 -> 0 | E59: =(B59^2+C59^2+D59^2)^0.5 -> 0 | F59: ='Displacement method G3'!S59 -> 6.176029 | G59: =E59*1000000 -> 0
A60: FREE STRESS GEOMETRY DIFFERENCE | E60: =1000000*MAX(E62:E118) -> 43.541902 | F60: DIFFERENCE
A61: POINT | B61: X (m) | C61: Y (m) | D61: Z (m) | E61: ERROR (m) | F61: RADIUS (mm) | G61: ERROR (μm)
A62: ='Displacement method G3'!B62 -> 1 | B62: ='Displacement method G3'!C62-'Pre-stress method G3'!C62 -> 3.9358585e-06 | C62: ='Displacement method G3'!D62-'Pre-stress method G3'!D62 -> 1.1108907e-05 | D62: ='Displacement method G3'!E62-'Pre-stress method G3'!E62 -> 4.9398855e-06 | E62: =(B62^2+C62^2+D62^2)^0.5 -> 1.2778938e-05 | F62: ='Displacement method G3'!S62 -> 0.094944 | G62: =E62*1000000 -> 12.778938
A63: ='Displacement method G3'!B63 -> 2 | B63: ='Displacement method G3'!C63-'Pre-stress method G3'!C63 -> 3.2858527e-06 | C63: ='Displacement method G3'!D63-'Pre-stress method G3'!D63 -> 8.9818089e-06 | D63: ='Displacement method G3'!E63-'Pre-stress method G3'!E63 -> 8.4701238e-06 | E63: =(B63^2+C63^2+D63^2)^0.5 -> 1.2775473e-05 | F63: ='Displacement method G3'!S63 -> 0.87925856 | G63: =E63*1000000 -> 12.775473
A64: ='Displacement method G3'!B64 -> 22 | B64: ='Displacement method G3'!C64-'Pre-stress method G3'!C64 -> -1.5827855e-07 | C64: ='Displacement method G3'!D64-'Pre-stress method G3'!D64 -> 7.839663e-06 | D64: ='Displacement method G3'!E64-'Pre-stress method G3'!E64 -> 2.4379802e-05 | E64: =(B64^2+C64^2+D64^2)^0.5 -> 2.5609766e-05 | F64: ='Displacement method G3'!S64 -> 0.95131055 | G64: =E64*1000000 -> 25.609766
A65: ='Displacement method G3'!B65 -> 1645 | B65: ='Displacement method G3'!C65-'Pre-stress method G3'!C65 -> 5.8049922e-06 | C65: ='Displacement method G3'!D65-'Pre-stress method G3'!D65 -> 4.5284617e-06 | D65: ='Displacement method G3'!E65-'Pre-stress method G3'!E65 -> 5.6800009e-06 | E65: =(B65^2+C65^2+D65^2)^0.5 -> 9.29878e-06 | F65: ='Displacement method G3'!S65 -> 1.8709382 | G65: =E65*1000000 -> 9.29878
