Workbook

Sheet Displacement method G1
B1: Free Stress Geometry | F1: Displacement PIO 16 mmHg (2133.16 Pa) | I1: Estimated Physiological Geometry PIO 16 mmHg ( 2133.16 Pa) | L1: Measured Physiological Geometry PIO 16 mmHg ( 2133.16 Pa) | O1: Difference | R1: =MAX(R3:R59) -> 1.1949059e-07
B2: POINT | C2: X (m) | D2: Y (m) | E2: Z (m) | F2: dx (mm) | G2: dy(mm) | H2: dz (mm) | I2: X (m) | J2: Y (m) | K2: Z (m) | L2: X (m) | M2: Y (m) | N2: Z (m) | O2: X (m) | P2: Y (m) | Q2: Z (m) | R2: ERROR (m) | S2: RADIUS (mm)
A3: ANTERIOR FACE | B3: 2 | C3: 1.7726e-06 | D3: -6.5614e-07 | E3: 0.00021357 | F3: -1.7725e-06 | G3: 6.5613e-07 | H3: -0.0002132 | I3: =C3+F3 -> 1e-10 | J3: =D3+G3 -> -1e-11 | K3: =E3+H3 -> 3.7e-07 | L3: 6.6243e-13 | M3: -2.7439e-13 | N3: 3.7158e-07 | O3: =L3-I3 -> -9.933757e-11 | P3: =M3-J3 -> 9.72561e-12 | Q3: =N3-K3 -> 1.58e-09 | R3: =(O3^2+P3^2+Q3^2)^0.5 -> 1.5831496e-09 | S3: =1000*(L3^2+M3^2)^0.5 -> 7.1701003e-10
B4: 10 | C4: 0.00094254 | D4: -0.00038993 | E4: 0.00029234 | F4: 1.6767e-05 | G4: -7.426e-06 | H4: -0.00021553 | I4: =C4+F4 -> 0.000959307 | J4: =D4+G4 -> -0.000397356 | K4: =E4+H4 -> 7.681e-05 | L4: 0.00095931 | M4: -0.00039736 | N4: 7.6811e-05 | O4: =L4-I4 -> 3e-09 | P4: =M4-J4 -> -4e-09 | Q4: =N4-K4 -> 1e-09 | R4: =(O4^2+P4^2+Q4^2)^0.5 -> 5.0990195e-09 | S4: =1000*(L4^2+M4^2)^0.5 -> 1.03835
B5: 150 | C5: 0.00094245 | D5: 0.00038861 | E5: 0.00029277 | F5: 1.7019e-05 | G5: 8.8175e-06 | H5: -0.00021702 | I5: =C5+F5 -> 0.000959469 | J5: =D5+G5 -> 0.0003974275 | K5: =E5+H5 -> 7.575e-05 | L5: 0.00095946 | M5: 0.00039742 | N5: 7.5749e-05 | O5: =L5-I5 -> -9e-09 | P5: =M5-J5 -> -7.5e-09 | Q5: =N5-K5 -> -1e-09 | R5: =(O5^2+P5^2+Q5^2)^0.5 -> 1.1757976e-08 | S5: =1000*(L5^2+M5^2)^0.5 -> 1.0385115
B6: 1657 | C6: 0.0018552 | D6: -0.00076822 | E6: 0.00052038 | F6: 3.7561e-05 | G6: -1.5804e-05 | H6: -0.00021936 | I6: =C6+F6 -> 0.001892761 | J6: =D6+G6 -> -0.000784024 | K6: =E6+H6 -> 0.00030102 | L6: 0.0018928 | M6: -0.00078402 | N6: 0.00030102 | O6: =L6-I6 -> 3.9e-08 | P6: =M6-J6 -> 4e-09 | Q6: =N6-K6 -> 0 | R6: =(O6^2+P6^2+Q6^2)^0.5 -> 3.9204592e-08 | S6: =1000*(L6^2+M6^2)^0.5 -> 2.0487506
B7: 1741 | C7: 0.0018559 | D7: 0.00076763 | E7: 0.00051885 | F7: 3.7981e-05 | G7: 1.683e-05 | H7: -0.0002216 | I7: =C7+F7 -> 0.001893881 | J7: =D7+G7 -> 0.00078446 | K7: =E7+H7 -> 0.00029725 | L7: 0.0018939 | M7: 0.00078446 | N7: 0.00029725 | O7: =L7-I7 -> 1.9e-08 | P7: =M7-J7 -> 0 | Q7: =N7-K7 -> 0 | R7: =(O7^2+P7^2+Q7^2)^0.5 -> 1.9e-08 | S7: =1000*(L7^2+M7^2)^0.5 -> 2.0499353
B8: 2881 | C8: 0.0027935 | D8: -0.0011581 | E8: 0.00091569 | F8: 6.2957e-05 | G8: -2.5024e-05 | H8: -0.00021285 | I8: =C8+F8 -> 0.002856457 | J8: =D8+G8 -> -0.001183124 | K8: =E8+H8 -> 0.00070284 | L8: 0.0028564 | M8: -0.0011832 | N8: 0.00070284 | O8: =L8-I8 -> -5.7e-08 | P8: =M8-J8 -> -7.6e-08 | Q8: =N8-K8 -> 0 | R8: =(O8^2+P8^2+Q8^2)^0.5 -> 9.5e-08 | S8: =1000*(L8^2+M8^2)^0.5 -> 3.0917605
B9: 2965 | C9: 0.002798 | D9: 0.0011595 | E9: 0.00090698 | F9: 6.3026e-05 | G9: 2.5548e-05 | H9: -0.00021434 | I9: =C9+F9 -> 0.002861026 | J9: =D9+G9 -> 0.001185048 | K9: =E9+H9 -> 0.00069264 | L9: 0.002861 | M9: 0.0011851 | N9: 0.00069264 | O9: =L9-I9 -> -2.6e-08 | P9: =M9-J9 -> 5.2e-08 | Q9: =N9-K9 -> 0 | R9: =(O9^2+P9^2+Q9^2)^0.5 -> 5.8137767e-08 | S9: =1000*(L9^2+M9^2)^0.5 -> 3.0967375
B10: 4105 | C10: 0.0037496 | D10: -0.0015551 | E10: 0.0014912 | F10: 8.1246e-05 | G10: -3.1698e-05 | H10: -0.00017625 | I10: =C10+F10 -> 0.003830846 | J10: =D10+G10 -> -0.001586798 | K10: =E10+H10 -> 0.00131495 | L10: 0.0038308 | M10: -0.0015868 | N10: 0.0013149 | O10: =L10-I10 -> -4.6e-08 | P10: =M10-J10 -> -2e-09 | Q10: =N10-K10 -> -5e-08 | R10: =(O10^2+P10^2+Q10^2)^0.5 -> 6.7970582e-08 | S10: =1000*(L10^2+M10^2)^0.5 -> 4.1464398
B11: 4189 | C11: 0.0037626 | D11: 0.0015599 | E11: 0.0014728 | F11: 7.9603e-05 | G11: 3.1572e-05 | H11: -0.00017588 | I11: =C11+F11 -> 0.003842203 | J11: =D11+G11 -> 0.001591472 | K11: =E11+H11 -> 0.00129692 | L11: 0.0038422 | M11: 0.0015915 | N11: 0.0012969 | O11: =L11-I11 -> -3e-09 | P11: =M11-J11 -> 2.8e-08 | Q11: =N11-K11 -> -2e-08 | R11: =(O11^2+P11^2+Q11^2)^0.5 -> 3.4539832e-08 | S11: =1000*(L11^2+M11^2)^0.5 -> 4.1587706
B12: 5329 | C12: 0.0047624 | D12: -0.0019724 | E12: 0.002276 | F12: 6.357e-05 | G12: -2.6576e-05 | H12: -8.8042e-05 | I12: =C12+F12 -> 0.00482597 | J12: =D12+G12 -> -0.001998976 | K12: =E12+H12 -> 0.002187958 | L12: 0.004826 | M12: -0.001999 | N12: 0.002188 | O12: =L12-I12 -> 3e-08 | P12: =M12-J12 -> -2.4e-08 | Q12: =N12-K12 -> 4.2e-08 | R12: =(O12^2+P12^2+Q12^2)^0.5 -> 5.6920998e-08 | S12: =1000*(L12^2+M12^2)^0.5 -> 5.2236268
B13: 5413 | C13: 0.0047736 | D13: 0.0019762 | E13: 0.0022657 | F13: 6.1781e-05 | G13: 2.6739e-05 | H13: -8.8881e-05 | I13: =C13+F13 -> 0.004835381 | J13: =D13+G13 -> 0.002002939 | K13: =E13+H13 -> 0.002176819 | L13: 0.0048354 | M13: 0.0020029 | N13: 0.0021768 | O13: =L13-I13 -> 1.9e-08 | P13: =M13-J13 -> -3.9e-08 | Q13: =N13-K13 -> -1.9e-08 | R13: =(O13^2+P13^2+Q13^2)^0.5 -> 4.7360321e-08 | S13: =1000*(L13^2+M13^2)^0.5 -> 5.2338037
B14: 6547 | C14: 0.0052989 | D14: -0.0021935 | E14: 0.002772 | F14: 3.0369e-05 | G14: -1.3965e-05 | H14: -2.6629e-05 | I14: =C14+F14 -> 0.005329269 | J14: =D14+G14 -> -0.002207465 | K14: =E14+H14 -> 0.002745371 | L14: 0.0053293 | M14: -0.0022075 | N14: 0.0027454 | O14: =L14-I14 -> 3.1e-08 | P14: =M14-J14 -> -3.5e-08 | Q14: =N14-K14 -> 2.9e-08 | R14: =(O14^2+P14^2+Q14^2)^0.5 -> 5.5018179e-08 | S14: =1000*(L14^2+M14^2)^0.5 -> 5.7684049
B15: 6589 | C15: 0.005312 | D15: 0.0021979 | E15: 0.0027628 | F15: 2.8707e-05 | G15: 1.4247e-05 | H15: -2.6926e-05 | I15: =C15+F15 -> 0.005340707 | J15: =D15+G15 -> 0.002212147 | K15: =E15+H15 -> 0.002735874 | L15: 0.0053407 | M15: 0.0022122 | N15: 0.0027359 | O15: =L15-I15 -> -7e-09 | P15: =M15-J15 -> 5.3e-08 | Q15: =N15-K15 -> 2.6e-08 | R15: =(O15^2+P15^2+Q15^2)^0.5 -> 5.9447456e-08 | S15: =1000*(L15^2+M15^2)^0.5 -> 5.7807357
... B59: 48863 | C59: 0.0024278 | D59: 0.0058613 | E59: 0.0031501 | F59: 0 | G59: 0 | H59: 0 | I59: =C59+F59 -> 0.0024278 | J59: =D59+G59 -> 0.0058613 | K59: =E59+H59 -> 0.0031501 | L59: 0.0024278 | M59: 0.0058613 | N59: 0.0031501 | O59: =L59-I59 -> 0 | P59: =M59-J59 -> 0 | Q59: =N59-K59 -> 0 | R59: =(O59^2+P59^2+Q59^2)^0.5 -> 0 | S59: =1000*(L59^2+M59^2)^0.5 -> 6.3442139
B60: Free Stress Geometry | F60: Displacement PIO 16 mmHg (2133.16 Pa) | I60: Estimated Physiological Geometry PIO 16 mmHg ( 2133.16 Pa) | L60: Measured Physiological Geometry PIO 16 mmHg ( 2133.16 Pa) | O60: Difference | R60: =MAX(R62:R118) -> 1.1552056e-07
B61: POINT | C61: X (m) | D61: Y (m) | E61: Z (m) | F61: dx (mm) | G61: dy(mm) | H61: dz (mm) | I61: X (m) | J61: Y (m) | K61: Z (m) | L61: X (m) | M61: Y (m) | N61: Z (m) | O61: X (m) | P61: Y (m) | Q61: Z (m) | R61: ERROR (m) | S61: RADIUS (mm)
A62: POSTERIOR FACE | B62: 1 | C62: 1.6852e-06 | D62: -1.864e-06 | E62: 0.00071411 | F62: -1.6852e-06 | G62: 1.864e-06 | H62: -0.00023531 | I62: =C62+F62 -> 0 | J62: =D62+G62 -> 0 | K62: =E62+H62 -> 0.0004788 | L62: 6.6243e-13 | M62: -2.7439e-13 | N62: 0.0004788 | O62: =L62-I62 -> 6.6243e-13 | P62: =M62-J62 -> -2.7439e-13 | Q62: =N62-K62 -> 0 | R62: =(O62^2+P62^2+Q62^2)^0.5 -> 7.1701003e-13 | S62: =1000*(L62^2+M62^2)^0.5 -> 7.1701003e-10
B63: 30 | C63: 0.00086845 | D63: -0.00036087 | E63: 0.00078175 | F63: 2.2479e-05 | G63: -8.1612e-06 | H63: -0.00023692 | I63: =C63+F63 -> 0.000890929 | J63: =D63+G63 -> -0.0003690312 | K63: =E63+H63 -> 0.00054483 | L63: 0.00089092 | M63: -0.00036903 | N63: 0.00054483 | O63: =L63-I63 -> -9e-09 | P63: =M63-J63 -> 1.2e-09 | Q63: =N63-K63 -> 0 | R63: =(O63^2+P63^2+Q63^2)^0.5 -> 9.0796476e-09 | S63: =1000*(L63^2+M63^2)^0.5 -> 0.96432442
B64: 170 | C64: 0.0008678 | D64: 0.00035692 | E64: 0.00078725 | F64: 2.2541e-05 | G64: 1.1873e-05 | H64: -0.00023842 | I64: =C64+F64 -> 0.000890341 | J64: =D64+G64 -> 0.000368793 | K64: =E64+H64 -> 0.00054883 | L64: 0.00089034 | M64: 0.00036879 | N64: 0.00054882 | O64: =L64-I64 -> -1e-09 | P64: =M64-J64 -> -3e-09 | Q64: =N64-K64 -> -1e-08 | R64: =(O64^2+P64^2+Q64^2)^0.5 -> 1.0488088e-08 | S64: =1000*(L64^2+M64^2)^0.5 -> 0.96369673
B65: 1645 | C65: 0.0017176 | D65: -0.00071287 | E65: 0.00099734 | F65: 4.6777e-05 | G65: -1.7964e-05 | H65: -0.0002405 | I65: =C65+F65 -> 0.001764377 | J65: =D65+G65 -> -0.000730834 | K65: =E65+H65 -> 0.00075684 | L65: 0.0017644 | M65: -0.00073083 | N65: 0.00075684 | O65: =L65-I65 -> 2.3e-08 | P65: =M65-J65 -> 4e-09 | Q65: =N65-K65 -> 0 | R65: =(O65^2+P65^2+Q65^2)^0.5 -> 2.3345235e-08 | S65: =1000*(L65^2+M65^2)^0.5 -> 1.9097696
B66: 1729 | C66: 0.001716 | D66: 0.00070891 | E66: 0.0010062 | F66: 4.6583e-05 | G66: 2.1173e-05 | H66: -0.00024293 | I66: =C66+F66 -> 0.001762583 | J66: =D66+G66 -> 0.000730083 | K66: =E66+H66 -> 0.00076327 | L66: 0.0017626 | M66: 0.00073008 | N66: 0.00076327 | O66: =L66-I66 -> 1.7e-08 | P66: =M66-J66 -> -3e-09 | Q66: =N66-K66 -> 0 | R66: =(O66^2+P66^2+Q66^2)^0.5 -> 1.7262677e-08 | S66: =1000*(L66^2+M66^2)^0.5 -> 1.9078196
B67: 2869 | C67: 0.002588 | D67: -0.0010737 | E67: 0.0013813 | F67: 7.0158e-05 | G67: -2.7358e-05 | H67: -0.00023644 | I67: =C67+F67 -> 0.002658158 | J67: =D67+G67 -> -0.001101058 | K67: =E67+H67 -> 0.00114486 | L67: 0.0026582 | M67: -0.001101 | N67: 0.0011449 | O67: =L67-I67 -> 4.2e-08 | P67: =M67-J67 -> 5.8e-08 | Q67: =N67-K67 -> 4e-08 | R67: =(O67^2+P67^2+Q67^2)^0.5 -> 8.2024387e-08 | S67: =1000*(L67^2+M67^2)^0.5 -> 2.877191
B68: 2953 | C68: 0.0025852 | D68: 0.0010695 | E68: 0.0013936 | F68: 6.8577e-05 | G68: 2.9692e-05 | H68: -0.00023894 | I68: =C68+F68 -> 0.002653777 | J68: =D68+G68 -> 0.001099192 | K68: =E68+H68 -> 0.00115466 | L68: 0.0026538 | M68: 0.0010992 | N68: 0.0011546 | O68: =L68-I68 -> 2.3e-08 | P68: =M68-J68 -> 8e-09 | Q68: =N68-K68 -> -6e-08 | R68: =(O68^2+P68^2+Q68^2)^0.5 -> 6.4753378e-08 | S68: =1000*(L68^2+M68^2)^0.5 -> 2.8724371
B69: 4093 | C69: 0.0034687 | D69: -0.0014383 | E69: 0.0019708 | F69: 7.8235e-05 | G69: -3.0844e-05 | H69: -0.00020807 | I69: =C69+F69 -> 0.003546935 | J69: =D69+G69 -> -0.001469144 | K69: =E69+H69 -> 0.00176273 | L69: 0.0035469 | M69: -0.0014692 | N69: 0.0017627 | O69: =L69-I69 -> -3.5e-08 | P69: =M69-J69 -> -5.6e-08 | Q69: =N69-K69 -> -3e-08 | R69: =(O69^2+P69^2+Q69^2)^0.5 -> 7.2532751e-08 | S69: =1000*(L69^2+M69^2)^0.5 -> 3.8391468
B70: 4177 | C70: 0.0034692 | D70: 0.0014361 | E70: 0.0019767 | F70: 7.4795e-05 | G70: 3.1832e-05 | H70: -0.00020936 | I70: =C70+F70 -> 0.003543995 | J70: =D70+G70 -> 0.001467932 | K70: =E70+H70 -> 0.00176734 | L70: 0.003544 | M70: 0.001468 | N70: 0.0017673 | O70: =L70-I70 -> 5e-09 | P70: =M70-J70 -> 6.8e-08 | Q70: =N70-K70 -> -4e-08 | R70: =(O70^2+P70^2+Q70^2)^0.5 -> 7.9050617e-08 | S70: =1000*(L70^2+M70^2)^0.5 -> 3.8360083
B71: 5317 | C71: 0.0043591 | D71: -0.0018064 | E71: 0.0028264 | F71: 4.2704e-05 | G71: -1.6914e-05 | H71: -0.00013609 | I71: =C71+F71 -> 0.004401804 | J71: =D71+G71 -> -0.001823314 | K71: =E71+H71 -> 0.00269031 | L71: 0.0044018 | M71: -0.0018233 | N71: 0.0026903 | O71: =L71-I71 -> -4e-09 | P71: =M71-J71 -> 1.4e-08 | Q71: =N71-K71 -> -1e-08 | R71: =(O71^2+P71^2+Q71^2)^0.5 -> 1.7663522e-08 | S71: =1000*(L71^2+M71^2)^0.5 -> 4.7644796
B72: 5401 | C72: 0.0043721 | D72: 0.0018101 | E72: 0.0028152 | F72: 4.0442e-05 | G72: 1.7652e-05 | H72: -0.00013763 | I72: =C72+F72 -> 0.004412542 | J72: =D72+G72 -> 0.001827752 | K72: =E72+H72 -> 0.00267757 | L72: 0.0044125 | M72: 0.0018277 | N72: 0.0026776 | O72: =L72-I72 -> -4.2e-08 | P72: =M72-J72 -> -5.2e-08 | Q72: =N72-K72 -> 3e-08 | R72: =(O72^2+P72^2+Q72^2)^0.5 -> 7.3266636e-08 | S72: =1000*(L72^2+M72^2)^0.5 -> 4.7760489
B73: 6541 | C73: 0.0047798 | D73: -0.0019782 | E73: 0.0032733 | F73: 1.4476e-05 | G73: -7.659e-06 | H73: -8.4349e-05 | I73: =C73+F73 -> 0.004794276 | J73: =D73+G73 -> -0.001985859 | K73: =E73+H73 -> 0.003188951 | L73: 0.0047943 | M73: -0.0019859 | N73: 0.0031889 | O73: =L73-I73 -> 2.4e-08 | P73: =M73-J73 -> -4.1e-08 | Q73: =N73-K73 -> -5.1e-08 | R73: =(O73^2+P73^2+Q73^2)^0.5 -> 6.9699354e-08 | S73: =1000*(L73^2+M73^2)^0.5 -> 5.1893267
B74: 6583 | C74: 0.0048146 | D74: 0.0019911 | E74: 0.0032451 | F74: 1.2878e-05 | G74: 8.5092e-06 | H74: -8.3668e-05 | I74: =C74+F74 -> 0.004827478 | J74: =D74+G74 -> 0.0019996092 | K74: =E74+H74 -> 0.003161432 | L74: 0.0048275 | M74: 0.0019996 | N74: 0.0031614 | O74: =L74-I74 -> 2.2e-08 | P74: =M74-J74 -> -9.2e-09 | Q74: =N74-K74 -> -3.2e-08 | R74: =(O74^2+P74^2+Q74^2)^0.5 -> 3.9907894e-08 | S74: =1000*(L74^2+M74^2)^0.5 -> 5.2252422
B75: 7153 | C75: 0.0052913 | D75: -0.0021917 | E75: 0.0039 | F75: 0 | G75: 0 | H75: 0 | I75: =C75+F75 -> 0.0052913 | J75: =D75+G75 -> -0.0021917 | K75: =E75+H75 -> 0.0039 | L75: 0.0052913 | M75: -0.0021917 | N75: 0.0039 | O75: =L75-I75 -> 0 | P75: =M75-J75 -> 0 | Q75: =N75-K75 -> 0 | R75: =(O75^2+P75^2+Q75^2)^0.5 -> 0 | S75: =1000*(L75^2+M75^2)^0.5 -> 5.727251 | Z75: 0
B76: 7181 | C76: 0.005327 | D76: 0.0022065 | E76: 0.0039 | F76: 0 | G76: 0 | H76: 0 | I76: =C76+F76 -> 0.005327 | J76: =D76+G76 -> 0.0022065 | K76: =E76+H76 -> 0.0039 | L76: 0.005327 | M76: 0.0022065 | N76: 0.0039 | O76: =L76-I76 -> 0 | P76: =M76-J76 -> 0 | Q76: =N76-K76 -> 0 | R76: =(O76^2+P76^2+Q76^2)^0.5 -> 0 | S76: =1000*(L76^2+M76^2)^0.5 -> 5.7658973 | Z76: 0
B77: 7581 | C77: 0.00036097 | D77: -0.00086809 | E77: 0.0007839 | F77: 7.7914e-06 | G77: -2.2178e-05 | H77: -0.00023457 | I77: =C77+F77 -> 0.0003687614 | J77: =D77+G77 -> -0.000890268 | K77: =E77+H77 -> 0.00054933 | L77: 0.00036876 | M77: -0.00089027 | N77: 0.00054933 | O77: =L77-I77 -> -1.4e-09 | P77: =M77-J77 -> -2e-09 | Q77: =N77-K77 -> 0 | R77: =(O77^2+P77^2+Q77^2)^0.5 -> 2.4413111e-09 | S77: =1000*(L77^2+M77^2)^0.5 -> 0.96362057
B78: 9056 | C78: 0.00071198 | D78: -0.0017165 | E78: 0.0010011 | F78: 1.7457e-05 | G78: -4.4536e-05 | H78: -0.0002323 | I78: =C78+F78 -> 0.000729437 | J78: =D78+G78 -> -0.001761036 | K78: =E78+H78 -> 0.0007688 | L78: 0.00072944 | M78: -0.001761 | N78: 0.00076876 | O78: =L78-I78 -> 3e-09 | P78: =M78-J78 -> 3.6e-08 | Q78: =N78-K78 -> -4e-08 | R78: =(O78^2+P78^2+Q78^2)^0.5 -> 5.3898052e-08 | S78: =1000*(L78^2+M78^2)^0.5 -> 1.9060965
B79: 10196 | C79: 0.0010697 | D79: -0.0025825 | E79: 0.0013913 | F79: 2.6265e-05 | G79: -6.3441e-05 | H79: -0.0002191 | I79: =C79+F79 -> 0.001095965 | J79: =D79+G79 -> -0.002645941 | K79: =E79+H79 -> 0.0011722 | L79: 0.001096 | M79: -0.0026459 | N79: 0.0011722 | O79: =L79-I79 -> 3.5e-08 | P79: =M79-J79 -> 4.1e-08 | Q79: =N79-K79 -> 0 | R79: =(O79^2+P79^2+Q79^2)^0.5 -> 5.3907328e-08 | S79: =1000*(L79^2+M79^2)^0.5 -> 2.8639139
B80: 11336 | C80: 0.001426 | D80: -0.0034486 | E80: 0.0019991 | F80: 2.8768e-05 | G80: -6.3619e-05 | H80: -0.00018164 | I80: =C80+F80 -> 0.001454768 | J80: =D80+G80 -> -0.003512219 | K80: =E80+H80 -> 0.00181746 | L80: 0.0014548 | M80: -0.0035122 | N80: 0.0018174 | O80: =L80-I80 -> 3.2e-08 | P80: =M80-J80 -> 1.9e-08 | Q80: =N80-K80 -> -6e-08 | R80: =(O80^2+P80^2+Q80^2)^0.5 -> 7.0604532e-08 | S80: =1000*(L80^2+M80^2)^0.5 -> 3.8015776
B81: 12476 | C81: 0.0018001 | D81: -0.0043559 | E81: 0.0028095 | F81: 1.6183e-05 | G81: -2.9151e-05 | H81: -9.9295e-05 | I81: =C81+F81 -> 0.001816283 | J81: =D81+G81 -> -0.004385051 | K81: =E81+H81 -> 0.002710205 | L81: 0.0018163 | M81: -0.004385 | N81: 0.0027102 | O81: =L81-I81 -> 1.7e-08 | P81: =M81-J81 -> 5.1e-08 | Q81: =N81-K81 -> -5e-09 | R81: =(O81^2+P81^2+Q81^2)^0.5 -> 5.399074e-08 | S81: =1000*(L81^2+M81^2)^0.5 -> 4.7462797
B82: 13616 | C82: 0.0019531 | D82: -0.0047304 | E82: 0.0032904 | F82: 1.0741e-05 | G82: -1.0831e-05 | H82: -5.7452e-05 | I82: =C82+F82 -> 0.001963841 | J82: =D82+G82 -> -0.004741231 | K82: =E82+H82 -> 0.003232948 | L82: 0.0019639 | M82: -0.0047412 | N82: 0.0032329 | O82: =L82-I82 -> 5.9e-08 | P82: =M82-J82 -> 3.1e-08 | Q82: =N82-K82 -> -4.8e-08 | R82: =(O82^2+P82^2+Q82^2)^0.5 -> 8.2134037e-08 | S82: =1000*(L82^2+M82^2)^0.5 -> 5.1318496
B83: 14186 | C83: 0.0020997 | D83: -0.0050691 | E83: 0.0039 | F83: 0 | G83: 0 | H83: 0 | I83: =C83+F83 -> 0.0020997 | J83: =D83+G83 -> -0.0050691 | K83: =E83+H83 -> 0.0039 | L83: 0.0020997 | M83: -0.0050691 | N83: 0.0039 | O83: =L83-I83 -> 0 | P83: =M83-J83 -> 0 | Q83: =N83-K83 -> 0 | R83: =(O83^2+P83^2+Q83^2)^0.5 -> 0 | S83: =1000*(L83^2+M83^2)^0.5 -> 5.4867581 | Z83: 0
...

Sheet Pre-stress method G1
B1: Free Stress Geometry | F1: Displacement PIO 16 mmHg (2133.16 Pa) | I1: Estimated Physiological Geometry PIO 16 mmHg ( 2133.16 Pa) | L1: Measured Physiological Geometry PIO 16 mmHg ( 2133.16 Pa) | O1: Difference | R1: =MAX(R3:R59) -> 7.4995838e-10 | T1: RESIDUAL DISPLACEMENT PIO16 mmHg ( 2133.16 Pa)
B2: POINT | C2: X (m) | D2: Y (m) | E2: Z (m) | F2: dx (mm) | G2: dy(mm) | H2: dz (mm) | I2: X (m) | J2: Y (m) | K2: Z (m) | L2: X (m) | M2: Y (m) | N2: Z (m) | O2: X (m) | P2: Y (m) | Q2: Z (m) | R2: ERROR (m) | S2: RADIUS (mm) | T2: dx (mm) | U2: dy(mm) | V2: dz (mm)
A3: ANTERIOR FACE | B3: 2 | C3: =I3+F3 -> 1.9373269e-06 | D3: =J3+G3 -> -1.453709e-06 | E3: =K3+H3 -> 0.00020911229 | F3: 1.9373e-06 | G3: -1.4537e-06 | H3: 0.00020874 | I3: =L3+T3 -> 2.691043e-11 | J3: =M3+U3 -> -8.99099e-12 | K3: =N3+V3 -> 3.7229359e-07 | L3: 6.6243e-13 | M3: -2.7439e-13 | N3: 3.7158e-07 | O3: =L3-I3 -> -2.6248e-11 | P3: =M3-J3 -> 8.7166e-12 | Q3: =N3-K3 -> -7.1359e-10 | R3: =(O3^2+P3^2+Q3^2)^0.5 -> 7.1412578e-10 | S3: =1000*(L3^2+M3^2)^0.5 -> 7.1701003e-10 | T3: 2.6248e-11 | U3: -8.7166e-12 | V3: 7.1359e-10
B4: 10 | C4: =I4+F4 -> 0.00094256589 | D4: =J4+G4 -> -0.00039089986 | E4: =K4+H4 -> 0.00028768174 | F4: -1.6744e-05 | G4: 6.4601e-06 | H4: 0.00021087 | I4: =L4+T4 -> 0.00095930989 | J4: =M4+U4 -> -0.00039735996 | K4: =N4+V4 -> 7.6811742e-05 | L4: 0.00095931 | M4: -0.00039736 | N4: 7.6811e-05 | O4: =L4-I4 -> 1.0505e-10 | P4: =M4-J4 -> -3.956e-11 | Q4: =N4-K4 -> -7.4151e-10 | R4: =(O4^2+P4^2+Q4^2)^0.5 -> 7.4995838e-10 | S4: =1000*(L4^2+M4^2)^0.5 -> 1.03835 | T4: -1.0505e-10 | U4: 3.956e-11 | V4: 7.4151e-10
B5: 150 | C5: =I5+F5 -> 0.00094242092 | D5: =J5+G5 -> 0.00038773174 | E5: =K5+H5 -> 0.00028857965 | F5: -1.7039e-05 | G5: -9.6882e-06 | H5: 0.00021283 | I5: =L5+T5 -> 0.00095945992 | J5: =M5+U5 -> 0.00039741994 | K5: =N5+V5 -> 7.5749653e-05 | L5: 0.00095946 | M5: 0.00039742 | N5: 7.5749e-05 | O5: =L5-I5 -> 7.8623e-11 | P5: =M5-J5 -> 6.1121e-11 | Q5: =N5-K5 -> -6.5289e-10 | R5: =(O5^2+P5^2+Q5^2)^0.5 -> 6.604413e-10 | S5: =1000*(L5^2+M5^2)^0.5 -> 1.0385115 | T5: -7.8623e-11 | U5: -6.1121e-11 | V5: 6.5289e-10
B6: 1657 | C6: =I6+F6 -> 0.0018549629 | D6: =J6+G6 -> -0.00076907496 | E6: =K6+H6 -> 0.00051745035 | F6: -3.7837e-05 | G6: 1.4945e-05 | H6: 0.00021643 | I6: =L6+T6 -> 0.0018927999 | J6: =M6+U6 -> -0.00078401996 | K6: =N6+V6 -> 0.00030102035 | L6: 0.0018928 | M6: -0.00078402 | N6: 0.00030102 | O6: =L6-I6 -> 1.1326e-10 | P6: =M6-J6 -> -3.6366e-11 | Q6: =N6-K6 -> -3.4613e-10 | R6: =(O6^2+P6^2+Q6^2)^0.5 -> 3.660004e-10 | S6: =1000*(L6^2+M6^2)^0.5 -> 2.0487506 | T6: -1.1326e-10 | U6: 3.6366e-11 | V6: 3.4613e-10
B7: 1741 | C7: =I7+F7 -> 0.0018556479 | D7: =J7+G7 -> 0.00076681696 | E7: =K7+H7 -> 0.00051653026 | F7: -3.8252e-05 | G7: -1.7643e-05 | H7: 0.00021928 | I7: =L7+T7 -> 0.0018938999 | J7: =M7+U7 -> 0.00078445996 | K7: =N7+V7 -> 0.00029725026 | L7: 0.0018939 | M7: 0.00078446 | N7: 0.00029725 | O7: =L7-I7 -> 7.4888e-11 | P7: =M7-J7 -> 4.4207e-11 | Q7: =N7-K7 -> -2.5759e-10 | R7: =(O7^2+P7^2+Q7^2)^0.5 -> 2.7187328e-10 | S7: =1000*(L7^2+M7^2)^0.5 -> 2.0499353 | T7: -7.4888e-11 | U7: -4.4207e-11 | V7: 2.5759e-10
B8: 2881 | C8: =I8+F8 -> 0.0027927411 | D8: =J8+G8 -> -0.001158714 | E8: =K8+H8 -> 0.00091575993 | F8: -6.3659e-05 | G8: 2.4486e-05 | H8: 0.00021292 | I8: =L8+T8 -> 0.0028564001 | J8: =M8+U8 -> -0.0011832 | K8: =N8+V8 -> 0.00070283993 | L8: 0.0028564 | M8: -0.0011832 | N8: 0.00070284 | O8: =L8-I8 -> -6.2444e-11 | P8: =M8-J8 -> 3.0586e-11 | Q8: =N8-K8 -> 7.0985e-11 | R8: =(O8^2+P8^2+Q8^2)^0.5 -> 9.9366125e-11 | S8: =1000*(L8^2+M8^2)^0.5 -> 3.0917605 | T8: 6.2444e-11 | U8: -3.0586e-11 | V8: -7.0985e-11
B9: 2965 | C9: =I9+F9 -> 0.0027974941 | D9: =J9+G9 -> 0.001158859 | E9: =K9+H9 -> 0.00090750994 | F9: -6.3506e-05 | G9: -2.6241e-05 | H9: 0.00021487 | I9: =L9+T9 -> 0.0028610001 | J9: =M9+U9 -> 0.0011851 | K9: =N9+V9 -> 0.00069263994 | L9: 0.002861 | M9: 0.0011851 | N9: 0.00069264 | O9: =L9-I9 -> -6.1399e-11 | P9: =M9-J9 -> -4.3288e-11 | Q9: =N9-K9 -> 5.9443e-11 | R9: =(O9^2+P9^2+Q9^2)^0.5 -> 9.5797486e-11 | S9: =1000*(L9^2+M9^2)^0.5 -> 3.0967375 | T9: 6.1399e-11 | U9: 4.3288e-11 | V9: -5.9443e-11
B10: 4105 | C10: =I10+F10 -> 0.0037485632 | D10: =J10+G10 -> -0.0015552861 | E10: =K10+H10 -> 0.0014944699 | F10: -8.2237e-05 | G10: 3.1514e-05 | H10: 0.00017957 | I10: =L10+T10 -> 0.0038308002 | J10: =M10+U10 -> -0.0015868001 | K10: =N10+V10 -> 0.0013148999 | L10: 0.0038308 | M10: -0.0015868 | N10: 0.0013149 | O10: =L10-I10 -> -1.5984e-10 | P10: =M10-J10 -> 8.0304e-11 | Q10: =N10-K10 -> 1.2646e-10 | R10: =(O10^2+P10^2+Q10^2)^0.5 -> 2.1906549e-10 | S10: =1000*(L10^2+M10^2)^0.5 -> 4.1464398 | T10: 1.5984e-10 | U10: -8.0304e-11 | V10: -1.2646e-10
B11: 4189 | C11: =I11+F11 -> 0.0037622381 | D11: =J11+G11 -> 0.0015594801 | E11: =K11+H11 -> 0.0014761299 | F11: -7.9962e-05 | G11: -3.202e-05 | H11: 0.00017923 | I11: =L11+T11 -> 0.0038422001 | J11: =M11+U11 -> 0.0015915001 | K11: =N11+V11 -> 0.0012968999 | L11: 0.0038422 | M11: 0.0015915 | N11: 0.0012969 | O11: =L11-I11 -> -1.2201e-10 | P11: =M11-J11 -> -5.9588e-11 | Q11: =N11-K11 -> 9.8574e-11 | R11: =(O11^2+P11^2+Q11^2)^0.5 -> 1.6779155e-10 | S11: =1000*(L11^2+M11^2)^0.5 -> 4.1587706 | T11: 1.2201e-10 | U11: 5.9588e-11 | V11: -9.8574e-11
B12: 5329 | C12: =I12+F12 -> 0.0047619631 | D12: =J12+G12 -> -0.001972344 | E12: =K12+H12 -> 0.002279623 | F12: -6.4037e-05 | G12: 2.6656e-05 | H12: 9.1623e-05 | I12: =L12+T12 -> 0.0048260001 | J12: =M12+U12 -> -0.001999 | K12: =N12+V12 -> 0.002188 | L12: 0.004826 | M12: -0.001999 | N12: 0.002188 | O12: =L12-I12 -> -5.7691e-11 | P12: =M12-J12 -> 1.4904e-11 | Q12: =N12-K12 -> 3.1856e-11 | R12: =(O12^2+P12^2+Q12^2)^0.5 -> 6.7566156e-11 | S12: =1000*(L12^2+M12^2)^0.5 -> 5.2236268 | T12: 5.7691e-11 | U12: -1.4904e-11 | V12: -3.1856e-11
B13: 5413 | C13: =I13+F13 -> 0.004773814 | D13: =J13+G13 -> 0.001975823 | E13: =K13+H13 -> 0.002269238 | F13: -6.1586e-05 | G13: -2.7077e-05 | H13: 9.2438e-05 | I13: =L13+T13 -> 0.0048354 | J13: =M13+U13 -> 0.0020029 | K13: =N13+V13 -> 0.0021768 | L13: 0.0048354 | M13: 0.0020029 | N13: 0.0021768 | O13: =L13-I13 -> -2.6915e-11 | P13: =M13-J13 -> -1.401e-11 | Q13: =N13-K13 -> 2.6009e-11 | R13: =(O13^2+P13^2+Q13^2)^0.5 -> 3.9964552e-11 | S13: =1000*(L13^2+M13^2)^0.5 -> 5.2338037 | T13: 2.6915e-11 | U13: 1.401e-11 | V13: -2.6009e-11
B14: 6547 | C14: =I14+F14 -> 0.005298952 | D14: =J14+G14 -> -0.00219351 | E14: =K14+H14 -> 0.002773583 | F14: -3.0348e-05 | G14: 1.399e-05 | H14: 2.8183e-05 | I14: =L14+T14 -> 0.0053293 | J14: =M14+U14 -> -0.0022075 | K14: =N14+V14 -> 0.0027454 | L14: 0.0053293 | M14: -0.0022075 | N14: 0.0027454 | O14: =L14-I14 -> -1.3185e-11 | P14: =M14-J14 -> 9.2391979e-13 | Q14: =N14-K14 -> 1.0265e-11 | R14: =(O14^2+P14^2+Q14^2)^0.5 -> 1.6735234e-11 | S14: =1000*(L14^2+M14^2)^0.5 -> 5.7684049 | T14: 1.3185e-11 | U14: -9.2392e-13 | V14: -1.0265e-11
B15: 6589 | C15: =I15+F15 -> 0.005312552 | D15: =J15+G15 -> 0.002197781 | E15: =K15+H15 -> 0.00276429 | F15: -2.8148e-05 | G15: -1.4419e-05 | H15: 2.839e-05 | I15: =L15+T15 -> 0.0053407 | J15: =M15+U15 -> 0.0022122 | K15: =N15+V15 -> 0.0027359 | L15: 0.0053407 | M15: 0.0022122 | N15: 0.0027359 | O15: =L15-I15 -> 2.5884e-12 | P15: =M15-J15 -> -2.3089e-12 | Q15: =N15-K15 -> 7.9825998e-12 | R15: =(O15^2+P15^2+Q15^2)^0.5 -> 8.7036046e-12 | S15: =1000*(L15^2+M15^2)^0.5 -> 5.7807357 | T15: -2.5884e-12 | U15: 2.3089e-12 | V15: -7.9826e-12
... B59: 48863 | C59: =I59+F59 -> 0.0024278 | D59: =J59+G59 -> 0.0058613 | E59: =K59+H59 -> 0.0031501 | F59: 0 | G59: 0 | H59: 0 | I59: =L59+T59 -> 0.0024278 | J59: =M59+U59 -> 0.0058613 | K59: =N59+V59 -> 0.0031501 | L59: 0.0024278 | M59: 0.0058613 | N59: 0.0031501 | O59: =L59-I59 -> 0 | P59: =M59-J59 -> 0 | Q59: =N59-K59 -> 0 | R59: =(O59^2+P59^2+Q59^2)^0.5 -> 0 | S59: =1000*(L59^2+M59^2)^0.5 -> 6.3442139 | T59: 0 | U59: 0 | V59: 0
B60: Free Stress Geometry | F60: Displacement PIO 16 mmHg (2133.16 Pa) | I60: Estimated Physiological Geometry PIO 16 mmHg ( 2133.16 Pa) | L60: Measured Physiological Geometry PIO 16 mmHg ( 2133.16 Pa) | O60: Difference | R60: =MAX(R62:R118) -> 7.7474381e-10 | T60: RESIDUAL DISPLACEMENT PIO16 mmHg ( 2133.16 Pa)
B61: POINT | C61: X (m) | D61: Y (m) | E61: Z (m) | F61: dx (mm) | G61: dy(mm) | H61: dz (mm) | I61: X (m) | J61: Y (m) | K61: Z (m) | L61: X (m) | M61: Y (m) | N61: Z (m) | O61: X (m) | P61: Y (m) | Q61: Z (m) | R61: ERROR (m) | S61: RADIUS (mm) | T61: dx (mm) | U61: dy(mm) | V61: dz (mm)
A62: POSTERIOR FACE | B62: 1 | C62: =I62+F62 -> 2.3800061e-06 | D62: =J62+G62 -> -2.7298586e-06 | E62: =K62+H62 -> 0.00071004073 | F62: 2.3801e-06 | G62: -2.7299e-06 | H62: 0.00023124 | I62: =L62+T62 -> -9.391557e-11 | J62: =M62+U62 -> 4.142361e-11 | K62: =N62+V62 -> 0.00047880073 | L62: 6.6243e-13 | M62: -2.7439e-13 | N62: 0.0004788 | O62: =L62-I62 -> 9.4578e-11 | P62: =M62-J62 -> -4.1698e-11 | Q62: =N62-K62 -> -7.2958e-10 | R62: =(O62^2+P62^2+Q62^2)^0.5 -> 7.3686545e-10 | S62: =1000*(L62^2+M62^2)^0.5 -> 7.1701003e-10 | T62: -9.4578e-11 | U62: 4.1698e-11 | V62: 7.2958e-10
B63: 30 | C63: =I63+F63 -> 0.00086865399 | D63: =J63+G63 -> -0.0003614587 | E63: =K63+H63 -> 0.00077748077 | F63: -2.2266e-05 | G63: 7.5713e-06 | H63: 0.00023265 | I63: =L63+T63 -> 0.00089091999 | J63: =M63+U63 -> -0.00036903 | K63: =N63+V63 -> 0.00054483077 | L63: 0.00089092 | M63: -0.00036903 | N63: 0.00054483 | O63: =L63-I63 -> 5.9014e-12 | P63: =M63-J63 -> 1.4375e-12 | Q63: =N63-K63 -> -7.7472e-10 | R63: =(O63^2+P63^2+Q63^2)^0.5 -> 7.7474381e-10 | S63: =1000*(L63^2+M63^2)^0.5 -> 0.96432442 | T63: -5.9014e-12 | U63: -1.4375e-12 | V63: 7.7472e-10
B64: 170 | C64: =I64+F64 -> 0.000868006 | D64: =J64+G64 -> 0.00035568708 | E64: =K64+H64 -> 0.0007834407 | F64: -2.2334e-05 | G64: -1.3103e-05 | H64: 0.00023462 | I64: =L64+T64 -> 0.00089034 | J64: =M64+U64 -> 0.00036879008 | K64: =N64+V64 -> 0.0005488207 | L64: 0.00089034 | M64: 0.00036879 | N64: 0.00054882 | O64: =L64-I64 -> -1.3707e-12 | P64: =M64-J64 -> -8.4629e-11 | Q64: =N64-K64 -> -6.9507e-10 | R64: =(O64^2+P64^2+Q64^2)^0.5 -> 7.0020444e-10 | S64: =1000*(L64^2+M64^2)^0.5 -> 0.96369673 | T64: 1.3707e-12 | U64: 8.4629e-11 | V64: 6.9507e-10
B65: 1645 | C65: =I65+F65 -> 0.0017169011 | D65: =J65+G65 -> -0.00071301204 | E65: =K65+H65 -> 0.00099460042 | F65: -4.7499e-05 | G65: 1.7818e-05 | H65: 0.00023776 | I65: =L65+T65 -> 0.0017644001 | J65: =M65+U65 -> -0.00073083004 | K65: =N65+V65 -> 0.00075684042 | L65: 0.0017644 | M65: -0.00073083 | N65: 0.00075684 | O65: =L65-I65 -> -1.1751e-10 | P65: =M65-J65 -> 4.1597e-11 | Q65: =N65-K65 -> -4.1744e-10 | R65: =(O65^2+P65^2+Q65^2)^0.5 -> 4.3565475e-10 | S65: =1000*(L65^2+M65^2)^0.5 -> 1.9097696 | T65: 1.1751e-10 | U65: -4.1597e-11 | V65: 4.1744e-10
B66: 1729 | C66: =I66+F66 -> 0.0017153091 | D66: =J66+G66 -> 0.0007074221 | E66: =K66+H66 -> 0.0010040803 | F66: -4.7291e-05 | G66: -2.2658e-05 | H66: 0.00024081 | I66: =L66+T66 -> 0.0017626001 | J66: =M66+U66 -> 0.0007300801 | K66: =N66+V66 -> 0.00076327033 | L66: 0.0017626 | M66: 0.00073008 | N66: 0.00076327 | O66: =L66-I66 -> -1.136e-10 | P66: =M66-J66 -> -9.533e-11 | Q66: =N66-K66 -> -3.265e-10 | R66: =(O66^2+P66^2+Q66^2)^0.5 -> 3.5860148e-10 | S66: =1000*(L66^2+M66^2)^0.5 -> 1.9078196 | T66: 1.136e-10 | U66: 9.533e-11 | V66: 3.265e-10
B67: 2869 | C67: =I67+F67 -> 0.0025854112 | D67: =J67+G67 -> -0.0010729911 | E67: =K67+H67 -> 0.00138085 | F67: -7.2789e-05 | G67: 2.8009e-05 | H67: 0.00023595 | I67: =L67+T67 -> 0.0026582002 | J67: =M67+U67 -> -0.0011010001 | K67: =N67+V67 -> 0.0011449 | L67: 0.0026582 | M67: -0.001101 | N67: 0.0011449 | O67: =L67-I67 -> -1.8413e-10 | P67: =M67-J67 -> 6.3519e-11 | Q67: =N67-K67 -> 2.3191e-11 | R67: =(O67^2+P67^2+Q67^2)^0.5 -> 1.9615388e-10 | S67: =1000*(L67^2+M67^2)^0.5 -> 2.877191 | T67: 1.8413e-10 | U67: -6.3519e-11 | V67: -2.3191e-11
B68: 2953 | C68: =I68+F68 -> 0.0025828021 | D68: =J68+G68 -> 0.0010676131 | E68: =K68+H68 -> 0.00139348 | F68: -7.0998e-05 | G68: -3.1587e-05 | H68: 0.00023888 | I68: =L68+T68 -> 0.0026538001 | J68: =M68+U68 -> 0.0010992001 | K68: =N68+V68 -> 0.0011546 | L68: 0.0026538 | M68: 0.0010992 | N68: 0.0011546 | O68: =L68-I68 -> -1.3596e-10 | P68: =M68-J68 -> -7.2095e-11 | Q68: =N68-K68 -> 3.6272e-11 | R68: =(O68^2+P68^2+Q68^2)^0.5 -> 1.5810904e-10 | S68: =1000*(L68^2+M68^2)^0.5 -> 2.8724371 | T68: 1.3596e-10 | U68: 7.2095e-11 | V68: -3.6272e-11
B69: 4093 | C69: =I69+F69 -> 0.0034638091 | D69: =J69+G69 -> -0.001436684 | E69: =K69+H69 -> 0.0019719198 | F69: -8.3091e-05 | G69: 3.2516e-05 | H69: 0.00020922 | I69: =L69+T69 -> 0.0035469001 | J69: =M69+U69 -> -0.0014692 | K69: =N69+V69 -> 0.0017626998 | L69: 0.0035469 | M69: -0.0014692 | N69: 0.0017627 | O69: =L69-I69 -> -1.3221e-10 | P69: =M69-J69 -> 3.4886e-11 | Q69: =N69-K69 -> 1.687e-10 | R69: =(O69^2+P69^2+Q69^2)^0.5 -> 2.171548e-10 | S69: =1000*(L69^2+M69^2)^0.5 -> 3.8391468 | T69: 1.3221e-10 | U69: -3.4886e-11 | V69: -1.687e-10
B70: 4177 | C70: =I70+F70 -> 0.0034649211 | D70: =J70+G70 -> 0.001433871 | E70: =K70+H70 -> 0.0019777999 | F70: -7.9079e-05 | G70: -3.4129e-05 | H70: 0.0002105 | I70: =L70+T70 -> 0.0035440001 | J70: =M70+U70 -> 0.001468 | K70: =N70+V70 -> 0.0017672999 | L70: 0.003544 | M70: 0.001468 | N70: 0.0017673 | O70: =L70-I70 -> -9.6213e-11 | P70: =M70-J70 -> -2.6738e-11 | Q70: =N70-K70 -> 1.4607e-10 | R70: =(O70^2+P70^2+Q70^2)^0.5 -> 1.7694154e-10 | S70: =1000*(L70^2+M70^2)^0.5 -> 3.8360083 | T70: 9.6213e-11 | U70: 2.6738e-11 | V70: -1.4607e-10
B71: 5317 | C71: =I71+F71 -> 0.004354725 | D71: =J71+G71 -> -0.001804219 | E71: =K71+H71 -> 0.0028263899 | F71: -4.7075e-05 | G71: 1.9081e-05 | H71: 0.00013609 | I71: =L71+T71 -> 0.0044018 | J71: =M71+U71 -> -0.0018233 | K71: =N71+V71 -> 0.0026902999 | L71: 0.0044018 | M71: -0.0018233 | N71: 0.0026903 | O71: =L71-I71 -> -2.0337e-11 | P71: =M71-J71 -> -1.1128e-11 | Q71: =N71-K71 -> 7.8594e-11 | R71: =(O71^2+P71^2+Q71^2)^0.5 -> 8.1941703e-11 | S71: =1000*(L71^2+M71^2)^0.5 -> 4.7644796 | T71: 2.0337e-11 | U71: 1.1128e-11 | V71: -7.8594e-11
B72: 5401 | C72: =I72+F72 -> 0.004367981 | D72: =J72+G72 -> 0.001807823 | E72: =K72+H72 -> 0.0028152199 | F72: -4.4519e-05 | G72: -1.9877e-05 | H72: 0.00013762 | I72: =L72+T72 -> 0.0044125 | J72: =M72+U72 -> 0.0018277 | K72: =N72+V72 -> 0.0026775999 | L72: 0.0044125 | M72: 0.0018277 | N72: 0.0026776 | O72: =L72-I72 -> -1.4951e-11 | P72: =M72-J72 -> 1.2628e-11 | Q72: =N72-K72 -> 5.9233e-11 | R72: =(O72^2+P72^2+Q72^2)^0.5 -> 6.2382266e-11 | S72: =1000*(L72^2+M72^2)^0.5 -> 4.7760489 | T72: 1.4951e-11 | U72: -1.2628e-11 | V72: -5.9233e-11
B73: 6541 | C73: =I73+F73 -> 0.004776733 | D73: =J73+G73 -> -0.0019765599 | E73: =K73+H73 -> 0.003271178 | F73: -1.7567e-05 | G73: 9.3401e-06 | H73: 8.2278e-05 | I73: =L73+T73 -> 0.0047943 | J73: =M73+U73 -> -0.0019859 | K73: =N73+V73 -> 0.0031889 | L73: 0.0047943 | M73: -0.0019859 | N73: 0.0031889 | O73: =L73-I73 -> -1.7592004e-12 | P73: =M73-J73 -> -4.0535002e-12 | Q73: =N73-K73 -> 2.9454e-11 | R73: =(O73^2+P73^2+Q73^2)^0.5 -> 2.9783616e-11 | S73: =1000*(L73^2+M73^2)^0.5 -> 5.1893267 | T73: 1.7592e-12 | U73: 4.0535e-12 | V73: -2.9454e-11
B74: 6583 | C74: =I74+F74 -> 0.004811456 | D74: =J74+G74 -> 0.0019896472 | E74: =K74+H74 -> 0.003242896 | F74: -1.6044e-05 | G74: -9.9528e-06 | H74: 8.1496e-05 | I74: =L74+T74 -> 0.0048275 | J74: =M74+U74 -> 0.0019996 | K74: =N74+V74 -> 0.0031614 | L74: 0.0048275 | M74: 0.0019996 | N74: 0.0031614 | O74: =L74-I74 -> 3.6726004e-12 | P74: =M74-J74 -> 3.9313002e-12 | Q74: =N74-K74 -> 2.7846e-11 | R74: =(O74^2+P74^2+Q74^2)^0.5 -> 2.8360938e-11 | S74: =1000*(L74^2+M74^2)^0.5 -> 5.2252422 | T74: -3.6726e-12 | U74: -3.9313e-12 | V74: -2.7846e-11
... B118: 48859 | C118: =I118+F118 -> 0.0021531 | D118: =J118+G118 -> 0.005198 | E118: =K118+H118 -> 0.0039 | F118: 0 | G118: 0 | H118: 0 | I118: =L118+T118 -> 0.0021531 | J118: =M118+U118 -> 0.005198 | K118: =N118+V118 -> 0.0039 | L118: 0.0021531 | M118: 0.005198 | N118: 0.0039 | O118: =L118-I118 -> 0 | P118: =M118-J118 -> 0 | Q118: =N118-K118 -> 0 | R118: =(O118^2+P118^2+Q118^2)^0.5 -> 0 | S118: =1000*(L118^2+M118^2)^0.5 -> 5.6262815 | T118: 0 | U118: 0 | V118: 0

Sheet Inverse Geo Difference G1
A1: FREE STRESS GEOMETRY DIFFERENCE | E1: =1000000*MAX(E3:E59) -> 7.575659 | F1: DIFFERENCE | J1: AVERAGE | K1: STANDARD DEVIATION
A2: POINT | B2: X (m) | C2: Y (m) | D2: Z (m) | E2: ERROR (m) | F2: RADIUS (mm) | G2: ERROR (μm) | J2: =AVERAGE(G:G) -> 2.9153463 | K2: =_xlfn.STDEV.S((G:G)) -> 1.8315062
A3: ='Displacement method G1'!B3 -> 2 | B3: ='Displacement method G1'!C3-'Pre-stress method G1'!C3 -> -1.6472691e-07 | C3: ='Displacement method G1'!D3-'Pre-stress method G1'!D3 -> 7.9756899e-07 | D3: ='Displacement method G1'!E3-'Pre-stress method G1'!E3 -> 4.4577064e-06 | E3: =(B3^2+C3^2+D3^2)^0.5 -> 4.5314896e-06 | F3: ='Displacement method G1'!S3 -> 7.1701003e-10 | G3: =E3*1000000 -> 4.5314896
A4: ='Displacement method G1'!B4 -> 10 | B4: ='Displacement method G1'!C4-'Pre-stress method G1'!C4 -> -2.589495e-08 | C4: ='Displacement method G1'!D4-'Pre-stress method G1'!D4 -> 9.6986044e-07 | D4: ='Displacement method G1'!E4-'Pre-stress method G1'!E4 -> 4.6582585e-06 | E4: =(B4^2+C4^2+D4^2)^0.5 -> 4.7582215e-06 | F4: ='Displacement method G1'!S4 -> 1.03835 | G4: =E4*1000000 -> 4.7582215
A5: ='Displacement method G1'!B5 -> 150 | B5: ='Displacement method G1'!C5-'Pre-stress method G1'!C5 -> 2.9078623e-08 | C5: ='Displacement method G1'!D5-'Pre-stress method G1'!D5 -> 8.7826112e-07 | D5: ='Displacement method G1'!E5-'Pre-stress method G1'!E5 -> 4.1903471e-06 | E5: =(B5^2+C5^2+D5^2)^0.5 -> 4.2814947e-06 | F5: ='Displacement method G1'!S5 -> 1.0385115 | G5: =E5*1000000 -> 4.2814947
A6: ='Displacement method G1'!B6 -> 1657 | B6: ='Displacement method G1'!C6-'Pre-stress method G1'!C6 -> 2.3711326e-07 | C6: ='Displacement method G1'!D6-'Pre-stress method G1'!D6 -> 8.5496363e-07 | D6: ='Displacement method G1'!E6-'Pre-stress method G1'!E6 -> 2.9296539e-06 | E6: =(B6^2+C6^2+D6^2)^0.5 -> 3.0610549e-06 | F6: ='Displacement method G1'!S6 -> 2.0487506 | G6: =E6*1000000 -> 3.0610549
A7: ='Displacement method G1'!B7 -> 1741 | B7: ='Displacement method G1'!C7-'Pre-stress method G1'!C7 -> 2.5207489e-07 | C7: ='Displacement method G1'!D7-'Pre-stress method G1'!D7 -> 8.1304421e-07 | D7: ='Displacement method G1'!E7-'Pre-stress method G1'!E7 -> 2.3197424e-06 | E7: =(B7^2+C7^2+D7^2)^0.5 -> 2.4709892e-06 | F7: ='Displacement method G1'!S7 -> 2.0499353 | G7: =E7*1000000 -> 2.4709892
A8: ='Displacement method G1'!B8 -> 2881 | B8: ='Displacement method G1'!C8-'Pre-stress method G1'!C8 -> 7.5893756e-07 | C8: ='Displacement method G1'!D8-'Pre-stress method G1'!D8 -> 6.1403059e-07 | D8: ='Displacement method G1'!E8-'Pre-stress method G1'!E8 -> -6.9929015e-08 | E8: =(B8^2+C8^2+D8^2)^0.5 -> 9.7872869e-07 | F8: ='Displacement method G1'!S8 -> 3.0917605 | G8: =E8*1000000 -> 0.97872869
A9: ='Displacement method G1'!B9 -> 2965 | B9: ='Displacement method G1'!C9-'Pre-stress method G1'!C9 -> 5.059386e-07 | C9: ='Displacement method G1'!D9-'Pre-stress method G1'!D9 -> 6.4095671e-07 | D9: ='Displacement method G1'!E9-'Pre-stress method G1'!E9 -> -5.2994056e-07 | E9: =(B9^2+C9^2+D9^2)^0.5 -> 9.7346616e-07 | F9: ='Displacement method G1'!S9 -> 3.0967375 | G9: =E9*1000000 -> 0.97346616
A10: ='Displacement method G1'!B10 -> 4105 | B10: ='Displacement method G1'!C10-'Pre-stress method G1'!C10 -> 1.0368402e-06 | C10: ='Displacement method G1'!D10-'Pre-stress method G1'!D10 -> 1.860803e-07 | D10: ='Displacement method G1'!E10-'Pre-stress method G1'!E10 -> -3.2698735e-06 | E10: =(B10^2+C10^2+D10^2)^0.5 -> 3.4353655e-06 | F10: ='Displacement method G1'!S10 -> 4.1464398 | G10: =E10*1000000 -> 3.4353655
A11: ='Displacement method G1'!B11 -> 4189 | B11: ='Displacement method G1'!C11-'Pre-stress method G1'!C11 -> 3.6187799e-07 | C11: ='Displacement method G1'!D11-'Pre-stress method G1'!D11 -> 4.1994041e-07 | D11: ='Displacement method G1'!E11-'Pre-stress method G1'!E11 -> -3.3299014e-06 | E11: =(B11^2+C11^2+D11^2)^0.5 -> 3.3757294e-06 | F11: ='Displacement method G1'!S11 -> 4.1587706 | G11: =E11*1000000 -> 3.3757294
A12: ='Displacement method G1'!B12 -> 5329 | B12: ='Displacement method G1'!C12-'Pre-stress method G1'!C12 -> 4.3694231e-07 | C12: ='Displacement method G1'!D12-'Pre-stress method G1'!D12 -> -5.5985096e-08 | D12: ='Displacement method G1'!E12-'Pre-stress method G1'!E12 -> -3.6229681e-06 | E12: =(B12^2+C12^2+D12^2)^0.5 -> 3.6496508e-06 | F12: ='Displacement method G1'!S12 -> 5.2236268 | G12: =E12*1000000 -> 3.6496508
A13: ='Displacement method G1'!B13 -> 5413 | B13: ='Displacement method G1'!C13-'Pre-stress method G1'!C13 -> -2.1402691e-07 | C13: ='Displacement method G1'!D13-'Pre-stress method G1'!D13 -> 3.7698599e-07 | D13: ='Displacement method G1'!E13-'Pre-stress method G1'!E13 -> -3.537974e-06 | E13: =(B13^2+C13^2+D13^2)^0.5 -> 3.5644335e-06 | F13: ='Displacement method G1'!S13 -> 5.2338037 | G13: =E13*1000000 -> 3.5644335
A14: ='Displacement method G1'!B14 -> 6547 | B14: ='Displacement method G1'!C14-'Pre-stress method G1'!C14 -> -5.2013185e-08 | C14: ='Displacement method G1'!D14-'Pre-stress method G1'!D14 -> 1.0000924e-08 | D14: ='Displacement method G1'!E14-'Pre-stress method G1'!E14 -> -1.5829897e-06 | E14: =(B14^2+C14^2+D14^2)^0.5 -> 1.5838756e-06 | F14: ='Displacement method G1'!S14 -> 5.7684049 | G14: =E14*1000000 -> 1.5838756
... A59: ='Displacement method G1'!B59 -> 48863 | B59: ='Displacement method G1'!C59-'Pre-stress method G1'!C59 -> 0 | C59: ='Displacement method G1'!D59-'Pre-stress method G1'!D59 -> 0 | D59: ='Displacement method G1'!E59-'Pre-stress method G1'!E59 -> 0 | E59: =(B59^2+C59^2+D59^2)^0.5 -> 0 | F59: ='Displacement method G1'!S59 -> 6.3442139 | G59: =E59*1000000 -> 0
A60: FREE STRESS GEOMETRY DIFFERENCE | E60: =1000000*MAX(E62:E118) -> 8.3635548 | F60: DIFFERENCE
A61: POINT | B61: X (m) | C61: Y (m) | D61: Z (m) | E61: ERROR (m) | F61: RADIUS (mm) | G61: ERROR (μm)
A62: ='Displacement method G1'!B62 -> 1 | B62: ='Displacement method G1'!C62-'Pre-stress method G1'!C62 -> -6.9480608e-07 | C62: ='Displacement method G1'!D62-'Pre-stress method G1'!D62 -> 8.6585858e-07 | D62: ='Displacement method G1'!E62-'Pre-stress method G1'!E62 -> 4.0692704e-06 | E62: =(B62^2+C62^2+D62^2)^0.5 -> 4.2179887e-06 | F62: ='Displacement method G1'!S62 -> 7.1701003e-10 | G62: =E62*1000000 -> 4.2179887
A63: ='Displacement method G1'!B63 -> 30 | B63: ='Displacement method G1'!C63-'Pre-stress method G1'!C63 -> -2.039941e-07 | C63: ='Displacement method G1'!D63-'Pre-stress method G1'!D63 -> 5.8870144e-07 | D63: ='Displacement method G1'!E63-'Pre-stress method G1'!E63 -> 4.2692253e-06 | E63: =(B63^2+C63^2+D63^2)^0.5 -> 4.3144487e-06 | F63: ='Displacement method G1'!S63 -> 0.96432442 | G63: =E63*1000000 -> 4.3144487
A64: ='Displacement method G1'!B64 -> 170 | B64: ='Displacement method G1'!C64-'Pre-stress method G1'!C64 -> -2.0600137e-07 | C64: ='Displacement method G1'!D64-'Pre-stress method G1'!D64 -> 1.2329154e-06 | D64: ='Displacement method G1'!E64-'Pre-stress method G1'!E64 -> 3.8093049e-06 | E64: =(B64^2+C64^2+D64^2)^0.5 -> 4.0091546e-06 | F64: ='Displacement method G1'!S64 -> 0.96369673 | G64: =E64*1000000 -> 4.0091546
A65: ='Displacement method G1'!B65 -> 1645 | B65: ='Displacement method G1'!C65-'Pre-stress method G1'!C65 -> 6.9888249e-07 | C65: ='Displacement method G1'!D65-'Pre-stress method G1'!D65 -> 1.420416e-07 | D65: ='Displacement method G1'!E65-'Pre-stress method G1'!E65 -> 2.7395826e-06 | E65: =(B65^2+C65^2+D65^2)^0.5 -> 2.8308877e-06 | F65: ='Displacement method G1'!S65 -> 1.9097696 | G65: =E65*1000000 -> 2.8308877
A66: ='Displacement method G1'!B66 -> 1729 | B66: ='Displacement method G1'!C66-'Pre-stress method G1'!C66 -> 6.908864e-07 | C66: ='Displacement method G1'!D66-'Pre-stress method G1'!D66 -> 1.4879047e-06 | D66: ='Displacement method G1'!E66-'Pre-stress method G1'!E66 -> 2.1196735e-06 | E66: =(B66^2+C66^2+D66^2)^0.5 -> 2.6803358e-06 | F66: ='Displacement method G1'!S66 -> 1.9078196 | G66: =E66*1000000 -> 2.6803358
A67: ='Displacement method G1'!B67 -> 2869 | B67: ='Displacement method G1'!C67-'Pre-stress method G1'!C67 -> 2.5888159e-06 | C67: ='Displacement method G1'!D67-'Pre-stress method G1'!D67 -> -7.0893648e-07 | D67: ='Displacement method G1'!E67-'Pre-stress method G1'!E67 -> 4.5002319e-07 | E67: =(B67^2+C67^2+D67^2)^0.5 -> 2.721595e-06 | F67: ='Displacement method G1'!S67 -> 2.877191 | G67: =E67*1000000 -> 2.721595
A68: ='Displacement method G1'!B68 -> 2953 | B68: ='Displacement method G1'!C68-'Pre-stress method G1'!C68 -> 2.397864e-06 | C68: ='Displacement method G1'!D68-'Pre-stress method G1'!D68 -> 1.8869279e-06 | D68: ='Displacement method G1'!E68-'Pre-stress method G1'!E68 -> 1.2003627e-07 | E68: =(B68^2+C68^2+D68^2)^0.5 -> 3.0536302e-06 | F68: ='Displacement method G1'!S68 -> 2.8724371 | G68: =E68*1000000 -> 3.0536302
A69: ='Displacement method G1'!B69 -> 4093 | B69: ='Displacement method G1'!C69-'Pre-stress method G1'!C69 -> 4.8908678e-06 | C69: ='Displacement method G1'!D69-'Pre-stress method G1'!D69 -> -1.6159651e-06 | D69: ='Displacement method G1'!E69-'Pre-stress method G1'!E69 -> -1.1198313e-06 | E69: =(B69^2+C69^2+D69^2)^0.5 -> 5.2712383e-06 | F69: ='Displacement method G1'!S69 -> 3.8391468 | G69: =E69*1000000 -> 5.2712383
A70: ='Displacement method G1'!B70 -> 4177 | B70: ='Displacement method G1'!C70-'Pre-stress method G1'!C70 -> 4.2789038e-06 | C70: ='Displacement method G1'!D70-'Pre-stress method G1'!D70 -> 2.2289733e-06 | D70: ='Displacement method G1'!E70-'Pre-stress method G1'!E70 -> -1.0998539e-06 | E70: =(B70^2+C70^2+D70^2)^0.5 -> 4.9484359e-06 | F70: ='Displacement method G1'!S70 -> 3.8360083 | G70: =E70*1000000 -> 4.9484359
A71: ='Displacement method G1'!B71 -> 5317 | B71: ='Displacement method G1'!C71-'Pre-stress method G1'!C71 -> 4.3749797e-06 | C71: ='Displacement method G1'!D71-'Pre-stress method G1'!D71 -> -2.1810111e-06 | D71: ='Displacement method G1'!E71-'Pre-stress method G1'!E71 -> 1.0078594e-08 | E71: =(B71^2+C71^2+D71^2)^0.5 -> 4.8884924e-06 | F71: ='Displacement method G1'!S71 -> 4.7644796 | G71: =E71*1000000 -> 4.8884924
A72: ='Displacement method G1'!B72 -> 5401 | B72: ='Displacement method G1'!C72-'Pre-stress method G1'!C72 -> 4.118985e-06 | C72: ='Displacement method G1'!D72-'Pre-stress method G1'!D72 -> 2.2770126e-06 | D72: ='Displacement method G1'!E72-'Pre-stress method G1'!E72 -> -1.9940767e-08 | E72: =(B72^2+C72^2+D72^2)^0.5 -> 4.7065085e-06 | F72: ='Displacement method G1'!S72 -> 4.7760489 | G72: =E72*1000000 -> 4.7065085
A73: ='Displacement method G1'!B73 -> 6541 | B73: ='Displacement method G1'!C73-'Pre-stress method G1'!C73 -> 3.0669982e-06 | C73: ='Displacement method G1'!D73-'Pre-stress method G1'!D73 -> -1.6401041e-06 | D73: ='Displacement method G1'!E73-'Pre-stress method G1'!E73 -> 2.1220295e-06 | E73: =(B73^2+C73^2+D73^2)^0.5 -> 4.0742396e-06 | F73: ='Displacement method G1'!S73 -> 5.1893267 | G73: =E73*1000000 -> 4.0742396
... A118: ='Displacement method G1'!B118 -> 48859 | B118: ='Displacement method G1'!C118-'Pre-stress method G1'!C118 -> 0 | C118: ='Displacement method G1'!D118-'Pre-stress method G1'!D118 -> 0 | D118: ='Displacement method G1'!E118-'Pre-stress method G1'!E118 -> 0 | E118: =(B118^2+C118^2+D118^2)^0.5 -> 0 | F118: ='Displacement method G1'!S118 -> 5.6262815 | G118: =E118*1000000 -> 0

Sheet Physiological Geo Difference G1
A1: PHYSIOLOGICAL GEOMETRY DIFFERENCE | E1: =1000000*MAX(E3:E59) -> 0.11950708 | F1: MAX DIFFERENCE | J1: AVERAGE | K1: STANDARD DEVIATION
A2: POINT | B2: X (m) | C2: Y (m) | D2: Z (m) | E2: ERROR (m) | F2: RADIUS (mm) | G2: ERROR (μm) | J2: =AVERAGE(G:G) -> 0.044709313 | K2: =_xlfn.STDEV.S((G:G)) -> 0.032951557
A3: ='Displacement method G1'!B3 -> 2 | B3: ='Displacement method G1'!I3-'Pre-stress method G1'!I3 -> 7.308957e-11 | C3: ='Displacement method G1'!J3-'Pre-stress method G1'!J3 -> -1.00901e-12 | D3: ='Displacement method G1'!K3-'Pre-stress method G1'!K3 -> -2.29359e-09 | E3: =(B3^2+C3^2+D3^2)^0.5 -> 2.2947545e-09 | F3: ='Displacement method G1'!S3 -> 7.1701003e-10 | G3: =E3*1000000 -> 0.0022947545
A4: ='Displacement method G1'!B4 -> 10 | B4: ='Displacement method G1'!I4-'Pre-stress method G1'!I4 -> -2.89495e-09 | C4: ='Displacement method G1'!J4-'Pre-stress method G1'!J4 -> 3.96044e-09 | D4: ='Displacement method G1'!K4-'Pre-stress method G1'!K4 -> -1.74151e-09 | E4: =(B4^2+C4^2+D4^2)^0.5 -> 5.205639e-09 | F4: ='Displacement method G1'!S4 -> 1.03835 | G4: =E4*1000000 -> 0.005205639
A5: ='Displacement method G1'!B5 -> 150 | B5: ='Displacement method G1'!I5-'Pre-stress method G1'!I5 -> 9.078623e-09 | C5: ='Displacement method G1'!J5-'Pre-stress method G1'!J5 -> 7.561121e-09 | D5: ='Displacement method G1'!K5-'Pre-stress method G1'!K5 -> 3.4711e-10 | E5: =(B5^2+C5^2+D5^2)^0.5 -> 1.1820001e-08 | F5: ='Displacement method G1'!S5 -> 1.0385115 | G5: =E5*1000000 -> 0.011820001
A6: ='Displacement method G1'!B6 -> 1657 | B6: ='Displacement method G1'!I6-'Pre-stress method G1'!I6 -> -3.888674e-08 | C6: ='Displacement method G1'!J6-'Pre-stress method G1'!J6 -> -4.036366e-09 | D6: ='Displacement method G1'!K6-'Pre-stress method G1'!K6 -> -3.4613e-10 | E6: =(B6^2+C6^2+D6^2)^0.5 -> 3.9097194e-08 | F6: ='Displacement method G1'!S6 -> 2.0487506 | G6: =E6*1000000 -> 0.039097194
A7: ='Displacement method G1'!B7 -> 1741 | B7: ='Displacement method G1'!I7-'Pre-stress method G1'!I7 -> -1.8925112e-08 | C7: ='Displacement method G1'!J7-'Pre-stress method G1'!J7 -> 4.4207e-11 | D7: ='Displacement method G1'!K7-'Pre-stress method G1'!K7 -> -2.5759e-10 | E7: =(B7^2+C7^2+D7^2)^0.5 -> 1.8926917e-08 | F7: ='Displacement method G1'!S7 -> 2.0499353 | G7: =E7*1000000 -> 0.018926917
A8: ='Displacement method G1'!B8 -> 2881 | B8: ='Displacement method G1'!I8-'Pre-stress method G1'!I8 -> 5.6937556e-08 | C8: ='Displacement method G1'!J8-'Pre-stress method G1'!J8 -> 7.6030586e-08 | D8: ='Displacement method G1'!K8-'Pre-stress method G1'!K8 -> 7.0985e-11 | E8: =(B8^2+C8^2+D8^2)^0.5 -> 9.4987053e-08 | F8: ='Displacement method G1'!S8 -> 3.0917605 | G8: =E8*1000000 -> 0.094987053
A9: ='Displacement method G1'!B9 -> 2965 | B9: ='Displacement method G1'!I9-'Pre-stress method G1'!I9 -> 2.5938601e-08 | C9: ='Displacement method G1'!J9-'Pre-stress method G1'!J9 -> -5.2043288e-08 | D9: ='Displacement method G1'!K9-'Pre-stress method G1'!K9 -> 5.9443e-11 | E9: =(B9^2+C9^2+D9^2)^0.5 -> 5.8149105e-08 | F9: ='Displacement method G1'!S9 -> 3.0967375 | G9: =E9*1000000 -> 0.058149105
A10: ='Displacement method G1'!B10 -> 4105 | B10: ='Displacement method G1'!I10-'Pre-stress method G1'!I10 -> 4.584016e-08 | C10: ='Displacement method G1'!J10-'Pre-stress method G1'!J10 -> 2.080304e-09 | D10: ='Displacement method G1'!K10-'Pre-stress method G1'!K10 -> 5.012646e-08 | E10: =(B10^2+C10^2+D10^2)^0.5 -> 6.7958148e-08 | F10: ='Displacement method G1'!S10 -> 4.1464398 | G10: =E10*1000000 -> 0.067958148
A11: ='Displacement method G1'!B11 -> 4189 | B11: ='Displacement method G1'!I11-'Pre-stress method G1'!I11 -> 2.87799e-09 | C11: ='Displacement method G1'!J11-'Pre-stress method G1'!J11 -> -2.8059588e-08 | D11: ='Displacement method G1'!K11-'Pre-stress method G1'!K11 -> 2.0098574e-08 | E11: =(B11^2+C11^2+D11^2)^0.5 -> 3.4634895e-08 | F11: ='Displacement method G1'!S11 -> 4.1587706 | G11: =E11*1000000 -> 0.034634895
A12: ='Displacement method G1'!B12 -> 5329 | B12: ='Displacement method G1'!I12-'Pre-stress method G1'!I12 -> -3.0057691e-08 | C12: ='Displacement method G1'!J12-'Pre-stress method G1'!J12 -> 2.4014904e-08 | D12: ='Displacement method G1'!K12-'Pre-stress method G1'!K12 -> -4.1968144e-08 | E12: =(B12^2+C12^2+D12^2)^0.5 -> 5.6934221e-08 | F12: ='Displacement method G1'!S12 -> 5.2236268 | G12: =E12*1000000 -> 0.056934221
A13: ='Displacement method G1'!B13 -> 5413 | B13: ='Displacement method G1'!I13-'Pre-stress method G1'!I13 -> -1.9026915e-08 | C13: ='Displacement method G1'!J13-'Pre-stress method G1'!J13 -> 3.898599e-08 | D13: ='Displacement method G1'!K13-'Pre-stress method G1'!K13 -> 1.9026009e-08 | E13: =(B13^2+C13^2+D13^2)^0.5 -> 4.7370032e-08 | F13: ='Displacement method G1'!S13 -> 5.2338037 | G13: =E13*1000000 -> 0.047370032
A14: ='Displacement method G1'!B14 -> 6547 | B14: ='Displacement method G1'!I14-'Pre-stress method G1'!I14 -> -3.1013185e-08 | C14: ='Displacement method G1'!J14-'Pre-stress method G1'!J14 -> 3.5000924e-08 | D14: ='Displacement method G1'!K14-'Pre-stress method G1'!K14 -> -2.8989735e-08 | E14: =(B14^2+C14^2+D14^2)^0.5 -> 5.5020787e-08 | F14: ='Displacement method G1'!S14 -> 5.7684049 | G14: =E14*1000000 -> 0.055020787
... A59: ='Displacement method G1'!B59 -> 48863 | B59: ='Displacement method G1'!I59-'Pre-stress method G1'!I59 -> 0 | C59: ='Displacement method G1'!J59-'Pre-stress method G1'!J59 -> 0 | D59: ='Displacement method G1'!K59-'Pre-stress method G1'!K59 -> 0 | E59: =(B59^2+C59^2+D59^2)^0.5 -> 0 | F59: ='Displacement method G1'!S59 -> 6.3442139 | G59: =E59*1000000 -> 0
A60: PHYSIOLOGICAL GEOMETRY DIFFERENCE | E60: =1000000*MAX(E62:E118) -> 0.1155058 | F60: MAX DIFFERENCE
A61: POINT | B61: X (m) | C61: Y (m) | D61: Z (m) | E61: ERROR (m) | F61: RADIUS (mm) | G61: ERROR (μm)
A62: ='Displacement method G1'!#REF! -> #REF! | B62: ='Displacement method G1'!I62-'Pre-stress method G1'!I62 -> 9.391557e-11 | C62: ='Displacement method G1'!J62-'Pre-stress method G1'!J62 -> -4.142361e-11 | D62: ='Displacement method G1'!K62-'Pre-stress method G1'!K62 -> -7.2958e-10 | E62: =(B62^2+C62^2+D62^2)^0.5 -> 7.3676524e-10 | F62: ='Displacement method G1'!S62 -> 7.1701003e-10 | G62: =E62*1000000 -> 0.00073676524
A63: ='Displacement method G1'!#REF! -> #REF! | B63: ='Displacement method G1'!I63-'Pre-stress method G1'!I63 -> 9.0059014e-09 | C63: ='Displacement method G1'!J63-'Pre-stress method G1'!J63 -> -1.1985625e-09 | D63: ='Displacement method G1'!K63-'Pre-stress method G1'!K63 -> -7.7472e-10 | E63: =(B63^2+C63^2+D63^2)^0.5 -> 9.1182785e-09 | F63: ='Displacement method G1'!S63 -> 0.96432442 | G63: =E63*1000000 -> 0.0091182785
A64: ='Displacement method G1'!#REF! -> #REF! | B64: ='Displacement method G1'!I64-'Pre-stress method G1'!I64 -> 9.986293e-10 | C64: ='Displacement method G1'!J64-'Pre-stress method G1'!J64 -> 2.915371e-09 | D64: ='Displacement method G1'!K64-'Pre-stress method G1'!K64 -> 9.30493e-09 | E64: =(B64^2+C64^2+D64^2)^0.5 -> 9.8019575e-09 | F64: ='Displacement method G1'!S64 -> 0.96369673 | G64: =E64*1000000 -> 0.0098019575
A65: ='Displacement method G1'!#REF! -> #REF! | B65: ='Displacement method G1'!I65-'Pre-stress method G1'!I65 -> -2.311751e-08 | C65: ='Displacement method G1'!J65-'Pre-stress method G1'!J65 -> -3.958403e-09 | D65: ='Displacement method G1'!K65-'Pre-stress method G1'!K65 -> -4.1744e-10 | E65: =(B65^2+C65^2+D65^2)^0.5 -> 2.3457674e-08 | F65: ='Displacement method G1'!S65 -> 1.9097696 | G65: =E65*1000000 -> 0.023457674
A66: ='Displacement method G1'!#REF! -> #REF! | B66: ='Displacement method G1'!I66-'Pre-stress method G1'!I66 -> -1.71136e-08 | C66: ='Displacement method G1'!J66-'Pre-stress method G1'!J66 -> 2.90467e-09 | D66: ='Displacement method G1'!K66-'Pre-stress method G1'!K66 -> -3.265e-10 | E66: =(B66^2+C66^2+D66^2)^0.5 -> 1.7361423e-08 | F66: ='Displacement method G1'!S66 -> 1.9078196 | G66: =E66*1000000 -> 0.017361423
A67: ='Displacement method G1'!#REF! -> #REF! | B67: ='Displacement method G1'!I67-'Pre-stress method G1'!I67 -> -4.218413e-08 | C67: ='Displacement method G1'!J67-'Pre-stress method G1'!J67 -> -5.7936481e-08 | D67: ='Displacement method G1'!K67-'Pre-stress method G1'!K67 -> -3.9976809e-08 | E67: =(B67^2+C67^2+D67^2)^0.5 -> 8.2062671e-08 | F67: ='Displacement method G1'!S67 -> 2.877191 | G67: =E67*1000000 -> 0.082062671
A68: ='Displacement method G1'!#REF! -> #REF! | B68: ='Displacement method G1'!I68-'Pre-stress method G1'!I68 -> -2.313596e-08 | C68: ='Displacement method G1'!J68-'Pre-stress method G1'!J68 -> -8.072095e-09 | D68: ='Displacement method G1'!K68-'Pre-stress method G1'!K68 -> 6.0036272e-08 | E68: =(B68^2+C68^2+D68^2)^0.5 -> 6.4844316e-08 | F68: ='Displacement method G1'!S68 -> 2.8724371 | G68: =E68*1000000 -> 0.064844316
A69: ='Displacement method G1'!#REF! -> #REF! | B69: ='Displacement method G1'!I69-'Pre-stress method G1'!I69 -> 3.486779e-08 | C69: ='Displacement method G1'!J69-'Pre-stress method G1'!J69 -> 5.6034886e-08 | D69: ='Displacement method G1'!K69-'Pre-stress method G1'!K69 -> 3.01687e-08 | E69: =(B69^2+C69^2+D69^2)^0.5 -> 7.2565982e-08 | F69: ='Displacement method G1'!S69 -> 3.8391468 | G69: =E69*1000000 -> 0.072565982
A70: ='Displacement method G1'!#REF! -> #REF! | B70: ='Displacement method G1'!I70-'Pre-stress method G1'!I70 -> -5.096213e-09 | C70: ='Displacement method G1'!J70-'Pre-stress method G1'!J70 -> -6.8026738e-08 | D70: ='Displacement method G1'!K70-'Pre-stress method G1'!K70 -> 4.014607e-08 | E70: =(B70^2+C70^2+D70^2)^0.5 -> 7.9153745e-08 | F70: ='Displacement method G1'!S70 -> 3.8360083 | G70: =E70*1000000 -> 0.079153745
A71: ='Displacement method G1'!#REF! -> #REF! | B71: ='Displacement method G1'!I71-'Pre-stress method G1'!I71 -> 3.979663e-09 | C71: ='Displacement method G1'!J71-'Pre-stress method G1'!J71 -> -1.4011128e-08 | D71: ='Displacement method G1'!K71-'Pre-stress method G1'!K71 -> 1.0078594e-08 | E71: =(B71^2+C71^2+D71^2)^0.5 -> 1.7712354e-08 | F71: ='Displacement method G1'!S71 -> 4.7644796 | G71: =E71*1000000 -> 0.017712354
A72: ='Displacement method G1'!#REF! -> #REF! | B72: ='Displacement method G1'!I72-'Pre-stress method G1'!I72 -> 4.1985049e-08 | C72: ='Displacement method G1'!J72-'Pre-stress method G1'!J72 -> 5.2012628e-08 | D72: ='Displacement method G1'!K72-'Pre-stress method G1'!K72 -> -2.9940767e-08 | E72: =(B72^2+C72^2+D72^2)^0.5 -> 7.3242797e-08 | F72: ='Displacement method G1'!S72 -> 4.7760489 | G72: =E72*1000000 -> 0.073242797
A73: ='Displacement method G1'!#REF! -> #REF! | B73: ='Displacement method G1'!I73-'Pre-stress method G1'!I73 -> -2.4001759e-08 | C73: ='Displacement method G1'!J73-'Pre-stress method G1'!J73 -> 4.0995946e-08 | D73: ='Displacement method G1'!K73-'Pre-stress method G1'!K73 -> 5.1029454e-08 | E73: =(B73^2+C73^2+D73^2)^0.5 -> 6.9719131e-08 | F73: ='Displacement method G1'!S73 -> 5.1893267 | G73: =E73*1000000 -> 0.069719131
... A118: ='Displacement method G1'!#REF! -> #REF! | B118: ='Displacement method G1'!I118-'Pre-stress method G1'!I118 -> 0 | C118: ='Displacement method G1'!J118-'Pre-stress method G1'!J118 -> 0 | D118: ='Displacement method G1'!K118-'Pre-stress method G1'!K118 -> 0 | E118: =(B118^2+C118^2+D118^2)^0.5 -> 0 | F118: ='Displacement method G1'!S118 -> 5.6262815 | G118: =E118*1000000 -> 0

Sheet Displacement methodI G2
B1: Free Stress Geometry | F1: Displacement PIO 14 mmHg (1850.61 Pa) | I1: Estimated Physiological Geometry PIO 14 mmHg ( 1860.51 Pa) | L1: Measured Physiological Geometry PIO 14 mmHg (1866.51 Pa) | O1: Difference | R1: =MAX(R3:R59) -> 1.1119802e-07
B2: POINT | C2: X (m) | D2: Y (m) | E2: Z (m) | F2: dx (mm) | G2: dy(mm) | H2: dz (mm) | I2: X (m) | J2: Y (m) | K2: Z (m) | L2: X (m) | M2: Y (m) | N2: Z (m) | O2: X (m) | P2: Y (m) | Q2: Z (m) | R2: ERROR (m) | S2: RADIUS (mm)
A3: CARA ANTERIOR | B3: 257 | C3: -1.3056e-06 | D3: 4.3144e-06 | E3: 0.00021825 | F3: 1.3056e-06 | G3: -4.3145e-06 | H3: -0.00021825 | I3: =C3+F3 -> 0 | J3: =D3+G3 -> -1e-10 | K3: =E3+H3 -> 0 | L3: 0 | M3: 0 | N3: 0 | O3: =L3-I3 -> 0 | P3: =M3-J3 -> 1e-10 | Q3: =N3-K3 -> 0 | R3: =(O3^2+P3^2+Q3^2)^0.5 -> 1e-10 | S3: =1000*(L3^2+M3^2)^0.5 -> 0
B4: 265 | C4: -0.00092691 | D4: -0.00037685 | E4: 0.00027476 | F4: -1.1497e-05 | G4: -1.1854e-05 | H4: -0.00021045 | I4: =C4+F4 -> -0.000938407 | J4: =D4+G4 -> -0.000388704 | K4: =E4+H4 -> 6.431e-05 | L4: -0.00093841 | M4: -0.0003887 | N4: 6.4312e-05 | O4: =L4-I4 -> -3e-09 | P4: =M4-J4 -> 4e-09 | Q4: =N4-K4 -> 2e-09 | R4: =(O4^2+P4^2+Q4^2)^0.5 -> 5.3851648e-09 | S4: =1000*(L4^2+M4^2)^0.5 -> 1.0157268
B5: 385 | C5: -0.00091723 | D5: 0.00038005 | E5: 0.00033941 | F5: -1.4472e-05 | G5: 5.8758e-06 | H5: -0.00023449 | I5: =C5+F5 -> -0.000931702 | J5: =D5+G5 -> 0.0003859258 | K5: =E5+H5 -> 0.00010492 | L5: -0.00093171 | M5: 0.00038593 | N5: 0.00010492 | O5: =L5-I5 -> -8e-09 | P5: =M5-J5 -> 4.2e-09 | Q5: =N5-K5 -> 0 | R5: =(O5^2+P5^2+Q5^2)^0.5 -> 9.0354856e-09 | S5: =1000*(L5^2+M5^2)^0.5 -> 1.0084768
B6: 1837 | C6: -0.0019118 | D6: -0.000786 | E6: 0.00055743 | F6: -3.6828e-05 | G6: -2.1169e-05 | H6: -0.00023188 | I6: =C6+F6 -> -0.001948628 | J6: =D6+G6 -> -0.000807169 | K6: =E6+H6 -> 0.00032555 | L6: -0.0019487 | M6: -0.00080716 | N6: 0.00032555 | O6: =L6-I6 -> -7.2e-08 | P6: =M6-J6 -> 9e-09 | Q6: =N6-K6 -> 0 | R6: =(O6^2+P6^2+Q6^2)^0.5 -> 7.256032e-08 | S6: =1000*(L6^2+M6^2)^0.5 -> 2.1092508
B7: 1909 | C7: -0.001898 | D7: 0.00078581 | E7: 0.00061246 | F7: -3.8356e-05 | G7: 1.6236e-05 | H7: -0.00024562 | I7: =C7+F7 -> -0.001936356 | J7: =D7+G7 -> 0.000802046 | K7: =E7+H7 -> 0.00036684 | L7: -0.0019363 | M7: 0.00080205 | N7: 0.00036684 | O7: =L7-I7 -> 5.6e-08 | P7: =M7-J7 -> 4e-09 | Q7: =N7-K7 -> 0 | R7: =(O7^2+P7^2+Q7^2)^0.5 -> 5.6142675e-08 | S7: =1000*(L7^2+M7^2)^0.5 -> 2.0958392
B8: 3061 | C8: -0.0028568 | D8: -0.0011803 | E8: 0.0010076 | F8: -7.2246e-05 | G8: -3.2993e-05 | H8: -0.00023942 | I8: =C8+F8 -> -0.002929046 | J8: =D8+G8 -> -0.001213293 | K8: =E8+H8 -> 0.00076818 | L8: -0.002929 | M8: -0.0012132 | N8: 0.00076814 | O8: =L8-I8 -> 4.6e-08 | P8: =M8-J8 -> 9.3e-08 | Q8: =N8-K8 -> -4e-08 | R8: =(O8^2+P8^2+Q8^2)^0.5 -> 1.1119802e-07 | S8: =1000*(L8^2+M8^2)^0.5 -> 3.1703147
B9: 3133 | C9: -0.0028689 | D9: 0.0011878 | E9: 0.0009894 | F9: -5.9935e-05 | G9: 2.5412e-05 | H9: -0.00022084 | I9: =C9+F9 -> -0.002928835 | J9: =D9+G9 -> 0.001213212 | K9: =E9+H9 -> 0.00076856 | L9: -0.0029289 | M9: 0.0012132 | N9: 0.00076856 | O9: =L9-I9 -> -6.5e-08 | P9: =M9-J9 -> -1.2e-08 | Q9: =N9-K9 -> 0 | R9: =(O9^2+P9^2+Q9^2)^0.5 -> 6.6098411e-08 | S9: =1000*(L9^2+M9^2)^0.5 -> 3.1702223
B10: 4285 | C10: -0.0037766 | D10: -0.0015619 | E10: 0.0015391 | F10: -8.6329e-05 | G10: -3.8201e-05 | H10: -0.0001895 | I10: =C10+F10 -> -0.003862929 | J10: =D10+G10 -> -0.001600101 | K10: =E10+H10 -> 0.0013496 | L10: -0.0038629 | M10: -0.0016001 | N10: 0.0013496 | O10: =L10-I10 -> 2.9e-08 | P10: =M10-J10 -> 1e-09 | Q10: =N10-K10 -> 0 | R10: =(O10^2+P10^2+Q10^2)^0.5 -> 2.9017236e-08 | S10: =1000*(L10^2+M10^2)^0.5 -> 4.181186
B11: 4357 | C11: -0.0038262 | D11: 0.0015816 | E11: 0.0014577 | F11: -6.4071e-05 | G11: 2.9805e-05 | H11: -0.00015543 | I11: =C11+F11 -> -0.003890271 | J11: =D11+G11 -> 0.001611405 | K11: =E11+H11 -> 0.00130227 | L11: -0.0038902 | M11: 0.0016114 | N11: 0.0013022 | O11: =L11-I11 -> 7.1e-08 | P11: =M11-J11 -> -5e-09 | Q11: =N11-K11 -> -7e-08 | R11: =(O11^2+P11^2+Q11^2)^0.5 -> 9.9829855e-08 | S11: =1000*(L11^2+M11^2)^0.5 -> 4.2107322
B12: 5509 | C12: -0.0047544 | D12: -0.0019658 | E12: 0.0021931 | F12: -5.6076e-05 | G12: -2.6734e-05 | H12: -8.0044e-05 | I12: =C12+F12 -> -0.004810476 | J12: =D12+G12 -> -0.001992534 | K12: =E12+H12 -> 0.002113056 | L12: -0.0048105 | M12: -0.0019926 | N12: 0.0021131 | O12: =L12-I12 -> -2.4e-08 | P12: =M12-J12 -> -6.6e-08 | Q12: =N12-K12 -> 4.4e-08 | R12: =(O12^2+P12^2+Q12^2)^0.5 -> 8.2873397e-08 | S12: =1000*(L12^2+M12^2)^0.5 -> 5.2068575
B13: 5581 | C13: -0.0048313 | D13: 0.0019955 | E13: 0.0020906 | F13: -3.9309e-05 | G13: 2.2004e-05 | H13: -5.8898e-05 | I13: =C13+F13 -> -0.004870609 | J13: =D13+G13 -> 0.002017504 | K13: =E13+H13 -> 0.002031702 | L13: -0.0048706 | M13: 0.0020175 | N13: 0.0020317 | O13: =L13-I13 -> 9e-09 | P13: =M13-J13 -> -4e-09 | Q13: =N13-K13 -> -2e-09 | R13: =(O13^2+P13^2+Q13^2)^0.5 -> 1.0049876e-08 | S13: =1000*(L13^2+M13^2)^0.5 -> 5.2719115
