Workbook

Sheet Displacemet Method
B1: Free Stress Geometry | F1: Displacement PIO 18 mmHg ( 2399.8 Pa) | I1: Estimated Physiological Geometry PIO 18 mmHg ( 2399.8 Pa) | L1: Measured Physiological Geometry PIO 18 mmHg ( 2399.8 Pa) | O1: Difference | R1: =MAX(R3:R59) -> 1.1805105e-07
B2: POINT | C2: X (m) | D2: Y (m) | E2: Z (m) | F2: dx (mm) | G2: dy(mm) | H2: dz (mm) | I2: X (m) | J2: Y (m) | K2: Z (m) | L2: X (m) | M2: Y (m) | N2: Z (m) | O2: X (m) | P2: Y (m) | Q2: Z (m) | R2: ERROR (m) | S2: RADIUS (mm) | W2: X(m) | X2: Y(m) | Y2: Z(m)
A3: ANTERIOR FACE | B3: 257 | C3: 3.3571e-07 | D3: -8.9876e-07 | E3: 0.00022176 | F3: -3.3572e-07 | G3: 8.9878e-07 | H3: -0.00022417 | I3: =C3+F3 -> -1e-11 | J3: =D3+G3 -> 2e-11 | K3: =E3+H3 -> -2.41e-06 | L3: 0 | M3: 0 | N3: -2.4103e-06 | O3: =L3-I3 -> 1e-11 | P3: =M3-J3 -> -2e-11 | Q3: =N3-K3 -> -3e-10 | R3: =(O3^2+P3^2+Q3^2)^0.5 -> 3.0083218e-10 | S3: =1000*(L3^2+M3^2)^0.5 -> 0 | U3: ANTERIOR FACE | V3: MIN | W3: =MIN(C3:C59) -> -0.0057508 | X3: =MIN(D3:D59) -> -0.0057414 | Y3: =MIN(E3:E59) -> 0.00022176
B4: 35816 | C4: -0.00038947 | D4: 0.00093783 | E4: 0.00031587 | F4: -7.6498e-06 | G4: 2.091e-05 | H4: -0.00023685 | I4: =C4+F4 -> -0.0003971198 | J4: =D4+G4 -> 0.00095874 | K4: =E4+H4 -> 7.902e-05 | L4: -0.00039712 | M4: 0.00095874 | N4: 7.9023e-05 | O4: =L4-I4 -> -2e-10 | P4: =M4-J4 -> 0 | Q4: =N4-K4 -> 3e-09 | R4: =(O4^2+P4^2+Q4^2)^0.5 -> 3.0066593e-09 | S4: =1000*(L4^2+M4^2)^0.5 -> 1.0377315 | V4: MAX | W4: =MAX(C3:C59) -> 0.0057422 | X4: =MAX(D3:D59) -> 0.0057501 | Y4: =MAX(E3:E59) -> 0.0028775
B5: 28811 | C5: -0.00093826 | D5: 0.00038928 | E5: 0.00031204 | F5: -2.0744e-05 | G5: 7.9482e-06 | H5: -0.00023513 | I5: =C5+F5 -> -0.000959004 | J5: =D5+G5 -> 0.0003972282 | K5: =E5+H5 -> 7.691e-05 | L5: -0.000959 | M5: 0.00039723 | N5: 7.6912e-05 | O5: =L5-I5 -> 4e-09 | P5: =M5-J5 -> 1.8e-09 | Q5: =N5-K5 -> 2e-09 | R5: =(O5^2+P5^2+Q5^2)^0.5 -> 4.8207883e-09 | S5: =1000*(L5^2+M5^2)^0.5 -> 1.0380138
B6: 42821 | C6: 0.00038965 | D6: 0.00093844 | E6: 0.00030362 | F6: 7.747e-06 | G6: 2.0966e-05 | H6: -0.00022996 | I6: =C6+F6 -> 0.000397397 | J6: =D6+G6 -> 0.000959406 | K6: =E6+H6 -> 7.366e-05 | L6: 0.0003974 | M6: 0.00095941 | N6: 7.3659e-05 | O6: =L6-I6 -> 3e-09 | P6: =M6-J6 -> 4e-09 | Q6: =N6-K6 -> -1e-09 | R6: =(O6^2+P6^2+Q6^2)^0.5 -> 5.0990195e-09 | S6: =1000*(L6^2+M6^2)^0.5 -> 1.0384577 | U6: POSTERIOR FACE | V6: MIN | W6: =MIN(C62:C118) -> -0.0051143 | X6: =MIN(D62:D118) -> -0.0051508 | Y6: =MIN(E62:E118) -> 0.00085494
B7: 21806 | C7: -0.00093902 | D7: -0.00039059 | E7: 0.00030019 | F7: -2.0634e-05 | G7: -6.9122e-06 | H7: -0.00022854 | I7: =C7+F7 -> -0.000959654 | J7: =D7+G7 -> -0.0003975022 | K7: =E7+H7 -> 7.165e-05 | L7: -0.00095965 | M7: -0.0003975 | N7: 7.1656e-05 | O7: =L7-I7 -> 4e-09 | P7: =M7-J7 -> 2.2e-09 | Q7: =N7-K7 -> 6e-09 | R7: =(O7^2+P7^2+Q7^2)^0.5 -> 7.5392307e-09 | S7: =1000*(L7^2+M7^2)^0.5 -> 1.0387177 | V7: MAX | W7: =MAX(C62:C118) -> 0.0051322 | X7: =MAX(D62:D118) -> 0.0051478 | Y7: =MAX(E62:E118) -> 0.0034143
B8: 14801 | C8: -0.00038926 | D8: -0.00094216 | E8: 0.00029168 | F8: -8.3977e-06 | G8: -1.7866e-05 | H8: -0.00022305 | I8: =C8+F8 -> -0.0003976577 | J8: =D8+G8 -> -0.000960026 | K8: =E8+H8 -> 6.863e-05 | L8: -0.00039766 | M8: -0.00096003 | N8: 6.8632e-05 | O8: =L8-I8 -> -2.3e-09 | P8: =M8-J8 -> -4e-09 | Q8: =N8-K8 -> 2e-09 | R8: =(O8^2+P8^2+Q8^2)^0.5 -> 5.0289164e-09 | S8: =1000*(L8^2+M8^2)^0.5 -> 1.03913
B9: 7796 | C9: 0.00039165 | D9: -0.00094351 | E9: 0.00028522 | F9: 6.1538e-06 | G9: -1.6888e-05 | H9: -0.00021954 | I9: =C9+F9 -> 0.0003978038 | J9: =D9+G9 -> -0.000960398 | K9: =E9+H9 -> 6.568e-05 | L9: 0.00039781 | M9: -0.00096039 | N9: 6.5675e-05 | O9: =L9-I9 -> 6.2e-09 | P9: =M9-J9 -> 8e-09 | Q9: =N9-K9 -> -5e-09 | R9: =(O9^2+P9^2+Q9^2)^0.5 -> 1.1288933e-08 | S9: =1000*(L9^2+M9^2)^0.5 -> 1.03952 | W9: X(mm) | X9: Y(mm) | Y9: Z(mm)
B10: 265 | C10: 0.00094207 | D10: 0.00038905 | E10: 0.00028561 | F10: 1.8429e-05 | G10: 8.803e-06 | H10: -0.00022079 | I10: =C10+F10 -> 0.000960499 | J10: =D10+G10 -> 0.000397853 | K10: =E10+H10 -> 6.482e-05 | L10: 0.0009605 | M10: 0.00039785 | N10: 6.4825e-05 | O10: =L10-I10 -> 1e-09 | P10: =M10-J10 -> -3e-09 | Q10: =N10-K10 -> 5e-09 | R10: =(O10^2+P10^2+Q10^2)^0.5 -> 5.9160798e-09 | S10: =1000*(L10^2+M10^2)^0.5 -> 1.0396369 | U10: ANTERIOR FACE | V10: MIN | W10: =W3*1000 -> -5.7508 | X10: =X3*1000 -> -5.7414 | Y10: =Y3*1000 -> 0.22176
B11: 385 | C11: 0.00094308 | D11: -0.00039297 | E11: 0.00027955 | F11: 1.7752e-05 | G11: -5.0218e-06 | H11: -0.00021745 | I11: =C11+F11 -> 0.000960832 | J11: =D11+G11 -> -0.0003979918 | K11: =E11+H11 -> 6.21e-05 | L11: 0.00096084 | M11: -0.00039799 | N11: 6.21e-05 | O11: =L11-I11 -> 8e-09 | P11: =M11-J11 -> 1.8e-09 | Q11: =N11-K11 -> 0 | R11: =(O11^2+P11^2+Q11^2)^0.5 -> 8.2e-09 | S11: =1000*(L11^2+M11^2)^0.5 -> 1.0400046 | V11: MAX | W11: =W4*1000 -> 5.7422 | X11: =X4*1000 -> 5.7501 | Y11: =Y4*1000 -> 2.8775
B12: 37256 | C12: -0.00077827 | D12: 0.0018735 | E12: 0.00054802 | F12: -1.6438e-05 | G12: 4.5107e-05 | H12: -0.00024331 | I12: =C12+F12 -> -0.000794708 | J12: =D12+G12 -> 0.001918607 | K12: =E12+H12 -> 0.00030471 | L12: -0.00079471 | M12: 0.0019186 | N12: 0.00030471 | O12: =L12-I12 -> -2e-09 | P12: =M12-J12 -> -7e-09 | Q12: =N12-K12 -> 0 | R12: =(O12^2+P12^2+Q12^2)^0.5 -> 7.2801099e-09 | S12: =1000*(L12^2+M12^2)^0.5 -> 2.0766776
B13: 44261 | C13: 0.0007793 | D13: 0.0018758 | E13: 0.00053034 | F13: 1.603e-05 | G13: 4.4276e-05 | H13: -0.00023129 | I13: =C13+F13 -> 0.00079533 | J13: =D13+G13 -> 0.001920076 | K13: =E13+H13 -> 0.00029905 | L13: 0.00079533 | M13: 0.0019201 | N13: 0.00029906 | O13: =L13-I13 -> 0 | P13: =M13-J13 -> 2.4e-08 | Q13: =N13-K13 -> 1e-08 | R13: =(O13^2+P13^2+Q13^2)^0.5 -> 2.6e-08 | S13: =1000*(L13^2+M13^2)^0.5 -> 2.0783007 | U13: POSTERIOR FACE | V13: MIN | W13: =W6*1000 -> -5.1143 | X13: =X6*1000 -> -5.1508 | Y13: =Y6*1000 -> 0.85494
B14: 30251 | C14: -0.0018771 | D14: 0.00077874 | E14: 0.00053176 | F14: -4.3894e-05 | G14: 1.697e-05 | H14: -0.00023613 | I14: =C14+F14 -> -0.001920994 | J14: =D14+G14 -> 0.00079571 | K14: =E14+H14 -> 0.00029563 | L14: -0.001921 | M14: 0.00079571 | N14: 0.00029563 | O14: =L14-I14 -> -6e-09 | P14: =M14-J14 -> 0 | Q14: =N14-K14 -> 0 | R14: =(O14^2+P14^2+Q14^2)^0.5 -> 6e-09 | S14: =1000*(L14^2+M14^2)^0.5 -> 2.0792776 | V14: MAX | W14: =W7*1000 -> 5.1322 | X14: =X7*1000 -> 5.1478 | Y14: =Y7*1000 -> 3.4143
B15: 16241 | C15: -0.00077932 | D15: -0.0018838 | E15: 0.00051143 | F15: -1.6949e-05 | G15: -3.8524e-05 | H15: -0.00022089 | I15: =C15+F15 -> -0.000796269 | J15: =D15+G15 -> -0.001922324 | K15: =E15+H15 -> 0.00029054 | L15: -0.00079627 | M15: -0.0019224 | N15: 0.00029054 | O15: =L15-I15 -> -1e-09 | P15: =M15-J15 -> -7.6e-08 | Q15: =N15-K15 -> 0 | R15: =(O15^2+P15^2+Q15^2)^0.5 -> 7.6006579e-08 | S15: =1000*(L15^2+M15^2)^0.5 -> 2.0807854
B16: 9236 | C16: 0.00078343 | D16: -0.001885 | E16: 0.00050944 | F16: 1.2978e-05 | G16: -3.7655e-05 | H16: -0.00022014 | I16: =C16+F16 -> 0.000796408 | J16: =D16+G16 -> -0.001922655 | K16: =E16+H16 -> 0.0002893 | L16: 0.00079641 | M16: -0.0019227 | N16: 0.0002893 | O16: =L16-I16 -> 2e-09 | P16: =M16-J16 -> -4.5e-08 | Q16: =N16-K16 -> 0 | R16: =(O16^2+P16^2+Q16^2)^0.5 -> 4.5044423e-08 | S16: =1000*(L16^2+M16^2)^0.5 -> 2.0811161
B17: 23246 | C17: -0.0018804 | D17: -0.00078232 | E17: 0.00051182 | F17: -4.2818e-05 | G17: -1.4291e-05 | H17: -0.00022434 | I17: =C17+F17 -> -0.001923218 | J17: =D17+G17 -> -0.000796611 | K17: =E17+H17 -> 0.00028748 | L17: -0.0019232 | M17: -0.00079661 | N17: 0.00028748 | O17: =L17-I17 -> 1.8e-08 | P17: =M17-J17 -> 1e-09 | Q17: =N17-K17 -> 0 | R17: =(O17^2+P17^2+Q17^2)^0.5 -> 1.8027756e-08 | S17: =1000*(L17^2+M17^2)^0.5 -> 2.0816546
B18: 1837 | C18: 0.0018867 | D18: 0.00078057 | E18: 0.00049565 | F18: 3.8077e-05 | G18: 1.668e-05 | H18: -0.00021402 | I18: =C18+F18 -> 0.001924777 | J18: =D18+G18 -> 0.00079725 | K18: =E18+H18 -> 0.00028163 | L18: 0.0019247 | M18: 0.00079725 | N18: 0.00028164 | O18: =L18-I18 -> -7.7e-08 | P18: =M18-J18 -> 0 | Q18: =N18-K18 -> 1e-08 | R18: =(O18^2+P18^2+Q18^2)^0.5 -> 7.7646635e-08 | S18: =1000*(L18^2+M18^2)^0.5 -> 2.0832853
B19: 1909 | C19: 0.0018882 | D19: -0.00078617 | E19: 0.00049112 | F19: 3.7396e-05 | G19: -1.1432e-05 | H19: -0.00021268 | I19: =C19+F19 -> 0.001925596 | J19: =D19+G19 -> -0.000797602 | K19: =E19+H19 -> 0.00027844 | L19: 0.0019256 | M19: -0.0007976 | N19: 0.00027844 | O19: =L19-I19 -> 4e-09 | P19: =M19-J19 -> 2e-09 | Q19: =N19-K19 -> 0 | R19: =(O19^2+P19^2+Q19^2)^0.5 -> 4.472136e-09 | S19: =1000*(L19^2+M19^2)^0.5 -> 2.0842507
B20: 45401 | C20: 0.0011719 | D20: 0.0028171 | E20: 0.00088651 | F20: 2.2932e-05 | G20: 6.759e-05 | H20: -0.00020958 | I20: =C20+F20 -> 0.001194832 | J20: =D20+G20 -> 0.00288469 | K20: =E20+H20 -> 0.00067693 | L20: 0.0011949 | M20: 0.0028847 | N20: 0.00067694 | O20: =L20-I20 -> 6.8e-08 | P20: =M20-J20 -> 1e-08 | Q20: =N20-K20 -> 1e-08 | R20: =(O20^2+P20^2+Q20^2)^0.5 -> 6.9455021e-08 | S20: =1000*(L20^2+M20^2)^0.5 -> 3.1223837
B21: 10376 | C21: 0.0011747 | D21: -0.0028232 | E21: 0.00088117 | F21: 2.0699e-05 | G21: -6.2718e-05 | H21: -0.00020709 | I21: =C21+F21 -> 0.001195399 | J21: =D21+G21 -> -0.002885918 | K21: =E21+H21 -> 0.00067408 | L21: 0.0011954 | M21: -0.0028859 | N21: 0.00067407 | O21: =L21-I21 -> 1e-09 | P21: =M21-J21 -> 1.8e-08 | Q21: =N21-K21 -> -1e-08 | R21: =(O21^2+P21^2+Q21^2)^0.5 -> 2.0615528e-08 | S21: =1000*(L21^2+M21^2)^0.5 -> 3.1236837
B22: 38396 | C22: -0.0011717 | D22: 0.0028172 | E22: 0.00089339 | F22: -2.4093e-05 | G22: 6.962e-05 | H22: -0.00022146 | I22: =C22+F22 -> -0.001195793 | J22: =D22+G22 -> 0.00288682 | K22: =E22+H22 -> 0.00067193 | L22: -0.0011957 | M22: 0.0028868 | N22: 0.00067193 | O22: =L22-I22 -> 9.3e-08 | P22: =M22-J22 -> -2e-08 | Q22: =N22-K22 -> 0 | R22: =(O22^2+P22^2+Q22^2)^0.5 -> 9.5126232e-08 | S22: =1000*(L22^2+M22^2)^0.5 -> 3.12463
B23: 17381 | C23: -0.0011722 | D23: -0.002826 | E23: 0.00087149 | F23: -2.3862e-05 | G23: -6.1466e-05 | H23: -0.00020124 | I23: =C23+F23 -> -0.001196062 | J23: =D23+G23 -> -0.002887466 | K23: =E23+H23 -> 0.00067025 | L23: -0.001196 | M23: -0.0028875 | N23: 0.00067025 | O23: =L23-I23 -> 6.2e-08 | P23: =M23-J23 -> -3.4e-08 | Q23: =N23-K23 -> 0 | R23: =(O23^2+P23^2+Q23^2)^0.5 -> 7.0710678e-08 | S23: =1000*(L23^2+M23^2)^0.5 -> 3.1253915
B24: 3061 | C24: 0.0028341 | D24: 0.0011753 | E24: 0.00084934 | F24: 5.8362e-05 | G24: 2.284e-05 | H24: -0.00019086 | I24: =C24+F24 -> 0.002892462 | J24: =D24+G24 -> 0.00119814 | K24: =E24+H24 -> 0.00065848 | L24: 0.0028925 | M24: 0.0011981 | N24: 0.00065847 | O24: =L24-I24 -> 3.8e-08 | P24: =M24-J24 -> -4e-08 | Q24: =N24-K24 -> -1e-08 | R24: =(O24^2+P24^2+Q24^2)^0.5 -> 5.6071383e-08 | S24: =1000*(L24^2+M24^2)^0.5 -> 3.1308146
B25: 3133 | C25: 0.0028341 | D25: -0.00118 | E25: 0.00085041 | F25: 5.9329e-05 | G25: -1.8498e-05 | H25: -0.0001942 | I25: =C25+F25 -> 0.002893429 | J25: =D25+G25 -> -0.001198498 | K25: =E25+H25 -> 0.00065621 | L25: 0.0028935 | M25: -0.0011985 | N25: 0.00065621 | O25: =L25-I25 -> 7.1e-08 | P25: =M25-J25 -> -2e-09 | Q25: =N25-K25 -> 0 | R25: =(O25^2+P25^2+Q25^2)^0.5 -> 7.1028163e-08 | S25: =1000*(L25^2+M25^2)^0.5 -> 3.1318915
B26: 31391 | C26: -0.0028281 | D26: 0.001175 | E26: 0.00086326 | F26: -6.594e-05 | G26: 2.3735e-05 | H26: -0.00020833 | I26: =C26+F26 -> -0.00289404 | J26: =D26+G26 -> 0.001198735 | K26: =E26+H26 -> 0.00065493 | L26: -0.002894 | M26: 0.0011987 | N26: 0.00065493 | O26: =L26-I26 -> 4e-08 | P26: =M26-J26 -> -3.5e-08 | Q26: =N26-K26 -> 0 | R26: =(O26^2+P26^2+Q26^2)^0.5 -> 5.3150729e-08 | S26: =1000*(L26^2+M26^2)^0.5 -> 3.13243
... B59: 28256 | C59: -0.0057508 | D59: -0.0023821 | E59: 0.0026668 | F59: 0 | G59: 0 | H59: 0 | I59: =C59+F59 -> -0.0057508 | J59: =D59+G59 -> -0.0023821 | K59: =E59+H59 -> 0.0026668 | L59: -0.0057508 | M59: -0.0023821 | N59: 0.0026668 | O59: =L59-I59 -> 0 | P59: =M59-J59 -> 0 | Q59: =N59-K59 -> 0 | R59: =(O59^2+P59^2+Q59^2)^0.5 -> 0 | S59: =1000*(L59^2+M59^2)^0.5 -> 6.2246366
B60: Free Stress Geometry | F60: Displacement PIO 18 mmHg ( 2399.8 Pa) | I60: Estimated Physiological Geometry PIO 18 mmHg ( 2399.8 Pa) | L60: Measured Physiological Geometry PIO 18 mmHg ( 2399.8 Pa) | O60: Difference | R60: =MAX(R62:R118) -> 1.1916375e-07
B61: POINT | C61: X (m) | D61: Y (m) | E61: Z (m) | F61: dx (mm) | G61: dy(mm) | H61: dz (mm) | I61: X (m) | J61: Y (m) | K61: Z (m) | L61: X (m) | M61: Y (m) | N61: Z (m) | O61: X (m) | P61: Y (m) | Q61: Z (m) | R61: ERROR (m) | S61: RADIUS (mm)
A62: POSTERIOR FACE | B62: 2 | C62: 4.5614e-06 | D62: -4.9312e-06 | E62: 0.00085494 | F62: -4.5615e-06 | G62: 4.9314e-06 | H62: -0.00025286 | I62: =C62+F62 -> -1e-10 | J62: =D62+G62 -> 2e-10 | K62: =E62+H62 -> 0.00060208 | L62: 0 | M62: 0 | N62: 0.00060208 | O62: =L62-I62 -> 1e-10 | P62: =M62-J62 -> -2e-10 | Q62: =N62-K62 -> 0 | R62: =(O62^2+P62^2+Q62^2)^0.5 -> 2.236068e-10 | S62: =1000*(L62^2+M62^2)^0.5 -> 0
B63: 35581 | C63: -0.00035197 | D63: 0.00085233 | E63: 0.00096118 | F63: -1.3527e-05 | G63: 3.0068e-05 | H63: -0.00026485 | I63: =C63+F63 -> -0.000365497 | J63: =D63+G63 -> 0.000882398 | K63: =E63+H63 -> 0.00069633 | L63: -0.0003655 | M63: 0.0008824 | N63: 0.00069633 | O63: =L63-I63 -> -3e-09 | P63: =M63-J63 -> 2e-09 | Q63: =N63-K63 -> 0 | R63: =(O63^2+P63^2+Q63^2)^0.5 -> 3.6055513e-09 | S63: =1000*(L63^2+M63^2)^0.5 -> 0.95510209
B64: 28576 | C64: -0.00085653 | D64: 0.00035071 | E64: 0.00095222 | F64: -2.676e-05 | G64: 1.5162e-05 | H64: -0.00026313 | I64: =C64+F64 -> -0.00088329 | J64: =D64+G64 -> 0.000365872 | K64: =E64+H64 -> 0.00068909 | L64: -0.00088329 | M64: 0.00036587 | N64: 0.00068909 | O64: =L64-I64 -> 0 | P64: =M64-J64 -> -2e-09 | Q64: =N64-K64 -> 0 | R64: =(O64^2+P64^2+Q64^2)^0.5 -> 2e-09 | S64: =1000*(L64^2+M64^2)^0.5 -> 0.95606594
B65: 42586 | C65: 0.00036172 | D65: 0.00085344 | E65: 0.00094549 | F65: 4.2497e-06 | G65: 3.0074e-05 | H65: -0.00025821 | I65: =C65+F65 -> 0.0003659697 | J65: =D65+G65 -> 0.000883514 | K65: =E65+H65 -> 0.00068728 | L65: 0.00036597 | M65: 0.00088352 | N65: 0.00068728 | O65: =L65-I65 -> 3e-10 | P65: =M65-J65 -> 6e-09 | Q65: =N65-K65 -> 0 | R65: =(O65^2+P65^2+Q65^2)^0.5 -> 6.0074953e-09 | S65: =1000*(L65^2+M65^2)^0.5 -> 0.9563167
B66: 21571 | C66: -0.00085792 | D66: -0.00036177 | E66: 0.00093518 | F66: -2.668e-05 | G66: -4.6393e-06 | H66: -0.00025665 | I66: =C66+F66 -> -0.0008846 | J66: =D66+G66 -> -0.0003664093 | K66: =E66+H66 -> 0.00067853 | L66: -0.0008846 | M66: -0.00036641 | N66: 0.00067852 | O66: =L66-I66 -> 0 | P66: =M66-J66 -> -7e-10 | Q66: =N66-K66 -> -1e-08 | R66: =(O66^2+P66^2+Q66^2)^0.5 -> 1.002447e-08 | S66: =1000*(L66^2+M66^2)^0.5 -> 0.95748287
B67: 14566 | C67: -0.00035396 | D67: -0.00086559 | E67: 0.000922 | F67: -1.2852e-05 | G67: -1.9969e-05 | H67: -0.00025123 | I67: =C67+F67 -> -0.000366812 | J67: =D67+G67 -> -0.000885559 | K67: =E67+H67 -> 0.00067077 | L67: -0.00036681 | M67: -0.00088556 | N67: 0.00067077 | O67: =L67-I67 -> 2e-09 | P67: =M67-J67 -> -1e-09 | Q67: =N67-K67 -> 0 | R67: =(O67^2+P67^2+Q67^2)^0.5 -> 2.236068e-09 | S67: =1000*(L67^2+M67^2)^0.5 -> 0.95852287
B68: 1 | C68: 0.00086824 | D68: 0.00035241 | E68: 0.00091619 | F68: 1.7758e-05 | G68: 1.4587e-05 | H68: -0.00024898 | I68: =C68+F68 -> 0.000885998 | J68: =D68+G68 -> 0.000366997 | K68: =E68+H68 -> 0.00066721 | L68: 0.000886 | M68: 0.00036699 | N68: 0.00066721 | O68: =L68-I68 -> 2e-09 | P68: =M68-J68 -> -7e-09 | Q68: =N68-K68 -> 0 | R68: =(O68^2+P68^2+Q68^2)^0.5 -> 7.2801099e-09 | S68: =1000*(L68^2+M68^2)^0.5 -> 0.95899826
B69: 7561 | C69: 0.00036176 | D69: -0.00086594 | E69: 0.00090874 | F69: 5.5408e-06 | G69: -2.0793e-05 | H69: -0.00024746 | I69: =C69+F69 -> 0.0003673008 | J69: =D69+G69 -> -0.000886733 | K69: =E69+H69 -> 0.00066128 | L69: 0.0003673 | M69: -0.00088673 | N69: 0.00066128 | O69: =L69-I69 -> -8e-10 | P69: =M69-J69 -> 3e-09 | Q69: =N69-K69 -> 0 | R69: =(O69^2+P69^2+Q69^2)^0.5 -> 3.1048349e-09 | S69: =1000*(L69^2+M69^2)^0.5 -> 0.95979132
B70: 22 | C70: 0.00086887 | D70: -0.00036161 | E70: 0.00090164 | F70: 1.8484e-05 | G70: -5.9426e-06 | H70: -0.00024539 | I70: =C70+F70 -> 0.000887354 | J70: =D70+G70 -> -0.0003675526 | K70: =E70+H70 -> 0.00065625 | L70: 0.00088736 | M70: -0.00036756 | N70: 0.00065625 | O70: =L70-I70 -> 6e-09 | P70: =M70-J70 -> -7.4e-09 | Q70: =N70-K70 -> 0 | R70: =(O70^2+P70^2+Q70^2)^0.5 -> 9.5268043e-09 | S70: =1000*(L70^2+M70^2)^0.5 -> 0.96047286
B71: 37076 | C71: -0.00070556 | D71: 0.0017007 | E71: 0.0012062 | F71: -1.9853e-05 | G71: 5.0635e-05 | H71: -0.00027309 | I71: =C71+F71 -> -0.000725413 | J71: =D71+G71 -> 0.001751335 | K71: =E71+H71 -> 0.00093311 | L71: -0.00072541 | M71: 0.0017513 | N71: 0.00093315 | O71: =L71-I71 -> 3e-09 | P71: =M71-J71 -> -3.5e-08 | Q71: =N71-K71 -> 4e-08 | R71: =(O71^2+P71^2+Q71^2)^0.5 -> 5.3235327e-08 | S71: =1000*(L71^2+M71^2)^0.5 -> 1.8955926
B72: 44081 | C72: 0.00071535 | D72: 0.0017026 | E72: 0.0011825 | F72: 1.1351e-05 | G72: 5.1859e-05 | H72: -0.00026104 | I72: =C72+F72 -> 0.000726701 | J72: =D72+G72 -> 0.001754459 | K72: =E72+H72 -> 0.00092146 | L72: 0.0007267 | M72: 0.0017544 | N72: 0.00092147 | O72: =L72-I72 -> -1e-09 | P72: =M72-J72 -> -5.9e-08 | Q72: =N72-K72 -> 1e-08 | R72: =(O72^2+P72^2+Q72^2)^0.5 -> 5.9849812e-08 | S72: =1000*(L72^2+M72^2)^0.5 -> 1.8989503
...

Sheet Pre-stress Method
B1: Free Stress Geometry | F1: Displacement PIO 18 mmHg ( 2399.8 Pa) | I1: Estimated Physiological Geometry PIO 18 mmHg ( 2399.8 Pa) | L1: Measured Physiological Geometry PIO 18 mmHg ( 2399.8 Pa) | O1: Difference | R1: =MAX(R3:R59) -> 8.7119672e-10 | T1: DESPLAZAMIENTO RESIDUAL PIO 18 mmHg ( 2399.8 Pa)
B2: POINT | C2: X (m) | D2: Y (m) | E2: Z (m) | F2: dx (mm) | G2: dy(mm) | H2: dz (mm) | I2: X (m) | J2: Y (m) | K2: Z (m) | L2: X (m) | M2: Y (m) | N2: Z (m) | O2: X (m) | P2: Y (m) | Q2: Z (m) | R2: ERROR (m) | S2: RADIUS (mm) | T2: dx (mm) | U2: dy(mm) | V2: dz (mm) | Z2: X(m) | AA2: Y(m) | AB2: Z(m)
A3: ANTERIOR FACE | B3: 257 | C3: =I3+F3 -> 1.8902767e-06 | D3: =J3+G3 -> -2.2713701e-06 | E3: =K3+H3 -> 0.00022120008 | F3: 1.8903e-06 | G3: -2.2714e-06 | H3: 0.00022361 | I3: =L3+T3 -> -2.325e-11 | J3: =M3+U3 -> 2.9866e-11 | K3: =N3+V3 -> -2.4099236e-06 | L3: 0 | M3: 0 | N3: -2.4103e-06 | O3: =L3-I3 -> 2.325e-11 | P3: =M3-J3 -> -2.9866e-11 | Q3: =N3-K3 -> -3.764e-10 | R3: =(O3^2+P3^2+Q3^2)^0.5 -> 3.7829816e-10 | S3: =1000*(L3^2+M3^2)^0.5 -> 0 | T3: -2.325e-11 | U3: 2.9866e-11 | V3: 3.764e-10 | X3: ANTERIOR FACE | Y3: MIN | Z3: =MIN(C3:C59) -> -0.0057508 | AA3: =MIN(D3:D59) -> -0.0057414 | AB3: =MIN(E3:E59) -> 0.00022120008
B4: 35816 | C4: =I4+F4 -> -0.00038794145 | D4: =J4+G4 -> 0.00093616908 | E4: =K4+H4 -> 0.00032132263 | F4: 9.1786e-06 | G4: -2.2571e-05 | H4: 0.0002423 | I4: =L4+T4 -> -0.00039712005 | J4: =M4+U4 -> 0.00095874008 | K4: =N4+V4 -> 7.9022626e-05 | L4: -0.00039712 | M4: 0.00095874 | N4: 7.9023e-05 | O4: =L4-I4 -> 4.755e-11 | P4: =M4-J4 -> -8.2651e-11 | Q4: =N4-K4 -> 3.7421e-10 | R4: =(O4^2+P4^2+Q4^2)^0.5 -> 3.8616747e-10 | S4: =1000*(L4^2+M4^2)^0.5 -> 1.0377315 | T4: -4.755e-11 | U4: 8.2651e-11 | V4: -3.7421e-10 | Y4: MAX | Z4: =MAX(C3:C59) -> 0.0057422 | AA4: =MAX(D3:D59) -> 0.0057501 | AB4: =MAX(E3:E59) -> 0.0028775
B5: 28811 | C5: =I5+F5 -> -0.00093688106 | D5: =J5+G5 -> 0.00038774134 | E5: =K5+H5 -> 0.00031708176 | F5: 2.2119e-05 | G5: -9.4887e-06 | H5: 0.00024017 | I5: =L5+T5 -> -0.00095900006 | J5: =M5+U5 -> 0.00039723004 | K5: =N5+V5 -> 7.6911759e-05 | L5: -0.000959 | M5: 0.00039723 | N5: 7.6912e-05 | O5: =L5-I5 -> 5.5364e-11 | P5: =M5-J5 -> -4.1825e-11 | Q5: =N5-K5 -> 2.4135e-10 | R5: =(O5^2+P5^2+Q5^2)^0.5 -> 2.5112611e-10 | S5: =1000*(L5^2+M5^2)^0.5 -> 1.0380138 | T5: -5.5364e-11 | U5: 4.1825e-11 | V5: -2.4135e-10
B6: 42821 | C6: =I6+F6 -> 0.00039153927 | D6: =J6+G6 -> 0.00093694403 | E6: =K6+H6 -> 0.00030645897 | F6: -5.8607e-06 | G6: -2.2466e-05 | H6: 0.0002328 | I6: =L6+T6 -> 0.00039739997 | J6: =M6+U6 -> 0.00095941003 | K6: =N6+V6 -> 7.3658968e-05 | L6: 0.0003974 | M6: 0.00095941 | N6: 7.3659e-05 | O6: =L6-I6 -> 3.2555e-11 | P6: =M6-J6 -> -2.5402e-11 | Q6: =N6-K6 -> 3.2029e-11 | R6: =(O6^2+P6^2+Q6^2)^0.5 -> 5.2258458e-11 | S6: =1000*(L6^2+M6^2)^0.5 -> 1.0384577 | T6: -3.2555e-11 | U6: 2.5402e-11 | V6: -3.2029e-11 | X6: POSTERIOR FACE | Y6: MIN | Z6: =MIN(C62:C118) -> -0.0051143 | AA6: =MIN(D62:D118) -> -0.0051508 | AB6: =MIN(E62:E118) -> 0.00085476039
B7: 21806 | C7: =I7+F7 -> -0.000937831 | D7: =J7+G7 -> -0.00039223193 | E7: =K7+H7 -> 0.00030276619 | F7: 2.1819e-05 | G7: 5.268e-06 | H7: 0.00023111 | I7: =L7+T7 -> -0.00095965 | J7: =M7+U7 -> -0.00039749993 | K7: =N7+V7 -> 7.1656186e-05 | L7: -0.00095965 | M7: -0.0003975 | N7: 7.1656e-05 | O7: =L7-I7 -> -3.0706e-12 | P7: =M7-J7 -> -6.9818e-11 | Q7: =N7-K7 -> -1.8621e-10 | R7: =(O7^2+P7^2+Q7^2)^0.5 -> 1.988923e-10 | S7: =1000*(L7^2+M7^2)^0.5 -> 1.0387177 | T7: 3.0706e-12 | U7: 6.9818e-11 | V7: 1.8621e-10 | Y7: MAX | Z7: =MAX(C62:C118) -> 0.0051322 | AA7: =MAX(D62:D118) -> 0.0051478004 | AB7: =MAX(E62:E118) -> 0.0034143
B8: 14801 | C8: =I8+F8 -> -0.00038805499 | D8: =J8+G8 -> -0.00094393584 | E8: =K8+H8 -> 0.00029154258 | F8: 9.605e-06 | G8: 1.6094e-05 | H8: 0.00022291 | I8: =L8+T8 -> -0.00039765999 | J8: =M8+U8 -> -0.00096002984 | K8: =N8+V8 -> 6.8632585e-05 | L8: -0.00039766 | M8: -0.00096003 | N8: 6.8632e-05 | O8: =L8-I8 -> -6.2497e-12 | P8: =M8-J8 -> -1.5597e-10 | Q8: =N8-K8 -> -5.8465e-10 | R8: =(O8^2+P8^2+Q8^2)^0.5 -> 6.0512918e-10 | S8: =1000*(L8^2+M8^2)^0.5 -> 1.03913 | T8: 6.2497e-12 | U8: 1.5597e-10 | V8: 5.8465e-10
B9: 7796 | C9: =I9+F9 -> 0.00039336781 | D9: =J9+G9 -> -0.00094517379 | E9: =K9+H9 -> 0.00028305575 | F9: -4.4421e-06 | G9: 1.5216e-05 | H9: 0.00021738 | I9: =L9+T9 -> 0.00039780991 | J9: =M9+U9 -> -0.00096038979 | K9: =N9+V9 -> 6.5675745e-05 | L9: 0.00039781 | M9: -0.00096039 | N9: 6.5675e-05 | O9: =L9-I9 -> 8.5489e-11 | P9: =M9-J9 -> -2.1104e-10 | Q9: =N9-K9 -> -7.4538e-10 | R9: =(O9^2+P9^2+Q9^2)^0.5 -> 7.7938283e-10 | S9: =1000*(L9^2+M9^2)^0.5 -> 1.03952 | T9: -8.5489e-11 | U9: 2.1104e-10 | V9: 7.4538e-10 | Z9: X(mm) | AA9: Y(mm) | AB9: Z(mm)
B10: 265 | C10: =I10+F10 -> 0.00094447489 | D10: =J10+G10 -> 0.000387819 | E10: =K10+H10 -> 0.00028468547 | F10: -1.6025e-05 | G10: -1.0031e-05 | H10: 0.00021986 | I10: =L10+T10 -> 0.00096049989 | J10: =M10+U10 -> 0.00039785 | K10: =N10+V10 -> 6.4825474e-05 | L10: 0.0009605 | M10: 0.00039785 | N10: 6.4825e-05 | O10: =L10-I10 -> 1.125e-10 | P10: =M10-J10 -> -3.4899e-12 | Q10: =N10-K10 -> -4.7354e-10 | R10: =(O10^2+P10^2+Q10^2)^0.5 -> 4.8673254e-10 | S10: =1000*(L10^2+M10^2)^0.5 -> 1.0396369 | T10: -1.125e-10 | U10: 3.4899e-12 | V10: 4.7354e-10 | X10: ANTERIOR FACE | Y10: MIN | Z10: =Z3*1000 -> -5.7508 | AA10: =AA3*1000 -> -5.7414 | AB10: =AB3*1000 -> 0.22120008
B11: 385 | C11: =I11+F11 -> 0.00094540284 | D11: =J11+G11 -> -0.00039443129 | E11: =K11+H11 -> 0.00027674072 | F11: -1.5437e-05 | G11: 3.5586e-06 | H11: 0.00021464 | I11: =L11+T11 -> 0.00096083984 | J11: =M11+U11 -> -0.00039798989 | K11: =N11+V11 -> 6.2100722e-05 | L11: 0.00096084 | M11: -0.00039799 | N11: 6.21e-05 | O11: =L11-I11 -> 1.572e-10 | P11: =M11-J11 -> -1.0956e-10 | Q11: =N11-K11 -> -7.2204e-10 | R11: =(O11^2+P11^2+Q11^2)^0.5 -> 7.4703212e-10 | S11: =1000*(L11^2+M11^2)^0.5 -> 1.0400046 | T11: -1.572e-10 | U11: 1.0956e-10 | V11: 7.2204e-10 | Y11: MAX | Z11: =Z4*1000 -> 5.7422 | AA11: =AA4*1000 -> 5.7501 | AB11: =AB4*1000 -> 2.8775
B12: 37256 | C12: =I12+F12 -> -0.00077636316 | D12: =J12+G12 -> 0.0018709173 | E12: =K12+H12 -> 0.0005597192 | F12: 1.8347e-05 | G12: -4.7683e-05 | H12: 0.00025501 | I12: =L12+T12 -> -0.00079471016 | J12: =M12+U12 -> 0.0019186003 | K12: =N12+V12 -> 0.0003047092 | L12: -0.00079471 | M12: 0.0019186 | N12: 0.00030471 | O12: =L12-I12 -> 1.6096e-10 | P12: =M12-J12 -> -3.012e-10 | Q12: =N12-K12 -> 8.0147e-10 | R12: =(O12^2+P12^2+Q12^2)^0.5 -> 8.7119672e-10 | S12: =1000*(L12^2+M12^2)^0.5 -> 2.0766776 | T12: -1.6096e-10 | U12: 3.012e-10 | V12: -8.0147e-10
B13: 44261 | C13: =I13+F13 -> 0.00078125199 | D13: =J13+G13 -> 0.0018734281 | E13: =K13+H13 -> 0.00053787972 | F13: -1.4078e-05 | G13: -4.6672e-05 | H13: 0.00023882 | I13: =L13+T13 -> 0.00079532999 | J13: =M13+U13 -> 0.0019201001 | K13: =N13+V13 -> 0.00029905972 | L13: 0.00079533 | M13: 0.0019201 | N13: 0.00029906 | O13: =L13-I13 -> 7.7015e-12 | P13: =M13-J13 -> -1.4396e-10 | Q13: =N13-K13 -> 2.7695e-10 | R13: =(O13^2+P13^2+Q13^2)^0.5 -> 3.1222604e-10 | S13: =1000*(L13^2+M13^2)^0.5 -> 2.0783007 | T13: -7.7015e-12 | U13: 1.4396e-10 | V13: -2.7695e-10 | X13: POSTERIOR FACE | Y13: MIN | Z13: =Z6*1000 -> -5.1143 | AA13: =AA6*1000 -> -5.1508 | AB13: =AB6*1000 -> 0.85476039
B14: 30251 | C14: =I14+F14 -> -0.0018754012 | D14: =J14+G14 -> 0.00077679414 | E14: =K14+H14 -> 0.00054178941 | F14: 4.5599e-05 | G14: -1.8916e-05 | H14: 0.00024616 | I14: =L14+T14 -> -0.0019210002 | J14: =M14+U14 -> 0.00079571014 | K14: =N14+V14 -> 0.00029562941 | L14: -0.001921 | M14: 0.00079571 | N14: 0.00029563 | O14: =L14-I14 -> 2.4025e-10 | P14: =M14-J14 -> -1.3852e-10 | Q14: =N14-K14 -> 5.8647e-10 | R14: =(O14^2+P14^2+Q14^2)^0.5 -> 6.4873331e-10 | S14: =1000*(L14^2+M14^2)^0.5 -> 2.0792776 | T14: -2.4025e-10 | U14: 1.3852e-10 | V14: -5.8647e-10 | Y14: MAX | Z14: =Z7*1000 -> 5.1322 | AA14: =AA7*1000 -> 5.1478004 | AB14: =AB7*1000 -> 3.4143
B15: 16241 | C15: =I15+F15 -> -0.00077796999 | D15: =J15+G15 -> -0.0018857457 | E15: =K15+H15 -> 0.0005145805 | F15: 1.83e-05 | G15: 3.6654e-05 | H15: 0.00022404 | I15: =L15+T15 -> -0.00079626999 | J15: =M15+U15 -> -0.0019223997 | K15: =N15+V15 -> 0.0002905405 | L15: -0.00079627 | M15: -0.0019224 | N15: 0.00029054 | O15: =L15-I15 -> -7.5301e-12 | P15: =M15-J15 -> -2.731e-10 | Q15: =N15-K15 -> -4.983e-10 | R15: =(O15^2+P15^2+Q15^2)^0.5 -> 5.6828092e-10 | S15: =1000*(L15^2+M15^2)^0.5 -> 2.0807854 | T15: 7.5301e-12 | U15: 2.731e-10 | V15: 4.983e-10
B16: 9236 | C16: =I16+F16 -> 0.00078518088 | D16: =J16+G16 -> -0.0018864237 | E16: =K16+H16 -> 0.00051030047 | F16: -1.1229e-05 | G16: 3.6276e-05 | H16: 0.000221 | I16: =L16+T16 -> 0.00079640988 | J16: =M16+U16 -> -0.0019226997 | K16: =N16+V16 -> 0.00028930047 | L16: 0.00079641 | M16: -0.0019227 | N16: 0.0002893 | O16: =L16-I16 -> 1.1862e-10 | P16: =M16-J16 -> -2.6623e-10 | Q16: =N16-K16 -> -4.6932e-10 | R16: =(O16^2+P16^2+Q16^2)^0.5 -> 5.5245849e-10 | S16: =1000*(L16^2+M16^2)^0.5 -> 2.0811161 | T16: -1.1862e-10 | U16: 2.6623e-10 | V16: 4.6932e-10
B17: 23246 | C17: =I17+F17 -> -0.001878996 | D17: =J17+G17 -> -0.0007842599 | E17: =K17+H17 -> 0.00051781008 | F17: 4.4204e-05 | G17: 1.235e-05 | H17: 0.00023033 | I17: =L17+T17 -> -0.0019232 | J17: =M17+U17 -> -0.0007966099 | K17: =N17+V17 -> 0.00028748008 | L17: -0.0019232 | M17: -0.00079661 | N17: 0.00028748 | O17: =L17-I17 -> 3.1976e-11 | P17: =M17-J17 -> -1.0134e-10 | Q17: =N17-K17 -> -7.9567e-11 | R17: =(O17^2+P17^2+Q17^2)^0.5 -> 1.3275228e-10 | S17: =1000*(L17^2+M17^2)^0.5 -> 2.0816546 | T17: -3.1976e-11 | U17: 1.0134e-10 | V17: 7.9567e-11
B18: 1837 | C18: =I18+F18 -> 0.0018896598 | D18: =J18+G18 -> 0.00077932302 | E18: =K18+H18 -> 0.00049653044 | F18: -3.504e-05 | G18: -1.7927e-05 | H18: 0.00021489 | I18: =L18+T18 -> 0.0019246998 | J18: =M18+U18 -> 0.00079725002 | K18: =N18+V18 -> 0.00028164044 | L18: 0.0019247 | M18: 0.00079725 | N18: 0.00028164 | O18: =L18-I18 -> 2.1137e-10 | P18: =M18-J18 -> -2.4444e-11 | Q18: =N18-K18 -> -4.4341e-10 | R18: =(O18^2+P18^2+Q18^2)^0.5 -> 4.9182031e-10 | S18: =1000*(L18^2+M18^2)^0.5 -> 2.0832853 | T18: -2.1137e-10 | U18: 2.4444e-11 | V18: 4.4341e-10
B19: 1909 | C19: =I19+F19 -> 0.0018908528 | D19: =J19+G19 -> -0.00078782033 | E19: =K19+H19 -> 0.00048980056 | F19: -3.4747e-05 | G19: 9.7795e-06 | H19: 0.00021136 | I19: =L19+T19 -> 0.0019255998 | J19: =M19+U19 -> -0.00079759983 | K19: =N19+V19 -> 0.00027844056 | L19: 0.0019256 | M19: -0.0007976 | N19: 0.00027844 | O19: =L19-I19 -> 2.3007e-10 | P19: =M19-J19 -> -1.6619e-10 | Q19: =N19-K19 -> -5.6244e-10 | R19: =(O19^2+P19^2+Q19^2)^0.5 -> 6.2999212e-10 | S19: =1000*(L19^2+M19^2)^0.5 -> 2.0842507 | T19: -2.3007e-10 | U19: 1.6619e-10 | V19: 5.6244e-10
B20: 45401 | C20: =I20+F20 -> 0.001173312 | D20: =J20+G20 -> 0.0028143612 | E20: =K20+H20 -> 0.00089670979 | F20: -2.1588e-05 | G20: -7.0339e-05 | H20: 0.00021977 | I20: =L20+T20 -> 0.0011949 | J20: =M20+U20 -> 0.0028847002 | K20: =N20+V20 -> 0.00067693979 | L20: 0.0011949 | M20: 0.0028847 | N20: 0.00067694 | O20: =L20-I20 -> 2.6406e-11 | P20: =M20-J20 -> -1.9179e-10 | Q20: =N20-K20 -> 2.1137e-10 | R20: =(O20^2+P20^2+Q20^2)^0.5 -> 2.8663209e-10 | S20: =1000*(L20^2+M20^2)^0.5 -> 3.1223837 | T20: -2.6406e-11 | U20: 1.9179e-10 | V20: -2.1137e-10
B21: 10376 | C21: =I21+F21 -> 0.0011758409 | D21: =J21+G21 -> -0.0028235759 | E21: =K21+H21 -> 0.00088652004 | F21: -1.9559e-05 | G21: 6.2324e-05 | H21: 0.00021245 | I21: =L21+T21 -> 0.0011953999 | J21: =M21+U21 -> -0.0028858999 | K21: =N21+V21 -> 0.00067407004 | L21: 0.0011954 | M21: -0.0028859 | N21: 0.00067407 | O21: =L21-I21 -> 5.4973e-11 | P21: =M21-J21 -> -8.9356e-11 | Q21: =N21-K21 -> -4.0891e-11 | R21: =(O21^2+P21^2+Q21^2)^0.5 -> 1.1259929e-10 | S21: =1000*(L21^2+M21^2)^0.5 -> 3.1236837 | T21: -5.4973e-11 | U21: 8.9356e-11 | V21: 4.0891e-11
B22: 38396 | C22: =I22+F22 -> -0.0011695822 | D22: =J22+G22 -> 0.0028140924 | E22: =K22+H22 -> 0.00090730936 | F22: 2.6118e-05 | G22: -7.2708e-05 | H22: 0.00023538 | I22: =L22+T22 -> -0.0011957002 | J22: =M22+U22 -> 0.0028868004 | K22: =N22+V22 -> 0.00067192936 | L22: -0.0011957 | M22: 0.0028868 | N22: 0.00067193 | O22: =L22-I22 -> 2.0392e-10 | P22: =M22-J22 -> -4.2913e-10 | Q22: =N22-K22 -> 6.418e-10 | R22: =(O22^2+P22^2+Q22^2)^0.5 -> 7.9852562e-10 | S22: =1000*(L22^2+M22^2)^0.5 -> 3.12463 | T22: -2.0392e-10 | U22: 4.2913e-10 | V22: -6.418e-10
B23: 17381 | C23: =I23+F23 -> -0.00117093 | D23: =J23+G23 -> -0.0028270387 | E23: =K23+H23 -> 0.00087797026 | F23: 2.507e-05 | G23: 6.0461e-05 | H23: 0.00020772 | I23: =L23+T23 -> -0.001196 | J23: =M23+U23 -> -0.0028874997 | K23: =N23+V23 -> 0.00067025026 | L23: -0.001196 | M23: -0.0028875 | N23: 0.00067025 | O23: =L23-I23 -> 2.3742e-11 | P23: =M23-J23 -> -2.6175e-10 | Q23: =N23-K23 -> -2.594e-10 | R23: =(O23^2+P23^2+Q23^2)^0.5 -> 3.6927646e-10 | S23: =1000*(L23^2+M23^2)^0.5 -> 3.1253915 | T23: -2.3742e-11 | U23: 2.6175e-10 | V23: 2.594e-10
B24: 3061 | C24: =I24+F24 -> 0.0028371388 | D24: =J24+G24 -> 0.001174009 | E24: =K24+H24 -> 0.00085245027 | F24: -5.5361e-05 | G24: -2.4091e-05 | H24: 0.00019398 | I24: =L24+T24 -> 0.0028924998 | J24: =M24+U24 -> 0.0011981 | K24: =N24+V24 -> 0.00065847027 | L24: 0.0028925 | M24: 0.0011981 | N24: 0.00065847 | O24: =L24-I24 -> 2.3438e-10 | P24: =M24-J24 -> -3.8639e-11 | Q24: =N24-K24 -> -2.7179e-10 | R24: =(O24^2+P24^2+Q24^2)^0.5 -> 3.6096643e-10 | S24: =1000*(L24^2+M24^2)^0.5 -> 3.1308146 | T24: -2.3438e-10 | U24: 3.8639e-11 | V24: 2.7179e-10
B25: 3133 | C25: =I25+F25 -> 0.0028368458 | D25: =J25+G25 -> -0.0011809299 | E25: =K25+H25 -> 0.00085217019 | F25: -5.6654e-05 | G25: 1.757e-05 | H25: 0.00019596 | I25: =L25+T25 -> 0.0028934998 | J25: =M25+U25 -> -0.0011984999 | K25: =N25+V25 -> 0.00065621019 | L25: 0.0028935 | M25: -0.0011985 | N25: 0.00065621 | O25: =L25-I25 -> 1.5283e-10 | P25: =M25-J25 -> -1.2163e-10 | Q25: =N25-K25 -> -1.8865e-10 | R25: =(O25^2+P25^2+Q25^2)^0.5 -> 2.7155053e-10 | S25: =1000*(L25^2+M25^2)^0.5 -> 3.1318915 | T25: -1.5283e-10 | U25: 1.2163e-10 | V25: 1.8865e-10
B26: 31391 | C26: =I26+F26 -> -0.0028265733 | D26: =J26+G26 -> 0.0011727472 | E26: =K26+H26 -> 0.00087437955 | F26: 6.7427e-05 | G26: -2.5953e-05 | H26: 0.00021945 | I26: =L26+T26 -> -0.0028940003 | J26: =M26+U26 -> 0.0011987002 | K26: =N26+V26 -> 0.00065492955 | L26: -0.002894 | M26: 0.0011987 | N26: 0.00065493 | O26: =L26-I26 -> 2.7979e-10 | P26: =M26-J26 -> -1.8597e-10 | Q26: =N26-K26 -> 4.4708e-10 | R26: =(O26^2+P26^2+Q26^2)^0.5 -> 5.592386e-10 | S26: =1000*(L26^2+M26^2)^0.5 -> 3.13243 | T26: -2.7979e-10 | U26: 1.8597e-10 | V26: -4.4708e-10
... B59: 28256 | C59: =I59+F59 -> -0.0057508 | D59: =J59+G59 -> -0.0023821 | E59: =K59+H59 -> 0.0026668 | F59: 0 | G59: 0 | H59: 0 | I59: =L59+T59 -> -0.0057508 | J59: =M59+U59 -> -0.0023821 | K59: =N59+V59 -> 0.0026668 | L59: -0.0057508 | M59: -0.0023821 | N59: 0.0026668 | O59: =L59-I59 -> 0 | P59: =M59-J59 -> 0 | Q59: =N59-K59 -> 0 | R59: =(O59^2+P59^2+Q59^2)^0.5 -> 0 | S59: =1000*(L59^2+M59^2)^0.5 -> 6.2246366 | T59: 0 | U59: 0 | V59: 0
B60: Free Stress Geometry | F60: Displacement PIO 18 mmHg ( 2399.8 Pa) | I60: Estimated Physiological Geometry PIO 18 mmHg ( 2399.8 Pa) | L60: Measured Physiological Geometry PIO 18 mmHg ( 2399.8 Pa) | O60: Difference | R60: =MAX(R62:R118) -> 9.2546445e-10 | T60: DESPLAZAMIENTO RESIDUAL PIO 18 mmHg ( 2399.8 Pa)
B61: POINT | C61: X (m) | D61: Y (m) | E61: Z (m) | F61: dx (mm) | G61: dy(mm) | H61: dz (mm) | I61: X (m) | J61: Y (m) | K61: Z (m) | L61: X (m) | M61: Y (m) | N61: Z (m) | O61: X (m) | P61: Y (m) | Q61: Z (m) | R61: ERROR (m) | S61: RADIUS (mm) | T61: dx (mm) | U61: dy(mm) | V61: dz (mm)
A62: POSTERIOR FACE | B62: 2 | C62: =I62+F62 -> 6.8853068e-06 | D62: =J62+G62 -> -6.8927014e-06 | E62: =K62+H62 -> 0.00085476039 | F62: 6.8856e-06 | G62: -6.8931e-06 | H62: 0.00025268 | I62: =L62+T62 -> -2.932e-10 | J62: =M62+U62 -> 3.9865e-10 | K62: =N62+V62 -> 0.00060208039 | L62: 0 | M62: 0 | N62: 0.00060208 | O62: =L62-I62 -> 2.932e-10 | P62: =M62-J62 -> -3.9865e-10 | Q62: =N62-K62 -> -3.9296e-10 | R62: =(O62^2+P62^2+Q62^2)^0.5 -> 6.3190634e-10 | S62: =1000*(L62^2+M62^2)^0.5 -> 0 | T62: -2.932e-10 | U62: 3.9865e-10 | V62: 3.9296e-10
B63: 35581 | C63: =I63+F63 -> -0.00034922527 | D63: =J63+G63 -> 0.00084862241 | E63: =K63+H63 -> 0.00096676922 | F63: 1.6275e-05 | G63: -3.3778e-05 | H63: 0.00027044 | I63: =L63+T63 -> -0.00036550027 | J63: =M63+U63 -> 0.00088240041 | K63: =N63+V63 -> 0.00069632922 | L63: -0.0003655 | M63: 0.0008824 | N63: 0.00069633 | O63: =L63-I63 -> 2.7097e-10 | P63: =M63-J63 -> -4.0972e-10 | Q63: =N63-K63 -> 7.8434e-10 | R63: =(O63^2+P63^2+Q63^2)^0.5 -> 9.2546445e-10 | S63: =1000*(L63^2+M63^2)^0.5 -> 0.95510209 | T63: -2.7097e-10 | U63: 4.0972e-10 | V63: -7.8434e-10
B64: 28576 | C64: =I64+F64 -> -0.0008530603 | D64: =J64+G64 -> 0.00034807946 | E64: =K64+H64 -> 0.0009573698 | F64: 3.023e-05 | G64: -1.7791e-05 | H64: 0.00026828 | I64: =L64+T64 -> -0.0008832903 | J64: =M64+U64 -> 0.00036587046 | K64: =N64+V64 -> 0.0006890898 | L64: -0.00088329 | M64: 0.00036587 | N64: 0.00068909 | O64: =L64-I64 -> 3.0307e-10 | P64: =M64-J64 -> -4.6257e-10 | Q64: =N64-K64 -> 2.0465e-10 | R64: =(O64^2+P64^2+Q64^2)^0.5 -> 5.8966436e-10 | S64: =1000*(L64^2+M64^2)^0.5 -> 0.95606594 | T64: -3.0307e-10 | U64: 4.6257e-10 | V64: -2.0465e-10
B65: 42586 | C65: =I65+F65 -> 0.00036380345 | D65: =J65+G65 -> 0.00084979438 | E65: =K65+H65 -> 0.00094850975 | F65: -2.1662e-06 | G65: -3.3726e-05 | H65: 0.00026123 | I65: =L65+T65 -> 0.00036596965 | J65: =M65+U65 -> 0.00088352038 | K65: =N65+V65 -> 0.00068727975 | L65: 0.00036597 | M65: 0.00088352 | N65: 0.00068728 | O65: =L65-I65 -> 3.4904e-10 | P65: =M65-J65 -> -3.8088e-10 | Q65: =N65-K65 -> 2.47e-10 | R65: =(O65^2+P65^2+Q65^2)^0.5 -> 5.7263208e-10 | S65: =1000*(L65^2+M65^2)^0.5 -> 0.9563167 | T65: -3.4904e-10 | U65: 3.8088e-10 | V65: -2.47e-10
B66: 21571 | C66: =I66+F66 -> -0.00085459026 | D66: =J66+G66 -> -0.00036338858 | E66: =K66+H66 -> 0.00093786023 | F66: 3.001e-05 | G66: 3.021e-06 | H66: 0.00025934 | I66: =L66+T66 -> -0.00088460026 | J66: =M66+U66 -> -0.00036640958 | K66: =N66+V66 -> 0.00067852023 | L66: -0.0008846 | M66: -0.00036641 | N66: 0.00067852 | O66: =L66-I66 -> 2.5852e-10 | P66: =M66-J66 -> -4.165e-10 | Q66: =N66-K66 -> -2.2834e-10 | R66: =(O66^2+P66^2+Q66^2)^0.5 -> 5.4078091e-10 | S66: =1000*(L66^2+M66^2)^0.5 -> 0.95748287 | T66: -2.5852e-10 | U66: 4.165e-10 | V66: 2.2834e-10
B67: 14566 | C67: =I67+F67 -> -0.00035146019 | D67: =J67+G67 -> -0.0008662427 | E67: =K67+H67 -> 0.0009220606 | F67: 1.535e-05 | G67: 1.9317e-05 | H67: 0.00025129 | I67: =L67+T67 -> -0.00036681019 | J67: =M67+U67 -> -0.0008855597 | K67: =N67+V67 -> 0.0006707706 | L67: -0.00036681 | M67: -0.00088556 | N67: 0.00067077 | O67: =L67-I67 -> 1.9266e-10 | P67: =M67-J67 -> -3.0467e-10 | Q67: =N67-K67 -> -6.019e-10 | R67: =(O67^2+P67^2+Q67^2)^0.5 -> 7.015877e-10 | S67: =1000*(L67^2+M67^2)^0.5 -> 0.95852287 | T67: -1.9266e-10 | U67: 3.0467e-10 | V67: 6.019e-10
B68: 1 | C68: =I68+F68 -> 0.00086979871 | D68: =J68+G68 -> 0.00034994432 | E68: =K68+H68 -> 0.00091548049 | F68: -1.6201e-05 | G68: -1.7046e-05 | H68: 0.00024827 | I68: =L68+T68 -> 0.00088599971 | J68: =M68+U68 -> 0.00036699032 | K68: =N68+V68 -> 0.00066721049 | L68: 0.000886 | M68: 0.00036699 | N68: 0.00066721 | O68: =L68-I68 -> 2.9006e-10 | P68: =M68-J68 -> -3.2327e-10 | Q68: =N68-K68 -> -4.9452e-10 | R68: =(O68^2+P68^2+Q68^2)^0.5 -> 6.5817044e-10 | S68: =1000*(L68^2+M68^2)^0.5 -> 0.95899826 | T68: -2.9006e-10 | U68: 3.2327e-10 | V68: 4.9452e-10
B69: 7561 | C69: =I69+F69 -> 0.00036364014 | D69: =J69+G69 -> -0.00086652079 | E69: =K69+H69 -> 0.00090687078 | F69: -3.6597e-06 | G69: 2.0209e-05 | H69: 0.00024559 | I69: =L69+T69 -> 0.00036729984 | J69: =M69+U69 -> -0.00088672979 | K69: =N69+V69 -> 0.00066128078 | L69: 0.0003673 | M69: -0.00088673 | N69: 0.00066128 | O69: =L69-I69 -> 1.5852e-10 | P69: =M69-J69 -> -2.1307e-10 | Q69: =N69-K69 -> -7.7515e-10 | R69: =(O69^2+P69^2+Q69^2)^0.5 -> 8.1938083e-10 | S69: =1000*(L69^2+M69^2)^0.5 -> 0.95979132 | T69: -1.5852e-10 | U69: 2.1307e-10 | V69: 7.7515e-10
B70: 22 | C70: =I70+F70 -> 0.00087032881 | D70: =J70+G70 -> -0.00036309257 | E70: =K70+H70 -> 0.00089910075 | F70: -1.7031e-05 | G70: 4.4672e-06 | H70: 0.00024285 | I70: =L70+T70 -> 0.00088735981 | J70: =M70+U70 -> -0.00036755977 | K70: =N70+V70 -> 0.00065625075 | L70: 0.00088736 | M70: -0.00036756 | N70: 0.00065625 | O70: =L70-I70 -> 1.9354e-10 | P70: =M70-J70 -> -2.3074e-10 | Q70: =N70-K70 -> -7.5068e-10 | R70: =(O70^2+P70^2+Q70^2)^0.5 -> 8.0883814e-10 | S70: =1000*(L70^2+M70^2)^0.5 -> 0.96047286 | T70: -1.9354e-10 | U70: 2.3074e-10 | V70: 7.5068e-10
B71: 37076 | C71: =I71+F71 -> -0.00070245518 | D71: =J71+G71 -> 0.0016949303 | E71: =K71+H71 -> 0.0012177493 | F71: 2.2955e-05 | G71: -5.637e-05 | H71: 0.0002846 | I71: =L71+T71 -> -0.00072541018 | J71: =M71+U71 -> 0.0017513003 | K71: =N71+V71 -> 0.00093314926 | L71: -0.00072541 | M71: 0.0017513 | N71: 0.00093315 | O71: =L71-I71 -> 1.7639e-10 | P71: =M71-J71 -> -2.5283e-10 | Q71: =N71-K71 -> 7.4409e-10 | R71: =(O71^2+P71^2+Q71^2)^0.5 -> 8.054231e-10 | S71: =1000*(L71^2+M71^2)^0.5 -> 1.8955926 | T71: -1.7639e-10 | U71: 2.5283e-10 | V71: -7.4409e-10
B72: 44081 | C72: =I72+F72 -> 0.00071715095 | D72: =J72+G72 -> 0.0016966972 | E72: =K72+H72 -> 0.0011897897 | F72: -9.5488e-06 | G72: -5.7703e-05 | H72: 0.00026832 | I72: =L72+T72 -> 0.00072669975 | J72: =M72+U72 -> 0.0017544002 | K72: =N72+V72 -> 0.00092146972 | L72: 0.0007267 | M72: 0.0017544 | N72: 0.00092147 | O72: =L72-I72 -> 2.5472e-10 | P72: =M72-J72 -> -2.3106e-10 | Q72: =N72-K72 -> 2.8056e-10 | R72: =(O72^2+P72^2+Q72^2)^0.5 -> 4.4382983e-10 | S72: =1000*(L72^2+M72^2)^0.5 -> 1.8989503 | T72: -2.5472e-10 | U72: 2.3106e-10 | V72: -2.8056e-10
...

Sheet Inverse Geo Difference
A1: FREE STRESS GEOMETRY DIFFERENCE | E1: =1000000*MAX(E3:E59) -> 14.418411 | F1: DIFFERENCE | J1: AVERAGE | K1: STANDARD DEVIATION
A2: POINT | B2: X (m) | C2: Y (m) | D2: Z (m) | E2: ERROR (m) | F2: RADIUS (mm) | G2: ERROR (μm) | J2: =AVERAGE(G:G) -> 4.4994676 | K2: =_xlfn.STDEV.S((G:G)) -> 3.5702865
A3: ='Displacemet Method'!B3 -> 257 | B3: ='Displacemet Method'!C3-'Pre-stress Method'!C3 -> -1.5545667e-06 | C3: ='Displacemet Method'!D3-'Pre-stress Method'!D3 -> 1.3726101e-06 | D3: ='Displacemet Method'!E3-'Pre-stress Method'!E3 -> 5.599236e-07 | E3: =(B3^2+C3^2+D3^2)^0.5 -> 2.1480807e-06 | F3: 0 | G3: =E3*1000000 -> 2.1480807
A4: ='Displacemet Method'!B4 -> 35816 | B4: ='Displacemet Method'!C4-'Pre-stress Method'!C4 -> -1.5285524e-06 | C4: ='Displacemet Method'!D4-'Pre-stress Method'!D4 -> 1.6609173e-06 | D4: ='Displacemet Method'!E4-'Pre-stress Method'!E4 -> -5.4526258e-06 | E4: =(B4^2+C4^2+D4^2)^0.5 -> 5.9013767e-06 | F4: 1.0377315 | G4: =E4*1000000 -> 5.9013767
A5: ='Displacemet Method'!B5 -> 28811 | B5: ='Displacemet Method'!C5-'Pre-stress Method'!C5 -> -1.3789446e-06 | C5: ='Displacemet Method'!D5-'Pre-stress Method'!D5 -> 1.5386582e-06 | D5: ='Displacemet Method'!E5-'Pre-stress Method'!E5 -> -5.0417587e-06 | E5: =(B5^2+C5^2+D5^2)^0.5 -> 5.448696e-06 | F5: 1.0380138 | G5: =E5*1000000 -> 5.448696
A6: ='Displacemet Method'!B6 -> 42821 | B6: ='Displacemet Method'!C6-'Pre-stress Method'!C6 -> -1.8892674e-06 | C6: ='Displacemet Method'!D6-'Pre-stress Method'!D6 -> 1.4959746e-06 | D6: ='Displacemet Method'!E6-'Pre-stress Method'!E6 -> -2.838968e-06 | E6: =(B6^2+C6^2+D6^2)^0.5 -> 3.7238435e-06 | F6: 1.0384577 | G6: =E6*1000000 -> 3.7238435
A7: ='Displacemet Method'!B7 -> 21806 | B7: ='Displacemet Method'!C7-'Pre-stress Method'!C7 -> -1.1890031e-06 | C7: ='Displacemet Method'!D7-'Pre-stress Method'!D7 -> 1.6419302e-06 | D7: ='Displacemet Method'!E7-'Pre-stress Method'!E7 -> -2.5761862e-06 | E7: =(B7^2+C7^2+D7^2)^0.5 -> 3.27817e-06 | F7: 1.0387177 | G7: =E7*1000000 -> 3.27817
A8: ='Displacemet Method'!B8 -> 14801 | B8: ='Displacemet Method'!C8-'Pre-stress Method'!C8 -> -1.2050062e-06 | C8: ='Displacemet Method'!D8-'Pre-stress Method'!D8 -> 1.775844e-06 | D8: ='Displacemet Method'!E8-'Pre-stress Method'!E8 -> 1.3741535e-07 | E8: =(B8^2+C8^2+D8^2)^0.5 -> 2.1504755e-06 | F8: 1.03913 | G8: =E8*1000000 -> 2.1504755
A9: ='Displacemet Method'!B9 -> 7796 | B9: ='Displacemet Method'!C9-'Pre-stress Method'!C9 -> -1.7178145e-06 | C9: ='Displacemet Method'!D9-'Pre-stress Method'!D9 -> 1.663789e-06 | D9: ='Displacemet Method'!E9-'Pre-stress Method'!E9 -> 2.1642546e-06 | E9: =(B9^2+C9^2+D9^2)^0.5 -> 3.2253804e-06 | F9: 1.03952 | G9: =E9*1000000 -> 3.2253804
A10: ='Displacemet Method'!B10 -> 265 | B10: ='Displacemet Method'!C10-'Pre-stress Method'!C10 -> -2.4048875e-06 | C10: ='Displacemet Method'!D10-'Pre-stress Method'!D10 -> 1.2309965e-06 | D10: ='Displacemet Method'!E10-'Pre-stress Method'!E10 -> 9.2452646e-07 | E10: =(B10^2+C10^2+D10^2)^0.5 -> 2.8554484e-06 | F10: 1.0396369 | G10: =E10*1000000 -> 2.8554484
A11: ='Displacemet Method'!B11 -> 385 | B11: ='Displacemet Method'!C11-'Pre-stress Method'!C11 -> -2.3228428e-06 | C11: ='Displacemet Method'!D11-'Pre-stress Method'!D11 -> 1.4612904e-06 | D11: ='Displacemet Method'!E11-'Pre-stress Method'!E11 -> 2.809278e-06 | E11: =(B11^2+C11^2+D11^2)^0.5 -> 3.9272142e-06 | F11: 1.0400046 | G11: =E11*1000000 -> 3.9272142
A12: ='Displacemet Method'!B12 -> 37256 | B12: ='Displacemet Method'!C12-'Pre-stress Method'!C12 -> -1.906839e-06 | C12: ='Displacemet Method'!D12-'Pre-stress Method'!D12 -> 2.5826988e-06 | D12: ='Displacemet Method'!E12-'Pre-stress Method'!E12 -> -1.1699199e-05 | E12: =(B12^2+C12^2+D12^2)^0.5 -> 1.2131678e-05 | F12: 2.0766776 | G12: =E12*1000000 -> 12.131678
A13: ='Displacemet Method'!B13 -> 44261 | B13: ='Displacemet Method'!C13-'Pre-stress Method'!C13 -> -1.9519923e-06 | C13: ='Displacemet Method'!D13-'Pre-stress Method'!D13 -> 2.371856e-06 | D13: ='Displacemet Method'!E13-'Pre-stress Method'!E13 -> -7.5397231e-06 | E13: =(B13^2+C13^2+D13^2)^0.5 -> 8.1414617e-06 | F13: 2.0783007 | G13: =E13*1000000 -> 8.1414617
A14: ='Displacemet Method'!B14 -> 30251 | B14: ='Displacemet Method'!C14-'Pre-stress Method'!C14 -> -1.6987597e-06 | C14: ='Displacemet Method'!D14-'Pre-stress Method'!D14 -> 1.9458615e-06 | D14: ='Displacemet Method'!E14-'Pre-stress Method'!E14 -> -1.0029414e-05 | E14: =(B14^2+C14^2+D14^2)^0.5 -> 1.0356703e-05 | F14: 2.0792776 | G14: =E14*1000000 -> 10.356703
... A59: ='Displacemet Method'!B59 -> 28256 | B59: ='Displacemet Method'!C59-'Pre-stress Method'!C59 -> 0 | C59: ='Displacemet Method'!D59-'Pre-stress Method'!D59 -> 0 | D59: ='Displacemet Method'!E59-'Pre-stress Method'!E59 -> 0 | E59: =(B59^2+C59^2+D59^2)^0.5 -> 0 | F59: 6.2246366 | G59: =E59*1000000 -> 0
A60: ESTIMATED GEOMETRY DIFFERENCE | E60: =1000000*MAX(E62:E118) -> 15.485093 | F60: DIFFERENCE
A61: POINT | B61: X (m) | C61: Y (m) | D61: Z (m) | E61: ERROR (m) | F61: RADIUS (mm) | G61: ERROR (μm)
A62: ='Displacemet Method'!B62 -> 2 | B62: ='Displacemet Method'!C62-'Pre-stress Method'!C62 -> -2.3239068e-06 | C62: ='Displacemet Method'!D62-'Pre-stress Method'!D62 -> 1.9615013e-06 | D62: ='Displacemet Method'!E62-'Pre-stress Method'!E62 -> 1.7960704e-07 | E62: =(B62^2+C62^2+D62^2)^0.5 -> 3.0463567e-06 | F62: 0 | G62: =E62*1000000 -> 3.0463567
A63: ='Displacemet Method'!B63 -> 35581 | B63: ='Displacemet Method'!C63-'Pre-stress Method'!C63 -> -2.744729e-06 | C63: ='Displacemet Method'!D63-'Pre-stress Method'!D63 -> 3.7075903e-06 | D63: ='Displacemet Method'!E63-'Pre-stress Method'!E63 -> -5.5892157e-06 | E63: =(B63^2+C63^2+D63^2)^0.5 -> 7.2470059e-06 | F63: 0.95510209 | G63: =E63*1000000 -> 7.2470059
A64: ='Displacemet Method'!B64 -> 28576 | B64: ='Displacemet Method'!C64-'Pre-stress Method'!C64 -> -3.4696969e-06 | C64: ='Displacemet Method'!D64-'Pre-stress Method'!D64 -> 2.6305374e-06 | D64: ='Displacemet Method'!E64-'Pre-stress Method'!E64 -> -5.1497954e-06 | E64: =(B64^2+C64^2+D64^2)^0.5 -> 6.7438058e-06 | F64: 0.95606594 | G64: =E64*1000000 -> 6.7438058
A65: ='Displacemet Method'!B65 -> 42586 | B65: ='Displacemet Method'!C65-'Pre-stress Method'!C65 -> -2.083451e-06 | C65: ='Displacemet Method'!D65-'Pre-stress Method'!D65 -> 3.6456191e-06 | D65: ='Displacemet Method'!E65-'Pre-stress Method'!E65 -> -3.019753e-06 | E65: =(B65^2+C65^2+D65^2)^0.5 -> 5.172061e-06 | F65: 0.9563167 | G65: =E65*1000000 -> 5.172061
A66: ='Displacemet Method'!B66 -> 21571 | B66: ='Displacemet Method'!C66-'Pre-stress Method'!C66 -> -3.3297415e-06 | C66: ='Displacemet Method'!D66-'Pre-stress Method'!D66 -> 1.6185835e-06 | D66: ='Displacemet Method'!E66-'Pre-stress Method'!E66 -> -2.6802283e-06 | E66: =(B66^2+C66^2+D66^2)^0.5 -> 4.5706252e-06 | F66: 0.95748287 | G66: =E66*1000000 -> 4.5706252
A67: ='Displacemet Method'!B67 -> 14566 | B67: ='Displacemet Method'!C67-'Pre-stress Method'!C67 -> -2.4998073e-06 | C67: ='Displacemet Method'!D67-'Pre-stress Method'!D67 -> 6.5269533e-07 | D67: ='Displacemet Method'!E67-'Pre-stress Method'!E67 -> -6.06019e-08 | E67: =(B67^2+C67^2+D67^2)^0.5 -> 2.5843221e-06 | F67: 0.95852287 | G67: =E67*1000000 -> 2.5843221
A68: ='Displacemet Method'!B68 -> 1 | B68: ='Displacemet Method'!C68-'Pre-stress Method'!C68 -> -1.5587099e-06 | C68: ='Displacemet Method'!D68-'Pre-stress Method'!D68 -> 2.4656767e-06 | D68: ='Displacemet Method'!E68-'Pre-stress Method'!E68 -> 7.0950548e-07 | E68: =(B68^2+C68^2+D68^2)^0.5 -> 3.0020887e-06 | F68: 0.95899826 | G68: =E68*1000000 -> 3.0020887
A69: ='Displacemet Method'!B69 -> 7561 | B69: ='Displacemet Method'!C69-'Pre-stress Method'!C69 -> -1.8801415e-06 | C69: ='Displacemet Method'!D69-'Pre-stress Method'!D69 -> 5.8078693e-07 | D69: ='Displacemet Method'!E69-'Pre-stress Method'!E69 -> 1.8692249e-06 | E69: =(B69^2+C69^2+D69^2)^0.5 -> 2.7140831e-06 | F69: 0.95979132 | G69: =E69*1000000 -> 2.7140831
A70: ='Displacemet Method'!B70 -> 22 | B70: ='Displacemet Method'!C70-'Pre-stress Method'!C70 -> -1.4588065e-06 | C70: ='Displacemet Method'!D70-'Pre-stress Method'!D70 -> 1.4825693e-06 | D70: ='Displacemet Method'!E70-'Pre-stress Method'!E70 -> 2.5392493e-06 | E70: =(B70^2+C70^2+D70^2)^0.5 -> 3.2823642e-06 | F70: 0.96047286 | G70: =E70*1000000 -> 3.2823642
A71: ='Displacemet Method'!B71 -> 37076 | B71: ='Displacemet Method'!C71-'Pre-stress Method'!C71 -> -3.1048236e-06 | C71: ='Displacemet Method'!D71-'Pre-stress Method'!D71 -> 5.7697472e-06 | D71: ='Displacemet Method'!E71-'Pre-stress Method'!E71 -> -1.1549256e-05 | E71: =(B71^2+C71^2+D71^2)^0.5 -> 1.3278374e-05 | F71: 1.8955926 | G71: =E71*1000000 -> 13.278374
A72: ='Displacemet Method'!B72 -> 44081 | B72: ='Displacemet Method'!C72-'Pre-stress Method'!C72 -> -1.8009453e-06 | C72: ='Displacemet Method'!D72-'Pre-stress Method'!D72 -> 5.9027689e-06 | D72: ='Displacemet Method'!E72-'Pre-stress Method'!E72 -> -7.2897194e-06 | E72: =(B72^2+C72^2+D72^2)^0.5 -> 9.5512352e-06 | F72: 1.8989503 | G72: =E72*1000000 -> 9.5512352
A73: ='Displacemet Method'!B73 -> 30071 | B73: ='Displacemet Method'!C73-'Pre-stress Method'!C73 -> -4.7277855e-06 | C73: ='Displacemet Method'!D73-'Pre-stress Method'!D73 -> 3.2265905e-06 | D73: ='Displacemet Method'!E73-'Pre-stress Method'!E73 -> -9.8394317e-06 | E73: =(B73^2+C73^2+D73^2)^0.5 -> 1.1383201e-05 | F73: 1.9018657 | G73: =E73*1000000 -> 11.383201
... A118: ='Displacemet Method'!B118 -> 14186 | B118: ='Displacemet Method'!C118-'Pre-stress Method'!C118 -> 0 | C118: ='Displacemet Method'!D118-'Pre-stress Method'!D118 -> 0 | D118: ='Displacemet Method'!E118-'Pre-stress Method'!E118 -> 0 | E118: =(B118^2+C118^2+D118^2)^0.5 -> 0 | F118: 5.5751738 | G118: =E118*1000000 -> 0

Sheet Physiological Geo Difference
A1: PHYSIOLOGICAL GEOMETRY DIFFERENCE | E1: =1000000*MAX(E3:E59) -> 0.11805685 | F1: MAX DIFFERENCE | J1: AVERAGE | K1: STANDARD DEVIATION
A2: POINT | B2: X (m) | C2: Y (m) | D2: Z (m) | E2: ERROR (m) | F2: RADIUS (mm) | G2: ERROR (μm) | J2: =AVERAGE(G:G) -> 0.043119566 | K2: =_xlfn.STDEV.S((G:G)) -> 0.034617532
A3: ='Displacemet Method'!B3 -> 257 | B3: ='Displacemet Method'!I3-'Pre-stress Method'!I3 -> 1.325e-11 | C3: ='Displacemet Method'!J3-'Pre-stress Method'!J3 -> -9.866e-12 | D3: ='Displacemet Method'!K3-'Pre-stress Method'!K3 -> -7.64e-11 | E3: =(B3^2+C3^2+D3^2)^0.5 -> 7.8165596e-11 | F3: 0 | G3: =E3*1000000 -> 7.8165596e-05
A4: ='Displacemet Method'!B4 -> 35816 | B4: ='Displacemet Method'!I4-'Pre-stress Method'!I4 -> 2.4755e-10 | C4: ='Displacemet Method'!J4-'Pre-stress Method'!J4 -> -8.2651e-11 | D4: ='Displacemet Method'!K4-'Pre-stress Method'!K4 -> -2.62579e-09 | E4: =(B4^2+C4^2+D4^2)^0.5 -> 2.638728e-09 | F4: 1.0377315 | G4: =E4*1000000 -> 0.002638728
A5: ='Displacemet Method'!B5 -> 28811 | B5: ='Displacemet Method'!I5-'Pre-stress Method'!I5 -> -3.944636e-09 | C5: ='Displacemet Method'!J5-'Pre-stress Method'!J5 -> -1.841825e-09 | D5: ='Displacemet Method'!K5-'Pre-stress Method'!K5 -> -1.75865e-09 | E5: =(B5^2+C5^2+D5^2)^0.5 -> 4.6952447e-09 | F5: 1.0380138 | G5: =E5*1000000 -> 0.0046952447
A6: ='Displacemet Method'!B6 -> 42821 | B6: ='Displacemet Method'!I6-'Pre-stress Method'!I6 -> -2.967445e-09 | C6: ='Displacemet Method'!J6-'Pre-stress Method'!J6 -> -4.025402e-09 | D6: ='Displacemet Method'!K6-'Pre-stress Method'!K6 -> 1.032029e-09 | E6: =(B6^2+C6^2+D6^2)^0.5 -> 5.1063367e-09 | F6: 1.0384577 | G6: =E6*1000000 -> 0.0051063367
A7: ='Displacemet Method'!B7 -> 21806 | B7: ='Displacemet Method'!I7-'Pre-stress Method'!I7 -> -4.0030706e-09 | C7: ='Displacemet Method'!J7-'Pre-stress Method'!J7 -> -2.269818e-09 | D7: ='Displacemet Method'!K7-'Pre-stress Method'!K7 -> -6.18621e-09 | E7: =(B7^2+C7^2+D7^2)^0.5 -> 7.710113e-09 | F7: 1.0387177 | G7: =E7*1000000 -> 0.007710113
A8: ='Displacemet Method'!B8 -> 14801 | B8: ='Displacemet Method'!I8-'Pre-stress Method'!I8 -> 2.2937503e-09 | C8: ='Displacemet Method'!J8-'Pre-stress Method'!J8 -> 3.84403e-09 | D8: ='Displacemet Method'!K8-'Pre-stress Method'!K8 -> -2.58465e-09 | E8: =(B8^2+C8^2+D8^2)^0.5 -> 5.1689721e-09 | F8: 1.03913 | G8: =E8*1000000 -> 0.0051689721
A9: ='Displacemet Method'!B9 -> 7796 | B9: ='Displacemet Method'!I9-'Pre-stress Method'!I9 -> -6.114511e-09 | C9: ='Displacemet Method'!J9-'Pre-stress Method'!J9 -> -8.21104e-09 | D9: ='Displacemet Method'!K9-'Pre-stress Method'!K9 -> 4.25462e-09 | E9: =(B9^2+C9^2+D9^2)^0.5 -> 1.1086488e-08 | F9: 1.03952 | G9: =E9*1000000 -> 0.011086488
A10: ='Displacemet Method'!B10 -> 265 | B10: ='Displacemet Method'!I10-'Pre-stress Method'!I10 -> -8.875e-10 | C10: ='Displacemet Method'!J10-'Pre-stress Method'!J10 -> 2.9965101e-09 | D10: ='Displacemet Method'!K10-'Pre-stress Method'!K10 -> -5.47354e-09 | E10: =(B10^2+C10^2+D10^2)^0.5 -> 6.3028858e-09 | F10: 1.0396369 | G10: =E10*1000000 -> 0.0063028858
A11: ='Displacemet Method'!B11 -> 385 | B11: ='Displacemet Method'!I11-'Pre-stress Method'!I11 -> -7.8428e-09 | C11: ='Displacemet Method'!J11-'Pre-stress Method'!J11 -> -1.90956e-09 | D11: ='Displacemet Method'!K11-'Pre-stress Method'!K11 -> -7.2204e-10 | E11: =(B11^2+C11^2+D11^2)^0.5 -> 8.1041516e-09 | F11: 1.0400046 | G11: =E11*1000000 -> 0.0081041516
A12: ='Displacemet Method'!B12 -> 37256 | B12: ='Displacemet Method'!I12-'Pre-stress Method'!I12 -> 2.16096e-09 | C12: ='Displacemet Method'!J12-'Pre-stress Method'!J12 -> 6.6988e-09 | D12: ='Displacemet Method'!K12-'Pre-stress Method'!K12 -> 8.0147e-10 | E12: =(B12^2+C12^2+D12^2)^0.5 -> 7.0842095e-09 | F12: 2.0766776 | G12: =E12*1000000 -> 0.0070842095
A13: ='Displacemet Method'!B13 -> 44261 | B13: ='Displacemet Method'!I13-'Pre-stress Method'!I13 -> 7.7015e-12 | C13: ='Displacemet Method'!J13-'Pre-stress Method'!J13 -> -2.414396e-08 | D13: ='Displacemet Method'!K13-'Pre-stress Method'!K13 -> -9.72305e-09 | E13: =(B13^2+C13^2+D13^2)^0.5 -> 2.6028226e-08 | F13: 2.0783007 | G13: =E13*1000000 -> 0.026028226
A14: ='Displacemet Method'!B14 -> 30251 | B14: ='Displacemet Method'!I14-'Pre-stress Method'!I14 -> 6.24025e-09 | C14: ='Displacemet Method'!J14-'Pre-stress Method'!J14 -> -1.3852e-10 | D14: ='Displacemet Method'!K14-'Pre-stress Method'!K14 -> 5.8647e-10 | E14: =(B14^2+C14^2+D14^2)^0.5 -> 6.2692787e-09 | F14: 2.0792776 | G14: =E14*1000000 -> 0.0062692787
... A59: ='Displacemet Method'!B59 -> 28256 | B59: ='Displacemet Method'!I59-'Pre-stress Method'!I59 -> 0 | C59: ='Displacemet Method'!J59-'Pre-stress Method'!J59 -> 0 | D59: ='Displacemet Method'!K59-'Pre-stress Method'!K59 -> 0 | E59: =(B59^2+C59^2+D59^2)^0.5 -> 0 | F59: 6.2246366 | G59: =E59*1000000 -> 0
A60: FREE STRESS GEOMETRY | E60: =1000000*MAX(E62:E118) -> 0.11925603 | F60: MAX DIFFERENCE
A61: POINT | B61: X (m) | C61: Y (m) | D61: Z (m) | E61: ERROR (m) | F61: RADIUS (mm) | G61: ERROR (μm)
A62: ='Displacemet Method'!B62 -> 2 | B62: ='Displacemet Method'!I62-'Pre-stress Method'!I62 -> 1.932e-10 | C62: ='Displacemet Method'!J62-'Pre-stress Method'!J62 -> -1.9865e-10 | D62: ='Displacemet Method'!K62-'Pre-stress Method'!K62 -> -3.9296e-10 | E62: =(B62^2+C62^2+D62^2)^0.5 -> 4.8083846e-10 | F62: 0 | G62: =E62*1000000 -> 0.00048083846
A63: ='Displacemet Method'!B63 -> 35581 | B63: ='Displacemet Method'!I63-'Pre-stress Method'!I63 -> 3.27097e-09 | C63: ='Displacemet Method'!J63-'Pre-stress Method'!J63 -> -2.40972e-09 | D63: ='Displacemet Method'!K63-'Pre-stress Method'!K63 -> 7.8434e-10 | E63: =(B63^2+C63^2+D63^2)^0.5 -> 4.1377753e-09 | F63: 0.95510209 | G63: =E63*1000000 -> 0.0041377753
A64: ='Displacemet Method'!B64 -> 28576 | B64: ='Displacemet Method'!I64-'Pre-stress Method'!I64 -> 3.0307e-10 | C64: ='Displacemet Method'!J64-'Pre-stress Method'!J64 -> 1.53743e-09 | D64: ='Displacemet Method'!K64-'Pre-stress Method'!K64 -> 2.0465e-10 | E64: =(B64^2+C64^2+D64^2)^0.5 -> 1.580324e-09 | F64: 0.95606594 | G64: =E64*1000000 -> 0.001580324
A65: ='Displacemet Method'!B65 -> 42586 | B65: ='Displacemet Method'!I65-'Pre-stress Method'!I65 -> 4.904e-11 | C65: ='Displacemet Method'!J65-'Pre-stress Method'!J65 -> -6.38088e-09 | D65: ='Displacemet Method'!K65-'Pre-stress Method'!K65 -> 2.47e-10 | E65: =(B65^2+C65^2+D65^2)^0.5 -> 6.3858471e-09 | F65: 0.9563167 | G65: =E65*1000000 -> 0.0063858471
A66: ='Displacemet Method'!B66 -> 21571 | B66: ='Displacemet Method'!I66-'Pre-stress Method'!I66 -> 2.5852e-10 | C66: ='Displacemet Method'!J66-'Pre-stress Method'!J66 -> 2.835e-10 | D66: ='Displacemet Method'!K66-'Pre-stress Method'!K66 -> 9.77166e-09 | E66: =(B66^2+C66^2+D66^2)^0.5 -> 9.7791893e-09 | F66: 0.95748287 | G66: =E66*1000000 -> 0.0097791893
A67: ='Displacemet Method'!B67 -> 14566 | B67: ='Displacemet Method'!I67-'Pre-stress Method'!I67 -> -1.80734e-09 | C67: ='Displacemet Method'!J67-'Pre-stress Method'!J67 -> 6.9533e-10 | D67: ='Displacemet Method'!K67-'Pre-stress Method'!K67 -> -6.019e-10 | E67: =(B67^2+C67^2+D67^2)^0.5 -> 2.0278672e-09 | F67: 0.95852287 | G67: =E67*1000000 -> 0.0020278672
A68: ='Displacemet Method'!B68 -> 1 | B68: ='Displacemet Method'!I68-'Pre-stress Method'!I68 -> -1.70994e-09 | C68: ='Displacemet Method'!J68-'Pre-stress Method'!J68 -> 6.67673e-09 | D68: ='Displacemet Method'!K68-'Pre-stress Method'!K68 -> -4.9452e-10 | E68: =(B68^2+C68^2+D68^2)^0.5 -> 6.9099326e-09 | F68: 0.95899826 | G68: =E68*1000000 -> 0.0069099326
A69: ='Displacemet Method'!B69 -> 7561 | B69: ='Displacemet Method'!I69-'Pre-stress Method'!I69 -> 9.5852e-10 | C69: ='Displacemet Method'!J69-'Pre-stress Method'!J69 -> -3.21307e-09 | D69: ='Displacemet Method'!K69-'Pre-stress Method'!K69 -> -7.7515e-10 | E69: =(B69^2+C69^2+D69^2)^0.5 -> 3.4414295e-09 | F69: 0.95979132 | G69: =E69*1000000 -> 0.0034414295
A70: ='Displacemet Method'!B70 -> 22 | B70: ='Displacemet Method'!I70-'Pre-stress Method'!I70 -> -5.80646e-09 | C70: ='Displacemet Method'!J70-'Pre-stress Method'!J70 -> 7.16926e-09 | D70: ='Displacemet Method'!K70-'Pre-stress Method'!K70 -> -7.5068e-10 | E70: =(B70^2+C70^2+D70^2)^0.5 -> 9.2561756e-09 | F70: 0.96047286 | G70: =E70*1000000 -> 0.0092561756
A71: ='Displacemet Method'!B71 -> 37076 | B71: ='Displacemet Method'!I71-'Pre-stress Method'!I71 -> -2.82361e-09 | C71: ='Displacemet Method'!J71-'Pre-stress Method'!J71 -> 3.474717e-08 | D71: ='Displacemet Method'!K71-'Pre-stress Method'!K71 -> -3.925591e-08 | E71: =(B71^2+C71^2+D71^2)^0.5 -> 5.2501096e-08 | F71: 1.8955926 | G71: =E71*1000000 -> 0.052501096
A72: ='Displacemet Method'!B72 -> 44081 | B72: ='Displacemet Method'!I72-'Pre-stress Method'!I72 -> 1.25472e-09 | C72: ='Displacemet Method'!J72-'Pre-stress Method'!J72 -> 5.876894e-08 | D72: ='Displacemet Method'!K72-'Pre-stress Method'!K72 -> -9.71944e-09 | E72: =(B72^2+C72^2+D72^2)^0.5 -> 5.9580451e-08 | F72: 1.8989503 | G72: =E72*1000000 -> 0.059580451
A73: ='Displacemet Method'!B73 -> 30071 | B73: ='Displacemet Method'!I73-'Pre-stress Method'!I73 -> -6.78555e-09 | C73: ='Displacemet Method'!J73-'Pre-stress Method'!J73 -> 1.59052e-09 | D73: ='Displacemet Method'!K73-'Pre-stress Method'!K73 -> -4.943172e-08 | E73: =(B73^2+C73^2+D73^2)^0.5 -> 4.9920621e-08 | F73: 1.9018657 | G73: =E73*1000000 -> 0.049920621
... A118: ='Displacemet Method'!B118 -> 14186 | B118: ='Displacemet Method'!I118-'Pre-stress Method'!I118 -> 0 | C118: ='Displacemet Method'!J118-'Pre-stress Method'!J118 -> 0 | D118: ='Displacemet Method'!K118-'Pre-stress Method'!K118 -> 0 | E118: =(B118^2+C118^2+D118^2)^0.5 -> 0 | F118: 5.5751738 | G118: =E118*1000000 -> 0

Sheet Clinical Data
A1: AK GRADE | B1: IOP | C1: 3km_A-K | D1: Eye | E1: Axial Length | F1: Sphere | G1: Cylinder | H1: SE | I1: CDVA
A2: G0 | B2: 18 | C2: 43.45 | D2: OS | E2: 22.92 | F2: 1.5 | G2: -0.25 | H2: 1.38 | I2: 1
