Workbook

Sheet Difference_MvaTV_MMC
A1: COG | B1: Gene_name | C1: Gene_ID | D1: logFC | E1: adj.P.Val | F1: extra info | G1: PTL | H1: OBC | I1: transport | J1: regulation | K1: ribosome | L1: competition | M1: competition_type | N1: start | O1: end | P1: length | Q1: middle | R1: Regulation
A2: S | C2: PPRCHA0_2876 | D2: -4.7983855 | E2: 3.11e-24 | N2: 3198140 | O2: 3198634 | P2: 494 | Q2: 3198387 | R2: DW
A3: C | B3: ccoN_3 | C3: PPRCHA0_2874 | D3: -4.6871522 | E3: 1.29e-27 | F3: cytochrome c oxidase, cbb3-type, subunit I | N3: 3194775 | O3: 3196202 | P3: 1427 | Q3: 3195488.5 | R3: DW
A4: P | B4: cysI_1 | C4: PPRCHA0_2875 | D4: -4.5008715 | E4: 2.51e-27 | F4: sulfite reductase (NADPH) hemoprotein,beta-component | N4: 3196470 | O4: 3198143 | P4: 1673 | Q4: 3197306.5 | R4: DW
A5: T | C5: PPRCHA0_5601 | D5: -4.2753486 | E5: 1.71e-25 | F5: cyclic nucleotide-binding domain/CBS domainpair/putative nucleotidyltransferase domain protein | N5: 6292591 | O5: 6294525 | P5: 1934 | Q5: 6293558 | R5: DW
A6: L | C6: PPRCHA0_5602 | D6: -4.2690949 | E6: 1.37e-19 | F6: exonuclease | N6: 6294522 | O6: 6295229 | P6: 707 | Q6: 6294875.5 | R6: DW
A7: G | C7: PPRCHA0_1384 | D7: -4.1272379 | E7: 3.95e-17 | F7: polysaccharide deacetylase family protein | N7: 1558624 | O7: 1559505 | P7: 881 | Q7: 1559064.5 | R7: DW
A8: K | C8: PPRCHA0_2873 | D8: -4.1212279 | E8: 1.78e-13 | N8: 3194494 | O8: 3194712 | P8: 218 | Q8: 3194603 | R8: DW
A9: E | B9: aapJ | C9: PPRCHA0_1055 | D9: -3.7923364 | E9: 6.63e-28 | F9: general L-amino acid ABC transporter,periplasmic L-amino acid-binding protein AapJ | I9: transport | N9: 1205240 | O9: 1206268 | P9: 1028 | Q9: 1205754 | R9: DW
A10: J | C10: PPRCHA0_1383 | D10: -3.606943 | E10: 1.48e-16 | F10: amidase family protein | N10: 1557220 | O10: 1558578 | P10: 1358 | Q10: 1557899 | R10: DW
A11: C | C11: PPRCHA0_0331 | D11: -3.4599805 | E11: 5.85e-24 | F11: putative formate dehydrogenase, delta subunit | N11: 379231 | O11: 379452 | P11: 221 | Q11: 379341.5 | R11: DW
A12: I | C12: PPRCHA0_2359 | D12: -3.4595381 | E12: 1.65e-22 | F12: acetyl-CoA acetyltransferase | N12: 2631915 | O12: 2633093 | P12: 1178 | Q12: 2632504 | R12: DW
A13: I | C13: PPRCHA0_2360 | D13: -3.455217 | E13: 9.01e-22 | F13: 3-oxoacid CoA-transferase, B subunit | N13: 2633105 | O13: 2633764 | P13: 659 | Q13: 2633434.5 | R13: DW
A14: S | B14: actP | C14: PPRCHA0_1734 | D14: -3.4460089 | E14: 4.59e-23 | F14: cation/acetate symporter ActP | N14: 1935815 | O14: 1937473 | P14: 1658 | Q14: 1936644 | R14: DW
A15: S | C15: PPRCHA0_4316 | D15: -3.3743135 | E15: 4.04e-25 | F15: pilus assembly protein PilZ | N15: 4914695 | O15: 4914970 | P15: 275 | Q15: 4914832.5 | R15: DW
A16: S | C16: PPRCHA0_0153 | D16: -3.3686916 | E16: 4.36e-22 | F16: putative YbaK/prolyl-tRNA synthetasesassociated domain protein | N16: 180113 | O16: 180574 | P16: 461 | Q16: 180343.5 | R16: DW
A17: S | C17: PPRCHA0_1733 | D17: -3.3538086 | E17: 3.79e-21 | N17: 1935507 | O17: 1935818 | P17: 311 | Q17: 1935662.5 | R17: DW
A18: K | B18: gbdR | C18: PPRCHA0_5663 | D18: -3.3448405 | E18: 6.35e-16 | F18: transcriptional regulator GbdR | J18: regulation | N18: 6353293 | O18: 6354396 | P18: 1103 | Q18: 6353844.5 | R18: DW
A19: K | C19: PPRCHA0_4763 | D19: -3.2140149 | E19: 7.82e-18 | N19: 5396744 | O19: 5396920 | P19: 176 | Q19: 5396832 | R19: DW
A20: C | C20: PPRCHA0_3897 | D20: -3.1862188 | E20: 7.66e-07 | F20: cytochrome b561 family protein | N20: 4396075 | O20: 4396620 | P20: 545 | Q20: 4396347.5 | R20: DW
A21: S | C21: PPRCHA0_4038 | D21: -3.1703465 | E21: 1.87e-22 | N21: 4555268 | O21: 4555438 | P21: 170 | Q21: 4555353 | R21: DW
A22: P | C22: PPRCHA0_0719 | D22: -3.146406 | E22: 2.05e-08 | F22: drug resistance transporter, Bcr/CflA family | I22: transport | N22: 830801 | O22: 830998 | P22: 197 | Q22: 830899.5 | R22: DW
A23: Q | C23: PPRCHA0_4114 | D23: -3.1429624 | E23: 2.37e-26 | F23: YcaC-like isochorismatase family protein | N23: 4638896 | O23: 4639522 | P23: 626 | Q23: 4639209 | R23: DW
A24: S | C24: PPRCHA0_0200 | D24: -3.0841707 | E24: 1.52e-21 | N24: 235346 | O24: 235870 | P24: 524 | Q24: 235608 | R24: DW
A25: P | B25: ppyR | C25: PPRCHA0_3314 | D25: -3.0771033 | E25: 0.026498216 | F25: putative transmembrane sensor/regulator PpyR | J25: regulation | N25: 3739326 | O25: 3739583 | P25: 257 | Q25: 3739454.5 | R25: DW
A26: I | C26: PPRCHA0_5385 | D26: -3.0419043 | E26: 2.05e-24 | F26: MaoC-like protein | N26: 6050305 | O26: 6050760 | P26: 455 | Q26: 6050532.5 | R26: DW
A27: P | C27: PPRCHA0_4715 | D27: -3.0203604 | E27: 2.75e-27 | F27: Putative lipopetides biosynthesis cluster | N27: 5343188 | O27: 5343661 | P27: 473 | Q27: 5343424.5 | R27: DW
A28: S | C28: PPRCHA0_5267 | D28: -2.9533903 | E28: 4.86e-28 | N28: 5925358 | O28: 5925846 | P28: 488 | Q28: 5925602 | R28: DW
A29: - | C29: PPRCHA0_5770 | D29: -2.939358 | E29: 1.04e-19 | N29: 6465425 | O29: 6465970 | P29: 545 | Q29: 6465697.5 | R29: DW
A30: T | C30: PPRCHA0_4458 | D30: -2.9385666 | E30: 4.81e-23 | F30: sensory box histidine kinase/responseregulator | J30: regulation | N30: 5073056 | O30: 5076529 | P30: 3473 | Q30: 5074792.5 | R30: DW
A31: P | C31: PPRCHA0_2243 | D31: -2.9116472 | E31: 1.23e-07 | N31: 2512450 | O31: 2512992 | P31: 542 | Q31: 2512721 | R31: DW
A32: U | C32: PPRCHA0_0695 | D32: -2.8649368 | E32: 8.72e-18 | F32: TadE family protein | N32: 805148 | O32: 805585 | P32: 437 | Q32: 805366.5 | R32: DW
A33: T | C33: PPRCHA0_0697 | D33: -2.8599808 | E33: 3.11e-26 | F33: DNA-binding response regulator, LuxR family (Putative Flp pili) | J33: regulation | N33: 806254 | O33: 807045 | P33: 791 | Q33: 806649.5 | R33: DW
A34: L | C34: PPRCHA0_0294 | D34: -2.8531122 | E34: 1.77e-23 | F34: ATP-dependent DNA helicase, RecQ family | N34: 337902 | O34: 339836 | P34: 1934 | Q34: 338869 | R34: DW
A35: E | B35: dppA1 | C35: PPRCHA0_0885 | D35: -2.8474374 | E35: 2.18e-22 | F35: dipeptide ABC transporter, periplasmicdipeptide-binding protein DppA 1 | I35: transport | N35: 1022091 | O35: 1023686 | P35: 1595 | Q35: 1022888.5 | R35: DW
A36: U | B36: pilC | C36: PPRCHA0_5219 | D36: -2.8452459 | E36: 1.01e-18 | F36: type IV pilus biogenesis protein PilC | N36: 5877990 | O36: 5879207 | P36: 1217 | Q36: 5878598.5 | R36: DW
A37: P | C37: PPRCHA0_0256 | D37: -2.8340719 | E37: 1.07e-12 | N37: 294949 | O37: 295206 | P37: 257 | Q37: 295077.5 | R37: DW
A38: C | B38: dctA | C38: PPRCHA0_4513 | D38: -2.825497 | E38: 5.35e-21 | F38: aerobic C4-dicarboxylate transport protein | I38: transport | N38: 5128838 | O38: 5130169 | P38: 1331 | Q38: 5129503.5 | R38: DW
A39: S | C39: PPRCHA0_2419 | D39: -2.8229324 | E39: 1.56e-16 | N39: 2696813 | O39: 2697745 | P39: 932 | Q39: 2697279 | R39: DW
A40: I | B40: scoA | C40: PPRCHA0_2361 | D40: -2.82288 | E40: 1.13e-20 | F40: succinyl-CoA:3-ketoacid-coenzyme A transferasesubunit A | N40: 2633801 | O40: 2634499 | P40: 698 | Q40: 2634150 | R40: DW
...

Sheet Differences_UP_MMC
A1: COG | B1: Gene_name | C1: Gene_ID | D1: logFC | E1: adj.P.Val | F1: extra info | G1: PTL | H1: OBC | I1: transport | J1: regulation | K1: ribosome | L1: competition | M1: competition_type | N1: start | O1: end | P1: length | Q1: middle | R1: Regulation
A2: G | C2: PPRCHA0_0143 | D2: 2.5290656 | E2: 1.36e-09 | F2: transporter, major facilitator family | I2: transport | N2: 165970 | O2: 167514 | P2: 1544 | Q2: 166742 | R2: UP | X2: Letter | Y2: Count UP | Z2: % UP
A3: K | C3: PPRCHA0_0147 | D3: 2.2340968 | E3: 4.24e-08 | F3: sigma factor regulatory protein, FecR/PupRfamily | J3: regulation | N3: 170654 | O3: 171607 | P3: 953 | Q3: 171130.5 | R3: UP | W3: RNA processing and modification | X3: A | Y3: =COUNTIF($A$2:$A$231,"*A*") -> 0 | Z3: =(Y3/$Y$29)*100 -> 0
A4: S | C4: PPRCHA0_0159 | D4: 2.3871273 | E4: 0.001963132 | N4: 184094 | O4: 184303 | P4: 209 | Q4: 184198.5 | R4: UP | W4: Chromatin Structure and dynamics | X4: B | Y4: =COUNTIF($A$2:$A$231,"*B*") -> 0 | Z4: =(Y4/$Y$29)*100 -> 0
A5: S | C5: PPRCHA0_0222 | D5: 2.0533823 | E5: 9.88e-10 | N5: 258840 | O5: 259418 | P5: 578 | Q5: 259129 | R5: UP | W5: Energy production and conversion | X5: C | Y5: =COUNTIF($A$2:$A$231,"*C*") -> 15 | Z5: =(Y5/$Y$29)*100 -> 6.4377682
A6: C | C6: PPRCHA0_0298 | D6: 2.0394548 | E6: 3.86e-07 | F6: oxidoreductase alpha (molybdopterin) subunit | N6: 342603 | O6: 344951 | P6: 2348 | Q6: 343777 | R6: UP | W6: Cell cycle control and mitosis | X6: D | Y6: =COUNTIF($A$2:$A$231,"*D*") -> 0 | Z6: =(Y6/$Y$29)*100 -> 0
A7: T | B7: typA | C7: PPRCHA0_0393 | D7: 2.2474148 | E7: 4.15e-24 | F7: GTP-binding protein TypA | N7: 446038 | O7: 447858 | P7: 1820 | Q7: 446948 | R7: UP | W7: Amino Acid metabolis and transport | X7: E | Y7: =COUNTIF($A$2:$A$231,"*E*") -> 7 | Z7: =(Y7/$Y$29)*100 -> 3.0042918
A8: L | C8: PPRCHA0_0447 | D8: 2.2891328 | E8: 2.58e-09 | F8: nuclease, SNase family | N8: 510282 | O8: 511061 | P8: 779 | Q8: 510671.5 | R8: UP | W8: Nucleotide metabolism and transport | X8: F | Y8: =COUNTIF($A$2:$A$231,"*F*") -> 3 | Z8: =(Y8/$Y$29)*100 -> 1.2875536
A9: I | C9: PPRCHA0_0466 | D9: 2.0077852 | E9: 6.23e-14 | F9: putative 3-oxoacyl-[acyl-carrier-protein] synthase, predicted core biosynthetic gene | N9: 534997 | O9: 536223 | P9: 1226 | Q9: 535610 | R9: UP | W9: Carbohydrate metabolism and transport | X9: G | Y9: =COUNTIF($A$2:$A$231,"*G*") -> 13 | Z9: =(Y9/$Y$29)*100 -> 5.5793991
A10: I | C10: PPRCHA0_0467 | D10: 2.0122862 | E10: 4.43e-13 | F10: oxidoreductase, short chaindehydrogenase/reductase family | N10: 536223 | O10: 536951 | P10: 728 | Q10: 536587 | R10: UP | W10: Coenzyme metabolis | X10: H | Y10: =COUNTIF($A$2:$A$231,"*H*") -> 3 | Z10: =(Y10/$Y$29)*100 -> 1.2875536
A11: S | C11: PPRCHA0_0471 | D11: 2.2814181 | E11: 1.24e-12 | F11: methyltransferase domain protein | N11: 539093 | O11: 539854 | P11: 761 | Q11: 539473.5 | R11: UP | W11: Lipid metabolism | X11: I | Y11: =COUNTIF($A$2:$A$231,"*I*") -> 6 | Z11: =(Y11/$Y$29)*100 -> 2.5751073
A12: C | C12: PPRCHA0_0473 | D12: 3.1137318 | E12: 1.03e-07 | F12: transporter, CPA2 family | I12: transport | N12: 541085 | O12: 542275 | P12: 1190 | Q12: 541680 | R12: UP | W12: Translation | X12: J | Y12: =COUNTIF($A$2:$A$231,"*J*") -> 41 | Z12: =(Y12/$Y$29)*100 -> 17.596567
A13: S | C13: PPRCHA0_0474 | D13: 2.6014298 | E13: 3.75e-13 | F13: putative membrane protein | N13: 542269 | O13: 544611 | P13: 2342 | Q13: 543440 | R13: UP | W13: Transcription | X13: K | Y13: =COUNTIF($A$2:$A$231,"*K*") -> 7 | Z13: =(Y13/$Y$29)*100 -> 3.0042918
A14: M | C14: PPRCHA0_0475 | D14: 3.2807779 | E14: 2.28e-14 | F14: outer membrane lipoprotein carrier protein,LolA family | N14: 544595 | O14: 545275 | P14: 680 | Q14: 544935 | R14: UP | W14: Replication and repair | X14: L | Y14: =COUNTIF($A$2:$A$231,"*L*") -> 5 | Z14: =(Y14/$Y$29)*100 -> 2.1459227
A15: S | C15: PPRCHA0_0476 | D15: 2.8686018 | E15: 2.66e-14 | F15: thioesterase family protein | N15: 545272 | O15: 545697 | P15: 425 | Q15: 545484.5 | R15: UP | W15: Cell wall/membrane/envelop biogenesis | X15: M | Y15: =COUNTIF($A$2:$A$231,"*M*") -> 21 | Z15: =(Y15/$Y$29)*100 -> 9.0128755
A16: E | C16: PPRCHA0_0477 | D16: 2.9505138 | E16: 5.4e-19 | F16: putative phenylalanine and histidineammonia-lyase | N16: 545690 | O16: 547234 | P16: 1544 | Q16: 546462 | R16: UP | W16: Cell motility | X16: N | Y16: =COUNTIF($A$2:$A$231,"*N*") -> 4 | Z16: =(Y16/$Y$29)*100 -> 1.7167382
A17: Q | C17: PPRCHA0_0480 | D17: 2.4611729 | E17: 1.08e-16 | F17: AMP-binding domain protein | N17: 548968 | O17: 550641 | P17: 1673 | Q17: 549804.5 | R17: UP | W17: Post-translational modification, protein turnover, chaperone functions | X17: O | Y17: =COUNTIF($A$2:$A$231,"*O*") -> 3 | Z17: =(Y17/$Y$29)*100 -> 1.2875536
A18: S | C18: PPRCHA0_0481 | D18: 2.6239546 | E18: 4.94e-11 | F18: putative membrane protein | N18: 550638 | O18: 551183 | P18: 545 | Q18: 550910.5 | R18: UP | W18: Inorganic ion transport and metabolism | X18: P | Y18: =COUNTIF($A$2:$A$231,"*P*") -> 11 | Z18: =(Y18/$Y$29)*100 -> 4.72103
A19: I, Q | C19: PPRCHA0_0483 | D19: 2.3420171 | E19: 7.83e-10 | F19: putative acyl carrier protein | N19: 551444 | O19: 551716 | P19: 272 | Q19: 551580 | R19: UP | W19: Secondary Structure | X19: Q | Y19: =COUNTIF($A$2:$A$231,"*Q*") -> 4 | Z19: =(Y19/$Y$29)*100 -> 1.7167382
A20: N, T | C20: PPRCHA0_0496 | D20: 2.3516133 | E20: 1.1e-10 | N20: 568127 | O20: 568357 | P20: 230 | Q20: 568242 | R20: UP | W20: General Functional Prediction only | X20: R | Y20: =COUNTIF($A$2:$A$231,"*R*") -> 0 | Z20: =(Y20/$Y$29)*100 -> 0
A21: N, T | C21: PPRCHA0_0497 | D21: 2.5828398 | E21: 1.35e-13 | N21: 568354 | O21: 568656 | P21: 302 | Q21: 568505 | R21: UP | W21: Function Unknown | X21: S | Y21: =COUNTIF($A$2:$A$231,"*S*") -> 51 | Z21: =(Y21/$Y$29)*100 -> 21.888412
A22: J | B22: rpsF | C22: PPRCHA0_0582 | D22: 2.42618 | E22: 2.05e-24 | F22: 30S ribosomal protein S6 | K22: ribosome | N22: 678567 | O22: 678992 | P22: 425 | Q22: 678779.5 | R22: UP | W22: Signal Transduction | X22: T | Y22: =COUNTIF($A$2:$A$231,"*T*") -> 7 | Z22: =(Y22/$Y$29)*100 -> 3.0042918
A23: J | B23: rpsR | C23: PPRCHA0_0583 | D23: 2.4852099 | E23: 3.88e-22 | F23: ribosomal protein S18 | K23: ribosome | N23: 679021 | O23: 679251 | P23: 230 | Q23: 679136 | R23: UP | W23: Intracellular trafficing and secretion | X23: U | Y23: =COUNTIF($A$2:$A$231,"*U*") -> 6 | Z23: =(Y23/$Y$29)*100 -> 2.5751073
A24: S | C24: PPRCHA0_0584 | D24: 2.5493601 | E24: 6.18e-23 | F24: putative membrane protein | N24: 679288 | O24: 680187 | P24: 899 | Q24: 679737.5 | R24: UP | W24: Defense mechanisms | X24: V | Y24: =COUNTIF($A$2:$A$231,"*V*") -> 5 | Z24: =(Y24/$Y$29)*100 -> 2.1459227
A25: J | B25: rplI | C25: PPRCHA0_0585 | D25: 2.5916052 | E25: 1.57e-24 | F25: ribosomal protein L9 | K25: ribosome | N25: 680209 | O25: 680655 | P25: 446 | Q25: 680432 | R25: UP | W25: Cytoskeleton | X25: Z | Y25: =COUNTIF($A$2:$A$231,"*Z*") -> 0 | Z25: =(Y25/$Y$29)*100 -> 0
A26: S | C26: PPRCHA0_0615 | D26: 2.5302989 | E26: 5.61e-16 | N26: 714396 | O26: 714863 | P26: 467 | Q26: 714629.5 | R26: UP | X26: _ | Y26: =COUNTIF($A$2:$A$231,"*-*") -> 21 | Z26: =(Y26/$Y$29)*100 -> 9.0128755
A27: - | C27: PPRCHA0_0646 | D27: 2.8114068 | E27: 2.43e-05 | N27: 752156 | O27: 752455 | P27: 299 | Q27: 752305.5 | R27: UP
A28: F | B28: purH | C28: PPRCHA0_0673 | D28: 2.1137951 | E28: 1.13e-20 | F28: phosphoribosylaminoimidazolecarboxamide formyltransferase/IMP cyclohydrolase | N28: 779476 | O28: 781083 | P28: 1607 | Q28: 780279.5 | R28: UP
A29: - | C29: PPRCHA0_0791 | D29: 2.1658531 | E29: 0.00208021 | N29: 915859 | O29: 916224 | P29: 365 | Q29: 916041.5 | R29: UP | Y29: =SUM(Y3:Y26) -> 233
A30: J | B30: rbfA | C30: PPRCHA0_0853 | D30: 2.4031481 | E30: 2.05e-20 | F30: ribosome-binding factor A | K30: ribosome | N30: 980096 | O30: 980497 | P30: 401 | Q30: 980296.5 | R30: UP
A31: C | B31: fumC_1 | C31: PPRCHA0_0916 | D31: 2.6785913 | E31: 0.004958592 | F31: fumarate hydratase, class II | N31: 1058923 | O31: 1059372 | P31: 449 | Q31: 1059147.5 | R31: UP
A32: S | C32: PPRCHA0_0996 | D32: 2.4343495 | E32: 0.005818642 | F32: putative membrane protein | N32: 1133928 | O32: 1134254 | P32: 326 | Q32: 1134091 | R32: UP
A33: S | C33: PPRCHA0_0998 | D33: 3.0665722 | E33: 5.07e-08 | F33: sigma factor regulatory protein, FecR/PupRfamily | J33: regulation | N33: 1134841 | O33: 1135830 | P33: 989 | Q33: 1135335.5 | R33: UP
A34: V | C34: PPRCHA0_1016 | D34: 3.3174189 | E34: 1.42e-19 | F34: putative lipoprotein | N34: 1157874 | O34: 1158938 | P34: 1064 | Q34: 1158406 | R34: UP
A35: J | B35: trmD | C35: PPRCHA0_1103 | D35: 2.0480628 | E35: 5.41e-21 | F35: tRNA (guanine-N(1)-)-methyltransferase | N35: 1256407 | O35: 1257159 | P35: 752 | Q35: 1256783 | R35: UP
A36: J | B36: rplS | C36: PPRCHA0_1104 | D36: 2.4785214 | E36: 1.1e-22 | F36: ribosomal protein L19 | K36: ribosome | N36: 1257205 | O36: 1257555 | P36: 350 | Q36: 1257380 | R36: UP
A37: I | C37: PPRCHA0_1106 | D37: 2.453304 | E37: 1.21e-07 | F37: cytochrome C oxidase subunit II | N37: 1260066 | O37: 1260479 | P37: 413 | Q37: 1260272.5 | R37: UP
A38: J | B38: rpsB | C38: PPRCHA0_1183 | D38: 2.6108795 | E38: 1.14e-26 | F38: ribosomal protein S2 | K38: ribosome | N38: 1353801 | O38: 1354538 | P38: 737 | Q38: 1354169.5 | R38: UP
A39: J | B39: tsf | C39: PPRCHA0_1184 | D39: 2.6487508 | E39: 1.12e-25 | F39: translation elongation factor Ts | N39: 1354742 | O39: 1355608 | P39: 866 | Q39: 1355175 | R39: UP
A40: L | B40: rnhB | C40: PPRCHA0_1197 | D40: 2.0854688 | E40: 8.36e-12 | F40: ribonuclease HII | N40: 1367801 | O40: 1368454 | P40: 653 | Q40: 1368127.5 | R40: UP
...

Sheet Differences_DW_MMC
A1: COG | B1: Gene_name | C1: Gene_ID | D1: logFC | E1: adj.P.Val | F1: extra info | G1: PTL | H1: OBC | I1: transport | J1: regulation | K1: ribosome | L1: competition | M1: competition_type | N1: start | O1: end | P1: length | Q1: middle | R1: Regulation
A2: S | C2: PPRCHA0_0043 | D2: -2.2663685 | E2: 1.12e-24 | N2: 41753 | O2: 41977 | P2: 224 | Q2: 41865 | R2: DW | X2: Letter | Y2: Count UP | Z2: % DW
A3: O | B3: osmC | C3: PPRCHA0_0045 | D3: -2.499554 | E3: 3.81e-22 | F3: peroxiredoxin | N3: 43280 | O3: 43711 | P3: 431 | Q3: 43495.5 | R3: DW | W3: RNA processing and modification | X3: A | Y3: =COUNTIF($A$2:$A$231,"*A*") -> 0 | Z3: =(Y3/$Y$29)*100 -> 0
A4: S | C4: PPRCHA0_0067 | D4: -2.4573097 | E4: 1.46e-10 | N4: 64527 | O4: 64730 | P4: 203 | Q4: 64628.5 | R4: DW | W4: Chromatin Structure and dynamics | X4: B | Y4: =COUNTIF($A$2:$A$231,"*B*") -> 0 | Z4: =(Y4/$Y$29)*100 -> 0
A5: S | C5: PPRCHA0_0072 | D5: -2.3809194 | E5: 1.97e-25 | F5: SCO1/SenC family protein | N5: 68074 | O5: 68709 | P5: 635 | Q5: 68391.5 | R5: DW | W5: Energy production and conversion | X5: C | Y5: =COUNTIF($A$2:$A$231,"*C*") -> 14 | Z5: =(Y5/$Y$29)*100 -> 8.4848485
A6: P | B6: znuB | C6: PPRCHA0_0078 | D6: -2.035889 | E6: 4.26e-17 | F6: high-affinity zinc ABC transporter, permeaseprotein ZnuB | I6: transport | N6: 74644 | O6: 75432 | P6: 788 | Q6: 75038 | R6: DW | W6: Cell cycle control and mitosis | X6: D | Y6: =COUNTIF($A$2:$A$231,"*D*") -> 0 | Z6: =(Y6/$Y$29)*100 -> 0
A7: S | C7: PPRCHA0_0153 | D7: -3.3686916 | E7: 4.36e-22 | F7: putative YbaK/prolyl-tRNA synthetasesassociated domain protein | N7: 180113 | O7: 180574 | P7: 461 | Q7: 180343.5 | R7: DW | W7: Amino Acid metabolis and transport | X7: E | Y7: =COUNTIF($A$2:$A$231,"*E*") -> 21 | Z7: =(Y7/$Y$29)*100 -> 12.727273
A8: S | C8: PPRCHA0_0200 | D8: -3.0841707 | E8: 1.52e-21 | N8: 235346 | O8: 235870 | P8: 524 | Q8: 235608 | R8: DW | W8: Nucleotide metabolism and transport | X8: F | Y8: =COUNTIF($A$2:$A$231,"*F*") -> 2 | Z8: =(Y8/$Y$29)*100 -> 1.2121212
A9: P | C9: PPRCHA0_0256 | D9: -2.8340719 | E9: 1.07e-12 | N9: 294949 | O9: 295206 | P9: 257 | Q9: 295077.5 | R9: DW | W9: Carbohydrate metabolism and transport | X9: G | Y9: =COUNTIF($A$2:$A$231,"*G*") -> 9 | Z9: =(Y9/$Y$29)*100 -> 5.4545455
A10: I | C10: PPRCHA0_0257 | D10: -2.0705811 | E10: 1.19e-13 | F10: oxidoreductase, short chaindehydrogenase/reductase family | N10: 295259 | O10: 295999 | P10: 740 | Q10: 295629 | R10: DW | W10: Coenzyme metabolis | X10: H | Y10: =COUNTIF($A$2:$A$231,"*H*") -> 2 | Z10: =(Y10/$Y$29)*100 -> 1.2121212
A11: L | C11: PPRCHA0_0294 | D11: -2.8531122 | E11: 1.77e-23 | F11: ATP-dependent DNA helicase, RecQ family | N11: 337902 | O11: 339836 | P11: 1934 | Q11: 338869 | R11: DW | W11: Lipid metabolism | X11: I | Y11: =COUNTIF($A$2:$A$231,"*I*") -> 12 | Z11: =(Y11/$Y$29)*100 -> 7.2727273
A12: C | C12: PPRCHA0_0331 | D12: -3.4599805 | E12: 5.85e-24 | F12: putative formate dehydrogenase, delta subunit | N12: 379231 | O12: 379452 | P12: 221 | Q12: 379341.5 | R12: DW | W12: Translation | X12: J | Y12: =COUNTIF($A$2:$A$231,"*J*") -> 2 | Z12: =(Y12/$Y$29)*100 -> 1.2121212
A13: C | B13: fdsA | C13: PPRCHA0_0332 | D13: -2.7163239 | E13: 2.36e-24 | F13: formate dehydrogenase, alpha subunit | N13: 379449 | O13: 382346 | P13: 2897 | Q13: 380897.5 | R13: DW | W13: Transcription | X13: K | Y13: =COUNTIF($A$2:$A$231,"*K*") -> 10 | Z13: =(Y13/$Y$29)*100 -> 6.0606061
A14: J | C14: PPRCHA0_0381 | D14: -2.3061014 | E14: 1.65e-10 | N14: 431642 | O14: 431812 | P14: 170 | Q14: 431727 | R14: DW | W14: Replication and repair | X14: L | Y14: =COUNTIF($A$2:$A$231,"*L*") -> 2 | Z14: =(Y14/$Y$29)*100 -> 1.2121212
A15: S | C15: PPRCHA0_0435 | D15: -2.5806535 | E15: 1.47e-28 | F15: poly(3-hydroxyalkanoate) granule-associatedprotein PhaF | N15: 495910 | O15: 496782 | P15: 872 | Q15: 496346 | R15: DW | W15: Cell wall/membrane/envelop biogenesis | X15: M | Y15: =COUNTIF($A$2:$A$231,"*M*") -> 5 | Z15: =(Y15/$Y$29)*100 -> 3.030303
A16: S | C16: PPRCHA0_0624 | D16: -2.6998757 | E16: 9.85e-23 | F16: phosphate starvation-inducible protein PsiF | N16: 722913 | O16: 723212 | P16: 299 | Q16: 723062.5 | R16: DW | W16: Cell motility | X16: N | Y16: =COUNTIF($A$2:$A$231,"*N*") -> 1 | Z16: =(Y16/$Y$29)*100 -> 0.60606061
A17: - | C17: PPRCHA0_0688 | D17: -2.0444636 | E17: 5.3e-16 | F17: putative membrane protein | N17: 797469 | O17: 797762 | P17: 293 | Q17: 797615.5 | R17: DW | W17: Post-translational modification, protein turnover, chaperone functions | X17: O | Y17: =COUNTIF($A$2:$A$231,"*O*") -> 6 | Z17: =(Y17/$Y$29)*100 -> 3.6363636
A18: U | C18: PPRCHA0_0695 | D18: -2.8649368 | E18: 8.72e-18 | F18: TadE family protein | N18: 805148 | O18: 805585 | P18: 437 | Q18: 805366.5 | R18: DW | W18: Inorganic ion transport and metabolism | X18: P | Y18: =COUNTIF($A$2:$A$231,"*P*") -> 11 | Z18: =(Y18/$Y$29)*100 -> 6.6666667
A19: T | C19: PPRCHA0_0697 | D19: -2.8599808 | E19: 3.11e-26 | F19: DNA-binding response regulator, LuxR family (Putative Flp pili) | J19: regulation | N19: 806254 | O19: 807045 | P19: 791 | Q19: 806649.5 | R19: DW | W19: Secondary Structure | X19: Q | Y19: =COUNTIF($A$2:$A$231,"*Q*") -> 6 | Z19: =(Y19/$Y$29)*100 -> 3.6363636
A20: I | C20: PPRCHA0_0713 | D20: -2.0132278 | E20: 8.55e-22 | F20: putative acetyl-CoA acetyltransferase | N20: 822448 | O20: 823725 | P20: 1277 | Q20: 823086.5 | R20: DW | W20: General Functional Prediction only | X20: R | Y20: =COUNTIF($A$2:$A$231,"*R*") -> 0 | Z20: =(Y20/$Y$29)*100 -> 0
A21: K | B21: cueR | C21: PPRCHA0_0716 | D21: -2.3228818 | E21: 3.24e-19 | F21: Cu(I)-responsive transcriptional regulator | J21: regulation | N21: 827326 | O21: 827730 | P21: 404 | Q21: 827528 | R21: DW | W21: Function Unknown | X21: S | Y21: =COUNTIF($A$2:$A$231,"*S*") -> 44 | Z21: =(Y21/$Y$29)*100 -> 26.666667
A22: P | C22: PPRCHA0_0717 | D22: -2.1969778 | E22: 2.72e-17 | F22: copper-exporting ATPase | N22: 827727 | O22: 830123 | P22: 2396 | Q22: 828925 | R22: DW | W22: Signal Transduction | X22: T | Y22: =COUNTIF($A$2:$A$231,"*T*") -> 6 | Z22: =(Y22/$Y$29)*100 -> 3.6363636
A23: P | C23: PPRCHA0_0719 | D23: -3.146406 | E23: 2.05e-08 | F23: drug resistance transporter, Bcr/CflA family | I23: transport | N23: 830801 | O23: 830998 | P23: 197 | Q23: 830899.5 | R23: DW | W23: Intracellular trafficing and secretion | X23: U | Y23: =COUNTIF($A$2:$A$231,"*U*") -> 2 | Z23: =(Y23/$Y$29)*100 -> 1.2121212
A24: C | B24: mmsA_2 | C24: PPRCHA0_0751 | D24: -2.7929052 | E24: 2.55e-20 | F24: methylmalonate-semialdehyde dehydrogenase(acylating) | N24: 875124 | O24: 876650 | P24: 1526 | Q24: 875887 | R24: DW | W24: Defense mechanisms | X24: V | Y24: =COUNTIF($A$2:$A$231,"*V*") -> 4 | Z24: =(Y24/$Y$29)*100 -> 2.4242424
A25: I | B25: mmsB | C25: PPRCHA0_0752 | D25: -2.5370251 | E25: 4.41e-23 | F25: 3-hydroxyisobutyrate dehydrogenase | N25: 876661 | O25: 877548 | P25: 887 | Q25: 877104.5 | R25: DW | W25: Cytoskeleton | X25: Z | Y25: =COUNTIF($A$2:$A$231,"*Z*") -> 0 | Z25: =(Y25/$Y$29)*100 -> 0
A26: S | C26: PPRCHA0_0786 | D26: -2.2193225 | E26: 7.68e-11 | N26: 912217 | O26: 912600 | P26: 383 | Q26: 912408.5 | R26: DW | X26: _ | Y26: =COUNTIF($A$2:$A$231,"*-*") -> 6 | Z26: =(Y26/$Y$29)*100 -> 3.6363636
A27: S | C27: PPRCHA0_0787 | D27: -2.0400254 | E27: 5.24e-13 | F27: lysozym like domains | N27: 912769 | O27: 913326 | P27: 557 | Q27: 913047.5 | R27: DW
A28: K | C28: PPRCHA0_0822 | D28: -2.2174891 | E28: 7.34e-19 | N28: 942832 | O28: 943119 | P28: 287 | Q28: 942975.5 | R28: DW
A29: V | B29: dppF | C29: PPRCHA0_0881 | D29: -2.6105614 | E29: 6.48e-23 | F29: dipeptide ABC transporter, ATP-binding proteinDppF | I29: transport | N29: 1018134 | O29: 1019105 | P29: 971 | Q29: 1018619.5 | R29: DW | Y29: =SUM(Y3:Y26) -> 165
A30: V | B30: dppD | C30: PPRCHA0_0882 | D30: -2.7637861 | E30: 5.65e-23 | F30: dipeptide ABC transporter, ATP-binding proteinDppD | I30: transport | N30: 1019105 | O30: 1020073 | P30: 968 | Q30: 1019589 | R30: DW
A31: E, P | B31: dppB | C31: PPRCHA0_0884 | D31: -2.081072 | E31: 1.41e-15 | F31: dipeptide ABC transporter, permease proteinDppB | I31: transport | N31: 1021007 | O31: 1022017 | P31: 1010 | Q31: 1021512 | R31: DW
A32: E | B32: dppA1 | C32: PPRCHA0_0885 | D32: -2.8474374 | E32: 2.18e-22 | F32: dipeptide ABC transporter, periplasmicdipeptide-binding protein DppA 1 | I32: transport | N32: 1022091 | O32: 1023686 | P32: 1595 | Q32: 1022888.5 | R32: DW
A33: P | C33: PPRCHA0_0895 | D33: -2.5917331 | E33: 2.47e-19 | N33: 1035105 | O33: 1035296 | P33: 191 | Q33: 1035200.5 | R33: DW
A34: S | C34: PPRCHA0_0896 | D34: -2.5174459 | E34: 9.65e-21 | F34: putative phosphatidylcholine-hydrolyzingphospholipase C | N34: 1035310 | O34: 1036950 | P34: 1640 | Q34: 1036130 | R34: DW
A35: O | C35: PPRCHA0_0948 | D35: -2.021645 | E35: 1.11e-22 | F35: glutathione peroxidase, BtuE family | N35: 1088396 | O35: 1088878 | P35: 482 | Q35: 1088637 | R35: DW
A36: E | B36: ldh | C36: PPRCHA0_0981 | D36: -2.8023548 | E36: 8.48e-23 | F36: leucine dehydrogenase | N36: 1119787 | O36: 1120806 | P36: 1019 | Q36: 1120296.5 | R36: DW
A37: E | B37: aapJ | C37: PPRCHA0_1055 | D37: -3.7923364 | E37: 6.63e-28 | F37: general L-amino acid ABC transporter,periplasmic L-amino acid-binding protein AapJ | I37: transport | N37: 1205240 | O37: 1206268 | P37: 1028 | Q37: 1205754 | R37: DW
A38: G | B38: nagE | C38: PPRCHA0_1085 | D38: -2.2168064 | E38: 3.01e-09 | F38: PTS system, N-acetylglucosamine-specific IIBCcomponent | N38: 1238097 | O38: 1239803 | P38: 1706 | Q38: 1238950 | R38: DW
A39: G | B39: nagF | C39: PPRCHA0_1086 | D39: -2.3945027 | E39: 2.8e-12 | F39: PTS system, N-acetylglucosamine-specific IIAcomponent | N39: 1239826 | O39: 1242348 | P39: 2522 | Q39: 1241087 | R39: DW
A40: M | C40: PPRCHA0_1087 | D40: -2.3823811 | E40: 1.89e-10 | F40: SIS domain protein | N40: 1242375 | O40: 1243397 | P40: 1022 | Q40: 1242886 | R40: DW
...

Sheet Difference_MvaTV_H2O2
A1: COG | B1: Gene_name | C1: Gene_ID | D1: logFC | E1: adj.P.Val | F1: PTL | G1: OBC | H1: transport | I1: regulation | J1: ribosome | K1: competition | L1: competition_type | M1: start | N1: end | O1: length | P1: middle | Q1: Regulation
A2: O | B2: osmC | C2: PPRCHA0_0045 | D2: -2.1842272 | E2: 2.68e-20 | M2: 43280 | N2: 43711 | O2: 431 | P2: 43495.5 | Q2: DW
A3: G | C3: PPRCHA0_0055 | D3: 3.0945156 | E3: 3.81e-16 | M3: 50905 | N3: 51660 | O3: 755 | P3: 51282.5 | Q3: UP
A4: E | C4: PPRCHA0_0056 | D4: 2.842971 | E4: 4.47e-22 | M4: 51663 | N4: 53447 | O4: 1784 | P4: 52555 | Q4: UP
A5: C | C5: PPRCHA0_0057 | D5: 2.8725624 | E5: 1.95e-15 | M5: 53460 | N5: 54764 | O5: 1304 | P5: 54112 | Q5: UP
A6: G | C6: PPRCHA0_0143 | D6: 2.8935941 | E6: 7.18e-11 | H6: transport | M6: 165970 | N6: 167514 | O6: 1544 | P6: 166742 | Q6: UP
A7: P | C7: PPRCHA0_0148 | D7: 2.1623495 | E7: 3.8e-06 | M7: 171706 | N7: 174171 | O7: 2465 | P7: 172938.5 | Q7: UP
A8: S | C8: PPRCHA0_0153 | D8: -2.4467123 | E8: 4.32e-18 | M8: 180113 | N8: 180574 | O8: 461 | P8: 180343.5 | Q8: DW
A9: S | C9: PPRCHA0_0159 | D9: 2.0758717 | E9: 0.006423906 | M9: 184094 | N9: 184303 | O9: 209 | P9: 184198.5 | Q9: UP
A10: U | C10: PPRCHA0_0168 | D10: 2.4089474 | E10: 1.46e-07 | M10: 196229 | N10: 196546 | O10: 317 | P10: 196387.5 | Q10: UP
A11: S | C11: PPRCHA0_0200 | D11: -3.4788787 | E11: 1.02e-22 | M11: 235346 | N11: 235870 | O11: 524 | P11: 235608 | Q11: DW
A12: - | C12: PPRCHA0_0220 | D12: 3.0028439 | E12: 1.98e-11 | M12: 257868 | N12: 258539 | O12: 671 | P12: 258203.5 | Q12: UP
A13: S | C13: PPRCHA0_0222 | D13: 2.5999358 | E13: 4.75e-12 | M13: 258840 | N13: 259418 | O13: 578 | P13: 259129 | Q13: UP
A14: P | C14: PPRCHA0_0256 | D14: -2.0727237 | E14: 1.7e-09 | M14: 294949 | N14: 295206 | O14: 257 | P14: 295077.5 | Q14: DW
A15: S | C15: PPRCHA0_0300 | D15: -2.1971573 | E15: 1.45e-21 | M15: 346257 | N15: 346697 | O15: 440 | P15: 346477 | Q15: DW
A16: P | C16: PPRCHA0_0315 | D16: 3.4707684 | E16: 2.02e-15 | M16: 362336 | N16: 364435 | O16: 2099 | P16: 363385.5 | Q16: UP
A17: C | C17: PPRCHA0_0331 | D17: -4.3725826 | E17: 2.18e-26 | M17: 379231 | N17: 379452 | O17: 221 | P17: 379341.5 | Q17: DW
A18: C | B18: fdsA | C18: PPRCHA0_0332 | D18: -3.0684199 | E18: 1.74e-25 | M18: 379449 | N18: 382346 | O18: 2897 | P18: 380897.5 | Q18: DW
A19: G | C19: PPRCHA0_0364 | D19: 2.4113584 | E19: 1.91e-19 | H19: transport | M19: 416758 | N19: 418419 | O19: 1661 | P19: 417588.5 | Q19: UP
A20: T | B20: typA | C20: PPRCHA0_0393 | D20: 2.4754091 | E20: 5.81e-25 | M20: 446038 | N20: 447858 | O20: 1820 | P20: 446948 | Q20: UP
A21: S | C21: PPRCHA0_0394 | D21: 2.0525655 | E21: 1.94e-06 | M21: 448128 | N21: 448568 | O21: 440 | P21: 448348 | Q21: UP
A22: S | C22: PPRCHA0_0435 | D22: -2.050979 | E22: 1.18e-25 | M22: 495910 | N22: 496782 | O22: 872 | P22: 496346 | Q22: DW
A23: S | C23: PPRCHA0_0481 | D23: 2.4342143 | E23: 2.99e-10 | M23: 550638 | N23: 551183 | O23: 545 | P23: 550910.5 | Q23: UP
A24: S | C24: PPRCHA0_0653 | D24: -2.1175717 | E24: 0.000675884 | M24: 761386 | N24: 761796 | O24: 410 | P24: 761591 | Q24: DW
A25: F | B25: purH | C25: PPRCHA0_0673 | D25: 2.3376754 | E25: 1.21e-21 | M25: 779476 | N25: 781083 | O25: 1607 | P25: 780279.5 | Q25: UP
A26: U | C26: PPRCHA0_0695 | D26: -2.4120908 | E26: 1.1e-15 | M26: 805148 | N26: 805585 | O26: 437 | P26: 805366.5 | Q26: DW
A27: T | C27: PPRCHA0_0697 | D27: -2.0072951 | E27: 8.71e-22 | I27: regulation | M27: 806254 | N27: 807045 | O27: 791 | P27: 806649.5 | Q27: DW
A28: K | B28: cueR | C28: PPRCHA0_0716 | D28: -3.0951464 | E28: 2.13e-22 | I28: regulation | M28: 827326 | N28: 827730 | O28: 404 | P28: 827528 | Q28: DW
A29: P | C29: PPRCHA0_0717 | D29: -3.2165544 | E29: 1.34e-21 | M29: 827727 | N29: 830123 | O29: 2396 | P29: 828925 | Q29: DW
A30: P | C30: PPRCHA0_0719 | D30: -3.2408661 | E30: 1.18e-08 | H30: transport | M30: 830801 | N30: 830998 | O30: 197 | P30: 830899.5 | Q30: DW
A31: E | C31: PPRCHA0_0741 | D31: -3.348281 | E31: 5.92e-20 | M31: 853376 | N31: 854725 | O31: 1349 | P31: 854050.5 | Q31: DW
A32: C | B32: mmsA_1 | C32: PPRCHA0_0742 | D32: -3.3307947 | E32: 2.33e-17 | M32: 854799 | N32: 856292 | O32: 1493 | P32: 855545.5 | Q32: DW
A33: J | C33: PPRCHA0_0802 | D33: -2.0482794 | E33: 0.004546229 | M33: 923851 | N33: 924222 | O33: 371 | P33: 924036.5 | Q33: DW
A34: P | C34: PPRCHA0_0870 | D34: 2.5568679 | E34: 1.52e-11 | M34: 1003434 | N34: 1005965 | O34: 2531 | P34: 1004699.5 | Q34: UP
A35: P | C35: PPRCHA0_0871 | D35: 3.6906788 | E35: 1.02e-13 | M35: 1006122 | N35: 1008407 | O35: 2285 | P35: 1007264.5 | Q35: UP
A36: J | B36: prfC | C36: PPRCHA0_0879 | D36: 2.0481673 | E36: 1.95e-19 | M36: 1015865 | N36: 1017448 | O36: 1583 | P36: 1016656.5 | Q36: UP
A37: Q | B37: hmgA | C37: PPRCHA0_0974 | D37: -2.3939461 | E37: 9.34e-18 | M37: 1112608 | N37: 1113912 | O37: 1304 | P37: 1113260 | Q37: DW
A38: E | B38: ldh | C38: PPRCHA0_0981 | D38: -2.9342361 | E38: 4.69e-23 | M38: 1119787 | N38: 1120806 | O38: 1019 | P38: 1120296.5 | Q38: DW
A39: S | C39: PPRCHA0_0997 | D39: 2.0132985 | E39: 0.008250734 | I39: regulation | M39: 1134266 | N39: 1134844 | O39: 578 | P39: 1134555 | Q39: UP
A40: S | C40: PPRCHA0_0998 | D40: 2.049054 | E40: 4.46e-05 | I40: regulation | M40: 1134841 | N40: 1135830 | O40: 989 | P40: 1135335.5 | Q40: UP
...

Sheet Differences_UP_H2O2
A1: COG | B1: Gene_name | C1: Gene_ID | D1: logFC | E1: adj.P.Val | F1: extra info | G1: PTL | H1: OBC | I1: transport | J1: regulation | K1: ribosome | L1: competition | M1: competition_type | N1: start | O1: end | P1: length | Q1: middle | R1: Regulation
A2: G | C2: PPRCHA0_0055 | D2: 3.0945156 | E2: 3.81e-16 | F2: gluconate 2-dehydrogenase subunit 3 | N2: 50905 | O2: 51660 | P2: 755 | Q2: 51282.5 | R2: UP | X2: Letter | Y2: Count UP | Z2: % UP
A3: E | C3: PPRCHA0_0056 | D3: 2.842971 | E3: 4.47e-22 | F3: gluconate 2-dehydrogenase flavoprotein | N3: 51663 | O3: 53447 | P3: 1784 | Q3: 52555 | R3: UP | W3: RNA processing and modification | X3: A | Y3: =COUNTIF(Differences_UP_H2O2!$A$2:$A$184,"*A*") -> 0 | Z3: =(Y3/$Y$29)*100 -> 0
A4: C | C4: PPRCHA0_0057 | D4: 2.8725624 | E4: 1.95e-15 | F4: gluconate 2-dehydrogenase cytochrome c subunit | N4: 53460 | O4: 54764 | P4: 1304 | Q4: 54112 | R4: UP | W4: Chromatin Structure and dynamics | X4: B | Y4: =COUNTIF(Differences_UP_H2O2!$A$2:$A$184,"*B*") -> 0 | Z4: =(Y4/$Y$29)*100 -> 0
A5: G | C5: PPRCHA0_0143 | D5: 2.8935941 | E5: 7.18e-11 | F5: transporter, major facilitator family | I5: transport | N5: 165970 | O5: 167514 | P5: 1544 | Q5: 166742 | R5: UP | W5: Energy production and conversion | X5: C | Y5: =COUNTIF(Differences_UP_H2O2!$A$2:$A$184,"*C*") -> 10 | Z5: =(Y5/$Y$29)*100 -> 5.4347826
A6: P | C6: PPRCHA0_0148 | D6: 2.1623495 | E6: 3.8e-06 | F6: TonB-dependent outermembrane ferrichromereceptor | N6: 171706 | O6: 174171 | P6: 2465 | Q6: 172938.5 | R6: UP | W6: Cell cycle control and mitosis | X6: D | Y6: =COUNTIF(Differences_UP_H2O2!$A$2:$A$184,"*D*") -> 0 | Z6: =(Y6/$Y$29)*100 -> 0
A7: S | C7: PPRCHA0_0159 | D7: 2.0758717 | E7: 0.006423906 | N7: 184094 | O7: 184303 | P7: 209 | Q7: 184198.5 | R7: UP | W7: Amino Acid metabolis and transport | X7: E | Y7: =COUNTIF(Differences_UP_H2O2!$A$2:$A$184,"*E*") -> 5 | Z7: =(Y7/$Y$29)*100 -> 2.7173913
A8: U | C8: PPRCHA0_0168 | D8: 2.4089474 | E8: 1.46e-07 | N8: 196229 | O8: 196546 | P8: 317 | Q8: 196387.5 | R8: UP | W8: Nucleotide metabolism and transport | X8: F | Y8: =COUNTIF(Differences_UP_H2O2!$A$2:$A$184,"*F*") -> 9 | Z8: =(Y8/$Y$29)*100 -> 4.8913043
A9: - | C9: PPRCHA0_0220 | D9: 3.0028439 | E9: 1.98e-11 | N9: 257868 | O9: 258539 | P9: 671 | Q9: 258203.5 | R9: UP | W9: Carbohydrate metabolism and transport | X9: G | Y9: =COUNTIF(Differences_UP_H2O2!$A$2:$A$184,"*G*") -> 11 | Z9: =(Y9/$Y$29)*100 -> 5.9782609
A10: S | C10: PPRCHA0_0222 | D10: 2.5999358 | E10: 4.75e-12 | N10: 258840 | O10: 259418 | P10: 578 | Q10: 259129 | R10: UP | W10: Coenzyme metabolis | X10: H | Y10: =COUNTIF(Differences_UP_H2O2!$A$2:$A$184,"*H*") -> 2 | Z10: =(Y10/$Y$29)*100 -> 1.0869565
A11: P | C11: PPRCHA0_0315 | D11: 3.4707684 | E11: 2.02e-15 | F11: TonB-dependent outermembrane receptor | N11: 362336 | O11: 364435 | P11: 2099 | Q11: 363385.5 | R11: UP | W11: Lipid metabolism | X11: I | Y11: =COUNTIF(Differences_UP_H2O2!$A$2:$A$184,"*I*") -> 3 | Z11: =(Y11/$Y$29)*100 -> 1.6304348
A12: G | C12: PPRCHA0_0364 | D12: 2.4113584 | E12: 1.91e-19 | F12: transporter, major facilitator family | I12: transport | N12: 416758 | O12: 418419 | P12: 1661 | Q12: 417588.5 | R12: UP | W12: Translation | X12: J | Y12: =COUNTIF(Differences_UP_H2O2!$A$2:$A$184,"*J*") -> 17 | Z12: =(Y12/$Y$29)*100 -> 9.2391304
A13: T | B13: typA | C13: PPRCHA0_0393 | D13: 2.4754091 | E13: 5.81e-25 | F13: GTP-binding protein TypA | N13: 446038 | O13: 447858 | P13: 1820 | Q13: 446948 | R13: UP | W13: Transcription | X13: K | Y13: =COUNTIF(Differences_UP_H2O2!$A$2:$A$184,"*K*") -> 7 | Z13: =(Y13/$Y$29)*100 -> 3.8043478
A14: S | C14: PPRCHA0_0394 | D14: 2.0525655 | E14: 1.94e-06 | N14: 448128 | O14: 448568 | P14: 440 | Q14: 448348 | R14: UP | W14: Replication and repair | X14: L | Y14: =COUNTIF(Differences_UP_H2O2!$A$2:$A$184,"*L*") -> 6 | Z14: =(Y14/$Y$29)*100 -> 3.2608696
A15: S | C15: PPRCHA0_0481 | D15: 2.4342143 | E15: 2.99e-10 | N15: 550638 | O15: 551183 | P15: 545 | Q15: 550910.5 | R15: UP | W15: Cell wall/membrane/envelop biogenesis | X15: M | Y15: =COUNTIF(Differences_UP_H2O2!$A$2:$A$184,"*M*") -> 17 | Z15: =(Y15/$Y$29)*100 -> 9.2391304
A16: F | B16: purH | C16: PPRCHA0_0673 | D16: 2.3376754 | E16: 1.21e-21 | F16: phosphoribosylaminoimidazolecarboxamide formyltransferase/IMP cyclohydrolase | N16: 779476 | O16: 781083 | P16: 1607 | Q16: 780279.5 | R16: UP | W16: Cell motility | X16: N | Y16: =COUNTIF(Differences_UP_H2O2!$A$2:$A$184,"*N*") -> 2 | Z16: =(Y16/$Y$29)*100 -> 1.0869565
A17: P | C17: PPRCHA0_0870 | D17: 2.5568679 | E17: 1.52e-11 | F17: flavodoxin/oxidoreductase NAD binding domainprotein | N17: 1003434 | O17: 1005965 | P17: 2531 | Q17: 1004699.5 | R17: UP | W17: Post-translational modification, protein turnover, chaperone functions | X17: O | Y17: =COUNTIF(Differences_UP_H2O2!$A$2:$A$184,"*O*") -> 2 | Z17: =(Y17/$Y$29)*100 -> 1.0869565
A18: P | C18: PPRCHA0_0871 | D18: 3.6906788 | E18: 1.02e-13 | F18: TonB-dependent outermembrane receptor | N18: 1006122 | O18: 1008407 | P18: 2285 | Q18: 1007264.5 | R18: UP | W18: Inorganic ion transport and metabolism | X18: P | Y18: =COUNTIF(Differences_UP_H2O2!$A$2:$A$184,"*P*") -> 16 | Z18: =(Y18/$Y$29)*100 -> 8.6956522
A19: J | B19: prfC | C19: PPRCHA0_0879 | D19: 2.0481673 | E19: 1.95e-19 | F19: peptide chain release factor 3 | N19: 1015865 | O19: 1017448 | P19: 1583 | Q19: 1016656.5 | R19: UP | W19: Secondary Structure | X19: Q | Y19: =COUNTIF(Differences_UP_H2O2!$A$2:$A$184,"*Q*") -> 3 | Z19: =(Y19/$Y$29)*100 -> 1.6304348
A20: S | C20: PPRCHA0_0997 | D20: 2.0132985 | E20: 0.008250734 | F20: RNA polymerase sigma-70 factor, ECF family | J20: regulation | N20: 1134266 | O20: 1134844 | P20: 578 | Q20: 1134555 | R20: UP | W20: General Functional Prediction only | X20: R | Y20: =COUNTIF(Differences_UP_H2O2!$A$2:$A$184,"*R*") -> 0 | Z20: =(Y20/$Y$29)*100 -> 0
A21: S | C21: PPRCHA0_0998 | D21: 2.049054 | E21: 4.46e-05 | F21: sigma factor regulatory protein, FecR/PupRfamily | J21: regulation | N21: 1134841 | O21: 1135830 | P21: 989 | Q21: 1135335.5 | R21: UP | W21: Function Unknown | X21: S | Y21: =COUNTIF(Differences_UP_H2O2!$A$2:$A$184,"*S*") -> 47 | Z21: =(Y21/$Y$29)*100 -> 25.543478
A22: P | C22: PPRCHA0_1004 | D22: 2.04336 | E22: 3.2e-06 | F22: TonB-dependent outermembrane receptor | N22: 1142274 | O22: 1144709 | P22: 2435 | Q22: 1143491.5 | R22: UP | W22: Signal Transduction | X22: T | Y22: =COUNTIF(Differences_UP_H2O2!$A$2:$A$184,"*T*") -> 4 | Z22: =(Y22/$Y$29)*100 -> 2.173913
A23: M | B23: fusA1 | C23: PPRCHA0_1012 | D23: 2.0294371 | E23: 8.96e-10 | F23: fusaric acid resistance protein FusA | N23: 1152897 | O23: 1154408 | P23: 1511 | Q23: 1153652.5 | R23: UP | W23: Intracellular trafficing and secretion | X23: U | Y23: =COUNTIF(Differences_UP_H2O2!$A$2:$A$184,"*U*") -> 4 | Z23: =(Y23/$Y$29)*100 -> 2.173913
A24: S | B24: fusBCD | C24: PPRCHA0_1013 | D24: 2.423388 | E24: 4.91e-06 | F24: fusaric acid resistance protein FusBCD | N24: 1154420 | O24: 1156627 | P24: 2207 | Q24: 1155523.5 | R24: UP | W24: Defense mechanisms | X24: V | Y24: =COUNTIF(Differences_UP_H2O2!$A$2:$A$184,"*V*") -> 3 | Z24: =(Y24/$Y$29)*100 -> 1.6304348
A25: V | C25: PPRCHA0_1016 | D25: 2.7120748 | E25: 4.75e-17 | N25: 1157874 | O25: 1158938 | P25: 1064 | Q25: 1158406 | R25: UP | W25: Cytoskeleton | X25: Z | Y25: =COUNTIF(Differences_UP_H2O2!$A$2:$A$184,"*Z*") -> 0 | Z25: =(Y25/$Y$29)*100 -> 0
A26: J | B26: rimM | C26: PPRCHA0_1102 | D26: 2.0334904 | E26: 3.99e-20 | F26: 16S rRNA processing protein RimM | N26: 1255868 | O26: 1256404 | P26: 536 | Q26: 1256136 | R26: UP | X26: _ | Y26: =COUNTIF(Differences_UP_H2O2!$A$2:$A$184,"*-*") -> 16 | Z26: =(Y26/$Y$29)*100 -> 8.6956522
A27: I | C27: PPRCHA0_1106 | D27: 2.2909179 | E27: 4.48e-07 | F27: cytochrome C oxidase subunit II | N27: 1260066 | O27: 1260479 | P27: 413 | Q27: 1260272.5 | R27: UP
A28: Q | B28: rrmA | C28: PPRCHA0_1171 | D28: 2.1263423 | E28: 3.07e-11 | F28: ribosomal RNA large subunit methyltransferaseA | K28: ribosome | N28: 1337710 | O28: 1338519 | P28: 809 | Q28: 1338114.5 | R28: UP
A29: J | B29: rpsB | C29: PPRCHA0_1183 | D29: 2.631598 | E29: 1.95e-26 | F29: ribosomal protein S2 | K29: ribosome | N29: 1353801 | O29: 1354538 | P29: 737 | Q29: 1354169.5 | R29: UP | Y29: =SUM(Y3:Y26) -> 184
A30: J | B30: tsf | C30: PPRCHA0_1184 | D30: 2.0861846 | E30: 1.33e-22 | F30: translation elongation factor Ts | N30: 1354742 | O30: 1355608 | P30: 866 | Q30: 1355175 | R30: UP
A31: J | B31: rimO | C31: PPRCHA0_1270 | D31: 2.136533 | E31: 1.77e-13 | F31: ribosomal protein S12 methylthiotransferaseRimO | K31: ribosome | N31: 1434111 | O31: 1435448 | P31: 1337 | Q31: 1434779.5 | R31: UP
A32: P | B32: pitA_1 | C32: PPRCHA0_1335 | D32: 2.0721909 | E32: 2.26e-19 | F32: low-affinity inorganic phosphate transporter | I32: transport | N32: 1504269 | O32: 1505744 | P32: 1475 | Q32: 1505006.5 | R32: UP
A33: I | C33: PPRCHA0_1856 | D33: 2.1047487 | E33: 9.37e-05 | F33: 1-acylglycerol-3-phosphate O-acyltransferasedomain protein | N33: 2061263 | O33: 2061985 | P33: 722 | Q33: 2061624 | R33: UP
A34: F | C34: PPRCHA0_1916 | D34: 2.1596907 | E34: 7.3e-08 | N34: 2139982 | O34: 2140485 | P34: 503 | Q34: 2140233.5 | R34: UP
A35: M | C35: PPRCHA0_1951 | D35: 2.8125948 | E35: 1.28e-24 | F35: glycosyltransferase | H35: OBC3 | N35: 2176553 | O35: 2177296 | P35: 743 | Q35: 2176924.5 | R35: UP
A36: M | B36: fcl | C36: PPRCHA0_1952 | D36: 2.711722 | E36: 3.11e-26 | H36: OBC3 | N36: 2177297 | O36: 2178190 | P36: 893 | Q36: 2177743.5 | R36: UP
A37: L | C37: PPRCHA0_1961 | D37: 2.0476281 | E37: 3.83e-08 | H37: OBC3 | N37: 2189483 | O37: 2190214 | P37: 731 | Q37: 2189848.5 | R37: UP
A38: G | B38: gap_1 | C38: PPRCHA0_1995 | D38: 2.2290679 | E38: 7.17e-19 | F38: glyceraldehyde-3-phosphate dehydrogenase, typeI | N38: 2233192 | O38: 2234814 | P38: 1622 | Q38: 2234003 | R38: UP
A39: M | C39: PPRCHA0_2174 | D39: 2.2614942 | E39: 4.83e-19 | N39: 2441226 | O39: 2442440 | P39: 1214 | Q39: 2441833 | R39: UP
A40: E | C40: PPRCHA0_2222 | D40: 2.6380256 | E40: 3.96e-17 | F40: aminotransferase YhxA | N40: 2486481 | O40: 2487719 | P40: 1238 | Q40: 2487100 | R40: UP
...

Sheet Differences_DW_H2O2
A1: COG | B1: Gene_name | C1: Gene_ID | D1: logFC | E1: adj.P.Val | F1: extra info | G1: PTL | H1: OBC | I1: transport | J1: regulation | K1: ribosome | L1: competition | M1: competition_type | N1: start | O1: end | P1: length | Q1: middle | R1: Regulation
A2: O | B2: osmC | C2: PPRCHA0_0045 | D2: -2.1842272 | E2: 2.68e-20 | F2: peroxiredoxin | N2: 43280 | O2: 43711 | P2: 431 | Q2: 43495.5 | R2: DW | X2: Letter | Y2: Count DW | Z2: % DW
A3: S | C3: PPRCHA0_0153 | D3: -2.4467123 | E3: 4.32e-18 | F3: putative YbaK/prolyl-tRNA synthetasesassociated domain protein | N3: 180113 | O3: 180574 | P3: 461 | Q3: 180343.5 | R3: DW | W3: RNA processing and modification | X3: A | Y3: =COUNTIF(Differences_DW_H2O2!$A$2:$A$102,"*A*") -> 0 | Z3: =(Y3/$Y$29)*100 -> 0
A4: S | C4: PPRCHA0_0200 | D4: -3.4788787 | E4: 1.02e-22 | N4: 235346 | O4: 235870 | P4: 524 | Q4: 235608 | R4: DW | W4: Chromatin Structure and dynamics | X4: B | Y4: =COUNTIF(Differences_DW_H2O2!$A$2:$A$102,"*B*") -> 1 | Z4: =(Y4/$Y$29)*100 -> 0.96153846
A5: P | C5: PPRCHA0_0256 | D5: -2.0727237 | E5: 1.7e-09 | N5: 294949 | O5: 295206 | P5: 257 | Q5: 295077.5 | R5: DW | W5: Energy production and conversion | X5: C | Y5: =COUNTIF(Differences_DW_H2O2!$A$2:$A$102,"*C*") -> 13 | Z5: =(Y5/$Y$29)*100 -> 12.5
A6: S | C6: PPRCHA0_0300 | D6: -2.1971573 | E6: 1.45e-21 | F6: putative phospholipid-binding domain/LysMdomain protein | N6: 346257 | O6: 346697 | P6: 440 | Q6: 346477 | R6: DW | W6: Cell cycle control and mitosis | X6: D | Y6: =COUNTIF(Differences_DW_H2O2!$A$2:$A$102,"*D*") -> 0 | Z6: =(Y6/$Y$29)*100 -> 0
A7: C | C7: PPRCHA0_0331 | D7: -4.3725826 | E7: 2.18e-26 | F7: putative formate dehydrogenase, delta subunit | N7: 379231 | O7: 379452 | P7: 221 | Q7: 379341.5 | R7: DW | W7: Amino Acid metabolis and transport | X7: E | Y7: =COUNTIF(Differences_DW_H2O2!$A$2:$A$102,"*E*") -> 19 | Z7: =(Y7/$Y$29)*100 -> 18.269231
A8: C | B8: fdsA | C8: PPRCHA0_0332 | D8: -3.0684199 | E8: 1.74e-25 | F8: formate dehydrogenase, alpha subunit | N8: 379449 | O8: 382346 | P8: 2897 | Q8: 380897.5 | R8: DW | W8: Nucleotide metabolism and transport | X8: F | Y8: =COUNTIF(Differences_DW_H2O2!$A$2:$A$102,"*F*") -> 0 | Z8: =(Y8/$Y$29)*100 -> 0
A9: S | C9: PPRCHA0_0435 | D9: -2.050979 | E9: 1.18e-25 | F9: poly(3-hydroxyalkanoate) granule-associatedprotein PhaF | N9: 495910 | O9: 496782 | P9: 872 | Q9: 496346 | R9: DW | W9: Carbohydrate metabolism and transport | X9: G | Y9: =COUNTIF(Differences_DW_H2O2!$A$2:$A$102,"*G*") -> 6 | Z9: =(Y9/$Y$29)*100 -> 5.7692308
A10: S | C10: PPRCHA0_0653 | D10: -2.1175717 | E10: 0.000675884 | N10: 761386 | O10: 761796 | P10: 410 | Q10: 761591 | R10: DW | W10: Coenzyme metabolis | X10: H | Y10: =COUNTIF(Differences_DW_H2O2!$A$2:$A$102,"*H*") -> 0 | Z10: =(Y10/$Y$29)*100 -> 0
A11: U | C11: PPRCHA0_0695 | D11: -2.4120908 | E11: 1.1e-15 | F11: TadE family protein | N11: 805148 | O11: 805585 | P11: 437 | Q11: 805366.5 | R11: DW | W11: Lipid metabolism | X11: I | Y11: =COUNTIF(Differences_DW_H2O2!$A$2:$A$102,"*I*") -> 4 | Z11: =(Y11/$Y$29)*100 -> 3.8461538
A12: T | C12: PPRCHA0_0697 | D12: -2.0072951 | E12: 8.71e-22 | F12: DNA-binding response regulator, LuxR family (Putative Flp pili) | J12: regulation | N12: 806254 | O12: 807045 | P12: 791 | Q12: 806649.5 | R12: DW | W12: Translation | X12: J | Y12: =COUNTIF(Differences_DW_H2O2!$A$2:$A$102,"*J*") -> 1 | Z12: =(Y12/$Y$29)*100 -> 0.96153846
A13: K | B13: cueR | C13: PPRCHA0_0716 | D13: -3.0951464 | E13: 2.13e-22 | F13: Cu(I)-responsive transcriptional regulator | J13: regulation | N13: 827326 | O13: 827730 | P13: 404 | Q13: 827528 | R13: DW | W13: Transcription | X13: K | Y13: =COUNTIF(Differences_DW_H2O2!$A$2:$A$102,"*K*") -> 8 | Z13: =(Y13/$Y$29)*100 -> 7.6923077
A14: P | C14: PPRCHA0_0717 | D14: -3.2165544 | E14: 1.34e-21 | F14: copper-exporting ATPase | N14: 827727 | O14: 830123 | P14: 2396 | Q14: 828925 | R14: DW | W14: Replication and repair | X14: L | Y14: =COUNTIF(Differences_DW_H2O2!$A$2:$A$102,"*L*") -> 1 | Z14: =(Y14/$Y$29)*100 -> 0.96153846
A15: P | C15: PPRCHA0_0719 | D15: -3.2408661 | E15: 1.18e-08 | F15: drug resistance transporter, Bcr/CflA family | I15: transport | N15: 830801 | O15: 830998 | P15: 197 | Q15: 830899.5 | R15: DW | W15: Cell wall/membrane/envelop biogenesis | X15: M | Y15: =COUNTIF(Differences_DW_H2O2!$A$2:$A$102,"*M*") -> 0 | Z15: =(Y15/$Y$29)*100 -> 0
A16: E | C16: PPRCHA0_0741 | D16: -3.348281 | E16: 5.92e-20 | F16: beta-alanine-pyruvate transaminase | N16: 853376 | O16: 854725 | P16: 1349 | Q16: 854050.5 | R16: DW | W16: Cell motility | X16: N | Y16: =COUNTIF(Differences_DW_H2O2!$A$2:$A$102,"*N*") -> 2 | Z16: =(Y16/$Y$29)*100 -> 1.9230769
A17: C | B17: mmsA_1 | C17: PPRCHA0_0742 | D17: -3.3307947 | E17: 2.33e-17 | F17: methylmalonate-semialdehyde dehydrogenase(acylating) | N17: 854799 | O17: 856292 | P17: 1493 | Q17: 855545.5 | R17: DW | W17: Post-translational modification, protein turnover, chaperone functions | X17: O | Y17: =COUNTIF(Differences_DW_H2O2!$A$2:$A$102,"*O*") -> 2 | Z17: =(Y17/$Y$29)*100 -> 1.9230769
A18: J | C18: PPRCHA0_0802 | D18: -2.0482794 | E18: 0.004546229 | F18: endoribonuclease L-PSP family protein | N18: 923851 | O18: 924222 | P18: 371 | Q18: 924036.5 | R18: DW | W18: Inorganic ion transport and metabolism | X18: P | Y18: =COUNTIF(Differences_DW_H2O2!$A$2:$A$102,"*P*") -> 7 | Z18: =(Y18/$Y$29)*100 -> 6.7307692
A19: Q | B19: hmgA | C19: PPRCHA0_0974 | D19: -2.3939461 | E19: 9.34e-18 | F19: homogentisate 1,2-dioxygenase | N19: 1112608 | O19: 1113912 | P19: 1304 | Q19: 1113260 | R19: DW | W19: Secondary Structure | X19: Q | Y19: =COUNTIF(Differences_DW_H2O2!$A$2:$A$102,"*Q*") -> 5 | Z19: =(Y19/$Y$29)*100 -> 4.8076923
A20: E | B20: ldh | C20: PPRCHA0_0981 | D20: -2.9342361 | E20: 4.69e-23 | F20: leucine dehydrogenase | N20: 1119787 | O20: 1120806 | P20: 1019 | Q20: 1120296.5 | R20: DW | W20: General Functional Prediction only | X20: R | Y20: =COUNTIF(Differences_DW_H2O2!$A$2:$A$102,"*R*") -> 0 | Z20: =(Y20/$Y$29)*100 -> 0
A21: T | C21: PPRCHA0_1035 | D21: -2.1474027 | E21: 3.21e-24 | F21: PhoH family protein | J21: regulation | N21: 1184106 | O21: 1185500 | P21: 1394 | Q21: 1184803 | R21: DW | W21: Function Unknown | X21: S | Y21: =COUNTIF(Differences_DW_H2O2!$A$2:$A$102,"*S*") -> 24 | Z21: =(Y21/$Y$29)*100 -> 23.076923
A22: E | B22: aapJ | C22: PPRCHA0_1055 | D22: -3.4367923 | E22: 1.88e-26 | F22: general L-amino acid ABC transporter,periplasmic L-amino acid-binding protein AapJ | I22: transport | N22: 1205240 | O22: 1206268 | P22: 1028 | Q22: 1205754 | R22: DW | W22: Signal Transduction | X22: T | Y22: =COUNTIF(Differences_DW_H2O2!$A$2:$A$102,"*T*") -> 6 | Z22: =(Y22/$Y$29)*100 -> 5.7692308
A23: E | B23: aapQ | C23: PPRCHA0_1056 | D23: -2.3253541 | E23: 9.92e-10 | F23: general L-amino acid ABC transporter, permeaseprotein AapQ | I23: transport | N23: 1206334 | O23: 1207515 | P23: 1181 | Q23: 1206924.5 | R23: DW | W23: Intracellular trafficing and secretion | X23: U | Y23: =COUNTIF(Differences_DW_H2O2!$A$2:$A$102,"*U*") -> 1 | Z23: =(Y23/$Y$29)*100 -> 0.96153846
A24: G | B24: nagE | C24: PPRCHA0_1085 | D24: -2.1412183 | E24: 6.62e-09 | F24: PTS system, N-acetylglucosamine-specific IIBCcomponent | N24: 1238097 | O24: 1239803 | P24: 1706 | Q24: 1238950 | R24: DW | W24: Defense mechanisms | X24: V | Y24: =COUNTIF(Differences_DW_H2O2!$A$2:$A$102,"*V*") -> 0 | Z24: =(Y24/$Y$29)*100 -> 0
A25: S | C25: PPRCHA0_1460 | D25: -2.1308736 | E25: 0.017209744 | F25: membrane protein | N25: 1637982 | O25: 1638440 | P25: 458 | Q25: 1638211 | R25: DW | W25: Cytoskeleton | X25: Z | Y25: =COUNTIF(Differences_DW_H2O2!$A$2:$A$102,"*Z*") -> 0 | Z25: =(Y25/$Y$29)*100 -> 0
A26: S | C26: PPRCHA0_1733 | D26: -2.2989484 | E26: 1.51e-16 | N26: 1935507 | O26: 1935818 | P26: 311 | Q26: 1935662.5 | R26: DW | X26: _ | Y26: =COUNTIF(Differences_DW_H2O2!$A$2:$A$102,"*-*") -> 4 | Z26: =(Y26/$Y$29)*100 -> 3.8461538
A27: S | B27: actP | C27: PPRCHA0_1734 | D27: -2.6438868 | E27: 1.07e-19 | F27: cation/acetate symporter ActP | N27: 1935815 | O27: 1937473 | P27: 1658 | Q27: 1936644 | R27: DW
A28: O | C28: PPRCHA0_1754 | D28: -2.7892132 | E28: 3.24e-22 | F28: OsmC family protein | N28: 1959185 | O28: 1959601 | P28: 416 | Q28: 1959393 | R28: DW
A29: N, T | C29: PPRCHA0_1757 | D29: -2.0480661 | E29: 1.92e-17 | F29: methyl-accepting chemotaxis protein | N29: 1961444 | O29: 1963069 | P29: 1625 | Q29: 1962256.5 | R29: DW | Y29: =SUM(Y3:Y26) -> 104
A30: G | C30: PPRCHA0_1828 | D30: -3.6485048 | E30: 1.43e-14 | N30: 2035039 | O30: 2035419 | P30: 380 | Q30: 2035229 | R30: DW
A31: S | C31: PPRCHA0_1829 | D31: -2.4480848 | E31: 2.76e-11 | N31: 2035473 | O31: 2035799 | P31: 326 | Q31: 2035636 | R31: DW
A32: G | C32: PPRCHA0_1830 | D32: -2.7304067 | E32: 8.29e-11 | N32: 2035884 | O32: 2037101 | P32: 1217 | Q32: 2036492.5 | R32: DW
A33: S | C33: PPRCHA0_1845 | D33: -2.0099459 | E33: 3.23e-19 | N33: 2050044 | O33: 2050385 | P33: 341 | Q33: 2050214.5 | R33: DW
A34: C | B34: ccoP_2 | C34: PPRCHA0_1943 | D34: -3.0264306 | E34: 4.62e-27 | F34: cytochrome c oxidase, cbb3-type, subunit III | N34: 2167715 | O34: 2168656 | P34: 941 | Q34: 2168185.5 | R34: DW
A35: C | B35: ccoQ_2 | C35: PPRCHA0_1944 | D35: -2.6330974 | E35: 3.63e-22 | F35: cytochrome c oxidase, cbb3-type, CcoQ subunit | N35: 2168653 | O35: 2168883 | P35: 230 | Q35: 2168768 | R35: DW
A36: C | B36: ccoO_2 | C36: PPRCHA0_1945 | D36: -2.4253973 | E36: 1.27e-23 | F36: cytochrome c oxidase, cbb3-type, subunit II | N36: 2168887 | O36: 2169495 | P36: 608 | Q36: 2169191 | R36: DW
A37: K | B37: acoR | C37: PPRCHA0_2195 | D37: -2.2054961 | E37: 0.000296868 | F37: acetoin catabolism regulatory protein | J37: regulation | N37: 2462759 | O37: 2463736 | P37: 977 | Q37: 2463247.5 | R37: DW
A38: G | C38: PPRCHA0_2200 | D38: -2.3109852 | E38: 0.002503938 | F38: putative citrate:proton symporter | I38: transport | N38: 2468037 | O38: 2469323 | P38: 1286 | Q38: 2468680 | R38: DW
A39: C | B39: glcD | C39: PPRCHA0_2306 | D39: -2.3271776 | E39: 5.12e-12 | F39: glycolate oxidase, subunit GlcD | N39: 2576740 | O39: 2578239 | P39: 1499 | Q39: 2577489.5 | R39: DW
A40: E | B40: lysA_1 | C40: PPRCHA0_2356 | D40: -2.0331612 | E40: 8.66e-15 | F40: diaminopimelate decarboxylase | N40: 2628980 | O40: 2630212 | P40: 1232 | Q40: 2629596 | R40: DW
...
