Workbook

Sheet Difference_MvaTV_MMC
A1: COG | B1: Gene_name | C1: Gene_ID | D1: logFC | E1: adj.P.Val | F1: extra info | G1: PTL | H1: OBC | I1: transport | J1: regulation | K1: ribosome | L1: competition | M1: competition_type | N1: start | O1: end | P1: length | Q1: middle | R1: Regulation
A2: S | C2: PPRCHA0_2876 | D2: -4.7983855 | E2: 3.11e-24 | N2: 3198140 | O2: 3198634 | P2: 494 | Q2: 3198387 | R2: DW
A3: C | B3: ccoN_3 | C3: PPRCHA0_2874 | D3: -4.6871522 | E3: 1.29e-27 | F3: cytochrome c oxidase, cbb3-type, subunit I | N3: 3194775 | O3: 3196202 | P3: 1427 | Q3: 3195488.5 | R3: DW
A4: P | B4: cysI_1 | C4: PPRCHA0_2875 | D4: -4.5008715 | E4: 2.51e-27 | F4: sulfite reductase (NADPH) hemoprotein,beta-component | N4: 3196470 | O4: 3198143 | P4: 1673 | Q4: 3197306.5 | R4: DW
A5: T | C5: PPRCHA0_5601 | D5: -4.2753486 | E5: 1.71e-25 | F5: cyclic nucleotide-binding domain/CBS domainpair/putative nucleotidyltransferase domain protein | N5: 6292591 | O5: 6294525 | P5: 1934 | Q5: 6293558 | R5: DW
A6: L | C6: PPRCHA0_5602 | D6: -4.2690949 | E6: 1.37e-19 | F6: exonuclease | N6: 6294522 | O6: 6295229 | P6: 707 | Q6: 6294875.5 | R6: DW
A7: G | C7: PPRCHA0_1384 | D7: -4.1272379 | E7: 3.95e-17 | F7: polysaccharide deacetylase family protein | N7: 1558624 | O7: 1559505 | P7: 881 | Q7: 1559064.5 | R7: DW
A8: K | C8: PPRCHA0_2873 | D8: -4.1212279 | E8: 1.78e-13 | N8: 3194494 | O8: 3194712 | P8: 218 | Q8: 3194603 | R8: DW
A9: E | B9: aapJ | C9: PPRCHA0_1055 | D9: -3.7923364 | E9: 6.63e-28 | F9: general L-amino acid ABC transporter,periplasmic L-amino acid-binding protein AapJ | I9: transport | N9: 1205240 | O9: 1206268 | P9: 1028 | Q9: 1205754 | R9: DW
A10: J | C10: PPRCHA0_1383 | D10: -3.606943 | E10: 1.48e-16 | F10: amidase family protein | N10: 1557220 | O10: 1558578 | P10: 1358 | Q10: 1557899 | R10: DW
A11: C | C11: PPRCHA0_0331 | D11: -3.4599805 | E11: 5.85e-24 | F11: putative formate dehydrogenase, delta subunit | N11: 379231 | O11: 379452 | P11: 221 | Q11: 379341.5 | R11: DW
A12: I | C12: PPRCHA0_2359 | D12: -3.4595381 | E12: 1.65e-22 | F12: acetyl-CoA acetyltransferase | N12: 2631915 | O12: 2633093 | P12: 1178 | Q12: 2632504 | R12: DW
A13: I | C13: PPRCHA0_2360 | D13: -3.455217 | E13: 9.01e-22 | F13: 3-oxoacid CoA-transferase, B subunit | N13: 2633105 | O13: 2633764 | P13: 659 | Q13: 2633434.5 | R13: DW
A14: S | B14: actP | C14: PPRCHA0_1734 | D14: -3.4460089 | E14: 4.59e-23 | F14: cation/acetate symporter ActP | N14: 1935815 | O14: 1937473 | P14: 1658 | Q14: 1936644 | R14: DW
A15: S | C15: PPRCHA0_4316 | D15: -3.3743135 | E15: 4.04e-25 | F15: pilus assembly protein PilZ | N15: 4914695 | O15: 4914970 | P15: 275 | Q15: 4914832.5 | R15: DW
A16: S | C16: PPRCHA0_0153 | D16: -3.3686916 | E16: 4.36e-22 | F16: putative YbaK/prolyl-tRNA synthetasesassociated domain protein | N16: 180113 | O16: 180574 | P16: 461 | Q16: 180343.5 | R16: DW
A17: S | C17: PPRCHA0_1733 | D17: -3.3538086 | E17: 3.79e-21 | N17: 1935507 | O17: 1935818 | P17: 311 | Q17: 1935662.5 | R17: DW
A18: K | B18: gbdR | C18: PPRCHA0_5663 | D18: -3.3448405 | E18: 6.35e-16 | F18: transcriptional regulator GbdR | J18: regulation | N18: 6353293 | O18: 6354396 | P18: 1103 | Q18: 6353844.5 | R18: DW
A19: K | C19: PPRCHA0_4763 | D19: -3.2140149 | E19: 7.82e-18 | N19: 5396744 | O19: 5396920 | P19: 176 | Q19: 5396832 | R19: DW
A20: C | C20: PPRCHA0_3897 | D20: -3.1862188 | E20: 7.66e-07 | F20: cytochrome b561 family protein | N20: 4396075 | O20: 4396620 | P20: 545 | Q20: 4396347.5 | R20: DW
A21: S | C21: PPRCHA0_4038 | D21: -3.1703465 | E21: 1.87e-22 | N21: 4555268 | O21: 4555438 | P21: 170 | Q21: 4555353 | R21: DW
A22: P | C22: PPRCHA0_0719 | D22: -3.146406 | E22: 2.05e-08 | F22: drug resistance transporter, Bcr/CflA family | I22: transport | N22: 830801 | O22: 830998 | P22: 197 | Q22: 830899.5 | R22: DW
A23: Q | C23: PPRCHA0_4114 | D23: -3.1429624 | E23: 2.37e-26 | F23: YcaC-like isochorismatase family protein | N23: 4638896 | O23: 4639522 | P23: 626 | Q23: 4639209 | R23: DW
A24: S | C24: PPRCHA0_0200 | D24: -3.0841707 | E24: 1.52e-21 | N24: 235346 | O24: 235870 | P24: 524 | Q24: 235608 | R24: DW
A25: P | B25: ppyR | C25: PPRCHA0_3314 | D25: -3.0771033 | E25: 0.026498216 | F25: putative transmembrane sensor/regulator PpyR | J25: regulation | N25: 3739326 | O25: 3739583 | P25: 257 | Q25: 3739454.5 | R25: DW
A26: I | C26: PPRCHA0_5385 | D26: -3.0419043 | E26: 2.05e-24 | F26: MaoC-like protein | N26: 6050305 | O26: 6050760 | P26: 455 | Q26: 6050532.5 | R26: DW
A27: P | C27: PPRCHA0_4715 | D27: -3.0203604 | E27: 2.75e-27 | F27: Putative lipopetides biosynthesis cluster | N27: 5343188 | O27: 5343661 | P27: 473 | Q27: 5343424.5 | R27: DW
A28: S | C28: PPRCHA0_5267 | D28: -2.9533903 | E28: 4.86e-28 | N28: 5925358 | O28: 5925846 | P28: 488 | Q28: 5925602 | R28: DW
A29: - | C29: PPRCHA0_5770 | D29: -2.939358 | E29: 1.04e-19 | N29: 6465425 | O29: 6465970 | P29: 545 | Q29: 6465697.5 | R29: DW
A30: T | C30: PPRCHA0_4458 | D30: -2.9385666 | E30: 4.81e-23 | F30: sensory box histidine kinase/responseregulator | J30: regulation | N30: 5073056 | O30: 5076529 | P30: 3473 | Q30: 5074792.5 | R30: DW
A31: P | C31: PPRCHA0_2243 | D31: -2.9116472 | E31: 1.23e-07 | N31: 2512450 | O31: 2512992 | P31: 542 | Q31: 2512721 | R31: DW
A32: U | C32: PPRCHA0_0695 | D32: -2.8649368 | E32: 8.72e-18 | F32: TadE family protein | N32: 805148 | O32: 805585 | P32: 437 | Q32: 805366.5 | R32: DW
A33: T | C33: PPRCHA0_0697 | D33: -2.8599808 | E33: 3.11e-26 | F33: DNA-binding response regulator, LuxR family (Putative Flp pili) | J33: regulation | N33: 806254 | O33: 807045 | P33: 791 | Q33: 806649.5 | R33: DW
A34: L | C34: PPRCHA0_0294 | D34: -2.8531122 | E34: 1.77e-23 | F34: ATP-dependent DNA helicase, RecQ family | N34: 337902 | O34: 339836 | P34: 1934 | Q34: 338869 | R34: DW
A35: E | B35: dppA1 | C35: PPRCHA0_0885 | D35: -2.8474374 | E35: 2.18e-22 | F35: dipeptide ABC transporter, periplasmicdipeptide-binding protein DppA 1 | I35: transport | N35: 1022091 | O35: 1023686 | P35: 1595 | Q35: 1022888.5 | R35: DW
A36: U | B36: pilC | C36: PPRCHA0_5219 | D36: -2.8452459 | E36: 1.01e-18 | F36: type IV pilus biogenesis protein PilC | N36: 5877990 | O36: 5879207 | P36: 1217 | Q36: 5878598.5 | R36: DW
A37: P | C37: PPRCHA0_0256 | D37: -2.8340719 | E37: 1.07e-12 | N37: 294949 | O37: 295206 | P37: 257 | Q37: 295077.5 | R37: DW
A38: C | B38: dctA | C38: PPRCHA0_4513 | D38: -2.825497 | E38: 5.35e-21 | F38: aerobic C4-dicarboxylate transport protein | I38: transport | N38: 5128838 | O38: 5130169 | P38: 1331 | Q38: 5129503.5 | R38: DW
A39: S | C39: PPRCHA0_2419 | D39: -2.8229324 | E39: 1.56e-16 | N39: 2696813 | O39: 2697745 | P39: 932 | Q39: 2697279 | R39: DW
A40: I | B40: scoA | C40: PPRCHA0_2361 | D40: -2.82288 | E40: 1.13e-20 | F40: succinyl-CoA:3-ketoacid-coenzyme A transferasesubunit A | N40: 2633801 | O40: 2634499 | P40: 698 | Q40: 2634150 | R40: DW
A41: S | C41: PPRCHA0_4760 | D41: -2.8117344 | E41: 9.33e-25 | F41: NAD dependent epimerase/dehydratase familyprotein | N41: 5394015 | O41: 5394629 | P41: 614 | Q41: 5394322 | R41: DW
A42: E | B42: ldh | C42: PPRCHA0_0981 | D42: -2.8023548 | E42: 8.48e-23 | F42: leucine dehydrogenase | N42: 1119787 | O42: 1120806 | P42: 1019 | Q42: 1120296.5 | R42: DW
A43: C | B43: mmsA_2 | C43: PPRCHA0_0751 | D43: -2.7929052 | E43: 2.55e-20 | F43: methylmalonate-semialdehyde dehydrogenase(acylating) | N43: 875124 | O43: 876650 | P43: 1526 | Q43: 875887 | R43: DW
A44: F | C44: PPRCHA0_2313 | D44: -2.7862931 | E44: 5.22e-24 | F44: purine nucleoside permease, NUP family | N44: 2582595 | O44: 2583623 | P44: 1028 | Q44: 2583109 | R44: DW
A45: E | B45: arcB | C45: PPRCHA0_3659 | D45: -2.7754946 | E45: 2.66e-18 | F45: ornithine cyclodeaminase | N45: 4135907 | O45: 4136968 | P45: 1061 | Q45: 4136437.5 | R45: DW
A46: - | C46: PPRCHA0_4091 | D46: -2.7736609 | E46: 8.82e-07 | N46: 4605272 | O46: 4605589 | P46: 317 | Q46: 4605430.5 | R46: DW
A47: E | B47: choX | C47: PPRCHA0_5665 | D47: -2.7666568 | E47: 5.65e-21 | F47: choline ABC transporter, periplasmiccholine-binding protein | I47: transport | N47: 6356613 | O47: 6357569 | P47: 956 | Q47: 6357091 | R47: DW
A48: V | B48: dppD | C48: PPRCHA0_0882 | D48: -2.7637861 | E48: 5.65e-23 | F48: dipeptide ABC transporter, ATP-binding proteinDppD | I48: transport | N48: 1019105 | O48: 1020073 | P48: 968 | Q48: 1019589 | R48: DW
A49: S | C49: PPRCHA0_1606 | D49: -2.7604614 | E49: 2.18e-11 | N49: 1805041 | O49: 1805631 | P49: 590 | Q49: 1805336 | R49: DW
A50: S | C50: PPRCHA0_4156 | D50: -2.7509085 | E50: 2.41e-25 | N50: 4716976 | O50: 4717434 | P50: 458 | Q50: 4717205 | R50: DW
A51: O | C51: PPRCHA0_1754 | D51: -2.7476894 | E51: 2.68e-22 | F51: OsmC family protein | N51: 1959185 | O51: 1959601 | P51: 416 | Q51: 1959393 | R51: DW
A52: E | C52: PPRCHA0_5598 | D52: -2.7441109 | E52: 6.18e-23 | F52: ACT domain protein | N52: 6288558 | O52: 6289076 | P52: 518 | Q52: 6288817 | R52: DW
A53: S | C53: PPRCHA0_1387 | D53: -2.7234251 | E53: 8e-12 | F53: oxidoreductase, short chaindehydrogenase/reductase family | N53: 1561745 | O53: 1562494 | P53: 749 | Q53: 1562119.5 | R53: DW
A54: T | C54: PPRCHA0_5682 | D54: -2.7210386 | E54: 3.34e-27 | F54: response regulator/sensory box/GGDEF domain/EALdomain protein | J54: regulation | N54: 6378431 | O54: 6380554 | P54: 2123 | Q54: 6379492.5 | R54: DW
A55: C | B55: fdsA | C55: PPRCHA0_0332 | D55: -2.7163239 | E55: 2.36e-24 | F55: formate dehydrogenase, alpha subunit | N55: 379449 | O55: 382346 | P55: 2897 | Q55: 380897.5 | R55: DW
A56: M | C56: PPRCHA0_4828 | D56: -2.7116779 | E56: 2.68e-23 | F56: MltA-interacting MipA family protein | N56: 5462322 | O56: 5463092 | P56: 770 | Q56: 5462707 | R56: DW
A57: I, Q | C57: PPRCHA0_1311 | D57: -2.7000284 | E57: 5.3e-17 | F57: short chain dehydrogenase/reductase familyprotein | L57: competition | M57: Predicted bacteriocin cluster | N57: 1479472 | O57: 1480071 | P57: 599 | Q57: 1479771.5 | R57: DW
A58: S | C58: PPRCHA0_0624 | D58: -2.6998757 | E58: 9.85e-23 | F58: phosphate starvation-inducible protein PsiF | N58: 722913 | O58: 723212 | P58: 299 | Q58: 723062.5 | R58: DW
A59: O | C59: PPRCHA0_5852 | D59: -2.6758908 | E59: 5.72e-20 | F59: HflC/HflK family protein | N59: 6555718 | O59: 6556638 | P59: 920 | Q59: 6556178 | R59: DW
A60: G | B60: quiA | C60: PPRCHA0_5567 | D60: -2.6296592 | E60: 1.08e-20 | F60: quinate/shikimate dehydrogenase | N60: 6251911 | O60: 6254286 | P60: 2375 | Q60: 6253098.5 | R60: DW
A61: V | B61: dppF | C61: PPRCHA0_0881 | D61: -2.6105614 | E61: 6.48e-23 | F61: dipeptide ABC transporter, ATP-binding proteinDppF | I61: transport | N61: 1018134 | O61: 1019105 | P61: 971 | Q61: 1018619.5 | R61: DW
A62: S | C62: PPRCHA0_5282 | D62: -2.594286 | E62: 2.85e-21 | F62: type IV pilus assembly protein, PilZ family | N62: 5945047 | O62: 5945415 | P62: 368 | Q62: 5945231 | R62: DW
A63: P | C63: PPRCHA0_0895 | D63: -2.5917331 | E63: 2.47e-19 | N63: 1035105 | O63: 1035296 | P63: 191 | Q63: 1035200.5 | R63: DW
A64: S | C64: PPRCHA0_0435 | D64: -2.5806535 | E64: 1.47e-28 | F64: poly(3-hydroxyalkanoate) granule-associatedprotein PhaF | N64: 495910 | O64: 496782 | P64: 872 | Q64: 496346 | R64: DW
A65: I | C65: PPRCHA0_2186 | D65: -2.5693548 | E65: 1.34e-20 | F65: acyl-CoA dehydrogenase family protein | N65: 2450136 | O65: 2451908 | P65: 1772 | Q65: 2451022 | R65: DW
A66: S | C66: PPRCHA0_2936 | D66: -2.5636725 | E66: 5.39e-15 | F66: nitrilase family protein | N66: 3272584 | O66: 3273504 | P66: 920 | Q66: 3273044 | R66: DW
A67: C | B67: ccoG_2 | C67: PPRCHA0_2895 | D67: -2.5456129 | E67: 2.96e-24 | F67: cytochrome c oxidase accessory protein CcoG | N67: 3224927 | O67: 3226342 | P67: 1415 | Q67: 3225634.5 | R67: DW
A68: I | B68: mmsB | C68: PPRCHA0_0752 | D68: -2.5370251 | E68: 4.41e-23 | F68: 3-hydroxyisobutyrate dehydrogenase | N68: 876661 | O68: 877548 | P68: 887 | Q68: 877104.5 | R68: DW
A69: S | C69: PPRCHA0_0896 | D69: -2.5174459 | E69: 9.65e-21 | F69: putative phosphatidylcholine-hydrolyzingphospholipase C | N69: 1035310 | O69: 1036950 | P69: 1640 | Q69: 1036130 | R69: DW
A70: C | B70: cybB | C70: PPRCHA0_4015 | D70: -2.5145872 | E70: 7.09e-20 | F70: cytochrome b561 | N70: 4523797 | O70: 4524351 | P70: 554 | Q70: 4524074 | R70: DW
A71: C | B71: calB | C71: PPRCHA0_5769 | D71: -2.5033867 | E71: 2.05e-24 | F71: coniferyl aldehyde dehydrogenase | N71: 6463967 | O71: 6465397 | P71: 1430 | Q71: 6464682 | R71: DW
A72: S | C72: PPRCHA0_4419 | D72: -2.5008421 | E72: 2.63e-18 | F72: membrane protein, DUF989 family | N72: 5026835 | O72: 5028157 | P72: 1322 | Q72: 5027496 | R72: DW
A73: O | B73: osmC | C73: PPRCHA0_0045 | D73: -2.499554 | E73: 3.81e-22 | F73: peroxiredoxin | N73: 43280 | O73: 43711 | P73: 431 | Q73: 43495.5 | R73: DW
A74: E | C74: PPRCHA0_6138 | D74: -2.4975638 | E74: 1.29e-12 | F74: proline-specific permease, ProY family | N74: 6862170 | O74: 6863582 | P74: 1412 | Q74: 6862876 | R74: DW
A75: - | C75: PPRCHA0_5265 | D75: -2.4920995 | E75: 7.1e-19 | N75: 5922087 | O75: 5922428 | P75: 341 | Q75: 5922257.5 | R75: DW
A76: N, T | C76: PPRCHA0_1757 | D76: -2.4905362 | E76: 6.41e-20 | F76: methyl-accepting chemotaxis protein | N76: 1961444 | O76: 1963069 | P76: 1625 | Q76: 1962256.5 | R76: DW
A77: I | B77: acsA_1 | C77: PPRCHA0_4564 | D77: -2.4739997 | E77: 4.67e-22 | F77: acetate-CoA ligase | N77: 5186436 | O77: 5188391 | P77: 1955 | Q77: 5187413.5 | R77: DW
A78: S | C78: PPRCHA0_3724 | D78: -2.4661585 | E78: 2.62e-18 | F78: amidohydrolase family protein | N78: 4228037 | O78: 4229779 | P78: 1742 | Q78: 4228908 | R78: DW
A79: S | C79: PPRCHA0_4580 | D79: -2.4575172 | E79: 8.48e-23 | N79: 5203337 | O79: 5203672 | P79: 335 | Q79: 5203504.5 | R79: DW
A80: S | C80: PPRCHA0_0067 | D80: -2.4573097 | E80: 1.46e-10 | N80: 64527 | O80: 64730 | P80: 203 | Q80: 64628.5 | R80: DW
A81: S | C81: PPRCHA0_5142 | D81: -2.4529029 | E81: 3.44e-13 | F81: short chain dehydrogenase/reductase familyprotein | N81: 5786051 | O81: 5786824 | P81: 773 | Q81: 5786437.5 | R81: DW
A82: S | C82: PPRCHA0_2247 | D82: -2.4490081 | E82: 0.000573847 | N82: 2515772 | O82: 2516956 | P82: 1184 | Q82: 2516364 | R82: DW
A83: E | B83: gltL | C83: PPRCHA0_4820 | D83: -2.4273757 | E83: 1.18e-19 | F83: glutamate/aspartate ABC transporter,ATP-binding protein GltL | I83: transport | N83: 5454895 | O83: 5455629 | P83: 734 | Q83: 5455262 | R83: DW
A84: O | C84: PPRCHA0_5929 | D84: -2.4169136 | E84: 2.52e-16 | F84: Mg-chelatase subunits D/I family, ComMsubfamily protein | N84: 6634194 | O84: 6635687 | P84: 1493 | Q84: 6634940.5 | R84: DW
A85: P | C85: PPRCHA0_5779 | D85: -2.4156813 | E85: 1.05e-16 | F85: transporter, major facilitator family | I85: transport | N85: 6474333 | O85: 6475544 | P85: 1211 | Q85: 6474938.5 | R85: DW
A86: K | B86: rpoS | C86: PPRCHA0_1214 | D86: -2.4052198 | E86: 4.18e-25 | F86: RNA polymerase sigma factor RpoS | J86: regulation | N86: 1387280 | O86: 1388287 | P86: 1007 | Q86: 1387783.5 | R86: DW
A87: G | B87: nagF | C87: PPRCHA0_1086 | D87: -2.3945027 | E87: 2.8e-12 | F87: PTS system, N-acetylglucosamine-specific IIAcomponent | N87: 1239826 | O87: 1242348 | P87: 2522 | Q87: 1241087 | R87: DW
A88: M | C88: PPRCHA0_1087 | D88: -2.3823811 | E88: 1.89e-10 | F88: SIS domain protein | N88: 1242375 | O88: 1243397 | P88: 1022 | Q88: 1242886 | R88: DW
A89: S | C89: PPRCHA0_0072 | D89: -2.3809194 | E89: 1.97e-25 | F89: SCO1/SenC family protein | N89: 68074 | O89: 68709 | P89: 635 | Q89: 68391.5 | R89: DW
A90: E | C90: PPRCHA0_5771 | D90: -2.3680768 | E90: 5.74e-21 | F90: oxidoreductase, GMC family | N90: 6466144 | O90: 6467739 | P90: 1595 | Q90: 6466941.5 | R90: DW
A91: O | C91: PPRCHA0_4926 | D91: -2.3417541 | E91: 1.63e-16 | N91: 5567053 | O91: 5567721 | P91: 668 | Q91: 5567387 | R91: DW
A92: C, H | C92: PPRCHA0_2334 | D92: -2.3343989 | E92: 9.45e-22 | F92: FAD dependent oxidoreductase | N92: 2604273 | O92: 2605823 | P92: 1550 | Q92: 2605048 | R92: DW
A93: K | B93: cueR | C93: PPRCHA0_0716 | D93: -2.3228818 | E93: 3.24e-19 | F93: Cu(I)-responsive transcriptional regulator | J93: regulation | N93: 827326 | O93: 827730 | P93: 404 | Q93: 827528 | R93: DW
A94: S | C94: PPRCHA0_2370 | D94: -2.3072786 | E94: 8.73e-19 | F94: CBS domain protein | N94: 2645300 | O94: 2645740 | P94: 440 | Q94: 2645520 | R94: DW
A95: J | C95: PPRCHA0_0381 | D95: -2.3061014 | E95: 1.65e-10 | N95: 431642 | O95: 431812 | P95: 170 | Q95: 431727 | R95: DW
A96: H | B96: bioC | C96: PPRCHA0_5589 | D96: -2.3011756 | E96: 3.05e-13 | F96: biotin biosynthesis protein BioC | N96: 6278539 | O96: 6279396 | P96: 857 | Q96: 6278967.5 | R96: DW
A97: M | B97: tsx | C97: PPRCHA0_2314 | D97: -2.2891667 | E97: 1.29e-12 | F97: nucleoside-specific channel-forming proteinTsx | N97: 2583711 | O97: 2584667 | P97: 956 | Q97: 2584189 | R97: DW
A98: T | C98: PPRCHA0_1665 | D98: -2.2878795 | E98: 9.49e-22 | F98: putative anti-anti-sigma factor | J98: regulation | N98: 1867253 | O98: 1867558 | P98: 305 | Q98: 1867405.5 | R98: DW
A99: E | B99: braF | C99: PPRCHA0_1318 | D99: -2.2849784 | E99: 3.3e-18 | F99: branched-chain amino acid ABC transporter,ATP-binding protein BraF | I99: transport | L99: competition | M99: Predicted bacteriocin cluster | N99: 1484505 | O99: 1485272 | P99: 767 | Q99: 1484888.5 | R99: DW
A100: S | C100: PPRCHA0_1414 | D100: -2.2824748 | E100: 4.77e-14 | N100: 1592073 | O100: 1592411 | P100: 338 | Q100: 1592242 | R100: DW
...

Sheet Differences_UP_MMC
A1: COG | B1: Gene_name | C1: Gene_ID | D1: logFC | E1: adj.P.Val | F1: extra info | G1: PTL | H1: OBC | I1: transport | J1: regulation | K1: ribosome | L1: competition | M1: competition_type | N1: start | O1: end | P1: length | Q1: middle | R1: Regulation
A2: G | C2: PPRCHA0_0143 | D2: 2.5290656 | E2: 1.36e-09 | F2: transporter, major facilitator family | I2: transport | N2: 165970 | O2: 167514 | P2: 1544 | Q2: 166742 | R2: UP | X2: Letter | Y2: Count UP | Z2: % UP
A3: K | C3: PPRCHA0_0147 | D3: 2.2340968 | E3: 4.24e-08 | F3: sigma factor regulatory protein, FecR/PupRfamily | J3: regulation | N3: 170654 | O3: 171607 | P3: 953 | Q3: 171130.5 | R3: UP | W3: RNA processing and modification | X3: A | Y3: =COUNTIF($A$2:$A$231,"*A*") -> 0 | Z3: =(Y3/$Y$29)*100 -> 0
A4: S | C4: PPRCHA0_0159 | D4: 2.3871273 | E4: 0.001963132 | N4: 184094 | O4: 184303 | P4: 209 | Q4: 184198.5 | R4: UP | W4: Chromatin Structure and dynamics | X4: B | Y4: =COUNTIF($A$2:$A$231,"*B*") -> 0 | Z4: =(Y4/$Y$29)*100 -> 0
A5: S | C5: PPRCHA0_0222 | D5: 2.0533823 | E5: 9.88e-10 | N5: 258840 | O5: 259418 | P5: 578 | Q5: 259129 | R5: UP | W5: Energy production and conversion | X5: C | Y5: =COUNTIF($A$2:$A$231,"*C*") -> 15 | Z5: =(Y5/$Y$29)*100 -> 6.4377682
A6: C | C6: PPRCHA0_0298 | D6: 2.0394548 | E6: 3.86e-07 | F6: oxidoreductase alpha (molybdopterin) subunit | N6: 342603 | O6: 344951 | P6: 2348 | Q6: 343777 | R6: UP | W6: Cell cycle control and mitosis | X6: D | Y6: =COUNTIF($A$2:$A$231,"*D*") -> 0 | Z6: =(Y6/$Y$29)*100 -> 0
A7: T | B7: typA | C7: PPRCHA0_0393 | D7: 2.2474148 | E7: 4.15e-24 | F7: GTP-binding protein TypA | N7: 446038 | O7: 447858 | P7: 1820 | Q7: 446948 | R7: UP | W7: Amino Acid metabolis and transport | X7: E | Y7: =COUNTIF($A$2:$A$231,"*E*") -> 7 | Z7: =(Y7/$Y$29)*100 -> 3.0042918
A8: L | C8: PPRCHA0_0447 | D8: 2.2891328 | E8: 2.58e-09 | F8: nuclease, SNase family | N8: 510282 | O8: 511061 | P8: 779 | Q8: 510671.5 | R8: UP | W8: Nucleotide metabolism and transport | X8: F | Y8: =COUNTIF($A$2:$A$231,"*F*") -> 3 | Z8: =(Y8/$Y$29)*100 -> 1.2875536
A9: I | C9: PPRCHA0_0466 | D9: 2.0077852 | E9: 6.23e-14 | F9: putative 3-oxoacyl-[acyl-carrier-protein] synthase, predicted core biosynthetic gene | N9: 534997 | O9: 536223 | P9: 1226 | Q9: 535610 | R9: UP | W9: Carbohydrate metabolism and transport | X9: G | Y9: =COUNTIF($A$2:$A$231,"*G*") -> 13 | Z9: =(Y9/$Y$29)*100 -> 5.5793991
A10: I | C10: PPRCHA0_0467 | D10: 2.0122862 | E10: 4.43e-13 | F10: oxidoreductase, short chaindehydrogenase/reductase family | N10: 536223 | O10: 536951 | P10: 728 | Q10: 536587 | R10: UP | W10: Coenzyme metabolis | X10: H | Y10: =COUNTIF($A$2:$A$231,"*H*") -> 3 | Z10: =(Y10/$Y$29)*100 -> 1.2875536
A11: S | C11: PPRCHA0_0471 | D11: 2.2814181 | E11: 1.24e-12 | F11: methyltransferase domain protein | N11: 539093 | O11: 539854 | P11: 761 | Q11: 539473.5 | R11: UP | W11: Lipid metabolism | X11: I | Y11: =COUNTIF($A$2:$A$231,"*I*") -> 6 | Z11: =(Y11/$Y$29)*100 -> 2.5751073
A12: C | C12: PPRCHA0_0473 | D12: 3.1137318 | E12: 1.03e-07 | F12: transporter, CPA2 family | I12: transport | N12: 541085 | O12: 542275 | P12: 1190 | Q12: 541680 | R12: UP | W12: Translation | X12: J | Y12: =COUNTIF($A$2:$A$231,"*J*") -> 41 | Z12: =(Y12/$Y$29)*100 -> 17.596567
A13: S | C13: PPRCHA0_0474 | D13: 2.6014298 | E13: 3.75e-13 | F13: putative membrane protein | N13: 542269 | O13: 544611 | P13: 2342 | Q13: 543440 | R13: UP | W13: Transcription | X13: K | Y13: =COUNTIF($A$2:$A$231,"*K*") -> 7 | Z13: =(Y13/$Y$29)*100 -> 3.0042918
A14: M | C14: PPRCHA0_0475 | D14: 3.2807779 | E14: 2.28e-14 | F14: outer membrane lipoprotein carrier protein,LolA family | N14: 544595 | O14: 545275 | P14: 680 | Q14: 544935 | R14: UP | W14: Replication and repair | X14: L | Y14: =COUNTIF($A$2:$A$231,"*L*") -> 5 | Z14: =(Y14/$Y$29)*100 -> 2.1459227
A15: S | C15: PPRCHA0_0476 | D15: 2.8686018 | E15: 2.66e-14 | F15: thioesterase family protein | N15: 545272 | O15: 545697 | P15: 425 | Q15: 545484.5 | R15: UP | W15: Cell wall/membrane/envelop biogenesis | X15: M | Y15: =COUNTIF($A$2:$A$231,"*M*") -> 21 | Z15: =(Y15/$Y$29)*100 -> 9.0128755
A16: E | C16: PPRCHA0_0477 | D16: 2.9505138 | E16: 5.4e-19 | F16: putative phenylalanine and histidineammonia-lyase | N16: 545690 | O16: 547234 | P16: 1544 | Q16: 546462 | R16: UP | W16: Cell motility | X16: N | Y16: =COUNTIF($A$2:$A$231,"*N*") -> 4 | Z16: =(Y16/$Y$29)*100 -> 1.7167382
A17: Q | C17: PPRCHA0_0480 | D17: 2.4611729 | E17: 1.08e-16 | F17: AMP-binding domain protein | N17: 548968 | O17: 550641 | P17: 1673 | Q17: 549804.5 | R17: UP | W17: Post-translational modification, protein turnover, chaperone functions | X17: O | Y17: =COUNTIF($A$2:$A$231,"*O*") -> 3 | Z17: =(Y17/$Y$29)*100 -> 1.2875536
A18: S | C18: PPRCHA0_0481 | D18: 2.6239546 | E18: 4.94e-11 | F18: putative membrane protein | N18: 550638 | O18: 551183 | P18: 545 | Q18: 550910.5 | R18: UP | W18: Inorganic ion transport and metabolism | X18: P | Y18: =COUNTIF($A$2:$A$231,"*P*") -> 11 | Z18: =(Y18/$Y$29)*100 -> 4.72103
A19: I, Q | C19: PPRCHA0_0483 | D19: 2.3420171 | E19: 7.83e-10 | F19: putative acyl carrier protein | N19: 551444 | O19: 551716 | P19: 272 | Q19: 551580 | R19: UP | W19: Secondary Structure | X19: Q | Y19: =COUNTIF($A$2:$A$231,"*Q*") -> 4 | Z19: =(Y19/$Y$29)*100 -> 1.7167382
A20: N, T | C20: PPRCHA0_0496 | D20: 2.3516133 | E20: 1.1e-10 | N20: 568127 | O20: 568357 | P20: 230 | Q20: 568242 | R20: UP | W20: General Functional Prediction only | X20: R | Y20: =COUNTIF($A$2:$A$231,"*R*") -> 0 | Z20: =(Y20/$Y$29)*100 -> 0
A21: N, T | C21: PPRCHA0_0497 | D21: 2.5828398 | E21: 1.35e-13 | N21: 568354 | O21: 568656 | P21: 302 | Q21: 568505 | R21: UP | W21: Function Unknown | X21: S | Y21: =COUNTIF($A$2:$A$231,"*S*") -> 51 | Z21: =(Y21/$Y$29)*100 -> 21.888412
A22: J | B22: rpsF | C22: PPRCHA0_0582 | D22: 2.42618 | E22: 2.05e-24 | F22: 30S ribosomal protein S6 | K22: ribosome | N22: 678567 | O22: 678992 | P22: 425 | Q22: 678779.5 | R22: UP | W22: Signal Transduction | X22: T | Y22: =COUNTIF($A$2:$A$231,"*T*") -> 7 | Z22: =(Y22/$Y$29)*100 -> 3.0042918
A23: J | B23: rpsR | C23: PPRCHA0_0583 | D23: 2.4852099 | E23: 3.88e-22 | F23: ribosomal protein S18 | K23: ribosome | N23: 679021 | O23: 679251 | P23: 230 | Q23: 679136 | R23: UP | W23: Intracellular trafficing and secretion | X23: U | Y23: =COUNTIF($A$2:$A$231,"*U*") -> 6 | Z23: =(Y23/$Y$29)*100 -> 2.5751073
A24: S | C24: PPRCHA0_0584 | D24: 2.5493601 | E24: 6.18e-23 | F24: putative membrane protein | N24: 679288 | O24: 680187 | P24: 899 | Q24: 679737.5 | R24: UP | W24: Defense mechanisms | X24: V | Y24: =COUNTIF($A$2:$A$231,"*V*") -> 5 | Z24: =(Y24/$Y$29)*100 -> 2.1459227
A25: J | B25: rplI | C25: PPRCHA0_0585 | D25: 2.5916052 | E25: 1.57e-24 | F25: ribosomal protein L9 | K25: ribosome | N25: 680209 | O25: 680655 | P25: 446 | Q25: 680432 | R25: UP | W25: Cytoskeleton | X25: Z | Y25: =COUNTIF($A$2:$A$231,"*Z*") -> 0 | Z25: =(Y25/$Y$29)*100 -> 0
A26: S | C26: PPRCHA0_0615 | D26: 2.5302989 | E26: 5.61e-16 | N26: 714396 | O26: 714863 | P26: 467 | Q26: 714629.5 | R26: UP | X26: _ | Y26: =COUNTIF($A$2:$A$231,"*-*") -> 21 | Z26: =(Y26/$Y$29)*100 -> 9.0128755
A27: - | C27: PPRCHA0_0646 | D27: 2.8114068 | E27: 2.43e-05 | N27: 752156 | O27: 752455 | P27: 299 | Q27: 752305.5 | R27: UP
A28: F | B28: purH | C28: PPRCHA0_0673 | D28: 2.1137951 | E28: 1.13e-20 | F28: phosphoribosylaminoimidazolecarboxamide formyltransferase/IMP cyclohydrolase | N28: 779476 | O28: 781083 | P28: 1607 | Q28: 780279.5 | R28: UP
A29: - | C29: PPRCHA0_0791 | D29: 2.1658531 | E29: 0.00208021 | N29: 915859 | O29: 916224 | P29: 365 | Q29: 916041.5 | R29: UP | Y29: =SUM(Y3:Y26) -> 233
A30: J | B30: rbfA | C30: PPRCHA0_0853 | D30: 2.4031481 | E30: 2.05e-20 | F30: ribosome-binding factor A | K30: ribosome | N30: 980096 | O30: 980497 | P30: 401 | Q30: 980296.5 | R30: UP
A31: C | B31: fumC_1 | C31: PPRCHA0_0916 | D31: 2.6785913 | E31: 0.004958592 | F31: fumarate hydratase, class II | N31: 1058923 | O31: 1059372 | P31: 449 | Q31: 1059147.5 | R31: UP
A32: S | C32: PPRCHA0_0996 | D32: 2.4343495 | E32: 0.005818642 | F32: putative membrane protein | N32: 1133928 | O32: 1134254 | P32: 326 | Q32: 1134091 | R32: UP
A33: S | C33: PPRCHA0_0998 | D33: 3.0665722 | E33: 5.07e-08 | F33: sigma factor regulatory protein, FecR/PupRfamily | J33: regulation | N33: 1134841 | O33: 1135830 | P33: 989 | Q33: 1135335.5 | R33: UP
A34: V | C34: PPRCHA0_1016 | D34: 3.3174189 | E34: 1.42e-19 | F34: putative lipoprotein | N34: 1157874 | O34: 1158938 | P34: 1064 | Q34: 1158406 | R34: UP
A35: J | B35: trmD | C35: PPRCHA0_1103 | D35: 2.0480628 | E35: 5.41e-21 | F35: tRNA (guanine-N(1)-)-methyltransferase | N35: 1256407 | O35: 1257159 | P35: 752 | Q35: 1256783 | R35: UP
A36: J | B36: rplS | C36: PPRCHA0_1104 | D36: 2.4785214 | E36: 1.1e-22 | F36: ribosomal protein L19 | K36: ribosome | N36: 1257205 | O36: 1257555 | P36: 350 | Q36: 1257380 | R36: UP
A37: I | C37: PPRCHA0_1106 | D37: 2.453304 | E37: 1.21e-07 | F37: cytochrome C oxidase subunit II | N37: 1260066 | O37: 1260479 | P37: 413 | Q37: 1260272.5 | R37: UP
A38: J | B38: rpsB | C38: PPRCHA0_1183 | D38: 2.6108795 | E38: 1.14e-26 | F38: ribosomal protein S2 | K38: ribosome | N38: 1353801 | O38: 1354538 | P38: 737 | Q38: 1354169.5 | R38: UP
A39: J | B39: tsf | C39: PPRCHA0_1184 | D39: 2.6487508 | E39: 1.12e-25 | F39: translation elongation factor Ts | N39: 1354742 | O39: 1355608 | P39: 866 | Q39: 1355175 | R39: UP
A40: L | B40: rnhB | C40: PPRCHA0_1197 | D40: 2.0854688 | E40: 8.36e-12 | F40: ribonuclease HII | N40: 1367801 | O40: 1368454 | P40: 653 | Q40: 1368127.5 | R40: UP
A41: U | C41: PPRCHA0_1577 | D41: 3.250475 | E41: 7.5e-15 | N41: 1779556 | O41: 1780137 | P41: 581 | Q41: 1779846.5 | R41: UP
A42: G | C42: PPRCHA0_1628 | D42: 2.7944834 | E42: 0.000667155 | N42: 1824232 | O42: 1824414 | P42: 182 | Q42: 1824323 | R42: UP
A43: S | C43: PPRCHA0_1681 | D43: 2.0643523 | E43: 3.96e-18 | N43: 1880599 | O43: 1880838 | P43: 239 | Q43: 1880718.5 | R43: UP
A44: P | C44: PPRCHA0_1682 | D44: 2.4539051 | E44: 7.55e-21 | F44: Rieske 2Fe-2S domain protein | N44: 1880887 | O44: 1882020 | P44: 1133 | Q44: 1881453.5 | R44: UP
A45: - | C45: PPRCHA0_1683 | D45: 2.2765382 | E45: 1.17e-17 | N45: 1882017 | O45: 1882637 | P45: 620 | Q45: 1882327 | R45: UP
A46: S | C46: PPRCHA0_1684 | D46: 2.2407127 | E46: 2.2e-23 | F46: methyltransferase, FkbM family | N46: 1882696 | O46: 1883931 | P46: 1235 | Q46: 1883313.5 | R46: UP
A47: C | C47: PPRCHA0_1834 | D47: 2.3767575 | E47: 9.78e-22 | F47: electron-transferring-flavoproteindehydrogenase | N47: 2040178 | O47: 2041827 | P47: 1649 | Q47: 2041002.5 | R47: UP
A48: - | C48: PPRCHA0_1860 | D48: 2.2623176 | E48: 1.99e-13 | N48: 2065515 | O48: 2065880 | P48: 365 | Q48: 2065697.5 | R48: UP
A49: M | C49: PPRCHA0_1951 | D49: 3.119976 | E49: 3.64e-26 | F49: glycosyltransferase | H49: OBC3 | N49: 2176553 | O49: 2177296 | P49: 743 | Q49: 2176924.5 | R49: UP
A50: M | B50: fcl | C50: PPRCHA0_1952 | D50: 2.3185049 | E50: 1.09e-24 | F50: OBC3 | H50: OBC3 | N50: 2177297 | O50: 2178190 | P50: 893 | Q50: 2177743.5 | R50: UP
A51: - | C51: PPRCHA0_1957 | D51: 2.3728682 | E51: 2.1e-27 | F51: OBC3 | H51: OBC3 | N51: 2183335 | O51: 2185278 | P51: 1943 | Q51: 2184306.5 | R51: UP
A52: M | C52: PPRCHA0_1958 | D52: 2.380694 | E52: 1.66e-26 | F52: OBC3 | H52: OBC3 | N52: 2185336 | O52: 2186250 | P52: 914 | Q52: 2185793 | R52: UP
A53: L | C53: PPRCHA0_1961 | D53: 2.5740898 | E53: 2.82e-10 | F53: OBC3 | H53: OBC3 | N53: 2189483 | O53: 2190214 | P53: 731 | Q53: 2189848.5 | R53: UP
A54: M | C54: PPRCHA0_2174 | D54: 2.8018403 | E54: 8.42e-22 | N54: 2441226 | O54: 2442440 | P54: 1214 | Q54: 2441833 | R54: UP
A55: G | C55: PPRCHA0_2228 | D55: 2.4649373 | E55: 1.12e-20 | N55: 2492916 | O55: 2494178 | P55: 1262 | Q55: 2493547 | R55: UP
A56: G | C56: PPRCHA0_2230 | D56: 2.3178337 | E56: 1.77e-19 | F56: putative membrane protein | N56: 2496183 | O56: 2496785 | P56: 602 | Q56: 2496484 | R56: UP
A57: K | C57: PPRCHA0_2284 | D57: 2.6236664 | E57: 1.34e-11 | F57: transcriptional regulator, RpiR family/SISdomain protein | J57: regulation | N57: 2558322 | O57: 2559176 | P57: 854 | Q57: 2558749 | R57: UP
A58: O | B58: yfcF | C58: PPRCHA0_2442 | D58: 2.1214637 | E58: 2.67e-10 | F58: glutathione S-transferase YfcF | N58: 2712726 | O58: 2713358 | P58: 632 | Q58: 2713042 | R58: UP
A59: S | C59: PPRCHA0_2454 | D59: 2.5098072 | E59: 0.000167127 | N59: 2727842 | O59: 2728213 | P59: 371 | Q59: 2728027.5 | R59: UP
A60: S | C60: PPRCHA0_2480 | D60: 2.2626221 | E60: 4.03e-09 | F60: methyltransferase | N60: 2748687 | O60: 2749628 | P60: 941 | Q60: 2749157.5 | R60: UP
A61: C | C61: PPRCHA0_2496 | D61: 2.3191368 | E61: 1.49e-20 | N61: 2764095 | O61: 2764964 | P61: 869 | Q61: 2764529.5 | R61: UP
A62: H | B62: nadE_1 | C62: PPRCHA0_2509 | D62: 2.7713173 | E62: 5.6e-15 | F62: NAD+ synthetase | N62: 2777346 | O62: 2778173 | P62: 827 | Q62: 2777759.5 | R62: UP
A63: S | C63: PPRCHA0_2513 | D63: 2.1863333 | E63: 1.95e-05 | N63: 2779666 | O63: 2780187 | P63: 521 | Q63: 2779926.5 | R63: UP
A64: S | C64: PPRCHA0_2514 | D64: 2.24525 | E64: 5.33e-08 | N64: 2780184 | O64: 2780849 | P64: 665 | Q64: 2780516.5 | R64: UP
A65: S | C65: PPRCHA0_2515 | D65: 2.5548676 | E65: 0.00013941 | N65: 2781008 | O65: 2782024 | P65: 1016 | Q65: 2781516 | R65: UP
A66: T | C66: PPRCHA0_2638 | D66: 2.4090981 | E66: 8.07e-17 | F66: C4-type zinc finger protein, DksA/TraR family | N66: 2920438 | O66: 2920842 | P66: 404 | Q66: 2920640 | R66: UP
A67: - | C67: PPRCHA0_2718 | D67: 2.5565091 | E67: 2.28e-09 | N67: 2999899 | O67: 3000507 | P67: 608 | Q67: 3000203 | R67: UP
A68: S | C68: PPRCHA0_2781 | D68: 2.3362279 | E68: 8.88e-21 | F68: META domain protein | N68: 3075414 | O68: 3076136 | P68: 722 | Q68: 3075775 | R68: UP
A69: C | C69: PPRCHA0_2840 | D69: 2.1794971 | E69: 9.94e-07 | F69: alcohol dehydrogenase GroES-likedomain/oxidoreductase, zinc-binding dehydrogenase family protein | N69: 3161353 | O69: 3162351 | P69: 998 | Q69: 3161852 | R69: UP
A70: C | B70: nemA | C70: PPRCHA0_2843 | D70: 2.253654 | E70: 3.43e-07 | F70: N-ethylmaleimide reductase | N70: 3164207 | O70: 3165307 | P70: 1100 | Q70: 3164757 | R70: UP
A71: S | C71: PPRCHA0_2855 | D71: 2.2778447 | E71: 0.000127979 | N71: 3176333 | O71: 3176653 | P71: 320 | Q71: 3176493 | R71: UP
A72: G | C72: PPRCHA0_2857 | D72: 2.5619873 | E72: 0.006611775 | F72: prevent-host-death family protein | N72: 3178577 | O72: 3179188 | P72: 611 | Q72: 3178882.5 | R72: UP
A73: G | C73: PPRCHA0_2858 | D73: 2.7975677 | E73: 0.000573151 | F73: outer membrane protein, OMP85 family | N73: 3179221 | O73: 3180897 | P73: 1676 | Q73: 3180059 | R73: UP
A74: G | C74: PPRCHA0_2861 | D74: 3.1227618 | E74: 0.003120263 | F74: periplasmic energy transduction protein TonB6 | N74: 3183175 | O74: 3183891 | P74: 716 | Q74: 3183533 | R74: UP
A75: G | C75: PPRCHA0_2862 | D75: 2.2497202 | E75: 0.002711278 | N75: 3183932 | O75: 3185626 | P75: 1694 | Q75: 3184779 | R75: UP
A76: S | C76: PPRCHA0_2990 | D76: 4.1884922 | E76: 2.86e-08 | F76: putative lipoprotein | N76: 3339277 | O76: 3339618 | P76: 341 | Q76: 3339447.5 | R76: UP
A77: J | C77: PPRCHA0_3020 | D77: 2.4289467 | E77: 8.14e-12 | F77: HDc and NK domain-containing protein, metal-dependent phosphohydrolases with conserved 'HD' motif, nucleoside/nucleotide kinase | N77: 3391592 | O77: 3392737 | P77: 1145 | Q77: 3392164.5 | R77: UP
A78: E | C78: PPRCHA0_3068 | D78: 2.565197 | E78: 7.41e-15 | F78: amino acid ABC transporter, periplasmic amino acid-binding protein | I78: transport | N78: 3444095 | O78: 3444874 | P78: 779 | Q78: 3444484.5 | R78: UP
A79: M | C79: PPRCHA0_3086 | D79: 2.493702 | E79: 1.34e-15 | F79: OBC2 | H79: OBC2 | N79: 3467947 | O79: 3469371 | P79: 1424 | Q79: 3468659 | R79: UP
A80: M | B80: lspL | C80: PPRCHA0_3087 | D80: 2.7418222 | E80: 5.74e-12 | F80: OBC2 | H80: OBC2 | N80: 3469368 | O80: 3470387 | P80: 1019 | Q80: 3469877.5 | R80: UP
A81: M | C81: PPRCHA0_3092 | D81: 3.7011221 | E81: 5.14e-08 | F81: OBC2 | H81: OBC2 | N81: 3474501 | O81: 3475601 | P81: 1100 | Q81: 3475051 | R81: UP
A82: M | C82: PPRCHA0_3093 | D82: 3.2905944 | E82: 4.14e-08 | F82: OBC2 | H82: OBC2 | N82: 3475598 | O82: 3476968 | P82: 1370 | Q82: 3476283 | R82: UP
A83: M | C83: PPRCHA0_3094 | D83: 2.597837 | E83: 7.1e-10 | F83: OBC2 | H83: OBC2 | N83: 3477113 | O83: 3478078 | P83: 965 | Q83: 3477595.5 | R83: UP
A84: M | C84: PPRCHA0_3095 | D84: 2.7473492 | E84: 1.99e-09 | F84: OBC2 | H84: OBC2 | N84: 3478071 | O84: 3479207 | P84: 1136 | Q84: 3478639 | R84: UP
A85: G | C85: PPRCHA0_3096 | D85: 3.3189359 | E85: 7.97e-10 | F85: OBC2 | H85: OBC2 | N85: 3479209 | O85: 3480207 | P85: 998 | Q85: 3479708 | R85: UP
A86: M | C86: PPRCHA0_3097 | D86: 3.4882888 | E86: 2.63e-08 | F86: OBC2 | H86: OBC2 | N86: 3480204 | O86: 3481514 | P86: 1310 | Q86: 3480859 | R86: UP
A87: - | C87: PPRCHA0_3098 | D87: 2.6994956 | E87: 5.34e-12 | F87: OBC2 | H87: OBC2 | N87: 3481511 | O87: 3483439 | P87: 1928 | Q87: 3482475 | R87: UP
A88: - | C88: PPRCHA0_3099 | D88: 2.4672287 | E88: 9.27e-09 | F88: OBC2 | H88: OBC2 | N88: 3483436 | O88: 3484140 | P88: 704 | Q88: 3483788 | R88: UP
A89: - | C89: PPRCHA0_3100 | D89: 2.8608416 | E89: 3.22e-12 | F89: OBC2 | H89: OBC2 | N89: 3484137 | O89: 3485261 | P89: 1124 | Q89: 3484699 | R89: UP
A90: S | C90: PPRCHA0_3101 | D90: 2.3276221 | E90: 7.43e-07 | F90: OBC2 | H90: OBC2 | N90: 3485258 | O90: 3486037 | P90: 779 | Q90: 3485647.5 | R90: UP
A91: S | C91: PPRCHA0_3115 | D91: 2.3660724 | E91: 7.89e-21 | F91: ABC transporter, ATP-binding protein | I91: transport | N91: 3497598 | O91: 3499160 | P91: 1562 | Q91: 3498379 | R91: UP
A92: - | C92: PPRCHA0_3135 | D92: 2.147453 | E92: 3.87e-17 | F92: hypothetical protein, alpha/beta hyrolase, adenylate cyclase | N92: 3518291 | O92: 3519301 | P92: 1010 | Q92: 3518796 | R92: UP
A93: S | C93: PPRCHA0_3155 | D93: 2.0255086 | E93: 1.09e-08 | F93: putative secreted protein | N93: 3540672 | O93: 3540896 | P93: 224 | Q93: 3540784 | R93: UP
A94: F | B94: ygfO | C94: PPRCHA0_3166 | D94: 3.1644231 | E94: 9.01e-14 | F94: high-affinity xanthine transporter, NCS2family, YgfO | I94: transport | N94: 3552119 | O94: 3553558 | P94: 1439 | Q94: 3552838.5 | R94: UP
A95: V | B95: aprD | C95: PPRCHA0_3214 | D95: 2.231535 | E95: 5.73e-22 | F95: ABC transporter | I95: transport | N95: 3618049 | O95: 3619830 | P95: 1781 | Q95: 3618939.5 | R95: UP
A96: M | B96: mexE | C96: PPRCHA0_3243 | D96: 2.7859594 | E96: 1.76e-15 | F96: multidrug efflux RND transporter, membranefusion protein MexE | I96: transport | N96: 3655096 | O96: 3656343 | P96: 1247 | Q96: 3655719.5 | R96: UP
A97: V | B97: mexF | C97: PPRCHA0_3244 | D97: 2.3475037 | E97: 1.21e-14 | F97: multidrug efflux RND transporter, permeaseprotein MexF | I97: transport | N97: 3656359 | O97: 3659538 | P97: 3179 | Q97: 3657948.5 | R97: UP
A98: M | B98: oprN | C98: PPRCHA0_3245 | D98: 2.3130741 | E98: 4.58e-11 | F98: multidrug efflux RND transporter, outermembrane factor lipoprotein OprN | I98: transport | N98: 3659535 | O98: 3660956 | P98: 1421 | Q98: 3660245.5 | R98: UP
A99: P | B99: efeO | C99: PPRCHA0_3259 | D99: 3.6515621 | E99: 7.76e-10 | F99: periplasmic iron transport protein EfeO | N99: 3677710 | O99: 3678909 | P99: 1199 | Q99: 3678309.5 | R99: UP
A100: P | B100: efeB | C100: PPRCHA0_3260 | D100: 2.9652366 | E100: 4.68e-09 | F100: heme-containing peroxidase/deferrochelataseEfeB | N100: 3678925 | O100: 3680235 | P100: 1310 | Q100: 3679580 | R100: UP
...

Sheet Differences_DW_MMC
A1: COG | B1: Gene_name | C1: Gene_ID | D1: logFC | E1: adj.P.Val | F1: extra info | G1: PTL | H1: OBC | I1: transport | J1: regulation | K1: ribosome | L1: competition | M1: competition_type | N1: start | O1: end | P1: length | Q1: middle | R1: Regulation
A2: S | C2: PPRCHA0_0043 | D2: -2.2663685 | E2: 1.12e-24 | N2: 41753 | O2: 41977 | P2: 224 | Q2: 41865 | R2: DW | X2: Letter | Y2: Count UP | Z2: % DW
A3: O | B3: osmC | C3: PPRCHA0_0045 | D3: -2.499554 | E3: 3.81e-22 | F3: peroxiredoxin | N3: 43280 | O3: 43711 | P3: 431 | Q3: 43495.5 | R3: DW | W3: RNA processing and modification | X3: A | Y3: =COUNTIF($A$2:$A$231,"*A*") -> 0 | Z3: =(Y3/$Y$29)*100 -> 0
A4: S | C4: PPRCHA0_0067 | D4: -2.4573097 | E4: 1.46e-10 | N4: 64527 | O4: 64730 | P4: 203 | Q4: 64628.5 | R4: DW | W4: Chromatin Structure and dynamics | X4: B | Y4: =COUNTIF($A$2:$A$231,"*B*") -> 0 | Z4: =(Y4/$Y$29)*100 -> 0
A5: S | C5: PPRCHA0_0072 | D5: -2.3809194 | E5: 1.97e-25 | F5: SCO1/SenC family protein | N5: 68074 | O5: 68709 | P5: 635 | Q5: 68391.5 | R5: DW | W5: Energy production and conversion | X5: C | Y5: =COUNTIF($A$2:$A$231,"*C*") -> 14 | Z5: =(Y5/$Y$29)*100 -> 8.4848485
A6: P | B6: znuB | C6: PPRCHA0_0078 | D6: -2.035889 | E6: 4.26e-17 | F6: high-affinity zinc ABC transporter, permeaseprotein ZnuB | I6: transport | N6: 74644 | O6: 75432 | P6: 788 | Q6: 75038 | R6: DW | W6: Cell cycle control and mitosis | X6: D | Y6: =COUNTIF($A$2:$A$231,"*D*") -> 0 | Z6: =(Y6/$Y$29)*100 -> 0
A7: S | C7: PPRCHA0_0153 | D7: -3.3686916 | E7: 4.36e-22 | F7: putative YbaK/prolyl-tRNA synthetasesassociated domain protein | N7: 180113 | O7: 180574 | P7: 461 | Q7: 180343.5 | R7: DW | W7: Amino Acid metabolis and transport | X7: E | Y7: =COUNTIF($A$2:$A$231,"*E*") -> 21 | Z7: =(Y7/$Y$29)*100 -> 12.727273
A8: S | C8: PPRCHA0_0200 | D8: -3.0841707 | E8: 1.52e-21 | N8: 235346 | O8: 235870 | P8: 524 | Q8: 235608 | R8: DW | W8: Nucleotide metabolism and transport | X8: F | Y8: =COUNTIF($A$2:$A$231,"*F*") -> 2 | Z8: =(Y8/$Y$29)*100 -> 1.2121212
A9: P | C9: PPRCHA0_0256 | D9: -2.8340719 | E9: 1.07e-12 | N9: 294949 | O9: 295206 | P9: 257 | Q9: 295077.5 | R9: DW | W9: Carbohydrate metabolism and transport | X9: G | Y9: =COUNTIF($A$2:$A$231,"*G*") -> 9 | Z9: =(Y9/$Y$29)*100 -> 5.4545455
A10: I | C10: PPRCHA0_0257 | D10: -2.0705811 | E10: 1.19e-13 | F10: oxidoreductase, short chaindehydrogenase/reductase family | N10: 295259 | O10: 295999 | P10: 740 | Q10: 295629 | R10: DW | W10: Coenzyme metabolis | X10: H | Y10: =COUNTIF($A$2:$A$231,"*H*") -> 2 | Z10: =(Y10/$Y$29)*100 -> 1.2121212
A11: L | C11: PPRCHA0_0294 | D11: -2.8531122 | E11: 1.77e-23 | F11: ATP-dependent DNA helicase, RecQ family | N11: 337902 | O11: 339836 | P11: 1934 | Q11: 338869 | R11: DW | W11: Lipid metabolism | X11: I | Y11: =COUNTIF($A$2:$A$231,"*I*") -> 12 | Z11: =(Y11/$Y$29)*100 -> 7.2727273
A12: C | C12: PPRCHA0_0331 | D12: -3.4599805 | E12: 5.85e-24 | F12: putative formate dehydrogenase, delta subunit | N12: 379231 | O12: 379452 | P12: 221 | Q12: 379341.5 | R12: DW | W12: Translation | X12: J | Y12: =COUNTIF($A$2:$A$231,"*J*") -> 2 | Z12: =(Y12/$Y$29)*100 -> 1.2121212
A13: C | B13: fdsA | C13: PPRCHA0_0332 | D13: -2.7163239 | E13: 2.36e-24 | F13: formate dehydrogenase, alpha subunit | N13: 379449 | O13: 382346 | P13: 2897 | Q13: 380897.5 | R13: DW | W13: Transcription | X13: K | Y13: =COUNTIF($A$2:$A$231,"*K*") -> 10 | Z13: =(Y13/$Y$29)*100 -> 6.0606061
A14: J | C14: PPRCHA0_0381 | D14: -2.3061014 | E14: 1.65e-10 | N14: 431642 | O14: 431812 | P14: 170 | Q14: 431727 | R14: DW | W14: Replication and repair | X14: L | Y14: =COUNTIF($A$2:$A$231,"*L*") -> 2 | Z14: =(Y14/$Y$29)*100 -> 1.2121212
A15: S | C15: PPRCHA0_0435 | D15: -2.5806535 | E15: 1.47e-28 | F15: poly(3-hydroxyalkanoate) granule-associatedprotein PhaF | N15: 495910 | O15: 496782 | P15: 872 | Q15: 496346 | R15: DW | W15: Cell wall/membrane/envelop biogenesis | X15: M | Y15: =COUNTIF($A$2:$A$231,"*M*") -> 5 | Z15: =(Y15/$Y$29)*100 -> 3.030303
A16: S | C16: PPRCHA0_0624 | D16: -2.6998757 | E16: 9.85e-23 | F16: phosphate starvation-inducible protein PsiF | N16: 722913 | O16: 723212 | P16: 299 | Q16: 723062.5 | R16: DW | W16: Cell motility | X16: N | Y16: =COUNTIF($A$2:$A$231,"*N*") -> 1 | Z16: =(Y16/$Y$29)*100 -> 0.60606061
A17: - | C17: PPRCHA0_0688 | D17: -2.0444636 | E17: 5.3e-16 | F17: putative membrane protein | N17: 797469 | O17: 797762 | P17: 293 | Q17: 797615.5 | R17: DW | W17: Post-translational modification, protein turnover, chaperone functions | X17: O | Y17: =COUNTIF($A$2:$A$231,"*O*") -> 6 | Z17: =(Y17/$Y$29)*100 -> 3.6363636
A18: U | C18: PPRCHA0_0695 | D18: -2.8649368 | E18: 8.72e-18 | F18: TadE family protein | N18: 805148 | O18: 805585 | P18: 437 | Q18: 805366.5 | R18: DW | W18: Inorganic ion transport and metabolism | X18: P | Y18: =COUNTIF($A$2:$A$231,"*P*") -> 11 | Z18: =(Y18/$Y$29)*100 -> 6.6666667
A19: T | C19: PPRCHA0_0697 | D19: -2.8599808 | E19: 3.11e-26 | F19: DNA-binding response regulator, LuxR family (Putative Flp pili) | J19: regulation | N19: 806254 | O19: 807045 | P19: 791 | Q19: 806649.5 | R19: DW | W19: Secondary Structure | X19: Q | Y19: =COUNTIF($A$2:$A$231,"*Q*") -> 6 | Z19: =(Y19/$Y$29)*100 -> 3.6363636
A20: I | C20: PPRCHA0_0713 | D20: -2.0132278 | E20: 8.55e-22 | F20: putative acetyl-CoA acetyltransferase | N20: 822448 | O20: 823725 | P20: 1277 | Q20: 823086.5 | R20: DW | W20: General Functional Prediction only | X20: R | Y20: =COUNTIF($A$2:$A$231,"*R*") -> 0 | Z20: =(Y20/$Y$29)*100 -> 0
A21: K | B21: cueR | C21: PPRCHA0_0716 | D21: -2.3228818 | E21: 3.24e-19 | F21: Cu(I)-responsive transcriptional regulator | J21: regulation | N21: 827326 | O21: 827730 | P21: 404 | Q21: 827528 | R21: DW | W21: Function Unknown | X21: S | Y21: =COUNTIF($A$2:$A$231,"*S*") -> 44 | Z21: =(Y21/$Y$29)*100 -> 26.666667
A22: P | C22: PPRCHA0_0717 | D22: -2.1969778 | E22: 2.72e-17 | F22: copper-exporting ATPase | N22: 827727 | O22: 830123 | P22: 2396 | Q22: 828925 | R22: DW | W22: Signal Transduction | X22: T | Y22: =COUNTIF($A$2:$A$231,"*T*") -> 6 | Z22: =(Y22/$Y$29)*100 -> 3.6363636
A23: P | C23: PPRCHA0_0719 | D23: -3.146406 | E23: 2.05e-08 | F23: drug resistance transporter, Bcr/CflA family | I23: transport | N23: 830801 | O23: 830998 | P23: 197 | Q23: 830899.5 | R23: DW | W23: Intracellular trafficing and secretion | X23: U | Y23: =COUNTIF($A$2:$A$231,"*U*") -> 2 | Z23: =(Y23/$Y$29)*100 -> 1.2121212
A24: C | B24: mmsA_2 | C24: PPRCHA0_0751 | D24: -2.7929052 | E24: 2.55e-20 | F24: methylmalonate-semialdehyde dehydrogenase(acylating) | N24: 875124 | O24: 876650 | P24: 1526 | Q24: 875887 | R24: DW | W24: Defense mechanisms | X24: V | Y24: =COUNTIF($A$2:$A$231,"*V*") -> 4 | Z24: =(Y24/$Y$29)*100 -> 2.4242424
A25: I | B25: mmsB | C25: PPRCHA0_0752 | D25: -2.5370251 | E25: 4.41e-23 | F25: 3-hydroxyisobutyrate dehydrogenase | N25: 876661 | O25: 877548 | P25: 887 | Q25: 877104.5 | R25: DW | W25: Cytoskeleton | X25: Z | Y25: =COUNTIF($A$2:$A$231,"*Z*") -> 0 | Z25: =(Y25/$Y$29)*100 -> 0
A26: S | C26: PPRCHA0_0786 | D26: -2.2193225 | E26: 7.68e-11 | N26: 912217 | O26: 912600 | P26: 383 | Q26: 912408.5 | R26: DW | X26: _ | Y26: =COUNTIF($A$2:$A$231,"*-*") -> 6 | Z26: =(Y26/$Y$29)*100 -> 3.6363636
A27: S | C27: PPRCHA0_0787 | D27: -2.0400254 | E27: 5.24e-13 | F27: lysozym like domains | N27: 912769 | O27: 913326 | P27: 557 | Q27: 913047.5 | R27: DW
A28: K | C28: PPRCHA0_0822 | D28: -2.2174891 | E28: 7.34e-19 | N28: 942832 | O28: 943119 | P28: 287 | Q28: 942975.5 | R28: DW
A29: V | B29: dppF | C29: PPRCHA0_0881 | D29: -2.6105614 | E29: 6.48e-23 | F29: dipeptide ABC transporter, ATP-binding proteinDppF | I29: transport | N29: 1018134 | O29: 1019105 | P29: 971 | Q29: 1018619.5 | R29: DW | Y29: =SUM(Y3:Y26) -> 165
A30: V | B30: dppD | C30: PPRCHA0_0882 | D30: -2.7637861 | E30: 5.65e-23 | F30: dipeptide ABC transporter, ATP-binding proteinDppD | I30: transport | N30: 1019105 | O30: 1020073 | P30: 968 | Q30: 1019589 | R30: DW
A31: E, P | B31: dppB | C31: PPRCHA0_0884 | D31: -2.081072 | E31: 1.41e-15 | F31: dipeptide ABC transporter, permease proteinDppB | I31: transport | N31: 1021007 | O31: 1022017 | P31: 1010 | Q31: 1021512 | R31: DW
A32: E | B32: dppA1 | C32: PPRCHA0_0885 | D32: -2.8474374 | E32: 2.18e-22 | F32: dipeptide ABC transporter, periplasmicdipeptide-binding protein DppA 1 | I32: transport | N32: 1022091 | O32: 1023686 | P32: 1595 | Q32: 1022888.5 | R32: DW
A33: P | C33: PPRCHA0_0895 | D33: -2.5917331 | E33: 2.47e-19 | N33: 1035105 | O33: 1035296 | P33: 191 | Q33: 1035200.5 | R33: DW
A34: S | C34: PPRCHA0_0896 | D34: -2.5174459 | E34: 9.65e-21 | F34: putative phosphatidylcholine-hydrolyzingphospholipase C | N34: 1035310 | O34: 1036950 | P34: 1640 | Q34: 1036130 | R34: DW
A35: O | C35: PPRCHA0_0948 | D35: -2.021645 | E35: 1.11e-22 | F35: glutathione peroxidase, BtuE family | N35: 1088396 | O35: 1088878 | P35: 482 | Q35: 1088637 | R35: DW
A36: E | B36: ldh | C36: PPRCHA0_0981 | D36: -2.8023548 | E36: 8.48e-23 | F36: leucine dehydrogenase | N36: 1119787 | O36: 1120806 | P36: 1019 | Q36: 1120296.5 | R36: DW
A37: E | B37: aapJ | C37: PPRCHA0_1055 | D37: -3.7923364 | E37: 6.63e-28 | F37: general L-amino acid ABC transporter,periplasmic L-amino acid-binding protein AapJ | I37: transport | N37: 1205240 | O37: 1206268 | P37: 1028 | Q37: 1205754 | R37: DW
A38: G | B38: nagE | C38: PPRCHA0_1085 | D38: -2.2168064 | E38: 3.01e-09 | F38: PTS system, N-acetylglucosamine-specific IIBCcomponent | N38: 1238097 | O38: 1239803 | P38: 1706 | Q38: 1238950 | R38: DW
A39: G | B39: nagF | C39: PPRCHA0_1086 | D39: -2.3945027 | E39: 2.8e-12 | F39: PTS system, N-acetylglucosamine-specific IIAcomponent | N39: 1239826 | O39: 1242348 | P39: 2522 | Q39: 1241087 | R39: DW
A40: M | C40: PPRCHA0_1087 | D40: -2.3823811 | E40: 1.89e-10 | F40: SIS domain protein | N40: 1242375 | O40: 1243397 | P40: 1022 | Q40: 1242886 | R40: DW
A41: M | B41: nlpD | C41: PPRCHA0_1213 | D41: -2.193698 | E41: 5.07e-25 | F41: putative lipoprotein NlpD | N41: 1386313 | O41: 1387173 | P41: 860 | Q41: 1386743 | R41: DW
A42: K | B42: rpoS | C42: PPRCHA0_1214 | D42: -2.4052198 | E42: 4.18e-25 | F42: RNA polymerase sigma factor RpoS | J42: regulation | N42: 1387280 | O42: 1388287 | P42: 1007 | Q42: 1387783.5 | R42: DW
A43: S | C43: PPRCHA0_1293 | D43: -2.1475013 | E43: 3.43e-13 | N43: 1460885 | O43: 1461370 | P43: 485 | Q43: 1461127.5 | R43: DW
A44: I, Q | C44: PPRCHA0_1311 | D44: -2.7000284 | E44: 5.3e-17 | F44: short chain dehydrogenase/reductase familyprotein | L44: competition | M44: Predicted bacteriocin cluster | N44: 1479472 | O44: 1480071 | P44: 599 | Q44: 1479771.5 | R44: DW
A45: E | B45: braG | C45: PPRCHA0_1317 | D45: -2.0193724 | E45: 1.43e-14 | F45: branched-chain amino acid ABC transporter,ATP-binding protein BraG | I45: transport | L45: competition | M45: Predicted bacteriocin cluster | N45: 1483803 | O45: 1484504 | P45: 701 | Q45: 1484153.5 | R45: DW
A46: E | B46: braF | C46: PPRCHA0_1318 | D46: -2.2849784 | E46: 3.3e-18 | F46: branched-chain amino acid ABC transporter,ATP-binding protein BraF | I46: transport | L46: competition | M46: Predicted bacteriocin cluster | N46: 1484505 | O46: 1485272 | P46: 767 | Q46: 1484888.5 | R46: DW
A47: E | B47: braE | C47: PPRCHA0_1319 | D47: -2.1355212 | E47: 2.62e-15 | F47: branched-chain amino acid ABC transporter,permease protein BraE | I47: transport | L47: competition | M47: Predicted bacteriocin cluster | N47: 1485269 | O47: 1486525 | P47: 1256 | Q47: 1485897 | R47: DW
A48: G | C48: PPRCHA0_1344 | D48: -2.2474795 | E48: 1.5e-16 | F48: MFS transporter, metabolite:H+ symporter (MHS)family protein | I48: transport | N48: 1514203 | O48: 1515498 | P48: 1295 | Q48: 1514850.5 | R48: DW
A49: J | C49: PPRCHA0_1383 | D49: -3.606943 | E49: 1.48e-16 | F49: amidase family protein | N49: 1557220 | O49: 1558578 | P49: 1358 | Q49: 1557899 | R49: DW
A50: G | C50: PPRCHA0_1384 | D50: -4.1272379 | E50: 3.95e-17 | F50: polysaccharide deacetylase family protein | N50: 1558624 | O50: 1559505 | P50: 881 | Q50: 1559064.5 | R50: DW
A51: S | C51: PPRCHA0_1387 | D51: -2.7234251 | E51: 8e-12 | F51: oxidoreductase, short chaindehydrogenase/reductase family | N51: 1561745 | O51: 1562494 | P51: 749 | Q51: 1562119.5 | R51: DW
A52: S | C52: PPRCHA0_1389 | D52: -2.0301179 | E52: 3.35e-10 | F52: CobW/P47K family protein | N52: 1562804 | O52: 1563811 | P52: 1007 | Q52: 1563307.5 | R52: DW
A53: S | C53: PPRCHA0_1414 | D53: -2.2824748 | E53: 4.77e-14 | N53: 1592073 | O53: 1592411 | P53: 338 | Q53: 1592242 | R53: DW
A54: S | C54: PPRCHA0_1606 | D54: -2.7604614 | E54: 2.18e-11 | N54: 1805041 | O54: 1805631 | P54: 590 | Q54: 1805336 | R54: DW
A55: T | C55: PPRCHA0_1665 | D55: -2.2878795 | E55: 9.49e-22 | F55: putative anti-anti-sigma factor | J55: regulation | N55: 1867253 | O55: 1867558 | P55: 305 | Q55: 1867405.5 | R55: DW
A56: S | C56: PPRCHA0_1733 | D56: -3.3538086 | E56: 3.79e-21 | N56: 1935507 | O56: 1935818 | P56: 311 | Q56: 1935662.5 | R56: DW
A57: S | B57: actP | C57: PPRCHA0_1734 | D57: -3.4460089 | E57: 4.59e-23 | F57: cation/acetate symporter ActP | N57: 1935815 | O57: 1937473 | P57: 1658 | Q57: 1936644 | R57: DW
A58: O | C58: PPRCHA0_1754 | D58: -2.7476894 | E58: 2.68e-22 | F58: OsmC family protein | N58: 1959185 | O58: 1959601 | P58: 416 | Q58: 1959393 | R58: DW
A59: N, T | C59: PPRCHA0_1757 | D59: -2.4905362 | E59: 6.41e-20 | F59: methyl-accepting chemotaxis protein | N59: 1961444 | O59: 1963069 | P59: 1625 | Q59: 1962256.5 | R59: DW
A60: S | C60: PPRCHA0_1802 | D60: -2.2152734 | E60: 1.24e-13 | N60: 2009046 | O60: 2009657 | P60: 611 | Q60: 2009351.5 | R60: DW
A61: G | C61: PPRCHA0_1828 | D61: -2.1350154 | E61: 4.25e-09 | N61: 2035039 | O61: 2035419 | P61: 380 | Q61: 2035229 | R61: DW
A62: C | C62: PPRCHA0_1891 | D62: -2.151538 | E62: 6.36e-07 | F62: nitrate reductase NasA, Predicted nitrite/nitrate assimilation operon | N62: 2099438 | O62: 2102155 | P62: 2717 | Q62: 2100796.5 | R62: DW
A63: E | C63: PPRCHA0_1920 | D63: -2.1628011 | E63: 5.88e-11 | F63: glyoxalase family protein | N63: 2143522 | O63: 2143893 | P63: 371 | Q63: 2143707.5 | R63: DW
A64: K | C64: PPRCHA0_2159 | D64: -2.0710466 | E64: 1.09e-11 | F64: transcriptional regulator, LysR family | J64: regulation | N64: 2391148 | O64: 2392083 | P64: 935 | Q64: 2391615.5 | R64: DW
A65: I | C65: PPRCHA0_2186 | D65: -2.5693548 | E65: 1.34e-20 | F65: acyl-CoA dehydrogenase family protein | N65: 2450136 | O65: 2451908 | P65: 1772 | Q65: 2451022 | R65: DW
A66: Q | C66: PPRCHA0_2187 | D66: -2.1001062 | E66: 1.1e-11 | N66: 2452105 | O66: 2453727 | P66: 1622 | Q66: 2452916 | R66: DW
A67: E | C67: PPRCHA0_2232 | D67: -2.1238718 | E67: 0.001857068 | F67: amino acid ABC transporter, ATP-bindingprotein | I67: transport | N67: 2499800 | O67: 2500588 | P67: 788 | Q67: 2500194 | R67: DW
A68: E | C68: PPRCHA0_2235 | D68: -2.0926158 | E68: 0.000320001 | F68: amino acid ABC transporter, permease protein,3-TM region, His/Glu/Gln/Arg/opine family | I68: transport | N68: 2502600 | O68: 2503319 | P68: 719 | Q68: 2502959.5 | R68: DW
A69: P | C69: PPRCHA0_2243 | D69: -2.9116472 | E69: 1.23e-07 | N69: 2512450 | O69: 2512992 | P69: 542 | Q69: 2512721 | R69: DW
A70: S | C70: PPRCHA0_2247 | D70: -2.4490081 | E70: 0.000573847 | N70: 2515772 | O70: 2516956 | P70: 1184 | Q70: 2516364 | R70: DW
A71: C | B71: glcD | C71: PPRCHA0_2306 | D71: -2.1285748 | E71: 3.83e-11 | F71: glycolate oxidase, subunit GlcD | N71: 2576740 | O71: 2578239 | P71: 1499 | Q71: 2577489.5 | R71: DW
A72: F | C72: PPRCHA0_2313 | D72: -2.7862931 | E72: 5.22e-24 | F72: purine nucleoside permease, NUP family | N72: 2582595 | O72: 2583623 | P72: 1028 | Q72: 2583109 | R72: DW
A73: M | B73: tsx | C73: PPRCHA0_2314 | D73: -2.2891667 | E73: 1.29e-12 | F73: nucleoside-specific channel-forming proteinTsx | N73: 2583711 | O73: 2584667 | P73: 956 | Q73: 2584189 | R73: DW
A74: C, H | C74: PPRCHA0_2334 | D74: -2.3343989 | E74: 9.45e-22 | F74: FAD dependent oxidoreductase | N74: 2604273 | O74: 2605823 | P74: 1550 | Q74: 2605048 | R74: DW
A75: I | C75: PPRCHA0_2359 | D75: -3.4595381 | E75: 1.65e-22 | F75: acetyl-CoA acetyltransferase | N75: 2631915 | O75: 2633093 | P75: 1178 | Q75: 2632504 | R75: DW
A76: I | C76: PPRCHA0_2360 | D76: -3.455217 | E76: 9.01e-22 | F76: 3-oxoacid CoA-transferase, B subunit | N76: 2633105 | O76: 2633764 | P76: 659 | Q76: 2633434.5 | R76: DW
A77: I | B77: scoA | C77: PPRCHA0_2361 | D77: -2.82288 | E77: 1.13e-20 | F77: succinyl-CoA:3-ketoacid-coenzyme A transferasesubunit A | N77: 2633801 | O77: 2634499 | P77: 698 | Q77: 2634150 | R77: DW
A78: S | C78: PPRCHA0_2370 | D78: -2.3072786 | E78: 8.73e-19 | F78: CBS domain protein | N78: 2645300 | O78: 2645740 | P78: 440 | Q78: 2645520 | R78: DW
A79: S | C79: PPRCHA0_2419 | D79: -2.8229324 | E79: 1.56e-16 | N79: 2696813 | O79: 2697745 | P79: 932 | Q79: 2697279 | R79: DW
A80: S | C80: PPRCHA0_2420 | D80: -2.1367119 | E80: 0.011292628 | N80: 2697877 | O80: 2698023 | P80: 146 | Q80: 2697950 | R80: DW
A81: S | C81: PPRCHA0_2452 | D81: -2.0437146 | E81: 7.12e-22 | F81: putative peptidoglycan binding domain protein | N81: 2724094 | O81: 2725665 | P81: 1571 | Q81: 2724879.5 | R81: DW
A82: G | C82: PPRCHA0_2472 | D82: -2.2391723 | E82: 6.84e-11 | F82: transporter, major facilitator family | I82: transport | N82: 2741865 | O82: 2743193 | P82: 1328 | Q82: 2742529 | R82: DW
A83: S | C83: PPRCHA0_2521 | D83: -2.0007774 | E83: 2.64e-07 | F83: antibiotic biosynthesis monooxygenase domainprotein | N83: 2788150 | O83: 2788728 | P83: 578 | Q83: 2788439 | R83: DW
A84: - | C84: PPRCHA0_2536 | D84: -2.1904418 | E84: 3.44e-12 | N84: 2806789 | O84: 2807829 | P84: 1040 | Q84: 2807309 | R84: DW
A85: K | C85: PPRCHA0_2867 | D85: -2.2660172 | E85: 7.15e-17 | N85: 3188969 | O85: 3189364 | P85: 395 | Q85: 3189166.5 | R85: DW
A86: K | C86: PPRCHA0_2873 | D86: -4.1212279 | E86: 1.78e-13 | N86: 3194494 | O86: 3194712 | P86: 218 | Q86: 3194603 | R86: DW
A87: C | B87: ccoN_3 | C87: PPRCHA0_2874 | D87: -4.6871522 | E87: 1.29e-27 | F87: cytochrome c oxidase, cbb3-type, subunit I | N87: 3194775 | O87: 3196202 | P87: 1427 | Q87: 3195488.5 | R87: DW
A88: P | B88: cysI_1 | C88: PPRCHA0_2875 | D88: -4.5008715 | E88: 2.51e-27 | F88: sulfite reductase (NADPH) hemoprotein,beta-component | N88: 3196470 | O88: 3198143 | P88: 1673 | Q88: 3197306.5 | R88: DW
A89: S | C89: PPRCHA0_2876 | D89: -4.7983855 | E89: 3.11e-24 | N89: 3198140 | O89: 3198634 | P89: 494 | Q89: 3198387 | R89: DW
A90: K | C90: PPRCHA0_2894 | D90: -2.2629654 | E90: 4.14e-24 | F90: transcriptional regulator, GntRfamily/aminotransferase, classes I and II | J90: regulation | N90: 3223360 | O90: 3224769 | P90: 1409 | Q90: 3224064.5 | R90: DW
A91: C | B91: ccoG_2 | C91: PPRCHA0_2895 | D91: -2.5456129 | E91: 2.96e-24 | F91: cytochrome c oxidase accessory protein CcoG | N91: 3224927 | O91: 3226342 | P91: 1415 | Q91: 3225634.5 | R91: DW
A92: S | C92: PPRCHA0_2936 | D92: -2.5636725 | E92: 5.39e-15 | F92: nitrilase family protein | N92: 3272584 | O92: 3273504 | P92: 920 | Q92: 3273044 | R92: DW
A93: K | C93: PPRCHA0_2941 | D93: -2.1019948 | E93: 0.005264061 | F93: amino acid permease, APC family | N93: 3277822 | O93: 3279303 | P93: 1481 | Q93: 3278562.5 | R93: DW
A94: S | C94: PPRCHA0_3129 | D94: -2.0580677 | E94: 0.000587942 | F94: FabDpeptidase, C39 family | N94: 3510864 | O94: 3511484 | P94: 620 | Q94: 3511174 | R94: DW
A95: E | C95: PPRCHA0_3224 | D95: -2.0942863 | E95: 3.66e-12 | F95: aminotransferase, class III | N95: 3631235 | O95: 3632569 | P95: 1334 | Q95: 3631902 | R95: DW
A96: S | C96: PPRCHA0_3296 | D96: -2.156856 | E96: 3.56e-16 | F96: acetyltransferase, GNAT family | N96: 3718505 | O96: 3719092 | P96: 587 | Q96: 3718798.5 | R96: DW
A97: P | B97: ppyR | C97: PPRCHA0_3314 | D97: -3.0771033 | E97: 0.026498216 | F97: putative transmembrane sensor/regulator PpyR | J97: regulation | N97: 3739326 | O97: 3739583 | P97: 257 | Q97: 3739454.5 | R97: DW
A98: S | C98: PPRCHA0_3425 | D98: -2.2591496 | E98: 9.63e-17 | F98: Defective prophage 5 | G98: Defective prophage 5 | N98: 3858574 | O98: 3858894 | P98: 320 | Q98: 3858734 | R98: DW
A99: M | B99: wecB | C99: PPRCHA0_3611 | D99: -2.1786824 | E99: 3.82e-16 | F99: UDP-N-acetylglucosamine 2-epimerase | N99: 4074076 | O99: 4075227 | P99: 1151 | Q99: 4074651.5 | R99: DW
A100: G | C100: PPRCHA0_3618 | D100: -2.0353663 | E100: 3.34e-09 | F100: drug resistance transporter, EmrB/QacA family | I100: transport | N100: 4080452 | O100: 4081993 | P100: 1541 | Q100: 4081222.5 | R100: DW
...

Sheet Difference_MvaTV_H2O2
A1: COG | B1: Gene_name | C1: Gene_ID | D1: logFC | E1: adj.P.Val | F1: PTL | G1: OBC | H1: transport | I1: regulation | J1: ribosome | K1: competition | L1: competition_type | M1: start | N1: end | O1: length | P1: middle | Q1: Regulation
A2: O | B2: osmC | C2: PPRCHA0_0045 | D2: -2.1842272 | E2: 2.68e-20 | M2: 43280 | N2: 43711 | O2: 431 | P2: 43495.5 | Q2: DW
A3: G | C3: PPRCHA0_0055 | D3: 3.0945156 | E3: 3.81e-16 | M3: 50905 | N3: 51660 | O3: 755 | P3: 51282.5 | Q3: UP
A4: E | C4: PPRCHA0_0056 | D4: 2.842971 | E4: 4.47e-22 | M4: 51663 | N4: 53447 | O4: 1784 | P4: 52555 | Q4: UP
A5: C | C5: PPRCHA0_0057 | D5: 2.8725624 | E5: 1.95e-15 | M5: 53460 | N5: 54764 | O5: 1304 | P5: 54112 | Q5: UP
A6: G | C6: PPRCHA0_0143 | D6: 2.8935941 | E6: 7.18e-11 | H6: transport | M6: 165970 | N6: 167514 | O6: 1544 | P6: 166742 | Q6: UP
A7: P | C7: PPRCHA0_0148 | D7: 2.1623495 | E7: 3.8e-06 | M7: 171706 | N7: 174171 | O7: 2465 | P7: 172938.5 | Q7: UP
A8: S | C8: PPRCHA0_0153 | D8: -2.4467123 | E8: 4.32e-18 | M8: 180113 | N8: 180574 | O8: 461 | P8: 180343.5 | Q8: DW
A9: S | C9: PPRCHA0_0159 | D9: 2.0758717 | E9: 0.006423906 | M9: 184094 | N9: 184303 | O9: 209 | P9: 184198.5 | Q9: UP
A10: U | C10: PPRCHA0_0168 | D10: 2.4089474 | E10: 1.46e-07 | M10: 196229 | N10: 196546 | O10: 317 | P10: 196387.5 | Q10: UP
A11: S | C11: PPRCHA0_0200 | D11: -3.4788787 | E11: 1.02e-22 | M11: 235346 | N11: 235870 | O11: 524 | P11: 235608 | Q11: DW
A12: - | C12: PPRCHA0_0220 | D12: 3.0028439 | E12: 1.98e-11 | M12: 257868 | N12: 258539 | O12: 671 | P12: 258203.5 | Q12: UP
A13: S | C13: PPRCHA0_0222 | D13: 2.5999358 | E13: 4.75e-12 | M13: 258840 | N13: 259418 | O13: 578 | P13: 259129 | Q13: UP
A14: P | C14: PPRCHA0_0256 | D14: -2.0727237 | E14: 1.7e-09 | M14: 294949 | N14: 295206 | O14: 257 | P14: 295077.5 | Q14: DW
A15: S | C15: PPRCHA0_0300 | D15: -2.1971573 | E15: 1.45e-21 | M15: 346257 | N15: 346697 | O15: 440 | P15: 346477 | Q15: DW
A16: P | C16: PPRCHA0_0315 | D16: 3.4707684 | E16: 2.02e-15 | M16: 362336 | N16: 364435 | O16: 2099 | P16: 363385.5 | Q16: UP
A17: C | C17: PPRCHA0_0331 | D17: -4.3725826 | E17: 2.18e-26 | M17: 379231 | N17: 379452 | O17: 221 | P17: 379341.5 | Q17: DW
A18: C | B18: fdsA | C18: PPRCHA0_0332 | D18: -3.0684199 | E18: 1.74e-25 | M18: 379449 | N18: 382346 | O18: 2897 | P18: 380897.5 | Q18: DW
A19: G | C19: PPRCHA0_0364 | D19: 2.4113584 | E19: 1.91e-19 | H19: transport | M19: 416758 | N19: 418419 | O19: 1661 | P19: 417588.5 | Q19: UP
A20: T | B20: typA | C20: PPRCHA0_0393 | D20: 2.4754091 | E20: 5.81e-25 | M20: 446038 | N20: 447858 | O20: 1820 | P20: 446948 | Q20: UP
A21: S | C21: PPRCHA0_0394 | D21: 2.0525655 | E21: 1.94e-06 | M21: 448128 | N21: 448568 | O21: 440 | P21: 448348 | Q21: UP
A22: S | C22: PPRCHA0_0435 | D22: -2.050979 | E22: 1.18e-25 | M22: 495910 | N22: 496782 | O22: 872 | P22: 496346 | Q22: DW
A23: S | C23: PPRCHA0_0481 | D23: 2.4342143 | E23: 2.99e-10 | M23: 550638 | N23: 551183 | O23: 545 | P23: 550910.5 | Q23: UP
A24: S | C24: PPRCHA0_0653 | D24: -2.1175717 | E24: 0.000675884 | M24: 761386 | N24: 761796 | O24: 410 | P24: 761591 | Q24: DW
A25: F | B25: purH | C25: PPRCHA0_0673 | D25: 2.3376754 | E25: 1.21e-21 | M25: 779476 | N25: 781083 | O25: 1607 | P25: 780279.5 | Q25: UP
A26: U | C26: PPRCHA0_0695 | D26: -2.4120908 | E26: 1.1e-15 | M26: 805148 | N26: 805585 | O26: 437 | P26: 805366.5 | Q26: DW
A27: T | C27: PPRCHA0_0697 | D27: -2.0072951 | E27: 8.71e-22 | I27: regulation | M27: 806254 | N27: 807045 | O27: 791 | P27: 806649.5 | Q27: DW
A28: K | B28: cueR | C28: PPRCHA0_0716 | D28: -3.0951464 | E28: 2.13e-22 | I28: regulation | M28: 827326 | N28: 827730 | O28: 404 | P28: 827528 | Q28: DW
A29: P | C29: PPRCHA0_0717 | D29: -3.2165544 | E29: 1.34e-21 | M29: 827727 | N29: 830123 | O29: 2396 | P29: 828925 | Q29: DW
A30: P | C30: PPRCHA0_0719 | D30: -3.2408661 | E30: 1.18e-08 | H30: transport | M30: 830801 | N30: 830998 | O30: 197 | P30: 830899.5 | Q30: DW
A31: E | C31: PPRCHA0_0741 | D31: -3.348281 | E31: 5.92e-20 | M31: 853376 | N31: 854725 | O31: 1349 | P31: 854050.5 | Q31: DW
A32: C | B32: mmsA_1 | C32: PPRCHA0_0742 | D32: -3.3307947 | E32: 2.33e-17 | M32: 854799 | N32: 856292 | O32: 1493 | P32: 855545.5 | Q32: DW
A33: J | C33: PPRCHA0_0802 | D33: -2.0482794 | E33: 0.004546229 | M33: 923851 | N33: 924222 | O33: 371 | P33: 924036.5 | Q33: DW
A34: P | C34: PPRCHA0_0870 | D34: 2.5568679 | E34: 1.52e-11 | M34: 1003434 | N34: 1005965 | O34: 2531 | P34: 1004699.5 | Q34: UP
A35: P | C35: PPRCHA0_0871 | D35: 3.6906788 | E35: 1.02e-13 | M35: 1006122 | N35: 1008407 | O35: 2285 | P35: 1007264.5 | Q35: UP
A36: J | B36: prfC | C36: PPRCHA0_0879 | D36: 2.0481673 | E36: 1.95e-19 | M36: 1015865 | N36: 1017448 | O36: 1583 | P36: 1016656.5 | Q36: UP
A37: Q | B37: hmgA | C37: PPRCHA0_0974 | D37: -2.3939461 | E37: 9.34e-18 | M37: 1112608 | N37: 1113912 | O37: 1304 | P37: 1113260 | Q37: DW
A38: E | B38: ldh | C38: PPRCHA0_0981 | D38: -2.9342361 | E38: 4.69e-23 | M38: 1119787 | N38: 1120806 | O38: 1019 | P38: 1120296.5 | Q38: DW
A39: S | C39: PPRCHA0_0997 | D39: 2.0132985 | E39: 0.008250734 | I39: regulation | M39: 1134266 | N39: 1134844 | O39: 578 | P39: 1134555 | Q39: UP
A40: S | C40: PPRCHA0_0998 | D40: 2.049054 | E40: 4.46e-05 | I40: regulation | M40: 1134841 | N40: 1135830 | O40: 989 | P40: 1135335.5 | Q40: UP
A41: P | C41: PPRCHA0_1004 | D41: 2.04336 | E41: 3.2e-06 | M41: 1142274 | N41: 1144709 | O41: 2435 | P41: 1143491.5 | Q41: UP
A42: M | B42: fusA1 | C42: PPRCHA0_1012 | D42: 2.0294371 | E42: 8.96e-10 | M42: 1152897 | N42: 1154408 | O42: 1511 | P42: 1153652.5 | Q42: UP
A43: S | B43: fusBCD | C43: PPRCHA0_1013 | D43: 2.423388 | E43: 4.91e-06 | M43: 1154420 | N43: 1156627 | O43: 2207 | P43: 1155523.5 | Q43: UP
A44: V | C44: PPRCHA0_1016 | D44: 2.7120748 | E44: 4.75e-17 | M44: 1157874 | N44: 1158938 | O44: 1064 | P44: 1158406 | Q44: UP
A45: T | C45: PPRCHA0_1035 | D45: -2.1474027 | E45: 3.21e-24 | I45: regulation | M45: 1184106 | N45: 1185500 | O45: 1394 | P45: 1184803 | Q45: DW
A46: E | B46: aapJ | C46: PPRCHA0_1055 | D46: -3.4367923 | E46: 1.88e-26 | H46: transport | M46: 1205240 | N46: 1206268 | O46: 1028 | P46: 1205754 | Q46: DW
A47: E | B47: aapQ | C47: PPRCHA0_1056 | D47: -2.3253541 | E47: 9.92e-10 | H47: transport | M47: 1206334 | N47: 1207515 | O47: 1181 | P47: 1206924.5 | Q47: DW
A48: G | B48: nagE | C48: PPRCHA0_1085 | D48: -2.1412183 | E48: 6.62e-09 | M48: 1238097 | N48: 1239803 | O48: 1706 | P48: 1238950 | Q48: DW
A49: J | B49: rimM | C49: PPRCHA0_1102 | D49: 2.0334904 | E49: 3.99e-20 | M49: 1255868 | N49: 1256404 | O49: 536 | P49: 1256136 | Q49: UP
A50: I | C50: PPRCHA0_1106 | D50: 2.2909179 | E50: 4.48e-07 | M50: 1260066 | N50: 1260479 | O50: 413 | P50: 1260272.5 | Q50: UP
A51: Q | B51: rrmA | C51: PPRCHA0_1171 | D51: 2.1263423 | E51: 3.07e-11 | J51: ribosome | M51: 1337710 | N51: 1338519 | O51: 809 | P51: 1338114.5 | Q51: UP
A52: J | B52: rpsB | C52: PPRCHA0_1183 | D52: 2.631598 | E52: 1.95e-26 | J52: ribosome | M52: 1353801 | N52: 1354538 | O52: 737 | P52: 1354169.5 | Q52: UP
A53: J | B53: tsf | C53: PPRCHA0_1184 | D53: 2.0861846 | E53: 1.33e-22 | M53: 1354742 | N53: 1355608 | O53: 866 | P53: 1355175 | Q53: UP
A54: J | B54: rimO | C54: PPRCHA0_1270 | D54: 2.136533 | E54: 1.77e-13 | J54: ribosome | M54: 1434111 | N54: 1435448 | O54: 1337 | P54: 1434779.5 | Q54: UP
A55: P | B55: pitA_1 | C55: PPRCHA0_1335 | D55: 2.0721909 | E55: 2.26e-19 | H55: transport | M55: 1504269 | N55: 1505744 | O55: 1475 | P55: 1505006.5 | Q55: UP
A56: S | C56: PPRCHA0_1460 | D56: -2.1308736 | E56: 0.017209744 | M56: 1637982 | N56: 1638440 | O56: 458 | P56: 1638211 | Q56: DW
A57: S | C57: PPRCHA0_1733 | D57: -2.2989484 | E57: 1.51e-16 | M57: 1935507 | N57: 1935818 | O57: 311 | P57: 1935662.5 | Q57: DW
A58: S | B58: actP | C58: PPRCHA0_1734 | D58: -2.6438868 | E58: 1.07e-19 | M58: 1935815 | N58: 1937473 | O58: 1658 | P58: 1936644 | Q58: DW
A59: O | C59: PPRCHA0_1754 | D59: -2.7892132 | E59: 3.24e-22 | M59: 1959185 | N59: 1959601 | O59: 416 | P59: 1959393 | Q59: DW
A60: N, T | C60: PPRCHA0_1757 | D60: -2.0480661 | E60: 1.92e-17 | M60: 1961444 | N60: 1963069 | O60: 1625 | P60: 1962256.5 | Q60: DW
A61: G | C61: PPRCHA0_1828 | D61: -3.6485048 | E61: 1.43e-14 | M61: 2035039 | N61: 2035419 | O61: 380 | P61: 2035229 | Q61: DW
A62: S | C62: PPRCHA0_1829 | D62: -2.4480848 | E62: 2.76e-11 | M62: 2035473 | N62: 2035799 | O62: 326 | P62: 2035636 | Q62: DW
A63: G | C63: PPRCHA0_1830 | D63: -2.7304067 | E63: 8.29e-11 | M63: 2035884 | N63: 2037101 | O63: 1217 | P63: 2036492.5 | Q63: DW
A64: S | C64: PPRCHA0_1845 | D64: -2.0099459 | E64: 3.23e-19 | M64: 2050044 | N64: 2050385 | O64: 341 | P64: 2050214.5 | Q64: DW
A65: I | C65: PPRCHA0_1856 | D65: 2.1047487 | E65: 9.37e-05 | M65: 2061263 | N65: 2061985 | O65: 722 | P65: 2061624 | Q65: UP
A66: F | C66: PPRCHA0_1916 | D66: 2.1596907 | E66: 7.3e-08 | M66: 2139982 | N66: 2140485 | O66: 503 | P66: 2140233.5 | Q66: UP
A67: C | B67: ccoP_2 | C67: PPRCHA0_1943 | D67: -3.0264306 | E67: 4.62e-27 | M67: 2167715 | N67: 2168656 | O67: 941 | P67: 2168185.5 | Q67: DW
A68: C | B68: ccoQ_2 | C68: PPRCHA0_1944 | D68: -2.6330974 | E68: 3.63e-22 | M68: 2168653 | N68: 2168883 | O68: 230 | P68: 2168768 | Q68: DW
A69: C | B69: ccoO_2 | C69: PPRCHA0_1945 | D69: -2.4253973 | E69: 1.27e-23 | M69: 2168887 | N69: 2169495 | O69: 608 | P69: 2169191 | Q69: DW
A70: M | C70: PPRCHA0_1951 | D70: 2.8125948 | E70: 1.28e-24 | G70: OBC3 | M70: 2176553 | N70: 2177296 | O70: 743 | P70: 2176924.5 | Q70: UP
A71: M | B71: fcl | C71: PPRCHA0_1952 | D71: 2.711722 | E71: 3.11e-26 | G71: OBC3 | M71: 2177297 | N71: 2178190 | O71: 893 | P71: 2177743.5 | Q71: UP
A72: L | C72: PPRCHA0_1961 | D72: 2.0476281 | E72: 3.83e-08 | G72: OBC3 | M72: 2189483 | N72: 2190214 | O72: 731 | P72: 2189848.5 | Q72: UP
A73: G | B73: gap_1 | C73: PPRCHA0_1995 | D73: 2.2290679 | E73: 7.17e-19 | M73: 2233192 | N73: 2234814 | O73: 1622 | P73: 2234003 | Q73: UP
A74: M | C74: PPRCHA0_2174 | D74: 2.2614942 | E74: 4.83e-19 | M74: 2441226 | N74: 2442440 | O74: 1214 | P74: 2441833 | Q74: UP
A75: K | B75: acoR | C75: PPRCHA0_2195 | D75: -2.2054961 | E75: 0.000296868 | I75: regulation | M75: 2462759 | N75: 2463736 | O75: 977 | P75: 2463247.5 | Q75: DW
A76: G | C76: PPRCHA0_2200 | D76: -2.3109852 | E76: 0.002503938 | H76: transport | M76: 2468037 | N76: 2469323 | O76: 1286 | P76: 2468680 | Q76: DW
A77: E | C77: PPRCHA0_2222 | D77: 2.6380256 | E77: 3.96e-17 | M77: 2486481 | N77: 2487719 | O77: 1238 | P77: 2487100 | Q77: UP
A78: G | C78: PPRCHA0_2223 | D78: 2.5351382 | E78: 1.09e-16 | M78: 2487697 | N78: 2489484 | O78: 1787 | P78: 2488590.5 | Q78: UP
A79: S | C79: PPRCHA0_2225 | D79: 3.0419525 | E79: 7.02e-20 | M79: 2490419 | N79: 2491042 | O79: 623 | P79: 2490730.5 | Q79: UP
A80: S | C80: PPRCHA0_2226 | D80: 2.9342614 | E80: 1.89e-19 | M80: 2491049 | N80: 2491834 | O80: 785 | P80: 2491441.5 | Q80: UP
A81: S | C81: PPRCHA0_2227 | D81: 2.831922 | E81: 8.91e-21 | M81: 2491853 | N81: 2492878 | O81: 1025 | P81: 2492365.5 | Q81: UP
A82: G | C82: PPRCHA0_2228 | D82: 2.9679073 | E82: 1.19e-22 | M82: 2492916 | N82: 2494178 | O82: 1262 | P82: 2493547 | Q82: UP
A83: K | C83: PPRCHA0_2284 | D83: 3.216653 | E83: 1.01e-13 | I83: regulation | M83: 2558322 | N83: 2559176 | O83: 854 | P83: 2558749 | Q83: UP
A84: C | B84: glcD | C84: PPRCHA0_2306 | D84: -2.3271776 | E84: 5.12e-12 | M84: 2576740 | N84: 2578239 | O84: 1499 | P84: 2577489.5 | Q84: DW
A85: S | C85: PPRCHA0_2341 | D85: 3.1026922 | E85: 3.55e-18 | M85: 2612414 | N85: 2613958 | O85: 1544 | P85: 2613186 | Q85: UP
A86: S | C86: PPRCHA0_2342 | D86: 2.9715195 | E86: 1.59e-16 | M86: 2614731 | N86: 2615957 | O86: 1226 | P86: 2615344 | Q86: UP
A87: E | B87: lysA_1 | C87: PPRCHA0_2356 | D87: -2.0331612 | E87: 8.66e-15 | M87: 2628980 | N87: 2630212 | O87: 1232 | P87: 2629596 | Q87: DW
A88: I | C88: PPRCHA0_2359 | D88: -2.9160561 | E88: 3.06e-20 | M88: 2631915 | N88: 2633093 | O88: 1178 | P88: 2632504 | Q88: DW
A89: I | C89: PPRCHA0_2360 | D89: -2.7819895 | E89: 5.51e-19 | M89: 2633105 | N89: 2633764 | O89: 659 | P89: 2633434.5 | Q89: DW
A90: I | B90: scoA | C90: PPRCHA0_2361 | D90: -2.2081123 | E90: 1.4e-17 | M90: 2633801 | N90: 2634499 | O90: 698 | P90: 2634150 | Q90: DW
A91: N, T | C91: PPRCHA0_2447 | D91: -2.0853736 | E91: 1.04e-22 | M91: 2719371 | N91: 2720999 | O91: 1628 | P91: 2720185 | Q91: DW
A92: - | C92: PPRCHA0_2458 | D92: -2.1571394 | E92: 1.15e-16 | M92: 2729787 | N92: 2730461 | O92: 674 | P92: 2730124 | Q92: DW
A93: C | B93: mqo_1 | C93: PPRCHA0_2467 | D93: 2.9797072 | E93: 3.17e-25 | M93: 2737398 | N93: 2739035 | O93: 1637 | P93: 2738216.5 | Q93: UP
A94: C | C94: PPRCHA0_2496 | D94: 2.4597452 | E94: 4.88e-21 | M94: 2764095 | N94: 2764964 | O94: 869 | P94: 2764529.5 | Q94: UP
A95: F | B95: hydA | C95: PPRCHA0_2589 | D95: 2.5319579 | E95: 2.09e-17 | M95: 2863997 | N95: 2865436 | O95: 1439 | P95: 2864716.5 | Q95: UP
A96: E | B96: hcnC | C96: PPRCHA0_2621 | D96: -2.6171582 | E96: 2.25e-25 | K96: competition | L96: HCN cluster | M96: 2900666 | N96: 2901919 | O96: 1253 | P96: 2901292.5 | Q96: DW
A97: T | C97: PPRCHA0_2638 | D97: 2.6391484 | E97: 1e-17 | M97: 2920438 | N97: 2920842 | O97: 404 | P97: 2920640 | Q97: UP
A98: F, J | B98: miaE | C98: PPRCHA0_2682 | D98: 2.1190982 | E98: 7.98e-09 | M98: 2964691 | N98: 2965296 | O98: 605 | P98: 2964993.5 | Q98: UP
A99: G | C99: PPRCHA0_2762 | D99: -2.1963939 | E99: 1.95e-17 | M99: 3047931 | N99: 3048713 | O99: 782 | P99: 3048322 | Q99: DW
A100: P | C100: PPRCHA0_2810 | D100: 2.5621587 | E100: 1.88e-08 | M100: 3117551 | N100: 3119677 | O100: 2126 | P100: 3118614 | Q100: UP
...

Sheet Differences_UP_H2O2
A1: COG | B1: Gene_name | C1: Gene_ID | D1: logFC | E1: adj.P.Val | F1: extra info | G1: PTL | H1: OBC | I1: transport | J1: regulation | K1: ribosome | L1: competition | M1: competition_type | N1: start | O1: end | P1: length | Q1: middle | R1: Regulation
A2: G | C2: PPRCHA0_0055 | D2: 3.0945156 | E2: 3.81e-16 | F2: gluconate 2-dehydrogenase subunit 3 | N2: 50905 | O2: 51660 | P2: 755 | Q2: 51282.5 | R2: UP | X2: Letter | Y2: Count UP | Z2: % UP
A3: E | C3: PPRCHA0_0056 | D3: 2.842971 | E3: 4.47e-22 | F3: gluconate 2-dehydrogenase flavoprotein | N3: 51663 | O3: 53447 | P3: 1784 | Q3: 52555 | R3: UP | W3: RNA processing and modification | X3: A | Y3: =COUNTIF(Differences_UP_H2O2!$A$2:$A$184,"*A*") -> 0 | Z3: =(Y3/$Y$29)*100 -> 0
A4: C | C4: PPRCHA0_0057 | D4: 2.8725624 | E4: 1.95e-15 | F4: gluconate 2-dehydrogenase cytochrome c subunit | N4: 53460 | O4: 54764 | P4: 1304 | Q4: 54112 | R4: UP | W4: Chromatin Structure and dynamics | X4: B | Y4: =COUNTIF(Differences_UP_H2O2!$A$2:$A$184,"*B*") -> 0 | Z4: =(Y4/$Y$29)*100 -> 0
A5: G | C5: PPRCHA0_0143 | D5: 2.8935941 | E5: 7.18e-11 | F5: transporter, major facilitator family | I5: transport | N5: 165970 | O5: 167514 | P5: 1544 | Q5: 166742 | R5: UP | W5: Energy production and conversion | X5: C | Y5: =COUNTIF(Differences_UP_H2O2!$A$2:$A$184,"*C*") -> 10 | Z5: =(Y5/$Y$29)*100 -> 5.4347826
A6: P | C6: PPRCHA0_0148 | D6: 2.1623495 | E6: 3.8e-06 | F6: TonB-dependent outermembrane ferrichromereceptor | N6: 171706 | O6: 174171 | P6: 2465 | Q6: 172938.5 | R6: UP | W6: Cell cycle control and mitosis | X6: D | Y6: =COUNTIF(Differences_UP_H2O2!$A$2:$A$184,"*D*") -> 0 | Z6: =(Y6/$Y$29)*100 -> 0
A7: S | C7: PPRCHA0_0159 | D7: 2.0758717 | E7: 0.006423906 | N7: 184094 | O7: 184303 | P7: 209 | Q7: 184198.5 | R7: UP | W7: Amino Acid metabolis and transport | X7: E | Y7: =COUNTIF(Differences_UP_H2O2!$A$2:$A$184,"*E*") -> 5 | Z7: =(Y7/$Y$29)*100 -> 2.7173913
A8: U | C8: PPRCHA0_0168 | D8: 2.4089474 | E8: 1.46e-07 | N8: 196229 | O8: 196546 | P8: 317 | Q8: 196387.5 | R8: UP | W8: Nucleotide metabolism and transport | X8: F | Y8: =COUNTIF(Differences_UP_H2O2!$A$2:$A$184,"*F*") -> 9 | Z8: =(Y8/$Y$29)*100 -> 4.8913043
A9: - | C9: PPRCHA0_0220 | D9: 3.0028439 | E9: 1.98e-11 | N9: 257868 | O9: 258539 | P9: 671 | Q9: 258203.5 | R9: UP | W9: Carbohydrate metabolism and transport | X9: G | Y9: =COUNTIF(Differences_UP_H2O2!$A$2:$A$184,"*G*") -> 11 | Z9: =(Y9/$Y$29)*100 -> 5.9782609
A10: S | C10: PPRCHA0_0222 | D10: 2.5999358 | E10: 4.75e-12 | N10: 258840 | O10: 259418 | P10: 578 | Q10: 259129 | R10: UP | W10: Coenzyme metabolis | X10: H | Y10: =COUNTIF(Differences_UP_H2O2!$A$2:$A$184,"*H*") -> 2 | Z10: =(Y10/$Y$29)*100 -> 1.0869565
A11: P | C11: PPRCHA0_0315 | D11: 3.4707684 | E11: 2.02e-15 | F11: TonB-dependent outermembrane receptor | N11: 362336 | O11: 364435 | P11: 2099 | Q11: 363385.5 | R11: UP | W11: Lipid metabolism | X11: I | Y11: =COUNTIF(Differences_UP_H2O2!$A$2:$A$184,"*I*") -> 3 | Z11: =(Y11/$Y$29)*100 -> 1.6304348
A12: G | C12: PPRCHA0_0364 | D12: 2.4113584 | E12: 1.91e-19 | F12: transporter, major facilitator family | I12: transport | N12: 416758 | O12: 418419 | P12: 1661 | Q12: 417588.5 | R12: UP | W12: Translation | X12: J | Y12: =COUNTIF(Differences_UP_H2O2!$A$2:$A$184,"*J*") -> 17 | Z12: =(Y12/$Y$29)*100 -> 9.2391304
A13: T | B13: typA | C13: PPRCHA0_0393 | D13: 2.4754091 | E13: 5.81e-25 | F13: GTP-binding protein TypA | N13: 446038 | O13: 447858 | P13: 1820 | Q13: 446948 | R13: UP | W13: Transcription | X13: K | Y13: =COUNTIF(Differences_UP_H2O2!$A$2:$A$184,"*K*") -> 7 | Z13: =(Y13/$Y$29)*100 -> 3.8043478
A14: S | C14: PPRCHA0_0394 | D14: 2.0525655 | E14: 1.94e-06 | N14: 448128 | O14: 448568 | P14: 440 | Q14: 448348 | R14: UP | W14: Replication and repair | X14: L | Y14: =COUNTIF(Differences_UP_H2O2!$A$2:$A$184,"*L*") -> 6 | Z14: =(Y14/$Y$29)*100 -> 3.2608696
A15: S | C15: PPRCHA0_0481 | D15: 2.4342143 | E15: 2.99e-10 | N15: 550638 | O15: 551183 | P15: 545 | Q15: 550910.5 | R15: UP | W15: Cell wall/membrane/envelop biogenesis | X15: M | Y15: =COUNTIF(Differences_UP_H2O2!$A$2:$A$184,"*M*") -> 17 | Z15: =(Y15/$Y$29)*100 -> 9.2391304
A16: F | B16: purH | C16: PPRCHA0_0673 | D16: 2.3376754 | E16: 1.21e-21 | F16: phosphoribosylaminoimidazolecarboxamide formyltransferase/IMP cyclohydrolase | N16: 779476 | O16: 781083 | P16: 1607 | Q16: 780279.5 | R16: UP | W16: Cell motility | X16: N | Y16: =COUNTIF(Differences_UP_H2O2!$A$2:$A$184,"*N*") -> 2 | Z16: =(Y16/$Y$29)*100 -> 1.0869565
A17: P | C17: PPRCHA0_0870 | D17: 2.5568679 | E17: 1.52e-11 | F17: flavodoxin/oxidoreductase NAD binding domainprotein | N17: 1003434 | O17: 1005965 | P17: 2531 | Q17: 1004699.5 | R17: UP | W17: Post-translational modification, protein turnover, chaperone functions | X17: O | Y17: =COUNTIF(Differences_UP_H2O2!$A$2:$A$184,"*O*") -> 2 | Z17: =(Y17/$Y$29)*100 -> 1.0869565
A18: P | C18: PPRCHA0_0871 | D18: 3.6906788 | E18: 1.02e-13 | F18: TonB-dependent outermembrane receptor | N18: 1006122 | O18: 1008407 | P18: 2285 | Q18: 1007264.5 | R18: UP | W18: Inorganic ion transport and metabolism | X18: P | Y18: =COUNTIF(Differences_UP_H2O2!$A$2:$A$184,"*P*") -> 16 | Z18: =(Y18/$Y$29)*100 -> 8.6956522
A19: J | B19: prfC | C19: PPRCHA0_0879 | D19: 2.0481673 | E19: 1.95e-19 | F19: peptide chain release factor 3 | N19: 1015865 | O19: 1017448 | P19: 1583 | Q19: 1016656.5 | R19: UP | W19: Secondary Structure | X19: Q | Y19: =COUNTIF(Differences_UP_H2O2!$A$2:$A$184,"*Q*") -> 3 | Z19: =(Y19/$Y$29)*100 -> 1.6304348
A20: S | C20: PPRCHA0_0997 | D20: 2.0132985 | E20: 0.008250734 | F20: RNA polymerase sigma-70 factor, ECF family | J20: regulation | N20: 1134266 | O20: 1134844 | P20: 578 | Q20: 1134555 | R20: UP | W20: General Functional Prediction only | X20: R | Y20: =COUNTIF(Differences_UP_H2O2!$A$2:$A$184,"*R*") -> 0 | Z20: =(Y20/$Y$29)*100 -> 0
A21: S | C21: PPRCHA0_0998 | D21: 2.049054 | E21: 4.46e-05 | F21: sigma factor regulatory protein, FecR/PupRfamily | J21: regulation | N21: 1134841 | O21: 1135830 | P21: 989 | Q21: 1135335.5 | R21: UP | W21: Function Unknown | X21: S | Y21: =COUNTIF(Differences_UP_H2O2!$A$2:$A$184,"*S*") -> 47 | Z21: =(Y21/$Y$29)*100 -> 25.543478
A22: P | C22: PPRCHA0_1004 | D22: 2.04336 | E22: 3.2e-06 | F22: TonB-dependent outermembrane receptor | N22: 1142274 | O22: 1144709 | P22: 2435 | Q22: 1143491.5 | R22: UP | W22: Signal Transduction | X22: T | Y22: =COUNTIF(Differences_UP_H2O2!$A$2:$A$184,"*T*") -> 4 | Z22: =(Y22/$Y$29)*100 -> 2.173913
A23: M | B23: fusA1 | C23: PPRCHA0_1012 | D23: 2.0294371 | E23: 8.96e-10 | F23: fusaric acid resistance protein FusA | N23: 1152897 | O23: 1154408 | P23: 1511 | Q23: 1153652.5 | R23: UP | W23: Intracellular trafficing and secretion | X23: U | Y23: =COUNTIF(Differences_UP_H2O2!$A$2:$A$184,"*U*") -> 4 | Z23: =(Y23/$Y$29)*100 -> 2.173913
A24: S | B24: fusBCD | C24: PPRCHA0_1013 | D24: 2.423388 | E24: 4.91e-06 | F24: fusaric acid resistance protein FusBCD | N24: 1154420 | O24: 1156627 | P24: 2207 | Q24: 1155523.5 | R24: UP | W24: Defense mechanisms | X24: V | Y24: =COUNTIF(Differences_UP_H2O2!$A$2:$A$184,"*V*") -> 3 | Z24: =(Y24/$Y$29)*100 -> 1.6304348
A25: V | C25: PPRCHA0_1016 | D25: 2.7120748 | E25: 4.75e-17 | N25: 1157874 | O25: 1158938 | P25: 1064 | Q25: 1158406 | R25: UP | W25: Cytoskeleton | X25: Z | Y25: =COUNTIF(Differences_UP_H2O2!$A$2:$A$184,"*Z*") -> 0 | Z25: =(Y25/$Y$29)*100 -> 0
A26: J | B26: rimM | C26: PPRCHA0_1102 | D26: 2.0334904 | E26: 3.99e-20 | F26: 16S rRNA processing protein RimM | N26: 1255868 | O26: 1256404 | P26: 536 | Q26: 1256136 | R26: UP | X26: _ | Y26: =COUNTIF(Differences_UP_H2O2!$A$2:$A$184,"*-*") -> 16 | Z26: =(Y26/$Y$29)*100 -> 8.6956522
A27: I | C27: PPRCHA0_1106 | D27: 2.2909179 | E27: 4.48e-07 | F27: cytochrome C oxidase subunit II | N27: 1260066 | O27: 1260479 | P27: 413 | Q27: 1260272.5 | R27: UP
A28: Q | B28: rrmA | C28: PPRCHA0_1171 | D28: 2.1263423 | E28: 3.07e-11 | F28: ribosomal RNA large subunit methyltransferaseA | K28: ribosome | N28: 1337710 | O28: 1338519 | P28: 809 | Q28: 1338114.5 | R28: UP
A29: J | B29: rpsB | C29: PPRCHA0_1183 | D29: 2.631598 | E29: 1.95e-26 | F29: ribosomal protein S2 | K29: ribosome | N29: 1353801 | O29: 1354538 | P29: 737 | Q29: 1354169.5 | R29: UP | Y29: =SUM(Y3:Y26) -> 184
A30: J | B30: tsf | C30: PPRCHA0_1184 | D30: 2.0861846 | E30: 1.33e-22 | F30: translation elongation factor Ts | N30: 1354742 | O30: 1355608 | P30: 866 | Q30: 1355175 | R30: UP
A31: J | B31: rimO | C31: PPRCHA0_1270 | D31: 2.136533 | E31: 1.77e-13 | F31: ribosomal protein S12 methylthiotransferaseRimO | K31: ribosome | N31: 1434111 | O31: 1435448 | P31: 1337 | Q31: 1434779.5 | R31: UP
A32: P | B32: pitA_1 | C32: PPRCHA0_1335 | D32: 2.0721909 | E32: 2.26e-19 | F32: low-affinity inorganic phosphate transporter | I32: transport | N32: 1504269 | O32: 1505744 | P32: 1475 | Q32: 1505006.5 | R32: UP
A33: I | C33: PPRCHA0_1856 | D33: 2.1047487 | E33: 9.37e-05 | F33: 1-acylglycerol-3-phosphate O-acyltransferasedomain protein | N33: 2061263 | O33: 2061985 | P33: 722 | Q33: 2061624 | R33: UP
A34: F | C34: PPRCHA0_1916 | D34: 2.1596907 | E34: 7.3e-08 | N34: 2139982 | O34: 2140485 | P34: 503 | Q34: 2140233.5 | R34: UP
A35: M | C35: PPRCHA0_1951 | D35: 2.8125948 | E35: 1.28e-24 | F35: glycosyltransferase | H35: OBC3 | N35: 2176553 | O35: 2177296 | P35: 743 | Q35: 2176924.5 | R35: UP
A36: M | B36: fcl | C36: PPRCHA0_1952 | D36: 2.711722 | E36: 3.11e-26 | H36: OBC3 | N36: 2177297 | O36: 2178190 | P36: 893 | Q36: 2177743.5 | R36: UP
A37: L | C37: PPRCHA0_1961 | D37: 2.0476281 | E37: 3.83e-08 | H37: OBC3 | N37: 2189483 | O37: 2190214 | P37: 731 | Q37: 2189848.5 | R37: UP
A38: G | B38: gap_1 | C38: PPRCHA0_1995 | D38: 2.2290679 | E38: 7.17e-19 | F38: glyceraldehyde-3-phosphate dehydrogenase, typeI | N38: 2233192 | O38: 2234814 | P38: 1622 | Q38: 2234003 | R38: UP
A39: M | C39: PPRCHA0_2174 | D39: 2.2614942 | E39: 4.83e-19 | N39: 2441226 | O39: 2442440 | P39: 1214 | Q39: 2441833 | R39: UP
A40: E | C40: PPRCHA0_2222 | D40: 2.6380256 | E40: 3.96e-17 | F40: aminotransferase YhxA | N40: 2486481 | O40: 2487719 | P40: 1238 | Q40: 2487100 | R40: UP
A41: G | C41: PPRCHA0_2223 | D41: 2.5351382 | E41: 1.09e-16 | N41: 2487697 | O41: 2489484 | P41: 1787 | Q41: 2488590.5 | R41: UP
A42: S | C42: PPRCHA0_2225 | D42: 3.0419525 | E42: 7.02e-20 | N42: 2490419 | O42: 2491042 | P42: 623 | Q42: 2490730.5 | R42: UP
A43: S | C43: PPRCHA0_2226 | D43: 2.9342614 | E43: 1.89e-19 | F43: NTD biosynthesis operon putative hydrolaseNtdB | N43: 2491049 | O43: 2491834 | P43: 785 | Q43: 2491441.5 | R43: UP
A44: S | C44: PPRCHA0_2227 | D44: 2.831922 | E44: 8.91e-21 | F44: tetracenomycin polyketide synthesis 8-O-methyl transferase TcmO | N44: 2491853 | O44: 2492878 | P44: 1025 | Q44: 2492365.5 | R44: UP
A45: G | C45: PPRCHA0_2228 | D45: 2.9679073 | E45: 1.19e-22 | N45: 2492916 | O45: 2494178 | P45: 1262 | Q45: 2493547 | R45: UP
A46: K | C46: PPRCHA0_2284 | D46: 3.216653 | E46: 1.01e-13 | F46: transcriptional regulator, RpiR family/SISdomain protein | J46: regulation | N46: 2558322 | O46: 2559176 | P46: 854 | Q46: 2558749 | R46: UP
A47: S | C47: PPRCHA0_2341 | D47: 3.1026922 | E47: 3.55e-18 | F47: TROVE domain protein | N47: 2612414 | O47: 2613958 | P47: 1544 | Q47: 2613186 | R47: UP
A48: S | C48: PPRCHA0_2342 | D48: 2.9715195 | E48: 1.59e-16 | F48: RtcB family protein | N48: 2614731 | O48: 2615957 | P48: 1226 | Q48: 2615344 | R48: UP
A49: C | B49: mqo_1 | C49: PPRCHA0_2467 | D49: 2.9797072 | E49: 3.17e-25 | F49: malate:quinone-oxidoreductase | N49: 2737398 | O49: 2739035 | P49: 1637 | Q49: 2738216.5 | R49: UP
A50: C | C50: PPRCHA0_2496 | D50: 2.4597452 | E50: 4.88e-21 | N50: 2764095 | O50: 2764964 | P50: 869 | Q50: 2764529.5 | R50: UP
A51: F | B51: hydA | C51: PPRCHA0_2589 | D51: 2.5319579 | E51: 2.09e-17 | F51: dihydropyrimidinase | N51: 2863997 | O51: 2865436 | P51: 1439 | Q51: 2864716.5 | R51: UP
A52: T | C52: PPRCHA0_2638 | D52: 2.6391484 | E52: 1e-17 | F52: C4-type zinc finger protein, DksA/TraR family | N52: 2920438 | O52: 2920842 | P52: 404 | Q52: 2920640 | R52: UP
A53: F, J | B53: miaE | C53: PPRCHA0_2682 | D53: 2.1190982 | E53: 7.98e-09 | F53: tRNA-(ms[2]io[6]A)-hydroxylase | N53: 2964691 | O53: 2965296 | P53: 605 | Q53: 2964993.5 | R53: UP
A54: P | C54: PPRCHA0_2810 | D54: 2.5621587 | E54: 1.88e-08 | F54: TonB-dependent outermembrane receptor | N54: 3117551 | O54: 3119677 | P54: 2126 | Q54: 3118614 | R54: UP
A55: - | C55: PPRCHA0_2852 | D55: 2.6798875 | E55: 2.89e-23 | F55: part of VgrG module | L55: competition | M55: part of VgrG module | N55: 3173047 | O55: 3173688 | P55: 641 | Q55: 3173367.5 | R55: UP
A56: S | C56: PPRCHA0_2855 | D56: 2.8510411 | E56: 5.48e-06 | N56: 3176333 | O56: 3176653 | P56: 320 | Q56: 3176493 | R56: UP
A57: G | B57: opdE | C57: PPRCHA0_2857 | D57: 2.2914797 | E57: 0.01459307 | F57: prevent-host-death family protein | N57: 3178577 | O57: 3179188 | P57: 611 | Q57: 3178882.5 | R57: UP
A58: S | C58: PPRCHA0_2990 | D58: 2.1948127 | E58: 0.000604442 | F58: putative lipoprotein | N58: 3339277 | O58: 3339618 | P58: 341 | Q58: 3339447.5 | R58: UP
A59: U | B59: fitE | C59: PPRCHA0_3006 | D59: 2.1590899 | E59: 0.021706424 | F59: fit cluster | L59: competition | M59: fit cluster | N59: 3372407 | O59: 3373864 | P59: 1457 | Q59: 3373135.5 | R59: UP
A60: M | C60: PPRCHA0_3085 | D60: 2.177949 | E60: 1.53e-15 | F60: outer membrane porin, OprD family | N60: 3466074 | O60: 3467375 | P60: 1301 | Q60: 3466724.5 | R60: UP
A61: M | C61: PPRCHA0_3092 | D61: 2.5711565 | E61: 2.61e-05 | F61: OBC2 | H61: OBC2 | N61: 3474501 | O61: 3475601 | P61: 1100 | Q61: 3475051 | R61: UP
A62: M | C62: PPRCHA0_3093 | D62: 2.7683698 | E62: 1.06e-06 | F62: OBC2 | H62: OBC2 | N62: 3475598 | O62: 3476968 | P62: 1370 | Q62: 3476283 | R62: UP
A63: M | C63: PPRCHA0_3094 | D63: 2.0532786 | E63: 9.72e-08 | F63: OBC2 | H63: OBC2 | N63: 3477113 | O63: 3478078 | P63: 965 | Q63: 3477595.5 | R63: UP
A64: M | C64: PPRCHA0_3095 | D64: 2.0364062 | E64: 7.51e-07 | F64: OBC2 | H64: OBC2 | N64: 3478071 | O64: 3479207 | P64: 1136 | Q64: 3478639 | R64: UP
A65: G | C65: PPRCHA0_3096 | D65: 2.1976115 | E65: 2.52e-06 | F65: OBC2 | H65: OBC2 | N65: 3479209 | O65: 3480207 | P65: 998 | Q65: 3479708 | R65: UP
A66: M | C66: PPRCHA0_3097 | D66: 2.2698091 | E66: 4.06e-05 | F66: OBC2 | H66: OBC2 | N66: 3480204 | O66: 3481514 | P66: 1310 | Q66: 3480859 | R66: UP
A67: S | C67: PPRCHA0_3115 | D67: 2.7071154 | E67: 3.32e-22 | F67: ABC transporter, ATP-binding protein | I67: transport | N67: 3497598 | O67: 3499160 | P67: 1562 | Q67: 3498379 | R67: UP
A68: F | B68: ygfO | C68: PPRCHA0_3166 | D68: 2.1627539 | E68: 8.79e-10 | F68: high-affinity xanthine transporter, NCS2family, YgfO | I68: transport | N68: 3552119 | O68: 3553558 | P68: 1439 | Q68: 3552838.5 | R68: UP
A69: M | B69: mexE | C69: PPRCHA0_3243 | D69: 2.9430435 | E69: 5.36e-16 | F69: multidrug efflux RND transporter, membranefusion protein MexE | I69: transport | N69: 3655096 | O69: 3656343 | P69: 1247 | Q69: 3655719.5 | R69: UP
A70: V | B70: mexF | C70: PPRCHA0_3244 | D70: 3.2681453 | E70: 2.63e-18 | F70: multidrug efflux RND transporter, permeaseprotein MexF | I70: transport | N70: 3656359 | O70: 3659538 | P70: 3179 | Q70: 3657948.5 | R70: UP
A71: M | B71: oprN | C71: PPRCHA0_3245 | D71: 2.8773623 | E71: 2.58e-13 | F71: multidrug efflux RND transporter, outermembrane factor lipoprotein OprN | I71: transport | N71: 3659535 | O71: 3660956 | P71: 1421 | Q71: 3660245.5 | R71: UP
A72: P | B72: efeO | C72: PPRCHA0_3259 | D72: 2.9751489 | E72: 5.88e-08 | F72: periplasmic iron transport protein EfeO | N72: 3677710 | O72: 3678909 | P72: 1199 | Q72: 3678309.5 | R72: UP
A73: P | B73: efeB | C73: PPRCHA0_3260 | D73: 2.8207313 | E73: 1.4e-08 | F73: heme-containing peroxidase/deferrochelataseEfeB | N73: 3678925 | O73: 3680235 | P73: 1310 | Q73: 3679580 | R73: UP
A74: P | C74: PPRCHA0_3261 | D74: 2.5243567 | E74: 1.84e-09 | N74: 3680271 | O74: 3681095 | P74: 824 | Q74: 3680683 | R74: UP
A75: P | B75: mgtA_1 | C75: PPRCHA0_3358 | D75: 2.3473489 | E75: 0.018177133 | F75: magnesium-importing ATPase | I75: transport | N75: 3792049 | O75: 3792399 | P75: 350 | Q75: 3792224 | R75: UP
A76: P | B76: mgtA_1 | C76: PPRCHA0_3359 | D76: 2.562882 | E76: 0.000771029 | N76: 3792476 | O76: 3793261 | P76: 785 | Q76: 3792868.5 | R76: UP
A77: S | C77: PPRCHA0_3432 | D77: 2.3503949 | E77: 1.15e-19 | F77: Defective prophage 5 | G77: Defective prophage 5 | N77: 3863062 | O77: 3863445 | P77: 383 | Q77: 3863253.5 | R77: UP
A78: - | C78: PPRCHA0_3454 | D78: 2.2339539 | E78: 2.79e-06 | F78: Defective prophage 5 | G78: Defective prophage 5 | N78: 3880065 | O78: 3880538 | P78: 473 | Q78: 3880301.5 | R78: UP
A79: - | C79: PPRCHA0_3465 | D79: 2.7828644 | E79: 6.38e-14 | N79: 3888362 | O79: 3888721 | P79: 359 | Q79: 3888541.5 | R79: UP
A80: K | C80: PPRCHA0_3501 | D80: 2.1681942 | E80: 0.021623685 | F80: putative sigma factor regulatory protein | J80: regulation | N80: 3934505 | O80: 3935488 | P80: 983 | Q80: 3934996.5 | R80: UP
A81: E | C81: PPRCHA0_3533 | D81: 2.3017002 | E81: 0.0113683 | N81: 3980250 | O81: 3980411 | P81: 161 | Q81: 3980330.5 | R81: UP
A82: E | B82: lys1_2 | C82: PPRCHA0_3556 | D82: 2.0165886 | E82: 6.65e-20 | F82: saccharopine dehydrogenase | N82: 4010885 | O82: 4012084 | P82: 1199 | Q82: 4011484.5 | R82: UP
A83: H | B83: moaE_2 | C83: PPRCHA0_3748 | D83: 2.7419045 | E83: 0.000336608 | F83: molybdopterin converting factor, subunit 2 | N83: 4255506 | O83: 4255757 | P83: 251 | Q83: 4255631.5 | R83: UP
A84: C | B84: cydB_1 | C84: PPRCHA0_3754 | D84: 2.1865897 | E84: 6.9e-08 | F84: cytochrome d ubiquinol oxidase, subunit II | N84: 4262554 | O84: 4263570 | P84: 1016 | Q84: 4263062 | R84: UP
A85: Q | B85: Siphovirus | C85: PPRCHA0_3763 | D85: 4.265136 | E85: 6.41e-14 | F85: Siphovirus | G85: Siphovirus | N85: 4273154 | O85: 4273780 | P85: 626 | Q85: 4273467 | R85: UP
A86: Q | B86: Siphovirus | C86: PPRCHA0_3764 | D86: 2.3597368 | E86: 3.19e-13 | F86: Siphovirus | G86: Siphovirus | N86: 4273856 | O86: 4274335 | P86: 479 | Q86: 4274095.5 | R86: UP
A87: S | B87: Siphovirus | C87: PPRCHA0_3765 | D87: 3.9210412 | E87: 7.61e-18 | F87: Siphovirus | G87: Siphovirus | N87: 4274832 | O87: 4277921 | P87: 3089 | Q87: 4276376.5 | R87: UP
A88: S | B88: Siphovirus | C88: PPRCHA0_3766 | D88: 4.4458589 | E88: 1.16e-16 | F88: Siphovirus | G88: Siphovirus | N88: 4277979 | O88: 4278551 | P88: 572 | Q88: 4278265 | R88: UP
A89: M | B89: Siphovirus | C89: PPRCHA0_3767 | D89: 4.3590403 | E89: 6.99e-11 | F89: Siphovirus | G89: Siphovirus | N89: 4278561 | O89: 4279325 | P89: 764 | Q89: 4278943 | R89: UP
A90: S | B90: Siphovirus | C90: PPRCHA0_3768 | D90: 4.0162241 | E90: 3.1e-12 | F90: Siphovirus | G90: Siphovirus | N90: 4279328 | O90: 4280011 | P90: 683 | Q90: 4279669.5 | R90: UP
A91: S | B91: Siphovirus | C91: PPRCHA0_3769 | D91: 3.0886508 | E91: 1.23e-14 | F91: Siphovirus | G91: Siphovirus | N91: 4280063 | O91: 4280476 | P91: 413 | Q91: 4280269.5 | R91: UP
A92: - | B92: Siphovirus | C92: PPRCHA0_3770 | D92: 3.5319979 | E92: 2.55e-18 | F92: Siphovirus | G92: Siphovirus | N92: 4280463 | O92: 4281674 | P92: 1211 | Q92: 4281068.5 | R92: UP
A93: S | B93: Siphovirus | C93: PPRCHA0_3771 | D93: 3.904118 | E93: 4.33e-15 | F93: Siphovirus | G93: Siphovirus | N93: 4281671 | O93: 4282009 | P93: 338 | Q93: 4281840 | R93: UP
A94: S | B94: Siphovirus | C94: PPRCHA0_3772 | D94: 2.0528845 | E94: 3.36e-14 | F94: Siphovirus | G94: Siphovirus | N94: 4282056 | O94: 4285316 | P94: 3260 | Q94: 4283686 | R94: UP
A95: S | B95: Siphovirus | C95: PPRCHA0_3773 | D95: 2.9977058 | E95: 3.34e-16 | F95: Siphovirus | G95: Siphovirus | N95: 4285934 | O95: 4286749 | P95: 815 | Q95: 4286341.5 | R95: UP
A96: K | B96: Siphovirus | C96: PPRCHA0_3774 | D96: 2.8171021 | E96: 3.73e-17 | F96: Siphovirus | G96: Siphovirus | N96: 4286746 | O96: 4287669 | P96: 923 | Q96: 4287207.5 | R96: UP
... A128: C | B128: Siphovirus | C128: PPRCHA0_3836 | D128: 2.2316606 | E128: 5.84e-17 | F128: Siphovirus | G128: Siphovirus | N128: 4336184 | O128: 4338136 | P128: 1952 | Q128: 4337160 | R128: UP
A129: S | C129: PPRCHA0_3862 | D129: 2.0520087 | E129: 0.014973094 | N129: 4360327 | O129: 4360848 | P129: 521 | Q129: 4360587.5 | R129: UP
A130: S | C130: PPRCHA0_3872 | D130: 2.2131578 | E130: 9.75e-08 | N130: 4370523 | O130: 4370924 | P130: 401 | Q130: 4370723.5 | R130: UP
A131: F | B131: purB | C131: PPRCHA0_3940 | D131: 2.3066922 | E131: 3.14e-20 | F131: adenylosuccinate lyase | N131: 4436171 | O131: 4437541 | P131: 1370 | Q131: 4436856 | R131: UP
...

Sheet Differences_DW_H2O2
A1: COG | B1: Gene_name | C1: Gene_ID | D1: logFC | E1: adj.P.Val | F1: extra info | G1: PTL | H1: OBC | I1: transport | J1: regulation | K1: ribosome | L1: competition | M1: competition_type | N1: start | O1: end | P1: length | Q1: middle | R1: Regulation
A2: O | B2: osmC | C2: PPRCHA0_0045 | D2: -2.1842272 | E2: 2.68e-20 | F2: peroxiredoxin | N2: 43280 | O2: 43711 | P2: 431 | Q2: 43495.5 | R2: DW | X2: Letter | Y2: Count DW | Z2: % DW
A3: S | C3: PPRCHA0_0153 | D3: -2.4467123 | E3: 4.32e-18 | F3: putative YbaK/prolyl-tRNA synthetasesassociated domain protein | N3: 180113 | O3: 180574 | P3: 461 | Q3: 180343.5 | R3: DW | W3: RNA processing and modification | X3: A | Y3: =COUNTIF(Differences_DW_H2O2!$A$2:$A$102,"*A*") -> 0 | Z3: =(Y3/$Y$29)*100 -> 0
A4: S | C4: PPRCHA0_0200 | D4: -3.4788787 | E4: 1.02e-22 | N4: 235346 | O4: 235870 | P4: 524 | Q4: 235608 | R4: DW | W4: Chromatin Structure and dynamics | X4: B | Y4: =COUNTIF(Differences_DW_H2O2!$A$2:$A$102,"*B*") -> 1 | Z4: =(Y4/$Y$29)*100 -> 0.96153846
A5: P | C5: PPRCHA0_0256 | D5: -2.0727237 | E5: 1.7e-09 | N5: 294949 | O5: 295206 | P5: 257 | Q5: 295077.5 | R5: DW | W5: Energy production and conversion | X5: C | Y5: =COUNTIF(Differences_DW_H2O2!$A$2:$A$102,"*C*") -> 13 | Z5: =(Y5/$Y$29)*100 -> 12.5
A6: S | C6: PPRCHA0_0300 | D6: -2.1971573 | E6: 1.45e-21 | F6: putative phospholipid-binding domain/LysMdomain protein | N6: 346257 | O6: 346697 | P6: 440 | Q6: 346477 | R6: DW | W6: Cell cycle control and mitosis | X6: D | Y6: =COUNTIF(Differences_DW_H2O2!$A$2:$A$102,"*D*") -> 0 | Z6: =(Y6/$Y$29)*100 -> 0
A7: C | C7: PPRCHA0_0331 | D7: -4.3725826 | E7: 2.18e-26 | F7: putative formate dehydrogenase, delta subunit | N7: 379231 | O7: 379452 | P7: 221 | Q7: 379341.5 | R7: DW | W7: Amino Acid metabolis and transport | X7: E | Y7: =COUNTIF(Differences_DW_H2O2!$A$2:$A$102,"*E*") -> 19 | Z7: =(Y7/$Y$29)*100 -> 18.269231
A8: C | B8: fdsA | C8: PPRCHA0_0332 | D8: -3.0684199 | E8: 1.74e-25 | F8: formate dehydrogenase, alpha subunit | N8: 379449 | O8: 382346 | P8: 2897 | Q8: 380897.5 | R8: DW | W8: Nucleotide metabolism and transport | X8: F | Y8: =COUNTIF(Differences_DW_H2O2!$A$2:$A$102,"*F*") -> 0 | Z8: =(Y8/$Y$29)*100 -> 0
A9: S | C9: PPRCHA0_0435 | D9: -2.050979 | E9: 1.18e-25 | F9: poly(3-hydroxyalkanoate) granule-associatedprotein PhaF | N9: 495910 | O9: 496782 | P9: 872 | Q9: 496346 | R9: DW | W9: Carbohydrate metabolism and transport | X9: G | Y9: =COUNTIF(Differences_DW_H2O2!$A$2:$A$102,"*G*") -> 6 | Z9: =(Y9/$Y$29)*100 -> 5.7692308
A10: S | C10: PPRCHA0_0653 | D10: -2.1175717 | E10: 0.000675884 | N10: 761386 | O10: 761796 | P10: 410 | Q10: 761591 | R10: DW | W10: Coenzyme metabolis | X10: H | Y10: =COUNTIF(Differences_DW_H2O2!$A$2:$A$102,"*H*") -> 0 | Z10: =(Y10/$Y$29)*100 -> 0
A11: U | C11: PPRCHA0_0695 | D11: -2.4120908 | E11: 1.1e-15 | F11: TadE family protein | N11: 805148 | O11: 805585 | P11: 437 | Q11: 805366.5 | R11: DW | W11: Lipid metabolism | X11: I | Y11: =COUNTIF(Differences_DW_H2O2!$A$2:$A$102,"*I*") -> 4 | Z11: =(Y11/$Y$29)*100 -> 3.8461538
A12: T | C12: PPRCHA0_0697 | D12: -2.0072951 | E12: 8.71e-22 | F12: DNA-binding response regulator, LuxR family (Putative Flp pili) | J12: regulation | N12: 806254 | O12: 807045 | P12: 791 | Q12: 806649.5 | R12: DW | W12: Translation | X12: J | Y12: =COUNTIF(Differences_DW_H2O2!$A$2:$A$102,"*J*") -> 1 | Z12: =(Y12/$Y$29)*100 -> 0.96153846
A13: K | B13: cueR | C13: PPRCHA0_0716 | D13: -3.0951464 | E13: 2.13e-22 | F13: Cu(I)-responsive transcriptional regulator | J13: regulation | N13: 827326 | O13: 827730 | P13: 404 | Q13: 827528 | R13: DW | W13: Transcription | X13: K | Y13: =COUNTIF(Differences_DW_H2O2!$A$2:$A$102,"*K*") -> 8 | Z13: =(Y13/$Y$29)*100 -> 7.6923077
A14: P | C14: PPRCHA0_0717 | D14: -3.2165544 | E14: 1.34e-21 | F14: copper-exporting ATPase | N14: 827727 | O14: 830123 | P14: 2396 | Q14: 828925 | R14: DW | W14: Replication and repair | X14: L | Y14: =COUNTIF(Differences_DW_H2O2!$A$2:$A$102,"*L*") -> 1 | Z14: =(Y14/$Y$29)*100 -> 0.96153846
A15: P | C15: PPRCHA0_0719 | D15: -3.2408661 | E15: 1.18e-08 | F15: drug resistance transporter, Bcr/CflA family | I15: transport | N15: 830801 | O15: 830998 | P15: 197 | Q15: 830899.5 | R15: DW | W15: Cell wall/membrane/envelop biogenesis | X15: M | Y15: =COUNTIF(Differences_DW_H2O2!$A$2:$A$102,"*M*") -> 0 | Z15: =(Y15/$Y$29)*100 -> 0
A16: E | C16: PPRCHA0_0741 | D16: -3.348281 | E16: 5.92e-20 | F16: beta-alanine-pyruvate transaminase | N16: 853376 | O16: 854725 | P16: 1349 | Q16: 854050.5 | R16: DW | W16: Cell motility | X16: N | Y16: =COUNTIF(Differences_DW_H2O2!$A$2:$A$102,"*N*") -> 2 | Z16: =(Y16/$Y$29)*100 -> 1.9230769
A17: C | B17: mmsA_1 | C17: PPRCHA0_0742 | D17: -3.3307947 | E17: 2.33e-17 | F17: methylmalonate-semialdehyde dehydrogenase(acylating) | N17: 854799 | O17: 856292 | P17: 1493 | Q17: 855545.5 | R17: DW | W17: Post-translational modification, protein turnover, chaperone functions | X17: O | Y17: =COUNTIF(Differences_DW_H2O2!$A$2:$A$102,"*O*") -> 2 | Z17: =(Y17/$Y$29)*100 -> 1.9230769
A18: J | C18: PPRCHA0_0802 | D18: -2.0482794 | E18: 0.004546229 | F18: endoribonuclease L-PSP family protein | N18: 923851 | O18: 924222 | P18: 371 | Q18: 924036.5 | R18: DW | W18: Inorganic ion transport and metabolism | X18: P | Y18: =COUNTIF(Differences_DW_H2O2!$A$2:$A$102,"*P*") -> 7 | Z18: =(Y18/$Y$29)*100 -> 6.7307692
A19: Q | B19: hmgA | C19: PPRCHA0_0974 | D19: -2.3939461 | E19: 9.34e-18 | F19: homogentisate 1,2-dioxygenase | N19: 1112608 | O19: 1113912 | P19: 1304 | Q19: 1113260 | R19: DW | W19: Secondary Structure | X19: Q | Y19: =COUNTIF(Differences_DW_H2O2!$A$2:$A$102,"*Q*") -> 5 | Z19: =(Y19/$Y$29)*100 -> 4.8076923
A20: E | B20: ldh | C20: PPRCHA0_0981 | D20: -2.9342361 | E20: 4.69e-23 | F20: leucine dehydrogenase | N20: 1119787 | O20: 1120806 | P20: 1019 | Q20: 1120296.5 | R20: DW | W20: General Functional Prediction only | X20: R | Y20: =COUNTIF(Differences_DW_H2O2!$A$2:$A$102,"*R*") -> 0 | Z20: =(Y20/$Y$29)*100 -> 0
A21: T | C21: PPRCHA0_1035 | D21: -2.1474027 | E21: 3.21e-24 | F21: PhoH family protein | J21: regulation | N21: 1184106 | O21: 1185500 | P21: 1394 | Q21: 1184803 | R21: DW | W21: Function Unknown | X21: S | Y21: =COUNTIF(Differences_DW_H2O2!$A$2:$A$102,"*S*") -> 24 | Z21: =(Y21/$Y$29)*100 -> 23.076923
A22: E | B22: aapJ | C22: PPRCHA0_1055 | D22: -3.4367923 | E22: 1.88e-26 | F22: general L-amino acid ABC transporter,periplasmic L-amino acid-binding protein AapJ | I22: transport | N22: 1205240 | O22: 1206268 | P22: 1028 | Q22: 1205754 | R22: DW | W22: Signal Transduction | X22: T | Y22: =COUNTIF(Differences_DW_H2O2!$A$2:$A$102,"*T*") -> 6 | Z22: =(Y22/$Y$29)*100 -> 5.7692308
A23: E | B23: aapQ | C23: PPRCHA0_1056 | D23: -2.3253541 | E23: 9.92e-10 | F23: general L-amino acid ABC transporter, permeaseprotein AapQ | I23: transport | N23: 1206334 | O23: 1207515 | P23: 1181 | Q23: 1206924.5 | R23: DW | W23: Intracellular trafficing and secretion | X23: U | Y23: =COUNTIF(Differences_DW_H2O2!$A$2:$A$102,"*U*") -> 1 | Z23: =(Y23/$Y$29)*100 -> 0.96153846
A24: G | B24: nagE | C24: PPRCHA0_1085 | D24: -2.1412183 | E24: 6.62e-09 | F24: PTS system, N-acetylglucosamine-specific IIBCcomponent | N24: 1238097 | O24: 1239803 | P24: 1706 | Q24: 1238950 | R24: DW | W24: Defense mechanisms | X24: V | Y24: =COUNTIF(Differences_DW_H2O2!$A$2:$A$102,"*V*") -> 0 | Z24: =(Y24/$Y$29)*100 -> 0
A25: S | C25: PPRCHA0_1460 | D25: -2.1308736 | E25: 0.017209744 | F25: membrane protein | N25: 1637982 | O25: 1638440 | P25: 458 | Q25: 1638211 | R25: DW | W25: Cytoskeleton | X25: Z | Y25: =COUNTIF(Differences_DW_H2O2!$A$2:$A$102,"*Z*") -> 0 | Z25: =(Y25/$Y$29)*100 -> 0
A26: S | C26: PPRCHA0_1733 | D26: -2.2989484 | E26: 1.51e-16 | N26: 1935507 | O26: 1935818 | P26: 311 | Q26: 1935662.5 | R26: DW | X26: _ | Y26: =COUNTIF(Differences_DW_H2O2!$A$2:$A$102,"*-*") -> 4 | Z26: =(Y26/$Y$29)*100 -> 3.8461538
A27: S | B27: actP | C27: PPRCHA0_1734 | D27: -2.6438868 | E27: 1.07e-19 | F27: cation/acetate symporter ActP | N27: 1935815 | O27: 1937473 | P27: 1658 | Q27: 1936644 | R27: DW
A28: O | C28: PPRCHA0_1754 | D28: -2.7892132 | E28: 3.24e-22 | F28: OsmC family protein | N28: 1959185 | O28: 1959601 | P28: 416 | Q28: 1959393 | R28: DW
A29: N, T | C29: PPRCHA0_1757 | D29: -2.0480661 | E29: 1.92e-17 | F29: methyl-accepting chemotaxis protein | N29: 1961444 | O29: 1963069 | P29: 1625 | Q29: 1962256.5 | R29: DW | Y29: =SUM(Y3:Y26) -> 104
A30: G | C30: PPRCHA0_1828 | D30: -3.6485048 | E30: 1.43e-14 | N30: 2035039 | O30: 2035419 | P30: 380 | Q30: 2035229 | R30: DW
A31: S | C31: PPRCHA0_1829 | D31: -2.4480848 | E31: 2.76e-11 | N31: 2035473 | O31: 2035799 | P31: 326 | Q31: 2035636 | R31: DW
A32: G | C32: PPRCHA0_1830 | D32: -2.7304067 | E32: 8.29e-11 | N32: 2035884 | O32: 2037101 | P32: 1217 | Q32: 2036492.5 | R32: DW
A33: S | C33: PPRCHA0_1845 | D33: -2.0099459 | E33: 3.23e-19 | N33: 2050044 | O33: 2050385 | P33: 341 | Q33: 2050214.5 | R33: DW
A34: C | B34: ccoP_2 | C34: PPRCHA0_1943 | D34: -3.0264306 | E34: 4.62e-27 | F34: cytochrome c oxidase, cbb3-type, subunit III | N34: 2167715 | O34: 2168656 | P34: 941 | Q34: 2168185.5 | R34: DW
A35: C | B35: ccoQ_2 | C35: PPRCHA0_1944 | D35: -2.6330974 | E35: 3.63e-22 | F35: cytochrome c oxidase, cbb3-type, CcoQ subunit | N35: 2168653 | O35: 2168883 | P35: 230 | Q35: 2168768 | R35: DW
A36: C | B36: ccoO_2 | C36: PPRCHA0_1945 | D36: -2.4253973 | E36: 1.27e-23 | F36: cytochrome c oxidase, cbb3-type, subunit II | N36: 2168887 | O36: 2169495 | P36: 608 | Q36: 2169191 | R36: DW
A37: K | B37: acoR | C37: PPRCHA0_2195 | D37: -2.2054961 | E37: 0.000296868 | F37: acetoin catabolism regulatory protein | J37: regulation | N37: 2462759 | O37: 2463736 | P37: 977 | Q37: 2463247.5 | R37: DW
A38: G | C38: PPRCHA0_2200 | D38: -2.3109852 | E38: 0.002503938 | F38: putative citrate:proton symporter | I38: transport | N38: 2468037 | O38: 2469323 | P38: 1286 | Q38: 2468680 | R38: DW
A39: C | B39: glcD | C39: PPRCHA0_2306 | D39: -2.3271776 | E39: 5.12e-12 | F39: glycolate oxidase, subunit GlcD | N39: 2576740 | O39: 2578239 | P39: 1499 | Q39: 2577489.5 | R39: DW
A40: E | B40: lysA_1 | C40: PPRCHA0_2356 | D40: -2.0331612 | E40: 8.66e-15 | F40: diaminopimelate decarboxylase | N40: 2628980 | O40: 2630212 | P40: 1232 | Q40: 2629596 | R40: DW
A41: I | C41: PPRCHA0_2359 | D41: -2.9160561 | E41: 3.06e-20 | F41: acetyl-CoA acetyltransferase | N41: 2631915 | O41: 2633093 | P41: 1178 | Q41: 2632504 | R41: DW
A42: I | C42: PPRCHA0_2360 | D42: -2.7819895 | E42: 5.51e-19 | F42: 3-oxoacid CoA-transferase, B subunit | N42: 2633105 | O42: 2633764 | P42: 659 | Q42: 2633434.5 | R42: DW
A43: I | B43: scoA | C43: PPRCHA0_2361 | D43: -2.2081123 | E43: 1.4e-17 | F43: succinyl-CoA:3-ketoacid-coenzyme A transferasesubunit A | N43: 2633801 | O43: 2634499 | P43: 698 | Q43: 2634150 | R43: DW
A44: N, T | C44: PPRCHA0_2447 | D44: -2.0853736 | E44: 1.04e-22 | F44: methyl-accepting chemotaxis protein | N44: 2719371 | O44: 2720999 | P44: 1628 | Q44: 2720185 | R44: DW
A45: - | C45: PPRCHA0_2458 | D45: -2.1571394 | E45: 1.15e-16 | N45: 2729787 | O45: 2730461 | P45: 674 | Q45: 2730124 | R45: DW
A46: E | B46: hcnC | C46: PPRCHA0_2621 | D46: -2.6171582 | E46: 2.25e-25 | F46: HCN cluster | L46: competition | M46: HCN cluster | N46: 2900666 | O46: 2901919 | P46: 1253 | Q46: 2901292.5 | R46: DW
A47: G | C47: PPRCHA0_2762 | D47: -2.1963939 | E47: 1.95e-17 | F47: AP endonuclease, family 2 | N47: 3047931 | O47: 3048713 | P47: 782 | Q47: 3048322 | R47: DW
A48: K | C48: PPRCHA0_2873 | D48: -6.2493589 | E48: 4.32e-18 | N48: 3194494 | O48: 3194712 | P48: 218 | Q48: 3194603 | R48: DW
A49: C | B49: ccoN_3 | C49: PPRCHA0_2874 | D49: -6.193452 | E49: 1.36e-30 | F49: cytochrome c oxidase, cbb3-type, subunit I | N49: 3194775 | O49: 3196202 | P49: 1427 | Q49: 3195488.5 | R49: DW
A50: P | B50: cysI_1 | C50: PPRCHA0_2875 | D50: -4.9634435 | E50: 4.92e-28 | F50: sulfite reductase (NADPH) hemoprotein,beta-component | N50: 3196470 | O50: 3198143 | P50: 1673 | Q50: 3197306.5 | R50: DW
A51: S | C51: PPRCHA0_2876 | D51: -5.3408015 | E51: 3.37e-25 | N51: 3198140 | O51: 3198634 | P51: 494 | Q51: 3198387 | R51: DW
A52: K | C52: PPRCHA0_2894 | D52: -3.1844305 | E52: 9.03e-28 | F52: transcriptional regulator, GntRfamily/aminotransferase, classes I and II | J52: regulation | N52: 3223360 | O52: 3224769 | P52: 1409 | Q52: 3224064.5 | R52: DW
A53: C | B53: ccoG_2 | C53: PPRCHA0_2895 | D53: -3.8554636 | E53: 1.1e-28 | F53: cytochrome c oxidase accessory protein CcoG | N53: 3224927 | O53: 3226342 | P53: 1415 | Q53: 3225634.5 | R53: DW
A54: C | B54: ccoG_2 | C54: PPRCHA0_2896 | D54: -2.3257337 | E54: 0.000374505 | N54: 3226551 | O54: 3226784 | P54: 233 | Q54: 3226667.5 | R54: DW
A55: P | C55: PPRCHA0_2898 | D55: -2.5254668 | E55: 1e-06 | N55: 3227622 | O55: 3227786 | P55: 164 | Q55: 3227704 | R55: DW
A56: S | C56: PPRCHA0_2936 | D56: -2.1728716 | E56: 4.38e-13 | F56: nitrilase family protein | N56: 3272584 | O56: 3273504 | P56: 920 | Q56: 3273044 | R56: DW
A57: E | C57: PPRCHA0_2976 | D57: -2.2707486 | E57: 1.88e-11 | F57: periplasmic putrescine-binding protein | N57: 3324126 | O57: 3325214 | P57: 1088 | Q57: 3324670 | R57: DW
A58: P | C58: PPRCHA0_3187 | D58: -2.5142825 | E58: 7.59e-16 | F58: nitrate/nitrite/cyanate ABC transporter, NitTfamily, permease protein | I58: transport | N58: 3581404 | O58: 3582168 | P58: 764 | Q58: 3581786 | R58: DW
A59: S | C59: PPRCHA0_3191 | D59: -2.1811211 | E59: 2.05e-19 | F59: alkylhydroperoxidase AhpD family core domainprotein | N59: 3585289 | O59: 3585849 | P59: 560 | Q59: 3585569 | R59: DW
A60: E | C60: PPRCHA0_3557 | D60: -2.0529167 | E60: 2.01e-23 | F60: putative dipeptidase | N60: 4012285 | O60: 4014024 | P60: 1739 | Q60: 4013154.5 | R60: DW
A61: S | C61: PPRCHA0_3617 | D61: -3.1204848 | E61: 8.15e-10 | N61: 4079958 | O61: 4080455 | P61: 497 | Q61: 4080206.5 | R61: DW
A62: G | C62: PPRCHA0_3618 | D62: -2.7607637 | E62: 3.48e-12 | F62: drug resistance transporter, EmrB/QacA family | I62: transport | N62: 4080452 | O62: 4081993 | P62: 1541 | Q62: 4081222.5 | R62: DW
A63: B, Q | B63: aphA_1 | C63: PPRCHA0_3658 | D63: -2.2658353 | E63: 4.05e-19 | F63: acetylpolyamine aminohydrolase | N63: 4134805 | O63: 4135848 | P63: 1043 | Q63: 4135326.5 | R63: DW
A64: E | B64: arcB | C64: PPRCHA0_3659 | D64: -2.4914344 | E64: 6.89e-17 | F64: ornithine cyclodeaminase | N64: 4135907 | O64: 4136968 | P64: 1061 | Q64: 4136437.5 | R64: DW
A65: E | B65: cycA | C65: PPRCHA0_3660 | D65: -2.0578704 | E65: 1.18e-10 | F65: D-serine/D-alanine/glycine transporter | I65: transport | N65: 4137129 | O65: 4138541 | P65: 1412 | Q65: 4137835 | R65: DW
A66: C | C66: PPRCHA0_3897 | D66: -2.3172914 | E66: 0.000100585 | F66: cytochrome b561 family protein | N66: 4396075 | O66: 4396620 | P66: 545 | Q66: 4396347.5 | R66: DW
A67: S | C67: PPRCHA0_4038 | D67: -2.4168655 | E67: 5.17e-19 | N67: 4555268 | O67: 4555438 | P67: 170 | Q67: 4555353 | R67: DW
A68: K | C68: PPRCHA0_4090 | D68: -2.0498011 | E68: 0.011234968 | F68: putative membrane protein | N68: 4604868 | O68: 4604984 | P68: 116 | Q68: 4604926 | R68: DW
A69: - | C69: PPRCHA0_4091 | D69: -2.2791554 | E69: 2.13e-05 | N69: 4605272 | O69: 4605589 | P69: 317 | Q69: 4605430.5 | R69: DW
A70: T | C70: PPRCHA0_4109 | D70: -2.0128347 | E70: 1.44e-20 | F70: universal stress protein family protein | N70: 4632744 | O70: 4633655 | P70: 911 | Q70: 4633199.5 | R70: DW
A71: Q | C71: PPRCHA0_4114 | D71: -2.0483493 | E71: 4.87e-21 | F71: YcaC-like isochorismatase family protein | N71: 4638896 | O71: 4639522 | P71: 626 | Q71: 4639209 | R71: DW
A72: K | C72: PPRCHA0_4151 | D72: -3.1649793 | E72: 1.48e-06 | F72: isonitrile hydratase InhA | N72: 4712343 | O72: 4713029 | P72: 686 | Q72: 4712686 | R72: DW
A73: S | C73: PPRCHA0_4156 | D73: -2.2103904 | E73: 1.67e-22 | N73: 4716976 | O73: 4717434 | P73: 458 | Q73: 4717205 | R73: DW
A74: S | C74: PPRCHA0_4316 | D74: -3.4769819 | E74: 3.55e-25 | F74: pilus assembly protein PilZ | N74: 4914695 | O74: 4914970 | P74: 275 | Q74: 4914832.5 | R74: DW
A75: S | C75: PPRCHA0_4407 | D75: -2.0973597 | E75: 4.4e-12 | N75: 5014969 | O75: 5016327 | P75: 1358 | Q75: 5015648 | R75: DW
A76: C | B76: dctA | C76: PPRCHA0_4513 | D76: -3.1895498 | E76: 3.3e-22 | F76: aerobic C4-dicarboxylate transport protein | I76: transport | N76: 5128838 | O76: 5130169 | P76: 1331 | Q76: 5129503.5 | R76: DW
A77: S | C77: PPRCHA0_4580 | D77: -4.5307745 | E77: 1.31e-29 | N77: 5203337 | O77: 5203672 | P77: 335 | Q77: 5203504.5 | R77: DW
A78: S | C78: PPRCHA0_4638 | D78: -2.2357351 | E78: 4.33e-13 | F78: CsbD-like family protein | N78: 5256878 | O78: 5257069 | P78: 191 | Q78: 5256973.5 | R78: DW
A79: E | B79: arcA | C79: PPRCHA0_4677 | D79: -2.3034621 | E79: 1.64e-19 | F79: Putative lipopetides biosynthesis cluster | N79: 5301468 | O79: 5302724 | P79: 1256 | Q79: 5302096 | R79: DW
A80: E | B80: argF_1 | C80: PPRCHA0_4678 | D80: -2.7802246 | E80: 7.19e-21 | F80: Putative lipopetides biosynthesis cluster | N80: 5302809 | O80: 5303819 | P80: 1010 | Q80: 5303314 | R80: DW
A81: E | B81: arcC | C81: PPRCHA0_4679 | D81: -3.0939822 | E81: 1.07e-21 | F81: Putative lipopetides biosynthesis cluster | N81: 5303882 | O81: 5304811 | P81: 929 | Q81: 5304346.5 | R81: DW
A82: E | C82: PPRCHA0_4680 | D82: -2.3020979 | E82: 3.77e-18 | F82: Putative lipopetides biosynthesis cluster | N82: 5304884 | O82: 5305243 | P82: 359 | Q82: 5305063.5 | R82: DW
A83: S | C83: PPRCHA0_4690 | D83: -2.8986622 | E83: 5.16e-09 | F83: Putative lipopetides biosynthesis cluster | N83: 5316181 | O83: 5316948 | P83: 767 | Q83: 5316564.5 | R83: DW
A84: S | C84: PPRCHA0_4691 | D84: -3.9801064 | E84: 5.72e-17 | F84: Putative lipopetides biosynthesis cluster | N84: 5317048 | O84: 5317683 | P84: 635 | Q84: 5317365.5 | R84: DW
A85: Q | C85: PPRCHA0_4692 | D85: -3.5037145 | E85: 1.09e-23 | F85: Putative lipopetides biosynthesis cluster | N85: 5317680 | O85: 5320745 | P85: 3065 | Q85: 5319212.5 | R85: DW
A86: E | C86: PPRCHA0_4693 | D86: -3.8169264 | E86: 1.14e-22 | F86: Putative lipopetides biosynthesis cluster | N86: 5320750 | O86: 5321760 | P86: 1010 | Q86: 5321255 | R86: DW
A87: E | C87: PPRCHA0_4694 | D87: -3.8364886 | E87: 3.3e-22 | F87: Putative lipopetides biosynthesis cluster | N87: 5321760 | O87: 5323103 | P87: 1343 | Q87: 5322431.5 | R87: DW
A88: C | C88: PPRCHA0_4695 | D88: -3.8706666 | E88: 8.03e-22 | F88: Putative lipopetides biosynthesis cluster | N88: 5323100 | O88: 5324317 | P88: 1217 | Q88: 5323708.5 | R88: DW
A89: K | C89: PPRCHA0_4696 | D89: -3.4118864 | E89: 1.15e-24 | F89: Putative lipopetides biosynthesis cluster | N89: 5324422 | O89: 5324889 | P89: 467 | Q89: 5324655.5 | R89: DW
A90: S | C90: PPRCHA0_4697 | D90: -3.273585 | E90: 6.51e-23 | F90: Putative lipopetides biosynthesis cluster | N90: 5324890 | O90: 5325825 | P90: 935 | Q90: 5325357.5 | R90: DW
A91: Q | C91: PPRCHA0_4698 | D91: -3.0419548 | E91: 1.86e-26 | F91: Putative lipopetides biosynthesis cluster | N91: 5325836 | O91: 5328709 | P91: 2873 | Q91: 5327272.5 | R91: DW
A92: E | C92: PPRCHA0_4699 | D92: -2.2292417 | E92: 1.51e-24 | F92: Putative lipopetides biosynthesis cluster | N92: 5328731 | O92: 5329969 | P92: 1238 | Q92: 5329350 | R92: DW
A93: P | C93: PPRCHA0_4715 | D93: -2.5841862 | E93: 3.74e-25 | F93: Putative lipopetides biosynthesis cluster | N93: 5343188 | O93: 5343661 | P93: 473 | Q93: 5343424.5 | R93: DW
A94: K | C94: PPRCHA0_4763 | D94: -4.1929708 | E94: 8.58e-21 | N94: 5396744 | O94: 5396920 | P94: 176 | Q94: 5396832 | R94: DW
A95: E | B95: gltL | C95: PPRCHA0_4820 | D95: -2.0542595 | E95: 1.65e-17 | F95: glutamate/aspartate ABC transporter,ATP-binding protein GltL | I95: transport | N95: 5454895 | O95: 5455629 | P95: 734 | Q95: 5455262 | R95: DW
A96: - | C96: PPRCHA0_5167 | D96: -2.0351236 | E96: 6.97e-23 | N96: 5816486 | O96: 5817658 | P96: 1172 | Q96: 5817072 | R96: DW
A97: I | C97: PPRCHA0_5385 | D97: -2.2866033 | E97: 8.12e-21 | F97: MaoC-like protein | N97: 6050305 | O97: 6050760 | P97: 455 | Q97: 6050532.5 | R97: DW
A98: T | C98: PPRCHA0_5601 | D98: -2.0265307 | E98: 1.63e-16 | F98: cyclic nucleotide-binding domain/CBS domainpair/putative nucleotidyltransferase domain protein | N98: 6292591 | O98: 6294525 | P98: 1934 | Q98: 6293558 | R98: DW
A99: L | C99: PPRCHA0_5602 | D99: -2.0687468 | E99: 2.39e-11 | F99: exonuclease | N99: 6294522 | O99: 6295229 | P99: 707 | Q99: 6294875.5 | R99: DW
A100: S | B100: chpC | C100: PPRCHA0_5725 | D100: -2.0245068 | E100: 2.03e-11 | F100: Type IV pilus regulation | J100: regulation | N100: 6422316 | O100: 6422765 | P100: 449 | Q100: 6422540.5 | R100: DW
...
