Workbook
Name CO2_IntensityGasolineDiesel: '[1]CAFE standards'!$V$21
Name fuel_intensity: '[1]CAFE standards'!$V$2
Name IndicatorOutput_NPi: '[2]Indicators output NPi'!$A$1:$BM$200
Name LiterPerGallon: '[1]CAFE standards'!$V$3
Name Load: '[1]CAFE standards'!$V$5
Name MileToKm: '[1]CAFE standards'!$V$4
Name National_rates: '[3]Est. national rates'!$B$12:$P$183
Name New_sources: [3]Sources!$C$15:$AG$172
Name Policy_fulltable: [4]Database!$B$9:$N$2888
Name Policy_tablehead: [4]Database!$B$8:$N$8
Name Policy_title: [4]Database!$C$9:$C$2888
Name Pop_2011: '[3]Population 2011'!$B$9:$F$180
Name Urb_rates: '[3]Est. urban rates'!$B$10:$N$165

Sheet Content
A1: Sheet name | B1: Sheet information
A2: Legend - definitions | B2: This sheet contains: a) the explanation for the policy ID naming that can be found in the 'High impact policies' sheet, column A broken down in sector and policy type indication b) The color coding of policies in policy coverage context that can be found in the 'High impact policies' sheet c) a short explanation on the selection, quantification and implementation of high impact climate policies in major economies.
A3: High impact policies | B3: This sheet contains the selection of high impact climate policies as well as all relevant information - Policy IDs, sectoral coverage, policy instrument and type, link to the actual policy, start and end date of impementation, as well as the project under which each policy was included in the protocol. Additionally, it provides information on whether the selected policy could be quantified in anyway, and if so, if it was eventually included in the IMAGE model scenario development. For detailed information on policy selection, see 'Policy selection and implementation' and ' High impact policies column headers' in the 'Legends - definitions' sheet.
A4: Translation to model targets | B4: This sheet contains the first order quantification of each policy (whenever that is possible) - 'Original Target Indicator' in column E, as well as the proposed specific quantification for implementation in climate & energy models - 'Model Target Indicator' in column I. In most of the cases the quantifiable policy is the same in both versions, however certain alternative options or interpretations are provided as well. Specific information: a) If a policy has a single set target, this target appears in both the min-max ranges in the sheet b) If a cell is blank, the policy was not able to be quantified in any meaningful/useful way c) Certain policies appear with an 'alternative' target alongside their original one ("Policy ID + ALT"). This is meant to facilitate implementation, as it might be easier for models to implement the alternative policy instead of the original one. NOTE: not all policies in column I have been included in the IMAGE Current Policy scenario. For a detailed representation of the policies included, see Sheet "High impact policies", column J.

Sheet Policy database categories
A1: Instrument category | B1: Sub-category | C1: Policy instrument | E1: Electricity and heat: Nuclear, Coal, Oil, Gas, Renewables, CCS
A2: Economic instruments | B2: Direct investment | C2: Funds to sub-national governments | E2: Industry: Industrial energy-related, Fluorinated gases, Industrial N2O, Industrial process CO2, Waste (CH4), Oil and gas production (CH4)
C3: Infrastructure investments | E3: Buildings: Heating and cooling, Hot water and cooking, Appliances
C4: Procurement rules | E4: Transport: Light duty vehicles, Heavy duty vehicles, Electro-mobility, Air, Rail, Shipping
C5: RD&D funding | E5: Agriculture and forestry: Agricultural CO2, Agricultural N2O, Agricultural CH4, Forestry
B6: Fiscal or financial incentives | C6: CO2 taxes
C7: Energy and other taxes
C8: Feed-in tariffs or premiums
C9: Grants and subsidies
C10: Loans
C11: Tax relief
C12: User changes
C13: Tendering schemes
C14: Retirement premium
B15: Market-based instruments | C15: GHG emissions allowances
C16: GHG emission reduction crediting and offsetting mechanism
C17: Green certificates
C18: White certificates
A19: Regulatory Instruments | B19: Codes and standards | C19: Building codes and standards
C20: Product standards
C21: Sectoral standards
C22: Vehicle fuel-economy and emissions standards
C23: Auditing
C24: Monitoring
C25: Obligation schemes
C26: Other mandatory requirements
A27: Information and Education | B27: Performance label | C27: Comparison label
C28: Endorsement label
C29: Advice and aid in implementation
C30: Information provision
C31: Professional training and qualification
A32: Policy support | C32: Institutional creation
C33: Strategic planning
A34: RD&D | B34: Research programme | C34: Technology deployment and diffusion
C35: Technology development
C36: Demonstration project
A37: Voluntary approaches | C37: Negotiated agreements (public/private sector)
C38: Public voluntary schemes
C39: Unilateral commitments (private sector)
A40: Barrier removal | C40: Net metering
...

Sheet Legend - definitions
A1: numbering: 1 - …, always with a/b/c even if there's only 'a' - letters for different targets in the same group (e.g. different REN technologies), 3-letter country, 3-letter sector, 3-letter policy type/area, 2 letter target year (20XX). Same letter for policies with multiple target years (only last two numbers differ in the ID then). Legend: policy ID types can apply to various sectors, although they are listed under one (occurring most often) - e.g. GHG (emission reduction) can apply to general - economy wide, or to specific sectors such as industry
A2: Policy ID sector indication | B2: meaning | C2: policy ID policy type indication | D2: meaning | E2: policy ID policy type indication | F2: meaning | G2: policy ID policy type indication | H2: meaning | I2: policy ID policy type indication | J2: meaning | K2: policy ID policy type indication | L2: meaning | M2: Future additions?
A3: ENE | B3: Energy | C3: REN | D3: Renewables | E3: EFF | F3: Efficiency | G3: ELE | H3: Electrification | I3: PPS | J3: Power plant standard | K3: CPO | L3: Coal phase-out | M3: IMP | N3: Implemented
A4: GEN | B4: General | C4: FIN | D4: Financial measure | E4: FGAS | F4: F-gases | G4: TAX | H4: Carbon tax | I4: NDC | J4: NDC | K4: ETS | L4: Emissions trading system | M4: PLA | N4: Planned
A5: TRA | B5: Transport | C5: MOD | D5: Modal switch | E5: BIO | F5: Biofuels | G5: EFF | H5: Vehicle efficiency targets | I5: EVP | J5: Electric vehicles / plug-in etc. | K5: FOS | L5: Fossil fuels
A6: BUI | B6: Buildings | C6: LIG | D6: Lighting | E6: EFF | F6: Building code / efficiency target | G6: LAB | H6: Labelling / information provision | I6: COO | J6: Cooking (e.g. cookstove replacement) | K6: WAS | L6: Waste
A7: ALU | B7: Agriculture/land-use | C7: AFF | D7: Afforestation | E7: DEF | F7: Deforestation | G7: GHG | H7: Emissions reduction | I7: MAN | J7: (Land) Management | K7: AIR | L7: air pollution regulation
A8: IND | B8: Industry | C8: GHG | D8: Emissions reduction | E8: OTH | F8: Other | G8: STE | H8: Steel policy | I8: CH4 | J8: Methane emissions | K8: IMP | L8: Imports/trade
A10: Color coding of policies ('High impact policies')
A11: (I)NDCs and LTSs
A12: Economy-wide policies
A13: Energy policies
A14: Industry policies
A15: Transport policies
A16: Buildings policies
A17: AFOLU policies
A18: Non-climate policies (air pollution, energy access, energy security)
A19: Under investigation
A21: Policy selection and implementation (adapted from https://doi.org/10.1038/s41467-020-15414-6* )
A22: This protocol includes climate and energy policies for major economies, and details the instruments, targets and sectors.
... A37: High impact policies column headers
B38: Policy database ID | C38: Sector name | D38: Policy target/policy instrument | E38: Type of policy instrument | F38: Policy type | G38: Name of policy (+ link to Climate Policy database) | H38: Implementation state | I38: Quantifiable | J38: Included in IMAGE Current Policy scenario | K38: Start date of implementation | L38: End date of implementation | M38: Inclusion date / project
A39: Country name and policy ID in protocol. ID broken down in: 1) Number of policy (similar policies are grouped up e.g., 1a, 1b etc.) 2) Country code the policy relates to 3) Policy sector indication 4) Policy type indication 5) End date of implementation of policy (or start year of implementation if end date is not available) | B39: Policy ID in NewClimate Institution's climate policy database (https://climatepolicydatabase.org/policies ) | C39: Sectoral coverage of policy | D39: General target of policy / Method used to promote policy | E39: Specific instruments used to implement policy e.g. subsidies or carbon tax | F39: Specific target of policy e.g., renewable capacity or energy efficiency increase | G39: Official name of policy and link to the policy in NewClimate's policy database | H39: Implementatios state of policy. All 'Implemented' policies should be included in the current policies scenario of each model (based on each model's capabilities). 'Planned' policies are also included if they are considered as high-impact, but should not be includedin the scenario implementation by the modelling teams. | I39: Indication of whether the policy can be quantified in any way. If 'yes', you can find the quantification in the next Sheet 'Translation to model targets'. | J39: This column indicates which policies were included in the IMAGE Current Policy scenario development. It serves only as an indication, so if other models can implement more/are not able to implement as many policies, they should do/not do so. | K39: Start date of implementation of policy. | L39: End date of implementation of policy. Blank if policy does not have an explicit end date. | M39: Date and project when the policy was introduced in the protocol.
D40: See also https://climatepolicydatabase.org/policies

Sheet High impact policies
A1: Highest mitigation impact policies | J1: =COUNTIF(J3:J426,"yes") -> 185
A2: Argentina | B2: Policy database ID | C2: Sector name | D2: Policy target/policy instrument | E2: Type of policy instrument | F2: Policy type | G2: Name of policy (+ link to Climate Policy database) | H2: Implementation state | I2: Quantifiable | J2: IMAGE CurPol scenario inclusion | K2: Start date of implementation | L2: End date of implementation | M2: Inclusion date / project
A3: 0a-ARG-GEN-NDC-30 | B3: 211205604 | C3: Economy-wide | D3: Conditional GHG emissions reduction | E3: Political & non-binding GHG reduction target | F3: Energy efficiency, Non-energy use, Other low-carbon technologies and fuel switch, Renewables | G3: Nationally Determined Contribution - NDC Argentina (2021) | H3: Planned | I3: yes | J3: no | K3: 2021 | L3: =2030 -> 2030 | M3: 2022 - ENGAGE
A4: 0b-ARG-GEN-LTS-50 | B4: 230706210 | C4: Economy-wide | D4: GHG emissions reduction | E4: Target, GHG reduction target, Political & non-binding GHG reduction target | F4: Energy efficiency, Energy service demand reduction and resource efficiency, Non-energy use, Other low-carbon technologies and fuel switch, Renewables | G4: Estrategia de desarrollo resiliente con bajas emisiones a largo plazo a 2050 | H4: Planned | I4: yes | J4: no | K4: 2021 | L4: 2050 | M4: 2023 - ELEVATE
A5: 1d-ARG-TRA-BIO-30 | B5: 211105365 | C5: Transport | D5: Biofuel blending requirements | E5: Tax relief, Institutional creation, Strategic planning, Obligation schemes, Grants and subsidies | F5: Renewables | G5: Law 27,640 on biofuels Argentina (2021) | H5: Implemented | I5: yes | J5: yes | K5: 2021 | L5: 2030 | M5: 2022 - ENGAGE
A6: 2a-ARG-ENE-REN-25 | B6: =211001641 -> 211001641 | C6: Electricity and heat | D6: Renewables share target | E6: Feed-in tariffs or premiums, Tax relief, Strategic planning, Research & Development and Deployment (RD&D), Target, Renewable energy target, Formal & legally binding renewable energy target | F6: Renewables | G6: Law 27,191 to Promote the Use of Renewable Energy in Electricity Generation Argentina (2015) | H6: Implemented | I6: yes | J6: yes | K6: =2015 -> 2015 | L6: 2025 | M6: 2019 - CD-LINKS
A7: 2b-ARG-ENE-FIN-25 | B7: =211001641 -> 211001641 | C7: Electricity and heat | D7: Renewables trade price cap | E7: Feed-in tariffs or premiums, Tax relief, Strategic planning, Research & Development and Deployment (RD&D), Target, Renewable energy target, Formal & legally binding renewable energy target | F7: Renewables | G7: Law 27,191 to Promote the Use of Renewable Energy in Electricity Generation Argentina (2015) | H7: Implemented | I7: yes | J7: no | K7: =2015 -> 2015 | L7: 2025 | M7: 2019 - CD-LINKS
A8: 2c-ARG-ENE-FIN-15 | B8: =211001641 -> 211001641 | C8: Electricity and heat | D8: FiT solar PV energy | E8: Feed-in tariffs or premiums, Tax relief, Strategic planning, Research & Development and Deployment (RD&D), Target, Renewable energy target, Formal & legally binding renewable energy target | F8: Renewables | G8: Law 27,191 to Promote the Use of Renewable Energy in Electricity Generation Argentina (2015) | H8: Implemented | I8: yes | J8: no | K8: =2015 -> 2015 | L8: 2025 | M8: 2019 - CD-LINKS
A9: 2d-ARG-ENE-FIN-15 | B9: =211001641 -> 211001641 | C9: Electricity and heat | D9: FiT non-solar renewable energy | E9: Feed-in tariffs or premiums, Tax relief, Strategic planning, Research & Development and Deployment (RD&D), Target, Renewable energy target, Formal & legally binding renewable energy target | F9: Renewables | G9: Law 27,191 to Promote the Use of Renewable Energy in Electricity Generation Argentina (2015) | H9: Implemented | I9: yes | J9: no | K9: =2015 -> 2015 | L9: 2025 | M9: 2019 - CD-LINKS
A10: 4a-ARG-ALU-FIN-30 | B10: =211001638 -> 211001638 | C10: Agriculture and forestry | D10: Sustainable use of native forests | E10: Fiscal or financial incentives | F10: Non-energy use | G10: Law 26,331 for the Environmental Protection of Native Forests Argentina (2007) | H10: Implemented | I10: yes | J10: no | K10: 2007 | M10: 2019 - CD-LINKS
A11: 5a-ARG-GEN-FGAS-45 | B11: 220505963 | C11: Economy-wide | D11: Kigali Amendment on HFCs | E11: Target, GHG reduction target | F11: Energy service demand reduction and resource efficiency, Non-energy use | G11: Kigali Amendment on HFCs Argentina (2021) | H11: Implemented | I11: yes | J11: yes | K11: 2021 | L11: 2045 | M11: 2023 - ELEVATE
A12: 8a-ARG-BUI-LIG-10 | B12: =211001639 -> 211001639 | C12: Buildings | D12: Ban on incandescent light bulbs | E12: Product standards | F12: Energy efficiency | G12: Law prohibiting commercialisation of incandescent light bulbs Argentina (2010) | H12: Implemented | I12: yes | J12: no | K12: 2010 | M12: 2019 - CD-LINKS
A13: 9a-ARG-ALU-AFF-30 | B13: =211001575 -> 211001575 | C13: Agriculture and forestry | D13: To increase forest plantations from 1.3 million ha to 2 million ha by 2030 | E13: Policy support, Institutional creation | F13: Non-energy use | G13: Joint resolution 1/18 creating the Environmental and Insurance Sustainability Program (PROSAS) Argentina (2018) | H13: Implemented | I13: yes | J13: no | K13: 2018 | L13: 2030 | M13: 2021 - COMMIT
A14: 9b-ARG-ALU-AFF-30 | B14: 211005191 | C14: Agriculture and forestry | D14: Restore 20 million hectares by 2030 | E14: Policy support, Institutional creation | F14: Non-energy use | G14: Resolution 267/2019 National plan for the restoration of native forests Argentina (2019) | H14: Implemented | I14: yes | J14: no | K14: 2019 | L14: 2030 | M14: 2023 - ELEVATE
A15: 10a-ARG-GEN-TAX-17 | B15: =211000419 -> 211000419 | C15: Economy-wide | D15: Carbon tax on energy | E15: CO2 taxes, Energy and other taxes | F15: Renewables, Energy efficiency, Other low-carbon technologies and fuel switch, Energy service demand reduction and resource efficiency | G15: Law 27,430 on Carbon Tax on Energy Argentina (2017) | H15: Implemented | I15: yes | J15: yes | K15: 2017 | M15: 2021 - COMMIT
A17: Australia | B17: Policy database ID | C17: Sector name | D17: Policy target/policy instrument | E17: Type of policy instrument | F17: Policy type | G17: Name of policy (+ link to Climate Policy database) | H17: Implementation state | I17: Quantifiable | J17: IMAGE CurPol scenario inclusion | K17: Start date of implementation | L17: End date of implementation | M17: Inclusion date / project
A18: 0a-AUS-GEN-NDC-30 | B18: 230206055 | C18: Economy-wide | D18: GHG emissions reduction | E18: Target, GHG reduction target, Political & non-binding GHG reduction target | F18: Energy efficiency, Energy service demand reduction and resource efficiency, Non-energy use, Other low-carbon technologies and fuel switch, Renewables | G18: Nationally Determined Contribution - NDC Australia (2022) | H18: Planned | I18: yes | J18: no | K18: 2022 | L18: 2030 | M18: 2023 - ELEVATE
A19: 0b-AUS-GEN-LTS-50 | B19: 220205757 | C19: Economy-wide | D19: GHG emissions reduction | E19: Target, GHG reduction target, Political & non-binding GHG reduction target | F19: Energy efficiency, Energy service demand reduction and resource efficiency, Non-energy use, Other low-carbon technologies and fuel switch, Renewables | G19: Long-Term Emissions Reduction Plan Australia (2021) | H19: Planned | I19: yes | J19: no | K19: 2021 | L19: 2050 | M19: 2022 - ENGAGE
A20: 1a-AUS-ENE-REN-30 | B20: =211003312 -> 211003312 | C20: Electricity and heat | D20: Renewable energy generation target in the State of Queensland of 50 per cent by 2030. (translated to federal level) | E20: Target, Renewable energy target | F20: Renewables | G20: Queensland Renewable Electricity Generation Target of 50% by 2030 Australia (2020) | H20: Implemented | I20: yes | J20: yes | K20: 2020 | L20: 2030 | M20: 2021 - COMMIT
A21: 2a-AUS-ENE-REN-16 | B21: =211002481 -> 211002481 | C21: Electricity and heat | D21: Required share of the LRET (Large Renewable Energy Technology) | E21: Green certificates, Strategic planning, Obligation schemes | F21: Renewables | G21: Renewable Energy (Electricity) Act Australia (2022) | H21: Implemented | I21: no | J21: no | K21: 2022 | M21: 2024 - ELEVATE
A22: 2b-AUS-ENE-REN-16 | B22: =211002481 -> 211002481 | C22: Electricity and heat | D22: Required share of SRES (Small Renewable Energy Sources) | E22: Green certificates, Strategic planning, Obligation schemes | F22: Renewables | G22: Renewable Energy (Electricity) Act Australia (2022) | H22: Implemented | I22: no | J22: no | K22: 2022 | M22: 2024 - ELEVATE
A23: 2c-AUS-ENE-REN-00 | B23: =211002481 -> 211002481 | C23: Electricity and heat | D23: Charge for not meeting the renewables share | E23: Green certificates, Strategic planning, Obligation schemes | F23: Renewables | G23: Renewable Energy (Electricity) Act Australia (2022) | H23: Implemented | I23: yes | J23: no | K23: 2022 | M23: 2024 - ELEVATE
A24: 3a-AUS-ALU-FIN-21 | B24: 211000823 | C24: Agriculture and forestry | D24: Funds for emissions reductions | E24: GHG emission reduction crediting and offsetting mechanism | F24: Energy service demand reduction and resource efficiency, Energy efficiency, Other low-carbon technologies and fuel switch, Non-energy use, Renewables | G24: Emissions Reduction Fund Australia (2017) | H24: Implemented | I24: yes | J24: no | K24: 2017 | L24: 2030 | M24: 2022 - ENGAGE
A25: 3b-AUS-ALU-FIN-21 | B25: 211000823 | C25: Agriculture and forestry | D25: Funds for emissions reductions | E25: GHG emission reduction crediting and offsetting mechanism | F25: Energy service demand reduction and resource efficiency, Energy efficiency, Other low-carbon technologies and fuel switch, Non-energy use, Renewables | G25: Emissions Reduction Fund Australia (2017) | H25: Implemented | I25: yes | J25: no | K25: 2017 | L25: 2030 | M25: 2022 - ENGAGE
A26: 4a-AUS-ENE-EFF-30 | B26: =211000948 -> 211000948 | C26: Electricity and heat | D26: Increase energy productivity | E26: Strategic planning, Energy efficiency target, Political & non-binding energy efficiency target, Market-based instruments | F26: Energy efficiency | G26: Energy Productivity Plan Australia (2015) | H26: Implemented | I26: yes | J26: no | K26: 2015 | L26: 2030 | M26: 2019 - CD-LINKS
A27: 6a-AUS-GEN-FGAS-36 | B27: =211001414 -> 211001414 | C27: Economy-wide | D27: HFC emissions reduction | E27: Strategic planning, Target | F27: Non-energy use | G27: HFC emissions reduction target Australia (2016) | H27: Implemented | I27: yes | J27: yes | K27: 2016 | L27: 2036 | M27: 2019 - CD-LINKS
A28: 7a-AUS-ENE-FIN-09 | B28: =211000353 -> 211000353 | C28: Electricity and heat | D28: Funding CCS | E28: Infrastructure investments | F28: Other low-carbon technologies and fuel switch | G28: CCS Flagships Programme Australia (2009) | H28: Implemented | I28: yes | J28: no | K28: 2009 | L28: 2014 | M28: 2019 - CD-LINKS
A29: 8a-AUS-TRA-FIN-16 | B29: =211001240 -> 211001240 | C29: Transport | D29: Fuel taxes | E29: Energy and other taxes | F29: Energy service demand reduction and resource efficiency, Energy efficiency, Renewables, Other low-carbon technologies and fuel switch | G29: Fuel Tax Reform Australia (2006) | H29: Implemented | I29: yes | J29: no | K29: 2006 | M29: 2019 - CD-LINKS
A30: 9a-AUS-GEN-FIN-30 | B30: =211000524 -> 211000524 | C30: Economy-wide | D30: Funds for emissions reductions | E30: Economic instruments, Direct investment, Policy support | F30: Energy efficiency, Renewables, Other low-carbon technologies and fuel switch | G30: Climate Solutions Package Australia (2019) | H30: Implemented | I30: yes | J30: no | K30: 2019 | L30: 2030 | M30: 2020 -ENGAGE
A31: 10a-AUS-GEN-GHG-20 | B31: =211003313 -> 211003313 | C31: Economy-wide | D31: Technology investment roadmap | E31: Strategic planning, Target | F31: Energy efficiency, Energy service demand reduction and resource efficiency, Non-energy use, Other low-carbon technologies and fuel switch, Renewables | G31: Technology Investment Roadmap Australia (2020) | H31: Implemented | I31: no | J31: no | K31: 2020 | M31: 2020 -ENGAGE
A32: 11a-AUS-ENE-EFF-20 | B32: =211000918 -> 211000918 | C32: Electricity and heat | D32: Energy efficient communities program | E32: Funds to sub-national governments, Grants and subsidies, Monitoring | F32: Energy efficiency | G32: Energy Efficient Communities Program - Community Organisations Australia (2019) | H32: Implemented | I32: yes | J32: no | K32: 2019 | M32: 2020 -ENGAGE
A33: 13c-AUS-BUI-EFF-50 | B33: 211105388 | C33: Buildings | D33: Building code | E33: Policy support, Strategic planning | F33: Energy efficiency | G33: Trajectory for Low Energy Buildings Australia (2019) | H33: Implemented | I33: no | J33: no | K33: 2019 | L33: 2050 | M33: 2022 - ENGAGE
A34: 14a-AUS-TRA-EFF-19 | B34: 211002053 | C34: Transport | D34: Emissions reduction target | E34: Strategy | F34: Strategic planning | G34: National Electric Vehicles Strategy Australia (2023) | H34: Implemented | I34: no | J34: no | K34: 2023 | L34: 2030 | M34: 2024 - ELEVATE
A36: Brazil | B36: Policy database ID | C36: Sector name | D36: Policy target/policy instrument | E36: Type of policy instrument | F36: Policy type | G36: Name of policy (+ link to Climate Policy database) | H36: Implementation state | I36: Quantifiable | J36: IMAGE CurPol scenario inclusion | K36: Start date of implementation | L36: End date of implementation | M36: Inclusion date / project
A37: 0a-BRA-GEN-NDC-25 | B37: 240306451 | C37: Economy-wide | D37: NDC Emission reduction target | E37: GHG reduction target, Political & non-binding GHG reduction target | F37: Energy efficiency, Non-energy use, Other low-carbon technologies and fuel switch, Renewables | G37: Nationally Determined Contribution - NDC Brazil (2023) | H37: Planned | I37: yes | J37: no | K37: 2022 | L37: 2025 | M37: 2024 - ELEVATE
A38: 0a-BRA-GEN-NDC-30 | B38: 240306451 | C38: Economy-wide | D38: NDC Emission reduction target | E38: GHG reduction target, Political & non-binding GHG reduction target | F38: Energy efficiency, Non-energy use, Other low-carbon technologies and fuel switch, Renewables | G38: Nationally Determined Contribution - NDC Brazil (2023) | H38: Planned | I38: yes | J38: no | K38: 2022 | L38: 2030 | M38: 2024 - ELEVATE
A39: 0a-BRA-GEN-LTS-50 | B39: 240306451 | C39: Economy-wide | D39: NDC Emission reduction target | E39: GHG reduction target, Political & non-binding GHG reduction target | F39: Energy efficiency, Non-energy use, Other low-carbon technologies and fuel switch, Renewables | G39: Nationally Determined Contribution - NDC Brazil (2023) | H39: Planned | I39: yes | J39: no | K39: 2022 | L39: 2050 | M39: 2024 - ELEVATE
A40: 1a-BRA-GEN-FGAS-45 | B40: 230206065 | C40: Economy-wide | D40: Kigali Amendment on HFCs | E40: Target, GHG reduction target | F40: Energy service demand reduction and resource efficiency, Non-energy use | G40: Kigali Amendment on HFCs Brazil (2021) | H40: Implemented | I40: yes | J40: yes | K40: 2021 | L40: 2045 | M40: 2023 - ELEVATE
A41: 2a-BRA-ALU-AFF-30 | B41: 211105467 | C41: Agriculture and forestry | D41: Recovery of Native Vegetation | E41: Policy support, Institutional creation | F41: Non-energy use | G41: National Policy for the Recovery of Native Vegetation -Proveg Brazil (2017) | H41: Implemented | I41: yes | J41: yes | K41: 2017 | L41: 2030 | M41: 2024 - ELEVATE
A42: 4d-BRA-TRA-BIO-28 | B42: =211002557 -> 211002557 | C42: Transport | D42: Biofuel carbon intensity | E42: Green certificates, Product standards, Political & non-binding renewable energy target | F42: Renewables | G42: RenovaBio (Decree 9308) Brazil (2018) | H42: Implemented | I42: yes | J42: yes | K42: 2018 | L42: 2028 | M42: 2021 - COMMIT
...

Sheet Translation to model target
A1: Policy ID | B1: Country | C1: ISO-3 | D1: Policy Type | E1: Conditionality | F1: Sector | G1: Policy status | H1: Original Target Indicator | I1: Original Target Value Min | J1: Original Target Value Max | K1: Original Target Unit | L1: Model Target Indicator | M1: Model Target Value Min | N1: Model Target Value Max | O1: Model Target Unit | P1: Target type | Q1: Base Year | R1: Target Year | S1: Comments
A2: ='High impact policies'!A3 -> 0a-ARG-GEN-NDC-30 | B2: Argentina | C2: ARG | D2: NDC | E2: Conditional | F2: Economy-wide | G2: Planned | H2: GHG emissions (incl LULUCF) | I2: 349 | J2: 349 | K2: MtCO2e | L2: Emissions|Kyoto Gases | M2: 349 | N2: 349 | O2: MtCO2e | P2: absolute | Q2: 2021 | R2: 2030 | S2: Emission level to be reached
A3: ='High impact policies'!A4 -> 0b-ARG-GEN-LTS-50 | B3: Argentina | C3: ARG | D3: LTS | E3: - | F3: Economy-wide | G3: Planned | H3: GHG emissions (incl LULUCF) | I3: -100 | J3: -100 | K3: % | L3: Emissions|Kyoto Gases | M3: -100 | N3: -100 | O3: % | P3: absolute | Q3: 2022 | R3: 2050
A4: ='High impact policies'!A5 -> 1d-ARG-TRA-BIO-30 | B4: Argentina | C4: ARG | D4: CurPol | E4: - | F4: Transport | G4: Implemented | H4: Minimum blend of biodiesel or ethanol in gasoline | I4: 12 | J4: 12 | K4: % | L4: Biofuel share | M4: 12 | N4: 12 | O4: % | P4: absolute | Q4: 2016 | R4: 2030
A5: ='High impact policies'!A6 -> 2a-ARG-ENE-REN-25 | B5: Argentina | C5: ARG | D5: CurPol | E5: - | F5: Electricity and heat | G5: Implemented | H5: Renewables electricity share target (national and imposed on companies) | I5: 20 | J5: 20 | K5: % | L5: Renewable electricity share | M5: 20 | N5: 20 | O5: % | P5: absolute | Q5: 2015 | R5: 2025
A6: ='High impact policies'!A7 -> 2b-ARG-ENE-FIN-25 | B6: Argentina | C6: ARG | D6: CurPol | E6: - | F6: Electricity and heat | G6: Implemented | H6: Cap of tradable renewable electricity | I6: 113 | J6: 113 | K6: USD/MWh | L6: Price cap on renewable electricity trade | M6: 113 | N6: 113 | O6: USD/MWh | P6: absolute | Q6: 2015 | R6: 2025
A7: ='High impact policies'!A8 -> 2c-ARG-ENE-FIN-15 | B7: Argentina | C7: ARG | D7: CurPol | E7: - | F7: Electricity and heat | G7: Implemented | H7: Solar PV FiT | I7: 0.9 | J7: 0.9 | K7: USD/kWh | L7: Feed-in tariff|Solar PV | M7: 0.9 | N7: 0.9 | O7: USD/kWh | P7: absolute | Q7: 2015 | R7: 2025
A8: ='High impact policies'!A9 -> 2d-ARG-ENE-FIN-15 | B8: Argentina | C8: ARG | D8: CurPol | E8: - | F8: Electricity and heat | G8: Implemented | H8: Other renewables FiT | I8: 0.015 | J8: 0.015 | K8: USD/kWh | L8: Feed-in tariffs|Other renewables | M8: 0.015 | N8: 0.015 | O8: USD/kWh | P8: absolute | Q8: 2015 | R8: 2025
A9: ='High impact policies'!A10 -> 4a-ARG-ALU-FIN-30 | B9: Argentina | C9: ARG | D9: CurPol | E9: - | F9: Agriculture and forestry | G9: Implemented | H9: Afforestation target | I9: 4.7 | J9: 4.7 | K9: Mha | L9: Land Cover|Forest|Afforestation and Reforestation | M9: 4.7 | N9: 4.7 | O9: Mha | P9: absolute | Q9: 2007 | R9: 2030
A10: ='High impact policies'!A11 -> 5a-ARG-GEN-FGAS-45 | B10: Argentina | C10: ARG | D10: CurPol | E10: - | F10: Economy-wide | G10: Implemented | H10: HFC emissions reduction | I10: -80 | J10: -80 | K10: % | L10: Emissions|HFC | M10: -80 | N10: -80 | O10: % | P10: relative | Q10: 2021 | R10: 2045
A11: ='High impact policies'!A12 -> 8a-ARG-BUI-LIG-10 | B11: Argentina | C11: ARG | D11: CurPol | E11: - | F11: Buildings | G11: Implemented | H11: Ban on commercialization of incandescent light bulbs | L11: Ban of incandescent light bulbs | P11: absolute | Q11: 2010 | S11: Residential only
A12: ='High impact policies'!A13 -> 9a-ARG-ALU-AFF-30 | B12: Argentina | C12: ARG | D12: CurPol | E12: - | F12: Agriculture and forestry | G12: Implemented | H12: Expanding forested areas | I12: 62000 | J12: 62000 | K12: ha/yr | L12: Land Cover|Forest|Afforestation and Reforestation | M12: 0.7 | N12: 0.7 | O12: Mha | P12: absolute | Q12: 2018 | R12: 2030 | S12: Increase forest plantations from 1.3 million hectares to 2 million hectares by 2030
A13: ='High impact policies'!A14 -> 9b-ARG-ALU-AFF-30 | B13: Argentina | C13: ARG | D13: CurPol | E13: - | F13: Agriculture and forestry | G13: Implemented | H13: Restore 20000 hectares per year by 2030 | I13: 20000 | J13: 20000 | K13: ha/yr | L13: Land Cover|Forest|Afforestation and Reforestation | M13: 0.22 | N13: 0.22 | O13: Mha | P13: absolute | Q13: 2019 | R13: 2030
A14: ='High impact policies'!A15 -> 10a-ARG-GEN-TAX-17 | B14: Argentina | C14: ARG | D14: CurPol | E14: - | F14: Economy-wide | G14: Implemented | H14: Carbon tax | I14: 10 | J14: 10 | K14: USD/tCO2 | L14: Price|Carbon | M14: 10 | N14: 10 | O14: USD/tCO2 | P14: absolute | Q14: 2017 | S14: A carbon tax was introduced through the new tax reform. This tax started at 10USD/tCO2eq, but it is to be adjusted every trimester. Natural gas and LPG are excluded from the taxation
A15: ='High impact policies'!A18 -> 0a-AUS-GEN-NDC-30 | B15: Australia | C15: AUS | D15: NDC | E15: Unconditional | F15: Economy-wide | G15: Planned | H15: GHG emissions (incl LULUCF) | I15: -43 | J15: -43 | K15: % | L15: Emissions|Kyoto Gases | M15: 347 | N15: 347 | O15: MtCO2e | P15: relative | Q15: 2005 | R15: 2030
A16: ='High impact policies'!A19 -> 0b-AUS-GEN-LTS-50 | B16: Australia | C16: AUS | D16: LTS | E16: - | F16: Economy-wide | G16: Planned | H16: GHG emissions (incl LULUCF) | I16: -100 | J16: -100 | K16: % | L16: Emissions|Kyoto Gases | M16: -100 | N16: -100 | O16: % | P16: absolute | R16: 2050
A17: ='High impact policies'!A20 -> 1a-AUS-ENE-REN-30 | B17: Australia | C17: AUS | D17: CurPol | E17: - | F17: Electricity and heat | G17: Implemented | H17: Renewable electricity generation target (% of total) | I17: 50 | J17: 50 | K17: % | L17: Renewable electricity share | M17: 50 | N17: 50 | O17: % | P17: absolute | R17: 2030 | S17: Renewable energy generation target in the State of Queensland of 50 per cent by 2030. (translated to federal level)
A18: ='High impact policies'!A26 -> 4a-AUS-ENE-EFF-30 | B18: Australia | C18: AUS | D18: CurPol | E18: - | F18: Electricity and heat | G18: Implemented | H18: Energy productivity increase | I18: 0.4 | J18: 0.4 | K18: GDP($M)/PJ | L18: Energy intensity | M18: 0.4 | N18: 0.4 | O18: AUD/PJ | P18: absolute | Q18: 2015 | R18: 2030 | S18: Energy productivity = Economic output (GDP)/Energy used (PJ primary)
A19: ='High impact policies'!A27 -> 6a-AUS-GEN-FGAS-36 | B19: Australia | C19: AUS | D19: CurPol | E19: - | F19: Economy-wide | G19: Implemented | H19: HFC emissions | I19: -85 | J19: -85 | K19: % | L19: Emissions|HFC | M19: -85 | N19: -85 | O19: % | P19: relative | Q19: 2016 | R19: 2036 | S19: 2016 level ~= 7,8 MtCO2e
A20: ='High impact policies'!A28 -> 7a-AUS-ENE-FIN-09 | B20: Australia | C20: AUS | D20: CurPol | E20: - | F20: Electricity and heat | G20: Implemented | H20: Investments in CCS | I20: 125 | J20: 125 | K20: AUD million | L20: Investment fund for CCS projects | M20: 125 | N20: 125 | O20: AUD million | P20: absolute | Q20: 2009
A21: ='High impact policies'!A29 -> 8a-AUS-TRA-FIN-16 | B21: Australia | C21: AUS | D21: CurPol | E21: - | F21: Transport | G21: Implemented | H21: Fuel tax | I21: 0.46 | J21: 0.46 | K21: AUD/liter | L21: Fuel tax | M21: 0.46 | N21: 0.46 | O21: AUD/L | P21: absolute | Q21: 2016
A22: ='High impact policies'!A30 -> 9a-AUS-GEN-FIN-30 | B22: Australia | C22: AUS | D22: CurPol | E22: - | F22: Economy-wide | G22: Implemented | H22: Funds for emissions reduction | I22: -100 | J22: -100 | K22: MtCO2e | L22: Emissions|Kyoto Gases | M22: -100 | N22: -100 | O22: MtCO2e | P22: relative | Q22: 2019 | R22: 2030
A23: ='High impact policies'!A32 -> 11a-AUS-ENE-EFF-20 | B23: Australia | C23: AUS | D23: CurPol | E23: - | F23: Electricity and heat | G23: Implemented | H23: Grants for businesses and community organisations to invest in energy efficiency | I23: 40 | J23: 40 | K23: AUD million | L23: Grants for energy efficiency investments | M23: 40 | N23: 40 | O23: AUD million | P23: absolute | Q23: 2020 | S23: Through this program, the Australian government will provide AUD 40 million (~24 USD million) in grants for businesses and community organisations to invest in energy efficiency (e.g. through equipment upgrades, emissions monitoring systems, etc.).
A24: ='High impact policies'!A33 -> 13c-AUS-BUI-EFF-50 | B24: Australia | C24: AUS | D24: CurPol | E24: - | F24: Buildings | G24: Implemented | H24: Net-zero buildings | I24: -100 | J24: -100 | K24: % | L24: Emissions|CO2|Energy|Demand|Residential and Commercial | M24: -100 | N24: -100 | O24: % | P24: absolute | Q24: 2019 | R24: 2050
A25: ='High impact policies'!A34 -> 14a-AUS-TRA-EFF-19 | B25: Australia | C25: AUS | D25: CurPol | E25: - | F25: Transport | G25: Implemented | H25: Electric vehicle strategy | I25: -3 | J25: -3 | K25: MtCO2 | L25: Emissions|CO2|Energy|Demand|Transportation | M25: -3 | N25: -3 | O25: MtCO2 | P25: relative | Q25: 2023 | R25: 2030 | S25: No clear targets
A26: ='High impact policies'!A37 -> 0a-BRA-GEN-NDC-25 | B26: Brazil | C26: BRA | D26: NDC | E26: Unconditional | F26: Economy-wide | G26: Planned | H26: GHG emissions (incl LULUCF) | I26: -48.4 | J26: -48.4 | K26: % | L26: Emissions|Kyoto Gases | M26: -48.4 | N26: -48.4 | O26: % | P26: relative | Q26: 2005 | R26: 2025 | S26: 2005 level = 2560 MtCO2e
A27: ='High impact policies'!A38 -> 0a-BRA-GEN-NDC-30 | B27: Brazil | C27: BRA | D27: NDC | E27: Unconditional | F27: Economy-wide | G27: Planned | H27: GHG emissions (incl LULUCF) | I27: -53.1 | J27: -53.1 | K27: % | L27: Emissions|Kyoto Gases | M27: -53.1 | N27: -53.1 | O27: % | P27: relative | Q27: 2005 | R27: 2030 | S27: 2005 level = 2560 MtCO2e
A28: ='High impact policies'!A39 -> 0a-BRA-GEN-LTS-50 | B28: Brazil | C28: BRA | D28: LTS | E28: - | F28: Economy-wide | G28: Planned | H28: GHG emissions (incl LULUCF) | I28: -100 | J28: -100 | K28: % | L28: Emissions|Kyoto Gases | M28: -100 | N28: -100 | O28: % | P28: absolute | R28: 2050
A29: ='High impact policies'!A40 -> 1a-BRA-GEN-FGAS-45 | B29: Brazil | C29: BRA | D29: CurPol | E29: - | F29: Economy-wide | G29: Implemented | H29: HFC emissions | I29: -80 | J29: -80 | K29: % | L29: Emissions|HFC | M29: -80 | N29: -80 | O29: % | P29: relative | Q29: 2021 | R29: 2045
A30: ='High impact policies'!A41 -> 2a-BRA-ALU-AFF-30 | B30: Brazil | C30: BRA | D30: CurPol | E30: - | F30: Agriculture and forestry | G30: Implemented | H30: Recovery of native vegetation | I30: 12 | J30: 12 | K30: Mha | L30: Land Cover|Forest|Afforestation and Reforestation | M30: 12 | N30: 12 | O30: Mha | P30: absolute | Q30: 2017 | R30: 2030
A31: ='High impact policies'!A42 -> 4d-BRA-TRA-BIO-28 | B31: Brazil | C31: BRA | D31: CurPol | E31: - | F31: Transport | G31: Implemented | H31: Carbon intensity biofuels | I31: -7 | J31: -7 | K31: % | L31: Emissions|CO2|Energy|Demand|Transportation | M31: -7 | N31: -7 | O31: % | P31: relative | Q31: 2017 | R31: 2028
A32: ='High impact policies'!A43 -> 4e-BRA-TRA-BIO-23 | B32: Brazil | C32: BRA | D32: CurPol | E32: - | F32: Transport | G32: Implemented | H32: Biodiesel share in diesel | I32: 15 | J32: 15 | K32: % | L32: Biofuel share (volume) | M32: 15 | N32: 15 | O32: % | P32: absolute | Q32: 2020 | R32: 2023
A33: ='High impact policies'!A44 -> 5b-BRA-TRA-EFF-27 | B33: Brazil | C33: BRA | D33: CurPol | E33: - | F33: Transport | G33: Implemented | H33: Fuel efficiency | I33: 1.4 | J33: 1.4 | K33: MJ/km | L33: Efficiency|Transportation|Passenger|Car|Internal Combustion Engine|Gasoline | M33: 1.4 | N33: 1.4 | O33: MJ/km | P33: absolute | R33: 2027 | S33: Updated to 1.4 MJ/km for 2027
A34: ='High impact policies'!A45 -> 6a-BRA-BUI-LIG-16 | B34: Brazil | C34: BRA | D34: CurPol | E34: - | F34: Buildings | G34: Implemented | H34: Ban on commercialization of incandescent light bulbs | L34: Ban of incandescent light bulbs | P34: absolute | Q34: 2016 | S34: All buildings
A35: ='High impact policies'!A46 -> 8a-BRA-ALU-AFF-30 | B35: Brazil | C35: BRA | D35: CurPol | E35: - | F35: Agriculture and forestry | G35: Implemented | H35: Degraded pasture restoration | I35: 30 | J35: 30 | K35: Mha | L35: Land Cover|Pasture | M35: 30 | N35: 30 | O35: Mha | P35: absolute | Q35: 2022 | R35: 2030
A36: ='High impact policies'!A47 -> 8b-BRA-ALU-AFF-30 | B36: Brazil | C36: BRA | D36: CurPol | E36: - | F36: Agriculture and forestry | G36: Implemented | H36: Integrated Crop-Livestock-Forestry Systems (ICLFS) expansion | I36: 10 | J36: 10 | K36: Mha | L36: Integrated Crop-Livestock-Forestry Systems (ICLFS) expansion | M36: 10 | N36: 10 | O36: Mha | P36: absolute | Q36: 2022 | R36: 2030
A37: ='High impact policies'!A48 -> 8c-BRA-ALU-AFF-30 | B37: Brazil | C37: BRA | D37: CurPol | E37: - | F37: Agriculture and forestry | G37: Implemented | H37: Planted forests expansion | I37: 4 | J37: 4 | K37: Mha | L37: Land Cover|Forest|Managed | M37: 4 | N37: 4 | O37: Mha | P37: absolute | Q37: 2022 | R37: 2030
A38: ='High impact policies'!A52 -> 0a-CAN-GEN-NDC-30 | B38: Canada | C38: CAN | D38: NDC | E38: Unconditional | F38: Economy-wide | G38: Planned | H38: GHG emissions (incl LULUCF) | I38: -40 | J38: -45 | K38: % | L38: Emissions|Kyoto Gases | M38: -40 | N38: -45 | O38: % | P38: relative | Q38: 2005 | R38: 2030 | S38: 2005 level = ~= 739 MtCO2e based on NDC and NewClimate
A39: ='High impact policies'!A53 -> 0b-CAN-GEN-LTS-50 | B39: Canada | C39: CAN | D39: LTS | E39: Unconditional | F39: Economy-wide | G39: Planned | H39: GHG emissions (incl LULUCF) | I39: -100 | J39: -100 | K39: % | L39: Emissions|Kyoto Gases | M39: -100 | N39: -100 | O39: % | P39: absolute | R39: 2050
A40: ='High impact policies'!A54 -> 1a-CAN-ENE-PPS-30 | B40: Canada | C40: CAN | D40: CurPol | E40: - | F40: Electricity and heat | G40: Implemented | H40: Power plant CO2 emission standards | I40: 420 | J40: 420 | K40: gCO2/KWh | L40: Power plant CO2 emission standards | M40: 420 | N40: 420 | O40: gCO2/KWh | P40: absolute | Q40: 2015 | R40: 2030 | S40: For new power plants
...
