Workbook

Sheet BulkMetals
A1: Year | B1: Origin | C1: Destiny | D1: Mass (ton) | E1: Color | F1: CustomTitle | G1: Exergy through Thermodynamic Rarity (TJ) | H1: Exergy is obtained by multiplying each metal's mass by its Thermodynamic Rarity.
A2: 2020 | B2: Primary extraction | C2: Ag | D2: 60.309195 | E2: #E0CE92 | F2: 2020 | G2: =IFERROR(D2*HLOOKUP(C2,'Rarity (kJ)'!$D$4:$BD$7,4,FALSE),D2*HLOOKUP(B2,'Rarity (kJ)'!$D$4:$BD$7,4,FALSE))/1000 -> 538.98327 | H2: Mass and exergy of each metal obtained through primary extraction and recycling.
A3: 2020 | B3: Recycling | C3: Ag | D3: 1.5799051 | E3: #95E6F5 | F3: 2020 | G3: =IFERROR(D3*HLOOKUP(C3,'Rarity (kJ)'!$D$4:$BD$7,4,FALSE),D3*HLOOKUP(B3,'Rarity (kJ)'!$D$4:$BD$7,4,FALSE))/1000 -> 14.119612
A4: 2020 | B4: Primary extraction | C4: Au | D4: 0.91849748 | E4: #E0CE92 | F4: 2020 | G4: =IFERROR(D4*HLOOKUP(C4,'Rarity (kJ)'!$D$4:$BD$7,4,FALSE),D4*HLOOKUP(B4,'Rarity (kJ)'!$D$4:$BD$7,4,FALSE))/1000 -> 601.32469
A5: 2020 | B5: Recycling | C5: Au | D5: 0.14716662 | E5: #95E6F5 | F5: 2020 | G5: =IFERROR(D5*HLOOKUP(C5,'Rarity (kJ)'!$D$4:$BD$7,4,FALSE),D5*HLOOKUP(B5,'Rarity (kJ)'!$D$4:$BD$7,4,FALSE))/1000 -> 96.347483
A6: 2020 | B6: Primary extraction | C6: Co | D6: 654.40711 | E6: #E0CE92 | F6: 2020 | G6: =IFERROR(D6*HLOOKUP(C6,'Rarity (kJ)'!$D$4:$BD$7,4,FALSE),D6*HLOOKUP(B6,'Rarity (kJ)'!$D$4:$BD$7,4,FALSE))/1000 -> 7205.0223
A7: 2020 | B7: Recycling | C7: Co | D7: 174.27417 | E7: #95E6F5 | F7: 2020 | G7: =IFERROR(D7*HLOOKUP(C7,'Rarity (kJ)'!$D$4:$BD$7,4,FALSE),D7*HLOOKUP(B7,'Rarity (kJ)'!$D$4:$BD$7,4,FALSE))/1000 -> 1918.7586
A8: 2020 | B8: Primary extraction | C8: Li | D8: 301.89891 | E8: #E0CE92 | F8: 2020 | G8: =IFERROR(D8*HLOOKUP(C8,'Rarity (kJ)'!$D$4:$BD$7,4,FALSE),D8*HLOOKUP(B8,'Rarity (kJ)'!$D$4:$BD$7,4,FALSE))/1000 -> 295.25713
A9: 2020 | B9: Recycling | C9: Li | D9: 0 | E9: #95E6F5 | F9: 2020 | G9: =IFERROR(D9*HLOOKUP(C9,'Rarity (kJ)'!$D$4:$BD$7,4,FALSE),D9*HLOOKUP(B9,'Rarity (kJ)'!$D$4:$BD$7,4,FALSE))/1000 -> 0
A10: 2020 | B10: Primary extraction | C10: Nd + Dy | D10: 147.63174 | E10: #E0CE92 | F10: 2020 | G10: =IFERROR(D10*HLOOKUP(C10,'Rarity (kJ)'!$D$4:$BD$7,4,FALSE),D10*HLOOKUP(B10,'Rarity (kJ)'!$D$4:$BD$7,4,FALSE))/1000 -> 103.48985
A11: 2020 | B11: Recycling | C11: Nd + Dy | D11: 3.1779757 | E11: #95E6F5 | F11: 2020 | G11: =IFERROR(D11*HLOOKUP(C11,'Rarity (kJ)'!$D$4:$BD$7,4,FALSE),D11*HLOOKUP(B11,'Rarity (kJ)'!$D$4:$BD$7,4,FALSE))/1000 -> 2.227761
A12: 2020 | B12: Primary extraction | C12: Pd + Pt | D12: 0 | E12: #E0CE92 | F12: 2020 | G12: =IFERROR(D12*HLOOKUP(C12,'Rarity (kJ)'!$D$4:$BD$7,4,FALSE),D12*HLOOKUP(B12,'Rarity (kJ)'!$D$4:$BD$7,4,FALSE))/1000 -> 0
A13: 2020 | B13: Recycling | C13: Pd + Pt | D13: 0.23061406 | E13: #95E6F5 | F13: 2020 | G13: =IFERROR(D13*HLOOKUP(C13,'Rarity (kJ)'!$D$4:$BD$7,4,FALSE),D13*HLOOKUP(B13,'Rarity (kJ)'!$D$4:$BD$7,4,FALSE))/1000 -> 661.86538
A14: 2020 | B14: Ag | C14: Photovoltaic | D14: 53.299365 | E14: #F77051 | F14: 2020 | G14: =IFERROR(D14*HLOOKUP(C14,'Rarity (kJ)'!$D$4:$BD$7,4,FALSE),D14*HLOOKUP(B14,'Rarity (kJ)'!$D$4:$BD$7,4,FALSE))/1000 -> 476.33642 | H14: Demand of mass and exergy of emtals used for each technology.
A15: 2020 | B15: Ag | C15: Wind | D15: 0 | E15: #F77051 | F15: 2020 | G15: =IFERROR(D15*HLOOKUP(C15,'Rarity (kJ)'!$D$4:$BD$7,4,FALSE),D15*HLOOKUP(B15,'Rarity (kJ)'!$D$4:$BD$7,4,FALSE))/1000 -> 0
A16: 2020 | B16: Ag | C16: Electrolyzers | D16: 0 | E16: #F77051 | F16: 2020 | G16: =IFERROR(D16*HLOOKUP(C16,'Rarity (kJ)'!$D$4:$BD$7,4,FALSE),D16*HLOOKUP(B16,'Rarity (kJ)'!$D$4:$BD$7,4,FALSE))/1000 -> 0
A17: 2020 | B17: Ag | C17: Substations and power lines | D17: 0 | E17: #F77051 | F17: 2020 | G17: =IFERROR(D17*HLOOKUP(C17,'Rarity (kJ)'!$D$4:$BD$7,4,FALSE),D17*HLOOKUP(B17,'Rarity (kJ)'!$D$4:$BD$7,4,FALSE))/1000 -> 0
A18: 2020 | B18: Ag | C18: Electric vehicle charging points | D18: 0 | E18: #F77051 | F18: 2020 | G18: =IFERROR(D18*HLOOKUP(C18,'Rarity (kJ)'!$D$4:$BD$7,4,FALSE),D18*HLOOKUP(B18,'Rarity (kJ)'!$D$4:$BD$7,4,FALSE))/1000 -> 0
A19: 2020 | B19: Ag | C19: Electric passenger car batteries | D19: 0 | E19: #F77051 | F19: 2020 | G19: =IFERROR(D19*HLOOKUP(C19,'Rarity (kJ)'!$D$4:$BD$7,4,FALSE),D19*HLOOKUP(B19,'Rarity (kJ)'!$D$4:$BD$7,4,FALSE))/1000 -> 0
A20: 2020 | B20: Ag | C20: Electric bus batteries | D20: 0 | E20: #F77051 | F20: 2020 | G20: =IFERROR(D20*HLOOKUP(C20,'Rarity (kJ)'!$D$4:$BD$7,4,FALSE),D20*HLOOKUP(B20,'Rarity (kJ)'!$D$4:$BD$7,4,FALSE))/1000 -> 0
A21: 2020 | B21: Ag | C21: Energy storage batteries | D21: 0 | E21: #F77051 | F21: 2020 | G21: =IFERROR(D21*HLOOKUP(C21,'Rarity (kJ)'!$D$4:$BD$7,4,FALSE),D21*HLOOKUP(B21,'Rarity (kJ)'!$D$4:$BD$7,4,FALSE))/1000 -> 0
A22: 2020 | B22: Ag | C22: Electric cars (without battery) | D22: 0.63213811 | E22: #F77051 | F22: 2020 | G22: =IFERROR(D22*HLOOKUP(C22,'Rarity (kJ)'!$D$4:$BD$7,4,FALSE),D22*HLOOKUP(B22,'Rarity (kJ)'!$D$4:$BD$7,4,FALSE))/1000 -> 5.6494183
A23: 2020 | B23: Ag | C23: Electric buses (without battery) | D23: 0.0023156 | E23: #F77051 | F23: 2020 | G23: =IFERROR(D23*HLOOKUP(C23,'Rarity (kJ)'!$D$4:$BD$7,4,FALSE),D23*HLOOKUP(B23,'Rarity (kJ)'!$D$4:$BD$7,4,FALSE))/1000 -> 0.020694517
A24: 2020 | B24: Ag | C24: Electrical and electronic devices | D24: 7.9552813 | E24: #F77051 | F24: 2020 | G24: =IFERROR(D24*HLOOKUP(C24,'Rarity (kJ)'!$D$4:$BD$7,4,FALSE),D24*HLOOKUP(B24,'Rarity (kJ)'!$D$4:$BD$7,4,FALSE))/1000 -> 71.096349
A25: 2020 | B25: Au | C25: Photovoltaic | D25: 0 | E25: #D5C509 | F25: 2020 | G25: =IFERROR(D25*HLOOKUP(C25,'Rarity (kJ)'!$D$4:$BD$7,4,FALSE),D25*HLOOKUP(B25,'Rarity (kJ)'!$D$4:$BD$7,4,FALSE))/1000 -> 0
A26: 2020 | B26: Au | C26: Wind | D26: 0 | E26: #D5C509 | F26: 2020 | G26: =IFERROR(D26*HLOOKUP(C26,'Rarity (kJ)'!$D$4:$BD$7,4,FALSE),D26*HLOOKUP(B26,'Rarity (kJ)'!$D$4:$BD$7,4,FALSE))/1000 -> 0
... A79: 2020 | B79: Pd + Pt | C79: Electrical and electronic devices | D79: 0.18629336 | E79: #8280F2 | F79: 2020 | G79: =IFERROR(D79*HLOOKUP(C79,'Rarity (kJ)'!$D$4:$BD$7,4,FALSE),D79*HLOOKUP(B79,'Rarity (kJ)'!$D$4:$BD$7,4,FALSE))/1000 -> 534.66438
A80: 2020 | B80: Photovoltaic | C80: Renewable electricity | D80: 53.299365 | E80: #E0E080 | F80: 2020 | G80: =SUMIF(C36:C79,B80,G36:G79) -> 0
A81: 2020 | B81: Wind | C81: Renewable electricity | D81: 78.855502 | E81: #E0E080 | F81: 2020 | G81: =SUMIF(C36:C79,B81,G36:G79) -> 55.277707
A82: 2020 | B82: Electrolyzers | C82: Green hydrogen | D82: 0 | E82: #E0AF43 | F82: 2020 | G82: =SUMIF(C36:C79,B82,G36:G79) -> 0
A83: 2020 | B83: Substations and power lines | C83: Electrical infrastructure | D83: 0 | E83: #E06638 | F83: 2020 | G83: =SUMIF(C36:C79,B83,G36:G79) -> 0
A84: 2020 | B84: Electric vehicle charging points | C84: Electrical infrastructure | D84: 0 | E84: #E06638 | F84: 2020 | G84: =SUMIF(C36:C79,B84,G36:G79) -> 0
A85: 2020 | B85: Electric passenger car batteries | C85: Electric mobility | D85: 282.79383 | E85: #5AE0C6 | F85: 2020 | G85: =SUMIF(C36:C79,B85,G36:G79) -> 1901.3011
A86: 2020 | B86: Electric bus batteries | C86: Electric mobility | D86: 2.58 | E86: #5AE0C6 | F86: 2020 | G86: =SUMIF(C36:C79,B86,G36:G79) -> 12.00348
A87: 2020 | B87: Energy storage batteries | C87: Grid energy storage | D87: 356.57391 | E87: #F8BA8C | F87: 2020 | G87: =SUMIF(C36:C79,B87,G36:G79) -> 2424.6567
A88: 2020 | B88: Electric cars (without battery) | C88: Electric mobility | D88: 20.143818 | E88: #5AE0C6 | F88: 2020 | G88: =SUMIF(C36:C79,B88,G36:G79) -> 45.264079
A89: 2020 | B89: Electric buses (without battery) | C89: Electric mobility | D89: 0.0715476 | E89: #5AE0C6 | F89: 2020 | G89: =SUMIF(C36:C79,B89,G36:G79) -> 0.19861855
A90: 2020 | B90: Electrical and electronic devices | C90: Digital technologies | D90: 550.22177 | E90: #1C942E | F90: 2020 | G90: =SUMIF(C36:C79,B90,G36:G79) -> 5645.9154
A91: 2021 | B91: Primary extraction | C91: Ag | D91: 68.581999 | E91: #E0CE92 | F91: 2021 | G91: =IFERROR(D91*HLOOKUP(C91,'Rarity (kJ)'!$D$4:$BD$7,4,FALSE),D91*HLOOKUP(B91,'Rarity (kJ)'!$D$4:$BD$7,4,FALSE))/1000 -> 612.91733
A92: 2021 | B92: Recycling | C92: Ag | D92: 2.200124 | E92: #95E6F5 | F92: 2021 | G92: =IFERROR(D92*HLOOKUP(C92,'Rarity (kJ)'!$D$4:$BD$7,4,FALSE),D92*HLOOKUP(B92,'Rarity (kJ)'!$D$4:$BD$7,4,FALSE))/1000 -> 19.662508
A93: 2021 | B93: Primary extraction | C93: Au | D93: 0.97605597 | E93: #E0CE92 | F93: 2021 | G93: =IFERROR(D93*HLOOKUP(C93,'Rarity (kJ)'!$D$4:$BD$7,4,FALSE),D93*HLOOKUP(B93,'Rarity (kJ)'!$D$4:$BD$7,4,FALSE))/1000 -> 639.00725
A94: 2021 | B94: Recycling | C94: Au | D94: 0.18576552 | E94: #95E6F5 | F94: 2021 | G94: =IFERROR(D94*HLOOKUP(C94,'Rarity (kJ)'!$D$4:$BD$7,4,FALSE),D94*HLOOKUP(B94,'Rarity (kJ)'!$D$4:$BD$7,4,FALSE))/1000 -> 121.61753
A95: 2021 | B95: Primary extraction | C95: Co | D95: 1114.7405 | E95: #E0CE92 | F95: 2021 | G95: =IFERROR(D95*HLOOKUP(C95,'Rarity (kJ)'!$D$4:$BD$7,4,FALSE),D95*HLOOKUP(B95,'Rarity (kJ)'!$D$4:$BD$7,4,FALSE))/1000 -> 12273.293
A96: 2021 | B96: Recycling | C96: Co | D96: 201.60658 | E96: #95E6F5 | F96: 2021 | G96: =IFERROR(D96*HLOOKUP(C96,'Rarity (kJ)'!$D$4:$BD$7,4,FALSE),D96*HLOOKUP(B96,'Rarity (kJ)'!$D$4:$BD$7,4,FALSE))/1000 -> 2219.6884
A97: 2021 | B97: Primary extraction | C97: Li | D97: 638.10627 | E97: #E0CE92 | F97: 2021 | G97: =IFERROR(D97*HLOOKUP(C97,'Rarity (kJ)'!$D$4:$BD$7,4,FALSE),D97*HLOOKUP(B97,'Rarity (kJ)'!$D$4:$BD$7,4,FALSE))/1000 -> 624.06794
A98: 2021 | B98: Recycling | C98: Li | D98: 10.12905 | E98: #95E6F5 | F98: 2021 | G98: =IFERROR(D98*HLOOKUP(C98,'Rarity (kJ)'!$D$4:$BD$7,4,FALSE),D98*HLOOKUP(B98,'Rarity (kJ)'!$D$4:$BD$7,4,FALSE))/1000 -> 9.906211
A99: 2021 | B99: Primary extraction | C99: Nd + Dy | D99: 118.10595 | E99: #E0CE92 | F99: 2021 | G99: =IFERROR(D99*HLOOKUP(C99,'Rarity (kJ)'!$D$4:$BD$7,4,FALSE),D99*HLOOKUP(B99,'Rarity (kJ)'!$D$4:$BD$7,4,FALSE))/1000 -> 82.792269
A100: 2021 | B100: Recycling | C100: Nd + Dy | D100: 5.3965802 | E100: #95E6F5 | F100: 2021 | G100: =IFERROR(D100*HLOOKUP(C100,'Rarity (kJ)'!$D$4:$BD$7,4,FALSE),D100*HLOOKUP(B100,'Rarity (kJ)'!$D$4:$BD$7,4,FALSE))/1000 -> 3.7830027
A101: 2021 | B101: Primary extraction | C101: Pd + Pt | D101: 0 | E101: #E0CE92 | F101: 2021 | G101: =IFERROR(D101*HLOOKUP(C101,'Rarity (kJ)'!$D$4:$BD$7,4,FALSE),D101*HLOOKUP(B101,'Rarity (kJ)'!$D$4:$BD$7,4,FALSE))/1000 -> 0
A102: 2021 | B102: Recycling | C102: Pd + Pt | D102: 0.23309367 | E102: #95E6F5 | F102: 2021 | G102: =IFERROR(D102*HLOOKUP(C102,'Rarity (kJ)'!$D$4:$BD$7,4,FALSE),D102*HLOOKUP(B102,'Rarity (kJ)'!$D$4:$BD$7,4,FALSE))/1000 -> 668.98189
... A168: 2021 | B168: Pd + Pt | C168: Electrical and electronic devices | D168: 0.20438927 | E168: #8280F2 | F168: 2021 | G168: =IFERROR(D168*HLOOKUP(C168,'Rarity (kJ)'!$D$4:$BD$7,4,FALSE),D168*HLOOKUP(B168,'Rarity (kJ)'!$D$4:$BD$7,4,FALSE))/1000 -> 586.59989
A169: 2021 | B169: Photovoltaic | C169: Renewable electricity | D169: 61.1382 | E169: #E0E080 | F169: 2021 | G169: =SUMIF(C125:C168,B169,G125:G168) -> 0
A170: 2021 | B170: Wind | C170: Renewable electricity | D170: 40.198324 | E170: #E0E080 | F170: 2021 | G170: =SUMIF(C125:C168,B170,G125:G168) -> 28.179025
A171: 2021 | B171: Electrolyzers | C171: Green hydrogen | D171: 0 | E171: #E0AF43 | F171: 2021 | G171: =SUMIF(C125:C168,B171,G125:G168) -> 0
A172: 2021 | B172: Substations and power lines | C172: Electrical infrastructure | D172: 0 | E172: #E06638 | F172: 2021 | G172: =SUMIF(C125:C168,B172,G125:G168) -> 0
A173: 2021 | B173: Electric vehicle charging points | C173: Electrical infrastructure | D173: 0 | E173: #E06638 | F173: 2021 | G173: =SUMIF(C125:C168,B173,G125:G168) -> 0
A174: 2021 | B174: Electric passenger car batteries | C174: Electric mobility | D174: 361.80741 | E174: #5AE0C6 | F174: 2021 | G174: =SUMIF(C125:C168,B174,G125:G168) -> 2394.9879
A175: 2021 | B175: Electric bus batteries | C175: Electric mobility | D175: 7.8372753 | E175: #5AE0C6 | F175: 2021 | G175: =SUMIF(C125:C168,B175,G125:G168) -> 36.540851
A176: 2021 | B176: Energy storage batteries | C176: Grid energy storage | D176: 1062.2838 | E176: #F8BA8C | F176: 2021 | G176: =SUMIF(C125:C168,B176,G125:G168) -> 7148.8123
A177: 2021 | B177: Electric cars (without battery) | C177: Electric mobility | D177: 26.769304 | E177: #5AE0C6 | F177: 2021 | G177: =SUMIF(C125:C168,B177,G125:G168) -> 60.151848
A178: 2021 | B178: Electric buses (without battery) | C178: Electric mobility | D178: 0.21106542 | E178: #5AE0C6 | F178: 2021 | G178: =SUMIF(C125:C168,B178,G125:G168) -> 0.58592473
A179: 2021 | B179: Electrical and electronic devices | C179: Digital technologies | D179: 599.99967 | E179: #1C942E | F179: 2021 | G179: =SUMIF(C125:C168,B179,G125:G168) -> 6164.4863
A180: 2022 | B180: Primary extraction | C180: Ag | D180: 82.046347 | E180: #E0CE92 | F180: 2022 | G180: =IFERROR(D180*HLOOKUP(C180,'Rarity (kJ)'!$D$4:$BD$7,4,FALSE),D180*HLOOKUP(B180,'Rarity (kJ)'!$D$4:$BD$7,4,FALSE))/1000 -> 733.2482
A181: 2022 | B181: Recycling | C181: Ag | D181: 2.9196187 | E181: #95E6F5 | F181: 2022 | G181: =IFERROR(D181*HLOOKUP(C181,'Rarity (kJ)'!$D$4:$BD$7,4,FALSE),D181*HLOOKUP(B181,'Rarity (kJ)'!$D$4:$BD$7,4,FALSE))/1000 -> 26.092633
A182: 2022 | B182: Primary extraction | C182: Au | D182: 0.96066725 | E182: #E0CE92 | F182: 2022 | G182: =IFERROR(D182*HLOOKUP(C182,'Rarity (kJ)'!$D$4:$BD$7,4,FALSE),D182*HLOOKUP(B182,'Rarity (kJ)'!$D$4:$BD$7,4,FALSE))/1000 -> 628.93252
A183: 2022 | B183: Recycling | C183: Au | D183: 0.2251119 | E183: #95E6F5 | F183: 2022 | G183: =IFERROR(D183*HLOOKUP(C183,'Rarity (kJ)'!$D$4:$BD$7,4,FALSE),D183*HLOOKUP(B183,'Rarity (kJ)'!$D$4:$BD$7,4,FALSE))/1000 -> 147.37693
A184: 2022 | B184: Primary extraction | C184: Co | D184: 1082.941 | E184: #E0CE92 | F184: 2022 | G184: =IFERROR(D184*HLOOKUP(C184,'Rarity (kJ)'!$D$4:$BD$7,4,FALSE),D184*HLOOKUP(B184,'Rarity (kJ)'!$D$4:$BD$7,4,FALSE))/1000 -> 11923.181
A185: 2022 | B185: Recycling | C185: Co | D185: 229.10154 | E185: #95E6F5 | F185: 2022 | G185: =IFERROR(D185*HLOOKUP(C185,'Rarity (kJ)'!$D$4:$BD$7,4,FALSE),D185*HLOOKUP(B185,'Rarity (kJ)'!$D$4:$BD$7,4,FALSE))/1000 -> 2522.4079
A186: 2022 | B186: Primary extraction | C186: Li | D186: 638.34232 | E186: #E0CE92 | F186: 2022 | G186: =IFERROR(D186*HLOOKUP(C186,'Rarity (kJ)'!$D$4:$BD$7,4,FALSE),D186*HLOOKUP(B186,'Rarity (kJ)'!$D$4:$BD$7,4,FALSE))/1000 -> 624.29879
A187: 2022 | B187: Recycling | C187: Li | D187: 21.626774 | E187: #95E6F5 | F187: 2022 | G187: =IFERROR(D187*HLOOKUP(C187,'Rarity (kJ)'!$D$4:$BD$7,4,FALSE),D187*HLOOKUP(B187,'Rarity (kJ)'!$D$4:$BD$7,4,FALSE))/1000 -> 21.150985
A188: 2022 | B188: Primary extraction | C188: Nd + Dy | D188: 156.97197 | E188: #E0CE92 | F188: 2022 | G188: =IFERROR(D188*HLOOKUP(C188,'Rarity (kJ)'!$D$4:$BD$7,4,FALSE),D188*HLOOKUP(B188,'Rarity (kJ)'!$D$4:$BD$7,4,FALSE))/1000 -> 110.03735
A189: 2022 | B189: Recycling | C189: Nd + Dy | D189: 7.7785743 | E189: #95E6F5 | F189: 2022 | G189: =IFERROR(D189*HLOOKUP(C189,'Rarity (kJ)'!$D$4:$BD$7,4,FALSE),D189*HLOOKUP(B189,'Rarity (kJ)'!$D$4:$BD$7,4,FALSE))/1000 -> 5.4527806
A190: 2022 | B190: Primary extraction | C190: Pd + Pt | D190: 0.032817283 | E190: #E0CE92 | F190: 2022 | G190: =IFERROR(D190*HLOOKUP(C190,'Rarity (kJ)'!$D$4:$BD$7,4,FALSE),D190*HLOOKUP(B190,'Rarity (kJ)'!$D$4:$BD$7,4,FALSE))/1000 -> 94.186032
A191: 2022 | B191: Recycling | C191: Pd + Pt | D191: 0.2472906 | E191: #95E6F5 | F191: 2022 | G191: =IFERROR(D191*HLOOKUP(C191,'Rarity (kJ)'!$D$4:$BD$7,4,FALSE),D191*HLOOKUP(B191,'Rarity (kJ)'!$D$4:$BD$7,4,FALSE))/1000 -> 709.72726
... A257: 2022 | B257: Pd + Pt | C257: Electrical and electronic devices | D257: 0.2077839 | E257: #8280F2 | F257: 2022 | G257: =IFERROR(D257*HLOOKUP(C257,'Rarity (kJ)'!$D$4:$BD$7,4,FALSE),D257*HLOOKUP(B257,'Rarity (kJ)'!$D$4:$BD$7,4,FALSE))/1000 -> 596.34252
A258: 2022 | B258: Photovoltaic | C258: Renewable electricity | D258: 75.135032 | E258: #E0E080 | F258: 2022 | G258: =SUMIF(C214:C257,B258,G214:G257) -> 0
A259: 2022 | B259: Wind | C259: Renewable electricity | D259: 79.028645 | E259: #E0E080 | F259: 2022 | G259: =SUMIF(C214:C257,B259,G214:G257) -> 55.39908
A260: 2022 | B260: Electrolyzers | C260: Green hydrogen | D260: 0.05989599 | E260: #E0AF43 | F260: 2022 | G260: =SUMIF(C214:C257,B260,G214:G257) -> 171.90228
A261: 2022 | B261: Substations and power lines | C261: Electrical infrastructure | D261: 0 | E261: #E06638 | F261: 2022 | G261: =SUMIF(C214:C257,B261,G214:G257) -> 0
A262: 2022 | B262: Electric vehicle charging points | C262: Electrical infrastructure | D262: 0 | E262: #E06638 | F262: 2022 | G262: =SUMIF(C214:C257,B262,G214:G257) -> 0
A263: 2022 | B263: Electric passenger car batteries | C263: Electric mobility | D263: 368.85614 | E263: #5AE0C6 | F263: 2022 | G263: =SUMIF(C214:C257,B263,G214:G257) -> 2399.2892
A264: 2022 | B264: Electric bus batteries | C264: Electric mobility | D264: 8.3062788 | E264: #5AE0C6 | F264: 2022 | G264: =SUMIF(C214:C257,B264,G214:G257) -> 38.810133
A265: 2022 | B265: Energy storage batteries | C265: Grid energy storage | D265: 1052.133 | E265: #F8BA8C | F265: 2022 | G265: =SUMIF(C214:C257,B265,G214:G257) -> 7001.8763
A266: 2022 | B266: Electric cars (without battery) | C266: Electric mobility | D266: 28.412013 | E266: #5AE0C6 | F266: 2022 | G266: =SUMIF(C214:C257,B266,G214:G257) -> 63.843091
A267: 2022 | B267: Electric buses (without battery) | C267: Electric mobility | D267: 0.21746311 | E267: #5AE0C6 | F267: 2022 | G267: =SUMIF(C214:C257,B267,G214:G257) -> 0.60368492
A268: 2022 | B268: Electrical and electronic devices | C268: Digital technologies | D268: 611.0456 | E268: #1C942E | F268: 2022 | G268: =SUMIF(C214:C257,B268,G214:G257) -> 6278.718
A269: 2023 | B269: Primary extraction | C269: Ag | D269: 119.74143 | E269: #E0CE92 | F269: 2023 | G269: =IFERROR(D269*HLOOKUP(C269,'Rarity (kJ)'!$D$4:$BD$7,4,FALSE),D269*HLOOKUP(B269,'Rarity (kJ)'!$D$4:$BD$7,4,FALSE))/1000 -> 1070.1292
A270: 2023 | B270: Recycling | C270: Ag | D270: 3.7138682 | E270: #95E6F5 | F270: 2023 | G270: =IFERROR(D270*HLOOKUP(C270,'Rarity (kJ)'!$D$4:$BD$7,4,FALSE),D270*HLOOKUP(B270,'Rarity (kJ)'!$D$4:$BD$7,4,FALSE))/1000 -> 33.19084
A271: 2023 | B271: Primary extraction | C271: Au | D271: 1.1472328 | E271: #E0CE92 | F271: 2023 | G271: =IFERROR(D271*HLOOKUP(C271,'Rarity (kJ)'!$D$4:$BD$7,4,FALSE),D271*HLOOKUP(B271,'Rarity (kJ)'!$D$4:$BD$7,4,FALSE))/1000 -> 751.07382
A272: 2023 | B272: Recycling | C272: Au | D272: 0.26415755 | E272: #95E6F5 | F272: 2023 | G272: =IFERROR(D272*HLOOKUP(C272,'Rarity (kJ)'!$D$4:$BD$7,4,FALSE),D272*HLOOKUP(B272,'Rarity (kJ)'!$D$4:$BD$7,4,FALSE))/1000 -> 172.93945
A273: 2023 | B273: Primary extraction | C273: Co | D273: 1671.1726 | E273: #E0CE92 | F273: 2023 | G273: =IFERROR(D273*HLOOKUP(C273,'Rarity (kJ)'!$D$4:$BD$7,4,FALSE),D273*HLOOKUP(B273,'Rarity (kJ)'!$D$4:$BD$7,4,FALSE))/1000 -> 18399.61
A274: 2023 | B274: Recycling | C274: Co | D274: 257.12353 | E274: #95E6F5 | F274: 2023 | G274: =IFERROR(D274*HLOOKUP(C274,'Rarity (kJ)'!$D$4:$BD$7,4,FALSE),D274*HLOOKUP(B274,'Rarity (kJ)'!$D$4:$BD$7,4,FALSE))/1000 -> 2830.9301
A275: 2023 | B275: Primary extraction | C275: Li | D275: 1176.0051 | E275: #E0CE92 | F275: 2023 | G275: =IFERROR(D275*HLOOKUP(C275,'Rarity (kJ)'!$D$4:$BD$7,4,FALSE),D275*HLOOKUP(B275,'Rarity (kJ)'!$D$4:$BD$7,4,FALSE))/1000 -> 1150.133
A276: 2023 | B276: Recycling | C276: Li | D276: 34.612522 | E276: #95E6F5 | F276: 2023 | G276: =IFERROR(D276*HLOOKUP(C276,'Rarity (kJ)'!$D$4:$BD$7,4,FALSE),D276*HLOOKUP(B276,'Rarity (kJ)'!$D$4:$BD$7,4,FALSE))/1000 -> 33.851047
A277: 2023 | B277: Primary extraction | C277: Nd + Dy | D277: 404.65909 | E277: #E0CE92 | F277: 2023 | G277: =IFERROR(D277*HLOOKUP(C277,'Rarity (kJ)'!$D$4:$BD$7,4,FALSE),D277*HLOOKUP(B277,'Rarity (kJ)'!$D$4:$BD$7,4,FALSE))/1000 -> 283.66602
A278: 2023 | B278: Recycling | C278: Nd + Dy | D278: 10.331954 | E278: #95E6F5 | F278: 2023 | G278: =IFERROR(D278*HLOOKUP(C278,'Rarity (kJ)'!$D$4:$BD$7,4,FALSE),D278*HLOOKUP(B278,'Rarity (kJ)'!$D$4:$BD$7,4,FALSE))/1000 -> 7.2426997
A279: 2023 | B279: Primary extraction | C279: Pd + Pt | D279: 0.12354585 | E279: #E0CE92 | F279: 2023 | G279: =IFERROR(D279*HLOOKUP(C279,'Rarity (kJ)'!$D$4:$BD$7,4,FALSE),D279*HLOOKUP(B279,'Rarity (kJ)'!$D$4:$BD$7,4,FALSE))/1000 -> 354.5782
A280: 2023 | B280: Recycling | C280: Pd + Pt | D280: 0.26220713 | E280: #95E6F5 | F280: 2023 | G280: =IFERROR(D280*HLOOKUP(C280,'Rarity (kJ)'!$D$4:$BD$7,4,FALSE),D280*HLOOKUP(B280,'Rarity (kJ)'!$D$4:$BD$7,4,FALSE))/1000 -> 752.53789
... A346: 2023 | B346: Pd + Pt | C346: Electrical and electronic devices | D346: 0.21125461 | E346: #8280F2 | F346: 2023 | G346: =IFERROR(D346*HLOOKUP(C346,'Rarity (kJ)'!$D$4:$BD$7,4,FALSE),D346*HLOOKUP(B346,'Rarity (kJ)'!$D$4:$BD$7,4,FALSE))/1000 -> 606.30349
A347: 2023 | B347: Photovoltaic | C347: Renewable electricity | D347: 110.54075 | E347: #E0E080 | F347: 2023 | G347: =SUMIF(C303:C346,B347,G303:G346) -> 0
...

Sheet Rarity (kJ)
B4: Element | C4: Unit | D4: Ag | E4: Al | F4: As | G4: Au | H4: Ba | I4: Be | J4: Bi | K4: Cd | L4: Ce | M4: Co | N4: Cr | O4: Cu | P4: Dy | Q4: Er | R4: Eu | S4: Fe | T4: Ga | U4: Gd | V4: Ge | W4: Hf | X4: Hg | Y4: In | Z4: Ir | AA4: La | AB4: Li | AC4: Mg | AD4: Mn | AE4: Mo | AF4: Nb | AG4: Nd | AH4: Ni | AI4: Pb | AJ4: Pd | AK4: Pr | AL4: Pt | AM4: Rh | AN4: Ru | AO4: Sb | AP4: Sm | AQ4: Sn | AR4: Ta | AS4: Tb | AT4: Te | AU4: Ti | AV4: U | AW4: V | AX4: W | AY4: Y | AZ4: Yb | BA4: Zn | BB4: Zr | BC4: Nd + Dy | BD4: Pd + Pt
B5: Embodied Exergy | C5: kJ/g | D5: 1566 | E5: 34 | F5: 28 | G5: 108626 | H5: 1 | I5: 457.2 | J5: 56.4 | K5: 542.4 | L5: 523 | M5: 138 | N5: 36.4 | O5: 56.7 | P5: 384 | Q5: 384 | R5: 384 | S5: 14 | T5: 610000 | U5: 3607 | V5: 498 | W5: 0 | X5: 409 | Y5: 3320 | AA5: 297 | AB5: 432 | AD5: 57 | AE5: 148 | AF5: 360 | AG5: 592 | AH5: 234 | AI5: 4 | AK5: 296 | AM5: 156 | AO5: 13.4 | AP5: 384 | AQ5: 26.6 | AR5: 3083 | AS5: 384 | AT5: 589405.3 | AU5: 196.45 | AV5: 188.8 | AW5: 517 | AX5: 594 | AY5: 1198 | AZ5: 384 | BA5: 41.9 | BB5: 1371.5
B6: Exergy Replacement Cost | C6: kJ/g | D6: 7371 | E6: 627 | F6: 399.84 | G6: 546057 | H6: 38.34 | I6: 252.73 | J6: 489.22 | K6: 5898 | L6: 97 | M6: 10872 | N6: 4.5 | O6: 291.7 | P6: 348 | Q6: 348 | R6: 348 | S6: 18 | T6: 144828 | U6: 478 | V6: 23749 | W6: 32364.36 | X6: 28298 | Y6: 360598 | Z6: 2870013.1 | AA6: 39 | AB6: 546 | AC6: 145.73 | AD6: 16 | AE6: 908 | AF6: 4422 | AG6: 78 | AH6: 524 | AI6: 37 | AJ6: 2870013.1 | AK6: 577 | AL6: 2870013.1 | AM6: 102931 | AN6: 2870013.1 | AO6: 474.49 | AP6: 348 | AQ6: 426.35 | AR6: 482828 | AS6: 348 | AT6: 2235699 | AU6: 6.665 | AV6: 901.4 | AW6: 1055 | AX6: 7429 | AY6: 159 | AZ6: 348 | BA6: 155.03 | BB6: 654.43
B7: Rarity | C7: kJ/g | D7: 8937 | E7: 661 | F7: 427.84 | G7: 654683 | H7: 39.34 | I7: 709.93 | J7: 545.62 | K7: 6440.4 | L7: 620 | M7: 11010 | N7: 40.9 | O7: 348.4 | P7: 732 | Q7: 732 | R7: 732 | S7: 32 | T7: 754828 | U7: 4085 | V7: 24247 | W7: 32364.36 | X7: 28707 | Y7: 363918 | Z7: 2870013.1 | AA7: 336 | AB7: 978 | AC7: 145.73 | AD7: 73 | AE7: 1056 | AF7: 4782 | AG7: 670 | AH7: 758 | AI7: 41 | AJ7: 2870013.1 | AK7: 873 | AL7: 2870013.1 | AM7: 103087 | AN7: 2870013.1 | AO7: 487.89 | AP7: 732 | AQ7: 452.95 | AR7: 485911 | AS7: 732 | AT7: 2825104.3 | AU7: 203.115 | AV7: 1090.2 | AW7: 1572 | AX7: 8023 | AY7: 1357 | AZ7: 732 | BA7: 196.93 | BB7: 2025.93 | BC7: =AVERAGE(P7,AG7) -> 701 | BD7: =AVERAGE(AL7,AJ7) -> 2870013.1
