Workbook

Sheet BulkMetals
A1: Year | B1: Origin | C1: Destiny | D1: Mass (ton) | E1: Color | F1: CustomTitle | G1: Exergy through Thermodynamic Rarity (TJ) | H1: Exergy is obtained by multiplying each metal's mass by its Thermodynamic Rarity.
A2: 2020 | B2: Primary extraction | C2: Ag | D2: 60.309195 | E2: #E0CE92 | F2: 2020 | G2: =IFERROR(D2*HLOOKUP(C2,'Rarity (kJ)'!$D$4:$BD$7,4,FALSE),D2*HLOOKUP(B2,'Rarity (kJ)'!$D$4:$BD$7,4,FALSE))/1000 -> 538.98327 | H2: Mass and exergy of each metal obtained through primary extraction and recycling.
A3: 2020 | B3: Recycling | C3: Ag | D3: 1.5799051 | E3: #95E6F5 | F3: 2020 | G3: =IFERROR(D3*HLOOKUP(C3,'Rarity (kJ)'!$D$4:$BD$7,4,FALSE),D3*HLOOKUP(B3,'Rarity (kJ)'!$D$4:$BD$7,4,FALSE))/1000 -> 14.119612
A4: 2020 | B4: Primary extraction | C4: Au | D4: 0.91849748 | E4: #E0CE92 | F4: 2020 | G4: =IFERROR(D4*HLOOKUP(C4,'Rarity (kJ)'!$D$4:$BD$7,4,FALSE),D4*HLOOKUP(B4,'Rarity (kJ)'!$D$4:$BD$7,4,FALSE))/1000 -> 601.32469
A5: 2020 | B5: Recycling | C5: Au | D5: 0.14716662 | E5: #95E6F5 | F5: 2020 | G5: =IFERROR(D5*HLOOKUP(C5,'Rarity (kJ)'!$D$4:$BD$7,4,FALSE),D5*HLOOKUP(B5,'Rarity (kJ)'!$D$4:$BD$7,4,FALSE))/1000 -> 96.347483
A6: 2020 | B6: Primary extraction | C6: Co | D6: 654.40711 | E6: #E0CE92 | F6: 2020 | G6: =IFERROR(D6*HLOOKUP(C6,'Rarity (kJ)'!$D$4:$BD$7,4,FALSE),D6*HLOOKUP(B6,'Rarity (kJ)'!$D$4:$BD$7,4,FALSE))/1000 -> 7205.0223
A7: 2020 | B7: Recycling | C7: Co | D7: 174.27417 | E7: #95E6F5 | F7: 2020 | G7: =IFERROR(D7*HLOOKUP(C7,'Rarity (kJ)'!$D$4:$BD$7,4,FALSE),D7*HLOOKUP(B7,'Rarity (kJ)'!$D$4:$BD$7,4,FALSE))/1000 -> 1918.7586
A8: 2020 | B8: Primary extraction | C8: Li | D8: 301.89891 | E8: #E0CE92 | F8: 2020 | G8: =IFERROR(D8*HLOOKUP(C8,'Rarity (kJ)'!$D$4:$BD$7,4,FALSE),D8*HLOOKUP(B8,'Rarity (kJ)'!$D$4:$BD$7,4,FALSE))/1000 -> 295.25713
A9: 2020 | B9: Recycling | C9: Li | D9: 0 | E9: #95E6F5 | F9: 2020 | G9: =IFERROR(D9*HLOOKUP(C9,'Rarity (kJ)'!$D$4:$BD$7,4,FALSE),D9*HLOOKUP(B9,'Rarity (kJ)'!$D$4:$BD$7,4,FALSE))/1000 -> 0
A10: 2020 | B10: Primary extraction | C10: Nd + Dy | D10: 147.63174 | E10: #E0CE92 | F10: 2020 | G10: =IFERROR(D10*HLOOKUP(C10,'Rarity (kJ)'!$D$4:$BD$7,4,FALSE),D10*HLOOKUP(B10,'Rarity (kJ)'!$D$4:$BD$7,4,FALSE))/1000 -> 103.48985
A11: 2020 | B11: Recycling | C11: Nd + Dy | D11: 3.1779757 | E11: #95E6F5 | F11: 2020 | G11: =IFERROR(D11*HLOOKUP(C11,'Rarity (kJ)'!$D$4:$BD$7,4,FALSE),D11*HLOOKUP(B11,'Rarity (kJ)'!$D$4:$BD$7,4,FALSE))/1000 -> 2.227761
A12: 2020 | B12: Primary extraction | C12: Pd + Pt | D12: 0 | E12: #E0CE92 | F12: 2020 | G12: =IFERROR(D12*HLOOKUP(C12,'Rarity (kJ)'!$D$4:$BD$7,4,FALSE),D12*HLOOKUP(B12,'Rarity (kJ)'!$D$4:$BD$7,4,FALSE))/1000 -> 0
A13: 2020 | B13: Recycling | C13: Pd + Pt | D13: 0.23061406 | E13: #95E6F5 | F13: 2020 | G13: =IFERROR(D13*HLOOKUP(C13,'Rarity (kJ)'!$D$4:$BD$7,4,FALSE),D13*HLOOKUP(B13,'Rarity (kJ)'!$D$4:$BD$7,4,FALSE))/1000 -> 661.86538
A14: 2020 | B14: Ag | C14: Photovoltaic | D14: 53.299365 | E14: #F77051 | F14: 2020 | G14: =IFERROR(D14*HLOOKUP(C14,'Rarity (kJ)'!$D$4:$BD$7,4,FALSE),D14*HLOOKUP(B14,'Rarity (kJ)'!$D$4:$BD$7,4,FALSE))/1000 -> 476.33642 | H14: Demand of mass and exergy of emtals used for each technology.
A15: 2020 | B15: Ag | C15: Wind | D15: 0 | E15: #F77051 | F15: 2020 | G15: =IFERROR(D15*HLOOKUP(C15,'Rarity (kJ)'!$D$4:$BD$7,4,FALSE),D15*HLOOKUP(B15,'Rarity (kJ)'!$D$4:$BD$7,4,FALSE))/1000 -> 0
A16: 2020 | B16: Ag | C16: Electrolyzers | D16: 0 | E16: #F77051 | F16: 2020 | G16: =IFERROR(D16*HLOOKUP(C16,'Rarity (kJ)'!$D$4:$BD$7,4,FALSE),D16*HLOOKUP(B16,'Rarity (kJ)'!$D$4:$BD$7,4,FALSE))/1000 -> 0
A17: 2020 | B17: Ag | C17: Substations and power lines | D17: 0 | E17: #F77051 | F17: 2020 | G17: =IFERROR(D17*HLOOKUP(C17,'Rarity (kJ)'!$D$4:$BD$7,4,FALSE),D17*HLOOKUP(B17,'Rarity (kJ)'!$D$4:$BD$7,4,FALSE))/1000 -> 0
A18: 2020 | B18: Ag | C18: Electric vehicle charging points | D18: 0 | E18: #F77051 | F18: 2020 | G18: =IFERROR(D18*HLOOKUP(C18,'Rarity (kJ)'!$D$4:$BD$7,4,FALSE),D18*HLOOKUP(B18,'Rarity (kJ)'!$D$4:$BD$7,4,FALSE))/1000 -> 0
A19: 2020 | B19: Ag | C19: Electric passenger car batteries | D19: 0 | E19: #F77051 | F19: 2020 | G19: =IFERROR(D19*HLOOKUP(C19,'Rarity (kJ)'!$D$4:$BD$7,4,FALSE),D19*HLOOKUP(B19,'Rarity (kJ)'!$D$4:$BD$7,4,FALSE))/1000 -> 0
A20: 2020 | B20: Ag | C20: Electric bus batteries | D20: 0 | E20: #F77051 | F20: 2020 | G20: =IFERROR(D20*HLOOKUP(C20,'Rarity (kJ)'!$D$4:$BD$7,4,FALSE),D20*HLOOKUP(B20,'Rarity (kJ)'!$D$4:$BD$7,4,FALSE))/1000 -> 0
A21: 2020 | B21: Ag | C21: Energy storage batteries | D21: 0 | E21: #F77051 | F21: 2020 | G21: =IFERROR(D21*HLOOKUP(C21,'Rarity (kJ)'!$D$4:$BD$7,4,FALSE),D21*HLOOKUP(B21,'Rarity (kJ)'!$D$4:$BD$7,4,FALSE))/1000 -> 0
A22: 2020 | B22: Ag | C22: Electric cars (without battery) | D22: 0.63213811 | E22: #F77051 | F22: 2020 | G22: =IFERROR(D22*HLOOKUP(C22,'Rarity (kJ)'!$D$4:$BD$7,4,FALSE),D22*HLOOKUP(B22,'Rarity (kJ)'!$D$4:$BD$7,4,FALSE))/1000 -> 5.6494183
A23: 2020 | B23: Ag | C23: Electric buses (without battery) | D23: 0.0023156 | E23: #F77051 | F23: 2020 | G23: =IFERROR(D23*HLOOKUP(C23,'Rarity (kJ)'!$D$4:$BD$7,4,FALSE),D23*HLOOKUP(B23,'Rarity (kJ)'!$D$4:$BD$7,4,FALSE))/1000 -> 0.020694517
A24: 2020 | B24: Ag | C24: Electrical and electronic devices | D24: 7.9552813 | E24: #F77051 | F24: 2020 | G24: =IFERROR(D24*HLOOKUP(C24,'Rarity (kJ)'!$D$4:$BD$7,4,FALSE),D24*HLOOKUP(B24,'Rarity (kJ)'!$D$4:$BD$7,4,FALSE))/1000 -> 71.096349
A25: 2020 | B25: Au | C25: Photovoltaic | D25: 0 | E25: #D5C509 | F25: 2020 | G25: =IFERROR(D25*HLOOKUP(C25,'Rarity (kJ)'!$D$4:$BD$7,4,FALSE),D25*HLOOKUP(B25,'Rarity (kJ)'!$D$4:$BD$7,4,FALSE))/1000 -> 0
A26: 2020 | B26: Au | C26: Wind | D26: 0 | E26: #D5C509 | F26: 2020 | G26: =IFERROR(D26*HLOOKUP(C26,'Rarity (kJ)'!$D$4:$BD$7,4,FALSE),D26*HLOOKUP(B26,'Rarity (kJ)'!$D$4:$BD$7,4,FALSE))/1000 -> 0
... A79: 2020 | B79: Pd + Pt | C79: Electrical and electronic devices | D79: 0.18629336 | E79: #8280F2 | F79: 2020 | G79: =IFERROR(D79*HLOOKUP(C79,'Rarity (kJ)'!$D$4:$BD$7,4,FALSE),D79*HLOOKUP(B79,'Rarity (kJ)'!$D$4:$BD$7,4,FALSE))/1000 -> 534.66438
A80: 2020 | B80: Photovoltaic | C80: Renewable electricity | D80: 53.299365 | E80: #E0E080 | F80: 2020 | G80: =SUMIF(C36:C79,B80,G36:G79) -> 0
A81: 2020 | B81: Wind | C81: Renewable electricity | D81: 78.855502 | E81: #E0E080 | F81: 2020 | G81: =SUMIF(C36:C79,B81,G36:G79) -> 55.277707
A82: 2020 | B82: Electrolyzers | C82: Green hydrogen | D82: 0 | E82: #E0AF43 | F82: 2020 | G82: =SUMIF(C36:C79,B82,G36:G79) -> 0
A83: 2020 | B83: Substations and power lines | C83: Electrical infrastructure | D83: 0 | E83: #E06638 | F83: 2020 | G83: =SUMIF(C36:C79,B83,G36:G79) -> 0
A84: 2020 | B84: Electric vehicle charging points | C84: Electrical infrastructure | D84: 0 | E84: #E06638 | F84: 2020 | G84: =SUMIF(C36:C79,B84,G36:G79) -> 0
A85: 2020 | B85: Electric passenger car batteries | C85: Electric mobility | D85: 282.79383 | E85: #5AE0C6 | F85: 2020 | G85: =SUMIF(C36:C79,B85,G36:G79) -> 1901.3011
A86: 2020 | B86: Electric bus batteries | C86: Electric mobility | D86: 2.58 | E86: #5AE0C6 | F86: 2020 | G86: =SUMIF(C36:C79,B86,G36:G79) -> 12.00348
A87: 2020 | B87: Energy storage batteries | C87: Grid energy storage | D87: 356.57391 | E87: #F8BA8C | F87: 2020 | G87: =SUMIF(C36:C79,B87,G36:G79) -> 2424.6567
A88: 2020 | B88: Electric cars (without battery) | C88: Electric mobility | D88: 20.143818 | E88: #5AE0C6 | F88: 2020 | G88: =SUMIF(C36:C79,B88,G36:G79) -> 45.264079
A89: 2020 | B89: Electric buses (without battery) | C89: Electric mobility | D89: 0.0715476 | E89: #5AE0C6 | F89: 2020 | G89: =SUMIF(C36:C79,B89,G36:G79) -> 0.19861855
A90: 2020 | B90: Electrical and electronic devices | C90: Digital technologies | D90: 550.22177 | E90: #1C942E | F90: 2020 | G90: =SUMIF(C36:C79,B90,G36:G79) -> 5645.9154
A91: 2021 | B91: Primary extraction | C91: Ag | D91: 68.581999 | E91: #E0CE92 | F91: 2021 | G91: =IFERROR(D91*HLOOKUP(C91,'Rarity (kJ)'!$D$4:$BD$7,4,FALSE),D91*HLOOKUP(B91,'Rarity (kJ)'!$D$4:$BD$7,4,FALSE))/1000 -> 612.91733
A92: 2021 | B92: Recycling | C92: Ag | D92: 2.200124 | E92: #95E6F5 | F92: 2021 | G92: =IFERROR(D92*HLOOKUP(C92,'Rarity (kJ)'!$D$4:$BD$7,4,FALSE),D92*HLOOKUP(B92,'Rarity (kJ)'!$D$4:$BD$7,4,FALSE))/1000 -> 19.662508
...

Sheet Rarity (kJ)
B4: Element | C4: Unit | D4: Ag | E4: Al | F4: As | G4: Au | H4: Ba | I4: Be | J4: Bi | K4: Cd | L4: Ce | M4: Co | N4: Cr | O4: Cu | P4: Dy | Q4: Er | R4: Eu | S4: Fe | T4: Ga | U4: Gd | V4: Ge | W4: Hf | X4: Hg | Y4: In | Z4: Ir | AA4: La | AB4: Li | AC4: Mg | AD4: Mn | AE4: Mo | AF4: Nb | AG4: Nd | AH4: Ni | AI4: Pb | AJ4: Pd | AK4: Pr | AL4: Pt | AM4: Rh | AN4: Ru | AO4: Sb | AP4: Sm | AQ4: Sn | AR4: Ta | AS4: Tb | AT4: Te | AU4: Ti | AV4: U | AW4: V | AX4: W | AY4: Y | AZ4: Yb | BA4: Zn | BB4: Zr | BC4: Nd + Dy | BD4: Pd + Pt
B5: Embodied Exergy | C5: kJ/g | D5: 1566 | E5: 34 | F5: 28 | G5: 108626 | H5: 1 | I5: 457.2 | J5: 56.4 | K5: 542.4 | L5: 523 | M5: 138 | N5: 36.4 | O5: 56.7 | P5: 384 | Q5: 384 | R5: 384 | S5: 14 | T5: 610000 | U5: 3607 | V5: 498 | W5: 0 | X5: 409 | Y5: 3320 | AA5: 297 | AB5: 432 | AD5: 57 | AE5: 148 | AF5: 360 | AG5: 592 | AH5: 234 | AI5: 4 | AK5: 296 | AM5: 156 | AO5: 13.4 | AP5: 384 | AQ5: 26.6 | AR5: 3083 | AS5: 384 | AT5: 589405.3 | AU5: 196.45 | AV5: 188.8 | AW5: 517 | AX5: 594 | AY5: 1198 | AZ5: 384 | BA5: 41.9 | BB5: 1371.5
B6: Exergy Replacement Cost | C6: kJ/g | D6: 7371 | E6: 627 | F6: 399.84 | G6: 546057 | H6: 38.34 | I6: 252.73 | J6: 489.22 | K6: 5898 | L6: 97 | M6: 10872 | N6: 4.5 | O6: 291.7 | P6: 348 | Q6: 348 | R6: 348 | S6: 18 | T6: 144828 | U6: 478 | V6: 23749 | W6: 32364.36 | X6: 28298 | Y6: 360598 | Z6: 2870013.1 | AA6: 39 | AB6: 546 | AC6: 145.73 | AD6: 16 | AE6: 908 | AF6: 4422 | AG6: 78 | AH6: 524 | AI6: 37 | AJ6: 2870013.1 | AK6: 577 | AL6: 2870013.1 | AM6: 102931 | AN6: 2870013.1 | AO6: 474.49 | AP6: 348 | AQ6: 426.35 | AR6: 482828 | AS6: 348 | AT6: 2235699 | AU6: 6.665 | AV6: 901.4 | AW6: 1055 | AX6: 7429 | AY6: 159 | AZ6: 348 | BA6: 155.03 | BB6: 654.43
B7: Rarity | C7: kJ/g | D7: 8937 | E7: 661 | F7: 427.84 | G7: 654683 | H7: 39.34 | I7: 709.93 | J7: 545.62 | K7: 6440.4 | L7: 620 | M7: 11010 | N7: 40.9 | O7: 348.4 | P7: 732 | Q7: 732 | R7: 732 | S7: 32 | T7: 754828 | U7: 4085 | V7: 24247 | W7: 32364.36 | X7: 28707 | Y7: 363918 | Z7: 2870013.1 | AA7: 336 | AB7: 978 | AC7: 145.73 | AD7: 73 | AE7: 1056 | AF7: 4782 | AG7: 670 | AH7: 758 | AI7: 41 | AJ7: 2870013.1 | AK7: 873 | AL7: 2870013.1 | AM7: 103087 | AN7: 2870013.1 | AO7: 487.89 | AP7: 732 | AQ7: 452.95 | AR7: 485911 | AS7: 732 | AT7: 2825104.3 | AU7: 203.115 | AV7: 1090.2 | AW7: 1572 | AX7: 8023 | AY7: 1357 | AZ7: 732 | BA7: 196.93 | BB7: 2025.93 | BC7: =AVERAGE(P7,AG7) -> 701 | BD7: =AVERAGE(AL7,AJ7) -> 2870013.1
