Workbook

Sheet Instructions
B1: WIDER UPTAKE WaterSmartnessIndex
C4: Version | E4: V11.0 | F4: (Final version)
C5: Date | E5: 45471
C6: Developed by | E6: SINTEF
C7: License | E7: MIT License
C8: Reference | E8: WS&S assessment framework: step-by-step user guide
C9: Authors | E9: Herman Helness (SINTEF) , Edvard Sivertsen (SINTEF), Karen Nessler Seglem (SINTEF) , Camillo Bosco (SINTEF) , Oriana Jovanovic (TU Delft), Rizza Ardiyanti (NTNU)

Sheet 1.1 The SCES
A1: 1.1 Definition of SCES and boundaries
A3: Based on GENERIC SCES STRUCTURE v6 | C3: Sub-groups may be adapted by adding additional lines to the table
A4: Part of system | B4: Group | C4: Sub-group | D4: Description SCES 1 | E4: Description SCES 2 | F4: Description SCES 3 | G4: Description SCES 4
A5: Inputs from society | B5: Water | C5: Wastewater | D5: …. | E5: …. | F5: …. | G5: ….
C6: Potable water | D6: …. | E6: …. | F6: …. | G6: ….
B7: Other resources | C7: Waste | D7: …. | E7: …. | F7: …. | G7: ….
C8: …. | D8: …. | E8: …. | F8: …. | G8: ….
B9: Energy | C9: Electricity | D9: …. | E9: …. | F9: …. | G9: ….
C10: Natural gas | D10: …. | E10: …. | F10: …. | G10: ….
C11: …. | D11: …. | E11: …. | F11: …. | G11: ….
B12: Consumables | C12: Chemicals | D12: …. | E12: …. | F12: …. | G12: ….
C13: …. | D13: …. | E13: …. | F13: …. | G13: ….
C14: Other | D14: …. | E14: …. | F14: …. | G14: ….
B15: Financing | C15: Municipal fees | D15: …. | E15: …. | F15: …. | G15: ….
C16: Gate fee | D16: …. | E16: …. | F16: …. | G16: ….
C17: Sales revenues | D17: …. | E17: …. | F17: …. | G17: ….
C18: Loans | D18: …. | E18: …. | F18: …. | G18: ….
B19: Governance | C19: Requirements by law | D19: …. | E19: …. | F19: …. | G19: ….
C20: Policies | D20: …. | E20: …. | F20: …. | G20: ….
A21: Resources from nature | B21: Water resources | C21: Fresh water | D21: …. | E21: …. | F21: …. | G21: ….
C22: Seawater | D22: …. | E22: …. | F22: …. | G22: ….
B23: Raw materials | C23: …. | D23: …. | E23: …. | F23: …. | G23: ….
A24: The symbiotic solution | B24: Partners and stakeholders | C24: Public | D24: …. | E24: …. | F24: …. | G24: ….
C25: Private | D25: …. | E25: …. | F25: …. | G25: ….
B26: Resource recovery | C26: Recovery processes | D26: …. | E26: …. | F26: …. | G26: ….
C27: Recovered resources | D27: …. | E27: …. | F27: …. | G27: ….
B28: Business models | C28: For recovered resources | D28: …. | E28: …. | F28: …. | G28: ….
C29: For final product(s) | D29: …. | E29: …. | F29: …. | G29: ….
B30: Outcomes | C30: Application(s) | D30: …. | E30: …. | F30: …. | G30: ….
C31: Final product(s) | D31: …. | E31: …. | F31: …. | G31: ….
A32: Benefits to society | B32: Products | C32: With existing value chain | D32: …. | E32: …. | F32: …. | G32: ….
C33: Without value chain | D33: …. | E33: …. | F33: …. | G33: ….
B34: People | C34: Direct benefit(s) | D34: …. | E34: …. | F34: …. | G34: ….
C35: Indirect benefit(s) | D35: …. | E35: …. | F35: …. | G35: ….
B36: Economic | C36: Direct benefit(s) | D36: …. | E36: …. | F36: …. | G36: ….
C37: Indirect benefit(s) | D37: …. | E37: …. | F37: …. | G37: ….
B38: Other benefits | C38: Direct benefit(s) | D38: …. | E38: …. | F38: …. | G38: ….
C39: Indirect benefit(s) | D39: …. | E39: …. | F39: …. | G39: ….
A40: Impacts on nature | B40: Soil | C40: Soil properties | D40: …. | E40: …. | F40: …. | G40: ….
C41: Soil quality | D41: …. | E41: …. | F41: …. | G41: ….
...

Sheet 1.2 Scenarios
A1: 1.2 Definition of scenarios and expected impact on the SCES
B3: Describe SCES alterntive solutions/products and scenarios
B4: SCES 1 (Solution/product/combination)
B5: Scenario 1 | C5: Scenario 2 | D5: Scenario 3
A6: Name tag | B6: SCES 1 - Scenario 1 | C6: SCES 1 - Scenario 2 | D6: SCES 1 - Scenario 3
A7: Description of future conditions considered relevant for the assessment (select conditions not under control by the partners of the SCES, e.g., changes related to demography, governance, socio-economic conditions, climate and environment)
A8: Impact on performance of the SCES (narrative description of the impact on the SCES, or indicated by ordeal ranking, e.g., negative, neutral, positive, or more levels if required)

Sheet 2 Select and detail indicators
N2: 2.1 Selection and detailed specification of indicators | P2: 2.3 Weighting of indicators | Q2: 2.4 Range of indicators | S2: 2.5 Threshold for acceptable value for indicators
B3: Dimension | C3: Dimension | D3: No. | E3: Objectives | F3: No. | G3: Criteria | H3: No. | I3: Indicators | J3: Units | K3: Range (min) | L3: Range (max) | M3: Description of indicators | N3: Indicator selected or not (use drop down list) | O3: User provided details on indicator units and/or description | P3: Weight of indicator (1 = low; 2 = medium; 3 = high) (use drop down list) | Q3: Minimum value | R3: Maximum value | S3: Threshold for acceptable value | T3: Source of data for indicator values | U3: Comments (filled if relevant)
B4: Social (S) | C4: Social (S) | D4: S1 | E4: Maintain the social benefits traditionally provided by water and wastewater management | F4: S1.1 | G4: Provision of universal and equitable access to safe and affordable drinking water | H4: S1.1.1 | I4: Percentage of population provided with drinking water services | J4: % | K4: 0 | L4: 100 | M4: The indicator gives insights about the coverage of householders (expressed in population equivalent) toward the traditional drinking water services. The indicator takes into consideration the ratio between the population served by the SCES over the sum of the population served by the SCES and the population not served by the SCES or other entities in the geographical area of the considered drinking water services. | N4: Selected | P4: 2 | Q4: =K4 -> 0 | R4: =L4 -> 100
B5: Social (S) | F5: S1.2 | G5: Provision of access to adequate and equitable sanitation and hygiene | H5: S1.2.1 | I5: Percentage of population provided with wastewater treatment services | J5: % | K5: 0 | L5: 100 | M5: The indicator gives insights about the coverage of householders (expressed in population equivalent) toward the traditional service of wastewater treatment. The indicator takes into consideration the ratio between the population served by the SCES over the sum of the population served by the SCES and the population not served by the SCES or other entities in the geographical area of the considered wastewater treatment service. | N5: Selected | P5: 2 | Q5: =K5 -> 0 | R5: =L5 -> 100
B6: Social (S) | H6: S1.2.2 | I6: Percentage of industries provided with wastewater treatment services | J6: % | K6: 0 | L6: 100 | M6: The indicator gives insights about the coverage of industries (expressed in population equivalent) toward the traditional service of wastewater treatment. The indicator takes into consideration the ratio between the population served by the SCES over the sum of the population served by the SCES and the population not served by the SCES or other entities in the geographical area of the considered wastewater treatment service. | N6: Selected | P6: 2 | Q6: =K6 -> 0 | R6: =L6 -> 100
B7: Social (S) | F7: S1.3 | G7: Equity in the allocation of water and resources in water across social and economic groups | H7: S1.3.1 | I7: Level of equity in the allocation of water and any resources and derived products among the population being served with water and wastewater services | J7: LS | K7: 1 | L7: 5 | M7: The indicator should insight about the degree of equity in the allocation of water and resources, including any recovered resources and derived products, among the population being served with water and wastewater services. A Likert scale is used to allow for assessing both services traditionally provided and additional services provided by an SCES. 1: Very low level 2: Low level 3: Medium level 4: High level 5: Very high level | N7: Selected | P7: 2 | Q7: =K7 -> 1 | R7: =L7 -> 5
B8: Social (S) | D8: S2 | E8: Provide human well-being by the recovered resources and derived final products from water and wastewater management | F8: S2.1 | G8: Secure resource access | H8: S2.1.1 | I8: Percentage of the resource need fulfilled | J8: % | K8: 0 | L8: 100 | M8: The indicator gives insights about the degree of security (expressed in percentage) concerning access to resources. The indicator takes into consideration the ratio between the amount of recovered resources and the total resource need within the boundaries defined for the SCES under assessment. | N8: Selected | P8: 2 | Q8: =K8 -> 0 | R8: =L8 -> 100
B9: Social (S) | F9: S2.2 | G9: Access to goods | H9: S2.2.1 | I9: Percentage of the final product need fulfilled | J9: % | K9: 0 | L9: 100 | M9: The indicator gives insights about the degree of fulfilment (expressed in percentage) of the need for final products. The indicator takes into consideration the ratio between the amount of the final products by the SCES over the final products need in the considered market within the boundaries defined for the SCES. | N9: Selected | P9: 2 | Q9: =K9 -> 0 | R9: =L9 -> 100
B10: Social (S) | F10: S2.3 | G10: Human health risk | H10: S2.3.1 | I10: Level of microbial risk | J10: LS | K10: 1 | L10: 5 | M10: Expressed by a Likert scale (1-5) where the scores are based on results of a quantifiable microbial risk assessment (QMRA). Model input: - Measured reference pathogens or indicator pathogens in the recovered products at the point of use - Default input values such as parameters for dose-response model, inadvertently ingested volume, inhalation rate collected from internationally accepted guidelines such as WHO and US EPA. Model output: - Risk of illness is quantified in terms of its additional Disability Adjusted Life Years per person per years (DALYs pppy) 1: major risk (> 1 ∙ 10-3 DALY) 2: significant risk (1 ∙ 10-4 to 1 ∙ 10-3 DALY pppy) 3: moderate risk (1 ∙ 10-5 to 1 ∙ 10-4 DALY pppy) 4: minor risk (1 ∙ 10-6 to 1 ∙ 10-5 DALY pppy) 5: insignificant risk (≤ 1 ∙ 10-6 DALY pppy) | N10: Selected | P10: 2 | Q10: =K10 -> 1 | R10: =L10 -> 5
B11: Social (S) | H11: S2.3.2 | I11: Level of chemical risk | J11: LS | K11: 1 | L11: 5 | M11: Expressed by a Likert scale (1-5) where the scores are based on results of a quantifiable chemical risk assessment (QCRA). Model input: - Measured chemical hazardous substances in the recovered products at the point of use - Default values for daily intake, tolerable/acceptable daily intake (TDI/ADI) from internationally accepted guidelines Model output: - Risk is expressed in terms of risk characterisation ratio (RCR) or risk quotient (RQ) for each endpoint, by comparing the estimated exposure/intake to the tolerable or acceptable effect concentrations (ADI). 1: major risk (>1 ) 2: significant risk (0.7-1) 3: moderate risk (0.3-0.7) 4: minor risk (0.1-0.3) 5: insignificant risk (<0.1) | N11: Selected | P11: 2 | Q11: =K11 -> 1 | R11: =L11 -> 5
B12: Social (S) | F12: S2.4 | G12: Values and norms | H12: S2.4.1 | I12: Level of perceived positive feeling towards using products made of recovered resources | J12: LS | K12: 1 | L12: 5 | M12: Expressed by a Likert scale (1-5): 1: Very low level 2: Low level 3: Medium level 4: High level 5: Very high level | N12: Selected | P12: 2 | Q12: =K12 -> 1 | R12: =L12 -> 5
B13: Social (S) | H13: S2.4.2 | I13: Level of bequest value | J13: LS | K13: 1 | L13: 5 | M13: Measured by willingness to pay to ensure that peoples' offspring or future generations inherit a particular environmental asset Expressed by a Likert scale (1-5): 1: Very low level 2: Low level 3: Medium level 4: High level 5: Very high level | N13: Selected | P13: 2 | Q13: =K13 -> 1 | R13: =L13 -> 5
B14: Social (S) | D14: S3 | E14: Enhance knowledge and acceptance of recovered resources and derived final products from water and wastewater management | F14: S3.1 | G14: Citizen involvement in education activities | H14: S3.1.1 | I14: Level of population percentage involved in educational activities organised by the partners of the SCES | J14: LS | K14: 1 | L14: 5 | M14: Perceived or calculated percentage of the population defined by the boundaries of the SCES under assessment. The term 'educated' refers to having a basic knowledge about the main parts of the SCES (ref. figure) Expressed by a Likert scale (1-5): 1: 0-20% 2: 21-40% 3: 41-60% 4: 61-80% 5: 81-100% | N14: Selected | P14: 2 | Q14: =K14 -> 1 | R14: =L14 -> 5
F15: S3.2 | G15: Amount of information available related to the recovered resources and derived final products | H15: S3.2.1 | I15: Level of information provided by the partners of the SCES through various channels and communication items | J15: LS | K15: 1 | L15: 5 | M15: Perceived or calculated. The numbers refer to a period of 1 year, i.e. channels used and/or items during a one year period. Expressed by a Likert scale (1-5): 1: 0-5 2: 6-10 3: 11-20 4: 21-30 5: >30 | N15: Selected | P15: 2 | Q15: =K15 -> 1 | R15: =L15 -> 5
B16: Environment (En) | C16: Environment (En) | D16: En1 | E16: Minimize negative environmental impacts | F16: En1.1 | G16: Net environmental impacts from the processes to provide water services, recover resources and produce final products | H16: En1.1.1 | I16: Level of net environmental impact based on indicators from life cycle assessment (LCA) | J16: LS | K16: 1 | L16: 5 | M16: Net impacts of different categories per functional unit as determined in a standard life cycle assessment (LCA). In this assessment framework we use the number of FU associated with providing the recovered resources and derived final products over a period of one year. 1: highly negative impact (>61%) 2: negative impact (21 to 60%) 3: moderate impact (20 to -20%) 4: positive impact (-21 to -60%) 5: highly positive impact (<-61%) | N16: Selected | P16: 2 | Q16: =K16 -> 1 | R16: =L16 -> 5
B17: Environment (En) | F17: En1.2 | G17: Direct and indirect discharges to water, soil, and air | H17: En1.2.1 | I17: Direct discharge to water of relevant pollutants | J17: kg/year | K17: 0 | L17: Max value for case | M17: For the assessment of a given SCES the most relevant pollutants should be chosen. The indicator might be disaggregated into multiple pollutants (e.g. TSS, COD, BOD, nitrogen, phosphorous etc.) and is expressed in kg/year. The maximum value for the case should be calculated as sum of inputs (e.g., influent wastewater, other material flows, and chemical added) to the SCES of the chosen pollutants as defined in the scope of the assessment. | N17: Selected | P17: 2 | Q17: =K17 -> 0 | R17: =MAXA('4 Indicator values SCES1-Sc1'!U19:Z19,'4 Indicator values SCES1-Sc2'!U19:Z19,'4 Indicator values SCES1-Sc3'!U19:Z19,#REF!,#REF!,#REF!,#REF!,#REF!,#REF!,#REF!,#REF!,#REF!) -> #REF!
B18: Environment (En) | H18: En1.2.2 | I18: Direct discharge to soil of relevant pollutants | J18: kg/year | K18: 0 | L18: Max value for case | M18: For the assessment of a given SCES the most relevant pollutants should be chosen. The indicator might be disaggregated into multiple pollutants (e.g. cadmium, lead, copper, etc.) and is expressed in kg/year. The maximum value for the case should be calculated as sum of inputs (e.g., influent wastewater, other material flows, and chemical added) to the SCES of the chosen pollutants as defined in the scope of the assessment. | N18: Selected | P18: 2 | Q18: =K18 -> 0 | R18: =MAXA('4 Indicator values SCES1-Sc1'!U20:Z20,'4 Indicator values SCES1-Sc2'!U20:Z20,'4 Indicator values SCES1-Sc3'!U20:Z20,#REF!,#REF!,#REF!,#REF!,#REF!,#REF!,#REF!,#REF!,#REF!) -> #REF!
B19: Environment (En) | H19: En1.2.3 | I19: Direct discharge to air of relevant pollutants | J19: kg/year | K19: 0 | L19: Max value for case | M19: For the assessment of a given SCES the most relevant pollutants should be chosen. The indicator might be disaggregated into multiple pollutants (e.g. CO2, N2O, etc.) and is expressed in kg/year. The maximum value for the case should be calculated as sum of inputs (e.g., influent wastewater, other material flows, and chemical added) to the SCES of the chosen pollutants as defined in the scope of the assessment. | N19: Selected | P19: 2 | Q19: =K19 -> 0 | R19: =MAXA('4 Indicator values SCES1-Sc1'!U21:Z21,'4 Indicator values SCES1-Sc2'!U21:Z21,'4 Indicator values SCES1-Sc3'!U21:Z21,#REF!,#REF!,#REF!,#REF!,#REF!,#REF!,#REF!,#REF!,#REF!) -> #REF!
B20: Environment (En) | H20: En1.2.4 | I20: Indirect discharge to water of relevant pollutants | J20: kg/year | K20: 0 | L20: Max value for case | M20: For the assessment of a given SCES the most relevant pollutants should be chosen. The indicator might be disaggregated into multiple pollutants (e.g. TSS, COD, BOD, nitrogen, phosphorous etc.) and is expressed in kg/year. The maximum value for the case should be calculated as sum of inputs (e.g., influent wastewater, other material flows, and chemical added) to the SCES of the chosen pollutants as defined in the scope of the assessment. | N20: Selected | P20: 2 | Q20: =K20 -> 0 | R20: =MAXA('4 Indicator values SCES1-Sc1'!U22:Z22,'4 Indicator values SCES1-Sc2'!U22:Z22,'4 Indicator values SCES1-Sc3'!U22:Z22,#REF!,#REF!,#REF!,#REF!,#REF!,#REF!,#REF!,#REF!,#REF!) -> #REF!
B21: Environment (En) | H21: En1.2.5 | I21: Indirect discharge to soil of relevant pollutants | J21: kg/year | K21: 0 | L21: Max value for case | M21: For the assessment of a given SCES the most relevant pollutants should be chosen. The indicator might be disaggregated into multiple pollutants (e.g. cadmium, lead, copper, etc.) and is expressed in kg/year. The maximum value for the case should be calculated as sum of inputs (e.g., influent wastewater, other material flows, and chemical added) to the SCES of the chosen pollutants as defined in the scope of the assessment. | N21: Selected | P21: 2 | Q21: =K21 -> 0 | R21: =MAXA('4 Indicator values SCES1-Sc1'!U23:Z23,'4 Indicator values SCES1-Sc2'!U23:Z23,'4 Indicator values SCES1-Sc3'!U23:Z23,#REF!,#REF!,#REF!,#REF!,#REF!,#REF!,#REF!,#REF!,#REF!) -> #REF!
B22: Environment (En) | H22: En1.2.6 | I22: Indirect discharge to air of relevant pollutants | J22: kg/year | K22: 0 | L22: Max value for case | M22: For the assessment of a given SCES the most relevant pollutants should be chosen. The indicator might be disaggregated into multiple pollutants (e.g. CO2, N2O, etc.) and is expressed in kg/year. The maximum value for the case should be calculated as sum of inputs (e.g., influent wastewater, other material flows, and chemical added) to the SCES of the chosen pollutants as defined in the scope of the assessment. | N22: Selected | P22: 2 | Q22: =K22 -> 0 | R22: =MAXA('4 Indicator values SCES1-Sc1'!U24:Z24,'4 Indicator values SCES1-Sc2'!U24:Z24,'4 Indicator values SCES1-Sc3'!U24:Z24,#REF!,#REF!,#REF!,#REF!,#REF!,#REF!,#REF!,#REF!,#REF!) -> #REF!
F23: En1.3 | G23: Chemical risk for water, soil, and air | H23: En1.3.1 | I23: Level of chemical risk for water | J23: LS | K23: 1 | L23: 5 | M23: Expressed by a Likert scale (1-5) where the scores are based on results of a quantifiable chemical risk assessment (QCRA). Model input: - Measured chemical hazardous substances in the recovered products at the point of use - Default values for predicted environmental concentration (PEC) and predicted no-effect concentration (PNEC) from internationally accepted guidelines Model output: - Risk is expressed in terms of risk characterisation ratio (RCR) or risk quotient (RQ) for each environmental endpoint, by comparing the estimated exposure to the tolerable or acceptable effect concentrations (PNECs). 1: major risk (>1 ) 2: significant risk (0.7-1) 3: moderate risk (0.3-0.7) 4: minor risk (0.1-0.3) 5: insignificant risk (<0.1) | N23: Selected | P23: 2 | Q23: =K23 -> 1 | R23: =L23 -> 5
H24: En1.3.2 | I24: Level of chemical risk for soil | J24: LS | K24: 1 | L24: 5 | M24: See En1.3.1 | N24: Selected | P24: 2 | Q24: =K24 -> 1 | R24: =L24 -> 5
H25: En1.3.3 | I25: Level of chemical risk for air | J25: LS | K25: 1 | L25: 5 | M25: See En1.3.1 | N25: Selected | P25: 2 | Q25: =K25 -> 1 | R25: =L25 -> 5
F26: En1.4 | G26: Contribution to counteract shortage of water | H26: En1.4.1 | I26: Level of water footprint | J26: LS | K26: 1 | L26: 5 | M26: Expressed by a Likert scale (1-5) where the score is based on water footprint. Water footprint is assessed as green, blue, and/or grey, depending on the description of the SCES. In this assessment framework we use the volume of water (m3) associated with providing the recovered resources and derived final products over a period of one year. 1: high WF 2: significant WF 3: moderate WF 4: low WF 5: insignificant WF | N26: Selected | P26: 2 | Q26: =K26 -> 1 | R26: =L26 -> 5
B27: Environment (En) | D27: En2 | E27: Preserve nature | F27: En2.1 | G27: Effect on biodiversity | H27: En2.1.1 | I27: Level of remaining ecosystem area | J27: LS | K27: 1 | L27: 5 | M27: Expressed by a Likert scale (1-5) where the scores are based on the ecosystem area index (EAI). 1: 0 - 0.25 (0 = collapse) 2: 0.25 - 0.50 3: 0.50 - 0.75 4: 0.75 - 1 (1 = no effect) 5: >1 (improved) | N27: Selected | P27: 2 | Q27: =K27 -> 1 | R27: =L27 -> 5
B28: Environment (En) | H28: En2.1.2 | I28: Level of ecosystem health | J28: LS | K28: 1 | L28: 5 | M28: Expressed by a Likert scale (1-5) where the scores are based on the ecosystem health index (EHI). 1: 0 - 0.25 (0 = collapse) 2: 0.25 - 0.50 3: 0.50 - 0.75 4: 0.75 - 1 (1 = no effect) 5: >1 (improved) | N28: Selected | P28: 2 | Q28: =K28 -> 1 | R28: =L28 -> 5
B29: Environment (En) | D29: En3 | E29: Have positive climate effect | F29: En3.1 | G29: Reduction of greenhouse gas emissions | H29: En3.1.1 | I29: Level of carbon footprint | J29: LS | K29: 1 | L29: 5 | M29: Expressed by a Likert scale (1-5) where carbon footprint is assessed as the global warming potential (GWP) from kg CO2 equivalents associated with relevant functional unit(s) (FU), kg CO2eq/FU, as determined by LCA or other method aligned with IPCC. In this assessment framework we use the number of FU associated with providing the recovered resources and derived final products over a period of one year. 1: high GWP 2: significant GWP 3: moderate GWP 4: low GWP 5: insignificant GWP | N29: Selected | P29: 2 | Q29: =K29 -> 1 | R29: =L29 -> 5
B30: Environment (En) | F30: En3.2 | G30: Reduction of atmospheric greenhouse gas concentrations | H30: En3.2.1 | I30: Level of carbon uptake | J30: LS | K30: 1 | L30: 5 | M30: Expressed by a Likert scale (1-5) where carbon uptake is assessed as the global warming potential (GWP) from ppm CO2 equivalents removed per relevant functional unit(s) (FU), ppm CO2eq/FU, as determined by LCA or other method aligned with IPCC. In this assessment framework we use the number of FU associated with providing the recovered resources and derived final products over a period of one year. 1: high GWP 2: significant GWP 3: moderate GWP 4: low GWP 5: insignificant GWP | N30: Selected | P30: 2 | Q30: =K30 -> 1 | R30: =L30 -> 5
F31: En3.3 | G31: Micro climate regulation | H31: En3.3.1 | I31: Reduced heat island effect | J31: Days/ year | K31: 0 | L31: 365 | M31: The indicator should give insight on the effect on local climate and used the number of days with reduced heat island effect within the boundaries defined for the SCES under assessment. In the event that there are several sources of reduced heat island effect, the indicator value should only count the no. of days that can be ascribed to the SCES under assessment. | N31: Selected | P31: 2 | Q31: =K31 -> 0 | R31: =L31 -> 365
B32: Economic (Ec) | C32: Economic (Ec) | D32: Ec1 | E32: Maximise the economic value of water, and resources recovered from water and wastewater | F32: Ec1.1 | G32: Value of recovered resources and derived final products from water and wastewater management | H32: Ec1.1.1 | I32: Total value of recovered resources provided to other partners in the SCES as a percentage of total revenue for partners of the SCES | J32: % | K32: 0 | L32: 100 | M32: The indicator should give insight on the value of the resource streams in the SCES, and enable comparison of alternative in the event that there are different options of resources to recover. The time period to be used is one year. The value of the recovered resources is compared to the total revenue of the partners in the SCES to provide a well-defined range, and to shed light on the importance of the recovered resource value chain. | N32: Selected | P32: 2 | Q32: =K32 -> 0 | R32: =L32 -> 100
B33: Economic (Ec) | H33: Ec1.1.2 | I33: Total value of final products provided to external users by the SCES as a percentage of total revenue for partners of the SCES | J33: % | K33: 0 | L33: 100 | M33: The indicator should give insight on the value of the final product(s) derived from the recovered resource(s) in the SCES, and enable comparison of alternative in the event that there are different options of final products or applications. The time period to be used is one year. The value of the final product(s) is compared to the total revenue of the partners in the SCES to provide a well-defined range, and to shed light on the importance of the final product(s) value chain. | N33: Selected | P33: 2 | Q33: =K33 -> 0 | R33: =L33 -> 100
D34: Ec2 | E34: Give economic benefits to the partners of the SCES | F34: Ec2.1 | G34: Financial and business development KPIs | H34: Ec2.1.1 | I34: Net annual profit margin | J34: % | K34: 0 | L34: 20 | M34: Indicator intended for a commercial partner, e.g., a technology provider. Will probably not be selected by a municipality of utility operating under a regime based on cost coverage. | N34: Selected | P34: 2 | Q34: =K34 -> 0 | R34: =L34 -> 20
B35: Economic (Ec) | H35: Ec2.1.2 | I35: Total income as a percentage of total costs (financial coverage) | J35: % | K35: 0 | L35: 100 | M35: Indicator intended for a municipality of utility operating under a regime based on cost coverage. Will probably not be selected by a commercial partner, e.g., a technology provider. | N35: Selected | P35: 2 | Q35: =K35 -> 0 | R35: =L35 -> 100
B36: Economic (Ec) | H36: Ec2.1.3 | I36: Level of total annual cost compared to total annual cost before the SCES | J36: LS | K36: 1 | L36: 5 | M36: The indicator gives insight on the cost and potential cost reduction achieved by the SCES, and is expressed by a Likert scale (1-5) where the scores are based the ratio of total annual cost with and without the SCES calculated as a percentage. 1: >61% 2: 21 to 60% 3: 20 to -20% 4: -21 to -60% 5: <-61% | N36: Selected | P36: 2 | Q36: =K36 -> 1 | R36: =L36 -> 5
H37: Ec2.1.4 | I37: Level of new products/services compared to the existing before the SCES | J37: LS | K37: 1 | L37: 5 | M37: Expressed by a Likert scale (1-5) where the scores are based on the number of new products/services as a percentage of existing before the SCES: 1: <20% 2: 21-40% 3: 41-60% 4: 61-80% 5: >81% | N37: Selected | P37: 2 | Q37: =K37 -> 1 | R37: =L37 -> 5
B38: Economic (Ec) | H38: Ec2.1.5 | I38: Level of new value chains compared to the existing before the SCES | J38: LS | K38: 1 | L38: 5 | M38: Expressed by Likert scale (1-5) where the scores are based on the number of new value chains as a percentage of existing before the SCES: 1: <20% 2: 21-40% 3: 41-60% 4: 61-80% 5: >81% | N38: Selected | P38: 1 | Q38: =K38 -> 1 | R38: =L38 -> 5
B39: Economic (Ec) | D39: Ec3 | E39: Give added economic benefits to society | F39: Ec3.1 | G39: Impact on water use efficiency (WUE) | H39: Ec3.1.1 | I39: Level of value added by the SCES per volume of water used | J39: LS | K39: 1 | L39: 5 | M39: Expressed by a Likert scale (1-5) where the scores are based on the value added by the SCES per volume of water used, as a percentage of the WUE for the water sector: 1: <20% 2: 21-40% 3: 41-60% 4: 61-80% 5: >81% | N39: Selected | P39: 1 | Q39: =K39 -> 1 | R39: =L39 -> 5
B40: Economic (Ec) | F40: Ec3.2 | G40: Affordability of services and final products | H40: Ec3.2.1 | I40: Price level of traditional water- and/or wastewater services | J40: LS | K40: 1 | L40: 5 | M40: Expressed by a Likert scale (1-5) where the scores are based on the price for traditional water- and/or wastewater services as a percentage of existing before the SCES: 1: >61% 2: 21 to 60% 3: 20 to -20% 4: -21 to -60% 5: <-61% | N40: Selected | P40: 1 | Q40: =K40 -> 1 | R40: =L40 -> 5
B41: Economic (Ec) | H41: Ec3.2.2 | I41: Price level of final product(s) | J41: LS | K41: 1 | L41: 5 | M41: Expressed by a Likert scale (1-5) where the scores are based on the price for final product(s) as a percentage of existing alternatives 1: >61% 2: 21 to 60% 3: 20 to -20% 4: -21 to -60% 5: <-61% | N41: Selected | P41: 1 | Q41: =K41 -> 1 | R41: =L41 -> 5
...

Sheet 3 Data processing (optional)
B2: 3.1 Required data processing (may also be done in a seperate file)

Sheet 4 Indicator values SCES1-Sc1
U1: 4 Indicator values | AQ1: Drop-down list | AS1: Average
AS2: Sum
U3: Use one colomns for each partner/product/stakeholder if necessary | AF3: Indicator values scaled to a scale 0-10 where 0 is best | AS3: Minimum
U4: NB one figure in each cell | AK4: Weighted values objectives | AS4: Maximum
B5: Dimension | C5: Dimension | D5: Dimension | E5: No. | F5: Objectives | G5: No. | H5: Criteria | I5: No. | J5: Indicators | K5: Units | L5: Range (min) | M5: Range (max) | N5: Indicator selected or not (use drop down list) | O5: Weight of indicator (1 = low; 2 = medium; 3 = high) (use drop down list) | P5: Minimum value | Q5: Maximum value | R5: Threshold for acceptable value | S5: Source of data for indicator values | T5: Comments | U5: #1 | V5: #2 | W5: #3 | X5: #4 | Y5: #5 | Z5: #6 | AA5: Indicator aggregation | AC5: Weight | AD5: Min | AE5: Max | AF5: Indicator value scaled | AG5: Obj | AH5: Objective value | AJ5: =AG5 -> Obj | AK5: Objective value
D6: Social (S) | E6: S1 | F6: Maintain the social benefits traditionally provided by water and wastewater management | G6: S1.1 | H6: Provision of universal and equitable access to safe and affordable drinking water | I6: S1.1.1 | J6: Percentage of population provided with drinking water services | K6: % | L6: ='2 Select and detail indicators'!Q4 -> 0 | M6: ='2 Select and detail indicators'!R4 -> 100 | N6: ='2 Select and detail indicators'!N4 -> Selected | O6: ='2 Select and detail indicators'!P4 -> 2 | P6: =L6 -> 0 | Q6: =M6 -> 100 | R6: =IF('2 Select and detail indicators'!S4="","",'2 Select and detail indicators'!S4) | S6: =IF('2 Select and detail indicators'!T4="","",'2 Select and detail indicators'!T4) | T6: =IF('2 Select and detail indicators'!U4="","",'2 Select and detail indicators'!U4) | AA6: Average | AC6: =IF(N6="Selected",IF(O6="","",O6),"") -> 2 | AD6: =IF(N6="Selected",IF(P6="","",P6),"") -> 0 | AE6: =IF(N6="Selected",IF(Q6="","",Q6),"") -> 100 | AF6: =IF($N6="Not selected","",IF(AA6="Average",10*$AC6*(AVERAGE(U6:Z6)-$AD6)/($AE6-$AD6),IF(AA6="Sum",10*$AC6*(SUM(U6:Z6)-$AD6)/($AE6-$AD6),IF(AA6="Minimum",10*$AC6*(MIN(U6:Z6)-$AD6)/($AE6-$AD6),IF(AA6="Maximum",10*$AC6*(MAXA(U6:Z6)-$AD6)/($AE6-$AD6),""))))) -> #DIV/0! | AG6: =E6 -> S1 | AH6: =SUM(AF6:AF9)/SUM($AC6:$AC9) -> #DIV/0! | AJ6: =AG6 -> S1 | AK6: =AH6 -> #DIV/0!
B7: Social (S) | C7: Social (S) | G7: S1.2 | H7: Provision of access to adequate and equitable sanitation and hygiene | I7: S1.2.1 | J7: Percentage of population provided with wastewater treatment services | K7: % | L7: ='2 Select and detail indicators'!Q5 -> 0 | M7: ='2 Select and detail indicators'!R5 -> 100 | N7: ='2 Select and detail indicators'!N5 -> Selected | O7: ='2 Select and detail indicators'!P5 -> 2 | P7: =L7 -> 0 | Q7: =M7 -> 100 | R7: =IF('2 Select and detail indicators'!S5="","",'2 Select and detail indicators'!S5) | S7: =IF('2 Select and detail indicators'!T5="","",'2 Select and detail indicators'!T5) | T7: =IF('2 Select and detail indicators'!U5="","",'2 Select and detail indicators'!U5) | AA7: Sum | AC7: =IF(N7="Selected",IF(O7="","",O7),"") -> 2 | AD7: =IF(N7="Selected",IF(P7="","",P7),"") -> 0 | AE7: =IF(N7="Selected",IF(Q7="","",Q7),"") -> 100 | AF7: =IF($N7="Not selected","",IF(AA7="Average",10*$AC7*(AVERAGE(U7:Z7)-$AD7)/($AE7-$AD7),IF(AA7="Sum",10*$AC7*(SUM(U7:Z7)-$AD7)/($AE7-$AD7),IF(AA7="Minimum",10*$AC7*(MIN(U7:Z7)-$AD7)/($AE7-$AD7),IF(AA7="Maximum",10*$AC7*(MAXA(U7:Z7)-$AD7)/($AE7-$AD7),""))))) -> 0 | AJ7: =AG10 -> S2 | AK7: =AH10 -> #DIV/0!
B8: Social (S) | I8: S1.2.2 | J8: Percentage of industries provided with wastewater treatment services | K8: % | L8: ='2 Select and detail indicators'!Q6 -> 0 | M8: ='2 Select and detail indicators'!R6 -> 100 | N8: ='2 Select and detail indicators'!N6 -> Selected | O8: ='2 Select and detail indicators'!P6 -> 2 | P8: =L8 -> 0 | Q8: =M8 -> 100 | R8: =IF('2 Select and detail indicators'!S6="","",'2 Select and detail indicators'!S6) | S8: =IF('2 Select and detail indicators'!T6="","",'2 Select and detail indicators'!T6) | T8: =IF('2 Select and detail indicators'!U6="","",'2 Select and detail indicators'!U6) | AA8: Minimum | AC8: =IF(N8="Selected",IF(O8="","",O8),"") -> 2 | AD8: =IF(N8="Selected",IF(P8="","",P8),"") -> 0 | AE8: =IF(N8="Selected",IF(Q8="","",Q8),"") -> 100 | AF8: =IF($N8="Not selected","",IF(AA8="Average",10*$AC8*(AVERAGE(U8:Z8)-$AD8)/($AE8-$AD8),IF(AA8="Sum",10*$AC8*(SUM(U8:Z8)-$AD8)/($AE8-$AD8),IF(AA8="Minimum",10*$AC8*(MIN(U8:Z8)-$AD8)/($AE8-$AD8),IF(AA8="Maximum",10*$AC8*(MAXA(U8:Z8)-$AD8)/($AE8-$AD8),""))))) -> 0 | AJ8: =AG16 -> S3 | AK8: =AH16 -> #DIV/0!
B9: Social (S) | G9: S1.3 | H9: Equity in the allocation of water and resources in water across social and economic groups | I9: S1.3.1 | J9: Level of equity in the allocation of water and any resources and derived products among the population being served with water and wastewater services | K9: LS | L9: ='2 Select and detail indicators'!Q7 -> 1 | M9: ='2 Select and detail indicators'!R7 -> 5 | N9: ='2 Select and detail indicators'!N7 -> Selected | O9: ='2 Select and detail indicators'!P7 -> 2 | P9: =L9 -> 1 | Q9: =M9 -> 5 | R9: =IF('2 Select and detail indicators'!S7="","",'2 Select and detail indicators'!S7) | S9: =IF('2 Select and detail indicators'!T7="","",'2 Select and detail indicators'!T7) | T9: =IF('2 Select and detail indicators'!U7="","",'2 Select and detail indicators'!U7) | AA9: Maximum | AC9: =IF(N9="Selected",IF(O9="","",O9),"") -> 2 | AD9: =IF(N9="Selected",IF(P9="","",P9),"") -> 1 | AE9: =IF(N9="Selected",IF(Q9="","",Q9),"") -> 5 | AF9: =IF($N9="Not selected","",IF(AA9="Average",10*$AC9*(AVERAGE(U9:Z9)-$AD9)/($AE9-$AD9),IF(AA9="Sum",10*$AC9*(SUM(U9:Z9)-$AD9)/($AE9-$AD9),IF(AA9="Minimum",10*$AC9*(MIN(U9:Z9)-$AD9)/($AE9-$AD9),IF(AA9="Maximum",10*$AC9*(MAXA(U9:Z9)-$AD9)/($AE9-$AD9),""))))) -> -5 | AJ9: =AG18 -> En1 | AK9: =AH18 -> #DIV/0!
B10: Social (S) | E10: S2 | F10: Provide human well-being by the recovered resources and derived final products from water and wastewater management | G10: S2.1 | H10: Secure resource access | I10: S2.1.1 | J10: Percentage of the resource need fulfilled | K10: % | L10: ='2 Select and detail indicators'!Q8 -> 0 | M10: ='2 Select and detail indicators'!R8 -> 100 | N10: ='2 Select and detail indicators'!N8 -> Selected | O10: ='2 Select and detail indicators'!P8 -> 2 | P10: =L10 -> 0 | Q10: =M10 -> 100 | R10: =IF('2 Select and detail indicators'!S8="","",'2 Select and detail indicators'!S8) | S10: =IF('2 Select and detail indicators'!T8="","",'2 Select and detail indicators'!T8) | T10: =IF('2 Select and detail indicators'!U8="","",'2 Select and detail indicators'!U8) | AA10: Average | AC10: =IF(N10="Selected",IF(O10="","",O10),"") -> 2 | AD10: =IF(N10="Selected",IF(P10="","",P10),"") -> 0 | AE10: =IF(N10="Selected",IF(Q10="","",Q10),"") -> 100 | AF10: =IF($N10="Not selected","",IF(AA10="Average",10*$AC10*(AVERAGE(U10:Z10)-$AD10)/($AE10-$AD10),IF(AA10="Sum",10*$AC10*(SUM(U10:Z10)-$AD10)/($AE10-$AD10),IF(AA10="Minimum",10*$AC10*(MIN(U10:Z10)-$AD10)/($AE10-$AD10),IF(AA10="Maximum",10*$AC10*(MAXA(U10:Z10)-$AD10)/($AE10-$AD10),""))))) -> #DIV/0! | AG10: =E10 -> S2 | AH10: =SUM(AF10:AF15)/SUM($AC10:$AC15) -> #DIV/0! | AJ10: =AG29 -> En2 | AK10: =AH29 -> #DIV/0!
G11: S2.2 | H11: Access to goods | I11: S2.2.1 | J11: Percentage of the final product need fulfilled | K11: % | L11: ='2 Select and detail indicators'!Q9 -> 0 | M11: ='2 Select and detail indicators'!R9 -> 100 | N11: ='2 Select and detail indicators'!N9 -> Selected | O11: ='2 Select and detail indicators'!P9 -> 2 | P11: =L11 -> 0 | Q11: =M11 -> 100 | R11: =IF('2 Select and detail indicators'!S9="","",'2 Select and detail indicators'!S9) | S11: =IF('2 Select and detail indicators'!T9="","",'2 Select and detail indicators'!T9) | T11: =IF('2 Select and detail indicators'!U9="","",'2 Select and detail indicators'!U9) | AA11: Average | AC11: =IF(N11="Selected",IF(O11="","",O11),"") -> 2 | AD11: =IF(N11="Selected",IF(P11="","",P11),"") -> 0 | AE11: =IF(N11="Selected",IF(Q11="","",Q11),"") -> 100 | AF11: =IF($N11="Not selected","",IF(AA11="Average",10*$AC11*(AVERAGE(U11:Z11)-$AD11)/($AE11-$AD11),IF(AA11="Sum",10*$AC11*(SUM(U11:Z11)-$AD11)/($AE11-$AD11),IF(AA11="Minimum",10*$AC11*(MIN(U11:Z11)-$AD11)/($AE11-$AD11),IF(AA11="Maximum",10*$AC11*(MAXA(U11:Z11)-$AD11)/($AE11-$AD11),""))))) -> #DIV/0! | AJ11: =AG31 -> En3 | AK11: =AH31 -> #DIV/0!
G12: S2.3 | H12: Human health risk | I12: S2.3.1 | J12: Level of microbial risk | K12: LS | L12: ='2 Select and detail indicators'!Q10 -> 1 | M12: ='2 Select and detail indicators'!R10 -> 5 | N12: ='2 Select and detail indicators'!N10 -> Selected | O12: ='2 Select and detail indicators'!P10 -> 2 | P12: =L12 -> 1 | Q12: =M12 -> 5 | R12: =IF('2 Select and detail indicators'!S10="","",'2 Select and detail indicators'!S10) | S12: =IF('2 Select and detail indicators'!T10="","",'2 Select and detail indicators'!T10) | T12: =IF('2 Select and detail indicators'!U10="","",'2 Select and detail indicators'!U10) | AA12: Average | AC12: =IF(N12="Selected",IF(O12="","",O12),"") -> 2 | AD12: =IF(N12="Selected",IF(P12="","",P12),"") -> 1 | AE12: =IF(N12="Selected",IF(Q12="","",Q12),"") -> 5 | AF12: =IF($N12="Not selected","",IF(AA12="Average",10*$AC12*(AVERAGE(U12:Z12)-$AD12)/($AE12-$AD12),IF(AA12="Sum",10*$AC12*(SUM(U12:Z12)-$AD12)/($AE12-$AD12),IF(AA12="Minimum",10*$AC12*(MIN(U12:Z12)-$AD12)/($AE12-$AD12),IF(AA12="Maximum",10*$AC12*(MAXA(U12:Z12)-$AD12)/($AE12-$AD12),""))))) -> #DIV/0! | AJ12: =AG34 -> Ec1 | AK12: =AH34 -> #DIV/0!
B13: Social (S) | I13: S2.3.2 | J13: Level of chemical risk | K13: LS | L13: ='2 Select and detail indicators'!Q11 -> 1 | M13: ='2 Select and detail indicators'!R11 -> 5 | N13: ='2 Select and detail indicators'!N11 -> Selected | O13: ='2 Select and detail indicators'!P11 -> 2 | P13: =L13 -> 1 | Q13: =M13 -> 5 | R13: =IF('2 Select and detail indicators'!S11="","",'2 Select and detail indicators'!S11) | S13: =IF('2 Select and detail indicators'!T11="","",'2 Select and detail indicators'!T11) | T13: =IF('2 Select and detail indicators'!U11="","",'2 Select and detail indicators'!U11) | AA13: Average | AC13: =IF(N13="Selected",IF(O13="","",O13),"") -> 2 | AD13: =IF(N13="Selected",IF(P13="","",P13),"") -> 1 | AE13: =IF(N13="Selected",IF(Q13="","",Q13),"") -> 5 | AF13: =IF($N13="Not selected","",IF(AA13="Average",10*$AC13*(AVERAGE(U13:Z13)-$AD13)/($AE13-$AD13),IF(AA13="Sum",10*$AC13*(SUM(U13:Z13)-$AD13)/($AE13-$AD13),IF(AA13="Minimum",10*$AC13*(MIN(U13:Z13)-$AD13)/($AE13-$AD13),IF(AA13="Maximum",10*$AC13*(MAXA(U13:Z13)-$AD13)/($AE13-$AD13),""))))) -> #DIV/0! | AJ13: =AG36 -> Ec2 | AK13: =AH36 -> #DIV/0!
B14: Social (S) | G14: S2.4 | H14: Values and norms | I14: S2.4.1 | J14: Level of perceived positive feeling towards using products made of recovered resources | K14: LS | L14: ='2 Select and detail indicators'!Q12 -> 1 | M14: ='2 Select and detail indicators'!R12 -> 5 | N14: ='2 Select and detail indicators'!N12 -> Selected | O14: ='2 Select and detail indicators'!P12 -> 2 | P14: =L14 -> 1 | Q14: =M14 -> 5 | R14: =IF('2 Select and detail indicators'!S12="","",'2 Select and detail indicators'!S12) | S14: =IF('2 Select and detail indicators'!T12="","",'2 Select and detail indicators'!T12) | T14: =IF('2 Select and detail indicators'!U12="","",'2 Select and detail indicators'!U12) | AA14: Average | AC14: =IF(N14="Selected",IF(O14="","",O14),"") -> 2 | AD14: =IF(N14="Selected",IF(P14="","",P14),"") -> 1 | AE14: =IF(N14="Selected",IF(Q14="","",Q14),"") -> 5 | AF14: =IF($N14="Not selected","",IF(AA14="Average",10*$AC14*(AVERAGE(U14:Z14)-$AD14)/($AE14-$AD14),IF(AA14="Sum",10*$AC14*(SUM(U14:Z14)-$AD14)/($AE14-$AD14),IF(AA14="Minimum",10*$AC14*(MIN(U14:Z14)-$AD14)/($AE14-$AD14),IF(AA14="Maximum",10*$AC14*(MAXA(U14:Z14)-$AD14)/($AE14-$AD14),""))))) -> #DIV/0! | AJ14: =AG41 -> Ec3 | AK14: =AH41 -> #DIV/0!
B15: Social (S) | I15: S2.4.2 | J15: Level of bequest value | K15: LS | L15: ='2 Select and detail indicators'!Q13 -> 1 | M15: ='2 Select and detail indicators'!R13 -> 5 | N15: ='2 Select and detail indicators'!N13 -> Selected | O15: ='2 Select and detail indicators'!P13 -> 2 | P15: =L15 -> 1 | Q15: =M15 -> 5 | R15: =IF('2 Select and detail indicators'!S13="","",'2 Select and detail indicators'!S13) | S15: =IF('2 Select and detail indicators'!T13="","",'2 Select and detail indicators'!T13) | T15: =IF('2 Select and detail indicators'!U13="","",'2 Select and detail indicators'!U13) | AA15: Average | AC15: =IF(N15="Selected",IF(O15="","",O15),"") -> 2 | AD15: =IF(N15="Selected",IF(P15="","",P15),"") -> 1 | AE15: =IF(N15="Selected",IF(Q15="","",Q15),"") -> 5 | AF15: =IF($N15="Not selected","",IF(AA15="Average",10*$AC15*(AVERAGE(U15:Z15)-$AD15)/($AE15-$AD15),IF(AA15="Sum",10*$AC15*(SUM(U15:Z15)-$AD15)/($AE15-$AD15),IF(AA15="Minimum",10*$AC15*(MIN(U15:Z15)-$AD15)/($AE15-$AD15),IF(AA15="Maximum",10*$AC15*(MAXA(U15:Z15)-$AD15)/($AE15-$AD15),""))))) -> #DIV/0! | AJ15: =AG44 -> G1 | AK15: =AH44 -> #DIV/0!
B16: Social (S) | E16: S3 | F16: Enhance knowledge and acceptance of recovered resources and derived final products from water and wastewater management | G16: S3.1 | H16: Citizen involvement in education activities | I16: S3.1.1 | J16: Level of population percentage involved in educational activities organised by the partners of the SCES | K16: LS | L16: ='2 Select and detail indicators'!Q14 -> 1 | M16: ='2 Select and detail indicators'!R14 -> 5 | N16: ='2 Select and detail indicators'!N14 -> Selected | O16: ='2 Select and detail indicators'!P14 -> 2 | P16: =L16 -> 1 | Q16: =M16 -> 5 | R16: =IF('2 Select and detail indicators'!S14="","",'2 Select and detail indicators'!S14) | S16: =IF('2 Select and detail indicators'!T14="","",'2 Select and detail indicators'!T14) | T16: =IF('2 Select and detail indicators'!U14="","",'2 Select and detail indicators'!U14) | AA16: Average | AC16: =IF(N16="Selected",IF(O16="","",O16),"") -> 2 | AD16: =IF(N16="Selected",IF(P16="","",P16),"") -> 1 | AE16: =IF(N16="Selected",IF(Q16="","",Q16),"") -> 5 | AF16: =IF($N16="Not selected","",IF(AA16="Average",10*$AC16*(AVERAGE(U16:Z16)-$AD16)/($AE16-$AD16),IF(AA16="Sum",10*$AC16*(SUM(U16:Z16)-$AD16)/($AE16-$AD16),IF(AA16="Minimum",10*$AC16*(MIN(U16:Z16)-$AD16)/($AE16-$AD16),IF(AA16="Maximum",10*$AC16*(MAXA(U16:Z16)-$AD16)/($AE16-$AD16),""))))) -> #DIV/0! | AG16: =E16 -> S3 | AH16: =SUM(AF16:AF17)/SUM($AC16:$AC17) -> #DIV/0! | AJ16: =AG47 -> G2 | AK16: =AH47 -> #DIV/0!
B17: Social (S) | G17: S3.2 | H17: Amount of information available related to the recovered resources and derived final products | I17: S3.2.1 | J17: Level of information provided by the partners of the SCES through various channels and communication items | K17: LS | L17: ='2 Select and detail indicators'!Q15 -> 1 | M17: ='2 Select and detail indicators'!R15 -> 5 | N17: ='2 Select and detail indicators'!N15 -> Selected | O17: ='2 Select and detail indicators'!P15 -> 2 | P17: =L17 -> 1 | Q17: =M17 -> 5 | R17: =IF('2 Select and detail indicators'!S15="","",'2 Select and detail indicators'!S15) | S17: =IF('2 Select and detail indicators'!T15="","",'2 Select and detail indicators'!T15) | T17: =IF('2 Select and detail indicators'!U15="","",'2 Select and detail indicators'!U15) | AA17: Average | AC17: =IF(N17="Selected",IF(O17="","",O17),"") -> 2 | AD17: =IF(N17="Selected",IF(P17="","",P17),"") -> 1 | AE17: =IF(N17="Selected",IF(Q17="","",Q17),"") -> 5 | AF17: =IF($N17="Not selected","",IF(AA17="Average",10*$AC17*(AVERAGE(U17:Z17)-$AD17)/($AE17-$AD17),IF(AA17="Sum",10*$AC17*(SUM(U17:Z17)-$AD17)/($AE17-$AD17),IF(AA17="Minimum",10*$AC17*(MIN(U17:Z17)-$AD17)/($AE17-$AD17),IF(AA17="Maximum",10*$AC17*(MAXA(U17:Z17)-$AD17)/($AE17-$AD17),""))))) -> #DIV/0! | AJ17: =AG51 -> G3 | AK17: =AH51 -> #DIV/0!
B18: Social (S) | D18: Environment (En) | E18: En1 | F18: Minimize negative environmental impacts | G18: En1.1 | H18: Net environmental impacts from the processes to provide water services, recover resources and produce final products | I18: En1.1.1 | J18: Level of net environmental impact based on indicators from life cycle assessment (LCA) | K18: LS | L18: ='2 Select and detail indicators'!Q16 -> 1 | M18: ='2 Select and detail indicators'!R16 -> 5 | N18: ='2 Select and detail indicators'!N16 -> Selected | O18: ='2 Select and detail indicators'!P16 -> 2 | P18: =L18 -> 1 | Q18: =M18 -> 5 | R18: =IF('2 Select and detail indicators'!S16="","",'2 Select and detail indicators'!S16) | S18: =IF('2 Select and detail indicators'!T16="","",'2 Select and detail indicators'!T16) | T18: =IF('2 Select and detail indicators'!U16="","",'2 Select and detail indicators'!U16) | AA18: Average | AC18: =IF(N18="Selected",IF(O18="","",O18),"") -> 2 | AD18: =IF(N18="Selected",IF(P18="","",P18),"") -> 1 | AE18: =IF(N18="Selected",IF(Q18="","",Q18),"") -> 5 | AF18: =IF($N18="Not selected","",IF(AA18="Average",10*$AC18*(AVERAGE(U18:Z18)-$AD18)/($AE18-$AD18),IF(AA18="Sum",10*$AC18*(SUM(U18:Z18)-$AD18)/($AE18-$AD18),IF(AA18="Minimum",10*$AC18*(MIN(U18:Z18)-$AD18)/($AE18-$AD18),IF(AA18="Maximum",10*$AC18*(MAXA(U18:Z18)-$AD18)/($AE18-$AD18),""))))) -> #DIV/0! | AG18: =E18 -> En1 | AH18: =SUM(AF18:AF28)/SUM($AC18:$AC28) -> #DIV/0! | AJ18: =AG53 -> TP1 | AK18: =AH53 -> #DIV/0!
G19: En1.2 | H19: Direct and indirect discharges to water, soil, and air | I19: En1.2.1 | J19: Direct discharge to water of relevant pollutants | K19: kg/year | L19: ='2 Select and detail indicators'!Q17 -> 0 | M19: ='2 Select and detail indicators'!R17 -> #REF! | N19: ='2 Select and detail indicators'!N17 -> Selected | O19: ='2 Select and detail indicators'!P17 -> 2 | P19: =L19 -> 0 | Q19: =M19 -> #REF! | R19: =IF('2 Select and detail indicators'!S17="","",'2 Select and detail indicators'!S17) | S19: =IF('2 Select and detail indicators'!T17="","",'2 Select and detail indicators'!T17) | T19: =IF('2 Select and detail indicators'!U17="","",'2 Select and detail indicators'!U17) | AA19: Average | AC19: =IF(N19="Selected",IF(O19="","",O19),"") -> 2 | AD19: =IF(N19="Selected",IF(P19="","",P19),"") -> 0 | AE19: =IF(N19="Selected",IF(Q19="","",Q19),"") -> #REF! | AF19: =IF($N19="Not selected","",IF(AA19="Average",10*$AC19*(-AVERAGE(U19:Z19)+$AE19)/($AE19-$AD19),IF(AA19="Sum",10*$AC19*(-SUM(U19:Z19)+$AE19)/($AE19-$AD19),IF(AA19="Minimum",10*$AC19*(-MIN(U19:Z19)+$AE19)/($AE19-$AD19),IF(AA19="Maximum",10*$AC19*(-MAXA(U19:Z19)+$AE19)/($AE19-$AD19),""))))) -> #DIV/0! | AJ19: =AG60 -> TP2 | AK19: =AH60 -> #DIV/0!
I20: En1.2.2 | J20: Direct discharge to soil of relevant pollutants | K20: kg/year | L20: ='2 Select and detail indicators'!Q18 -> 0 | M20: ='2 Select and detail indicators'!R18 -> #REF! | N20: ='2 Select and detail indicators'!N18 -> Selected | O20: ='2 Select and detail indicators'!P18 -> 2 | P20: =L20 -> 0 | Q20: =M20 -> #REF! | R20: =IF('2 Select and detail indicators'!S18="","",'2 Select and detail indicators'!S18) | S20: =IF('2 Select and detail indicators'!T18="","",'2 Select and detail indicators'!T18) | T20: =IF('2 Select and detail indicators'!U18="","",'2 Select and detail indicators'!U18) | AA20: Average | AC20: =IF(N20="Selected",IF(O20="","",O20),"") -> 2 | AD20: =IF(N20="Selected",IF(P20="","",P20),"") -> 0 | AE20: =IF(N20="Selected",IF(Q20="","",Q20),"") -> #REF! | AF20: =IF($N20="Not selected","",IF(AA20="Average",10*$AC20*(-AVERAGE(U20:Z20)+$AE20)/($AE20-$AD20),IF(AA20="Sum",10*$AC20*(-SUM(U20:Z20)+$AE20)/($AE20-$AD20),IF(AA20="Minimum",10*$AC20*(-MIN(U20:Z20)+$AE20)/($AE20-$AD20),IF(AA20="Maximum",10*$AC20*(-MAXA(U20:Z20)+$AE20)/($AE20-$AD20),""))))) -> #DIV/0! | AJ20: =AG62 -> TP3 | AK20: =AH62 -> #DIV/0!
B21: Social (S) | I21: En1.2.3 | J21: Direct discharge to air of relevant pollutants | K21: kg/year | L21: ='2 Select and detail indicators'!Q19 -> 0 | M21: ='2 Select and detail indicators'!R19 -> #REF! | N21: ='2 Select and detail indicators'!N19 -> Selected | O21: ='2 Select and detail indicators'!P19 -> 2 | P21: =L21 -> 0 | Q21: =M21 -> #REF! | R21: =IF('2 Select and detail indicators'!S19="","",'2 Select and detail indicators'!S19) | S21: =IF('2 Select and detail indicators'!T19="","",'2 Select and detail indicators'!T19) | T21: =IF('2 Select and detail indicators'!U19="","",'2 Select and detail indicators'!U19) | AA21: Average | AC21: =IF(N21="Selected",IF(O21="","",O21),"") -> 2 | AD21: =IF(N21="Selected",IF(P21="","",P21),"") -> 0 | AE21: =IF(N21="Selected",IF(Q21="","",Q21),"") -> #REF! | AF21: =IF($N21="Not selected","",IF(AA21="Average",10*$AC21*(-AVERAGE(U21:Z21)+$AE21)/($AE21-$AD21),IF(AA21="Sum",10*$AC21*(-SUM(U21:Z21)+$AE21)/($AE21-$AD21),IF(AA21="Minimum",10*$AC21*(-MIN(U21:Z21)+$AE21)/($AE21-$AD21),IF(AA21="Maximum",10*$AC21*(-MAXA(U21:Z21)+$AE21)/($AE21-$AD21),""))))) -> #DIV/0!
I22: En1.2.4 | J22: Indirect discharge to water of relevant pollutants | K22: kg/year | L22: ='2 Select and detail indicators'!Q20 -> 0 | M22: ='2 Select and detail indicators'!R20 -> #REF! | N22: ='2 Select and detail indicators'!N20 -> Selected | O22: ='2 Select and detail indicators'!P20 -> 2 | P22: =L22 -> 0 | Q22: =M22 -> #REF! | R22: =IF('2 Select and detail indicators'!S20="","",'2 Select and detail indicators'!S20) | S22: =IF('2 Select and detail indicators'!T20="","",'2 Select and detail indicators'!T20) | T22: =IF('2 Select and detail indicators'!U20="","",'2 Select and detail indicators'!U20) | AA22: Average | AC22: =IF(N22="Selected",IF(O22="","",O22),"") -> 2 | AD22: =IF(N22="Selected",IF(P22="","",P22),"") -> 0 | AE22: =IF(N22="Selected",IF(Q22="","",Q22),"") -> #REF! | AF22: =IF($N22="Not selected","",IF(AA22="Average",10*$AC22*(-AVERAGE(U22:Z22)+$AE22)/($AE22-$AD22),IF(AA22="Sum",10*$AC22*(-SUM(U22:Z22)+$AE22)/($AE22-$AD22),IF(AA22="Minimum",10*$AC22*(-MIN(U22:Z22)+$AE22)/($AE22-$AD22),IF(AA22="Maximum",10*$AC22*(-MAXA(U22:Z22)+$AE22)/($AE22-$AD22),""))))) -> #DIV/0!
I23: En1.2.5 | J23: Indirect discharge to soil of relevant pollutants | K23: kg/year | L23: ='2 Select and detail indicators'!Q21 -> 0 | M23: ='2 Select and detail indicators'!R21 -> #REF! | N23: ='2 Select and detail indicators'!N21 -> Selected | O23: ='2 Select and detail indicators'!P21 -> 2 | P23: =L23 -> 0 | Q23: =M23 -> #REF! | R23: =IF('2 Select and detail indicators'!S21="","",'2 Select and detail indicators'!S21) | S23: =IF('2 Select and detail indicators'!T21="","",'2 Select and detail indicators'!T21) | T23: =IF('2 Select and detail indicators'!U21="","",'2 Select and detail indicators'!U21) | AA23: Average | AC23: =IF(N23="Selected",IF(O23="","",O23),"") -> 2 | AD23: =IF(N23="Selected",IF(P23="","",P23),"") -> 0 | AE23: =IF(N23="Selected",IF(Q23="","",Q23),"") -> #REF! | AF23: =IF($N23="Not selected","",IF(AA23="Average",10*$AC23*(-AVERAGE(U23:Z23)+$AE23)/($AE23-$AD23),IF(AA23="Sum",10*$AC23*(-SUM(U23:Z23)+$AE23)/($AE23-$AD23),IF(AA23="Minimum",10*$AC23*(-MIN(U23:Z23)+$AE23)/($AE23-$AD23),IF(AA23="Maximum",10*$AC23*(-MAXA(U23:Z23)+$AE23)/($AE23-$AD23),""))))) -> #DIV/0!
B24: Social (S) | I24: En1.2.6 | J24: Indirect discharge to air of relevant pollutants | K24: kg/year | L24: ='2 Select and detail indicators'!Q22 -> 0 | M24: ='2 Select and detail indicators'!R22 -> #REF! | N24: ='2 Select and detail indicators'!N22 -> Selected | O24: ='2 Select and detail indicators'!P22 -> 2 | P24: =L24 -> 0 | Q24: =M24 -> #REF! | R24: =IF('2 Select and detail indicators'!S22="","",'2 Select and detail indicators'!S22) | S24: =IF('2 Select and detail indicators'!T22="","",'2 Select and detail indicators'!T22) | T24: =IF('2 Select and detail indicators'!U22="","",'2 Select and detail indicators'!U22) | AA24: Average | AC24: =IF(N24="Selected",IF(O24="","",O24),"") -> 2 | AD24: =IF(N24="Selected",IF(P24="","",P24),"") -> 0 | AE24: =IF(N24="Selected",IF(Q24="","",Q24),"") -> #REF! | AF24: =IF($N24="Not selected","",IF(AA24="Average",10*$AC24*(-AVERAGE(U24:Z24)+$AE24)/($AE24-$AD24),IF(AA24="Sum",10*$AC24*(-SUM(U24:Z24)+$AE24)/($AE24-$AD24),IF(AA24="Minimum",10*$AC24*(-MIN(U24:Z24)+$AE24)/($AE24-$AD24),IF(AA24="Maximum",10*$AC24*(-MAXA(U24:Z24)+$AE24)/($AE24-$AD24),""))))) -> #DIV/0!
G25: En1.3 | H25: Chemical risk for water, soil, and air | I25: En1.3.1 | J25: Level of chemical risk for water | K25: LS | L25: ='2 Select and detail indicators'!Q23 -> 1 | M25: ='2 Select and detail indicators'!R23 -> 5 | N25: ='2 Select and detail indicators'!N23 -> Selected | O25: ='2 Select and detail indicators'!P23 -> 2 | P25: =L25 -> 1 | Q25: =M25 -> 5 | R25: =IF('2 Select and detail indicators'!S23="","",'2 Select and detail indicators'!S23) | S25: =IF('2 Select and detail indicators'!T23="","",'2 Select and detail indicators'!T23) | T25: =IF('2 Select and detail indicators'!U23="","",'2 Select and detail indicators'!U23) | AA25: Average | AC25: =IF(N25="Selected",IF(O25="","",O25),"") -> 2 | AD25: =IF(N25="Selected",IF(P25="","",P25),"") -> 1 | AE25: =IF(N25="Selected",IF(Q25="","",Q25),"") -> 5 | AF25: =IF($N25="Not selected","",IF(AA25="Average",10*$AC25*(AVERAGE(U25:Z25)-$AD25)/($AE25-$AD25),IF(AA25="Sum",10*$AC25*(SUM(U25:Z25)-$AD25)/($AE25-$AD25),IF(AA25="Minimum",10*$AC25*(MIN(U25:Z25)-$AD25)/($AE25-$AD25),IF(AA25="Maximum",10*$AC25*(MAXA(U25:Z25)-$AD25)/($AE25-$AD25),""))))) -> #DIV/0!
B26: Environment (En) | C26: Environment (En) | I26: En1.3.2 | J26: Level of chemical risk for soil | K26: LS | L26: ='2 Select and detail indicators'!Q24 -> 1 | M26: ='2 Select and detail indicators'!R24 -> 5 | N26: ='2 Select and detail indicators'!N24 -> Selected | O26: ='2 Select and detail indicators'!P24 -> 2 | P26: =L26 -> 1 | Q26: =M26 -> 5 | R26: =IF('2 Select and detail indicators'!S24="","",'2 Select and detail indicators'!S24) | S26: =IF('2 Select and detail indicators'!T24="","",'2 Select and detail indicators'!T24) | T26: =IF('2 Select and detail indicators'!U24="","",'2 Select and detail indicators'!U24) | AA26: Average | AC26: =IF(N26="Selected",IF(O26="","",O26),"") -> 2 | AD26: =IF(N26="Selected",IF(P26="","",P26),"") -> 1 | AE26: =IF(N26="Selected",IF(Q26="","",Q26),"") -> 5 | AF26: =IF($N26="Not selected","",IF(AA26="Average",10*$AC26*(AVERAGE(U26:Z26)-$AD26)/($AE26-$AD26),IF(AA26="Sum",10*$AC26*(SUM(U26:Z26)-$AD26)/($AE26-$AD26),IF(AA26="Minimum",10*$AC26*(MIN(U26:Z26)-$AD26)/($AE26-$AD26),IF(AA26="Maximum",10*$AC26*(MAXA(U26:Z26)-$AD26)/($AE26-$AD26),""))))) -> #DIV/0!
B27: Environment (En) | I27: En1.3.3 | J27: Level of chemical risk for air | K27: LS | L27: ='2 Select and detail indicators'!Q25 -> 1 | M27: ='2 Select and detail indicators'!R25 -> 5 | N27: ='2 Select and detail indicators'!N25 -> Selected | O27: ='2 Select and detail indicators'!P25 -> 2 | P27: =L27 -> 1 | Q27: =M27 -> 5 | R27: =IF('2 Select and detail indicators'!S25="","",'2 Select and detail indicators'!S25) | S27: =IF('2 Select and detail indicators'!T25="","",'2 Select and detail indicators'!T25) | T27: =IF('2 Select and detail indicators'!U25="","",'2 Select and detail indicators'!U25) | AA27: Average | AC27: =IF(N27="Selected",IF(O27="","",O27),"") -> 2 | AD27: =IF(N27="Selected",IF(P27="","",P27),"") -> 1 | AE27: =IF(N27="Selected",IF(Q27="","",Q27),"") -> 5 | AF27: =IF($N27="Not selected","",IF(AA27="Average",10*$AC27*(AVERAGE(U27:Z27)-$AD27)/($AE27-$AD27),IF(AA27="Sum",10*$AC27*(SUM(U27:Z27)-$AD27)/($AE27-$AD27),IF(AA27="Minimum",10*$AC27*(MIN(U27:Z27)-$AD27)/($AE27-$AD27),IF(AA27="Maximum",10*$AC27*(MAXA(U27:Z27)-$AD27)/($AE27-$AD27),""))))) -> #DIV/0!
B28: Environment (En) | G28: En1.4 | H28: Contribution to counteract shortage of water | I28: En1.4.1 | J28: Level of water footprint | K28: LS | L28: ='2 Select and detail indicators'!Q26 -> 1 | M28: ='2 Select and detail indicators'!R26 -> 5 | N28: ='2 Select and detail indicators'!N26 -> Selected | O28: ='2 Select and detail indicators'!P26 -> 2 | P28: =L28 -> 1 | Q28: =M28 -> 5 | R28: =IF('2 Select and detail indicators'!S26="","",'2 Select and detail indicators'!S26) | S28: =IF('2 Select and detail indicators'!T26="","",'2 Select and detail indicators'!T26) | T28: =IF('2 Select and detail indicators'!U26="","",'2 Select and detail indicators'!U26) | AA28: Average | AC28: =IF(N28="Selected",IF(O28="","",O28),"") -> 2 | AD28: =IF(N28="Selected",IF(P28="","",P28),"") -> 1 | AE28: =IF(N28="Selected",IF(Q28="","",Q28),"") -> 5 | AF28: =IF($N28="Not selected","",IF(AA28="Average",10*$AC28*(AVERAGE(U28:Z28)-$AD28)/($AE28-$AD28),IF(AA28="Sum",10*$AC28*(SUM(U28:Z28)-$AD28)/($AE28-$AD28),IF(AA28="Minimum",10*$AC28*(MIN(U28:Z28)-$AD28)/($AE28-$AD28),IF(AA28="Maximum",10*$AC28*(MAXA(U28:Z28)-$AD28)/($AE28-$AD28),""))))) -> #DIV/0!
B29: Environment (En) | E29: En2 | F29: Preserve nature | G29: En2.1 | H29: Effect on biodiversity | I29: En2.1.1 | J29: Level of remaining ecosystem area | K29: LS | L29: ='2 Select and detail indicators'!Q27 -> 1 | M29: ='2 Select and detail indicators'!R27 -> 5 | N29: ='2 Select and detail indicators'!N27 -> Selected | O29: ='2 Select and detail indicators'!P27 -> 2 | P29: =L29 -> 1 | Q29: =M29 -> 5 | R29: =IF('2 Select and detail indicators'!S27="","",'2 Select and detail indicators'!S27) | S29: =IF('2 Select and detail indicators'!T27="","",'2 Select and detail indicators'!T27) | T29: =IF('2 Select and detail indicators'!U27="","",'2 Select and detail indicators'!U27) | AA29: Average | AC29: =IF(N29="Selected",IF(O29="","",O29),"") -> 2 | AD29: =IF(N29="Selected",IF(P29="","",P29),"") -> 1 | AE29: =IF(N29="Selected",IF(Q29="","",Q29),"") -> 5 | AF29: =IF($N29="Not selected","",IF(AA29="Average",10*$AC29*(AVERAGE(U29:Z29)-$AD29)/($AE29-$AD29),IF(AA29="Sum",10*$AC29*(SUM(U29:Z29)-$AD29)/($AE29-$AD29),IF(AA29="Minimum",10*$AC29*(MIN(U29:Z29)-$AD29)/($AE29-$AD29),IF(AA29="Maximum",10*$AC29*(MAXA(U29:Z29)-$AD29)/($AE29-$AD29),""))))) -> #DIV/0! | AG29: =E29 -> En2 | AH29: =SUM(AF29:AF30)/SUM($AC29:$AC30) -> #DIV/0!
B30: Environment (En) | I30: En2.1.2 | J30: Level of ecosystem health | K30: LS | L30: ='2 Select and detail indicators'!Q28 -> 1 | M30: ='2 Select and detail indicators'!R28 -> 5 | N30: ='2 Select and detail indicators'!N28 -> Selected | O30: ='2 Select and detail indicators'!P28 -> 2 | P30: =L30 -> 1 | Q30: =M30 -> 5 | R30: =IF('2 Select and detail indicators'!S28="","",'2 Select and detail indicators'!S28) | S30: =IF('2 Select and detail indicators'!T28="","",'2 Select and detail indicators'!T28) | T30: =IF('2 Select and detail indicators'!U28="","",'2 Select and detail indicators'!U28) | AA30: Average | AC30: =IF(N30="Selected",IF(O30="","",O30),"") -> 2 | AD30: =IF(N30="Selected",IF(P30="","",P30),"") -> 1 | AE30: =IF(N30="Selected",IF(Q30="","",Q30),"") -> 5 | AF30: =IF($N30="Not selected","",IF(AA30="Average",10*$AC30*(AVERAGE(U30:Z30)-$AD30)/($AE30-$AD30),IF(AA30="Sum",10*$AC30*(SUM(U30:Z30)-$AD30)/($AE30-$AD30),IF(AA30="Minimum",10*$AC30*(MIN(U30:Z30)-$AD30)/($AE30-$AD30),IF(AA30="Maximum",10*$AC30*(MAXA(U30:Z30)-$AD30)/($AE30-$AD30),""))))) -> #DIV/0!
