Workbook

Sheet Working
B1: Body Area | C1: Body Area Modified | E1: System | F1: System Modified | H1: Condition | I1: Condition Modified | K1: Sample Size | L1: Y/N | M1: Size | O1: Intended User (free text) | P1: Y/NIntended User (free text) Modified | U1: Risk Level
B2: head, body, or extremities | C2: head, body, or extremities | E2: breast | F2: breast | H2: Type 1 diabetes | I2: Type 1 diabetes | K2: 1 | L2: Y | M2: 1 | O2: qualified, trained radiation therapy professionals (such as medical physicists, oncologists, and dosimetrists) | P2: qualified, trained radiation therapy professionals (such as medical physicists, oncologists, and dosimetrists) | U2: NA | V2: No
B3: Abdomen | C3: Abdomen | E3: brest | F3: breast | H3: acceptance,transfer, storage, image display, manipulation, quantification and reporting of digital medical images | I3: acceptance,transfer, storage, image display, manipulation, quantification and reporting of digital medical images | K3: 10 subject datasets for developmental testing; 34 subjects for validation testing | L3: Y | M3: 10 | O3: Adults 22 or older | P3: Adults 22 or older | U3: NA | V3: No
B4: All | C4: All | E4: cardio-respiratory | F4: cardio-respiratory | H4: Acute intracranial hemorrhage | I4: Acute intracranial hemorrhage | K4: 10 subjects in pilot phase, 120 subjects in main pivotal study | L4: Y | M4: 10 | O4: Adults and /or transitional adults 18 or older | P4: Adults and transitioning adults 18 or older | U4: NA | V4: No
B5: Arteries and veins | C5: All | E5: Cardiovascular | F5: Cardiovascular | H5: Amyloid, etc | I5: Amyloid, etc | K5: 10 users | L5: Y | M5: 10 | O5: Adults and transitioning adults 18 or older | P5: Adults and transitioning adults 18 or older | U5: NA | V5: No
B6: Biliary system | C6: Biliary system | E6: cardiovascular | F6: Cardiovascular | H6: Analysis of Clinical Data | I6: Analysis of Clinical Data | K6: 12 | L6: Y | M6: 12 | O6: Appropriately trained medical specialists who are qualified to interpret chest radiographs. | P6: Appropriately trained medical specialists who are qualified to interpret chest radiographs. | U6: NA | V6: No
B7: Bladder | C7: Bladder | E7: Cardiovascular/Respiratory | F7: Cardiovascular | H7: Analysis Of Digital Breast Tomosynthesis (DBT) Mammograms | I7: Analysis Of Digital Breast Tomosynthesis (DBT) Mammograms | K7: 15 | L7: Y | M7: 15 | O7: authorized healthcare professionals. | P7: authorized healthcare professionals. | U7: NA | V7: No
B8: bladder | C8: Bladder | E8: chest | F8: chest | H8: Analyzing previously acquired Electrocardiogram | I8: Analyzing previously acquired Electrocardiogram | K8: 18 subjects | L8: Y | M8: 18 | O8: Board licensed Dentists | P8: Board licensed Dentists | U8: NA | V8: No
B9: Blood | C9: Blood | E9: Circulatory | F9: Circulatory | H9: arrhythmia | I9: arrhythmia | K9: 21 patients | L9: Y | M9: 21 | O9: Clinician | P9: clinician | U9: NA | V9: No
B10: Blood vessels | C10: Blood vessels | E10: Dental | F10: Dental | H10: Arrhythmia | I10: arrhythmia | K10: 24 clinical readers and 238 cases | L10: Y | M10: 24 | O10: clinician | P10: clinician | U10: NA | V10: No
B11: Body Area | C11: Body Area | E11: Digestive | F11: Digestive | H11: Arrhythmias | I11: arrhythmia | K11: 25 adult subjects | L11: Y | M11: 25 | O11: Clinicians | P11: clinician | U11: NA | V11: No
B12: Body fluid samples | C12: Body fluids | E12: Digestive/Urinary | F12: Digestive | H12: Arrythmia and heart conditions | I12: Arrythmia and heart conditions | K12: 39 | L12: Y | M12: 39 | O12: clinicians | P12: clinician | U12: Moderate level | V12: Yes
B13: Body fluids | C13: Body fluids | E13: Endocrine | F13: Endocrine | H13: arrythmias | I13: arrhythmia | K13: 44 participants | L13: Y | M13: 44 | O13: clinicians in various settings including primary care (e.g., family practice, internal medicine), emergency medicine, urgent care, and specialty care (e.g., orthopedics), as well as radiologists who review radiographs across settings. | P13: clinician | U13: NA | V13: No
B14: Body fluids such as cerebrospinal and serous fluid; Peripheral blood | C14: Body fluids | E14: Hematological | F14: Hematological | H14: atrial fib | I14: Atrial Fibrillation | K14: 45 exams | L14: Y | M14: 45 | O14: Clinicians, Med Lab Scientists | P14: clinician | U14: Moderate level | V14: Yes
B15: Bone | C15: Bone | E15: Lymphatic | F15: Lymphatic | H15: Atrial Fibrillation | I15: Atrial Fibrillation | K15: 47 | L15: Y | M15: 47 | O15: Clnicians | P15: clinician | U15: NA | V15: No
B16: Bones | C16: Bone | E16: mammary glands | F16: mammary glands | H16: atrial fibrillation | I16: Atrial Fibrillation | K16: 50 | L16: Y | M16: 50 | O16: Designed to be used by trained clinicians | P16: clinician | U16: NA | V16: No
B17: Bones and jointss | C17: Bone | E17: Microbiology | F17: Microbiology | H17: Atrial fibrillation | I17: Atrial Fibrillation | K17: 60 | L17: Y | M17: 60 | O17: Dosimetrists, Medical Physicists, and Radiation Oncologists | P17: Dosimetrists, Medical Physicists, and Radiation Oncologists | U17: NA | V17: No
B18: Brain | C18: Brain | E18: Multiple | F18: Multiple systems | H18: Autism spectrum disorder | I18: Autism spectrum disorder | K18: 60 cases | L18: Y | M18: 60 | O18: Endoscopists | P18: Endoscopists | U18: NA | V18: No
B19: brain | C19: Brain | E19: Multiple systems | F19: Multiple systems | H19: automatic labeling, spatial measurement, and volumetric quantification ofbrain structures | I19: automatic labeling, spatial measurement, and volumetric quantification ofbrain structures | K19: 81 | L19: Y | M19: 81 | O19: Health care professional | P19: Health care professional | U19: Moderate level | V19: Yes
B20: brain | C20: Brain | E20: Multisystem | F20: Multiple systems | H20: Automatic labeling, visualization, and volumetric quantification of segmentable brain structures from a set of magnetic resonance (MR) images | I20: Automatic labeling, visualization, and volumetric quantification of segmentable brain structures from a set of magnetic resonance (MR) images | K20: 89 Subjects | L20: Y | M20: 89 | O20: health professional | P20: Health care professional | U20: None | V20: No
B21: Brain | C21: Brain | E21: MusculoSkeletal | F21: MusculoSkeletal | H21: Biometric data capture | I21: Biometric data capture | K21: 101 subjects | L21: Y | M21: 101 | O21: healthcare practitioners (e.g., doctors, nurses, sonographers) who are trained in the use of ultrasound imaging technology | P21: Health care professional | U21: None | V21: No
B22: Brain [CT] | C22: Brain | E22: Nervous | F22: Nervous | H22: Blood constuition analysis | I22: Blood constuition analysis | K22: 113 | L22: Y | M22: 113 | O22: Healthcare professionals | P22: Health care professional | U22: None | V22: No
B23: Brain imaging | C23: Brain | E23: Neurology | F23: Neurology | H23: Bone disease | I23: Bone disease | K23: 116 cases and 238 tumours | L23: Y | M23: 116 | O23: Healthcare professionals and researchers | P23: Health care professional | U23: None | V23: No
B24: Brain, Spine, Knee, Ankle, Shoulder and Hip | C24: Brain, Spine, Knee, Ankle, Shoulder and Hip | E24: Oncology | F24: Oncology | H24: Braest tumors | I24: Braest tumors | K24: 133 cases | L24: Y | M24: 133 | O24: Healthcare professionals, adult patients (22 years or older) with known or suspected heart conditions, and health conscious individuals | P24: Health care professional | U24: None | V24: No
B25: Breast | C25: Breast | E25: opththalmology | F25: opththalmology | H25: Brain tumour | I25: Brain tumour | K25: 145 | L25: Y | M25: 145 | O25: healthcare professionals/surgeons | P25: Health care professional | U25: None | V25: No
B26: breast | C26: Breast | E26: Reproductive | F26: Reproductive | H26: Breast Cancer | I26: Breast Cancer | K26: 150 anonymized CT Scans | L26: Y | M26: 150 | O26: Healthcare provider licensed or authorized to perform auscultation | P26: Health care professional | U26: None | V26: No
B27: Breast | C27: Breast | E27: Respiratory | F27: Respiratory | H27: Breast cancer | I27: Breast Cancer | K27: 156 samples (89 CSF and 69 Blood Film) | L27: Y | M27: 156 | O27: healthcare providers | P27: Health care professional | U27: None | V27: No
B28: Breast US | C28: Breast | E28: Skeletal | F28: Skeletal | H28: breast composition categories | I28: breast composition categories | K28: 157 | L28: Y | M28: 157 | O28: Healthcare Providers and Researchers | P28: Health care professional | U28: None | V28: No
B29: Breast/ Thyroid US | C29: Breast | E29: skeletal | F29: Skeletal | H29: breast density assessment | I29: breast density assessment | K29: 159 cases | L29: Y | M29: 159 | O29: Home use | P29: Home use | U29: None | V29: No
B30: Breat | C30: Breast | E30: soft tissue | F30: soft tissue | H30: Breast diseases | I30: Breast diseases | K30: 184 | L30: Y | M30: 184 | O30: hospital networks and trained clinicians | P30: hospital networks and trained clinicians | U30: None | V30: No
B31: Brest | C31: Breast | E31: Urinary | F31: Urinary | H31: Breast lesions | I31: Breast lesions | K31: 18 radiologist readers; 185 cases (52 breast cancer, 133 without breast cancer) | L31: Y | M31: 185 | O31: Individuals at home | P31: Individuals at home | U31: None | V31: No
B32: cardiac | C32: cardiac | E32: Vascular | F32: Vascular | H32: Breast mass | I32: Breast mass | K32: 186 | L32: Y | M32: 186 | O32: Intended for use by qualified trained medical professionals for enhancement of MRI images that are transferred in the network in DICOM format. | P32: Intended for use by qualified trained medical professionals for enhancement of MRI images that are transferred in the network in DICOM format. | U32: None | V32: No
B33: Cardiac scanning | C33: cardiac | E33: whole body | F33: whole body | H33: Breast pathology | I33: Breast pathology | K33: 200 | L33: Y | M33: 200 | O33: Intended users include licensed qualified healthcare professionals (HCPs) trained to independently place and/or assess endotracheal tube placement and radiologists | P33: Intended users include licensed qualified healthcare professionals (HCPs) trained to independently place and/or assess endotracheal tube placement and radiologists | U33: None | V33: No
B34: Cardiology | C34: Cardiology | E34: Nervous | F34: Nervous | H34: Breast tissue disease | I34: Breast tissue disease | K34: 220 cases | L34: Y | M34: 220 | O34: Licensed Physicians | P34: Licensed Physicians | U34: None | V34: No
B35: Cardiothoracic | C35: Cardiothoracic | E35: Cardiovascular; Respiratory | F35: cardio-respiratory | H35: Calcified coronary lesions | I35: Calcified coronary lesions | K35: 220 biopsy locations (90 cancerous, 130 non-cancerous) and 150 cases (44 Normal; hence no biopsies) | L35: Y | M35: 221 | O35: Licensed Practitioners | P35: Licensed Practitioners | U35: None | V35: No
B36: cardiovascular | C36: cardiovascular | E36: Gastrointestinal | F36: Gastrointestinal | H36: Cancer | I36: Cancer | K36: 226 adult radiographs | L36: Y | M36: 226 | O36: MD | P36: MD | U36: None | V36: No
B37: Cervical spine | C37: Cervical spine | E37: Radiology | F37: Radiology | H37: CArdiac Abnormalities | I37: CArdiac Abnormalities | K37: 232 Cases | L37: Y | M37: 232 | O37: medical image processing library intended to produce derived data sets for use as input into radiation therapy treatmen | P37: medical image processing library intended to produce derived data sets for use as input into radiation therapy treatmen | U37: None | V37: No
B38: Cervix (for cervical cytology) | C38: Cervix (for cervical cytology) | E38: Urogenital | F38: Urogenital | H38: Cardiac Arrhythmia | I38: Cardiac Arrhythmia | K38: 240 | L38: Y | M38: 240 | O38: Medical Professional | P38: Medical Professional | U38: None | V38: No
B39: Chest | C39: Chest | E39: Opthamology | F39: opththalmology | H39: Cardiac arrythmias | I39: Cardiac Arrhythmia | K39: 244 Patients | L39: Y | M39: 244 | O39: medical professional | P39: Medical Professional | U39: None | V39: No
B40: chest | C40: Chest | E40: musculo-skeletal | F40: MusculoSkeletal | H40: Cardiac conditions | I40: Cardiac conditions | K40: 260 samples (62 CSF, 151 serous fluid, 47 synovial fluid) | L40: Y | M40: 260 | O40: medical professional | P40: Medical Professional | U40: None | V40: No
...

Sheet Analysis
B2: Analysis
O53: Socioeconomic = income level
O55: Demographic = anything outside Age, Race, Gender
O104: Results vs Stats analysis vs Performance
A211: Year | B211: Number of FDA approvals for AI/ML-enabled medical devices | C211: Licensed for children | D211: Devices tested and validated for children and adults
A212: 1995 | B212: 1
A213: 1996 | B213: 0
A214: 1997 | B214: 1
A215: 1998 | B215: 0
A216: 1999 | B216: 0
A217: 2000 | B217: 0
A218: 2001 | B218: 1
A219: 2002 | B219: 0
A220: 2003 | B220: 0
A221: 2004 | B221: 1
A222: 2005 | B222: 0
A223: 2006 | B223: 0
... A231: 2014 | B231: 6
A232: 2015 | B232: 5 | C232: 1
A233: 2016 | B233: 19 | C233: 0
A234: 2017 | B234: 26 | C234: 1 | D234: 4
A235: 2018 | B235: 63 | C235: 7 | D235: 7
A236: 2019 | B236: 76 | C236: 4 | D236: 10
A237: 2020 | B237: 108 | C237: 13 | D237: 16
A238: 2021 | B238: 123 | C238: 10 | D238: 18
A239: 2022 | B239: 139 | C239: 24 | D239: 45
A240: 2023 | B240: 108 | C240: 9 | D240: 34
A245: AI/ML Devices with Exclusive Indications
A246: Adult Female | B246: 39 | M246: Devices Licensed for Children
A247: Adult Male | B247: 10 | M247: Yes | N247: 69
A248: Pediatric | B248: 4 | M248: No | N248: 623
A249: Geriatric | B249: 3
B250: 636
A268: Regulatory Class | B268: Number of devices | H268: Number of devices
A269: II | B269: 690 | G269: Yes | H269: 153
A270: III | B270: 2 | G270: No | H270: 539
L271: Devices Tested and Validated in Children and Adults
L272: Yes | M272: 134
L273: No | M273: 558
D293: Availablity of Age Data
...

Sheet Data 2024
A1: Device Name | B1: Submission Number | C1: Company | D1: Primary Product Code | E1: Panel (Lead) | F1: Body Area | G1: Body Area Modified | H1: System | I1: System Modified | J1: Condition | K1: Condition Modifed | L1: Regulatory Class | M1: Date of Final Decision | N1: PMA Y/N/NA | O1: Link to validation paper Y/N | P1: Indications for use Y/N | Q1: Demographic info in indications or intended patient population Y/N | R1: Race data provided Y/N | S1: Age Data Provided Y/N | T1: Socioeconomic Data Provided Y/N | U1: Performance studies stated Y/N | V1: Licensed for children? Y/N/Unclear | W1: Tested and validated on children and adults as appropriate? Y/N/NA/Unclear | X1: Statistical analysis Y/N/Unclear | Y1: Results Provided Y/N | Z1: Sample Size | AA1: Y/N | AB1: Size | AC1: Number of testing sites e.g. Hospital, clinic, market testing | AD1: Risk Level | AE1: Intended user specified Y/N | AF1: Intended User (free text) | AG1: Intended User (free text) Modified | AH1: Machine Learning Technique specified Y/N? | AI1: Has a Prospective Study Y/N | AJ1: Adverse Reporting Y?N
A2: Brainomix 360 Triage ICH | B2: K231195 | C2: Brainomix Limited | D2: QAS | E2: Radiology | F2: Head | G2: =iferror(VLOOKUP(F2,Working!$B:$C,2,FALSE),"") -> Head | H2: Neurology | I2: =iferror(VLOOKUP(H2,Working!$E:$F,2,FALSE),"") -> Neurology | J2: Suspected Intracranial hemorrhage | K2: =iferror(VLOOKUP(J2,Working!$H:$I,2,FALSE),"") -> Acute intracranial hemorrhage | L2: II | M2: 45134 | N2: N | O2: N | P2: Y | Q2: Y | R2: N | S2: N | T2: N | U2: Y | V2: Unclear | W2: Unclear | X2: Y | Y2: Y | Z2: 341 non-contrast Computed Tomography scans | AA2: =iferror(VLOOKUP(Z2,Working!$K:$M,2,FALSE),"") -> Y | AB2: =iferror(VLOOKUP(Z2,Working!$K:$M,3,FALSE),"") -> 341 | AC2: Clinic | AD2: NA | AE2: Y | AF2: Qualified Physician | AG2: =iferror(VLOOKUP(AF2,Working!$O:$P,2,FALSE),"") -> Trained physicians | AH2: N | AI2: N | AJ2: N
A3: Global Hypoperfusion Index (GHI) Algorithm | B3: K231038 | C3: Edwards Lifesciences, LLC | D3: QNL | E3: Cardiovascular | F3: Heart | G3: =iferror(VLOOKUP(F3,Working!$B:$C,2,FALSE),"") -> Heart | H3: Cardiovascular | I3: =iferror(VLOOKUP(H3,Working!$E:$F,2,FALSE),"") -> Cardiovascular | J3: Patients receiving advanced Hemodynamic Monitoring with the Swan-Ganz catheter | K3: =iferror(VLOOKUP(J3,Working!$H:$I,2,FALSE),"") -> Hemodynamic instability | L3: II | M3: 45133 | N3: N | O3: N | P3: Y | Q3: Y | R3: N | S3: N | T3: N | U3: N | V3: Unclear | W3: Unclear | X3: N | Y3: N | Z3: NA | AA3: =iferror(VLOOKUP(Z3,Working!$K:$M,2,FALSE),"") -> NA | AB3: =iferror(VLOOKUP(Z3,Working!$K:$M,3,FALSE),"") | AC3: NA | AD3: NA | AE3: Y | AF3: Clinicians | AG3: =iferror(VLOOKUP(AF3,Working!$O:$P,2,FALSE),"") -> clinician | AH3: Y | AI3: Y | AJ3: N
A4: ME-APDS™; MAGENTIQ-COLO™ | B4: K223473 | C4: Magentiq Eye LTD | D4: QNP | E4: Gastroenterology/Urology | F4: Colon | G4: =iferror(VLOOKUP(F4,Working!$B:$C,2,FALSE),"") -> Colon | H4: Gastrointestinal | I4: =iferror(VLOOKUP(H4,Working!$E:$F,2,FALSE),"") -> Gastrointestinal | J4: Identification of lesions in Endoscopy | K4: =iferror(VLOOKUP(J4,Working!$H:$I,2,FALSE),"") -> Endoscopy | L4: II | M4: 45132 | N4: N | O4: N | P4: Y | Q4: N | R4: N | S4: N | T4: N | U4: Y | V4: Unclear | W4: Y | X4: Y | Y4: Y | Z4: 172 colonoscopy videos | AA4: =iferror(VLOOKUP(Z4,Working!$K:$M,2,FALSE),"") -> Y | AB4: =iferror(VLOOKUP(Z4,Working!$K:$M,3,FALSE),"") -> 172 | AC4: Clinic and Non-clinic | AD4: NA | AE4: Y | AF4: Endoscopiosts | AG4: =iferror(VLOOKUP(AF4,Working!$O:$P,2,FALSE),"") -> Endoscopists | AH4: Y | AI4: N | AJ4: N
A5: Sonio Detect | B5: K230365 | C5: Sonio | D5: IYN | E5: Radiology | F5: Fetus | G5: =iferror(VLOOKUP(F5,Working!$B:$C,2,FALSE),"") -> Fetus | H5: Radiology | I5: =iferror(VLOOKUP(H5,Working!$E:$F,2,FALSE),"") -> Radiology | J5: Detect anatomical structures in a fetus | K5: =iferror(VLOOKUP(J5,Working!$H:$I,2,FALSE),"") -> fetus | L5: II | M5: 45132 | N5: N | O5: N | P5: Y | Q5: Y | R5: N | S5: N | T5: N | U5: Y | V5: Unclear | W5: Unclear | X5: Y | Y5: Y | Z5: 17885 fetal ultrasound images | AA5: =iferror(VLOOKUP(Z5,Working!$K:$M,2,FALSE),"") -> Y | AB5: =iferror(VLOOKUP(Z5,Working!$K:$M,3,FALSE),"") -> 17885 | AC5: Clinical (7) | AD5: NA | AE5: N | AF5: NA | AG5: =iferror(VLOOKUP(AF5,Working!$O:$P,2,FALSE),"") -> NA | AH5: Y | AI5: N | AJ5: N
A6: ANDI | B6: K230913 | C6: Imeka Solutions, Inc. | D6: QIH | E6: Radiology | F6: Head | G6: =iferror(VLOOKUP(F6,Working!$B:$C,2,FALSE),"") -> Head | H6: Neurology | I6: =iferror(VLOOKUP(H6,Working!$E:$F,2,FALSE),"") -> Neurology | J6: Measurement of brain white matter | K6: =iferror(VLOOKUP(J6,Working!$H:$I,2,FALSE),"") -> Measurement of brain white matter | L6: II | M6: 45132 | N6: N | O6: N | P6: Y | Q6: N | R6: N | S6: N | T6: N | U6: N | V6: Unclear | W6: Y | X6: N | Y6: N | Z6: NA | AA6: =iferror(VLOOKUP(Z6,Working!$K:$M,2,FALSE),"") -> NA | AB6: =iferror(VLOOKUP(Z6,Working!$K:$M,3,FALSE),"") | AC6: Clinical, Non-clinical | AD6: NA | AE6: Y | AF6: Medical Professionals | AG6: =iferror(VLOOKUP(AF6,Working!$O:$P,2,FALSE),"") -> Medical Professional | AH6: N | AI6: N | AJ6: N
A7: UltraSight AI Guidance | B7: K223347 | C7: UltraSight Inc | D7: QJU | E7: Radiology | F7: Heart | G7: =iferror(VLOOKUP(F7,Working!$B:$C,2,FALSE),"") -> Heart | H7: Cardiovascular | I7: =iferror(VLOOKUP(H7,Working!$E:$F,2,FALSE),"") -> Cardiovascular | J7: Aquiring Cardiac Ultrasound Images | K7: =iferror(VLOOKUP(J7,Working!$H:$I,2,FALSE),"") -> Ultrasound Imaging | L7: II | M7: 45131 | N7: N | O7: N | P7: Y | Q7: N | R7: N | S7: N | T7: N | U7: Y | V7: Unclear | W7: Y | X7: Y | Z7: 580 | AA7: =iferror(VLOOKUP(Z7,Working!$K:$M,2,FALSE),"") -> Y | AB7: =iferror(VLOOKUP(Z7,Working!$K:$M,3,FALSE),"") -> 580 | AC7: Clinical, Non-clinical | AD7: NA | AE7: N | AF7: NA | AG7: =iferror(VLOOKUP(AF7,Working!$O:$P,2,FALSE),"") -> NA | AH7: Y | AI7: Y | AJ7: N
A8: OptimMRI | B8: K230150 | C8: RebrAIn, SAS | D8: QIH | E8: Radiology | F8: Head | G8: Head | H8: Radiology | I8: =iferror(VLOOKUP(H8,Working!$E:$F,2,FALSE),"") -> Radiology | J8: Neurosurgical Functional Planning | K8: =iferror(VLOOKUP(J8,Working!$H:$I,2,FALSE),"") -> Neurosurgical Functional Planning | L8: II | M8: 45128 | N8: N | O8: N | P8: Y | Q8: N | R8: N | S8: N | T8: N | U8: N | V8: Unclear | W8: Unclear | X8: N | Y8: N | Z8: 44 cerebral MRIs | AA8: =iferror(VLOOKUP(Z8,Working!$K:$M,2,FALSE),"") -> Y | AB8: =iferror(VLOOKUP(Z8,Working!$K:$M,3,FALSE),"") -> 44 | AC8: Clinical | AD8: NA | AE8: N | AF8: Qualified Medical Professionals | AG8: =iferror(VLOOKUP(AF8,Working!$O:$P,2,FALSE),"") -> Qualified Health Care Professional | AH8: N | AI8: Y | AJ8: N
A9: Cranial Navigation, Navigation Software Cranial, Navigation Software Craniofacial, Cranial EM System, Automatic Registration iMRI | B9: K223288 | C9: Brainlab AG | D9: HAW | E9: Neurology | F9: Head | G9: =iferror(VLOOKUP(F9,Working!$B:$C,2,FALSE),"") -> Head | H9: Neurology | I9: =iferror(VLOOKUP(H9,Working!$E:$F,2,FALSE),"") -> Neurology | J9: To enable navigated cranial surgery | K9: =iferror(VLOOKUP(J9,Working!$H:$I,2,FALSE),"") -> cranial surgery | L9: II | M9: 45128 | N9: N | O9: N | P9: Y | Q9: N | R9: N | S9: N | T9: N | U9: Y | V9: Unclear | W9: Y | X9: N | Y9: N | Z9: NA | AA9: =iferror(VLOOKUP(Z9,Working!$K:$M,2,FALSE),"") -> NA | AB9: =iferror(VLOOKUP(Z9,Working!$K:$M,3,FALSE),"") | AC9: NA | AD9: NA | AE9: Y | AF9: Trained Professionals | AG9: =iferror(VLOOKUP(AF9,Working!$O:$P,2,FALSE),"") -> trained professionals | AH9: N | AI9: Y | AJ9: N
A10: Irregular Rhythm Notification Feature (IRNF) | B10: K231173 | C10: Apple Inc. | D10: QDB | E10: Cardiovascular | F10: Heart | G10: =iferror(VLOOKUP(F10,Working!$B:$C,2,FALSE),"") -> Heart | H10: Cardiovascular | I10: =iferror(VLOOKUP(H10,Working!$E:$F,2,FALSE),"") -> Cardiovascular | J10: Identification of Episodes of Irregular heart rhythms suggestive of atrial fibrillation | K10: =iferror(VLOOKUP(J10,Working!$H:$I,2,FALSE),"") -> Atrial Fibrillation | L10: II | M10: 45128 | N10: N | O10: N | P10: Y | Q10: Y | R10: Y | S10: Y | T10: Y | U10: N | V10: N | W10: Unclear | X10: N | Y10: N | Z10: NA | AA10: =iferror(VLOOKUP(Z10,Working!$K:$M,2,FALSE),"") -> NA | AB10: =iferror(VLOOKUP(Z10,Working!$K:$M,3,FALSE),"") | AC10: NA | AD10: NA | AE10: Y | AF10: Patients with cardiac afribillation | AG10: =iferror(VLOOKUP(AF10,Working!$O:$P,2,FALSE),"") -> Patients with cardiac afribillation | AH10: Y | AI10: N | AJ10: N
A11: uOmnispace | B11: K230039 | C11: Shanghai United Imaging Healthcare Co., Ltd. | D11: QIH | E11: Radiology | F11: Whole Body | G11: =iferror(VLOOKUP(F11,Working!$B:$C,2,FALSE),"") -> Whole body | H11: Radiology | I11: =iferror(VLOOKUP(H11,Working!$E:$F,2,FALSE),"") -> Radiology | J11: Viewing, manipulation, communication and storage of medical images | K11: =iferror(VLOOKUP(J11,Working!$H:$I,2,FALSE),"") -> Viewing, manipulation, communication and storage of medical images | L11: II | M11: 45127 | N11: N | O11: N | P11: Y | Q11: N | R11: N | S11: N | T11: N | U11: Y | V11: Y | W11: Y | X11: Y | Y11: Y | Z11: 60 chest CTs | AA11: =iferror(VLOOKUP(Z11,Working!$K:$M,2,FALSE),"") -> Y | AB11: =iferror(VLOOKUP(Z11,Working!$K:$M,3,FALSE),"") -> 60 | AC11: NA | AD11: NA | AE11: Y | AF11: Trained Professionals | AG11: =iferror(VLOOKUP(AF11,Working!$O:$P,2,FALSE),"") -> trained professionals | AH11: Y | AI11: N | AJ11: N
A12: syngo.CT Lung CAD (Version VD30) | B12: K231157 | C12: Siemens Healthcare GmbH | D12: OEB | E12: Radiology | F12: Chest | G12: =iferror(VLOOKUP(F12,Working!$B:$C,2,FALSE),"") -> Chest | H12: Radiology | I12: =iferror(VLOOKUP(H12,Working!$E:$F,2,FALSE),"") -> Radiology | J12: Detection of solid and subsolid pulmonary nodules | K12: =iferror(VLOOKUP(J12,Working!$H:$I,2,FALSE),"") -> pulmonary nodules | L12: II | M12: 45126 | N12: N | O12: N | P12: Y | Q12: N | R12: N | S12: N | T12: N | U12: Y | V12: Unclear | W12: Y | X12: Y | Y12: Y | Z12: 712 CT thoracic cases | AA12: =iferror(VLOOKUP(Z12,Working!$K:$M,2,FALSE),"") -> Y | AB12: =iferror(VLOOKUP(Z12,Working!$K:$M,3,FALSE),"") -> 712 | AC12: Clinical, Non-clinical | AD12: Moderate level | AE12: Y | AF12: Trained Professionals | AG12: =iferror(VLOOKUP(AF12,Working!$O:$P,2,FALSE),"") -> trained professionals | AH12: Y | AI12: Y | AJ12: Y
A13: Brainlab Elements Image Fusion, Contouring (4.5);Image Fusion (4.5);Fibertracking (2.0);BOLD MRI Mapping (1.0);Image Fusion Angio (1.0) | B13: K223106 | C13: Brainlab AG | D13: QIH | E13: Radiology | F13: Head | G13: =iferror(VLOOKUP(F13,Working!$B:$C,2,FALSE),"") -> Head | H13: Radiology | I13: =iferror(VLOOKUP(H13,Working!$E:$F,2,FALSE),"") -> Radiology | J13: To perform image guided surgery and radiation treatment planning | K13: =iferror(VLOOKUP(J13,Working!$H:$I,2,FALSE),"") -> To perform image guided surgery and radiation treatment planning | L13: II | M13: 45121 | N13: N | O13: N | P13: Y | Q13: N | R13: N | S13: N | T13: N | U13: Y | V13: Unclear | W13: Y | X13: N | Y13: N | Z13: NA | AA13: =iferror(VLOOKUP(Z13,Working!$K:$M,2,FALSE),"") -> NA | AB13: =iferror(VLOOKUP(Z13,Working!$K:$M,3,FALSE),"") | AC13: Clinical, Non-clinical | AD13: NA | AE13: N | AF13: NA | AG13: =iferror(VLOOKUP(AF13,Working!$O:$P,2,FALSE),"") -> NA | AH13: N | AI13: N | AJ13: N
A14: Spine Auto Views | B14: K223424 | C14: GE Medical Systems SCS | D14: JAK | E14: Radiology | F14: Spine | G14: =iferror(VLOOKUP(F14,Working!$B:$C,2,FALSE),"") -> spine | H14: Radiology | I14: =iferror(VLOOKUP(H14,Working!$E:$F,2,FALSE),"") -> Radiology | J14: Aid in automatic generation of anatomicallu focused multi-planar reformats | K14: =iferror(VLOOKUP(J14,Working!$H:$I,2,FALSE),"") -> Aid in automatic generation of anatomicallu focused multi-planar reformats | L14: II | M14: 45120 | N14: N | O14: N | P14: Y | Q14: N | R14: N | S14: N | T14: N | U14: N | V14: Unclear | W14: Unclear | X14: N | Y14: N | Z14: NA | AA14: =iferror(VLOOKUP(Z14,Working!$K:$M,2,FALSE),"") -> NA | AB14: =iferror(VLOOKUP(Z14,Working!$K:$M,3,FALSE),"") | AC14: Clinical | AD14: Moderate level | AE14: Y | AF14: Clinicians | AG14: =iferror(VLOOKUP(AF14,Working!$O:$P,2,FALSE),"") -> clinician | AH14: N | AI14: N | AJ14: N
A15: ECHELON Synergy MRI system | B15: K223426 | C15: FUJIFILM Healthcare Corporation | D15: LNH | E15: Radiology | F15: Whole Body | G15: =iferror(VLOOKUP(F15,Working!$B:$C,2,FALSE),"") -> Whole body | H15: Radiology | I15: =iferror(VLOOKUP(H15,Working!$E:$F,2,FALSE),"") -> Radiology | J15: To provide physicians with physiological and clinical information, obtained non-invasively and without the use of ionizing radiation | K15: =iferror(VLOOKUP(J15,Working!$H:$I,2,FALSE),"") -> To provide physicians with physiological and clinical information, obtained non-invasively and without the use of ionizing radiation | L15: II | M15: 45120 | N15: N | O15: N | P15: Y | Q15: N | R15: N | S15: N | T15: N | U15: N | V15: Unclear | W15: Unclear | X15: N | Y15: N | Z15: 206 cases | AA15: =iferror(VLOOKUP(Z15,Working!$K:$M,2,FALSE),"") -> Y | AB15: =iferror(VLOOKUP(Z15,Working!$K:$M,3,FALSE),"") -> 206 | AC15: Clincal, Non-clinical | AD15: NA | AE15: Y | AF15: Physicians | AG15: =iferror(VLOOKUP(AF15,Working!$O:$P,2,FALSE),"") -> physician | AH15: N | AI15: N | AJ15: N
A16: AusculThing ACC | B16: K230823 | C16: AusculThing Oy | D16: DQD | E16: Cardiovascular | F16: Chest | G16: =iferror(VLOOKUP(F16,Working!$B:$C,2,FALSE),"") -> Chest | H16: Cardiovascular | I16: =iferror(VLOOKUP(H16,Working!$E:$F,2,FALSE),"") -> Cardiovascular | J16: To record, dislay and analyze acoustic signals of the heart recorded by means of electronic stethoscope | K16: =iferror(VLOOKUP(J16,Working!$H:$I,2,FALSE),"") -> To record, dislay and analyze acoustic signals of the heart recorded by means of electronic stethoscope | L16: II | M16: 45119 | N16: N | O16: N | P16: Y | Q16: Y | R16: N | S16: Y | T16: N | U16: Y | V16: Y | W16: Y | X16: Y | Y16: Y | Z16: 519 recordings | AA16: =iferror(VLOOKUP(Z16,Working!$K:$M,2,FALSE),"") -> Y | AB16: =iferror(VLOOKUP(Z16,Working!$K:$M,3,FALSE),"") -> 519 | AC16: Clinical, Non-clinical | AD16: NA | AE16: Y | AF16: Healthcare Providers | AG16: =iferror(VLOOKUP(AF16,Working!$O:$P,2,FALSE),"") -> Health care professional | AH16: N | AI16: N | AJ16: N
A17: MOZI TPS | B17: K223724 | C17: Manteia Technologies Co., Ltd | D17: MUJ | E17: Radiology | F17: Whole Body | G17: =iferror(VLOOKUP(F17,Working!$B:$C,2,FALSE),"") -> Whole body | H17: Radiology | I17: =iferror(VLOOKUP(H17,Working!$E:$F,2,FALSE),"") -> Radiology | J17: To plan radiotherapy treatment for patients with malignant or benign diseases | K17: =iferror(VLOOKUP(J17,Working!$H:$I,2,FALSE),"") -> To plan radiotherapy treatment for patients with malignant or benign diseases | L17: II | M17: 45117 | N17: N | O17: N | P17: Y | Q17: N | R17: N | S17: N | T17: N | U17: Y | V17: Unclear | W17: Y | X17: Y | Y17: Y | Z17: !74 | AA17: =iferror(VLOOKUP(Z17,Working!$K:$M,2,FALSE),"") -> Y | AB17: =iferror(VLOOKUP(Z17,Working!$K:$M,3,FALSE),"") -> 74 | AC17: Clinical, Non-clinical | AD17: NA | AE17: N | AF17: NA | AG17: =iferror(VLOOKUP(AF17,Working!$O:$P,2,FALSE),"") -> NA | AH17: N | AI17: N | AJ17: N
A18: Spine CAMP™ (1.1) | B18: K231668 | C18: Medical Metrics, Inc | D18: QIH | E18: Radiology | F18: Spine | G18: =iferror(VLOOKUP(F18,Working!$B:$C,2,FALSE),"") -> spine | H18: Radiology | I18: =iferror(VLOOKUP(H18,Working!$E:$F,2,FALSE),"") -> Radiology | J18: To characterize and assess spinal health | K18: =iferror(VLOOKUP(J18,Working!$H:$I,2,FALSE),"") -> To characterize and assess spinal health | L18: II | M18: 45114 | N18: N | O18: N | P18: Y | Q18: Y | R18: N | S18: Y | T18: N | U18: N | V18: N | W18: Unclear | X18: N | Y18: N | Z18: NA | AA18: =iferror(VLOOKUP(Z18,Working!$K:$M,2,FALSE),"") -> NA | AB18: =iferror(VLOOKUP(Z18,Working!$K:$M,3,FALSE),"") | AC18: NA | AD18: NA | AE18: Y | AF18: Licensed Physicians | AG18: =iferror(VLOOKUP(AF18,Working!$O:$P,2,FALSE),"") -> Licensed Physicians | AH18: N | AI18: N | AJ18: N
A19: Axial3D Insight | B19: K222745 | C19: Axial Medical Printing Limited | D19: QIH | E19: Radiology | F19: Whole Body | G19: =iferror(VLOOKUP(F19,Working!$B:$C,2,FALSE),"") -> Whole body | H19: Radiology | I19: =iferror(VLOOKUP(H19,Working!$E:$F,2,FALSE),"") -> Radiology | J19: For diagnostic purposes in the field of orthopedic trauma, orthopedic, maxillofacial, and cardiovascular applications | K19: =iferror(VLOOKUP(J19,Working!$H:$I,2,FALSE),"") -> For diagnostic purposes in the field of orthopedic trauma, orthopedic, maxillofacial, and cardiovascular applications | L19: II | M19: 45110 | N19: N | O19: N | P19: Y | Q19: N | R19: N | S19: N | T19: N | U19: Y | V19: Unclear | W19: Y | X19: Unclear | Y19: N | Z19: NA | AA19: =iferror(VLOOKUP(Z19,Working!$K:$M,2,FALSE),"") -> NA | AB19: =iferror(VLOOKUP(Z19,Working!$K:$M,3,FALSE),"") | AC19: Clinical, Non-clinical | AD19: Moderate level | AE19: Y | AF19: Licensed Physicians | AG19: =iferror(VLOOKUP(AF19,Working!$O:$P,2,FALSE),"") -> Licensed Physicians | AH19: N | AI19: N | AJ19: N
A20: EarliPoint | B20: K230337 | C20: EarliTec Diagnostics, Inc. | D20: QPF | E20: Neurology | F20: Eyes | G20: =iferror(VLOOKUP(F20,Working!$B:$C,2,FALSE),"") -> Eyes | H20: Neurology | I20: =iferror(VLOOKUP(H20,Working!$E:$F,2,FALSE),"") -> Neurology | J20: Diagnosis and assessment of ASD patients | K20: =iferror(VLOOKUP(J20,Working!$H:$I,2,FALSE),"") -> Diagnosis and assessment of ASD patients | L20: II | M20: 45106 | N20: N | O20: N | P20: Y | Q20: Y | R20: N | S20: Y | T20: N | U20: Y | V20: Y | W20: Y | X20: Y | Y20: Y | Z20: 500 cases | AA20: =iferror(VLOOKUP(Z20,Working!$K:$M,2,FALSE),"") -> Y | AB20: =iferror(VLOOKUP(Z20,Working!$K:$M,3,FALSE),"") -> 500 | AC20: Clinical | AD20: None | AE20: Y | AF20: Healthcare Providers | AG20: =iferror(VLOOKUP(AF20,Working!$O:$P,2,FALSE),"") -> Health care professional | AH20: N | AI20: N | AJ20: N
A21: Bladder AI (AIBV01) | B21: K230497 | C21: Exo Inc | D21: QIH | E21: Radiology | F21: Bladder | G21: =iferror(VLOOKUP(F21,Working!$B:$C,2,FALSE),"") -> Bladder | H21: Urogenital | I21: =iferror(VLOOKUP(H21,Working!$E:$F,2,FALSE),"") -> Urogenital | K21: =iferror(VLOOKUP(J21,Working!$H:$I,2,FALSE),"") | L21: II | M21: 45099 | N21: N | O21: N | P21: Y | Q21: Y | R21: N | S21: Y | T21: N | U21: Y | V21: Y | W21: Y | X21: Y | Y21: Y | Z21: 122 | AA21: =iferror(VLOOKUP(Z21,Working!$K:$M,2,FALSE),"") -> Y | AB21: =iferror(VLOOKUP(Z21,Working!$K:$M,3,FALSE),"") -> 122 | AC21: Exact number not stated; but stated to be a diverse collection of clinical sites in metropolitan cities | AD21: None | AE21: Y | AG21: =iferror(VLOOKUP(AF21,Working!$O:$P,2,FALSE),"") | AH21: Y | AI21: N | AJ21: N
A22: HepaFatSmart (V2.0.0) | B22: K231459 | C22: Resonance Health Analysis Services Pty Ltd. | D22: LNH | E22: Radiology | F22: Liver | G22: =iferror(VLOOKUP(F22,Working!$B:$C,2,FALSE),"") -> liver | H22: Digestive | I22: =iferror(VLOOKUP(H22,Working!$E:$F,2,FALSE),"") -> Digestive | J22: fatty liver related disease or metabolic syndromes | K22: =iferror(VLOOKUP(J22,Working!$H:$I,2,FALSE),"") -> fatty liver related disease or metabolic syndromes | L22: II | M22: 45097 | N22: N | O22: N | P22: Y | Q22: N | R22: N | S22: N | T22: N | U22: Y | V22: Unclear | W22: Unclear | X22: Y | Y22: Y | Z22: 300 | AA22: =iferror(VLOOKUP(Z22,Working!$K:$M,2,FALSE),"") -> Y | AB22: =iferror(VLOOKUP(Z22,Working!$K:$M,3,FALSE),"") -> 300 | AC22: Not stated | AD22: None | AE22: Y | AG22: =iferror(VLOOKUP(AF22,Working!$O:$P,2,FALSE),"") | AH22: Y | AI22: N | AJ22: N
A23: EyeArt v2.2.0 | B23: K223357 | C23: Eyenuk, Inc | D23: PIB | E23: Ophthalmic | F23: Eye | G23: =iferror(VLOOKUP(F23,Working!$B:$C,2,FALSE),"") -> Eyes | H23: Opthamology | I23: =iferror(VLOOKUP(H23,Working!$E:$F,2,FALSE),"") -> opththalmology | J23: Diabetic retinopathy | K23: =iferror(VLOOKUP(J23,Working!$H:$I,2,FALSE),"") -> Diabetic retinopathy | L23: II | M23: 45093 | N23: N | O23: N | P23: Y | Q23: Y | R23: Y | S23: Y | T23: N | U23: Y | V23: N | W23: N | X23: Y | Y23: Y | Z23: 246 | AA23: =iferror(VLOOKUP(Z23,Working!$K:$M,2,FALSE),"") -> Y | AB23: =iferror(VLOOKUP(Z23,Working!$K:$M,3,FALSE),"") -> 246 | AC23: Not stated | AD23: None | AE23: Y | AG23: =iferror(VLOOKUP(AF23,Working!$O:$P,2,FALSE),"") | AH23: Y | AI23: N | AJ23: N
A24: IB Lab LAMA | B24: K223646 | C24: IB Lab Gmbh | D24: QIH | E24: Radiology | F24: Bone | G24: =iferror(VLOOKUP(F24,Working!$B:$C,2,FALSE),"") -> Bone | H24: musculo-skeletal | I24: =iferror(VLOOKUP(H24,Working!$E:$F,2,FALSE),"") -> MusculoSkeletal | K24: =iferror(VLOOKUP(J24,Working!$H:$I,2,FALSE),"") | L24: II | M24: 45093 | N24: N | O24: N | P24: Y | Q24: N | R24: N | S24: Y | T24: N | U24: Y | V24: Unclear | W24: Unclear | X24: N | Y24: N | Z24: 22 | AA24: =iferror(VLOOKUP(Z24,Working!$K:$M,2,FALSE),"") -> Y | AB24: =iferror(VLOOKUP(Z24,Working!$K:$M,3,FALSE),"") -> 22 | AC24: Not stated | AD24: None | AE24: Y | AG24: =iferror(VLOOKUP(AF24,Working!$O:$P,2,FALSE),"") | AH24: Y | AI24: N | AJ24: N
A25: DeepCatch | B25: K223556 | C25: MEDICALIP Co., Ltd | D25: QIH | E25: Radiology | F25: Anatomical structures | G25: =iferror(VLOOKUP(F25,Working!$B:$C,2,FALSE),"") -> Anatomical structures | I25: =iferror(VLOOKUP(H25,Working!$E:$F,2,FALSE),"") | K25: =iferror(VLOOKUP(J25,Working!$H:$I,2,FALSE),"") | L25: II | M25: 45093 | N25: N | O25: N | P25: Y | Q25: N | R25: N | S25: N | T25: N | U25: Y | V25: Unclear | W25: Unclear | X25: Y | Y25: Y | Z25: 167 | AA25: =iferror(VLOOKUP(Z25,Working!$K:$M,2,FALSE),"") -> Y | AB25: =iferror(VLOOKUP(Z25,Working!$K:$M,3,FALSE),"") -> 167 | AC25: Not stated | AD25: None | AE25: Y | AG25: =iferror(VLOOKUP(AF25,Working!$O:$P,2,FALSE),"") | AH25: Y | AI25: N | AJ25: N
A26: CAC Software | B26: K230112 | C26: Imbio, Inc. | D26: JAK | E26: Radiology | F26: Blood vessels | G26: =iferror(VLOOKUP(F26,Working!$B:$C,2,FALSE),"") -> Blood vessels | H26: Cardiovascular | I26: =iferror(VLOOKUP(H26,Working!$E:$F,2,FALSE),"") -> Cardiovascular | J26: Atherosclerosis | K26: =iferror(VLOOKUP(J26,Working!$H:$I,2,FALSE),"") -> Atherosclerosis | L26: II | M26: 45090 | N26: N | O26: N | P26: Y | Q26: N | R26: N | S26: N | T26: N | U26: Y | V26: N | W26: Unclear | X26: Y | Y26: Y | AA26: =iferror(VLOOKUP(Z26,Working!$K:$M,2,FALSE),"") | AB26: =iferror(VLOOKUP(Z26,Working!$K:$M,3,FALSE),"") | AD26: None | AE26: Y | AG26: =iferror(VLOOKUP(AF26,Working!$O:$P,2,FALSE),"") | AH26: Y | AI26: N | AJ26: N
A27: FEops HEARTguideTM, FEops HEARTguideTM ALPACA | B27: K223855 | C27: FEops NV | D27: QIH | E27: Radiology | F27: Heart and Blood Vessels | G27: =iferror(VLOOKUP(F27,Working!$B:$C,2,FALSE),"") -> heart | H27: Cardiovascular | I27: =iferror(VLOOKUP(H27,Working!$E:$F,2,FALSE),"") -> Cardiovascular | K27: =iferror(VLOOKUP(J27,Working!$H:$I,2,FALSE),"") | L27: II | M27: 45083 | N27: N | O27: N | P27: Y | Q27: N | R27: N | S27: N | T27: N | U27: Y | V27: Unclear | W27: Unclear | X27: Y | Y27: Y | Z27: 35 | AA27: =iferror(VLOOKUP(Z27,Working!$K:$M,2,FALSE),"") -> Y | AB27: =iferror(VLOOKUP(Z27,Working!$K:$M,3,FALSE),"") -> 35 | AD27: None | AE27: Y | AG27: =iferror(VLOOKUP(AF27,Working!$O:$P,2,FALSE),"") | AH27: Y | AI27: N | AJ27: N
A28: Sonic DL | B28: K223523 | C28: GE Medical Systems, LLC | D28: LNH | E28: Radiology | F28: Heart and Blood Vessels | G28: =iferror(VLOOKUP(F28,Working!$B:$C,2,FALSE),"") -> heart | H28: Cardiovascular | I28: =iferror(VLOOKUP(H28,Working!$E:$F,2,FALSE),"") -> Cardiovascular | K28: =iferror(VLOOKUP(J28,Working!$H:$I,2,FALSE),"") | L28: II | M28: 45076 | N28: N | O28: N | P28: Y | Q28: Y | R28: N | S28: Y | T28: N | U28: Y | V28: Y | W28: Y | X28: N | Y28: N | Z28: 107 | AA28: =iferror(VLOOKUP(Z28,Working!$K:$M,2,FALSE),"") -> Y | AB28: =iferror(VLOOKUP(Z28,Working!$K:$M,3,FALSE),"") -> 107 | AD28: None | AE28: Y | AG28: =iferror(VLOOKUP(AF28,Working!$O:$P,2,FALSE),"") | AH28: Y | AI28: N | AJ28: N
A29: Critical Care Suite with Pneumothorax Detection AI Algorithm, Critical Care Suite 2.1, Critical Care Suite | B29: K223491 | C29: GE Medical Systems, LLC | D29: QBS | E29: Radiology | F29: Lungs | G29: =iferror(VLOOKUP(F29,Working!$B:$C,2,FALSE),"") -> Lungs | H29: Respiratory | I29: =iferror(VLOOKUP(H29,Working!$E:$F,2,FALSE),"") -> Respiratory | J29: Pneumothorax | K29: =iferror(VLOOKUP(J29,Working!$H:$I,2,FALSE),"") -> Pneumothorax | L29: II | M29: 45071 | N29: N | O29: N | P29: Y | Q29: N | R29: N | S29: N | T29: N | U29: Y | V29: Unclear | W29: Unclear | X29: Y | Y29: Y | Z29: 1200 | AA29: =iferror(VLOOKUP(Z29,Working!$K:$M,2,FALSE),"") -> Y | AB29: =iferror(VLOOKUP(Z29,Working!$K:$M,3,FALSE),"") -> 1200 | AD29: None | AE29: Y | AG29: =iferror(VLOOKUP(AF29,Working!$O:$P,2,FALSE),"") | AH29: Y | AI29: N | AJ29: N
A30: Saranas Early Bird Bleed Monitoring System | B30: K230273 | C30: Saranas, Inc. | D30: QFJ | E30: Cardiovascular | F30: Blood vessels | G30: =iferror(VLOOKUP(F30,Working!$B:$C,2,FALSE),"") -> Blood vessels | H30: Cardiovascular | I30: =iferror(VLOOKUP(H30,Working!$E:$F,2,FALSE),"") -> Cardiovascular | J30: Bleeding | K30: =iferror(VLOOKUP(J30,Working!$H:$I,2,FALSE),"") -> Bleeding | L30: II | M30: 45071 | N30: N | O30: N | P30: Y | Q30: N | R30: N | S30: N | T30: N | U30: N | V30: Unclear | W30: Unclear | X30: N | Y30: N | AA30: =iferror(VLOOKUP(Z30,Working!$K:$M,2,FALSE),"") | AB30: =iferror(VLOOKUP(Z30,Working!$K:$M,3,FALSE),"") | AD30: None | AE30: Y | AG30: =iferror(VLOOKUP(AF30,Working!$O:$P,2,FALSE),"") | AH30: N | AI30: N | AJ30: N
A31: Ceribell Status Epilepticus Monitor | B31: K223504 | C31: Ceribell, Inc. | D31: OMB | E31: Neurology | F31: Brain | G31: =iferror(VLOOKUP(F31,Working!$B:$C,2,FALSE),"") -> Brain | H31: Neurology | I31: =iferror(VLOOKUP(H31,Working!$E:$F,2,FALSE),"") -> Neurology | J31: Seizure | K31: =iferror(VLOOKUP(J31,Working!$H:$I,2,FALSE),"") -> Seizure | L31: II | M31: 45069 | N31: N | O31: N | P31: Y | Q31: Y | R31: N | S31: Y | T31: N | U31: Y | V31: Unclear | W31: Unclear | X31: N | Y31: Y | Z31: 350 | AA31: =iferror(VLOOKUP(Z31,Working!$K:$M,2,FALSE),"") -> Y | AB31: =iferror(VLOOKUP(Z31,Working!$K:$M,3,FALSE),"") -> 350 | AD31: None | AE31: Y | AG31: =iferror(VLOOKUP(AF31,Working!$O:$P,2,FALSE),"") | AH31: N | AI31: N | AJ31: N
A32: Genius AI Detection 2.0 with CC-MLO Correlation | B32: K230096 | C32: Hologic, Inc. | D32: QDQ | E32: Radiology | F32: Breast | G32: =iferror(VLOOKUP(F32,Working!$B:$C,2,FALSE),"") -> Breast | H32: Reproduction | I32: =iferror(VLOOKUP(H32,Working!$E:$F,2,FALSE),"") -> Reproductive | J32: Breast anomalies | K32: =iferror(VLOOKUP(J32,Working!$H:$I,2,FALSE),"") -> Breast anomalies | L32: II | M32: 45069 | N32: N | O32: N | P32: Y | Q32: N | R32: N | S32: N | T32: N | U32: N | V32: N | W32: N | X32: N | Y32: N | AA32: =iferror(VLOOKUP(Z32,Working!$K:$M,2,FALSE),"") | AB32: =iferror(VLOOKUP(Z32,Working!$K:$M,3,FALSE),"") | AD32: None | AE32: Y | AG32: =iferror(VLOOKUP(AF32,Working!$O:$P,2,FALSE),"") | AH32: Y | AI32: N | AJ32: N
A33: GI Genius System 100 and GI Genius System 200 | B33: K231143 | C33: Cosmo Artificial Intelligence - AI, Ltd. | D33: QNP | E33: Gastroenterology/Urology | F33: Colon | G33: =iferror(VLOOKUP(F33,Working!$B:$C,2,FALSE),"") -> Colon | H33: Gastrointestinal | I33: =iferror(VLOOKUP(H33,Working!$E:$F,2,FALSE),"") -> Gastrointestinal | J33: Colon mucosal lesions | K33: =iferror(VLOOKUP(J33,Working!$H:$I,2,FALSE),"") -> Colon mucosal lesions | L33: II | M33: 45065 | N33: N | O33: N | P33: Y | Q33: N | R33: N | S33: N | T33: N | U33: Y | V33: Unclear | W33: Unclear | X33: Unclear | Y33: Y | AA33: =iferror(VLOOKUP(Z33,Working!$K:$M,2,FALSE),"") | AB33: =iferror(VLOOKUP(Z33,Working!$K:$M,3,FALSE),"") | AD33: None | AE33: Y | AG33: =iferror(VLOOKUP(AF33,Working!$O:$P,2,FALSE),"") | AH33: Y | AI33: N | AJ33: N
A34: Autoplaque | B34: K212758 | C34: Cedars-Sinai Medical Center: AIM | D34: LLZ | E34: Radiology | F34: Heart | G34: =iferror(VLOOKUP(F34,Working!$B:$C,2,FALSE),"") -> Heart | H34: Cardiovascular | I34: =iferror(VLOOKUP(H34,Working!$E:$F,2,FALSE),"") -> Cardiovascular | J34: Coronary anatomy and pathology | K34: =iferror(VLOOKUP(J34,Working!$H:$I,2,FALSE),"") -> Coronary anatomy and pathology | L34: II | M34: 45065 | N34: N | O34: N | P34: Y | Q34: N | R34: N | S34: N | T34: N | U34: Y | V34: Unclear | W34: Unclear | X34: Unclear | Y34: Y | AA34: =iferror(VLOOKUP(Z34,Working!$K:$M,2,FALSE),"") | AB34: =iferror(VLOOKUP(Z34,Working!$K:$M,3,FALSE),"") | AD34: None | AE34: Y | AG34: =iferror(VLOOKUP(AF34,Working!$O:$P,2,FALSE),"") | AH34: Y | AI34: N | AJ34: N
A35: Radiation Planning Assistant (RPA) | B35: K222728 | C35: University of Texas, MD Anderson Cancer Center | D35: MUJ | E35: Radiology | F35: Head, neck, breast, cervix and brain | G35: =iferror(VLOOKUP(F35,Working!$B:$C,2,FALSE),"") -> Head and Neck | I35: =iferror(VLOOKUP(H35,Working!$E:$F,2,FALSE),"") | J35: Cancer | K35: =iferror(VLOOKUP(J35,Working!$H:$I,2,FALSE),"") -> Cancer | L35: II | M35: 45063 | N35: N | O35: N | P35: Y | Q35: N | R35: N | S35: N | T35: N | U35: Y | V35: N | W35: N | X35: Unclear | Y35: Y | AA35: =iferror(VLOOKUP(Z35,Working!$K:$M,2,FALSE),"") | AB35: =iferror(VLOOKUP(Z35,Working!$K:$M,3,FALSE),"") | AD35: None | AE35: Y | AG35: =iferror(VLOOKUP(AF35,Working!$O:$P,2,FALSE),"") | AH35: Y | AI35: N | AJ35: N
A36: SubtleMR (2.3.x) | B36: K223623 | C36: Subtle Medical, Inc. | D36: LLZ | E36: Radiology | F36: head, spine, neck, abdomen, pelvis, prostate, breast, and musculoskeletal | G36: =iferror(VLOOKUP(F36,Working!$B:$C,2,FALSE),"") -> Head and Neck | I36: =iferror(VLOOKUP(H36,Working!$E:$F,2,FALSE),"") | K36: =iferror(VLOOKUP(J36,Working!$H:$I,2,FALSE),"") | L36: II | M36: 45057 | N36: N | O36: N | P36: Y | Q36: N | R36: N | S36: N | T36: N | U36: Y | V36: Unclear | W36: Unclear | X36: Unclear | Y36: Y | AA36: =iferror(VLOOKUP(Z36,Working!$K:$M,2,FALSE),"") | AB36: =iferror(VLOOKUP(Z36,Working!$K:$M,3,FALSE),"") | AD36: None | AE36: Y | AG36: =iferror(VLOOKUP(AF36,Working!$O:$P,2,FALSE),"") | AH36: Y | AI36: N | AJ36: N
A37: Neurophet AQUA | B37: K220437 | C37: NEUROPHET, Inc. | D37: LLZ | E37: Radiology | F37: Brain | G37: =iferror(VLOOKUP(F37,Working!$B:$C,2,FALSE),"") -> Brain | H37: Neurology | I37: =iferror(VLOOKUP(H37,Working!$E:$F,2,FALSE),"") -> Neurology | K37: =iferror(VLOOKUP(J37,Working!$H:$I,2,FALSE),"") | L37: II | M37: 45056 | N37: N | O37: N | P37: Y | Q37: Y | R37: N | S37: Y | T37: N | U37: Y | V37: Unclear | W37: Unclear | X37: Y | Y37: Y | Z37: 64 | AA37: =iferror(VLOOKUP(Z37,Working!$K:$M,2,FALSE),"") -> Y | AB37: =iferror(VLOOKUP(Z37,Working!$K:$M,3,FALSE),"") -> 64 | AD37: None | AE37: Y | AG37: =iferror(VLOOKUP(AF37,Working!$O:$P,2,FALSE),"") | AH37: Y | AI37: N | AJ37: N
A38: Auto Segmentation | B38: K230082 | C38: GE Medical Systems, LLC | D38: QKB | E38: Radiology | F38: Whole Body | G38: =iferror(VLOOKUP(F38,Working!$B:$C,2,FALSE),"") -> Whole body | I38: =iferror(VLOOKUP(H38,Working!$E:$F,2,FALSE),"") | K38: =iferror(VLOOKUP(J38,Working!$H:$I,2,FALSE),"") | L38: II | M38: 45050 | N38: N | O38: N | P38: Y | Q38: Y | R38: Y | S38: Y | T38: N | U38: Y | V38: Unclear | W38: Unclear | X38: Y | Y38: Y | Z38: 302 | AA38: =iferror(VLOOKUP(Z38,Working!$K:$M,2,FALSE),"") -> Y | AB38: =iferror(VLOOKUP(Z38,Working!$K:$M,3,FALSE),"") -> 302 | AD38: None | AE38: Y | AG38: =iferror(VLOOKUP(AF38,Working!$O:$P,2,FALSE),"") | AH38: Y | AI38: N | AJ38: N
A39: Lumify Diagnostic Ultrasound System | B39: K223771 | C39: Philips Ultrasound | D39: IYN | E39: Radiology | F39: Whole Body | G39: =iferror(VLOOKUP(F39,Working!$B:$C,2,FALSE),"") -> Whole body | I39: =iferror(VLOOKUP(H39,Working!$E:$F,2,FALSE),"") | K39: =iferror(VLOOKUP(J39,Working!$H:$I,2,FALSE),"") | L39: II | M39: 45050 | N39: N | O39: N | P39: Y | Q39: Y | R39: Y | S39: Y | T39: N | U39: Y | V39: Unclear | W39: Unclear | X39: Y | Y39: Y | Z39: 157 | AA39: =iferror(VLOOKUP(Z39,Working!$K:$M,2,FALSE),"") -> Y | AB39: =iferror(VLOOKUP(Z39,Working!$K:$M,3,FALSE),"") -> 157 | AD39: None | AE39: Y | AG39: =iferror(VLOOKUP(AF39,Working!$O:$P,2,FALSE),"") | AH39: Y | AI39: N | AJ39: N
A40: SIS System | B40: K230977 | C40: Surgical Information Sciences, Inc. | D40: QIH | E40: Radiology | F40: Brain | G40: =iferror(VLOOKUP(F40,Working!$B:$C,2,FALSE),"") -> Brain | H40: Neurology | I40: =iferror(VLOOKUP(H40,Working!$E:$F,2,FALSE),"") -> Neurology | K40: =iferror(VLOOKUP(J40,Working!$H:$I,2,FALSE),"") | L40: II | M40: 45048 | N40: N | O40: N | P40: Y | Q40: N | R40: N | S40: N | T40: N | U40: Y | V40: N | W40: N | X40: N | Y40: N | AA40: =iferror(VLOOKUP(Z40,Working!$K:$M,2,FALSE),"") | AB40: =iferror(VLOOKUP(Z40,Working!$K:$M,3,FALSE),"") | AD40: None | AE40: Y | AG40: =iferror(VLOOKUP(AF40,Working!$O:$P,2,FALSE),"") | AH40: Y | AI40: N | AJ40: N
...

Sheet Sheet8
D3: Suspected Intracranial hemorrhage
D4: Patients receiving advanced Hemodynamic Monitoring with the Swan-Ganz catheter
D5: Identification of lesions in Endoscopy
D6: Detect anatomical structures in a fetus
D7: Measurement of brain white matter
D8: Aquiring Cardiac Ultrasound Images
D9: Neurosurgical Functional Planning
D10: To enable navigated cranial surgery
D11: Identification of Episodes of Irregular heart rhythms suggestive of atrial fibrillation
D12: Viewing, manipulation, communication and storage of medical images
D13: Detection of solid and subsolid pulmonary nodules
D14: To perform image guided surgery and radiation treatment planning
... D109: Hereditary Thrombophilia, Alpha-1 Antitrypsin Deficiency, Alzheimer’s Disease, Parkinson’s Disease, Gaucher Disease Type 1, Factor XI Deficiency, Celiac Disease, G6PD Deficiency, Hereditary Hemochromatosis and Early-Onset Primary Dystonia

Sheet Email List for Validation Paper
A1: Device Name | B1: Company | C1: Speciality | D1: Contact E-mail | E1: Response Y/N | F1: Response Date | G1: Paper Available Y/N
A2: ABMD Software | B2: HeartLung Corporation | D2: contact@heartlung.ai
A3: Deep Learning Image Reconstruction | B3: GE Healthcare Japan Corporation | D3: Margaret.Steinhafel@ge.com
A4: cvi42 Auto Imaging Software Application | B4: Circle Cardiovascular Imaging Inc | D4: shirantha.samarappuli@circlecvi.com
A5: Swoop Portable MR Imaging System | B5: Hyperfine, Inc. | D5: support@hyperfine.io
A6: DeepRhythmAI | B6: Medicalgorithmics S.A. | D6: contact@medicalgorithmics.com
A7: Viz SDH | B7: Viz.ai, Inc. | D7: jduraes@pazangahealth.com
A8: AI4CMR v1.0 | B8: AI4MedImaging Medical Solutions S.A. | D8: info@ai4medimaging.com
A9: Vivid E80, Vivid E90, Vivid E95 | B9: GE Medical Systems Ultrasound and | D9: Margaret.Steinhafel@ge.com
A10: EchoPAC Software Only, EchoPAC Plug-in | B10: GE Medical Systems Ultrasound and Primary Care Diagnostics, | D10: Margaret.Steinhafel@ge.com
A11: Libby Echo:Prio | B11: Dyad Medical, Inc | D11: info@dyadmed.com
A12: Study Watch with Irregular Pulse Monitor (Home), Study Watch with Irregular Pulse Monitor | B12: Verily Life Sciences LLC | D12: flahertyt@verily.com
A13: ZEUS System (Zio Watch) | B13: iRhythm Technologies, Inc. | D13: irhythm@highwirepr.com
... A28: ART-PLAN | B28: TheraPanacea | D28: mail@therapanacea.eu
A29: Aquilion ONE (TSX-306A/3) V10.12 with Spectral Imaging System, Vitrea Software Package, VSTP-001A | B29: Canon Medical Systems Corporation
A30: Swoop Portable MR Imaging System | B30: Hyperfine, Inc. | D30: support@hyperfine.io
A31: AIR Recon DL | B31: GE Medical Systems,LLC (GE Healthcare) | D31: Margaret.Steinhafel@ge.com
A32: EarliPoint System | B32: EarliTec Diagnostics, Inc. | D32: info@earlitecdx.com
A33: Voluson Expert 22, Voluson Expert 20, Voluson Expert 18 | B33: GE Medical Systems Ultrasound and Primary Care Diagnostics, | D33: Margaret.Steinhafel@ge.com
A34: Atrial Fibrillation History Feature | B34: Apple Inc.
A35: BriefCase | B35: Aidoc Medical, Ltd.
A36: Rayvolve | B36: AZmed SAS | D36: contact@azmed.co
A37: eMurmur Heart AI | B37: CSD Labs GmbH | D37: partner@emurmur.com
A38: SwiftMR | B38: AIRS Medical Inc. | D38: support@airsmed.com
A39: Rapid PE Triage and Notification (PETN) | B39: iSchemaView Inc. | D39: dixon@merrittgrp.com
A40: syngo.CT CaScoring | B40: Siemens Medical Solutions USA, Inc.
A41: BriefCase | B41: Aidoc Medical, Ltd.
A42: Achieva, Ingenia, Ingenia CX, Ingenia Elition and Ingenia Ambition MR Systems | B42: Philips Medical Systems Nederland B.V. | D42: pms.service@philips.com
A43: Quantib Prostate | B43: Quantib BV | D43: services@quantib.com
A44: Saige-Dx | B44: DeepHealth, Inc. | D44: info@deep.health
A45: Versana Balance | B45: GE Medical Systems Ultrasound and Primary Care Diagnostics, | D45: Margaret.Steinhafel@ge.com
A46: Overjet Caries Assist | B46: Overjet, Inc. | D46: info@overjet.ai
A47: Segment 3DPrint | B47: Medviso AB | D47: support@medviso.com.
A48: MVision AI Segmentation | B48: MVision AI | D48: info@mvision.ai
A49: X100HT with Slide Loader with Full Field Peripheral Blood Smear (PBS) Application | B49: Scopio Labs Ltd. | D49: info@scopiolabs.com
A50: aPROMISE X | B50: EXINI Diagnostics AB | D50: info@exini.com
A51: MAGNETOM Lumina and MAGNETOM Vida Fit with syngo MR XA50A | B51: Siemens Medical Solutions USA Inc.
A52: EFAI RTSuite CT HN-Segmentation System | B52: Ever Fortune.AI Co., Ltd. | D52: service@everfortune.ai
A53: Philips Incisive CT | B53: Philips Healthcare (Suzhou) Co., Ltd. | D53: pms.service@philips.com
A54: AliveCor QT Service | B54: AliveCor, Inc.
...

Sheet Validation Paper Data 
A1: Device Name | B1: Links | C1: Speciality | D1: Study Type | E1: Trial Protocol Available Y/N | F1: Funding sources stated Y/N | G1: Registration Number of Trial Provided Y/N | H1: AI/ML in title of abstract Y/N | I1: Intended use within title/abstract Y/N | J1: Background mentions purpose and demographic of intended users (e.g. patients, public, healthcare prof) | K1: Objective/Hypothesis clearly stated Y/N | L1: Study Design Type | M1: Algorithm Category (images (computer vision), text (NLP), speech (ASR), genomic sequence, Time Series, or if it's rule-based, etc) | N1: ML technique | O1: Eligibility criteria stated Y/N at level of participants | P1: Eligibility criteria stated Y/N at level of input | Q1: Sample size calculation provided Y/N | R1: Baseline demographic data for participants provided | S1: Dates provided for recruitment and trial duration Y/N | T1: If Y Race variance in testing Y/N | U1: If Y Age variance in testing Y/N | V1: If Y, Socioeconomic data provided Y/N | W1: Settings in which AI intervention tested clear Y/N | X1: Subgroup Analyses performed Y/N | Y1: States how missing data was handled Y/N | Z1: States expertise required by users Y/N | AA1: Output specified Y/N | AB1: Clear outcomes specified Y/N | AC1: Randomized Y/N | AD1: Statistical Methods Y/N | AE1: Results addressing outcomes Y/N | AF1: Results of analysis of performance errors Y/N | AG1: Limitations Stated Y/N | AH1: Generalizability discussed Y/N
A2: ABMD Software | C2: Radiology
A3: Deep Learning Image Reconstruction | C3: Radiology
A4: cvi42 Auto Imaging Software Application | C4: Radiology
A5: Swoop Portable MR Imaging System | C5: Radiology
A6: DeepRhythmAI | C6: Cardiovascular
A7: Viz SDH | C7: Radiology
A8: AI4CMR v1.0 | C8: Radiology
A9: Vivid E80, Vivid E90, Vivid E95 | C9: Radiology
A10: EchoPAC Software Only, EchoPAC Plug-in | C10: Radiology
A11: Libby Echo:Prio | C11: Radiology
A12: Study Watch with Irregular Pulse Monitor (Home), Study Watch with Irregular Pulse Monitor | C12: Cardiovascular
A13: ZEUS System (Zio Watch) | C13: Cardiovascular
... A203: Hepatica V1 (Hepatica V1.0.0) | C203: Radiology
A204: Imagio Breast Imaging System | B204: https://www.accessdata.fda.gov/cdrh_docs/pdf20/P200003B.pdf https://www.clinicaltrials.gov/ct2/show/NCT01943916?term=NCT01943916&draw=2&rank=1 | C204: Radiology
A205: CLEWICU System (ClewICUserver and ClewICUnitor) | C205: Cardiovascular
A206: HeartFlow Analysis | C206: Cardiovascular
A207: BrainInsight | C207: Radiology
A208: BriefCase | C208: Radiology
A209: AI Metrics | C209: Radiology
A210: EchoGo Pro | C210: Radiology
A211: Deep Learning Image Reconstruction For Gemstone Spectral Imaging | C211: Radiology
A212: Aquilion Exceed LB (TSX-202A/3) V10.6 With AiCE-I | C212: Radiology
A213: HepaFat-AI | C213: Radiology
A214: HealthJOINT | C214: Radiology
A215: HALO | C215: Radiology
A216: Revolution Ascend | C216: Radiology
... A514: CellaVision DM96 with the body fluid application | C514: Hematology
A515: Quantra | B515: https://www.ncbi.nlm.nih.gov/pmc/articles/PMC5826095/ | C515: Radiology
A516: Pathwork Tissue of Origin Test | B516: https://pubmed.ncbi.nlm.nih.gov/19332734/ | C516: Pathology
A517: Visensia | B517: https://www.ncbi.nlm.nih.gov/pmc/articles/PMC3668698/ | C517: Cardiovascular
A518: IB Neuro, Version 1.0 | C518: Radiology
A519: CellaVision DM96 Automatic Hematology Analyzer | B519: https://pubmed.ncbi.nlm.nih.gov/16203273/ | C519: Hematology
A520: DiffMaster Octavia Automatic Hematology Analyzer | B520: https://pubmed.ncbi.nlm.nih.gov/12755789/ | C520: Hematology
A521: Compumedics Sleep Monitoring System | B521: https://pubmed.ncbi.nlm.nih.gov/8650459/ | C521: Anesthesiology
A522: PAPNET Testing System | B522: https://www.karger.com/Article/Abstract/332307; https://pubmed.ncbi.nlm.nih.gov/9022728/; https://pubmed.ncbi.nlm.nih.gov/8116579/; https://pubmed.ncbi.nlm.nih.gov/7937724/ | C522: Pathology | D522: Cross-sectional; Case-control | E522: N | G522: N

Sheet Copy of Summary Document Data
A1: Device Name | B1: Submission Number | C1: Company | D1: Primary Product Code | E1: Panel (Lead) | F1: Body Area | G1: System | H1: Condition | I1: Regulatory Class | J1: Date of Final Decision | K1: PMA Y/N/NA | L1: Link to validation paper Y/N | M1: Indications for use Y/N | N1: Demographic info in indications or intended patient population Y/N | O1: Race data provided Y/N | P1: Age Data Provided Y/N | Q1: Socioeconomic Data Provided Y/N | R1: Performance studies stated Y/N | S1: Licensed for children? Y/N/Unclear | T1: Tested and validated on children and adults as appropriate? Y/N/NA/Unclear | U1: Statistical analysis Y/N/Unclear | V1: Results Provided Y/N | W1: Sample Size | X1: Number of testing sites e.g. Hospital, clinic, market testing | Y1: Risk Level | Z1: Intended user specified Y?N | AA1: Intended User (free text) | AB1: Machine Learning Technique specified Y/N? | AC1: Has a Prospective Study Y/N | AD1: Adverse Reporting Y?N
A2: ABMD Software | B2: K213760 | C2: HeartLung Corporation | D2: KGI | E2: Radiology | F2: Vertebral bones | I2: II | J2: 44771 | K2: NA | L2: N | M2: Y | N2: N | O2: N | P2: N | Q2: N | R2: Y | S2: Unclear | T2: Unclear | U2: Y | V2: Y | X2: NA | Y2: unclear | AC2: N
A3: Deep Learning Image Reconstruction | B3: K220961 | C3: GE Healthcare Japan Corporation | D3: JAK | E3: Radiology | F3: Whole body | I3: II | J3: 44771 | K3: NA | L3: N | M3: Y | N3: N | O3: N | P3: N | Q3: N | R3: N | S3: Unclear | T3: Unclear | U3: N | V3: N | W3: N | X3: NA | Y3: unclear | AC3: N
A4: cvi42 Auto Imaging Software Application | B4: K213998 | C4: Circle Cardiovascular Imaging Inc | D4: QIH | E4: Radiology | F4: Cardiac scanning | I4: II | J4: 44770 | K4: NA | L4: N | M4: Y | N4: Y | O4: N | P4: N | Q4: N | R4: N | S4: Y | T4: Unclear | U4: Y | V4: Y | W4: Y | X4: NA | Y4: unclear | Z4: Y | AB4: N | AC4: N
A5: Swoop Portable MR Imaging System | B5: K221923 | C5: Hyperfine, Inc. | D5: LNH | E5: Radiology | F5: Neuroradiology | I5: II | J5: 44770 | K5: NA | L5: N | M5: Y | N5: N | O5: N | P5: N | Q5: N | R5: N | S5: Y | T5: Unclear | U5: N | V5: N | W5: N | Y5: unclear | Z5: Y | AB5: N | AC5: N | AD5: N | AE5: Reasonably good example
A6: DeepRhythmAI | B6: K210822 | C6: Medicalgorithmics S.A. | D6: DQK | E6: Cardiovascular | F6: Cardiology | I6: II | J6: 44769 | K6: NA | L6: N | M6: Y | N6: N | O6: N | P6: N | Q6: N | R6: N | S6: Unclear | T6: Unclear | U6: N | V6: N | W6: N | X6: N | Y6: unclear | Z6: N | AB6: N | AC6: N | AD6: N | AE6: mention performance testing but no detail
A7: Viz SDH | B7: K220439 | C7: Viz.ai, Inc. | D7: QAS | E7: Radiology | F7: Unavailable | J7: 44767
A8: AI4CMR v1.0 | B8: K220624 | C8: AI4MedImaging Medical Solutions S.A. | D8: LLZ | E8: Radiology | F8: Cardiology | G8: Cardiovascular | H8: Cardiac function measurements | I8: II | J8: 44764 | K8: NA | L8: N | M8: Y | N8: N | O8: N | P8: N | Q8: N | R8: Y | S8: Unclear | T8: Unclear | U8: Y | V8: Y | W8: Y | X8: Y | Y8: unclear | Z8: N | AA8: N | AB8: Y | AC8: N | AD8: N | AE8: Some data provided for dataset training, testing and validation.
A9: Vivid E80, Vivid E90, Vivid E95 | B9: K220882 | C9: GE Medical Systems Ultrasound and | D9: IYN | E9: Radiology | J9: 44764 | K9: N | L9: N | M9: Y
A10: EchoPAC Software Only, EchoPAC Plug-in | B10: K220940 | C10: GE Medical Systems Ultrasound and Primary Care Diagnostics, | D10: QIH | E10: Radiology | J10: 44764
A11: Libby Echo:Prio | B11: K220956 | C11: Dyad Medical, Inc | D11: QIH | E11: Radiology | J11: 44762
A12: Study Watch with Irregular Pulse Monitor (Home), Study Watch with Irregular Pulse Monitor | B12: K213357 | C12: Verily Life Sciences LLC | D12: DXH | E12: Cardiovascular | J12: 44761
A13: ZEUS System (Zio Watch) | B13: K213409 | C13: iRhythm Technologies, Inc. | D13: DQK | E13: Cardiovascular | J13: 44761
A14: BrainInsight | B14: K220815 | C14: Hyperfine, Inc. | D14: QIH | E14: Radiology | J14: 44761
A15: Vivid T8, Vivid T9 | B15: K221147 | C15: GE Medical Systems Ultrasound and Primary Care Diagnostics, | D15: IYN | E15: Radiology | J15: 44760
A16: Vivid iq | B16: K221148 | C16: GE Medical Systems Ultrasound & Primary Care Diagnostics LLC | D16: IYN | E16: Radiology | J16: 44760
A17: Vivid S60N, Vivid S70N | B17: K220619 | C17: GE Medical Systems Ultrasound and Primary Care Diagnostics, | D17: IYN | E17: Radiology | J17: 44757
A18: syngo.CT Extended Functionality | B18: K221727 | C18: Siemens Medical Solutions USA, Inc. | D18: JAK | E18: Radiology | J18: 44755
A19: ProstatID | B19: K212783 | C19: ScanMed, LLC | D19: QDQ | E19: Radiology | F19: CH | J19: 44750
