[general]
creator=R package 'raster'
created=2023-02-03 12:53:10
[georeference]
nrows=1268
ncols=1361
xmin=-7.39979988119364
ymin=31.0346746047527
xmax=-6.97108488119364
ymax=31.3783026047527
projection=+proj=longlat +ellps=WGS84 +no_defs
[data]
datatype=FLT4S
byteorder=little
nbands=1
bandorder=BIL
categorical=FALSE
minvalue=0
maxvalue=8
nodatavalue=-3.4e+38
[legend]
legendtype=
values=
color=
[description]
layername=DBPType
