Workbook

Sheet Regeneration Prelim.
A1: PFAS stock data | B1: PFOA | C1: PFOS | D1: GenX | F1: PFOA | G1: PFOS | H1: GenX
A2: LC-MS concentration (ng/L) | B2: 2905 | C2: 3771 | D2: 2209 | F2: 1426 | G2: 1877 | H2: 1098
A3: Actual concentration (ng/L) | B3: =B2*2 -> 5810 | C3: =C2*2 -> 7542 | D3: =D2*2 -> 4418 | F3: =F2*2 -> 2852 | G3: =G2*2 -> 3754 | H3: =H2*2 -> 2196
A4: Sample volume (mL) | B4: 2 | F4: 4
A5: Initial PFAS mass (ng) | B5: =B3*B4*0.001 -> 11.62 | C5: =C3*B4*0.001 -> 15.084 | D5: =D3*B4*0.001 -> 8.836 | F5: =F3*F4*0.001 -> 11.408 | G5: =G3*F4*0.001 -> 15.016 | H5: =H3*F4*0.001 -> 8.784
A6: PFAS total (ng) | B6: =SUM(B5:D5) -> 35.54 | F6: =SUM(F5:H5) -> 35.208
A7: Blank
B9: MeOH | K9: MeOH + NaCl | T9: Acetone
B10: Adsorption pass (PR0-A1) | E10: Wash (PR0-W1) | H10: Regeneration pass (PR0-D1) | K10: Adsorption pass (PR0-A2) | N10: Wash (PR0-W2) | Q10: Regeneration pass (PR0-D2) | T10: Adsorption pass (PR0-A3) | W10: Wash (PR0-W3) | Z10: Regeneration pass (PR0-D3)
A11: PFAS type | B11: PFOA | C11: PFOS | D11: GenX | E11: PFOA | F11: PFOS | G11: GenX | H11: PFOA | I11: PFOS | J11: GenX | K11: PFOA | L11: PFOS | M11: GenX | N11: PFOA | O11: PFOS | P11: GenX | Q11: PFOA | R11: PFOS | S11: GenX | T11: PFOA | U11: PFOS | V11: GenX | W11: PFOA | X11: PFOS | Y11: GenX | Z11: PFOA | AA11: PFOS | AB11: GenX
A12: LC-MS concentration (ng/L) | B12: 2691 | C12: 1788 | D12: 2440 | E12: 694.9 | F12: 942.9 | G12: 293.4 | H12: 128.9 | I12: 1254 | J12: 10.75 | K12: 2510 | L12: 2166 | M12: 2293 | N12: 634.2 | O12: 891.2 | P12: 340.1 | Q12: 137.6 | R12: 1066 | S12: 10.09 | T12: 2742 | U12: 2289 | V12: 2371 | W12: 443.7 | X12: 626.1 | Y12: 209.1 | Z12: 85.48 | AA12: 1102 | AB12: 6.923
A13: Corrected concentration (ng/L) | B13: =B12*2 -> 5382 | C13: =C12*2 -> 3576 | D13: =D12*2 -> 4880 | E13: =E12*2 -> 1389.8 | F13: =F12*2 -> 1885.8 | G13: =G12*2 -> 586.8 | H13: =H12*4 -> 515.6 | I13: =I12*4 -> 5016 | J13: =J12*4 -> 43 | K13: =K12*2 -> 5020 | L13: =L12*2 -> 4332 | M13: =M12*2 -> 4586 | N13: =N12*2 -> 1268.4 | O13: =O12*2 -> 1782.4 | P13: =P12*2 -> 680.2 | Q13: =Q12*4 -> 550.4 | R13: =R12*4 -> 4264 | S13: =S12*4 -> 40.36 | T13: =T12*2 -> 5484 | U13: =U12*2 -> 4578 | V13: =V12*2 -> 4742 | W13: =W12*2 -> 887.4 | X13: =X12*2 -> 1252.2 | Y13: =Y12*2 -> 418.2 | Z13: =Z12*4 -> 341.92 | AA13: =AA12*4 -> 4408 | AB13: =AB12*4 -> 27.692
A14: Batch volume (mL) | B14: 2 | C14: 2 | D14: 2 | E14: 1 | F14: 1 | G14: 1 | H14: 1 | I14: 1 | J14: 1 | K14: 2 | L14: 2 | M14: 2 | N14: 1 | O14: 1 | P14: 1 | Q14: 1 | R14: 1 | S14: 1 | T14: 2 | U14: 2 | V14: 2 | W14: 1 | X14: 1 | Y14: 1 | Z14: 1 | AA14: 1 | AB14: 1
A15: PFAS mass (ng) | B15: =B13*B14*0.001 -> 10.764 | C15: =C13*C14*0.001 -> 7.152 | D15: =D13*D14*0.001 -> 9.76 | E15: =E13*E14*0.001 -> 1.3898 | F15: =F13*F14*0.001 -> 1.8858 | G15: =G13*G14*0.001 -> 0.5868 | H15: =H13*H14*0.001 -> 0.5156 | I15: =I13*I14*0.001 -> 5.016 | ... AB15: =AB13*AB14*0.001 -> 0.027692
A16: PFAS total (ng) | B16: =SUM(B15,E15,H15) -> 12.6694 | C16: =SUM(C15,F15,I15) -> 14.0538 | D16: =SUM(D15,G15,J15) -> 10.3898 | K16: =SUM(K15,N15,Q15) -> 11.8588 | L16: =SUM(L15,O15,R15) -> 14.7104 | M16: =SUM(M15,P15,S15) -> 9.89256 | T16: =SUM(T15,W15,Z15) -> 12.19732 | U16: =SUM(U15,X15,AA15) -> 14.8162 | V16: =SUM(V15,Y15,AB15) -> 9.929892
A17: PFAS sum (ng) | B17: =SUM(B16:D16) -> 37.113 | K17: =SUM(K16:M16) -> 36.46176 | T17: =SUM(T16:V16) -> 36.943412
A18: Avg. PFAS (ng) | B18: PFOA | E18: =AVERAGE(B16,K16,T16) -> 12.24184 | K18: PFOS | N18: =AVERAGE(C16,L16,U16) -> 14.5268 | T18: GenX | W18: =AVERAGE(D16,M16,V16) -> 10.070751
A19: Avg. PFAS total (ng) | B19: =AVERAGE(B17,K17,T17) -> 36.839391
A20: UiO-66-H
A22: Regeneration solvent | B22: MeOH | K22: MeOH + NaCl | T22: Acetone
B23: Adsorption pass (PR1-A1) | E23: Wash (PR1-W1) | H23: Regeneration pass (PR1-D1) | K23: Adsorption pass (PR1-A2) | N23: Wash (PR1-W2) | Q23: Regeneration pass (PR1-D2) | T23: Adsorption pass (PR1-A3) | W23: Wash (PR1-W3) | Z23: Regeneration pass (PR1-D3)
A24: PFAS type | B24: PFOA | C24: PFOS | D24: GenX | E24: PFOA | F24: PFOS | G24: GenX | H24: PFOA | I24: PFOS | J24: GenX | K24: PFOA | L24: PFOS | M24: GenX | N24: PFOA | O24: PFOS | P24: GenX | Q24: PFOA | R24: PFOS | S24: GenX | T24: PFOA | U24: PFOS | V24: GenX | W24: PFOA | X24: PFOS | Y24: GenX | Z24: PFOA | AA24: PFOS | AB24: GenX
A25: LC-MS concentration (ng/L) | B25: 1896 | C25: 936.9 | D25: 1784 | E25: 407.7 | F25: 376.2 | G25: 188.1 | H25: 387.8 | I25: 2161 | J25: 166.6 | K25: 1912 | L25: 1004 | M25: 1807 | N25: 420.5 | O25: 723 | P25: 229.2 | Q25: 573.3 | R25: 2063 | S25: 233.3 | T25: 1825 | U25: 1017 | V25: 1780 | W25: 411.4 | X25: 869.7 | Y25: 233.5 | Z25: 330 | AA25: 2264 | AB25: 35.54
A26: Corrected concentration (ng/L) | B26: =B25*2 -> 3792 | C26: =C25*2 -> 1873.8 | D26: =D25*2 -> 3568 | E26: =E25*2 -> 815.4 | F26: =F25*2 -> 752.4 | G26: =G25*2 -> 376.2 | H26: =H25*4 -> 1551.2 | I26: =I25*4 -> 8644 | J26: =J25*4 -> 666.4 | K26: =K25*2 -> 3824 | L26: =L25*2 -> 2008 | M26: =M25*2 -> 3614 | N26: =N25*2 -> 841 | O26: =O25*2 -> 1446 | P26: =P25*2 -> 458.4 | Q26: =Q25*4 -> 2293.2 | R26: =R25*4 -> 8252 | S26: =S25*4 -> 933.2 | T26: =T25*2 -> 3650 | U26: =U25*2 -> 2034 | V26: =V25*2 -> 3560 | W26: =W25*2 -> 822.8 | X26: =X25*2 -> 1739.4 | Y26: =Y25*2 -> 467 | Z26: =Z25*4 -> 1320 | AA26: =AA25*4 -> 9056 | AB26: =AB25*4 -> 142.16
A27: Batch volume (mL) | B27: 2 | C27: 2 | D27: 2 | E27: 1 | F27: 1 | G27: 1 | H27: 1 | I27: 1 | J27: 1 | K27: 2 | L27: 2 | M27: 2 | N27: 1 | O27: 1 | P27: 1 | Q27: 1 | R27: 1 | S27: 1 | T27: 2 | U27: 2 | V27: 2 | W27: 1 | X27: 1 | Y27: 1 | Z27: 1 | AA27: 1 | AB27: 1
A28: PFAS remaining mass (ng) | B28: =B26*B27*0.001 -> 7.584 | C28: =C26*C27*0.001 -> 3.7476 | D28: =D26*D27*0.001 -> 7.136 | E28: =E26*E27*0.001 -> 0.8154 | F28: =F26*F27*0.001 -> 0.7524 | G28: =G26*G27*0.001 -> 0.3762 | H28: =H26*H27*0.001 -> 1.5512 | I28: =I26*I27*0.001 -> 8.644 | ... AB28: =AB26*AB27*0.001 -> 0.14216
A29: PFAS removed (ng) | B29: =$E$18-B28-E28 -> 3.84244 | C29: =$N$18-C28-F28 -> 10.0268 | D29: =$W$18-D28-G28 -> 2.5585507 | E29: PFAS total recovered (ng) | H29: =SUM(H28:J28) -> 10.8616 | K29: =$E$18-K28-N28 -> 3.75284 | L29: =$N$18-L28-O28 -> 9.0648 | M29: =$W$18-M28-P28 -> 2.3843507 | N29: PFAS total recovered (ng) | Q29: =SUM(Q28:S28) -> 11.4784 | T29: =$E$18-T28-W28 -> 4.11904 | U29: =$N$18-U28-X28 -> 8.7194 | V29: =$W$18-V28-Y28 -> 2.4837507 | W29: PFAS total recovered (ng) | Z29: =SUM(Z28:AB28) -> 10.51816
A30: PFAS removed (%) | B30: =($E$18-B28-E28)/$E$18 -> 0.31387765 | C30: =($N$18-C28-F28)/$N$18 -> 0.69022772 | D30: =($W$18-D28-G28)/$W$18 -> 0.25405759 | E30: PFAS recovered (%) | H30: =H28/B29 -> 0.40370181 | I30: =I28/C29 -> 0.8620896 | J30: =J28/D29 -> 0.26045996 | K30: =($E$18-K28-N28)/$E$18 -> 0.30655849 | L30: =($N$18-L28-O28)/$N$18 -> 0.62400529 | M30: =($W$18-M28-P28)/$W$18 -> 0.23675997 | N30: PFAS recovered (%) | Q30: =Q28/K29 -> 0.61105723 | R30: =R28/L29 -> 0.91033448 | S30: =S28/M29 -> 0.39138538 | T30: =($E$18-T28-W28)/$E$18 -> 0.3364723 | U30: =($N$18-U28-X28)/$N$18 -> 0.60022854 | V30: =($W$18-V28-Y28)/$W$18 -> 0.24663014 | W30: PFAS recovered (%) | Z30: =Z28/T29 -> 0.32046302 | AA30: =AA28/U29 -> 1.0386036 | AB30: =AB28/V29 -> 0.057236019
A31: PFAS Total removal (%) | B31: =(SUM(B29:D29)/$B$19) -> 0.44593003 | E31: PFAS Total recovered (%) | H31: =H29/(SUM(B29:D29)) -> 0.66117229 | K31: =(SUM(K29:M29)/$B$19) -> 0.41265587 | N31: PFAS Total recovered (%) | Q31: =Q29/(SUM(K29:M29)) -> 0.75505901 | T31: =(SUM(T29:V29)/$B$19) -> 0.41591868 | W31: PFAS Total recovered (%) | Z31: =Z29/(SUM(T29:V29)) -> 0.68646581
A32: UiO-66-F4
A34: Regeneration solvent | B34: MeOH | K34: MeOH + NaCl | T34: Acetone
B35: Adsorption pass (PR2-A1) | E35: Wash (PR2-W1) | H35: Regeneration pass (PR2-D1) | K35: Adsorption pass (PR2-A2) | N35: Wash (PR2-W2) | Q35: Regeneration pass (PR2-D2) | T35: Adsorption pass (PR2-A3) | W35: Wash (PR2-W3) | Z35: Regeneration pass (PR2-D3)
A36: PFAS type | B36: PFOA | C36: PFOS | D36: GenX | E36: PFOA | F36: PFOS | G36: GenX | H36: PFOA | I36: PFOS | J36: GenX | K36: PFOA | L36: PFOS | M36: GenX | N36: PFOA | O36: PFOS | P36: GenX | Q36: PFOA | R36: PFOS | S36: GenX | T36: PFOA | U36: PFOS | V36: GenX | W36: PFOA | X36: PFOS | Y36: GenX | Z36: PFOA | AA36: PFOS | AB36: GenX
A37: LC-MS concentration (ng/L) | B37: 1468 | C37: 733.6 | D37: 1979 | E37: 640.4 | F37: 510.1 | G37: 268.7 | H37: 730.7 | I37: 2735 | J37: 70.32 | K37: 1663 | L37: 663.6 | M37: 2132 | N37: 548.9 | O37: 790.5 | P37: 245.1 | Q37: 593.9 | R37: 2342 | S37: 64.19 | T37: 1672 | U37: 756.5 | V37: 2247 | W37: 520.4 | X37: 662.9 | Y37: 242.1 | Z37: 411.4 | AA37: 2439 | AB37: 21.79
A38: Corrected concentration (ng/L) | B38: =B37*2 -> 2936 | C38: =C37*2 -> 1467.2 | D38: =D37*2 -> 3958 | E38: =E37*2 -> 1280.8 | F38: =F37*2 -> 1020.2 | G38: =G37*2 -> 537.4 | H38: =H37*4 -> 2922.8 | I38: =I37*4 -> 10940 | J38: =J37*4 -> 281.28 | K38: =K37*2 -> 3326 | L38: =L37*2 -> 1327.2 | M38: =M37*2 -> 4264 | N38: =N37*2 -> 1097.8 | O38: =O37*2 -> 1581 | P38: =P37*2 -> 490.2 | Q38: =Q37*4 -> 2375.6 | R38: =R37*4 -> 9368 | S38: =S37*4 -> 256.76 | T38: =T37*2 -> 3344 | U38: =U37*2 -> 1513 | V38: =V37*2 -> 4494 | W38: =W37*2 -> 1040.8 | X38: =X37*2 -> 1325.8 | Y38: =Y37*2 -> 484.2 | Z38: =Z37*4 -> 1645.6 | AA38: =AA37*4 -> 9756 | AB38: =AB37*4 -> 87.16
A39: Batch volume (mL) | B39: 2 | C39: 2 | D39: 2 | E39: 1 | F39: 1 | G39: 1 | H39: 1 | I39: 1 | J39: 1 | K39: 2 | L39: 2 | M39: 2 | N39: 1 | O39: 1 | P39: 1 | Q39: 1 | R39: 1 | S39: 1 | T39: 2 | U39: 2 | V39: 2 | W39: 1 | X39: 1 | Y39: 1 | Z39: 1 | AA39: 1 | AB39: 1
A40: PFAS remaining mass (ng) | B40: =B38*B39*0.001 -> 5.872 | C40: =C38*C39*0.001 -> 2.9344 | D40: =D38*D39*0.001 -> 7.916 | E40: =E38*E39*0.001 -> 1.2808 | F40: =F38*F39*0.001 -> 1.0202 | G40: =G38*G39*0.001 -> 0.5374 | H40: =H38*H39*0.001 -> 2.9228 | I40: =I38*I39*0.001 -> 10.94 | ... AB40: =AB38*AB39*0.001 -> 0.08716
A41: PFAS removed (ng) | B41: =$E$18-B40-E40 -> 5.08904 | C41: =$N$18-C40-F40 -> 10.5722 | D41: =$W$18-D40-G40 -> 1.6173507 | E41: PFAS total recovered (ng) | H41: =SUM(H40:J40) -> 14.14408 | K41: =$E$18-K40-N40 -> 4.49204 | L41: =$N$18-L40-O40 -> 10.2914 | M41: =$W$18-M40-P40 -> 1.0525507 | N41: PFAS total recovered (ng) | Q41: =SUM(Q40:S40) -> 12.00036 | T41: =$E$18-T40-W40 -> 4.51304 | U41: =$N$18-U40-X40 -> 10.175 | V41: =$W$18-V40-Y40 -> 0.59855067 | W41: PFAS total recovered (ng) | Z41: =SUM(Z40:AB40) -> 11.48876
A42: PFAS removed (%) | B42: =($E$18-B40-E40)/$E$18 -> 0.41570875 | C42: =($N$18-C40-F40)/$N$18 -> 0.72777212 | D42: =($W$18-D40-G40)/$W$18 -> 0.16059882 | E42: PFAS recovered (%) | H42: =H40/B41 -> 0.57433229 | I42: =I40/C41 -> 1.0347894 | J42: =J40/D41 -> 0.17391405 | K42: =($E$18-K40-N40)/$E$18 -> 0.36694157 | L42: =($N$18-L40-O40)/$N$18 -> 0.70844233 | M42: =($W$18-M40-P40)/$W$18 -> 0.10451561 | N42: PFAS recovered (%) | Q42: =Q40/K41 -> 0.52884658 | R42: =R40/L41 -> 0.9102746 | S42: =S40/M41 -> 0.24394075 | T42: =($E$18-T40-W40)/$E$18 -> 0.368657 | U42: =($N$18-U40-X40)/$N$18 -> 0.70042955 | V42: =($W$18-V40-Y40)/$W$18 -> 0.059434563 | W42: PFAS recovered (%) | Z42: =Z40/T41 -> 0.36463227 | AA42: =AA40/U41 -> 0.95882064 | AB42: =AB40/V41 -> 0.14561842
A43: PFAS Total removal (%) | B43: =(SUM(B41:D41)/$B$19) -> 0.46902488 | E43: PFAS Total recovered (%) | H43: =H41/(SUM(B41:D41)) -> 0.81858991 | K43: =(SUM(K41:M41)/$B$19) -> 0.42986571 | N43: PFAS Total recovered (%) | Q43: =Q41/(SUM(K41:M41)) -> 0.75779029 | T43: =(SUM(T41:V41)/$B$19) -> 0.41495232 | W43: PFAS Total recovered (%) | Z43: =Z41/(SUM(T41:V41)) -> 0.75155803
...

Sheet Regeneration 5 cycles
A1: PFAS stock data | B1: PFOA | C1: PFOS | D1: GenX | F1: PFOA | G1: PFOS | H1: GenX
A2: LC-MS concentration (ng/L) | B2: 2905 | C2: 3771 | D2: 2209 | F2: 1426 | G2: 1877 | H2: 1098
A3: Actual concentration (ng/L) | B3: =B2*2 -> 5810 | C3: =C2*2 -> 7542 | D3: =D2*2 -> 4418 | F3: =F2*2 -> 2852 | G3: =G2*2 -> 3754 | H3: =H2*2 -> 2196
A4: Sample volume (mL) | B4: 2 | F4: 4
A5: Initial PFAS mass (ng) | B5: =B3*B4*0.001 -> 11.62 | C5: =C3*B4*0.001 -> 15.084 | D5: =D3*B4*0.001 -> 8.836 | F5: =F3*F4*0.001 -> 11.408 | G5: =G3*F4*0.001 -> 15.016 | H5: =H3*F4*0.001 -> 8.784
A6: PFAS total (ng) | B6: =SUM(B5:D5) -> 35.54 | F6: =SUM(F5:H5) -> 35.208
A7: Blank | AN7: Pass 1 | AU7: Pass 2
B9: #1-1 | N9: #2-1 | Z9: #3-1 | AQ9: UiO-66-H | AR9: UiO-66-F4 | AS9: OS-UiO-66-H | AT9: OS-UiO-66-F4 | AX9: UiO-66-H | AY9: UiO-66-F4 | AZ9: OS-UiO-66-H | BA9: OS-UiO-66-F4
B10: Adsorption (RG01-1A) | E10: Ads. wash (RG01-1W1) | H10: Regeneration (RG01-1D) | K10: Reg. wash (RG01-1W2) | N10: Adsorption (RG02-1A) | Q10: Ads. wash (RG02-1W1) | T10: Regeneration (RG02-1D) | W10: Reg. wash (RG02-1W2) | Z10: Adsorption (RG03-1A) | AC10: Ads. wash (RG03-1W1) | AF10: Regeneration (RG03-1D) | AI10: Reg. wash (RG03-1W2) | AN10: Total PFAS input [ng] | AQ10: =SUM(B19,B30,B41,B52,B63) -> 173.07696 | AU10: Total PFAS input [ng] | AX10: =SUM(B19,B30,B41,B52,B63) -> 173.07696
A11: PFAS type | B11: PFOA | C11: PFOS | D11: GenX | E11: PFOA | F11: PFOS | G11: GenX | H11: PFOA | I11: PFOS | J11: GenX | K11: PFOA | L11: PFOS | M11: GenX | N11: PFOA | O11: PFOS | P11: GenX | Q11: PFOA | R11: PFOS | S11: GenX | T11: PFOA | U11: PFOS | V11: GenX | W11: PFOA | X11: PFOS | Y11: GenX | Z11: PFOA | AA11: PFOS | AB11: GenX | AC11: PFOA | AD11: PFOS | AE11: GenX | AF11: PFOA | AG11: PFOS | AH11: GenX | AI11: PFOA | AJ11: PFOS | AK11: GenX | AN11: Total PFOA input [ng] | AQ11: =SUM(H18,H29,H40,H51,H62) -> 56.281608 | AU11: Total PFOA input [ng] | AX11: =SUM(H18,H29,H40,H51,H62) -> 56.281608
A12: LC-MS concentration (ng/L) | B12: 1088 | C12: 708 | D12: 1028 | E12: 274 | F12: 462.8 | G12: 119.3 | H12: 39.77 | I12: 348 | J12: 5.105 | K12: 10.06 | L12: 56.56 | M12: 1.63 | N12: 1130 | O12: 873.5 | P12: 1234 | Q12: 270.6 | R12: 423.9 | S12: 152.5 | T12: 58 | U12: 510.8 | V12: 8.778 | W12: 2.567 | X12: 29.9 | Y12: 0 | Z12: 1242 | AA12: 671.6 | AB12: 1025 | AC12: 208 | AD12: 187.1 | AE12: 179.9 | AF12: 76.94 | AG12: 522.3 | AH12: 7.129 | AI12: 11.68 | AJ12: 34.98 | AK12: 0 | AN12: Total PFOS input [ng] | AQ12: =SUM(T18,T29,T40,T51,T62) -> 67.514492 | AU12: Total PFOS input [ng] | AX12: =SUM(T18,T29,T40,T51,T62) -> 67.514492
A13: Corrected concentration (ng/L) | B13: =B12*4 -> 4352 | C13: =C12*4 -> 2832 | D13: =D12*4 -> 4112 | E13: =E12*4 -> 1096 | F13: =F12*4 -> 1851.2 | G13: =G12*4 -> 477.2 | H13: =H12*8 -> 318.16 | I13: =I12*8 -> 2784 | J13: =J12*8 -> 40.84 | K13: =K12*4 -> 40.24 | L13: =L12*4 -> 226.24 | M13: =M12*4 -> 6.52 | N13: =N12*4 -> 4520 | O13: =O12*4 -> 3494 | P13: =P12*4 -> 4936 | Q13: =Q12*4 -> 1082.4 | R13: =R12*4 -> 1695.6 | S13: =S12*4 -> 610 | T13: =T12*8 -> 464 | U13: =U12*8 -> 4086.4 | V13: =V12*8 -> 70.224 | W13: =W12*4 -> 10.268 | X13: =X12*4 -> 119.6 | Y13: =Y12*4 -> 0 | Z13: =Z12*4 -> 4968 | AA13: =AA12*4 -> 2686.4 | AB13: =AB12*4 -> 4100 | AC13: =AC12*4 -> 832 | AD13: =AD12*4 -> 748.4 | AE13: =AE12*4 -> 719.6 | AF13: =AF12*8 -> 615.52 | AG13: =AG12*8 -> 4178.4 | AH13: =AH12*8 -> 57.032 | AI13: =AI12*4 -> 46.72 | AJ13: =AJ12*4 -> 139.92 | AK13: =AK12*4 -> 0 | AN13: Total GenX input [ng] | AQ13: =SUM(AF18,AF29,AF40,AF51,AF62) -> 49.280864 | AU13: Total GenX input [ng] | AX13: =SUM(AF18,AF29,AF40,AF51,AF62) -> 49.280864
A14: Batch volume (mL) | B14: 2 | C14: 2 | D14: 2 | E14: 1 | F14: 1 | G14: 1 | H14: 1 | I14: 1 | J14: 1 | K14: 1 | L14: 1 | M14: 1 | N14: 2 | O14: 2 | P14: 2 | Q14: 1 | R14: 1 | S14: 1 | T14: 1 | U14: 1 | V14: 1 | W14: 1 | X14: 1 | Y14: 1 | Z14: 2 | AA14: 2 | AB14: 2 | AC14: 1 | AD14: 1 | AE14: 1 | AF14: 1 | AG14: 1 | AH14: 1 | AI14: 1 | AJ14: 1 | AK14: 1 | AN14: Total PFAS removed [ng] | AQ14: =SUM(F73,F83,F93,F103,F113) -> 74.852164 | AR14: =SUM(F125,F135,F145,F155,F165) -> 100.02336 | AS14: =SUM(F177,F187,F197,F207,F217) -> 86.468964 | AT14: =SUM(F229,F239,F249,F259,F269) -> 107.97507 | AU14: Total PFAS removed [ng] | AX14: =SUM(R73,R83,R93,R103,R113) -> 69.574964 | AY14: =SUM(R125,R135,R145,R155,R165) -> 94.610204 | AZ14: =SUM(R177,R187,R197,R207,R217) -> 85.728484 | BA14: =SUM(R229,R239,R249,R259,R269) -> 109.11223
A15: PFAS mass (ng) | B15: =B13*B14*0.001 -> 8.704 | C15: =C13*C14*0.001 -> 5.664 | D15: =D13*D14*0.001 -> 8.224 | E15: =E13*E14*0.001 -> 1.096 | F15: =F13*F14*0.001 -> 1.8512 | G15: =G13*G14*0.001 -> 0.4772 | H15: =H13*H14*0.001 -> 0.31816 | I15: =I13*I14*0.001 -> 2.784 | ... AK15: =AK13*AK14*0.001 -> 0 | AN15: Total PFOA removed [ng] | AQ15: =SUM(B73,B83,B93,B103,B113) -> 19.128408 | AR15: =SUM(B125,B135,B145,B155,B165) -> 30.106008 | AS15: =SUM(B177,B187,B197,B207,B217) -> 24.320408 | AT15: =SUM(B229,B239,B249,B259,B269) -> 35.075208 | AU15: Total PFOA removed [ng] | AX15: =SUM(N73,N83,N93,N103,N113) -> 15.662408 | AY15: =SUM(N125,N135,N145,N155,N165) -> 28.066008 | AZ15: =SUM(N177,N187,N197,N207,N217) -> 23.050008 | BA15: =SUM(N229,N239,N249,N259,N269) -> 36.747608
A16: PFAS total (ng) | B16: =SUM(B15,E15,H15,K15) -> 10.1584 | C16: =SUM(C15,F15,I15,L15) -> 10.52544 | D16: =SUM(D15,G15,J15,M15) -> 8.74856 | N16: =SUM(N15,Q15,T15,W15) -> 10.596668 | O16: =SUM(O15,R15,U15,X15) -> 12.8896 | P16: =SUM(P15,S15,V15,Y15) -> 10.552224 | Z16: =SUM(Z15,AC15,AF15,AI15) -> 11.43024 | AA16: =SUM(AA15,AD15,AG15,AJ15) -> 10.43952 | AB16: =SUM(AB15,AE15,AH15,AK15) -> 8.976632 | AN16: Total PFOS removed [ng] | AQ16: =SUM(C73,C83,C93,C103,C113) -> 49.842892 | AR16: =SUM(C125,C135,C145,C155,C165) -> 62.399292 | AS16: =SUM(C177,C187,C197,C207,C217) -> 53.394492 | AT16: =SUM(C229,C239,C249,C259,C269) -> 64.356996 | AU16: Total PFOS removed [ng] | AX16: =SUM(O73,O83,O93,O103,O113) -> 46.690092 | AY16: =SUM(O125,O135,O145,O155,O165) -> 59.660132 | AZ16: =SUM(O177,O187,O197,O207,O217) -> 54.009212 | BA16: =SUM(O229,O239,O249,O259,O269) -> 65.419356
A17: PFAS sum (ng) | B17: =SUM(B16:D16) -> 29.4324 | N17: =SUM(N16:P16) -> 34.038492 | Z17: =SUM(Z16:AB16) -> 30.846392 | AN17: Total GenX removed [ng] | AQ17: =SUM(D73,D83,D93,,D103,D113) -> 5.880864 | AR17: =SUM(D125,D135,D145,D155,D165) -> 7.518064 | AS17: =SUM(D177,D187,D197,D207,D217) -> 8.754064 | AT17: =SUM(D229,D239,D249,D259,D269) -> 8.542864 | AU17: Total GenX removed [ng] | AX17: =SUM(P73,P83,P93,P103,P113) -> 7.222464 | AY17: =SUM(P125,P135,P145,P155,P165) -> 6.884064 | AZ17: =SUM(P177,P187,P197,P207,P217) -> 8.669264 | BA17: =SUM(P229,P239,P249,P259,P269) -> 6.945264
A18: Avg. PFAS (ng) | B18: PFOA | H18: =AVERAGE(B16,N16,Z16) -> 10.728436 | N18: PFOS | T18: =AVERAGE(C16,O16,AA16) -> 11.284853 | Z18: GenX | AF18: =AVERAGE(D16,P16,AB16) -> 9.4258053 | AN18: Total PFAS regenerated [ng] | AQ18: =SUM(AQ19:AQ21) -> 73.6651 | AR18: =SUM(AR19:AR21) -> 93.521768 | AS18: =SUM(AS19:AS21) -> 82.233324 | AT18: =SUM(AT19:AT21) -> 100.38254 | AU18: Total PFAS regenerated [ng] | AX18: =SUM(AX19:AX21) -> 63.702064 | AY18: =SUM(AY19:AY21) -> 85.566648 | AZ18: =SUM(AZ19:AZ21) -> 78.654872 | BA18: =SUM(BA19:BA21) -> 104.67548
A19: Avg. PFAS total (ng) | B19: =SUM(H18,T18,AF18) -> 31.439095 | AN19: Total PFOA regenerated [ng] | AQ19: =SUM(K73,K83,K93,K103,K113) -> 17.60524 | AR19: =SUM(K125,K135,K145,K155,K165) -> 26.98424 | AS19: =SUM(K177,K187,K197,K207,K217) -> 23.5636 | AT19: =SUM(K229,K239,K249,K259,K269) -> 32.2006 | AU19: Total PFOA regenerated [ng] | AX19: =SUM(W73,W83,W93,W103,W113) -> 14.11104 | AY19: =SUM(W125,W135,W145,W155,W165) -> 24.215088 | AZ19: =SUM(W177,W187,W197,W207,W217) -> 21.37976 | BA19: =SUM(W229,W239,W249,W259,W269) -> 33.0568
B20: #1-2 | N20: #2-2 | Z20: #3-2 | AN20: Total PFOS regenerated [ng] | AQ20: =SUM(L73,L83,L93,L103,L113) -> 51.34082 | AR20: =SUM(L125,L135,L145,L155,L165) -> 63.36376 | AS20: =SUM(L177,L187,L197,L207,L217) -> 54.082456 | AT20: =SUM(L229,L239,L249,L259,L269) -> 63.702604 | AU20: Total PFOS regenerated [ng] | AX20: =SUM(X73,X83,X93,X103,X113) -> 45.694584 | AY20: =SUM(X125,X135,X145,X155,X165) -> 58.100168 | AZ20: =SUM(X177,X187,X197,X207,X217) -> 52.23244 | BA20: =SUM(X229,X239,X249,X259,X269) -> 66.473
B21: Adsorption (RG01-2A) | E21: Ads. wash (RG01-2W1) | H21: Regeneration (RG01-2D) | K21: Reg. wash (RG01-2W2) | N21: Adsorption (RG02-2A) | Q21: Ads. wash (RG02-2W1) | T21: Regeneration (RG02-2D) | W21: Reg. wash (RG02-2W2) | Z21: Adsorption (RG03-2A) | AC21: Ads. wash (RG03-2W1) | AF21: Regeneration (RG03-2D) | AI21: Reg. wash (RG03-2W2) | AN21: Total GenX regenerated [ng] | AQ21: =SUM(M73,M83,M93,M103,,M113) -> 4.71904 | AR21: =SUM(M135,M125,M145,M155,M165) -> 3.173768 | AS21: =SUM(M177,M187,M197,M207,M217) -> 4.587268 | AT21: =SUM(M229,M239,M249,M259,M269) -> 4.479336 | AU21: Total GenX regenerated [ng] | AX21: =SUM(Y73,Y83,Y93,Y103,Y113) -> 3.89644 | AY21: =SUM(Y135,Y125,Y145,Y155,Y165) -> 3.251392 | AZ21: =SUM(Y177,Y187,Y197,Y207,Y217) -> 5.042672 | BA21: =SUM(Y229,Y239,Y249,Y259,Y269) -> 5.145676
A22: PFAS type | B22: PFOA | C22: PFOS | D22: GenX | E22: PFOA | F22: PFOS | G22: GenX | H22: PFOA | I22: PFOS | J22: GenX | K22: PFOA | L22: PFOS | M22: GenX | N22: PFOA | O22: PFOS | P22: GenX | Q22: PFOA | R22: PFOS | S22: GenX | T22: PFOA | U22: PFOS | V22: GenX | W22: PFOA | X22: PFOS | Y22: GenX | Z22: PFOA | AA22: PFOS | AB22: GenX | AC22: PFOA | AD22: PFOS | AE22: GenX | AF22: PFOA | AG22: PFOS | AH22: GenX | AI22: PFOA | AJ22: PFOS | AK22: GenX | AN22: Total PFAS removed [%] | AQ22: =AQ14/AQ10 -> 0.43247907 | AR22: =AR14/AQ10 -> 0.57791263 | AS22: =AS14/AQ10 -> 0.49959834 | AT22: =AT14/AQ10 -> 0.6238558 | AU22: Total PFAS removed [%] | AX22: =AX14/AX10 -> 0.40198858 | AY22: =AY14/AX10 -> 0.5466366 | AZ22: =AZ14/AX10 -> 0.49532001 | BA22: =BA14/AX10 -> 0.63042606
A23: LC-MS concentration (ng/L) | B23: 1209 | C23: 572.5 | D23: 1125 | E23: 342.3 | F23: 903.4 | G23: 80.98 | H23: 58.36 | I23: 917.1 | J23: 3.097 | K23: 2.506 | L23: 16.84 | M23: 0 | N23: 1184 | O23: 720 | P23: 1184 | Q23: 297.4 | R23: 760.9 | S23: 94.47 | T23: 43.35 | U23: 711.3 | V23: 5.01 | W23: 0 | X23: 5.796 | Y23: 0 | Z23: 1131 | AA23: 426.3 | AB23: 1060 | AC23: 390 | AD23: 563.7 | AE23: 176.2 | AF23: 127.5 | AG23: 960.9 | AH23: 10.46 | AI23: 1.344 | AJ23: 46.57 | AK23: 0 | AN23: Total PFOA removed [%] | AQ23: =AQ15/AQ11 -> 0.33986961 | AR23: =AR15/AQ11 -> 0.53491734 | AS23: =AS15/AQ11 -> 0.43211999 | AT23: =AT15/AQ11 -> 0.62320906 | AU23: Total PFOA removed [%] | AX23: =AX15/AX11 -> 0.27828643 | AY23: =AY15/AX11 -> 0.49867104 | AZ23: =AZ15/AX11 -> 0.40954779 | BA23: =BA15/AX11 -> 0.65292392
A24: Corrected concentration (ng/L) | B24: =B23*4 -> 4836 | C24: =C23*4 -> 2290 | D24: =D23*4 -> 4500 | E24: =E23*4 -> 1369.2 | F24: =F23*4 -> 3613.6 | G24: =G23*4 -> 323.92 | H24: =H23*8 -> 466.88 | I24: =I23*8 -> 7336.8 | J24: =J23*8 -> 24.776 | K24: =K23*4 -> 10.024 | L24: =L23*4 -> 67.36 | M24: =M23*4 -> 0 | N24: =N23*4 -> 4736 | O24: =O23*4 -> 2880 | P24: =P23*4 -> 4736 | Q24: =Q23*4 -> 1189.6 | R24: =R23*4 -> 3043.6 | S24: =S23*4 -> 377.88 | T24: =T23*8 -> 346.8 | U24: =U23*8 -> 5690.4 | V24: =V23*8 -> 40.08 | W24: =W23*4 -> 0 | X24: =X23*4 -> 23.184 | Y24: =Y23*4 -> 0 | Z24: =Z23*4 -> 4524 | AA24: =AA23*4 -> 1705.2 | AB24: =AB23*4 -> 4240 | AC24: =AC23*4 -> 1560 | AD24: =AD23*4 -> 2254.8 | AE24: =AE23*4 -> 704.8 | AF24: =AF23*8 -> 1020 | AG24: =AG23*8 -> 7687.2 | AH24: =AH23*8 -> 83.68 | AI24: =AI23*4 -> 5.376 | AJ24: =AJ23*4 -> 186.28 | AK24: =AK23*4 -> 0 | AN24: Total PFOS removed [%] | AQ24: =AQ16/AQ12 -> 0.73825471 | AR24: =AR16/AQ12 -> 0.92423553 | AS24: =AS16/AQ12 -> 0.79085972 | AT24: =AT16/AQ12 -> 0.95323232 | AU24: Total PFOS removed [%] | AX24: =AX16/AX12 -> 0.69155659 | AY24: =AY16/AX12 -> 0.88366409 | AZ24: =AZ16/AX12 -> 0.79996472 | BA24: =BA16/AX12 -> 0.96896761
A25: Batch volume (mL) | B25: 2 | C25: 2 | D25: 2 | E25: 1 | F25: 1 | G25: 1 | H25: 1 | I25: 1 | J25: 1 | K25: 1 | L25: 1 | M25: 1 | N25: 2 | O25: 2 | P25: 2 | Q25: 1 | R25: 1 | S25: 1 | T25: 1 | U25: 1 | V25: 1 | W25: 1 | X25: 1 | Y25: 1 | Z25: 2 | AA25: 2 | AB25: 2 | AC25: 1 | AD25: 1 | AE25: 1 | AF25: 1 | AG25: 1 | AH25: 1 | AI25: 1 | AJ25: 1 | AK25: 1 | AN25: Total GenX removed [%] | AQ25: =AQ17/AQ13 -> 0.11933362 | AR25: =AR17/AQ13 -> 0.15255544 | AS25: =AS17/AQ13 -> 0.17763617 | AT25: =AT17/AQ13 -> 0.17335053 | AU25: Total GenX removed [%] | AX25: =AX17/AX13 -> 0.14655717 | AY25: =AY17/AX13 -> 0.13969041 | AZ25: =AZ17/AX13 -> 0.17591542 | BA25: =BA17/AX13 -> 0.14093227
A26: PFAS mass (ng) | B26: =B24*B25*0.001 -> 9.672 | C26: =C24*C25*0.001 -> 4.58 | D26: =D24*D25*0.001 -> 9 | E26: =E24*E25*0.001 -> 1.3692 | F26: =F24*F25*0.001 -> 3.6136 | G26: =G24*G25*0.001 -> 0.32392 | H26: =H24*H25*0.001 -> 0.46688 | I26: =I24*I25*0.001 -> 7.3368 | ... AK26: =AK24*AK25*0.001 -> 0 | AN26: Total PFAS recovered [%] | AQ26: =AQ18/AQ14 -> 0.98414122 | AR26: =AR18/AR14 -> 0.93499923 | AS26: =AS18/AS14 -> 0.95101549 | AT26: =AT18/AT14 -> 0.92968258 | AU26: Total PFAS recovered [%] | AX26: =AX18/AX14 -> 0.91558889 | AY26: =AY18/AY14 -> 0.90441247 | AZ26: =AZ18/AZ14 -> 0.9174882 | BA26: =BA18/BA14 -> 0.95933772
A27: PFAS total (ng) | B27: =SUM(B26,E26,H26,K26) -> 11.518104 | C27: =SUM(C26,F26,I26,L26) -> 15.59776 | D27: =SUM(D26,G26,J26,M26) -> 9.348696 | N27: =SUM(N26,Q26,T26,W26) -> 11.0084 | O27: =SUM(O26,R26,U26,X26) -> 14.517184 | P27: =SUM(P26,S26,V26,Y26) -> 9.88996 | Z27: =SUM(Z26,AC26,AF26,AI26) -> 11.633376 | AA27: =SUM(AA26,AD26,AG26,AJ26) -> 13.53868 | AB27: =SUM(AB26,AE26,AH26,AK26) -> 9.26848 | AN27: Total PFOA recovered [%] | AQ27: =AQ19/AQ15 -> 0.92037142 | AR27: =AR19/AR15 -> 0.89630747 | AS27: =AS19/AS15 -> 0.96888177 | AT27: =AT19/AT15 -> 0.91804445 | AU27: Total PFOA recovered [%] | AX27: =AX19/AX15 -> 0.90094959 | AY27: =AY19/AY15 -> 0.8627906 | AZ27: =AZ19/AZ15 -> 0.92753807 | BA27: =BA19/BA15 -> 0.89956331
A28: PFAS sum (ng) | B28: =SUM(B27:D27) -> 36.46456 | N28: =SUM(N27:P27) -> 35.415544 | Z28: =SUM(Z27:AB27) -> 34.440536 | AN28: Total PFOS recovered [%] | AQ28: =AQ20/AQ16 -> 1.030053 | AR28: =AR20/AR16 -> 1.0154564 | AS28: =AS20/AS16 -> 1.0128846 | AT28: =AT20/AT16 -> 0.98983185 | AU28: Total PFOS recovered [%] | AX28: =AX20/AX16 -> 0.97867839 | AY28: =AY20/AY16 -> 0.97385249 | AZ28: =AZ20/AZ16 -> 0.96710243 | BA28: =BA20/BA16 -> 1.016106
A29: Avg. PFAS (ng) | B29: PFOA | H29: =AVERAGE(B27,N27,Z27) -> 11.386627 | N29: PFOS | T29: =AVERAGE(C27,O27,AA27) -> 14.551208 | Z29: GenX | AF29: =AVERAGE(D27,P27,AB27) -> 9.5023787 | AN29: Total GenX recovered [%] | AQ29: =AQ21/AQ17 -> 0.80243991 | AR29: =AR21/AR17 -> 0.4221523 | AS29: =AS21/AS17 -> 0.52401582 | AT29: =AT21/AT17 -> 0.52433657 | AU29: Total GenX recovered [%] | AX29: =AX21/AX17 -> 0.53948902 | AY29: =AY21/AY17 -> 0.47230706 | AZ29: =AZ21/AZ17 -> 0.58167245 | BA29: =BA21/BA17 -> 0.74088991
A30: Avg. PFAS total (ng) | B30: =SUM(H29,T29,AF29) -> 35.440213 | AN30: Average | AU30: Standard Deviation
B31: #1-3 | N31: #2-3 | Z31: #3-3 | AN31: Total PFAS removed [%] | AQ31: =AVERAGE(AQ22,AX22) -> 0.41723383 | AR31: =AVERAGE(AR22,AY22) -> 0.56227462 | AS31: =AVERAGE(AS22,AZ22) -> 0.49745918 | AT31: =AVERAGE(AT22,BA22) -> 0.62714093 | AU31: St. Dev. PFAS Total removed [%] | AX31: =_xlfn.STDEV.S(AQ22,AX22) -> 0.021560026 | AY31: =_xlfn.STDEV.S(AR22,AY22) -> 0.022115492 | AZ31: =_xlfn.STDEV.S(AS22,AZ22) -> 0.0030252347 | BA31: =_xlfn.STDEV.S(AT22,BA22) -> 0.0046458727
B32: Adsorption (RG01-3A) | E32: Ads. wash (RG01-3W1) | H32: Regeneration (RG01-3D) | K32: Reg. wash (RG01-3W2) | N32: Adsorption (RG02-3A) | Q32: Ads. wash (RG02-3W1) | T32: Regeneration (RG02-3D) | W32: Reg. wash (RG02-3W2) | Z32: Adsorption (RG03-3A) | AC32: Ads. wash (RG03-3W1) | AF32: Regeneration (RG03-3D) | AI32: Reg. wash (RG03-3W2) | AN32: Total PFOA removed [%] | AQ32: =AVERAGE(AQ23,AX23) -> 0.30907802 | AR32: =AVERAGE(AR23,AY23) -> 0.51679419 | AS32: =AVERAGE(AS23,AZ23) -> 0.42083389 | AT32: =AVERAGE(AT23,BA23) -> 0.63806649 | AU32: St. Dev. PFOA Total removed [%] | AX32: =_xlfn.STDEV.S(AQ23,AX23) -> 0.043545879 | AY32: =_xlfn.STDEV.S(AR23,AY23) -> 0.025630004 | AZ32: =_xlfn.STDEV.S(AS23,AZ23) -> 0.015960959 | BA32: =_xlfn.STDEV.S(AT23,BA23) -> 0.021011578
A33: PFAS type | B33: PFOA | C33: PFOS | D33: GenX | E33: PFOA | F33: PFOS | G33: GenX | H33: PFOA | I33: PFOS | J33: GenX | K33: PFOA | L33: PFOS | M33: GenX | N33: PFOA | O33: PFOS | P33: GenX | Q33: PFOA | R33: PFOS | S33: GenX | T33: PFOA | U33: PFOS | V33: GenX | W33: PFOA | X33: PFOS | Y33: GenX | Z33: PFOA | AA33: PFOS | AB33: GenX | AC33: PFOA | AD33: PFOS | AE33: GenX | AF33: PFOA | AG33: PFOS | AH33: GenX | AI33: PFOA | AJ33: PFOS | AK33: GenX | AN33: Total PFOS removed [%] | AQ33: =AVERAGE(AQ24,AX24) -> 0.71490565 | AR33: =AVERAGE(AR24,AY24) -> 0.90394981 | AS33: =AVERAGE(AS24,AZ24) -> 0.79541222 | AT33: =AVERAGE(AT24,BA24) -> 0.96109997 | AU33: St. Dev. PFOS Total removed [%] | AX33: =_xlfn.STDEV.S(AX24,AQ24) -> 0.033020559 | AY33: =_xlfn.STDEV.S(AY24,AR24) -> 0.028688339 | AZ33: =_xlfn.STDEV.S(AZ24,AS24) -> 0.006438213 | BA33: =_xlfn.STDEV.S(BA24,AT24) -> 0.011126529
A34: LC-MS concentration (ng/L) | B34: 1272 | C34: 748.3 | D34: 1136 | E34: 351.6 | F34: 1028 | G34: 134.6 | H34: 35.32 | I34: 556.2 | J34: 5.082 | K34: 0 | L34: 11.38 | M34: 0 | N34: 1161 | O34: 603.1 | P34: 1207 | Q34: 382.7 | R34: 647.1 | S34: 151.4 | T34: 55.55 | U34: 730.4 | V34: 7.527 | W34: 2.758 | X34: 16.2 | Y34: 0 | Z34: 1258 | AA34: 564.1 | AB34: 1105 | AC34: 355.4 | AD34: 866.9 | AE34: 162.5 | AF34: 45.1 | AG34: 671.5 | AH34: 3.323 | AI34: 0 | AJ34: 0.6938 | AK34: 0 | AN34: Total GenX removed [%] | AQ34: =AVERAGE(AQ25,AX25) -> 0.1329454 | AR34: =AVERAGE(AR25,AY25) -> 0.14612293 | AS34: =AVERAGE(AS25,AZ25) -> 0.1767758 | AT34: =AVERAGE(AT25,BA25) -> 0.1571414 | AU34: St. Dev. GenX Total removed [%] | AX34: =_xlfn.STDEV.S(AX25,AQ25) -> 0.019249956 | AY34: =_xlfn.STDEV.S(AY25,AR25) -> 0.0090969529 | AZ34: =_xlfn.STDEV.S(AZ25,AS25) -> 0.0012167533 | BA34: =_xlfn.STDEV.S(BA25,AT25) -> 0.022923173
A35: Corrected concentration (ng/L) | B35: =B34*4 -> 5088 | C35: =C34*4 -> 2993.2 | D35: =D34*4 -> 4544 | E35: =E34*4 -> 1406.4 | F35: =F34*4 -> 4112 | G35: =G34*4 -> 538.4 | H35: =H34*8 -> 282.56 | I35: =I34*8 -> 4449.6 | J35: =J34*8 -> 40.656 | K35: =K34*4 -> 0 | L35: =L34*4 -> 45.52 | M35: =M34*4 -> 0 | N35: =N34*4 -> 4644 | O35: =O34*4 -> 2412.4 | P35: =P34*4 -> 4828 | Q35: =Q34*4 -> 1530.8 | R35: =R34*4 -> 2588.4 | S35: =S34*4 -> 605.6 | T35: =T34*8 -> 444.4 | U35: =U34*8 -> 5843.2 | V35: =V34*8 -> 60.216 | W35: =W34*4 -> 11.032 | X35: =X34*4 -> 64.8 | Y35: =Y34*4 -> 0 | Z35: =Z34*4 -> 5032 | AA35: =AA34*4 -> 2256.4 | AB35: =AB34*4 -> 4420 | AC35: =AC34*4 -> 1421.6 | AD35: =AD34*4 -> 3467.6 | AE35: =AE34*4 -> 650 | AF35: =AF34*8 -> 360.8 | AG35: =AG34*8 -> 5372 | AH35: =AH34*8 -> 26.584 | AI35: =AI34*4 -> 0 | AJ35: =AJ34*4 -> 2.7752 | AK35: =AK34*4 -> 0 | AN35: Total PFAS recovered [%] | AQ35: =AVERAGE(AQ26,AX26) -> 0.94986506 | AR35: =AVERAGE(AR26,AY26) -> 0.91970585 | AS35: =AVERAGE(AS26,AZ26) -> 0.93425184 | AT35: =AVERAGE(AT26,BA26) -> 0.94451015 | AU35: St. Dev. PFAS Total recovered [%] | AX35: =_xlfn.STDEV.S(AX26,AQ26) -> 0.048473818 | AY35: =_xlfn.STDEV.S(AY26,AR26) -> 0.021628105 | AZ35: =_xlfn.STDEV.S(AZ26,AS26) -> 0.023707377 | BA35: =_xlfn.STDEV.S(BA26,AT26) -> 0.020969349
A36: Batch volume (mL) | B36: 2 | C36: 2 | D36: 2 | E36: 1 | F36: 1 | G36: 1 | H36: 1 | I36: 1 | J36: 1 | K36: 1 | L36: 1 | M36: 1 | N36: 2 | O36: 2 | P36: 2 | Q36: 1 | R36: 1 | S36: 1 | T36: 1 | U36: 1 | V36: 1 | W36: 1 | X36: 1 | Y36: 1 | Z36: 2 | AA36: 2 | AB36: 2 | AC36: 1 | AD36: 1 | AE36: 1 | AF36: 1 | AG36: 1 | AH36: 1 | AI36: 1 | AJ36: 1 | AK36: 1 | AN36: Total PFOA recovered [%] | AQ36: =AVERAGE(AQ27,AX27) -> 0.9106605 | AR36: =AVERAGE(AR27,AY27) -> 0.87954904 | AS36: =AVERAGE(AS27,AZ27) -> 0.94820992 | AT36: =AVERAGE(AT27,BA27) -> 0.90880388 | AU36: St. Dev. PFOA Total recovered [%] | AX36: =_xlfn.STDEV.S(AX27,AQ27) -> 0.013733309 | AY36: =_xlfn.STDEV.S(AY27,AR27) -> 0.023700006 | AZ36: =_xlfn.STDEV.S(AZ27,AS27) -> 0.02923441 | BA36: =_xlfn.STDEV.S(BA27,AT27) -> 0.013068136
A37: PFAS mass (ng) | B37: =B35*B36*0.001 -> 10.176 | C37: =C35*C36*0.001 -> 5.9864 | D37: =D35*D36*0.001 -> 9.088 | E37: =E35*E36*0.001 -> 1.4064 | F37: =F35*F36*0.001 -> 4.112 | G37: =G35*G36*0.001 -> 0.5384 | H37: =H35*H36*0.001 -> 0.28256 | I37: =I35*I36*0.001 -> 4.4496 | ... AK37: =AK35*AK36*0.001 -> 0 | AN37: Total PFOS recovered [%] | AQ37: =AVERAGE(AQ28,AX28) -> 1.0043657 | AR37: =AVERAGE(AR28,AY28) -> 0.99465445 | AS37: =AVERAGE(AS28,AZ28) -> 0.98999349 | AT37: =AVERAGE(AT28,BA28) -> 1.0029689 | AU37: St. Dev. PFOS Total recovered [%] | AX37: =_xlfn.STDEV.S(AX28,AQ28) -> 0.03632733 | AY37: =_xlfn.STDEV.S(AY28,AR28) -> 0.029418403 | AZ37: =_xlfn.STDEV.S(AZ28,AS28) -> 0.03237285 | BA37: =_xlfn.STDEV.S(BA28,AT28) -> 0.018578633
A38: PFAS total (ng) | B38: =SUM(B37,E37,H37,K37) -> 11.86496 | C38: =SUM(C37,F37,I37,L37) -> 14.59352 | D38: =SUM(D37,G37,J37,M37) -> 9.667056 | N38: =SUM(N37,Q37,T37,W37) -> 11.274232 | O38: =SUM(O37,R37,U37,X37) -> 13.3212 | P38: =SUM(P37,S37,V37,Y37) -> 10.321816 | Z38: =SUM(Z37,AC37,AF37,AI37) -> 11.8464 | AA38: =SUM(AA37,AD37,AG37,AJ37) -> 13.355175 | AB38: =SUM(AB37,AE37,AH37,AK37) -> 9.516584 | AN38: Total GenX recovered [%] | AQ38: =AVERAGE(AQ29,AX29) -> 0.67096447 | AR38: =AVERAGE(AR29,AY29) -> 0.44722968 | AS38: =AVERAGE(AS29,AZ29) -> 0.55284413 | AT38: =AVERAGE(AT29,BA29) -> 0.63261324 | AU38: St. Dev. GenX Total recovered [%] | AX38: =_xlfn.STDEV.S(AX29,AQ29) -> 0.18593436 | AY38: =_xlfn.STDEV.S(AY29,AR29) -> 0.035464769 | AZ38: =_xlfn.STDEV.S(AZ29,AS29) -> 0.040769394 | BA38: =_xlfn.STDEV.S(BA29,AT29) -> 0.15312633
A39: PFAS sum (ng) | B39: =SUM(B38:D38) -> 36.125536 | N39: =SUM(N38:P38) -> 34.917248 | Z39: =SUM(Z38:AB38) -> 34.718159
A40: Avg. PFAS (ng) | B40: PFOA | H40: =AVERAGE(B38,N38,Z38) -> 11.661864 | N40: PFOS | T40: =AVERAGE(C38,O38,AA38) -> 13.756632 | Z40: GenX | AF40: =AVERAGE(D38,P38,AB38) -> 9.835152
A41: Avg. PFAS total (ng) | B41: =SUM(H40,T40,AF40) -> 35.253648
...

Sheet Performance overview & plots
A1: PERFORMANCE OVERVIEW & PLOTS
A6: UiO-66-H | T6: Pass 1 | AA6: Pass 2
A7: PFAS type | B7: PFOA | F7: PFOS | J7: GenX | N7: Total
B8: Performance [%] | D8: Standard Deviation [%] | F8: Performance [%] | H8: Standard Deviation [%] | J8: Performance [%] | L8: Standard Deviation [%] | N8: Performance [%] | P8: Standard Deviation [%] | W8: UiO-66-H | X8: UiO-66-F4 | Y8: OS-UiO-66-H | Z8: OS-UiO-66-F4 | AD8: UiO-66-H | AE8: UiO-66-F4 | AF8: OS-UiO-66-H | AG8: OS-UiO-66-F4
B9: Adsorption | C9: Regeneration | D9: Adsorption | E9: Regeneration | F9: Adsorption | G9: Regeneration | H9: Adsorption | I9: Regeneration | J9: Adsorption | K9: Regeneration | L9: Adsorption | M9: Regeneration | N9: Adsorption | O9: Regeneration | P9: Adsorption | Q9: Regeneration | T9: Total PFAS input [ng] | W9: 173.07696 | AA9: Total PFAS input [ng] | AD9: 173.07696
A10: Cycle 1 | B10: ='Regeneration 5 cycles'!AC74 -> 0.18953704 | C10: ='Regeneration 5 cycles'!AK74 -> 0.81429712 | D10: ='Regeneration 5 cycles'!AC75 -> 0.063826844 | E10: ='Regeneration 5 cycles'!AK75 -> 0.095978059 | F10: ='Regeneration 5 cycles'!AD74 -> 0.58861672 | G10: ='Regeneration 5 cycles'!AL74 -> 0.86529793 | H10: ='Regeneration 5 cycles'!AD75 -> 0.10587002 | I10: ='Regeneration 5 cycles'!AL75 -> 0.00025597877 | J10: ='Regeneration 5 cycles'!AE74 -> 0.093170324 | K10: ='Regeneration 5 cycles'!AM74 -> 0.87236137 | L10: ='Regeneration 5 cycles'!AE75 -> 0.0093622691 | M10: ='Regeneration 5 cycles'!AM75 -> 0.12946425 | N10: ='Regeneration 5 cycles'!AF74 -> 0.29044136 | O10: ='Regeneration 5 cycles'!AN74 -> 0.85065214 | P10: ='Regeneration 5 cycles'!AF75 -> 0.053444864 | Q10: ='Regeneration 5 cycles'!AN75 -> 0.01124739 | T10: Total PFOA input [ng] | W10: 56.281608 | AA10: Total PFOA input [ng] | AD10: 56.281608
A11: Cycle 2 | B11: ='Regeneration 5 cycles'!AC84 -> 0.39845222 | C11: ='Regeneration 5 cycles'!AK84 -> 0.87409186 | D11: ='Regeneration 5 cycles'!AC85 -> 0.037706974 | E11: ='Regeneration 5 cycles'!AK85 -> 0.065222919 | F11: ='Regeneration 5 cycles'!AD84 -> 0.86443737 | G11: ='Regeneration 5 cycles'!AL84 -> 0.98751451 | H11: ='Regeneration 5 cycles'!AD85 -> 0.017046905 | I11: ='Regeneration 5 cycles'!AL85 -> 0.14166434 | J11: ='Regeneration 5 cycles'!AE84 -> 0.11384293 | K11: ='Regeneration 5 cycles'!AM84 -> 0.85643727 | L11: ='Regeneration 5 cycles'!AE85 -> 0.0098523687 | M11: ='Regeneration 5 cycles'!AM85 -> 0.06057543 | N11: ='Regeneration 5 cycles'!AF84 -> 0.45891084 | O11: ='Regeneration 5 cycles'!AN84 -> 0.90601455 | P11: ='Regeneration 5 cycles'!AF85 -> 0.021535416 | Q11: ='Regeneration 5 cycles'!AN85 -> 0.048770608 | T11: Total PFOS input [ng] | W11: 67.514492 | AA11: Total PFOS input [ng] | AD11: 67.514492
A12: Cycle 3 | B12: ='Regeneration 5 cycles'!AC94 -> 0.31595841 | C12: ='Regeneration 5 cycles'!AK94 -> 0.88128374 | D12: ='Regeneration 5 cycles'!AC95 -> 0.017074566 | E12: ='Regeneration 5 cycles'!AK95 -> 0.058602045 | F12: ='Regeneration 5 cycles'!AD94 -> 0.74477764 | G12: ='Regeneration 5 cycles'!AL94 -> 1.0662223 | H12: ='Regeneration 5 cycles'!AD95 -> 0.0098484616 | I12: ='Regeneration 5 cycles'!AL95 -> 0.015669831 | J12: ='Regeneration 5 cycles'!AE94 -> 0.12670389 | K12: ='Regeneration 5 cycles'!AM94 -> 0.78022327 | L12: ='Regeneration 5 cycles'!AE95 -> 0.040980644 | M12: ='Regeneration 5 cycles'!AM95 -> 0.11212873 | N12: ='Regeneration 5 cycles'!AF94 -> 0.39581331 | O12: ='Regeneration 5 cycles'!AN94 -> 0.90924312 | P12: ='Regeneration 5 cycles'!AF95 -> 0.011251513 | Q12: ='Regeneration 5 cycles'!AN95 -> 0.05168698 | T12: Total GenX input [ng] | W12: 49.280864 | AA12: Total GenX input [ng] | AD12: 49.280864
A13: Cycle 4 | B13: ='Regeneration 5 cycles'!AC104 -> 0.32293672 | C13: ='Regeneration 5 cycles'!AK104 -> 0.98516084 | D13: ='Regeneration 5 cycles'!AC105 -> 0.066274964 | E13: ='Regeneration 5 cycles'!AK105 -> 0.014507462 | F13: ='Regeneration 5 cycles'!AD104 -> 0.67685245 | G13: ='Regeneration 5 cycles'!AL104 -> 1.1103336 | H13: ='Regeneration 5 cycles'!AD105 -> 0.081126686 | I13: ='Regeneration 5 cycles'!AL105 -> 0.038211579 | J13: ='Regeneration 5 cycles'!AE104 -> 0.15326946 | K13: ='Regeneration 5 cycles'!AM104 -> 0.57008808 | L13: ='Regeneration 5 cycles'!AE105 -> 0.0021326052 | M13: ='Regeneration 5 cycles'!AM105 -> 0.15406683 | N13: ='Regeneration 5 cycles'!AF104 -> 0.38435287 | O13: ='Regeneration 5 cycles'!AN104 -> 0.8885275 | P13: ='Regeneration 5 cycles'!AF105 -> 0.048423015 | Q13: ='Regeneration 5 cycles'!AN105 -> 0.043454237 | T13: Total PFAS removed [ng] | W13: 74.852164 | X13: 100.02336 | Y13: 86.468964 | Z13: 107.97507 | AA13: Total PFAS removed [ng] | AD13: 69.574964 | AE13: 94.610204 | AF13: 85.728484 | AG13: 109.11223
A14: Cycle 5 | B14: ='Regeneration 5 cycles'!AC114 -> 0.31164272 | C14: ='Regeneration 5 cycles'!AK114 -> 0.97291452 | D14: ='Regeneration 5 cycles'!AC115 -> 0.034878416 | E14: ='Regeneration 5 cycles'!AK115 -> 0.087976277 | F14: ='Regeneration 5 cycles'!AD114 -> 0.66999833 | G14: ='Regeneration 5 cycles'!AL114 -> 0.96136357 | H14: ='Regeneration 5 cycles'!AD115 -> 0.011732829 | I14: ='Regeneration 5 cycles'!AL115 -> 0.021977749 | J14: ='Regeneration 5 cycles'!AE114 -> 0.17250889 | K14: ='Regeneration 5 cycles'!AM114 -> 0.45035463 | L14: ='Regeneration 5 cycles'!AE115 -> 0.050727236 | M14: ='Regeneration 5 cycles'!AM115 -> 0.060344876 | N14: ='Regeneration 5 cycles'!AF114 -> 0.38471664 | O14: ='Regeneration 5 cycles'!AN114 -> 0.79487757 | P14: ='Regeneration 5 cycles'!AF115 -> 0.009193883 | Q14: ='Regeneration 5 cycles'!AN115 -> 0.016536383 | T14: Total PFOA removed [ng] | W14: 19.128408 | X14: 30.106008 | Y14: 24.320408 | Z14: 35.075208 | AA14: Total PFOA removed [ng] | AD14: 15.662408 | AE14: 28.066008 | AF14: 23.050008 | AG14: 36.747608
T15: Total PFOS removed [ng] | W15: 49.842892 | X15: 62.399292 | Y15: 53.394492 | Z15: 64.356996 | AA15: Total PFOS removed [ng] | AD15: 46.690092 | AE15: 59.660132 | AF15: 54.009212 | AG15: 65.419356
T16: Total GenX removed [ng] | W16: 5.880864 | X16: 7.518064 | Y16: 8.754064 | Z16: 8.542864 | AA16: Total GenX removed [ng] | AD16: 7.222464 | AE16: 6.884064 | AF16: 8.669264 | AG16: 6.945264
T17: Total PFAS regenerated [ng] | W17: 73.6651 | X17: 93.521768 | Y17: 82.233324 | Z17: 100.38254 | AA17: Total PFAS regenerated [ng] | AD17: 63.702064 | AE17: 85.566648 | AF17: 78.654872 | AG17: 104.67548
T18: Total PFOA regenerated [ng] | W18: 17.60524 | X18: 26.98424 | Y18: 23.5636 | Z18: 32.2006 | AA18: Total PFOA regenerated [ng] | AD18: 14.11104 | AE18: 24.215088 | AF18: 21.37976 | AG18: 33.0568
T19: Total PFOS regenerated [ng] | W19: 51.34082 | X19: 63.36376 | Y19: 54.082456 | Z19: 63.702604 | AA19: Total PFOS regenerated [ng] | AD19: 45.694584 | AE19: 58.100168 | AF19: 52.23244 | AG19: 66.473
T20: Total GenX regenerated [ng] | W20: 4.71904 | X20: 3.173768 | Y20: 4.587268 | Z20: 4.479336 | AA20: Total GenX regenerated [ng] | AD20: 3.89644 | AE20: 3.251392 | AF20: 5.042672 | AG20: 5.145676
T21: Total PFAS removed [%] | W21: 0.43247907 | X21: 0.57791263 | Y21: 0.49959834 | Z21: 0.6238558 | AA21: Total PFAS removed [%] | AD21: 0.40198858 | AE21: 0.5466366 | AF21: 0.49532001 | AG21: 0.63042606
T22: Total PFOA removed [%] | W22: 0.33986961 | X22: 0.53491734 | Y22: 0.43211999 | Z22: 0.62320906 | AA22: Total PFOA removed [%] | AD22: 0.27828643 | AE22: 0.49867104 | AF22: 0.40954779 | AG22: 0.65292392
T23: Total PFOS removed [%] | W23: 0.73825471 | X23: 0.92423553 | Y23: 0.79085972 | Z23: 0.95323232 | AA23: Total PFOS removed [%] | AD23: 0.69155659 | AE23: 0.88366409 | AF23: 0.79996472 | AG23: 0.96896761
T24: Total GenX removed [%] | W24: 0.11933362 | X24: 0.15255544 | Y24: 0.17763617 | Z24: 0.17335053 | AA24: Total GenX removed [%] | AD24: 0.14655717 | AE24: 0.13969041 | AF24: 0.17591542 | AG24: 0.14093227
T25: Total PFAS recovered [%] | W25: 0.98414122 | X25: 0.93499923 | Y25: 0.95101549 | Z25: 0.92968258 | AA25: Total PFAS recovered [%] | AD25: 0.91558889 | AE25: 0.90441247 | AF25: 0.9174882 | AG25: 0.95933772
T26: Total PFOA recovered [%] | W26: 0.92037142 | X26: 0.89630747 | Y26: 0.96888177 | Z26: 0.91804445 | AA26: Total PFOA recovered [%] | AD26: 0.90094959 | AE26: 0.8627906 | AF26: 0.92753807 | AG26: 0.89956331
T27: Total PFOS recovered [%] | W27: 1.030053 | X27: 1.0154564 | Y27: 1.0128846 | Z27: 0.98983185 | AA27: Total PFOS recovered [%] | AD27: 0.97867839 | AE27: 0.97385249 | AF27: 0.96710243 | AG27: 1.016106
A28: UiO-66-F4 | T28: Total GenX recovered [%] | W28: 0.80243991 | X28: 0.4221523 | Y28: 0.52401582 | Z28: 0.52433657 | AA28: Total GenX recovered [%] | AD28: 0.53948902 | AE28: 0.47230706 | AF28: 0.58167245 | AG28: 0.74088991
A29: PFAS type | B29: PFOA | F29: PFOS | J29: GenX | N29: Total | T29: Average | AA29: Standard Deviation
B30: Performance [%] | D30: Standard Deviation [%] | F30: Performance [%] | H30: Standard Deviation [%] | J30: Performance [%] | L30: Standard Deviation [%] | N30: Performance [%] | P30: Standard Deviation [%] | T30: Total PFAS removed [%] | W30: =AVERAGE(W21,AD21) -> 0.41723383 | X30: =AVERAGE(X21,AE21) -> 0.56227462 | Y30: =AVERAGE(Y21,AF21) -> 0.49745918 | Z30: =AVERAGE(Z21,AG21) -> 0.62714093 | AA30: St. Dev. PFAS Total removed [%] | AD30: =_xlfn.STDEV.S(W21,AD21) -> 0.021560026 | AE30: =_xlfn.STDEV.S(X21,AE21) -> 0.022115492 | AF30: =_xlfn.STDEV.S(Y21,AF21) -> 0.0030252347 | AG30: =_xlfn.STDEV.S(Z21,AG21) -> 0.0046458727
B31: Adsorption | C31: Regeneration | D31: Adsorption | E31: Regeneration | F31: Adsorption | G31: Regeneration | H31: Adsorption | I31: Regeneration | J31: Adsorption | K31: Regeneration | L31: Adsorption | M31: Regeneration | N31: Adsorption | O31: Regeneration | P31: Adsorption | Q31: Regeneration | T31: Total PFOA removed [%] | W31: =AVERAGE(W22,AD22) -> 0.30907802 | X31: =AVERAGE(X22,AE22) -> 0.51679419 | Y31: =AVERAGE(Y22,AF22) -> 0.42083389 | Z31: =AVERAGE(Z22,AG22) -> 0.63806649 | AA31: St. Dev. PFOA Total removed [%] | AD31: =_xlfn.STDEV.S(W22,AD22) -> 0.043545879 | AE31: =_xlfn.STDEV.S(X22,AE22) -> 0.025630004 | AF31: =_xlfn.STDEV.S(Y22,AF22) -> 0.015960959 | AG31: =_xlfn.STDEV.S(Z22,AG22) -> 0.021011578
A32: Cycle 1 | B32: ='Regeneration 5 cycles'!AC126 -> 0.36687883 | C32: ='Regeneration 5 cycles'!AK126 -> 0.79087452 | D32: ='Regeneration 5 cycles'!AC127 -> 0.028631124 | E32: ='Regeneration 5 cycles'!AK127 -> 0.020141599 | F32: ='Regeneration 5 cycles'!AD126 -> 0.7576167 | G32: ='Regeneration 5 cycles'!AL126 -> 0.97934332 | H32: ='Regeneration 5 cycles'!AD127 -> 0.05755429 | I32: ='Regeneration 5 cycles'!AL127 -> 0.026799747 | J32: ='Regeneration 5 cycles'!AE126 -> 0.1059862 | K32: ='Regeneration 5 cycles'!AM126 -> 0.44512742 | L32: ='Regeneration 5 cycles'!AE127 -> 0.00054013091 | M32: ='Regeneration 5 cycles'!AM127 -> 0.017545864 | N32: ='Regeneration 5 cycles'!AF126 -> 0.41016058 | O32: ='Regeneration 5 cycles'!AN126 -> 0.73844842 | P32: ='Regeneration 5 cycles'!AF127 -> 0.028908515 | Q32: ='Regeneration 5 cycles'!AN127 -> 0.0080680038 | T32: Total PFOS removed [%] | W32: =AVERAGE(W23,AD23) -> 0.71490565 | X32: =AVERAGE(X23,AE23) -> 0.90394981 | Y32: =AVERAGE(Y23,AF23) -> 0.79541222 | Z32: =AVERAGE(Z23,AG23) -> 0.96109997 | AA32: St. Dev. PFOS Total removed [%] | AD32: =_xlfn.STDEV.S(AD23,W23) -> 0.033020559 | AE32: =_xlfn.STDEV.S(AE23,X23) -> 0.028688339 | AF32: =_xlfn.STDEV.S(AF23,Y23) -> 0.006438213 | AG32: =_xlfn.STDEV.S(AG23,Z23) -> 0.011126529
A33: Cycle 2 | B33: ='Regeneration 5 cycles'!AC136 -> 0.57311325 | C33: ='Regeneration 5 cycles'!AK136 -> 0.81780254 | D33: ='Regeneration 5 cycles'!AC137 -> 0.022604313 | E33: ='Regeneration 5 cycles'!AK137 -> 0.038093315 | F33: ='Regeneration 5 cycles'!AD136 -> 0.95663728 | G33: ='Regeneration 5 cycles'!AL136 -> 0.97711149 | H33: ='Regeneration 5 cycles'!AD137 -> 0.011318601 | I33: ='Regeneration 5 cycles'!AL137 -> 0.054223392 | J33: ='Regeneration 5 cycles'!AE136 -> 0.11079107 | K33: ='Regeneration 5 cycles'!AM136 -> 0.54393574 | L33: ='Regeneration 5 cycles'!AE137 -> 0.016430536 | M33: ='Regeneration 5 cycles'!AM137 -> 0.086389278 | N33: ='Regeneration 5 cycles'!AF136 -> 0.5468472 | O33: ='Regeneration 5 cycles'!AN136 -> 0.77961659 | P33: ='Regeneration 5 cycles'!AF137 -> 0.016784483 | Q33: ='Regeneration 5 cycles'!AN137 -> 0.0019758094 | T33: Total GenX removed [%] | W33: =AVERAGE(W24,AD24) -> 0.1329454 | X33: =AVERAGE(X24,AE24) -> 0.14612293 | Y33: =AVERAGE(Y24,AF24) -> 0.1767758 | Z33: =AVERAGE(Z24,AG24) -> 0.1571414 | AA33: St. Dev. GenX Total removed [%] | AD33: =_xlfn.STDEV.S(AD24,W24) -> 0.019249956 | AE33: =_xlfn.STDEV.S(AE24,X24) -> 0.0090969529 | AF33: =_xlfn.STDEV.S(AF24,Y24) -> 0.0012167533 | AG33: =_xlfn.STDEV.S(AG24,Z24) -> 0.022923173
A34: Cycle 3 | B34: ='Regeneration 5 cycles'!AC146 -> 0.56353461 | C34: ='Regeneration 5 cycles'!AK146 -> 0.85166976 | D34: ='Regeneration 5 cycles'!AC147 -> 0.029783476 | E34: ='Regeneration 5 cycles'!AK147 -> 0.0087647561 | F34: ='Regeneration 5 cycles'!AD146 -> 0.94232745 | G34: ='Regeneration 5 cycles'!AL146 -> 0.97224995 | H34: ='Regeneration 5 cycles'!AD147 -> 0.020311681 | I34: ='Regeneration 5 cycles'!AL147 -> 0.0065786823 | J34: ='Regeneration 5 cycles'!AE146 -> 0.15767443 | K34: ='Regeneration 5 cycles'!AM146 -> 0.43757964 | L34: ='Regeneration 5 cycles'!AE147 -> 0.00080523371 | M34: ='Regeneration 5 cycles'!AM147 -> 0.005681063 | N34: ='Regeneration 5 cycles'!AF146 -> 0.55451217 | O34: ='Regeneration 5 cycles'!AN146 -> 0.75383312 | P34: ='Regeneration 5 cycles'!AF147 -> 0.016966797 | Q34: ='Regeneration 5 cycles'!AN147 -> 0.0070081671 | T34: Total PFAS recovered [%] | W34: =AVERAGE(W25,AD25) -> 0.94986506 | X34: =AVERAGE(X25,AE25) -> 0.91970585 | Y34: =AVERAGE(Y25,AF25) -> 0.93425184 | Z34: =AVERAGE(Z25,AG25) -> 0.94451015 | AA34: St. Dev. PFAS Total recovered [%] | AD34: =_xlfn.STDEV.S(AD25,W25) -> 0.048473818 | AE34: =_xlfn.STDEV.S(AE25,X25) -> 0.021628105 | AF34: =_xlfn.STDEV.S(AF25,Y25) -> 0.023707377 | AG34: =_xlfn.STDEV.S(AG25,Z25) -> 0.020969349
A35: Cycle 4 | B35: ='Regeneration 5 cycles'!AC156 -> 0.53446335 | C35: ='Regeneration 5 cycles'!AK156 -> 0.93243253 | D35: ='Regeneration 5 cycles'!AC157 -> 0.0094174911 | E35: ='Regeneration 5 cycles'!AK157 -> 0.033435073 | F35: ='Regeneration 5 cycles'!AD156 -> 0.9073715 | G35: ='Regeneration 5 cycles'!AL156 -> 1.0462782 | H35: ='Regeneration 5 cycles'!AD157 -> 0.030248064 | I35: ='Regeneration 5 cycles'!AL157 -> 0.058884421 | J35: ='Regeneration 5 cycles'!AE156 -> 0.15938074 | K35: ='Regeneration 5 cycles'!AM156 -> 0.46759995 | L35: ='Regeneration 5 cycles'!AE157 -> 0.01414254 | M35: ='Regeneration 5 cycles'!AM157 -> 0.05057686 | N35: ='Regeneration 5 cycles'!AF156 -> 0.53373853 | O35: ='Regeneration 5 cycles'!AN156 -> 0.81543688 | P35: ='Regeneration 5 cycles'!AF157 -> 0.017936032 | Q35: ='Regeneration 5 cycles'!AN157 -> 0.013914211 | T35: Total PFOA recovered [%] | W35: =AVERAGE(W26,AD26) -> 0.9106605 | X35: =AVERAGE(X26,AE26) -> 0.87954904 | Y35: =AVERAGE(Y26,AF26) -> 0.94820992 | Z35: =AVERAGE(Z26,AG26) -> 0.90880388 | AA35: St. Dev. PFOA Total recovered [%] | AD35: =_xlfn.STDEV.S(AD26,W26) -> 0.013733309 | AE35: =_xlfn.STDEV.S(AE26,X26) -> 0.023700006 | AF35: =_xlfn.STDEV.S(AF26,Y26) -> 0.02923441 | AG35: =_xlfn.STDEV.S(AG26,Z26) -> 0.013068136
A36: Cycle 5 | B36: ='Regeneration 5 cycles'!AC166 -> 0.53662391 | C36: ='Regeneration 5 cycles'!AK166 -> 0.98200898 | D36: ='Regeneration 5 cycles'!AC167 -> 0.037688764 | E36: ='Regeneration 5 cycles'!AK167 -> 0.0176622 | F36: ='Regeneration 5 cycles'!AD166 -> 0.92542952 | G36: ='Regeneration 5 cycles'!AL166 -> 0.99819986 | H36: ='Regeneration 5 cycles'!AD167 -> 0.030157282 | I36: ='Regeneration 5 cycles'!AL167 -> 0.0345097 | J36: ='Regeneration 5 cycles'!AE166 -> 0.19084605 | K36: ='Regeneration 5 cycles'!AM166 -> 0.3909326 | L36: ='Regeneration 5 cycles'!AE167 -> 0.013088277 | M36: ='Regeneration 5 cycles'!AM167 -> 0.042514162 | N36: ='Regeneration 5 cycles'!AF166 -> 0.5509665 | O36: ='Regeneration 5 cycles'!AN166 -> 0.79038048 | P36: ='Regeneration 5 cycles'!AF167 -> 0.026978108 | Q36: ='Regeneration 5 cycles'!AN167 -> 0.0032192461 | T36: Total PFOS recovered [%] | W36: =AVERAGE(W27,AD27) -> 1.0043657 | X36: =AVERAGE(X27,AE27) -> 0.99465445 | Y36: =AVERAGE(Y27,AF27) -> 0.98999349 | Z36: =AVERAGE(Z27,AG27) -> 1.0029689 | AA36: St. Dev. PFOS Total recovered [%] | AD36: =_xlfn.STDEV.S(AD27,W27) -> 0.03632733 | AE36: =_xlfn.STDEV.S(AE27,X27) -> 0.029418403 | AF36: =_xlfn.STDEV.S(AF27,Y27) -> 0.03237285 | AG36: =_xlfn.STDEV.S(AG27,Z27) -> 0.018578633
T37: Total GenX recovered [%] | W37: =AVERAGE(W28,AD28) -> 0.67096447 | X37: =AVERAGE(X28,AE28) -> 0.44722968 | Y37: =AVERAGE(Y28,AF28) -> 0.55284413 | Z37: =AVERAGE(Z28,AG28) -> 0.63261324 | AA37: St. Dev. GenX Total recovered [%] | AD37: =_xlfn.STDEV.S(AD28,W28) -> 0.18593436 | AE37: =_xlfn.STDEV.S(AE28,X28) -> 0.035464769 | AF37: =_xlfn.STDEV.S(AF28,Y28) -> 0.040769394 | AG37: =_xlfn.STDEV.S(AG28,Z28) -> 0.15312633
A50: OS-UiO-66-H
A51: PFAS type | B51: PFOA | F51: PFOS | J51: GenX | N51: Total
B52: Performance [%] | D52: Standard Deviation [%] | F52: Performance [%] | H52: Standard Deviation [%] | J52: Performance [%] | L52: Standard Deviation [%] | N52: Performance [%] | P52: Standard Deviation [%]
B53: Adsorption | C53: Regeneration | D53: Adsorption | E53: Regeneration | F53: Adsorption | G53: Regeneration | H53: Adsorption | I53: Regeneration | J53: Adsorption | K53: Regeneration | L53: Adsorption | M53: Regeneration | N53: Adsorption | O53: Regeneration | P53: Adsorption | Q53: Regeneration
A54: Cycle 1 | B54: ='Regeneration 5 cycles'!AC178 -> 0.22967337 | C54: ='Regeneration 5 cycles'!AK178 -> 0.94576423 | D54: ='Regeneration 5 cycles'!AC179 -> 0.068651425 | E54: ='Regeneration 5 cycles'!AK179 -> 0.017060993 | F54: ='Regeneration 5 cycles'!AD178 -> 0.54921878 | G54: ='Regeneration 5 cycles'!AL178 -> 0.98573558 | H54: ='Regeneration 5 cycles'!AD179 -> 0.14810273 | I54: ='Regeneration 5 cycles'!AL179 -> 0.0057159291 | J54: ='Regeneration 5 cycles'!AE178 -> 0.14742563 | K54: ='Regeneration 5 cycles'!AM178 -> 0.57422566 | L54: ='Regeneration 5 cycles'!AE179 -> 0.054103113 | M54: ='Regeneration 5 cycles'!AM179 -> 0.032562842 | N54: ='Regeneration 5 cycles'!AF178 -> 0.30877259 | O54: ='Regeneration 5 cycles'!AN178 -> 0.83524182 | P54: ='Regeneration 5 cycles'!AF179 -> 0.090285756 | Q54: ='Regeneration 5 cycles'!AN179 -> 0.014635968
A55: Cycle 2 | B55: ='Regeneration 5 cycles'!AC188 -> 0.57847042 | C55: ='Regeneration 5 cycles'!AK188 -> 0.85941242 | D55: ='Regeneration 5 cycles'!AC189 -> 0.024616345 | E55: ='Regeneration 5 cycles'!AK189 -> 0.027109399 | F55: ='Regeneration 5 cycles'!AD188 -> 0.92353625 | G55: ='Regeneration 5 cycles'!AL188 -> 0.93268942 | H55: ='Regeneration 5 cycles'!AD189 -> 0.0015783451 | I55: ='Regeneration 5 cycles'!AL189 -> 0.037431521 | J55: ='Regeneration 5 cycles'!AE188 -> 0.16061017 | K55: ='Regeneration 5 cycles'!AM188 -> 0.9031661 | L55: ='Regeneration 5 cycles'!AE189 -> 0.013186101 | M55: ='Regeneration 5 cycles'!AM189 -> 0.029893787 | N55: ='Regeneration 5 cycles'!AF188 -> 0.55420561 | O55: ='Regeneration 5 cycles'!AN188 -> 0.89842265 | P55: ='Regeneration 5 cycles'!AF189 -> 0.01312693 | Q55: ='Regeneration 5 cycles'!AN189 -> 0.011549044
A56: Cycle 3 | B56: ='Regeneration 5 cycles'!AC198 -> 0.46421944 | C56: ='Regeneration 5 cycles'!AK198 -> 0.97872745 | D56: ='Regeneration 5 cycles'!AC199 -> 0.030050266 | E56: ='Regeneration 5 cycles'!AK199 -> 0.018842198 | F56: ='Regeneration 5 cycles'!AD198 -> 0.85339435 | G56: ='Regeneration 5 cycles'!AL198 -> 1.0295119 | H56: ='Regeneration 5 cycles'!AD199 -> 0.018874505 | I56: ='Regeneration 5 cycles'!AL199 -> 0.061188094 | J56: ='Regeneration 5 cycles'!AE198 -> 0.15368873 | K56: ='Regeneration 5 cycles'!AM198 -> 0.67458633 | L56: ='Regeneration 5 cycles'!AE199 -> 0.043367587 | M56: ='Regeneration 5 cycles'!AM199 -> 0.21247113 | N56: ='Regeneration 5 cycles'!AF198 -> 0.49043417 | O56: ='Regeneration 5 cycles'!AN198 -> 0.89427522 | P56: ='Regeneration 5 cycles'!AF199 -> 0.030764119 | Q56: ='Regeneration 5 cycles'!AN199 -> 0.056708412
...

Sheet Final plots
A1: PRELIMINARY RECOVERY %
B3: MeOH | F3: MeOH-NaCl | J3: Acetone
B4: PFOA | C4: PFOS | D4: GenX | E4: Total | F4: PFOA | G4: PFOS | H4: GenX | I4: Total | J4: PFOA | K4: PFOS | L4: GenX | M4: Total
A5: UiO-66-H | B5: ='Regeneration Prelim.'!H30 -> 0.40370181 | C5: ='Regeneration Prelim.'!I30 -> 0.8620896 | D5: ='Regeneration Prelim.'!J30 -> 0.26045996 | E5: ='Regeneration Prelim.'!H31 -> 0.66117229 | F5: ='Regeneration Prelim.'!Q30 -> 0.61105723 | G5: ='Regeneration Prelim.'!R30 -> 0.91033448 | H5: ='Regeneration Prelim.'!S30 -> 0.39138538 | I5: ='Regeneration Prelim.'!Q31 -> 0.75505901 | J5: ='Regeneration Prelim.'!Z30 -> 0.32046302 | K5: ='Regeneration Prelim.'!AA30 -> 1.0386036 | L5: ='Regeneration Prelim.'!AB30 -> 0.057236019 | M5: ='Regeneration Prelim.'!Z31 -> 0.68646581
A6: UiO-66-H-OS | B6: ='Regeneration Prelim.'!H54 -> 0.43405731 | C6: ='Regeneration Prelim.'!I54 -> 1.0234887 | D6: ='Regeneration Prelim.'!J54 -> 0.44278076 | E6: ='Regeneration Prelim.'!H55 -> 0.75953992 | F6: ='Regeneration Prelim.'!Q54 -> 0.69829794 | G6: ='Regeneration Prelim.'!R54 -> 1.019673 | H6: ='Regeneration Prelim.'!S54 -> 0.49172422 | I6: ='Regeneration Prelim.'!Q55 -> 0.8380207 | J6: ='Regeneration Prelim.'!Z54 -> 0.32429965 | K6: ='Regeneration Prelim.'!AA54 -> 1.0096032 | L6: ='Regeneration Prelim.'!AB54 -> 0.032547859 | M6: ='Regeneration Prelim.'!Z55 -> 0.67610182
A7: UiO-66-F4 | B7: ='Regeneration Prelim.'!H42 -> 0.57433229 | C7: ='Regeneration Prelim.'!I42 -> 1.0347894 | D7: ='Regeneration Prelim.'!J42 -> 0.17391405 | E7: ='Regeneration Prelim.'!H43 -> 0.81858991 | F7: ='Regeneration Prelim.'!Q42 -> 0.52884658 | G7: ='Regeneration Prelim.'!R42 -> 0.9102746 | H7: ='Regeneration Prelim.'!S42 -> 0.24394075 | I7: ='Regeneration Prelim.'!Q43 -> 0.75779029 | J7: ='Regeneration Prelim.'!Z42 -> 0.36463227 | K7: ='Regeneration Prelim.'!AA42 -> 0.95882064 | L7: ='Regeneration Prelim.'!AB42 -> 0.14561842 | M7: ='Regeneration Prelim.'!Z43 -> 0.75155803
A8: UiO-66-F4-OS | B8: ='Regeneration Prelim.'!H66 -> 0.62197768 | C8: ='Regeneration Prelim.'!I66 -> 0.95273986 | D8: ='Regeneration Prelim.'!J66 -> 0.63331332 | E8: ='Regeneration Prelim.'!H67 -> 0.83317007 | F8: ='Regeneration Prelim.'!Q66 -> 0.75334788 | G8: ='Regeneration Prelim.'!R66 -> 1.0272546 | H8: ='Regeneration Prelim.'!S66 -> 0.3996837 | I8: ='Regeneration Prelim.'!Q67 -> 0.89756341 | J8: ='Regeneration Prelim.'!Z66 -> 0.40195067 | K8: ='Regeneration Prelim.'!AA66 -> 1.022783 | L8: ='Regeneration Prelim.'!AB66 -> 0.059988523 | M8: ='Regeneration Prelim.'!Z67 -> 0.74526313 | AS8: HEAT MAP PRELIMINARY RECOVERY %
C11: PFOA | F11: PFOS | I11: GenX | L11: Total PFAS | AU11: PFOA | AY11: PFOS | BC11: GenX | BG11: Total PFAS
C12: MeOH | D12: MeOH-NaCl | E12: Acetone | F12: MeOH | G12: MeOH-NaCl | H12: Acetone | I12: MeOH | J12: MeOH-NaCl | K12: Acetone | L12: MeOH | M12: MeOH-NaCl | N12: Acetone | AU12: MeOH | AV12: MeOH-NaCl | AW12: Acetone | AY12: MeOH | AZ12: MeOH-NaCl | BA12: Acetone | BC12: MeOH | BD12: MeOH-NaCl | BE12: Acetone | BG12: MeOH | BH12: MeOH-NaCl | BI12: Acetone
A13: UiO-66 | B13: UiO-66 | C13: 0.40370181 | D13: 0.61105723 | E13: 0.32046302 | F13: 0.8620896 | G13: 0.91033448 | H13: 1.0386036 | I13: 0.26045996 | J13: 0.39138538 | K13: 0.057236019 | L13: 0.66117229 | M13: 0.75505901 | N13: 0.68646581 | AS13: UiO-66 | AT13: UiO-66 | AU13: 0.40370181 | AV13: 0.61105723 | AW13: 0.32046302 | AY13: 0.8620896 | AZ13: 0.91033448 | BA13: 1.0386036 | BC13: 0.26045996 | BD13: 0.39138538 | BE13: 0.057236019 | BG13: 0.66117229 | BH13: 0.75505901 | BI13: 0.68646581 | BJ13: Column Width=4.86 | BU13: LEGEND
B14: UiO-66-OS | C14: 0.43405731 | D14: 0.69829794 | E14: 0.32429965 | F14: 1.0234887 | G14: 1.019673 | H14: 1.0096032 | I14: 0.44278076 | J14: 0.49172422 | K14: 0.032547859 | L14: 0.75953992 | M14: 0.8380207 | N14: 0.67610182 | AT14: UiO-66-OS | AU14: 0.43405731 | AV14: 0.69829794 | AW14: 0.32429965 | AY14: 1.0234887 | AZ14: 1.019673 | BA14: 1.0096032 | BC14: 0.44278076 | BD14: 0.49172422 | BE14: 0.032547859 | BG14: 0.75953992 | BH14: 0.8380207 | BI14: 0.67610182
B15: UiO-66-(F)4 | C15: 0.57433229 | D15: 0.52884658 | E15: 0.36463227 | F15: 1.0347894 | G15: 0.9102746 | H15: 0.95882064 | I15: 0.17391405 | J15: 0.24394075 | K15: 0.14561842 | L15: 0.81858991 | M15: 0.75779029 | N15: 0.75155803 | AT15: UiO-66-(F)4 | AU15: 0.57433229 | AV15: 0.52884658 | AW15: 0.36463227 | AY15: 1.0347894 | AZ15: 0.9102746 | BA15: 0.95882064 | BC15: 0.17391405 | BD15: 0.24394075 | BE15: 0.14561842 | BG15: 0.81858991 | BH15: 0.75779029 | BI15: 0.75155803 | BK15: 0 | BL15: =BK15+2 -> 2 | BM15: =BL15+2 -> 4 | BN15: =BM15+2 -> 6 | BO15: =BN15+2 -> 8 | BP15: =BO15+2 -> 10 | BQ15: =BP15+2 -> 12 | BR15: =BQ15+2 -> 14 | BS15: =BR15+2 -> 16 | ... DI15: =DH15+2 -> 100 | DK15: Column width=0.42
B16: UiO-66-(F)4-OS | C16: 0.62197768 | D16: 0.75334788 | E16: 0.40195067 | F16: 0.95273986 | G16: 1.0272546 | H16: 1.022783 | I16: 0.63331332 | J16: 0.3996837 | K16: 0.059988523 | L16: 0.83317007 | M16: 0.89756341 | N16: 0.74526313 | AT16: UiO-66-(F)4-OS | AU16: 0.62197768 | AV16: 0.75334788 | AW16: 0.40195067 | AY16: 0.95273986 | AZ16: 1.0272546 | BA16: 1.022783 | BC16: 0.63331332 | BD16: 0.3996837 | BE16: 0.059988523 | BG16: 0.83317007 | BH16: 0.89756341 | BI16: 0.74526313 | BK16: 0 | CH16: 0.5 | DA16: >100%
C19: Adsorption % | H19: Recovery % | P19: Adsorption % | U19: Recovery % | AD19: Adsorption % | AL19: Recovery %
C22: PFOA | D22: PFOS | E22: GenX | F22: Total | H22: PFOA | I22: PFOS | J22: GenX | K22: Total | P22: PFOA | Q22: PFOS | R22: GenX | S22: Total | U22: PFOA | V22: PFOS | W22: GenX | X22: Total | AD22: PFOA | AF22: PFOS | AH22: GenX | AJ22: Total | AL22: PFOA | AN22: PFOS | AP22: GenX | AR22: Total
G23: Cycle | T23: Cycle | AK23: Cycle
