Workbook

Sheet Regeneration Prelim.
A1: PFAS stock data | B1: PFOA | C1: PFOS | D1: GenX | F1: PFOA | G1: PFOS | H1: GenX
A2: LC-MS concentration (ng/L) | B2: 2905 | C2: 3771 | D2: 2209 | F2: 1426 | G2: 1877 | H2: 1098
A3: Actual concentration (ng/L) | B3: =B2*2 -> 5810 | C3: =C2*2 -> 7542 | D3: =D2*2 -> 4418 | F3: =F2*2 -> 2852 | G3: =G2*2 -> 3754 | H3: =H2*2 -> 2196
A4: Sample volume (mL) | B4: 2 | F4: 4
A5: Initial PFAS mass (ng) | B5: =B3*B4*0.001 -> 11.62 | C5: =C3*B4*0.001 -> 15.084 | D5: =D3*B4*0.001 -> 8.836 | F5: =F3*F4*0.001 -> 11.408 | G5: =G3*F4*0.001 -> 15.016 | H5: =H3*F4*0.001 -> 8.784
A6: PFAS total (ng) | B6: =SUM(B5:D5) -> 35.54 | F6: =SUM(F5:H5) -> 35.208
A7: Blank
B9: MeOH | K9: MeOH + NaCl | T9: Acetone
B10: Adsorption pass (PR0-A1) | E10: Wash (PR0-W1) | H10: Regeneration pass (PR0-D1) | K10: Adsorption pass (PR0-A2) | N10: Wash (PR0-W2) | Q10: Regeneration pass (PR0-D2) | T10: Adsorption pass (PR0-A3) | W10: Wash (PR0-W3) | Z10: Regeneration pass (PR0-D3)
A11: PFAS type | B11: PFOA | C11: PFOS | D11: GenX | E11: PFOA | F11: PFOS | G11: GenX | H11: PFOA | I11: PFOS | J11: GenX | K11: PFOA | L11: PFOS | M11: GenX | N11: PFOA | O11: PFOS | P11: GenX | Q11: PFOA | R11: PFOS | S11: GenX | T11: PFOA | U11: PFOS | V11: GenX | W11: PFOA | X11: PFOS | Y11: GenX | Z11: PFOA | AA11: PFOS | AB11: GenX
A12: LC-MS concentration (ng/L) | B12: 2691 | C12: 1788 | D12: 2440 | E12: 694.9 | F12: 942.9 | G12: 293.4 | H12: 128.9 | I12: 1254 | J12: 10.75 | K12: 2510 | L12: 2166 | M12: 2293 | N12: 634.2 | O12: 891.2 | P12: 340.1 | Q12: 137.6 | R12: 1066 | S12: 10.09 | T12: 2742 | U12: 2289 | V12: 2371 | W12: 443.7 | X12: 626.1 | Y12: 209.1 | Z12: 85.48 | AA12: 1102 | AB12: 6.923
A13: Corrected concentration (ng/L) | B13: =B12*2 -> 5382 | C13: =C12*2 -> 3576 | D13: =D12*2 -> 4880 | E13: =E12*2 -> 1389.8 | F13: =F12*2 -> 1885.8 | G13: =G12*2 -> 586.8 | H13: =H12*4 -> 515.6 | I13: =I12*4 -> 5016 | J13: =J12*4 -> 43 | K13: =K12*2 -> 5020 | L13: =L12*2 -> 4332 | M13: =M12*2 -> 4586 | N13: =N12*2 -> 1268.4 | O13: =O12*2 -> 1782.4 | P13: =P12*2 -> 680.2 | Q13: =Q12*4 -> 550.4 | R13: =R12*4 -> 4264 | S13: =S12*4 -> 40.36 | T13: =T12*2 -> 5484 | U13: =U12*2 -> 4578 | V13: =V12*2 -> 4742 | W13: =W12*2 -> 887.4 | X13: =X12*2 -> 1252.2 | Y13: =Y12*2 -> 418.2 | Z13: =Z12*4 -> 341.92 | AA13: =AA12*4 -> 4408 | AB13: =AB12*4 -> 27.692
A14: Batch volume (mL) | B14: 2 | C14: 2 | D14: 2 | E14: 1 | F14: 1 | G14: 1 | H14: 1 | I14: 1 | J14: 1 | K14: 2 | L14: 2 | M14: 2 | N14: 1 | O14: 1 | P14: 1 | Q14: 1 | R14: 1 | S14: 1 | T14: 2 | U14: 2 | V14: 2 | W14: 1 | X14: 1 | Y14: 1 | Z14: 1 | AA14: 1 | AB14: 1
A15: PFAS mass (ng) | B15: =B13*B14*0.001 -> 10.764 | C15: =C13*C14*0.001 -> 7.152 | D15: =D13*D14*0.001 -> 9.76 | E15: =E13*E14*0.001 -> 1.3898 | F15: =F13*F14*0.001 -> 1.8858 | G15: =G13*G14*0.001 -> 0.5868 | H15: =H13*H14*0.001 -> 0.5156 | I15: =I13*I14*0.001 -> 5.016 | ... AB15: =AB13*AB14*0.001 -> 0.027692
A16: PFAS total (ng) | B16: =SUM(B15,E15,H15) -> 12.6694 | C16: =SUM(C15,F15,I15) -> 14.0538 | D16: =SUM(D15,G15,J15) -> 10.3898 | K16: =SUM(K15,N15,Q15) -> 11.8588 | L16: =SUM(L15,O15,R15) -> 14.7104 | M16: =SUM(M15,P15,S15) -> 9.89256 | T16: =SUM(T15,W15,Z15) -> 12.19732 | U16: =SUM(U15,X15,AA15) -> 14.8162 | V16: =SUM(V15,Y15,AB15) -> 9.929892
A17: PFAS sum (ng) | B17: =SUM(B16:D16) -> 37.113 | K17: =SUM(K16:M16) -> 36.46176 | T17: =SUM(T16:V16) -> 36.943412
A18: Avg. PFAS (ng) | B18: PFOA | E18: =AVERAGE(B16,K16,T16) -> 12.24184 | K18: PFOS | N18: =AVERAGE(C16,L16,U16) -> 14.5268 | T18: GenX | W18: =AVERAGE(D16,M16,V16) -> 10.070751
A19: Avg. PFAS total (ng) | B19: =AVERAGE(B17,K17,T17) -> 36.839391
A20: UiO-66-H
A22: Regeneration solvent | B22: MeOH | K22: MeOH + NaCl | T22: Acetone
B23: Adsorption pass (PR1-A1) | E23: Wash (PR1-W1) | H23: Regeneration pass (PR1-D1) | K23: Adsorption pass (PR1-A2) | N23: Wash (PR1-W2) | Q23: Regeneration pass (PR1-D2) | T23: Adsorption pass (PR1-A3) | W23: Wash (PR1-W3) | Z23: Regeneration pass (PR1-D3)
A24: PFAS type | B24: PFOA | C24: PFOS | D24: GenX | E24: PFOA | F24: PFOS | G24: GenX | H24: PFOA | I24: PFOS | J24: GenX | K24: PFOA | L24: PFOS | M24: GenX | N24: PFOA | O24: PFOS | P24: GenX | Q24: PFOA | R24: PFOS | S24: GenX | T24: PFOA | U24: PFOS | V24: GenX | W24: PFOA | X24: PFOS | Y24: GenX | Z24: PFOA | AA24: PFOS | AB24: GenX
A25: LC-MS concentration (ng/L) | B25: 1896 | C25: 936.9 | D25: 1784 | E25: 407.7 | F25: 376.2 | G25: 188.1 | H25: 387.8 | I25: 2161 | J25: 166.6 | K25: 1912 | L25: 1004 | M25: 1807 | N25: 420.5 | O25: 723 | P25: 229.2 | Q25: 573.3 | R25: 2063 | S25: 233.3 | T25: 1825 | U25: 1017 | V25: 1780 | W25: 411.4 | X25: 869.7 | Y25: 233.5 | Z25: 330 | AA25: 2264 | AB25: 35.54
A26: Corrected concentration (ng/L) | B26: =B25*2 -> 3792 | C26: =C25*2 -> 1873.8 | D26: =D25*2 -> 3568 | E26: =E25*2 -> 815.4 | F26: =F25*2 -> 752.4 | G26: =G25*2 -> 376.2 | H26: =H25*4 -> 1551.2 | I26: =I25*4 -> 8644 | J26: =J25*4 -> 666.4 | K26: =K25*2 -> 3824 | L26: =L25*2 -> 2008 | M26: =M25*2 -> 3614 | N26: =N25*2 -> 841 | O26: =O25*2 -> 1446 | P26: =P25*2 -> 458.4 | Q26: =Q25*4 -> 2293.2 | R26: =R25*4 -> 8252 | S26: =S25*4 -> 933.2 | T26: =T25*2 -> 3650 | U26: =U25*2 -> 2034 | V26: =V25*2 -> 3560 | W26: =W25*2 -> 822.8 | X26: =X25*2 -> 1739.4 | Y26: =Y25*2 -> 467 | Z26: =Z25*4 -> 1320 | AA26: =AA25*4 -> 9056 | AB26: =AB25*4 -> 142.16
A27: Batch volume (mL) | B27: 2 | C27: 2 | D27: 2 | E27: 1 | F27: 1 | G27: 1 | H27: 1 | I27: 1 | J27: 1 | K27: 2 | L27: 2 | M27: 2 | N27: 1 | O27: 1 | P27: 1 | Q27: 1 | R27: 1 | S27: 1 | T27: 2 | U27: 2 | V27: 2 | W27: 1 | X27: 1 | Y27: 1 | Z27: 1 | AA27: 1 | AB27: 1
A28: PFAS remaining mass (ng) | B28: =B26*B27*0.001 -> 7.584 | C28: =C26*C27*0.001 -> 3.7476 | D28: =D26*D27*0.001 -> 7.136 | E28: =E26*E27*0.001 -> 0.8154 | F28: =F26*F27*0.001 -> 0.7524 | G28: =G26*G27*0.001 -> 0.3762 | H28: =H26*H27*0.001 -> 1.5512 | I28: =I26*I27*0.001 -> 8.644 | ... AB28: =AB26*AB27*0.001 -> 0.14216
A29: PFAS removed (ng) | B29: =$E$18-B28-E28 -> 3.84244 | C29: =$N$18-C28-F28 -> 10.0268 | D29: =$W$18-D28-G28 -> 2.5585507 | E29: PFAS total recovered (ng) | H29: =SUM(H28:J28) -> 10.8616 | K29: =$E$18-K28-N28 -> 3.75284 | L29: =$N$18-L28-O28 -> 9.0648 | M29: =$W$18-M28-P28 -> 2.3843507 | N29: PFAS total recovered (ng) | Q29: =SUM(Q28:S28) -> 11.4784 | T29: =$E$18-T28-W28 -> 4.11904 | U29: =$N$18-U28-X28 -> 8.7194 | V29: =$W$18-V28-Y28 -> 2.4837507 | W29: PFAS total recovered (ng) | Z29: =SUM(Z28:AB28) -> 10.51816
A30: PFAS removed (%) | B30: =($E$18-B28-E28)/$E$18 -> 0.31387765 | C30: =($N$18-C28-F28)/$N$18 -> 0.69022772 | D30: =($W$18-D28-G28)/$W$18 -> 0.25405759 | E30: PFAS recovered (%) | H30: =H28/B29 -> 0.40370181 | I30: =I28/C29 -> 0.8620896 | J30: =J28/D29 -> 0.26045996 | K30: =($E$18-K28-N28)/$E$18 -> 0.30655849 | L30: =($N$18-L28-O28)/$N$18 -> 0.62400529 | M30: =($W$18-M28-P28)/$W$18 -> 0.23675997 | N30: PFAS recovered (%) | Q30: =Q28/K29 -> 0.61105723 | R30: =R28/L29 -> 0.91033448 | S30: =S28/M29 -> 0.39138538 | T30: =($E$18-T28-W28)/$E$18 -> 0.3364723 | U30: =($N$18-U28-X28)/$N$18 -> 0.60022854 | V30: =($W$18-V28-Y28)/$W$18 -> 0.24663014 | W30: PFAS recovered (%) | Z30: =Z28/T29 -> 0.32046302 | AA30: =AA28/U29 -> 1.0386036 | AB30: =AB28/V29 -> 0.057236019
A31: PFAS Total removal (%) | B31: =(SUM(B29:D29)/$B$19) -> 0.44593003 | E31: PFAS Total recovered (%) | H31: =H29/(SUM(B29:D29)) -> 0.66117229 | K31: =(SUM(K29:M29)/$B$19) -> 0.41265587 | N31: PFAS Total recovered (%) | Q31: =Q29/(SUM(K29:M29)) -> 0.75505901 | T31: =(SUM(T29:V29)/$B$19) -> 0.41591868 | W31: PFAS Total recovered (%) | Z31: =Z29/(SUM(T29:V29)) -> 0.68646581
A32: UiO-66-F4
A34: Regeneration solvent | B34: MeOH | K34: MeOH + NaCl | T34: Acetone
B35: Adsorption pass (PR2-A1) | E35: Wash (PR2-W1) | H35: Regeneration pass (PR2-D1) | K35: Adsorption pass (PR2-A2) | N35: Wash (PR2-W2) | Q35: Regeneration pass (PR2-D2) | T35: Adsorption pass (PR2-A3) | W35: Wash (PR2-W3) | Z35: Regeneration pass (PR2-D3)
A36: PFAS type | B36: PFOA | C36: PFOS | D36: GenX | E36: PFOA | F36: PFOS | G36: GenX | H36: PFOA | I36: PFOS | J36: GenX | K36: PFOA | L36: PFOS | M36: GenX | N36: PFOA | O36: PFOS | P36: GenX | Q36: PFOA | R36: PFOS | S36: GenX | T36: PFOA | U36: PFOS | V36: GenX | W36: PFOA | X36: PFOS | Y36: GenX | Z36: PFOA | AA36: PFOS | AB36: GenX
A37: LC-MS concentration (ng/L) | B37: 1468 | C37: 733.6 | D37: 1979 | E37: 640.4 | F37: 510.1 | G37: 268.7 | H37: 730.7 | I37: 2735 | J37: 70.32 | K37: 1663 | L37: 663.6 | M37: 2132 | N37: 548.9 | O37: 790.5 | P37: 245.1 | Q37: 593.9 | R37: 2342 | S37: 64.19 | T37: 1672 | U37: 756.5 | V37: 2247 | W37: 520.4 | X37: 662.9 | Y37: 242.1 | Z37: 411.4 | AA37: 2439 | AB37: 21.79
A38: Corrected concentration (ng/L) | B38: =B37*2 -> 2936 | C38: =C37*2 -> 1467.2 | D38: =D37*2 -> 3958 | E38: =E37*2 -> 1280.8 | F38: =F37*2 -> 1020.2 | G38: =G37*2 -> 537.4 | H38: =H37*4 -> 2922.8 | I38: =I37*4 -> 10940 | J38: =J37*4 -> 281.28 | K38: =K37*2 -> 3326 | L38: =L37*2 -> 1327.2 | M38: =M37*2 -> 4264 | N38: =N37*2 -> 1097.8 | O38: =O37*2 -> 1581 | P38: =P37*2 -> 490.2 | Q38: =Q37*4 -> 2375.6 | R38: =R37*4 -> 9368 | S38: =S37*4 -> 256.76 | T38: =T37*2 -> 3344 | U38: =U37*2 -> 1513 | V38: =V37*2 -> 4494 | W38: =W37*2 -> 1040.8 | X38: =X37*2 -> 1325.8 | Y38: =Y37*2 -> 484.2 | Z38: =Z37*4 -> 1645.6 | AA38: =AA37*4 -> 9756 | AB38: =AB37*4 -> 87.16
A39: Batch volume (mL) | B39: 2 | C39: 2 | D39: 2 | E39: 1 | F39: 1 | G39: 1 | H39: 1 | I39: 1 | J39: 1 | K39: 2 | L39: 2 | M39: 2 | N39: 1 | O39: 1 | P39: 1 | Q39: 1 | R39: 1 | S39: 1 | T39: 2 | U39: 2 | V39: 2 | W39: 1 | X39: 1 | Y39: 1 | Z39: 1 | AA39: 1 | AB39: 1
A40: PFAS remaining mass (ng) | B40: =B38*B39*0.001 -> 5.872 | C40: =C38*C39*0.001 -> 2.9344 | D40: =D38*D39*0.001 -> 7.916 | E40: =E38*E39*0.001 -> 1.2808 | F40: =F38*F39*0.001 -> 1.0202 | G40: =G38*G39*0.001 -> 0.5374 | H40: =H38*H39*0.001 -> 2.9228 | I40: =I38*I39*0.001 -> 10.94 | ... AB40: =AB38*AB39*0.001 -> 0.08716
A41: PFAS removed (ng) | B41: =$E$18-B40-E40 -> 5.08904 | C41: =$N$18-C40-F40 -> 10.5722 | D41: =$W$18-D40-G40 -> 1.6173507 | E41: PFAS total recovered (ng) | H41: =SUM(H40:J40) -> 14.14408 | K41: =$E$18-K40-N40 -> 4.49204 | L41: =$N$18-L40-O40 -> 10.2914 | M41: =$W$18-M40-P40 -> 1.0525507 | N41: PFAS total recovered (ng) | Q41: =SUM(Q40:S40) -> 12.00036 | T41: =$E$18-T40-W40 -> 4.51304 | U41: =$N$18-U40-X40 -> 10.175 | V41: =$W$18-V40-Y40 -> 0.59855067 | W41: PFAS total recovered (ng) | Z41: =SUM(Z40:AB40) -> 11.48876
A42: PFAS removed (%) | B42: =($E$18-B40-E40)/$E$18 -> 0.41570875 | C42: =($N$18-C40-F40)/$N$18 -> 0.72777212 | D42: =($W$18-D40-G40)/$W$18 -> 0.16059882 | E42: PFAS recovered (%) | H42: =H40/B41 -> 0.57433229 | I42: =I40/C41 -> 1.0347894 | J42: =J40/D41 -> 0.17391405 | K42: =($E$18-K40-N40)/$E$18 -> 0.36694157 | L42: =($N$18-L40-O40)/$N$18 -> 0.70844233 | M42: =($W$18-M40-P40)/$W$18 -> 0.10451561 | N42: PFAS recovered (%) | Q42: =Q40/K41 -> 0.52884658 | R42: =R40/L41 -> 0.9102746 | S42: =S40/M41 -> 0.24394075 | T42: =($E$18-T40-W40)/$E$18 -> 0.368657 | U42: =($N$18-U40-X40)/$N$18 -> 0.70042955 | V42: =($W$18-V40-Y40)/$W$18 -> 0.059434563 | W42: PFAS recovered (%) | Z42: =Z40/T41 -> 0.36463227 | AA42: =AA40/U41 -> 0.95882064 | AB42: =AB40/V41 -> 0.14561842
A43: PFAS Total removal (%) | B43: =(SUM(B41:D41)/$B$19) -> 0.46902488 | E43: PFAS Total recovered (%) | H43: =H41/(SUM(B41:D41)) -> 0.81858991 | K43: =(SUM(K41:M41)/$B$19) -> 0.42986571 | N43: PFAS Total recovered (%) | Q43: =Q41/(SUM(K41:M41)) -> 0.75779029 | T43: =(SUM(T41:V41)/$B$19) -> 0.41495232 | W43: PFAS Total recovered (%) | Z43: =Z41/(SUM(T41:V41)) -> 0.75155803
A44: OS-UiO-66-H
A46: Regeneration solvent | B46: MeOH | K46: MeOH + NaCl | T46: Acetone
B47: Adsorption pass (PR3-A1) | E47: Wash (PR3-W1) | H47: Regeneration pass (PR3-D1) | K47: Adsorption pass (PR3-A2) | N47: Wash (PR3-W2) | Q47: Regeneration pass (PR3-D2) | T47: Adsorption pass (PR3-A3) | W47: Wash (PR3-W3) | Z47: Regeneration pass (PR3-D3)
A48: PFAS type | B48: PFOA | C48: PFOS | D48: GenX | E48: PFOA | F48: PFOS | G48: GenX | H48: PFOA | I48: PFOS | J48: GenX | K48: PFOA | L48: PFOS | M48: GenX | N48: PFOA | O48: PFOS | P48: GenX | Q48: PFOA | R48: PFOS | S48: GenX | T48: PFOA | U48: PFOS | V48: GenX | W48: PFOA | X48: PFOS | Y48: GenX | Z48: PFOA | AA48: PFOS | AB48: GenX
A49: LC-MS concentration (ng/L) | B49: 1366 | C49: 648.8 | D49: 1579 | E49: 343.7 | F49: 295 | G49: 281.1 | H49: 660.9 | I49: 2902 | J49: 353.4 | K49: 1356 | L49: 713.9 | M49: 1562 | N49: 410.2 | O49: 422.1 | P49: 281.6 | Q49: 1047 | R49: 2760 | S49: 400.7 | T49: 1293 | U49: 525.3 | V49: 1646 | W49: 423.6 | X49: 287.7 | Y49: 373.7 | Z49: 504.5 | AA49: 2991 | AB49: 22.29
A50: Corrected concentration (ng/L) | B50: =B49*2 -> 2732 | C50: =C49*2 -> 1297.6 | D50: =D49*2 -> 3158 | E50: =E49*2 -> 687.4 | F50: =F49*2 -> 590 | G50: =G49*2 -> 562.2 | H50: =H49*4 -> 2643.6 | I50: =I49*4 -> 11608 | J50: =J49*4 -> 1413.6 | K50: =K49*2 -> 2712 | L50: =L49*2 -> 1427.8 | M50: =M49*2 -> 3124 | N50: =N49*2 -> 820.4 | O50: =O49*2 -> 844.2 | P50: =P49*2 -> 563.2 | Q50: =Q49*4 -> 4188 | R50: =R49*4 -> 11040 | S50: =S49*4 -> 1602.8 | T50: =T49*2 -> 2586 | U50: =U49*2 -> 1050.6 | V50: =V49*2 -> 3292 | W50: =W49*2 -> 847.2 | X50: =X49*2 -> 575.4 | Y50: =Y49*2 -> 747.4 | Z50: =Z49*4 -> 2018 | AA50: =AA49*4 -> 11964 | AB50: =AB49*4 -> 89.16
A51: Batch volume (mL) | B51: 2 | C51: 2 | D51: 2 | E51: 1 | F51: 1 | G51: 1 | H51: 1 | I51: 1 | J51: 1 | K51: 2 | L51: 2 | M51: 2 | N51: 1 | O51: 1 | P51: 1 | Q51: 1 | R51: 1 | S51: 1 | T51: 2 | U51: 2 | V51: 2 | W51: 1 | X51: 1 | Y51: 1 | Z51: 1 | AA51: 1 | AB51: 1
A52: PFAS remaining mass (ng) | B52: =B50*B51*0.001 -> 5.464 | C52: =C50*C51*0.001 -> 2.5952 | D52: =D50*D51*0.001 -> 6.316 | E52: =E50*E51*0.001 -> 0.6874 | F52: =F50*F51*0.001 -> 0.59 | G52: =G50*G51*0.001 -> 0.5622 | H52: =H50*H51*0.001 -> 2.6436 | I52: =I50*I51*0.001 -> 11.608 | ... AB52: =AB50*AB51*0.001 -> 0.08916
A53: PFAS removed (ng) | B53: =$E$18-B52-E52 -> 6.09044 | C53: =$N$18-C52-F52 -> 11.3416 | D53: =$W$18-D52-G52 -> 3.1925507 | E53: PFAS total recovered (ng) | H53: =SUM(H52:J52) -> 15.6652 | K53: =$E$18-K52-N52 -> 5.99744 | L53: =$N$18-L52-O52 -> 10.827 | M53: =$W$18-M52-P52 -> 3.2595507 | N53: PFAS total recovered (ng) | Q53: =SUM(Q52:S52) -> 16.8308 | T53: =$E$18-T52-W52 -> 6.22264 | U53: =$N$18-U52-X52 -> 11.8502 | V53: =$W$18-V52-Y52 -> 2.7393507 | W53: PFAS total recovered (ng) | Z53: =SUM(Z52:AB52) -> 14.07116
A54: PFAS removed (%) | B54: =($E$18-B52-E52)/$E$18 -> 0.49751018 | C54: =($N$18-C52-F52)/$N$18 -> 0.78073629 | D54: =($W$18-D52-G52)/$W$18 -> 0.31701218 | E54: PFAS recovered (%) | H54: =H52/B53 -> 0.43405731 | I54: =I52/C53 -> 1.0234887 | J54: =J52/D53 -> 0.44278076 | K54: =($E$18-K52-N52)/$E$18 -> 0.48991328 | L54: =($N$18-L52-O52)/$N$18 -> 0.74531211 | M54: =($W$18-M52-P52)/$W$18 -> 0.32366511 | N54: PFAS recovered (%) | Q54: =Q52/K53 -> 0.69829794 | R54: =R52/L53 -> 1.019673 | S54: =S52/M53 -> 0.49172422 | T54: =($E$18-T52-W52)/$E$18 -> 0.50830921 | U54: =($N$18-U52-X52)/$N$18 -> 0.81574745 | V54: =($W$18-V52-Y52)/$W$18 -> 0.27201057 | W54: PFAS recovered (%) | Z54: =Z52/T53 -> 0.32429965 | AA54: =AA52/U53 -> 1.0096032 | AB54: =AB52/V53 -> 0.032547859
A55: PFAS Total removal (%) | B55: =(SUM(B53:D53)/$B$19) -> 0.55985157 | E55: PFAS Total recovered (%) | H55: =H53/(SUM(B53:D53)) -> 0.75953992 | K55: =(SUM(K53:M53)/$B$19) -> 0.54517706 | N55: PFAS Total recovered (%) | Q55: =Q53/(SUM(K53:M53)) -> 0.8380207 | T55: =(SUM(T53:V53)/$B$19) -> 0.56494394 | W55: PFAS Total recovered (%) | Z55: =Z53/(SUM(T53:V53)) -> 0.67610182
A56: OS-UiO-66-F4
A58: Regeneration solvent | B58: MeOH | K58: MeOH + NaCl | T58: Acetone
B59: Adsorption pass (PR4-A1) | E59: Wash (PR4-W1) | H59: Regeneration pass (PR4-D1) | K59: Adsorption pass (PR4-A2) | N59: Wash (PR4-W2) | Q59: Regeneration pass (PR4-D2) | T59: Adsorption pass (PR4-A3) | W59: Wash (PR4-W3) | Z59: Regeneration pass (PR4-D3)
A60: PFAS type | B60: PFOA | C60: PFOS | D60: GenX | E60: PFOA | F60: PFOS | G60: GenX | H60: PFOA | I60: PFOS | J60: GenX | K60: PFOA | L60: PFOS | M60: GenX | N60: PFOA | O60: PFOS | P60: GenX | Q60: PFOA | R60: PFOS | S60: GenX | T60: PFOA | U60: PFOS | V60: GenX | W60: PFOA | X60: PFOS | Y60: GenX | Z60: PFOA | AA60: PFOS | AB60: GenX
A61: LC-MS concentration (ng/L) | B61: 1344 | C61: 551.2 | D61: 2200 | E61: 492.3 | F61: 323.1 | G61: 250.1 | H61: 914.5 | I61: 2781 | J61: 122 | K61: 1145 | L61: 241.6 | M61: 1994 | N61: 512.4 | O61: 296.9 | P61: 319.8 | Q61: 1250 | R61: 3330 | S61: 145.4 | T61: 1341 | U61: 308.5 | V61: 1833 | W61: 510.7 | X61: 330.3 | Y61: 278.5 | Z61: 588.5 | AA61: 3230 | AB61: 32.72
A62: Corrected concentration (ng/L) | B62: =B61*2 -> 2688 | C62: =C61*2 -> 1102.4 | D62: =D61*2 -> 4400 | E62: =E61*2 -> 984.6 | F62: =F61*2 -> 646.2 | G62: =G61*2 -> 500.2 | H62: =H61*4 -> 3658 | I62: =I61*4 -> 11124 | J62: =J61*4 -> 488 | K62: =K61*2 -> 2290 | L62: =L61*2 -> 483.2 | M62: =M61*2 -> 3988 | N62: =N61*2 -> 1024.8 | O62: =O61*2 -> 593.8 | P62: =P61*2 -> 639.6 | Q62: =Q61*4 -> 5000 | R62: =R61*4 -> 13320 | S62: =S61*4 -> 581.6 | T62: =T61*2 -> 2682 | U62: =U61*2 -> 617 | V62: =V61*2 -> 3666 | W62: =W61*2 -> 1021.4 | X62: =X61*2 -> 660.6 | Y62: =Y61*2 -> 557 | Z62: =Z61*4 -> 2354 | AA62: =AA61*4 -> 12920 | AB62: =AB61*4 -> 130.88
A63: Batch volume (mL) | B63: 2 | C63: 2 | D63: 2 | E63: 1 | F63: 1 | G63: 1 | H63: 1 | I63: 1 | J63: 1 | K63: 2 | L63: 2 | M63: 2 | N63: 1 | O63: 1 | P63: 1 | Q63: 1 | R63: 1 | S63: 1 | T63: 2 | U63: 2 | V63: 2 | W63: 1 | X63: 1 | Y63: 1 | Z63: 1 | AA63: 1 | AB63: 1
A64: PFAS remaining mass (ng) | B64: =B62*B63*0.001 -> 5.376 | C64: =C62*C63*0.001 -> 2.2048 | D64: =D62*D63*0.001 -> 8.8 | E64: =E62*E63*0.001 -> 0.9846 | F64: =F62*F63*0.001 -> 0.6462 | G64: =G62*G63*0.001 -> 0.5002 | H64: =H62*H63*0.001 -> 3.658 | I64: =I62*I63*0.001 -> 11.124 | ... AB64: =AB62*AB63*0.001 -> 0.13088
A65: PFAS removed (ng) | B65: =$E$18-B64-E64 -> 5.88124 | C65: =$N$18-C64-F64 -> 11.6758 | D65: =$W$18-D64-G64 -> 0.77055067 | E65: PFAS total recovered (ng) | H65: =SUM(H64:J64) -> 15.27 | K65: =$E$18-K64-N64 -> 6.63704 | L65: =$N$18-L64-O64 -> 12.9666 | M65: =$W$18-M64-P64 -> 1.4551507 | N65: PFAS total recovered (ng) | Q65: =SUM(Q64:S64) -> 18.9016 | T65: =$E$18-T64-W64 -> 5.85644 | U65: =$N$18-U64-X64 -> 12.6322 | V65: =$W$18-V64-Y64 -> 2.1817507 | W65: PFAS total recovered (ng) | Z65: =SUM(Z64:AB64) -> 15.40488
A66: PFAS removed (%) | B66: =($E$18-B64-E64)/$E$18 -> 0.48042124 | C66: =($N$18-C64-F64)/$N$18 -> 0.80374205 | D66: =($W$18-D64-G64)/$W$18 -> 0.076513727 | E66: PFAS recovered (%) | H66: =H64/B65 -> 0.62197768 | I66: =I64/C65 -> 0.95273986 | J66: =J64/D65 -> 0.63331332 | K66: =($E$18-K64-N64)/$E$18 -> 0.54216033 | L66: =($N$18-L64-O64)/$N$18 -> 0.89259851 | M66: =($W$18-M64-P64)/$W$18 -> 0.14449277 | N66: PFAS recovered (%) | Q66: =Q64/K65 -> 0.75334788 | R66: =R64/L65 -> 1.0272546 | S66: =S64/M65 -> 0.3996837 | T66: =($E$18-T64-W64)/$E$18 -> 0.4783954 | U66: =($N$18-U64-X64)/$N$18 -> 0.86957899 | V66: =($W$18-V64-Y64)/$W$18 -> 0.21664231 | W66: PFAS recovered (%) | Z66: =Z64/T65 -> 0.40195067 | AA66: =AA64/U65 -> 1.022783 | AB66: =AB64/V65 -> 0.059988523
A67: PFAS Total removal (%) | B67: =(SUM(B65:D65)/$B$19) -> 0.49749983 | E67: PFAS Total recovered (%) | H67: =H65/(SUM(B65:D65)) -> 0.83317007 | K67: =(SUM(K65:M65)/$B$19) -> 0.57163787 | N67: PFAS Total recovered (%) | Q67: =Q65/(SUM(K65:M65)) -> 0.89756341 | T67: =(SUM(T65:V65)/$B$19) -> 0.5610948 | W67: PFAS Total recovered (%) | Z67: =Z65/(SUM(T65:V65)) -> 0.74526313

Sheet Regeneration 5 cycles
A1: PFAS stock data | B1: PFOA | C1: PFOS | D1: GenX | F1: PFOA | G1: PFOS | H1: GenX
A2: LC-MS concentration (ng/L) | B2: 2905 | C2: 3771 | D2: 2209 | F2: 1426 | G2: 1877 | H2: 1098
A3: Actual concentration (ng/L) | B3: =B2*2 -> 5810 | C3: =C2*2 -> 7542 | D3: =D2*2 -> 4418 | F3: =F2*2 -> 2852 | G3: =G2*2 -> 3754 | H3: =H2*2 -> 2196
A4: Sample volume (mL) | B4: 2 | F4: 4
A5: Initial PFAS mass (ng) | B5: =B3*B4*0.001 -> 11.62 | C5: =C3*B4*0.001 -> 15.084 | D5: =D3*B4*0.001 -> 8.836 | F5: =F3*F4*0.001 -> 11.408 | G5: =G3*F4*0.001 -> 15.016 | H5: =H3*F4*0.001 -> 8.784
A6: PFAS total (ng) | B6: =SUM(B5:D5) -> 35.54 | F6: =SUM(F5:H5) -> 35.208
A7: Blank | AN7: Pass 1 | AU7: Pass 2
B9: #1-1 | N9: #2-1 | Z9: #3-1 | AQ9: UiO-66-H | AR9: UiO-66-F4 | AS9: OS-UiO-66-H | AT9: OS-UiO-66-F4 | AX9: UiO-66-H | AY9: UiO-66-F4 | AZ9: OS-UiO-66-H | BA9: OS-UiO-66-F4
B10: Adsorption (RG01-1A) | E10: Ads. wash (RG01-1W1) | H10: Regeneration (RG01-1D) | K10: Reg. wash (RG01-1W2) | N10: Adsorption (RG02-1A) | Q10: Ads. wash (RG02-1W1) | T10: Regeneration (RG02-1D) | W10: Reg. wash (RG02-1W2) | Z10: Adsorption (RG03-1A) | AC10: Ads. wash (RG03-1W1) | AF10: Regeneration (RG03-1D) | AI10: Reg. wash (RG03-1W2) | AN10: Total PFAS input [ng] | AQ10: =SUM(B19,B30,B41,B52,B63) -> 173.07696 | AU10: Total PFAS input [ng] | AX10: =SUM(B19,B30,B41,B52,B63) -> 173.07696
A11: PFAS type | B11: PFOA | C11: PFOS | D11: GenX | E11: PFOA | F11: PFOS | G11: GenX | H11: PFOA | I11: PFOS | J11: GenX | K11: PFOA | L11: PFOS | M11: GenX | N11: PFOA | O11: PFOS | P11: GenX | Q11: PFOA | R11: PFOS | S11: GenX | T11: PFOA | U11: PFOS | V11: GenX | W11: PFOA | X11: PFOS | Y11: GenX | Z11: PFOA | AA11: PFOS | AB11: GenX | AC11: PFOA | AD11: PFOS | AE11: GenX | AF11: PFOA | AG11: PFOS | AH11: GenX | AI11: PFOA | AJ11: PFOS | AK11: GenX | AN11: Total PFOA input [ng] | AQ11: =SUM(H18,H29,H40,H51,H62) -> 56.281608 | AU11: Total PFOA input [ng] | AX11: =SUM(H18,H29,H40,H51,H62) -> 56.281608
A12: LC-MS concentration (ng/L) | B12: 1088 | C12: 708 | D12: 1028 | E12: 274 | F12: 462.8 | G12: 119.3 | H12: 39.77 | I12: 348 | J12: 5.105 | K12: 10.06 | L12: 56.56 | M12: 1.63 | N12: 1130 | O12: 873.5 | P12: 1234 | Q12: 270.6 | R12: 423.9 | S12: 152.5 | T12: 58 | U12: 510.8 | V12: 8.778 | W12: 2.567 | X12: 29.9 | Y12: 0 | Z12: 1242 | AA12: 671.6 | AB12: 1025 | AC12: 208 | AD12: 187.1 | AE12: 179.9 | AF12: 76.94 | AG12: 522.3 | AH12: 7.129 | AI12: 11.68 | AJ12: 34.98 | AK12: 0 | AN12: Total PFOS input [ng] | AQ12: =SUM(T18,T29,T40,T51,T62) -> 67.514492 | AU12: Total PFOS input [ng] | AX12: =SUM(T18,T29,T40,T51,T62) -> 67.514492
A13: Corrected concentration (ng/L) | B13: =B12*4 -> 4352 | C13: =C12*4 -> 2832 | D13: =D12*4 -> 4112 | E13: =E12*4 -> 1096 | F13: =F12*4 -> 1851.2 | G13: =G12*4 -> 477.2 | H13: =H12*8 -> 318.16 | I13: =I12*8 -> 2784 | J13: =J12*8 -> 40.84 | K13: =K12*4 -> 40.24 | L13: =L12*4 -> 226.24 | M13: =M12*4 -> 6.52 | N13: =N12*4 -> 4520 | O13: =O12*4 -> 3494 | P13: =P12*4 -> 4936 | Q13: =Q12*4 -> 1082.4 | R13: =R12*4 -> 1695.6 | S13: =S12*4 -> 610 | T13: =T12*8 -> 464 | U13: =U12*8 -> 4086.4 | V13: =V12*8 -> 70.224 | W13: =W12*4 -> 10.268 | X13: =X12*4 -> 119.6 | Y13: =Y12*4 -> 0 | Z13: =Z12*4 -> 4968 | AA13: =AA12*4 -> 2686.4 | AB13: =AB12*4 -> 4100 | AC13: =AC12*4 -> 832 | AD13: =AD12*4 -> 748.4 | AE13: =AE12*4 -> 719.6 | AF13: =AF12*8 -> 615.52 | AG13: =AG12*8 -> 4178.4 | AH13: =AH12*8 -> 57.032 | AI13: =AI12*4 -> 46.72 | AJ13: =AJ12*4 -> 139.92 | AK13: =AK12*4 -> 0 | AN13: Total GenX input [ng] | AQ13: =SUM(AF18,AF29,AF40,AF51,AF62) -> 49.280864 | AU13: Total GenX input [ng] | AX13: =SUM(AF18,AF29,AF40,AF51,AF62) -> 49.280864
A14: Batch volume (mL) | B14: 2 | C14: 2 | D14: 2 | E14: 1 | F14: 1 | G14: 1 | H14: 1 | I14: 1 | J14: 1 | K14: 1 | L14: 1 | M14: 1 | N14: 2 | O14: 2 | P14: 2 | Q14: 1 | R14: 1 | S14: 1 | T14: 1 | U14: 1 | V14: 1 | W14: 1 | X14: 1 | Y14: 1 | Z14: 2 | AA14: 2 | AB14: 2 | AC14: 1 | AD14: 1 | AE14: 1 | AF14: 1 | AG14: 1 | AH14: 1 | AI14: 1 | AJ14: 1 | AK14: 1 | AN14: Total PFAS removed [ng] | AQ14: =SUM(F73,F83,F93,F103,F113) -> 74.852164 | AR14: =SUM(F125,F135,F145,F155,F165) -> 100.02336 | AS14: =SUM(F177,F187,F197,F207,F217) -> 86.468964 | AT14: =SUM(F229,F239,F249,F259,F269) -> 107.97507 | AU14: Total PFAS removed [ng] | AX14: =SUM(R73,R83,R93,R103,R113) -> 69.574964 | AY14: =SUM(R125,R135,R145,R155,R165) -> 94.610204 | AZ14: =SUM(R177,R187,R197,R207,R217) -> 85.728484 | BA14: =SUM(R229,R239,R249,R259,R269) -> 109.11223
A15: PFAS mass (ng) | B15: =B13*B14*0.001 -> 8.704 | C15: =C13*C14*0.001 -> 5.664 | D15: =D13*D14*0.001 -> 8.224 | E15: =E13*E14*0.001 -> 1.096 | F15: =F13*F14*0.001 -> 1.8512 | G15: =G13*G14*0.001 -> 0.4772 | H15: =H13*H14*0.001 -> 0.31816 | I15: =I13*I14*0.001 -> 2.784 | ... AK15: =AK13*AK14*0.001 -> 0 | AN15: Total PFOA removed [ng] | AQ15: =SUM(B73,B83,B93,B103,B113) -> 19.128408 | AR15: =SUM(B125,B135,B145,B155,B165) -> 30.106008 | AS15: =SUM(B177,B187,B197,B207,B217) -> 24.320408 | AT15: =SUM(B229,B239,B249,B259,B269) -> 35.075208 | AU15: Total PFOA removed [ng] | AX15: =SUM(N73,N83,N93,N103,N113) -> 15.662408 | AY15: =SUM(N125,N135,N145,N155,N165) -> 28.066008 | AZ15: =SUM(N177,N187,N197,N207,N217) -> 23.050008 | BA15: =SUM(N229,N239,N249,N259,N269) -> 36.747608
A16: PFAS total (ng) | B16: =SUM(B15,E15,H15,K15) -> 10.1584 | C16: =SUM(C15,F15,I15,L15) -> 10.52544 | D16: =SUM(D15,G15,J15,M15) -> 8.74856 | N16: =SUM(N15,Q15,T15,W15) -> 10.596668 | O16: =SUM(O15,R15,U15,X15) -> 12.8896 | P16: =SUM(P15,S15,V15,Y15) -> 10.552224 | Z16: =SUM(Z15,AC15,AF15,AI15) -> 11.43024 | AA16: =SUM(AA15,AD15,AG15,AJ15) -> 10.43952 | AB16: =SUM(AB15,AE15,AH15,AK15) -> 8.976632 | AN16: Total PFOS removed [ng] | AQ16: =SUM(C73,C83,C93,C103,C113) -> 49.842892 | AR16: =SUM(C125,C135,C145,C155,C165) -> 62.399292 | AS16: =SUM(C177,C187,C197,C207,C217) -> 53.394492 | AT16: =SUM(C229,C239,C249,C259,C269) -> 64.356996 | AU16: Total PFOS removed [ng] | AX16: =SUM(O73,O83,O93,O103,O113) -> 46.690092 | AY16: =SUM(O125,O135,O145,O155,O165) -> 59.660132 | AZ16: =SUM(O177,O187,O197,O207,O217) -> 54.009212 | BA16: =SUM(O229,O239,O249,O259,O269) -> 65.419356
A17: PFAS sum (ng) | B17: =SUM(B16:D16) -> 29.4324 | N17: =SUM(N16:P16) -> 34.038492 | Z17: =SUM(Z16:AB16) -> 30.846392 | AN17: Total GenX removed [ng] | AQ17: =SUM(D73,D83,D93,,D103,D113) -> 5.880864 | AR17: =SUM(D125,D135,D145,D155,D165) -> 7.518064 | AS17: =SUM(D177,D187,D197,D207,D217) -> 8.754064 | AT17: =SUM(D229,D239,D249,D259,D269) -> 8.542864 | AU17: Total GenX removed [ng] | AX17: =SUM(P73,P83,P93,P103,P113) -> 7.222464 | AY17: =SUM(P125,P135,P145,P155,P165) -> 6.884064 | AZ17: =SUM(P177,P187,P197,P207,P217) -> 8.669264 | BA17: =SUM(P229,P239,P249,P259,P269) -> 6.945264
A18: Avg. PFAS (ng) | B18: PFOA | H18: =AVERAGE(B16,N16,Z16) -> 10.728436 | N18: PFOS | T18: =AVERAGE(C16,O16,AA16) -> 11.284853 | Z18: GenX | AF18: =AVERAGE(D16,P16,AB16) -> 9.4258053 | AN18: Total PFAS regenerated [ng] | AQ18: =SUM(AQ19:AQ21) -> 73.6651 | AR18: =SUM(AR19:AR21) -> 93.521768 | AS18: =SUM(AS19:AS21) -> 82.233324 | AT18: =SUM(AT19:AT21) -> 100.38254 | AU18: Total PFAS regenerated [ng] | AX18: =SUM(AX19:AX21) -> 63.702064 | AY18: =SUM(AY19:AY21) -> 85.566648 | AZ18: =SUM(AZ19:AZ21) -> 78.654872 | BA18: =SUM(BA19:BA21) -> 104.67548
A19: Avg. PFAS total (ng) | B19: =SUM(H18,T18,AF18) -> 31.439095 | AN19: Total PFOA regenerated [ng] | AQ19: =SUM(K73,K83,K93,K103,K113) -> 17.60524 | AR19: =SUM(K125,K135,K145,K155,K165) -> 26.98424 | AS19: =SUM(K177,K187,K197,K207,K217) -> 23.5636 | AT19: =SUM(K229,K239,K249,K259,K269) -> 32.2006 | AU19: Total PFOA regenerated [ng] | AX19: =SUM(W73,W83,W93,W103,W113) -> 14.11104 | AY19: =SUM(W125,W135,W145,W155,W165) -> 24.215088 | AZ19: =SUM(W177,W187,W197,W207,W217) -> 21.37976 | BA19: =SUM(W229,W239,W249,W259,W269) -> 33.0568
B20: #1-2 | N20: #2-2 | Z20: #3-2 | AN20: Total PFOS regenerated [ng] | AQ20: =SUM(L73,L83,L93,L103,L113) -> 51.34082 | AR20: =SUM(L125,L135,L145,L155,L165) -> 63.36376 | AS20: =SUM(L177,L187,L197,L207,L217) -> 54.082456 | AT20: =SUM(L229,L239,L249,L259,L269) -> 63.702604 | AU20: Total PFOS regenerated [ng] | AX20: =SUM(X73,X83,X93,X103,X113) -> 45.694584 | AY20: =SUM(X125,X135,X145,X155,X165) -> 58.100168 | AZ20: =SUM(X177,X187,X197,X207,X217) -> 52.23244 | BA20: =SUM(X229,X239,X249,X259,X269) -> 66.473
B21: Adsorption (RG01-2A) | E21: Ads. wash (RG01-2W1) | H21: Regeneration (RG01-2D) | K21: Reg. wash (RG01-2W2) | N21: Adsorption (RG02-2A) | Q21: Ads. wash (RG02-2W1) | T21: Regeneration (RG02-2D) | W21: Reg. wash (RG02-2W2) | Z21: Adsorption (RG03-2A) | AC21: Ads. wash (RG03-2W1) | AF21: Regeneration (RG03-2D) | AI21: Reg. wash (RG03-2W2) | AN21: Total GenX regenerated [ng] | AQ21: =SUM(M73,M83,M93,M103,,M113) -> 4.71904 | AR21: =SUM(M135,M125,M145,M155,M165) -> 3.173768 | AS21: =SUM(M177,M187,M197,M207,M217) -> 4.587268 | AT21: =SUM(M229,M239,M249,M259,M269) -> 4.479336 | AU21: Total GenX regenerated [ng] | AX21: =SUM(Y73,Y83,Y93,Y103,Y113) -> 3.89644 | AY21: =SUM(Y135,Y125,Y145,Y155,Y165) -> 3.251392 | AZ21: =SUM(Y177,Y187,Y197,Y207,Y217) -> 5.042672 | BA21: =SUM(Y229,Y239,Y249,Y259,Y269) -> 5.145676
A22: PFAS type | B22: PFOA | C22: PFOS | D22: GenX | E22: PFOA | F22: PFOS | G22: GenX | H22: PFOA | I22: PFOS | J22: GenX | K22: PFOA | L22: PFOS | M22: GenX | N22: PFOA | O22: PFOS | P22: GenX | Q22: PFOA | R22: PFOS | S22: GenX | T22: PFOA | U22: PFOS | V22: GenX | W22: PFOA | X22: PFOS | Y22: GenX | Z22: PFOA | AA22: PFOS | AB22: GenX | AC22: PFOA | AD22: PFOS | AE22: GenX | AF22: PFOA | AG22: PFOS | AH22: GenX | AI22: PFOA | AJ22: PFOS | AK22: GenX | AN22: Total PFAS removed [%] | AQ22: =AQ14/AQ10 -> 0.43247907 | AR22: =AR14/AQ10 -> 0.57791263 | AS22: =AS14/AQ10 -> 0.49959834 | AT22: =AT14/AQ10 -> 0.6238558 | AU22: Total PFAS removed [%] | AX22: =AX14/AX10 -> 0.40198858 | AY22: =AY14/AX10 -> 0.5466366 | AZ22: =AZ14/AX10 -> 0.49532001 | BA22: =BA14/AX10 -> 0.63042606
A23: LC-MS concentration (ng/L) | B23: 1209 | C23: 572.5 | D23: 1125 | E23: 342.3 | F23: 903.4 | G23: 80.98 | H23: 58.36 | I23: 917.1 | J23: 3.097 | K23: 2.506 | L23: 16.84 | M23: 0 | N23: 1184 | O23: 720 | P23: 1184 | Q23: 297.4 | R23: 760.9 | S23: 94.47 | T23: 43.35 | U23: 711.3 | V23: 5.01 | W23: 0 | X23: 5.796 | Y23: 0 | Z23: 1131 | AA23: 426.3 | AB23: 1060 | AC23: 390 | AD23: 563.7 | AE23: 176.2 | AF23: 127.5 | AG23: 960.9 | AH23: 10.46 | AI23: 1.344 | AJ23: 46.57 | AK23: 0 | AN23: Total PFOA removed [%] | AQ23: =AQ15/AQ11 -> 0.33986961 | AR23: =AR15/AQ11 -> 0.53491734 | AS23: =AS15/AQ11 -> 0.43211999 | AT23: =AT15/AQ11 -> 0.62320906 | AU23: Total PFOA removed [%] | AX23: =AX15/AX11 -> 0.27828643 | AY23: =AY15/AX11 -> 0.49867104 | AZ23: =AZ15/AX11 -> 0.40954779 | BA23: =BA15/AX11 -> 0.65292392
A24: Corrected concentration (ng/L) | B24: =B23*4 -> 4836 | C24: =C23*4 -> 2290 | D24: =D23*4 -> 4500 | E24: =E23*4 -> 1369.2 | F24: =F23*4 -> 3613.6 | G24: =G23*4 -> 323.92 | H24: =H23*8 -> 466.88 | I24: =I23*8 -> 7336.8 | J24: =J23*8 -> 24.776 | K24: =K23*4 -> 10.024 | L24: =L23*4 -> 67.36 | M24: =M23*4 -> 0 | N24: =N23*4 -> 4736 | O24: =O23*4 -> 2880 | P24: =P23*4 -> 4736 | Q24: =Q23*4 -> 1189.6 | R24: =R23*4 -> 3043.6 | S24: =S23*4 -> 377.88 | T24: =T23*8 -> 346.8 | U24: =U23*8 -> 5690.4 | V24: =V23*8 -> 40.08 | W24: =W23*4 -> 0 | X24: =X23*4 -> 23.184 | Y24: =Y23*4 -> 0 | Z24: =Z23*4 -> 4524 | AA24: =AA23*4 -> 1705.2 | AB24: =AB23*4 -> 4240 | AC24: =AC23*4 -> 1560 | AD24: =AD23*4 -> 2254.8 | AE24: =AE23*4 -> 704.8 | AF24: =AF23*8 -> 1020 | AG24: =AG23*8 -> 7687.2 | AH24: =AH23*8 -> 83.68 | AI24: =AI23*4 -> 5.376 | AJ24: =AJ23*4 -> 186.28 | AK24: =AK23*4 -> 0 | AN24: Total PFOS removed [%] | AQ24: =AQ16/AQ12 -> 0.73825471 | AR24: =AR16/AQ12 -> 0.92423553 | AS24: =AS16/AQ12 -> 0.79085972 | AT24: =AT16/AQ12 -> 0.95323232 | AU24: Total PFOS removed [%] | AX24: =AX16/AX12 -> 0.69155659 | AY24: =AY16/AX12 -> 0.88366409 | AZ24: =AZ16/AX12 -> 0.79996472 | BA24: =BA16/AX12 -> 0.96896761
A25: Batch volume (mL) | B25: 2 | C25: 2 | D25: 2 | E25: 1 | F25: 1 | G25: 1 | H25: 1 | I25: 1 | J25: 1 | K25: 1 | L25: 1 | M25: 1 | N25: 2 | O25: 2 | P25: 2 | Q25: 1 | R25: 1 | S25: 1 | T25: 1 | U25: 1 | V25: 1 | W25: 1 | X25: 1 | Y25: 1 | Z25: 2 | AA25: 2 | AB25: 2 | AC25: 1 | AD25: 1 | AE25: 1 | AF25: 1 | AG25: 1 | AH25: 1 | AI25: 1 | AJ25: 1 | AK25: 1 | AN25: Total GenX removed [%] | AQ25: =AQ17/AQ13 -> 0.11933362 | AR25: =AR17/AQ13 -> 0.15255544 | AS25: =AS17/AQ13 -> 0.17763617 | AT25: =AT17/AQ13 -> 0.17335053 | AU25: Total GenX removed [%] | AX25: =AX17/AX13 -> 0.14655717 | AY25: =AY17/AX13 -> 0.13969041 | AZ25: =AZ17/AX13 -> 0.17591542 | BA25: =BA17/AX13 -> 0.14093227
A26: PFAS mass (ng) | B26: =B24*B25*0.001 -> 9.672 | C26: =C24*C25*0.001 -> 4.58 | D26: =D24*D25*0.001 -> 9 | E26: =E24*E25*0.001 -> 1.3692 | F26: =F24*F25*0.001 -> 3.6136 | G26: =G24*G25*0.001 -> 0.32392 | H26: =H24*H25*0.001 -> 0.46688 | I26: =I24*I25*0.001 -> 7.3368 | ... AK26: =AK24*AK25*0.001 -> 0 | AN26: Total PFAS recovered [%] | AQ26: =AQ18/AQ14 -> 0.98414122 | AR26: =AR18/AR14 -> 0.93499923 | AS26: =AS18/AS14 -> 0.95101549 | AT26: =AT18/AT14 -> 0.92968258 | AU26: Total PFAS recovered [%] | AX26: =AX18/AX14 -> 0.91558889 | AY26: =AY18/AY14 -> 0.90441247 | AZ26: =AZ18/AZ14 -> 0.9174882 | BA26: =BA18/BA14 -> 0.95933772
A27: PFAS total (ng) | B27: =SUM(B26,E26,H26,K26) -> 11.518104 | C27: =SUM(C26,F26,I26,L26) -> 15.59776 | D27: =SUM(D26,G26,J26,M26) -> 9.348696 | N27: =SUM(N26,Q26,T26,W26) -> 11.0084 | O27: =SUM(O26,R26,U26,X26) -> 14.517184 | P27: =SUM(P26,S26,V26,Y26) -> 9.88996 | Z27: =SUM(Z26,AC26,AF26,AI26) -> 11.633376 | AA27: =SUM(AA26,AD26,AG26,AJ26) -> 13.53868 | AB27: =SUM(AB26,AE26,AH26,AK26) -> 9.26848 | AN27: Total PFOA recovered [%] | AQ27: =AQ19/AQ15 -> 0.92037142 | AR27: =AR19/AR15 -> 0.89630747 | AS27: =AS19/AS15 -> 0.96888177 | AT27: =AT19/AT15 -> 0.91804445 | AU27: Total PFOA recovered [%] | AX27: =AX19/AX15 -> 0.90094959 | AY27: =AY19/AY15 -> 0.8627906 | AZ27: =AZ19/AZ15 -> 0.92753807 | BA27: =BA19/BA15 -> 0.89956331
A28: PFAS sum (ng) | B28: =SUM(B27:D27) -> 36.46456 | N28: =SUM(N27:P27) -> 35.415544 | Z28: =SUM(Z27:AB27) -> 34.440536 | AN28: Total PFOS recovered [%] | AQ28: =AQ20/AQ16 -> 1.030053 | AR28: =AR20/AR16 -> 1.0154564 | AS28: =AS20/AS16 -> 1.0128846 | AT28: =AT20/AT16 -> 0.98983185 | AU28: Total PFOS recovered [%] | AX28: =AX20/AX16 -> 0.97867839 | AY28: =AY20/AY16 -> 0.97385249 | AZ28: =AZ20/AZ16 -> 0.96710243 | BA28: =BA20/BA16 -> 1.016106
A29: Avg. PFAS (ng) | B29: PFOA | H29: =AVERAGE(B27,N27,Z27) -> 11.386627 | N29: PFOS | T29: =AVERAGE(C27,O27,AA27) -> 14.551208 | Z29: GenX | AF29: =AVERAGE(D27,P27,AB27) -> 9.5023787 | AN29: Total GenX recovered [%] | AQ29: =AQ21/AQ17 -> 0.80243991 | AR29: =AR21/AR17 -> 0.4221523 | AS29: =AS21/AS17 -> 0.52401582 | AT29: =AT21/AT17 -> 0.52433657 | AU29: Total GenX recovered [%] | AX29: =AX21/AX17 -> 0.53948902 | AY29: =AY21/AY17 -> 0.47230706 | AZ29: =AZ21/AZ17 -> 0.58167245 | BA29: =BA21/BA17 -> 0.74088991
A30: Avg. PFAS total (ng) | B30: =SUM(H29,T29,AF29) -> 35.440213 | AN30: Average | AU30: Standard Deviation
B31: #1-3 | N31: #2-3 | Z31: #3-3 | AN31: Total PFAS removed [%] | AQ31: =AVERAGE(AQ22,AX22) -> 0.41723383 | AR31: =AVERAGE(AR22,AY22) -> 0.56227462 | AS31: =AVERAGE(AS22,AZ22) -> 0.49745918 | AT31: =AVERAGE(AT22,BA22) -> 0.62714093 | AU31: St. Dev. PFAS Total removed [%] | AX31: =_xlfn.STDEV.S(AQ22,AX22) -> 0.021560026 | AY31: =_xlfn.STDEV.S(AR22,AY22) -> 0.022115492 | AZ31: =_xlfn.STDEV.S(AS22,AZ22) -> 0.0030252347 | BA31: =_xlfn.STDEV.S(AT22,BA22) -> 0.0046458727
B32: Adsorption (RG01-3A) | E32: Ads. wash (RG01-3W1) | H32: Regeneration (RG01-3D) | K32: Reg. wash (RG01-3W2) | N32: Adsorption (RG02-3A) | Q32: Ads. wash (RG02-3W1) | T32: Regeneration (RG02-3D) | W32: Reg. wash (RG02-3W2) | Z32: Adsorption (RG03-3A) | AC32: Ads. wash (RG03-3W1) | AF32: Regeneration (RG03-3D) | AI32: Reg. wash (RG03-3W2) | AN32: Total PFOA removed [%] | AQ32: =AVERAGE(AQ23,AX23) -> 0.30907802 | AR32: =AVERAGE(AR23,AY23) -> 0.51679419 | AS32: =AVERAGE(AS23,AZ23) -> 0.42083389 | AT32: =AVERAGE(AT23,BA23) -> 0.63806649 | AU32: St. Dev. PFOA Total removed [%] | AX32: =_xlfn.STDEV.S(AQ23,AX23) -> 0.043545879 | AY32: =_xlfn.STDEV.S(AR23,AY23) -> 0.025630004 | AZ32: =_xlfn.STDEV.S(AS23,AZ23) -> 0.015960959 | BA32: =_xlfn.STDEV.S(AT23,BA23) -> 0.021011578
A33: PFAS type | B33: PFOA | C33: PFOS | D33: GenX | E33: PFOA | F33: PFOS | G33: GenX | H33: PFOA | I33: PFOS | J33: GenX | K33: PFOA | L33: PFOS | M33: GenX | N33: PFOA | O33: PFOS | P33: GenX | Q33: PFOA | R33: PFOS | S33: GenX | T33: PFOA | U33: PFOS | V33: GenX | W33: PFOA | X33: PFOS | Y33: GenX | Z33: PFOA | AA33: PFOS | AB33: GenX | AC33: PFOA | AD33: PFOS | AE33: GenX | AF33: PFOA | AG33: PFOS | AH33: GenX | AI33: PFOA | AJ33: PFOS | AK33: GenX | AN33: Total PFOS removed [%] | AQ33: =AVERAGE(AQ24,AX24) -> 0.71490565 | AR33: =AVERAGE(AR24,AY24) -> 0.90394981 | AS33: =AVERAGE(AS24,AZ24) -> 0.79541222 | AT33: =AVERAGE(AT24,BA24) -> 0.96109997 | AU33: St. Dev. PFOS Total removed [%] | AX33: =_xlfn.STDEV.S(AX24,AQ24) -> 0.033020559 | AY33: =_xlfn.STDEV.S(AY24,AR24) -> 0.028688339 | AZ33: =_xlfn.STDEV.S(AZ24,AS24) -> 0.006438213 | BA33: =_xlfn.STDEV.S(BA24,AT24) -> 0.011126529
A34: LC-MS concentration (ng/L) | B34: 1272 | C34: 748.3 | D34: 1136 | E34: 351.6 | F34: 1028 | G34: 134.6 | H34: 35.32 | I34: 556.2 | J34: 5.082 | K34: 0 | L34: 11.38 | M34: 0 | N34: 1161 | O34: 603.1 | P34: 1207 | Q34: 382.7 | R34: 647.1 | S34: 151.4 | T34: 55.55 | U34: 730.4 | V34: 7.527 | W34: 2.758 | X34: 16.2 | Y34: 0 | Z34: 1258 | AA34: 564.1 | AB34: 1105 | AC34: 355.4 | AD34: 866.9 | AE34: 162.5 | AF34: 45.1 | AG34: 671.5 | AH34: 3.323 | AI34: 0 | AJ34: 0.6938 | AK34: 0 | AN34: Total GenX removed [%] | AQ34: =AVERAGE(AQ25,AX25) -> 0.1329454 | AR34: =AVERAGE(AR25,AY25) -> 0.14612293 | AS34: =AVERAGE(AS25,AZ25) -> 0.1767758 | AT34: =AVERAGE(AT25,BA25) -> 0.1571414 | AU34: St. Dev. GenX Total removed [%] | AX34: =_xlfn.STDEV.S(AX25,AQ25) -> 0.019249956 | AY34: =_xlfn.STDEV.S(AY25,AR25) -> 0.0090969529 | AZ34: =_xlfn.STDEV.S(AZ25,AS25) -> 0.0012167533 | BA34: =_xlfn.STDEV.S(BA25,AT25) -> 0.022923173
A35: Corrected concentration (ng/L) | B35: =B34*4 -> 5088 | C35: =C34*4 -> 2993.2 | D35: =D34*4 -> 4544 | E35: =E34*4 -> 1406.4 | F35: =F34*4 -> 4112 | G35: =G34*4 -> 538.4 | H35: =H34*8 -> 282.56 | I35: =I34*8 -> 4449.6 | J35: =J34*8 -> 40.656 | K35: =K34*4 -> 0 | L35: =L34*4 -> 45.52 | M35: =M34*4 -> 0 | N35: =N34*4 -> 4644 | O35: =O34*4 -> 2412.4 | P35: =P34*4 -> 4828 | Q35: =Q34*4 -> 1530.8 | R35: =R34*4 -> 2588.4 | S35: =S34*4 -> 605.6 | T35: =T34*8 -> 444.4 | U35: =U34*8 -> 5843.2 | V35: =V34*8 -> 60.216 | W35: =W34*4 -> 11.032 | X35: =X34*4 -> 64.8 | Y35: =Y34*4 -> 0 | Z35: =Z34*4 -> 5032 | AA35: =AA34*4 -> 2256.4 | AB35: =AB34*4 -> 4420 | AC35: =AC34*4 -> 1421.6 | AD35: =AD34*4 -> 3467.6 | AE35: =AE34*4 -> 650 | AF35: =AF34*8 -> 360.8 | AG35: =AG34*8 -> 5372 | AH35: =AH34*8 -> 26.584 | AI35: =AI34*4 -> 0 | AJ35: =AJ34*4 -> 2.7752 | AK35: =AK34*4 -> 0 | AN35: Total PFAS recovered [%] | AQ35: =AVERAGE(AQ26,AX26) -> 0.94986506 | AR35: =AVERAGE(AR26,AY26) -> 0.91970585 | AS35: =AVERAGE(AS26,AZ26) -> 0.93425184 | AT35: =AVERAGE(AT26,BA26) -> 0.94451015 | AU35: St. Dev. PFAS Total recovered [%] | AX35: =_xlfn.STDEV.S(AX26,AQ26) -> 0.048473818 | AY35: =_xlfn.STDEV.S(AY26,AR26) -> 0.021628105 | AZ35: =_xlfn.STDEV.S(AZ26,AS26) -> 0.023707377 | BA35: =_xlfn.STDEV.S(BA26,AT26) -> 0.020969349
A36: Batch volume (mL) | B36: 2 | C36: 2 | D36: 2 | E36: 1 | F36: 1 | G36: 1 | H36: 1 | I36: 1 | J36: 1 | K36: 1 | L36: 1 | M36: 1 | N36: 2 | O36: 2 | P36: 2 | Q36: 1 | R36: 1 | S36: 1 | T36: 1 | U36: 1 | V36: 1 | W36: 1 | X36: 1 | Y36: 1 | Z36: 2 | AA36: 2 | AB36: 2 | AC36: 1 | AD36: 1 | AE36: 1 | AF36: 1 | AG36: 1 | AH36: 1 | AI36: 1 | AJ36: 1 | AK36: 1 | AN36: Total PFOA recovered [%] | AQ36: =AVERAGE(AQ27,AX27) -> 0.9106605 | AR36: =AVERAGE(AR27,AY27) -> 0.87954904 | AS36: =AVERAGE(AS27,AZ27) -> 0.94820992 | AT36: =AVERAGE(AT27,BA27) -> 0.90880388 | AU36: St. Dev. PFOA Total recovered [%] | AX36: =_xlfn.STDEV.S(AX27,AQ27) -> 0.013733309 | AY36: =_xlfn.STDEV.S(AY27,AR27) -> 0.023700006 | AZ36: =_xlfn.STDEV.S(AZ27,AS27) -> 0.02923441 | BA36: =_xlfn.STDEV.S(BA27,AT27) -> 0.013068136
A37: PFAS mass (ng) | B37: =B35*B36*0.001 -> 10.176 | C37: =C35*C36*0.001 -> 5.9864 | D37: =D35*D36*0.001 -> 9.088 | E37: =E35*E36*0.001 -> 1.4064 | F37: =F35*F36*0.001 -> 4.112 | G37: =G35*G36*0.001 -> 0.5384 | H37: =H35*H36*0.001 -> 0.28256 | I37: =I35*I36*0.001 -> 4.4496 | ... AK37: =AK35*AK36*0.001 -> 0 | AN37: Total PFOS recovered [%] | AQ37: =AVERAGE(AQ28,AX28) -> 1.0043657 | AR37: =AVERAGE(AR28,AY28) -> 0.99465445 | AS37: =AVERAGE(AS28,AZ28) -> 0.98999349 | AT37: =AVERAGE(AT28,BA28) -> 1.0029689 | AU37: St. Dev. PFOS Total recovered [%] | AX37: =_xlfn.STDEV.S(AX28,AQ28) -> 0.03632733 | AY37: =_xlfn.STDEV.S(AY28,AR28) -> 0.029418403 | AZ37: =_xlfn.STDEV.S(AZ28,AS28) -> 0.03237285 | BA37: =_xlfn.STDEV.S(BA28,AT28) -> 0.018578633
A38: PFAS total (ng) | B38: =SUM(B37,E37,H37,K37) -> 11.86496 | C38: =SUM(C37,F37,I37,L37) -> 14.59352 | D38: =SUM(D37,G37,J37,M37) -> 9.667056 | N38: =SUM(N37,Q37,T37,W37) -> 11.274232 | O38: =SUM(O37,R37,U37,X37) -> 13.3212 | P38: =SUM(P37,S37,V37,Y37) -> 10.321816 | Z38: =SUM(Z37,AC37,AF37,AI37) -> 11.8464 | AA38: =SUM(AA37,AD37,AG37,AJ37) -> 13.355175 | AB38: =SUM(AB37,AE37,AH37,AK37) -> 9.516584 | AN38: Total GenX recovered [%] | AQ38: =AVERAGE(AQ29,AX29) -> 0.67096447 | AR38: =AVERAGE(AR29,AY29) -> 0.44722968 | AS38: =AVERAGE(AS29,AZ29) -> 0.55284413 | AT38: =AVERAGE(AT29,BA29) -> 0.63261324 | AU38: St. Dev. GenX Total recovered [%] | AX38: =_xlfn.STDEV.S(AX29,AQ29) -> 0.18593436 | AY38: =_xlfn.STDEV.S(AY29,AR29) -> 0.035464769 | AZ38: =_xlfn.STDEV.S(AZ29,AS29) -> 0.040769394 | BA38: =_xlfn.STDEV.S(BA29,AT29) -> 0.15312633
A39: PFAS sum (ng) | B39: =SUM(B38:D38) -> 36.125536 | N39: =SUM(N38:P38) -> 34.917248 | Z39: =SUM(Z38:AB38) -> 34.718159
A40: Avg. PFAS (ng) | B40: PFOA | H40: =AVERAGE(B38,N38,Z38) -> 11.661864 | N40: PFOS | T40: =AVERAGE(C38,O38,AA38) -> 13.756632 | Z40: GenX | AF40: =AVERAGE(D38,P38,AB38) -> 9.835152
A41: Avg. PFAS total (ng) | B41: =SUM(H40,T40,AF40) -> 35.253648
B42: #1-4 | N42: #2-4 | Z42: #3-4
B43: Adsorption (RG01-4A) | E43: Ads. wash (RG01-4W1) | H43: Regeneration (RG01-4D) | K43: Reg. wash (RG01-4W2) | N43: Adsorption (RG02-4A) | Q43: Ads. wash (RG02-4W1) | T43: Regeneration (RG02-4D) | W43: Reg. wash (RG02-4W2) | Z43: Adsorption (RG03-4A) | AC43: Ads. wash (RG03-4W1) | AF43: Regeneration (RG03-4D) | AI43: Reg. wash (RG03-4W2)
A44: PFAS type | B44: PFOA | C44: PFOS | D44: GenX | E44: PFOA | F44: PFOS | G44: GenX | H44: PFOA | I44: PFOS | J44: GenX | K44: PFOA | L44: PFOS | M44: GenX | N44: PFOA | O44: PFOS | P44: GenX | Q44: PFOA | R44: PFOS | S44: GenX | T44: PFOA | U44: PFOS | V44: GenX | W44: PFOA | X44: PFOS | Y44: GenX | Z44: PFOA | AA44: PFOS | AB44: GenX | AC44: PFOA | AD44: PFOS | AE44: GenX | AF44: PFOA | AG44: PFOS | AH44: GenX | AI44: PFOA | AJ44: PFOS | AK44: GenX
A45: LC-MS concentration (ng/L) | B45: 1193 | C45: 552.2 | D45: 1119 | E45: 329.1 | F45: 836.8 | G45: 126.2 | H45: 45.52 | I45: 665.7 | J45: 5.974 | K45: 6.191 | L45: 32.27 | M45: 0 | N45: 1122 | O45: 628.5 | P45: 1301 | Q45: 367.3 | R45: 894.2 | S45: 165.9 | T45: 38.71 | U45: 685.8 | V45: 6.872 | W45: 0 | X45: 7.027 | Y45: 0 | Z45: 1228 | AA45: 550.1 | AB45: 1101 | AC45: 342 | AD45: 611.5 | AE45: 184.1 | AF45: 62.71 | AG45: 772.3 | AH45: 7.946 | AI45: 0 | AJ45: 2.225 | AK45: 0
A46: Corrected concentration (ng/L) | B46: =B45*4 -> 4772 | C46: =C45*4 -> 2208.8 | D46: =D45*4 -> 4476 | E46: =E45*4 -> 1316.4 | F46: =F45*4 -> 3347.2 | G46: =G45*4 -> 504.8 | H46: =H45*8 -> 364.16 | I46: =I45*8 -> 5325.6 | J46: =J45*8 -> 47.792 | K46: =K45*4 -> 24.764 | L46: =L45*4 -> 129.08 | M46: =M45*4 -> 0 | N46: =N45*4 -> 4488 | O46: =O45*4 -> 2514 | P46: =P45*4 -> 5204 | Q46: =Q45*4 -> 1469.2 | R46: =R45*4 -> 3576.8 | S46: =S45*4 -> 663.6 | T46: =T45*8 -> 309.68 | U46: =U45*8 -> 5486.4 | V46: =V45*8 -> 54.976 | W46: =W45*4 -> 0 | X46: =X45*4 -> 28.108 | Y46: =Y45*4 -> 0 | Z46: =Z45*4 -> 4912 | AA46: =AA45*4 -> 2200.4 | AB46: =AB45*4 -> 4404 | AC46: =AC45*4 -> 1368 | AD46: =AD45*4 -> 2446 | AE46: =AE45*4 -> 736.4 | AF46: =AF45*8 -> 501.68 | AG46: =AG45*8 -> 6178.4 | AH46: =AH45*8 -> 63.568 | AI46: =AI45*4 -> 0 | AJ46: =AJ45*4 -> 8.9 | AK46: =AK45*4 -> 0
A47: Batch volume (mL) | B47: 2 | C47: 2 | D47: 2 | E47: 1 | F47: 1 | G47: 1 | H47: 1 | I47: 1 | J47: 1 | K47: 1 | L47: 1 | M47: 1 | N47: 2 | O47: 2 | P47: 2 | Q47: 1 | R47: 1 | S47: 1 | T47: 1 | U47: 1 | V47: 1 | W47: 1 | X47: 1 | Y47: 1 | Z47: 2 | AA47: 2 | AB47: 2 | AC47: 1 | AD47: 1 | AE47: 1 | AF47: 1 | AG47: 1 | AH47: 1 | AI47: 1 | AJ47: 1 | AK47: 1
A48: PFAS mass (ng) | B48: =B46*B47*0.001 -> 9.544 | C48: =C46*C47*0.001 -> 4.4176 | D48: =D46*D47*0.001 -> 8.952 | E48: =E46*E47*0.001 -> 1.3164 | F48: =F46*F47*0.001 -> 3.3472 | G48: =G46*G47*0.001 -> 0.5048 | H48: =H46*H47*0.001 -> 0.36416 | I48: =I46*I47*0.001 -> 5.3256 | ... AK48: =AK46*AK47*0.001 -> 0
A49: PFAS total (ng) | B49: =SUM(B48,E48,H48,K48) -> 11.249324 | C49: =SUM(C48,F48,I48,L48) -> 13.21948 | D49: =SUM(D48,G48,J48,M48) -> 9.504592 | N49: =SUM(N48,Q48,T48,W48) -> 10.75488 | O49: =SUM(O48,R48,U48,X48) -> 14.119308 | P49: =SUM(P48,S48,V48,Y48) -> 11.126576 | Z49: =SUM(Z48,AC48,AF48,AI48) -> 11.69368 | AA49: =SUM(AA48,AD48,AG48,AJ48) -> 13.0341 | AB49: =SUM(AB48,AE48,AH48,AK48) -> 9.607968
A50: PFAS sum (ng) | B50: =SUM(B49:D49) -> 33.973396 | N50: =SUM(N49:P49) -> 36.000764 | Z50: =SUM(Z49:AB49) -> 34.335748
A51: Avg. PFAS (ng) | B51: PFOA | H51: =AVERAGE(B49,N49,Z49) -> 11.232628 | N51: PFOS | T51: =AVERAGE(C49,O49,AA49) -> 13.457629 | Z51: GenX | AF51: =AVERAGE(D49,P49,AB49) -> 10.079712
A52: Avg. PFAS total (ng) | B52: =SUM(H51,T51,AF51) -> 34.769969
B53: #1-5 | N53: #2-5 | Z53: #3-5
B54: Adsorption (RG01-5A) | E54: Ads. wash (RG01-5W1) | H54: Regeneration (RG01-5D) | K54: Reg. wash (RG01-5W2) | N54: Adsorption (RG02-5A) | Q54: Ads. wash (RG02-5W1) | T54: Regeneration (RG02-5D) | W54: Reg. wash (RG02-5W2) | Z54: Adsorption (RG03-5A) | AC54: Ads. wash (RG03-5W1) | AF54: Regeneration (RG03-5D) | AI54: Reg. wash (RG03-5W2)
A55: PFAS type | B55: PFOA | C55: PFOS | D55: GenX | E55: PFOA | F55: PFOS | G55: GenX | H55: PFOA | I55: PFOS | J55: GenX | K55: PFOA | L55: PFOS | M55: GenX | N55: PFOA | O55: PFOS | P55: GenX | Q55: PFOA | R55: PFOS | S55: GenX | T55: PFOA | U55: PFOS | V55: GenX | W55: PFOA | X55: PFOS | Y55: GenX | Z55: PFOA | AA55: PFOS | AB55: GenX | AC55: PFOA | AD55: PFOS | AE55: GenX | AF55: PFOA | AG55: PFOS | AH55: GenX | AI55: PFOA | AJ55: PFOS | AK55: GenX
A56: LC-MS concentration (ng/L) | B56: 1214 | C56: 759.5 | D56: 1199 | E56: 298.6 | F56: 1034 | G56: 121.6 | H56: 25.53 | I56: 525.3 | J56: 4.193 | K56: 0 | L56: 9.548 | M56: 0 | N56: 1154 | O56: 621.7 | P56: 1359 | Q56: 358.7 | R56: 1035 | S56: 126.4 | T56: 30.29 | U56: 670.1 | V56: 3.298 | W56: 0 | X56: 8.189 | Y56: 0 | Z56: 1221 | AA56: 633 | AB56: 1110 | AC56: 406.7 | AD56: 875.4 | AE56: 208.9 | AF56: 50.2 | AG56: 725.4 | AH56: 10.24 | AI56: 0 | AJ56: 15.99 | AK56: 0
A57: Corrected concentration (ng/L) | B57: =B56*4 -> 4856 | C57: =C56*4 -> 3038 | D57: =D56*4 -> 4796 | E57: =E56*4 -> 1194.4 | F57: =F56*4 -> 4136 | G57: =G56*4 -> 486.4 | H57: =H56*8 -> 204.24 | I57: =I56*8 -> 4202.4 | J57: =J56*8 -> 33.544 | K57: =K56*4 -> 0 | L57: =L56*4 -> 38.192 | M57: =M56*4 -> 0 | N57: =N56*4 -> 4616 | O57: =O56*4 -> 2486.8 | P57: =P56*4 -> 5436 | Q57: =Q56*4 -> 1434.8 | R57: =R56*4 -> 4140 | S57: =S56*4 -> 505.6 | T57: =T56*8 -> 242.32 | U57: =U56*8 -> 5360.8 | V57: =V56*8 -> 26.384 | W57: =W56*4 -> 0 | X57: =X56*4 -> 32.756 | Y57: =Y56*4 -> 0 | Z57: =Z56*4 -> 4884 | AA57: =AA56*4 -> 2532 | AB57: =AB56*4 -> 4440 | AC57: =AC56*4 -> 1626.8 | AD57: =AD56*4 -> 3501.6 | AE57: =AE56*4 -> 835.6 | AF57: =AF56*8 -> 401.6 | AG57: =AG56*8 -> 5803.2 | AH57: =AH56*8 -> 81.92 | AI57: =AI56*4 -> 0 | AJ57: =AJ56*4 -> 63.96 | AK57: =AK56*4 -> 0
A58: Batch volume (mL) | B58: 2 | C58: 2 | D58: 2 | E58: 1 | F58: 1 | G58: 1 | H58: 1 | I58: 1 | J58: 1 | K58: 1 | L58: 1 | M58: 1 | N58: 2 | O58: 2 | P58: 2 | Q58: 1 | R58: 1 | S58: 1 | T58: 1 | U58: 1 | V58: 1 | W58: 1 | X58: 1 | Y58: 1 | Z58: 2 | AA58: 2 | AB58: 2 | AC58: 1 | AD58: 1 | AE58: 1 | AF58: 1 | AG58: 1 | AH58: 1 | AI58: 1 | AJ58: 1 | AK58: 1
A59: PFAS mass (ng) | B59: =B57*B58*0.001 -> 9.712 | C59: =C57*C58*0.001 -> 6.076 | D59: =D57*D58*0.001 -> 9.592 | E59: =E57*E58*0.001 -> 1.1944 | F59: =F57*F58*0.001 -> 4.136 | G59: =G57*G58*0.001 -> 0.4864 | H59: =H57*H58*0.001 -> 0.20424 | I59: =I57*I58*0.001 -> 4.2024 | ... AK59: =AK57*AK58*0.001 -> 0
A60: PFAS total (ng) | B60: =SUM(B59,E59,H59,K59) -> 11.11064 | C60: =SUM(C59,F59,I59,L59) -> 14.452592 | D60: =SUM(D59,G59,J59,M59) -> 10.111944 | N60: =SUM(N59,Q59,T59,W59) -> 10.90912 | O60: =SUM(O59,R59,U59,X59) -> 14.507156 | P60: =SUM(P59,S59,V59,Y59) -> 11.403984 | Z60: =SUM(Z59,AC59,AF59,AI59) -> 11.7964 | AA60: =SUM(AA59,AD59,AG59,AJ59) -> 14.43276 | AB60: =SUM(AB59,AE59,AH59,AK59) -> 9.79752
A61: PFAS sum (ng) | B61: =SUM(B60:D60) -> 35.675176 | N61: =SUM(N60:P60) -> 36.82026 | Z61: =SUM(Z60:AB60) -> 36.02668
A62: Avg. PFAS (ng) | B62: PFOA | H62: =AVERAGE(B60,N60,Z60) -> 11.272053 | N62: PFOS | T62: =AVERAGE(C60,O60,AA60) -> 14.464169 | Z62: GenX | AF62: =AVERAGE(D60,P60,AB60) -> 10.437816
A63: Avg. PFAS total (ng) | B63: =SUM(H62,T62,AF62) -> 36.174039
A64: UiO-66-H
B66: #1-1 | N66: #2-1
B67: Adsorption (RG11-1A) | E67: Ads. wash (RG11-1W1) | H67: Regeneration (RG11-1D) | K67: Reg. wash (RG11-1W2) | N67: Adsorption (RG12-1A) | Q67: Ads. wash (RG12-1W1) | T67: Regeneration (RG12-1D) | W67: Reg. wash (RG12-1W2)
A68: PFAS type | B68: PFOA | C68: PFOS | D68: GenX | E68: PFOA | F68: PFOS | G68: GenX | H68: PFOA | I68: PFOS | J68: GenX | K68: PFOA | L68: PFOS | M68: GenX | N68: PFOA | O68: PFOS | P68: GenX | Q68: PFOA | R68: PFOS | S68: GenX | T68: PFOA | U68: PFOS | V68: GenX | W68: PFOA | X68: PFOS | Y68: GenX
A69: LC-MS concentration (ng/L) | B69: 944.5 | C69: 412.1 | D69: 1009 | E69: 163.7 | F69: 125.2 | G69: 134.5 | H69: 212.4 | I69: 806.3 | J69: 91.84 | K69: 45.01 | L69: 7.415 | M69: 12.91 | N69: 1055 | O69: 595.4 | P69: 994 | Q69: 184.8 | R69: 181 | S69: 133.3 | T69: 152.3 | U69: 622.3 | V69: 86.7 | W69: 37.07 | X69: 9.312 | Y69: 10.21
A70: Corrected concentration (ng/L) | B70: =B69*4 -> 3778 | C70: =C69*4 -> 1648.4 | D70: =D69*4 -> 4036 | E70: =E69*4 -> 654.8 | F70: =F69*4 -> 500.8 | G70: =G69*4 -> 538 | H70: =H69*8 -> 1699.2 | I70: =I69*8 -> 6450.4 | J70: =J69*8 -> 734.72 | K70: =K69*4 -> 180.04 | L70: =L69*4 -> 29.66 | M70: =M69*4 -> 51.64 | N70: =N69*4 -> 4220 | O70: =O69*4 -> 2381.6 | P70: =P69*4 -> 3976 | Q70: =Q69*4 -> 739.2 | R70: =R69*4 -> 724 | S70: =S69*4 -> 533.2 | T70: =T69*8 -> 1218.4 | U70: =U69*8 -> 4978.4 | V70: =V69*8 -> 693.6 | W70: =W69*4 -> 148.28 | X70: =X69*4 -> 37.248 | Y70: =Y69*4 -> 40.84
A71: Batch volume (mL) | B71: 2 | C71: 2 | D71: 2 | E71: 1 | F71: 1 | G71: 1 | H71: 1 | I71: 1 | J71: 1 | K71: 1 | L71: 1 | M71: 1 | N71: 2 | O71: 2 | P71: 2 | Q71: 1 | R71: 1 | S71: 1 | T71: 1 | U71: 1 | V71: 1 | W71: 1 | X71: 1 | Y71: 1
A72: PFAS remaining mass (ng) | B72: =B70*B71*0.001 -> 7.556 | C72: =C70*C71*0.001 -> 3.2968 | D72: =D70*D71*0.001 -> 8.072 | E72: =E70*E71*0.001 -> 0.6548 | F72: =F70*F71*0.001 -> 0.5008 | G72: =G70*G71*0.001 -> 0.538 | H72: =H70*H71*0.001 -> 1.6992 | I72: =I70*I71*0.001 -> 6.4504 | ... Y72: =Y70*Y71*0.001 -> 0.04084 | Z72: Adsorption | AG72: Regeneration
A73: PFAS removed (ng) | B73: =$H$18-B72-E72 -> 2.517636 | C73: =$T$18-C72-F72 -> 7.4872533 | D73: =$AF$18-D72-G72 -> 0.81580533 | E73: sum = | F73: =SUM(B73:D73) -> 10.820695 | H73: PFAS total recovered (ng) | K73: =H72+K72 -> 1.87924 | L73: =I72+L72 -> 6.48006 | M73: =J72+M72 -> 0.78636 | N73: =$H$18-N72-Q72 -> 1.549236 | O73: =$T$18-O72-R72 -> 5.7976533 | P73: =$AF$18-P72-S72 -> 0.94060533 | Q73: sum = | R73: =SUM(N73:P73) -> 8.2874947 | T73: PFAS total recovered (ng) | W73: =T72+W72 -> 1.36668 | X73: =U72+X72 -> 5.015648 | Y73: =V72+Y72 -> 0.73444 | Z73: PFAS type | AC73: PFOA | AD73: PFOS | AE73: GenX | AF73: Total | AG73: PFAS type | AK73: PFOA | AL73: PFOS | AM73: GenX | AN73: Total
A74: PFAS removed (%) | B74: =(B73/$H$18) -> 0.23466943 | C74: =C73/$T$18 -> 0.66347813 | D74: =D73/$AF$18 -> 0.0865502 | E74: avg. = | F74: =AVERAGE(F73,R73) -> 9.5540947 | H74: PFAS recovered (%) | K74: =K73/B73 -> 0.74643038 | L74: =L73/C73 -> 0.86547893 | M74: =M73/D73 -> 0.96390642 | N74: =(N73/$H$18) -> 0.14440465 | O74: =O73/$T$18 -> 0.51375531 | P74: =P73/$AF$18 -> 0.099790448 | T74: PFAS recovered (%) | W74: =W73/N73 -> 0.88216385 | X74: =X73/O73 -> 0.86511692 | Y74: =Y73/P73 -> 0.78081633 | Z74: Average removal | AC74: =AVERAGE(B74,N74) -> 0.18953704 | AD74: =AVERAGE(C74,O74) -> 0.58861672 | AE74: =AVERAGE(D74,P74) -> 0.093170324 | AF74: =AVERAGE(B75,N75) -> 0.29044136 | AG74: Amount recovered (of adsorbed) | AK74: =AVERAGE(K74,W74) -> 0.81429712 | AL74: =AVERAGE(L74,X74) -> 0.86529793 | AM74: =AVERAGE(M74,Y74) -> 0.87236137 | AN74: =AVERAGE(K75,W75) -> 0.85065214
A75: PFAS Total removal (%) | B75: =AVERAGE(B74:D74) -> 0.32823259 | H75: PFAS Total recovered (%) | K75: =AVERAGE(K74:M74) -> 0.85860524 | N75: =AVERAGE(N74:P74) -> 0.25265013 | T75: PFAS Total recovered (%) | W75: =AVERAGE(W74:Y74) -> 0.84269903 | Z75: St. dev. | AC75: =STDEV(B74,N74) -> 0.063826844 | AD75: =STDEV(C74,O74) -> 0.10587002 | AE75: =STDEV(D74,P74) -> 0.0093622691 | AF75: =STDEV(B75,N75) -> 0.053444864 | AG75: St. dev. | AK75: =STDEV(K74,W74) -> 0.095978059 | AL75: =STDEV(L74,X74) -> 0.00025597877 | AM75: =STDEV(M74,Y74) -> 0.12946425 | AN75: =STDEV(K75,W75) -> 0.01124739
B76: #1-2 | N76: #2-2
B77: Adsorption (RG11-2A) | E77: Ads. wash (RG11-2W1) | H77: Regeneration (RG11-2D) | K77: Reg. wash (RG11-2W2) | N77: Adsorption (RG12-2A) | Q77: Ads. wash (RG12-2W1) | T77: Regeneration (RG12-2D) | W77: Reg. wash (RG12-2W2)
A78: PFAS type | B78: PFOA | C78: PFOS | D78: GenX | E78: PFOA | F78: PFOS | G78: GenX | H78: PFOA | I78: PFOS | J78: GenX | K78: PFOA | L78: PFOS | M78: GenX | N78: PFOA | O78: PFOS | P78: GenX | Q78: PFOA | R78: PFOS | S78: GenX | T78: PFOA | U78: PFOS | V78: GenX | W78: PFOA | X78: PFOS | Y78: GenX
A79: LC-MS concentration (ng/L) | B79: 659.1 | C79: 134.4 | D79: 927.9 | E79: 318.3 | F79: 180.5 | G79: 232.8 | H79: 488.7 | I79: 1723 | J79: 106.4 | K79: 136.2 | L79: 22.09 | M79: 20.7 | N79: 736.2 | O79: 164.3 | P79: 969.4 | Q79: 315.9 | R79: 208.4 | S79: 182.9 | T79: 397.4 | U79: 1371 | V79: 107 | W79: 81.49 | X79: 9.474 | Y79: 14.32
A80: Corrected concentration (ng/L) | B80: =B79*4 -> 2636.4 | C80: =C79*4 -> 537.6 | D80: =D79*4 -> 3711.6 | E80: =E79*4 -> 1273.2 | F80: =F79*4 -> 722 | G80: =G79*4 -> 931.2 | H80: =H79*8 -> 3909.6 | I80: =I79*8 -> 13784 | J80: =J79*8 -> 851.2 | K80: =K79*4 -> 544.8 | L80: =L79*4 -> 88.36 | M80: =M79*4 -> 82.8 | N80: =N79*4 -> 2944.8 | O80: =O79*4 -> 657.2 | P80: =P79*4 -> 3877.6 | Q80: =Q79*4 -> 1263.6 | R80: =R79*4 -> 833.6 | S80: =S79*4 -> 731.6 | T80: =T79*8 -> 3179.2 | U80: =U79*8 -> 10968 | V80: =V79*8 -> 856 | W80: =W79*4 -> 325.96 | X80: =X79*4 -> 37.896 | Y80: =Y79*4 -> 57.28
A81: Batch volume (mL) | B81: 2 | C81: 2 | D81: 2 | E81: 1 | F81: 1 | G81: 1 | H81: 1 | I81: 1 | J81: 1 | K81: 1 | L81: 1 | M81: 1 | N81: 2 | O81: 2 | P81: 2 | Q81: 1 | R81: 1 | S81: 1 | T81: 1 | U81: 1 | V81: 1 | W81: 1 | X81: 1 | Y81: 1
A82: PFAS remaining mass (ng) | B82: =B80*B81*0.001 -> 5.2728 | C82: =C80*C81*0.001 -> 1.0752 | D82: =D80*D81*0.001 -> 7.4232 | E82: =E80*E81*0.001 -> 1.2732 | F82: =F80*F81*0.001 -> 0.722 | G82: =G80*G81*0.001 -> 0.9312 | H82: =H80*H81*0.001 -> 3.9096 | I82: =I80*I81*0.001 -> 13.784 | ... Y82: =Y80*Y81*0.001 -> 0.05728 | Z82: Adsorption | AG82: Regeneration
A83: PFAS removed (ng) | B83: =$H$29-B82-E82 -> 4.8406267 | C83: =$T$29-C82-F82 -> 12.754008 | D83: =$AF$29-D82-G82 -> 1.1479787 | E83: sum = | F83: =SUM(B83:D83) -> 18.742613 | H83: PFAS total recovered (ng) | K83: =H82+K82 -> 4.4544 | L83: =I82+L82 -> 13.87236 | M83: =J82+M82 -> 0.934 | N83: =$H$29-N82-Q82 -> 4.2334267 | O83: =$T$29-O82-R82 -> 12.403208 | P83: =$AF$29-P82-S82 -> 1.0155787 | Q83: sum = | R83: =SUM(N83:P83) -> 17.652213 | T83: PFAS total recovered (ng) | W83: =T82+W82 -> 3.50516 | X83: =U82+X82 -> 11.005896 | Y83: =V82+Y82 -> 0.91328 | Z83: PFAS type | AC83: PFOA | AD83: PFOS | AE83: GenX | AF83: Total | AG83: PFAS type | AK83: PFOA | AL83: PFOS | AM83: GenX | AN83: Total
A84: PFAS removed (%) | B84: =(B83/$H$29) -> 0.42511508 | C84: =C83/$T$29 -> 0.87649135 | D84: =D83/$AF$29 -> 0.12080961 | E84: avg. = | F84: =AVERAGE(F83,R83) -> 18.197413 | H84: PFAS recovered (%) | K84: =K83/B83 -> 0.92021143 | L84: =L83/C83 -> 1.0876863 | M84: =M83/D83 -> 0.81360397 | N84: =(N83/$H$29) -> 0.37178936 | O84: =O83/$T$29 -> 0.85238339 | P84: =P83/$AF$29 -> 0.10687626 | T84: PFAS recovered (%) | W84: =W83/N83 -> 0.8279723 | X84: =X83/O83 -> 0.88734269 | Y84: =Y83/P83 -> 0.89927056 | Z84: Average removal | AC84: =AVERAGE(B84,N84) -> 0.39845222 | AD84: =AVERAGE(C84,O84) -> 0.86443737 | AE84: =AVERAGE(D84,P84) -> 0.11384293 | AF84: =AVERAGE(B85,N85) -> 0.45891084 | AG84: Amount recovered (of adsorbed) | AK84: =AVERAGE(K84,W84) -> 0.87409186 | AL84: =AVERAGE(L84,X84) -> 0.98751451 | AM84: =AVERAGE(M84,Y84) -> 0.85643727 | AN84: =AVERAGE(K85,W85) -> 0.90601455
A85: PFAS Total removal (%) | B85: =AVERAGE(B84:D84) -> 0.47413868 | H85: PFAS Total recovered (%) | K85: =AVERAGE(K84:M84) -> 0.94050057 | N85: =AVERAGE(N84:P84) -> 0.443683 | T85: PFAS Total recovered (%) | W85: =AVERAGE(W84:Y84) -> 0.87152852 | Z85: St. dev. | AC85: =STDEV(B84,N84) -> 0.037706974 | AD85: =STDEV(C84,O84) -> 0.017046905 | AE85: =STDEV(D84,P84) -> 0.0098523687 | AF85: =STDEV(B85,N85) -> 0.021535416 | AG85: St. dev. | AK85: =STDEV(K84,W84) -> 0.065222919 | AL85: =STDEV(L84,X84) -> 0.14166434 | AM85: =STDEV(M84,Y84) -> 0.06057543 | AN85: =STDEV(K85,W85) -> 0.048770608
B86: #1-3 | N86: #2-3
B87: Adsorption (RG11-3A) | E87: Ads. wash (RG11-3W1) | H87: Regeneration (RG11-3D) | K87: Reg. wash (RG11-3W2) | N87: Adsorption (RG12-3A) | Q87: Ads. wash (RG12-3W1) | T87: Regeneration (RG12-3D) | W87: Reg. wash (RG12-3W2)
A88: PFAS type | B88: PFOA | C88: PFOS | D88: GenX | E88: PFOA | F88: PFOS | G88: GenX | H88: PFOA | I88: PFOS | J88: GenX | K88: PFOA | L88: PFOS | M88: GenX | N88: PFOA | O88: PFOS | P88: GenX | Q88: PFOA | R88: PFOS | S88: GenX | T88: PFOA | U88: PFOS | V88: GenX | W88: PFOA | X88: PFOS | Y88: GenX
A89: LC-MS concentration (ng/L) | B89: 823.7 | C89: 277.3 | D89: 1007 | E89: 311.7 | F89: 347.1 | G89: 204.5 | H89: 328.2 | I89: 1355 | J89: 123.7 | K89: 146.8 | L89: 23.61 | M89: 20.91 | N89: 835.9 | O89: 229.5 | P89: 947.1 | Q89: 357.7 | R89: 394.8 | S89: 181.8 | T89: 349.4 | U89: 1355 | V89: 92.59 | W89: 118.7 | X89: 17.92 | Y89: 21.35
A90: Corrected concentration (ng/L) | B90: =B89*4 -> 3294.8 | C90: =C89*4 -> 1109.2 | D90: =D89*4 -> 4028 | E90: =E89*4 -> 1246.8 | F90: =F89*4 -> 1388.4 | G90: =G89*4 -> 818 | H90: =H89*8 -> 2625.6 | I90: =I89*8 -> 10840 | J90: =J89*8 -> 989.6 | K90: =K89*4 -> 587.2 | L90: =L89*4 -> 94.44 | M90: =M89*4 -> 83.64 | N90: =N89*4 -> 3343.6 | O90: =O89*4 -> 918 | P90: =P89*4 -> 3788.4 | Q90: =Q89*4 -> 1430.8 | R90: =R89*4 -> 1579.2 | S90: =S89*4 -> 727.2 | T90: =T89*8 -> 2795.2 | U90: =U89*8 -> 10840 | V90: =V89*8 -> 740.72 | W90: =W89*4 -> 474.8 | X90: =X89*4 -> 71.68 | Y90: =Y89*4 -> 85.4
A91: Batch volume (mL) | B91: 2 | C91: 2 | D91: 2 | E91: 1 | F91: 1 | G91: 1 | H91: 1 | I91: 1 | J91: 1 | K91: 1 | L91: 1 | M91: 1 | N91: 2 | O91: 2 | P91: 2 | Q91: 1 | R91: 1 | S91: 1 | T91: 1 | U91: 1 | V91: 1 | W91: 1 | X91: 1 | Y91: 1
A92: PFAS remaining mass (ng) | B92: =B90*B91*0.001 -> 6.5896 | C92: =C90*C91*0.001 -> 2.2184 | D92: =D90*D91*0.001 -> 8.056 | E92: =E90*E91*0.001 -> 1.2468 | F92: =F90*F91*0.001 -> 1.3884 | G92: =G90*G91*0.001 -> 0.818 | H92: =H90*H91*0.001 -> 2.6256 | I92: =I90*I91*0.001 -> 10.84 | ... Y92: =Y90*Y91*0.001 -> 0.0854 | Z92: Adsorption | AG92: Regeneration
A93: PFAS removed (ng) | B93: =$H$40-B92-E92 -> 3.825464 | C93: =$T$40-C92-F92 -> 10.149832 | D93: =$AF$40-D92-G92 -> 0.961152 | E93: sum = | F93: =SUM(B93:D93) -> 14.936448 | H93: PFAS total recovered (ng) | K93: =H92+K92 -> 3.2128 | L93: =I92+L92 -> 10.93444 | M93: =J92+M92 -> 1.07324 | N93: =$H$40-N92-Q92 -> 3.543864 | O93: =$T$40-O92-R92 -> 10.341432 | P93: =$AF$40-P92-S92 -> 1.531152 | Q93: sum = | R93: =SUM(N93:P93) -> 15.416448 | T93: PFAS total recovered (ng) | W93: =T92+W92 -> 3.27 | X93: =U92+X92 -> 10.91168 | Y93: =V92+Y92 -> 0.82612 | Z93: PFAS type | AC93: PFOA | AD93: PFOS | AE93: GenX | AF93: Total | AG93: PFAS type | AK93: PFOA | AL93: PFOS | AM93: GenX | AN93: Total
A94: PFAS removed (%) | B94: =(B93/$H$40) -> 0.32803195 | C94: =C93/$T$40 -> 0.73781373 | D94: =D93/$AF$40 -> 0.097726197 | E94: avg. = | F94: =AVERAGE(F93,R93) -> 15.176448 | H94: PFAS recovered (%) | K94: =K93/B93 -> 0.83984583 | L94: =L93/C93 -> 1.0773026 | M94: =M93/P93 -> 0.70093629 | N94: =(N93/$H$40) -> 0.30388487 | O94: =O93/$T$40 -> 0.75174156 | P94: =P93/$AF$40 -> 0.15568158 | T94: PFAS recovered (%) | W94: =W93/N93 -> 0.92272164 | X94: =X93/O93 -> 1.0551421 | Y94: =Y93/D93 -> 0.85951025 | Z94: Average removal | AC94: =AVERAGE(B94,N94) -> 0.31595841 | AD94: =AVERAGE(C94,O94) -> 0.74477764 | AE94: =AVERAGE(D94,P94) -> 0.12670389 | AF94: =AVERAGE(B95,N95) -> 0.39581331 | AG94: Amount recovered (of adsorbed) | AK94: =AVERAGE(K94,W94) -> 0.88128374 | AL94: =AVERAGE(L94,X94) -> 1.0662223 | AM94: =AVERAGE(M94,Y94) -> 0.78022327 | AN94: =AVERAGE(K95,W95) -> 0.90924312
A95: PFAS Total removal (%) | B95: =AVERAGE(B94:D94) -> 0.38785729 | H95: PFAS Total recovered (%) | K95: =AVERAGE(K94:M94) -> 0.8726949 | N95: =AVERAGE(N94:P94) -> 0.40376933 | T95: PFAS Total recovered (%) | W95: =AVERAGE(W94:Y94) -> 0.94579133 | Z95: St. dev. | AC95: =STDEV(B94,N94) -> 0.017074566 | AD95: =STDEV(C94,O94) -> 0.0098484616 | AE95: =STDEV(D94,P94) -> 0.040980644 | AF95: =STDEV(B95,N95) -> 0.011251513 | AG95: St. dev. | AK95: =STDEV(K94,W94) -> 0.058602045 | AL95: =STDEV(L94,X94) -> 0.015669831 | AM95: =STDEV(M94,Y94) -> 0.11212873 | AN95: =STDEV(K95,W95) -> 0.05168698
B96: #1-4 | N96: #2-4
B97: Adsorption (RG11-4A) | E97: Ads. wash (RG11-4W1) | H97: Regeneration (RG11-4D) | K97: Reg. wash (RG11-4W2) | N97: Adsorption (RG12-4A) | Q97: Ads. wash (RG12-4W1) | T97: Regeneration (RG12-4D) | W97: Reg. wash (RG12-4W2)
A98: PFAS type | B98: PFOA | C98: PFOS | D98: GenX | E98: PFOA | F98: PFOS | G98: GenX | H98: PFOA | I98: PFOS | J98: GenX | K98: PFOA | L98: PFOS | M98: GenX | N98: PFOA | O98: PFOS | P98: GenX | Q98: PFOA | R98: PFOS | S98: GenX | T98: PFOA | U98: PFOS | V98: GenX | W98: PFOA | X98: PFOS | Y98: GenX
A99: LC-MS concentration (ng/L) | B99: 729.6 | C99: 235.2 | D99: 954.5 | E99: 310.5 | F99: 423.8 | G99: 228.5 | H99: 420.3 | I99: 1327 | J99: 119.2 | K99: 193.1 | L99: 22.01 | M99: 21.28 | N99: 865.7 | O99: 394.5 | P99: 986.7 | Q99: 301.5 | R99: 491.2 | S99: 156.5 | T99: 321.1 | U99: 1175 | V99: 82.18 | W99: 113.6 | X99: 20.48 | Y99: 15.5
A100: Corrected concentration (ng/L) | B100: =B99*4 -> 2918.4 | C100: =C99*4 -> 940.8 | D100: =D99*4 -> 3818 | E100: =E99*4 -> 1242 | F100: =F99*4 -> 1695.2 | G100: =G99*4 -> 914 | H100: =H99*8 -> 3362.4 | I100: =I99*8 -> 10616 | J100: =J99*8 -> 953.6 | K100: =K99*4 -> 772.4 | L100: =L99*4 -> 88.04 | M100: =M99*4 -> 85.12 | N100: =N99*4 -> 3462.8 | O100: =O99*4 -> 1578 | P100: =P99*4 -> 3946.8 | Q100: =Q99*4 -> 1206 | R100: =R99*4 -> 1964.8 | S100: =S99*4 -> 626 | T100: =T99*8 -> 2568.8 | U100: =U99*8 -> 9400 | V100: =V99*8 -> 657.44 | W100: =W99*4 -> 454.4 | X100: =X99*4 -> 81.92 | Y100: =Y99*4 -> 62
A101: Batch volume (mL) | B101: 2 | C101: 2 | D101: 2 | E101: 1 | F101: 1 | G101: 1 | H101: 1 | I101: 1 | J101: 1 | K101: 1 | L101: 1 | M101: 1 | N101: 2 | O101: 2 | P101: 2 | Q101: 1 | R101: 1 | S101: 1 | T101: 1 | U101: 1 | V101: 1 | W101: 1 | X101: 1 | Y101: 1
A102: PFAS remaining mass (ng) | B102: =B100*B101*0.001 -> 5.8368 | C102: =C100*C101*0.001 -> 1.8816 | D102: =D100*D101*0.001 -> 7.636 | E102: =E100*E101*0.001 -> 1.242 | F102: =F100*F101*0.001 -> 1.6952 | G102: =G100*G101*0.001 -> 0.914 | H102: =H100*H101*0.001 -> 3.3624 | I102: =I100*I101*0.001 -> 10.616 | ... Y102: =Y100*Y101*0.001 -> 0.062 | Z102: Adsorption | AG102: Regeneration
...

Sheet Performance overview & plots
A1: PERFORMANCE OVERVIEW & PLOTS
A6: UiO-66-H | T6: Pass 1 | AA6: Pass 2
A7: PFAS type | B7: PFOA | F7: PFOS | J7: GenX | N7: Total
B8: Performance [%] | D8: Standard Deviation [%] | F8: Performance [%] | H8: Standard Deviation [%] | J8: Performance [%] | L8: Standard Deviation [%] | N8: Performance [%] | P8: Standard Deviation [%] | W8: UiO-66-H | X8: UiO-66-F4 | Y8: OS-UiO-66-H | Z8: OS-UiO-66-F4 | AD8: UiO-66-H | AE8: UiO-66-F4 | AF8: OS-UiO-66-H | AG8: OS-UiO-66-F4
B9: Adsorption | C9: Regeneration | D9: Adsorption | E9: Regeneration | F9: Adsorption | G9: Regeneration | H9: Adsorption | I9: Regeneration | J9: Adsorption | K9: Regeneration | L9: Adsorption | M9: Regeneration | N9: Adsorption | O9: Regeneration | P9: Adsorption | Q9: Regeneration | T9: Total PFAS input [ng] | W9: 173.07696 | AA9: Total PFAS input [ng] | AD9: 173.07696
A10: Cycle 1 | B10: ='Regeneration 5 cycles'!AC74 -> 0.18953704 | C10: ='Regeneration 5 cycles'!AK74 -> 0.81429712 | D10: ='Regeneration 5 cycles'!AC75 -> 0.063826844 | E10: ='Regeneration 5 cycles'!AK75 -> 0.095978059 | F10: ='Regeneration 5 cycles'!AD74 -> 0.58861672 | G10: ='Regeneration 5 cycles'!AL74 -> 0.86529793 | H10: ='Regeneration 5 cycles'!AD75 -> 0.10587002 | I10: ='Regeneration 5 cycles'!AL75 -> 0.00025597877 | J10: ='Regeneration 5 cycles'!AE74 -> 0.093170324 | K10: ='Regeneration 5 cycles'!AM74 -> 0.87236137 | L10: ='Regeneration 5 cycles'!AE75 -> 0.0093622691 | M10: ='Regeneration 5 cycles'!AM75 -> 0.12946425 | N10: ='Regeneration 5 cycles'!AF74 -> 0.29044136 | O10: ='Regeneration 5 cycles'!AN74 -> 0.85065214 | P10: ='Regeneration 5 cycles'!AF75 -> 0.053444864 | Q10: ='Regeneration 5 cycles'!AN75 -> 0.01124739 | T10: Total PFOA input [ng] | W10: 56.281608 | AA10: Total PFOA input [ng] | AD10: 56.281608
A11: Cycle 2 | B11: ='Regeneration 5 cycles'!AC84 -> 0.39845222 | C11: ='Regeneration 5 cycles'!AK84 -> 0.87409186 | D11: ='Regeneration 5 cycles'!AC85 -> 0.037706974 | E11: ='Regeneration 5 cycles'!AK85 -> 0.065222919 | F11: ='Regeneration 5 cycles'!AD84 -> 0.86443737 | G11: ='Regeneration 5 cycles'!AL84 -> 0.98751451 | H11: ='Regeneration 5 cycles'!AD85 -> 0.017046905 | I11: ='Regeneration 5 cycles'!AL85 -> 0.14166434 | J11: ='Regeneration 5 cycles'!AE84 -> 0.11384293 | K11: ='Regeneration 5 cycles'!AM84 -> 0.85643727 | L11: ='Regeneration 5 cycles'!AE85 -> 0.0098523687 | M11: ='Regeneration 5 cycles'!AM85 -> 0.06057543 | N11: ='Regeneration 5 cycles'!AF84 -> 0.45891084 | O11: ='Regeneration 5 cycles'!AN84 -> 0.90601455 | P11: ='Regeneration 5 cycles'!AF85 -> 0.021535416 | Q11: ='Regeneration 5 cycles'!AN85 -> 0.048770608 | T11: Total PFOS input [ng] | W11: 67.514492 | AA11: Total PFOS input [ng] | AD11: 67.514492
A12: Cycle 3 | B12: ='Regeneration 5 cycles'!AC94 -> 0.31595841 | C12: ='Regeneration 5 cycles'!AK94 -> 0.88128374 | D12: ='Regeneration 5 cycles'!AC95 -> 0.017074566 | E12: ='Regeneration 5 cycles'!AK95 -> 0.058602045 | F12: ='Regeneration 5 cycles'!AD94 -> 0.74477764 | G12: ='Regeneration 5 cycles'!AL94 -> 1.0662223 | H12: ='Regeneration 5 cycles'!AD95 -> 0.0098484616 | I12: ='Regeneration 5 cycles'!AL95 -> 0.015669831 | J12: ='Regeneration 5 cycles'!AE94 -> 0.12670389 | K12: ='Regeneration 5 cycles'!AM94 -> 0.78022327 | L12: ='Regeneration 5 cycles'!AE95 -> 0.040980644 | M12: ='Regeneration 5 cycles'!AM95 -> 0.11212873 | N12: ='Regeneration 5 cycles'!AF94 -> 0.39581331 | O12: ='Regeneration 5 cycles'!AN94 -> 0.90924312 | P12: ='Regeneration 5 cycles'!AF95 -> 0.011251513 | Q12: ='Regeneration 5 cycles'!AN95 -> 0.05168698 | T12: Total GenX input [ng] | W12: 49.280864 | AA12: Total GenX input [ng] | AD12: 49.280864
A13: Cycle 4 | B13: ='Regeneration 5 cycles'!AC104 -> 0.32293672 | C13: ='Regeneration 5 cycles'!AK104 -> 0.98516084 | D13: ='Regeneration 5 cycles'!AC105 -> 0.066274964 | E13: ='Regeneration 5 cycles'!AK105 -> 0.014507462 | F13: ='Regeneration 5 cycles'!AD104 -> 0.67685245 | G13: ='Regeneration 5 cycles'!AL104 -> 1.1103336 | H13: ='Regeneration 5 cycles'!AD105 -> 0.081126686 | I13: ='Regeneration 5 cycles'!AL105 -> 0.038211579 | J13: ='Regeneration 5 cycles'!AE104 -> 0.15326946 | K13: ='Regeneration 5 cycles'!AM104 -> 0.57008808 | L13: ='Regeneration 5 cycles'!AE105 -> 0.0021326052 | M13: ='Regeneration 5 cycles'!AM105 -> 0.15406683 | N13: ='Regeneration 5 cycles'!AF104 -> 0.38435287 | O13: ='Regeneration 5 cycles'!AN104 -> 0.8885275 | P13: ='Regeneration 5 cycles'!AF105 -> 0.048423015 | Q13: ='Regeneration 5 cycles'!AN105 -> 0.043454237 | T13: Total PFAS removed [ng] | W13: 74.852164 | X13: 100.02336 | Y13: 86.468964 | Z13: 107.97507 | AA13: Total PFAS removed [ng] | AD13: 69.574964 | AE13: 94.610204 | AF13: 85.728484 | AG13: 109.11223
A14: Cycle 5 | B14: ='Regeneration 5 cycles'!AC114 -> 0.31164272 | C14: ='Regeneration 5 cycles'!AK114 -> 0.97291452 | D14: ='Regeneration 5 cycles'!AC115 -> 0.034878416 | E14: ='Regeneration 5 cycles'!AK115 -> 0.087976277 | F14: ='Regeneration 5 cycles'!AD114 -> 0.66999833 | G14: ='Regeneration 5 cycles'!AL114 -> 0.96136357 | H14: ='Regeneration 5 cycles'!AD115 -> 0.011732829 | I14: ='Regeneration 5 cycles'!AL115 -> 0.021977749 | J14: ='Regeneration 5 cycles'!AE114 -> 0.17250889 | K14: ='Regeneration 5 cycles'!AM114 -> 0.45035463 | L14: ='Regeneration 5 cycles'!AE115 -> 0.050727236 | M14: ='Regeneration 5 cycles'!AM115 -> 0.060344876 | N14: ='Regeneration 5 cycles'!AF114 -> 0.38471664 | O14: ='Regeneration 5 cycles'!AN114 -> 0.79487757 | P14: ='Regeneration 5 cycles'!AF115 -> 0.009193883 | Q14: ='Regeneration 5 cycles'!AN115 -> 0.016536383 | T14: Total PFOA removed [ng] | W14: 19.128408 | X14: 30.106008 | Y14: 24.320408 | Z14: 35.075208 | AA14: Total PFOA removed [ng] | AD14: 15.662408 | AE14: 28.066008 | AF14: 23.050008 | AG14: 36.747608
T15: Total PFOS removed [ng] | W15: 49.842892 | X15: 62.399292 | Y15: 53.394492 | Z15: 64.356996 | AA15: Total PFOS removed [ng] | AD15: 46.690092 | AE15: 59.660132 | AF15: 54.009212 | AG15: 65.419356
T16: Total GenX removed [ng] | W16: 5.880864 | X16: 7.518064 | Y16: 8.754064 | Z16: 8.542864 | AA16: Total GenX removed [ng] | AD16: 7.222464 | AE16: 6.884064 | AF16: 8.669264 | AG16: 6.945264
T17: Total PFAS regenerated [ng] | W17: 73.6651 | X17: 93.521768 | Y17: 82.233324 | Z17: 100.38254 | AA17: Total PFAS regenerated [ng] | AD17: 63.702064 | AE17: 85.566648 | AF17: 78.654872 | AG17: 104.67548
T18: Total PFOA regenerated [ng] | W18: 17.60524 | X18: 26.98424 | Y18: 23.5636 | Z18: 32.2006 | AA18: Total PFOA regenerated [ng] | AD18: 14.11104 | AE18: 24.215088 | AF18: 21.37976 | AG18: 33.0568
T19: Total PFOS regenerated [ng] | W19: 51.34082 | X19: 63.36376 | Y19: 54.082456 | Z19: 63.702604 | AA19: Total PFOS regenerated [ng] | AD19: 45.694584 | AE19: 58.100168 | AF19: 52.23244 | AG19: 66.473
T20: Total GenX regenerated [ng] | W20: 4.71904 | X20: 3.173768 | Y20: 4.587268 | Z20: 4.479336 | AA20: Total GenX regenerated [ng] | AD20: 3.89644 | AE20: 3.251392 | AF20: 5.042672 | AG20: 5.145676
T21: Total PFAS removed [%] | W21: 0.43247907 | X21: 0.57791263 | Y21: 0.49959834 | Z21: 0.6238558 | AA21: Total PFAS removed [%] | AD21: 0.40198858 | AE21: 0.5466366 | AF21: 0.49532001 | AG21: 0.63042606
T22: Total PFOA removed [%] | W22: 0.33986961 | X22: 0.53491734 | Y22: 0.43211999 | Z22: 0.62320906 | AA22: Total PFOA removed [%] | AD22: 0.27828643 | AE22: 0.49867104 | AF22: 0.40954779 | AG22: 0.65292392
T23: Total PFOS removed [%] | W23: 0.73825471 | X23: 0.92423553 | Y23: 0.79085972 | Z23: 0.95323232 | AA23: Total PFOS removed [%] | AD23: 0.69155659 | AE23: 0.88366409 | AF23: 0.79996472 | AG23: 0.96896761
T24: Total GenX removed [%] | W24: 0.11933362 | X24: 0.15255544 | Y24: 0.17763617 | Z24: 0.17335053 | AA24: Total GenX removed [%] | AD24: 0.14655717 | AE24: 0.13969041 | AF24: 0.17591542 | AG24: 0.14093227
T25: Total PFAS recovered [%] | W25: 0.98414122 | X25: 0.93499923 | Y25: 0.95101549 | Z25: 0.92968258 | AA25: Total PFAS recovered [%] | AD25: 0.91558889 | AE25: 0.90441247 | AF25: 0.9174882 | AG25: 0.95933772
T26: Total PFOA recovered [%] | W26: 0.92037142 | X26: 0.89630747 | Y26: 0.96888177 | Z26: 0.91804445 | AA26: Total PFOA recovered [%] | AD26: 0.90094959 | AE26: 0.8627906 | AF26: 0.92753807 | AG26: 0.89956331
T27: Total PFOS recovered [%] | W27: 1.030053 | X27: 1.0154564 | Y27: 1.0128846 | Z27: 0.98983185 | AA27: Total PFOS recovered [%] | AD27: 0.97867839 | AE27: 0.97385249 | AF27: 0.96710243 | AG27: 1.016106
A28: UiO-66-F4 | T28: Total GenX recovered [%] | W28: 0.80243991 | X28: 0.4221523 | Y28: 0.52401582 | Z28: 0.52433657 | AA28: Total GenX recovered [%] | AD28: 0.53948902 | AE28: 0.47230706 | AF28: 0.58167245 | AG28: 0.74088991
A29: PFAS type | B29: PFOA | F29: PFOS | J29: GenX | N29: Total | T29: Average | AA29: Standard Deviation
B30: Performance [%] | D30: Standard Deviation [%] | F30: Performance [%] | H30: Standard Deviation [%] | J30: Performance [%] | L30: Standard Deviation [%] | N30: Performance [%] | P30: Standard Deviation [%] | T30: Total PFAS removed [%] | W30: =AVERAGE(W21,AD21) -> 0.41723383 | X30: =AVERAGE(X21,AE21) -> 0.56227462 | Y30: =AVERAGE(Y21,AF21) -> 0.49745918 | Z30: =AVERAGE(Z21,AG21) -> 0.62714093 | AA30: St. Dev. PFAS Total removed [%] | AD30: =_xlfn.STDEV.S(W21,AD21) -> 0.021560026 | AE30: =_xlfn.STDEV.S(X21,AE21) -> 0.022115492 | AF30: =_xlfn.STDEV.S(Y21,AF21) -> 0.0030252347 | AG30: =_xlfn.STDEV.S(Z21,AG21) -> 0.0046458727
B31: Adsorption | C31: Regeneration | D31: Adsorption | E31: Regeneration | F31: Adsorption | G31: Regeneration | H31: Adsorption | I31: Regeneration | J31: Adsorption | K31: Regeneration | L31: Adsorption | M31: Regeneration | N31: Adsorption | O31: Regeneration | P31: Adsorption | Q31: Regeneration | T31: Total PFOA removed [%] | W31: =AVERAGE(W22,AD22) -> 0.30907802 | X31: =AVERAGE(X22,AE22) -> 0.51679419 | Y31: =AVERAGE(Y22,AF22) -> 0.42083389 | Z31: =AVERAGE(Z22,AG22) -> 0.63806649 | AA31: St. Dev. PFOA Total removed [%] | AD31: =_xlfn.STDEV.S(W22,AD22) -> 0.043545879 | AE31: =_xlfn.STDEV.S(X22,AE22) -> 0.025630004 | AF31: =_xlfn.STDEV.S(Y22,AF22) -> 0.015960959 | AG31: =_xlfn.STDEV.S(Z22,AG22) -> 0.021011578
A32: Cycle 1 | B32: ='Regeneration 5 cycles'!AC126 -> 0.36687883 | C32: ='Regeneration 5 cycles'!AK126 -> 0.79087452 | D32: ='Regeneration 5 cycles'!AC127 -> 0.028631124 | E32: ='Regeneration 5 cycles'!AK127 -> 0.020141599 | F32: ='Regeneration 5 cycles'!AD126 -> 0.7576167 | G32: ='Regeneration 5 cycles'!AL126 -> 0.97934332 | H32: ='Regeneration 5 cycles'!AD127 -> 0.05755429 | I32: ='Regeneration 5 cycles'!AL127 -> 0.026799747 | J32: ='Regeneration 5 cycles'!AE126 -> 0.1059862 | K32: ='Regeneration 5 cycles'!AM126 -> 0.44512742 | L32: ='Regeneration 5 cycles'!AE127 -> 0.00054013091 | M32: ='Regeneration 5 cycles'!AM127 -> 0.017545864 | N32: ='Regeneration 5 cycles'!AF126 -> 0.41016058 | O32: ='Regeneration 5 cycles'!AN126 -> 0.73844842 | P32: ='Regeneration 5 cycles'!AF127 -> 0.028908515 | Q32: ='Regeneration 5 cycles'!AN127 -> 0.0080680038 | T32: Total PFOS removed [%] | W32: =AVERAGE(W23,AD23) -> 0.71490565 | X32: =AVERAGE(X23,AE23) -> 0.90394981 | Y32: =AVERAGE(Y23,AF23) -> 0.79541222 | Z32: =AVERAGE(Z23,AG23) -> 0.96109997 | AA32: St. Dev. PFOS Total removed [%] | AD32: =_xlfn.STDEV.S(AD23,W23) -> 0.033020559 | AE32: =_xlfn.STDEV.S(AE23,X23) -> 0.028688339 | AF32: =_xlfn.STDEV.S(AF23,Y23) -> 0.006438213 | AG32: =_xlfn.STDEV.S(AG23,Z23) -> 0.011126529
A33: Cycle 2 | B33: ='Regeneration 5 cycles'!AC136 -> 0.57311325 | C33: ='Regeneration 5 cycles'!AK136 -> 0.81780254 | D33: ='Regeneration 5 cycles'!AC137 -> 0.022604313 | E33: ='Regeneration 5 cycles'!AK137 -> 0.038093315 | F33: ='Regeneration 5 cycles'!AD136 -> 0.95663728 | G33: ='Regeneration 5 cycles'!AL136 -> 0.97711149 | H33: ='Regeneration 5 cycles'!AD137 -> 0.011318601 | I33: ='Regeneration 5 cycles'!AL137 -> 0.054223392 | J33: ='Regeneration 5 cycles'!AE136 -> 0.11079107 | K33: ='Regeneration 5 cycles'!AM136 -> 0.54393574 | L33: ='Regeneration 5 cycles'!AE137 -> 0.016430536 | M33: ='Regeneration 5 cycles'!AM137 -> 0.086389278 | N33: ='Regeneration 5 cycles'!AF136 -> 0.5468472 | O33: ='Regeneration 5 cycles'!AN136 -> 0.77961659 | P33: ='Regeneration 5 cycles'!AF137 -> 0.016784483 | Q33: ='Regeneration 5 cycles'!AN137 -> 0.0019758094 | T33: Total GenX removed [%] | W33: =AVERAGE(W24,AD24) -> 0.1329454 | X33: =AVERAGE(X24,AE24) -> 0.14612293 | Y33: =AVERAGE(Y24,AF24) -> 0.1767758 | Z33: =AVERAGE(Z24,AG24) -> 0.1571414 | AA33: St. Dev. GenX Total removed [%] | AD33: =_xlfn.STDEV.S(AD24,W24) -> 0.019249956 | AE33: =_xlfn.STDEV.S(AE24,X24) -> 0.0090969529 | AF33: =_xlfn.STDEV.S(AF24,Y24) -> 0.0012167533 | AG33: =_xlfn.STDEV.S(AG24,Z24) -> 0.022923173
A34: Cycle 3 | B34: ='Regeneration 5 cycles'!AC146 -> 0.56353461 | C34: ='Regeneration 5 cycles'!AK146 -> 0.85166976 | D34: ='Regeneration 5 cycles'!AC147 -> 0.029783476 | E34: ='Regeneration 5 cycles'!AK147 -> 0.0087647561 | F34: ='Regeneration 5 cycles'!AD146 -> 0.94232745 | G34: ='Regeneration 5 cycles'!AL146 -> 0.97224995 | H34: ='Regeneration 5 cycles'!AD147 -> 0.020311681 | I34: ='Regeneration 5 cycles'!AL147 -> 0.0065786823 | J34: ='Regeneration 5 cycles'!AE146 -> 0.15767443 | K34: ='Regeneration 5 cycles'!AM146 -> 0.43757964 | L34: ='Regeneration 5 cycles'!AE147 -> 0.00080523371 | M34: ='Regeneration 5 cycles'!AM147 -> 0.005681063 | N34: ='Regeneration 5 cycles'!AF146 -> 0.55451217 | O34: ='Regeneration 5 cycles'!AN146 -> 0.75383312 | P34: ='Regeneration 5 cycles'!AF147 -> 0.016966797 | Q34: ='Regeneration 5 cycles'!AN147 -> 0.0070081671 | T34: Total PFAS recovered [%] | W34: =AVERAGE(W25,AD25) -> 0.94986506 | X34: =AVERAGE(X25,AE25) -> 0.91970585 | Y34: =AVERAGE(Y25,AF25) -> 0.93425184 | Z34: =AVERAGE(Z25,AG25) -> 0.94451015 | AA34: St. Dev. PFAS Total recovered [%] | AD34: =_xlfn.STDEV.S(AD25,W25) -> 0.048473818 | AE34: =_xlfn.STDEV.S(AE25,X25) -> 0.021628105 | AF34: =_xlfn.STDEV.S(AF25,Y25) -> 0.023707377 | AG34: =_xlfn.STDEV.S(AG25,Z25) -> 0.020969349
A35: Cycle 4 | B35: ='Regeneration 5 cycles'!AC156 -> 0.53446335 | C35: ='Regeneration 5 cycles'!AK156 -> 0.93243253 | D35: ='Regeneration 5 cycles'!AC157 -> 0.0094174911 | E35: ='Regeneration 5 cycles'!AK157 -> 0.033435073 | F35: ='Regeneration 5 cycles'!AD156 -> 0.9073715 | G35: ='Regeneration 5 cycles'!AL156 -> 1.0462782 | H35: ='Regeneration 5 cycles'!AD157 -> 0.030248064 | I35: ='Regeneration 5 cycles'!AL157 -> 0.058884421 | J35: ='Regeneration 5 cycles'!AE156 -> 0.15938074 | K35: ='Regeneration 5 cycles'!AM156 -> 0.46759995 | L35: ='Regeneration 5 cycles'!AE157 -> 0.01414254 | M35: ='Regeneration 5 cycles'!AM157 -> 0.05057686 | N35: ='Regeneration 5 cycles'!AF156 -> 0.53373853 | O35: ='Regeneration 5 cycles'!AN156 -> 0.81543688 | P35: ='Regeneration 5 cycles'!AF157 -> 0.017936032 | Q35: ='Regeneration 5 cycles'!AN157 -> 0.013914211 | T35: Total PFOA recovered [%] | W35: =AVERAGE(W26,AD26) -> 0.9106605 | X35: =AVERAGE(X26,AE26) -> 0.87954904 | Y35: =AVERAGE(Y26,AF26) -> 0.94820992 | Z35: =AVERAGE(Z26,AG26) -> 0.90880388 | AA35: St. Dev. PFOA Total recovered [%] | AD35: =_xlfn.STDEV.S(AD26,W26) -> 0.013733309 | AE35: =_xlfn.STDEV.S(AE26,X26) -> 0.023700006 | AF35: =_xlfn.STDEV.S(AF26,Y26) -> 0.02923441 | AG35: =_xlfn.STDEV.S(AG26,Z26) -> 0.013068136
A36: Cycle 5 | B36: ='Regeneration 5 cycles'!AC166 -> 0.53662391 | C36: ='Regeneration 5 cycles'!AK166 -> 0.98200898 | D36: ='Regeneration 5 cycles'!AC167 -> 0.037688764 | E36: ='Regeneration 5 cycles'!AK167 -> 0.0176622 | F36: ='Regeneration 5 cycles'!AD166 -> 0.92542952 | G36: ='Regeneration 5 cycles'!AL166 -> 0.99819986 | H36: ='Regeneration 5 cycles'!AD167 -> 0.030157282 | I36: ='Regeneration 5 cycles'!AL167 -> 0.0345097 | J36: ='Regeneration 5 cycles'!AE166 -> 0.19084605 | K36: ='Regeneration 5 cycles'!AM166 -> 0.3909326 | L36: ='Regeneration 5 cycles'!AE167 -> 0.013088277 | M36: ='Regeneration 5 cycles'!AM167 -> 0.042514162 | N36: ='Regeneration 5 cycles'!AF166 -> 0.5509665 | O36: ='Regeneration 5 cycles'!AN166 -> 0.79038048 | P36: ='Regeneration 5 cycles'!AF167 -> 0.026978108 | Q36: ='Regeneration 5 cycles'!AN167 -> 0.0032192461 | T36: Total PFOS recovered [%] | W36: =AVERAGE(W27,AD27) -> 1.0043657 | X36: =AVERAGE(X27,AE27) -> 0.99465445 | Y36: =AVERAGE(Y27,AF27) -> 0.98999349 | Z36: =AVERAGE(Z27,AG27) -> 1.0029689 | AA36: St. Dev. PFOS Total recovered [%] | AD36: =_xlfn.STDEV.S(AD27,W27) -> 0.03632733 | AE36: =_xlfn.STDEV.S(AE27,X27) -> 0.029418403 | AF36: =_xlfn.STDEV.S(AF27,Y27) -> 0.03237285 | AG36: =_xlfn.STDEV.S(AG27,Z27) -> 0.018578633
T37: Total GenX recovered [%] | W37: =AVERAGE(W28,AD28) -> 0.67096447 | X37: =AVERAGE(X28,AE28) -> 0.44722968 | Y37: =AVERAGE(Y28,AF28) -> 0.55284413 | Z37: =AVERAGE(Z28,AG28) -> 0.63261324 | AA37: St. Dev. GenX Total recovered [%] | AD37: =_xlfn.STDEV.S(AD28,W28) -> 0.18593436 | AE37: =_xlfn.STDEV.S(AE28,X28) -> 0.035464769 | AF37: =_xlfn.STDEV.S(AF28,Y28) -> 0.040769394 | AG37: =_xlfn.STDEV.S(AG28,Z28) -> 0.15312633
A50: OS-UiO-66-H
A51: PFAS type | B51: PFOA | F51: PFOS | J51: GenX | N51: Total
B52: Performance [%] | D52: Standard Deviation [%] | F52: Performance [%] | H52: Standard Deviation [%] | J52: Performance [%] | L52: Standard Deviation [%] | N52: Performance [%] | P52: Standard Deviation [%]
B53: Adsorption | C53: Regeneration | D53: Adsorption | E53: Regeneration | F53: Adsorption | G53: Regeneration | H53: Adsorption | I53: Regeneration | J53: Adsorption | K53: Regeneration | L53: Adsorption | M53: Regeneration | N53: Adsorption | O53: Regeneration | P53: Adsorption | Q53: Regeneration
A54: Cycle 1 | B54: ='Regeneration 5 cycles'!AC178 -> 0.22967337 | C54: ='Regeneration 5 cycles'!AK178 -> 0.94576423 | D54: ='Regeneration 5 cycles'!AC179 -> 0.068651425 | E54: ='Regeneration 5 cycles'!AK179 -> 0.017060993 | F54: ='Regeneration 5 cycles'!AD178 -> 0.54921878 | G54: ='Regeneration 5 cycles'!AL178 -> 0.98573558 | H54: ='Regeneration 5 cycles'!AD179 -> 0.14810273 | I54: ='Regeneration 5 cycles'!AL179 -> 0.0057159291 | J54: ='Regeneration 5 cycles'!AE178 -> 0.14742563 | K54: ='Regeneration 5 cycles'!AM178 -> 0.57422566 | L54: ='Regeneration 5 cycles'!AE179 -> 0.054103113 | M54: ='Regeneration 5 cycles'!AM179 -> 0.032562842 | N54: ='Regeneration 5 cycles'!AF178 -> 0.30877259 | O54: ='Regeneration 5 cycles'!AN178 -> 0.83524182 | P54: ='Regeneration 5 cycles'!AF179 -> 0.090285756 | Q54: ='Regeneration 5 cycles'!AN179 -> 0.014635968
A55: Cycle 2 | B55: ='Regeneration 5 cycles'!AC188 -> 0.57847042 | C55: ='Regeneration 5 cycles'!AK188 -> 0.85941242 | D55: ='Regeneration 5 cycles'!AC189 -> 0.024616345 | E55: ='Regeneration 5 cycles'!AK189 -> 0.027109399 | F55: ='Regeneration 5 cycles'!AD188 -> 0.92353625 | G55: ='Regeneration 5 cycles'!AL188 -> 0.93268942 | H55: ='Regeneration 5 cycles'!AD189 -> 0.0015783451 | I55: ='Regeneration 5 cycles'!AL189 -> 0.037431521 | J55: ='Regeneration 5 cycles'!AE188 -> 0.16061017 | K55: ='Regeneration 5 cycles'!AM188 -> 0.9031661 | L55: ='Regeneration 5 cycles'!AE189 -> 0.013186101 | M55: ='Regeneration 5 cycles'!AM189 -> 0.029893787 | N55: ='Regeneration 5 cycles'!AF188 -> 0.55420561 | O55: ='Regeneration 5 cycles'!AN188 -> 0.89842265 | P55: ='Regeneration 5 cycles'!AF189 -> 0.01312693 | Q55: ='Regeneration 5 cycles'!AN189 -> 0.011549044
A56: Cycle 3 | B56: ='Regeneration 5 cycles'!AC198 -> 0.46421944 | C56: ='Regeneration 5 cycles'!AK198 -> 0.97872745 | D56: ='Regeneration 5 cycles'!AC199 -> 0.030050266 | E56: ='Regeneration 5 cycles'!AK199 -> 0.018842198 | F56: ='Regeneration 5 cycles'!AD198 -> 0.85339435 | G56: ='Regeneration 5 cycles'!AL198 -> 1.0295119 | H56: ='Regeneration 5 cycles'!AD199 -> 0.018874505 | I56: ='Regeneration 5 cycles'!AL199 -> 0.061188094 | J56: ='Regeneration 5 cycles'!AE198 -> 0.15368873 | K56: ='Regeneration 5 cycles'!AM198 -> 0.67458633 | L56: ='Regeneration 5 cycles'!AE199 -> 0.043367587 | M56: ='Regeneration 5 cycles'!AM199 -> 0.21247113 | N56: ='Regeneration 5 cycles'!AF198 -> 0.49043417 | O56: ='Regeneration 5 cycles'!AN198 -> 0.89427522 | P56: ='Regeneration 5 cycles'!AF199 -> 0.030764119 | Q56: ='Regeneration 5 cycles'!AN199 -> 0.056708412
A57: Cycle 4 | B57: ='Regeneration 5 cycles'!AC208 -> 0.41997545 | C57: ='Regeneration 5 cycles'!AK208 -> 0.96995386 | D57: ='Regeneration 5 cycles'!AC209 -> 0.051871743 | E57: ='Regeneration 5 cycles'!AK209 -> 0.055993521 | F57: ='Regeneration 5 cycles'!AD208 -> 0.79176124 | G57: ='Regeneration 5 cycles'!AL208 -> 1.051927 | H57: ='Regeneration 5 cycles'!AD209 -> 0.058806339 | I57: ='Regeneration 5 cycles'!AL209 -> 0.030317225 | J57: ='Regeneration 5 cycles'!AE208 -> 0.20003667 | K57: ='Regeneration 5 cycles'!AM208 -> 0.43566406 | L57: ='Regeneration 5 cycles'!AE209 -> 0.021971446 | M57: ='Regeneration 5 cycles'!AM209 -> 0.057026206 | N57: ='Regeneration 5 cycles'!AF208 -> 0.47059112 | O57: ='Regeneration 5 cycles'!AN208 -> 0.81918165 | P57: ='Regeneration 5 cycles'!AF209 -> 0.029568879 | Q57: ='Regeneration 5 cycles'!AN209 -> 0.047778984
A58: Cycle 5 | B58: ='Regeneration 5 cycles'!AC218 -> 0.39950603 | C58: ='Regeneration 5 cycles'!AK218 -> 1.0139524 | D58: ='Regeneration 5 cycles'!AC219 -> 0.037387655 | E58: ='Regeneration 5 cycles'!AK219 -> 0.081224675 | F58: ='Regeneration 5 cycles'!AD218 -> 0.80684684 | G58: ='Regeneration 5 cycles'!AL218 -> 0.95994339 | H58: ='Regeneration 5 cycles'!AD219 -> 0.011243961 | I58: ='Regeneration 5 cycles'!AL219 -> 0.0084373298 | J58: ='Regeneration 5 cycles'!AE218 -> 0.21728837 | K58: ='Regeneration 5 cycles'!AM218 -> 0.34923419 | L58: ='Regeneration 5 cycles'!AE219 -> 0.022951907 | M58: ='Regeneration 5 cycles'!AM219 -> 0.053001627 | N58: ='Regeneration 5 cycles'!AF218 -> 0.47454708 | O58: ='Regeneration 5 cycles'!AN218 -> 0.77437666 | P58: ='Regeneration 5 cycles'!AF219 -> 0.023861174 | Q58: ='Regeneration 5 cycles'!AN219 -> 0.012220126
A72: OS-UiO-66-F4
A73: PFAS type | B73: PFOA | F73: PFOS | J73: GenX | N73: Total
B74: Performance [%] | D74: Standard Deviation [%] | F74: Performance [%] | H74: Standard Deviation [%] | J74: Performance [%] | L74: Standard Deviation [%] | N74: Performance [%] | P74: Standard Deviation [%]
B75: Adsorption | C75: Regeneration | D75: Adsorption | E75: Regeneration | F75: Adsorption | G75: Regeneration | H75: Adsorption | I75: Regeneration | J75: Adsorption | K75: Regeneration | L75: Adsorption | M75: Regeneration | N75: Adsorption | O75: Regeneration | P75: Adsorption | Q75: Regeneration
A76: Cycle 1 | B76: ='Regeneration 5 cycles'!AC230 -> 0.52322967 | C76: ='Regeneration 5 cycles'!AK230 -> 0.74715754 | D76: ='Regeneration 5 cycles'!AC231 -> 0.032190242 | E76: ='Regeneration 5 cycles'!AK231 -> 0.021433477 | F76: ='Regeneration 5 cycles'!AD230 -> 0.89397292 | G76: ='Regeneration 5 cycles'!AL230 -> 0.9070967 | H76: ='Regeneration 5 cycles'!AD231 -> 0.027933744 | I76: ='Regeneration 5 cycles'!AL231 -> 0.023297238 | J76: ='Regeneration 5 cycles'!AE230 -> 0.16701017 | K76: ='Regeneration 5 cycles'!AM230 -> 0.56300016 | L76: ='Regeneration 5 cycles'!AE231 -> 0.059174342 | M76: ='Regeneration 5 cycles'!AM231 -> 0.058382389 | N76: ='Regeneration 5 cycles'!AF230 -> 0.52807092 | O76: ='Regeneration 5 cycles'!AN230 -> 0.7390848 | P76: ='Regeneration 5 cycles'!AF231 -> 0.00031654797 | Q76: ='Regeneration 5 cycles'!AN231 -> 0.034371035
A77: Cycle 2 | B77: ='Regeneration 5 cycles'!AC240 -> 0.64249289 | C77: ='Regeneration 5 cycles'!AK240 -> 0.90199007 | D77: ='Regeneration 5 cycles'!AC241 -> 0.02588318 | E77: ='Regeneration 5 cycles'!AK241 -> 0.0032370078 | F77: ='Regeneration 5 cycles'!AD240 -> 0.97797159 | G77: ='Regeneration 5 cycles'!AL240 -> 0.96667202 | H77: ='Regeneration 5 cycles'!AD241 -> 0.0068945692 | I77: ='Regeneration 5 cycles'!AL241 -> 0.063222643 | J77: ='Regeneration 5 cycles'!AE240 -> 0.11434807 | K77: ='Regeneration 5 cycles'!AM240 -> 0.68579032 | L77: ='Regeneration 5 cycles'!AE241 -> 0.014198126 | M77: ='Regeneration 5 cycles'!AM241 -> 0.077902228 | N77: ='Regeneration 5 cycles'!AF240 -> 0.57827085 | O77: ='Regeneration 5 cycles'!AN240 -> 0.85148414 | P77: ='Regeneration 5 cycles'!AF241 -> 0.011062246 | Q77: ='Regeneration 5 cycles'!AN241 -> 0.045962621
A78: Cycle 3 | B78: ='Regeneration 5 cycles'!AC250 -> 0.65209678 | C78: ='Regeneration 5 cycles'!AK250 -> 0.90588723 | D78: ='Regeneration 5 cycles'!AC251 -> 0.062089332 | E78: ='Regeneration 5 cycles'!AK251 -> 0.002519055 | F78: ='Regeneration 5 cycles'!AD250 -> 0.96619957 | G78: ='Regeneration 5 cycles'!AL250 -> 1.086135 | H78: ='Regeneration 5 cycles'!AD251 -> 0.018198065 | I78: ='Regeneration 5 cycles'!AL251 -> 0.040681771 | J78: ='Regeneration 5 cycles'!AE250 -> 0.14919464 | K78: ='Regeneration 5 cycles'!AM250 -> 0.67413561 | L78: ='Regeneration 5 cycles'!AE251 -> 0.012567398 | M78: ='Regeneration 5 cycles'!AM251 -> 0.041192748 | N78: ='Regeneration 5 cycles'!AF250 -> 0.58916367 | O78: ='Regeneration 5 cycles'!AN250 -> 0.88871927 | P78: ='Regeneration 5 cycles'!AF251 -> 0.022573333 | Q78: ='Regeneration 5 cycles'!AN251 -> 0.028131191
A79: Cycle 4 | B79: ='Regeneration 5 cycles'!AC260 -> 0.67847239 | C79: ='Regeneration 5 cycles'!AK260 -> 0.96409558 | D79: ='Regeneration 5 cycles'!AC261 -> 0.046281681 | E79: ='Regeneration 5 cycles'!AK261 -> 0.0019259038 | F79: ='Regeneration 5 cycles'!AD260 -> 0.97219718 | G79: ='Regeneration 5 cycles'!AL260 -> 1.0293512 | H79: ='Regeneration 5 cycles'!AD261 -> 0.00873478 | I79: ='Regeneration 5 cycles'!AL261 -> 0.0074408474 | J79: ='Regeneration 5 cycles'!AE260 -> 0.15128527 | K79: ='Regeneration 5 cycles'!AM260 -> 0.70333472 | L79: ='Regeneration 5 cycles'!AE261 -> 0.022785203 | M79: ='Regeneration 5 cycles'!AM261 -> 0.044442772 | N79: ='Regeneration 5 cycles'!AF260 -> 0.60065162 | O79: ='Regeneration 5 cycles'!AN260 -> 0.89892716 | P79: ='Regeneration 5 cycles'!AF261 -> 0.010743753 | Q79: ='Regeneration 5 cycles'!AN261 -> 0.011692007 | S79: try line graph
A80: Cycle 5 | B80: ='Regeneration 5 cycles'!AC270 -> 0.68811361 | C80: ='Regeneration 5 cycles'!AK270 -> 0.97968495 | D80: ='Regeneration 5 cycles'!AC271 -> 0.0099365848 | E80: ='Regeneration 5 cycles'!AK271 -> 0.041772827 | F80: ='Regeneration 5 cycles'!AD270 -> 0.98132378 | G80: ='Regeneration 5 cycles'!AL270 -> 1.0054338 | H80: ='Regeneration 5 cycles'!AD271 -> 0.0022292375 | I80: ='Regeneration 5 cycles'!AL271 -> 0.0061430676 | J80: ='Regeneration 5 cycles'!AE270 -> 0.2003308 | K80: ='Regeneration 5 cycles'!AM270 -> 0.54745923 | L80: ='Regeneration 5 cycles'!AE271 -> 0.0080209732 | M80: ='Regeneration 5 cycles'!AM271 -> 0.03119875 | N80: ='Regeneration 5 cycles'!AF270 -> 0.62325606 | O80: ='Regeneration 5 cycles'!AN270 -> 0.84419266 | P80: ='Regeneration 5 cycles'!AF271 -> 0.0067289319 | Q80: ='Regeneration 5 cycles'!AN271 -> 0.0055723815
A94: Comparison -H vs OS-H, -F4 vs OS-F4, OS-H vs OS-F4
A95: PFAS type | B95: PFOA | F95: PFOS | J95: GenX | N95: Total
B96: Performance [%] | D96: Standard Deviation [%] | F96: Performance [%] | H96: Standard Deviation [%] | J96: Performance [%] | L96: Standard Deviation [%] | N96: Performance [%] | P96: Standard Deviation [%]
B97: Adsorption | C97: Regeneration | D97: Adsorption | E97: Regeneration | F97: Adsorption | G97: Regeneration | H97: Adsorption | I97: Regeneration | J97: Adsorption | K97: Regeneration | L97: Adsorption | M97: Regeneration | N97: Adsorption | O97: Regeneration | P97: Adsorption | Q97: Regeneration
A98: UiO-66-H | B98: =W31 -> 0.30907802 | C98: =W35 -> 0.9106605 | D98: =AD31 -> 0.043545879 | E98: =AD35 -> 0.013733309 | F98: =W32 -> 0.71490565 | G98: =W36 -> 1.0043657 | H98: =AD32 -> 0.033020559 | I98: =AD36 -> 0.03632733 | J98: =W33 -> 0.1329454 | K98: =W37 -> 0.67096447 | L98: =AD33 -> 0.019249956 | M98: =AD37 -> 0.18593436 | N98: =W30 -> 0.41723383 | O98: =W34 -> 0.94986506 | P98: =AD30 -> 0.021560026 | Q98: =AD34 -> 0.048473818
A99: UiO-66-F4 | B99: =X31 -> 0.51679419 | C99: =X35 -> 0.87954904 | D99: =AE31 -> 0.025630004 | E99: =AE35 -> 0.023700006 | F99: =X32 -> 0.90394981 | G99: =X36 -> 0.99465445 | H99: =AE32 -> 0.028688339 | I99: =AE36 -> 0.029418403 | J99: =X33 -> 0.14612293 | K99: =X37 -> 0.44722968 | L99: =AE33 -> 0.0090969529 | M99: =AE37 -> 0.035464769 | N99: =X30 -> 0.56227462 | O99: =X34 -> 0.91970585 | P99: =AE30 -> 0.022115492 | Q99: =AE34 -> 0.021628105
A100: OS-UiO-66-H | B100: =Y31 -> 0.42083389 | C100: =Y35 -> 0.94820992 | D100: =AF31 -> 0.015960959 | E100: =AF35 -> 0.02923441 | F100: =Y32 -> 0.79541222 | G100: =Y36 -> 0.98999349 | H100: =AF32 -> 0.006438213 | I100: =AF36 -> 0.03237285 | J100: =Y33 -> 0.1767758 | K100: =Y37 -> 0.55284413 | L100: =AF33 -> 0.0012167533 | M100: =AF37 -> 0.040769394 | N100: =Y30 -> 0.49745918 | O100: =Y34 -> 0.93425184 | P100: =AF30 -> 0.0030252347 | Q100: =AF34 -> 0.023707377
A101: OS-UiO-66-F4 | B101: =Z31 -> 0.63806649 | C101: =Z35 -> 0.90880388 | D101: =AG31 -> 0.021011578 | E101: =AG35 -> 0.013068136 | F101: =Z32 -> 0.96109997 | G101: =Z36 -> 1.0029689 | H101: =AG32 -> 0.011126529 | I101: =AG36 -> 0.018578633 | J101: =Z33 -> 0.1571414 | K101: =Z37 -> 0.63261324 | L101: =AG33 -> 0.022923173 | M101: =AG37 -> 0.15312633 | N101: =Z30 -> 0.62714093 | O101: =Z34 -> 0.94451015 | P101: =AG30 -> 0.0046458727 | Q101: =AG34 -> 0.020969349

Sheet Final plots
A1: PRELIMINARY RECOVERY %
B3: MeOH | F3: MeOH-NaCl | J3: Acetone
B4: PFOA | C4: PFOS | D4: GenX | E4: Total | F4: PFOA | G4: PFOS | H4: GenX | I4: Total | J4: PFOA | K4: PFOS | L4: GenX | M4: Total
A5: UiO-66-H | B5: ='Regeneration Prelim.'!H30 -> 0.40370181 | C5: ='Regeneration Prelim.'!I30 -> 0.8620896 | D5: ='Regeneration Prelim.'!J30 -> 0.26045996 | E5: ='Regeneration Prelim.'!H31 -> 0.66117229 | F5: ='Regeneration Prelim.'!Q30 -> 0.61105723 | G5: ='Regeneration Prelim.'!R30 -> 0.91033448 | H5: ='Regeneration Prelim.'!S30 -> 0.39138538 | I5: ='Regeneration Prelim.'!Q31 -> 0.75505901 | J5: ='Regeneration Prelim.'!Z30 -> 0.32046302 | K5: ='Regeneration Prelim.'!AA30 -> 1.0386036 | L5: ='Regeneration Prelim.'!AB30 -> 0.057236019 | M5: ='Regeneration Prelim.'!Z31 -> 0.68646581
A6: UiO-66-H-OS | B6: ='Regeneration Prelim.'!H54 -> 0.43405731 | C6: ='Regeneration Prelim.'!I54 -> 1.0234887 | D6: ='Regeneration Prelim.'!J54 -> 0.44278076 | E6: ='Regeneration Prelim.'!H55 -> 0.75953992 | F6: ='Regeneration Prelim.'!Q54 -> 0.69829794 | G6: ='Regeneration Prelim.'!R54 -> 1.019673 | H6: ='Regeneration Prelim.'!S54 -> 0.49172422 | I6: ='Regeneration Prelim.'!Q55 -> 0.8380207 | J6: ='Regeneration Prelim.'!Z54 -> 0.32429965 | K6: ='Regeneration Prelim.'!AA54 -> 1.0096032 | L6: ='Regeneration Prelim.'!AB54 -> 0.032547859 | M6: ='Regeneration Prelim.'!Z55 -> 0.67610182
A7: UiO-66-F4 | B7: ='Regeneration Prelim.'!H42 -> 0.57433229 | C7: ='Regeneration Prelim.'!I42 -> 1.0347894 | D7: ='Regeneration Prelim.'!J42 -> 0.17391405 | E7: ='Regeneration Prelim.'!H43 -> 0.81858991 | F7: ='Regeneration Prelim.'!Q42 -> 0.52884658 | G7: ='Regeneration Prelim.'!R42 -> 0.9102746 | H7: ='Regeneration Prelim.'!S42 -> 0.24394075 | I7: ='Regeneration Prelim.'!Q43 -> 0.75779029 | J7: ='Regeneration Prelim.'!Z42 -> 0.36463227 | K7: ='Regeneration Prelim.'!AA42 -> 0.95882064 | L7: ='Regeneration Prelim.'!AB42 -> 0.14561842 | M7: ='Regeneration Prelim.'!Z43 -> 0.75155803
A8: UiO-66-F4-OS | B8: ='Regeneration Prelim.'!H66 -> 0.62197768 | C8: ='Regeneration Prelim.'!I66 -> 0.95273986 | D8: ='Regeneration Prelim.'!J66 -> 0.63331332 | E8: ='Regeneration Prelim.'!H67 -> 0.83317007 | F8: ='Regeneration Prelim.'!Q66 -> 0.75334788 | G8: ='Regeneration Prelim.'!R66 -> 1.0272546 | H8: ='Regeneration Prelim.'!S66 -> 0.3996837 | I8: ='Regeneration Prelim.'!Q67 -> 0.89756341 | J8: ='Regeneration Prelim.'!Z66 -> 0.40195067 | K8: ='Regeneration Prelim.'!AA66 -> 1.022783 | L8: ='Regeneration Prelim.'!AB66 -> 0.059988523 | M8: ='Regeneration Prelim.'!Z67 -> 0.74526313 | AS8: HEAT MAP PRELIMINARY RECOVERY %
C11: PFOA | F11: PFOS | I11: GenX | L11: Total PFAS | AU11: PFOA | AY11: PFOS | BC11: GenX | BG11: Total PFAS
C12: MeOH | D12: MeOH-NaCl | E12: Acetone | F12: MeOH | G12: MeOH-NaCl | H12: Acetone | I12: MeOH | J12: MeOH-NaCl | K12: Acetone | L12: MeOH | M12: MeOH-NaCl | N12: Acetone | AU12: MeOH | AV12: MeOH-NaCl | AW12: Acetone | AY12: MeOH | AZ12: MeOH-NaCl | BA12: Acetone | BC12: MeOH | BD12: MeOH-NaCl | BE12: Acetone | BG12: MeOH | BH12: MeOH-NaCl | BI12: Acetone
A13: UiO-66 | B13: UiO-66 | C13: 0.40370181 | D13: 0.61105723 | E13: 0.32046302 | F13: 0.8620896 | G13: 0.91033448 | H13: 1.0386036 | I13: 0.26045996 | J13: 0.39138538 | K13: 0.057236019 | L13: 0.66117229 | M13: 0.75505901 | N13: 0.68646581 | AS13: UiO-66 | AT13: UiO-66 | AU13: 0.40370181 | AV13: 0.61105723 | AW13: 0.32046302 | AY13: 0.8620896 | AZ13: 0.91033448 | BA13: 1.0386036 | BC13: 0.26045996 | BD13: 0.39138538 | BE13: 0.057236019 | BG13: 0.66117229 | BH13: 0.75505901 | BI13: 0.68646581 | BJ13: Column Width=4.86 | BU13: LEGEND
B14: UiO-66-OS | C14: 0.43405731 | D14: 0.69829794 | E14: 0.32429965 | F14: 1.0234887 | G14: 1.019673 | H14: 1.0096032 | I14: 0.44278076 | J14: 0.49172422 | K14: 0.032547859 | L14: 0.75953992 | M14: 0.8380207 | N14: 0.67610182 | AT14: UiO-66-OS | AU14: 0.43405731 | AV14: 0.69829794 | AW14: 0.32429965 | AY14: 1.0234887 | AZ14: 1.019673 | BA14: 1.0096032 | BC14: 0.44278076 | BD14: 0.49172422 | BE14: 0.032547859 | BG14: 0.75953992 | BH14: 0.8380207 | BI14: 0.67610182
B15: UiO-66-(F)4 | C15: 0.57433229 | D15: 0.52884658 | E15: 0.36463227 | F15: 1.0347894 | G15: 0.9102746 | H15: 0.95882064 | I15: 0.17391405 | J15: 0.24394075 | K15: 0.14561842 | L15: 0.81858991 | M15: 0.75779029 | N15: 0.75155803 | AT15: UiO-66-(F)4 | AU15: 0.57433229 | AV15: 0.52884658 | AW15: 0.36463227 | AY15: 1.0347894 | AZ15: 0.9102746 | BA15: 0.95882064 | BC15: 0.17391405 | BD15: 0.24394075 | BE15: 0.14561842 | BG15: 0.81858991 | BH15: 0.75779029 | BI15: 0.75155803 | BK15: 0 | BL15: =BK15+2 -> 2 | BM15: =BL15+2 -> 4 | BN15: =BM15+2 -> 6 | BO15: =BN15+2 -> 8 | BP15: =BO15+2 -> 10 | BQ15: =BP15+2 -> 12 | BR15: =BQ15+2 -> 14 | BS15: =BR15+2 -> 16 | ... DI15: =DH15+2 -> 100 | DK15: Column width=0.42
B16: UiO-66-(F)4-OS | C16: 0.62197768 | D16: 0.75334788 | E16: 0.40195067 | F16: 0.95273986 | G16: 1.0272546 | H16: 1.022783 | I16: 0.63331332 | J16: 0.3996837 | K16: 0.059988523 | L16: 0.83317007 | M16: 0.89756341 | N16: 0.74526313 | AT16: UiO-66-(F)4-OS | AU16: 0.62197768 | AV16: 0.75334788 | AW16: 0.40195067 | AY16: 0.95273986 | AZ16: 1.0272546 | BA16: 1.022783 | BC16: 0.63331332 | BD16: 0.3996837 | BE16: 0.059988523 | BG16: 0.83317007 | BH16: 0.89756341 | BI16: 0.74526313 | BK16: 0 | CH16: 0.5 | DA16: >100%
C19: Adsorption % | H19: Recovery % | P19: Adsorption % | U19: Recovery % | AD19: Adsorption % | AL19: Recovery %
C22: PFOA | D22: PFOS | E22: GenX | F22: Total | H22: PFOA | I22: PFOS | J22: GenX | K22: Total | P22: PFOA | Q22: PFOS | R22: GenX | S22: Total | U22: PFOA | V22: PFOS | W22: GenX | X22: Total | AD22: PFOA | AF22: PFOS | AH22: GenX | AJ22: Total | AL22: PFOA | AN22: PFOS | AP22: GenX | AR22: Total
G23: Cycle | T23: Cycle | AK23: Cycle
A24: UiO-66 | B24: UiO-66 | C24: 0.18953704 | D24: 0.58861672 | E24: 0.093170324 | F24: 0.29044136 | G24: 1 | H24: 0.81429712 | I24: 0.86529793 | J24: 0.87236137 | K24: 0.85065214 | N24: UiO-66 | O24: UiO-66 | P24: 0.18953704 | Q24: 0.58861672 | R24: 0.093170324 | S24: 0.29044136 | T24: 1 | U24: 0.81429712 | V24: 0.86529793 | W24: 0.87236137 | X24: 0.85065214 | AA24: UiO-66 | AB24: UiO-66 | AD24: 0.18953704 | AF24: 0.58861672 | AH24: 0.093170324 | AJ24: 0.29044136 | AK24: 1 | AL24: 0.81429712 | AN24: 0.86529793 | AP24: 0.87236137 | AR24: 0.85065214
C25: 0.39845222 | D25: 0.86443737 | E25: 0.11384293 | F25: 0.45891084 | G25: 2 | H25: 0.87409186 | I25: 0.98751451 | J25: 0.85643727 | K25: 0.90601455 | P25: 0.39845222 | Q25: 0.86443737 | R25: 0.11384293 | S25: 0.45891084 | T25: 2 | U25: 0.87409186 | V25: 0.98751451 | W25: 0.85643727 | X25: 0.90601455 | AD25: 0.39845222 | AF25: 0.86443737 | AH25: 0.11384293 | AJ25: 0.45891084 | AK25: 2 | AL25: 0.87409186 | AN25: 0.98751451 | AP25: 0.85643727 | AR25: 0.90601455
C26: 0.31595841 | D26: 0.74477764 | E26: 0.12670389 | F26: 0.39581331 | G26: 3 | H26: 0.88128374 | I26: 1.0662223 | J26: 0.78022327 | K26: 0.90924312 | P26: 0.31595841 | Q26: 0.74477764 | R26: 0.12670389 | S26: 0.39581331 | T26: 3 | U26: 0.88128374 | V26: 1.0662223 | W26: 0.78022327 | X26: 0.90924312 | AD26: 0.31595841 | AF26: 0.74477764 | AH26: 0.12670389 | AJ26: 0.39581331 | AK26: 3 | AL26: 0.88128374 | AN26: 1.0662223 | AP26: 0.78022327 | AR26: 0.90924312
C27: 0.32293672 | D27: 0.67685245 | E27: 0.15326946 | F27: 0.38435287 | G27: 4 | H27: 0.98516084 | I27: 1.1103336 | J27: 0.57008808 | K27: 0.8885275 | P27: 0.32293672 | Q27: 0.67685245 | R27: 0.15326946 | S27: 0.38435287 | T27: 4 | U27: 0.98516084 | V27: 1.1103336 | W27: 0.57008808 | X27: 0.8885275 | AD27: 0.32293672 | AF27: 0.67685245 | AH27: 0.15326946 | AJ27: 0.38435287 | AK27: 4 | AL27: 0.98516084 | AN27: 1.1103336 | AP27: 0.57008808 | AR27: 0.8885275
C28: 0.31164272 | D28: 0.66999833 | E28: 0.17250889 | F28: 0.38471664 | G28: 5 | H28: 0.97291452 | I28: 0.96136357 | J28: 0.45035463 | K28: 0.79487757 | P28: 0.31164272 | Q28: 0.66999833 | R28: 0.17250889 | S28: 0.38471664 | T28: 5 | U28: 0.97291452 | V28: 0.96136357 | W28: 0.45035463 | X28: 0.79487757 | AD28: 0.31164272 | AF28: 0.66999833 | AH28: 0.17250889 | AJ28: 0.38471664 | AK28: 5 | AL28: 0.97291452 | AN28: 0.96136357 | AP28: 0.45035463 | AR28: 0.79487757
B30: UiO-66-OS | C30: 0.22967337 | D30: 0.54921878 | E30: 0.14742563 | F30: 0.30877259 | G30: 1 | H30: 0.94576423 | I30: 0.98573558 | J30: 0.57422566 | K30: 0.83524182 | O30: UiO-66-OS | P30: 0.22967337 | Q30: 0.54921878 | R30: 0.14742563 | S30: 0.30877259 | T30: 1 | U30: 0.94576423 | V30: 0.98573558 | W30: 0.57422566 | X30: 0.83524182 | AB30: UiO-66-OS | AD30: 0.22967337 | AF30: 0.54921878 | AH30: 0.14742563 | AJ30: 0.30877259 | AK30: 1 | AL30: 0.94576423 | AN30: 0.98573558 | AP30: 0.57422566 | AR30: 0.83524182
C31: 0.57847042 | D31: 0.92353625 | E31: 0.16061017 | F31: 0.55420561 | G31: 2 | H31: 0.85941242 | I31: 0.93268942 | J31: 0.9031661 | K31: 0.89842265 | P31: 0.57847042 | Q31: 0.92353625 | R31: 0.16061017 | S31: 0.55420561 | T31: 2 | U31: 0.85941242 | V31: 0.93268942 | W31: 0.9031661 | X31: 0.89842265 | AD31: 0.57847042 | AF31: 0.92353625 | AH31: 0.16061017 | AJ31: 0.55420561 | AK31: 2 | AL31: 0.85941242 | AN31: 0.93268942 | AP31: 0.9031661 | AR31: 0.89842265
C32: 0.46421944 | D32: 0.85339435 | E32: 0.15368873 | F32: 0.49043417 | G32: 3 | H32: 0.97872745 | I32: 1.0295119 | J32: 0.67458633 | K32: 0.89427522 | P32: 0.46421944 | Q32: 0.85339435 | R32: 0.15368873 | S32: 0.49043417 | T32: 3 | U32: 0.97872745 | V32: 1.0295119 | W32: 0.67458633 | X32: 0.89427522 | AD32: 0.46421944 | AF32: 0.85339435 | AH32: 0.15368873 | AJ32: 0.49043417 | AK32: 3 | AL32: 0.97872745 | AN32: 1.0295119 | AP32: 0.67458633 | AR32: 0.89427522
C33: 0.41997545 | D33: 0.79176124 | E33: 0.20003667 | F33: 0.47059112 | G33: 4 | H33: 0.96995386 | I33: 1.051927 | J33: 0.43566406 | K33: 0.81918165 | P33: 0.41997545 | Q33: 0.79176124 | R33: 0.20003667 | S33: 0.47059112 | T33: 4 | U33: 0.96995386 | V33: 1.051927 | W33: 0.43566406 | X33: 0.81918165 | AD33: 0.41997545 | AF33: 0.79176124 | AH33: 0.20003667 | AJ33: 0.47059112 | AK33: 4 | AL33: 0.96995386 | AN33: 1.051927 | AP33: 0.43566406 | AR33: 0.81918165
C34: 0.39950603 | D34: 0.80684684 | E34: 0.21728837 | F34: 0.47454708 | G34: 5 | H34: 1.0139524 | I34: 0.95994339 | J34: 0.34923419 | K34: 0.77437666 | P34: 0.39950603 | Q34: 0.80684684 | R34: 0.21728837 | S34: 0.47454708 | T34: 5 | U34: 1.0139524 | V34: 0.95994339 | W34: 0.34923419 | X34: 0.77437666 | AD34: 0.39950603 | AF34: 0.80684684 | AH34: 0.21728837 | AJ34: 0.47454708 | AK34: 5 | AL34: 1.0139524 | AN34: 0.95994339 | AP34: 0.34923419 | AR34: 0.77437666
B36: UiO-66-(F)4 | C36: 0.36687883 | D36: 0.7576167 | E36: 0.1059862 | F36: 0.41016058 | G36: 1 | H36: 0.79087452 | I36: 0.97934332 | J36: 0.44512742 | K36: 0.73844842 | O36: UiO-66-(F)4 | P36: 0.36687883 | Q36: 0.7576167 | R36: 0.1059862 | S36: 0.41016058 | T36: 1 | U36: 0.79087452 | V36: 0.97934332 | W36: 0.44512742 | X36: 0.73844842 | AB36: UiO-66-(F)4 | AD36: 0.36687883 | AF36: 0.7576167 | AH36: 0.1059862 | AJ36: 0.41016058 | AK36: 1 | AL36: 0.79087452 | AN36: 0.97934332 | AP36: 0.44512742 | AR36: 0.73844842
C37: 0.57311325 | D37: 0.95663728 | E37: 0.11079107 | F37: 0.5468472 | G37: 2 | H37: 0.81780254 | I37: 0.97711149 | J37: 0.54393574 | K37: 0.77961659 | P37: 0.57311325 | Q37: 0.95663728 | R37: 0.11079107 | S37: 0.5468472 | T37: 2 | U37: 0.81780254 | V37: 0.97711149 | W37: 0.54393574 | X37: 0.77961659 | AD37: 0.57311325 | AF37: 0.95663728 | AH37: 0.11079107 | AJ37: 0.5468472 | AK37: 2 | AL37: 0.81780254 | AN37: 0.97711149 | AP37: 0.54393574 | AR37: 0.77961659
C38: 0.56353461 | D38: 0.94232745 | E38: 0.15767443 | F38: 0.55451217 | G38: 3 | H38: 0.85166976 | I38: 0.97224995 | J38: 0.43757964 | K38: 0.75383312 | P38: 0.56353461 | Q38: 0.94232745 | R38: 0.15767443 | S38: 0.55451217 | T38: 3 | U38: 0.85166976 | V38: 0.97224995 | W38: 0.43757964 | X38: 0.75383312 | AD38: 0.56353461 | AF38: 0.94232745 | AH38: 0.15767443 | AJ38: 0.55451217 | AK38: 3 | AL38: 0.85166976 | AN38: 0.97224995 | AP38: 0.43757964 | AR38: 0.75383312
C39: 0.53446335 | D39: 0.9073715 | E39: 0.15938074 | F39: 0.53373853 | G39: 4 | H39: 0.93243253 | I39: 1.0462782 | J39: 0.46759995 | K39: 0.81543688 | P39: 0.53446335 | Q39: 0.9073715 | R39: 0.15938074 | S39: 0.53373853 | T39: 4 | U39: 0.93243253 | V39: 1.0462782 | W39: 0.46759995 | X39: 0.81543688 | AD39: 0.53446335 | AF39: 0.9073715 | AH39: 0.15938074 | AJ39: 0.53373853 | AK39: 4 | AL39: 0.93243253 | AN39: 1.0462782 | AP39: 0.46759995 | AR39: 0.81543688
C40: 0.53662391 | D40: 0.92542952 | E40: 0.19084605 | F40: 0.5509665 | G40: 5 | H40: 0.98200898 | I40: 0.99819986 | J40: 0.3909326 | K40: 0.79038048 | P40: 0.53662391 | Q40: 0.92542952 | R40: 0.19084605 | S40: 0.5509665 | T40: 5 | U40: 0.98200898 | V40: 0.99819986 | W40: 0.3909326 | X40: 0.79038048 | AD40: 0.53662391 | AF40: 0.92542952 | AH40: 0.19084605 | AJ40: 0.5509665 | AK40: 5 | AL40: 0.98200898 | AN40: 0.99819986 | AP40: 0.3909326 | AR40: 0.79038048
B42: UiO-66-(F)4-OS | C42: 0.52322967 | D42: 0.89397292 | E42: 0.16701017 | F42: 0.52807092 | G42: 1 | H42: 0.74715754 | I42: 0.9070967 | J42: 0.56300016 | K42: 0.7390848 | O42: UiO-66-(F)4-OS | P42: 0.52322967 | Q42: 0.89397292 | R42: 0.16701017 | S42: 0.52807092 | T42: 1 | U42: 0.74715754 | V42: 0.9070967 | W42: 0.56300016 | X42: 0.7390848 | AB42: UiO-66-(F)4-OS | AD42: 0.52322967 | AF42: 0.89397292 | AH42: 0.16701017 | AJ42: 0.52807092 | AK42: 1 | AL42: 0.74715754 | AN42: 0.9070967 | AP42: 0.56300016 | AR42: 0.7390848
C43: 0.64249289 | D43: 0.97797159 | E43: 0.11434807 | F43: 0.57827085 | G43: 2 | H43: 0.90199007 | I43: 0.96667202 | J43: 0.68579032 | K43: 0.85148414 | P43: 0.64249289 | Q43: 0.97797159 | R43: 0.11434807 | S43: 0.57827085 | T43: 2 | U43: 0.90199007 | V43: 0.96667202 | W43: 0.68579032 | X43: 0.85148414 | AD43: 0.64249289 | AF43: 0.97797159 | AH43: 0.11434807 | AJ43: 0.57827085 | AK43: 2 | AL43: 0.90199007 | AN43: 0.96667202 | AP43: 0.68579032 | AR43: 0.85148414
C44: 0.65209678 | D44: 0.96619957 | E44: 0.14919464 | F44: 0.58916367 | G44: 3 | H44: 0.90588723 | I44: 1.086135 | J44: 0.67413561 | K44: 0.88871927 | P44: 0.65209678 | Q44: 0.96619957 | R44: 0.14919464 | S44: 0.58916367 | T44: 3 | U44: 0.90588723 | V44: 1.086135 | W44: 0.67413561 | X44: 0.88871927 | AD44: 0.65209678 | AF44: 0.96619957 | AH44: 0.14919464 | AJ44: 0.58916367 | AK44: 3 | AL44: 0.90588723 | AN44: 1.086135 | AP44: 0.67413561 | AR44: 0.88871927
C45: 0.67847239 | D45: 0.97219718 | E45: 0.15128527 | F45: 0.60065162 | G45: 4 | H45: 0.96409558 | I45: 1.0293512 | J45: 0.70333472 | K45: 0.89892716 | P45: 0.67847239 | Q45: 0.97219718 | R45: 0.15128527 | S45: 0.60065162 | T45: 4 | U45: 0.96409558 | V45: 1.0293512 | W45: 0.70333472 | X45: 0.89892716 | AD45: 0.67847239 | AF45: 0.97219718 | AH45: 0.15128527 | AJ45: 0.60065162 | AK45: 4 | AL45: 0.96409558 | AN45: 1.0293512 | AP45: 0.70333472 | AR45: 0.89892716
C46: 0.68811361 | D46: 0.98132378 | E46: 0.2003308 | F46: 0.62325606 | G46: 5 | H46: 0.97968495 | I46: 1.0054338 | J46: 0.54745923 | K46: 0.84419266 | P46: 0.68811361 | Q46: 0.98132378 | R46: 0.2003308 | S46: 0.62325606 | T46: 5 | U46: 0.97968495 | V46: 1.0054338 | W46: 0.54745923 | X46: 0.84419266 | AD46: 0.68811361 | AF46: 0.98132378 | AH46: 0.2003308 | AJ46: 0.62325606 | AK46: 5 | AL46: 0.97968495 | AN46: 1.0054338 | AP46: 0.54745923 | AR46: 0.84419266
C47: MAX= | D47: =MAX(C24:F46) -> 0.98132378 | H47: MAX= | I47: =MAX(H24:K46) -> 1.1103336
C48: MIN= | D48: =MIN(C24:F46) -> 0.093170324 | H48: MIN= | I48: =MIN(H24:K46) -> 0.34923419
H49: MEAN | I49: =AVERAGE(H24:K46) -> 0.83354682
A51: TOTAL PFAS ADSORPTION AND REGENERATION & THEIR STANDARD DEVIATIONS
A54: Cycles | B54: UiO-66 | F54: UiO-66-OS | J54: UiO-66-(F)4 | N54: UiO-66-(F)4-OS
B55: Avg. Ads. | C55: Std. Dev. | D55: Avg. Des. | E55: Std. Dev. | F55: Avg. Ads. | G55: Std. Dev. | H55: Avg. Des. | I55: Std. Dev. | J55: Avg. Ads. | K55: Std. Dev. | L55: Avg. Des. | M55: Std. Dev. | N55: Avg. Ads. | O55: Std. Dev. | P55: Avg. Des. | Q55: Std. Dev.
A56: 1 | B56: 0.29044136 | C56: 0.053444864 | D56: 0.85065214 | E56: 0.01124739 | F56: 0.30877259 | G56: 0.090285756 | H56: 0.83524182 | I56: 0.014635968 | J56: 0.41016058 | K56: 0.028908515 | L56: 0.73844842 | M56: 0.0080680038 | N56: 0.52807092 | O56: 0.00031654797 | P56: 0.7390848 | Q56: 0.034371035
A57: 2 | B57: 0.45891084 | C57: 0.021535416 | D57: 0.90601455 | E57: 0.048770608 | F57: 0.55420561 | G57: 0.01312693 | H57: 0.89842265 | I57: 0.011549044 | J57: 0.5468472 | K57: 0.016784483 | L57: 0.77961659 | M57: 0.0019758094 | N57: 0.57827085 | O57: 0.011062246 | P57: 0.85148414 | Q57: 0.045962621
A58: 3 | B58: 0.39581331 | C58: 0.011251513 | D58: 0.90924312 | E58: 0.05168698 | F58: 0.49043417 | G58: 0.030764119 | H58: 0.89427522 | I58: 0.056708412 | J58: 0.55451217 | K58: 0.016966797 | L58: 0.75383312 | M58: 0.0070081671 | N58: 0.58916367 | O58: 0.022573333 | P58: 0.88871927 | Q58: 0.028131191
A59: 4 | B59: 0.38435287 | C59: 0.048423015 | D59: 0.8885275 | E59: 0.043454237 | F59: 0.47059112 | G59: 0.029568879 | H59: 0.81918165 | I59: 0.047778984 | J59: 0.53373853 | K59: 0.017936032 | L59: 0.81543688 | M59: 0.013914211 | N59: 0.60065162 | O59: 0.010743753 | P59: 0.89892716 | Q59: 0.011692007
A60: 5 | B60: 0.38471664 | C60: 0.009193883 | D60: 0.79487757 | E60: 0.016536383 | F60: 0.47454708 | G60: 0.023861174 | H60: 0.77437666 | I60: 0.012220126 | J60: 0.5509665 | K60: 0.026978108 | L60: 0.79038048 | M60: 0.0032192461 | N60: 0.62325606 | O60: 0.0067289319 | P60: 0.84419266 | Q60: 0.0055723815
DJ83: 0 | DK83: 0
DJ84: =DJ83+2 -> 2
DJ85: 1
DJ86: =DJ85+2 -> 3
DJ87: 2
DJ88: =DJ87+2 -> 4
DJ89: 3
DJ90: =DJ89+2 -> 5
DJ91: 4
DJ92: =DJ91+2 -> 6
DJ93: 5
DJ94: =DJ93+2 -> 7
DJ95: 6
DJ96: =DJ95+2 -> 8
DJ97: 7
DJ98: =DJ97+2 -> 9
DJ99: 8
DJ100: =DJ99+2 -> 10
DJ101: 9
DJ102: =DJ101+2 -> 11
DJ103: 10
DJ104: =DJ103+2 -> 12
DJ105: 11
DJ106: =DJ105+2 -> 13
DJ107: 12 | DK107: 0.5
DJ108: =DJ107+2 -> 14
DJ109: 13
DJ110: =DJ109+2 -> 15
DJ111: 14
DJ112: =DJ111+2 -> 16
DJ113: 15
DJ114: =DJ113+2 -> 17
DJ115: 16
DJ116: =DJ115+2 -> 18
DJ117: 17
DJ118: =DJ117+2 -> 19
DJ119: 18
DJ120: =DJ119+2 -> 20
DJ121: 19
DJ122: =DJ121+2 -> 21
DJ123: 20
DJ124: =DJ123+2 -> 22
DJ125: 21
DJ126: =DJ125+2 -> 23
DJ127: 22
DJ128: =DJ127+2 -> 24
DJ129: 23
DJ130: =DJ129+2 -> 25
DJ131: 24 | DK131: >100%
DJ132: =DJ131+2 -> 26
DJ133: 25
