{"text_format":"1","workbook":"xlsx","n_sheets":13,"sheets":["2W","3W","4Wreg","4Wsuv","4Wtaxi","BUS","HDV","LDV","NRDV","summary","summary2","method","parameters"],"not_rendered":{"charts":9,"images":1,"macros":1,"external_links":0,"defined_names":0,"comments":0,"pivot_tables":0},"unopened":[],"bounds":{"document_bytes":16777216,"sheet_cells":100000,"rows_first":2000,"rows_last":500,"rows_between":2000,"halvings":0,"cell_chars":16384,"cell_head_chars":4096},"cells_cut":0,"cells_raw":0,"read":"whole","date_system":"1900"}

{"sheet":"2W","index":0,"n_rows":41,"n_cols":32,"rows_kept":41,"cut":false,"hidden":false,"merged":[]}
[null,null,null,null,null,null,null,null,null,null,null,"Low = very urban",null,null,null,"alpha",null,null,"beta",null,null,"T"]
[null,null,"a",0.1,"a",0.3,"a",0.5,null,null,null,null,null,null,null,{"$f":"H2","v":0.5},{"$f":"F2","v":0.3},{"$f":"D2","v":0.1},{"$f":"H3","v":3.1},{"$f":"F3","v":3.1},{"$f":"D3","v":3.1},{"$f":"H4","v":8},{"$f":"F4","v":10},{"$f":"D4","v":14}]
[null,null,"b",3.1,"b",3.1,"b",3.1]
[null,null,"T",14,"T",10,"T",8]
[null,null,null,"High",null,"Medium",null,"Low"]
[null,0,null,1,null,1,null,1]
[null,1,{"$f":"(B7+$D$2)/$D$4","v":7.8571428571428584E-2},{"$f":"EXP(-(C7^$D$3))","v":0.99962395593072184},{"$f":"(B7+$F$2)/$F$4","v":0.13},{"$f":"EXP(-(E7^$F$3))","v":0.99821007256728356},{"$f":"(B7+$H$2)/($H$4)","v":0.1875},{"$f":"EXP(-(G7^$H$3))","v":0.99443975734045464}]
[null,2,{"$f":"(B8+$D$2)/$D$4","v":0.15},{"$f":"EXP(-(C8^$D$3))","v":0.99721210242313008},0.22999999999999998,0.98955093657503257,{"$f":"(B8+$H$2)/($H$4)","v":0.3125},{"$f":"EXP(-(G8^$H$3))","v":0.97319910650613128}]
[null,3,0.22142857142857145,0.99070609273181665,0.32999999999999996,0.96834609902139246,0.4375,0.92580095078005475]
[null,4,0.29285714285714282,0.97803059998929787,0.43,0.92953371067688517,0.5625,0.84533076201309976]
[null,5,0.36428571428571427,0.9572421271366931,0.53,0.86960263572861962,0.6875,0.73124936435816645]
[null,6,0.43571428571428567,0.92670064241583916,0.63,0.78760642496801048,0.8125,0.59134570281307786]
[null,7,0.50714285714285712,0.88526166675167151,0.73,0.68594017833491328,0.9375,0.44101608846344886]
[null,8,0.57857142857142851,0.83246769347497218,0.83000000000000007,0.57050601756577102,1.0625,0.29916599995680576]
[null,9,0.65,0.76870667404893334,0.93,0.4499850787363931,1.1875,0.1820294839433666]
[null,10,0.72142857142857142,0.6952998618405275,1.03,0.33421801863868855,1.3125,9.7948467999535008E-2]
[null,11,0.79285714285714282,0.61448400892792709,1.1300000000000001,0.23208770272368506,1.4375,4.5948296477402756E-2]
[null,12,0.86428571428571421,0.52926577375047668,1.23,0.14959986955023064,1.5625,1.852195780942846E-2]
[null,13,0.93571428571428572,0.44314887287862659,1.33,8.8859831543264961E-2,1.6875,6.3230270151600687E-3]
[null,14,1.0071428571428571,0.35976315616015775,1.4300000000000002,4.8282244395587225E-2,1.8125,1.8013906833625028E-3]
[null,15,1.0785714285714285,0.28245215375356364,1.53,2.3821303229031976E-2,1.9375,4.2199964671559259E-4]
[null,16,1.1500000000000001,0.2138928098190257,1.6300000000000001,1.0592672017782122E-2,2.0625,8.0088399794453005E-5]
[null,17,1.2214285714285715,0.15582061555937687,1.73,4.2135880712986283E-3,2.1875,1.213027467743192E-5]
[null,18,1.2928571428571429,0.10891263873910779,1.83,1.4880917682074059E-3,2.3125,1.4443274363053741E-6,null,1,2,3,4,5,6,7,8,9,10,11,12,13,14,15,16,17,18,19,20,21,22,23]
[null,19,1.3642857142857143,7.2844490590342703E-2,1.9300000000000002,4.6306715536720831E-4,2.4375,1.3315811573903781E-7,"HIGH",1,0.99962395593072184,0.99721210242313008,0.99070609273181665,0.97803059998929787,0.9572421271366931,0.92670064241583916,0.88526166675167151,0.83246769347497218,0.76870667404893334,0.6952998618405275,0.61448400892792709,0.52926577375047668,0.44314887287862659,0.35976315616015775,0.28245215375356364,0.2138928098190257,0.15582061555937687,0.10891263873910779,7.2844490590342703E-2,4.6495851701612551E-2,2.8246109981558069E-2,1.6287410793246738E-2]
[null,20,1.4357142857142857,4.6495851701612551E-2,2.0300000000000002,1.2600342115576808E-4,2.5625,9.3616798906598457E-9,"MED",1,0.99821007256728356,0.98955093657503257,0.96834609902139246,0.92953371067688517,0.86960263572861962,0.78760642496801048,0.68594017833491328,0.57050601756577102,0.4499850787363931,0.33421801863868855,0.23208770272368506,0.14959986955023064,8.8859831543264961E-2,4.8282244395587225E-2,2.3821303229031976E-2,1.0592672017782122E-2,4.2135880712986283E-3,1.4880917682074059E-3,4.6306715536720831E-4,1.2600342115576808E-4,2.9751922715274671E-5,6.0491711250218787E-6]
[null,21,1.5071428571428573,2.8246109981558069E-2,2.13,2.9751922715274671E-5,2.6875,4.9427339344579847E-10,"LOW",1,0.99443975734045464,0.97319910650613128,0.92580095078005475,0.84533076201309976,0.73124936435816645,0.59134570281307786,0.44101608846344886,0.29916599995680576,0.1820294839433666,9.7948467999535008E-2,4.5948296477402756E-2,1.852195780942846E-2,6.3230270151600687E-3,1.8013906833625028E-3,4.2199964671559259E-4,8.0088399794453005E-5,1.213027467743192E-5,1.4443274363053741E-6,1.3315811573903781E-7,9.3616798906598457E-9,4.9427339344579847E-10,1.9298277099429192E-11]
[null,22,1.5785714285714287,1.6287410793246738E-2,2.23,6.0491711250218787E-6,2.8125,1.9298277099429192E-11]
[null,23,1.6500000000000001,8.8901859478448912E-3,2.33,1.0509035772840603E-6,2.9375,5.4863947588844547E-13]
[null,24,1.7214285714285715,4.5808501301110261E-3,2.4300000000000002,1.5478859259538369E-7,3.0625,1.1182069178836388E-14]
[null,25,1.7928571428571429,2.2221003003272993E-3,2.5300000000000002,1.9179288623101284E-8,3.1875,1.6085867877039997E-16]
[null,26,1.8642857142857143,1.0119626728851956E-3,2.63,1.9835259562019583E-9,3.3125,1.6078549695088722E-18]
[null,27,1.9357142857142857,4.3146415863114761E-4,2.73,1.698775640159551E-10,3.4375,1.0992472600557666E-20]
[null,28,2.0071428571428571,1.7174965165378458E-4,2.83,1.1953491242113095E-11,3.5625,5.0597644494385845E-23]
[null,29,2.0785714285714287,6.3650959604579787E-5,2.93,6.8559774311242271E-13,3.6875,1.5433585713005551E-25]
[null,30,2.15,2.1900534458111171E-5,3.0300000000000002,3.1798228329558884E-14,3.8125,3.0704076761933407E-28]
[null,31,2.2214285714285715,6.9762761513883265E-6,3.13,1.183114130836537E-15,3.9375,3.92089742212839E-31]
[null,32,2.2928571428571431,2.0515696435577082E-6,3.2299999999999995,3.5031626642403082E-17,4.0625,3.1628598080616137E-34]
[null,33,2.3642857142857143,5.5540914480353149E-7,3.3299999999999996,8.1886543570636599E-19,4.1875,1.5859960425570675E-37]
[null,34,2.4357142857142859,1.380290891056459E-7,3.4299999999999997,1.4989293084633272E-20,4.3125,4.864666957190229E-41]
[null,35,2.5071428571428571,3.1399446467272044E-8,3.53,2.1313432756858689E-22,4.4375,8.9807626164978541E-45]

{"sheet":"3W","index":1,"n_rows":41,"n_cols":32,"rows_kept":41,"cut":false,"hidden":false,"merged":[]}
[null,null,null,null,null,null,null,null,null,null,null,"Low = very urban",null,null,null,"alpha",null,null,"beta",null,null,"T"]
[null,null,"a",0,"a",0,"a",-1,null,null,null,null,null,null,null,{"$f":"H2","v":-1},{"$f":"F2","v":0},{"$f":"D2","v":0},{"$f":"H3","v":2},{"$f":"F3","v":2},{"$f":"D3","v":2},{"$f":"H4","v":8},{"$f":"F4","v":12},{"$f":"D4","v":15}]
[null,null,"b",2,"b",2,"b",2]
[null,null,"T",15,"T",12,"T",8]
[null,null,null,"High",null,"Medium",null,"Low"]
[null,0,null,1,null,1,null,1]
[null,1,{"$f":"(B7+$D$2)/$D$4","v":6.6666666666666666E-2},{"$f":"EXP(-(C7^$D$3))","v":0.9955654174830928},{"$f":"(B7+$F$2)/$F$4","v":8.3333333333333329E-2},{"$f":"EXP(-(E7^$F$3))","v":0.99307961249031607},{"$f":"(B7+$H$2)/($H$4)","v":0},{"$f":"EXP(-(G7^$H$3))","v":1}]
[null,2,{"$f":"(B8+$D$2)/$D$4","v":0.13333333333333333},{"$f":"EXP(-(C8^$D$3))","v":0.98237931461817762},0.16666666666666666,0.97260447711634834,{"$f":"(B8+$H$2)/($H$4)","v":0.125},{"$f":"EXP(-(G8^$H$3))","v":0.98449643700540845}]
[null,3,0.2,0.96078943915232318,0.25,0.93941306281347581,0.25,0.93941306281347581]
[null,4,0.26666666666666666,0.93135840211135201,0.33333333333333331,0.89483931681436979,0.375,0.86881505626284317]
[null,5,0.33333333333333331,0.89483931681436979,0.41666666666666669,0.84062374333450529,0.5,0.77880078307140488]
[null,6,0.4,0.85214378896621135,0.5,0.77880078307140488,0.625,0.67663384616172895]
[null,7,0.46666666666666667,0.80430415606557226,0.58333333333333337,0.7115726362417969,0.75,0.56978282473092301]
[null,8,0.53333333333333333,0.75243215608930325,0.66666666666666663,0.64118038842995462,0.875,0.46504318813405632]
[null,9,0.6,0.69767632607103103,0.75,0.56978282473092301,1,0.36787944117144233]
[null,10,0.66666666666666663,0.64118038842995462,0.83333333333333337,0.49935178859927615,1.125,0.28206295169381546]
[null,11,0.73333333333333328,0.58404468844138291,0.91666666666666663,0.43159062049319485,1.25,0.20961138715109781]
[null,12,0.8,0.52729242404304855,1,0.36787944117144233,1.375,0.15097741845591461]
[null,13,0.8666666666666667,0.47184199249207454,1.0833333333333333,0.30924819293334382,1.5,0.10539922456186433]
[null,14,0.93333333333333335,0.41848630604256448,1.1666666666666667,0.25637575668641222,1.625,7.1316682697758038E-2]
[null,15,1,0.36787944117144233,1.25,0.20961138715109781,1.75,4.677062238395898E-2]
[null,16,1.0666666666666667,0.32053052101554125,1.3333333333333333,0.16901331540606609,1.875,2.972921638615875E-2]
[null,17,1.1333333333333333,0.27680432110155639,1.4166666666666667,0.13439871063288247,2,1.8315638888734179E-2]
[null,18,1.2,0.23692775868212176,1.5,0.10539922456186433,2.125,1.0936767510604966E-2,null,1,2,3,4,5,6,7,8,9,10,11,12,13,14,15,16,17,18,19,20,21,22,23]
[null,19,1.2666666666666666,0.2010011912257319,1.5833333333333333,8.1516938624689561E-2,2.25,6.329715427485747E-3,"HIGH",1,0.9955654174830928,0.98237931461817762,0.96078943915232318,0.93135840211135201,0.89483931681436979,0.85214378896621135,0.80430415606557226,0.75243215608930325,0.69767632607103103,0.64118038842995462,0.58404468844138291,0.52729242404304855,0.47184199249207454,0.41848630604256448,0.36787944117144233,0.32053052101554125,0.27680432110155639,0.23692775868212176,0.2010011912257319,0.16901331540606609,0.14085842092104503,0.1163548028087039]
[null,20,1.3333333333333333,0.16901331540606609,1.6666666666666667,6.2176524022116292E-2,2.375,3.550648557242539E-3,"MED",1,0.99307961249031607,0.97260447711634834,0.93941306281347581,0.89483931681436979,0.84062374333450529,0.77880078307140488,0.7115726362417969,0.64118038842995462,0.56978282473092301,0.49935178859927615,0.43159062049319485,0.36787944117144233,0.30924819293334382,0.25637575668641222,0.20961138715109781,0.16901331540606609,0.13439871063288247,0.10539922456186433,8.1516938624689561E-2,6.2176524022116292E-2,4.677062238395898E-2,3.4696685646156522E-2]
[null,21,1.4,0.14085842092104503,1.75,4.677062238395898E-2,2.5,1.9304541362277093E-3,"LOW",1,1,0.98449643700540845,0.93941306281347581,0.86881505626284317,0.77880078307140488,0.67663384616172895,0.56978282473092301,0.46504318813405632,0.36787944117144233,0.28206295169381546,0.20961138715109781,0.15097741845591461,0.10539922456186433,7.1316682697758038E-2,4.677062238395898E-2,2.972921638615875E-2,1.8315638888734179E-2,1.0936767510604966E-2,6.329715427485747E-3,3.550648557242539E-3,1.9304541362277093E-3,1.0172778436147007E-3]
[null,22,1.4666666666666666,0.1163548028087039,1.8333333333333333,3.4696685646156522E-2,2.625,1.0172778436147007E-3]
[null,23,1.5333333333333334,9.5263255327810159E-2,1.9166666666666667,2.5384637491376701E-2,2.75,5.1957468215483844E-4]
[null,24,1.6,7.7304740443299713E-2,2,1.8315638888734179E-2,2.875,2.5720811880066503E-4]
[null,25,1.6666666666666667,6.2176524022116292E-2,2.0833333333333335,1.3032907448509346E-2,3,1.2340980408667956E-4]
[null,26,1.7333333333333334,4.956628350491174E-2,2.1666666666666665,9.1459470384278787E-3,3.125,5.7390888739468748E-5]
[null,27,1.8,3.9163895098987066E-2,2.25,6.329715427485747E-3,3.25,2.586810022265412E-5]
[null,28,1.8666666666666667,3.0670793026394055E-2,2.3333333333333335,4.3202394740940618E-3,3.375,1.1300936043146307E-5]
[null,29,1.9333333333333333,2.3806948722728996E-2,2.4166666666666665,2.9080347261855595E-3,3.5,4.7851173921290088E-6]
[null,30,2,1.8315638888734179E-2,2.5,1.9304541362277093E-3,3.625,1.9638082208988035E-6]
[null,31,2.0666666666666669,1.3966256466258136E-2,2.5833333333333335,1.2638266822766141E-3,3.75,7.811489408304491E-7]
[null,32,2.1333333333333333,1.0555469566198799E-2,2.6666666666666665,8.1598783507214826E-4,3.875,3.0115974460573396E-7]
[null,33,2.2000000000000002,7.9070540515934346E-3,2.75,5.1957468215483844E-4,4,1.1253517471925912E-7]
[null,34,2.2666666666666666,5.8707212757384804E-3,2.8333333333333335,3.2627245380319842E-4,4.125,4.0757539335682951E-8]
[null,35,2.3333333333333335,4.3202394740940618E-3,2.9166666666666665,2.0206028905112746E-4,4.25,1.4307241918567688E-8]

{"sheet":"4Wreg","index":2,"n_rows":41,"n_cols":32,"rows_kept":41,"cut":false,"hidden":false,"merged":[]}
[null,null,null,null,null,null,null,null,null,null,null,"Low = very urban",null,null,null,"alpha",null,null,"beta",null,null,"T"]
[null,null,"a",-0.5,"a",0,"a",0,null,null,null,null,null,null,null,{"$f":"H2","v":0},{"$f":"F2","v":0},{"$f":"D2","v":-0.5},{"$f":"H3","v":3},{"$f":"F3","v":3},{"$f":"D3","v":3},{"$f":"H4","v":8},{"$f":"F4","v":12},{"$f":"D4","v":16}]
[null,null,"b",3,"b",3,"b",3]
[null,null,"T",16,"T",12,"T",8]
[null,null,null,"High",null,"Medium",null,"Low"]
[null,0,null,1,null,1,null,1]
[null,1,{"$f":"(B7+$D$2)/$D$4","v":3.125E-2},{"$f":"EXP(-(C7^$D$3))","v":0.99996948288753151},{"$f":"(B7+$F$2)/$F$4","v":8.3333333333333329E-2},{"$f":"EXP(-(E7^$F$3))","v":0.99942146371298823},{"$f":"(B7+$H$2)/($H$4)","v":0.125},{"$f":"EXP(-(G7^$H$3))","v":0.99804878110747552}]
[null,2,{"$f":"(B8+$D$2)/$D$4","v":9.375E-2},{"$f":"EXP(-(C8^$D$3))","v":0.99917636476448524},0.16666666666666666,0.9953810705865761,{"$f":"(B8+$H$2)/($H$4)","v":0.25},{"$f":"EXP(-(G8^$H$3))","v":0.98449643700540845}]
[null,3,0.15625,0.99619256944894718,0.25,0.98449643700540845,0.375,0.94863195938333023]
[null,4,0.21875,0.98958706463401314,0.33333333333333331,0.96364044430128626,0.5,0.88249690258459546]
[null,5,0.28125,0.9779983320167448,0.41666666666666669,0.93021646396868019,0.625,0.78337746406081821]
[null,6,0.34375,0.96019499391521523,0.5,0.88249690258459546,0.75,0.65581601127150158]
[null,7,0.40625,0.93515113678072315,0.58333333333333337,0.81996356685924188,0.875,0.5117485565808334]
[null,8,0.46875,0.90212983668202085,0.66666666666666663,0.74356707920590637,1,0.36787944117144233]
[null,9,0.53125,0.86076576515537484,0.75,0.65581601127150158,1.125,0.24079047427224856]
[null,10,0.59375,0.81113557525828783,0.83333333333333337,0.5606246313697707,1.25,0.14183015908734253]
[null,11,0.65625,0.75380369900629074,0.91666666666666663,0.46289518647387157,1.375,7.4302596998186088E-2]
[null,12,0.71875,0.68983187324370621,1,0.36787944117144233,1.5,3.4218118311666032E-2]
[null,13,0.78125,0.62074360406750007,1.0833333333333333,0.28043535696339622,1.625,1.3691013298492581E-2]
[null,14,0.84375,0.54843994749197733,1.1666666666666667,0.20434143914224162,1.75,4.7038450922375517E-3]
[null,15,0.90625,0.47506995462771839,1.25,0.14183015908734253,1.875,1.371573202456029E-3]
[null,16,0.96875,0.40286684948796952,1.3333333333333333,9.3446110197625359E-2,2,3.3546262790251185E-4]
[null,17,1.03125,0.33396796456615119,1.4166666666666667,5.8240674353065236E-2,2.125,6.8020384544349979E-5]
[null,18,1.09375,0.27024099011071245,1.5,3.4218118311666032E-2,2.25,1.1300936043146307E-5,null,1,2,3,4,5,6,7,8,9,10,11,12,13,14,15,16,17,18,19,20,21,22,23]
[null,19,1.15625,0.21313982254476171,1.5833333333333333,1.8886107054415104E-2,2.375,1.5204801649468582E-6,"HIGH",1,0.99996948288753151,0.99917636476448524,0.99619256944894718,0.98958706463401314,0.9779983320167448,0.96019499391521523,0.93515113678072315,0.90212983668202085,0.86076576515537484,0.81113557525828783,0.75380369900629074,0.68983187324370621,0.62074360406750007,0.54843994749197733,0.47506995462771839,0.40286684948796952,0.33396796456615119,0.27024099011071245,0.21313982254476171,0.1636095934607863,0.1220527437380345,8.8357774809174144E-2]
[null,20,1.21875,0.1636095934607863,1.6666666666666667,9.7583726452178006E-3,2.5,1.6373771305908126E-7,"MED",1,0.99942146371298823,0.9953810705865761,0.98449643700540845,0.96364044430128626,0.93021646396868019,0.88249690258459546,0.81996356685924188,0.74356707920590637,0.65581601127150158,0.5606246313697707,0.46289518647387157,0.36787944117144233,0.28043535696339622,0.20434143914224162,0.14183015908734253,9.3446110197625359E-2,5.8240674353065236E-2,3.4218118311666032E-2,1.8886107054415104E-2,9.7583726452178006E-3,4.7038450922375517E-3,2.1079549130308744E-3]
[null,21,1.28125,0.1220527437380345,1.75,4.7038450922375517E-3,2.625,1.3948545142192037E-8,"LOW",1,0.99804878110747552,0.98449643700540845,0.94863195938333023,0.88249690258459546,0.78337746406081821,0.65581601127150158,0.5117485565808334,0.36787944117144233,0.24079047427224856,0.14183015908734253,7.4302596998186088E-2,3.4218118311666032E-2,1.3691013298492581E-2,4.7038450922375517E-3,1.371573202456029E-3,3.3546262790251185E-4,6.8020384544349979E-5,1.1300936043146307E-5,1.5204801649468582E-6,1.6373771305908126E-7,1.3948545142192037E-8,9.2903472398850256E-10]
[null,22,1.34375,8.8357774809174144E-2,1.8333333333333333,2.1079549130308744E-3,2.75,9.2903472398850256E-10]
[null,23,1.40625,6.1981811080938524E-2,1.9166666666666667,8.7517388733911975E-4,2.875,4.781547065143586E-11]
[null,24,1.46875,4.2069742015259537E-2,2,3.3546262790251185E-4,3,1.8795288165390832E-12]
[null,25,1.53125,2.7588326494462037E-2,2.0833333333333335,1.1830489968637457E-4,3.125,5.5767890791115274E-14]
[null,26,1.59375,1.7453985589663136E-2,2.1666666666666665,3.8252704423977542E-5,3.25,1.2344819333575196E-15]
[null,27,1.65625,1.0637545811205315E-2,2.25,1.1300936043146307E-5,3.375,2.0149355421887546E-17]
[null,28,1.71875,6.236338419689437E-3,2.3333333333333335,3.0398459939820999E-6,3.5,2.3967574632799641E-19]
[null,29,1.78125,3.5117462935258747E-3,2.4166666666666665,7.419346802741391E-7,3.625,2.0534500460587079E-21]
[null,30,1.84375,1.8966432273830767E-3,2.5,1.6373771305908126E-7,3.75,1.2524255847806416E-23]
[null,31,1.90625,9.8102717212243369E-4,2.5833333333333335,3.2560627071753392E-8,3.875,5.3744999807281542E-26]
[null,32,1.96875,4.852584815129857E-4,2.6666666666666665,5.81419809709184E-9,4,1.6038108905486379E-28]
[null,33,2.03125,2.2920588605662167E-4,2.75,9.2903472398850256E-10,4.125,3.2893328327508345E-31]
[null,34,2.09375,1.0322924641109469E-4,2.8333333333333335,1.3237658078358398E-10,4.25,4.5826075115953304E-34]
[null,35,2.15625,4.4265760861495523E-5,2.9166666666666665,1.6761755275841312E-11,4.375,4.2862578909279221E-37]

{"sheet":"4Wsuv","index":3,"n_rows":41,"n_cols":32,"rows_kept":41,"cut":false,"hidden":false,"merged":[]}
[null,null,null,null,null,null,null,null,null,null,null,"Low = very urban",null,null,null,"alpha",null,null,"beta",null,null,"T"]
[null,null,"a",0,"a",0.5,"a",0.5,null,null,null,null,null,null,null,{"$f":"H2","v":0.5},{"$f":"F2","v":0.5},{"$f":"D2","v":0},{"$f":"H3","v":2.5},{"$f":"F3","v":2.5},{"$f":"D3","v":2.5},{"$f":"H4","v":10},{"$f":"F4","v":12},{"$f":"D4","v":15}]
[null,null,"b",2.5,"b",2.5,"b",2.5]
[null,null,"T",15,"T",12,"T",10]
[null,null,null,"High",null,"Medium",null,"Low"]
[null,0,null,1,null,1,null,1]
[null,1,{"$f":"(B7+$D$2)/$D$4","v":6.6666666666666666E-2},{"$f":"EXP(-(C7^$D$3))","v":0.99885310756332479},{"$f":"(B7+$F$2)/$F$4","v":0.125},{"$f":"EXP(-(E7^$F$3))","v":0.99449095900190587},{"$f":"(B7+$H$2)/($H$4)","v":0.15},{"$f":"EXP(-(G7^$H$3))","v":0.99132364617163382}]
[null,2,{"$f":"(B8+$D$2)/$D$4","v":0.13333333333333333},{"$f":"EXP(-(C8^$D$3))","v":0.99352949783320754},0.20833333333333334,0.9803843728316719,{"$f":"(B8+$H$2)/($H$4)","v":0.25},{"$f":"EXP(-(G8^$H$3))","v":0.96923323447634413}]
[null,3,0.2,0.98227050637577851,0.29166666666666669,0.955096639048434,0.35,0.93009180993889173]
[null,4,0.26666666666666666,0.96394444097566934,0.375,0.9174888297657835,0.45,0.87298131233374532]
[null,5,0.33333333333333331,0.93786428128134647,0.45833333333333331,0.86743240787387288,0.55000000000000004,0.79904341003519441]
[null,6,0.4,0.90375869446365809,0.54166666666666663,0.80578477749724886,0.65,0.71132177136047881]
[null,7,0.46666666666666667,0.86176682939316895,0.625,0.73431574119168719,0.75,0.61438145002028]
[null,8,0.53333333333333333,0.81242729534123626,0.70833333333333337,0.65555448400571326,0.85,0.51370192867460474]
[null,9,0.6,0.75664976008309626,0.79166666666666663,0.57255725386160217,0.95,0.41492886228773246]
[null,10,0.66666666666666663,0.69566478229732498,0.875,0.48861686235154222,1.05,0.32312167563355693]
[null,11,0.73333333333333328,0.63095207170900869,0.95833333333333337,0.406949647740664,1.1499999999999999,0.24214386397262885]
[null,12,0.8,0.5641509608372548,1.0416666666666667,0.33040227085122259,1.25,0.17430857908883032]
[null,13,0.8666666666666667,0.49695967632110088,1.125,0.26121850711209382,1.35,0.12032562800838341]
[null,14,0.93333333333333335,0.43103185306177116,1.2083333333333333,0.20089560287817543,1.45,7.9520115816410886E-2]
[null,15,1,0.36787944117144233,1.2916666666666667,0.15014331331304312,1.55,5.023273473645698E-2]
[null,16,1.0666666666666667,0.30879062028892795,1.375,0.10894040123194072,1.65,3.0284641700516073E-2]
[null,17,1.1333333333333333,0.25476963613687775,1.4583333333333333,7.6667464508156188E-2,1.75,1.7399623775943018E-2]
[null,18,1.2,0.20650287056946617,1.5416666666666667,5.2284906702111458E-2,1.85,9.512930680382975E-3,null,1,2,3,4,5,6,7,8,9,10,11,12,13,14,15,16,17,18,19,20,21,22,23]
[null,19,1.2666666666666666,0.16435235569380099,1.625,3.45223064271728E-2,1.95,4.9424096829461389E-3,"HIGH",1,0.99885310756332479,0.99352949783320754,0.98227050637577851,0.96394444097566934,0.93786428128134647,0.90375869446365809,0.86176682939316895,0.81242729534123626,0.75664976008309626,0.69566478229732498,0.63095207170900869,0.5641509608372548,0.49695967632110088,0.43103185306177116,0.36787944117144233,0.30879062028892795,0.25476963613687775,0.20650287056946617,0.16435235569380099,0.12837482715790938,9.8361749511347588E-2,7.3893905284140429E-2]
[null,20,1.3333333333333333,0.12837482715790938,1.7083333333333333,2.2049913865499475E-2,2.0499999999999998,2.436812851671986E-3,"MED",1,0.99449095900190587,0.9803843728316719,0.955096639048434,0.9174888297657835,0.86743240787387288,0.80578477749724886,0.73431574119168719,0.65555448400571326,0.57255725386160217,0.48861686235154222,0.406949647740664,0.33040227085122259,0.26121850711209382,0.20089560287817543,0.15014331331304312,0.10894040123194072,7.6667464508156188E-2,5.2284906702111458E-2,3.45223064271728E-2,2.2049913865499475E-2,1.36123313968699E-2,8.1155947493921562E-3]
[null,21,1.4,9.8361749511347588E-2,1.7916666666666667,1.36123313968699E-2,2.15,1.1386459410598941E-3,"LOW",1,0.99132364617163382,0.96923323447634413,0.93009180993889173,0.87298131233374532,0.79904341003519441,0.71132177136047881,0.61438145002028,0.51370192867460474,0.41492886228773246,0.32312167563355693,0.24214386397262885,0.17430857908883032,0.12032562800838341,7.9520115816410886E-2,5.023273473645698E-2,3.0284641700516073E-2,1.7399623775943018E-2,9.512930680382975E-3,4.9424096829461389E-3,2.436812851671986E-3,1.1386459410598941E-3,5.0358904973695157E-4]
[null,22,1.4666666666666666,7.3893905284140429E-2,1.875,8.1155947493921562E-3,2.25,5.0358904973695157E-4]
[null,23,1.5333333333333334,5.4403322833623854E-2,1.9583333333333333,4.6689832182131722E-3,2.35,2.1054057015628365E-4]
[null,24,1.6,3.9235539461036244E-2,2.0416666666666665,2.5899891875407828E-3,2.4500000000000002,8.3105587137357963E-5]
[null,25,1.6666666666666667,2.7706293458343287E-2,2.125,1.3842482900660929E-3,2.5499999999999998,3.0933840713705748E-5]
[null,26,1.7333333333333334,1.914842303790916E-2,2.2083333333333335,7.1226878767609737E-4,2.65,1.0845050430174338E-5]
[null,27,1.8,1.2946676712863533E-2,2.2916666666666665,3.5258799057251563E-4,2.75,3.5769950249546146E-6]
[null,28,1.8666666666666667,8.5599800235741201E-3,2.375,1.6779174948639643E-4,2.85,1.1086602929677489E-6]
[null,29,1.9333333333333333,5.5322034257732347E-3,2.4583333333333335,7.6708702562544259E-5,2.95,3.2254131400429904E-7]
[null,30,2,3.4934892766462001E-3,2.5416666666666665,3.3665607341253499E-5,3.05,8.7983387815523138E-8]
[null,31,2.0666666666666669,2.15468855903354E-3,2.625,1.4174181270099945E-5,3.15,2.2478860688050915E-8]
[null,32,2.1333333333333333,1.2974905242316627E-3,2.7083333333333335,5.721185159274373E-6,3.25,5.3733318018897076E-9]
[null,33,2.2000000000000002,7.6252128470232362E-4,2.7916666666666665,2.2123911661280292E-6,3.35,1.2004761038981182E-9]
[null,34,2.2666666666666666,4.3718364380002258E-4,2.875,8.1910867737217987E-7,3.45,2.5041225582728311E-10]
[null,35,2.3333333333333335,2.4444352404878283E-4,2.9583333333333335,2.9016488607588726E-7,3.55,4.8720101972110612E-11]

{"sheet":"4Wtaxi","index":4,"n_rows":41,"n_cols":32,"rows_kept":41,"cut":false,"hidden":false,"merged":[]}
[null,null,null,null,null,null,null,null,null,null,null,"Low = very urban",null,null,null,"alpha",null,null,"beta",null,null,"T"]
[null,null,"a",-0.5,"a",-0.5,"a",-0.5,null,null,null,null,null,null,null,{"$f":"H2","v":-0.5},{"$f":"F2","v":-0.5},{"$f":"D2","v":-0.5},{"$f":"H3","v":4},{"$f":"F3","v":3.5},{"$f":"D3","v":3},{"$f":"H4","v":8},{"$f":"F4","v":10},{"$f":"D4","v":12}]
[null,null,"b",3,"b",3.5,"b",4]
[null,null,"T",12,"T",10,"T",8]
[null,null,null,"High",null,"Medium",null,"Low"]
[null,0,null,1,null,1,null,1]
[null,1,{"$f":"(B7+$D$2)/$D$4","v":4.1666666666666664E-2},{"$f":"EXP(-(C7^$D$3))","v":0.99992766465336436},{"$f":"(B7+$F$2)/$F$4","v":0.05},{"$f":"EXP(-(E7^$F$3))","v":0.99997204954090257},{"$f":"(B7+$H$2)/($H$4)","v":6.25E-2},{"$f":"EXP(-(G7^$H$3))","v":0.99998474132735227}]
[null,2,{"$f":"(B8+$D$2)/$D$4","v":0.125},{"$f":"EXP(-(C8^$D$3))","v":0.99804878110747552},0.15,0.99869372204542539,{"$f":"(B8+$H$2)/($H$4)","v":0.1875},{"$f":"EXP(-(G8^$H$3))","v":0.99876480157228498}]
[null,3,0.20833333333333334,0.99099851278935858,0.25,0.99221793826024351,0.3125,0.99050858735473868]
[null,4,0.29166666666666669,0.97549336430348854,0.35,0.97495380161093692,0.4375,0.96402663745457706]
[null,5,0.375,0.94863195938333023,0.45,0.94070234391625962,0.5625,0.9047352540515905]
[null,6,0.45833333333333331,0.90820802090778263,0.55000000000000004,0.8839215166738098,0.6875,0.79979172363672657]
[null,7,0.54166666666666663,0.85305905255627457,0.65,0.80138824143853427,0.8125,0.64674300446771082]
[null,8,0.625,0.78337746406081821,0.75,0.69395062452664047,0.9375,0.46186797539220603]
[null,9,0.70833333333333337,0.70089554470042981,0.85,0.56768120650150788,1.0625,0.27959047903653206]
[null,10,0.79166666666666663,0.60886050827311133,0.95,0.43358571255979927,1.1875,0.13689505762598272]
[null,11,0.875,0.5117485565808334,1.05,0.30537564475719003,1.3125,5.1429437540487836E-2]
[null,12,0.95833333333333337,0.41472650696136121,1.1499999999999999,0.19574221054679794,1.4375,1.3981296735017539E-2]
[null,13,1.0416666666666667,0.32294260298193045,1.25,0.1126285397215772,1.5625,2.5787139391146431E-3]
[null,14,1.125,0.24079047427224856,1.35,5.7343406005375679E-2,1.6875,3.0077559038599891E-4]
[null,15,1.2083333333333333,0.17131512559240086,1.45,2.5450226727642241E-2,1.8125,2.0558181146782099E-5]
[null,16,1.2916666666666667,0.11590084306045448,1.55,9.69459285482311E-3,1.9375,7.5858412562856943E-7]
[null,17,1.375,7.4302596998186088E-2,1.65,3.1190118572530616E-3,2.0625,1.3839785522736584E-8]
[null,18,1.4583333333333333,4.4982121775260737E-2,1.75,8.3357513458033594E-4,2.1875,1.1367014382854554E-10,null,1,2,3,4,5,6,7,8,9,10,11,12,13,14,15,16,17,18,19,20,21,22,23]
[null,19,1.5416666666666667,2.5626332625890761E-2,1.85,1.8192044697341219E-4,2.3125,3.8044781779226885E-13,"HIGH",1,0.99992766465336436,0.99804878110747552,0.99099851278935858,0.97549336430348854,0.94863195938333023,0.90820802090778263,0.85305905255627457,0.78337746406081821,0.70089554470042981,0.60886050827311133,0.5117485565808334,0.41472650696136121,0.32294260298193045,0.24079047427224856,0.17131512559240086,0.11590084306045448,7.4302596998186088E-2,4.4982121775260737E-2,2.5626332625890761E-2,1.3691013298492581E-2,6.8356429538228101E-3,3.1784093196151257E-3]
[null,20,1.625,1.3691013298492581E-2,1.95,3.1855215434236252E-5,2.4375,4.6695058873001265E-16,"MED",1,0.99997204954090257,0.99869372204542539,0.99221793826024351,0.97495380161093692,0.94070234391625962,0.8839215166738098,0.80138824143853427,0.69395062452664047,0.56768120650150788,0.43358571255979927,0.30537564475719003,0.19574221054679794,0.1126285397215772,5.7343406005375679E-2,2.5450226727642241E-2,9.69459285482311E-3,3.1190118572530616E-3,8.3357513458033594E-4,1.8192044697341219E-4,3.1855215434236252E-5,4.3952690176182534E-6,4.6906789613479491E-7]
[null,21,1.7083333333333333,6.8356429538228101E-3,2.0499999999999998,4.3952690176182534E-6,2.5625,1.8802894482908929E-19,"LOW",1,0.99998474132735227,0.99876480157228498,0.99050858735473868,0.96402663745457706,0.9047352540515905,0.79979172363672657,0.64674300446771082,0.46186797539220603,0.27959047903653206,0.13689505762598272,5.1429437540487836E-2,1.3981296735017539E-2,2.5787139391146431E-3,3.0077559038599891E-4,2.0558181146782099E-5,7.5858412562856943E-7,1.3839785522736584E-8,1.1367014382854554E-10,3.8044781779226885E-13,4.6695058873001265E-16,1.8802894482908929E-19,2.2093400106177021E-23]
[null,22,1.7916666666666667,3.1784093196151257E-3,2.15,4.6906789613479491E-7,2.6875,2.2093400106177021E-23]
[null,23,1.875,1.371573202456029E-3,2.25,3.7990203997231695E-8,2.8125,6.6980115878661949E-28]
[null,24,1.9583333333333333,5.4739257328517579E-4,2.35,2.2900191681723872E-9,2.9375,4.6056554661964673E-33]
[null,25,2.0416666666666665,2.0134534203046601E-4,2.4500000000000002,1.0071497382133312E-10,3.0625,6.2772763267987144E-39]
[null,26,2.125,6.8020384544349979E-5,2.5499999999999998,3.1666954970195362E-12,3.1875,1.4733727497947542E-45]
[null,27,2.2083333333333335,2.1032137938817098E-5,2.65,6.9721010995414351E-14,3.3125,5.1439679071215608E-53]
[null,28,2.2916666666666665,5.9315286959682242E-6,2.75,1.0523868779855777E-15,3.4375,2.2938554570688637E-61]
[null,29,2.375,1.5204801649468582E-6,2.85,1.0657999762130685E-17,3.5625,1.1153451482865496E-70]
[null,30,2.4583333333333335,3.5303504921878324E-7,2.95,7.0847867906540659E-20,3.6875,5.0185298856676006E-81]
[null,31,2.5416666666666665,7.3989461111531971E-8,3.05,3.022888132871518E-22,3.8125,1.7630783496767257E-92]
[null,32,2.625,1.3948545142192037E-8,3.15,8.092617834587102E-25,3.9375,4.0565211860707314E-105]
[null,33,2.7083333333333335,2.3571488122160112E-9,3.25,1.3282869065654614E-27,4.0625,5.0972672230630363E-119]
[null,34,2.7916666666666665,3.5582475958415627E-10,3.35,1.3056726010395945E-30,4.1875,2.8999623359019149E-134]
[null,35,2.875,4.781547065143586E-11,3.45,7.5051910661928507E-34,4.3125,6.1566392288889489E-151]

{"sheet":"BUS","index":5,"n_rows":41,"n_cols":32,"rows_kept":41,"cut":false,"hidden":false,"merged":[]}
[null,null,null,null,null,null,null,null,null,null,null,"Low = very urban",null,null,null,"alpha",null,null,"beta",null,null,"T"]
[null,null,"a",-1,"a",0,"a",-1,null,null,null,null,null,null,null,{"$f":"H2","v":-1},{"$f":"F2","v":0},{"$f":"D2","v":-1},{"$f":"H3","v":3.2},{"$f":"F3","v":3},{"$f":"D3","v":3},{"$f":"H4","v":8},{"$f":"F4","v":12},{"$f":"D4","v":12}]
[null,null,"b",3,"b",3,"b",3.2]
[null,null,"T",12,"T",12,"T",8]
[null,null,null,"High",null,"Medium",null,"Low"]
[null,0,null,1,null,1,null,1]
[null,1,{"$f":"(B7+$D$2)/$D$4","v":0},{"$f":"EXP(-(C7^$D$3))","v":1},{"$f":"(B7+$F$2)/$F$4","v":8.3333333333333329E-2},{"$f":"EXP(-(E7^$F$3))","v":0.99942146371298823},{"$f":"(B7+$H$2)/($H$4)","v":0},{"$f":"EXP(-(G7^$H$3))","v":1}]
[null,2,{"$f":"(B8+$D$2)/$D$4","v":8.3333333333333329E-2},{"$f":"EXP(-(C8^$D$3))","v":0.99942146371298823},0.16666666666666666,0.9953810705865761,{"$f":"(B8+$H$2)/($H$4)","v":0.125},{"$f":"EXP(-(G8^$H$3))","v":0.99871224792111113}]
[null,3,0.16666666666666666,0.9953810705865761,0.25,0.98449643700540845,0.25,0.98822829938446966]
[null,4,0.25,0.98449643700540845,0.33333333333333331,0.96364044430128626,0.375,0.95758469005766111]
[null,5,0.33333333333333331,0.96364044430128626,0.41666666666666669,0.93021646396868019,0.5,0.89689290146475553]
[null,6,0.41666666666666669,0.93021646396868019,0.5,0.88249690258459546,0.625,0.80072569704831498]
[null,7,0.5,0.88249690258459546,0.58333333333333337,0.81996356685924188,0.75,0.6714693428243077]
[null,8,0.58333333333333337,0.81996356685924188,0.66666666666666663,0.74356707920590637,0.875,0.52086335566395825]
[null,9,0.66666666666666663,0.74356707920590637,0.75,0.65581601127150158,1,0.36787944117144233]
[null,10,0.75,0.65581601127150158,0.83333333333333337,0.5606246313697707,1.125,0.23275547127037124]
[null,11,0.83333333333333337,0.5606246313697707,0.91666666666666663,0.46289518647387157,1.25,0.12973456141869394]
[null,12,0.91666666666666663,0.46289518647387157,1,0.36787944117144233,1.375,6.2626494619928252E-2]
[null,13,1,0.36787944117144233,1.0833333333333333,0.28043535696339622,1.5,2.5730139582959152E-2]
[null,14,1.0833333333333333,0.28043535696339622,1.1666666666666667,0.20434143914224162,1.625,8.8390108363860468E-3]
[null,15,1.1666666666666667,0.20434143914224162,1.25,0.14183015908734253,1.75,2.4934967257868538E-3]
[null,16,1.25,0.14183015908734253,1.3333333333333333,9.3446110197625359E-2,1.875,5.671553290591023E-4]
[null,17,1.3333333333333333,9.3446110197625359E-2,1.4166666666666667,5.8240674353065236E-2,2,1.0209703840960791E-4]
[null,18,1.4166666666666667,5.8240674353065236E-2,1.5,3.4218118311666032E-2,2.125,1.4274587175946268E-5,null,1,2,3,4,5,6,7,8,9,10,11,12,13,14,15,16,17,18,19,20,21,22,23]
[null,19,1.5,3.4218118311666032E-2,1.5833333333333333,1.8886107054415104E-2,2.25,1.5207983724818905E-6,"HIGH",1,1,0.99942146371298823,0.9953810705865761,0.98449643700540845,0.96364044430128626,0.93021646396868019,0.88249690258459546,0.81996356685924188,0.74356707920590637,0.65581601127150158,0.5606246313697707,0.46289518647387157,0.36787944117144233,0.28043535696339622,0.20434143914224162,0.14183015908734253,9.3446110197625359E-2,5.8240674353065236E-2,3.4218118311666032E-2,1.8886107054415104E-2,9.7583726452178006E-3,4.7038450922375517E-3]
[null,20,1.5833333333333333,1.8886107054415104E-2,1.6666666666666667,9.7583726452178006E-3,2.375,1.2110377209347757E-7,"MED",1,0.99942146371298823,0.9953810705865761,0.98449643700540845,0.96364044430128626,0.93021646396868019,0.88249690258459546,0.81996356685924188,0.74356707920590637,0.65581601127150158,0.5606246313697707,0.46289518647387157,0.36787944117144233,0.28043535696339622,0.20434143914224162,0.14183015908734253,9.3446110197625359E-2,5.8240674353065236E-2,3.4218118311666032E-2,1.8886107054415104E-2,9.7583726452178006E-3,4.7038450922375517E-3,2.1079549130308744E-3]
[null,21,1.6666666666666667,9.7583726452178006E-3,1.75,4.7038450922375517E-3,2.5,7.0688411528558462E-9,"LOW",1,1,0.99871224792111113,0.98822829938446966,0.95758469005766111,0.89689290146475553,0.80072569704831498,0.6714693428243077,0.52086335566395825,0.36787944117144233,0.23275547127037124,0.12973456141869394,6.2626494619928252E-2,2.5730139582959152E-2,8.8390108363860468E-3,2.4934967257868538E-3,5.671553290591023E-4,1.0209703840960791E-4,1.4274587175946268E-5,1.5207983724818905E-6,1.2110377209347757E-7,7.0688411528558462E-9,2.9653784680689396E-10]
[null,22,1.75,4.7038450922375517E-3,1.8333333333333333,2.1079549130308744E-3,2.625,2.9653784680689396E-10]
[null,23,1.8333333333333333,2.1079549130308744E-3,1.9166666666666667,8.7517388733911975E-4,2.75,8.764035024389692E-12]
[null,24,1.9166666666666667,8.7517388733911975E-4,2,3.3546262790251185E-4,2.875,1.7884962657319764E-13]
[null,25,2,3.3546262790251185E-4,2.0833333333333335,1.1830489968637457E-4,3,2.4695625391338246E-15]
[null,26,2.0833333333333335,1.1830489968637457E-4,2.1666666666666665,3.8252704423977542E-5,3.125,2.2605346894147696E-17]
[null,27,2.1666666666666665,3.8252704423977542E-5,2.25,1.1300936043146307E-5,3.25,1.3436871301475022E-19]
[null,28,2.25,1.1300936043146307E-5,2.3333333333333335,3.0398459939820999E-6,3.375,5.0797884276963164E-22]
[null,29,2.3333333333333335,3.0398459939820999E-6,2.4166666666666665,7.419346802741391E-7,3.5,1.1960474996779767E-24]
[null,30,2.4166666666666665,7.419346802741391E-7,2.5,1.6373771305908126E-7,3.625,1.7172506739002125E-27]
[null,31,2.5,1.6373771305908126E-7,2.5833333333333335,3.2560627071753392E-8,3.75,1.4718473758225661E-30]
[null,32,2.5833333333333335,3.2560627071753392E-8,2.6666666666666665,5.81419809709184E-9,3.875,7.3711129767559087E-34]
[null,33,2.6666666666666665,5.81419809709184E-9,2.75,9.2903472398850256E-10,4,2.1109585877545796E-37]
[null,34,2.75,9.2903472398850256E-10,2.8333333333333335,1.3237658078358398E-10,4.125,3.3828070924509954E-41]
[null,35,2.8333333333333335,1.3237658078358398E-10,2.9166666666666665,1.6761755275841312E-11,4.25,2.9678437417272662E-45]

{"sheet":"HDV","index":6,"n_rows":41,"n_cols":32,"rows_kept":41,"cut":false,"hidden":false,"merged":[]}
[null,null,null,null,null,null,null,null,null,null,null,"Low = very urban",null,null,null,"alpha",null,null,"beta",null,null,"T"]
[null,null,"a",0,"a",1,"a",1,null,null,null,null,null,null,null,{"$f":"H2","v":1},{"$f":"F2","v":1},{"$f":"D2","v":0},{"$f":"H3","v":3.8},{"$f":"F3","v":3.8},{"$f":"D3","v":3.8},{"$f":"H4","v":12},{"$f":"F4","v":16},{"$f":"D4","v":18}]
[null,null,"b",3.8,"b",3.8,"b",3.8]
[null,null,"T",18,"T",16,"T",12]
[null,null,null,"High",null,"Medium",null,"Low"]
[null,0,null,1,null,1,null,1]
[null,1,{"$f":"(B7+$D$2)/$D$4","v":5.5555555555555552E-2},{"$f":"EXP(-(C7^$D$3))","v":0.99998301909652854},{"$f":"(B7+$F$2)/$F$4","v":0.125},{"$f":"EXP(-(E7^$F$3))","v":0.99963002046944205},{"$f":"(B7+$H$2)/($H$4)","v":0.16666666666666666},{"$f":"EXP(-(G7^$H$3))","v":0.99889646653188979}]
[null,2,{"$f":"(B8+$D$2)/$D$4","v":0.1111111111111111},{"$f":"EXP(-(C8^$D$3))","v":0.99976350220048016},0.1875,0.99827404377187223,{"$f":"(B8+$H$2)/($H$4)","v":0.25},{"$f":"EXP(-(G8^$H$3))","v":0.99485893297774963}]
[null,3,0.16666666666666666,0.99889646653188979,0.25,0.99485893297774963,0.33333333333333331,0.98473826462188041]
[null,4,0.22222222222222221,0.99671089871324148,0.3125,0.98803756936556997,0.41666666666666669,0.964728560695985]
[null,5,0.27777777777777779,0.9923373104963692,0.375,0.97622587991517784,0.5,0.9307229332919027]
[null,6,0.33333333333333331,0.98473826462188041,0.4375,0.95769763655238938,0.58333333333333337,0.8790016097104203]
[null,7,0.3888888888888889,0.97275093080134944,0.5,0.9307229332919027,0.66666666666666663,0.80717349503856506]
[null,8,0.44444444444444442,0.95514819599018719,0.5625,0.8937562427048783,0.75,0.71523433876783438]
[null,9,0.5,0.9307229332919027,0.625,0.8456691800120566,0.83333333333333337,0.6064320101723647]
[null,10,0.55555555555555558,0.89839704269575626,0.6875,0.78600761927346741,0.91666666666666663,0.48750172651913676]
[null,11,0.61111111111111116,0.85735226408404108,0.75,0.71523433876783438,1,0.36787944117144233]
[null,12,0.66666666666666663,0.80717349503856506,0.8125,0.63490148978758976,1.0833333333333333,0.25782118405479332]
[null,13,0.72222222222222221,0.74798802413617627,0.875,0.54768921218647837,1.1666666666666667,0.16589863633561694]
[null,14,0.77777777777777779,0.68057711990836134,0.9375,0.45725606898767818,1.25,9.6825492200565355E-2]
[null,15,0.83333333333333337,0.6064320101723647,1,0.36787944117144233,1.3333333333333333,5.0601060128763822E-2]
[null,16,0.88888888888888884,0.52772712691190171,1.0625,0.28391787248536582,1.4166666666666667,2.3358551350403371E-2]
[null,17,0.94444444444444442,0.44719192597158147,1.125,0.2091895555239715,1.5,9.389424259338178E-3]
[null,18,1,0.36787944117144233,1.1875,0.14640835701218594,1.5833333333333333,3.2376494646815203E-3,null,1,2,3,4,5,6,7,8,9,10,11,12,13,14,15,16,17,18,19,20,21,22,23]
[null,19,1.0555555555555556,0.29285307175563685,1.25,9.6825492200565355E-2,1.6666666666666667,9.4278702418669849E-4,"HIGH",1,0.99998301909652854,0.99976350220048016,0.99889646653188979,0.99671089871324148,0.9923373104963692,0.98473826462188041,0.97275093080134944,0.95514819599018719,0.9307229332919027,0.89839704269575626,0.85735226408404108,0.80717349503856506,0.74798802413617627,0.68057711990836134,0.6064320101723647,0.52772712691190171,0.44719192597158147,0.36787944117144233,0.29285307175563685,0.22483764512417678,0.16589863633561694,0.11721647110532386]
[null,20,1.1111111111111112,0.22483764512417678,1.3125,6.0177313289215328E-2,1.75,2.2808284610005962E-4,"MED",1,0.99963002046944205,0.99827404377187223,0.99485893297774963,0.98803756936556997,0.97622587991517784,0.95769763655238938,0.9307229332919027,0.8937562427048783,0.8456691800120566,0.78600761927346741,0.71523433876783438,0.63490148978758976,0.54768921218647837,0.45725606898767818,0.36787944117144233,0.28391787248536582,0.2091895555239715,0.14640835701218594,9.6825492200565355E-2,6.0177313289215328E-2,3.4947752858523085E-2,1.8852852849602374E-2]
[null,21,1.1666666666666667,0.16589863633561694,1.375,3.4947752858523085E-2,1.8333333333333333,4.5069163660100762E-5,"LOW",1,0.99889646653188979,0.99485893297774963,0.98473826462188041,0.964728560695985,0.9307229332919027,0.8790016097104203,0.80717349503856506,0.71523433876783438,0.6064320101723647,0.48750172651913676,0.36787944117144233,0.25782118405479332,0.16589863633561694,9.6825492200565355E-2,5.0601060128763822E-2,2.3358551350403371E-2,9.389424259338178E-3,3.2376494646815203E-3,9.4278702418669849E-4,2.2808284610005962E-4,4.5069163660100762E-5,7.1466065229169446E-6]
[null,22,1.2222222222222223,0.11721647110532386,1.4375,1.8852852849602374E-2,1.9166666666666667,7.1466065229169446E-6]
[null,23,1.2777777777777777,7.9006447253975806E-2,1.5,9.389424259338178E-3,2,8.9288413481271445E-7]
[null,24,1.3333333333333333,5.0601060128763822E-2,1.5625,4.2898606253903241E-3,2.0833333333333335,8.6243188433481691E-8]
[null,25,1.3888888888888888,3.067006242750437E-2,1.625,1.7862176482396257E-3,2.1666666666666665,6.3149394448940973E-9]
[null,26,1.4444444444444444,1.751872874524216E-2,1.6875,6.7323132306737173E-4,2.25,3.4350367567754357E-10]
[null,27,1.5,9.389424259338178E-3,1.75,2.2808284610005962E-4,2.3333333333333335,1.3593759648729406E-11]
[null,28,1.5555555555555556,4.7008939229596508E-3,1.8125,6.895844857673801E-5,2.4166666666666665,3.830443903037345E-13]
[null,29,1.6111111111111112,2.1883927501663092E-3,1.875,1.8468272758603383E-5,2.5,7.5169970576940777E-15]
[null,30,1.6666666666666667,9.4278702418669849E-4,1.9375,4.3480672833819389E-6,2.5833333333333335,1.0042477059175501E-16]
[null,31,1.7222222222222223,3.7404857257594166E-4,2,8.9288413481271445E-7,2.6666666666666665,8.9225045140814921E-19]
[null,32,1.7777777777777777,1.3598587884761014E-4,2.0625,1.5864689302780511E-7,2.75,5.1471284069024473E-21]
[null,33,1.8333333333333333,4.5069163660100762E-5,2.125,2.4189450192035439E-8,2.8333333333333335,1.8810252261775617E-23]
[null,34,1.8888888888888888,1.3545562156062616E-5,2.1875,3.1384186820787362E-9,2.9166666666666665,4.2465143077561756E-26]
[null,35,1.9444444444444444,3.6719963027418883E-6,2.25,3.4350367567754357E-10,3,5.7713221376684689E-29]

{"sheet":"LDV","index":7,"n_rows":41,"n_cols":32,"rows_kept":41,"cut":false,"hidden":false,"merged":[]}
[null,null,null,null,null,null,null,null,null,null,null,"Low = very urban",null,null,null,"alpha",null,null,"beta",null,null,"T"]
[null,null,"a",0,"a",0,"a",-1,null,null,null,null,null,null,null,{"$f":"H2","v":-1},{"$f":"F2","v":0},{"$f":"D2","v":0},{"$f":"H3","v":2.5},{"$f":"F3","v":3},{"$f":"D3","v":3},{"$f":"H4","v":12},{"$f":"F4","v":16},{"$f":"D4","v":20}]
[null,null,"b",3,"b",3,"b",2.5]
[null,null,"T",20,"T",16,"T",12]
[null,null,null,"High",null,"Medium",null,"Low"]
[null,0,null,1,null,1,null,1]
[null,1,{"$f":"(B7+$D$2)/$D$4","v":0.05},{"$f":"EXP(-(C7^$D$3))","v":0.99987500781217453},{"$f":"(B7+$F$2)/$F$4","v":6.25E-2},{"$f":"EXP(-(E7^$F$3))","v":0.99975588917489722},{"$f":"(B7+$H$2)/($H$4)","v":0},{"$f":"EXP(-(G7^$H$3))","v":1}]
[null,2,{"$f":"(B8+$D$2)/$D$4","v":0.1},{"$f":"EXP(-(C8^$D$3))","v":0.99900049983337502},0.125,0.99804878110747552,{"$f":"(B8+$H$2)/($H$4)","v":8.3333333333333329E-2},{"$f":"EXP(-(G8^$H$3))","v":0.99799731961111438}]
[null,3,0.15,0.99663068891067585,0.1875,0.99342988135902821,0.16666666666666666,0.9887238277478988]
[null,4,0.2,0.99203191483706066,0.25,0.98449643700540845,0.25,0.96923323447634413]
[null,5,0.25,0.98449643700540845,0.3125,0.96994338213134401,0.33333333333333331,0.93786428128134647]
[null,6,0.3,0.97336124152433678,0.375,0.94863195938333023,0.41666666666666669,0.89398570815371281]
[null,7,0.35,0.95803113647478366,0.4375,0.91967012375346879,0.5,0.83796688557875576]
[null,8,0.4,0.93800499953072947,0.5,0.88249690258459546,0.58333333333333337,0.77113529134046954]
[null,9,0.45,0.91290359081805705,0.5625,0.83696040486680634,0.66666666666666663,0.69566478229732498]
[null,10,0.5,0.88249690258459546,0.625,0.78337746406081821,0.75,0.61438145002028]
[null,11,0.55000000000000004,0.84672865140207287,0.6875,0.72256263415934552,0.83333333333333337,0.53049850169371948]
[null,12,0.6,0.80573530187347964,0.75,0.65581601127150158,0.91666666666666663,0.44730941399885388]
[null,13,0.65,0.75985701618526924,0.8125,0.58486340594522557,1,0.36787944117144233]
[null,14,0.7,0.70963821156020868,0.875,0.5117485565808334,1.0833333333333333,0.29477787472512934]
[null,15,0.75,0.65581601127150158,0.9375,0.43868458498235319,1.1666666666666667,0.22988685432773631]
[null,16,0.8,0.59929578784553839,1,0.36787944117144233,1.25,0.17430857908883032]
[null,17,0.85,0.54111416311718274,1.0625,0.30135602960012431,1.3333333333333333,0.12837482715790938]
[null,18,0.9,0.4823911401151259,1.125,0.24079047427224856,1.4166666666666667,9.1745055453900132E-2,null,1,2,3,4,5,6,7,8,9,10,11,12,13,14,15,16,17,18,19,20,21,22,23]
[null,19,0.95,0.4242743419859672,1.1875,0.18739051073580684,1.5,6.3566037004625431E-2,"HIGH",1,0.99987500781217453,0.99900049983337502,0.99663068891067585,0.99203191483706066,0.98449643700540845,0.97336124152433678,0.95803113647478366,0.93800499953072947,0.91290359081805705,0.88249690258459546,0.84672865140207287,0.80573530187347964,0.75985701618526924,0.70963821156020868,0.65581601127150158,0.59929578784553839,0.54111416311718274,0.4823911401151259,0.4242743419859672,0.36787944117144233,0.31423159539154721,0.26421291623308618]
[null,20,1,0.36787944117144233,1.25,0.14183015908734253,1.5833333333333333,4.2659615362509819E-2,"MED",1,0.99975588917489722,0.99804878110747552,0.99342988135902821,0.98449643700540845,0.96994338213134401,0.94863195938333023,0.91967012375346879,0.88249690258459546,0.83696040486680634,0.78337746406081821,0.72256263415934552,0.65581601127150158,0.58486340594522557,0.5117485565808334,0.43868458498235319,0.36787944117144233,0.30135602960012431,0.24079047427224856,0.18739051073580684,0.14183015908734253,0.1042476116784382,7.4302596998186088E-2]
[null,21,1.05,0.31423159539154721,1.3125,0.1042476116784382,1.6666666666666667,2.7706293458343287E-2,"LOW",1,1,0.99799731961111438,0.9887238277478988,0.96923323447634413,0.93786428128134647,0.89398570815371281,0.83796688557875576,0.77113529134046954,0.69566478229732498,0.61438145002028,0.53049850169371948,0.44730941399885388,0.36787944117144233,0.29477787472512934,0.22988685432773631,0.17430857908883032,0.12837482715790938,9.1745055453900132E-2,6.3566037004625431E-2,4.2659615362509819E-2,2.7706293458343287E-2,1.7399623775943018E-2]
[null,22,1.1000000000000001,0.26421291623308618,1.375,7.4302596998186088E-2,1.75,1.7399623775943018E-2]
[null,23,1.1499999999999999,0.21852059775236127,1.4375,5.1279768317212739E-2,1.8333333333333333,1.0557001835039314E-2]
[null,24,1.2,0.17763933359513495,1.5,3.4218118311666032E-2,1.9166666666666667,6.1834167604025991E-3]
[null,25,1.25,0.14183015908734253,1.5625,2.2044387037315712E-2,2,3.4934892766462001E-3]
[null,26,1.3,0.11113606695062185,1.625,1.3691013298492581E-2,2.0833333333333335,1.9023765504646622E-3]
[null,27,1.35,8.5402918867102606E-2,1.6875,8.1852631215640261E-3,2.1666666666666665,9.9772275358520762E-4]
[null,28,1.4,6.4312581380308834E-2,1.75,4.7038450922375517E-3,2.25,5.0358904973695157E-4]
[null,29,1.45,4.7424087701688128E-2,1.8125,2.5945408793457215E-3,2.3333333333333335,2.4444352404878283E-4]
[null,30,1.5,3.4218118311666032E-2,1.875,1.371573202456029E-3,2.4166666666666665,1.140263759771398E-4]
[null,31,1.55,2.4140242929592149E-2,1.9375,6.9389260353988928E-4,2.5,5.1079991764563774E-5]
[null,32,1.6,1.6639098861723611E-2,2,3.3546262790251185E-4,2.5833333333333335,2.1959095185022815E-5]
[null,33,1.65,1.1196825257668099E-2,2.0625,1.5475278641870023E-4,2.6666666666666665,9.0531678969758171E-6]
[null,34,1.7,7.3504040094200737E-3,2.125,6.8020384544349979E-5,2.75,3.5769950249546146E-6]
[null,35,1.75,4.7038450922375517E-3,2.1875,2.8445252105928333E-5,2.8333333333333335,1.3535719757678054E-6]

{"sheet":"NRDV","index":8,"n_rows":41,"n_cols":32,"rows_kept":41,"cut":false,"hidden":false,"merged":[]}
[null,null,null,null,null,null,null,null,null,null,null,"Low = very urban",null,null,null,"alpha",null,null,"beta",null,null,"T"]
[null,null,"a",1,"a",1,"a",1,null,null,null,null,null,null,null,{"$f":"H2","v":1},{"$f":"F2","v":1},{"$f":"D2","v":1},{"$f":"H3","v":3.5},{"$f":"F3","v":3.5},{"$f":"D3","v":4},{"$f":"H4","v":16},{"$f":"F4","v":18},{"$f":"D4","v":22}]
[null,null,"b",4,"b",3.5,"b",3.5]
[null,null,"T",22,"T",18,"T",16]
[null,null,null,"High",null,"Medium",null,"Low"]
[null,0,null,1,null,1,null,1]
[null,1,{"$f":"(B7+$D$2)/$D$4","v":9.0909090909090912E-2},{"$f":"EXP(-(C7^$D$3))","v":0.99993170098694728},{"$f":"(B7+$F$2)/$F$4","v":0.1111111111111111},{"$f":"EXP(-(E7^$F$3))","v":0.99954285715082014},{"$f":"(B7+$H$2)/($H$4)","v":0.125},{"$f":"EXP(-(G7^$H$3))","v":0.99930970439770739}]
[null,2,{"$f":"(B8+$D$2)/$D$4","v":0.13636363636363635},{"$f":"EXP(-(C8^$D$3))","v":0.99965428421170144},0.16666666666666666,0.99811174661601665,{"$f":"(B8+$H$2)/($H$4)","v":0.1875},{"$f":"EXP(-(G8^$H$3))","v":0.99714973795673034}]
[null,3,0.18181818181818182,0.99890777538340336,0.22222222222222221,0.99484019430075354,0.25,0.99221793826024351]
[null,4,0.22727272727272727,0.99733553469563296,0.27777777777777779,0.98876713426901874,0.3125,0.98308485035915538]
[null,5,0.27272727272727271,0.99448286660289509,0.33333333333333331,0.97884365947685148,0.375,0.9682227760235359]
[null,6,0.31818181818181818,0.98980287616480034,0.3888888888888889,0.96398781391442789,0.4375,0.9461170758873565]
[null,7,0.36363636363636365,0.98266683360570417,0.44444444444444442,0.94315214918143109,0.5,0.91540531218622267]
[null,8,0.40909090909090912,0.97238076226380832,0.5,0.91540531218622267,0.5625,0.87504156865492155]
[null,9,0.45454545454545453,0.9582099783374104,0.55555555555555558,0.88002538488742699,0.625,0.82447363776629579]
[null,10,0.5,0.93941306281347581,0.61111111111111116,0.83659885357299946,0.6875,0.7638107132231482]
[null,11,0.54545454545454541,0.91528613768152967,0.66666666666666663,0.78511512738223255,0.75,0.69395062452664047]
[null,12,0.59090909090909094,0.88521726173514659,0.72222222222222221,0.72604308848294441,0.8125,0.61663151625667145]
[null,13,0.63636363636363635,0.84874921021818839,0.77777777777777779,0.66037418940127324,0.875,0.53437655303083631]
[null,14,0.68181818181818177,0.8056468965220992,0.83333333333333337,0.58961718732035462,0.9375,0.45031407962539971]
[null,15,0.72727272727272729,0.75596340404849871,0.88888888888888884,0.51573360119031286,1,0.36787944117144233]
[null,16,0.77272727272727271,0.70009636261492114,0.94444444444444442,0.4410106846138625,1.0625,0.29043425412437623]
[null,17,0.81818181818181823,0.63882474412653634,1,0.36787944117144233,1.125,0.22086628989871571]
[null,18,0.86363636363636365,0.57331571484929256,1.0555555555555556,0.2986971165653699,1.1875,0.16124827038359282,null,1,2,3,4,5,6,7,8,9,10,11,12,13,14,15,16,17,18,19,20,21,22,23]
[null,19,0.90909090909090906,0.50509262263553589,1.1111111111111112,0.23552383841911959,1.25,0.1126285397215772,"HIGH",1,0.99993170098694728,0.99965428421170144,0.99890777538340336,0.99733553469563296,0.99448286660289509,0.98980287616480034,0.98266683360570417,0.97238076226380832,0.9582099783374104,0.93941306281347581,0.91528613768152967,0.88521726173514659,0.84874921021818839,0.8056468965220992,0.75596340404849871,0.70009636261492114,0.63882474412653634,0.57331571484929256,0.50509262263553589,0.43595897947580853,0.36787944117144233,0.3028266339910764]
[null,20,0.95454545454545459,0.43595897947580853,1.1666666666666667,0.17992844523362203,1.3125,7.4998643785204142E-2,"MED",1,0.99954285715082014,0.99811174661601665,0.99484019430075354,0.98876713426901874,0.97884365947685148,0.96398781391442789,0.94315214918143109,0.91540531218622267,0.88002538488742699,0.83659885357299946,0.78511512738223255,0.72604308848294441,0.66037418940127324,0.58961718732035462,0.51573360119031286,0.4410106846138625,0.36787944117144233,0.2986971165653699,0.23552383841911959,0.17992844523362203,0.13285653569171121,9.4583643809030463E-2]
[null,21,1,0.36787944117144233,1.2222222222222223,0.13285653569171121,1.375,4.743892449148273E-2,"LOW",1,0.99930970439770739,0.99714973795673034,0.99221793826024351,0.98308485035915538,0.9682227760235359,0.9461170758873565,0.91540531218622267,0.87504156865492155,0.82447363776629579,0.7638107132231482,0.69395062452664047,0.61663151625667145,0.53437655303083631,0.45031407962539971,0.36787944117144233,0.29043425412437623,0.22086628989871571,0.16124827038359282,0.1126285397215772,7.4998643785204142E-2,4.743892449148273E-2,2.8397470377601205E-2]
[null,22,1.0454545454545454,0.3028266339910764,1.2777777777777777,9.4583643809030463E-2,1.4375,2.8397470377601205E-2]
[null,23,1.0909090909090908,0.24261081569532097,1.3333333333333333,6.4759948667864581E-2,1.5,1.6026463713884671E-2]
[null,24,1.1363636363636365,0.18871575858837278,1.3888888888888888,4.2534132649425287E-2,1.5625,8.4942010133964869E-3]
[null,25,1.1818181818181819,0.1421667336059049,1.4444444444444444,2.6728160637173731E-2,1.625,4.2112612103282097E-3]
[null,26,1.2272727272727273,0.10345345673205876,1.5,1.6026463713884671E-2,1.6875,1.9451355899336039E-3]
[null,27,1.2727272727272727,7.2522059812276315E-2,1.5555555555555556,9.1444505656538815E-3,1.75,8.3357513458033594E-4]
[null,28,1.3181818181818181,4.8837088317509582E-2,1.6111111111111112,4.9513175106801512E-3,1.8125,3.300444444254006E-4]
[null,29,1.3636363636363635,3.1500381636305558E-2,1.6666666666666667,2.5368651539416018E-3,1.875,1.2021970582554913E-4]
[null,30,1.4090909090909092,1.9402411176231489E-2,1.7222222222222223,1.2264115698132081E-3,1.9375,4.0111130340085055E-5]
[null,31,1.4545454545454546,1.1376596400621046E-2,1.7777777777777777,5.5778279722865705E-4,2,1.2204467326042014E-5]
[null,32,1.5,6.329715427485747E-3,1.8333333333333333,2.3795295070556539E-4,2.0625,3.3712028235793157E-6]
[null,33,1.5454545454545454,3.3306204182575847E-3,1.8888888888888888,9.4929433866200154E-5,2.125,8.415496445304511E-7]
[null,34,1.5909090909090908,1.6517512911680655E-3,1.9444444444444444,3.5307028411522015E-5,2.1875,1.8896866806536735E-7]
[null,35,1.6363636363636365,7.6932115485538318E-4,2,1.2204467326042014E-5,2.25,3.7990203997231695E-8]

{"sheet":"summary","index":9,"n_rows":46,"n_cols":25,"rows_kept":46,"cut":false,"hidden":false,"merged":[]}
[null,null,"Example Survival rates of a vehicle based on vehicle age"]
[]
["2Ws",null,1,2,3,4,5,6,7,8,9,10,11,12,13,14,15,16,17,18,19,20,21,22,23]
[null,"high survival",{"$f":"'2W'!J25","v":1},{"$f":"'2W'!K25","v":0.99962395593072184},{"$f":"'2W'!L25","v":0.99721210242313008},{"$f":"'2W'!M25","v":0.99070609273181665},{"$f":"'2W'!N25","v":0.97803059998929787},{"$f":"'2W'!O25","v":0.9572421271366931},{"$f":"'2W'!P25","v":0.92670064241583916},{"$f":"'2W'!Q25","v":0.88526166675167151},{"$f":"'2W'!R25","v":0.83246769347497218},{"$f":"'2W'!S25","v":0.76870667404893334},{"$f":"'2W'!T25","v":0.6952998618405275},{"$f":"'2W'!U25","v":0.61448400892792709},{"$f":"'2W'!V25","v":0.52926577375047668},{"$f":"'2W'!W25","v":0.44314887287862659},{"$f":"'2W'!X25","v":0.35976315616015775},{"$f":"'2W'!Y25","v":0.28245215375356364},{"$f":"'2W'!Z25","v":0.2138928098190257},{"$f":"'2W'!AA25","v":0.15582061555937687},{"$f":"'2W'!AB25","v":0.10891263873910779},{"$f":"'2W'!AC25","v":7.2844490590342703E-2},{"$f":"'2W'!AD25","v":4.6495851701612551E-2},{"$f":"'2W'!AE25","v":2.8246109981558069E-2},{"$f":"'2W'!AF25","v":1.6287410793246738E-2}]
[null,"med suvival",{"$f":"'2W'!J26","v":1},{"$f":"'2W'!K26","v":0.99821007256728356},{"$f":"'2W'!L26","v":0.98955093657503257},{"$f":"'2W'!M26","v":0.96834609902139246},{"$f":"'2W'!N26","v":0.92953371067688517},{"$f":"'2W'!O26","v":0.86960263572861962},{"$f":"'2W'!P26","v":0.78760642496801048},{"$f":"'2W'!Q26","v":0.68594017833491328},{"$f":"'2W'!R26","v":0.57050601756577102},{"$f":"'2W'!S26","v":0.4499850787363931},{"$f":"'2W'!T26","v":0.33421801863868855},{"$f":"'2W'!U26","v":0.23208770272368506},{"$f":"'2W'!V26","v":0.14959986955023064},{"$f":"'2W'!W26","v":8.8859831543264961E-2},{"$f":"'2W'!X26","v":4.8282244395587225E-2},{"$f":"'2W'!Y26","v":2.3821303229031976E-2},{"$f":"'2W'!Z26","v":1.0592672017782122E-2},{"$f":"'2W'!AA26","v":4.2135880712986283E-3},{"$f":"'2W'!AB26","v":1.4880917682074059E-3},{"$f":"'2W'!AC26","v":4.6306715536720831E-4},{"$f":"'2W'!AD26","v":1.2600342115576808E-4},{"$f":"'2W'!AE26","v":2.9751922715274671E-5},{"$f":"'2W'!AF26","v":6.0491711250218787E-6}]
[null,"low survival",{"$f":"'2W'!J27","v":1},{"$f":"'2W'!K27","v":0.99443975734045464},{"$f":"'2W'!L27","v":0.97319910650613128},{"$f":"'2W'!M27","v":0.92580095078005475},{"$f":"'2W'!N27","v":0.84533076201309976},{"$f":"'2W'!O27","v":0.73124936435816645},{"$f":"'2W'!P27","v":0.59134570281307786},{"$f":"'2W'!Q27","v":0.44101608846344886},{"$f":"'2W'!R27","v":0.29916599995680576},{"$f":"'2W'!S27","v":0.1820294839433666},{"$f":"'2W'!T27","v":9.7948467999535008E-2},{"$f":"'2W'!U27","v":4.5948296477402756E-2},{"$f":"'2W'!V27","v":1.852195780942846E-2},{"$f":"'2W'!W27","v":6.3230270151600687E-3},{"$f":"'2W'!X27","v":1.8013906833625028E-3},{"$f":"'2W'!Y27","v":4.2199964671559259E-4},{"$f":"'2W'!Z27","v":8.0088399794453005E-5},{"$f":"'2W'!AA27","v":1.213027467743192E-5},{"$f":"'2W'!AB27","v":1.4443274363053741E-6},{"$f":"'2W'!AC27","v":1.3315811573903781E-7},{"$f":"'2W'!AD27","v":9.3616798906598457E-9},{"$f":"'2W'!AE27","v":4.9427339344579847E-10},{"$f":"'2W'!AF27","v":1.9298277099429192E-11}]
[]
["3Ws",null,1,2,3,4,5,6,7,8,9,10,11,12,13,14,15,16,17,18,19,20,21,22,23]
[null,"high survival",{"$f":"'3W'!J25","v":1},{"$f":"'3W'!K25","v":0.9955654174830928},{"$f":"'3W'!L25","v":0.98237931461817762},{"$f":"'3W'!M25","v":0.96078943915232318},{"$f":"'3W'!N25","v":0.93135840211135201},{"$f":"'3W'!O25","v":0.89483931681436979},{"$f":"'3W'!P25","v":0.85214378896621135},{"$f":"'3W'!Q25","v":0.80430415606557226},{"$f":"'3W'!R25","v":0.75243215608930325},{"$f":"'3W'!S25","v":0.69767632607103103},{"$f":"'3W'!T25","v":0.64118038842995462},{"$f":"'3W'!U25","v":0.58404468844138291},{"$f":"'3W'!V25","v":0.52729242404304855},{"$f":"'3W'!W25","v":0.47184199249207454},{"$f":"'3W'!X25","v":0.41848630604256448},{"$f":"'3W'!Y25","v":0.36787944117144233},{"$f":"'3W'!Z25","v":0.32053052101554125},{"$f":"'3W'!AA25","v":0.27680432110155639},{"$f":"'3W'!AB25","v":0.23692775868212176},{"$f":"'3W'!AC25","v":0.2010011912257319},{"$f":"'3W'!AD25","v":0.16901331540606609},{"$f":"'3W'!AE25","v":0.14085842092104503},{"$f":"'3W'!AF25","v":0.1163548028087039}]
[null,"med suvival",{"$f":"'3W'!J26","v":1},{"$f":"'3W'!K26","v":0.99307961249031607},{"$f":"'3W'!L26","v":0.97260447711634834},{"$f":"'3W'!M26","v":0.93941306281347581},{"$f":"'3W'!N26","v":0.89483931681436979},{"$f":"'3W'!O26","v":0.84062374333450529},{"$f":"'3W'!P26","v":0.77880078307140488},{"$f":"'3W'!Q26","v":0.7115726362417969},{"$f":"'3W'!R26","v":0.64118038842995462},{"$f":"'3W'!S26","v":0.56978282473092301},{"$f":"'3W'!T26","v":0.49935178859927615},{"$f":"'3W'!U26","v":0.43159062049319485},{"$f":"'3W'!V26","v":0.36787944117144233},{"$f":"'3W'!W26","v":0.30924819293334382},{"$f":"'3W'!X26","v":0.25637575668641222},{"$f":"'3W'!Y26","v":0.20961138715109781},{"$f":"'3W'!Z26","v":0.16901331540606609},{"$f":"'3W'!AA26","v":0.13439871063288247},{"$f":"'3W'!AB26","v":0.10539922456186433},{"$f":"'3W'!AC26","v":8.1516938624689561E-2},{"$f":"'3W'!AD26","v":6.2176524022116292E-2},{"$f":"'3W'!AE26","v":4.677062238395898E-2},{"$f":"'3W'!AF26","v":3.4696685646156522E-2}]
[null,"low survival",{"$f":"'3W'!J27","v":1},{"$f":"'3W'!K27","v":1},{"$f":"'3W'!L27","v":0.98449643700540845},{"$f":"'3W'!M27","v":0.93941306281347581},{"$f":"'3W'!N27","v":0.86881505626284317},{"$f":"'3W'!O27","v":0.77880078307140488},{"$f":"'3W'!P27","v":0.67663384616172895},{"$f":"'3W'!Q27","v":0.56978282473092301},{"$f":"'3W'!R27","v":0.46504318813405632},{"$f":"'3W'!S27","v":0.36787944117144233},{"$f":"'3W'!T27","v":0.28206295169381546},{"$f":"'3W'!U27","v":0.20961138715109781},{"$f":"'3W'!V27","v":0.15097741845591461},{"$f":"'3W'!W27","v":0.10539922456186433},{"$f":"'3W'!X27","v":7.1316682697758038E-2},{"$f":"'3W'!Y27","v":4.677062238395898E-2},{"$f":"'3W'!Z27","v":2.972921638615875E-2},{"$f":"'3W'!AA27","v":1.8315638888734179E-2},{"$f":"'3W'!AB27","v":1.0936767510604966E-2},{"$f":"'3W'!AC27","v":6.329715427485747E-3},{"$f":"'3W'!AD27","v":3.550648557242539E-3},{"$f":"'3W'!AE27","v":1.9304541362277093E-3},{"$f":"'3W'!AF27","v":1.0172778436147007E-3}]
[]
["4W1",null,1,2,3,4,5,6,7,8,9,10,11,12,13,14,15,16,17,18,19,20,21,22,23]
[null,"high survival",{"$f":"'4Wreg'!J25","v":1},{"$f":"'4Wreg'!K25","v":0.99996948288753151},{"$f":"'4Wreg'!L25","v":0.99917636476448524},{"$f":"'4Wreg'!M25","v":0.99619256944894718},{"$f":"'4Wreg'!N25","v":0.98958706463401314},{"$f":"'4Wreg'!O25","v":0.9779983320167448},{"$f":"'4Wreg'!P25","v":0.96019499391521523},{"$f":"'4Wreg'!Q25","v":0.93515113678072315},{"$f":"'4Wreg'!R25","v":0.90212983668202085},{"$f":"'4Wreg'!S25","v":0.86076576515537484},{"$f":"'4Wreg'!T25","v":0.81113557525828783},{"$f":"'4Wreg'!U25","v":0.75380369900629074},{"$f":"'4Wreg'!V25","v":0.68983187324370621},{"$f":"'4Wreg'!W25","v":0.62074360406750007},{"$f":"'4Wreg'!X25","v":0.54843994749197733},{"$f":"'4Wreg'!Y25","v":0.47506995462771839},{"$f":"'4Wreg'!Z25","v":0.40286684948796952},{"$f":"'4Wreg'!AA25","v":0.33396796456615119},{"$f":"'4Wreg'!AB25","v":0.27024099011071245},{"$f":"'4Wreg'!AC25","v":0.21313982254476171},{"$f":"'4Wreg'!AD25","v":0.1636095934607863},{"$f":"'4Wreg'!AE25","v":0.1220527437380345},{"$f":"'4Wreg'!AF25","v":8.8357774809174144E-2}]
[null,"med suvival",{"$f":"'4Wreg'!J26","v":1},{"$f":"'4Wreg'!K26","v":0.99942146371298823},{"$f":"'4Wreg'!L26","v":0.9953810705865761},{"$f":"'4Wreg'!M26","v":0.98449643700540845},{"$f":"'4Wreg'!N26","v":0.96364044430128626},{"$f":"'4Wreg'!O26","v":0.93021646396868019},{"$f":"'4Wreg'!P26","v":0.88249690258459546},{"$f":"'4Wreg'!Q26","v":0.81996356685924188},{"$f":"'4Wreg'!R26","v":0.74356707920590637},{"$f":"'4Wreg'!S26","v":0.65581601127150158},{"$f":"'4Wreg'!T26","v":0.5606246313697707},{"$f":"'4Wreg'!U26","v":0.46289518647387157},{"$f":"'4Wreg'!V26","v":0.36787944117144233},{"$f":"'4Wreg'!W26","v":0.28043535696339622},{"$f":"'4Wreg'!X26","v":0.20434143914224162},{"$f":"'4Wreg'!Y26","v":0.14183015908734253},{"$f":"'4Wreg'!Z26","v":9.3446110197625359E-2},{"$f":"'4Wreg'!AA26","v":5.8240674353065236E-2},{"$f":"'4Wreg'!AB26","v":3.4218118311666032E-2},{"$f":"'4Wreg'!AC26","v":1.8886107054415104E-2},{"$f":"'4Wreg'!AD26","v":9.7583726452178006E-3},{"$f":"'4Wreg'!AE26","v":4.7038450922375517E-3},{"$f":"'4Wreg'!AF26","v":2.1079549130308744E-3}]
[null,"low survival",{"$f":"'4Wreg'!J27","v":1},{"$f":"'4Wreg'!K27","v":0.99804878110747552},{"$f":"'4Wreg'!L27","v":0.98449643700540845},{"$f":"'4Wreg'!M27","v":0.94863195938333023},{"$f":"'4Wreg'!N27","v":0.88249690258459546},{"$f":"'4Wreg'!O27","v":0.78337746406081821},{"$f":"'4Wreg'!P27","v":0.65581601127150158},{"$f":"'4Wreg'!Q27","v":0.5117485565808334},{"$f":"'4Wreg'!R27","v":0.36787944117144233},{"$f":"'4Wreg'!S27","v":0.24079047427224856},{"$f":"'4Wreg'!T27","v":0.14183015908734253},{"$f":"'4Wreg'!U27","v":7.4302596998186088E-2},{"$f":"'4Wreg'!V27","v":3.4218118311666032E-2},{"$f":"'4Wreg'!W27","v":1.3691013298492581E-2},{"$f":"'4Wreg'!X27","v":4.7038450922375517E-3},{"$f":"'4Wreg'!Y27","v":1.371573202456029E-3},{"$f":"'4Wreg'!Z27","v":3.3546262790251185E-4},{"$f":"'4Wreg'!AA27","v":6.8020384544349979E-5},{"$f":"'4Wreg'!AB27","v":1.1300936043146307E-5},{"$f":"'4Wreg'!AC27","v":1.5204801649468582E-6},{"$f":"'4Wreg'!AD27","v":1.6373771305908126E-7},{"$f":"'4Wreg'!AE27","v":1.3948545142192037E-8},{"$f":"'4Wreg'!AF27","v":9.2903472398850256E-10}]
[]
["4W2",null,1,2,3,4,5,6,7,8,9,10,11,12,13,14,15,16,17,18,19,20,21,22,23]
[null,"high survival",{"$f":"'4Wsuv'!J25","v":1},{"$f":"'4Wsuv'!K25","v":0.99885310756332479},{"$f":"'4Wsuv'!L25","v":0.99352949783320754},{"$f":"'4Wsuv'!M25","v":0.98227050637577851},{"$f":"'4Wsuv'!N25","v":0.96394444097566934},{"$f":"'4Wsuv'!O25","v":0.93786428128134647},{"$f":"'4Wsuv'!P25","v":0.90375869446365809},{"$f":"'4Wsuv'!Q25","v":0.86176682939316895},{"$f":"'4Wsuv'!R25","v":0.81242729534123626},{"$f":"'4Wsuv'!S25","v":0.75664976008309626},{"$f":"'4Wsuv'!T25","v":0.69566478229732498},{"$f":"'4Wsuv'!U25","v":0.63095207170900869},{"$f":"'4Wsuv'!V25","v":0.5641509608372548},{"$f":"'4Wsuv'!W25","v":0.49695967632110088},{"$f":"'4Wsuv'!X25","v":0.43103185306177116},{"$f":"'4Wsuv'!Y25","v":0.36787944117144233},{"$f":"'4Wsuv'!Z25","v":0.30879062028892795},{"$f":"'4Wsuv'!AA25","v":0.25476963613687775},{"$f":"'4Wsuv'!AB25","v":0.20650287056946617},{"$f":"'4Wsuv'!AC25","v":0.16435235569380099},{"$f":"'4Wsuv'!AD25","v":0.12837482715790938},{"$f":"'4Wsuv'!AE25","v":9.8361749511347588E-2},{"$f":"'4Wsuv'!AF25","v":7.3893905284140429E-2}]
[null,"med suvival",{"$f":"'4Wsuv'!J26","v":1},{"$f":"'4Wsuv'!K26","v":0.99449095900190587},{"$f":"'4Wsuv'!L26","v":0.9803843728316719},{"$f":"'4Wsuv'!M26","v":0.955096639048434},{"$f":"'4Wsuv'!N26","v":0.9174888297657835},{"$f":"'4Wsuv'!O26","v":0.86743240787387288},{"$f":"'4Wsuv'!P26","v":0.80578477749724886},{"$f":"'4Wsuv'!Q26","v":0.73431574119168719},{"$f":"'4Wsuv'!R26","v":0.65555448400571326},{"$f":"'4Wsuv'!S26","v":0.57255725386160217},{"$f":"'4Wsuv'!T26","v":0.48861686235154222},{"$f":"'4Wsuv'!U26","v":0.406949647740664},{"$f":"'4Wsuv'!V26","v":0.33040227085122259},{"$f":"'4Wsuv'!W26","v":0.26121850711209382},{"$f":"'4Wsuv'!X26","v":0.20089560287817543},{"$f":"'4Wsuv'!Y26","v":0.15014331331304312},{"$f":"'4Wsuv'!Z26","v":0.10894040123194072},{"$f":"'4Wsuv'!AA26","v":7.6667464508156188E-2},{"$f":"'4Wsuv'!AB26","v":5.2284906702111458E-2},{"$f":"'4Wsuv'!AC26","v":3.45223064271728E-2},{"$f":"'4Wsuv'!AD26","v":2.2049913865499475E-2},{"$f":"'4Wsuv'!AE26","v":1.36123313968699E-2},{"$f":"'4Wsuv'!AF26","v":8.1155947493921562E-3}]
[null,"low survival",{"$f":"'4Wsuv'!J27","v":1},{"$f":"'4Wsuv'!K27","v":0.99132364617163382},{"$f":"'4Wsuv'!L27","v":0.96923323447634413},{"$f":"'4Wsuv'!M27","v":0.93009180993889173},{"$f":"'4Wsuv'!N27","v":0.87298131233374532},{"$f":"'4Wsuv'!O27","v":0.79904341003519441},{"$f":"'4Wsuv'!P27","v":0.71132177136047881},{"$f":"'4Wsuv'!Q27","v":0.61438145002028},{"$f":"'4Wsuv'!R27","v":0.51370192867460474},{"$f":"'4Wsuv'!S27","v":0.41492886228773246},{"$f":"'4Wsuv'!T27","v":0.32312167563355693},{"$f":"'4Wsuv'!U27","v":0.24214386397262885},{"$f":"'4Wsuv'!V27","v":0.17430857908883032},{"$f":"'4Wsuv'!W27","v":0.12032562800838341},{"$f":"'4Wsuv'!X27","v":7.9520115816410886E-2},{"$f":"'4Wsuv'!Y27","v":5.023273473645698E-2},{"$f":"'4Wsuv'!Z27","v":3.0284641700516073E-2},{"$f":"'4Wsuv'!AA27","v":1.7399623775943018E-2},{"$f":"'4Wsuv'!AB27","v":9.512930680382975E-3},{"$f":"'4Wsuv'!AC27","v":4.9424096829461389E-3},{"$f":"'4Wsuv'!AD27","v":2.436812851671986E-3},{"$f":"'4Wsuv'!AE27","v":1.1386459410598941E-3},{"$f":"'4Wsuv'!AF27","v":5.0358904973695157E-4}]
[]
["TAXI",null,1,2,3,4,5,6,7,8,9,10,11,12,13,14,15,16,17,18,19,20,21,22,23]
[null,"high survival",{"$f":"'4Wtaxi'!J25","v":1},{"$f":"'4Wtaxi'!K25","v":0.99992766465336436},{"$f":"'4Wtaxi'!L25","v":0.99804878110747552},{"$f":"'4Wtaxi'!M25","v":0.99099851278935858},{"$f":"'4Wtaxi'!N25","v":0.97549336430348854},{"$f":"'4Wtaxi'!O25","v":0.94863195938333023},{"$f":"'4Wtaxi'!P25","v":0.90820802090778263},{"$f":"'4Wtaxi'!Q25","v":0.85305905255627457},{"$f":"'4Wtaxi'!R25","v":0.78337746406081821},{"$f":"'4Wtaxi'!S25","v":0.70089554470042981},{"$f":"'4Wtaxi'!T25","v":0.60886050827311133},{"$f":"'4Wtaxi'!U25","v":0.5117485565808334},{"$f":"'4Wtaxi'!V25","v":0.41472650696136121},{"$f":"'4Wtaxi'!W25","v":0.32294260298193045},{"$f":"'4Wtaxi'!X25","v":0.24079047427224856},{"$f":"'4Wtaxi'!Y25","v":0.17131512559240086},{"$f":"'4Wtaxi'!Z25","v":0.11590084306045448},{"$f":"'4Wtaxi'!AA25","v":7.4302596998186088E-2},{"$f":"'4Wtaxi'!AB25","v":4.4982121775260737E-2},{"$f":"'4Wtaxi'!AC25","v":2.5626332625890761E-2},{"$f":"'4Wtaxi'!AD25","v":1.3691013298492581E-2},{"$f":"'4Wtaxi'!AE25","v":6.8356429538228101E-3},{"$f":"'4Wtaxi'!AF25","v":3.1784093196151257E-3}]
[null,"med suvival",{"$f":"'4Wtaxi'!J26","v":1},{"$f":"'4Wtaxi'!K26","v":0.99997204954090257},{"$f":"'4Wtaxi'!L26","v":0.99869372204542539},{"$f":"'4Wtaxi'!M26","v":0.99221793826024351},{"$f":"'4Wtaxi'!N26","v":0.97495380161093692},{"$f":"'4Wtaxi'!O26","v":0.94070234391625962},{"$f":"'4Wtaxi'!P26","v":0.8839215166738098},{"$f":"'4Wtaxi'!Q26","v":0.80138824143853427},{"$f":"'4Wtaxi'!R26","v":0.69395062452664047},{"$f":"'4Wtaxi'!S26","v":0.56768120650150788},{"$f":"'4Wtaxi'!T26","v":0.43358571255979927},{"$f":"'4Wtaxi'!U26","v":0.30537564475719003},{"$f":"'4Wtaxi'!V26","v":0.19574221054679794},{"$f":"'4Wtaxi'!W26","v":0.1126285397215772},{"$f":"'4Wtaxi'!X26","v":5.7343406005375679E-2},{"$f":"'4Wtaxi'!Y26","v":2.5450226727642241E-2},{"$f":"'4Wtaxi'!Z26","v":9.69459285482311E-3},{"$f":"'4Wtaxi'!AA26","v":3.1190118572530616E-3},{"$f":"'4Wtaxi'!AB26","v":8.3357513458033594E-4},{"$f":"'4Wtaxi'!AC26","v":1.8192044697341219E-4},{"$f":"'4Wtaxi'!AD26","v":3.1855215434236252E-5},{"$f":"'4Wtaxi'!AE26","v":4.3952690176182534E-6},{"$f":"'4Wtaxi'!AF26","v":4.6906789613479491E-7}]
[null,"low survival",{"$f":"'4Wtaxi'!J27","v":1},{"$f":"'4Wtaxi'!K27","v":0.99998474132735227},{"$f":"'4Wtaxi'!L27","v":0.99876480157228498},{"$f":"'4Wtaxi'!M27","v":0.99050858735473868},{"$f":"'4Wtaxi'!N27","v":0.96402663745457706},{"$f":"'4Wtaxi'!O27","v":0.9047352540515905},{"$f":"'4Wtaxi'!P27","v":0.79979172363672657},{"$f":"'4Wtaxi'!Q27","v":0.64674300446771082},{"$f":"'4Wtaxi'!R27","v":0.46186797539220603},{"$f":"'4Wtaxi'!S27","v":0.27959047903653206},{"$f":"'4Wtaxi'!T27","v":0.13689505762598272},{"$f":"'4Wtaxi'!U27","v":5.1429437540487836E-2},{"$f":"'4Wtaxi'!V27","v":1.3981296735017539E-2},{"$f":"'4Wtaxi'!W27","v":2.5787139391146431E-3},{"$f":"'4Wtaxi'!X27","v":3.0077559038599891E-4},{"$f":"'4Wtaxi'!Y27","v":2.0558181146782099E-5},{"$f":"'4Wtaxi'!Z27","v":7.5858412562856943E-7},{"$f":"'4Wtaxi'!AA27","v":1.3839785522736584E-8},{"$f":"'4Wtaxi'!AB27","v":1.1367014382854554E-10},{"$f":"'4Wtaxi'!AC27","v":3.8044781779226885E-13},{"$f":"'4Wtaxi'!AD27","v":4.6695058873001265E-16},{"$f":"'4Wtaxi'!AE27","v":1.8802894482908929E-19},{"$f":"'4Wtaxi'!AF27","v":2.2093400106177021E-23}]
[]
["BUS",null,1,2,3,4,5,6,7,8,9,10,11,12,13,14,15,16,17,18,19,20,21,22,23]
[null,"high survival",{"$f":"BUS!J25","v":1},{"$f":"BUS!K25","v":1},{"$f":"BUS!L25","v":0.99942146371298823},{"$f":"BUS!M25","v":0.9953810705865761},{"$f":"BUS!N25","v":0.98449643700540845},{"$f":"BUS!O25","v":0.96364044430128626},{"$f":"BUS!P25","v":0.93021646396868019},{"$f":"BUS!Q25","v":0.88249690258459546},{"$f":"BUS!R25","v":0.81996356685924188},{"$f":"BUS!S25","v":0.74356707920590637},{"$f":"BUS!T25","v":0.65581601127150158},{"$f":"BUS!U25","v":0.5606246313697707},{"$f":"BUS!V25","v":0.46289518647387157},{"$f":"BUS!W25","v":0.36787944117144233},{"$f":"BUS!X25","v":0.28043535696339622},{"$f":"BUS!Y25","v":0.20434143914224162},{"$f":"BUS!Z25","v":0.14183015908734253},{"$f":"BUS!AA25","v":9.3446110197625359E-2},{"$f":"BUS!AB25","v":5.8240674353065236E-2},{"$f":"BUS!AC25","v":3.4218118311666032E-2},{"$f":"BUS!AD25","v":1.8886107054415104E-2},{"$f":"BUS!AE25","v":9.7583726452178006E-3},{"$f":"BUS!AF25","v":4.7038450922375517E-3}]
[null,"med suvival",{"$f":"BUS!J26","v":1},{"$f":"BUS!K26","v":0.99942146371298823},{"$f":"BUS!L26","v":0.9953810705865761},{"$f":"BUS!M26","v":0.98449643700540845},{"$f":"BUS!N26","v":0.96364044430128626},{"$f":"BUS!O26","v":0.93021646396868019},{"$f":"BUS!P26","v":0.88249690258459546},{"$f":"BUS!Q26","v":0.81996356685924188},{"$f":"BUS!R26","v":0.74356707920590637},{"$f":"BUS!S26","v":0.65581601127150158},{"$f":"BUS!T26","v":0.5606246313697707},{"$f":"BUS!U26","v":0.46289518647387157},{"$f":"BUS!V26","v":0.36787944117144233},{"$f":"BUS!W26","v":0.28043535696339622},{"$f":"BUS!X26","v":0.20434143914224162},{"$f":"BUS!Y26","v":0.14183015908734253},{"$f":"BUS!Z26","v":9.3446110197625359E-2},{"$f":"BUS!AA26","v":5.8240674353065236E-2},{"$f":"BUS!AB26","v":3.4218118311666032E-2},{"$f":"BUS!AC26","v":1.8886107054415104E-2},{"$f":"BUS!AD26","v":9.7583726452178006E-3},{"$f":"BUS!AE26","v":4.7038450922375517E-3},{"$f":"BUS!AF26","v":2.1079549130308744E-3}]
[null,"low survival",{"$f":"BUS!J27","v":1},{"$f":"BUS!K27","v":1},{"$f":"BUS!L27","v":0.99871224792111113},{"$f":"BUS!M27","v":0.98822829938446966},{"$f":"BUS!N27","v":0.95758469005766111},{"$f":"BUS!O27","v":0.89689290146475553},{"$f":"BUS!P27","v":0.80072569704831498},{"$f":"BUS!Q27","v":0.6714693428243077},{"$f":"BUS!R27","v":0.52086335566395825},{"$f":"BUS!S27","v":0.36787944117144233},{"$f":"BUS!T27","v":0.23275547127037124},{"$f":"BUS!U27","v":0.12973456141869394},{"$f":"BUS!V27","v":6.2626494619928252E-2},{"$f":"BUS!W27","v":2.5730139582959152E-2},{"$f":"BUS!X27","v":8.8390108363860468E-3},{"$f":"BUS!Y27","v":2.4934967257868538E-3},{"$f":"BUS!Z27","v":5.671553290591023E-4},{"$f":"BUS!AA27","v":1.0209703840960791E-4},{"$f":"BUS!AB27","v":1.4274587175946268E-5},{"$f":"BUS!AC27","v":1.5207983724818905E-6},{"$f":"BUS!AD27","v":1.2110377209347757E-7},{"$f":"BUS!AE27","v":7.0688411528558462E-9},{"$f":"BUS!AF27","v":2.9653784680689396E-10}]
[]
["HDV",null,1,2,3,4,5,6,7,8,9,10,11,12,13,14,15,16,17,18,19,20,21,22,23]
[null,"high survival",{"$f":"HDV!J25","v":1},{"$f":"HDV!K25","v":0.99998301909652854},{"$f":"HDV!L25","v":0.99976350220048016},{"$f":"HDV!M25","v":0.99889646653188979},{"$f":"HDV!N25","v":0.99671089871324148},{"$f":"HDV!O25","v":0.9923373104963692},{"$f":"HDV!P25","v":0.98473826462188041},{"$f":"HDV!Q25","v":0.97275093080134944},{"$f":"HDV!R25","v":0.95514819599018719},{"$f":"HDV!S25","v":0.9307229332919027},{"$f":"HDV!T25","v":0.89839704269575626},{"$f":"HDV!U25","v":0.85735226408404108},{"$f":"HDV!V25","v":0.80717349503856506},{"$f":"HDV!W25","v":0.74798802413617627},{"$f":"HDV!X25","v":0.68057711990836134},{"$f":"HDV!Y25","v":0.6064320101723647},{"$f":"HDV!Z25","v":0.52772712691190171},{"$f":"HDV!AA25","v":0.44719192597158147},{"$f":"HDV!AB25","v":0.36787944117144233},{"$f":"HDV!AC25","v":0.29285307175563685},{"$f":"HDV!AD25","v":0.22483764512417678},{"$f":"HDV!AE25","v":0.16589863633561694},{"$f":"HDV!AF25","v":0.11721647110532386}]
[null,"med suvival",{"$f":"HDV!J26","v":1},{"$f":"HDV!K26","v":0.99963002046944205},{"$f":"HDV!L26","v":0.99827404377187223},{"$f":"HDV!M26","v":0.99485893297774963},{"$f":"HDV!N26","v":0.98803756936556997},{"$f":"HDV!O26","v":0.97622587991517784},{"$f":"HDV!P26","v":0.95769763655238938},{"$f":"HDV!Q26","v":0.9307229332919027},{"$f":"HDV!R26","v":0.8937562427048783},{"$f":"HDV!S26","v":0.8456691800120566},{"$f":"HDV!T26","v":0.78600761927346741},{"$f":"HDV!U26","v":0.71523433876783438},{"$f":"HDV!V26","v":0.63490148978758976},{"$f":"HDV!W26","v":0.54768921218647837},{"$f":"HDV!X26","v":0.45725606898767818},{"$f":"HDV!Y26","v":0.36787944117144233},{"$f":"HDV!Z26","v":0.28391787248536582},{"$f":"HDV!AA26","v":0.2091895555239715},{"$f":"HDV!AB26","v":0.14640835701218594},{"$f":"HDV!AC26","v":9.6825492200565355E-2},{"$f":"HDV!AD26","v":6.0177313289215328E-2},{"$f":"HDV!AE26","v":3.4947752858523085E-2},{"$f":"HDV!AF26","v":1.8852852849602374E-2}]
[null,"low survival",{"$f":"HDV!J27","v":1},{"$f":"HDV!K27","v":0.99889646653188979},{"$f":"HDV!L27","v":0.99485893297774963},{"$f":"HDV!M27","v":0.98473826462188041},{"$f":"HDV!N27","v":0.964728560695985},{"$f":"HDV!O27","v":0.9307229332919027},{"$f":"HDV!P27","v":0.8790016097104203},{"$f":"HDV!Q27","v":0.80717349503856506},{"$f":"HDV!R27","v":0.71523433876783438},{"$f":"HDV!S27","v":0.6064320101723647},{"$f":"HDV!T27","v":0.48750172651913676},{"$f":"HDV!U27","v":0.36787944117144233},{"$f":"HDV!V27","v":0.25782118405479332},{"$f":"HDV!W27","v":0.16589863633561694},{"$f":"HDV!X27","v":9.6825492200565355E-2},{"$f":"HDV!Y27","v":5.0601060128763822E-2},{"$f":"HDV!Z27","v":2.3358551350403371E-2},{"$f":"HDV!AA27","v":9.389424259338178E-3},{"$f":"HDV!AB27","v":3.2376494646815203E-3},{"$f":"HDV!AC27","v":9.4278702418669849E-4},{"$f":"HDV!AD27","v":2.2808284610005962E-4},{"$f":"HDV!AE27","v":4.5069163660100762E-5},{"$f":"HDV!AF27","v":7.1466065229169446E-6}]
[]
["LDV",null,1,2,3,4,5,6,7,8,9,10,11,12,13,14,15,16,17,18,19,20,21,22,23]
[null,"high survival",{"$f":"LDV!J25","v":1},{"$f":"LDV!K25","v":0.99987500781217453},{"$f":"LDV!L25","v":0.99900049983337502},{"$f":"LDV!M25","v":0.99663068891067585},{"$f":"LDV!N25","v":0.99203191483706066},{"$f":"LDV!O25","v":0.98449643700540845},{"$f":"LDV!P25","v":0.97336124152433678},{"$f":"LDV!Q25","v":0.95803113647478366},{"$f":"LDV!R25","v":0.93800499953072947},{"$f":"LDV!S25","v":0.91290359081805705},{"$f":"LDV!T25","v":0.88249690258459546},{"$f":"LDV!U25","v":0.84672865140207287},{"$f":"LDV!V25","v":0.80573530187347964},{"$f":"LDV!W25","v":0.75985701618526924},{"$f":"LDV!X25","v":0.70963821156020868},{"$f":"LDV!Y25","v":0.65581601127150158},{"$f":"LDV!Z25","v":0.59929578784553839},{"$f":"LDV!AA25","v":0.54111416311718274},{"$f":"LDV!AB25","v":0.4823911401151259},{"$f":"LDV!AC25","v":0.4242743419859672},{"$f":"LDV!AD25","v":0.36787944117144233},{"$f":"LDV!AE25","v":0.31423159539154721},{"$f":"LDV!AF25","v":0.26421291623308618}]
[null,"med suvival",{"$f":"LDV!J26","v":1},{"$f":"LDV!K26","v":0.99975588917489722},{"$f":"LDV!L26","v":0.99804878110747552},{"$f":"LDV!M26","v":0.99342988135902821},{"$f":"LDV!N26","v":0.98449643700540845},{"$f":"LDV!O26","v":0.96994338213134401},{"$f":"LDV!P26","v":0.94863195938333023},{"$f":"LDV!Q26","v":0.91967012375346879},{"$f":"LDV!R26","v":0.88249690258459546},{"$f":"LDV!S26","v":0.83696040486680634},{"$f":"LDV!T26","v":0.78337746406081821},{"$f":"LDV!U26","v":0.72256263415934552},{"$f":"LDV!V26","v":0.65581601127150158},{"$f":"LDV!W26","v":0.58486340594522557},{"$f":"LDV!X26","v":0.5117485565808334},{"$f":"LDV!Y26","v":0.43868458498235319},{"$f":"LDV!Z26","v":0.36787944117144233},{"$f":"LDV!AA26","v":0.30135602960012431},{"$f":"LDV!AB26","v":0.24079047427224856},{"$f":"LDV!AC26","v":0.18739051073580684},{"$f":"LDV!AD26","v":0.14183015908734253},{"$f":"LDV!AE26","v":0.1042476116784382},{"$f":"LDV!AF26","v":7.4302596998186088E-2}]
[null,"low survival",{"$f":"LDV!J27","v":1},{"$f":"LDV!K27","v":1},{"$f":"LDV!L27","v":0.99799731961111438},{"$f":"LDV!M27","v":0.9887238277478988},{"$f":"LDV!N27","v":0.96923323447634413},{"$f":"LDV!O27","v":0.93786428128134647},{"$f":"LDV!P27","v":0.89398570815371281},{"$f":"LDV!Q27","v":0.83796688557875576},{"$f":"LDV!R27","v":0.77113529134046954},{"$f":"LDV!S27","v":0.69566478229732498},{"$f":"LDV!T27","v":0.61438145002028},{"$f":"LDV!U27","v":0.53049850169371948},{"$f":"LDV!V27","v":0.44730941399885388},{"$f":"LDV!W27","v":0.36787944117144233},{"$f":"LDV!X27","v":0.29477787472512934},{"$f":"LDV!Y27","v":0.22988685432773631},{"$f":"LDV!Z27","v":0.17430857908883032},{"$f":"LDV!AA27","v":0.12837482715790938},{"$f":"LDV!AB27","v":9.1745055453900132E-2},{"$f":"LDV!AC27","v":6.3566037004625431E-2},{"$f":"LDV!AD27","v":4.2659615362509819E-2},{"$f":"LDV!AE27","v":2.7706293458343287E-2},{"$f":"LDV!AF27","v":1.7399623775943018E-2}]
[]
["NONRD",null,1,2,3,4,5,6,7,8,9,10,11,12,13,14,15,16,17,18,19,20,21,22,23]
[null,"high survival",{"$f":"NRDV!J25","v":1},{"$f":"NRDV!K25","v":0.99993170098694728},{"$f":"NRDV!L25","v":0.99965428421170144},{"$f":"NRDV!M25","v":0.99890777538340336},{"$f":"NRDV!N25","v":0.99733553469563296},{"$f":"NRDV!O25","v":0.99448286660289509},{"$f":"NRDV!P25","v":0.98980287616480034},{"$f":"NRDV!Q25","v":0.98266683360570417},{"$f":"NRDV!R25","v":0.97238076226380832},{"$f":"NRDV!S25","v":0.9582099783374104},{"$f":"NRDV!T25","v":0.93941306281347581},{"$f":"NRDV!U25","v":0.91528613768152967},{"$f":"NRDV!V25","v":0.88521726173514659},{"$f":"NRDV!W25","v":0.84874921021818839},{"$f":"NRDV!X25","v":0.8056468965220992},{"$f":"NRDV!Y25","v":0.75596340404849871},{"$f":"NRDV!Z25","v":0.70009636261492114},{"$f":"NRDV!AA25","v":0.63882474412653634},{"$f":"NRDV!AB25","v":0.57331571484929256},{"$f":"NRDV!AC25","v":0.50509262263553589},{"$f":"NRDV!AD25","v":0.43595897947580853},{"$f":"NRDV!AE25","v":0.36787944117144233},{"$f":"NRDV!AF25","v":0.3028266339910764}]
[null,"med suvival",{"$f":"NRDV!J26","v":1},{"$f":"NRDV!K26","v":0.99954285715082014},{"$f":"NRDV!L26","v":0.99811174661601665},{"$f":"NRDV!M26","v":0.99484019430075354},{"$f":"NRDV!N26","v":0.98876713426901874},{"$f":"NRDV!O26","v":0.97884365947685148},{"$f":"NRDV!P26","v":0.96398781391442789},{"$f":"NRDV!Q26","v":0.94315214918143109},{"$f":"NRDV!R26","v":0.91540531218622267},{"$f":"NRDV!S26","v":0.88002538488742699},{"$f":"NRDV!T26","v":0.83659885357299946},{"$f":"NRDV!U26","v":0.78511512738223255},{"$f":"NRDV!V26","v":0.72604308848294441},{"$f":"NRDV!W26","v":0.66037418940127324},{"$f":"NRDV!X26","v":0.58961718732035462},{"$f":"NRDV!Y26","v":0.51573360119031286},{"$f":"NRDV!Z26","v":0.4410106846138625},{"$f":"NRDV!AA26","v":0.36787944117144233},{"$f":"NRDV!AB26","v":0.2986971165653699},{"$f":"NRDV!AC26","v":0.23552383841911959},{"$f":"NRDV!AD26","v":0.17992844523362203},{"$f":"NRDV!AE26","v":0.13285653569171121},{"$f":"NRDV!AF26","v":9.4583643809030463E-2}]
[null,"low survival",{"$f":"NRDV!J27","v":1},{"$f":"NRDV!K27","v":0.99930970439770739},{"$f":"NRDV!L27","v":0.99714973795673034},{"$f":"NRDV!M27","v":0.99221793826024351},{"$f":"NRDV!N27","v":0.98308485035915538},{"$f":"NRDV!O27","v":0.9682227760235359},{"$f":"NRDV!P27","v":0.9461170758873565},{"$f":"NRDV!Q27","v":0.91540531218622267},{"$f":"NRDV!R27","v":0.87504156865492155},{"$f":"NRDV!S27","v":0.82447363776629579},{"$f":"NRDV!T27","v":0.7638107132231482},{"$f":"NRDV!U27","v":0.69395062452664047},{"$f":"NRDV!V27","v":0.61663151625667145},{"$f":"NRDV!W27","v":0.53437655303083631},{"$f":"NRDV!X27","v":0.45031407962539971},{"$f":"NRDV!Y27","v":0.36787944117144233},{"$f":"NRDV!Z27","v":0.29043425412437623},{"$f":"NRDV!AA27","v":0.22086628989871571},{"$f":"NRDV!AB27","v":0.16124827038359282},{"$f":"NRDV!AC27","v":0.1126285397215772},{"$f":"NRDV!AD27","v":7.4998643785204142E-2},{"$f":"NRDV!AE27","v":4.743892449148273E-2},{"$f":"NRDV!AF27","v":2.8397470377601205E-2}]

{"sheet":"summary2","index":10,"n_rows":30,"n_cols":14,"rows_kept":30,"cut":false,"hidden":false,"merged":[]}
[]
[]
[null,null,1,3,5,7,9,11,13,15,17,19,21,23]
["2Ws","high survival",{"$f":"'2W'!J25","v":1},{"$f":"'2W'!L25","v":0.99721210242313008},{"$f":"'2W'!N25","v":0.97803059998929787},{"$f":"'2W'!P25","v":0.92670064241583916},{"$f":"'2W'!R25","v":0.83246769347497218},{"$f":"'2W'!T25","v":0.6952998618405275},{"$f":"'2W'!V25","v":0.52926577375047668},{"$f":"'2W'!X25","v":0.35976315616015775},{"$f":"'2W'!Z25","v":0.2138928098190257},{"$f":"'2W'!AB25","v":0.10891263873910779},{"$f":"'2W'!AD25","v":4.6495851701612551E-2},{"$f":"'2W'!AF25","v":1.6287410793246738E-2}]
[null,"med suvival",{"$f":"'2W'!J26","v":1},{"$f":"'2W'!L26","v":0.98955093657503257},{"$f":"'2W'!N26","v":0.92953371067688517},{"$f":"'2W'!P26","v":0.78760642496801048},{"$f":"'2W'!R26","v":0.57050601756577102},{"$f":"'2W'!T26","v":0.33421801863868855},{"$f":"'2W'!V26","v":0.14959986955023064},{"$f":"'2W'!X26","v":4.8282244395587225E-2},{"$f":"'2W'!Z26","v":1.0592672017782122E-2},{"$f":"'2W'!AB26","v":1.4880917682074059E-3},{"$f":"'2W'!AD26","v":1.2600342115576808E-4},{"$f":"'2W'!AF26","v":6.0491711250218787E-6}]
[null,"low survival",{"$f":"'2W'!J27","v":1},{"$f":"'2W'!L27","v":0.97319910650613128},{"$f":"'2W'!N27","v":0.84533076201309976},{"$f":"'2W'!P27","v":0.59134570281307786},{"$f":"'2W'!R27","v":0.29916599995680576},{"$f":"'2W'!T27","v":9.7948467999535008E-2},{"$f":"'2W'!V27","v":1.852195780942846E-2},{"$f":"'2W'!X27","v":1.8013906833625028E-3},{"$f":"'2W'!Z27","v":8.0088399794453005E-5},{"$f":"'2W'!AB27","v":1.4443274363053741E-6},{"$f":"'2W'!AD27","v":9.3616798906598457E-9},{"$f":"'2W'!AF27","v":1.9298277099429192E-11}]
["3Ws","high survival",{"$f":"'3W'!J25","v":1},{"$f":"'3W'!L25","v":0.98237931461817762},{"$f":"'3W'!N25","v":0.93135840211135201},{"$f":"'3W'!P25","v":0.85214378896621135},{"$f":"'3W'!R25","v":0.75243215608930325},{"$f":"'3W'!T25","v":0.64118038842995462},{"$f":"'3W'!V25","v":0.52729242404304855},{"$f":"'3W'!X25","v":0.41848630604256448},{"$f":"'3W'!Z25","v":0.32053052101554125},{"$f":"'3W'!AB25","v":0.23692775868212176},{"$f":"'3W'!AD25","v":0.16901331540606609},{"$f":"'3W'!AF25","v":0.1163548028087039}]
[null,"med suvival",{"$f":"'3W'!J26","v":1},{"$f":"'3W'!L26","v":0.97260447711634834},{"$f":"'3W'!N26","v":0.89483931681436979},{"$f":"'3W'!P26","v":0.77880078307140488},{"$f":"'3W'!R26","v":0.64118038842995462},{"$f":"'3W'!T26","v":0.49935178859927615},{"$f":"'3W'!V26","v":0.36787944117144233},{"$f":"'3W'!X26","v":0.25637575668641222},{"$f":"'3W'!Z26","v":0.16901331540606609},{"$f":"'3W'!AB26","v":0.10539922456186433},{"$f":"'3W'!AD26","v":6.2176524022116292E-2},{"$f":"'3W'!AF26","v":3.4696685646156522E-2}]
[null,"low survival",{"$f":"'3W'!J27","v":1},{"$f":"'3W'!L27","v":0.98449643700540845},{"$f":"'3W'!N27","v":0.86881505626284317},{"$f":"'3W'!P27","v":0.67663384616172895},{"$f":"'3W'!R27","v":0.46504318813405632},{"$f":"'3W'!T27","v":0.28206295169381546},{"$f":"'3W'!V27","v":0.15097741845591461},{"$f":"'3W'!X27","v":7.1316682697758038E-2},{"$f":"'3W'!Z27","v":2.972921638615875E-2},{"$f":"'3W'!AB27","v":1.0936767510604966E-2},{"$f":"'3W'!AD27","v":3.550648557242539E-3},{"$f":"'3W'!AF27","v":1.0172778436147007E-3}]
["4W1","high survival",{"$f":"'4Wreg'!J25","v":1},{"$f":"'4Wreg'!L25","v":0.99917636476448524},{"$f":"'4Wreg'!N25","v":0.98958706463401314},{"$f":"'4Wreg'!P25","v":0.96019499391521523},{"$f":"'4Wreg'!R25","v":0.90212983668202085},{"$f":"'4Wreg'!T25","v":0.81113557525828783},{"$f":"'4Wreg'!V25","v":0.68983187324370621},{"$f":"'4Wreg'!X25","v":0.54843994749197733},{"$f":"'4Wreg'!Z25","v":0.40286684948796952},{"$f":"'4Wreg'!AB25","v":0.27024099011071245},{"$f":"'4Wreg'!AD25","v":0.1636095934607863},{"$f":"'4Wreg'!AF25","v":8.8357774809174144E-2}]
[null,"med suvival",{"$f":"'4Wreg'!J26","v":1},{"$f":"'4Wreg'!L26","v":0.9953810705865761},{"$f":"'4Wreg'!N26","v":0.96364044430128626},{"$f":"'4Wreg'!P26","v":0.88249690258459546},{"$f":"'4Wreg'!R26","v":0.74356707920590637},{"$f":"'4Wreg'!T26","v":0.5606246313697707},{"$f":"'4Wreg'!V26","v":0.36787944117144233},{"$f":"'4Wreg'!X26","v":0.20434143914224162},{"$f":"'4Wreg'!Z26","v":9.3446110197625359E-2},{"$f":"'4Wreg'!AB26","v":3.4218118311666032E-2},{"$f":"'4Wreg'!AD26","v":9.7583726452178006E-3},{"$f":"'4Wreg'!AF26","v":2.1079549130308744E-3}]
[null,"low survival",{"$f":"'4Wreg'!J27","v":1},{"$f":"'4Wreg'!L27","v":0.98449643700540845},{"$f":"'4Wreg'!N27","v":0.88249690258459546},{"$f":"'4Wreg'!P27","v":0.65581601127150158},{"$f":"'4Wreg'!R27","v":0.36787944117144233},{"$f":"'4Wreg'!T27","v":0.14183015908734253},{"$f":"'4Wreg'!V27","v":3.4218118311666032E-2},{"$f":"'4Wreg'!X27","v":4.7038450922375517E-3},{"$f":"'4Wreg'!Z27","v":3.3546262790251185E-4},{"$f":"'4Wreg'!AB27","v":1.1300936043146307E-5},{"$f":"'4Wreg'!AD27","v":1.6373771305908126E-7},{"$f":"'4Wreg'!AF27","v":9.2903472398850256E-10}]
["4W2","high survival",{"$f":"'4Wsuv'!J25","v":1},{"$f":"'4Wsuv'!L25","v":0.99352949783320754},{"$f":"'4Wsuv'!N25","v":0.96394444097566934},{"$f":"'4Wsuv'!P25","v":0.90375869446365809},{"$f":"'4Wsuv'!R25","v":0.81242729534123626},{"$f":"'4Wsuv'!T25","v":0.69566478229732498},{"$f":"'4Wsuv'!V25","v":0.5641509608372548},{"$f":"'4Wsuv'!X25","v":0.43103185306177116},{"$f":"'4Wsuv'!Z25","v":0.30879062028892795},{"$f":"'4Wsuv'!AB25","v":0.20650287056946617},{"$f":"'4Wsuv'!AD25","v":0.12837482715790938},{"$f":"'4Wsuv'!AF25","v":7.3893905284140429E-2}]
[null,"med suvival",{"$f":"'4Wsuv'!J26","v":1},{"$f":"'4Wsuv'!L26","v":0.9803843728316719},{"$f":"'4Wsuv'!N26","v":0.9174888297657835},{"$f":"'4Wsuv'!P26","v":0.80578477749724886},{"$f":"'4Wsuv'!R26","v":0.65555448400571326},{"$f":"'4Wsuv'!T26","v":0.48861686235154222},{"$f":"'4Wsuv'!V26","v":0.33040227085122259},{"$f":"'4Wsuv'!X26","v":0.20089560287817543},{"$f":"'4Wsuv'!Z26","v":0.10894040123194072},{"$f":"'4Wsuv'!AB26","v":5.2284906702111458E-2},{"$f":"'4Wsuv'!AD26","v":2.2049913865499475E-2},{"$f":"'4Wsuv'!AF26","v":8.1155947493921562E-3}]
[null,"low survival",{"$f":"'4Wsuv'!J27","v":1},{"$f":"'4Wsuv'!L27","v":0.96923323447634413},{"$f":"'4Wsuv'!N27","v":0.87298131233374532},{"$f":"'4Wsuv'!P27","v":0.71132177136047881},{"$f":"'4Wsuv'!R27","v":0.51370192867460474},{"$f":"'4Wsuv'!T27","v":0.32312167563355693},{"$f":"'4Wsuv'!V27","v":0.17430857908883032},{"$f":"'4Wsuv'!X27","v":7.9520115816410886E-2},{"$f":"'4Wsuv'!Z27","v":3.0284641700516073E-2},{"$f":"'4Wsuv'!AB27","v":9.512930680382975E-3},{"$f":"'4Wsuv'!AD27","v":2.436812851671986E-3},{"$f":"'4Wsuv'!AF27","v":5.0358904973695157E-4}]
["TAXI","high survival",{"$f":"'4Wtaxi'!J25","v":1},{"$f":"'4Wtaxi'!L25","v":0.99804878110747552},{"$f":"'4Wtaxi'!N25","v":0.97549336430348854},{"$f":"'4Wtaxi'!P25","v":0.90820802090778263},{"$f":"'4Wtaxi'!R25","v":0.78337746406081821},{"$f":"'4Wtaxi'!T25","v":0.60886050827311133},{"$f":"'4Wtaxi'!V25","v":0.41472650696136121},{"$f":"'4Wtaxi'!X25","v":0.24079047427224856},{"$f":"'4Wtaxi'!Z25","v":0.11590084306045448},{"$f":"'4Wtaxi'!AB25","v":4.4982121775260737E-2},{"$f":"'4Wtaxi'!AD25","v":1.3691013298492581E-2},{"$f":"'4Wtaxi'!AF25","v":3.1784093196151257E-3}]
[null,"med suvival",{"$f":"'4Wtaxi'!J26","v":1},{"$f":"'4Wtaxi'!L26","v":0.99869372204542539},{"$f":"'4Wtaxi'!N26","v":0.97495380161093692},{"$f":"'4Wtaxi'!P26","v":0.8839215166738098},{"$f":"'4Wtaxi'!R26","v":0.69395062452664047},{"$f":"'4Wtaxi'!T26","v":0.43358571255979927},{"$f":"'4Wtaxi'!V26","v":0.19574221054679794},{"$f":"'4Wtaxi'!X26","v":5.7343406005375679E-2},{"$f":"'4Wtaxi'!Z26","v":9.69459285482311E-3},{"$f":"'4Wtaxi'!AB26","v":8.3357513458033594E-4},{"$f":"'4Wtaxi'!AD26","v":3.1855215434236252E-5},{"$f":"'4Wtaxi'!AF26","v":4.6906789613479491E-7}]
[null,"low survival",{"$f":"'4Wtaxi'!J27","v":1},{"$f":"'4Wtaxi'!L27","v":0.99876480157228498},{"$f":"'4Wtaxi'!N27","v":0.96402663745457706},{"$f":"'4Wtaxi'!P27","v":0.79979172363672657},{"$f":"'4Wtaxi'!R27","v":0.46186797539220603},{"$f":"'4Wtaxi'!T27","v":0.13689505762598272},{"$f":"'4Wtaxi'!V27","v":1.3981296735017539E-2},{"$f":"'4Wtaxi'!X27","v":3.0077559038599891E-4},{"$f":"'4Wtaxi'!Z27","v":7.5858412562856943E-7},{"$f":"'4Wtaxi'!AB27","v":1.1367014382854554E-10},{"$f":"'4Wtaxi'!AD27","v":4.6695058873001265E-16},{"$f":"'4Wtaxi'!AF27","v":2.2093400106177021E-23}]
["BUS","high survival",{"$f":"BUS!J25","v":1},{"$f":"BUS!L25","v":0.99942146371298823},{"$f":"BUS!N25","v":0.98449643700540845},{"$f":"BUS!P25","v":0.93021646396868019},{"$f":"BUS!R25","v":0.81996356685924188},{"$f":"BUS!T25","v":0.65581601127150158},{"$f":"BUS!V25","v":0.46289518647387157},{"$f":"BUS!X25","v":0.28043535696339622},{"$f":"BUS!Z25","v":0.14183015908734253},{"$f":"BUS!AB25","v":5.8240674353065236E-2},{"$f":"BUS!AD25","v":1.8886107054415104E-2},{"$f":"BUS!AF25","v":4.7038450922375517E-3}]
[null,"med suvival",{"$f":"BUS!J26","v":1},{"$f":"BUS!L26","v":0.9953810705865761},{"$f":"BUS!N26","v":0.96364044430128626},{"$f":"BUS!P26","v":0.88249690258459546},{"$f":"BUS!R26","v":0.74356707920590637},{"$f":"BUS!T26","v":0.5606246313697707},{"$f":"BUS!V26","v":0.36787944117144233},{"$f":"BUS!X26","v":0.20434143914224162},{"$f":"BUS!Z26","v":9.3446110197625359E-2},{"$f":"BUS!AB26","v":3.4218118311666032E-2},{"$f":"BUS!AD26","v":9.7583726452178006E-3},{"$f":"BUS!AF26","v":2.1079549130308744E-3}]
[null,"low survival",{"$f":"BUS!J27","v":1},{"$f":"BUS!L27","v":0.99871224792111113},{"$f":"BUS!N27","v":0.95758469005766111},{"$f":"BUS!P27","v":0.80072569704831498},{"$f":"BUS!R27","v":0.52086335566395825},{"$f":"BUS!T27","v":0.23275547127037124},{"$f":"BUS!V27","v":6.2626494619928252E-2},{"$f":"BUS!X27","v":8.8390108363860468E-3},{"$f":"BUS!Z27","v":5.671553290591023E-4},{"$f":"BUS!AB27","v":1.4274587175946268E-5},{"$f":"BUS!AD27","v":1.2110377209347757E-7},{"$f":"BUS!AF27","v":2.9653784680689396E-10}]
["HDV","high survival",{"$f":"HDV!J25","v":1},{"$f":"HDV!L25","v":0.99976350220048016},{"$f":"HDV!N25","v":0.99671089871324148},{"$f":"HDV!P25","v":0.98473826462188041},{"$f":"HDV!R25","v":0.95514819599018719},{"$f":"HDV!T25","v":0.89839704269575626},{"$f":"HDV!V25","v":0.80717349503856506},{"$f":"HDV!X25","v":0.68057711990836134},{"$f":"HDV!Z25","v":0.52772712691190171},{"$f":"HDV!AB25","v":0.36787944117144233},{"$f":"HDV!AD25","v":0.22483764512417678},{"$f":"HDV!AF25","v":0.11721647110532386}]
[null,"med suvival",{"$f":"HDV!J26","v":1},{"$f":"HDV!L26","v":0.99827404377187223},{"$f":"HDV!N26","v":0.98803756936556997},{"$f":"HDV!P26","v":0.95769763655238938},{"$f":"HDV!R26","v":0.8937562427048783},{"$f":"HDV!T26","v":0.78600761927346741},{"$f":"HDV!V26","v":0.63490148978758976},{"$f":"HDV!X26","v":0.45725606898767818},{"$f":"HDV!Z26","v":0.28391787248536582},{"$f":"HDV!AB26","v":0.14640835701218594},{"$f":"HDV!AD26","v":6.0177313289215328E-2},{"$f":"HDV!AF26","v":1.8852852849602374E-2}]
[null,"low survival",{"$f":"HDV!J27","v":1},{"$f":"HDV!L27","v":0.99485893297774963},{"$f":"HDV!N27","v":0.964728560695985},{"$f":"HDV!P27","v":0.8790016097104203},{"$f":"HDV!R27","v":0.71523433876783438},{"$f":"HDV!T27","v":0.48750172651913676},{"$f":"HDV!V27","v":0.25782118405479332},{"$f":"HDV!X27","v":9.6825492200565355E-2},{"$f":"HDV!Z27","v":2.3358551350403371E-2},{"$f":"HDV!AB27","v":3.2376494646815203E-3},{"$f":"HDV!AD27","v":2.2808284610005962E-4},{"$f":"HDV!AF27","v":7.1466065229169446E-6}]
["LDV","high survival",{"$f":"LDV!J25","v":1},{"$f":"LDV!L25","v":0.99900049983337502},{"$f":"LDV!N25","v":0.99203191483706066},{"$f":"LDV!P25","v":0.97336124152433678},{"$f":"LDV!R25","v":0.93800499953072947},{"$f":"LDV!T25","v":0.88249690258459546},{"$f":"LDV!V25","v":0.80573530187347964},{"$f":"LDV!X25","v":0.70963821156020868},{"$f":"LDV!Z25","v":0.59929578784553839},{"$f":"LDV!AB25","v":0.4823911401151259},{"$f":"LDV!AD25","v":0.36787944117144233},{"$f":"LDV!AF25","v":0.26421291623308618}]
[null,"med suvival",{"$f":"LDV!J26","v":1},{"$f":"LDV!L26","v":0.99804878110747552},{"$f":"LDV!N26","v":0.98449643700540845},{"$f":"LDV!P26","v":0.94863195938333023},{"$f":"LDV!R26","v":0.88249690258459546},{"$f":"LDV!T26","v":0.78337746406081821},{"$f":"LDV!V26","v":0.65581601127150158},{"$f":"LDV!X26","v":0.5117485565808334},{"$f":"LDV!Z26","v":0.36787944117144233},{"$f":"LDV!AB26","v":0.24079047427224856},{"$f":"LDV!AD26","v":0.14183015908734253},{"$f":"LDV!AF26","v":7.4302596998186088E-2}]
[null,"low survival",{"$f":"LDV!J27","v":1},{"$f":"LDV!L27","v":0.99799731961111438},{"$f":"LDV!N27","v":0.96923323447634413},{"$f":"LDV!P27","v":0.89398570815371281},{"$f":"LDV!R27","v":0.77113529134046954},{"$f":"LDV!T27","v":0.61438145002028},{"$f":"LDV!V27","v":0.44730941399885388},{"$f":"LDV!X27","v":0.29477787472512934},{"$f":"LDV!Z27","v":0.17430857908883032},{"$f":"LDV!AB27","v":9.1745055453900132E-2},{"$f":"LDV!AD27","v":4.2659615362509819E-2},{"$f":"LDV!AF27","v":1.7399623775943018E-2}]
["NONRD","high survival",{"$f":"NRDV!J25","v":1},{"$f":"NRDV!L25","v":0.99965428421170144},{"$f":"NRDV!N25","v":0.99733553469563296},{"$f":"NRDV!P25","v":0.98980287616480034},{"$f":"NRDV!R25","v":0.97238076226380832},{"$f":"NRDV!T25","v":0.93941306281347581},{"$f":"NRDV!V25","v":0.88521726173514659},{"$f":"NRDV!X25","v":0.8056468965220992},{"$f":"NRDV!Z25","v":0.70009636261492114},{"$f":"NRDV!AB25","v":0.57331571484929256},{"$f":"NRDV!AD25","v":0.43595897947580853},{"$f":"NRDV!AF25","v":0.3028266339910764}]
[null,"med suvival",{"$f":"NRDV!J26","v":1},{"$f":"NRDV!L26","v":0.99811174661601665},{"$f":"NRDV!N26","v":0.98876713426901874},{"$f":"NRDV!P26","v":0.96398781391442789},{"$f":"NRDV!R26","v":0.91540531218622267},{"$f":"NRDV!T26","v":0.83659885357299946},{"$f":"NRDV!V26","v":0.72604308848294441},{"$f":"NRDV!X26","v":0.58961718732035462},{"$f":"NRDV!Z26","v":0.4410106846138625},{"$f":"NRDV!AB26","v":0.2986971165653699},{"$f":"NRDV!AD26","v":0.17992844523362203},{"$f":"NRDV!AF26","v":9.4583643809030463E-2}]
[null,"low survival",{"$f":"NRDV!J27","v":1},{"$f":"NRDV!L27","v":0.99714973795673034},{"$f":"NRDV!N27","v":0.98308485035915538},{"$f":"NRDV!P27","v":0.9461170758873565},{"$f":"NRDV!R27","v":0.87504156865492155},{"$f":"NRDV!T27","v":0.7638107132231482},{"$f":"NRDV!V27","v":0.61663151625667145},{"$f":"NRDV!X27","v":0.45031407962539971},{"$f":"NRDV!Z27","v":0.29043425412437623},{"$f":"NRDV!AB27","v":0.16124827038359282},{"$f":"NRDV!AD27","v":7.4998643785204142E-2},{"$f":"NRDV!AF27","v":2.8397470377601205E-2}]

{"sheet":"method","index":11,"n_rows":0,"n_cols":0,"rows_kept":0,"cut":false,"hidden":false,"merged":[]}

{"sheet":"parameters","index":12,"n_rows":12,"n_cols":13,"rows_kept":12,"cut":false,"hidden":false,"merged":[]}
[]
[null,null,null,null,"alpha",null,null,"beta",null,null,"T"]
[null,null,null,null,"Low","Medium","High","Low","Medium","High","Low","Medium","High"]
[null,null,null,"2W",{"$f":"'2W'!P2","v":0.5},{"$f":"'2W'!Q2","v":0.3},{"$f":"'2W'!R2","v":0.1},{"$f":"'2W'!S2","v":3.1},{"$f":"'2W'!T2","v":3.1},{"$f":"'2W'!U2","v":3.1},{"$f":"'2W'!V2","v":8},{"$f":"'2W'!W2","v":10},{"$f":"'2W'!X2","v":14}]
[null,null,null,"3W",{"$f":"'3W'!P2","v":-1},{"$f":"'3W'!Q2","v":0},{"$f":"'3W'!R2","v":0},{"$f":"'3W'!S2","v":2},{"$f":"'3W'!T2","v":2},{"$f":"'3W'!U2","v":2},{"$f":"'3W'!V2","v":8},{"$f":"'3W'!W2","v":12},{"$f":"'3W'!X2","v":15}]
[null,null,null,"4W1",{"$f":"'4Wreg'!P2","v":0},{"$f":"'4Wreg'!Q2","v":0},{"$f":"'4Wreg'!R2","v":-0.5},{"$f":"'4Wreg'!S2","v":3},{"$f":"'4Wreg'!T2","v":3},{"$f":"'4Wreg'!U2","v":3},{"$f":"'4Wreg'!V2","v":8},{"$f":"'4Wreg'!W2","v":12},{"$f":"'4Wreg'!X2","v":16}]
[null,null,null,"4W2",{"$f":"'4Wsuv'!P2","v":0.5},{"$f":"'4Wsuv'!Q2","v":0.5},{"$f":"'4Wsuv'!R2","v":0},{"$f":"'4Wsuv'!S2","v":2.5},{"$f":"'4Wsuv'!T2","v":2.5},{"$f":"'4Wsuv'!U2","v":2.5},{"$f":"'4Wsuv'!V2","v":10},{"$f":"'4Wsuv'!W2","v":12},{"$f":"'4Wsuv'!X2","v":15}]
[null,null,null,"4WT",{"$f":"'4Wtaxi'!P2","v":-0.5},{"$f":"'4Wtaxi'!Q2","v":-0.5},{"$f":"'4Wtaxi'!R2","v":-0.5},{"$f":"'4Wtaxi'!S2","v":4},{"$f":"'4Wtaxi'!T2","v":3.5},{"$f":"'4Wtaxi'!U2","v":3},{"$f":"'4Wtaxi'!V2","v":8},{"$f":"'4Wtaxi'!W2","v":10},{"$f":"'4Wtaxi'!X2","v":12}]
[null,null,null,"BUS",{"$f":"BUS!P2","v":-1},{"$f":"BUS!Q2","v":0},{"$f":"BUS!R2","v":-1},{"$f":"BUS!S2","v":3.2},{"$f":"BUS!T2","v":3},{"$f":"BUS!U2","v":3},{"$f":"BUS!V2","v":8},{"$f":"BUS!W2","v":12},{"$f":"BUS!X2","v":12}]
[null,null,null,"LDV",{"$f":"LDV!P2","v":-1},{"$f":"LDV!Q2","v":0},{"$f":"LDV!R2","v":0},{"$f":"LDV!S2","v":2.5},{"$f":"LDV!T2","v":3},{"$f":"LDV!U2","v":3},{"$f":"LDV!V2","v":12},{"$f":"LDV!W2","v":16},{"$f":"LDV!X2","v":20}]
[null,null,null,"HDV",{"$f":"HDV!P2","v":1},{"$f":"HDV!Q2","v":1},{"$f":"HDV!R2","v":0},{"$f":"HDV!S2","v":3.8},{"$f":"HDV!T2","v":3.8},{"$f":"HDV!U2","v":3.8},{"$f":"HDV!V2","v":12},{"$f":"HDV!W2","v":16},{"$f":"HDV!X2","v":18}]
[null,null,null,"NNRD",{"$f":"NRDV!P2","v":1},{"$f":"NRDV!Q2","v":1},{"$f":"NRDV!R2","v":1},{"$f":"NRDV!S2","v":3.5},{"$f":"NRDV!T2","v":3.5},{"$f":"NRDV!U2","v":4},{"$f":"NRDV!V2","v":16},{"$f":"NRDV!W2","v":18},{"$f":"NRDV!X2","v":22}]