{"text_format":"3","workbook":"xlsx","n_sheets":20,"sheets":["Trays","All_Results","Notes","Biomass","Mng&Soil","Mass","CALC mass","BD","pH_EC","Min_N","MinN_Ki_Ik_Mo","toc_analysis_raw results","Min_N_Corrected","ISNT_Amino_N","Protein","WEON_WEOC","TC_TN","CO2","Nmin_SHS","Ikivihrea_Protein"],"not_rendered":{"charts":9,"images":5,"defined_names":11,"comments":23},"read":"whole","date_system":"1900"}

{"sheet":"Trays","index":0,"n_rows":35,"n_cols":2,"rows_kept":35,"hidden":true}
["Tray No","mass (g)"]
[1,19.41]
[2,19.28]
[3,19.08]
[4,19.27]
[5,19.23]
[6,19.36]
[7,19.32]
[8,19.37]
[9,19.36]
[10,19.13]
[11,19.98]
[12,19.1]
[13,19.11]
[14,19.24]
[15,19.38]
[16,18.85]
[17,18.87]
[18,18.85]
[19,19.06]
[20,19.17]
[21,19.27]
[22,17.81]
[23,17.86]
[24,17.76]
[25,19.85]
[26,19.74]
[27,19.9]
[28,19.88]
[29,19.96]
[30,19.98]
[31,19.88]
[32,19.87]
[33,19.7]
[34,19.67]

{"sheet":"All_Results","index":1,"n_rows":77,"n_cols":33,"rows_kept":77}
["Field","Field_Num","Treat","Horizon","Farm",{"$nulls":3},"Management","Soil Type","Clay Content %","EC (uS/cm2)","pH","Biomass_Dry (kg/ha)","N-uptake (kg/ha)","Min_NO3 (Kg/ha)","Min_NH4 (Kg/ha)","Min_N (Kg/ha)","ISNT_N (Kg/ha)","Protein_N (Kg/ha)","WEN (kg/ha)","WEON (Kg/ha)","Cummulative_N (Kg/ha)","WEOC (Kg/ha)","WEOC/WEON","TN (Kg/ha)","TOC (Kg/ha)","TON (Kg/ha)","TC/TN","TOC/TON","Resp_C (kg/ha)","Resp_N (kg/ha)","SHS_Haney"]
["Pu-0-T",1,0,1,"Pu",{"$f":"C2&\"-\"&G2","v":"0-T"},"T",{"$f":"E2&\"-\"&C2","v":"Pu-0"},{"$f":"VLOOKUP($H2,'Mng&Soil'!$B$2:$E$41,3,FALSE)","v":6},{"$f":"VLOOKUP($H2,'Mng&Soil'!$B$2:$F$41,5,FALSE)","v":1},{"$f":"VLOOKUP($H2,'Mng&Soil'!$B$2:$G$41,6,FALSE)","v":32},{"$f":"VLOOKUP(A2,pH_EC!$A1:$C77,2,FALSE)","v":71.3},{"$f":"VLOOKUP(A2,pH_EC!$A1:$C77,3,FALSE)","v":7.32},{"$f":"VLOOKUP($H2,Biomass!$A$2:$L$41,11,FALSE)","v":{"v":2094.2545435506777,"d":"2094.25"}},{"$f":"VLOOKUP($H2,Biomass!$A$2:$O$41,15,FALSE)","v":{"v":41.88509087101355,"d":"41.89"}},{"$f":"VLOOKUP($A2,Min_N_Corrected!$A$2:V$93,21,FALSE)","v":{"v":3.592888049343302,"d":"3.59"}},{"$f":"VLOOKUP($A2,Min_N_Corrected!$A$2:W$93,22,FALSE)","v":{"v":3.893049671754809,"d":"3.89"}},{"$f":"P2+Q2","v":{"v":7.485937721098111,"d":"7.49"}},{"$f":"(VLOOKUP(A2,ISNT_Amino_N!A$2:O$103,15,FALSE))-Q2","v":{"v":549.9711573636158,"d":"550"}},{"$f":"VLOOKUP(A2,Protein!A$3:Q$86,17,FALSE)","v":{"v":387.39386807932954,"d":"387"}},{"$f":"V2+R2","v":{"v":50.12860627533753,"d":"50.13"}},{"$f":"VLOOKUP(A2,WEON_WEOC!$B$2:$K$79,7,FALSE)","v":{"v":42.64266855423942,"d":"42.6"}},{"$f":"SUM(R2,S2,T2,V2)","v":{"v":987.4936317182829,"d":"987"}},{"$f":"VLOOKUP(A2,WEON_WEOC!$B2:$K$79,10,FALSE)","v":{"v":404.52858862849376,"d":"405"}},{"$f":"X2/V2","v":{"v":9.486474518215315,"d":"9.5"}},{"$f":"VLOOKUP(A2,TC_TN!$A$2:$V$77,22,FALSE)","v":{"v":4071.307470815544,"d":"4071"}},{"$f":"VLOOKUP(A2,TC_TN!$A$2:$V$77,16,FALSE)","v":{"v":60238.732986556526,"d":"60239"}},{"$f":"Z2-R2","v":{"v":4063.821533094446,"d":"4064"}},{"$f":"AA2/Z2","v":{"v":14.79591836734694,"d":"14.8"}},{"$f":"AA2/AB2","v":{"v":14.823173826899582,"d":"14.8"}},{"$f":"VLOOKUP($A2,'CO2'!$A$3:$O$78,15,FALSE)","v":{"v":88.73875948113735,"d":"88.7"}},{"$f":"VLOOKUP($A2,Nmin_SHS!$E$2:$S$77,13,FALSE)","v":{"v":44.93179408089625,"d":"44.9"}},{"$f":"VLOOKUP($A2,Nmin_SHS!$E$2:$S$77,14,FALSE)","v":{"v":48.453365447550205,"d":"48.5"}}]
["Pu-0-S",1,0,2,"Pu","0-S","S","Pu-0",{"$f":"VLOOKUP($H3,'Mng&Soil'!$B$2:$E$41,3,FALSE)","v":6},{"$f":"VLOOKUP($H3,'Mng&Soil'!$B$2:$F$41,5,FALSE)","v":1},{"$f":"VLOOKUP($H3,'Mng&Soil'!$B$2:$G$41,6,FALSE)","v":32},{"$f":"VLOOKUP(A3,pH_EC!$A2:$C78,2,FALSE)","v":57.2},{"$f":"VLOOKUP(A3,pH_EC!$A2:$C78,3,FALSE)","v":7.05},{"$f":"VLOOKUP($H3,Biomass!$A$2:$L$41,11,FALSE)","v":{"v":2094.2545435506777,"d":"2094.25"}},{"$f":"VLOOKUP($H3,Biomass!$A$2:$O$41,15,FALSE)","v":{"v":41.88509087101355,"d":"41.89"}},{"$f":"VLOOKUP($A3,Min_N_Corrected!$A$2:V$93,21,FALSE)","v":{"v":2.9200924600839255,"d":"2.92"}},{"$f":"VLOOKUP($A3,Min_N_Corrected!$A$2:W$93,22,FALSE)","v":{"v":3.461905366713313,"d":"3.46"}},{"v":6.381997826797239,"d":"6.38"},{"$f":"(VLOOKUP(A3,ISNT_Amino_N!A$2:O$103,15,FALSE))-Q3","v":{"v":346.7440275597108,"d":"347"}},{"$f":"VLOOKUP(A3,Protein!A$3:Q$86,17,FALSE)","v":{"v":246.35550138411026,"d":"246"}},{"v":31.49694625504152,"d":"31.50"},{"$f":"VLOOKUP(A3,WEON_WEOC!$B$2:$K$79,7,FALSE)","v":{"v":25.114948428244283,"d":"25.1"}},{"v":624.5964751988625,"d":"625"},{"$f":"VLOOKUP(A3,WEON_WEOC!$B3:$K$79,10,FALSE)","v":{"v":254.74274361312652,"d":"255"}},{"v":10.143072534707764,"d":"10.1"},{"$f":"VLOOKUP(A3,TC_TN!$A$2:$V$77,22,FALSE)","v":{"v":2821.6380597035795,"d":"2822"}},{"$f":"VLOOKUP(A3,TC_TN!$A$2:$V$77,16,FALSE)","v":{"v":42079.92019673547,"d":"42080"}},{"v":2815.2560618767825,"d":"2815"},{"v":14.913294797687863,"d":"14.9"},{"$f":"AA3/AB3","v":{"v":14.947102242871296,"d":"14.9"}},{"$f":"VLOOKUP($A3,'CO2'!$A$3:$O$78,15,FALSE)","v":{"v":49.52922867598178,"d":"49.5"}},{"$f":"VLOOKUP($A3,Nmin_SHS!$E$2:$S$77,13,FALSE)","v":{"v":23.005138302656775,"d":"23.0"}},{"$f":"VLOOKUP($A3,Nmin_SHS!$E$2:$S$77,14,FALSE)","v":{"v":31.594949481160928,"d":"31.6"}}]
["Pu-1-T",1,1,1,"Pu","1-T","T","Pu-1",{"$f":"VLOOKUP($H4,'Mng&Soil'!$B$2:$E$41,3,FALSE)","v":6},{"$f":"VLOOKUP($H4,'Mng&Soil'!$B$2:$F$41,5,FALSE)","v":1},{"$f":"VLOOKUP($H4,'Mng&Soil'!$B$2:$G$41,6,FALSE)","v":40},{"$f":"VLOOKUP(A4,pH_EC!$A3:$C79,2,FALSE)","v":79.2},{"$f":"VLOOKUP(A4,pH_EC!$A3:$C79,3,FALSE)","v":{"v":7.4,"d":"7.40"}},{"$f":"VLOOKUP($H4,Biomass!$A$2:$L$41,11,FALSE)","v":{"v":3197.6240027748872,"d":"3197.62"}},{"$f":"VLOOKUP($H4,Biomass!$A$2:$O$41,15,FALSE)","v":{"v":63.952480055497745,"d":"63.95"}},{"$f":"VLOOKUP($A4,Min_N_Corrected!$A$2:V$93,21,FALSE)","v":{"v":5.299574312770321,"d":"5.30"}},{"$f":"VLOOKUP($A4,Min_N_Corrected!$A$2:W$93,22,FALSE)","v":{"v":3.0903893798830584,"d":"3.09"}},{"v":8.38996369265338,"d":"8.39"},{"$f":"(VLOOKUP(A4,ISNT_Amino_N!A$2:O$103,15,FALSE))-Q4","v":{"v":600.5750300360888,"d":"601"}},{"$f":"VLOOKUP(A4,Protein!A$3:Q$86,17,FALSE)","v":{"v":400.63154634675936,"d":"401"}},{"v":53.96520850960554,"d":"53.97"},{"$f":"VLOOKUP(A4,WEON_WEOC!$B$2:$K$79,7,FALSE)","v":{"v":45.57524481695216,"d":"45.6"}},{"v":1055.1717848924538,"d":"1055"},{"$f":"VLOOKUP(A4,WEON_WEOC!$B4:$K$79,10,FALSE)","v":{"v":506.1088110681471,"d":"506"}},{"v":11.104906031791517,"d":"11.1"},{"$f":"VLOOKUP(A4,TC_TN!$A$2:$V$77,22,FALSE)","v":{"v":4962.431422364093,"d":"4962"}},{"$f":"VLOOKUP(A4,TC_TN!$A$2:$V$77,16,FALSE)","v":{"v":69871.03442688643,"d":"69871"}},{"v":4954.04145867144,"d":"4954"},{"v":14.08,"d":"14.1"},{"v":14.10384531695547,"d":"14.1"},{"$f":"VLOOKUP($A4,'CO2'!$A$3:$O$78,15,FALSE)","v":{"v":118.96181785000748,"d":"119.0"}},{"$f":"VLOOKUP($A4,Nmin_SHS!$E$2:$S$77,13,FALSE)","v":{"v":53.706829033757494,"d":"53.7"}},{"$f":"VLOOKUP($A4,Nmin_SHS!$E$2:$S$77,14,FALSE)","v":{"v":60.60703251910358,"d":"60.6"}}]
["Pu-1-S",1,1,2,"Pu","1-S","S","Pu-1",{"$f":"VLOOKUP($H5,'Mng&Soil'!$B$2:$E$41,3,FALSE)","v":6},{"$f":"VLOOKUP($H5,'Mng&Soil'!$B$2:$F$41,5,FALSE)","v":1},{"$f":"VLOOKUP($H5,'Mng&Soil'!$B$2:$G$41,6,FALSE)","v":40},{"$f":"VLOOKUP(A5,pH_EC!$A4:$C80,2,FALSE)","v":67.2},{"$f":"VLOOKUP(A5,pH_EC!$A4:$C80,3,FALSE)","v":{"v":7.9,"d":"7.90"}},{"$f":"VLOOKUP($H5,Biomass!$A$2:$L$41,11,FALSE)","v":{"v":3197.6240027748872,"d":"3197.62"}},{"$f":"VLOOKUP($H5,Biomass!$A$2:$O$41,15,FALSE)","v":{"v":63.952480055497745,"d":"63.95"}},{"$f":"VLOOKUP($A5,Min_N_Corrected!$A$2:V$93,21,FALSE)","v":{"v":4.0898141947002244,"d":"4.09"}},{"$f":"VLOOKUP($A5,Min_N_Corrected!$A$2:W$93,22,FALSE)","v":{"v":2.6918149464047243,"d":"2.69"}},{"v":6.781629141104949,"d":"6.78"},{"$f":"(VLOOKUP(A5,ISNT_Amino_N!A$2:O$103,15,FALSE))-Q5","v":{"v":430.1694542321314,"d":"430"}},{"$f":"VLOOKUP(A5,Protein!A$3:Q$86,17,FALSE)","v":{"v":311.1036510857587,"d":"311"}},{"v":37.691309188955685,"d":"37.69"},{"$f":"VLOOKUP(A5,WEON_WEOC!$B$2:$K$79,7,FALSE)","v":{"v":30.909680047850735,"d":"30.9"}},{"v":778.9644145068457,"d":"779"},{"$f":"VLOOKUP(A5,WEON_WEOC!$B5:$K$79,10,FALSE)","v":{"v":350.5988308541463,"d":"351"}},{"v":11.342687155330964,"d":"11.3"},{"$f":"VLOOKUP(A5,TC_TN!$A$2:$V$77,22,FALSE)","v":{"v":3436.02333214143,"d":"3436"}},{"$f":"VLOOKUP(A5,TC_TN!$A$2:$V$77,16,FALSE)","v":{"v":48729.05816491482,"d":"48729"}},{"v":3429.241703000325,"d":"3429"},{"v":14.181818181818182,"d":"14.2"},{"v":14.20986398313091,"d":"14.2"},{"$f":"VLOOKUP($A5,'CO2'!$A$3:$O$78,15,FALSE)","v":{"v":71.44015157312057,"d":"71.4"}},{"$f":"VLOOKUP($A5,Nmin_SHS!$E$2:$S$77,13,FALSE)","v":{"v":31.31940936195101,"d":"31.3"}},{"$f":"VLOOKUP($A5,Nmin_SHS!$E$2:$S$77,14,FALSE)","v":{"v":44.91880130496789,"d":"44.9"}}]
["Mo-0-T",2,0,1,"Mo","0-T","T","Mo-0",{"$f":"VLOOKUP($H6,'Mng&Soil'!$B$2:$E$41,3,FALSE)","v":2},{"$f":"VLOOKUP($H6,'Mng&Soil'!$B$2:$F$41,5,FALSE)","v":8},{"$f":"VLOOKUP($H6,'Mng&Soil'!$B$2:$G$41,6,FALSE)","v":44},{"$f":"VLOOKUP(A6,pH_EC!$A5:$C81,2,FALSE)","v":81.4},{"$f":"VLOOKUP(A6,pH_EC!$A5:$C81,3,FALSE)","v":6.22},{"$f":"VLOOKUP($H6,Biomass!$A$2:$L$41,11,FALSE)","v":{"v":992.0221990981616,"d":"992.02"}},{"$f":"VLOOKUP($H6,Biomass!$A$2:$O$41,15,FALSE)","v":{"v":34.72077696843566,"d":"34.72"}},{"$f":"VLOOKUP($A6,Min_N_Corrected!$A$2:V$93,21,FALSE)","v":{"v":19.28716576778047,"d":"19.29"}},{"$f":"VLOOKUP($A6,Min_N_Corrected!$A$2:W$93,22,FALSE)","v":{"v":3.8892266586924307,"d":"3.89"}},{"v":23.176392426472898,"d":"23.18"},{"$f":"(VLOOKUP(A6,ISNT_Amino_N!A$2:O$103,15,FALSE))-Q6","v":{"v":447.85187638318786,"d":"448"}},{"$f":"VLOOKUP(A6,Protein!A$3:Q$86,17,FALSE)","v":{"v":240.67085312666092,"d":"241"}},{"v":60.4059090315788,"d":"60.41"},{"$f":"VLOOKUP(A6,WEON_WEOC!$B$2:$K$79,7,FALSE)","v":{"v":37.2295166051059,"d":"37.2"}},{"v":748.9286385414276,"d":"749"},{"$f":"VLOOKUP(A6,WEON_WEOC!$B6:$K$79,10,FALSE)","v":{"v":456.08117788011043,"d":"456"}},{"v":12.250526449692352,"d":"12.3"},{"$f":"VLOOKUP(A6,TC_TN!$A$2:$V$77,22,FALSE)","v":{"v":3580.778359620759,"d":"3581"}},{"$f":"VLOOKUP(A6,TC_TN!$A$2:$V$77,16,FALSE)","v":{"v":47373.03047200134,"d":"47373"}},{"v":3557.6019671942863,"d":"3558"},{"v":13.22981366459627,"d":"13.2"},{"v":13.316000752428812,"d":"13.3"},{"$f":"VLOOKUP($A6,'CO2'!$A$3:$O$78,15,FALSE)","v":{"v":46.36747636632787,"d":"46.4"}},{"$f":"VLOOKUP($A6,Nmin_SHS!$E$2:$S$77,13,FALSE)","v":{"v":18.85851642683442,"d":"18.9"}},{"$f":"VLOOKUP($A6,Nmin_SHS!$E$2:$S$77,14,FALSE)","v":{"v":18.99345528019186,"d":"19.0"}}]
["Mo-0-S",2,0,2,"Mo","0-S","S","Mo-0",{"$f":"VLOOKUP($H7,'Mng&Soil'!$B$2:$E$41,3,FALSE)","v":2},{"$f":"VLOOKUP($H7,'Mng&Soil'!$B$2:$F$41,5,FALSE)","v":8},{"$f":"VLOOKUP($H7,'Mng&Soil'!$B$2:$G$41,6,FALSE)","v":44},{"$f":"VLOOKUP(A7,pH_EC!$A6:$C82,2,FALSE)","v":60.2},{"$f":"VLOOKUP(A7,pH_EC!$A6:$C82,3,FALSE)","v":6.47},{"$f":"VLOOKUP($H7,Biomass!$A$2:$L$41,11,FALSE)","v":{"v":992.0221990981616,"d":"992.02"}},{"$f":"VLOOKUP($H7,Biomass!$A$2:$O$41,15,FALSE)","v":{"v":34.72077696843566,"d":"34.72"}},{"$f":"VLOOKUP($A7,Min_N_Corrected!$A$2:V$93,21,FALSE)","v":{"v":1.416764608881889,"d":"1.42"}},{"$f":"VLOOKUP($A7,Min_N_Corrected!$A$2:W$93,22,FALSE)","v":{"v":2.9036854215615997,"d":"2.90"}},{"v":4.320450030443489,"d":"4.32"},{"$f":"(VLOOKUP(A7,ISNT_Amino_N!A$2:O$103,15,FALSE))-Q7","v":{"v":328.639067001862,"d":"329"}},{"$f":"VLOOKUP(A7,Protein!A$3:Q$86,17,FALSE)","v":{"v":177.26716525313984,"d":"177"}},{"v":33.64747139534268,"d":"33.65"},{"$f":"VLOOKUP(A7,WEON_WEOC!$B$2:$K$79,7,FALSE)","v":{"v":29.327021364899185,"d":"29.3"}},{"v":539.5537036503446,"d":"540"},{"$f":"VLOOKUP(A7,WEON_WEOC!$B7:$K$79,10,FALSE)","v":{"v":289.5247538669021,"d":"290"}},{"v":9.872286389555653,"d":"9.9"},{"$f":"VLOOKUP(A7,TC_TN!$A$2:$V$77,22,FALSE)","v":{"v":2596.1241262955405,"d":"2596"}},{"$f":"VLOOKUP(A7,TC_TN!$A$2:$V$77,16,FALSE)","v":{"v":33104.93852323172,"d":"33105"}},{"v":2591.803676265097,"d":"2592"},{"v":12.751677852348992,"d":"12.8"},{"v":12.772934472775113,"d":"12.8"},{"$f":"VLOOKUP($A7,'CO2'!$A$3:$O$78,15,FALSE)","v":{"v":34.89422928032463,"d":"34.9"}},{"$f":"VLOOKUP($A7,Nmin_SHS!$E$2:$S$77,13,FALSE)","v":{"v":16.784836042787592,"d":"16.8"}},{"$f":"VLOOKUP($A7,Nmin_SHS!$E$2:$S$77,14,FALSE)","v":{"v":21.578732776674055,"d":"21.6"}}]
["Mo-1-T",2,1,1,"Mo","1-T","T","Mo-1",{"$f":"VLOOKUP($H8,'Mng&Soil'!$B$2:$E$41,3,FALSE)","v":2},{"$f":"VLOOKUP($H8,'Mng&Soil'!$B$2:$F$41,5,FALSE)","v":8},{"$f":"VLOOKUP($H8,'Mng&Soil'!$B$2:$G$41,6,FALSE)","v":43},{"$f":"VLOOKUP(A8,pH_EC!$A7:$C83,2,FALSE)","v":{"v":41.07,"d":"41.1"}},{"$f":"VLOOKUP(A8,pH_EC!$A7:$C83,3,FALSE)","v":6.33},{"$f":"VLOOKUP($H8,Biomass!$A$2:$L$41,11,FALSE)","v":{"v":7542.143600416232,"d":"7542.14"}},{"$f":"VLOOKUP($H8,Biomass!$A$2:$O$41,15,FALSE)","v":{"v":226.26430801248696,"d":"226.26"}},{"$f":"VLOOKUP($A8,Min_N_Corrected!$A$2:V$93,21,FALSE)","v":{"v":0.7317290782309408,"d":"0.73"}},{"$f":"VLOOKUP($A8,Min_N_Corrected!$A$2:W$93,22,FALSE)","v":{"v":2.737454578215272,"d":"2.74"}},{"v":3.469183656446213,"d":"3.47"},{"$f":"(VLOOKUP(A8,ISNT_Amino_N!A$2:O$103,15,FALSE))-Q8","v":{"v":457.39272203384274,"d":"457"}},{"$f":"VLOOKUP(A8,Protein!A$3:Q$86,17,FALSE)","v":{"v":255.9600619094605,"d":"256"}},{"v":38.01799907760522,"d":"38.02"},{"$f":"VLOOKUP(A8,WEON_WEOC!$B$2:$K$79,7,FALSE)","v":{"v":34.548815421159006,"d":"34.5"}},{"v":751.3707830209084,"d":"751"},{"$f":"VLOOKUP(A8,WEON_WEOC!$B8:$K$79,10,FALSE)","v":{"v":540.1404479901836,"d":"540"}},{"v":15.634123526544446,"d":"15.6"},{"$f":"VLOOKUP(A8,TC_TN!$A$2:$V$77,22,FALSE)","v":{"v":3901.7642373236545,"d":"3902"}},{"$f":"VLOOKUP(A8,TC_TN!$A$2:$V$77,16,FALSE)","v":{"v":48937.38195965262,"d":"48937"}},{"v":3898.2950536672083,"d":"3898"},{"v":12.542372881355934,"d":"12.5"},{"v":12.55353463140667,"d":"12.6"},{"$f":"VLOOKUP($A8,'CO2'!$A$3:$O$78,15,FALSE)","v":{"v":93.92485096786125,"d":"93.9"}},{"$f":"VLOOKUP($A8,Nmin_SHS!$E$2:$S$77,13,FALSE)","v":{"v":31.291679518642223,"d":"31.3"}},{"$f":"VLOOKUP($A8,Nmin_SHS!$E$2:$S$77,14,FALSE)","v":{"v":31.79721874754099,"d":"31.8"}}]
["Mo-1-S",2,1,2,"Mo","1-S","S","Mo-1",{"$f":"VLOOKUP($H9,'Mng&Soil'!$B$2:$E$41,3,FALSE)","v":2},{"$f":"VLOOKUP($H9,'Mng&Soil'!$B$2:$F$41,5,FALSE)","v":8},{"$f":"VLOOKUP($H9,'Mng&Soil'!$B$2:$G$41,6,FALSE)","v":43},{"$f":"VLOOKUP(A9,pH_EC!$A8:$C84,2,FALSE)","v":39.6},{"$f":"VLOOKUP(A9,pH_EC!$A8:$C84,3,FALSE)","v":6.54},{"$f":"VLOOKUP($H9,Biomass!$A$2:$L$41,11,FALSE)","v":{"v":7542.143600416232,"d":"7542.14"}},{"$f":"VLOOKUP($H9,Biomass!$A$2:$O$41,15,FALSE)","v":{"v":226.26430801248696,"d":"226.26"}},{"$f":"VLOOKUP($A9,Min_N_Corrected!$A$2:V$93,21,FALSE)","v":{"v":6.3637138050146,"d":"6.36"}},{"$f":"VLOOKUP($A9,Min_N_Corrected!$A$2:W$93,22,FALSE)","v":{"v":2.475105034373641,"d":"2.48"}},{"v":8.83881883938824,"d":"8.84"},{"$f":"(VLOOKUP(A9,ISNT_Amino_N!A$2:O$103,15,FALSE))-Q9","v":{"v":311.33418934469205,"d":"311"}},{"$f":"VLOOKUP(A9,Protein!A$3:Q$86,17,FALSE)","v":{"v":176.44733012747918,"d":"176"}},{"v":22.755801096031725,"d":"22.76"},{"$f":"VLOOKUP(A9,WEON_WEOC!$B$2:$K$79,7,FALSE)","v":{"v":13.916982256643486,"d":"13.9"}},{"v":510.537320568203,"d":"511"},{"$f":"VLOOKUP(A9,WEON_WEOC!$B9:$K$79,10,FALSE)","v":{"v":300.8538496965992,"d":"301"}},{"v":21.617750468351854,"d":"21.6"},{"$f":"VLOOKUP(A9,TC_TN!$A$2:$V$77,22,FALSE)","v":{"v":2694.883443806382,"d":"2695"}},{"$f":"VLOOKUP(A9,TC_TN!$A$2:$V$77,16,FALSE)","v":{"v":35016.31990678357,"d":"35016"}},{"v":2686.0446249669935,"d":"2686"},{"v":12.99363057324841,"d":"13.0"},{"v":13.03638799642573,"d":"13.0"},{"$f":"VLOOKUP($A9,'CO2'!$A$3:$O$78,15,FALSE)","v":{"v":51.68345452848744,"d":"51.7"}},{"$f":"VLOOKUP($A9,Nmin_SHS!$E$2:$S$77,13,FALSE)","v":{"v":13.062970513805896,"d":"13.1"}},{"$f":"VLOOKUP($A9,Nmin_SHS!$E$2:$S$77,14,FALSE)","v":{"v":17.047065545092714,"d":"17.0"}}]
["Si-0-T",3,0,1,"Si","0-T","T","Si-0",{"$f":"VLOOKUP($H10,'Mng&Soil'!$B$2:$E$41,3,FALSE)","v":6},{"$f":"VLOOKUP($H10,'Mng&Soil'!$B$2:$F$41,5,FALSE)","v":5},{"$f":"VLOOKUP($H10,'Mng&Soil'!$B$2:$G$41,6,FALSE)","v":58},{"$f":"VLOOKUP(A10,pH_EC!$A9:$C85,2,FALSE)","v":78.9},{"$f":"VLOOKUP(A10,pH_EC!$A9:$C85,3,FALSE)","v":6.56},{"$f":"VLOOKUP($H10,Biomass!$A$2:$L$41,11,FALSE)","v":{"v":6431.379350213899,"d":"6431.38"}},{"$f":"VLOOKUP($H10,Biomass!$A$2:$O$41,15,FALSE)","v":{"v":128.62758700427798,"d":"128.63"}},{"$f":"VLOOKUP($A10,Min_N_Corrected!$A$2:V$93,21,FALSE)","v":{"v":9.252949114196278,"d":"9.25"}},{"$f":"VLOOKUP($A10,Min_N_Corrected!$A$2:W$93,22,FALSE)","v":{"v":1.9843641336786624,"d":"1.98"}},{"v":11.23731324787494,"d":"11.24"},{"$f":"(VLOOKUP(A10,ISNT_Amino_N!A$2:O$103,15,FALSE))-Q10","v":{"v":544.7909723082347,"d":"545"}},{"$f":"VLOOKUP(A10,Protein!A$3:Q$86,17,FALSE)","v":{"v":237.68836380010507,"d":"238"}},{"v":44.981478139596064,"d":"44.98"},{"$f":"VLOOKUP(A10,WEON_WEOC!$B$2:$K$79,7,FALSE)","v":{"v":33.74416489172113,"d":"33.7"}},{"v":827.4608142479358,"d":"827"},{"$f":"VLOOKUP(A10,WEON_WEOC!$B10:$K$79,10,FALSE)","v":{"v":540.4097959159902,"d":"540"}},{"v":16.014910952754846,"d":"16.0"},{"$f":"VLOOKUP(A10,TC_TN!$A$2:$V$77,22,FALSE)","v":{"v":4438.565790456666,"d":"4439"}},{"$f":"VLOOKUP(A10,TC_TN!$A$2:$V$77,16,FALSE)","v":{"v":55853.722626320734,"d":"55854"}},{"v":4427.328477208791,"d":"4427"},{"v":12.58373205741627,"d":"12.6"},{"v":12.615671711246895,"d":"12.6"},{"$f":"VLOOKUP($A10,'CO2'!$A$3:$O$78,15,FALSE)","v":{"v":82.0838416493204,"d":"82.1"}},{"$f":"VLOOKUP($A10,Nmin_SHS!$E$2:$S$77,13,FALSE)","v":{"v":26.854251062049535,"d":"26.9"}},{"$f":"VLOOKUP($A10,Nmin_SHS!$E$2:$S$77,14,FALSE)","v":{"v":28.324658844170518,"d":"28.3"}}]
["Si-0-S",3,0,2,"Si","0-S","S","Si-0",{"$f":"VLOOKUP($H11,'Mng&Soil'!$B$2:$E$41,3,FALSE)","v":6},{"$f":"VLOOKUP($H11,'Mng&Soil'!$B$2:$F$41,5,FALSE)","v":5},{"$f":"VLOOKUP($H11,'Mng&Soil'!$B$2:$G$41,6,FALSE)","v":58},{"$f":"VLOOKUP(A11,pH_EC!$A10:$C86,2,FALSE)","v":{"v":46,"d":"46.0"}},{"$f":"VLOOKUP(A11,pH_EC!$A10:$C86,3,FALSE)","v":6.57},{"$f":"VLOOKUP($H11,Biomass!$A$2:$L$41,11,FALSE)","v":{"v":6431.379350213899,"d":"6431.38"}},{"$f":"VLOOKUP($H11,Biomass!$A$2:$O$41,15,FALSE)","v":{"v":128.62758700427798,"d":"128.63"}},{"$f":"VLOOKUP($A11,Min_N_Corrected!$A$2:V$93,21,FALSE)","v":{"v":2.8182943538828384,"d":"2.82"}},{"$f":"VLOOKUP($A11,Min_N_Corrected!$A$2:W$93,22,FALSE)","v":{"v":1.2117606561368097,"d":"1.21"}},{"v":4.030055010019648,"d":"4.03"},{"$f":"(VLOOKUP(A11,ISNT_Amino_N!A$2:O$103,15,FALSE))-Q11","v":{"v":366.75638668971345,"d":"367"}},{"$f":"VLOOKUP(A11,Protein!A$3:Q$86,17,FALSE)","v":{"v":129.1541813941896,"d":"129"}},{"v":19.075552114580333,"d":"19.08"},{"$f":"VLOOKUP(A11,WEON_WEOC!$B$2:$K$79,7,FALSE)","v":{"v":15.045497104560683,"d":"15.0"}},{"v":514.9861201984834,"d":"515"},{"$f":"VLOOKUP(A11,WEON_WEOC!$B11:$K$79,10,FALSE)","v":{"v":313.4440942175534,"d":"313"}},{"v":20.833083283272863,"d":"20.8"},{"$f":"VLOOKUP(A11,TC_TN!$A$2:$V$77,22,FALSE)","v":{"v":2933.130842414791,"d":"2933"}},{"$f":"VLOOKUP(A11,TC_TN!$A$2:$V$77,16,FALSE)","v":{"v":37422.70385149906,"d":"37423"}},{"v":2929.1007874047714,"d":"2929"},{"v":12.758620689655174,"d":"12.8"},{"v":12.776174863090375,"d":"12.8"},{"$f":"VLOOKUP($A11,'CO2'!$A$3:$O$78,15,FALSE)","v":{"v":39.55172585225956,"d":"39.6"}},{"$f":"VLOOKUP($A11,Nmin_SHS!$E$2:$S$77,13,FALSE)","v":{"v":10.31377211757735,"d":"10.3"}},{"$f":"VLOOKUP($A11,Nmin_SHS!$E$2:$S$77,14,FALSE)","v":{"v":13.705136376519246,"d":"13.7"}}]
["Si-1-T",3,1,1,"Si","1-T","T","Si-1",{"$f":"VLOOKUP($H12,'Mng&Soil'!$B$2:$E$41,3,FALSE)","v":6},{"$f":"VLOOKUP($H12,'Mng&Soil'!$B$2:$F$41,5,FALSE)","v":5},{"$f":"VLOOKUP($H12,'Mng&Soil'!$B$2:$G$41,6,FALSE)","v":63},{"$f":"VLOOKUP(A12,pH_EC!$A11:$C87,2,FALSE)","v":81.3},{"$f":"VLOOKUP(A12,pH_EC!$A11:$C87,3,FALSE)","v":6.52},{"$f":"VLOOKUP($H12,Biomass!$A$2:$L$41,11,FALSE)","v":{"v":5208.419360344439,"d":"5208.42"}},{"$f":"VLOOKUP($H12,Biomass!$A$2:$O$41,15,FALSE)","v":{"v":104.16838720688878,"d":"104.17"}},{"$f":"VLOOKUP($A12,Min_N_Corrected!$A$2:V$93,21,FALSE)","v":{"v":10.50598171501387,"d":"10.51"}},{"$f":"VLOOKUP($A12,Min_N_Corrected!$A$2:W$93,22,FALSE)","v":{"v":6.052000985298537,"d":"6.05"}},{"v":16.557982700312408,"d":"16.56"},{"$f":"(VLOOKUP(A12,ISNT_Amino_N!A$2:O$103,15,FALSE))-Q12","v":{"v":567.025039077868,"d":"567"}},{"$f":"VLOOKUP(A12,Protein!A$3:Q$86,17,FALSE)","v":{"v":202.2262163488935,"d":"202"}},{"v":42.62895467056498,"d":"42.63"},{"$f":"VLOOKUP(A12,WEON_WEOC!$B$2:$K$79,7,FALSE)","v":{"v":26.070971970252575,"d":"26.1"}},{"v":811.8802100973265,"d":"812"},{"$f":"VLOOKUP(A12,WEON_WEOC!$B12:$K$79,10,FALSE)","v":{"v":411.62602421454636,"d":"412"}},{"v":15.78867196375412,"d":"15.8"},{"$f":"VLOOKUP(A12,TC_TN!$A$2:$V$77,22,FALSE)","v":{"v":4429.850144562348,"d":"4430"}},{"$f":"VLOOKUP(A12,TC_TN!$A$2:$V$77,16,FALSE)","v":{"v":57166.16138935219,"d":"57166"}},{"v":4413.292161862036,"d":"4413"},{"v":12.904761904761903,"d":"12.9"},{"v":12.953178555310716,"d":"13.0"},{"$f":"VLOOKUP($A12,'CO2'!$A$3:$O$78,15,FALSE)","v":{"v":72.77465175500951,"d":"72.8"}},{"$f":"VLOOKUP($A12,Nmin_SHS!$E$2:$S$77,13,FALSE)","v":{"v":23.83456580764581,"d":"23.8"}},{"$f":"VLOOKUP($A12,Nmin_SHS!$E$2:$S$77,14,FALSE)","v":{"v":25.30961407278998,"d":"25.3"}}]
["Si-1-S",3,1,2,"Si","1-S","S","Si-1",{"$f":"VLOOKUP($H13,'Mng&Soil'!$B$2:$E$41,3,FALSE)","v":6},{"$f":"VLOOKUP($H13,'Mng&Soil'!$B$2:$F$41,5,FALSE)","v":5},{"$f":"VLOOKUP($H13,'Mng&Soil'!$B$2:$G$41,6,FALSE)","v":63},{"$f":"VLOOKUP(A13,pH_EC!$A12:$C88,2,FALSE)","v":{"v":46,"d":"46.0"}},{"$f":"VLOOKUP(A13,pH_EC!$A12:$C88,3,FALSE)","v":6.34},{"$f":"VLOOKUP($H13,Biomass!$A$2:$L$41,11,FALSE)","v":{"v":5208.419360344439,"d":"5208.42"}},{"$f":"VLOOKUP($H13,Biomass!$A$2:$O$41,15,FALSE)","v":{"v":104.16838720688878,"d":"104.17"}},{"$f":"VLOOKUP($A13,Min_N_Corrected!$A$2:V$93,21,FALSE)","v":{"v":2.2611538023129483,"d":"2.26"}},{"$f":"VLOOKUP($A13,Min_N_Corrected!$A$2:W$93,22,FALSE)","v":{"v":1.8137303442605124,"d":"1.81"}},{"v":4.074884146573461,"d":"4.07"},{"$f":"(VLOOKUP(A13,ISNT_Amino_N!A$2:O$103,15,FALSE))-Q13","v":{"v":357.12598876617585,"d":"357"}},{"$f":"VLOOKUP(A13,Protein!A$3:Q$86,17,FALSE)","v":{"v":111.16022295823609,"d":"111"}},{"v":15.921056651432185,"d":"15.92"},{"$f":"VLOOKUP(A13,WEON_WEOC!$B$2:$K$79,7,FALSE)","v":{"v":11.846172504858725,"d":"11.8"}},{"v":484.20726837584414,"d":"484"},{"$f":"VLOOKUP(A13,WEON_WEOC!$B13:$K$79,10,FALSE)","v":{"v":181.3467950136394,"d":"181"}},{"v":15.308471570818316,"d":"15.3"},{"$f":"VLOOKUP(A13,TC_TN!$A$2:$V$77,22,FALSE)","v":{"v":2932.147799151517,"d":"2932"}},{"$f":"VLOOKUP(A13,TC_TN!$A$2:$V$77,16,FALSE)","v":{"v":35151.47946351233,"d":"35151"}},{"v":2928.0729150049438,"d":"2928"},{"v":11.98830409356725,"d":"12.0"},{"v":12.004987745823598,"d":"12.0"},{"$f":"VLOOKUP($A13,'CO2'!$A$3:$O$78,15,FALSE)","v":{"v":44.83319221558517,"d":"44.8"}},{"$f":"VLOOKUP($A13,Nmin_SHS!$E$2:$S$77,13,FALSE)","v":{"v":14.482738541111496,"d":"14.5"}},{"$f":"VLOOKUP($A13,Nmin_SHS!$E$2:$S$77,14,FALSE)","v":{"v":18.919469790685973,"d":"18.9"}}]
["Mi-0-T",4,0,1,"Mi","0-T","T","Mi-0",{"$f":"VLOOKUP($H14,'Mng&Soil'!$B$2:$E$41,3,FALSE)","v":3},{"$f":"VLOOKUP($H14,'Mng&Soil'!$B$2:$F$41,5,FALSE)","v":8},{"$f":"VLOOKUP($H14,'Mng&Soil'!$B$2:$G$41,6,FALSE)","v":47},{"$f":"VLOOKUP(A14,pH_EC!$A13:$C89,2,FALSE)","v":70.4},{"$f":"VLOOKUP(A14,pH_EC!$A13:$C89,3,FALSE)","v":6.53},{"$f":"VLOOKUP($H14,Biomass!$A$2:$L$41,11,FALSE)","v":{"v":2744.7254520502497,"d":"2744.73"}},{"$f":"VLOOKUP($H14,Biomass!$A$2:$O$41,15,FALSE)","v":{"v":68.61813630125624,"d":"68.62"}},{"$f":"VLOOKUP($A14,Min_N_Corrected!$A$2:V$93,21,FALSE)","v":{"v":5.281567059341868,"d":"5.28"}},{"$f":"VLOOKUP($A14,Min_N_Corrected!$A$2:W$93,22,FALSE)","v":{"v":2.244826130768676,"d":"2.24"}},{"v":7.526393190110545,"d":"7.53"},{"$f":"(VLOOKUP(A14,ISNT_Amino_N!A$2:O$103,15,FALSE))-Q14","v":{"v":814.8825809522872,"d":"815"}},{"$f":"VLOOKUP(A14,Protein!A$3:Q$86,17,FALSE)","v":{"v":386.065867688345,"d":"386"}},{"v":54.31865128290793,"d":"54.32"},{"$f":"VLOOKUP(A14,WEON_WEOC!$B$2:$K$79,7,FALSE)","v":{"v":46.79225809279738,"d":"46.8"}},{"v":1255.26709992354,"d":"1255"},{"$f":"VLOOKUP(A14,WEON_WEOC!$B14:$K$79,10,FALSE)","v":{"v":663.8946267910969,"d":"664"}},{"v":14.188129700312295,"d":"14.2"},{"$f":"VLOOKUP(A14,TC_TN!$A$2:$V$77,22,FALSE)","v":{"v":6284.121892916905,"d":"6284"}},{"$f":"VLOOKUP(A14,TC_TN!$A$2:$V$77,16,FALSE)","v":{"v":77254.34253677662,"d":"77254"}},{"v":6276.5954997267945,"d":"6277"},{"v":12.293577981651373,"d":"12.3"},{"v":12.308319460787192,"d":"12.3"},{"$f":"VLOOKUP($A14,'CO2'!$A$3:$O$78,15,FALSE)","v":{"v":110.50545876888651,"d":"110.5"}},{"$f":"VLOOKUP($A14,Nmin_SHS!$E$2:$S$77,13,FALSE)","v":{"v":40.42098757436622,"d":"40.4"}},{"$f":"VLOOKUP($A14,Nmin_SHS!$E$2:$S$77,14,FALSE)","v":{"v":47.1148801423532,"d":"47.1"}}]
["Mi-0-S",4,0,2,"Mi","0-S","S","Mi-0",{"$f":"VLOOKUP($H15,'Mng&Soil'!$B$2:$E$41,3,FALSE)","v":3},{"$f":"VLOOKUP($H15,'Mng&Soil'!$B$2:$F$41,5,FALSE)","v":8},{"$f":"VLOOKUP($H15,'Mng&Soil'!$B$2:$G$41,6,FALSE)","v":47},{"$f":"VLOOKUP(A15,pH_EC!$A14:$C90,2,FALSE)","v":48.3},{"$f":"VLOOKUP(A15,pH_EC!$A14:$C90,3,FALSE)","v":{"v":6.7,"d":"6.70"}},{"$f":"VLOOKUP($H15,Biomass!$A$2:$L$41,11,FALSE)","v":{"v":2744.7254520502497,"d":"2744.73"}},{"$f":"VLOOKUP($H15,Biomass!$A$2:$O$41,15,FALSE)","v":{"v":68.61813630125624,"d":"68.62"}},{"$f":"VLOOKUP($A15,Min_N_Corrected!$A$2:V$93,21,FALSE)","v":{"v":2.859108710246705,"d":"2.86"}},{"$f":"VLOOKUP($A15,Min_N_Corrected!$A$2:W$93,22,FALSE)","v":{"v":1.7342752687251657,"d":"1.73"}},{"v":4.593383978971871,"d":"4.59"},{"$f":"(VLOOKUP(A15,ISNT_Amino_N!A$2:O$103,15,FALSE))-Q15","v":{"v":397.53940975278437,"d":"398"}},{"$f":"VLOOKUP(A15,Protein!A$3:Q$86,17,FALSE)","v":{"v":169.6249144327448,"d":"170"}},{"v":19.13229842291784,"d":"19.13"},{"$f":"VLOOKUP(A15,WEON_WEOC!$B$2:$K$79,7,FALSE)","v":{"v":14.53891444394597,"d":"14.5"}},{"v":586.296622608447,"d":"586"},{"$f":"VLOOKUP(A15,WEON_WEOC!$B15:$K$79,10,FALSE)","v":{"v":348.0898347429545,"d":"348"}},{"v":23.941941200974586,"d":"23.9"},{"$f":"VLOOKUP(A15,TC_TN!$A$2:$V$77,22,FALSE)","v":{"v":2902.2432458771896,"d":"2902"}},{"$f":"VLOOKUP(A15,TC_TN!$A$2:$V$77,16,FALSE)","v":{"v":37290.45100807319,"d":"37290"}},{"v":2897.6498618982178,"d":"2898"},{"v":12.848837209302326,"d":"12.8"},{"v":12.869205316492117,"d":"12.9"},{"$f":"VLOOKUP($A15,'CO2'!$A$3:$O$78,15,FALSE)","v":{"v":39.62869890366798,"d":"39.6"}},{"$f":"VLOOKUP($A15,Nmin_SHS!$E$2:$S$77,13,FALSE)","v":{"v":9.058360519975249,"d":"9.1"}},{"$f":"VLOOKUP($A15,Nmin_SHS!$E$2:$S$77,14,FALSE)","v":{"v":12.025198597994244,"d":"12.0"}}]
["Mi-1-T",4,1,1,"Mi","1-T","T","Mi-1",{"$f":"VLOOKUP($H16,'Mng&Soil'!$B$2:$E$41,3,FALSE)","v":3},{"$f":"VLOOKUP($H16,'Mng&Soil'!$B$2:$F$41,5,FALSE)","v":1},{"$f":"VLOOKUP($H16,'Mng&Soil'!$B$2:$G$41,6,FALSE)","v":35},{"$f":"VLOOKUP(A16,pH_EC!$A15:$C91,2,FALSE)","v":69.2},{"$f":"VLOOKUP(A16,pH_EC!$A15:$C91,3,FALSE)","v":6.63},{"$f":"VLOOKUP($H16,Biomass!$A$2:$L$41,11,FALSE)","v":{"v":10087.281530718425,"d":"10087.28"}},{"$f":"VLOOKUP($H16,Biomass!$A$2:$O$41,15,FALSE)","v":{"v":252.18203826796062,"d":"252.18"}},{"$f":"VLOOKUP($A16,Min_N_Corrected!$A$2:V$93,21,FALSE)","v":{"v":5.411019809249641,"d":"5.41"}},{"$f":"VLOOKUP($A16,Min_N_Corrected!$A$2:W$93,22,FALSE)","v":{"v":1.949479671103738,"d":"1.95"}},{"v":7.360499480353379,"d":"7.36"},{"$f":"(VLOOKUP(A16,ISNT_Amino_N!A$2:O$103,15,FALSE))-Q16","v":{"v":795.5631050812019,"d":"796"}},{"$f":"VLOOKUP(A16,Protein!A$3:Q$86,17,FALSE)","v":{"v":380.5177627455513,"d":"381"}},{"v":53.305074199009155,"d":"53.31"},{"$f":"VLOOKUP(A16,WEON_WEOC!$B$2:$K$79,7,FALSE)","v":{"v":45.94457471865578,"d":"45.9"}},{"v":1229.3859420257625,"d":"1229"},{"$f":"VLOOKUP(A16,WEON_WEOC!$B16:$K$79,10,FALSE)","v":{"v":655.8375673845185,"d":"656"}},{"v":14.274537775147058,"d":"14.3"},{"$f":"VLOOKUP(A16,TC_TN!$A$2:$V$77,22,FALSE)","v":{"v":5903.629544908617,"d":"5904"}},{"$f":"VLOOKUP(A16,TC_TN!$A$2:$V$77,16,FALSE)","v":{"v":73306.6582563156,"d":"73307"}},{"v":5896.269045428264,"d":"5896"},{"v":12.417218543046355,"d":"12.4"},{"v":12.432719350409343,"d":"12.4"},{"$f":"VLOOKUP($A16,'CO2'!$A$3:$O$78,15,FALSE)","v":{"v":63.385887548650764,"d":"63.4"}},{"$f":"VLOOKUP($A16,Nmin_SHS!$E$2:$S$77,13,FALSE)","v":{"v":23.018889488520593,"d":"23.0"}},{"$f":"VLOOKUP($A16,Nmin_SHS!$E$2:$S$77,14,FALSE)","v":{"v":26.376686143228262,"d":"26.4"}}]
["Mi-1-S",4,1,2,"Mi","1-S","S","Mi-1",{"$f":"VLOOKUP($H17,'Mng&Soil'!$B$2:$E$41,3,FALSE)","v":3},{"$f":"VLOOKUP($H17,'Mng&Soil'!$B$2:$F$41,5,FALSE)","v":1},{"$f":"VLOOKUP($H17,'Mng&Soil'!$B$2:$G$41,6,FALSE)","v":35},{"$f":"VLOOKUP(A17,pH_EC!$A16:$C92,2,FALSE)","v":{"v":63,"d":"63.0"}},{"$f":"VLOOKUP(A17,pH_EC!$A16:$C92,3,FALSE)","v":6.71},{"$f":"VLOOKUP($H17,Biomass!$A$2:$L$41,11,FALSE)","v":{"v":10087.281530718425,"d":"10087.28"}},{"$f":"VLOOKUP($H17,Biomass!$A$2:$O$41,15,FALSE)","v":{"v":252.18203826796062,"d":"252.18"}},{"$f":"VLOOKUP($A17,Min_N_Corrected!$A$2:V$93,21,FALSE)","v":{"v":6.081723628320633,"d":"6.08"}},{"$f":"VLOOKUP($A17,Min_N_Corrected!$A$2:W$93,22,FALSE)","v":{"v":1.3037481781160098,"d":"1.30"}},{"v":7.385471806436643,"d":"7.39"},{"$f":"(VLOOKUP(A17,ISNT_Amino_N!A$2:O$103,15,FALSE))-Q17","v":{"v":424.9777067342777,"d":"425"}},{"$f":"VLOOKUP(A17,Protein!A$3:Q$86,17,FALSE)","v":{"v":184.08002823842665,"d":"184"}},{"v":27.531740758224757,"d":"27.53"},{"$f":"VLOOKUP(A17,WEON_WEOC!$B$2:$K$79,7,FALSE)","v":{"v":20.146268951788116,"d":"20.1"}},{"v":636.5894757309292,"d":"637"},{"$f":"VLOOKUP(A17,WEON_WEOC!$B17:$K$79,10,FALSE)","v":{"v":431.9199696932508,"d":"432"}},{"v":21.43920398992365,"d":"21.4"},{"$f":"VLOOKUP(A17,TC_TN!$A$2:$V$77,22,FALSE)","v":{"v":3123.1602580486006,"d":"3123"}},{"$f":"VLOOKUP(A17,TC_TN!$A$2:$V$77,16,FALSE)","v":{"v":36493.448667415716,"d":"36493"}},{"v":3115.774786242164,"d":"3116"},{"v":11.684782608695652,"d":"11.7"},{"v":11.71247961455818,"d":"11.7"},{"$f":"VLOOKUP($A17,'CO2'!$A$3:$O$78,15,FALSE)","v":{"v":40.89538131730681,"d":"40.9"}},{"$f":"VLOOKUP($A17,Nmin_SHS!$E$2:$S$77,13,FALSE)","v":{"v":10.256993910203626,"d":"10.3"}},{"$f":"VLOOKUP($A17,Nmin_SHS!$E$2:$S$77,14,FALSE)","v":{"v":13.536041255439608,"d":"13.5"}}]
["Li-0-T",5,0,1,"Li","0-T","T","Li-0",{"$f":"VLOOKUP($H18,'Mng&Soil'!$B$2:$E$41,3,FALSE)","v":4},{"$f":"VLOOKUP($H18,'Mng&Soil'!$B$2:$F$41,5,FALSE)","v":5},{"$f":"VLOOKUP($H18,'Mng&Soil'!$B$2:$G$41,6,FALSE)","v":49},{"$f":"VLOOKUP(A18,pH_EC!$A17:$C93,2,FALSE)","v":49.6},{"$f":"VLOOKUP(A18,pH_EC!$A17:$C93,3,FALSE)","v":6.24},{"$f":"VLOOKUP($H18,Biomass!$A$2:$L$41,11,FALSE)","v":{"v":601.225575211007,"d":"601.23"}},{"$f":"VLOOKUP($H18,Biomass!$A$2:$O$41,15,FALSE)","v":{"v":18.03676725633021,"d":"18.04"}},{"$f":"VLOOKUP($A18,Min_N_Corrected!$A$2:V$93,21,FALSE)","v":{"v":6.451912038258964,"d":"6.45"}},{"$f":"VLOOKUP($A18,Min_N_Corrected!$A$2:W$93,22,FALSE)","v":{"v":1.8093329551631872,"d":"1.81"}},{"v":8.261244993422151,"d":"8.26"},{"$f":"(VLOOKUP(A18,ISNT_Amino_N!A$2:O$103,15,FALSE))-Q18","v":{"v":735.2160784325067,"d":"735"}},{"$f":"VLOOKUP(A18,Protein!A$3:Q$86,17,FALSE)","v":{"v":286.4688162573415,"d":"286"}},{"v":43.76923961249293,"d":"43.77"},{"$f":"VLOOKUP(A18,WEON_WEOC!$B$2:$K$79,7,FALSE)","v":{"v":35.50799461907078,"d":"35.5"}},{"v":1065.4541343023411,"d":"1065"},{"$f":"VLOOKUP(A18,WEON_WEOC!$B18:$K$79,10,FALSE)","v":{"v":628.3499738280601,"d":"628"}},{"v":17.6960141108781,"d":"17.7"},{"$f":"VLOOKUP(A18,TC_TN!$A$2:$V$77,22,FALSE)","v":{"v":5145.7045165038535,"d":"5146"}},{"$f":"VLOOKUP(A18,TC_TN!$A$2:$V$77,16,FALSE)","v":{"v":62937.50145683994,"d":"62938"}},{"v":5137.443271510431,"d":"5137"},{"v":12.231075697211152,"d":"12.2"},{"v":12.25074382930092,"d":"12.3"},{"$f":"VLOOKUP($A18,'CO2'!$A$3:$O$78,15,FALSE)","v":{"v":95.16839000365857,"d":"95.2"}},{"$f":"VLOOKUP($A18,Nmin_SHS!$E$2:$S$77,13,FALSE)","v":{"v":28.35504989181367,"d":"28.4"}},{"$f":"VLOOKUP($A18,Nmin_SHS!$E$2:$S$77,14,FALSE)","v":{"v":30.981847480828595,"d":"31.0"}}]
["Li-0-S",5,0,2,"Li","0-S","S","Li-0",{"$f":"VLOOKUP($H19,'Mng&Soil'!$B$2:$E$41,3,FALSE)","v":4},{"$f":"VLOOKUP($H19,'Mng&Soil'!$B$2:$F$41,5,FALSE)","v":5},{"$f":"VLOOKUP($H19,'Mng&Soil'!$B$2:$G$41,6,FALSE)","v":49},{"$f":"VLOOKUP(A19,pH_EC!$A18:$C94,2,FALSE)","v":{"v":38.84,"d":"38.8"}},{"$f":"VLOOKUP(A19,pH_EC!$A18:$C94,3,FALSE)","v":6.55},{"$f":"VLOOKUP($H19,Biomass!$A$2:$L$41,11,FALSE)","v":{"v":601.225575211007,"d":"601.23"}},{"$f":"VLOOKUP($H19,Biomass!$A$2:$O$41,15,FALSE)","v":{"v":18.03676725633021,"d":"18.04"}},{"$f":"VLOOKUP($A19,Min_N_Corrected!$A$2:V$93,21,FALSE)","v":{"v":2.063205928974211,"d":"2.06"}},{"$f":"VLOOKUP($A19,Min_N_Corrected!$A$2:W$93,22,FALSE)","v":{"v":1.2812374221003582,"d":"1.28"}},{"v":3.344443351074569,"d":"3.34"},{"$f":"(VLOOKUP(A19,ISNT_Amino_N!A$2:O$103,15,FALSE))-Q19","v":{"v":369.92646124833163,"d":"370"}},{"$f":"VLOOKUP(A19,Protein!A$3:Q$86,17,FALSE)","v":{"v":110.3803650753383,"d":"110"}},{"v":14.600603561426292,"d":"14.60"},{"$f":"VLOOKUP(A19,WEON_WEOC!$B$2:$K$79,7,FALSE)","v":{"v":11.256160210351723,"d":"11.3"}},{"v":494.90742988509624,"d":"495"},{"$f":"VLOOKUP(A19,WEON_WEOC!$B19:$K$79,10,FALSE)","v":{"v":273.6520308219419,"d":"274"}},{"v":24.31131271304027,"d":"24.3"},{"$f":"VLOOKUP(A19,TC_TN!$A$2:$V$77,22,FALSE)","v":{"v":2593.0671925093093,"d":"2593"}},{"$f":"VLOOKUP(A19,TC_TN!$A$2:$V$77,16,FALSE)","v":{"v":32413.33990636637,"d":"32413"}},{"v":2589.722749158235,"d":"2590"},{"v":12.500000000000002,"d":"12.5"},{"v":12.516142863903877,"d":"12.5"},{"$f":"VLOOKUP($A19,'CO2'!$A$3:$O$78,15,FALSE)","v":{"v":39.481127482901954,"d":"39.5"}},{"$f":"VLOOKUP($A19,Nmin_SHS!$E$2:$S$77,13,FALSE)","v":{"v":8.893226542034672,"d":"8.9"}},{"$f":"VLOOKUP($A19,Nmin_SHS!$E$2:$S$77,14,FALSE)","v":{"v":11.36986527665827,"d":"11.4"}}]
["Li-1-T",5,1,1,"Li","1-T","T","Li-1",{"$f":"VLOOKUP($H20,'Mng&Soil'!$B$2:$E$41,3,FALSE)","v":4},{"$f":"VLOOKUP($H20,'Mng&Soil'!$B$2:$F$41,5,FALSE)","v":5},{"$f":"VLOOKUP($H20,'Mng&Soil'!$B$2:$G$41,6,FALSE)","v":57},{"$f":"VLOOKUP(A20,pH_EC!$A19:$C95,2,FALSE)","v":61.8},{"$f":"VLOOKUP(A20,pH_EC!$A19:$C95,3,FALSE)","v":6.66},{"$f":"VLOOKUP($H20,Biomass!$A$2:$L$41,11,FALSE)","v":{"v":680.3810133674858,"d":"680.38"}},{"$f":"VLOOKUP($H20,Biomass!$A$2:$O$41,15,FALSE)","v":{"v":20.411430401024575,"d":"20.41"}},{"$f":"VLOOKUP($A20,Min_N_Corrected!$A$2:V$93,21,FALSE)","v":{"v":4.701870677895655,"d":"4.70"}},{"$f":"VLOOKUP($A20,Min_N_Corrected!$A$2:W$93,22,FALSE)","v":{"v":3.3007303752469395,"d":"3.30"}},{"v":8.002601053142595,"d":"8.00"},{"$f":"(VLOOKUP(A20,ISNT_Amino_N!A$2:O$103,15,FALSE))-Q20","v":{"v":763.7050063891442,"d":"764"}},{"$f":"VLOOKUP(A20,Protein!A$3:Q$86,17,FALSE)","v":{"v":297.05100604511546,"d":"297"}},{"v":39.46156569483938,"d":"39.46"},{"$f":"VLOOKUP(A20,WEON_WEOC!$B$2:$K$79,7,FALSE)","v":{"v":31.458964641696788,"d":"31.5"}},{"v":1100.2175781290991,"d":"1100"},{"$f":"VLOOKUP(A20,WEON_WEOC!$B20:$K$79,10,FALSE)","v":{"v":594.3474145193254,"d":"594"}},{"v":18.89278370374456,"d":"18.9"},{"$f":"VLOOKUP(A20,TC_TN!$A$2:$V$77,22,FALSE)","v":{"v":5900.8905588218195,"d":"5901"}},{"$f":"VLOOKUP(A20,TC_TN!$A$2:$V$77,16,FALSE)","v":{"v":74925.78143767179,"d":"74926"}},{"v":5892.887957768677,"d":"5893"},{"v":12.697368421052632,"d":"12.7"},{"v":12.714611574940276,"d":"12.7"},{"$f":"VLOOKUP($A20,'CO2'!$A$3:$O$78,15,FALSE)","v":{"v":134.1756584447629,"d":"134.2"}},{"$f":"VLOOKUP($A20,Nmin_SHS!$E$2:$S$77,13,FALSE)","v":{"v":37.707986385328546,"d":"37.7"}},{"$f":"VLOOKUP($A20,Nmin_SHS!$E$2:$S$77,14,FALSE)","v":{"v":43.514839248400094,"d":"43.5"}}]
["Li-1-S",5,1,2,"Li","1-S","S","Li-1",{"$f":"VLOOKUP($H21,'Mng&Soil'!$B$2:$E$41,3,FALSE)","v":4},{"$f":"VLOOKUP($H21,'Mng&Soil'!$B$2:$F$41,5,FALSE)","v":5},{"$f":"VLOOKUP($H21,'Mng&Soil'!$B$2:$G$41,6,FALSE)","v":57},{"$f":"VLOOKUP(A21,pH_EC!$A20:$C96,2,FALSE)","v":49.8},{"$f":"VLOOKUP(A21,pH_EC!$A20:$C96,3,FALSE)","v":6.93},{"$f":"VLOOKUP($H21,Biomass!$A$2:$L$41,11,FALSE)","v":{"v":680.3810133674858,"d":"680.38"}},{"$f":"VLOOKUP($H21,Biomass!$A$2:$O$41,15,FALSE)","v":{"v":20.411430401024575,"d":"20.41"}},{"$f":"VLOOKUP($A21,Min_N_Corrected!$A$2:V$93,21,FALSE)","v":{"v":1.7645365462121638,"d":"1.76"}},{"$f":"VLOOKUP($A21,Min_N_Corrected!$A$2:W$93,22,FALSE)","v":{"v":1.520313713835035,"d":"1.52"}},{"v":3.284850260047199,"d":"3.28"},{"$f":"(VLOOKUP(A21,ISNT_Amino_N!A$2:O$103,15,FALSE))-Q21","v":{"v":418.83538316156347,"d":"419"}},{"$f":"VLOOKUP(A21,Protein!A$3:Q$86,17,FALSE)","v":{"v":134.7888303132328,"d":"135"}},{"v":18.890368991984932,"d":"18.89"},{"$f":"VLOOKUP(A21,WEON_WEOC!$B$2:$K$79,7,FALSE)","v":{"v":15.605518731937732,"d":"15.6"}},{"v":572.5145824667812,"d":"573"},{"$f":"VLOOKUP(A21,WEON_WEOC!$B21:$K$79,10,FALSE)","v":{"v":177.25324208338284,"d":"177"}},{"v":11.35836912108678,"d":"11.4"},{"$f":"VLOOKUP(A21,TC_TN!$A$2:$V$77,22,FALSE)","v":{"v":3184.4002636444725,"d":"3184"}},{"$f":"VLOOKUP(A21,TC_TN!$A$2:$V$77,16,FALSE)","v":{"v":38212.80316373367,"d":"38213"}},{"v":3181.115413384425,"d":"3181"},{"v":12,"d":"12.0"},{"v":12.01239131499433,"d":"12.0"},{"$f":"VLOOKUP($A21,'CO2'!$A$3:$O$78,15,FALSE)","v":{"v":52.49046903650768,"d":"52.5"}},{"$f":"VLOOKUP($A21,Nmin_SHS!$E$2:$S$77,13,FALSE)","v":{"v":20.817837244683655,"d":"20.8"}},{"$f":"VLOOKUP($A21,Nmin_SHS!$E$2:$S$77,14,FALSE)","v":{"v":27.823360123696308,"d":"27.8"}}]
["Ai-0-T",6,0,1,"Ai","0-T","T","Ai-0",{"$f":"VLOOKUP($H22,'Mng&Soil'!$B$2:$E$41,3,FALSE)","v":2},{"$f":"VLOOKUP($H22,'Mng&Soil'!$B$2:$F$41,5,FALSE)","v":2},{"$f":"VLOOKUP($H22,'Mng&Soil'!$B$2:$G$41,6,FALSE)","v":18},{"$f":"VLOOKUP(A22,pH_EC!$A21:$C97,2,FALSE)","v":66.3},{"$f":"VLOOKUP(A22,pH_EC!$A21:$C97,3,FALSE)","v":7.01},{"$f":"VLOOKUP($H22,Biomass!$A$2:$L$41,11,FALSE)","v":{"v":1624.5832359999151,"d":"1624.58"}},{"$f":"VLOOKUP($H22,Biomass!$A$2:$O$41,15,FALSE)","v":{"v":32.491664719998305,"d":"32.49"}},{"$f":"VLOOKUP($A22,Min_N_Corrected!$A$2:V$93,21,FALSE)","v":{"v":4.415842424047198,"d":"4.42"}},{"$f":"VLOOKUP($A22,Min_N_Corrected!$A$2:W$93,22,FALSE)","v":{"v":5.951703374764178,"d":"5.95"}},{"v":10.367545798811376,"d":"10.37"},{"$f":"(VLOOKUP(A22,ISNT_Amino_N!A$2:O$103,15,FALSE))-Q22","v":{"v":389.2073381371403,"d":"389"}},{"$f":"VLOOKUP(A22,Protein!A$3:Q$86,17,FALSE)","v":{"v":346.56186271528094,"d":"347"}},{"v":24.67365070135532,"d":"24.67"},{"$f":"VLOOKUP(A22,WEON_WEOC!$B$2:$K$79,7,FALSE)","v":{"v":14.306104902543943,"d":"14.3"}},{"v":760.4428515537766,"d":"760"},{"$f":"VLOOKUP(A22,WEON_WEOC!$B22:$K$79,10,FALSE)","v":{"v":230.04901378558344,"d":"230"}},{"v":16.080478603555857,"d":"16.1"},{"$f":"VLOOKUP(A22,TC_TN!$A$2:$V$77,22,FALSE)","v":{"v":3072.787324446276,"d":"3073"}},{"$f":"VLOOKUP(A22,TC_TN!$A$2:$V$77,16,FALSE)","v":{"v":35289.0419291877,"d":"35289"}},{"v":3062.4197786474647,"d":"3062"},{"v":11.484374999999998,"d":"11.5"},{"v":11.523254315178603,"d":"11.5"},{"$f":"VLOOKUP($A22,'CO2'!$A$3:$O$78,15,FALSE)","v":{"v":71.85355888585958,"d":"71.9"}},{"$f":"VLOOKUP($A22,Nmin_SHS!$E$2:$S$77,13,FALSE)","v":{"v":22.021862032751983,"d":"22.0"}},{"$f":"VLOOKUP($A22,Nmin_SHS!$E$2:$S$77,14,FALSE)","v":{"v":20.54847151899283,"d":"20.5"}}]
["Ai-0-S",6,0,2,"Ai","0-S","S","Ai-0",{"$f":"VLOOKUP($H23,'Mng&Soil'!$B$2:$E$41,3,FALSE)","v":2},{"$f":"VLOOKUP($H23,'Mng&Soil'!$B$2:$F$41,5,FALSE)","v":2},{"$f":"VLOOKUP($H23,'Mng&Soil'!$B$2:$G$41,6,FALSE)","v":18},{"$f":"VLOOKUP(A23,pH_EC!$A22:$C98,2,FALSE)","v":66.7},{"$f":"VLOOKUP(A23,pH_EC!$A22:$C98,3,FALSE)","v":{"v":7.2,"d":"7.20"}},{"$f":"VLOOKUP($H23,Biomass!$A$2:$L$41,11,FALSE)","v":{"v":1624.5832359999151,"d":"1624.58"}},{"$f":"VLOOKUP($H23,Biomass!$A$2:$O$41,15,FALSE)","v":{"v":32.491664719998305,"d":"32.49"}},{"$f":"VLOOKUP($A23,Min_N_Corrected!$A$2:V$93,21,FALSE)","v":{"v":4.32575763000207,"d":"4.33"}},{"$f":"VLOOKUP($A23,Min_N_Corrected!$A$2:W$93,22,FALSE)","v":{"v":3.191051912000138,"d":"3.19"}},{"v":7.516809542002209,"d":"7.52"},{"$f":"(VLOOKUP(A23,ISNT_Amino_N!A$2:O$103,15,FALSE))-Q23","v":{"v":265.85934604679994,"d":"266"}},{"$f":"VLOOKUP(A23,Protein!A$3:Q$86,17,FALSE)","v":{"v":223.72821556952982,"d":"224"}},{"v":13.028883894711111,"d":"13.03"},{"$f":"VLOOKUP(A23,WEON_WEOC!$B$2:$K$79,7,FALSE)","v":{"v":5.512074352708901,"d":"5.5"}},{"v":502.61644551104087,"d":"503"},{"$f":"VLOOKUP(A23,WEON_WEOC!$B23:$K$79,10,FALSE)","v":{"v":145.50505371465692,"d":"146"}},{"v":26.397512878821868,"d":"26.4"},{"$f":"VLOOKUP(A23,TC_TN!$A$2:$V$77,22,FALSE)","v":{"v":2119.6947981929707,"d":"2120"}},{"$f":"VLOOKUP(A23,TC_TN!$A$2:$V$77,16,FALSE)","v":{"v":22915.619439924005,"d":"22916"}},{"v":2112.1779886509685,"d":"2112"},{"v":10.81081081081081,"d":"10.8"},{"v":10.849284275782095,"d":"10.8"},{"$f":"VLOOKUP($A23,'CO2'!$A$3:$O$78,15,FALSE)","v":{"v":48.927042764605595,"d":"48.9"}},{"$f":"VLOOKUP($A23,Nmin_SHS!$E$2:$S$77,13,FALSE)","v":{"v":10.89063244573649,"d":"10.9"}},{"$f":"VLOOKUP($A23,Nmin_SHS!$E$2:$S$77,14,FALSE)","v":{"v":12.774701592023282,"d":"12.8"}}]
["Ai-1-T",6,1,1,"Ai","1-T","T","Ai-1",{"$f":"VLOOKUP($H24,'Mng&Soil'!$B$2:$E$41,3,FALSE)","v":2},{"$f":"VLOOKUP($H24,'Mng&Soil'!$B$2:$F$41,5,FALSE)","v":3},{"$f":"VLOOKUP($H24,'Mng&Soil'!$B$2:$G$41,6,FALSE)","v":26},{"$f":"VLOOKUP(A24,pH_EC!$A23:$C99,2,FALSE)","v":68.9},{"$f":"VLOOKUP(A24,pH_EC!$A23:$C99,3,FALSE)","v":7.15},{"$f":"VLOOKUP($H24,Biomass!$A$2:$L$41,11,FALSE)","v":{"v":6316.149656420207,"d":"6316.15"}},{"$f":"VLOOKUP($H24,Biomass!$A$2:$O$41,15,FALSE)","v":{"v":189.48448969260622,"d":"189.48"}},{"$f":"VLOOKUP($A24,Min_N_Corrected!$A$2:V$93,21,FALSE)","v":{"v":0.7097310988981868,"d":"0.71"}},{"$f":"VLOOKUP($A24,Min_N_Corrected!$A$2:W$93,22,FALSE)","v":{"v":1.7528441745263192,"d":"1.75"}},{"v":2.462575273424506,"d":"2.46"},{"$f":"(VLOOKUP(A24,ISNT_Amino_N!A$2:O$103,15,FALSE))-Q24","v":{"v":453.31812776309886,"d":"453"}},{"$f":"VLOOKUP(A24,Protein!A$3:Q$86,17,FALSE)","v":{"v":316.42447470719384,"d":"316"}},{"v":28.092296856028078,"d":"28.09"},{"$f":"VLOOKUP(A24,WEON_WEOC!$B$2:$K$79,7,FALSE)","v":{"v":25.629721582603572,"d":"25.6"}},{"v":797.8348993263209,"d":"798"},{"$f":"VLOOKUP(A24,WEON_WEOC!$B24:$K$79,10,FALSE)","v":{"v":333.24060642980675,"d":"333"}},{"v":13.002115741124442,"d":"13.0"},{"$f":"VLOOKUP(A24,TC_TN!$A$2:$V$77,22,FALSE)","v":{"v":3543.3826257066994,"d":"3543"}},{"$f":"VLOOKUP(A24,TC_TN!$A$2:$V$77,16,FALSE)","v":{"v":42749.196839171156,"d":"42749"}},{"v":3540.920050433275,"d":"3541"},{"v":12.06451612903226,"d":"12.1"},{"v":12.072906541321165,"d":"12.1"},{"$f":"VLOOKUP($A24,'CO2'!$A$3:$O$78,15,FALSE)","v":{"v":122.93854741530352,"d":"122.9"}},{"$f":"VLOOKUP($A24,Nmin_SHS!$E$2:$S$77,13,FALSE)","v":{"v":46.01952724827539,"d":"46.0"}},{"$f":"VLOOKUP($A24,Nmin_SHS!$E$2:$S$77,14,FALSE)","v":{"v":45.09244851144048,"d":"45.1"}}]
["Ai-1-S",6,1,2,"Ai","1-S","S","Ai-1",{"$f":"VLOOKUP($H25,'Mng&Soil'!$B$2:$E$41,3,FALSE)","v":2},{"$f":"VLOOKUP($H25,'Mng&Soil'!$B$2:$F$41,5,FALSE)","v":3},{"$f":"VLOOKUP($H25,'Mng&Soil'!$B$2:$G$41,6,FALSE)","v":26},{"$f":"VLOOKUP(A25,pH_EC!$A24:$C100,2,FALSE)","v":68.9},{"$f":"VLOOKUP(A25,pH_EC!$A24:$C100,3,FALSE)","v":7.24},{"$f":"VLOOKUP($H25,Biomass!$A$2:$L$41,11,FALSE)","v":{"v":6316.149656420207,"d":"6316.15"}},{"$f":"VLOOKUP($H25,Biomass!$A$2:$O$41,15,FALSE)","v":{"v":189.48448969260622,"d":"189.48"}},{"$f":"VLOOKUP($A25,Min_N_Corrected!$A$2:V$93,21,FALSE)","v":{"v":2.9202081649091025,"d":"2.92"}},{"$f":"VLOOKUP($A25,Min_N_Corrected!$A$2:W$93,22,FALSE)","v":{"v":0.9113666875808433,"d":"0.91"}},{"v":3.831574852489946,"d":"3.83"},{"$f":"(VLOOKUP(A25,ISNT_Amino_N!A$2:O$103,15,FALSE))-Q25","v":{"v":331.35938939200474,"d":"331"}},{"$f":"VLOOKUP(A25,Protein!A$3:Q$86,17,FALSE)","v":{"v":265.1554604239789,"d":"265"}},{"v":21.7462535215432,"d":"21.75"},{"$f":"VLOOKUP(A25,WEON_WEOC!$B$2:$K$79,7,FALSE)","v":{"v":17.914678669053252,"d":"17.9"}},{"v":618.261103337527,"d":"618"},{"$f":"VLOOKUP(A25,WEON_WEOC!$B25:$K$79,10,FALSE)","v":{"v":257.96163084259746,"d":"258"}},{"v":14.3994562005856,"d":"14.4"},{"$f":"VLOOKUP(A25,TC_TN!$A$2:$V$77,22,FALSE)","v":{"v":2631.507975736086,"d":"2632"}},{"$f":"VLOOKUP(A25,TC_TN!$A$2:$V$77,16,FALSE)","v":{"v":31436.806690001562,"d":"31437"}},{"v":2627.6764008835958,"d":"2628"},{"v":11.946308724832214,"d":"11.9"},{"v":11.963728364508835,"d":"12.0"},{"$f":"VLOOKUP($A25,'CO2'!$A$3:$O$78,15,FALSE)","v":{"v":79.11681465950214,"d":"79.1"}},{"$f":"VLOOKUP($A25,Nmin_SHS!$E$2:$S$77,13,FALSE)","v":{"v":27.267104823675403,"d":"27.3"}},{"$f":"VLOOKUP($A25,Nmin_SHS!$E$2:$S$77,14,FALSE)","v":{"v":34.58347453195258,"d":"34.6"}}]
["Pi-0-T",7,0,1,"Pi","0-T","T","Pi-0",{"$f":"VLOOKUP($H26,'Mng&Soil'!$B$2:$E$41,3,FALSE)","v":4},{"$f":"VLOOKUP($H26,'Mng&Soil'!$B$2:$F$41,5,FALSE)","v":9},{"$f":"VLOOKUP($H26,'Mng&Soil'!$B$2:$G$41,6,FALSE)","v":37},{"$f":"VLOOKUP(A26,pH_EC!$A25:$C101,2,FALSE)","v":83.2},{"$f":"VLOOKUP(A26,pH_EC!$A25:$C101,3,FALSE)","v":7.35},{"$f":"VLOOKUP($H26,Biomass!$A$2:$L$41,11,FALSE)","v":{"v":7876.969242310577,"d":"7876.97"}},{"$f":"VLOOKUP($H26,Biomass!$A$2:$O$41,15,FALSE)","v":{"v":110.27756939234808,"d":"110.28"}},{"$f":"VLOOKUP($A26,Min_N_Corrected!$A$2:V$93,21,FALSE)","v":{"v":8.295440536386645,"d":"8.30"}},{"$f":"VLOOKUP($A26,Min_N_Corrected!$A$2:W$93,22,FALSE)","v":{"v":2.7630335889057664,"d":"2.76"}},{"v":11.058474125292411,"d":"11.06"},{"$f":"(VLOOKUP(A26,ISNT_Amino_N!A$2:O$103,15,FALSE))-Q26","v":{"v":715.1310687545524,"d":"715"}},{"$f":"VLOOKUP(A26,Protein!A$3:Q$86,17,FALSE)","v":{"v":330.6275275027695,"d":"331"}},{"v":30.552005303877223,"d":"30.55"},{"$f":"VLOOKUP(A26,WEON_WEOC!$B$2:$K$79,7,FALSE)","v":{"v":19.493531178584814,"d":"19.5"}},{"v":1076.310601561199,"d":"1076"},{"$f":"VLOOKUP(A26,WEON_WEOC!$B26:$K$79,10,FALSE)","v":{"v":331.39471551111126,"d":"331"}},{"v":17.00024036051378,"d":"17.0"},{"$f":"VLOOKUP(A26,TC_TN!$A$2:$V$77,22,FALSE)","v":{"v":5291.328668420295,"d":"5291"}},{"$f":"VLOOKUP(A26,TC_TN!$A$2:$V$77,16,FALSE)","v":{"v":67745.04128507801,"d":"67745"}},{"v":5280.2701942950025,"d":"5280"},{"v":12.803030303030303,"d":"12.8"},{"v":12.829843699716776,"d":"12.8"},{"$f":"VLOOKUP($A26,'CO2'!$A$3:$O$78,15,FALSE)","v":{"v":82.79174236145259,"d":"82.8"}},{"$f":"VLOOKUP($A26,Nmin_SHS!$E$2:$S$77,13,FALSE)","v":{"v":25.080823815030094,"d":"25.1"}},{"$f":"VLOOKUP($A26,Nmin_SHS!$E$2:$S$77,14,FALSE)","v":{"v":28.030381215544814,"d":"28.0"}}]
["Pi-0-S",7,0,2,"Pi","0-S","S","Pi-0",{"$f":"VLOOKUP($H27,'Mng&Soil'!$B$2:$E$41,3,FALSE)","v":4},{"$f":"VLOOKUP($H27,'Mng&Soil'!$B$2:$F$41,5,FALSE)","v":9},{"$f":"VLOOKUP($H27,'Mng&Soil'!$B$2:$G$41,6,FALSE)","v":37},{"$f":"VLOOKUP(A27,pH_EC!$A26:$C102,2,FALSE)","v":57.5},{"$f":"VLOOKUP(A27,pH_EC!$A26:$C102,3,FALSE)","v":{"v":7,"d":"7.00"}},{"$f":"VLOOKUP($H27,Biomass!$A$2:$L$41,11,FALSE)","v":{"v":7876.969242310577,"d":"7876.97"}},{"$f":"VLOOKUP($H27,Biomass!$A$2:$O$41,15,FALSE)","v":{"v":110.27756939234808,"d":"110.28"}},{"$f":"VLOOKUP($A27,Min_N_Corrected!$A$2:V$93,21,FALSE)","v":{"v":1.6683789676148002,"d":"1.67"}},{"$f":"VLOOKUP($A27,Min_N_Corrected!$A$2:W$93,22,FALSE)","v":{"v":1.3965964749364088,"d":"1.40"}},{"v":3.064975442551209,"d":"3.06"},{"$f":"(VLOOKUP(A27,ISNT_Amino_N!A$2:O$103,15,FALSE))-Q27","v":{"v":467.9765376364323,"d":"468"}},{"$f":"VLOOKUP(A27,Protein!A$3:Q$86,17,FALSE)","v":{"v":239.96516797041303,"d":"240"}},{"v":15.17602349183632,"d":"15.18"},{"$f":"VLOOKUP(A27,WEON_WEOC!$B$2:$K$79,7,FALSE)","v":{"v":12.111048049285111,"d":"12.1"}},{"v":723.1177290986817,"d":"723"},{"$f":"VLOOKUP(A27,WEON_WEOC!$B27:$K$79,10,FALSE)","v":{"v":286.47787661060005,"d":"286"}},{"v":23.654259767180942,"d":"23.7"},{"$f":"VLOOKUP(A27,TC_TN!$A$2:$V$77,22,FALSE)","v":{"v":3275.4890318144776,"d":"3275"}},{"$f":"VLOOKUP(A27,TC_TN!$A$2:$V$77,16,FALSE)","v":{"v":42206.55021094277,"d":"42207"}},{"v":3272.4240563719263,"d":"3272"},{"v":12.885572139303482,"d":"12.9"},{"v":12.897640857015444,"d":"12.9"},{"$f":"VLOOKUP($A27,'CO2'!$A$3:$O$78,15,FALSE)","v":{"v":46.58305194979871,"d":"46.6"}},{"$f":"VLOOKUP($A27,Nmin_SHS!$E$2:$S$77,13,FALSE)","v":{"v":10.905617350696463,"d":"10.9"}},{"$f":"VLOOKUP($A27,Nmin_SHS!$E$2:$S$77,14,FALSE)","v":{"v":14.990571204134275,"d":"15.0"}}]
["Pi-1-T",7,1,1,"Pi","1-T","T","Pi-1",{"$f":"VLOOKUP($H28,'Mng&Soil'!$B$2:$E$41,3,FALSE)","v":4},{"$f":"VLOOKUP($H28,'Mng&Soil'!$B$2:$F$41,5,FALSE)","v":5},{"$f":"VLOOKUP($H28,'Mng&Soil'!$B$2:$G$41,6,FALSE)","v":46},{"$f":"VLOOKUP(A28,pH_EC!$A27:$C103,2,FALSE)","v":100.3},{"$f":"VLOOKUP(A28,pH_EC!$A27:$C103,3,FALSE)","v":7.53},{"$f":"VLOOKUP($H28,Biomass!$A$2:$L$41,11,FALSE)","v":{"v":8127.794808335912,"d":"8127.79"}},{"$f":"VLOOKUP($H28,Biomass!$A$2:$O$41,15,FALSE)","v":{"v":113.78912731670277,"d":"113.79"}},{"$f":"VLOOKUP($A28,Min_N_Corrected!$A$2:V$93,21,FALSE)","v":{"v":3.8214737498732143,"d":"3.82"}},{"$f":"VLOOKUP($A28,Min_N_Corrected!$A$2:W$93,22,FALSE)","v":{"v":2.0987951173253303,"d":"2.10"}},{"v":5.920268867198544,"d":"5.92"},{"$f":"(VLOOKUP(A28,ISNT_Amino_N!A$2:O$103,15,FALSE))-Q28","v":{"v":710.5905799864133,"d":"711"}},{"$f":"VLOOKUP(A28,Protein!A$3:Q$86,17,FALSE)","v":{"v":321.2532133101034,"d":"321"}},{"v":32.15298346559127,"d":"32.15"},{"$f":"VLOOKUP(A28,WEON_WEOC!$B$2:$K$79,7,FALSE)","v":{"v":26.232714598392725,"d":"26.2"}},{"v":1063.9967767621079,"d":"1064"},{"$f":"VLOOKUP(A28,WEON_WEOC!$B28:$K$79,10,FALSE)","v":{"v":504.41836446019335,"d":"504"}},{"v":19.22859956289461,"d":"19.2"},{"$f":"VLOOKUP(A28,TC_TN!$A$2:$V$77,22,FALSE)","v":{"v":5510.72638450266,"d":"5511"}},{"$f":"VLOOKUP(A28,TC_TN!$A$2:$V$77,16,FALSE)","v":{"v":70172.55899690438,"d":"70173"}},{"v":5504.8061156354615,"d":"5505"},{"v":12.733812949640289,"d":"12.7"},{"v":12.747507818230185,"d":"12.7"},{"$f":"VLOOKUP($A28,'CO2'!$A$3:$O$78,15,FALSE)","v":{"v":82.97124262913127,"d":"83.0"}},{"$f":"VLOOKUP($A28,Nmin_SHS!$E$2:$S$77,13,FALSE)","v":{"v":23.05108251221422,"d":"23.1"}},{"$f":"VLOOKUP($A28,Nmin_SHS!$E$2:$S$77,14,FALSE)","v":{"v":26.048054467689767,"d":"26.0"}}]
["Pi-1-S",7,1,2,"Pi","1-S","S","Pi-1",{"$f":"VLOOKUP($H29,'Mng&Soil'!$B$2:$E$41,3,FALSE)","v":4},{"$f":"VLOOKUP($H29,'Mng&Soil'!$B$2:$F$41,5,FALSE)","v":5},{"$f":"VLOOKUP($H29,'Mng&Soil'!$B$2:$G$41,6,FALSE)","v":46},{"$f":"VLOOKUP(A29,pH_EC!$A28:$C104,2,FALSE)","v":64.8},{"$f":"VLOOKUP(A29,pH_EC!$A28:$C104,3,FALSE)","v":7.27},{"$f":"VLOOKUP($H29,Biomass!$A$2:$L$41,11,FALSE)","v":{"v":8127.794808335912,"d":"8127.79"}},{"$f":"VLOOKUP($H29,Biomass!$A$2:$O$41,15,FALSE)","v":{"v":113.78912731670277,"d":"113.79"}},{"$f":"VLOOKUP($A29,Min_N_Corrected!$A$2:V$93,21,FALSE)","v":{"v":2.6373690077052614,"d":"2.64"}},{"$f":"VLOOKUP($A29,Min_N_Corrected!$A$2:W$93,22,FALSE)","v":{"v":1.716622000434076,"d":"1.72"}},{"v":4.353991008139337,"d":"4.35"},{"$f":"(VLOOKUP(A29,ISNT_Amino_N!A$2:O$103,15,FALSE))-Q29","v":{"v":469.5697989920945,"d":"470"}},{"$f":"VLOOKUP(A29,Protein!A$3:Q$86,17,FALSE)","v":{"v":212.82426858068132,"d":"213"}},{"v":13.465058379371634,"d":"13.47"},{"$f":"VLOOKUP(A29,WEON_WEOC!$B$2:$K$79,7,FALSE)","v":{"v":9.111067371232297,"d":"9.1"}},{"v":695.8591259521475,"d":"696"},{"$f":"VLOOKUP(A29,WEON_WEOC!$B29:$K$79,10,FALSE)","v":{"v":349.1239687585579,"d":"349"}},{"v":38.318668333075664,"d":"38.3"},{"$f":"VLOOKUP(A29,TC_TN!$A$2:$V$77,22,FALSE)","v":{"v":3490.1431319331273,"d":"3490"}},{"$f":"VLOOKUP(A29,TC_TN!$A$2:$V$77,16,FALSE)","v":{"v":43465.20844861163,"d":"43465"}},{"v":3485.789140924988,"d":"3486"},{"v":12.453703703703702,"d":"12.5"},{"v":12.469259238405257,"d":"12.5"},{"$f":"VLOOKUP($A29,'CO2'!$A$3:$O$78,15,FALSE)","v":{"v":39.8376873012519,"d":"39.8"}},{"$f":"VLOOKUP($A29,Nmin_SHS!$E$2:$S$77,13,FALSE)","v":{"v":6.471394611472642,"d":"6.5"}},{"$f":"VLOOKUP($A29,Nmin_SHS!$E$2:$S$77,14,FALSE)","v":{"v":8.971321376956404,"d":"9.0"}}]
["Ja-0-T",8,0,1,"Ja","0-T","T","Ja-0",{"$f":"VLOOKUP($H30,'Mng&Soil'!$B$2:$E$41,3,FALSE)","v":2},{"$f":"VLOOKUP($H30,'Mng&Soil'!$B$2:$F$41,5,FALSE)","v":5},{"$f":"VLOOKUP($H30,'Mng&Soil'!$B$2:$G$41,6,FALSE)","v":53},{"$f":"VLOOKUP(A30,pH_EC!$A29:$C105,2,FALSE)","v":65.9},{"$f":"VLOOKUP(A30,pH_EC!$A29:$C105,3,FALSE)","v":{"v":6.8,"d":"6.80"}},{"$f":"VLOOKUP($H30,Biomass!$A$2:$L$41,11,FALSE)","v":{"v":0,"d":"0.00"}},{"$f":"VLOOKUP($H30,Biomass!$A$2:$O$41,15,FALSE)","v":{"v":0,"d":"0.00"}},{"$f":"VLOOKUP($A30,Min_N_Corrected!$A$2:V$93,21,FALSE)","v":{"v":12.061604287483586,"d":"12.06"}},{"$f":"VLOOKUP($A30,Min_N_Corrected!$A$2:W$93,22,FALSE)","v":{"v":3.251578198303716,"d":"3.25"}},{"v":15.313182485787301,"d":"15.31"},{"$f":"(VLOOKUP(A30,ISNT_Amino_N!A$2:O$103,15,FALSE))-Q30","v":{"v":578.0058674761377,"d":"578"}},{"$f":"VLOOKUP(A30,Protein!A$3:Q$86,17,FALSE)","v":{"v":320.8137742203582,"d":"321"}},{"v":29.435745117546404,"d":"29.44"},{"$f":"VLOOKUP(A30,WEON_WEOC!$B$2:$K$79,7,FALSE)","v":{"v":14.122562631759104,"d":"14.1"}},{"v":928.2553868140424,"d":"928"},{"$f":"VLOOKUP(A30,WEON_WEOC!$B30:$K$79,10,FALSE)","v":{"v":382.5621229562651,"d":"383"}},{"v":27.08871845226954,"d":"27.1"},{"$f":"VLOOKUP(A30,TC_TN!$A$2:$V$77,22,FALSE)","v":{"v":4551.443114746806,"d":"4551"}},{"$f":"VLOOKUP(A30,TC_TN!$A$2:$V$77,16,FALSE)","v":{"v":61990.24332754699,"d":"61990"}},{"v":4536.129932261018,"d":"4536"},{"v":13.619909502262443,"d":"13.6"},{"v":13.665887938233762,"d":"13.7"},{"$f":"VLOOKUP($A30,'CO2'!$A$3:$O$78,15,FALSE)","v":{"v":60.16110092306195,"d":"60.2"}},{"$f":"VLOOKUP($A30,Nmin_SHS!$E$2:$S$77,13,FALSE)","v":{"v":12.672519588305656,"d":"12.7"}},{"$f":"VLOOKUP($A30,Nmin_SHS!$E$2:$S$77,14,FALSE)","v":{"v":13.783329679918054,"d":"13.8"}}]
["Ja-1-T",8,1,1,"Ja","1-T","T","Ja-1",{"$f":"VLOOKUP($H31,'Mng&Soil'!$B$2:$E$41,3,FALSE)","v":2},{"$f":"VLOOKUP($H31,'Mng&Soil'!$B$2:$F$41,5,FALSE)","v":5},{"$f":"VLOOKUP($H31,'Mng&Soil'!$B$2:$G$41,6,FALSE)","v":58},{"$f":"VLOOKUP(A31,pH_EC!$A30:$C106,2,FALSE)","v":56.3},{"$f":"VLOOKUP(A31,pH_EC!$A30:$C106,3,FALSE)","v":6.69},{"$f":"VLOOKUP($H31,Biomass!$A$2:$L$41,11,FALSE)","v":{"v":0,"d":"0.00"}},{"$f":"VLOOKUP($H31,Biomass!$A$2:$O$41,15,FALSE)","v":{"v":0,"d":"0.00"}},{"$f":"VLOOKUP($A31,Min_N_Corrected!$A$2:V$93,21,FALSE)","v":{"v":9.899772370074547,"d":"9.90"}},{"$f":"VLOOKUP($A31,Min_N_Corrected!$A$2:W$93,22,FALSE)","v":{"v":2.745438554636384,"d":"2.75"}},{"v":12.64521092471093,"d":"12.65"},{"$f":"(VLOOKUP(A31,ISNT_Amino_N!A$2:O$103,15,FALSE))-Q31","v":{"v":607.0755887563636,"d":"607"}},{"$f":"VLOOKUP(A31,Protein!A$3:Q$86,17,FALSE)","v":{"v":256.3502125836081,"d":"256"}},{"v":27.90067678593234,"d":"27.90"},{"$f":"VLOOKUP(A31,WEON_WEOC!$B$2:$K$79,7,FALSE)","v":{"v":15.25546586122141,"d":"15.3"}},{"v":891.326478125904,"d":"891"},{"$f":"VLOOKUP(A31,WEON_WEOC!$B31:$K$79,10,FALSE)","v":{"v":431.5722663891407,"d":"432"}},{"v":28.289681240490637,"d":"28.3"},{"$f":"VLOOKUP(A31,TC_TN!$A$2:$V$77,22,FALSE)","v":{"v":4583.401965969476,"d":"4583"}},{"$f":"VLOOKUP(A31,TC_TN!$A$2:$V$77,16,FALSE)","v":{"v":57818.144066128705,"d":"57818"}},{"v":4570.756755044765,"d":"4571"},{"v":12.614678899082568,"d":"12.6"},{"v":12.64957799434734,"d":"12.6"},{"$f":"VLOOKUP($A31,'CO2'!$A$3:$O$78,15,FALSE)","v":{"v":78.06714019976815,"d":"78.1"}},{"$f":"VLOOKUP($A31,Nmin_SHS!$E$2:$S$77,13,FALSE)","v":{"v":15.870918011062749,"d":"15.9"}},{"$f":"VLOOKUP($A31,Nmin_SHS!$E$2:$S$77,14,FALSE)","v":{"v":16.909026833571367,"d":"16.9"}}]
["Mu-0-T",9,0,1,"Mu","0-T","T","Mu-0",{"$f":"VLOOKUP($H32,'Mng&Soil'!$B$2:$E$41,3,FALSE)","v":5},{"$f":"VLOOKUP($H32,'Mng&Soil'!$B$2:$F$41,5,FALSE)","v":8},{"$f":"VLOOKUP($H32,'Mng&Soil'!$B$2:$G$41,6,FALSE)","v":54},{"$f":"VLOOKUP(A32,pH_EC!$A31:$C107,2,FALSE)","v":72.6},{"$f":"VLOOKUP(A32,pH_EC!$A31:$C107,3,FALSE)","v":6.15},{"$f":"VLOOKUP($H32,Biomass!$A$2:$L$41,11,FALSE)","v":{"v":2047.9553656430583,"d":"2047.96"}},{"$f":"VLOOKUP($H32,Biomass!$A$2:$O$41,15,FALSE)","v":{"v":61.438660969291746,"d":"61.44"}},{"$f":"VLOOKUP($A32,Min_N_Corrected!$A$2:V$93,21,FALSE)","v":{"v":6.373141844228664,"d":"6.37"}},{"$f":"VLOOKUP($A32,Min_N_Corrected!$A$2:W$93,22,FALSE)","v":{"v":3.225315087887666,"d":"3.23"}},{"v":9.598456932116331,"d":"9.60"},{"$f":"(VLOOKUP(A32,ISNT_Amino_N!A$2:O$103,15,FALSE))-Q32","v":{"v":862.4461943274509,"d":"862"}},{"$f":"VLOOKUP(A32,Protein!A$3:Q$86,17,FALSE)","v":{"v":398.57246975616596,"d":"399"}},{"v":45.158344807716105,"d":"45.16"},{"$f":"VLOOKUP(A32,WEON_WEOC!$B$2:$K$79,7,FALSE)","v":{"v":35.55988787559977,"d":"35.6"}},{"v":1306.177008891333,"d":"1306"},{"$f":"VLOOKUP(A32,WEON_WEOC!$B32:$K$79,10,FALSE)","v":{"v":735.3299267457674,"d":"735"}},{"v":20.678634570451802,"d":"20.7"},{"$f":"VLOOKUP(A32,TC_TN!$A$2:$V$77,22,FALSE)","v":{"v":6100.25256303133,"d":"6100"}},{"$f":"VLOOKUP(A32,TC_TN!$A$2:$V$77,16,FALSE)","v":{"v":83644.567351994,"d":"83645"}},{"v":6090.654106099214,"d":"6091"},{"v":13.71165644171779,"d":"13.7"},{"v":13.733265080384696,"d":"13.7"},{"$f":"VLOOKUP($A32,'CO2'!$A$3:$O$78,15,FALSE)","v":{"v":148.82945765643163,"d":"148.8"}},{"$f":"VLOOKUP($A32,Nmin_SHS!$E$2:$S$77,13,FALSE)","v":{"v":39.250912454952505,"d":"39.3"}},{"$f":"VLOOKUP($A32,Nmin_SHS!$E$2:$S$77,14,FALSE)","v":{"v":46.985901017943334,"d":"47.0"}}]
["Mu-0-S",9,0,2,"Mu","0-S","S","Mu-0",{"$f":"VLOOKUP($H33,'Mng&Soil'!$B$2:$E$41,3,FALSE)","v":5},{"$f":"VLOOKUP($H33,'Mng&Soil'!$B$2:$F$41,5,FALSE)","v":8},{"$f":"VLOOKUP($H33,'Mng&Soil'!$B$2:$G$41,6,FALSE)","v":54},{"$f":"VLOOKUP(A33,pH_EC!$A32:$C108,2,FALSE)","v":48.8},{"$f":"VLOOKUP(A33,pH_EC!$A32:$C108,3,FALSE)","v":6.31},{"$f":"VLOOKUP($H33,Biomass!$A$2:$L$41,11,FALSE)","v":{"v":2047.9553656430583,"d":"2047.96"}},{"$f":"VLOOKUP($H33,Biomass!$A$2:$O$41,15,FALSE)","v":{"v":61.438660969291746,"d":"61.44"}},{"$f":"VLOOKUP($A33,Min_N_Corrected!$A$2:V$93,21,FALSE)","v":{"v":2.2121477798431295,"d":"2.21"}},{"$f":"VLOOKUP($A33,Min_N_Corrected!$A$2:W$93,22,FALSE)","v":{"v":2.5498936789782727,"d":"2.55"}},{"v":4.762041458821402,"d":"4.76"},{"$f":"(VLOOKUP(A33,ISNT_Amino_N!A$2:O$103,15,FALSE))-Q33","v":{"v":532.0430375017984,"d":"532"}},{"$f":"VLOOKUP(A33,Protein!A$3:Q$86,17,FALSE)","v":{"v":251.344977553143,"d":"251"}},{"v":20.420208508920787,"d":"20.42"},{"$f":"VLOOKUP(A33,WEON_WEOC!$B$2:$K$79,7,FALSE)","v":{"v":15.658167050099383,"d":"15.7"}},{"v":803.8082235638622,"d":"804"},{"$f":"VLOOKUP(A33,WEON_WEOC!$B33:$K$79,10,FALSE)","v":{"v":377.0472956890617,"d":"377"}},{"v":24.079912705150797,"d":"24.1"},{"$f":"VLOOKUP(A33,TC_TN!$A$2:$V$77,22,FALSE)","v":{"v":3681.34295315917,"d":"3681"}},{"$f":"VLOOKUP(A33,TC_TN!$A$2:$V$77,16,FALSE)","v":{"v":50984.28943496591,"d":"50984"}},{"v":3676.5809117003487,"d":"3677"},{"v":13.849372384937238,"d":"13.8"},{"v":13.867310596297104,"d":"13.9"},{"$f":"VLOOKUP($A33,'CO2'!$A$3:$O$78,15,FALSE)","v":{"v":58.92399625042767,"d":"58.9"}},{"$f":"VLOOKUP($A33,Nmin_SHS!$E$2:$S$77,13,FALSE)","v":{"v":13.655630901841409,"d":"13.7"}},{"$f":"VLOOKUP($A33,Nmin_SHS!$E$2:$S$77,14,FALSE)","v":{"v":19.858727243372172,"d":"19.9"}}]
["Mu-1-T",9,1,1,"Mu",{"$f":"C34&\"-\"&G34","v":"1-T"},"T",{"$f":"E34&\"-\"&C34","v":"Mu-1"},{"$f":"VLOOKUP($H34,'Mng&Soil'!$B$2:$E$41,3,FALSE)","v":5},{"$f":"VLOOKUP($H34,'Mng&Soil'!$B$2:$F$41,5,FALSE)","v":1},{"$f":"VLOOKUP($H34,'Mng&Soil'!$B$2:$G$41,6,FALSE)","v":37},{"$f":"VLOOKUP(A34,pH_EC!$A33:$C109,2,FALSE)","v":73.6},{"$f":"VLOOKUP(A34,pH_EC!$A33:$C109,3,FALSE)","v":6.39},{"$f":"VLOOKUP($H34,Biomass!$A$2:$L$41,11,FALSE)","v":{"v":2211.238293444329,"d":"2211.24"}},{"$f":"VLOOKUP($H34,Biomass!$A$2:$O$41,15,FALSE)","v":{"v":66.33714880332987,"d":"66.34"}},{"$f":"VLOOKUP($A34,Min_N_Corrected!$A$2:V$93,21,FALSE)","v":{"v":5.587068317265566,"d":"5.59"}},{"$f":"VLOOKUP($A34,Min_N_Corrected!$A$2:W$93,22,FALSE)","v":{"v":3.7145096445395214,"d":"3.71"}},{"$f":"P34+Q34","v":{"v":9.301577961805087,"d":"9.30"}},{"$f":"(VLOOKUP(A34,ISNT_Amino_N!A$2:O$103,15,FALSE))-Q34","v":{"v":864.5997065961493,"d":"865"}},{"$f":"VLOOKUP(A34,Protein!A$3:Q$86,17,FALSE)","v":{"v":386.9741760410542,"d":"387"}},{"$f":"V34+R34","v":{"v":43.054645917107436,"d":"43.05"}},{"$f":"VLOOKUP(A34,WEON_WEOC!$B$2:$K$79,7,FALSE)","v":{"v":33.75306795530235,"d":"33.8"}},{"$f":"SUM(R34,S34,T34,V34)","v":{"v":1294.6285285543108,"d":"1295"}},{"$f":"VLOOKUP(A34,WEON_WEOC!$B34:$K$79,10,FALSE)","v":{"v":620.4663105398996,"d":"620"}},{"$f":"X34/V34","v":{"v":18.382515964520763,"d":"18.4"}},{"$f":"VLOOKUP(A34,TC_TN!$A$2:$V$77,22,FALSE)","v":{"v":6523.802210980706,"d":"6524"}},{"$f":"VLOOKUP(A34,TC_TN!$A$2:$V$77,16,FALSE)","v":{"v":85311.25968205539,"d":"85311"}},{"$f":"Z34-R34","v":{"v":6514.500633018901,"d":"6515"}},{"$f":"AA34/Z34","v":{"v":13.076923076923077,"d":"13.1"}},{"v":13.095594656887934,"d":"13.1"},{"$f":"VLOOKUP($A34,'CO2'!$A$3:$O$78,15,FALSE)","v":{"v":133.1916361780729,"d":"133.2"}},{"$f":"VLOOKUP($A34,Nmin_SHS!$E$2:$S$77,13,FALSE)","v":{"v":38.893806738103585,"d":"38.9"}},{"$f":"VLOOKUP($A34,Nmin_SHS!$E$2:$S$77,14,FALSE)","v":{"v":46.87430063145579,"d":"46.9"}}]
["Mu-1-S",9,1,2,"Mu","1-S","S","Mu-1",{"$f":"VLOOKUP($H35,'Mng&Soil'!$B$2:$E$41,3,FALSE)","v":5},{"$f":"VLOOKUP($H35,'Mng&Soil'!$B$2:$F$41,5,FALSE)","v":1},{"$f":"VLOOKUP($H35,'Mng&Soil'!$B$2:$G$41,6,FALSE)","v":37},{"$f":"VLOOKUP(A35,pH_EC!$A34:$C110,2,FALSE)","v":56.7},{"$f":"VLOOKUP(A35,pH_EC!$A34:$C110,3,FALSE)","v":6.59},{"$f":"VLOOKUP($H35,Biomass!$A$2:$L$41,11,FALSE)","v":{"v":2211.238293444329,"d":"2211.24"}},{"$f":"VLOOKUP($H35,Biomass!$A$2:$O$41,15,FALSE)","v":{"v":66.33714880332987,"d":"66.34"}},{"$f":"VLOOKUP($A35,Min_N_Corrected!$A$2:V$93,21,FALSE)","v":{"v":2.999950398972436,"d":"3.00"}},{"$f":"VLOOKUP($A35,Min_N_Corrected!$A$2:W$93,22,FALSE)","v":{"v":2.472649208619746,"d":"2.47"}},{"v":5.472599607592182,"d":"5.47"},{"$f":"(VLOOKUP(A35,ISNT_Amino_N!A$2:O$103,15,FALSE))-Q35","v":{"v":547.8874929977164,"d":"548"}},{"$f":"VLOOKUP(A35,Protein!A$3:Q$86,17,FALSE)","v":{"v":244.70871356616917,"d":"245"}},{"v":18.808198930035758,"d":"18.81"},{"$f":"VLOOKUP(A35,WEON_WEOC!$B$2:$K$79,7,FALSE)","v":{"v":13.335599322443574,"d":"13.3"}},{"v":811.4044054939214,"d":"811"},{"$f":"VLOOKUP(A35,WEON_WEOC!$B35:$K$79,10,FALSE)","v":{"v":299.25595868437455,"d":"299"}},{"v":22.440383176535015,"d":"22.4"},{"$f":"VLOOKUP(A35,TC_TN!$A$2:$V$77,22,FALSE)","v":{"v":3902.8916443683515,"d":"3903"}},{"$f":"VLOOKUP(A35,TC_TN!$A$2:$V$77,16,FALSE)","v":{"v":52038.55525824469,"d":"52039"}},{"v":3897.4190447607593,"d":"3897"},{"v":13.333333333333334,"d":"13.3"},{"v":13.352055465577745,"d":"13.4"},{"$f":"VLOOKUP($A35,'CO2'!$A$3:$O$78,15,FALSE)","v":{"v":70.42131685538955,"d":"70.4"}},{"$f":"VLOOKUP($A35,Nmin_SHS!$E$2:$S$77,13,FALSE)","v":{"v":17.28717276916715,"d":"17.3"}},{"$f":"VLOOKUP($A35,Nmin_SHS!$E$2:$S$77,14,FALSE)","v":{"v":25.300300355497995,"d":"25.3"}}]
["Kp-0-T",10,0,1,"Kp","0-T","T","Kp-0",{"$f":"VLOOKUP($H36,'Mng&Soil'!$B$2:$E$41,3,FALSE)","v":1},{"$f":"VLOOKUP($H36,'Mng&Soil'!$B$2:$F$41,5,FALSE)","v":5},{"$f":"VLOOKUP($H36,'Mng&Soil'!$B$2:$G$41,6,FALSE)","v":58},{"$f":"VLOOKUP(A36,pH_EC!$A35:$C111,2,FALSE)","v":76.3},{"$f":"VLOOKUP(A36,pH_EC!$A35:$C111,3,FALSE)","v":6.96},{"$f":"VLOOKUP($H36,Biomass!$A$2:$L$41,11,FALSE)","v":{"v":1993.4640522875818,"d":"1993.46"}},{"$f":"VLOOKUP($H36,Biomass!$A$2:$O$41,15,FALSE)","v":{"v":59.80392156862745,"d":"59.80"}},{"$f":"VLOOKUP($A36,Min_N_Corrected!$A$2:V$93,21,FALSE)","v":{"v":3.325643889329033,"d":"3.33"}},{"$f":"VLOOKUP($A36,Min_N_Corrected!$A$2:W$93,22,FALSE)","v":{"v":2.113308218325844,"d":"2.11"}},{"v":5.4389521076548775,"d":"5.44"},{"$f":"(VLOOKUP(A36,ISNT_Amino_N!A$2:O$103,15,FALSE))-Q36","v":{"v":620.419527708118,"d":"620"}},{"$f":"VLOOKUP(A36,Protein!A$3:Q$86,17,FALSE)","v":{"v":331.55032076222363,"d":"332"}},{"v":33.84680722066159,"d":"33.85"},{"$f":"VLOOKUP(A36,WEON_WEOC!$B$2:$K$79,7,FALSE)","v":{"v":28.407855113006715,"d":"28.4"}},{"v":985.8166556910032,"d":"986"},{"$f":"VLOOKUP(A36,WEON_WEOC!$B36:$K$79,10,FALSE)","v":{"v":510.2897847029409,"d":"510"}},{"v":17.96298181165045,"d":"18.0"},{"$f":"VLOOKUP(A36,TC_TN!$A$2:$V$77,22,FALSE)","v":{"v":4722.71643136736,"d":"4723"}},{"$f":"VLOOKUP(A36,TC_TN!$A$2:$V$77,16,FALSE)","v":{"v":59918.164415585896,"d":"59918"}},{"v":4717.277479259706,"d":"4717"},{"v":12.687224669603525,"d":"12.7"},{"v":12.701852854538675,"d":"12.7"},{"$f":"VLOOKUP($A36,'CO2'!$A$3:$O$78,15,FALSE)","v":{"v":140.55935463357775,"d":"140.6"}},{"$f":"VLOOKUP($A36,Nmin_SHS!$E$2:$S$77,13,FALSE)","v":{"v":41.595603957928724,"d":"41.6"}},{"$f":"VLOOKUP($A36,Nmin_SHS!$E$2:$S$77,14,FALSE)","v":{"v":44.78467637830188,"d":"44.8"}}]
["Kp-0-S",10,0,2,"Kp","0-S","S","Kp-0",{"$f":"VLOOKUP($H37,'Mng&Soil'!$B$2:$E$41,3,FALSE)","v":1},{"$f":"VLOOKUP($H37,'Mng&Soil'!$B$2:$F$41,5,FALSE)","v":5},{"$f":"VLOOKUP($H37,'Mng&Soil'!$B$2:$G$41,6,FALSE)","v":58},{"$f":"VLOOKUP(A37,pH_EC!$A36:$C112,2,FALSE)","v":{"v":41.27,"d":"41.3"}},{"$f":"VLOOKUP(A37,pH_EC!$A36:$C112,3,FALSE)","v":6.56},{"$f":"VLOOKUP($H37,Biomass!$A$2:$L$41,11,FALSE)","v":{"v":1993.4640522875818,"d":"1993.46"}},{"$f":"VLOOKUP($H37,Biomass!$A$2:$O$41,15,FALSE)","v":{"v":59.80392156862745,"d":"59.80"}},{"$f":"VLOOKUP($A37,Min_N_Corrected!$A$2:V$93,21,FALSE)","v":{"v":2.2900943218930534,"d":"2.29"}},{"$f":"VLOOKUP($A37,Min_N_Corrected!$A$2:W$93,22,FALSE)","v":{"v":1.7649784782190447,"d":"1.76"}},{"v":4.055072800112098,"d":"4.06"},{"$f":"(VLOOKUP(A37,ISNT_Amino_N!A$2:O$103,15,FALSE))-Q37","v":{"v":393.3121010463797,"d":"393"}},{"$f":"VLOOKUP(A37,Protein!A$3:Q$86,17,FALSE)","v":{"v":195.2741600461698,"d":"195"}},{"v":15.918978881211201,"d":"15.92"},{"$f":"VLOOKUP(A37,WEON_WEOC!$B$2:$K$79,7,FALSE)","v":{"v":11.863906081099103,"d":"11.9"}},{"v":604.5052399737607,"d":"605"},{"$f":"VLOOKUP(A37,WEON_WEOC!$B37:$K$79,10,FALSE)","v":{"v":368.605232917885,"d":"369"}},{"v":31.069466531358152,"d":"31.1"},{"$f":"VLOOKUP(A37,TC_TN!$A$2:$V$77,22,FALSE)","v":{"v":2851.8127075740717,"d":"2852"}},{"$f":"VLOOKUP(A37,TC_TN!$A$2:$V$77,16,FALSE)","v":{"v":35690.35065167551,"d":"35690"}},{"v":2847.7576347739596,"d":"2848"},{"v":12.51497005988024,"d":"12.5"},{"v":12.532790788043458,"d":"12.5"},{"$f":"VLOOKUP($A37,'CO2'!$A$3:$O$78,15,FALSE)","v":{"v":63.91173137957679,"d":"63.9"}},{"$f":"VLOOKUP($A37,Nmin_SHS!$E$2:$S$77,13,FALSE)","v":{"v":12.214309961718314,"d":"12.2"}},{"$f":"VLOOKUP($A37,Nmin_SHS!$E$2:$S$77,14,FALSE)","v":{"v":16.021841330409007,"d":"16.0"}}]
["Kp-1-T",10,1,1,"Kp","1-T","T","Kp-1",{"$f":"VLOOKUP($H38,'Mng&Soil'!$B$2:$E$41,3,FALSE)","v":1},{"$f":"VLOOKUP($H38,'Mng&Soil'!$B$2:$F$41,5,FALSE)","v":5},{"$f":"VLOOKUP($H38,'Mng&Soil'!$B$2:$G$41,6,FALSE)","v":59},{"$f":"VLOOKUP(A38,pH_EC!$A37:$C113,2,FALSE)","v":84.8},{"$f":"VLOOKUP(A38,pH_EC!$A37:$C113,3,FALSE)","v":{"v":7,"d":"7.00"}},{"$f":"VLOOKUP($H38,Biomass!$A$2:$L$41,11,FALSE)","v":{"v":2296.2962962962965,"d":"2296.30"}},{"$f":"VLOOKUP($H38,Biomass!$A$2:$O$41,15,FALSE)","v":{"v":68.8888888888889,"d":"68.89"}},{"$f":"VLOOKUP($A38,Min_N_Corrected!$A$2:V$93,21,FALSE)","v":{"v":4.124180107700967,"d":"4.12"}},{"$f":"VLOOKUP($A38,Min_N_Corrected!$A$2:W$93,22,FALSE)","v":{"v":1.9832471998258543,"d":"1.98"}},{"v":6.107427307526821,"d":"6.11"},{"$f":"(VLOOKUP(A38,ISNT_Amino_N!A$2:O$103,15,FALSE))-Q38","v":{"v":590.7371324775274,"d":"591"}},{"$f":"VLOOKUP(A38,Protein!A$3:Q$86,17,FALSE)","v":{"v":308.00020016391557,"d":"308"}},{"v":35.18056027130737,"d":"35.18"},{"$f":"VLOOKUP(A38,WEON_WEOC!$B$2:$K$79,7,FALSE)","v":{"v":29.073132963780548,"d":"29.1"}},{"v":933.9178929127503,"d":"934"},{"$f":"VLOOKUP(A38,WEON_WEOC!$B38:$K$79,10,FALSE)","v":{"v":459.2735966254247,"d":"459"}},{"v":15.79718282159649,"d":"15.8"},{"$f":"VLOOKUP(A38,TC_TN!$A$2:$V$77,22,FALSE)","v":{"v":4946.285389245898,"d":"4946"}},{"$f":"VLOOKUP(A38,TC_TN!$A$2:$V$77,16,FALSE)","v":{"v":63565.899010556794,"d":"63566"}},{"v":4940.1779619383715,"d":"4940"},{"v":12.851239669421489,"d":"12.9"},{"v":12.867127358629713,"d":"12.9"},{"$f":"VLOOKUP($A38,'CO2'!$A$3:$O$78,15,FALSE)","v":{"v":128.6881501977392,"d":"128.7"}},{"$f":"VLOOKUP($A38,Nmin_SHS!$E$2:$S$77,13,FALSE)","v":{"v":42.3567589622987,"d":"42.4"}},{"$f":"VLOOKUP($A38,Nmin_SHS!$E$2:$S$77,14,FALSE)","v":{"v":46.42019230876491,"d":"46.4"}}]
["Kp-1-S",10,1,2,"Kp","1-S","S","Kp-1",{"$f":"VLOOKUP($H39,'Mng&Soil'!$B$2:$E$41,3,FALSE)","v":1},{"$f":"VLOOKUP($H39,'Mng&Soil'!$B$2:$F$41,5,FALSE)","v":5},{"$f":"VLOOKUP($H39,'Mng&Soil'!$B$2:$G$41,6,FALSE)","v":59},{"$f":"VLOOKUP(A39,pH_EC!$A38:$C114,2,FALSE)","v":{"v":43.17,"d":"43.2"}},{"$f":"VLOOKUP(A39,pH_EC!$A38:$C114,3,FALSE)","v":6.55},{"$f":"VLOOKUP($H39,Biomass!$A$2:$L$41,11,FALSE)","v":{"v":2296.2962962962965,"d":"2296.30"}},{"$f":"VLOOKUP($H39,Biomass!$A$2:$O$41,15,FALSE)","v":{"v":68.8888888888889,"d":"68.89"}},{"$f":"VLOOKUP($A39,Min_N_Corrected!$A$2:V$93,21,FALSE)","v":{"v":2.7244239988683945,"d":"2.72"}},{"$f":"VLOOKUP($A39,Min_N_Corrected!$A$2:W$93,22,FALSE)","v":{"v":1.4901543697629345,"d":"1.49"}},{"v":4.214578368631329,"d":"4.21"},{"$f":"(VLOOKUP(A39,ISNT_Amino_N!A$2:O$103,15,FALSE))-Q39","v":{"v":408.8783709806875,"d":"409"}},{"$f":"VLOOKUP(A39,Protein!A$3:Q$86,17,FALSE)","v":{"v":172.93184830166678,"d":"173"}},{"v":18.965704461544192,"d":"18.97"},{"$f":"VLOOKUP(A39,WEON_WEOC!$B$2:$K$79,7,FALSE)","v":{"v":14.751126092912864,"d":"14.8"}},{"v":600.7759237438985,"d":"601"},{"$f":"VLOOKUP(A39,WEON_WEOC!$B39:$K$79,10,FALSE)","v":{"v":361.76872386998394,"d":"362"}},{"v":24.524820789362966,"d":"24.5"},{"$f":"VLOOKUP(A39,TC_TN!$A$2:$V$77,22,FALSE)","v":{"v":3134.120259481665,"d":"3134"}},{"$f":"VLOOKUP(A39,TC_TN!$A$2:$V$77,16,FALSE)","v":{"v":38212.80316373367,"d":"38213"}},{"v":3129.9056811130336,"d":"3130"},{"v":12.192513368983956,"d":"12.2"},{"v":12.208931212951029,"d":"12.2"},{"$f":"VLOOKUP($A39,'CO2'!$A$3:$O$78,15,FALSE)","v":{"v":57.37941081716545,"d":"57.4"}},{"$f":"VLOOKUP($A39,Nmin_SHS!$E$2:$S$77,13,FALSE)","v":{"v":13.137746038725703,"d":"13.1"}},{"$f":"VLOOKUP($A39,Nmin_SHS!$E$2:$S$77,14,FALSE)","v":{"v":17.558799934535877,"d":"17.6"}}]
["Ki-0-T",11,0,1,"Ki","0-T","T","Ki-0",{"$f":"VLOOKUP($H40,'Mng&Soil'!$B$2:$E$41,3,FALSE)","v":4},{"$f":"VLOOKUP($H40,'Mng&Soil'!$B$2:$F$41,5,FALSE)","v":2},{"$f":"VLOOKUP($H40,'Mng&Soil'!$B$2:$G$41,6,FALSE)","v":6},{"$f":"VLOOKUP(A40,pH_EC!$A39:$C115,2,FALSE)","v":107.8},{"$f":"VLOOKUP(A40,pH_EC!$A39:$C115,3,FALSE)","v":6.73},{"$f":"VLOOKUP($H40,Biomass!$A$2:$L$41,11,FALSE)","v":{"v":891.9280511372083,"d":"891.93"}},{"$f":"VLOOKUP($H40,Biomass!$A$2:$O$41,15,FALSE)","v":{"v":17.838561022744166,"d":"17.84"}},{"$f":"VLOOKUP($A40,Min_N_Corrected!$A$2:V$93,21,FALSE)","v":{"v":34.14848584481168,"d":"34.15"}},{"$f":"VLOOKUP($A40,Min_N_Corrected!$A$2:W$93,22,FALSE)","v":{"v":10.402824067839994,"d":"10.40"}},{"v":44.551309912651675,"d":"44.55"},{"$f":"(VLOOKUP(A40,ISNT_Amino_N!A$2:O$103,15,FALSE))-Q40","v":{"v":351.84478977164986,"d":"352"}},{"$f":"VLOOKUP(A40,Protein!A$3:Q$86,17,FALSE)","v":{"v":752.4944793630494,"d":"752"}},{"v":55.837148744071285,"d":"55.84"},{"$f":"VLOOKUP(A40,WEON_WEOC!$B$2:$K$79,7,FALSE)","v":{"v":11.285838831419612,"d":"11.3"}},{"v":1160.1764178787705,"d":"1160"},{"$f":"VLOOKUP(A40,WEON_WEOC!$B40:$K$79,10,FALSE)","v":{"v":198.35373167811773,"d":"198"}},{"v":17.575453153371623,"d":"17.6"},{"$f":"VLOOKUP(A40,TC_TN!$A$2:$V$77,22,FALSE)","v":{"v":2675.9638233421533,"d":"2676"}},{"$f":"VLOOKUP(A40,TC_TN!$A$2:$V$77,16,FALSE)","v":{"v":41292.89003260736,"d":"41293"}},{"v":2631.412513429502,"d":"2631"},{"v":15.43103448275862,"d":"15.4"},{"v":15.692290669694591,"d":"15.7"},{"$f":"VLOOKUP($A40,'CO2'!$A$3:$O$78,15,FALSE)","v":{"v":61.20341090521648,"d":"61.2"}},{"$f":"VLOOKUP($A40,Nmin_SHS!$E$2:$S$77,13,FALSE)","v":{"v":17.693040874318275,"d":"17.7"}},{"$f":"VLOOKUP($A40,Nmin_SHS!$E$2:$S$77,14,FALSE)","v":{"v":17.180201393907385,"d":"17.2"}}]
["Ki-0-S",11,0,2,"Ki","0-S","S","Ki-0",{"$f":"VLOOKUP($H41,'Mng&Soil'!$B$2:$E$41,3,FALSE)","v":4},{"$f":"VLOOKUP($H41,'Mng&Soil'!$B$2:$F$41,5,FALSE)","v":2},{"$f":"VLOOKUP($H41,'Mng&Soil'!$B$2:$G$41,6,FALSE)","v":6},{"$f":"VLOOKUP(A41,pH_EC!$A40:$C116,2,FALSE)","v":53.2},{"$f":"VLOOKUP(A41,pH_EC!$A40:$C116,3,FALSE)","v":7.06},{"$f":"VLOOKUP($H41,Biomass!$A$2:$L$41,11,FALSE)","v":{"v":891.9280511372083,"d":"891.93"}},{"$f":"VLOOKUP($H41,Biomass!$A$2:$O$41,15,FALSE)","v":{"v":17.838561022744166,"d":"17.84"}},{"$f":"VLOOKUP($A41,Min_N_Corrected!$A$2:V$93,21,FALSE)","v":{"v":6.58687405837285,"d":"6.59"}},{"$f":"VLOOKUP($A41,Min_N_Corrected!$A$2:W$93,22,FALSE)","v":{"v":2.309555848536556,"d":"2.31"}},{"v":8.896429906909406,"d":"8.90"},{"$f":"(VLOOKUP(A41,ISNT_Amino_N!A$2:O$103,15,FALSE))-Q41","v":{"v":203.28527744917085,"d":"203"}},{"$f":"VLOOKUP(A41,Protein!A$3:Q$86,17,FALSE)","v":{"v":482.2215157287628,"d":"482"}},{"v":13.602415215906918,"d":"13.60"},{"$f":"VLOOKUP(A41,WEON_WEOC!$B$2:$K$79,7,FALSE)","v":{"v":4.705985308997512,"d":"4.7"}},{"v":699.1092083938406,"d":"699"},{"$f":"VLOOKUP(A41,WEON_WEOC!$B41:$K$79,10,FALSE)","v":{"v":126.51197368640702,"d":"127"}},{"v":26.883206253220774,"d":"26.9"},{"$f":"VLOOKUP(A41,TC_TN!$A$2:$V$77,22,FALSE)","v":{"v":1546.0124647260898,"d":"1546"}},{"$f":"VLOOKUP(A41,TC_TN!$A$2:$V$77,16,FALSE)","v":{"v":22605.882383851127,"d":"22606"}},{"v":1537.1160348191804,"d":"1537"},{"v":14.622057001239158,"d":"14.6"},{"v":14.706685683953836,"d":"14.7"},{"$f":"VLOOKUP($A41,'CO2'!$A$3:$O$78,15,FALSE)","v":{"v":26.82563563903723,"d":"26.8"}},{"$f":"VLOOKUP($A41,Nmin_SHS!$E$2:$S$77,13,FALSE)","v":{"v":6.039716785453608,"d":"6.0"}},{"$f":"VLOOKUP($A41,Nmin_SHS!$E$2:$S$77,14,FALSE)","v":{"v":7.061958094020361,"d":"7.1"}}]
["Ki-1-T",11,1,1,"Ki","1-T","T","Ki-1",{"$f":"VLOOKUP($H42,'Mng&Soil'!$B$2:$E$41,3,FALSE)","v":4},{"$f":"VLOOKUP($H42,'Mng&Soil'!$B$2:$F$41,5,FALSE)","v":7},{"$f":"VLOOKUP($H42,'Mng&Soil'!$B$2:$G$41,6,FALSE)","v":4},{"$f":"VLOOKUP(A42,pH_EC!$A41:$C117,2,FALSE)","v":84.8},{"$f":"VLOOKUP(A42,pH_EC!$A41:$C117,3,FALSE)","v":7.16},{"$f":"VLOOKUP($H42,Biomass!$A$2:$L$41,11,FALSE)","v":{"v":1504.1756717094906,"d":"1504.18"}},{"$f":"VLOOKUP($H42,Biomass!$A$2:$O$41,15,FALSE)","v":{"v":30.083513434189815,"d":"30.08"}},{"$f":"VLOOKUP($A42,Min_N_Corrected!$A$2:V$93,21,FALSE)","v":{"v":14.216519069184514,"d":"14.22"}},{"$f":"VLOOKUP($A42,Min_N_Corrected!$A$2:W$93,22,FALSE)","v":{"v":9.772104890252203,"d":"9.77"}},{"v":23.988623959436715,"d":"23.99"},{"$f":"(VLOOKUP(A42,ISNT_Amino_N!A$2:O$103,15,FALSE))-Q42","v":{"v":404.00533134263264,"d":"404"}},{"$f":"VLOOKUP(A42,Protein!A$3:Q$86,17,FALSE)","v":{"v":628.6270766270468,"d":"629"}},{"v":38.09373214349687,"d":"38.09"},{"$f":"VLOOKUP(A42,WEON_WEOC!$B$2:$K$79,7,FALSE)","v":{"v":14.105108184060155,"d":"14.1"}},{"v":1070.7261401131764,"d":"1071"},{"$f":"VLOOKUP(A42,WEON_WEOC!$B42:$K$79,10,FALSE)","v":{"v":211.87580125921892,"d":"212"}},{"v":15.02121064896579,"d":"15.0"},{"$f":"VLOOKUP(A42,TC_TN!$A$2:$V$77,22,FALSE)","v":{"v":3042.0534731675957,"d":"3042"}},{"$f":"VLOOKUP(A42,TC_TN!$A$2:$V$77,16,FALSE)","v":{"v":48937.38195965262,"d":"48937"}},{"v":3018.064849208159,"d":"3018"},{"v":16.08695652173913,"d":"16.1"},{"v":16.214821219793265,"d":"16.2"},{"$f":"VLOOKUP($A42,'CO2'!$A$3:$O$78,15,FALSE)","v":{"v":91.17670888625747,"d":"91.2"}},{"$f":"VLOOKUP($A42,Nmin_SHS!$E$2:$S$77,13,FALSE)","v":{"v":29.62869831008884,"d":"29.6"}},{"$f":"VLOOKUP($A42,Nmin_SHS!$E$2:$S$77,14,FALSE)","v":{"v":30.107370900610324,"d":"30.1"}}]
["Ki-1-S",11,1,2,"Ki","1-S","S","Ki-1",{"$f":"VLOOKUP($H43,'Mng&Soil'!$B$2:$E$41,3,FALSE)","v":4},{"$f":"VLOOKUP($H43,'Mng&Soil'!$B$2:$F$41,5,FALSE)","v":7},{"$f":"VLOOKUP($H43,'Mng&Soil'!$B$2:$G$41,6,FALSE)","v":4},{"$f":"VLOOKUP(A43,pH_EC!$A42:$C118,2,FALSE)","v":62.7},{"$f":"VLOOKUP(A43,pH_EC!$A42:$C118,3,FALSE)","v":{"v":7.5,"d":"7.50"}},{"$f":"VLOOKUP($H43,Biomass!$A$2:$L$41,11,FALSE)","v":{"v":1504.1756717094906,"d":"1504.18"}},{"$f":"VLOOKUP($H43,Biomass!$A$2:$O$41,15,FALSE)","v":{"v":30.083513434189815,"d":"30.08"}},{"$f":"VLOOKUP($A43,Min_N_Corrected!$A$2:V$93,21,FALSE)","v":{"v":2.8633787127873256,"d":"2.86"}},{"$f":"VLOOKUP($A43,Min_N_Corrected!$A$2:W$93,22,FALSE)","v":{"v":1.6906825098167833,"d":"1.69"}},{"v":4.554061222604108,"d":"4.55"},{"$f":"(VLOOKUP(A43,ISNT_Amino_N!A$2:O$103,15,FALSE))-Q43","v":{"v":228.88013980744805,"d":"229"}},{"$f":"VLOOKUP(A43,Protein!A$3:Q$86,17,FALSE)","v":{"v":372.7354417583707,"d":"373"}},{"v":15.068327452705732,"d":"15.07"},{"$f":"VLOOKUP(A43,WEON_WEOC!$B$2:$K$79,7,FALSE)","v":{"v":10.514266230101624,"d":"10.5"}},{"v":616.6839090185244,"d":"617"},{"$f":"VLOOKUP(A43,WEON_WEOC!$B43:$K$79,10,FALSE)","v":{"v":192.18884715127678,"d":"192"}},{"v":18.278864444296957,"d":"18.3"},{"$f":"VLOOKUP(A43,TC_TN!$A$2:$V$77,22,FALSE)","v":{"v":1770.1368796381648,"d":"1770"}},{"$f":"VLOOKUP(A43,TC_TN!$A$2:$V$77,16,FALSE)","v":{"v":28445.393050480234,"d":"28445"}},{"v":1765.5828184155607,"d":"1766"},{"v":16.069600818833162,"d":"16.1"},{"v":16.111049990850734,"d":"16.1"},{"$f":"VLOOKUP($A43,'CO2'!$A$3:$O$78,15,FALSE)","v":{"v":35.37116403284054,"d":"35.4"}},{"$f":"VLOOKUP($A43,Nmin_SHS!$E$2:$S$77,13,FALSE)","v":{"v":10.055511890271845,"d":"10.1"}},{"$f":"VLOOKUP($A43,Nmin_SHS!$E$2:$S$77,14,FALSE)","v":{"v":12.431968914246028,"d":"12.4"}}]
["Na-0-T",12,0,1,"Na","0-T","T","Na-0",{"$f":"VLOOKUP($H44,'Mng&Soil'!$B$2:$E$41,3,FALSE)","v":6},{"$f":"VLOOKUP($H44,'Mng&Soil'!$B$2:$F$41,5,FALSE)","v":1},{"$f":"VLOOKUP($H44,'Mng&Soil'!$B$2:$G$41,6,FALSE)","v":35},{"$f":"VLOOKUP(A44,pH_EC!$A43:$C119,2,FALSE)","v":76.8},{"$f":"VLOOKUP(A44,pH_EC!$A43:$C119,3,FALSE)","v":6.63},{"$f":"VLOOKUP($H44,Biomass!$A$2:$L$41,11,FALSE)","v":{"v":7185.910902558264,"d":"7185.91"}},{"$f":"VLOOKUP($H44,Biomass!$A$2:$O$41,15,FALSE)","v":{"v":114.97457444093223,"d":"114.97"}},{"$f":"VLOOKUP($A44,Min_N_Corrected!$A$2:V$93,21,FALSE)","v":{"v":6.175139897202827,"d":"6.18"}},{"$f":"VLOOKUP($A44,Min_N_Corrected!$A$2:W$93,22,FALSE)","v":{"v":2.903840923192749,"d":"2.90"}},{"v":9.078980820395577,"d":"9.08"},{"$f":"(VLOOKUP(A44,ISNT_Amino_N!A$2:O$103,15,FALSE))-Q44","v":{"v":663.7631813749985,"d":"664"}},{"$f":"VLOOKUP(A44,Protein!A$3:Q$86,17,FALSE)","v":{"v":694.6680425724282,"d":"695"}},{"v":48.917350655913914,"d":"48.92"},{"$f":"VLOOKUP(A44,WEON_WEOC!$B$2:$K$79,7,FALSE)","v":{"v":39.838369835518336,"d":"39.8"}},{"v":1407.3485746033407,"d":"1407"},{"$f":"VLOOKUP(A44,WEON_WEOC!$B44:$K$79,10,FALSE)","v":{"v":649.3368242885614,"d":"649"}},{"v":16.29928199797066,"d":"16.3"},{"$f":"VLOOKUP(A44,TC_TN!$A$2:$V$77,22,FALSE)","v":{"v":5289.094467842507,"d":"5289"}},{"$f":"VLOOKUP(A44,TC_TN!$A$2:$V$77,16,FALSE)","v":{"v":75364.7526736533,"d":"75365"}},{"v":5280.015487022111,"d":"5280"},{"v":14.24908424908425,"d":"14.2"},{"v":14.273585533772449,"d":"14.3"},{"$f":"VLOOKUP($A44,'CO2'!$A$3:$O$78,15,FALSE)","v":{"v":60.20875638057383,"d":"60.2"}},{"$f":"VLOOKUP($A44,Nmin_SHS!$E$2:$S$77,13,FALSE)","v":{"v":18.93362812723048,"d":"18.9"}},{"$f":"VLOOKUP($A44,Nmin_SHS!$E$2:$S$77,14,FALSE)","v":{"v":21.89087818861917,"d":"21.9"}}]
["Na-0-S",12,0,2,"Na","0-S","S","Na-0",{"$f":"VLOOKUP($H45,'Mng&Soil'!$B$2:$E$41,3,FALSE)","v":6},{"$f":"VLOOKUP($H45,'Mng&Soil'!$B$2:$F$41,5,FALSE)","v":1},{"$f":"VLOOKUP($H45,'Mng&Soil'!$B$2:$G$41,6,FALSE)","v":35},{"$f":"VLOOKUP(A45,pH_EC!$A44:$C120,2,FALSE)","v":79.7},{"$f":"VLOOKUP(A45,pH_EC!$A44:$C120,3,FALSE)","v":6.38},{"$f":"VLOOKUP($H45,Biomass!$A$2:$L$41,11,FALSE)","v":{"v":7185.910902558264,"d":"7185.91"}},{"$f":"VLOOKUP($H45,Biomass!$A$2:$O$41,15,FALSE)","v":{"v":114.97457444093223,"d":"114.97"}},{"$f":"VLOOKUP($A45,Min_N_Corrected!$A$2:V$93,21,FALSE)","v":{"v":2.593380491443455,"d":"2.59"}},{"$f":"VLOOKUP($A45,Min_N_Corrected!$A$2:W$93,22,FALSE)","v":{"v":1.599369497885515,"d":"1.60"}},{"v":4.19274998932897,"d":"4.19"},{"$f":"(VLOOKUP(A45,ISNT_Amino_N!A$2:O$103,15,FALSE))-Q45","v":{"v":437.5883968336246,"d":"438"}},{"$f":"VLOOKUP(A45,Protein!A$3:Q$86,17,FALSE)","v":{"v":507.89138771693473,"d":"508"}},{"v":30.290340698536262,"d":"30.29"},{"$f":"VLOOKUP(A45,WEON_WEOC!$B$2:$K$79,7,FALSE)","v":{"v":26.097590709207292,"d":"26.1"}},{"v":975.7701252490956,"d":"976"},{"$f":"VLOOKUP(A45,WEON_WEOC!$B45:$K$79,10,FALSE)","v":{"v":511.1005807789195,"d":"511"}},{"v":19.584205548851756,"d":"19.6"},{"$f":"VLOOKUP(A45,TC_TN!$A$2:$V$77,22,FALSE)","v":{"v":3454.194614232048,"d":"3454"}},{"$f":"VLOOKUP(A45,TC_TN!$A$2:$V$77,16,FALSE)","v":{"v":47887.6980609443,"d":"47888"}},{"v":3450.001864242719,"d":"3450"},{"v":13.863636363636363,"d":"13.9"},{"v":13.880484691116457,"d":"13.9"},{"$f":"VLOOKUP($A45,'CO2'!$A$3:$O$78,15,FALSE)","v":{"v":33.300627079502114,"d":"33.3"}},{"$f":"VLOOKUP($A45,Nmin_SHS!$E$2:$S$77,13,FALSE)","v":{"v":8.85361599989006,"d":"8.9"}},{"$f":"VLOOKUP($A45,Nmin_SHS!$E$2:$S$77,14,FALSE)","v":{"v":12.631199026160942,"d":"12.6"}}]
["Na-1-T",12,1,1,"Na","1-T","T","Na-1",{"$f":"VLOOKUP($H46,'Mng&Soil'!$B$2:$E$41,3,FALSE)","v":6},{"$f":"VLOOKUP($H46,'Mng&Soil'!$B$2:$F$41,5,FALSE)","v":1},{"$f":"VLOOKUP($H46,'Mng&Soil'!$B$2:$G$41,6,FALSE)","v":37},{"$f":"VLOOKUP(A46,pH_EC!$A45:$C121,2,FALSE)","v":78.4},{"$f":"VLOOKUP(A46,pH_EC!$A45:$C121,3,FALSE)","v":6.38},{"$f":"VLOOKUP($H46,Biomass!$A$2:$L$41,11,FALSE)","v":{"v":6973.173269713966,"d":"6973.17"}},{"$f":"VLOOKUP($H46,Biomass!$A$2:$O$41,15,FALSE)","v":{"v":111.57077231542345,"d":"111.57"}},{"$f":"VLOOKUP($A46,Min_N_Corrected!$A$2:V$93,21,FALSE)","v":{"v":7.287270398721267,"d":"7.29"}},{"$f":"VLOOKUP($A46,Min_N_Corrected!$A$2:W$93,22,FALSE)","v":{"v":3.683937581881816,"d":"3.68"}},{"v":10.971207980603083,"d":"10.97"},{"$f":"(VLOOKUP(A46,ISNT_Amino_N!A$2:O$103,15,FALSE))-Q46","v":{"v":680.6445257583679,"d":"681"}},{"$f":"VLOOKUP(A46,Protein!A$3:Q$86,17,FALSE)","v":{"v":726.6888922562443,"d":"727"}},{"v":44.745475877243656,"d":"44.75"},{"$f":"VLOOKUP(A46,WEON_WEOC!$B$2:$K$79,7,FALSE)","v":{"v":33.77426789664057,"d":"33.8"}},{"v":1452.0788938918558,"d":"1452"},{"$f":"VLOOKUP(A46,WEON_WEOC!$B46:$K$79,10,FALSE)","v":{"v":625.6701444933642,"d":"626"}},{"v":18.525054233835746,"d":"18.5"},{"$f":"VLOOKUP(A46,TC_TN!$A$2:$V$77,22,FALSE)","v":{"v":5198.351172032448,"d":"5198"}},{"$f":"VLOOKUP(A46,TC_TN!$A$2:$V$77,16,FALSE)","v":{"v":77687.53596579857,"d":"77688"}},{"v":5187.379964051845,"d":"5187"},{"v":14.944649446494465,"d":"14.9"},{"v":14.97625709012399,"d":"15.0"},{"$f":"VLOOKUP($A46,'CO2'!$A$3:$O$78,15,FALSE)","v":{"v":73.30164591815985,"d":"73.3"}},{"$f":"VLOOKUP($A46,Nmin_SHS!$E$2:$S$77,13,FALSE)","v":{"v":20.47246523868621,"d":"20.5"}},{"$f":"VLOOKUP($A46,Nmin_SHS!$E$2:$S$77,14,FALSE)","v":{"v":23.906821388584913,"d":"23.9"}}]
["Na-1-S",12,1,2,"Na","1-S","S","Na-1",{"$f":"VLOOKUP($H47,'Mng&Soil'!$B$2:$E$41,3,FALSE)","v":6},{"$f":"VLOOKUP($H47,'Mng&Soil'!$B$2:$F$41,5,FALSE)","v":1},{"$f":"VLOOKUP($H47,'Mng&Soil'!$B$2:$G$41,6,FALSE)","v":37},{"$f":"VLOOKUP(A47,pH_EC!$A46:$C122,2,FALSE)","v":69.3},{"$f":"VLOOKUP(A47,pH_EC!$A46:$C122,3,FALSE)","v":6.09},{"$f":"VLOOKUP($H47,Biomass!$A$2:$L$41,11,FALSE)","v":{"v":6973.173269713966,"d":"6973.17"}},{"$f":"VLOOKUP($H47,Biomass!$A$2:$O$41,15,FALSE)","v":{"v":111.57077231542345,"d":"111.57"}},{"$f":"VLOOKUP($A47,Min_N_Corrected!$A$2:V$93,21,FALSE)","v":{"v":2.3072448129313305,"d":"2.31"}},{"$f":"VLOOKUP($A47,Min_N_Corrected!$A$2:W$93,22,FALSE)","v":{"v":2.25120063951976,"d":"2.25"}},{"v":4.558445452451091,"d":"4.56"},{"$f":"(VLOOKUP(A47,ISNT_Amino_N!A$2:O$103,15,FALSE))-Q47","v":{"v":458.93034690612,"d":"459"}},{"$f":"VLOOKUP(A47,Protein!A$3:Q$86,17,FALSE)","v":{"v":467.13627135441067,"d":"467"}},{"v":21.18312569526571,"d":"21.18"},{"$f":"VLOOKUP(A47,WEON_WEOC!$B$2:$K$79,7,FALSE)","v":{"v":16.62468024281462,"d":"16.6"}},{"v":947.2497439557964,"d":"947"},{"$f":"VLOOKUP(A47,WEON_WEOC!$B47:$K$79,10,FALSE)","v":{"v":481.9714661675439,"d":"482"}},{"v":28.9913224872916,"d":"29.0"},{"$f":"VLOOKUP(A47,TC_TN!$A$2:$V$77,22,FALSE)","v":{"v":3879.183880805641,"d":"3879"}},{"$f":"VLOOKUP(A47,TC_TN!$A$2:$V$77,16,FALSE)","v":{"v":57743.57685168702,"d":"57744"}},{"v":3874.62543535319,"d":"3875"},{"v":14.885496183206108,"d":"14.9"},{"v":14.903008772104299,"d":"14.9"},{"$f":"VLOOKUP($A47,'CO2'!$A$3:$O$78,15,FALSE)","v":{"v":34.99511980512744,"d":"35.0"}},{"$f":"VLOOKUP($A47,Nmin_SHS!$E$2:$S$77,13,FALSE)","v":{"v":6.567193245621044,"d":"6.6"}},{"$f":"VLOOKUP($A47,Nmin_SHS!$E$2:$S$77,14,FALSE)","v":{"v":9.93547738497417,"d":"9.9"}}]
["Ik-0-T",13,0,1,"Ik","0-T","T","Ik-0",{"$f":"VLOOKUP($H48,'Mng&Soil'!$B$2:$E$41,3,FALSE)","v":2},{"$f":"VLOOKUP($H48,'Mng&Soil'!$B$2:$F$41,5,FALSE)","v":6},{"$f":"VLOOKUP($H48,'Mng&Soil'!$B$2:$G$41,6,FALSE)","v":13},{"$f":"VLOOKUP(A48,pH_EC!$A47:$C123,2,FALSE)","v":112.7},{"$f":"VLOOKUP(A48,pH_EC!$A47:$C123,3,FALSE)","v":6.01},{"$f":"VLOOKUP($H48,Biomass!$A$2:$L$41,11,FALSE)","v":{"v":5122.868806531657,"d":"5122.87"}},{"$f":"VLOOKUP($H48,Biomass!$A$2:$O$41,15,FALSE)","v":{"v":179.30040822860803,"d":"179.30"}},{"$f":"VLOOKUP($A48,Min_N_Corrected!$A$2:V$93,21,FALSE)","v":{"v":15.793574922485416,"d":"15.79"}},{"$f":"VLOOKUP($A48,Min_N_Corrected!$A$2:W$93,22,FALSE)","v":{"v":2.818560199722241,"d":"2.82"}},{"v":18.612135122207658,"d":"18.61"},{"$f":"(VLOOKUP(A48,ISNT_Amino_N!A$2:O$103,15,FALSE))-Q48","v":{"v":662.4007377487774,"d":"662"}},{"$f":"VLOOKUP(A48,Protein!A$3:Q$86,17,FALSE)","v":{"v":1297.3946913600078,"d":"1297"}},{"v":47.697722895085775,"d":"47.70"},{"$f":"VLOOKUP(A48,WEON_WEOC!$B$2:$K$79,7,FALSE)","v":{"v":29.085587772878114,"d":"29.1"}},{"v":2007.4931520038708,"d":"2007"},{"$f":"VLOOKUP(A48,WEON_WEOC!$B48:$K$79,10,FALSE)","v":{"v":433.09857415810416,"d":"433"}},{"v":14.89048725919035,"d":"14.9"},{"$f":"VLOOKUP(A48,TC_TN!$A$2:$V$77,22,FALSE)","v":{"v":5281.234890855814,"d":"5281"}},{"$f":"VLOOKUP(A48,TC_TN!$A$2:$V$77,16,FALSE)","v":{"v":120946.79904367327,"d":"120947"}},{"v":5262.622755733607,"d":"5263"},{"v":22.901234567901234,"d":"22.9"},{"v":22.982228568806722,"d":"23.0"},{"$f":"VLOOKUP($A48,'CO2'!$A$3:$O$78,15,FALSE)","v":{"v":77.89632379384884,"d":"77.9"}},{"$f":"VLOOKUP($A48,Nmin_SHS!$E$2:$S$77,13,FALSE)","v":{"v":26.145670477352233,"d":"26.1"}},{"$f":"VLOOKUP($A48,Nmin_SHS!$E$2:$S$77,14,FALSE)","v":{"v":35.93000916982168,"d":"35.9"}}]
["Ik-0-S",13,0,2,"Ik","0-S","S","Ik-0",{"$f":"VLOOKUP($H49,'Mng&Soil'!$B$2:$E$41,3,FALSE)","v":2},{"$f":"VLOOKUP($H49,'Mng&Soil'!$B$2:$F$41,5,FALSE)","v":6},{"$f":"VLOOKUP($H49,'Mng&Soil'!$B$2:$G$41,6,FALSE)","v":13},{"$f":"VLOOKUP(A49,pH_EC!$A48:$C124,2,FALSE)","v":{"v":118,"d":"118.0"}},{"$f":"VLOOKUP(A49,pH_EC!$A48:$C124,3,FALSE)","v":5.96},{"$f":"VLOOKUP($H49,Biomass!$A$2:$L$41,11,FALSE)","v":{"v":5122.868806531657,"d":"5122.87"}},{"$f":"VLOOKUP($H49,Biomass!$A$2:$O$41,15,FALSE)","v":{"v":179.30040822860803,"d":"179.30"}},{"$f":"VLOOKUP($A49,Min_N_Corrected!$A$2:V$93,21,FALSE)","v":{"v":5.91588919461905,"d":"5.92"}},{"$f":"VLOOKUP($A49,Min_N_Corrected!$A$2:W$93,22,FALSE)","v":{"v":3.5297186865054138,"d":"3.53"}},{"v":9.445607881124463,"d":"9.45"},{"$f":"(VLOOKUP(A49,ISNT_Amino_N!A$2:O$103,15,FALSE))-Q49","v":{"v":433.43590029134054,"d":"433"}},{"$f":"VLOOKUP(A49,Protein!A$3:Q$86,17,FALSE)","v":{"v":930.393134285348,"d":"930"}},{"v":23.88165224074826,"d":"23.88"},{"$f":"VLOOKUP(A49,WEON_WEOC!$B$2:$K$79,7,FALSE)","v":{"v":14.436044359623798,"d":"14.4"}},{"v":1387.710686817437,"d":"1388"},{"$f":"VLOOKUP(A49,WEON_WEOC!$B49:$K$79,10,FALSE)","v":{"v":372.8661235408381,"d":"373"}},{"v":25.828829162073518,"d":"25.8"},{"$f":"VLOOKUP(A49,TC_TN!$A$2:$V$77,22,FALSE)","v":{"v":3476.4397528875616,"d":"3476"}},{"$f":"VLOOKUP(A49,TC_TN!$A$2:$V$77,16,FALSE)","v":{"v":81335.571576992,"d":"81336"}},{"v":3466.994145006437,"d":"3467"},{"v":23.39622641509434,"d":"23.4"},{"v":23.459967965086076,"d":"23.5"},{"$f":"VLOOKUP($A49,'CO2'!$A$3:$O$78,15,FALSE)","v":{"v":51.631964802259716,"d":"51.6"}},{"$f":"VLOOKUP($A49,Nmin_SHS!$E$2:$S$77,13,FALSE)","v":{"v":10.625303973462708,"d":"10.6"}},{"$f":"VLOOKUP($A49,Nmin_SHS!$E$2:$S$77,14,FALSE)","v":{"v":18.142642723518122,"d":"18.1"}}]
["Ik-1-T",13,1,1,"Ik","1-T","T","Ik-1",{"$f":"VLOOKUP($H50,'Mng&Soil'!$B$2:$E$41,3,FALSE)","v":2},{"$f":"VLOOKUP($H50,'Mng&Soil'!$B$2:$F$41,5,FALSE)","v":6},{"$f":"VLOOKUP($H50,'Mng&Soil'!$B$2:$G$41,6,FALSE)","v":13},{"$f":"VLOOKUP(A50,pH_EC!$A49:$C125,2,FALSE)","v":56.6},{"$f":"VLOOKUP(A50,pH_EC!$A49:$C125,3,FALSE)","v":6.24},{"$f":"VLOOKUP($H50,Biomass!$A$2:$L$41,11,FALSE)","v":{"v":9356.116618288697,"d":"9356.12"}},{"$f":"VLOOKUP($H50,Biomass!$A$2:$O$41,15,FALSE)","v":{"v":280.6834985486609,"d":"280.68"}},{"$f":"VLOOKUP($A50,Min_N_Corrected!$A$2:V$93,21,FALSE)","v":{"v":2.528122364771439,"d":"2.53"}},{"$f":"VLOOKUP($A50,Min_N_Corrected!$A$2:W$93,22,FALSE)","v":{"v":4.663269297722682,"d":"4.66"}},{"v":7.191391662494121,"d":"7.19"},{"$f":"(VLOOKUP(A50,ISNT_Amino_N!A$2:O$103,15,FALSE))-Q50","v":{"v":661.4098991201503,"d":"661"}},{"$f":"VLOOKUP(A50,Protein!A$3:Q$86,17,FALSE)","v":{"v":864.0088185172403,"d":"864"}},{"v":37.73053543152321,"d":"37.73"},{"$f":"VLOOKUP(A50,WEON_WEOC!$B$2:$K$79,7,FALSE)","v":{"v":30.53914376902909,"d":"30.5"}},{"v":1563.1492530689138,"d":"1563"},{"$f":"VLOOKUP(A50,WEON_WEOC!$B50:$K$79,10,FALSE)","v":{"v":400.2794508309137,"d":"400"}},{"v":13.107094745624543,"d":"13.1"},{"$f":"VLOOKUP(A50,TC_TN!$A$2:$V$77,22,FALSE)","v":{"v":4892.210146340847,"d":"4892"}},{"$f":"VLOOKUP(A50,TC_TN!$A$2:$V$77,16,FALSE)","v":{"v":97489.69494519802,"d":"97490"}},{"v":4885.018754678353,"d":"4885"},{"v":19.927536231884055,"d":"19.9"},{"v":19.956872192523875,"d":"20.0"},{"$f":"VLOOKUP($A50,'CO2'!$A$3:$O$78,15,FALSE)","v":{"v":74.97054723311828,"d":"75.0"}},{"$f":"VLOOKUP($A50,Nmin_SHS!$E$2:$S$77,13,FALSE)","v":{"v":27.886777801544653,"d":"27.9"}},{"$f":"VLOOKUP($A50,Nmin_SHS!$E$2:$S$77,14,FALSE)","v":{"v":35.24117115231088,"d":"35.2"}}]
["Ik-1-S",13,1,2,"Ik","1-S","S","Ik-1",{"$f":"VLOOKUP($H51,'Mng&Soil'!$B$2:$E$41,3,FALSE)","v":2},{"$f":"VLOOKUP($H51,'Mng&Soil'!$B$2:$F$41,5,FALSE)","v":6},{"$f":"VLOOKUP($H51,'Mng&Soil'!$B$2:$G$41,6,FALSE)","v":13},{"$f":"VLOOKUP(A51,pH_EC!$A50:$C126,2,FALSE)","v":72.2},{"$f":"VLOOKUP(A51,pH_EC!$A50:$C126,3,FALSE)","v":6.06},{"$f":"VLOOKUP($H51,Biomass!$A$2:$L$41,11,FALSE)","v":{"v":9356.116618288697,"d":"9356.12"}},{"$f":"VLOOKUP($H51,Biomass!$A$2:$O$41,15,FALSE)","v":{"v":280.6834985486609,"d":"280.68"}},{"$f":"VLOOKUP($A51,Min_N_Corrected!$A$2:V$93,21,FALSE)","v":{"v":2.0142234742841896,"d":"2.01"}},{"$f":"VLOOKUP($A51,Min_N_Corrected!$A$2:W$93,22,FALSE)","v":{"v":2.536732041063447,"d":"2.54"}},{"v":4.550955515347637,"d":"4.55"},{"$f":"(VLOOKUP(A51,ISNT_Amino_N!A$2:O$103,15,FALSE))-Q51","v":{"v":472.9315976114571,"d":"473"}},{"$f":"VLOOKUP(A51,Protein!A$3:Q$86,17,FALSE)","v":{"v":838.609373421546,"d":"839"}},{"v":27.202320171493206,"d":"27.20"},{"$f":"VLOOKUP(A51,WEON_WEOC!$B$2:$K$79,7,FALSE)","v":{"v":22.65136465614557,"d":"22.7"}},{"v":1338.7432912044962,"d":"1339"},{"$f":"VLOOKUP(A51,WEON_WEOC!$B51:$K$79,10,FALSE)","v":{"v":332.4728020960281,"d":"332"}},{"v":14.677826574383653,"d":"14.7"},{"$f":"VLOOKUP(A51,TC_TN!$A$2:$V$77,22,FALSE)","v":{"v":3408.317166045397,"d":"3408"}},{"$f":"VLOOKUP(A51,TC_TN!$A$2:$V$77,16,FALSE)","v":{"v":66186.40803772803,"d":"66186"}},{"v":3403.766210530049,"d":"3404"},{"v":19.41908713692946,"d":"19.4"},{"v":19.445051141576847,"d":"19.4"},{"$f":"VLOOKUP($A51,'CO2'!$A$3:$O$78,15,FALSE)","v":{"v":45.78404813457386,"d":"45.8"}},{"$f":"VLOOKUP($A51,Nmin_SHS!$E$2:$S$77,13,FALSE)","v":{"v":15.451308125602855,"d":"15.5"}},{"$f":"VLOOKUP($A51,Nmin_SHS!$E$2:$S$77,14,FALSE)","v":{"v":24.47317480199067,"d":"24.5"}}]
["Ne-0-T",14,0,1,"Ne","0-T","T","Ne-0",{"$f":"VLOOKUP($H52,'Mng&Soil'!$B$2:$E$41,3,FALSE)","v":6},{"$f":"VLOOKUP($H52,'Mng&Soil'!$B$2:$F$41,5,FALSE)","v":1},{"$f":"VLOOKUP($H52,'Mng&Soil'!$B$2:$G$41,6,FALSE)","v":29},{"$f":"VLOOKUP(A52,pH_EC!$A51:$C127,2,FALSE)","v":{"v":99,"d":"99.0"}},{"$f":"VLOOKUP(A52,pH_EC!$A51:$C127,3,FALSE)","v":7.03},{"$f":"VLOOKUP($H52,Biomass!$A$2:$L$41,11,FALSE)","v":{"v":10811.249104693434,"d":"10811.25"}},{"$f":"VLOOKUP($H52,Biomass!$A$2:$O$41,15,FALSE)","v":{"v":172.97998567509495,"d":"172.98"}},{"$f":"VLOOKUP($A52,Min_N_Corrected!$A$2:V$93,21,FALSE)","v":{"v":2.585812064688047,"d":"2.59"}},{"$f":"VLOOKUP($A52,Min_N_Corrected!$A$2:W$93,22,FALSE)","v":{"v":0.7566792437504952,"d":"0.76"}},{"v":3.342491308438542,"d":"3.34"},{"$f":"(VLOOKUP(A52,ISNT_Amino_N!A$2:O$103,15,FALSE))-Q52","v":{"v":676.4788368977222,"d":"676"}},{"$f":"VLOOKUP(A52,Protein!A$3:Q$86,17,FALSE)","v":{"v":692.3717436971718,"d":"692"}},{"v":52.61027033651919,"d":"52.61"},{"$f":"VLOOKUP(A52,WEON_WEOC!$B$2:$K$79,7,FALSE)","v":{"v":49.26777902808065,"d":"49.3"}},{"v":1421.4608509314132,"d":"1421"},{"$f":"VLOOKUP(A52,WEON_WEOC!$B52:$K$79,10,FALSE)","v":{"v":624.4570006433408,"d":"624"}},{"v":12.674754433063148,"d":"12.7"},{"$f":"VLOOKUP(A52,TC_TN!$A$2:$V$77,22,FALSE)","v":{"v":4829.752718794528,"d":"4830"}},{"$f":"VLOOKUP(A52,TC_TN!$A$2:$V$77,16,FALSE)","v":{"v":85449.47117867241,"d":"85449"}},{"v":4826.41022748609,"d":"4826"},{"v":17.69230769230769,"d":"17.7"},{"v":17.704560356689797,"d":"17.7"},{"$f":"VLOOKUP($A52,'CO2'!$A$3:$O$78,15,FALSE)","v":{"v":108.295639500644,"d":"108.3"}},{"$f":"VLOOKUP($A52,Nmin_SHS!$E$2:$S$77,13,FALSE)","v":{"v":43.20669528315568,"d":"43.2"}},{"$f":"VLOOKUP($A52,Nmin_SHS!$E$2:$S$77,14,FALSE)","v":{"v":52.10117535622097,"d":"52.1"}}]
["Ne-0-S",14,0,2,"Ne","0-S","S","Ne-0",{"$f":"VLOOKUP($H53,'Mng&Soil'!$B$2:$E$41,3,FALSE)","v":6},{"$f":"VLOOKUP($H53,'Mng&Soil'!$B$2:$F$41,5,FALSE)","v":1},{"$f":"VLOOKUP($H53,'Mng&Soil'!$B$2:$G$41,6,FALSE)","v":29},{"$f":"VLOOKUP(A53,pH_EC!$A52:$C128,2,FALSE)","v":87.3},{"$f":"VLOOKUP(A53,pH_EC!$A52:$C128,3,FALSE)","v":{"v":6.6,"d":"6.60"}},{"$f":"VLOOKUP($H53,Biomass!$A$2:$L$41,11,FALSE)","v":{"v":10811.249104693434,"d":"10811.25"}},{"$f":"VLOOKUP($H53,Biomass!$A$2:$O$41,15,FALSE)","v":{"v":172.97998567509495,"d":"172.98"}},{"$f":"VLOOKUP($A53,Min_N_Corrected!$A$2:V$93,21,FALSE)","v":{"v":1.329274805483572,"d":"1.33"}},{"$f":"VLOOKUP($A53,Min_N_Corrected!$A$2:W$93,22,FALSE)","v":{"v":0.8417919421831384,"d":"0.84"}},{"v":2.1710667476667105,"d":"2.17"},{"$f":"(VLOOKUP(A53,ISNT_Amino_N!A$2:O$103,15,FALSE))-Q53","v":{"v":447.99043530382437,"d":"448"}},{"$f":"VLOOKUP(A53,Protein!A$3:Q$86,17,FALSE)","v":{"v":506.9084852269876,"d":"507"}},{"v":37.80447156953976,"d":"37.80"},{"$f":"VLOOKUP(A53,WEON_WEOC!$B$2:$K$79,7,FALSE)","v":{"v":35.63340482187304,"d":"35.6"}},{"v":992.7033921003517,"d":"993"},{"$f":"VLOOKUP(A53,WEON_WEOC!$B53:$K$79,10,FALSE)","v":{"v":486.909663410443,"d":"487"}},{"v":13.664415899755967,"d":"13.7"},{"$f":"VLOOKUP(A53,TC_TN!$A$2:$V$77,22,FALSE)","v":{"v":3093.5839019047194,"d":"3094"}},{"$f":"VLOOKUP(A53,TC_TN!$A$2:$V$77,16,FALSE)","v":{"v":55264.02310198723,"d":"55264"}},{"v":3091.4128351570525,"d":"3091"},{"v":17.864077669902915,"d":"17.9"},{"v":17.876623423923792,"d":"17.9"},{"$f":"VLOOKUP($A53,'CO2'!$A$3:$O$78,15,FALSE)","v":{"v":47.970320727819235,"d":"48.0"}},{"$f":"VLOOKUP($A53,Nmin_SHS!$E$2:$S$77,13,FALSE)","v":{"v":17.802187650125166,"d":"17.8"}},{"$f":"VLOOKUP($A53,Nmin_SHS!$E$2:$S$77,14,FALSE)","v":{"v":26.55380209412133,"d":"26.6"}}]
["Ne-1-T",14,1,1,"Ne","1-T","T","Ne-1",{"$f":"VLOOKUP($H54,'Mng&Soil'!$B$2:$E$41,3,FALSE)","v":6},{"$f":"VLOOKUP($H54,'Mng&Soil'!$B$2:$F$41,5,FALSE)","v":1},{"$f":"VLOOKUP($H54,'Mng&Soil'!$B$2:$G$41,6,FALSE)","v":32},{"$f":"VLOOKUP(A54,pH_EC!$A53:$C129,2,FALSE)","v":105.5},{"$f":"VLOOKUP(A54,pH_EC!$A53:$C129,3,FALSE)","v":6.99},{"$f":"VLOOKUP($H54,Biomass!$A$2:$L$41,11,FALSE)","v":{"v":8934.296135128601,"d":"8934.30"}},{"$f":"VLOOKUP($H54,Biomass!$A$2:$O$41,15,FALSE)","v":{"v":142.94873816205762,"d":"142.95"}},{"$f":"VLOOKUP($A54,Min_N_Corrected!$A$2:V$93,21,FALSE)","v":{"v":2.146870921163158,"d":"2.15"}},{"$f":"VLOOKUP($A54,Min_N_Corrected!$A$2:W$93,22,FALSE)","v":{"v":1.568778383975172,"d":"1.57"}},{"v":3.71564930513833,"d":"3.72"},{"$f":"(VLOOKUP(A54,ISNT_Amino_N!A$2:O$103,15,FALSE))-Q54","v":{"v":695.7986902274621,"d":"696"}},{"$f":"VLOOKUP(A54,Protein!A$3:Q$86,17,FALSE)","v":{"v":863.357356954422,"d":"863"}},{"v":62.856034508296254,"d":"62.86"},{"$f":"VLOOKUP(A54,WEON_WEOC!$B$2:$K$79,7,FALSE)","v":{"v":59.140385203157926,"d":"59.1"}},{"v":1622.0120816901801,"d":"1622"},{"$f":"VLOOKUP(A54,WEON_WEOC!$B54:$K$79,10,FALSE)","v":{"v":670.6473550885177,"d":"671"}},{"v":11.339921997205845,"d":"11.3"},{"$f":"VLOOKUP(A54,TC_TN!$A$2:$V$77,22,FALSE)","v":{"v":5157.360504780712,"d":"5157"}},{"$f":"VLOOKUP(A54,TC_TN!$A$2:$V$77,16,FALSE)","v":{"v":88464.33321367625,"d":"88464"}},{"v":5153.644855475574,"d":"5154"},{"v":17.153024911032023,"d":"17.2"},{"v":17.165391813851098,"d":"17.2"},{"$f":"VLOOKUP($A54,'CO2'!$A$3:$O$78,15,FALSE)","v":{"v":118.34068773353688,"d":"118.3"}},{"$f":"VLOOKUP($A54,Nmin_SHS!$E$2:$S$77,13,FALSE)","v":{"v":52.735219911161074,"d":"52.7"}},{"$f":"VLOOKUP($A54,Nmin_SHS!$E$2:$S$77,14,FALSE)","v":{"v":64.3617152419571,"d":"64.4"}}]
["Ne-1-S",14,1,2,"Ne","1-S","S","Ne-1",{"$f":"VLOOKUP($H55,'Mng&Soil'!$B$2:$E$41,3,FALSE)","v":6},{"$f":"VLOOKUP($H55,'Mng&Soil'!$B$2:$F$41,5,FALSE)","v":1},{"$f":"VLOOKUP($H55,'Mng&Soil'!$B$2:$G$41,6,FALSE)","v":32},{"$f":"VLOOKUP(A55,pH_EC!$A54:$C130,2,FALSE)","v":97.2},{"$f":"VLOOKUP(A55,pH_EC!$A54:$C130,3,FALSE)","v":6.37},{"$f":"VLOOKUP($H55,Biomass!$A$2:$L$41,11,FALSE)","v":{"v":8934.296135128601,"d":"8934.30"}},{"$f":"VLOOKUP($H55,Biomass!$A$2:$O$41,15,FALSE)","v":{"v":142.94873816205762,"d":"142.95"}},{"$f":"VLOOKUP($A55,Min_N_Corrected!$A$2:V$93,21,FALSE)","v":{"v":0.9391437004864384,"d":"0.94"}},{"$f":"VLOOKUP($A55,Min_N_Corrected!$A$2:W$93,22,FALSE)","v":{"v":0.7907010707940235,"d":"0.79"}},{"v":1.7298447712804619,"d":"1.73"},{"$f":"(VLOOKUP(A55,ISNT_Amino_N!A$2:O$103,15,FALSE))-Q55","v":{"v":465.06637253390466,"d":"465"}},{"$f":"VLOOKUP(A55,Protein!A$3:Q$86,17,FALSE)","v":{"v":574.6510271678278,"d":"575"}},{"v":37.20220115354924,"d":"37.20"},{"$f":"VLOOKUP(A55,WEON_WEOC!$B$2:$K$79,7,FALSE)","v":{"v":35.47235638226878,"d":"35.5"}},{"v":1076.9196008552817,"d":"1077"},{"$f":"VLOOKUP(A55,WEON_WEOC!$B55:$K$79,10,FALSE)","v":{"v":449.80176148176895,"d":"450"}},{"v":12.680346257081668,"d":"12.7"},{"$f":"VLOOKUP(A55,TC_TN!$A$2:$V$77,22,FALSE)","v":{"v":3295.528005223737,"d":"3296"}},{"$f":"VLOOKUP(A55,TC_TN!$A$2:$V$77,16,FALSE)","v":{"v":58078.13928488469,"d":"58078"}},{"v":3293.7981604524566,"d":"3294"},{"v":17.623318385650222,"d":"17.6"},{"v":17.63257384201912,"d":"17.6"},{"$f":"VLOOKUP($A55,'CO2'!$A$3:$O$78,15,FALSE)","v":{"v":44.17387978726515,"d":"44.2"}},{"$f":"VLOOKUP($A55,Nmin_SHS!$E$2:$S$77,13,FALSE)","v":{"v":17.46939739252899,"d":"17.5"}},{"$f":"VLOOKUP($A55,Nmin_SHS!$E$2:$S$77,14,FALSE)","v":{"v":26.47925725918279,"d":"26.5"}}]
["Ae-0-T",15,0,1,"Ae","0-T","T","Ae-0",{"$f":"VLOOKUP($H56,'Mng&Soil'!$B$2:$E$41,3,FALSE)","v":1},{"$f":"VLOOKUP($H56,'Mng&Soil'!$B$2:$F$41,5,FALSE)","v":1},{"$f":"VLOOKUP($H56,'Mng&Soil'!$B$2:$G$41,6,FALSE)","v":{"v":35.067212156634255,"d":"35"}},{"$f":"VLOOKUP(A56,pH_EC!$A55:$C131,2,FALSE)","v":56.9},{"$f":"VLOOKUP(A56,pH_EC!$A55:$C131,3,FALSE)","v":6.29},{"$f":"VLOOKUP($H56,Biomass!$A$2:$L$41,11,FALSE)","v":{"v":4308.377603738795,"d":"4308.38"}},{"$f":"VLOOKUP($H56,Biomass!$A$2:$O$41,15,FALSE)","v":{"v":129.25132811216386,"d":"129.25"}},{"$f":"VLOOKUP($A56,Min_N_Corrected!$A$2:V$93,21,FALSE)","v":{"v":1.599239580933126,"d":"1.60"}},{"$f":"VLOOKUP($A56,Min_N_Corrected!$A$2:W$93,22,FALSE)","v":{"v":2.2723685672533263,"d":"2.27"}},{"v":3.871608148186452,"d":"3.87"},{"$f":"(VLOOKUP(A56,ISNT_Amino_N!A$2:O$103,15,FALSE))-Q56","v":{"v":916.2806729424241,"d":"916"}},{"$f":"VLOOKUP(A56,Protein!A$3:Q$86,17,FALSE)","v":{"v":928.356351965856,"d":"928"}},{"v":43.37232423054983,"d":"43.37"},{"$f":"VLOOKUP(A56,WEON_WEOC!$B$2:$K$79,7,FALSE)","v":{"v":39.500716082363375,"d":"39.5"}},{"v":1888.0093491388297,"d":"1888"},{"$f":"VLOOKUP(A56,WEON_WEOC!$B56:$K$79,10,FALSE)","v":{"v":520.9616933195074,"d":"521"}},{"v":13.188664535428787,"d":"13.2"},{"$f":"VLOOKUP(A56,TC_TN!$A$2:$V$77,22,FALSE)","v":{"v":6261.087169190338,"d":"6261"}},{"$f":"VLOOKUP(A56,TC_TN!$A$2:$V$77,16,FALSE)","v":{"v":117807.29805187085,"d":"117807"}},{"v":6257.215561042151,"d":"6257"},{"v":18.815789473684216,"d":"18.8"},{"v":18.827431611170162,"d":"18.8"},{"$f":"VLOOKUP($A56,'CO2'!$A$3:$O$78,15,FALSE)","v":{"v":98.34753862516177,"d":"98.3"}},{"$f":"VLOOKUP($A56,Nmin_SHS!$E$2:$S$77,13,FALSE)","v":{"v":37.51063675794972,"d":"37.5"}},{"$f":"VLOOKUP($A56,Nmin_SHS!$E$2:$S$77,14,FALSE)","v":{"v":50.99602216925491,"d":"51.0"}}]
["Ae-0-S",15,0,2,"Ae","0-S","S","Ae-0",{"$f":"VLOOKUP($H57,'Mng&Soil'!$B$2:$E$41,3,FALSE)","v":1},{"$f":"VLOOKUP($H57,'Mng&Soil'!$B$2:$F$41,5,FALSE)","v":1},{"$f":"VLOOKUP($H57,'Mng&Soil'!$B$2:$G$41,6,FALSE)","v":{"v":35.067212156634255,"d":"35"}},{"$f":"VLOOKUP(A57,pH_EC!$A56:$C132,2,FALSE)","v":58.6},{"$f":"VLOOKUP(A57,pH_EC!$A56:$C132,3,FALSE)","v":{"v":5.9,"d":"5.90"}},{"$f":"VLOOKUP($H57,Biomass!$A$2:$L$41,11,FALSE)","v":{"v":4308.377603738795,"d":"4308.38"}},{"$f":"VLOOKUP($H57,Biomass!$A$2:$O$41,15,FALSE)","v":{"v":129.25132811216386,"d":"129.25"}},{"$f":"VLOOKUP($A57,Min_N_Corrected!$A$2:V$93,21,FALSE)","v":{"v":1.1519549807182143,"d":"1.15"}},{"$f":"VLOOKUP($A57,Min_N_Corrected!$A$2:W$93,22,FALSE)","v":{"v":2.2872407097907903,"d":"2.29"}},{"v":3.4391956905090044,"d":"3.44"},{"$f":"(VLOOKUP(A57,ISNT_Amino_N!A$2:O$103,15,FALSE))-Q57","v":{"v":574.1317983514947,"d":"574"}},{"$f":"VLOOKUP(A57,Protein!A$3:Q$86,17,FALSE)","v":{"v":562.1821486666912,"d":"562"}},{"v":24.688440859762004,"d":"24.69"},{"$f":"VLOOKUP(A57,WEON_WEOC!$B$2:$K$79,7,FALSE)","v":{"v":21.249245169253,"d":"21.2"}},{"v":1161.002387877948,"d":"1161"},{"$f":"VLOOKUP(A57,WEON_WEOC!$B57:$K$79,10,FALSE)","v":{"v":439.2793428181087,"d":"439"}},{"v":20.67270339812975,"d":"20.7"},{"$f":"VLOOKUP(A57,TC_TN!$A$2:$V$77,22,FALSE)","v":{"v":3911.590825570597,"d":"3912"}},{"$f":"VLOOKUP(A57,TC_TN!$A$2:$V$77,16,FALSE)","v":{"v":74848.08742354812,"d":"74848"}},{"v":3908.151629880088,"d":"3908"},{"v":19.134948096885815,"d":"19.1"},{"v":19.151786960181134,"d":"19.2"},{"$f":"VLOOKUP($A57,'CO2'!$A$3:$O$78,15,FALSE)","v":{"v":38.42217291847193,"d":"38.4"}},{"$f":"VLOOKUP($A57,Nmin_SHS!$E$2:$S$77,13,FALSE)","v":{"v":9.696242190554463,"d":"9.7"}},{"$f":"VLOOKUP($A57,Nmin_SHS!$E$2:$S$77,14,FALSE)","v":{"v":16.04707553623453,"d":"16.0"}}]
["Ae-1-T",15,1,1,"Ae","1-T","T","Ae-1",{"$f":"VLOOKUP($H58,'Mng&Soil'!$B$2:$E$41,3,FALSE)","v":1},{"$f":"VLOOKUP($H58,'Mng&Soil'!$B$2:$F$41,5,FALSE)","v":1},{"$f":"VLOOKUP($H58,'Mng&Soil'!$B$2:$G$41,6,FALSE)","v":{"v":32.96455181756622,"d":"33"}},{"$f":"VLOOKUP(A58,pH_EC!$A57:$C133,2,FALSE)","v":59.7},{"$f":"VLOOKUP(A58,pH_EC!$A57:$C133,3,FALSE)","v":6.31},{"$f":"VLOOKUP($H58,Biomass!$A$2:$L$41,11,FALSE)","v":{"v":4004.666855863526,"d":"4004.67"}},{"$f":"VLOOKUP($H58,Biomass!$A$2:$O$41,15,FALSE)","v":{"v":120.14000567590578,"d":"120.14"}},{"$f":"VLOOKUP($A58,Min_N_Corrected!$A$2:V$93,21,FALSE)","v":{"v":1.8746022321986477,"d":"1.87"}},{"$f":"VLOOKUP($A58,Min_N_Corrected!$A$2:W$93,22,FALSE)","v":{"v":2.1843333809851124,"d":"2.18"}},{"v":4.05893561318376,"d":"4.06"},{"$f":"(VLOOKUP(A58,ISNT_Amino_N!A$2:O$103,15,FALSE))-Q58","v":{"v":800.5840453542271,"d":"801"}},{"$f":"VLOOKUP(A58,Protein!A$3:Q$86,17,FALSE)","v":{"v":811.6754801774681,"d":"812"}},{"v":36.840559404739324,"d":"36.84"},{"$f":"VLOOKUP(A58,WEON_WEOC!$B$2:$K$79,7,FALSE)","v":{"v":32.78162379155556,"d":"32.8"}},{"v":1649.1000849364345,"d":"1649"},{"$f":"VLOOKUP(A58,WEON_WEOC!$B58:$K$79,10,FALSE)","v":{"v":408.0933161227564,"d":"408"}},{"v":12.448843861965127,"d":"12.4"},{"$f":"VLOOKUP(A58,TC_TN!$A$2:$V$77,22,FALSE)","v":{"v":6214.545099999091,"d":"6215"}},{"$f":"VLOOKUP(A58,TC_TN!$A$2:$V$77,16,FALSE)","v":{"v":103112.84327931453,"d":"103113"}},{"v":6210.486164385907,"d":"6210"},{"v":16.592178770949722,"d":"16.6"},{"v":16.60302278275993,"d":"16.6"},{"$f":"VLOOKUP($A58,'CO2'!$A$3:$O$78,15,FALSE)","v":{"v":107.09958937000025,"d":"107.1"}},{"$f":"VLOOKUP($A58,Nmin_SHS!$E$2:$S$77,13,FALSE)","v":{"v":41.9345463762868,"d":"41.9"}},{"$f":"VLOOKUP($A58,Nmin_SHS!$E$2:$S$77,14,FALSE)","v":{"v":54.11200802143479,"d":"54.1"}}]
["Ae-1-S",15,1,2,"Ae","1-S","S","Ae-1",{"$f":"VLOOKUP($H59,'Mng&Soil'!$B$2:$E$41,3,FALSE)","v":1},{"$f":"VLOOKUP($H59,'Mng&Soil'!$B$2:$F$41,5,FALSE)","v":1},{"$f":"VLOOKUP($H59,'Mng&Soil'!$B$2:$G$41,6,FALSE)","v":{"v":32.96455181756622,"d":"33"}},{"$f":"VLOOKUP(A59,pH_EC!$A58:$C134,2,FALSE)","v":59.2},{"$f":"VLOOKUP(A59,pH_EC!$A58:$C134,3,FALSE)","v":6.07},{"$f":"VLOOKUP($H59,Biomass!$A$2:$L$41,11,FALSE)","v":{"v":4004.666855863526,"d":"4004.67"}},{"$f":"VLOOKUP($H59,Biomass!$A$2:$O$41,15,FALSE)","v":{"v":120.14000567590578,"d":"120.14"}},{"$f":"VLOOKUP($A59,Min_N_Corrected!$A$2:V$93,21,FALSE)","v":{"v":1.9020248945248097,"d":"1.90"}},{"$f":"VLOOKUP($A59,Min_N_Corrected!$A$2:W$93,22,FALSE)","v":{"v":2.0143456839469485,"d":"2.01"}},{"v":3.916370578471758,"d":"3.92"},{"$f":"(VLOOKUP(A59,ISNT_Amino_N!A$2:O$103,15,FALSE))-Q59","v":{"v":537.0868090623935,"d":"537"}},{"$f":"VLOOKUP(A59,Protein!A$3:Q$86,17,FALSE)","v":{"v":515.9504700747391,"d":"516"}},{"v":23.120024633266212,"d":"23.12"},{"$f":"VLOOKUP(A59,WEON_WEOC!$B$2:$K$79,7,FALSE)","v":{"v":19.203654054794452,"d":"19.2"}},{"v":1076.1573037703988,"d":"1076"},{"$f":"VLOOKUP(A59,WEON_WEOC!$B59:$K$79,10,FALSE)","v":{"v":405.13070687649963,"d":"405"}},{"v":21.096542653836927,"d":"21.1"},{"$f":"VLOOKUP(A59,TC_TN!$A$2:$V$77,22,FALSE)","v":{"v":3591.90440192368,"d":"3592"}},{"$f":"VLOOKUP(A59,TC_TN!$A$2:$V$77,16,FALSE)","v":{"v":65449.32526825361,"d":"65449"}},{"v":3587.988031345208,"d":"3588"},{"v":18.221343873517785,"d":"18.2"},{"v":18.241232884970177,"d":"18.2"},{"$f":"VLOOKUP($A59,'CO2'!$A$3:$O$78,15,FALSE)","v":{"v":37.69719906912813,"d":"37.7"}},{"$f":"VLOOKUP($A59,Nmin_SHS!$E$2:$S$77,13,FALSE)","v":{"v":9.281027763103063,"d":"9.3"}},{"$f":"VLOOKUP($A59,Nmin_SHS!$E$2:$S$77,14,FALSE)","v":{"v":14.64332973641743,"d":"14.6"}}]
["Jn-0-T",16,0,1,"Jn","0-T","T","Jn-0",{"$f":"VLOOKUP($H60,'Mng&Soil'!$B$2:$E$41,3,FALSE)","v":3},{"$f":"VLOOKUP($H60,'Mng&Soil'!$B$2:$F$41,5,FALSE)","v":6},{"$f":"VLOOKUP($H60,'Mng&Soil'!$B$2:$G$41,6,FALSE)","v":11},{"$f":"VLOOKUP(A60,pH_EC!$A59:$C135,2,FALSE)","v":51.2},{"$f":"VLOOKUP(A60,pH_EC!$A59:$C135,3,FALSE)","v":{"v":6.3,"d":"6.30"}},{"$f":"VLOOKUP($H60,Biomass!$A$2:$L$41,11,FALSE)","v":{"v":2527.748872702047,"d":"2527.75"}},{"$f":"VLOOKUP($H60,Biomass!$A$2:$O$41,15,FALSE)","v":{"v":63.19372181755117,"d":"63.19"}},{"$f":"VLOOKUP($A60,Min_N_Corrected!$A$2:V$93,21,FALSE)","v":{"v":3.0141226928966534,"d":"3.01"}},{"$f":"VLOOKUP($A60,Min_N_Corrected!$A$2:W$93,22,FALSE)","v":{"v":1.8367087241155713,"d":"1.84"}},{"v":4.850831417012225,"d":"4.85"},{"$f":"(VLOOKUP(A60,ISNT_Amino_N!A$2:O$103,15,FALSE))-Q60","v":{"v":584.3072644528207,"d":"584"}},{"$f":"VLOOKUP(A60,Protein!A$3:Q$86,17,FALSE)","v":{"v":692.642625950316,"d":"693"}},{"v":36.49745677120785,"d":"36.50"},{"$f":"VLOOKUP(A60,WEON_WEOC!$B$2:$K$79,7,FALSE)","v":{"v":31.646625354195628,"d":"31.6"}},{"v":1313.4473471743445,"d":"1313"},{"$f":"VLOOKUP(A60,WEON_WEOC!$B60:$K$79,10,FALSE)","v":{"v":490.27918768952236,"d":"490"}},{"v":15.492305489201945,"d":"15.5"},{"$f":"VLOOKUP(A60,TC_TN!$A$2:$V$77,22,FALSE)","v":{"v":4286.173808872888,"d":"4286"}},{"$f":"VLOOKUP(A60,TC_TN!$A$2:$V$77,16,FALSE)","v":{"v":67897.80005644435,"d":"67898"}},{"v":4281.322977455876,"d":"4281"},{"v":15.841121495327103,"d":"15.8"},{"v":15.859069828175354,"d":"15.9"},{"$f":"VLOOKUP($A60,'CO2'!$A$3:$O$78,15,FALSE)","v":{"v":112.85143680026995,"d":"112.9"}},{"$f":"VLOOKUP($A60,Nmin_SHS!$E$2:$S$77,13,FALSE)","v":{"v":35.46003331891827,"d":"35.5"}},{"$f":"VLOOKUP($A60,Nmin_SHS!$E$2:$S$77,14,FALSE)","v":{"v":39.658031451194375,"d":"39.7"}}]
["Jn-0-S",16,0,2,"Jn","0-S","S","Jn-0",{"$f":"VLOOKUP($H61,'Mng&Soil'!$B$2:$E$41,3,FALSE)","v":3},{"$f":"VLOOKUP($H61,'Mng&Soil'!$B$2:$F$41,5,FALSE)","v":6},{"$f":"VLOOKUP($H61,'Mng&Soil'!$B$2:$G$41,6,FALSE)","v":11},{"$f":"VLOOKUP(A61,pH_EC!$A60:$C136,2,FALSE)","v":{"v":43.19,"d":"43.2"}},{"$f":"VLOOKUP(A61,pH_EC!$A60:$C136,3,FALSE)","v":6.45},{"$f":"VLOOKUP($H61,Biomass!$A$2:$L$41,11,FALSE)","v":{"v":2527.748872702047,"d":"2527.75"}},{"$f":"VLOOKUP($H61,Biomass!$A$2:$O$41,15,FALSE)","v":{"v":63.19372181755117,"d":"63.19"}},{"$f":"VLOOKUP($A61,Min_N_Corrected!$A$2:V$93,21,FALSE)","v":{"v":1.9474445348717606,"d":"1.95"}},{"$f":"VLOOKUP($A61,Min_N_Corrected!$A$2:W$93,22,FALSE)","v":{"v":1.0042624321743014,"d":"1.00"}},{"v":2.951706967046062,"d":"2.95"},{"$f":"(VLOOKUP(A61,ISNT_Amino_N!A$2:O$103,15,FALSE))-Q61","v":{"v":340.56837744151477,"d":"341"}},{"$f":"VLOOKUP(A61,Protein!A$3:Q$86,17,FALSE)","v":{"v":433.36297169767096,"d":"433"}},{"v":18.784958760691868,"d":"18.78"},{"$f":"VLOOKUP(A61,WEON_WEOC!$B$2:$K$79,7,FALSE)","v":{"v":15.833251793645807,"d":"15.8"}},{"v":792.7163078998776,"d":"793"},{"$f":"VLOOKUP(A61,WEON_WEOC!$B61:$K$79,10,FALSE)","v":{"v":275.56789723834333,"d":"276"}},{"v":17.40437787700276,"d":"17.4"},{"$f":"VLOOKUP(A61,TC_TN!$A$2:$V$77,22,FALSE)","v":{"v":2397.5896615937154,"d":"2398"}},{"$f":"VLOOKUP(A61,TC_TN!$A$2:$V$77,16,FALSE)","v":{"v":39127.331282953,"d":"39127"}},{"v":2394.6379546266694,"d":"2395"},{"v":16.319444444444446,"d":"16.3"},{"v":16.339560311133987,"d":"16.3"},{"$f":"VLOOKUP($A61,'CO2'!$A$3:$O$78,15,FALSE)","v":{"v":34.76660423018983,"d":"34.8"}},{"$f":"VLOOKUP($A61,Nmin_SHS!$E$2:$S$77,13,FALSE)","v":{"v":9.434169858988104,"d":"9.4"}},{"$f":"VLOOKUP($A61,Nmin_SHS!$E$2:$S$77,14,FALSE)","v":{"v":12.692271235822798,"d":"12.7"}}]
["Jn-1-T",16,1,1,"Jn","1-T","T","Jn-1",{"$f":"VLOOKUP($H62,'Mng&Soil'!$B$2:$E$41,3,FALSE)","v":3},{"$f":"VLOOKUP($H62,'Mng&Soil'!$B$2:$F$41,5,FALSE)","v":6},{"$f":"VLOOKUP($H62,'Mng&Soil'!$B$2:$G$41,6,FALSE)","v":23},{"$f":"VLOOKUP(A62,pH_EC!$A61:$C137,2,FALSE)","v":54.9},{"$f":"VLOOKUP(A62,pH_EC!$A61:$C137,3,FALSE)","v":6.35},{"$f":"VLOOKUP($H62,Biomass!$A$2:$L$41,11,FALSE)","v":{"v":8805.149462934216,"d":"8805.15"}},{"$f":"VLOOKUP($H62,Biomass!$A$2:$O$41,15,FALSE)","v":{"v":220.1287365733554,"d":"220.13"}},{"$f":"VLOOKUP($A62,Min_N_Corrected!$A$2:V$93,21,FALSE)","v":{"v":4.374009772752173,"d":"4.37"}},{"$f":"VLOOKUP($A62,Min_N_Corrected!$A$2:W$93,22,FALSE)","v":{"v":4.161295838406368,"d":"4.16"}},{"v":8.535305611158542,"d":"8.54"},{"$f":"(VLOOKUP(A62,ISNT_Amino_N!A$2:O$103,15,FALSE))-Q62","v":{"v":578.342495814808,"d":"578"}},{"$f":"VLOOKUP(A62,Protein!A$3:Q$86,17,FALSE)","v":{"v":646.2945571682577,"d":"646"}},{"v":45.19555553841826,"d":"45.20"},{"$f":"VLOOKUP(A62,WEON_WEOC!$B$2:$K$79,7,FALSE)","v":{"v":36.66024992725972,"d":"36.7"}},{"v":1269.8326085214837,"d":"1270"},{"$f":"VLOOKUP(A62,WEON_WEOC!$B62:$K$79,10,FALSE)","v":{"v":498.46552305235355,"d":"498"}},{"v":13.596893748444034,"d":"13.6"},{"$f":"VLOOKUP(A62,TC_TN!$A$2:$V$77,22,FALSE)","v":{"v":4337.378032658108,"d":"4337"}},{"$f":"VLOOKUP(A62,TC_TN!$A$2:$V$77,16,FALSE)","v":{"v":64347.9557896696,"d":"64348"}},{"v":4328.842727046949,"d":"4329"},{"v":14.835680751173712,"d":"14.8"},{"v":14.8649326961265,"d":"14.9"},{"$f":"VLOOKUP($A62,'CO2'!$A$3:$O$78,15,FALSE)","v":{"v":113.47572060556487,"d":"113.5"}},{"$f":"VLOOKUP($A62,Nmin_SHS!$E$2:$S$77,13,FALSE)","v":{"v":40.26094173753773,"d":"40.3"}},{"$f":"VLOOKUP($A62,Nmin_SHS!$E$2:$S$77,14,FALSE)","v":{"v":44.28781714938926,"d":"44.3"}}]
["Jn-1-S",16,1,2,"Jn","1-S","S","Jn-1",{"$f":"VLOOKUP($H63,'Mng&Soil'!$B$2:$E$41,3,FALSE)","v":3},{"$f":"VLOOKUP($H63,'Mng&Soil'!$B$2:$F$41,5,FALSE)","v":6},{"$f":"VLOOKUP($H63,'Mng&Soil'!$B$2:$G$41,6,FALSE)","v":23},{"$f":"VLOOKUP(A63,pH_EC!$A62:$C138,2,FALSE)","v":{"v":48,"d":"48.0"}},{"$f":"VLOOKUP(A63,pH_EC!$A62:$C138,3,FALSE)","v":6.55},{"$f":"VLOOKUP($H63,Biomass!$A$2:$L$41,11,FALSE)","v":{"v":8805.149462934216,"d":"8805.15"}},{"$f":"VLOOKUP($H63,Biomass!$A$2:$O$41,15,FALSE)","v":{"v":220.1287365733554,"d":"220.13"}},{"$f":"VLOOKUP($A63,Min_N_Corrected!$A$2:V$93,21,FALSE)","v":{"v":2.6340563719335934,"d":"2.63"}},{"$f":"VLOOKUP($A63,Min_N_Corrected!$A$2:W$93,22,FALSE)","v":{"v":2.082076694082384,"d":"2.08"}},{"v":4.716133066015978,"d":"4.72"},{"$f":"(VLOOKUP(A63,ISNT_Amino_N!A$2:O$103,15,FALSE))-Q63","v":{"v":332.5509262057434,"d":"333"}},{"$f":"VLOOKUP(A63,Protein!A$3:Q$86,17,FALSE)","v":{"v":398.283180949649,"d":"398"}},{"v":18.912923482124757,"d":"18.91"},{"$f":"VLOOKUP(A63,WEON_WEOC!$B$2:$K$79,7,FALSE)","v":{"v":14.19679041610878,"d":"14.2"}},{"v":749.7470306375171,"d":"750"},{"$f":"VLOOKUP(A63,WEON_WEOC!$B63:$K$79,10,FALSE)","v":{"v":277.44508896685215,"d":"277"}},{"v":19.542803748940425,"d":"19.5"},{"$f":"VLOOKUP(A63,TC_TN!$A$2:$V$77,22,FALSE)","v":{"v":2471.1109257314297,"d":"2471"}},{"$f":"VLOOKUP(A63,TC_TN!$A$2:$V$77,16,FALSE)","v":{"v":38736.33343038457,"d":"38736"}},{"v":2466.3947926654137,"d":"2466"},{"v":15.675675675675674,"d":"15.7"},{"v":15.705650022283137,"d":"15.7"},{"$f":"VLOOKUP($A63,'CO2'!$A$3:$O$78,15,FALSE)","v":{"v":35.88300970711789,"d":"35.9"}},{"$f":"VLOOKUP($A63,Nmin_SHS!$E$2:$S$77,13,FALSE)","v":{"v":8.81017159592725,"d":"8.8"}},{"$f":"VLOOKUP($A63,Nmin_SHS!$E$2:$S$77,14,FALSE)","v":{"v":11.81957498171509,"d":"11.8"}}]
["Ni-0-T",17,0,1,"Ni","0-T","T","Ni-0",{"$f":"VLOOKUP($H64,'Mng&Soil'!$B$2:$E$41,3,FALSE)","v":3},{"$f":"VLOOKUP($H64,'Mng&Soil'!$B$2:$F$41,5,FALSE)","v":6},{"$f":"VLOOKUP($H64,'Mng&Soil'!$B$2:$G$41,6,FALSE)","v":15},{"$f":"VLOOKUP(A64,pH_EC!$A63:$C139,2,FALSE)","v":61.8},{"$f":"VLOOKUP(A64,pH_EC!$A63:$C139,3,FALSE)","v":{"v":6,"d":"6.00"}},{"$f":"VLOOKUP($H64,Biomass!$A$2:$L$41,11,FALSE)","v":{"v":0,"d":"0.00"}},{"$f":"VLOOKUP($H64,Biomass!$A$2:$O$41,15,FALSE)","v":{"v":0,"d":"0.00"}},{"$f":"VLOOKUP($A64,Min_N_Corrected!$A$2:V$93,21,FALSE)","v":{"v":5.302925062064224,"d":"5.30"}},{"$f":"VLOOKUP($A64,Min_N_Corrected!$A$2:W$93,22,FALSE)","v":{"v":6.08854693668117,"d":"6.09"}},{"v":11.391471998745395,"d":"11.39"},{"$f":"(VLOOKUP(A64,ISNT_Amino_N!A$2:O$103,15,FALSE))-Q64","v":{"v":719.1005968424646,"d":"719"}},{"$f":"VLOOKUP(A64,Protein!A$3:Q$86,17,FALSE)","v":{"v":1197.9641119485761,"d":"1198"}},{"v":47.60749653109407,"d":"47.61"},{"$f":"VLOOKUP(A64,WEON_WEOC!$B$2:$K$79,7,FALSE)","v":{"v":36.216024532348676,"d":"36.2"}},{"v":1964.672205322135,"d":"1965"},{"$f":"VLOOKUP(A64,WEON_WEOC!$B64:$K$79,10,FALSE)","v":{"v":380.35618921667754,"d":"380"}},{"v":10.50242797568623,"d":"10.5"},{"$f":"VLOOKUP(A64,TC_TN!$A$2:$V$77,22,FALSE)","v":{"v":5255.061564181465,"d":"5255"}},{"$f":"VLOOKUP(A64,TC_TN!$A$2:$V$77,16,FALSE)","v":{"v":111501.6267784657,"d":"111502"}},{"v":5243.67009218272,"d":"5244"},{"v":21.21794871794872,"d":"21.2"},{"v":21.26404308781605,"d":"21.3"},{"$f":"VLOOKUP($A64,'CO2'!$A$3:$O$78,15,FALSE)","v":{"v":118.3808547979013,"d":"118.4"}},{"$f":"VLOOKUP($A64,Nmin_SHS!$E$2:$S$77,13,FALSE)","v":{"v":52.229188682639275,"d":"52.2"}},{"$f":"VLOOKUP($A64,Nmin_SHS!$E$2:$S$77,14,FALSE)","v":{"v":69.46052856035098,"d":"69.5"}}]
["Ni-1-T",17,1,1,"Ni","1-T","T","Ni-1",{"$f":"VLOOKUP($H65,'Mng&Soil'!$B$2:$E$41,3,FALSE)","v":3},{"$f":"VLOOKUP($H65,'Mng&Soil'!$B$2:$F$41,5,FALSE)","v":6},{"$f":"VLOOKUP($H65,'Mng&Soil'!$B$2:$G$41,6,FALSE)","v":18},{"$f":"VLOOKUP(A65,pH_EC!$A64:$C140,2,FALSE)","v":58.6},{"$f":"VLOOKUP(A65,pH_EC!$A64:$C140,3,FALSE)","v":6.01},{"$f":"VLOOKUP($H65,Biomass!$A$2:$L$41,11,FALSE)","v":{"v":0,"d":"0.00"}},{"$f":"VLOOKUP($H65,Biomass!$A$2:$O$41,15,FALSE)","v":{"v":0,"d":"0.00"}},{"$f":"VLOOKUP($A65,Min_N_Corrected!$A$2:V$93,21,FALSE)","v":{"v":4.393326178962608,"d":"4.39"}},{"$f":"VLOOKUP($A65,Min_N_Corrected!$A$2:W$93,22,FALSE)","v":{"v":5.386441564588783,"d":"5.39"}},{"v":9.779767743551393,"d":"9.78"},{"$f":"(VLOOKUP(A65,ISNT_Amino_N!A$2:O$103,15,FALSE))-Q65","v":{"v":816.036073764716,"d":"816"}},{"$f":"VLOOKUP(A65,Protein!A$3:Q$86,17,FALSE)","v":{"v":1068.243559102934,"d":"1068"}},{"v":44.44658492542135,"d":"44.45"},{"$f":"VLOOKUP(A65,WEON_WEOC!$B$2:$K$79,7,FALSE)","v":{"v":34.66681718186996,"d":"34.7"}},{"v":1928.726217793071,"d":"1929"},{"$f":"VLOOKUP(A65,WEON_WEOC!$B65:$K$79,10,FALSE)","v":{"v":416.8390871433483,"d":"417"}},{"v":12.024152230547045,"d":"12.0"},{"$f":"VLOOKUP(A65,TC_TN!$A$2:$V$77,22,FALSE)","v":{"v":5487.6500174099765,"d":"5488"}},{"$f":"VLOOKUP(A65,TC_TN!$A$2:$V$77,16,FALSE)","v":{"v":120368.98996521287,"d":"120369"}},{"v":5477.8702496664255,"d":"5478"},{"v":21.934523809523807,"d":"21.9"},{"v":21.973684019358203,"d":"22.0"},{"$f":"VLOOKUP($A65,'CO2'!$A$3:$O$78,15,FALSE)","v":{"v":120.20307841396541,"d":"120.2"}},{"$f":"VLOOKUP($A65,Nmin_SHS!$E$2:$S$77,13,FALSE)","v":{"v":47.16482303956559,"d":"47.2"}},{"$f":"VLOOKUP($A65,Nmin_SHS!$E$2:$S$77,14,FALSE)","v":{"v":64.68731114389254,"d":"64.7"}}]
["La-0-T",18,0,1,"La",{"$f":"C66&\"-\"&G66","v":"0-T"},"T",{"$f":"E66&\"-\"&C66","v":"La-0"},{"$f":"VLOOKUP($H66,'Mng&Soil'!$B$2:$E$41,3,FALSE)","v":1},{"$f":"VLOOKUP($H66,'Mng&Soil'!$B$2:$F$41,5,FALSE)","v":1},{"$f":"VLOOKUP($H66,'Mng&Soil'!$B$2:$G$41,6,FALSE)","v":29},{"$f":"VLOOKUP(A66,pH_EC!$A65:$C141,2,FALSE)","v":46.4},{"$f":"VLOOKUP(A66,pH_EC!$A65:$C141,3,FALSE)","v":6.46},{"$f":"VLOOKUP($H66,Biomass!$A$2:$L$41,11,FALSE)","v":{"v":1649.6124031007753,"d":"1649.61"}},{"$f":"VLOOKUP($H66,Biomass!$A$2:$O$41,15,FALSE)","v":{"v":49.48837209302326,"d":"49.49"}},{"$f":"VLOOKUP($A66,Min_N_Corrected!$A$2:V$93,21,FALSE)","v":{"v":5.1693775488423235,"d":"5.17"}},{"$f":"VLOOKUP($A66,Min_N_Corrected!$A$2:W$93,22,FALSE)","v":{"v":4.851221858536089,"d":"4.85"}},{"$f":"P66+Q66","v":{"v":10.020599407378413,"d":"10.02"}},{"$f":"(VLOOKUP(A66,ISNT_Amino_N!A$2:O$103,15,FALSE))-Q66","v":{"v":587.7001953140021,"d":"588"}},{"$f":"VLOOKUP(A66,Protein!A$3:Q$86,17,FALSE)","v":{"v":402.6464866079586,"d":"403"}},{"$f":"V66+R66","v":{"v":43.96215721716967,"d":"43.96"}},{"$f":"VLOOKUP(A66,WEON_WEOC!$B$2:$K$79,7,FALSE)","v":{"v":33.941557809791256,"d":"33.9"}},{"$f":"SUM(R66,S66,T66,V66)","v":{"v":1034.3088391391304,"d":"1034"}},{"$f":"VLOOKUP(A66,WEON_WEOC!$B66:$K$79,10,FALSE)","v":{"v":402.89642855047384,"d":"403"}},{"$f":"X66/V66","v":{"v":11.870298670682956,"d":"11.9"}},{"$f":"VLOOKUP(A66,TC_TN!$A$2:$V$77,22,FALSE)","v":{"v":4368.2614065135185,"d":"4368"}},{"$f":"VLOOKUP(A66,TC_TN!$A$2:$V$77,16,FALSE)","v":{"v":51506.365837995225,"d":"51506"}},{"$f":"Z66-R66","v":{"v":4358.24080710614,"d":"4358"}},{"$f":"AA66/Z66","v":{"v":11.791044776119405,"d":"11.8"}},{"v":11.818155103778057,"d":"11.8"},{"$f":"VLOOKUP($A66,'CO2'!$A$3:$O$78,15,FALSE)","v":{"v":134.78810732970382,"d":"134.8"}},{"$f":"VLOOKUP($A66,Nmin_SHS!$E$2:$S$77,13,FALSE)","v":{"v":55.02203498612192,"d":"55.0"}},{"$f":"VLOOKUP($A66,Nmin_SHS!$E$2:$S$77,14,FALSE)","v":{"v":56.71162672456441,"d":"56.7"}}]
["La-0-S",18,0,2,"La","0-S","S","La-0",{"$f":"VLOOKUP($H67,'Mng&Soil'!$B$2:$E$41,3,FALSE)","v":1},{"$f":"VLOOKUP($H67,'Mng&Soil'!$B$2:$F$41,5,FALSE)","v":1},{"$f":"VLOOKUP($H67,'Mng&Soil'!$B$2:$G$41,6,FALSE)","v":29},{"$f":"VLOOKUP(A67,pH_EC!$A66:$C142,2,FALSE)","v":43.3},{"$f":"VLOOKUP(A67,pH_EC!$A66:$C142,3,FALSE)","v":6.31},{"$f":"VLOOKUP($H67,Biomass!$A$2:$L$41,11,FALSE)","v":{"v":1649.6124031007753,"d":"1649.61"}},{"$f":"VLOOKUP($H67,Biomass!$A$2:$O$41,15,FALSE)","v":{"v":49.48837209302326,"d":"49.49"}},{"$f":"VLOOKUP($A67,Min_N_Corrected!$A$2:V$93,21,FALSE)","v":{"v":5.085435107411571,"d":"5.09"}},{"$f":"VLOOKUP($A67,Min_N_Corrected!$A$2:W$93,22,FALSE)","v":{"v":4.382713231045213,"d":"4.38"}},{"v":9.468148338456784,"d":"9.47"},{"$f":"(VLOOKUP(A67,ISNT_Amino_N!A$2:O$103,15,FALSE))-Q67","v":{"v":388.8728387042584,"d":"389"}},{"$f":"VLOOKUP(A67,Protein!A$3:Q$86,17,FALSE)","v":{"v":260.02863820476443,"d":"260"}},{"v":28.133835250442374,"d":"28.13"},{"$f":"VLOOKUP(A67,WEON_WEOC!$B$2:$K$79,7,FALSE)","v":{"v":18.66568691198559,"d":"18.7"}},{"v":677.0353121594653,"d":"677"},{"$f":"VLOOKUP(A67,WEON_WEOC!$B67:$K$79,10,FALSE)","v":{"v":269.29328542472365,"d":"269"}},{"v":14.427183242412866,"d":"14.4"},{"$f":"VLOOKUP(A67,TC_TN!$A$2:$V$77,22,FALSE)","v":{"v":2890.850513605394,"d":"2891"}},{"$f":"VLOOKUP(A67,TC_TN!$A$2:$V$77,16,FALSE)","v":{"v":33928.54495009923,"d":"33929"}},{"v":2881.3823652669375,"d":"2881"},{"v":11.736526946107784,"d":"11.7"},{"$f":"AA67/AB67","v":{"v":11.775092871770255,"d":"11.8"}},{"$f":"VLOOKUP($A67,'CO2'!$A$3:$O$78,15,FALSE)","v":{"v":63.07914845408256,"d":"63.1"}},{"$f":"VLOOKUP($A67,Nmin_SHS!$E$2:$S$77,13,FALSE)","v":{"v":21.393922164817237,"d":"21.4"}},{"$f":"VLOOKUP($A67,Nmin_SHS!$E$2:$S$77,14,FALSE)","v":{"v":27.684027125406946,"d":"27.7"}}]
["La-1-T",18,1,1,"La","1-T","T","La-1",{"$f":"VLOOKUP($H68,'Mng&Soil'!$B$2:$E$41,3,FALSE)","v":1},{"$f":"VLOOKUP($H68,'Mng&Soil'!$B$2:$F$41,5,FALSE)","v":6},{"$f":"VLOOKUP($H68,'Mng&Soil'!$B$2:$G$41,6,FALSE)","v":23},{"$f":"VLOOKUP(A68,pH_EC!$A67:$C143,2,FALSE)","v":52.9},{"$f":"VLOOKUP(A68,pH_EC!$A67:$C143,3,FALSE)","v":6.39},{"$f":"VLOOKUP($H68,Biomass!$A$2:$L$41,11,FALSE)","v":{"v":1846.7661691542287,"d":"1846.77"}},{"$f":"VLOOKUP($H68,Biomass!$A$2:$O$41,15,FALSE)","v":{"v":55.40298507462686,"d":"55.40"}},{"$f":"VLOOKUP($A68,Min_N_Corrected!$A$2:V$93,21,FALSE)","v":{"v":6.900544309664384,"d":"6.90"}},{"$f":"VLOOKUP($A68,Min_N_Corrected!$A$2:W$93,22,FALSE)","v":{"v":4.743880811869027,"d":"4.74"}},{"v":11.644425121533411,"d":"11.64"},{"$f":"(VLOOKUP(A68,ISNT_Amino_N!A$2:O$103,15,FALSE))-Q68","v":{"v":542.4019301946544,"d":"542"}},{"$f":"VLOOKUP(A68,Protein!A$3:Q$86,17,FALSE)","v":{"v":390.42319289244807,"d":"390"}},{"v":47.69200007289823,"d":"47.69"},{"$f":"VLOOKUP(A68,WEON_WEOC!$B$2:$K$79,7,FALSE)","v":{"v":36.04757495136482,"d":"36.0"}},{"v":980.5171231600007,"d":"981"},{"$f":"VLOOKUP(A68,WEON_WEOC!$B68:$K$79,10,FALSE)","v":{"v":394.26875938484955,"d":"394"}},{"v":10.937455845970073,"d":"10.9"},{"$f":"VLOOKUP(A68,TC_TN!$A$2:$V$77,22,FALSE)","v":{"v":3872.9031403460435,"d":"3873"}},{"$f":"VLOOKUP(A68,TC_TN!$A$2:$V$77,16,FALSE)","v":{"v":45258.92623311365,"d":"45259"}},{"v":3861.25871522451,"d":"3861"},{"v":11.686046511627907,"d":"11.7"},{"v":11.721288204455915,"d":"11.7"},{"$f":"VLOOKUP($A68,'CO2'!$A$3:$O$78,15,FALSE)","v":{"v":132.8463597683227,"d":"132.8"}},{"$f":"VLOOKUP($A68,Nmin_SHS!$E$2:$S$77,13,FALSE)","v":{"v":57.942697801251256,"d":"57.9"}},{"$f":"VLOOKUP($A68,Nmin_SHS!$E$2:$S$77,14,FALSE)","v":{"v":57.64193371195805,"d":"57.6"}}]
["La-1-S",18,1,2,"La","1-S","S","La-1",{"$f":"VLOOKUP($H69,'Mng&Soil'!$B$2:$E$41,3,FALSE)","v":1},{"$f":"VLOOKUP($H69,'Mng&Soil'!$B$2:$F$41,5,FALSE)","v":6},{"$f":"VLOOKUP($H69,'Mng&Soil'!$B$2:$G$41,6,FALSE)","v":23},{"$f":"VLOOKUP(A69,pH_EC!$A68:$C144,2,FALSE)","v":44.7},{"$f":"VLOOKUP(A69,pH_EC!$A68:$C144,3,FALSE)","v":6.38},{"$f":"VLOOKUP($H69,Biomass!$A$2:$L$41,11,FALSE)","v":{"v":1846.7661691542287,"d":"1846.77"}},{"$f":"VLOOKUP($H69,Biomass!$A$2:$O$41,15,FALSE)","v":{"v":55.40298507462686,"d":"55.40"}},{"$f":"VLOOKUP($A69,Min_N_Corrected!$A$2:V$93,21,FALSE)","v":{"v":6.1418589586247805,"d":"6.14"}},{"$f":"VLOOKUP($A69,Min_N_Corrected!$A$2:W$93,22,FALSE)","v":{"v":3.9546966071217016,"d":"3.95"}},{"v":10.096555565746481,"d":"10.10"},{"$f":"(VLOOKUP(A69,ISNT_Amino_N!A$2:O$103,15,FALSE))-Q69","v":{"v":321.52450157805066,"d":"322"}},{"$f":"VLOOKUP(A69,Protein!A$3:Q$86,17,FALSE)","v":{"v":203.34989432998321,"d":"203"}},{"v":24.132657041258028,"d":"24.13"},{"$f":"VLOOKUP(A69,WEON_WEOC!$B$2:$K$79,7,FALSE)","v":{"v":14.036101475511549,"d":"14.0"}},{"v":549.007052949292,"d":"549"},{"$f":"VLOOKUP(A69,WEON_WEOC!$B69:$K$79,10,FALSE)","v":{"v":246.74963941061583,"d":"247"}},{"v":17.57964202817385,"d":"17.6"},{"$f":"VLOOKUP(A69,TC_TN!$A$2:$V$77,22,FALSE)","v":{"v":2515.201324392211,"d":"2515"}},{"$f":"VLOOKUP(A69,TC_TN!$A$2:$V$77,16,FALSE)","v":{"v":28590.058219710023,"d":"28590"}},{"v":2505.104768826465,"d":"2505"},{"v":11.366906474820142,"d":"11.4"},{"v":11.412719569849868,"d":"11.4"},{"$f":"VLOOKUP($A69,'CO2'!$A$3:$O$78,15,FALSE)","v":{"v":62.894076185494455,"d":"62.9"}},{"$f":"VLOOKUP($A69,Nmin_SHS!$E$2:$S$77,13,FALSE)","v":{"v":17.97295964352028,"d":"18.0"}},{"$f":"VLOOKUP($A69,Nmin_SHS!$E$2:$S$77,14,FALSE)","v":{"v":22.248957410829696,"d":"22.2"}}]
["Ko-0-T",19,0,1,"Ko","0-T","T","Ko-0",{"$f":"VLOOKUP($H70,'Mng&Soil'!$B$2:$E$41,3,FALSE)","v":5},{"$f":"VLOOKUP($H70,'Mng&Soil'!$B$2:$F$41,5,FALSE)","v":6},{"$f":"VLOOKUP($H70,'Mng&Soil'!$B$2:$G$41,6,FALSE)","v":17},{"$f":"VLOOKUP(A70,pH_EC!$A69:$C145,2,FALSE)","v":53.9},{"$f":"VLOOKUP(A70,pH_EC!$A69:$C145,3,FALSE)","v":6.51},{"$f":"VLOOKUP($H70,Biomass!$A$2:$L$41,11,FALSE)","v":{"v":2321.5686274509803,"d":"2321.57"}},{"$f":"VLOOKUP($H70,Biomass!$A$2:$O$41,15,FALSE)","v":{"v":69.6470588235294,"d":"69.65"}},{"$f":"VLOOKUP($A70,Min_N_Corrected!$A$2:V$93,21,FALSE)","v":{"v":4.555059968412477,"d":"4.56"}},{"$f":"VLOOKUP($A70,Min_N_Corrected!$A$2:W$93,22,FALSE)","v":{"v":5.133273135613071,"d":"5.13"}},{"v":9.68833310402555,"d":"9.69"},{"$f":"(VLOOKUP(A70,ISNT_Amino_N!A$2:O$103,15,FALSE))-Q70","v":{"v":392.21522297456164,"d":"392"}},{"$f":"VLOOKUP(A70,Protein!A$3:Q$86,17,FALSE)","v":{"v":315.9968962722978,"d":"316"}},{"v":30.145510538569482,"d":"30.15"},{"$f":"VLOOKUP(A70,WEON_WEOC!$B$2:$K$79,7,FALSE)","v":{"v":20.457177434543933,"d":"20.5"}},{"v":738.3576297854289,"d":"738"},{"$f":"VLOOKUP(A70,WEON_WEOC!$B70:$K$79,10,FALSE)","v":{"v":235.5499406455025,"d":"236"}},{"v":11.514293279177092,"d":"11.5"},{"$f":"VLOOKUP(A70,TC_TN!$A$2:$V$77,22,FALSE)","v":{"v":2888.940691726196,"d":"2889"}},{"$f":"VLOOKUP(A70,TC_TN!$A$2:$V$77,16,FALSE)","v":{"v":32561.78915250713,"d":"32562"}},{"v":2879.2523586221705,"d":"2879"},{"v":11.271186440677969,"d":"11.3"},{"v":11.309112608694418,"d":"11.3"},{"$f":"VLOOKUP($A70,'CO2'!$A$3:$O$78,15,FALSE)","v":{"v":92.10199603766941,"d":"92.1"}},{"$f":"VLOOKUP($A70,Nmin_SHS!$E$2:$S$77,13,FALSE)","v":{"v":35.35805575587884,"d":"35.4"}},{"$f":"VLOOKUP($A70,Nmin_SHS!$E$2:$S$77,14,FALSE)","v":{"v":32.35040900687227,"d":"32.4"}}]
["Ko-0-S",19,0,2,"Ko","0-S","S","Ko-0",{"$f":"VLOOKUP($H71,'Mng&Soil'!$B$2:$E$41,3,FALSE)","v":5},{"$f":"VLOOKUP($H71,'Mng&Soil'!$B$2:$F$41,5,FALSE)","v":6},{"$f":"VLOOKUP($H71,'Mng&Soil'!$B$2:$G$41,6,FALSE)","v":17},{"$f":"VLOOKUP(A71,pH_EC!$A70:$C146,2,FALSE)","v":{"v":39.25,"d":"39.3"}},{"$f":"VLOOKUP(A71,pH_EC!$A70:$C146,3,FALSE)","v":6.52},{"$f":"VLOOKUP($H71,Biomass!$A$2:$L$41,11,FALSE)","v":{"v":2321.5686274509803,"d":"2321.57"}},{"$f":"VLOOKUP($H71,Biomass!$A$2:$O$41,15,FALSE)","v":{"v":69.6470588235294,"d":"69.65"}},{"$f":"VLOOKUP($A71,Min_N_Corrected!$A$2:V$93,21,FALSE)","v":{"v":3.2547833990605186,"d":"3.25"}},{"$f":"VLOOKUP($A71,Min_N_Corrected!$A$2:W$93,22,FALSE)","v":{"v":2.2806971772062297,"d":"2.28"}},{"v":5.535480576266748,"d":"5.54"},{"$f":"(VLOOKUP(A71,ISNT_Amino_N!A$2:O$103,15,FALSE))-Q71","v":{"v":257.96950932675674,"d":"258"}},{"$f":"VLOOKUP(A71,Protein!A$3:Q$86,17,FALSE)","v":{"v":207.2476765615181,"d":"207"}},{"v":14.609740080416064,"d":"14.61"},{"$f":"VLOOKUP(A71,WEON_WEOC!$B$2:$K$79,7,FALSE)","v":{"v":9.074259504149316,"d":"9.1"}},{"v":479.8269259686909,"d":"480"},{"$f":"VLOOKUP(A71,WEON_WEOC!$B71:$K$79,10,FALSE)","v":{"v":171.9377574089782,"d":"172"}},{"v":18.947855450944243,"d":"18.9"},{"$f":"VLOOKUP(A71,TC_TN!$A$2:$V$77,22,FALSE)","v":{"v":1819.4851032965837,"d":"1819"}},{"$f":"VLOOKUP(A71,TC_TN!$A$2:$V$77,16,FALSE)","v":{"v":18655.226801676745,"d":"18655"}},{"v":1813.949622720317,"d":"1814"},{"v":10.253025302530254,"d":"10.3"},{"v":10.284313614895298,"d":"10.3"},{"$f":"VLOOKUP($A71,'CO2'!$A$3:$O$78,15,FALSE)","v":{"v":29.519060225638125,"d":"29.5"}},{"$f":"VLOOKUP($A71,Nmin_SHS!$E$2:$S$77,13,FALSE)","v":{"v":7.733698194098896,"d":"7.7"}},{"$f":"VLOOKUP($A71,Nmin_SHS!$E$2:$S$77,14,FALSE)","v":{"v":8.654672075284132,"d":"8.7"}}]
["Ko-1-T",19,1,1,"Ko","1-T","T","Ko-1",{"$f":"VLOOKUP($H72,'Mng&Soil'!$B$2:$E$41,3,FALSE)","v":5},{"$f":"VLOOKUP($H72,'Mng&Soil'!$B$2:$F$41,5,FALSE)","v":6},{"$f":"VLOOKUP($H72,'Mng&Soil'!$B$2:$G$41,6,FALSE)","v":24},{"$f":"VLOOKUP(A72,pH_EC!$A71:$C147,2,FALSE)","v":53.2},{"$f":"VLOOKUP(A72,pH_EC!$A71:$C147,3,FALSE)","v":6.37},{"$f":"VLOOKUP($H72,Biomass!$A$2:$L$41,11,FALSE)","v":{"v":2600,"d":"2600.00"}},{"$f":"VLOOKUP($H72,Biomass!$A$2:$O$41,15,FALSE)","v":{"v":78,"d":"78.00"}},{"$f":"VLOOKUP($A72,Min_N_Corrected!$A$2:V$93,21,FALSE)","v":{"v":4.699461561898171,"d":"4.70"}},{"$f":"VLOOKUP($A72,Min_N_Corrected!$A$2:W$93,22,FALSE)","v":{"v":5.241612512019735,"d":"5.24"}},{"v":9.941074073917907,"d":"9.94"},{"$f":"(VLOOKUP(A72,ISNT_Amino_N!A$2:O$103,15,FALSE))-Q72","v":{"v":404.55283807190216,"d":"405"}},{"$f":"VLOOKUP(A72,Protein!A$3:Q$86,17,FALSE)","v":{"v":333.83676452978506,"d":"334"}},{"v":32.31624401884966,"d":"32.32"},{"$f":"VLOOKUP(A72,WEON_WEOC!$B$2:$K$79,7,FALSE)","v":{"v":22.375169944931756,"d":"22.4"}},{"v":770.7058466205368,"d":"771"},{"$f":"VLOOKUP(A72,WEON_WEOC!$B72:$K$79,10,FALSE)","v":{"v":282.0106687787255,"d":"282"}},{"v":12.603733043046867,"d":"12.6"},{"$f":"VLOOKUP(A72,TC_TN!$A$2:$V$77,22,FALSE)","v":{"v":3022.6702308207637,"d":"3023"}},{"$f":"VLOOKUP(A72,TC_TN!$A$2:$V$77,16,FALSE)","v":{"v":33151.8670477116,"d":"33152"}},{"v":3012.7291567468455,"d":"3013"},{"v":10.967741935483872,"d":"11.0"},{"v":11.00393209043361,"d":"11.0"},{"$f":"VLOOKUP($A72,'CO2'!$A$3:$O$78,15,FALSE)","v":{"v":77.78164763158975,"d":"77.8"}},{"$f":"VLOOKUP($A72,Nmin_SHS!$E$2:$S$77,13,FALSE)","v":{"v":28.50664072088079,"d":"28.5"}},{"$f":"VLOOKUP($A72,Nmin_SHS!$E$2:$S$77,14,FALSE)","v":{"v":26.19539652687096,"d":"26.2"}}]
["Ko-1-S",19,1,2,"Ko","1-S","S","Ko-1",{"$f":"VLOOKUP($H73,'Mng&Soil'!$B$2:$E$41,3,FALSE)","v":5},{"$f":"VLOOKUP($H73,'Mng&Soil'!$B$2:$F$41,5,FALSE)","v":6},{"$f":"VLOOKUP($H73,'Mng&Soil'!$B$2:$G$41,6,FALSE)","v":24},{"$f":"VLOOKUP(A73,pH_EC!$A72:$C148,2,FALSE)","v":{"v":36.22,"d":"36.2"}},{"$f":"VLOOKUP(A73,pH_EC!$A72:$C148,3,FALSE)","v":6.38},{"$f":"VLOOKUP($H73,Biomass!$A$2:$L$41,11,FALSE)","v":{"v":2600,"d":"2600.00"}},{"$f":"VLOOKUP($H73,Biomass!$A$2:$O$41,15,FALSE)","v":{"v":78,"d":"78.00"}},{"$f":"VLOOKUP($A73,Min_N_Corrected!$A$2:V$93,21,FALSE)","v":{"v":4.375876274846224,"d":"4.38"}},{"$f":"VLOOKUP($A73,Min_N_Corrected!$A$2:W$93,22,FALSE)","v":{"v":2.5816369644247805,"d":"2.58"}},{"v":6.957513239271004,"d":"6.96"},{"$f":"(VLOOKUP(A73,ISNT_Amino_N!A$2:O$103,15,FALSE))-Q73","v":{"v":269.35590443935564,"d":"269"}},{"$f":"VLOOKUP(A73,Protein!A$3:Q$86,17,FALSE)","v":{"v":210.62530921904946,"d":"211"}},{"v":16.4229889056903,"d":"16.42"},{"$f":"VLOOKUP(A73,WEON_WEOC!$B$2:$K$79,7,FALSE)","v":{"v":9.465475666419296,"d":"9.5"}},{"v":496.40420256409544,"d":"496"},{"$f":"VLOOKUP(A73,WEON_WEOC!$B73:$K$79,10,FALSE)","v":{"v":189.7986142992951,"d":"190"}},{"v":20.051672096379093,"d":"20.1"},{"$f":"VLOOKUP(A73,TC_TN!$A$2:$V$77,22,FALSE)","v":{"v":1911.6968801979292,"d":"1912"}},{"$f":"VLOOKUP(A73,TC_TN!$A$2:$V$77,16,FALSE)","v":{"v":20081.676805374744,"d":"20082"}},{"v":1904.7393669586581,"d":"1905"},{"v":10.50463439752832,"d":"10.5"},{"v":10.54300507131305,"d":"10.5"},{"$f":"VLOOKUP($A73,'CO2'!$A$3:$O$78,15,FALSE)","v":{"v":33.969479895263994,"d":"34.0"}},{"$f":"VLOOKUP($A73,Nmin_SHS!$E$2:$S$77,13,FALSE)","v":{"v":8.612681058198724,"d":"8.6"}},{"$f":"VLOOKUP($A73,Nmin_SHS!$E$2:$S$77,14,FALSE)","v":{"v":9.799108845584884,"d":"9.8"}}]
["Pa-0-T",20,0,1,"Pa","0-T","T","Pa-0",{"$f":"VLOOKUP($H74,'Mng&Soil'!$B$2:$E$41,3,FALSE)","v":4},{"$f":"VLOOKUP($H74,'Mng&Soil'!$B$2:$F$41,5,FALSE)","v":8},{"$f":"VLOOKUP($H74,'Mng&Soil'!$B$2:$G$41,6,FALSE)","v":41},{"$f":"VLOOKUP(A74,pH_EC!$A73:$C149,2,FALSE)","v":165.4},{"$f":"VLOOKUP(A74,pH_EC!$A73:$C149,3,FALSE)","v":{"v":7.6,"d":"7.60"}},{"$f":"VLOOKUP($H74,Biomass!$A$2:$L$41,11,FALSE)","v":{"v":13426.398210290829,"d":"13426.40"}},{"$f":"VLOOKUP($H74,Biomass!$A$2:$O$41,15,FALSE)","v":{"v":134.2639821029083,"d":"134.26"}},{"$f":"VLOOKUP($A74,Min_N_Corrected!$A$2:V$93,21,FALSE)","v":{"v":6.447382632509521,"d":"6.45"}},{"$f":"VLOOKUP($A74,Min_N_Corrected!$A$2:W$93,22,FALSE)","v":{"v":3.0820006210108297,"d":"3.08"}},{"v":9.52938325352035,"d":"9.53"},{"$f":"(VLOOKUP(A74,ISNT_Amino_N!A$2:O$103,15,FALSE))-Q74","v":{"v":683.229850692519,"d":"683"}},{"$f":"VLOOKUP(A74,Protein!A$3:Q$86,17,FALSE)","v":{"v":432.6012854975932,"d":"433"}},{"v":48.508036371027146,"d":"48.51"},{"$f":"VLOOKUP(A74,WEON_WEOC!$B$2:$K$79,7,FALSE)","v":{"v":38.978653117506795,"d":"39.0"}},{"v":1164.3391725611393,"d":"1164"},{"$f":"VLOOKUP(A74,WEON_WEOC!$B74:$K$79,10,FALSE)","v":{"v":471.1355483264032,"d":"471"}},{"v":12.087014574518438,"d":"12.1"},{"$f":"VLOOKUP(A74,TC_TN!$A$2:$V$77,22,FALSE)","v":{"v":4700.199630956937,"d":"4700"}},{"$f":"VLOOKUP(A74,TC_TN!$A$2:$V$77,16,FALSE)","v":{"v":68202.89677260918,"d":"68203"}},{"v":4690.670247703416,"d":"4691"},{"v":14.510638297872344,"d":"14.5"},{"v":14.54011754631479,"d":"14.5"},{"$f":"VLOOKUP($A74,'CO2'!$A$3:$O$78,15,FALSE)","v":{"v":150.11260366426805,"d":"150.1"}},{"$f":"VLOOKUP($A74,Nmin_SHS!$E$2:$S$77,13,FALSE)","v":{"v":61.989329972956284,"d":"62.0"}},{"$f":"VLOOKUP($A74,Nmin_SHS!$E$2:$S$77,14,FALSE)","v":{"v":69.42510076134923,"d":"69.4"}}]
["Pa-0-S",20,0,2,"Pa","0-S","S","Pa-0",{"$f":"VLOOKUP($H75,'Mng&Soil'!$B$2:$E$41,3,FALSE)","v":4},{"$f":"VLOOKUP($H75,'Mng&Soil'!$B$2:$F$41,5,FALSE)","v":8},{"$f":"VLOOKUP($H75,'Mng&Soil'!$B$2:$G$41,6,FALSE)","v":41},{"$f":"VLOOKUP(A75,pH_EC!$A74:$C150,2,FALSE)","v":76.4},{"$f":"VLOOKUP(A75,pH_EC!$A74:$C150,3,FALSE)","v":7.17},{"$f":"VLOOKUP($H75,Biomass!$A$2:$L$41,11,FALSE)","v":{"v":13426.398210290829,"d":"13426.40"}},{"$f":"VLOOKUP($H75,Biomass!$A$2:$O$41,15,FALSE)","v":{"v":134.2639821029083,"d":"134.26"}},{"$f":"VLOOKUP($A75,Min_N_Corrected!$A$2:V$93,21,FALSE)","v":{"v":5.165129283436553,"d":"5.17"}},{"$f":"VLOOKUP($A75,Min_N_Corrected!$A$2:W$93,22,FALSE)","v":{"v":2.1773869667065653,"d":"2.18"}},{"v":7.3425162501431185,"d":"7.34"},{"$f":"(VLOOKUP(A75,ISNT_Amino_N!A$2:O$103,15,FALSE))-Q75","v":{"v":438.0831437618281,"d":"438"}},{"$f":"VLOOKUP(A75,Protein!A$3:Q$86,17,FALSE)","v":{"v":308.9209651942416,"d":"309"}},{"v":30.766613555019248,"d":"30.77"},{"$f":"VLOOKUP(A75,WEON_WEOC!$B$2:$K$79,7,FALSE)","v":{"v":23.42409730487613,"d":"23.4"}},{"v":777.7707225110889,"d":"778"},{"$f":"VLOOKUP(A75,WEON_WEOC!$B75:$K$79,10,FALSE)","v":{"v":376.03638789467965,"d":"376"}},{"v":16.053399326359575,"d":"16.1"},{"$f":"VLOOKUP(A75,TC_TN!$A$2:$V$77,22,FALSE)","v":{"v":3030.074183555565,"d":"3030"}},{"$f":"VLOOKUP(A75,TC_TN!$A$2:$V$77,16,FALSE)","v":{"v":45451.11275333348,"d":"45451"}},{"v":3022.731667305422,"d":"3023"},{"v":15.000000000000002,"d":"15.0"},{"v":15.036436493832193,"d":"15.0"},{"$f":"VLOOKUP($A75,'CO2'!$A$3:$O$78,15,FALSE)","v":{"v":55.74955939772213,"d":"55.7"}},{"$f":"VLOOKUP($A75,Nmin_SHS!$E$2:$S$77,13,FALSE)","v":{"v":17.918240098246105,"d":"17.9"}},{"$f":"VLOOKUP($A75,Nmin_SHS!$E$2:$S$77,14,FALSE)","v":{"v":25.167710504252405,"d":"25.2"}}]
["Pa-1-T",20,1,1,"Pa","1-T","T","Pa-1",{"$f":"VLOOKUP($H76,'Mng&Soil'!$B$2:$E$41,3,FALSE)","v":4},{"$f":"VLOOKUP($H76,'Mng&Soil'!$B$2:$F$41,5,FALSE)","v":5},{"$f":"VLOOKUP($H76,'Mng&Soil'!$B$2:$G$41,6,FALSE)","v":43},{"$f":"VLOOKUP(A76,pH_EC!$A75:$C151,2,FALSE)","v":161.8},{"$f":"VLOOKUP(A76,pH_EC!$A75:$C151,3,FALSE)","v":7.45},{"$f":"VLOOKUP($H76,Biomass!$A$2:$L$41,11,FALSE)","v":{"v":12088.88888888889,"d":"12088.89"}},{"$f":"VLOOKUP($H76,Biomass!$A$2:$O$41,15,FALSE)","v":{"v":120.88888888888891,"d":"120.89"}},{"$f":"VLOOKUP($A76,Min_N_Corrected!$A$2:V$93,21,FALSE)","v":{"v":4.2771381826942605,"d":"4.28"}},{"$f":"VLOOKUP($A76,Min_N_Corrected!$A$2:W$93,22,FALSE)","v":{"v":2.771337290786468,"d":"2.77"}},{"v":7.048475473480728,"d":"7.05"},{"$f":"(VLOOKUP(A76,ISNT_Amino_N!A$2:O$103,15,FALSE))-Q76","v":{"v":659.135890110104,"d":"659"}},{"$f":"VLOOKUP(A76,Protein!A$3:Q$86,17,FALSE)","v":{"v":415.9447271624,"d":"416"}},{"v":42.53168692079793,"d":"42.53"},{"$f":"VLOOKUP(A76,WEON_WEOC!$B$2:$K$79,7,FALSE)","v":{"v":35.4832114473172,"d":"35.5"}},{"v":1117.612304193302,"d":"1118"},{"$f":"VLOOKUP(A76,WEON_WEOC!$B76:$K$79,10,FALSE)","v":{"v":471.1355483264032,"d":"471"}},{"v":13.277703147752275,"d":"13.3"},{"$f":"VLOOKUP(A76,TC_TN!$A$2:$V$77,22,FALSE)","v":{"v":4540.192835009467,"d":"4540"}},{"$f":"VLOOKUP(A76,TC_TN!$A$2:$V$77,16,FALSE)","v":{"v":68202.89677260918,"d":"68203"}},{"v":4533.144359535986,"d":"4533"},{"v":15.022026431718064,"d":"15.0"},{"v":15.045383813806108,"d":"15.0"},{"$f":"VLOOKUP($A76,'CO2'!$A$3:$O$78,15,FALSE)","v":{"v":188.06193696180657,"d":"188.1"}},{"$f":"VLOOKUP($A76,Nmin_SHS!$E$2:$S$77,13,FALSE)","v":{"v":71.38201122615271,"d":"71.4"}},{"$f":"VLOOKUP($A76,Nmin_SHS!$E$2:$S$77,14,FALSE)","v":{"v":79.94445695872838,"d":"79.9"}}]
["Pa-1-S",20,1,2,"Pa","1-S","S","Pa-1",{"$f":"VLOOKUP($H77,'Mng&Soil'!$B$2:$E$41,3,FALSE)","v":4},{"$f":"VLOOKUP($H77,'Mng&Soil'!$B$2:$F$41,5,FALSE)","v":5},{"$f":"VLOOKUP($H77,'Mng&Soil'!$B$2:$G$41,6,FALSE)","v":43},{"$f":"VLOOKUP(A77,pH_EC!$A76:$C152,2,FALSE)","v":79.3},{"$f":"VLOOKUP(A77,pH_EC!$A76:$C152,3,FALSE)","v":7.08},{"$f":"VLOOKUP($H77,Biomass!$A$2:$L$41,11,FALSE)","v":{"v":12088.88888888889,"d":"12088.89"}},{"$f":"VLOOKUP($H77,Biomass!$A$2:$O$41,15,FALSE)","v":{"v":120.88888888888891,"d":"120.89"}},{"$f":"VLOOKUP($A77,Min_N_Corrected!$A$2:V$93,21,FALSE)","v":{"v":3.680111093155665,"d":"3.68"}},{"$f":"VLOOKUP($A77,Min_N_Corrected!$A$2:W$93,22,FALSE)","v":{"v":1.7834047934191462,"d":"1.78"}},{"v":5.463515886574811,"d":"5.46"},{"$f":"(VLOOKUP(A77,ISNT_Amino_N!A$2:O$103,15,FALSE))-Q77","v":{"v":437.40412866643504,"d":"437"}},{"$f":"VLOOKUP(A77,Protein!A$3:Q$86,17,FALSE)","v":{"v":229.40022512323662,"d":"229"}},{"v":24.625858340535554,"d":"24.63"},{"$f":"VLOOKUP(A77,WEON_WEOC!$B$2:$K$79,7,FALSE)","v":{"v":19.162342453960743,"d":"19.2"}},{"v":691.4302121302072,"d":"691"},{"$f":"VLOOKUP(A77,WEON_WEOC!$B77:$K$79,10,FALSE)","v":{"v":379.4146903932676,"d":"379"}},{"v":19.80001616737858,"d":"19.8"},{"$f":"VLOOKUP(A77,TC_TN!$A$2:$V$77,22,FALSE)","v":{"v":3153.842501269839,"d":"3154"}},{"$f":"VLOOKUP(A77,TC_TN!$A$2:$V$77,16,FALSE)","v":{"v":44089.43088509877,"d":"44089"}},{"v":3148.378985383264,"d":"3148"},{"v":13.979591836734695,"d":"14.0"},{"v":14.003851216702108,"d":"14.0"},{"$f":"VLOOKUP($A77,'CO2'!$A$3:$O$78,15,FALSE)","v":{"v":61.69054257603327,"d":"61.7"}},{"$f":"VLOOKUP($A77,Nmin_SHS!$E$2:$S$77,13,FALSE)","v":{"v":16.55624431539354,"d":"16.6"}},{"$f":"VLOOKUP($A77,Nmin_SHS!$E$2:$S$77,14,FALSE)","v":{"v":23.0476109739269,"d":"23.0"}}]

{"sheet":"Notes","index":2,"n_rows":8,"n_cols":2,"rows_kept":8}
["Ki 1 and 0 might be swaped because of the very high min N content. "]
["Mo 0 and Ki 0 too high N contents. Could be analysed again?"]
[]
[null,"1. How does N differ across different horizons in diferent treatments"]
[null,"2. How does N differ across different management practices"]
[null,"3. What are the relations between N and C pools"]
[]
[null,"How much of the Amino N and Protein N is extracted by WEON?"]

{"sheet":"Biomass","index":3,"n_rows":41,"n_cols":15,"rows_kept":41}
["Site","Tila","Treat","Crop","Area (m2)","Fresh weight (g)","Container (g)","Subsample (g)","Dried sample + container (g)","Biomass g/m2","Biomass kg/ha","Dry-%",null,"N-%","N-uptake kg/ha"]
["AE-0","AE",0,"Grass",0.5766,1180,11,57,23,{"v":430.8377603738795,"d":"431"},{"v":4308.377603738795,"d":"4,308"},{"v":0.21052631578947367,"d":"21%"},null,{"v":0.03,"d":"3%"},{"$f":"K2*N2","v":129.25132811216386}]
["AE-1","AE",1,"Grass",0.5766,1270,11,77,25,{"v":400.4666855863526,"d":"400"},{"v":4004.666855863526,"d":"4,005"},{"v":0.18181818181818182,"d":"18%"},null,{"v":0.03,"d":"3%"},{"$f":"K3*N3","v":120.14000567590578}]
["Ai-0","Ai",0,"Wheat",0.5766,270,11,49,28,{"v":162.4583235999915,"d":"162"},{"v":1624.5832359999151,"d":"1,625"},{"v":0.3469387755102041,"d":"35%"},null,{"v":0.02,"d":"2%"},32.491664719998305]
["Ai-1","Ai",1,"Grass",0.5766,770,11,74,46,{"v":631.6149656420207,"d":"632"},{"v":6316.149656420207,"d":"6,316"},{"v":0.47297297297297297,"d":"47%"},null,{"v":0.03,"d":"3%"},189.48448969260622]
["Ik-0","Ik",0,"Rapeseed",0.5766,1920,11,78,23,{"v":512.2868806531658,"d":"512"},{"v":5122.868806531657,"d":"5,123"},{"v":0.15384615384615385,"d":"15%"},null,{"v":0.035,"d":"4%"},179.30040822860803]
["Ik-1","Ik",1,"Grass",0.5766,1640,11,76,36,{"v":935.6116618288698,"d":"936"},{"v":9356.116618288697,"d":"9,356"},{"v":0.32894736842105265,"d":"33%"},null,{"v":0.03,"d":"3%"},280.6834985486609]
["Ja-0","Ja",0,"Peas",0.5766,null,11,{"$nulls":6},{"v":0.03,"d":"3%"},0]
["Ja-1","Ja",1,"Grass",0.5766,null,11,{"$nulls":6},{"v":0.03,"d":"3%"},0]
["Jn-0","Jn",0,"Pasture",0.5766,530,11,80,33,{"v":252.77488727020466,"d":"253"},{"v":2527.748872702047,"d":"2,528"},{"v":0.275,"d":"28%"},null,{"v":0.025,"d":"3%"},63.19372181755117]
["Jn-1","Jn",1,"Pasture",0.5766,1630,11,61,30,{"v":880.5149462934216,"d":"881"},{"v":8805.149462934216,"d":"8,805"},{"v":0.3114754098360656,"d":"31%"},null,{"v":0.025,"d":"3%"},220.1287365733554]
["Ki-0","Ki",0,"Spelt",0.5766,210,11,49,23,{"v":89.19280511372082,"d":"89"},{"v":891.9280511372083,"d":"892"},{"v":0.24489795918367346,"d":"24%"},null,{"v":0.02,"d":"2%"},17.838561022744166]
["Ki-1","Ki",1,"Spelt",0.5766,410,11,52,22,{"v":150.41756717094907,"d":"150"},{"v":1504.1756717094906,"d":"1,504"},{"v":0.21153846153846154,"d":"21%"},null,{"v":0.02,"d":"2%"},30.083513434189815]
["Ko-0","Ko",0,"Grass",0.375,370,11,68,27,{"v":232.15686274509804,"d":"232"},{"v":2321.5686274509803,"d":"2,322"},{"v":0.23529411764705882,"d":"24%"},null,{"v":0.03,"d":"3%"},69.6470588235294]
["Ko-1","Ko",1,"Grass",0.375,390,11,60,26,260,{"v":2600,"d":"2,600"},{"v":0.25,"d":"25%"},null,{"v":0.03,"d":"3%"},78]
["KP-0","KP",0,"Oats",0.8999999999999999,610,10,51,25,{"v":199.3464052287582,"d":"199"},{"v":1993.4640522875818,"d":"1,993"},{"v":0.29411764705882354,"d":"29%"},null,{"v":0.03,"d":"3%"},59.80392156862745]
["KP-1","KP",1,"Oats",0.8999999999999999,620,10,51,27,{"v":229.62962962962965,"d":"230"},{"v":2296.2962962962965,"d":"2,296"},{"v":0.3333333333333333,"d":"33%"},null,{"v":0.03,"d":"3%"},68.8888888888889]
["La-0","La",0,"Grass",0.375,190,11,86,39,{"v":164.96124031007753,"d":"165"},{"v":1649.6124031007753,"d":"1,650"},{"v":0.32558139534883723,"d":"33%"},null,{"v":0.03,"d":"3%"},49.48837209302326]
["La-1","La",1,"Grass",0.375,290,11,67,27,{"v":184.67661691542287,"d":"185"},{"v":1846.7661691542287,"d":"1,847"},{"v":0.23880597014925373,"d":"24%"},null,{"v":0.03,"d":"3%"},55.40298507462686]
["Li-0","Li",0,"Grass",0.5766,130,11,45,23,{"v":60.1225575211007,"d":"60"},{"v":601.225575211007,"d":"601"},{"v":0.26666666666666666,"d":"27%"},null,{"v":0.03,"d":"3%"},18.03676725633021]
["Li-1","Li",1,"Grass",0.5766,170,12,52,24,{"v":68.03810133674858,"d":"68"},{"v":680.3810133674858,"d":"680"},{"v":0.23076923076923078,"d":"23%"},null,{"v":0.03,"d":"3%"},20.411430401024575]
["Mi-0","Mi",0,"Pasture",0.5766,520,11,46,25,{"v":274.47254520502497,"d":"274"},{"v":2744.7254520502497,"d":"2,745"},{"v":0.30434782608695654,"d":"30%"},null,{"v":0.025,"d":"3%"},68.61813630125624]
["Mi-1","Mi",1,"Pasture",0.5766,1900,11,49,26,{"v":1008.7281530718426,"d":"1,009"},{"v":10087.281530718425,"d":"10,087"},{"v":0.30612244897959184,"d":"31%"},null,{"v":0.025,"d":"3%"},252.18203826796062]
["Mo-0","Mo",0,"Rapeseed",0.5766,220,11,50,24,{"v":99.20221990981616,"d":"99"},{"v":992.0221990981616,"d":"992"},{"v":0.26,"d":"26%"},null,{"v":0.035,"d":"4%"},34.72077696843566]
["Mo-1","Mo",1,"Grass",0.5766,906,10,50,34,{"v":754.2143600416233,"d":"754"},{"v":7542.143600416232,"d":"7,542"},{"v":0.48,"d":"48%"},null,{"v":0.03,"d":"3%"},226.26430801248696]
["Mu-0","Mu",0,"Grass",0.5766,370,11,47,26,{"v":204.79553656430582,"d":"205"},{"v":2047.9553656430583,"d":"2,048"},{"v":0.3191489361702128,"d":"32%"},null,{"v":0.03,"d":"3%"},61.438660969291746]
["Mu-1","Mu",1,"Grass",0.5766,510,11,64,27,{"v":221.1238293444329,"d":"221"},{"v":2211.238293444329,"d":"2,211"},{"v":0.25,"d":"25%"},null,{"v":0.03,"d":"3%"},66.33714880332987]
["Na-0","Na",0,"Oats",0.5766,1830,11,53,23,{"v":718.5910902558263,"d":"719"},{"v":7185.910902558264,"d":"7,186"},{"v":0.22641509433962265,"d":"23%"},null,{"v":0.016,"d":"2%"},114.97457444093223]
["Na-1","Na",1,"Oats",0.5766,1570,11,82,32,{"v":697.3173269713966,"d":"697"},{"v":6973.173269713966,"d":"6,973"},{"v":0.25609756097560976,"d":"26%"},null,{"v":0.016,"d":"2%"},111.57077231542345]
["Ne-0","Ne",0,"Barley",0.5766,2000,11,77,35,{"v":1081.1249104693434,"d":"1,081"},{"v":10811.249104693434,"d":"10,811"},{"v":0.3116883116883117,"d":"31%"},null,{"v":0.016,"d":"2%"},172.97998567509495]
["Ne-1","Ne",1,"Barley",0.5766,1700,11,66,31,{"v":893.4296135128601,"d":"893"},{"v":8934.296135128601,"d":"8,934"},{"v":0.30303030303030304,"d":"30%"},null,{"v":0.016,"d":"2%"},142.94873816205762]
["Ni-0","Ni",0,"Pasture",0.5766,0,0,0,0,{"$nulls":4},{"v":0.025,"d":"3%"},0]
["Ni-1","Ni",1,"Pasture",0.5766,null,11,{"$nulls":6},{"v":0.025,"d":"3%"},0]
["Pa-0","Pa",0,"Oats",0.375,1210,11,149,73,{"v":1342.639821029083,"d":"1,343"},{"v":13426.398210290829,"d":"13,426"},{"v":0.4161073825503356,"d":"42%"},null,{"v":0.01,"d":"1%"},134.2639821029083]
["Pa-1","Pa",1,"Oats",0.375,1360,11,102,45,{"v":1208.888888888889,"d":"1,209"},{"v":12088.88888888889,"d":"12,089"},{"v":0.3333333333333333,"d":"33%"},null,{"v":0.01,"d":"1%"},120.88888888888891]
["Pi-0","Pi",0,"Rye",0.5766,930,10,43,31,{"v":787.6969242310577,"d":"788"},{"v":7876.969242310577,"d":"7,877"},{"v":0.4883720930232558,"d":"49%"},null,{"v":0.014,"d":"1%"},110.27756939234808]
["Pi-1","Pi",1,"Rye",0.5766,1020,11,37,28,{"v":812.7794808335913,"d":"813"},{"v":8127.794808335912,"d":"8,128"},{"v":0.4594594594594595,"d":"46%"},null,{"v":0.014,"d":"1%"},113.78912731670277]
["Pu-0","Pu",0,"Barley",0.5766,400,11,53,27,{"v":209.42545435506779,"d":"209"},{"v":2094.2545435506777,"d":"2,094"},{"v":0.3018867924528302,"d":"30%"},null,{"v":0.02,"d":"2%"},41.88509087101355]
["Pu-1","Pu",1,"Barley",0.5766,590,11,80,36,{"v":319.7624002774887,"d":"320"},{"v":3197.6240027748872,"d":"3,198"},{"v":0.3125,"d":"31%"},null,{"v":0.02,"d":"2%"},63.952480055497745]
["Si-0","Si",0,"Oats",0.5766,890,11,48,31,{"v":643.1379350213898,"d":"643"},{"v":6431.379350213899,"d":"6,431"},{"v":0.4166666666666667,"d":"42%"},null,{"v":0.02,"d":"2%"},128.62758700427798]
["Si-1","Si",1,"Oats",0.5766,860,11,63,33,{"v":520.8419360344438,"d":"521"},{"v":5208.419360344439,"d":"5,208"},{"v":0.3492063492063492,"d":"35%"},null,{"v":0.02,"d":"2%"},104.16838720688878]

{"sheet":"Mng&Soil","index":4,"n_rows":41,"n_cols":7,"rows_kept":41}
["Site","Site","Management","Management","Soil type USDA","attribute","Clay content"]
[1,"AE-0",0,1,"Silty clay loam",1,{"v":35.067212156634255,"d":"35.07"}]
[1,"AE-1","Subsoiling",1,"Silty clay loam",1,{"v":32.96455181756622,"d":"32.96"}]
[2,"Ai-0",0,2,"Sandy loam",2,{"v":18,"d":"18.00"}]
[2,"Ai-1","Ley in rotation",2,"Loam",3,{"v":26,"d":"26.00"}]
[3,"Ik-0",0,2,"Silt loam",6,{"v":13,"d":"13.00"}]
[3,"Ik-1","Ley in rotation",2,"Silt loam",6,{"v":13,"d":"13.00"}]
[4,"Ja-0",0,2,"Clay",5,{"v":53,"d":"53.00"}]
[4,"Ja-1","Ley in rotation",2,"Clay",5,{"v":58,"d":"58.00"}]
[5,"Jn-0",0,3,"Silt loam",6,{"v":11,"d":"11.00"}]
[5,"Jn-1","Grazing",3,"Silt loam",6,{"v":23,"d":"23.00"}]
[6,"Ki-0",0,4,"Sandy loam",2,{"v":6,"d":"6.00"}]
[6,"Ki-1","Org.amendments",4,"Loamy sand",7,{"v":4,"d":"4.00"}]
[7,"Ko-0",0,5,"Silt loam",6,{"v":17,"d":"17.00"}]
[7,"Ko-1","Diverse grass",5,"Silt loam",6,{"v":24,"d":"24.00"}]
[8,"KP-0",0,1,"Clay",5,{"v":58,"d":"58.00"}]
[8,"KP-1","Subsoiling",1,"Clay",5,{"v":59,"d":"59.00"}]
[9,"La-0",0,1,"Silty clay loam",1,{"v":29,"d":"29.00"}]
[9,"La-1","Subsoiling",1,"Silt loam",6,{"v":23,"d":"23.00"}]
[10,"Li-0",0,4,"Clay",5,{"v":49,"d":"49.00"}]
[10,"Li-1","Org.amendments",4,"Clay",5,{"v":57,"d":"57.00"}]
[11,"Mi-0",0,3,"Silty clay",8,{"v":47,"d":"47.00"}]
[11,"Mi-1","Grazing",3,"Silty clay loam",1,{"v":35,"d":"35.00"}]
[12,"Mo-0",0,2,"Silty clay",8,{"v":44,"d":"44.00"}]
[12,"Mo-1","Ley in rotation",2,"Silty clay",8,{"v":43,"d":"43.00"}]
[13,"Mu-0",0,5,"Silty clay",8,{"v":54,"d":"54.00"}]
[13,"Mu-1","Diverse grass",5,"Silty clay loam",1,{"v":37,"d":"37.00"}]
[14,"Na-0",0,6,"Silty clay loam",1,{"v":35,"d":"35.00"}]
[14,"Na-1","Cover crops",6,"Silty clay loam",1,{"v":37,"d":"37.00"}]
[15,"Ne-0",0,6,"Silty clay loam",1,{"v":29,"d":"29.00"}]
[15,"Ne-1","Cover crops",6,"Silty clay loam",1,{"v":32,"d":"32.00"}]
[16,"Ni-0",0,3,"Silt loam",6,{"v":15,"d":"15.00"}]
[16,"Ni-1","Grazing",3,"Silt loam",6,{"v":18,"d":"18.00"}]
[17,"Pa-0",0,4,"Silty clay",8,{"v":41,"d":"41.00"}]
[17,"Pa-1","Org.amendments",4,"Clay",5,{"v":43,"d":"43.00"}]
[18,"Pi-0",0,4,"Clay loam",9,{"v":37,"d":"37.00"}]
[18,"Pi-1","Org.amendments",4,"Clay",5,{"v":46,"d":"46.00"}]
[19,"Pu-0",0,6,"silty clay loam",1,{"v":32,"d":"32.00"}]
[19,"Pu-1","Cover crops",6,"silty clay loam",1,{"v":40,"d":"40.00"}]
[20,"Si-0",0,6,"Clay",5,{"v":58,"d":"58.00"}]
[20,"Si-1","Cover crops",6,"Clay",5,{"v":63,"d":"63.00"}]

{"sheet":"Mass","index":5,"n_rows":78,"n_cols":19,"rows_kept":78,"merged":[[0,3,0,9],[0,10,0,16]]}
[{"$nulls":3},"105 Celsius",{"$nulls":6},"air-dry 30 Celsius"]
["Sample","Sampling depth (m)","Sampling depth (cm)","crucible (g)","fresh (g)","dry (g)","NO crucible dry (g)","water (g)","water (%)","DM%","tray (g)","fresh (g)","dry (g)","NO tray fresh (g)","No tray dry (g)","water (g)","water (%)","water left in air-dry soil (%)","air dry soil DM (%)"]
["Pu-0-T",{"$f":"C3/100","v":0.17},17,6.27,10.01,15.38,{"$f":"F3-D3","v":9.110000000000001},{"$f":"E3-G3","v":{"v":0.8999999999999986,"d":"0.90"}},{"$f":"(1-(G3/E3))*100","v":{"v":8.991008991008975,"d":"8.99"}},{"$f":"100-I3","v":{"v":91.00899100899102,"d":"91.009"}},19.41,361.3,337.9,{"$f":"L3-K3","v":341.89},{"$f":"M3-K3","v":318.48999999999995},{"$f":"N3-O3","v":23.400000000000034},{"$f":"(1-(O3/N3))*100","v":{"v":6.844306648337195,"d":"6.844"}},{"$f":"I3-Q3","v":{"v":2.14670234267178,"d":"2.147"}},{"$f":"100-R3","v":{"v":97.85329765732823,"d":"97.853"}}]
["Pu-0-S",{"$f":"C4/100","v":0.13},13,6.17,{"$f":"'CALC mass'!T12","v":{"v":11.464875026108755,"d":"11.46"}},15.92,9.75,{"$f":"E4-G4","v":{"v":1.7148750261087553,"d":"1.71"}},{"$f":"(1-(G4/E4))*100","v":{"v":14.957642557842988,"d":"14.96"}},{"$f":"100-I4","v":{"v":85.04235744215701,"d":"85.042"}},19.28,348.62,306.54,329.34000000000003,287.26,{"$f":"N4-O4","v":42.08000000000004},{"$f":"(1-(O4/N4))*100","v":{"v":12.777069290095355,"d":"12.777"}},{"v":2.180573267747633,"d":"2.181"},{"$f":"100-R4","v":{"v":97.81942673225237,"d":"97.819"}}]
["Pu-1-T",0.17,17,5.23,10.01,14.17,8.94,{"v":1.0700000000000003,"d":"1.07"},{"v":10.689310689310695,"d":"10.69"},{"v":89.3106893106893,"d":"89.311"},19.08,353.73,328.13,334.65000000000003,309.05,25.600000000000023,{"$f":"(1-(O5/N5))*100","v":{"v":7.649783355744811,"d":"7.650"}},{"v":3.039527333565884,"d":"3.040"},{"v":96.96047266643411,"d":"96.960"}]
["Pu-1-S",0.13,13,6.63,10.01,15.12,8.489999999999998,{"v":1.5200000000000014,"d":"1.52"},{"v":15.184815184815204,"d":"15.18"},{"v":84.8151848151848,"d":"84.815"},19.27,318.47,281.8,299.20000000000005,262.53000000000003,36.670000000000016,{"v":12.256016042780749,"d":"12.256"},{"v":2.928799142034455,"d":"2.929"},{"v":97.07120085796555,"d":"97.071"}]
["Mo-0-T",0.17,17,6.87,10,15.37,8.5,{"v":1.5,"d":"1.50"},{"v":15.000000000000002,"d":"15.00"},{"v":85,"d":"85.000"},19.23,339.52,299.12,{"$f":"L7-K7","v":320.28999999999996},{"$f":"M7-K7","v":279.89},40.39999999999998,{"v":12.613568953136213,"d":"12.614"},{"v":2.3864310468637893,"d":"2.386"},{"v":97.61356895313621,"d":"97.614"}]
["Mo-0-S",0.13,13,5.92,10,14.1,8.18,{"v":1.8200000000000003,"d":"1.82"},{"v":18.200000000000006,"d":"18.20"},{"v":81.8,"d":"81.800"},19.36,337.32,289.86,{"$f":"L8-K8","v":317.96},{"$f":"M8-K8","v":270.5},47.45999999999998,{"v":14.92640583721222,"d":"14.926"},{"v":3.273594162787786,"d":"3.274"},{"v":96.72640583721221,"d":"96.726"}]
["Mo-1-T",0.17,17,6.16,10.01,14.76,8.6,{"v":1.4100000000000001,"d":"1.41"},{"v":14.085914085914087,"d":"14.09"},{"v":85.91408591408592,"d":"85.914"},19.32,297.75,265.04,278.43,245.72000000000003,32.70999999999998,{"v":11.748015659232113,"d":"11.748"},{"v":2.3378984266819742,"d":"2.338"},{"v":97.66210157331803,"d":"97.662"}]
["Mo-1-S",0.13,13,6.03,10,14.26,8.23,{"v":1.7699999999999996,"d":"1.77"},{"v":17.699999999999992,"d":"17.70"},{"v":82.30000000000001,"d":"82.300"},19.37,322.67,295.67,303.3,276.3,27,{"v":8.902077151335309,"d":"8.902"},{"v":8.797922848664683,"d":"8.798"},{"v":91.20207715133532,"d":"91.202"}]
["Si-0-T",0.17,17,6.23,10.02,14.66,8.43,{"v":1.5899999999999999,"d":"1.59"},{"v":15.86826347305389,"d":"15.87"},{"v":84.13173652694611,"d":"84.132"},19.36,303.46,287.58,284.09999999999997,268.21999999999997,15.879999999999995,{"v":5.5895811334037315,"d":"5.590"},{"v":10.278682339650159,"d":"10.279"},{"v":89.72131766034984,"d":"89.721"}]
["Si-0-S",0.13,13,6.63,10.01,14.81,8.18,1.83,{"v":18.281718281718284,"d":"18.28"},{"v":81.71828171828172,"d":"81.718"},19.13,263.94,247.35,244.81,228.22,16.590000000000003,{"v":6.776683958988605,"d":"6.777"},{"v":11.505034322729678,"d":"11.505"},{"v":88.49496567727033,"d":"88.495"}]
["Si-1-T",0.17,17,6.57,10.01,14.91,8.34,1.67,{"v":16.683316683316683,"d":"16.68"},{"v":83.31668331668331,"d":"83.317"},19.98,399.25,377.01,379.27,357.03,22.24000000000001,{"v":5.863896432620564,"d":"5.864"},{"v":10.819420250696119,"d":"10.819"},{"v":89.18057974930389,"d":"89.181"}]
["Si-1-S",0.13,13,5.83,10.01,13.88,8.05,{"v":1.959999999999999,"d":"1.96"},{"v":19.580419580419573,"d":"19.58"},{"v":80.41958041958043,"d":"80.420"},19.1,380.13,352.69,361.03,333.59,27.439999999999998,{"v":7.600476414702384,"d":"7.600"},{"v":11.979943165717188,"d":"11.980"},{"v":88.02005683428281,"d":"88.020"}]
["Mi-0-T",0.17,17,6.78,10,15.34,8.559999999999999,{"v":1.4400000000000013,"d":"1.44"},{"v":14.400000000000013,"d":"14.40"},{"v":85.6,"d":"85.600"},19.41,354.82,315.2,335.40999999999997,295.78999999999996,39.620000000000005,{"v":11.812408693837394,"d":"11.812"},{"v":2.5875913061626186,"d":"2.588"},{"v":97.41240869383738,"d":"97.412"}]
["Mi-0-S",0.13,13,5.68,10,14.22,8.540000000000001,{"v":1.459999999999999,"d":"1.46"},{"v":14.59999999999999,"d":"14.60"},{"v":85.4,"d":"85.400"},19.28,403.99,376.73,384.71000000000004,357.45000000000005,27.25999999999999,{"v":7.085856879207708,"d":"7.086"},{"v":7.514143120792283,"d":"7.514"},{"v":92.48585687920772,"d":"92.486"}]
["Mi-1-T",0.17,17,6.5,10,15.02,8.52,{"v":1.4800000000000004,"d":"1.48"},{"v":14.800000000000002,"d":"14.80"},{"v":85.2,"d":"85.200"},19.08,408.56,381.17,389.48,362.09000000000003,27.389999999999986,{"v":7.032453527780625,"d":"7.032"},{"v":7.767546472219378,"d":"7.768"},{"v":92.23245352778062,"d":"92.232"}]
["Mi-1-S",0.13,13,6.53,10,15.01,8.48,{"v":1.5199999999999996,"d":"1.52"},{"v":15.199999999999992,"d":"15.20"},{"v":84.80000000000001,"d":"84.800"},19.27,355.84,329.78,336.57,310.51,26.060000000000002,{"v":7.742817244555367,"d":"7.743"},{"v":7.4571827554446255,"d":"7.457"},{"v":92.54281724455538,"d":"92.543"}]
["Li-0-T",0.17,17,6.51,10.01,15.08,8.57,{"v":1.4399999999999995,"d":"1.44"},{"v":14.385614385614376,"d":"14.39"},{"v":85.61438561438563,"d":"85.614"},19.23,416.95,391.93,397.71999999999997,372.7,25.019999999999982,{"v":6.290857889972845,"d":"6.291"},{"v":8.094756495641532,"d":"8.095"},{"v":91.90524350435847,"d":"91.905"}]
["Li-0-S",0.13,13,6.16,10,14.46,8.3,{"v":1.6999999999999993,"d":"1.70"},{"v":16.999999999999993,"d":"17.00"},{"v":83,"d":"83.000"},19.36,476.18,436.76,456.82,417.4,39.420000000000016,{"v":8.629219386191501,"d":"8.629"},{"v":8.370780613808492,"d":"8.371"},{"v":91.62921938619151,"d":"91.629"}]
["Li-1-T",0.17,17,6.02,10,14.44,8.42,1.58,{"v":15.800000000000002,"d":"15.80"},{"v":84.2,"d":"84.200"},19.32,410.5,384.41,391.18,365.09000000000003,26.089999999999975,{"v":6.6695638836341224,"d":"6.670"},{"v":9.13043611636588,"d":"9.130"},{"v":90.86956388363411,"d":"90.870"}]
["Li-1-S",0.13,13,6.97,10.01,15.29,8.32,{"v":1.6899999999999995,"d":"1.69"},{"v":16.883116883116877,"d":"16.88"},{"v":83.11688311688312,"d":"83.117"},19.37,411.87,376.74,392.5,357.37,35.129999999999995,{"v":8.950318471337582,"d":"8.950"},{"v":7.932798411779295,"d":"7.933"},{"v":92.06720158822071,"d":"92.067"}]
["Ai-0-T",0.17,17,6.21,10.02,15.15,8.940000000000001,{"v":1.0799999999999983,"d":"1.08"},{"v":10.77844311377244,"d":"10.78"},{"v":89.22155688622756,"d":"89.222"},19.41,399.08,364.15,379.66999999999996,344.73999999999995,34.93000000000001,{"v":9.20009481918509,"d":"9.200"},{"v":1.5783482945873502,"d":"1.578"},{"v":98.42165170541264,"d":"98.422"}]
["Ai-0-S",0.13,13,6.16,10,15.22,9.06,{"v":0.9399999999999995,"d":"0.94"},{"v":9.399999999999997,"d":"9.40"},{"v":90.60000000000001,"d":"90.600"},19.28,508.96,472.79,489.67999999999995,453.51,36.16999999999996,{"v":7.386456461362512,"d":"7.386"},{"v":2.013543538637485,"d":"2.014"},{"v":97.98645646136251,"d":"97.986"}]
["Ai-1-T",0.17,17,6.17,10.03,14.79,8.62,{"v":1.4100000000000001,"d":"1.41"},{"v":14.057826520438688,"d":"14.06"},{"v":85.94217347956132,"d":"85.942"},19.08,346.56,307.99,327.48,288.91,38.56999999999999,{"v":11.777818492732372,"d":"11.778"},{"v":2.280008027706316,"d":"2.280"},{"v":97.71999197229368,"d":"97.720"}]
["Ai-1-S",0.13,13,6.52,10,15.45,8.93,{"v":1.0700000000000003,"d":"1.07"},{"v":10.7,"d":"10.70"},{"v":89.3,"d":"89.300"},19.27,424.75,388.7,405.48,369.43,36.05000000000001,{"v":8.89069744500346,"d":"8.891"},{"v":1.80930255499654,"d":"1.809"},{"v":98.19069744500347,"d":"98.191"}]
["Pi-0-T",0.17,17,5.68,10.01,13.83,8.15,{"v":1.8599999999999994,"d":"1.86"},{"v":18.581418581418575,"d":"18.58"},{"v":81.41858141858143,"d":"81.419"},19.23,450.58,398.23,431.34999999999997,379,52.349999999999966,{"v":12.136316216529497,"d":"12.136"},{"v":6.4451023648890775,"d":"6.445"},{"v":93.55489763511092,"d":"93.555"}]
["Pi-0-S",0.13,13,6.88,10,15.1,8.219999999999999,{"v":1.7800000000000011,"d":"1.78"},{"v":17.800000000000015,"d":"17.80"},{"v":82.19999999999999,"d":"82.200"},19.36,410.36,362.35,391,342.99,48.00999999999999,{"v":12.278772378516623,"d":"12.279"},{"v":5.521227621483392,"d":"5.521"},{"v":94.47877237851661,"d":"94.479"}]
["Pi-1-T",0.17,17,6.03,10.01,14.1,8.07,{"v":1.9399999999999995,"d":"1.94"},{"v":19.38061938061938,"d":"19.38"},{"v":80.61938061938062,"d":"80.619"},19.32,324.15,287.09,304.83,267.77,37.06,{"v":12.157596037135454,"d":"12.158"},{"v":7.223023343483925,"d":"7.223"},{"v":92.77697665651607,"d":"92.777"}]
["Pi-1-S",0.13,13,6.97,10.01,15.1,8.129999999999999,{"v":1.8800000000000008,"d":"1.88"},{"v":18.78121878121879,"d":"18.78"},{"v":81.2187812187812,"d":"81.219"},19.37,419.49,367.54,400.12,348.17,51.94999999999999,{"v":12.983604918524438,"d":"12.984"},{"v":5.797613862694352,"d":"5.798"},{"v":94.20238613730565,"d":"94.202"}]
["Ja-0-T",0.17,17,6.63,10.01,14.42,7.79,{"v":2.2199999999999998,"d":"2.22"},{"v":22.177822177822172,"d":"22.18"},{"v":77.82217782217782,"d":"77.822"},19.36,345.75,290.98,326.39,271.62,54.76999999999998,{"v":16.780538619442996,"d":"16.781"},{"v":5.397283558379176,"d":"5.397"},{"v":94.60271644162083,"d":"94.603"}]
["Ja-1-T",0.17,17,5.92,10,13.79,7.869999999999999,{"v":2.130000000000001,"d":"2.13"},{"v":21.300000000000008,"d":"21.30"},{"v":78.69999999999999,"d":"78.700"},19.13,360.31,305.88,341.18,286.75,54.43000000000001,{"v":15.953455653907033,"d":"15.953"},{"v":5.3465443460929745,"d":"5.347"},{"v":94.65345565390703,"d":"94.653"}]
["Mu-0-T",0.17,17,6.27,10,14.24,7.970000000000001,{"v":2.0299999999999994,"d":"2.03"},{"v":20.299999999999997,"d":"20.30"},{"v":79.7,"d":"79.700"},19.06,359.61,305.01,340.55,285.95,54.60000000000002,{"v":16.03288797533402,"d":"16.033"},{"v":4.267112024665977,"d":"4.267"},{"v":95.73288797533402,"d":"95.733"}]
["Mu-0-S",0.13,13,6.51,10.01,14.49,7.98,{"v":2.0299999999999994,"d":"2.03"},{"v":20.27972027972027,"d":"20.28"},{"v":79.72027972027973,"d":"79.720"},19.17,391.95,334.68,372.78,315.51,57.26999999999998,{"v":15.362948656043773,"d":"15.363"},{"v":4.916771623676496,"d":"4.917"},{"v":95.0832283763235,"d":"95.083"}]
["Mu-1-T",0.17,17,6.59,10.01,14.49,{"$f":"F35-D35","v":7.9},{"v":2.1099999999999994,"d":"2.11"},{"v":21.078921078921077,"d":"21.08"},{"v":78.92107892107893,"d":"78.921"},19.27,366.45,313.27,347.18,294,53.18000000000001,{"v":15.31770263264013,"d":"15.318"},{"$f":"I35-Q35","v":{"v":5.761218446280948,"d":"5.761"}},{"v":94.23878155371905,"d":"94.239"}]
["Mu-1-S",0.13,13,6.62,10.01,14.52,7.8999999999999995,{"v":2.1100000000000003,"d":"2.11"},{"v":21.078921078921088,"d":"21.08"},{"v":78.92107892107892,"d":"78.921"},17.81,416.71,354.6,398.9,336.79,62.10999999999996,{"v":15.570318375532711,"d":"15.570"},{"v":5.508602703388377,"d":"5.509"},{"v":94.49139729661162,"d":"94.491"}]
["Kp-0-T",0.17,17,5.84,10,14.23,8.39,{"v":1.6099999999999994,"d":"1.61"},{"v":16.09999999999999,"d":"16.10"},{"v":83.9,"d":"83.900"},17.86,447.34,397.03,429.47999999999996,379.16999999999996,50.31,{"v":11.714165968147528,"d":"11.714"},{"v":4.385834031852463,"d":"4.386"},{"v":95.61416596814753,"d":"95.614"}]
["Kp-0-S",0.13,13,6.79,10.01,15.02,8.23,{"v":1.7799999999999994,"d":"1.78"},{"v":17.782217782217778,"d":"17.78"},{"v":82.21778221778223,"d":"82.218"},17.76,477.38,415.92,459.62,398.16,61.45999999999998,{"v":13.371915930551326,"d":"13.372"},{"v":4.410301851666452,"d":"4.410"},{"v":95.58969814833355,"d":"95.590"}]
["Kp-1-T",0.17,17,6.57,10,14.97,8.4,{"v":1.5999999999999996,"d":"1.60"},{"v":15.999999999999993,"d":"16.00"},{"v":84,"d":"84.000"},19.85,390.97,347,371.12,327.15,43.97000000000003,{"v":11.847919810303953,"d":"11.848"},{"v":4.15208018969604,"d":"4.152"},{"$f":"100-R39","v":{"v":95.84791981030396,"d":"95.848"}}]
["Kp-1-S",0.13,13,6.03,10,14.21,8.18,{"v":1.8200000000000003,"d":"1.82"},{"v":18.200000000000006,"d":"18.20"},{"v":81.8,"d":"81.800"},19.74,406.13,352.98,386.39,333.24,53.14999999999998,{"v":13.755531975465196,"d":"13.756"},{"v":4.44446802453481,"d":"4.444"},{"v":95.55553197546519,"d":"95.556"}]
["Ki-0-T",0.17,17,5.23,10.01,14.23,9,{"v":1.0099999999999998,"d":"1.01"},{"v":10.089910089910092,"d":"10.09"},{"v":89.91008991008991,"d":"89.910"},19.9,437.61,400.51,417.71000000000004,380.61,37.10000000000002,{"v":8.881760072777766,"d":"8.882"},{"v":1.2081500171323256,"d":"1.208"},{"v":98.79184998286767,"d":"98.792"}]
["Ki-0-S",0.13,13,6.17,10,15.23,9.06,{"v":0.9399999999999995,"d":"0.94"},{"v":9.399999999999997,"d":"9.40"},{"v":90.60000000000001,"d":"90.600"},19.88,498.11,459.13,478.23,439.25,38.98000000000002,{"v":8.150889739246814,"d":"8.151"},{"v":1.2491102607531825,"d":"1.249"},{"v":98.75088973924682,"d":"98.751"}]
["Ki-1-T",0.17,17,6.82,10.01,15.86,9.04,{"v":0.9700000000000006,"d":"0.97"},{"v":9.690309690309695,"d":"9.69"},{"v":90.30969030969031,"d":"90.310"},19.96,376.8,347.54,356.84000000000003,327.58000000000004,29.25999999999999,{"v":8.199753390875465,"d":"8.200"},{"v":1.49055629943423,"d":"1.491"},{"v":98.50944370056577,"d":"98.509"}]
["Ki-1-S",0.13,13,6.73,10,15.96,9.23,{"v":0.7699999999999996,"d":"0.77"},{"v":7.699999999999996,"d":"7.70"},{"v":92.30000000000001,"d":"92.300"},19.98,{"$f":"'CALC mass'!J6","v":{"v":435.5021367521367,"d":"435.50"}},407.63,{"v":415.5221367521367,"d":"415.52"},387.65,{"v":27.872136752136726,"d":"27.87"},{"v":6.707738117154216,"d":"6.708"},{"v":0.9922618828457797,"d":"0.992"},{"v":99.00773811715422,"d":"99.008"}]
["Na-0-T",0.17,17,5.69,10.01,13.44,7.749999999999999,{"v":2.2600000000000007,"d":"2.26"},{"v":22.57742257742259,"d":"22.58"},{"v":77.4225774225774,"d":"77.423"},19.41,345.19,279.29,325.78,259.88,65.89999999999998,{"v":20.228374976978326,"d":"20.228"},{"v":2.349047600444262,"d":"2.349"},{"v":97.65095239955573,"d":"97.651"}]
["Na-0-S",0.13,13,6.16,10.01,14.21,8.05,{"v":1.959999999999999,"d":"1.96"},{"v":19.580419580419573,"d":"19.58"},{"v":80.41958041958043,"d":"80.420"},19.28,424.56,354.26,405.28,334.98,70.29999999999995,{"v":17.346032372680607,"d":"17.346"},{"v":2.2343872077389655,"d":"2.234"},{"v":97.76561279226104,"d":"97.766"}]
["Na-1-T",0.17,17,5.83,10,13.67,7.84,2.16,{"v":21.599999999999998,"d":"21.60"},{"v":78.4,"d":"78.400"},19.08,444.38,363.71,425.3,344.63,80.67000000000002,{"v":18.967787444157068,"d":"18.968"},{"v":2.63221255584293,"d":"2.632"},{"v":97.36778744415707,"d":"97.368"}]
["Na-1-S",0.13,13,6.17,10,14.25,8.08,1.92,{"v":19.199999999999996,"d":"19.20"},{"v":80.80000000000001,"d":"80.800"},19.27,439.38,368.21,420.11,348.94,71.17000000000002,{"v":16.94080121872843,"d":"16.941"},{"v":2.2591987812715644,"d":"2.259"},{"v":97.74080121872844,"d":"97.741"}]
["Ik-0-T",0.17,17,6.58,10,14.17,7.59,2.41,{"v":24.099999999999998,"d":"24.10"},{"v":75.9,"d":"75.900"},19.23,328.1,259.76,308.87,240.53,68.34,{"v":22.125813449023855,"d":"22.126"},{"v":1.9741865509761425,"d":"1.974"},{"v":98.02581344902386,"d":"98.026"}]
["Ik-0-S",0.13,13,6.83,10,14.44,7.609999999999999,{"v":2.3900000000000006,"d":"2.39"},{"v":23.90000000000001,"d":"23.90"},{"v":76.1,"d":"76.100"},19.36,362.97,285.97,343.61,266.61,77,{"v":22.409126626116816,"d":"22.409"},{"v":1.4908733738831934,"d":"1.491"},{"v":98.50912662611681,"d":"98.509"}]
["Ik-1-T",0.17,17,6.56,10.01,14.32,7.760000000000001,{"v":2.249999999999999,"d":"2.25"},{"v":22.47752247752247,"d":"22.48"},{"v":77.52247752247753,"d":"77.522"},19.32,369.09,298.28,349.77,278.96,70.81,{"v":20.244732252623155,"d":"20.245"},{"v":2.232790224899315,"d":"2.233"},{"v":97.76720977510068,"d":"97.767"}]
["Ik-1-S",0.13,13,6.79,10,14.74,7.95,2.05,{"v":20.499999999999996,"d":"20.50"},{"v":79.5,"d":"79.500"},19.37,423.44,348.27,404.07,328.9,75.17000000000002,{"v":18.60321231469795,"d":"18.603"},{"v":1.8967876853020478,"d":"1.897"},{"v":98.10321231469796,"d":"98.103"}]
["Ne-0-T",0.17,17,6.27,10,14.63,8.360000000000001,{"v":1.6399999999999988,"d":"1.64"},{"v":16.39999999999999,"d":"16.40"},{"v":83.60000000000001,"d":"83.600"},19.36,444.09,382.87,424.72999999999996,363.51,61.21999999999997,{"v":14.413862924681553,"d":"14.414"},{"v":1.9861370753184389,"d":"1.986"},{"v":98.01386292468156,"d":"98.014"}]
["Ne-0-S",0.13,13,6.04,10,14.47,8.43,{"v":1.5700000000000003,"d":"1.57"},{"v":15.700000000000003,"d":"15.70"},{"v":84.3,"d":"84.300"},19.13,498.7,433.58,479.57,414.45,65.12,{"v":13.57883103613654,"d":"13.579"},{"v":2.1211689638634628,"d":"2.121"},{"v":97.87883103613653,"d":"97.879"}]
["Ne-1-T",0.17,17,6.62,10.01,14.76,8.14,{"v":1.8699999999999992,"d":"1.87"},{"v":18.681318681318672,"d":"18.68"},{"v":81.31868131868133,"d":"81.319"},19.98,427.42,361.28,407.44,341.29999999999995,66.14000000000004,{"v":16.23306499116436,"d":"16.233"},{"v":2.4482536901543135,"d":"2.448"},{"v":97.55174630984568,"d":"97.552"}]
["Ne-1-S",0.13,13,6.51,10,14.7,8.19,{"v":1.8100000000000005,"d":"1.81"},{"v":18.100000000000005,"d":"18.10"},{"v":81.89999999999999,"d":"81.900"},19.1,522.2,441.76,503.1,422.65999999999997,80.44000000000005,{"v":15.988869012124841,"d":"15.989"},{"v":2.111130987875164,"d":"2.111"},{"v":97.88886901212484,"d":"97.889"}]
["Ae-0-T",0.17,17,6.16,10,13.93,7.77,{"v":2.2300000000000004,"d":"2.23"},{"v":22.300000000000008,"d":"22.30"},{"v":77.69999999999999,"d":"77.700"},19.11,395.91,325.15,376.8,306.03999999999996,70.76000000000005,{"v":18.77919320594481,"d":"18.779"},{"v":3.520806794055197,"d":"3.521"},{"v":96.4791932059448,"d":"96.479"}]
["Ae-0-S",0.13,13,6.03,10,13.71,7.680000000000001,{"v":2.3199999999999994,"d":"2.32"},{"v":23.2,"d":"23.20"},{"v":76.8,"d":"76.800"},19.24,404.4,327.03,385.15999999999997,307.78999999999996,77.37,{"v":20.087755737875167,"d":"20.088"},{"v":3.1122442621248325,"d":"3.112"},{"v":96.88775573787517,"d":"96.888"}]
["Ae-1-T",0.17,17,6.62,10,14.33,7.71,2.29,{"v":22.9,"d":"22.90"},{"v":77.1,"d":"77.100"},19.38,448.18,367.56,428.8,348.18,80.62,{"v":18.80130597014925,"d":"18.801"},{"v":4.098694029850748,"d":"4.099"},{"v":95.90130597014925,"d":"95.901"}]
["Ae-1-S",0.13,13,6.73,10.01,14.38,7.65,{"v":2.3599999999999994,"d":"2.36"},{"v":23.576423576423565,"d":"23.58"},{"v":76.42357642357643,"d":"76.424"},18.85,456.02,366.96,437.16999999999996,348.10999999999996,89.06,{"v":20.371937690143426,"d":"20.372"},{"v":3.204485886280139,"d":"3.204"},{"v":96.79551411371986,"d":"96.796"}]
["Jn-0-T",0.17,17,6.97,10.01,14.94,7.97,2.04,{"v":20.379620379620377,"d":"20.38"},{"v":79.62037962037962,"d":"79.620"},18.87,440.75,369.06,421.88,350.19,71.69,{"v":16.99298378685882,"d":"16.993"},{"v":3.3866365927615583,"d":"3.387"},{"v":96.61336340723844,"d":"96.613"}]
["Jn-0-S",0.13,13,6.86,10.01,15.12,8.259999999999998,{"v":1.7500000000000018,"d":"1.75"},{"v":17.4825174825175,"d":"17.48"},{"v":82.5174825174825,"d":"82.517"},18.85,466.41,394.75,447.56,375.9,71.66000000000003,{"v":16.011261059969616,"d":"16.011"},{"v":1.471256422547885,"d":"1.471"},{"v":98.52874357745212,"d":"98.529"}]
["Jn-1-T",0.17,17,5.9,10,13.84,7.9399999999999995,{"v":2.0600000000000005,"d":"2.06"},{"v":20.60000000000001,"d":"20.60"},{"v":79.39999999999999,"d":"79.400"},19.06,506.54,413.95,487.48,394.89,92.59000000000003,{"v":18.993599737425125,"d":"18.994"},{"v":1.6064002625748834,"d":"1.606"},{"v":98.39359973742512,"d":"98.394"}]
["Jn-1-S",0.13,13,5.23,10,13.53,8.299999999999999,{"v":1.700000000000001,"d":"1.70"},{"v":17.000000000000014,"d":"17.00"},{"v":82.99999999999999,"d":"83.000"},19.17,531.18,451.73,{"$f":"L64-K64","v":512.01},{"$f":"M64-K64","v":432.56},79.44999999999999,{"v":15.517275053221613,"d":"15.517"},{"v":1.4827249467784007,"d":"1.483"},{"v":98.5172750532216,"d":"98.517"}]
["Ni-0-T",0.17,17,6.21,10.02,12.83,6.62,{"v":3.3999999999999995,"d":"3.40"},{"v":33.93213572854291,"d":"33.93"},{"v":66.0678642714571,"d":"66.068"},19.27,{"$f":"'CALC mass'!J7","v":{"v":397.06051873198845,"d":"397.06"}},275.56,{"$f":"L65-K65","v":{"v":377.79051873198847,"d":"377.79"}},256.29,{"v":121.50051873198845,"d":"121.50"},{"$f":"(1-(O65/N65))*100","v":{"v":32.160817359787465,"d":"32.161"}},{"v":1.7713183687554448,"d":"1.771"},{"v":98.22868163124456,"d":"98.229"}]
["Ni-1-T",0.17,17,6.53,10,12.8,6.2700000000000005,{"v":3.7299999999999995,"d":"3.73"},{"v":37.3,"d":"37.30"},{"v":62.7,"d":"62.700"},17.81,{"$f":"'CALC mass'!J8","v":{"v":447.48114630467575,"d":"447.48"}},296.68,{"v":429.67114630467574,"d":"429.67"},278.87,{"v":150.80114630467574,"d":"150.80"},{"v":35.096875273478126,"d":"35.097"},{"v":2.203124726521871,"d":"2.203"},{"v":97.79687527347812,"d":"97.797"}]
["La-0-T",0.17,17,6.87,10,14.99,{"$f":"F67-D67","v":8.120000000000001},{"v":1.879999999999999,"d":"1.88"},{"v":18.799999999999994,"d":"18.80"},{"v":81.2,"d":"81.200"},19.41,439.05,367.46,419.64,348.04999999999995,71.59000000000003,{"v":17.05986083309504,"d":"17.060"},{"$f":"I67-Q67","v":{"v":1.740139166904953,"d":"1.740"}},{"v":98.25986083309505,"d":"98.260"}]
["La-0-S",{"$f":"C68/100","v":0.13},13,6.27,10,14.4,8.13,{"$f":"E68-G68","v":{"v":1.8699999999999992,"d":"1.87"}},{"$f":"(1-(G68/E68))*100","v":{"v":18.699999999999996,"d":"18.70"}},{"$f":"100-I68","v":{"v":81.30000000000001,"d":"81.300"}},19.28,438.55,367.01,419.27,347.73,{"$f":"N68-O68","v":71.53999999999996},{"v":17.062990435757374,"d":"17.063"},{"v":1.6370095642426215,"d":"1.637"},{"$f":"100-R68","v":{"v":98.36299043575738,"d":"98.363"}}]
["La-1-T",0.17,17,6.15,10,14.29,8.139999999999999,{"v":1.8600000000000012,"d":"1.86"},{"v":18.600000000000016,"d":"18.60"},{"v":81.39999999999998,"d":"81.400"},19.08,407.37,339.93,388.29,320.85,67.44,{"$f":"(1-(O69/N69))*100","v":{"v":17.368461716758087,"d":"17.368"}},{"v":1.2315382832419282,"d":"1.232"},{"v":98.76846171675807,"d":"98.768"}]
["La-1-S",0.13,13,6.16,10,14.32,8.16,{"v":1.8399999999999999,"d":"1.84"},{"v":18.399999999999995,"d":"18.40"},{"v":81.60000000000001,"d":"81.600"},19.27,490.26,409.69,470.99,390.42,80.57,{"v":17.1065203082868,"d":"17.107"},{"v":1.2934796917131948,"d":"1.293"},{"v":98.7065203082868,"d":"98.707"}]
["Ko-0-T",0.17,17,5.23,10.01,13.18,7.949999999999999,{"v":2.0600000000000005,"d":"2.06"},{"v":20.57942057942058,"d":"20.58"},{"v":79.42057942057941,"d":"79.421"},19.23,575.12,468.92,555.89,449.69,106.19999999999999,{"v":19.104499091546888,"d":"19.104"},{"v":1.4749214878736936,"d":"1.475"},{"v":98.5250785121263,"d":"98.525"}]
["Ko-0-S",0.13,13,6.03,10,14.18,8.149999999999999,{"v":1.8500000000000014,"d":"1.85"},{"v":18.500000000000018,"d":"18.50"},{"v":81.49999999999999,"d":"81.500"},19.36,531.28,441.07,{"$f":"L72-K72","v":511.91999999999996},421.71,90.20999999999998,{"v":17.621894045944675,"d":"17.622"},{"v":0.8781059540553429,"d":"0.878"},{"v":99.12189404594466,"d":"99.122"}]
["Ko-1-T",0.17,17,6.21,10.01,14.14,7.930000000000001,{"v":2.079999999999999,"d":"2.08"},{"v":20.779220779220775,"d":"20.78"},{"v":79.22077922077922,"d":"79.221"},19.32,531.81,430.45,512.4899999999999,411.13,101.3599999999999,{"v":19.777946886768504,"d":"19.778"},{"v":1.0012738924522715,"d":"1.001"},{"v":98.99872610754772,"d":"98.999"}]
["Ko-1-S",0.13,13,6.04,10,14.13,8.09,{"v":1.9100000000000001,"d":"1.91"},{"v":19.100000000000005,"d":"19.10"},{"v":80.89999999999999,"d":"80.900"},19.37,513.73,424.01,494.36,404.64,89.72000000000003,{"v":18.148717533781056,"d":"18.149"},{"v":0.9512824662189487,"d":"0.951"},{"v":99.04871753378106,"d":"99.049"}]
["Pa-0-T",0.17,17,6.82,10,14.91,8.09,{"v":1.9100000000000001,"d":"1.91"},{"v":19.100000000000005,"d":"19.10"},{"v":80.89999999999999,"d":"80.900"},18.87,495.42,420.24,476.55,401.37,75.18,{"v":15.77588920365125,"d":"15.776"},{"v":3.324110796348755,"d":"3.324"},{"v":96.67588920365125,"d":"96.676"}]
["Pa-0-S",0.13,13,6.58,10,14.78,8.2,{"v":1.8000000000000007,"d":"1.80"},{"v":18.000000000000004,"d":"18.00"},{"v":82,"d":"82.000"},18.85,492.89,424.48,474.03999999999996,405.63,68.40999999999997,{"v":14.431271622647868,"d":"14.431"},{"v":3.5687283773521354,"d":"3.569"},{"v":96.43127162264787,"d":"96.431"}]
["Pa-1-T",0.17,17,6.16,10.01,14.17,8.01,{"v":2,"d":"2.00"},{"v":19.980019980019982,"d":"19.98"},{"v":80.01998001998001,"d":"80.020"},19.06,475.16,402.86,456.1,383.8,72.30000000000001,{"v":15.85178688884017,"d":"15.852"},{"v":4.128233091179812,"d":"4.128"},{"v":95.87176690882019,"d":"95.872"}]
["Pa-1-S",0.13,13,6.52,10.01,14.6,8.08,{"v":1.9299999999999997,"d":"1.93"},{"v":19.280719280719282,"d":"19.28"},{"v":80.71928071928072,"d":"80.719"},19.17,511.51,435.78,492.34,416.60999999999996,75.73000000000002,{"v":15.38164682942682,"d":"15.382"},{"v":3.8990724512924615,"d":"3.899"},{"v":96.10092754870755,"d":"96.101"}]

{"sheet":"CALC mass","index":6,"n_rows":29,"n_cols":23,"rows_kept":29,"hidden":true,"merged":[[0,1,0,7],[0,8,0,14],[9,0,9,7]]}
[null,"105 Celsius",{"$nulls":6},"air-dry 30 Celsius"]
["Sample","crucible (g)","fresh (g)","dry (g)","NO crucible dry (g)","water (g)","water (%)","DM%","tray (g)","fresh (g)","air dry (g)","NO tray fresh (g)","No tray air dry (g)","evaporated water (g)","evaporated water (%)","water left in air-dry soil (%)","air dry soil DM (%)"]
["Pu-0-T",6.27,10.01,15.38,{"$f":"D3-B3","v":9.110000000000001},{"$f":"C3-E3","v":{"v":0.8999999999999986,"d":"0.90"}},{"$f":"(1-(E3/C3))*100","v":{"v":8.991008991008975,"d":"9.0"}},{"$f":"100-G3","v":{"v":91.00899100899102,"d":"91.01"}},19.41,361.3,337.9,{"$f":"J3-I3","v":341.89},{"$f":"K3-I3","v":318.48999999999995},{"$f":"L3-M3","v":23.400000000000034},{"$f":"(1-(M3/L3))*100","v":{"v":6.844306648337195,"d":"6.8"}},{"$f":"G3-O3","v":{"v":2.14670234267178,"d":"2.147"}},{"$f":"100-P3","v":{"v":97.85329765732823,"d":"97.853"}},{"$nulls":3},"g water",null,"soil"]
["Pu-0-S",6.17,{"$f":"T12","v":{"v":11.464875026108755,"d":"11.46"}},15.92,9.75,{"$f":"C4-E4","v":{"v":1.7148750261087553,"d":"1.71"}},{"$f":"(1-(E4/C4))*100","v":{"v":14.957642557842988,"d":"15.0"}},{"$f":"100-G4","v":{"v":85.04235744215701,"d":"85.04"}},19.28,348.62,306.54,329.34000000000003,287.26,{"$f":"L4-M4","v":42.08000000000004},{"$f":"(1-(M4/L4))*100","v":{"v":12.777069290095355,"d":"12.8"}},{"$f":"G4-O4","v":{"v":2.180573267747633,"d":"2.181"}},{"$f":"100-P4","v":{"v":97.81942673225237,"d":"97.819"}},null,"fresh",10,{"$f":"(T4*O4)/100","v":{"v":1.2777069290095355,"d":"1.278"}},"30c",{"$f":"T4-U4","v":{"v":8.722293070990464,"d":"8.722"}}]
["Ki-1-T",6.82,10.01,15.86,9.04,{"v":0.9700000000000006,"d":"0.97"},{"v":9.690309690309695,"d":"9.7"},{"v":90.30969030969031,"d":"90.31"},19.96,376.8,347.54,356.84000000000003,327.58000000000004,29.25999999999999,{"$f":"(1-(M5/L5))*100","v":{"v":8.199753390875465,"d":"8.2"}},{"v":1.49055629943423,"d":"1.491"},{"v":98.50944370056577,"d":"98.509"},null,"airdry",10,0.25,"105c",{"$f":"T5-U5","v":9.75}]
["Ki-1-S",6.73,10,15.96,9.23,{"$f":"C6-E6","v":{"v":0.7699999999999996,"d":"0.77"}},{"v":7.699999999999996,"d":"7.7"},{"v":92.30000000000001,"d":"92.30"},19.98,{"$f":"A22","v":{"v":435.5021367521367,"d":"435.50"}},407.63,{"$f":"J6-I6","v":{"v":415.5221367521367,"d":"415.52"}},{"$f":"K6-I6","v":387.65},{"$f":"L6-M6","v":{"v":27.872136752136726,"d":"27.87"}},{"v":6.707738117154216,"d":"6.7"},{"v":0.9922618828457797,"d":"0.992"},{"v":99.00773811715422,"d":"99.008"},null,null,{"v":8.722293070990464,"d":"8.722"},{"$f":"(T6*U5)/T5","v":{"v":0.21805732677476158,"d":"0.218"}},"105c"]
["Ni-0-T",6.21,10.02,12.83,6.62,{"v":3.3999999999999995,"d":"3.40"},{"v":33.93213572854291,"d":"33.9"},{"v":66.0678642714571,"d":"66.07"},19.27,{"$f":"H29","v":{"v":397.06051873198845,"d":"397.06"}},275.56,{"v":377.79051873198847,"d":"377.79"},256.29,{"v":121.50051873198845,"d":"121.50"},{"v":32.160817359787465,"d":"32.2"},{"v":1.7713183687554448,"d":"1.771"},{"v":98.22868163124456,"d":"98.229"}]
["Ni-1-T",6.53,10,12.8,6.2700000000000005,{"v":3.7299999999999995,"d":"3.73"},37.3,{"v":62.7,"d":"62.70"},17.81,{"$f":"H22","v":{"v":447.48114630467575,"d":"447.48"}},296.68,{"v":429.67114630467574,"d":"429.67"},{"$f":"K8-I8","v":278.87},{"v":150.80114630467574,"d":"150.80"},{"v":35.096875273478126,"d":"35.1"},{"$f":"G8-O8","v":{"v":2.203124726521871,"d":"2.203"}},{"v":97.79687527347812,"d":"97.797"},null,null,"fresh","water"]
[{"$nulls":19},10,{"$f":"U4+U6","v":{"v":1.4957642557842972,"d":"1.496"}},"105c"]
["air-dry soil dried at 105C"]
["Ki-1-S",6.52,10,16.39,{"$f":"D11-B11","v":9.870000000000001},{"$f":"C11-E11","v":{"v":0.129999999999999,"d":"0.13"}},{"$f":"(1-(E11/C11))*100","v":{"v":1.29999999999999,"d":"1.3"}},{"$f":"100-G11","v":{"v":98.70000000000002,"d":"98.70"}},{"$nulls":11},"fresh","dry soil"]
["Ni-0-T",6.62,10.01,16.28,{"$f":"D12-B12","v":9.66},{"v":0.34999999999999964,"d":"0.35"},{"$f":"(1-(E12/C12))*100","v":{"v":3.496503496503489,"d":"3.5"}},{"v":96.5034965034965,"d":"96.50"},{"$nulls":11},{"$f":"(T13*U12)/U13","v":{"v":11.464875026108755,"d":"11.46"}},9.75,"105c"]
["Ni-1-T",5.83,10,15.47,9.64,{"v":0.35999999999999943,"d":"0.36"},{"v":3.599999999999992,"d":"3.6"},{"v":96.4,"d":"96.40"},{"$nulls":11},10,{"$f":"T9-U9","v":{"v":8.504235744215702,"d":"8.504"}},"105c"]
[]
[]
[]
[]
["soil g","type soil","dried to","g water","soil g","water (%)",null,"soil g","type soil","dried to","g water","soil g","water (%)"]
[10,"fresh","105c",0.77,{"$f":"A19-D19","v":9.23},{"$f":"(1-(E19/A19))*100","v":{"v":7.699999999999996,"d":"7.7"}},null,10,"fresh","105c",{"$f":"F8","v":{"v":3.7299999999999995,"d":"3.730"}},{"$f":"H19-K19","v":{"v":6.2700000000000005,"d":"6.270"}},{"$f":"(1-(L19/H19))*100","v":37.3}]
[10,"airdry","105c",{"$f":"A20-E20","v":{"v":0.13000000000000078,"d":"0.13"}},9.87,{"$f":"(1-(E20/A20))*100","v":{"v":1.3000000000000123,"d":"1.3"}},null,10,"airdry","105c",{"$f":"H20-L20","v":{"v":0.35999999999999943,"d":"0.36"}},{"$f":"E13","v":9.64},{"$f":"(1-(L20/H20))*100","v":{"v":3.599999999999992,"d":"3.6"}}]
[10,"fresh","30c",{"$f":"D19-D20","v":{"v":0.6399999999999992,"d":"0.64"}},{"$f":"A21-D21","v":{"v":9.360000000000001,"d":"9.36"}},{"$f":"(1-(E21/A21))*100","v":{"v":6.3999999999999835,"d":"6.4"}},null,10,"fresh","30c",{"$f":"K19-K20","v":{"v":3.37,"d":"3.370"}},{"$f":"H21-K21","v":{"v":6.63,"d":"6.630"}},{"$f":"(1-(L21/H21))*100","v":{"v":33.699999999999996,"d":"33.7"}}]
[{"$f":"(A21*E22)/E21","v":{"v":435.5021367521367,"d":"435.50"}},"fresh","30c",{"$f":"A22-E22","v":{"v":27.872136752136726,"d":"27.87"}},407.63,{"$f":"(1-(E22/A22))*100","v":{"v":6.399999999999995,"d":"6.4"}},null,{"$f":"(H21*L22)/L21","v":{"v":447.48114630467575,"d":"447.48"}},"fresh","30c",{"$f":"H22-L22","v":{"v":150.80114630467574,"d":"150.801"}},296.68,{"$f":"(1-(L22/H22))*100","v":{"v":33.70000000000001,"d":"33.7"}}]
[]
[]
[{"$nulls":7},"soil g","type soil","dried to","g water","soil g","water (%)"]
[{"$nulls":7},10.02,"fresh","105c",{"$f":"F7","v":{"v":3.3999999999999995,"d":"3.400"}},{"$f":"H26-K26","v":{"v":6.62,"d":"6.620"}},{"$f":"(1-(L26/H26))*100","v":{"v":33.93213572854291,"d":"33.93"}}]
[{"$nulls":7},10,"airdry","105c",{"$f":"H27-L27","v":{"v":0.33999999999999986,"d":"0.34"}},{"$f":"E12","v":9.66},{"$f":"(1-(L27/H27))*100","v":{"v":3.400000000000003,"d":"3.4"}}]
[{"$nulls":7},10,"fresh","30c",{"$f":"K26-K27","v":{"v":3.0599999999999996,"d":"3.060"}},{"$f":"H28-K28","v":{"v":6.94,"d":"6.940"}},{"$f":"(1-(L28/H28))*100","v":{"v":30.599999999999994,"d":"30.6"}}]
[{"$nulls":7},{"$f":"(H28*L29)/L28","v":{"v":397.06051873198845,"d":"397.06"}},"fresh","30c",{"$f":"H29-L29","v":{"v":121.50051873198845,"d":"121.501"}},275.56,{"$f":"(1-(L29/H29))*100","v":{"v":30.599999999999994,"d":"30.6"}}]

{"sheet":"BD","index":7,"n_rows":79,"n_cols":20,"rows_kept":79,"merged":[[1,3,1,4],[1,5,1,6]]}
[{"$nulls":9},0.75,{"$nulls":3},{"$f":"PI()*(0.8/2)^2*0.5","v":0.25132741228718347},{"$f":"N1*3","v":0.7539822368615504}]
[{"$nulls":3},"tray included",null,"NO tray"]
["Field","treat/cont","tray (g)","fresh (g)","dry (g)","fresh (g)","105 C dry (g)","Water  (%)","Water  (g)","Water (g) / 10g soil ","BD (kg/l)","BD (kg/m3)","Porosity (%)","Moisture (vol-%)",{"$nulls":3},{"$f":"TC_TN!O1","v":"TC % (kg/kg)"},"BD calculated (kg/m3)","BD calculated (kg/l)"]
["Pu-0",0,{"$f":"Trays!B14","v":19.11},835.18,768.32,{"$f":"D4-C4","v":816.0699999999999},{"$f":"E4-C4","v":749.21},{"$f":"((I4*1)/F4)*100","v":{"v":8.192924626563885,"d":"8.19"}},{"$f":"F4-G4","v":66.8599999999999},{"$f":"(10*I4)/F4","v":{"v":0.8192924626563886,"d":"0.82"}},{"$f":"G4/1000/$J$1","v":{"v":0.9989466666666668,"d":"0.999"}},{"$f":"K4*1000","v":{"v":998.9466666666667,"d":"998.947"}},{"$f":"1-K4/2.65","v":{"v":0.6230389937106917,"d":"62.30%"}},{"$f":"I4/1000/$J$1","v":{"v":0.08914666666666654,"d":"8.91%"}},null,null,"Pu-0-T",{"v":0.029,"d":"2.90%"},{"$f":"(1.52-(0.28*LN(R4*100)))*1000","v":1221.88099364212},{"$f":"1.52-0.28*LN(R4*100)","v":1.22188099364212}]
["Pu-1",1,{"$f":"Trays!B15","v":19.24},817.52,752.38,798.28,733.14,{"v":8.160044094803826,"d":"8.16"},65.13999999999999,{"$f":"(10*I5)/F5","v":{"v":0.8160044094803827,"d":"0.82"}},{"$f":"G5/1000/$J$1","v":{"v":0.9775200000000001,"d":"0.978"}},{"$f":"K5*1000","v":{"v":977.5200000000001,"d":"977.520"}},{"$f":"1-K5/2.65","v":{"v":0.6311245283018867,"d":"63.11%"}},{"$f":"I5/1000/$J$1","v":{"v":0.08685333333333332,"d":"8.69%"}},null,null,"Pu-0-S",{"v":0.0258,"d":"2.58%"},{"$f":"(1.52-(0.28*LN(R5*100)))*1000","v":1254.6189682986126},{"$f":"1.52-0.28*LN(R5*100)","v":1.2546189682986126}]
["Mo-0",0,{"$f":"Trays!B16","v":19.38},998.78,845.84,979.4,826.46,{"v":15.61568307126812,"d":"15.62"},152.93999999999994,{"v":1.5615683071268118,"d":"1.56"},{"v":1.1019466666666669,"d":"1.102"},{"v":1101.946666666667,"d":"1101.947"},{"v":0.5841710691823898,"d":"58.42%"},{"v":0.2039199999999999,"d":"20.39%"},null,null,"Pu-1-T",{"v":0.0352,"d":"3.52%"},1167.6309229091983,1.1676309229091983]
["Mo-1",1,{"$f":"Trays!B17","v":18.85},976.16,837.58,957.31,818.73,{"v":14.47597956774712,"d":"14.48"},138.57999999999993,{"v":1.4475979567747117,"d":"1.45"},{"v":1.0916400000000002,"d":"1.092"},{"v":1091.64,"d":"1091.640"},{"v":0.5880603773584905,"d":"58.81%"},{"v":0.18477333333333323,"d":"18.48%"},null,null,"Pu-1-S",{"v":0.031200000000000002,"d":"3.12%"},1201.4067594900105,1.2014067594900104]
["Si-0",0,{"$f":"Trays!B18","v":18.87},843.1,722.28,824.23,703.41,{"v":14.658529779309179,"d":"14.66"},120.82000000000005,{"v":1.465852977930918,"d":"1.47"},{"v":0.9378799999999999,"d":"0.938"},{"v":937.8799999999999,"d":"937.880"},{"v":0.6460830188679245,"d":"64.61%"},{"v":0.1610933333333334,"d":"16.11%"},null,null,"Mo-0-T",{"v":0.0213,"d":"2.13%"},1308.2858456780266,1.3082858456780266]
["Si-1",1,{"$f":"Trays!B19","v":18.85},850.52,717.92,831.67,699.0699999999999,{"v":15.94382387244941,"d":"15.94"},132.60000000000002,{"v":1.5943823872449412,"d":"1.59"},{"v":0.9320933333333333,"d":"0.932"},{"v":932.0933333333334,"d":"932.093"},{"v":0.6482666666666667,"d":"64.83%"},{"v":0.17680000000000004,"d":"17.68%"},null,null,"Mo-0-S",{"v":0.019,"d":"1.90%"},1340.2809118717296,1.3402809118717296]
["Mi-0",0,{"$f":"Trays!B22","v":19.27},903.82,779.94,884.5500000000001,760.6700000000001,{"v":14.004861228873436,"d":"14.00"},123.88,{"v":1.4004861228873438,"d":"1.40"},{"v":1.0142266666666668,"d":"1.014"},{"v":1014.2266666666668,"d":"1014.227"},{"v":0.6172729559748427,"d":"61.73%"},{"v":0.1651733333333333,"d":"16.52%"},null,null,"Mo-1-T",{"v":0.0222,"d":"2.22%"},1296.6979851524275,1.2966979851524274]
["Mi-1",1,{"$f":"Trays!B23","v":17.81},852.88,720.56,835.07,702.75,{"v":15.845378231765006,"d":"15.85"},132.32000000000005,{"v":1.5845378231765006,"d":"1.58"},{"v":0.9369999999999999,"d":"0.937"},{"v":937,"d":"937.000"},{"v":0.6464150943396226,"d":"64.64%"},{"v":0.17642666666666673,"d":"17.64%"},null,null,"Mo-1-S",{"v":0.0204,"d":"2.04%"},1320.374053800285,1.320374053800285]
["Li-0",0,{"$f":"Trays!B20","v":19.06},759.64,679.9,740.58,660.84,{"v":10.7672364903184,"d":"10.77"},79.74000000000001,{"v":1.07672364903184,"d":"1.08"},{"v":0.88112,"d":"0.881"},{"v":881.12,"d":"881.120"},{"v":0.6675018867924528,"d":"66.75%"},{"v":0.10632000000000001,"d":"10.63%"},null,null,"Si-0-T",{"v":0.0263,"d":"2.63%"},1249.2445230668916,1.2492445230668916]
["Li-1",1,{"$f":"Trays!B21","v":19.17},797.04,695.88,777.87,676.71,{"v":13.004743723244239,"d":"13.00"},101.15999999999997,{"v":1.3004743723244239,"d":"1.30"},{"v":0.9022800000000001,"d":"0.902"},{"v":902.2800000000001,"d":"902.280"},{"v":0.6595169811320754,"d":"65.95%"},{"v":0.13487999999999997,"d":"13.49%"},null,null,"Si-0-S",{"v":0.0222,"d":"2.22%"},1296.6979851524275,1.2966979851524274]
["Ai-0",0,19.98,1192.5,1034.48,1172.52,1014.5,{"v":13.476955616961755,"d":"13.48"},158.01999999999998,{"v":1.3476955616961757,"d":"1.35"},{"v":1.3526666666666667,"d":"1.353"},{"v":1352.6666666666667,"d":"1352.667"},{"v":0.4895597484276729,"d":"48.96%"},{"v":0.21069333333333332,"d":"21.07%"},null,null,"Si-1-T",{"v":0.0271,"d":"2.71%"},1240.8543822303493,1.2408543822303493]
["Ai-1",1,19.1,1205.5,1010.76,1186.4,991.66,{"v":16.4143627781524,"d":"16.41"},194.74000000000012,{"v":1.6414362778152403,"d":"1.64"},{"v":1.3222133333333332,"d":"1.322"},{"v":1322.2133333333331,"d":"1322.213"},{"v":0.5010515723270441,"d":"50.11%"},{"v":0.2596533333333335,"d":"25.97%"},null,null,"Si-1-S",{"v":0.020499999999999997,"d":"2.05%"},1319.0048579179113,1.3190048579179112]
["Pi-0",0,19.11,942,763,922.89,743.89,{"v":19.395594274507253,"d":"19.40"},179,{"v":1.9395594274507255,"d":"1.94"},{"v":0.9918533333333333,"d":"0.992"},{"v":991.8533333333332,"d":"991.853"},{"v":0.6257157232704402,"d":"62.57%"},{"v":0.23866666666666667,"d":"23.87%"},null,null,"Mi-0-T",{"v":0.04019999999999999,"d":"4.02%"},1130.4410672633396,1.1304410672633396]
["Pi-1",1,19.24,855.32,679.32,836.08,660.08,{"v":21.05061716582145,"d":"21.05"},176,{"v":2.1050617165821452,"d":"2.11"},{"v":0.8801066666666667,"d":"0.880"},{"v":880.1066666666667,"d":"880.107"},{"v":0.6678842767295597,"d":"66.79%"},{"v":0.23466666666666666,"d":"23.47%"},null,null,"Mi-0-S",{"v":0.022099999999999998,"d":"2.21%"},1297.9620956516949,1.2979620956516948]
["Ja-0",0,19.88,718.98,570.75,{"$f":"D18-C18","v":699.1},{"$f":"E18-C18","v":550.87},{"$f":"((I18*1)/F18)*100","v":{"v":21.202975253897872,"d":"21.20"}},{"$f":"F18-G18","v":148.23000000000002},{"$f":"(10*I18)/F18","v":{"v":2.120297525389787,"d":"2.12"}},{"$f":"G18/1000/$J$1","v":{"v":0.7344933333333333,"d":"0.734"}},{"v":734.4933333333333,"d":"734.493"},{"$f":"1-K18/2.65","v":{"v":0.7228327044025158,"d":"72.28%"}},{"$f":"I18/1000/$J$1","v":{"v":0.19764000000000004,"d":"19.76%"}},null,null,"Mi-1-T",{"v":0.0375,"d":"3.75%"},1149.9083648049507,1.1499083648049506]
["Ja-1",1,19.87,961.52,766.74,{"$f":"D19-C19","v":941.65},{"$f":"E19-C19","v":746.87},{"$f":"((I19*1)/F19)*100","v":{"v":20.68496787553762,"d":"20.68"}},{"$f":"F19-G19","v":194.77999999999997},{"$f":"(10*I19)/F19","v":{"v":2.068496787553762,"d":"2.07"}},{"$f":"G19/1000/$J$1","v":{"v":0.9958266666666667,"d":"0.996"}},{"v":995.8266666666667,"d":"995.827"},{"$f":"1-K19/2.65","v":{"v":0.6242163522012578,"d":"62.42%"}},{"$f":"I19/1000/$J$1","v":{"v":0.25970666666666664,"d":"25.97%"}},null,null,"Mi-1-S",{"v":0.0215,"d":"2.15%"},1305.66900420092,1.30566900420092]
["Mu-0",0,19.38,1004.06,807.5,984.68,788.12,{"v":19.961815005890234,"d":"19.96"},196.55999999999995,{"v":1.9961815005890233,"d":"2.00"},{"v":1.0508266666666668,"d":"1.051"},{"v":1050.8266666666668,"d":"1050.827"},{"v":0.6034616352201257,"d":"60.35%"},{"v":0.2620799999999999,"d":"26.21%"},null,null,"Li-0-T",{"v":0.030699999999999995,"d":"3.07%"},1205.9302827522504,1.2059302827522504]
["Mu-1",1,18.85,990.12,787.8,971.27,768.9499999999999,{"v":20.83045908964552,"d":"20.83"},202.32000000000005,{"v":2.0830459089645523,"d":"2.08"},{"v":1.0252666666666665,"d":"1.025"},{"v":1025.2666666666667,"d":"1025.267"},{"v":0.6131069182389938,"d":"61.31%"},{"v":0.26976000000000006,"d":"26.98%"},null,null,"Li-0-S",{"v":0.018500000000000003,"d":"1.85%"},1347.7480210547346,1.3477480210547346]
["Kp-0",0,19.7,770.34,647.86,{"$f":"D22-C22","v":750.64},{"$f":"E22-C22","v":628.16},{"$f":"((I22*1)/F22)*100","v":{"v":16.31674304593414,"d":"16.32"}},{"$f":"F22-G22","v":122.48000000000002},{"$f":"(10*I22)/F22","v":{"v":1.631674304593414,"d":"1.63"}},{"$f":"G22/1000/$J$1","v":{"v":0.8375466666666666,"d":"0.838"}},{"v":837.5466666666665,"d":"837.547"},{"$f":"1-K22/2.65","v":{"v":0.6839446540880503,"d":"68.39%"}},{"$f":"I22/1000/$J$1","v":{"v":0.16330666666666668,"d":"16.33%"}},null,null,"Li-1-T",{"v":0.038599999999999995,"d":"3.86%"},1141.813188626513,1.141813188626513]
["Kp-1",1,19.67,747.58,654.96,{"$f":"D23-C23","v":727.9100000000001},{"$f":"E23-C23","v":635.2900000000001},{"$f":"((I23*1)/F23)*100","v":{"v":12.724100506930803,"d":"12.72"}},{"$f":"F23-G23","v":92.62},{"$f":"(10*I23)/F23","v":{"v":1.27241005069308,"d":"1.27"}},{"$f":"G23/1000/$J$1","v":{"v":0.8470533333333335,"d":"0.847"}},{"v":847.0533333333335,"d":"847.053"},{"$f":"1-K23/2.65","v":{"v":0.6803572327044024,"d":"68.04%"}},{"$f":"I23/1000/$J$1","v":{"v":0.12349333333333334,"d":"12.35%"}},null,null,"Li-1-S",{"v":0.022799999999999997,"d":"2.28%"},1289.2308759694222,1.2892308759694222]
["Ki-0",0,18.87,888.7,788.04,{"$f":"D24-C24","v":869.83},{"$f":"E24-C24","v":769.17},{"$f":"((I24*1)/F24)*100","v":{"v":11.572376211443625,"d":"11.57"}},{"$f":"F24-G24","v":100.66000000000008},{"$f":"(10*I24)/F24","v":{"v":1.1572376211443625,"d":"1.16"}},{"$f":"G24/1000/$J$1","v":{"v":1.0255599999999998,"d":"1.026"}},{"v":1025.5599999999997,"d":"1025.560"},{"$f":"1-K24/2.65","v":{"v":0.6129962264150943,"d":"61.30%"}},{"$f":"I24/1000/$J$1","v":{"v":0.13421333333333343,"d":"13.42%"}},null,null,"Ai-0-T",{"v":0.0147,"d":"1.47%"},1412.1265277786194,1.4121265277786195]
["Ki-1",1,18.85,866.48,755,{"$f":"D25-C25","v":847.63},{"$f":"E25-C25","v":736.15},{"$f":"((I25*1)/F25)*100","v":{"v":13.151964890341306,"d":"13.15"}},{"$f":"F25-G25","v":111.48000000000002},{"$f":"(10*I25)/F25","v":{"v":1.3151964890341308,"d":"1.32"}},{"$f":"G25/1000/$J$1","v":{"v":0.9815333333333333,"d":"0.982"}},{"v":981.5333333333333,"d":"981.533"},{"$f":"1-K25/2.65","v":{"v":0.6296100628930819,"d":"62.96%"}},{"$f":"I25/1000/$J$1","v":{"v":0.14864000000000002,"d":"14.86%"}},null,null,"Ai-0-S",{"v":0.012,"d":"1.20%"},1468.9499640976926,1.4689499640976926]
["Na-0",0,19.41,1018.36,771.78,998.95,752.37,{"$f":"((I26*1)/F26)*100","v":{"v":24.683918114019722,"d":"24.68"}},{"$f":"F26-G26","v":246.58000000000004},{"$f":"(10*I26)/F26","v":{"v":2.4683918114019723,"d":"2.47"}},{"v":1.00316,"d":"1.003"},{"v":1003.1600000000001,"d":"1003.160"},{"v":0.6214490566037736,"d":"62.14%"},{"v":0.3287733333333334,"d":"32.88%"},null,null,"Ai-1-T",{"v":0.0187,"d":"1.87%"},1344.7372393573812,1.3447372393573813]
["Na-1",1,19.28,942.38,714.08,923.1,694.8000000000001,{"$f":"((I27*1)/F27)*100","v":{"v":24.73188170295742,"d":"24.73"}},228.29999999999995,{"v":2.473188170295742,"d":"2.47"},{"v":0.9264000000000001,"d":"0.926"},{"v":926.4000000000001,"d":"926.400"},{"v":0.6504150943396225,"d":"65.04%"},{"v":0.30439999999999995,"d":"30.44%"},null,null,"Ai-1-S",{"v":0.0178,"d":"1.78%"},1358.5482579948819,1.3585482579948818]
["Ik-0",0,19.08,845.38,651.82,826.3,632.74,{"v":23.424906208398884,"d":"23.42"},193.55999999999995,{"v":2.342490620839888,"d":"2.34"},{"v":0.8436533333333333,"d":"0.844"},{"v":843.6533333333333,"d":"843.653"},{"v":0.681640251572327,"d":"68.16%"},{"v":0.2580799999999999,"d":"25.81%"},null,null,"Pi-0-T",{"v":0.0338,"d":"3.38%"},1178.9948013414203,1.1789948013414202]
["Ik-1",1,19.27,967.12,723.54,947.85,704.27,{"v":25.6981589914016,"d":"25.70"},243.58000000000004,{"v":2.5698158991401594,"d":"2.57"},{"v":0.9390266666666666,"d":"0.939"},{"v":939.0266666666665,"d":"939.027"},{"v":0.6456503144654089,"d":"64.57%"},{"v":0.3247733333333334,"d":"32.48%"},null,null,"Pi-0-S",{"v":0.0259,"d":"2.59%"},1253.535794800795,1.253535794800795]
["Ne-0",0,19.23,888.22,726.76,868.99,707.53,{"v":18.5801907962117,"d":"18.58"},161.46000000000004,{"v":1.8580190796211697,"d":"1.86"},{"v":0.9433733333333333,"d":"0.943"},{"v":943.3733333333333,"d":"943.373"},{"v":0.6440100628930818,"d":"64.40%"},{"v":0.21528000000000005,"d":"21.53%"},null,null,"Pi-1-T",{"v":0.0354,"d":"3.54%"},1166.0445163992085,1.1660445163992086]
["Ne-1",1,19.36,896.26,720.4,876.9,701.04,{"v":20.054738282586385,"d":"20.05"},175.86,{"v":2.0054738282586384,"d":"2.01"},{"v":0.93472,"d":"0.935"},{"v":934.72,"d":"934.720"},{"v":0.6472754716981133,"d":"64.73%"},{"v":0.23448000000000002,"d":"23.45%"},null,null,"Pi-1-S",{"v":0.0269,"d":"2.69%"},1242.9284657881508,1.2429284657881507]
["Ae-0",0,19.32,878.68,671.26,859.3599999999999,651.9399999999999,{"v":24.136566747346862,"d":"24.14"},207.41999999999996,{"v":2.4136566747346864,"d":"2.41"},{"v":0.8692533333333333,"d":"0.869"},{"v":869.2533333333333,"d":"869.253"},{"v":0.6719798742138365,"d":"67.20%"},{"v":0.27656,"d":"27.66%"},null,null,"Ja-0-T",{"v":0.030100000000000002,"d":"3.01%"},1211.4567779469803,1.2114567779469803]
["Ae-1",1,19.37,861.48,661.6,842.11,642.23,{"v":23.73561648715726,"d":"23.74"},199.88,{"v":2.373561648715726,"d":"2.37"},{"v":0.8563066666666667,"d":"0.856"},{"v":856.3066666666666,"d":"856.307"},{"v":0.6768654088050314,"d":"67.69%"},{"v":0.26650666666666667,"d":"26.65%"},null,null,"Ja-1-T",{"v":0.0275,"d":"2.75%"},1236.7517447300256,1.2367517447300256]
["Jn-0",0,19.36,1052.24,786.7,1032.88,767.34,{"v":25.70869800944931,"d":"25.71"},265.5400000000001,{"v":2.570869800944931,"d":"2.57"},{"v":1.02312,"d":"1.023"},{"v":1023.12,"d":"1023.120"},{"v":0.6139169811320755,"d":"61.39%"},{"v":0.3540533333333334,"d":"35.41%"},null,null,"Mu-0-T",{"v":0.0447,"d":"4.47%"},1100.7312455848664,1.1007312455848663]
["Jn-1",1,19.13,923.22,697.38,904.09,678.25,{"v":24.97981395657512,"d":"24.98"},225.84000000000003,{"v":2.4979813956575123,"d":"2.50"},{"v":0.9043333333333333,"d":"0.904"},{"v":904.3333333333334,"d":"904.333"},{"v":0.6587421383647798,"d":"65.87%"},{"v":0.30112000000000005,"d":"30.11%"},null,null,"Mu-0-S",{"v":0.0331,"d":"3.31%"},1184.8545069710879,1.1848545069710879]
["Ni-0",0,19.98,1053.58,720.54,1033.6,700.56,{"v":32.22136222910217,"d":"32.22"},333.03999999999996,{"v":3.222136222910217,"d":"3.22"},{"v":0.9340799999999999,"d":"0.934"},{"v":934.0799999999999,"d":"934.080"},{"v":0.6475169811320756,"d":"64.75%"},{"v":0.44405333333333324,"d":"44.41%"},null,null,"Mu-1-T",{"v":0.045899999999999996,"d":"4.59%"},1093.313593259713,1.093313593259713]
["Ni-1",1,19.1,849.36,549.72,830.26,530.62,{"v":36.08989954953869,"d":"36.09"},299.64,{"v":3.6089899549538695,"d":"3.61"},{"v":0.7074933333333333,"d":"0.707"},{"v":707.4933333333333,"d":"707.493"},{"v":0.7330213836477988,"d":"73.30%"},{"v":0.39951999999999993,"d":"39.95%"},null,null,"Mu-1-S",{"v":0.034,"d":"3.40%"},1177.3428791458075,1.1773428791458076]
["La-0",0,19.11,1122.48,897.28,1103.3700000000001,878.17,{"v":20.410197848409883,"d":"20.41"},225.20000000000016,{"v":2.0410197848409886,"d":"2.04"},{"v":1.1708933333333333,"d":"1.171"},{"v":1170.8933333333334,"d":"1170.893"},{"v":0.5581534591194968,"d":"55.82%"},{"v":0.30026666666666685,"d":"30.03%"},null,null,"Kp-0-T",{"v":0.028800000000000003,"d":"2.88%"},1223.8187176386007,1.2238187176386006]
["La-1",1,19.24,1116.42,894.74,1097.18,875.5,{"v":20.204524325999383,"d":"20.20"},221.68000000000006,{"v":2.0204524325999387,"d":"2.02"},{"v":1.1673333333333333,"d":"1.167"},{"v":1167.3333333333333,"d":"1167.333"},{"v":0.5594968553459119,"d":"55.95%"},{"v":0.2955733333333334,"d":"29.56%"},null,null,"Kp-0-S",{"v":0.0209,"d":"2.09%"},1313.5940615265185,1.3135940615265185]
["Ko-0",0,19.38,1156.98,885.96,1137.6,866.58,{"v":23.823839662447245,"d":"23.82"},271.01999999999987,{"v":2.382383966244725,"d":"2.38"},{"v":1.15544,"d":"1.155"},{"v":1155.44,"d":"1155.440"},{"v":0.5639849056603774,"d":"56.40%"},{"v":0.36135999999999985,"d":"36.14%"},null,null,"Kp-1-T",{"v":0.0311,"d":"3.11%"},1202.30563666648,1.20230563666648]
["Ko-1",1,18.85,1148.84,891.34,1129.99,872.49,{"v":22.787812281524616,"d":"22.79"},257.5,{"v":2.2787812281524613,"d":"2.28"},{"v":1.16332,"d":"1.163"},{"v":1163.32,"d":"1163.320"},{"v":0.5610113207547169,"d":"56.10%"},{"v":0.3433333333333333,"d":"34.33%"},null,null,"Kp-1-S",{"v":0.022799999999999997,"d":"2.28%"},1289.2308759694222,1.2892308759694222]
["Pa-0",0,18.87,959.42,774.06,940.55,755.1899999999999,{"v":19.70761788315348,"d":"19.71"},185.36,{"v":1.9707617883153477,"d":"1.97"},{"v":1.0069199999999998,"d":"1.007"},{"v":1006.9199999999998,"d":"1006.920"},{"v":0.6200301886792454,"d":"62.00%"},{"v":0.2471466666666667,"d":"24.71%"},null,null,"Ki-0-T",{"v":0.0179,"d":"1.79%"},1356.9796264412541,1.3569796264412541]
["Pa-1",1,18.85,952.04,756.94,933.1899999999999,738.09,{"v":20.90678211296734,"d":"20.91"},195.0999999999999,{"v":2.090678211296734,"d":"2.09"},{"v":0.98412,"d":"0.984"},{"v":984.12,"d":"984.120"},{"v":0.6286339622641509,"d":"62.86%"},{"v":0.2601333333333332,"d":"26.01%"},null,null,"Ki-0-S",{"v":0.0118,"d":"1.18%"},1473.6559572262795,1.4736559572262795]
[{"$nulls":16},"Ki-1-T",{"v":0.0222,"d":"2.22%"},1296.6979851524275,1.2966979851524274]
[{"$nulls":16},"Ki-1-S",{"v":0.015700000000000002,"d":"1.57%"},1393.6988265791392,1.3936988265791392]
[{"$nulls":16},"Na-0-T",{"v":0.038900000000000004,"d":"3.89%"},1139.6454358635006,1.1396454358635006]
[{"$nulls":16},"Na-0-S",{"v":0.0305,"d":"3.05%"},1207.7603546265902,1.2077603546265903]
[{"$nulls":16},"Na-1-T",{"v":0.0405,"d":"4.05%"},1128.3592732868347,1.1283592732868346]
[{"$nulls":16},"Na-1-S",{"v":0.039,"d":"3.90%"},1138.926565122032,1.138926565122032]
[{"$nulls":16},"Jn-0-T",{"v":0.0339,"d":"3.39%"},1178.1676220101397,1.1781676220101396]
[{"$nulls":16},"Jn-0-S",{"v":0.0235,"d":"2.35%"},1280.7637081163011,1.280763708116301]
[{"$nulls":16},"Jn-1-T",{"v":0.0316,"d":"3.16%"},1197.8398322723303,1.1978398322723303]
[{"$nulls":16},"Jn-1-S",{"v":0.0232,"d":"2.32%"},1284.3611880100987,1.2843611880100987]
[{"$nulls":16},"La-0-T",{"v":0.023700000000000002,"d":"2.37%"},1278.3908125588289,1.2783908125588288]
[{"$nulls":16},"La-0-S",{"v":0.0196,"d":"1.96%"},1331.5755474921207,1.3315755474921207]
[{"$nulls":16},"La-1-T",{"v":0.020099999999999996,"d":"2.01%"},1324.5222778201244,1.3245222778201244]
[{"$nulls":16},"La-1-S",{"v":0.0158,"d":"1.58%"},1391.9210428291149,1.3919210428291149]
[{"$nulls":16},"Ne-0-T",{"v":0.046,"d":"4.60%"},1092.7042350213862,1.0927042350213862]
[{"$nulls":16},"Ne-0-S",{"v":0.0368,"d":"3.68%"},1155.184429389365,1.155184429389365]
[{"$nulls":16},"Ne-1-S",{"v":0.0393,"d":"3.93%"},1136.7809607532724,1.1367809607532724]
[{"$nulls":16},"Ae-0-S",{"v":0.05530000000000001,"d":"5.53%"},1041.1474116504119,1.0411474116504118]
[{"$nulls":16},"Ae-1-S",{"v":0.0461,"d":"4.61%"},1092.096200037604,1.092096200037604]
[{"$nulls":16},"Ko-0-T",{"v":0.013300000000000001,"d":"1.33%"},1440.1498961745745,1.4401498961745745]
[{"$nulls":16},"Ko-0-S",{"v":0.00932,"d":"0.93%"},1539.7182900030327,1.5397182900030328]
[{"$nulls":16},"Ko-1-T",{"v":0.013600000000000001,"d":"1.36%"},1433.9042840705708,1.433904284070571]
[{"$nulls":16},"Ko-1-S",{"v":0.0102,"d":"1.02%"},1514.4552643570696,1.5144552643570697]
[{"$nulls":16},"Pa-0-T",{"v":0.0341,"d":"3.41%"},1176.520558437281,1.1765205584372809]
[{"$nulls":16},"Pa-0-S",{"v":0.028500000000000004,"d":"2.85%"},1226.7506816014434,1.2267506816014433]
[{"$nulls":16},"Pa-1-T",{"v":0.0341,"d":"3.41%"},{"$f":"(1.52-(0.28*LN(R69*100)))*1000","v":1176.520558437281},{"$f":"1.52-0.28*LN(R69*100)","v":1.1765205584372809}]
[{"$nulls":16},"Pa-1-S",{"v":0.0274,"d":"2.74%"},1237.7717822880059,1.2377717822880059]
[{"$nulls":16},"Ni-0-T",{"v":0.0662,"d":"6.62%"},990.7732964143033,0.9907732964143033]
[{"$nulls":16},"Ni-1-T",{"v":0.0737,"d":"7.37%"},960.7230422636512,0.9607230422636512]
[{"$nulls":16},"Ae-1-T",{"v":0.05940000000000001,"d":"5.94%"},1021.121442655125,1.021121442655125]
[{"$nulls":16},"Ae-0-T",{"v":0.07150000000000001,"d":"7.15%"},969.2085401223434,0.9692085401223434]
[{"$nulls":16},"Ne-1-T",{"v":0.0482,"d":"4.82%"},1079.6233001424976,1.0796233001424975]
[{"$nulls":16},"Ik-0-T",{"v":0.0742,"d":"7.42%"},958.829863989799,0.9588298639897991]
[{"$nulls":16},"Ik-0-S",{"v":0.06199999999999999,"d":"6.20%"},1009.1261982257072,1.0091261982257071]
[{"$nulls":16},"Ik-1-T",{"v":0.055,"d":"5.50%"},1042.6705341732409,1.042670534173241]
[{"$nulls":16},"Ik-1-S",{"v":0.046799999999999994,"d":"4.68%"},1087.8765292197245,1.0878765292197246]

{"sheet":"pH_EC","index":8,"n_rows":77,"n_cols":3,"rows_kept":77}
["Field","EC (uS/cm2)","pH"]
["Pu-0-T",71.3,7.32]
["Pu-0-S",57.2,7.05]
["Pu-1-T",79.2,7.4]
["Pu-1-S",67.2,7.9]
["Mo-0-T",81.4,6.22]
["Mo-0-S",60.2,6.47]
["Mo-1-T",41.07,6.33]
["Mo-1-S",39.6,6.54]
["Si-0-T",78.9,6.56]
["Si-0-S",46,6.57]
["Si-1-T",81.3,6.52]
["Si-1-S",46,6.34]
["Mi-0-T",70.4,6.53]
["Mi-0-S",48.3,6.7]
["Mi-1-T",69.2,6.63]
["Mi-1-S",63,6.71]
["Li-0-T",49.6,6.24]
["Li-0-S",38.84,6.55]
["Li-1-T",61.8,6.66]
["Li-1-S",49.8,6.93]
[{"$f":"Mass!A23","v":"Ai-0-T"},66.3,7.01]
[{"$f":"Mass!A24","v":"Ai-0-S"},66.7,7.2]
[{"$f":"Mass!A25","v":"Ai-1-T"},68.9,7.15]
[{"$f":"Mass!A26","v":"Ai-1-S"},68.9,7.24]
[{"$f":"Mass!A27","v":"Pi-0-T"},83.2,7.35]
[{"$f":"Mass!A28","v":"Pi-0-S"},57.5,7]
[{"$f":"Mass!A29","v":"Pi-1-T"},100.3,7.53]
[{"$f":"Mass!A30","v":"Pi-1-S"},64.8,7.27]
[{"$f":"Mass!A31","v":"Ja-0-T"},65.9,6.8]
[{"$f":"Mass!A32","v":"Ja-1-T"},56.3,6.69]
[{"$f":"Mass!A33","v":"Mu-0-T"},72.6,6.15]
[{"$f":"Mass!A34","v":"Mu-0-S"},48.8,6.31]
[{"$f":"Mass!A35","v":"Mu-1-T"},73.6,6.39]
[{"$f":"Mass!A36","v":"Mu-1-S"},56.7,6.59]
[{"$f":"Mass!A37","v":"Kp-0-T"},76.3,6.96]
[{"$f":"Mass!A38","v":"Kp-0-S"},41.27,6.56]
[{"$f":"Mass!A39","v":"Kp-1-T"},84.8,7]
[{"$f":"Mass!A40","v":"Kp-1-S"},43.17,6.55]
[{"$f":"Mass!A41","v":"Ki-0-T"},107.8,6.73]
[{"$f":"Mass!A42","v":"Ki-0-S"},53.2,7.06]
[{"$f":"Mass!A43","v":"Ki-1-T"},84.8,7.16]
[{"$f":"Mass!A44","v":"Ki-1-S"},62.7,7.5]
[{"$f":"Mass!A45","v":"Na-0-T"},76.8,6.63]
[{"$f":"Mass!A46","v":"Na-0-S"},79.7,6.38]
[{"$f":"Mass!A47","v":"Na-1-T"},78.4,6.38]
[{"$f":"Mass!A48","v":"Na-1-S"},69.3,6.09]
[{"$f":"Mass!A49","v":"Ik-0-T"},112.7,6.01]
[{"$f":"Mass!A50","v":"Ik-0-S"},118,5.96]
[{"$f":"Mass!A51","v":"Ik-1-T"},56.6,6.24]
[{"$f":"Mass!A52","v":"Ik-1-S"},72.2,6.06]
[{"$f":"Mass!A53","v":"Ne-0-T"},99,7.03]
[{"$f":"Mass!A54","v":"Ne-0-S"},87.3,6.6]
[{"$f":"Mass!A55","v":"Ne-1-T"},105.5,6.99]
[{"$f":"Mass!A56","v":"Ne-1-S"},97.2,6.37]
[{"$f":"Mass!A57","v":"Ae-0-T"},56.9,6.29]
[{"$f":"Mass!A58","v":"Ae-0-S"},58.6,5.9]
[{"$f":"Mass!A59","v":"Ae-1-T"},59.7,6.31]
[{"$f":"Mass!A60","v":"Ae-1-S"},59.2,6.07]
[{"$f":"Mass!A61","v":"Jn-0-T"},51.2,6.3]
[{"$f":"Mass!A62","v":"Jn-0-S"},43.19,6.45]
[{"$f":"Mass!A63","v":"Jn-1-T"},54.9,6.35]
[{"$f":"Mass!A64","v":"Jn-1-S"},48,6.55]
[{"$f":"Mass!A65","v":"Ni-0-T"},61.8,6]
[{"$f":"Mass!A66","v":"Ni-1-T"},58.6,6.01]
[{"$f":"Mass!A67","v":"La-0-T"},46.4,6.46]
[{"$f":"Mass!A68","v":"La-0-S"},43.3,6.31]
[{"$f":"Mass!A69","v":"La-1-T"},52.9,6.39]
[{"$f":"Mass!A70","v":"La-1-S"},44.7,6.38]
[{"$f":"Mass!A71","v":"Ko-0-T"},53.9,6.51]
[{"$f":"Mass!A72","v":"Ko-0-S"},39.25,6.52]
[{"$f":"Mass!A73","v":"Ko-1-T"},53.2,6.37]
[{"$f":"Mass!A74","v":"Ko-1-S"},36.22,6.38]
[{"$f":"Mass!A75","v":"Pa-0-T"},165.4,7.6]
[{"$f":"Mass!A76","v":"Pa-0-S"},76.4,7.17]
[{"$f":"Mass!A77","v":"Pa-1-T"},161.8,7.45]
[{"$f":"Mass!A78","v":"Pa-1-S"},79.3,7.08]

{"sheet":"Min_N","index":9,"n_rows":93,"n_cols":24,"rows_kept":93,"hidden":true}
["Field",null,null,"sampling depth (m)","fresh soil (g)","soil DM (g)","water %",{"$f":"Mass!J2","v":"DM%"},"water  (g)","water  (L)","2 M KCl (L)","BD (kg/l)","NO3 (mg N/L)","NO3 (mg N/L) Corrected ","NO3 (mg N/g weighed soil)","NO3 (mg N/10 g  soil)","NO3 (mg N/Kg)","NH4 (mg N/L)","NH4 (mg N/L) Corrected","NH4 (mg N/g weighed soil)","NH4 (mg N/10 g  soil)","NH4 (mg N/Kg)","NO3 (Kg N/ha)","NH4 (Kg N/ha)"]
["BL1-06.07",{"$nulls":9},0.05,null,0.05692,0.07507444987104926,{"$nulls":3},0.02311,-2.9010329238380915E-3]
["BL2-06.07",{"$nulls":9},0.05,null,0.07545,0.09234922104614354,{"$nulls":3},-0.00519,-0.028957715883901548]
["Pu-0-T","Pu-0","0-T",0.17,11,{"$f":"E4*(H4/100)","v":{"v":10.010989010989011,"d":"10.01099"}},{"$f":"Mass!I3","v":{"v":8.991008991008975,"d":"8.99"}},{"$f":"Mass!J3","v":{"v":91.00899100899102,"d":"91.01"}},{"$f":"(E4-F4)","v":{"v":0.989010989010989,"d":"0.989011"}},{"$f":"I4/1000","v":{"v":0.000989010989010989,"d":"0.000989"}},{"$f":"0.05+J4","v":{"v":0.05098901098901099,"d":"0.050989"}},{"$f":"VLOOKUP($B4,BD!$A$2:$O$93,11,FALSE)","v":{"v":0.9989466666666668,"d":"0.998947"}},{"v":0.43046,"d":"0.430"},0.4233107167218164,{"$f":"N4*K4","v":{"v":0.021584194786694818,"d":"0.0216"}},{"$f":"(10*O4)/F4","v":{"v":0.021560501927433903,"d":"0.0216"}},{"$f":"O4*100","v":{"v":2.1584194786694817,"d":"2.16"}},{"v":0.40861,"d":"0.409"},0.35204070845794505,{"$f":"S4*K4","v":{"v":0.017950207552141374,"d":"0.0180"}},{"$f":"(10*T4)/F4","v":{"v":0.017930503701919485,"d":"0.0179"}},{"$f":"U4*100","v":{"v":1.7930503701919485,"d":"1.79"}},{"$f":"((L4*1000)*D4*10000)*(Q4/1000000)","v":{"v":3.665448103924982,"d":"3.67"}},{"$f":"((L4*1000)*D4*10000)*(V4/1000000)","v":{"v":3.0449748737967557,"d":"3.04"}}]
["Pu-0-S","Pu-0","0-S",0.13,11.01,{"$f":"E5*(H5/100)","v":{"v":9.363163554381487,"d":"9.36316"}},{"$f":"Mass!I4","v":{"v":14.957642557842988,"d":"14.96"}},{"$f":"Mass!J4","v":{"v":85.04235744215701,"d":"85.04"}},{"$f":"(E5-F5)","v":{"v":1.6468364456185132,"d":"1.646836"}},{"$f":"I5/1000","v":{"v":1.6468364456185133E-3,"d":"0.001647"}},{"$f":"0.05+J5","v":{"v":0.051646836445618516,"d":"0.051647"}},{"$f":"VLOOKUP($B5,BD!$A$2:$O$93,11,FALSE)","v":{"v":0.9989466666666668,"d":"0.998947"}},{"v":0.44457,"d":"0.445"},0.43646490027716345,{"$f":"N5*K5","v":{"v":0.022542031318867856,"d":"0.0225"}},{"$f":"(10*O5)/F5","v":{"v":0.024075229689135703,"d":"0.0241"}},{"$f":"P5*100","v":{"v":2.4075229689135704,"d":"2.41"}},{"v":0.46317,"d":"0.463"},0.40227578345091547,{"$f":"S5*K5","v":{"v":0.020776271593922483,"d":"0.0208"}},{"$f":"(10*T5)/F5","v":{"v":0.02218937165120889,"d":"0.0222"}},{"v":2.218937165120889,"d":"2.22"},{"$f":"((L5*1000)*D5*10000)*(Q5/1000000)","v":{"v":3.126483158135543,"d":"3.13"}},{"$f":"((L5*1000)*D5*10000)*(V5/1000000)","v":{"v":2.881579850032384,"d":"2.88"}}]
["Pu-1-T","Pu-1","1-T",0.17,11.03,{"v":9.85096903096903,"d":"9.85097"},{"$f":"Mass!I5","v":{"v":10.689310689310695,"d":"10.69"}},{"$f":"Mass!J5","v":{"v":89.3106893106893,"d":"89.31"}},{"v":1.1790309690309702,"d":"1.179031"},{"v":1.1790309690309702E-3,"d":"0.001179"},{"v":0.051179030969030974,"d":"0.051179"},{"$f":"VLOOKUP($B6,BD!$A$2:$O$93,11,FALSE)","v":{"v":0.9775200000000001,"d":"0.977520"}},{"v":0.71321,"d":"0.713"},0.6869071306321191,{"v":0.03515524131146942,"d":"0.0352"},{"v":0.03568708946394002,"d":"0.0357"},{"v":3.568708946394002,"d":"3.57"},{"v":0.39099,"d":"0.391"},0.33581743094005395,{"v":0.017186810698021443,"d":"0.0172"},{"v":0.017446822382641065,"d":"0.0174"},{"v":1.7446822382641065,"d":"1.74"},{"v":5.930423427774412,"d":"5.93"},{"v":2.8992850286314806,"d":"2.90"}]
["Pu-1-S","Pu-1","1-S",0.13,11.03,{"v":9.355114885114883,"d":"9.35511"},{"$f":"Mass!I6","v":{"v":15.184815184815204,"d":"15.18"}},{"$f":"Mass!J6","v":{"v":84.8151848151848,"d":"84.82"}},{"v":1.6748851148851163,"d":"1.674885"},{"v":1.6748851148851163E-3,"d":"0.001675"},{"v":0.05167488511488512,"d":"0.051675"},{"$f":"VLOOKUP($B7,BD!$A$2:$O$93,11,FALSE)","v":{"v":0.9775200000000001,"d":"0.977520"}},{"v":0.70604,"d":"0.706"},0.6802228289955606,{"v":0.03515043654086774,"d":"0.0352"},{"v":0.037573495325852524,"d":"0.0376"},{"v":3.7573495325852524,"d":"3.76"},{"v":0.43537,"d":"0.435"},0.37667946591417467,{"v":0.019464868126251263,"d":"0.0195"},{"v":0.020806658566237615,"d":"0.0208"},{"v":2.0806658566237615,"d":"2.08"},{"v":4.7747496096205575,"d":"4.77"},{"v":2.6440602346169175,"d":"2.64"}]
["Mo-0-T","Mo-0","0-T",0.17,11.01,{"v":9.3585,"d":"9.35850"},{"$f":"Mass!I7","v":{"v":15.000000000000002,"d":"15.00"}},{"$f":"Mass!J7","v":{"v":85,"d":"85.00"}},{"v":1.6515000000000004,"d":"1.651500"},{"v":1.6515000000000004E-3,"d":"0.001652"},{"v":0.0516515,"d":"0.051652"},{"$f":"VLOOKUP($B8,BD!$A$2:$O$93,11,FALSE)","v":{"v":1.1019466666666669,"d":"1.101947"}},{"v":2.33607,"d":"2.336"},2.199834014021946,{"v":0.11362472657525455,"d":"0.1136"},{"v":0.12141339592376402,"d":"0.1214"},{"$f":"P8*100","v":{"v":12.141339592376402,"d":"12.14"}},{"v":0.47241,"d":"0.472"},0.4107833364739185,{"v":0.021217575503882605,"d":"0.0212"},{"v":0.022671983227955984,"d":"0.0227"},{"v":2.2671983227955983,"d":"2.27"},{"v":22.74448477756825,"d":"22.74"},{"v":4.247163778610675,"d":"4.25"}]
["Mo-0-S","Mo-0","0-S",0.13,11.01,{"v":9.006179999999999,"d":"9.00618"},{"$f":"Mass!I8","v":{"v":18.200000000000006,"d":"18.20"}},{"$f":"Mass!J8","v":{"v":81.8,"d":"81.80"}},{"v":2.003820000000001,"d":"2.003820"},{"v":0.002003820000000001,"d":"0.002004"},{"v":0.052003820000000006,"d":"0.052004"},{"$f":"VLOOKUP($B9,BD!$A$2:$O$93,11,FALSE)","v":{"v":1.1019466666666669,"d":"1.101947"}},{"v":1.17385,"d":"1.174"},0.284842192024744,{"v":0.014812882082460224,"d":"0.0148"},{"v":0.016447463944158597,"d":"0.0164"},{"v":1.6447463944158598,"d":"1.64"},{"v":0.45667,"d":"0.457"},0.39629103294772067,{"v":0.020608647545027337,"d":"0.0206"},{"v":0.022882784426946096,"d":"0.0229"},{"v":2.2882784426946094,"d":"2.29"},{"v":2.356149648890149,"d":"2.36"},{"v":3.278029043032272,"d":"3.28"}]
["Mo-1-T","Mo-1","1-T",0.17,11.03,{"v":9.476323676323675,"d":"9.47632"},{"$f":"Mass!I9","v":{"v":14.085914085914087,"d":"14.09"}},{"$f":"Mass!J9","v":{"v":85.91408591408592,"d":"85.91"}},{"v":1.5536763236763242,"d":"1.553676"},{"v":1.5536763236763242E-3,"d":"0.001554"},{"v":0.05155367632367633,"d":"0.051554"},{"$f":"VLOOKUP($B10,BD!$A$2:$O$93,11,FALSE)","v":{"v":1.0916400000000002,"d":"1.091640"}},{"v":0.16544,"d":"0.165"},0.17624326627262674,{"v":9.0859883036465E-3,"d":"0.0091"},{"v":0.009588094090061089,"d":"0.0096"},{"v":0.9588094090061089,"d":"0.96"},{"v":0.38493,"d":"0.385"},0.33023780200938313,{"v":0.017024972754634046,"d":"0.0170"},{"v":0.01796579911803821,"d":"0.0180"},{"v":1.7965799118038208,"d":"1.80"},{"v":1.7793469955206291,"d":"1.78"},{"v":3.3340714413665897,"d":"3.33"}]
["Mo-1-S","Mo-1","1-S",0.13,11.01,9.06123,{"$f":"Mass!I10","v":{"v":17.699999999999992,"d":"17.70"}},{"$f":"Mass!J10","v":{"v":82.30000000000001,"d":"82.30"}},{"v":1.9487699999999997,"d":"1.948770"},{"v":1.9487699999999996E-3,"d":"0.001949"},{"v":0.051948770000000005,"d":"0.051949"},{"$f":"VLOOKUP($B11,BD!$A$2:$O$93,11,FALSE)","v":{"v":1.0916400000000002,"d":"1.091640"}},{"v":0.28193,"d":"0.282"},1.1163432123426116,{"v":0.0579926567790475,"d":"0.0580"},{"v":0.06400086608445818,"d":"0.0640"},{"v":6.400086608445818,"d":"6.40"},{"v":0.44517,"d":"0.445"},0.38570262821129914,{"v":0.02003677712134429,"d":"0.0200"},{"v":0.02211264598883848,"d":"0.0221"},{"v":2.211264598883848,"d":"2.21"},{"v":9.082567708816933,"d":"9.08"},{"v":3.1380763527432336,"d":"3.14"}]
["Si-0-T","Si-0","0-T",0.17,11.01,{"v":9.262904191616766,"d":"9.26290"},{"$f":"Mass!I11","v":{"v":15.86826347305389,"d":"15.87"}},{"$f":"Mass!J11","v":{"v":84.13173652694611,"d":"84.13"}},{"v":1.747095808383234,"d":"1.747096"},{"v":1.747095808383234E-3,"d":"0.001747"},{"v":0.051747095808383235,"d":"0.051747"},{"$f":"VLOOKUP($B12,BD!$A$2:$O$93,11,FALSE)","v":{"v":0.9378799999999999,"d":"0.937880"}},{"v":1.47535,"d":"1.475"},1.3974194945493532,{"v":0.07231240046894785,"d":"0.0723"},{"v":0.07806666135486207,"d":"0.0781"},{"v":7.806666135486207,"d":"7.81"},{"v":0.31495,"d":"0.315"},0.2658050573611414,{"v":0.013754639769619785,"d":"0.0138"},{"v":0.014849165537162945,"d":"0.0148"},{"v":1.4849165537162945,"d":"1.48"},{"v":12.446917259754667,"d":"12.45"},{"v":2.367545013579045,"d":"2.37"}]
["Si-0-S","Si-0","0-S",0.13,11,{"v":8.989010989010989,"d":"8.98901"},{"$f":"Mass!I12","v":{"v":18.281718281718284,"d":"18.28"}},{"$f":"Mass!J12","v":{"v":81.71828171828172,"d":"81.72"}},{"v":2.010989010989011,"d":"2.010989"},{"v":0.002010989010989011,"d":"0.002011"},{"v":0.052010989010989016,"d":"0.052011"},{"$f":"VLOOKUP($B13,BD!$A$2:$O$93,11,FALSE)","v":{"v":0.9378799999999999,"d":"0.937880"}},{"v":0.61244,"d":"0.612"},0.5929633264597364,{"v":0.03084060905641684,"d":"0.0308"},{"v":0.03430923501386225,"d":"0.0343"},{"v":3.4309235013862254,"d":"3.43"},{"v":0.24677,"d":"0.247"},0.2030296282368613,{"v":0.010559771763132579,"d":"0.0106"},{"v":0.01174742335507414,"d":"0.0117"},{"v":1.174742335507414,"d":"1.17"},{"v":4.183132893524147,"d":"4.18"},{"v":1.4322975441134016,"d":"1.43"}]
["Si-1-T","Si-1","1-T",0.17,11.02,{"v":9.1814985014985,"d":"9.18150"},{"$f":"Mass!I13","v":{"v":16.683316683316683,"d":"16.68"}},{"$f":"Mass!J13","v":{"v":83.31668331668331,"d":"83.32"}},{"v":1.8385014985014987,"d":"1.838501"},{"v":1.8385014985014987E-3,"d":"0.001839"},{"v":0.0518385014985015,"d":"0.051839"},{"$f":"VLOOKUP($B14,BD!$A$2:$O$93,11,FALSE)","v":{"v":0.9320933333333333,"d":"0.932093"}},{"v":1.81321,"d":"1.813"},1.7123927373565497,{"v":0.08876787348148059,"d":"0.0888"},{"v":0.09668124812849764,"d":"0.0967"},{"v":9.668124812849763,"d":"9.67"},{"v":1.02794,"d":"1.028"},0.9222769437108109,{"v":0.047809454728586255,"d":"0.0478"},{"v":0.05207151612646164,"d":"0.0521"},{"v":5.207151612646164,"d":"5.21"},{"v":15.319710962616137,"d":"15.32"},{"v":8.251037216465788,"d":"8.25"}]
["Si-1-S","Si-1","1-S",0.13,11.01,{"v":8.854195804195806,"d":"8.85420"},{"$f":"Mass!I14","v":{"v":19.580419580419573,"d":"19.58"}},{"$f":"Mass!J14","v":{"v":80.41958041958043,"d":"80.42"}},{"v":2.155804195804194,"d":"2.155804"},{"v":0.002155804195804194,"d":"0.002156"},{"v":0.0521558041958042,"d":"0.052156"},{"$f":"VLOOKUP($B15,BD!$A$2:$O$93,11,FALSE)","v":{"v":0.9320933333333333,"d":"0.932093"}},0.527,0.5133110626065224,{"v":0.026772151272845972,"d":"0.0268"},{"v":0.030236683110350066,"d":"0.0302"},{"v":3.0236683110350064,"d":"3.02"},{"v":0.38322,"d":"0.383"},0.3286633522616196,{"v":0.017141701446893653,"d":"0.0171"},{"v":0.019359975570870686,"d":"0.0194"},{"v":1.9359975570870684,"d":"1.94"},{"v":3.6638433974050857,"d":"3.66"},{"v":2.3458895412036185,"d":"2.35"}]
["BL1-07-07",null,"0-T",null,null,{"v":0,"d":"0.00000"},null,null,{"v":0,"d":"0.000000"},{"v":0,"d":"0.000000"},{"v":0.05,"d":"0.050000"},null,-0.01023,0.01247321487873514,{"v":6.2366074393675709E-4,"d":"0.0006"},null,null,0.09316,0.061596162883668815,{"v":0.003079808144183441,"d":"0.0031"}]
["BL2-07-07",null,"0-S",null,null,{"v":0,"d":"0.00000"},null,null,{"v":0,"d":"0.000000"},{"v":0,"d":"0.000000"},{"v":0.05,"d":"0.050000"},null,-0.02025,0.003131973261118052,{"v":1.5659866305590259E-4,"d":"0.0002"},null,null,0.12832,0.09396905945171938,{"v":0.004698452972585969,"d":"0.0047"}]
["Mi-0-T","Mi-0","0-T",0.17,11.02,{"v":9.433119999999999,"d":"9.43312"},{"$f":"Mass!I15","v":{"v":14.400000000000013,"d":"14.40"}},{"$f":"Mass!J15","v":{"v":85.6,"d":"85.60"}},{"v":1.5868800000000007,"d":"1.586880"},{"v":1.5868800000000008E-3,"d":"0.001587"},{"v":0.05158688,"d":"0.051587"},{"$f":"VLOOKUP($B18,BD!$A$2:$O$93,11,FALSE)","v":{"v":1.0142266666666668,"d":"1.01"}},{"v":0.52383,"d":"0.524"},0.5103557995398711,{"v":0.026327663388167385,"d":"0.0263"},{"$f":"(10*O18)/F18","v":{"v":0.02790981497973882,"d":"0.0279"}},{"v":2.790981497973882,"d":"2.79"},{"v":0.34273,"d":"0.343"},0.29138296028094923,{"v":0.015031537806058095,"d":"0.0150"},{"v":0.01593485273807404,"d":"0.0159"},{"v":1.593485273807404,"d":"1.59"},{"$f":"((L18*1000)*D18*10000)*(Q18/1000000)","v":{"v":4.812169364411265,"d":"4.81"}},{"$f":"((L18*1000)*D18*10000)*(V18/1000000)","v":{"v":2.7474639379813772,"d":"2.75"}}]
["Mi-0-S","Mi-0","0-S",0.13,11.03,9.41962,{"$f":"Mass!I16","v":{"v":14.59999999999999,"d":"14.60"}},{"$f":"Mass!J16","v":{"v":85.4,"d":"85.40"}},{"v":1.6103799999999993,"d":"1.610380"},{"v":1.6103799999999994E-3,"d":"0.001610"},{"v":0.051610380000000004,"d":"0.051610"},{"$f":"VLOOKUP($B19,BD!$A$2:$O$93,11,FALSE)","v":{"v":1.0142266666666668,"d":"1.01"}},{"v":0.31649,"d":"0.316"},0.3170610852687406,{"v":0.016363643093932106,"d":"0.0164"},{"v":0.017371871788811128,"d":"0.0174"},{"v":1.7371871788811128,"d":"1.74"},{"v":0.31448,"d":"0.314"},0.2653723138632181,{"v":0.013695965959959954,"d":"0.0137"},{"v":0.01453982852807221,"d":"0.0145"},{"v":1.453982852807221,"d":"1.45"},{"$f":"((L19*1000)*D19*10000)*(Q19/1000000)","v":{"v":2.2904720303564603,"d":"2.29"}},{"v":1.9170686368511063,"d":"1.92"}]
["Mi-1-T","Mi-1","1-T",0.17,11.01,{"v":9.380519999999999,"d":"9.38052"},{"$f":"Mass!I17","v":{"v":14.800000000000002,"d":"14.80"}},{"$f":"Mass!J17","v":{"v":85.2,"d":"85.20"}},{"v":1.629480000000001,"d":"1.629480"},{"v":1.6294800000000009E-3,"d":"0.001629"},{"v":0.051629480000000005,"d":"0.051629"},{"$f":"VLOOKUP($B20,BD!$A$2:$O$93,11,FALSE)","v":{"v":0.9369999999999999,"d":"0.94"}},{"v":0.52422,"d":"0.524"},0.510719380800437,{"v":0.026368176056648547,"d":"0.0264"},{"v":0.028109503584714438,"d":"0.0281"},{"v":2.8109503584714437,"d":"2.81"},{"v":0.30753,"d":"0.308"},0.2589732344790329,{"v":0.013370653430070541,"d":"0.0134"},{"v":0.014253637783481666,"d":"0.0143"},{"v":1.4253637783481665,"d":"1.43"},{"v":4.477562826009163,"d":"4.48"},{"v":2.2704619625307947,"d":"2.27"}]
["Mi-1-S","Mi-1","1-S",0.13,11.01,9.33648,{"$f":"Mass!I18","v":{"v":15.199999999999992,"d":"15.20"}},{"$f":"Mass!J18","v":{"v":84.80000000000001,"d":"84.80"}},{"v":1.67352,"d":"1.673520"},{"v":1.67352E-3,"d":"0.001674"},{"v":0.05167352,"d":"0.051674"},{"$f":"VLOOKUP($B21,BD!$A$2:$O$93,11,FALSE)","v":{"v":0.9369999999999999,"d":"0.94"}},{"v":0.67919,"d":"0.679"},0.6551916575950597,{"v":0.03385605922257147,"d":"0.0339"},{"v":0.03626212365106707,"d":"0.0363"},{"v":3.626212365106707,"d":"3.63"},{"v":0.26147,"d":"0.261"},0.21656437168254797,{"v":0.011190643391425576,"d":"0.0112"},{"v":0.011985934090177,"d":"0.0120"},{"v":1.1985934090177,"d":"1.20"},{"v":4.41708928193648,"d":"4.42"},{"v":1.4600066315244604,"d":"1.46"}]
["Li-0-T","Li-0","0-T",0.17,11.01,{"v":9.426143856143858,"d":"9.42614"},{"$f":"Mass!I19","v":{"v":14.385614385614376,"d":"14.39"}},{"$f":"Mass!J19","v":{"v":85.61438561438563,"d":"85.61"}},{"v":1.583856143856142,"d":"1.583856"},{"v":0.001583856143856142,"d":"0.001584"},{"v":0.05158385614385615,"d":"0.051584"},{"$f":"VLOOKUP($B22,BD!$A$2:$O$93,11,FALSE)","v":{"v":0.88112,"d":"0.88"}},{"v":0.60164,"d":"0.602"},0.5828949223209874,{"v":0.030067967819990018,"d":"0.0301"},{"v":0.03189848179581096,"d":"0.0319"},{"v":3.189848179581096,"d":"3.19"},{"v":0.2859,"d":"0.286"},0.23905782626609393,{"v":0.012331524520173144,"d":"0.0123"},{"v":0.013082257928978658,"d":"0.0131"},{"v":1.3082257928978658,"d":"1.31"},{"v":4.778086347587242,"d":"4.78"},{"v":1.9595966480848845,"d":"1.96"}]
["Li-0-S","Li-0","0-S",0.13,11.01,{"v":9.1383,"d":"9.13830"},{"$f":"Mass!I20","v":{"v":16.999999999999993,"d":"17.00"}},{"$f":"Mass!J20","v":{"v":83,"d":"83.00"}},{"v":1.8717000000000006,"d":"1.871700"},{"v":1.8717000000000007E-3,"d":"0.001872"},{"v":0.05187170000000001,"d":"0.051872"},{"$f":"VLOOKUP($B23,BD!$A$2:$O$93,11,FALSE)","v":{"v":0.88112,"d":"0.88"}},{"v":0.20729,"d":"0.207"},0.21525833231027897,{"v":0.0111658156360991,"d":"0.0112"},{"v":0.012218701110818315,"d":"0.0122"},{"v":1.2218701110818315,"d":"1.22"},{"v":0.25066,"d":"0.251"},0.20661127123031173,{"v":0.010717277877877362,"d":"0.0107"},{"v":0.011727868288278305,"d":"0.0117"},{"v":1.1727868288278305,"d":"1.17"},{"v":1.3995984499593503,"d":"1.40"},{"v":1.3433757098018113,"d":"1.34"}]
["Li-1-T","Li-1","1-T",0.17,11.01,{"v":9.270420000000001,"d":"9.27042"},{"$f":"Mass!I21","v":{"v":15.800000000000002,"d":"15.80"}},{"$f":"Mass!J21","v":{"v":84.2,"d":"84.20"}},{"v":1.7395799999999983,"d":"1.739580"},{"v":1.7395799999999984E-3,"d":"0.001740"},{"v":0.05173958,"d":"0.051740"},{"$f":"VLOOKUP($B24,BD!$A$2:$O$93,11,FALSE)","v":{"v":0.9022800000000001,"d":"0.90"}},{"v":0.45031,"d":"0.450"},0.44181607062498,{"v":0.022859377931386805,"d":"0.0229"},{"v":0.024658405909750367,"d":"0.0247"},{"v":2.4658405909750365,"d":"2.47"},{"v":0.44165,"d":"0.442"},0.38246165563110746,{"v":0.019788405428458136,"d":"0.0198"},{"v":0.021345748551261035,"d":"0.0213"},{"v":2.1345748551261035,"d":"2.13"},{"v":3.7822937023224257,"d":"3.78"},{"v":3.2741731404814076,"d":"3.27"}]
["Li-1-S","Li-1","1-S",0.13,11,{"v":9.142857142857142,"d":"9.14286"},{"$f":"Mass!I22","v":{"v":16.883116883116877,"d":"16.88"}},{"$f":"Mass!J22","v":{"v":83.11688311688312,"d":"83.12"}},{"v":1.8571428571428577,"d":"1.857143"},{"v":1.8571428571428576E-3,"d":"0.001857"},{"v":0.05185714285714286,"d":"0.051857"},{"$f":"VLOOKUP($B25,BD!$A$2:$O$93,11,FALSE)","v":{"v":0.9022800000000001,"d":"0.90"}},{"v":0.18387,"d":"0.184"},0.19342481148347335,{"v":0.010030458081214404,"d":"0.0100"},{"v":0.010970813526328255,"d":"0.0110"},{"v":1.0970813526328254,"d":"1.10"},{"v":0.28444,"d":"0.284"},0.23771355922999174,{"v":0.012327146000069572,"d":"0.0123"},{"v":0.013482815937576095,"d":"0.0135"},{"v":1.3482815937576096,"d":"1.35"},{"v":1.2868369317096096,"d":"1.29"},{"v":1.5814857713403012,"d":"1.58"}]
["BL1-13.07",{"$nulls":4},{"v":0,"d":"0.00000"},null,null,{"v":0,"d":"0.000000"},{"v":0,"d":"0.000000"},{"v":0.05,"d":"0.050000"},null,-0.02094,2.488714107809091E-3,{"v":1.2443570539045457E-4,"d":"0.0001"},null,null,0.09262,0.06109896822648031,{"v":3.0549484113240157E-3,"d":"0.0031"}]
["BL2-13.07",{"$nulls":4},{"v":0,"d":"0.00000"},null,null,{"v":0,"d":"0.000000"},{"v":0,"d":"0.000000"},{"v":0.05,"d":"0.050000"},null,-0.01788,0.005341428613787962,{"v":2.6707143068939812E-4,"d":"0.0003"},null,null,0.07257,0.04263831475124101,{"v":2.1319157375620508E-3,"d":"0.0021"}]
["Ai-0-T","Ai-0","0-T",0.17,11.02,{"v":9.832215568862276,"d":"9.83222"},{"$f":"Mass!I23","v":{"v":10.77844311377244,"d":"10.78"}},{"$f":"Mass!J23","v":{"v":89.22155688622756,"d":"89.22"}},{"v":1.1877844311377235,"d":"1.187784"},{"v":1.1877844311377235E-3,"d":"0.001188"},{"v":0.05118778443113772,"d":"0.051188"},{"$f":"VLOOKUP($B28,BD!$A$2:$O$93,11,FALSE)","v":{"v":1.3526666666666667,"d":"1.35"}},{"v":0.35959,"d":"0.360"},0.3572414758594888,{"v":0.018286399656157002,"d":"0.0183"},{"$f":"(10*O28)/F28","v":{"v":0.018598452737415918,"d":"0.0186"}},{"v":1.8598452737415918,"d":"1.86"},{"v":0.59981,"d":"0.600"},0.5280844463365363,{"v":0.027031472800511335,"d":"0.0270"},{"v":0.027492758484789052,"d":"0.0275"},{"v":2.7492758484789053,"d":"2.75"},{"$f":"((L28*1000)*D28*10000)*(Q28/1000000)","v":{"v":4.276776201811249,"d":"4.28"}},{"$f":"((L28*1000)*D28*10000)*(V28/1000000)","v":{"v":6.322051456105528,"d":"6.32"}}]
["Ai-0-S","Ai-0","0-S",0.13,11,{"v":9.966000000000001,"d":"9.96600"},{"$f":"Mass!I24","v":{"v":9.399999999999997,"d":"9.40"}},{"$f":"Mass!J24","v":{"v":90.60000000000001,"d":"90.60"}},{"v":1.033999999999999,"d":"1.034000"},{"v":0.001033999999999999,"d":"0.001034"},0.051034,{"$f":"VLOOKUP($B29,BD!$A$2:$O$93,11,FALSE)","v":{"v":1.3526666666666667,"d":"1.35"}},{"v":0.45509,"d":"0.455"},0.4462722717160189,{"v":0.02277505911475531,"d":"0.0228"},{"v":0.02285275849363366,"d":"0.0229"},{"v":2.285275849363366,"d":"2.29"},{"v":0.43701,"d":"0.437"},0.37818946450267305,{"v":0.019300521131429417,"d":"0.0193"},{"v":0.019366366778476234,"d":"0.0194"},{"v":1.9366366778476234,"d":"1.94"},{"$f":"((L29*1000)*D29*10000)*(Q29/1000000)","v":{"v":4.018581405243833,"d":"4.02"}},{"v":3.4055110434391183,"d":"3.41"}]
["Ai-1-T","Ai-1","1-T",0.17,11.01,{"v":9.462233300099701,"d":"9.46223"},{"$f":"Mass!I25","v":{"v":14.057826520438688,"d":"14.06"}},{"$f":"Mass!J25","v":{"v":85.94217347956132,"d":"85.94"}},{"v":1.5477666999002988,"d":"1.547767"},{"v":1.5477666999002989E-3,"d":"0.001548"},{"v":0.0515477666999003,"d":"0.051548"},{"$f":"VLOOKUP($B30,BD!$A$2:$O$93,11,FALSE)","v":{"v":1.3222133333333332,"d":"1.32"}},{"v":0.04172,"d":"0.042"},0.060904103305402586,{"v":3.1394705082535192E-3,"d":"0.0031"},{"v":3.3178959011932623E-3,"d":"0.0033"},{"v":0.33178959011932624,"d":"0.33"},{"v":0.23546,"d":"0.235"},0.19261616236130238,{"v":9.928933000030532E-3,"d":"0.0099"},{"v":0.010493223623989396,"d":"0.0105"},{"v":1.0493223623989396,"d":"1.05"},{"v":0.7457842538588569,"d":"0.75"},{"v":2.358627631498807,"d":"2.36"}]
["Ai-1-S","Ai-1","1-S",0.13,11,{"v":9.823,"d":"9.82300"},{"$f":"Mass!I26","v":{"v":10.7,"d":"10.70"}},{"$f":"Mass!J26","v":{"v":89.3,"d":"89.30"}},{"v":1.1769999999999996,"d":"1.177000"},{"v":1.1769999999999997E-3,"d":"0.001177"},0.051177,{"$f":"VLOOKUP($B31,BD!$A$2:$O$93,11,FALSE)","v":{"v":1.3222133333333332,"d":"1.32"}},{"v":0.32102,"d":"0.321"},0.32128422144916036,{"v":0.01644236260110368,"d":"0.0164"},{"v":0.016738636466561825,"d":"0.0167"},{"v":1.6738636466561825,"d":"1.67"},{"v":0.19017,"d":"0.190"},0.1509162623167344,{"v":0.007723441556583517,"d":"0.0077"},{"v":0.007862609749143355,"d":"0.0079"},{"v":0.7862609749143354,"d":"0.79"},{"v":2.8771662813279875,"d":"2.88"},{"v":1.3514861678648196,"d":"1.35"}]
["Pi-0-T","Pi-0","0-T",0.17,11,{"v":8.956043956043956,"d":"8.95604"},{"$f":"Mass!I27","v":{"v":18.581418581418575,"d":"18.58"}},{"$f":"Mass!J27","v":{"v":81.41858141858143,"d":"81.42"}},{"v":2.043956043956044,"d":"2.043956"},{"v":2.0439560439560437E-3,"d":"0.002044"},{"v":0.05204395604395605,"d":"0.052044"},{"$f":"VLOOKUP($B32,BD!$A$2:$O$93,11,FALSE)","v":{"v":0.9918533333333333,"d":"0.99"}},{"v":0.74458,"d":"0.745"},0.7161521156166148,{"v":0.037271389225937236,"d":"0.0373"},{"$f":"(10*O32)/F32","v":{"v":0.04161590698846979,"d":"0.0416"}},{"v":4.16159069884698,"d":"4.16"},{"v":0.34025,"d":"0.340"},0.2890995477812688,{"v":0.015045884157055925,"d":"0.0150"},{"v":0.01679969887474956,"d":"0.0168"},{"v":1.679969887474956,"d":"1.68"},{"v":7.0170689312546335,"d":"7.02"},{"v":2.832682345745822,"d":"2.83"}]
["Pi-0-S","Pi-0","0-S",0.13,11.01,{"v":9.050219999999998,"d":"9.05022"},{"$f":"Mass!I28","v":{"v":17.800000000000015,"d":"17.80"}},{"$f":"Mass!J28","v":{"v":82.19999999999999,"d":"82.20"}},{"v":1.959780000000002,"d":"1.959780"},{"v":0.001959780000000002,"d":"0.001960"},{"v":0.051959780000000004,"d":"0.051960"},{"$f":"VLOOKUP($B33,BD!$A$2:$O$93,11,FALSE)","v":{"v":0.9918533333333333,"d":"0.99"}},{"v":0.17187,"d":"0.172"},0.1822376957737523,{"v":0.0094690305801111,"d":"0.0095"},{"v":0.010462762872185541,"d":"0.0105"},{"v":1.046276287218554,"d":"1.05"},{"v":0.24472,"d":"0.245"},0.20114213000123835,{"v":0.010451300823595746,"d":"0.0105"},{"v":0.011548117972376084,"d":"0.0115"},{"v":1.1548117972376084,"d":"1.15"},{"v":1.3490784099849509,"d":"1.35"},{"v":1.4890251096016132,"d":"1.49"}]
["Pi-1-T","Pi-1","1-T",0.17,11,{"v":8.868131868131869,"d":"8.86813"},{"$f":"Mass!I29","v":{"v":19.38061938061938,"d":"19.38"}},{"$f":"Mass!J29","v":{"v":80.61938061938062,"d":"80.62"}},{"v":2.1318681318681314,"d":"2.131868"},{"v":2.1318681318681313E-3,"d":"0.002132"},{"v":0.05213186813186813,"d":"0.052132"},{"$f":"VLOOKUP($B34,BD!$A$2:$O$93,11,FALSE)","v":{"v":0.8801066666666667,"d":"0.88"}},{"v":0.33236,"d":"0.332"},0.33185604579484673,{"v":0.017300275618140144,"d":"0.0173"},{"v":0.019508365319092353,"d":"0.0195"},{"v":1.9508365319092353,"d":"1.95"},{"v":0.27821,"d":"0.278"},0.2319774060553912,{"v":0.01209341554205248,"d":"0.0121"},{"v":0.013636936980505275,"d":"0.0136"},{"v":1.3636936980505274,"d":"1.36"},{"v":2.9188052034273353,"d":"2.92"},{"v":2.040333055407502,"d":"2.04"}]
["Pi-1-S","Pi-1","1-S",0.13,11.01,{"v":8.94218781218781,"d":"8.94219"},{"$f":"Mass!I30","v":{"v":18.78121878121879,"d":"18.78"}},{"$f":"Mass!J30","v":{"v":81.2187812187812,"d":"81.22"}},{"v":2.0678121878121907,"d":"2.067812"},{"v":2.0678121878121907E-3,"d":"0.002068"},{"v":0.052067812187812194,"d":"0.052068"},{"$f":"VLOOKUP($B35,BD!$A$2:$O$93,11,FALSE)","v":{"v":0.8801066666666667,"d":"0.88"}},{"v":0.28128,"d":"0.281"},0.28423622325713405,{"v":0.014799558289525512,"d":"0.0148"},{"v":0.016550265550623264,"d":"0.0166"},{"v":1.6550265550623264,"d":"1.66"},{"v":0.28076,"d":"0.281"},0.23432526971433684,{"v":0.012200804134344528,"d":"0.0122"},{"v":0.013644092911709335,"d":"0.0136"},{"v":1.3644092911709336,"d":"1.36"},{"v":1.893579876006937,"d":"1.89"},{"v":1.5610734271879239,"d":"1.56"}]
["Ja-0-T","Ja-0","0-T",0.17,11,{"v":8.56043956043956,"d":"8.56044"},{"$f":"Mass!I31","v":{"v":22.177822177822172,"d":"22.18"}},{"$f":"Mass!J31","v":{"v":77.82217782217782,"d":"77.82"}},{"v":2.4395604395604398,"d":"2.439560"},{"v":2.4395604395604396E-3,"d":"0.002440"},{"v":0.05243956043956044,"d":"0.052440"},{"$f":"VLOOKUP($B36,BD!$A$2:$O$93,11,FALSE)","v":{"v":0.7344933333333333,"d":"0.73"}},{"v":1.00612,"d":"1.006"},0.9599753025099853,{"v":0.05034068289645769,"d":"0.0503"},{"v":0.058806189262870984,"d":"0.0588"},{"v":5.880618926287099,"d":"5.88"},{"v":0.36252,"d":"0.363"},0.3096042237360608,{"v":0.016235509402950352,"d":"0.0162"},{"v":0.018965742691508112,"d":"0.0190"},{"v":1.8965742691508112,"d":"1.90"},{"v":7.342768175293888,"d":"7.34"},{"v":2.368135966666777,"d":"2.37"}]
["Ja-1-T","Ja-1","1-T",0.17,11.01,{"v":8.664869999999999,"d":"8.66487"},{"$f":"Mass!I32","v":{"v":21.300000000000008,"d":"21.30"}},{"$f":"Mass!J32","v":{"v":78.69999999999999,"d":"78.70"}},{"v":2.345130000000001,"d":"2.345130"},{"v":2.3451300000000013E-3,"d":"0.002345"},{"v":0.052345130000000004,"d":"0.052345"},{"$f":"VLOOKUP($B37,BD!$A$2:$O$93,11,FALSE)","v":{"v":0.9958266666666667,"d":"1.00"}},{"v":0.81666,"d":"0.817"},0.7833493906463393,{"v":0.04100452568880342,"d":"0.0410"},{"v":0.04732272462114656,"d":"0.0473"},{"v":4.732272462114656,"d":"4.73"},{"v":0.31736,"d":"0.317"},0.2680240187015567,{"v":0.014029752102055416,"d":"0.0140"},{"v":0.016191532131532748,"d":"0.0162"},{"v":1.6191532131532749,"d":"1.62"},{"v":8.011289289900366,"d":"8.01"},{"v":2.741073110030983,"d":"2.74"}]
["BL1-14.07",{"$nulls":4},{"v":0,"d":"0.00000"},null,null,{"v":0,"d":"0.000000"},{"v":0,"d":"0.000000"},{"v":0.05,"d":"0.050000"},null,-0.04309,-0.018160836973051042,{"v":-9.0804184865255215E-4,"d":"-0.0009"},null,null,0.10809,0.07534267442408392,{"v":3.767133721204196E-3,"d":"0.0038"}]
["BL2-14.07",{"$nulls":4},{"v":0,"d":"0.00000"},null,null,{"v":0,"d":"0.000000"},{"v":0,"d":"0.000000"},{"v":0.05,"d":"0.050000"},null,-0.03805,-0.013462248374968193,{"v":-6.7311241874840966E-4,"d":"-0.0007"},null,null,0.06789,0.038329294388940775,{"v":0.001916464719447039,"d":"0.0019"}]
["Mu-0-T","Mu-0","0-T",0.17,11.01,8.77497,{"$f":"Mass!I33","v":{"v":20.299999999999997,"d":"20.30"}},{"$f":"Mass!J33","v":{"v":79.7,"d":"79.70"}},{"v":2.23503,"d":"2.235030"},{"v":2.2350300000000003E-3,"d":"0.002235"},{"v":0.05223503,"d":"0.052235"},{"$f":"VLOOKUP($B40,BD!$A$2:$O$93,11,FALSE)","v":{"v":1.0508266666666668,"d":"1.05"}},{"v":0.57315,"d":"0.573"},0.5563348451068247,{"v":0.029060167324200345,"d":"0.0291"},{"$f":"(10*O40)/F40","v":{"v":0.03311711302055773,"d":"0.0331"}},{"v":3.311711302055773,"d":"3.31"},{"v":0.40247,"d":"0.402"},0.34638742105954257,{"v":0.01809355733066784,"d":"0.0181"},{"v":0.02061950904751565,"d":"0.0206"},{"v":2.0619509047515647,"d":"2.06"},{"$f":"((L40*1000)*D40*10000)*(Q40/1000000)","v":{"v":5.916058732452711,"d":"5.92"}},{"$f":"((L40*1000)*D40*10000)*(V40/1000000)","v":{"v":3.6834800933196883,"d":"3.68"}}]
["Mu-0-S","Mu-0","0-S",0.13,11.01,{"v":8.777202797202799,"d":"8.77720"},{"$f":"Mass!I34","v":{"v":20.27972027972027,"d":"20.28"}},{"$f":"Mass!J34","v":{"v":79.72027972027973,"d":"79.72"}},{"v":2.232797202797201,"d":"2.232797"},{"v":0.002232797202797201,"d":"0.002233"},{"v":0.05223279720279721,"d":"0.052233"},{"$f":"VLOOKUP($B41,BD!$A$2:$O$93,11,FALSE)","v":{"v":1.0508266666666668,"d":"1.05"}},{"v":0.2183,"d":"0.218"},0.22552251097394801,{"v":0.011779671580367834,"d":"0.0118"},{"v":0.01342075813050815,"d":"0.0134"},{"v":1.342075813050815,"d":"1.34"},{"v":0.39012,"d":"0.390"},0.33501639510347253,{"v":0.017498843425051865,"d":"0.0175"},{"v":0.019936697179457404,"d":"0.0199"},{"v":1.9936697179457403,"d":"1.99"},{"$f":"((L41*1000)*D41*10000)*(Q41/1000000)","v":{"v":1.833375768954788,"d":"1.83"}},{"v":2.723501695386155,"d":"2.72"}]
["Mu-1-T","Mu-1","1-T",0.17,11.01,{"v":8.68921078921079,"d":"8.68921"},{"$f":"Mass!I35","v":{"v":21.078921078921077,"d":"21.08"}},{"$f":"Mass!J35","v":{"v":78.92107892107893,"d":"78.92"}},{"v":2.3207892107892096,"d":"2.320789"},{"v":2.3207892107892096E-3,"d":"0.002321"},{"v":0.05232078921078921,"d":"0.052321"},{"$f":"VLOOKUP($B42,BD!$A$2:$O$93,11,FALSE)","v":{"v":1.0252666666666665,"d":"1.03"}},{"v":0.49493,"d":"0.495"},0.4834134958722928,{"v":0.025292575619184954,"d":"0.0253"},{"v":0.029108023999820803,"d":"0.0291"},{"v":2.9108023999820802,"d":"2.91"},{"v":0.44847,"d":"0.448"},0.38874104000522874,{"v":0.02033923801169655,"d":"0.0203"},{"v":0.023407463007976918,"d":"0.0234"},{"v":2.340746300797692,"d":"2.34"},{"v":5.073392745723433,"d":"5.07"},{"v":4.079811567463006,"d":"4.08"}]
["Mu-1-S","Mu-1","1-S",0.13,11.01,{"v":8.689210789210788,"d":"8.68921"},{"$f":"Mass!I36","v":{"v":21.078921078921088,"d":"21.08"}},{"$f":"Mass!J36","v":{"v":78.92107892107892,"d":"78.92"}},{"v":2.3207892107892114,"d":"2.320789"},{"v":2.3207892107892114E-3,"d":"0.002321"},{"v":0.05232078921078921,"d":"0.052321"},{"$f":"VLOOKUP($B43,BD!$A$2:$O$93,11,FALSE)","v":{"v":1.0252666666666665,"d":"1.03"}},{"v":0.3086,"d":"0.309"},0.30970555668959904,{"v":0.01620403914896664,"d":"0.0162"},{"v":0.018648459039671196,"d":"0.0186"},{"v":1.8648459039671197,"d":"1.86"},{"v":0.37939,"d":"0.379"},0.3251369531189679,{"v":0.017011421988775772,"d":"0.0170"},{"v":0.01957763760305884,"d":"0.0196"},{"v":1.9577637603058842,"d":"1.96"},{"v":2.4855536469495623,"d":"2.49"},{"v":2.609398902044497,"d":"2.61"}]
["Kp-0-T","Kp-0","0-T",0.17,11.01,{"v":9.237390000000001,"d":"9.23739"},{"$f":"Mass!I37","v":{"v":16.09999999999999,"d":"16.10"}},{"$f":"Mass!J37","v":{"v":83.9,"d":"83.90"}},{"v":1.7726099999999985,"d":"1.772610"},{"v":1.7726099999999985E-3,"d":"0.001773"},{"v":0.051772610000000004,"d":"0.051773"},{"$f":"VLOOKUP($B44,BD!$A$2:$O$93,11,FALSE)","v":{"v":0.8375466666666666,"d":"0.84"}},{"v":0.26536,"d":"0.265"},0.26939464974890415,{"v":0.013947264137536613,"d":"0.0139"},{"v":0.015098706601687936,"d":"0.0151"},{"v":1.5098706601687935,"d":"1.51"},{"v":0.28483,"d":"0.285"},0.23807264426018343,{"v":0.012325642162951216,"d":"0.0123"},{"v":0.013343208593500128,"d":"0.0133"},{"v":1.3343208593500129,"d":"1.33"},{"v":2.1497981354876923,"d":"2.15"},{"v":1.899845179621089,"d":"1.90"}]
["Kp-0-S","Kp-0","0-S",0.13,11,{"v":9.043956043956046,"d":"9.04396"},{"$f":"Mass!I38","v":{"v":17.782217782217778,"d":"17.78"}},{"$f":"Mass!J38","v":{"v":82.21778221778223,"d":"82.22"}},{"v":1.9560439560439544,"d":"1.956044"},{"v":1.9560439560439543E-3,"d":"0.001956"},{"v":0.05195604395604396,"d":"0.051956"},{"$f":"VLOOKUP($B45,BD!$A$2:$O$93,11,FALSE)","v":{"v":0.8375466666666666,"d":"0.84"}},{"v":0.20983,"d":"0.210"},0.2176262718021699,{"v":0.01130700014374351,"d":"0.0113"},{"v":0.012502272333908373,"d":"0.0125"},{"v":1.2502272333908373,"d":"1.25"},{"v":0.28339,"d":"0.283"},0.23674679184101408,{"v":0.012300426723344117,"d":"0.0123"},{"v":0.01360071484598195,"d":"0.0136"},{"v":1.360071484598195,"d":"1.36"},{"v":1.3612607474730996,"d":"1.36"},{"v":1.4808603398596836,"d":"1.48"}]
["Kp-1-T","Kp-1","1-T",0.17,11,{"v":9.24,"d":"9.24000"},{"$f":"Mass!I39","v":{"v":15.999999999999993,"d":"16.00"}},{"$f":"Mass!J39","v":{"v":84,"d":"84.00"}},{"v":1.7599999999999998,"d":"1.760000"},{"v":1.7599999999999998E-3,"d":"0.001760"},{"v":0.05176,"d":"0.051760"},{"$f":"VLOOKUP($B46,BD!$A$2:$O$93,11,FALSE)","v":{"v":0.8470533333333335,"d":"0.85"}},{"v":0.34581,"d":"0.346"},0.3443949379861591,{"v":0.017825881990163595,"d":"0.0178"},{"v":0.019292080075934626,"d":"0.0193"},{"v":1.9292080075934626,"d":"1.93"},{"v":0.27612,"d":"0.276"},0.23005307858590238,{"v":0.011907547347606308,"d":"0.0119"},{"v":0.01288695600390293,"d":"0.0129"},{"v":1.288695600390293,"d":"1.29"},{"v":2.778041524993183,"d":"2.78"},{"v":1.855709636736419,"d":"1.86"}]
["Kp-1-S","Kp-1","1-S",0.13,11,{"v":8.998,"d":"8.99800"},{"$f":"Mass!I40","v":{"v":18.200000000000006,"d":"18.20"}},{"$f":"Mass!J40","v":{"v":81.8,"d":"81.80"}},{"v":2.0020000000000007,"d":"2.002000"},{"v":2.0020000000000007E-3,"d":"0.002002"},{"v":0.05200200000000001,"d":"0.052002"},{"$f":"VLOOKUP($B47,BD!$A$2:$O$93,11,FALSE)","v":{"v":0.8470533333333335,"d":"0.85"}},{"v":0.26114,"d":"0.261"},0.2654605140576522,{"v":0.013804477652026031,"d":"0.0138"},{"v":0.01534171777286734,"d":"0.0153"},{"v":1.534171777286734,"d":"1.53"},{"v":0.25508,"d":"0.255"},0.21068090157248415,{"v":0.010955828243572323,"d":"0.0110"},{"v":0.012175848236910784,"d":"0.0122"},{"v":1.2175848236910785,"d":"1.22"},{"v":1.6893829132136486,"d":"1.69"},{"v":1.3407670685806894,"d":"1.34"}]
["Ki-0-T","Ki-0","0-T",0.17,11.01,{"v":9.8991008991009,"d":"9.89910"},{"$f":"Mass!I41","v":{"v":10.089910089910092,"d":"10.09"}},{"$f":"Mass!J41","v":{"v":89.91008991008991,"d":"89.91"}},{"v":1.1108991008991005,"d":"1.110899"},{"v":1.1108991008991005E-3,"d":"0.001111"},{"v":0.0511108991008991,"d":"0.051111"},{"$f":"VLOOKUP($B48,BD!$A$2:$O$93,11,FALSE)","v":{"v":1.0255599999999998,"d":"1.03"}},{"v":3.03478,"d":"3.035"},2.8512131488168797,{"v":0.14572806756433634,"d":"0.1457"},{"v":0.14721343791694488,"d":"0.1472"},{"v":14.721343791694489,"d":"14.72"},{"v":1.03658,"d":"1.037"},0.9302320582258268,{"v":0.04754499686840193,"d":"0.0475"},{"v":0.048029611328358396,"d":"0.0480"},{"v":4.80296113283584,"d":"4.80"},{"v":25.66595627631734,"d":"25.67"},{"v":8.37373219296491,"d":"8.37"}]
["Ki-0-S","Ki-0","0-S",0.13,11.01,{"v":9.975060000000001,"d":"9.97506"},{"$f":"Mass!I42","v":{"v":9.399999999999997,"d":"9.40"}},{"$f":"Mass!J42","v":{"v":90.60000000000001,"d":"90.60"}},{"v":1.0349399999999989,"d":"1.034940"},{"v":1.034939999999999E-3,"d":"0.001035"},{"v":0.05103494,"d":"0.051035"},{"$f":"VLOOKUP($B49,BD!$A$2:$O$93,11,FALSE)","v":{"v":1.0255599999999998,"d":"1.03"}},{"v":0.68029,"d":"0.680"},0.6562171432017841,{"v":0.03349000253027446,"d":"0.0335"},{"v":0.03357373542642797,"d":"0.0336"},{"v":3.357373542642797,"d":"3.36"},{"v":0.34391,"d":"0.344"},0.29246942267999076,{"v":0.014926159438307968,"d":"0.0149"},{"v":0.014963478353321149,"d":"0.0150"},{"v":1.496347835332115,"d":"1.50"},{"v":4.47614441351057,"d":"4.48"},{"v":1.9949728318041646,"d":"1.99"}]
["Ki-1-T","Ki-1","1-T",0.17,11,{"v":9.934065934065934,"d":"9.93407"},{"$f":"Mass!I43","v":{"v":9.690309690309695,"d":"9.69"}},{"$f":"Mass!J43","v":{"v":90.30969030969031,"d":"90.31"}},{"v":1.0659340659340657,"d":"1.065934"},{"v":1.0659340659340657E-3,"d":"0.001066"},{"v":0.05106593406593407,"d":"0.051066"},{"$f":"VLOOKUP($B50,BD!$A$2:$O$93,11,FALSE)","v":{"v":0.9815333333333333,"d":"0.98"}},{"v":1.30518,"d":"1.305"},1.2387768711890839,{"v":0.06325929802654585,"d":"0.0633"},{"v":0.06367916062406717,"d":"0.0637"},{"v":6.367916062406717,"d":"6.37"},{"v":1.02461,"d":"1.025"},0.9192109099914818,{"v":0.04694036372231227,"d":"0.0469"},{"v":0.04725191480896479,"d":"0.0473"},{"v":4.725191480896479,"d":"4.73"},{"v":10.625547194505598,"d":"10.63"},{"v":7.8844860063004045,"d":"7.88"}]
["Ki-1-S","Ki-1","1-S",0.13,11,{"v":10.153000000000002,"d":"10.15300"},{"$f":"Mass!I44","v":{"v":7.699999999999996,"d":"7.70"}},{"$f":"Mass!J44","v":{"v":92.30000000000001,"d":"92.30"}},{"v":0.8469999999999978,"d":"0.847000"},{"v":8.4699999999999771E-4,"d":"0.000847"},0.050847,{"$f":"VLOOKUP($B51,BD!$A$2:$O$93,11,FALSE)","v":{"v":0.9815333333333333,"d":"0.98"}},{"v":0.29793,"d":"0.298"},0.29975834630437204,{"v":0.015241812634538407,"d":"0.0152"},{"v":0.015012127090060478,"d":"0.0150"},{"v":1.5012127090060479,"d":"1.50"},{"v":0.29036,"d":"0.290"},0.2431642858421322,{"v":0.012364174442214897,"d":"0.0124"},{"v":0.012177853286924943,"d":"0.0122"},{"v":1.2177853286924942,"d":"1.22"},{"v":1.91553740860699,"d":"1.92"},{"v":1.5538859608427646,"d":"1.55"}]
["BL1-20.07",{"$nulls":4},{"v":0,"d":"0.00000"},null,null,{"v":0,"d":"0.000000"},{"v":0,"d":"0.000000"},{"v":0.05,"d":"0.050000"},null,0.09947,0.1147420976584352,{"v":0.00573710488292176,"d":"0.0057"},null,null,0.15231,0.11605739246274137,{"v":0.005802869623137068,"d":"0.0058"}]
["BL2-20.07",{"$nulls":4},{"v":0,"d":"0.00000"},null,null,{"v":0,"d":"0.000000"},{"v":0,"d":"0.000000"},{"v":0.05,"d":"0.050000"},null,-0.02211,1.3979703261112863E-3,{"v":6.9898516305564316E-5,"d":"0.0001"},null,null,0.12394,0.08993625834341273,{"v":4.4968129171706365E-3,"d":"0.0045"}]
["Na-0-T","Na-0","0-T",0.17,11,{"v":8.516483516483515,"d":"8.51648"},{"$f":"Mass!I45","v":{"v":22.57742257742259,"d":"22.58"}},{"$f":"Mass!J45","v":{"v":77.4225774225774,"d":"77.42"}},{"v":2.4835164835164854,"d":"2.483516"},{"v":2.4835164835164854E-3,"d":"0.002484"},{"v":0.052483516483516485,"d":"0.052484"},{"$f":"VLOOKUP($B54,BD!$A$2:$O$93,11,FALSE)","v":{"v":1.00316,"d":"1.00"}},{"v":0.59347,"d":"0.593"},0.5752783610419524,{"v":0.030192631344355656,"d":"0.0302"},{"$f":"(10*O54)/F54","v":{"v":0.03545199293337246,"d":"0.0355"}},{"v":3.545199293337246,"d":"3.55"},{"v":0.40228,"d":"0.402"},0.34621248219868,{"v":0.018170448516273578,"d":"0.0182"},{"v":0.021335623419108336,"d":"0.0213"},{"v":2.133562341910834,"d":"2.13"},{"$f":"((L54*1000)*D54*10000)*(Q54/1000000)","v":{"v":6.045883609277126,"d":"6.05"}},{"$f":"((L54*1000)*D54*10000)*(V54/1000000)","v":{"v":3.638517478149163,"d":"3.64"}}]
["Na-0-S","Na-0","0-S",0.13,11,{"v":8.846153846153847,"d":"8.84615"},{"$f":"Mass!I46","v":{"v":19.580419580419573,"d":"19.58"}},{"$f":"Mass!J46","v":{"v":80.41958041958043,"d":"80.42"}},{"v":2.1538461538461533,"d":"2.153846"},{"v":2.1538461538461533E-3,"d":"0.002154"},{"v":0.052153846153846155,"d":"0.052154"},{"$f":"VLOOKUP($B55,BD!$A$2:$O$93,11,FALSE)","v":{"v":1.00316,"d":"1.00"}},{"v":0.3392,"d":"0.339"},0.33823270174938774,{"v":0.0176401362912373,"d":"0.0176"},{"v":0.019941023633572596,"d":"0.0199"},{"v":1.9941023633572597,"d":"1.99"},{"v":0.32578,"d":"0.326"},0.27577657243031056,{"v":0.014382808931365428,"d":"0.0144"},{"v":0.016258827487630485,"d":"0.0163"},{"v":1.6258827487630485,"d":"1.63"},{"$f":"((L55*1000)*D55*10000)*(Q55/1000000)","v":{"v":2.6005248448731098,"d":"2.60"}},{"v":2.120326699723882,"d":"2.12"}]
["Na-1-T","Na-1","1-T",0.17,11.01,8.63184,{"$f":"Mass!I47","v":{"v":21.599999999999998,"d":"21.60"}},{"$f":"Mass!J47","v":{"v":78.4,"d":"78.40"}},{"v":2.3781599999999994,"d":"2.378160"},{"v":2.3781599999999994E-3,"d":"0.002378"},{"v":0.05237816,"d":"0.052378"},{"$f":"VLOOKUP($B56,BD!$A$2:$O$93,11,FALSE)","v":{"v":0.9264000000000001,"d":"0.93"}},{"v":0.71024,"d":"0.710"},0.684138319493963,{"v":0.035833906360585914,"d":"0.0358"},{"v":0.04151363598095645,"d":"0.0415"},{"v":4.151363598095645,"d":"4.15"},{"v":0.48187,"d":"0.482"},0.4194934502831836,{"v":0.021972295057884634,"d":"0.0220"},{"v":0.025454937832356292,"d":"0.0255"},{"v":2.5454937832356292,"d":"2.55"},{"v":6.5378995033688705,"d":"6.54"},{"v":4.0088472493421285,"d":"4.01"}]
["Na-1-S","Na-1","1-S",0.13,11.01,{"v":8.896080000000001,"d":"8.89608"},{"$f":"Mass!I48","v":{"v":19.199999999999996,"d":"19.20"}},{"$f":"Mass!J48","v":{"v":80.80000000000001,"d":"80.80"}},{"v":2.1139199999999985,"d":"2.113920"},{"v":2.1139199999999983E-3,"d":"0.002114"},{"v":0.05211392,"d":"0.052114"},{"$f":"VLOOKUP($B57,BD!$A$2:$O$93,11,FALSE)","v":{"v":0.9264000000000001,"d":"0.93"}},{"v":0.32402,"d":"0.324"},0.3240810003765906,{"v":0.016889131327145614,"d":"0.0169"},{"v":0.018984913947655162,"d":"0.0190"},{"v":1.8984913947655162,"d":"1.90"},{"v":0.42002,"d":"0.420"},0.36254624741816854,{"v":0.01889370613425064,"d":"0.0189"},{"v":0.02123823766675956,"d":"0.0212"},{"v":2.1238237666759563,"d":"2.12"},{"v":2.286391156544007,"d":"2.29"},{"v":2.5577634386831885,"d":"2.56"}]
["Ik-0-T","Ik-0","0-T",0.17,11,{"v":8.349,"d":"8.34900"},{"$f":"Mass!I49","v":{"v":24.099999999999998,"d":"24.10"}},{"$f":"Mass!J49","v":{"v":75.9,"d":"75.90"}},{"v":2.651,"d":"2.651000"},{"v":2.6509999999999997E-3,"d":"0.002651"},0.052651,{"$f":"VLOOKUP($B58,BD!$A$2:$O$93,11,FALSE)","v":{"v":0.8436533333333333,"d":"0.84"}},{"v":1.68677,"d":"1.687"},1.5945178281617889,{"v":0.08395295817054635,"d":"0.0840"},{"v":0.10055450733087358,"d":"0.1006"},{"v":10.055450733087358,"d":"10.06"},{"v":0.43593,"d":"0.436"},0.37719507518829604,{"v":0.019859697903738975,"d":"0.0199"},{"v":0.023786918078499194,"d":"0.0238"},{"v":2.3786918078499193,"d":"2.38"},{"v":14.42163469953504,"d":"14.42"},{"v":3.4115451635309713,"d":"3.41"}]
["Ik-0-S","Ik-0","0-S",0.13,11,{"v":8.370999999999999,"d":"8.37100"},{"$f":"Mass!I50","v":{"v":23.90000000000001,"d":"23.90"}},{"$f":"Mass!J50","v":{"v":76.1,"d":"76.10"}},{"v":2.6290000000000013,"d":"2.629000"},{"v":0.002629000000000001,"d":"0.002629"},0.052629,{"$f":"VLOOKUP($B59,BD!$A$2:$O$93,11,FALSE)","v":{"v":0.8436533333333333,"d":"0.84"}},{"v":0.80807,"d":"0.808"},0.775341280317464,{"v":0.040805436241827815,"d":"0.0408"},{"v":0.048746190708192354,"d":"0.0487"},{"v":4.874619070819235,"d":"4.87"},{"v":0.60293,"d":"0.603"},0.5309571265780698,{"v":0.027943742614677237,"d":"0.0279"},{"v":0.033381606277239566,"d":"0.0334"},{"v":3.3381606277239566,"d":"3.34"},{"v":5.346235216174948,"d":"5.35"},{"v":3.661125443015831,"d":"3.66"}]
["Ik-1-T","Ik-1","1-T",0.17,11,{"v":8.527472527472527,"d":"8.52747"},{"$f":"Mass!I51","v":{"v":22.47752247752247,"d":"22.48"}},{"$f":"Mass!J51","v":{"v":77.52247752247753,"d":"77.52"}},{"v":2.4725274725274726,"d":"2.472527"},{"v":2.4725274725274724E-3,"d":"0.002473"},{"v":0.05247252747252747,"d":"0.052473"},{"$f":"VLOOKUP($B60,BD!$A$2:$O$93,11,FALSE)","v":{"v":0.9390266666666666,"d":"0.94"}},{"v":0.28731,"d":"0.287"},0.2898577489012689,{"v":0.015209568692346803,"d":"0.0152"},{"v":0.01783596328612834,"d":"0.0178"},{"v":1.783596328612834,"d":"1.78"},{"v":0.60248,"d":"0.602"},0.5305427976970795,{"v":0.02783892152751159,"d":"0.0278"},{"v":0.03264615797684993,"d":"0.0326"},{"v":3.2646157976849928,"d":"3.26"},{"v":2.8472356757315636,"d":"2.85"},{"v":5.211454193760715,"d":"5.21"}]
["Ik-1-S","Ik-1","1-S",0.13,11,{"v":8.745000000000001,"d":"8.74500"},{"$f":"Mass!I52","v":{"v":20.499999999999996,"d":"20.50"}},{"$f":"Mass!J52","v":{"v":79.5,"d":"79.50"}},{"v":2.254999999999999,"d":"2.255000"},{"v":0.002254999999999999,"d":"0.002255"},0.052255,{"$f":"VLOOKUP($B61,BD!$A$2:$O$93,11,FALSE)","v":{"v":0.9390266666666666,"d":"0.94"}},{"v":0.29435,"d":"0.294"},0.2964208567843053,{"v":0.015489471871263875,"d":"0.0155"},{"v":0.017712374924258287,"d":"0.0177"},{"v":1.7712374924258287,"d":"1.77"},{"v":0.46415,"d":"0.464"},0.4031780996806279,{"v":0.021068071598811213,"d":"0.0211"},{"v":0.024091562720195782,"d":"0.0241"},{"v":2.4091562720195783,"d":"2.41"},{"v":2.162211009903946,"d":"2.16"},{"v":2.9409405786717286,"d":"2.94"}]
["Ne-0-T","Ne-0","0-T",0.17,11,{"v":9.196000000000002,"d":"9.19600"},{"$f":"Mass!I53","v":{"v":16.39999999999999,"d":"16.40"}},{"$f":"Mass!J53","v":{"v":83.60000000000001,"d":"83.60"}},{"v":1.8039999999999985,"d":"1.804000"},{"v":1.8039999999999985E-3,"d":"0.001804"},0.051804,{"$f":"VLOOKUP($B62,BD!$A$2:$O$93,11,FALSE)","v":{"v":0.9433733333333333,"d":"0.94"}},{"v":0.30374,"d":"0.304"},0.305174774827162,{"v":0.0158092740351463,"d":"0.0158"},{"v":0.017191468067797193,"d":"0.0172"},{"v":1.7191468067797193,"d":"1.72"},{"v":0.21666,"d":"0.217"},0.17530642244436975,{"v":0.009081573908308131,"d":"0.0091"},{"v":0.00987556971325373,"d":"0.0099"},{"v":0.9875569713253729,"d":"0.99"},{"v":2.7570553311219377,"d":"2.76"},{"v":1.5837793502228397,"d":"1.58"}]
["Ne-0-S","Ne-0","0-S",0.13,11.01,9.28143,{"$f":"Mass!I54","v":{"v":15.700000000000003,"d":"15.70"}},{"$f":"Mass!J54","v":{"v":84.3,"d":"84.30"}},{"v":1.7285699999999995,"d":"1.728570"},{"v":1.7285699999999996E-3,"d":"0.001729"},{"v":0.05172857,"d":"0.051729"},{"$f":"VLOOKUP($B63,BD!$A$2:$O$93,11,FALSE)","v":{"v":0.9433733333333333,"d":"0.94"}},{"v":0.20904,"d":"0.209"},0.21688978668461328,{"v":0.011219398512800087,"d":"0.0112"},{"v":0.012088006387808868,"d":"0.0121"},{"v":1.208800638780887,"d":"1.21"},{"v":0.24736,"d":"0.247"},0.20357285943638206,{"v":0.01053053290945505,"d":"0.0105"},{"v":0.011345808684065978,"d":"0.0113"},{"v":1.1345808684065979,"d":"1.13"},{"v":1.4824553743248445,"d":"1.48"},{"v":1.3914333364944484,"d":"1.39"}]
["Ne-1-T","Ne-1","1-T",0.17,11,{"v":8.945054945054947,"d":"8.94505"},{"$f":"Mass!I55","v":{"v":18.681318681318672,"d":"18.68"}},{"$f":"Mass!J55","v":{"v":81.31868131868133,"d":"81.32"}},{"v":2.054945054945053,"d":"2.054945"},{"v":0.002054945054945053,"d":"0.002055"},{"v":0.052054945054945054,"d":"0.052055"},{"$f":"VLOOKUP($B64,BD!$A$2:$O$93,11,FALSE)","v":{"v":0.93472,"d":"0.93"}},{"v":0.25429,"d":"0.254"},0.25907453550668647,{"v":0.013486110710935976,"d":"0.0135"},{"v":0.015076610254240461,"d":"0.0151"},{"v":1.5076610254240461,"d":"1.51"},{"v":0.29765,"d":"0.298"},0.24987641371417685,{"v":0.013007302986418194,"d":"0.0130"},{"v":0.014541333805455225,"d":"0.0145"},{"v":1.4541333805455225,"d":"1.45"},{"v":2.3957095532634196,"d":"2.40"},{"v":2.3106528408879687,"d":"2.31"}]
["Ne-1-S","Ne-1","1-S",0.13,11,{"v":9.009,"d":"9.00900"},{"$f":"Mass!I56","v":{"v":18.100000000000005,"d":"18.10"}},{"$f":"Mass!J56","v":{"v":81.89999999999999,"d":"81.90"}},{"v":1.9909999999999997,"d":"1.991000"},{"v":1.9909999999999997E-3,"d":"0.001991"},0.051991,{"$f":"VLOOKUP($B65,BD!$A$2:$O$93,11,FALSE)","v":{"v":0.93472,"d":"0.93"}},{"v":0.1568,"d":"0.157"},0.16818854296162758,{"v":0.00874429053711798,"d":"0.0087"},{"v":0.009706172202373159,"d":"0.0097"},{"v":0.9706172202373159,"d":"0.97"},{"v":0.23882,"d":"0.239"},0.19570981800603077,{"v":0.010175149147951546,"d":"0.0102"},{"v":0.011294426848653066,"d":"0.0113"},{"v":1.1294426848653065,"d":"1.13"},{"v":1.179431926530291,"d":"1.18"},{"v":1.3724264663164891,"d":"1.37"}]
["Ae-0-T","Ae-0","0-T",0.17,11,{"v":8.546999999999999,"d":"8.54700"},{"$f":"Mass!I57","v":{"v":22.300000000000008,"d":"22.30"}},{"$f":"Mass!J57","v":{"v":77.69999999999999,"d":"77.70"}},{"v":2.453000000000001,"d":"2.453000"},{"v":0.002453000000000001,"d":"0.002453"},{"v":0.05245300000000001,"d":"0.052453"},{"$f":"VLOOKUP($B66,BD!$A$2:$O$93,11,FALSE)","v":{"v":0.8692533333333333,"d":"0.87"}},{"v":0.20833,"d":"0.208"},0.21622788233845477,{"v":0.011341801112298969,"d":"0.0113"},{"v":0.013269920571310366,"d":"0.0133"},{"v":1.3269920571310367,"d":"1.33"},{"v":0.3822,"d":"0.382"},0.3277242067980413,{"v":0.017190117819177664,"d":"0.0172"},{"v":0.020112457960895832,"d":"0.0201"},{"v":2.0112457960895833,"d":"2.01"},{"v":1.9609368572456183,"d":"1.96"},{"$f":"((L66*1000)*D66*10000)*(V66/1000000)","v":{"v":2.972079591085991,"d":"2.97"}}]
["Ae-0-S","Ae-0","0-S",0.13,11,{"v":8.448,"d":"8.44800"},{"$f":"Mass!I58","v":{"v":23.2,"d":"23.20"}},{"$f":"Mass!J58","v":{"v":76.8,"d":"76.80"}},{"v":2.5519999999999996,"d":"2.552000"},{"v":2.5519999999999996E-3,"d":"0.002552"},0.052552,{"$f":"VLOOKUP($B67,BD!$A$2:$O$93,11,FALSE)","v":{"v":0.8692533333333333,"d":"0.87"}},{"v":0.18544,"d":"0.185"},0.19488845912216185,{"v":0.010241778303787849,"d":"0.0102"},{"v":0.012123317120960994,"d":"0.0121"},{"$f":"P67*100","v":{"v":1.2123317120960995,"d":"1.21"}},{"v":0.43317,"d":"0.433"},0.3746538580515549,{"v":0.019688809548325314,"d":"0.0197"},{"v":0.023305882514589624,"d":"0.0233"},{"v":2.3305882514589626,"d":"2.33"},{"v":1.369970396398814,"d":"1.37"},{"v":2.6336330880706704,"d":"2.63"}]
["Ae-1-T","Ae-1","1-T",0.17,11.01,8.48871,{"$f":"Mass!I59","v":{"v":22.9,"d":"22.90"}},{"$f":"Mass!J59","v":{"v":77.1,"d":"77.10"}},{"v":2.5212900000000005,"d":"2.521290"},{"v":2.5212900000000007E-3,"d":"0.002521"},{"v":0.052521290000000005,"d":"0.052521"},{"$f":"VLOOKUP($B68,BD!$A$2:$O$93,11,FALSE)","v":{"v":0.8563066666666667,"d":"0.86"}},{"v":0.2259,"d":"0.226"},0.23260768425677136,{"v":0.012216855641078325,"d":"0.0122"},{"v":0.014391887154913205,"d":"0.0144"},{"v":1.4391887154913205,"d":"1.44"},{"v":0.35901,"d":"0.359"},0.3063724584643356,{"v":0.016091076739018325,"d":"0.0161"},{"v":0.018955856353931665,"d":"0.0190"},{"$f":"U68*100","v":{"v":1.8955856353931666,"d":"1.90"}},{"v":2.095057715833313,"d":"2.10"},{"$f":"((L68*1000)*D68*10000)*(V68/1000000)","v":{"v":2.759444448602055,"d":"2.76"}}]
["Ae-1-S","Ae-1","1-S",0.13,11.01,{"$f":"E69*(H69/100)","v":{"v":8.414235764235766,"d":"8.41424"}},{"$f":"Mass!I60","v":{"v":23.576423576423565,"d":"23.58"}},{"$f":"Mass!J60","v":{"v":76.42357642357643,"d":"76.42"}},{"$f":"(E69-F69)","v":{"v":2.595764235764234,"d":"2.595764"}},{"$f":"I69/1000","v":{"v":0.002595764235764234,"d":"0.002596"}},{"$f":"0.05+J69","v":{"v":0.05259576423576424,"d":"0.052596"}},{"$f":"VLOOKUP($B69,BD!$A$2:$O$93,11,FALSE)","v":{"v":0.8563066666666667,"d":"0.86"}},{"v":0.26858,"d":"0.269"},0.27239652579767926,{"$f":"N69*K69","v":{"v":0.014326903449496008,"d":"0.0143"}},{"v":0.017026981238619083,"d":"0.0170"},{"v":1.7026981238619083,"d":"1.70"},{"v":0.38465,"d":"0.385"},0.3299799973723224,{"$f":"S69*K69","v":{"v":0.017355550144312774,"d":"0.0174"}},{"$f":"(10*T69)/F69","v":{"v":0.020626412939463334,"d":"0.0206"}},{"v":2.062641293946333,"d":"2.06"},{"v":1.8954412812189114,"d":"1.90"},{"$f":"((L69*1000)*D69*10000)*(V69/1000000)","v":{"v":2.2961295382326665,"d":"2.30"}}]
["BL1-21.07",{"$nulls":4},{"v":0,"d":"0.00000"},null,null,{"v":0,"d":"0.000000"},{"v":0,"d":"0.000000"},{"v":0.05,"d":"0.050000"},null,-0.02452,-0.000848775412257693,{"v":-4.243877061288465E-5,"d":"-0.0000"},null,null,0.32217,0.27245273407392084,{"v":0.013622636703696043,"d":"0.0136"}]
["BL2-21.07",{"$nulls":4},{"v":0,"d":"0.00000"},null,null,{"v":0,"d":"0.000000"},{"v":0,"d":"0.000000"},{"v":0.05,"d":"0.050000"},null,-0.0241,-4.5722636241745551E-4,{"v":-2.2861318120872777E-5,"d":"-0.0000"},null,null,0.24643,0.2027165797490019,{"v":0.010135828987450095,"d":"0.0101"}]
["Jn-0-T","Jn-0","0-T",0.17,11.01,{"v":8.766203796203797,"d":"8.76620"},{"$f":"Mass!I61","v":{"v":20.379620379620377,"d":"20.38"}},{"$f":"Mass!J61","v":{"v":79.62037962037962,"d":"79.62"}},{"v":2.2437962037962027,"d":"2.243796"},{"v":2.2437962037962027E-3,"d":"0.002244"},{"v":0.052243796203796204,"d":"0.052244"},{"$f":"VLOOKUP($B72,BD!$A$2:$O$93,11,FALSE)","v":{"v":1.02312,"d":"1.02"}},{"v":0.24655,"d":"0.247"},0.2518588458739164,{"v":0.013158062215960206,"d":"0.0132"},{"$f":"(10*O72)/F72","v":{"v":0.015009988955148752,"d":"0.0150"}},{"v":1.5009988955148752,"d":"1.50"},{"v":0.45142,"d":"0.451"},0.3914571960028326,{"v":0.020451209970481492,"d":"0.0205"},{"v":0.02332960817011565,"d":"0.0233"},{"v":2.332960817011565,"d":"2.33"},{"$f":"((L72*1000)*D72*10000)*(Q72/1000000)","v":{"v":2.610693382964605,"d":"2.61"}},{"$f":"((L72*1000)*D72*10000)*(V72/1000000)","v":{"v":4.057728080871484,"d":"4.06"}}]
["Jn-0-S","Jn-0","0-S",0.13,11.01,{"v":9.085174825174825,"d":"9.08517"},{"$f":"Mass!I62","v":{"v":17.4825174825175,"d":"17.48"}},{"$f":"Mass!J62","v":{"v":82.5174825174825,"d":"82.52"}},{"v":1.924825174825175,"d":"1.924825"},{"v":1.924825174825175E-3,"d":"0.001925"},{"v":0.051924825174825176,"d":"0.051925"},{"$f":"VLOOKUP($B73,BD!$A$2:$O$93,11,FALSE)","v":{"v":1.02312,"d":"1.02"}},{"v":0.19521,"d":"0.195"},0.20399663582915975,{"v":0.010592489651681598,"d":"0.0106"},{"v":0.01165909281385542,"d":"0.0117"},{"v":1.165909281385542,"d":"1.17"},{"v":0.39892,"d":"0.399"},0.3431188265539516,{"v":0.0178163850830051,"d":"0.0178"},{"v":0.019610393223954563,"d":"0.0196"},{"v":1.9610393223954563,"d":"1.96"},{"$f":"((L73*1000)*D73*10000)*(Q73/1000000)","v":{"v":1.5507246351625288,"d":"1.55"}},{"$f":"((L73*1000)*D73*10000)*(V73/1000000)","v":{"v":2.6082921169880118,"d":"2.61"}}]
["Jn-1-T","Jn-1","1-T",0.17,11.01,8.74194,{"$f":"Mass!I63","v":{"v":20.60000000000001,"d":"20.60"}},{"$f":"Mass!J63","v":{"v":79.39999999999999,"d":"79.40"}},{"v":2.26806,"d":"2.268060"},{"v":0.00226806,"d":"0.002268"},{"v":0.052268060000000005,"d":"0.052268"},{"$f":"VLOOKUP($B74,BD!$A$2:$O$93,11,FALSE)","v":{"v":0.9043333333333333,"d":"0.90"}},{"v":0.36105,"d":"0.361"},0.35860257493750486,{"v":0.018743460902988,"d":"0.0187"},{"v":0.021440848259068356,"d":"0.0214"},{"v":2.1440848259068357,"d":"2.14"},{"v":0.65551,"d":"0.656"},0.5793691544946825,{"v":0.03028250172927734,"d":"0.0303"},{"v":0.0346404822376696,"d":"0.0346"},{"v":3.46404822376696,"d":"3.46"},{"v":3.2962445418549726,"d":"3.30"},{"v":5.325512270945199,"d":"5.33"}]
["Jn-1-S","Jn-1","1-S",0.13,11,{"v":9.129999999999999,"d":"9.13000"},{"$f":"Mass!I64","v":{"v":17.000000000000014,"d":"17.00"}},{"$f":"Mass!J64","v":{"v":82.99999999999999,"d":"83.00"}},{"v":1.870000000000001,"d":"1.870000"},{"v":1.870000000000001E-3,"d":"0.001870"},{"v":0.051870000000000006,"d":"0.051870"},{"$f":"VLOOKUP($B75,BD!$A$2:$O$93,11,FALSE)","v":{"v":0.9043333333333333,"d":"0.90"}},{"v":0.27355,"d":"0.274"},0.2770298562207888,{"v":0.014369538642172316,"d":"0.0144"},{"v":0.015738815599312506,"d":"0.0157"},{"v":1.5738815599312506,"d":"1.57"},{"v":0.52269,"d":"0.523"},0.4570776834432468,{"v":0.023708619440201213,"d":"0.0237"},{"v":0.025967819759256532,"d":"0.0260"},{"v":2.596781975925653,"d":"2.60"},{"v":1.8503076245738426,"d":"1.85"},{"v":3.0528634502973957,"d":"3.05"}]
["Ni-0-T","Ni-0","0-T",0.17,11.01,{"v":7.274071856287427,"d":"7.27407"},{"$f":"Mass!I65","v":{"v":33.93213572854291,"d":"33.93"}},{"$f":"Mass!J65","v":{"v":66.0678642714571,"d":"66.07"}},{"v":3.735928143712573,"d":"3.735928"},{"v":3.735928143712573E-3,"d":"0.003736"},{"v":0.05373592814371258,"d":"0.053736"},{"$f":"VLOOKUP($B76,BD!$A$2:$O$93,11,FALSE)","v":{"v":0.9340799999999999,"d":"0.93"}},{"v":0.43285,"d":"0.433"},0.4255388172673359,{"v":0.022866723307037998,"d":"0.0229"},{"v":0.031435932664416674,"d":"0.0314"},{"v":3.1435932664416675,"d":"3.14"},{"v":0.81576,"d":"0.816"},0.7269162726696001,{"v":0.03906152059466901,"d":"0.0391"},{"v":0.05369966281114715,"d":"0.0537"},{"v":5.369966281114715,"d":"5.37"},{"v":4.991824917140315,"d":"4.99"},{"v":8.527162776568177,"d":"8.53"}]
["Ni-1-T","Ni-1","1-T",0.17,11.01,6.90327,{"$f":"Mass!I66","v":{"v":37.3,"d":"37.30"}},{"$f":"Mass!J66","v":{"v":62.7,"d":"62.70"}},{"v":4.10673,"d":"4.106730"},{"v":0.004106729999999999,"d":"0.004107"},{"v":0.054106730000000006,"d":"0.054107"},{"$f":"VLOOKUP($B77,BD!$A$2:$O$93,11,FALSE)","v":{"v":0.7074933333333333,"d":"0.71"}},{"v":0.34383,"d":"0.344"},0.34254906389405515,{"v":0.018534209711868393,"d":"0.0185"},{"v":0.026848449664968042,"d":"0.0268"},{"v":2.6848449664968044,"d":"2.68"},{"v":0.74131,"d":"0.741"},0.6583678611368536,{"v":0.035622132103209234,"d":"0.0356"},{"v":0.05160182363316115,"d":"0.0516"},{"v":5.160182363316115,"d":"5.16"},{"v":3.2291668552110777,"d":"3.23"},{"v":6.2063508554116735,"d":"6.21"}]
["BL1-27.07",null,"1-T",null,null,{"v":0,"d":"0.00000"},null,null,{"v":0,"d":"0.000000"},{"v":0,"d":"0.000000"},{"v":0.05,"d":"0.050000"},null,-0.02734,-3.4777476040421425E-3,{"v":-1.7388738020210714E-4,"d":"-0.0002"},null,null,0.06144,0.03239058042807825,{"v":1.6195290214039125E-3,"d":"0.0016"}]
["BL2-27.07",null,"1-S",null,null,{"v":0,"d":"0.00000"},null,null,{"v":0,"d":"0.000000"},{"v":0,"d":"0.000000"},{"v":0.05,"d":"0.050000"},null,0.08122,0.09772835918323441,{"v":0.004886417959161721,"d":"0.0049"},null,null,0.09193,0.06046366394229502,{"v":0.003023183197114751,"d":"0.0030"}]
["La-0-T","La-0","0-T",0.17,11,{"v":8.932,"d":"8.93200"},{"$f":"Mass!I67","v":{"v":18.799999999999994,"d":"18.80"}},{"$f":"Mass!J67","v":{"v":81.2,"d":"81.20"}},{"v":2.0679999999999996,"d":"2.068000"},{"v":2.0679999999999995E-3,"d":"0.002068"},0.052068,{"$f":"VLOOKUP($B80,BD!$A$2:$O$93,11,FALSE)","v":{"v":1.1708933333333333,"d":"1.17"}},{"v":0.46463,"d":"0.465"},0.45516602870524714,{"v":0.023699584782624808,"d":"0.0237"},{"$f":"(10*O80)/F80","v":{"v":0.02653334615161756,"d":"0.0265"}},{"v":2.6533346151617563,"d":"2.65"},{"v":0.49258,"d":"0.493"},0.4293544776507553,{"v":0.022355628942319527,"d":"0.0224"},{"v":0.02502869339713337,"d":"0.0250"},{"v":2.502869339713337,"d":"2.50"},{"$f":"((L80*1000)*D80*10000)*(Q80/1000000)","v":{"v":5.281512080392293,"d":"5.28"}},{"v":4.982008140927073,"d":"4.98"}]
["La-0-S","La-0","0-S",0.13,11,{"v":8.943000000000001,"d":"8.94300"},{"$f":"Mass!I68","v":{"v":18.699999999999996,"d":"18.70"}},{"$f":"Mass!J68","v":{"v":81.30000000000001,"d":"81.30"}},{"v":2.0569999999999986,"d":"2.057000"},{"v":2.0569999999999985E-3,"d":"0.002057"},0.052057,{"$f":"VLOOKUP($B81,BD!$A$2:$O$93,11,FALSE)","v":{"v":1.1708933333333333,"d":"1.17"}},{"v":0.5683,"d":"0.568"},0.5518133858408124,{"v":0.028725749426715172,"d":"0.0287"},{"v":0.03212093193191901,"d":"0.0321"},{"v":3.2120931931919015,"d":"3.21"},{"v":0.54908,"d":"0.549"},0.48137577048621766,{"v":0.025058978484201033,"d":"0.0251"},{"v":0.02802077433098628,"d":"0.0280"},{"v":2.802077433098628,"d":"2.80"},{"$f":"((L81*1000)*D81*10000)*(Q81/1000000)","v":{"v":4.88932405773991,"d":"4.89"}},{"v":4.265213921668652,"d":"4.27"}]
["La-1-T","La-1","1-T",0.17,11.01,{"v":8.962139999999996,"d":"8.96214"},{"$f":"Mass!I69","v":{"v":18.600000000000016,"d":"18.60"}},{"$f":"Mass!J69","v":{"v":81.39999999999998,"d":"81.40"}},{"v":2.0478600000000036,"d":"2.047860"},{"v":2.0478600000000038E-3,"d":"0.002048"},{"v":0.05204786000000001,"d":"0.052048"},{"$f":"VLOOKUP($B82,BD!$A$2:$O$93,11,FALSE)","v":{"v":1.1673333333333333,"d":"1.17"}},{"v":0.59298,"d":"0.593"},0.5748215538171386,{"v":0.029918231758056902,"d":"0.0299"},{"v":0.03338291050804486,"d":"0.0334"},{"v":3.338291050804486,"d":"3.34"},{"v":0.47069,"d":"0.471"},0.4091996794176885,{"v":0.021297967626376736,"d":"0.0213"},{"v":0.02376437728754153,"d":"0.0238"},{"v":2.3764377287541527,"d":"2.38"},{"v":6.624727313953142,"d":"6.62"},{"v":4.715961458121657,"d":"4.72"}]
["La-1-S","La-1","1-S",0.13,11,{"v":8.976,"d":"8.97600"},{"$f":"Mass!I70","v":{"v":18.399999999999995,"d":"18.40"}},{"$f":"Mass!J70","v":{"v":81.60000000000001,"d":"81.60"}},{"v":2.023999999999999,"d":"2.024000"},{"v":2.0239999999999993E-3,"d":"0.002024"},0.052024,{"$f":"VLOOKUP($B83,BD!$A$2:$O$93,11,FALSE)","v":{"v":1.1673333333333333,"d":"1.17"}},{"v":0.65512,"d":"0.655"},0.6327521680006443,{"v":0.03291829878806552,"d":"0.0329"},{"v":0.03667368403304982,"d":"0.0367"},{"v":3.6673684033049816,"d":"3.67"},{"v":0.48623,"d":"0.486"},0.4235078367745573,{"v":0.02203257170035957,"d":"0.0220"},{"v":0.024546091466532496,"d":"0.0245"},{"v":2.4546091466532496,"d":"2.45"},{"v":5.565353797628752,"d":"5.57"},{"v":3.7249512003511946,"d":"3.72"}]
["Ko-0-T","Ko-0","0-T",0.17,11.01,{"v":8.744205794205794,"d":"8.74421"},{"$f":"Mass!I71","v":{"v":20.57942057942058,"d":"20.58"}},{"$f":"Mass!J71","v":{"v":79.42057942057941,"d":"79.42"}},{"v":2.265794205794206,"d":"2.265794"},{"v":0.002265794205794206,"d":"0.002266"},{"v":0.052265794205794205,"d":"0.052266"},{"$f":"VLOOKUP($B84,BD!$A$2:$O$93,11,FALSE)","v":{"v":1.15544,"d":"1.16"}},{"v":0.36083,"d":"0.361"},0.35839747781615994,{"v":0.01873192881941511,"d":"0.0187"},{"v":0.021422104259974668,"d":"0.0214"},{"v":2.1422104259974666,"d":"2.14"},{"v":0.45767,"d":"0.458"},0.397211763794366,{"v":0.02076058830259687,"d":"0.0208"},{"v":0.023742108535864444,"d":"0.0237"},{"v":2.3742108535864443,"d":"2.37"},{"v":4.207832544844672,"d":"4.21"},{"v":4.663538920735467,"d":"4.66"}]
["Ko-0-S","Ko-0","0-S",0.13,11.01,{"v":8.973149999999999,"d":"8.97315"},{"$f":"Mass!I72","v":{"v":18.500000000000018,"d":"18.50"}},{"$f":"Mass!J72","v":{"v":81.49999999999999,"d":"81.50"}},{"v":2.036850000000001,"d":"2.036850"},{"v":0.002036850000000001,"d":"0.002037"},{"v":0.05203685,"d":"0.052037"},{"$f":"VLOOKUP($B85,BD!$A$2:$O$93,11,FALSE)","v":{"v":1.15544,"d":"1.16"}},{"v":0.32771,"d":"0.328"},0.3275210384573298,{"v":0.017043163150048304,"d":"0.0170"},{"v":0.018993511921731283,"d":"0.0190"},{"v":1.8993511921731283,"d":"1.90"},{"v":0.29008,"d":"0.290"},0.2429064812050715,{"v":0.012640088126496125,"d":"0.0126"},{"v":0.014086567288517551,"d":"0.0141"},{"v":1.408656728851755,"d":"1.41"},{"v":2.852962243929875,"d":"2.85"},{"v":2.1159038300198136,"d":"2.12"}]
["Ko-1-T","Ko-1","1-T",0.17,11,{"v":8.714285714285715,"d":"8.71429"},{"$f":"Mass!I73","v":{"v":20.779220779220775,"d":"20.78"}},{"$f":"Mass!J73","v":{"v":79.22077922077922,"d":"79.22"}},{"v":2.2857142857142847,"d":"2.285714"},{"v":2.2857142857142846E-3,"d":"0.002286"},{"v":0.05228571428571429,"d":"0.052286"},{"$f":"VLOOKUP($B86,BD!$A$2:$O$93,11,FALSE)","v":{"v":1.16332,"d":"1.16"}},{"v":0.3716,"d":"0.372"},0.3684379141656346,{"v":0.019264039512088896,"d":"0.0193"},{"v":0.022106274849938073,"d":"0.0221"},{"v":2.2106274849938075,"d":"2.21"},{"v":0.46592,"d":"0.466"},0.4048077932791902,{"v":0.021165664620026232,"d":"0.0212"},{"v":0.02428846759675141,"d":"0.0243"},{"v":2.428846759675141,"d":"2.43"},{"v":4.371834181933093,"d":"4.37"},{"v":4.803394221190985,"d":"4.80"}]
["Ko-1-S","Ko-1","1-S",0.13,11.01,{"v":8.907089999999998,"d":"8.90709"},{"$f":"Mass!I74","v":{"v":19.100000000000005,"d":"19.10"}},{"$f":"Mass!J74","v":{"v":80.89999999999999,"d":"80.90"}},{"v":2.1029100000000014,"d":"2.102910"},{"v":2.1029100000000012E-3,"d":"0.002103"},{"v":0.05210291,"d":"0.052103"},{"$f":"VLOOKUP($B87,BD!$A$2:$O$93,11,FALSE)","v":{"v":1.16332,"d":"1.16"}},{"v":0.43451,"d":"0.435"},0.4270863682738473,{"v":0.022252442608399123,"d":"0.0223"},{"v":0.024982842441694342,"d":"0.0250"},{"v":2.4982842441694344,"d":"2.50"},{"v":0.32015,"d":"0.320"},0.27059285776369724,{"v":0.014098675314704719,"d":"0.0141"},{"v":0.015828598694640695,"d":"0.0158"},{"v":1.5828598694640694,"d":"1.58"},{"v":3.7781952350053416,"d":"3.78"},{"v":2.393784306348423,"d":"2.39"}]
["BL1-28.07",null,0,null,null,{"v":0,"d":"0.00000"},null,null,{"v":0,"d":"0.000000"},{"v":0,"d":"0.000000"},{"v":0.05,"d":"0.050000"},null,-0.01674,0.006404204606211462,{"v":3.2021023031057316E-4,"d":"0.0003"},null,null,0.09943,0.06736914529213517,{"v":3.3684572646067584E-3,"d":"0.0034"}]
["BL2-28.07",null,0,null,null,{"v":0,"d":"0.00000"},null,null,{"v":0,"d":"0.000000"},{"v":0,"d":"0.000000"},{"v":0.05,"d":"0.050000"},null,0.02591,0.04616507835784508,{"v":0.002308253917892254,"d":"0.0023"},null,null,0.0597,0.030788508754915338,{"v":1.539425437745767E-3,"d":"0.0015"}]
["Pa-0-T","Pa-0","0-T",0.17,11.01,{"v":8.907089999999998,"d":"8.90709"},{"$f":"Mass!I75","v":{"v":19.100000000000005,"d":"19.10"}},{"$f":"Mass!J75","v":{"v":80.89999999999999,"d":"80.90"}},{"v":2.1029100000000014,"d":"2.102910"},{"v":2.1029100000000012E-3,"d":"0.002103"},{"v":0.05210291,"d":"0.052103"},{"$f":"VLOOKUP($B90,BD!$A$2:$O$93,11,FALSE)","v":{"v":1.0069199999999998,"d":"1.01"}},{"v":0.5957,"d":"0.596"},0.5773573000446754,{"v":0.03008199544207072,"d":"0.0301"},{"$f":"(10*O90)/F90","v":{"v":0.033773090248409667,"d":"0.0338"}},{"v":3.3773090248409665,"d":"3.38"},{"v":0.36567,"d":"0.366"},0.31250452590299366,{"v":0.016282395187716348,"d":"0.0163"},{"v":0.01828026346171011,"d":"0.0183"},{"v":1.828026346171011,"d":"1.83"},{"$f":"((L90*1000)*D90*10000)*(Q90/1000000)","v":{"v":5.781156005597872,"d":"5.78"}},{"v":3.1291496904270737,"d":"3.13"}]
["Pa-0-S","Pa-0","0-S",0.13,11.01,{"v":9.0282,"d":"9.02820"},{"$f":"Mass!I76","v":{"v":18.000000000000004,"d":"18.00"}},{"$f":"Mass!J76","v":{"v":82,"d":"82.00"}},{"v":1.9817999999999998,"d":"1.981800"},{"v":1.9817999999999997E-3,"d":"0.001982"},{"v":0.0519818,"d":"0.051982"},{"$f":"VLOOKUP($B91,BD!$A$2:$O$93,11,FALSE)","v":{"v":1.0069199999999998,"d":"1.01"}},{"v":0.60797,"d":"0.608"},0.5887961258578652,{"v":0.03060668245511838,"d":"0.0306"},{"$f":"(10*O91)/F91","v":{"v":0.0339012011864141,"d":"0.0339"}},{"v":3.39012011864141,"d":"3.39"},{"v":0.33711,"d":"0.337"},0.2862084529228024,{"v":0.01487763055814253,"d":"0.0149"},{"v":0.01647906621269193,"d":"0.0165"},{"v":1.647906621269193,"d":"1.65"},{"$f":"((L91*1000)*D91*10000)*(Q91/1000000)","v":{"v":4.4376536748211315,"d":"4.44"}},{"v":2.1571031756148886,"d":"2.16"}]
["Pa-1-T","Pa-1","1-T",0.17,11.01,{"v":8.810199800199799,"d":"8.81020"},{"$f":"Mass!I77","v":{"v":19.980019980019982,"d":"19.98"}},{"$f":"Mass!J77","v":{"v":80.01998001998001,"d":"80.02"}},{"v":2.199800199800201,"d":"2.199800"},{"v":0.002199800199800201,"d":"0.002200"},{"v":0.0521998001998002,"d":"0.052200"},{"$f":"VLOOKUP($B92,BD!$A$2:$O$93,11,FALSE)","v":{"v":0.98412,"d":"0.98"}},{"v":0.39174,"d":"0.392"},0.38721362336511644,{"v":0.020212473774299765,"d":"0.0202"},{"$f":"(10*O92)/F92","v":{"v":0.022942128706140565,"d":"0.0229"}},{"v":2.2942128706140563,"d":"2.29"},{"v":0.33356,"d":"0.334"},0.2829398584172114,{"v":0.014769404077938194,"d":"0.0148"},{"v":0.016763983125108302,"d":"0.0168"},{"v":1.6763983125108302,"d":"1.68"},{"v":3.8382273093887993,"d":"3.84"},{"v":2.804621082423869,"d":"2.80"}]
["Pa-1-S","Pa-1","1-S",0.13,11,{"v":8.87912087912088,"d":"8.87912"},{"$f":"Mass!I78","v":{"v":19.280719280719282,"d":"19.28"}},{"$f":"Mass!J78","v":{"v":80.71928071928072,"d":"80.72"}},{"v":2.1208791208791204,"d":"2.120879"},{"v":2.1208791208791205E-3,"d":"0.002121"},{"v":0.05212087912087912,"d":"0.052121"},{"$f":"VLOOKUP($B93,BD!$A$2:$O$93,11,FALSE)","v":{"v":0.98412,"d":"0.98"}},{"v":0.42251,"d":"0.423"},0.41589925256412624,{"v":0.0216770346693588,"d":"0.0217"},{"$f":"(10*O93)/F93","v":{"v":0.0244134920162333,"d":"0.0244"}},{"v":2.4413492016233302,"d":"2.44"},{"v":0.28463,"d":"0.285"},0.23788849809085433,{"v":0.012398957653240903,"d":"0.0124"},{"v":0.013964172604516363,"d":"0.0140"},{"v":1.3964172604516363,"d":"1.40"},{"v":3.1233547491920173,"d":"3.12"},{"v":1.7865148006623637,"d":"1.79"}]

{"sheet":"MinN_Ki_Ik_Mo","index":10,"n_rows":25,"n_cols":8,"rows_kept":25,"hidden":true}
[null,"NH4 (mg/l)","NO3 (mg/l)","NH4_avg (mg/l)","NO3_avg (mg/l)",null,null,"dilutions not calc yet"]
["ik0t",0.39849,1.68674,{"$f":"AVERAGE(B2:B3)","v":0.396125},{"$f":"AVERAGE(C2:C3)","v":1.6902949999999999}]
["ik0t",0.39376,1.69385]
["ik0s",0.58986,0.8138,{"$f":"AVERAGE(B4:B5)","v":0.587555},{"$f":"AVERAGE(C4:C5)","v":0.81569}]
["ik0s",0.58525,0.81758]
["ik1t",0.584,0.30415,0.5683,0.30508]
["ik1t",0.5526,0.30601]
["ik1s",0.40163,0.2996,0.403315,0.296985]
["ik1s",0.405,0.29437]
["ki0t",1.04507,3.08976,1.0447,3.0785]
["ki0t",1.04433,3.06724]
["ki0s",0.28041,0.66766,0.28164500000000003,0.666855]
["ki0s",0.28288,0.66605]
["ki1t",0.94952,1.2706,0.9543550000000001,1.2685149999999998]
["ki1t",0.95919,1.26643]
["ki1s",0.2301,0.29177,0.23418,0.295075]
["ki1s",0.23826,0.29838]
["mo0t",0.44554,2.42849,0.44225000000000003,2.4011]
["mo0t",0.43896,2.37371]
["mo0s1",0.35713,0.29827,0.358305,0.298995]
["mo0s1",0.35948,0.29972]
["mo0s2",0.32842,1.19401,0.3285,1.19214]
["mo0s2",0.32858,1.19027]
["mo1t",0.30238,0.18402,0.304,0.24275000000000002]
["mo1t",0.30562,0.30148]

{"sheet":"toc_analysis_raw results","index":11,"n_rows":96,"n_cols":9,"rows_kept":96,"hidden":true}
["[Data]"]
["Sample Name","Result(TOC)","Result(TC)","Result(IC)","Result(TN)","Unit","Vial","Date / Time","C/N"]
["std TC",null,100,null,null,"mg/L","1, 4, 4, 4, 4, 4","2022-08-09T16:24:51"]
["std IC",null,null,10,null,"mg/L","2, 5, 5, 5, 5, 5","2022-08-09T17:30:09"]
["std TN",{"$nulls":3},10,"mg/L","3, 6, 6, 6, 6, 6","2022-08-09T19:02:39"]
["QC mq1",0.655,0.903,0.248,0.037,"mg/L",7,"2022-08-09T19:16:39"]
["Pu-0-T",17.722,23.232,5.51,2.031,"mg/L",8,"2022-08-09T19:30:21",{"$f":"C7/E7","v":11.438700147710486}]
["Pu-0-S",16.392,18.983,2.591,1.794,"mg/L",9,"2022-08-09T19:46:00",{"$f":"C8/E8","v":10.581382385730212}]
["Pu-1-T",21.652,27.744,6.092,2.474,"mg/L",10,"2022-08-09T20:02:31",11.214227970897332]
["Pu-1-S",20.586,24.509,3.922,2.382,"mg/L",11,"2022-08-09T20:22:17",10.289252728799328]
["Mo-0-T",19.501,21.339,1.838,2.696,"mg/L",12,"2022-08-09T20:42:09",7.915059347181008]
["Mo-0-S",16.528,17.916,1.388,2.077,"mg/L",13,"2022-08-09T20:58:28",8.625902744342802]
["Mo-1-T",23.84,25.947,2.106,1.985,"mg/L",14,"2022-08-09T21:17:26",13.07153652392947]
["Mo-1-S",15.304,18.486,3.182,1.59,"mg/L",15,"2022-08-09T21:30:55",11.626415094339622]
["Si-0-T",20.408,23.37,2.962,2.688,"mg/L",16,"2022-08-09T21:48:26",8.694196428571429]
["Si-0-S",20.871,22.136,1.265,2.006,"mg/L",17,"2022-08-09T22:08:09",11.034895314057827]
["Si-1-T",17.179,19.871,2.692,2.823,"mg/L",18,"2022-08-09T22:27:01",7.038965639390719]
["Si-1-S",18.897,20.539,1.642,2.191,"mg/L",19,"2022-08-09T22:44:10",9.374258329529896]
["Mi-0-T",33.755,38.972,5.217,3.541,"mg/L",20,"2022-08-09T23:01:00",11.005930528099407]
["Mi-0-S",18.329,20.872,2.543,1.836,"mg/L",21,"2022-08-09T23:17:41",11.368191721132897]
["Mi-1-T",29.347,33.882,4.535,3.343,"mg/L",22,"2022-08-09T23:38:15",10.135207897098415]
["Mi-1-S",23.521,26.607,3.086,2.419,"mg/L",23,"2022-08-09T23:57:35",10.999173212071103]
["Li-0-T",27.35,30.436,3.086,2.628,"mg/L",24,"2022-08-10T00:14:17",11.581430745814307]
["Li-0-S",20.219,22.327,2.109,1.893,"mg/L",25,"2022-08-10T00:30:16",11.794506075013208]
["Li-1-T",33.935,38.114,4.179,3.202,"mg/L",26,"2022-08-10T00:44:47",11.903185509056838]
["Li-1-S",25.202,28.669,3.467,2.414,"mg/L",27,"2022-08-10T01:01:13",11.876139188069594]
["QC mq2",0.845,1.296,0.451,0,"mg/L",28,"2022-08-10T01:18:15",{"$f":"C27/E27","v":{"$error":"#DIV/0!"}}]
["Ai-0-T",12.878,15.395,2.517,1.667,"mg/L",29,"2022-08-10T01:34:26",9.23515296940612]
["Ai-0-S",11.22,13.499,2.279,1.325,"mg/L",30,"2022-08-10T01:55:08",10.187924528301888]
["Ai-1-T",14.448,18.686,4.238,1.563,"mg/L",31,"2022-08-10T02:12:14",11.955214331413949]
["Ai-1-S",14.78,17.725,2.945,1.679,"mg/L",32,"2022-08-10T02:28:35",10.556879094699227]
["Pi-0-T",18.725,21.302,2.577,2.195,"mg/L",33,"2022-08-10T02:48:06",9.704783599088838]
["Pi-0-S",22.817,25.057,2.24,2.269,"mg/L",34,"2022-08-10T03:05:57",11.043190832966063]
["Pi-1-T",22.534,27.12,4.586,2.462,"mg/L",35,"2022-08-10T03:20:19",11.015434606011372]
["Pi-1-S",22.797,25.546,2.749,2.462,"mg/L",36,"2022-08-10T03:37:12",10.376116978066612]
["Ja-0-T",18.332,19.982,1.65,2.398,"mg/L",37,"2022-08-10T03:53:54",8.33277731442869]
["Ja-1-T",20.357,22.016,1.66,0,"mg/L",38,"2022-08-10T04:09:27",{"$error":"#DIV/0!"}]
["Mu-0-T",34.99,38.332,3.342,3.282,"mg/L",39,"2022-08-10T04:26:40",11.679463741620962]
["Mu-0-S",29.394,32.966,3.572,2.64,"mg/L",40,"2022-08-10T04:47:09",12.487121212121211]
["Mu-1-T",36.932,40.543,3.611,3.667,"mg/L",41,"2022-08-10T05:07:40",11.056176711208073]
["Mu-1-S",31.1,34.537,3.437,2.983,"mg/L",42,"2022-08-10T05:27:24",11.577941669460275]
["Kp-0-T",20.406,23.761,3.355,2.371,"mg/L",43,"2022-08-10T05:47:07",10.021509911429776]
["Kp-0-S",19.038,21.193,2.155,1.983,"mg/L",44,"2022-08-10T06:07:17",10.687342410489158]
["Kp-1-T",19.207,23.495,4.288,2.36,"mg/L",45,"2022-08-10T06:22:26",9.955508474576272]
["Kp-1-S",17.988,21.075,3.087,2.247,"mg/L",46,"2022-08-10T06:44:07",9.37917222963952]
["BL1-03.08",2.443,3.228,0.785,0,"mg/L",47,"2022-08-10T07:01:56",{"$error":"#DIV/0!"}]
["BL2-03.08",2.352,3.025,0.673,0,"mg/L",48,"2022-08-10T07:19:12",{"$error":"#DIV/0!"}]
["QC tc100",103.125,103.538,0.412,0,"mg/L",90,"2022-08-10T07:33:53",{"$error":"#DIV/0!"}]
["QC ic10",-13.681,14.22,27.901,0,"mg/L",91,"2022-08-10T07:50:42",{"$error":"#DIV/0!"}]
["QC tn10",0.475,1.321,0.846,9.808,"mg/L",92,"2022-08-10T08:13:24",0.13468597063621532]
["QC mq3",1.027,1.467,0.44,0,"mg/L",93,"2022-08-10T08:33:12",{"$error":"#DIV/0!"}]
["Ki-0-T",12.207,13.85,1.643,2.751,"mg/L",49,"2022-08-10T08:47:09",5.034532897128317]
["Ki-0-S",10.453,12.618,2.165,1.131,"mg/L",50,"2022-08-10T09:05:48",11.156498673740053]
["Ki-1-T",13.5,15.733,2.232,2.068,"mg/L",51,"2022-08-10T09:25:47",7.6078336557059965]
["Ki-1-S",10.38,14.274,3.895,1.104,"mg/L",52,"2022-08-10T09:44:32",12.929347826086955]
["Na-0-T",30.556,33.083,2.527,2.995,"mg/L",53,"2022-08-10T10:03:08",11.046076794657761]
["Na-0-S",31.371,33.722,2.352,2.512,"mg/L",54,"2022-08-10T10:23:38",13.424363057324841]
["Na-1-T",29.003,31.294,2.291,2.821,"mg/L",55,"2022-08-10T10:38:40",11.093229351293868]
["Na-1-S",29.702,32.166,2.465,2.262,"mg/L",56,"2022-08-10T10:58:35",14.220159151193632]
["Ik-0-T",26.734,28.807,2.073,0,"mg/L",57,"2022-08-10T11:14:58",{"$error":"#DIV/0!"}]
["Ik-0-S",26.885,29.782,2.896,0,"mg/L",58,"2022-08-10T11:31:11",{"$error":"#DIV/0!"}]
["Ik-1-T",22.179,25.867,3.688,2.374,"mg/L",59,"2022-08-10T11:50:53",10.895956192080876]
["Ik-1-S",24.436,26.888,2.452,2.132,"mg/L",60,"2022-08-10T12:08:35",12.611632270168856]
["Ne-0-T",34.356,38.012,3.657,3.034,"mg/L",61,"2022-08-10T12:29:03",12.528675016479896]
["Ne-0-S",34.675,36.747,2.072,0,"mg/L",62,"2022-08-10T12:45:22",{"$error":"#DIV/0!"}]
["Ne-1-T",38.737,41.662,2.925,3.416,"mg/L",63,"2022-08-10T13:02:14",12.196135831381733]
["Ne-1-S",35.481,37.838,2.357,2.619,"mg/L",64,"2022-08-10T13:23:47",14.447499045437189]
["Ae-0-T",32.284,34.74,2.456,0,"mg/L",65,"2022-08-10T13:39:49",{"$error":"#DIV/0!"}]
["Ae-0-S",31.673,34.624,2.951,0,"mg/L",66,"2022-08-10T13:56:30",{"$error":"#DIV/0!"}]
["Ae-1-T",24.47,26.45,1.98,0,"mg/L",67,"2022-08-10T14:13:01",{"$error":"#DIV/0!"}]
["Ae-1-S",28.367,31.032,2.665,0,"mg/L",68,"2022-08-10T14:29:54",{"$error":"#DIV/0!"}]
["QC mq4",0.799,1.677,0.877,0,"mg/L",69,"2022-08-10T14:44:01",{"$f":"C72/E72","v":{"$error":"#DIV/0!"}}]
["Jn-0-T",21.671,23.751,2.08,2.063,"mg/L",70,"2022-08-10T14:57:36",11.512845370819194]
["Jn-0-S",17.355,19.607,2.252,1.316,"mg/L",71,"2022-08-10T15:17:36",14.898936170212766]
["Jn-1-T",22.148,24.855,2.706,2.161,"mg/L",72,"2022-08-10T15:31:46",11.501619620546043]
["Jn-1-S",18.316,20.902,2.587,1.441,"mg/L",73,"2022-08-10T15:51:45",14.505204718945176]
["Ni-0-T",18.815,22.499,3.684,2.685,"mg/L",74,"2022-08-10T16:09:34",8.379515828677839]
["Ni-1-T",23.823,27.58,3.757,2.677,"mg/L",75,"2022-08-10T16:26:47",10.302577512140456]
["La-0-T",17.072,20.449,3.377,2.197,"mg/L",76,"2022-08-10T16:44:55",9.307692307692308]
["La-0-S",13.739,16.652,2.913,1.891,"mg/L",77,"2022-08-10T17:04:35",8.805922792173453]
["La-1-T",15.441,18.054,2.613,2.296,"mg/L",78,"2022-08-10T17:21:10",7.863240418118467]
["La-1-S",11.558,14.122,2.564,1.754,"mg/L",79,"2022-08-10T17:40:54",8.051311288483467]
["Ko-0-T",9.091,10.938,1.847,1.469,"mg/L",80,"2022-08-10T17:54:30",7.4458815520762425]
["Ko-0-S",8.526,11.088,2.562,1.131,"mg/L",81,"2022-08-10T18:10:45",9.803713527851459]
["Ko-1-T",12.231,14.332,2.101,1.696,"mg/L",82,"2022-08-10T18:27:51",8.450471698113208]
["Ko-1-S",9.973,11.886,1.914,1.194,"mg/L",83,"2022-08-10T18:44:38",9.954773869346733]
["Pa-0-T",16.572,27.634,11.062,2.442,"mg/L",84,"2022-08-10T19:01:33",11.316134316134315]
["Pa-0-S",21.472,24.445,2.973,2.595,"mg/L",85,"2022-08-10T19:18:44",9.420038535645471]
["Pa-1-T",17.323,24.491,7.168,2.307,"mg/L",86,"2022-08-10T19:38:05",10.615951452102298]
["Pa-1-S",19.904,22.339,2.435,0,"mg/L",87,"2022-08-10T19:53:11",{"$error":"#DIV/0!"}]
["BL1-04.08",3.489,4.432,0.943,0,"mg/L",88,"2022-08-10T20:08:24",{"$error":"#DIV/0!"}]
["BL2-04.08",3.495,4.011,0.516,0,"mg/L",89,"2022-08-10T20:26:41",{"$error":"#DIV/0!"}]
["QC tc100",103.095,103.494,0.399,0,"mg/L",90,"2022-08-10T20:45:26",{"$error":"#DIV/0!"}]
["QC ic10",-15.148,17.814,32.961,0.003,"mg/L",91,"2022-08-10T21:02:00",5938]
["QC tn10",1.291,2.004,0.713,0,"mg/L",92,"2022-08-10T21:22:59",{"$error":"#DIV/0!"}]
["QC mq5",1.1,1.993,0.893,0,"mg/L",93,"2022-08-10T21:37:44",{"$error":"#DIV/0!"}]

{"sheet":"Min_N_Corrected","index":12,"n_rows":93,"n_cols":24,"rows_kept":93}
["Field",null,null,"sampling depth (m)","fresh soil (g)","soil DM (g)","water %",{"$f":"Mass!J2","v":"DM%"},"water  (g)","water  (L)","2 M KCl (L)","BD (kg/l) Calculated","NO3 (mg N/L) Corrected ","NO3 (mg N/ weighed soil)","NO3 (mg N/10 g  soil)","NO3 (mg N/Kg)","NH4 (mg N/L) Corrected","NH4 (mg N/ weighed soil)","NH4 (mg N/10 g  soil)","NH4 (mg N/Kg)","Min_NO3 (Kg/ha)","MIN_NH4 (Kg/ha)","Inorg_N (mg/kg)","Inorg_N (Kg/ha)"]
["BL1-06.07",{"$nulls":9},0.05,null,0.07507444987104926,{"$nulls":3},-2.9010329238380915E-3]
["BL2-06.07",{"$nulls":9},0.05,null,0.09234922104614354,{"$nulls":3},-0.028957715883901548]
["Pu-0-T","Pu-0","0-T",0.17,11,{"$f":"E4*(H4/100)","v":{"v":10.010989010989011,"d":"10.01099"}},{"$f":"Mass!I3","v":{"v":8.991008991008975,"d":"8.99"}},{"$f":"Mass!J3","v":{"v":91.00899100899102,"d":"91.01"}},{"$f":"(E4-F4)","v":{"v":0.989010989010989,"d":"0.989011"}},{"$f":"I4/1000","v":{"v":0.000989010989010989,"d":"0.000989"}},{"$f":"0.05+J4","v":{"v":0.05098901098901099,"d":"0.050989"}},{"$f":"VLOOKUP($A4,BD!$Q$2:$T$79,4,FALSE)","v":{"v":1.22188099364212,"d":"1.221881"}},0.4233107167218164,{"$f":"(M4-(AVERAGE($M$2:$M$3)))*K4","v":{"v":0.017315811088586167,"d":"0.0173"}},{"$f":"(10*N4)/F4","v":{"v":0.017296803612089365,"d":"0.0173"}},{"$f":"O4*100","v":{"v":1.7296803612089364,"d":"1.73"}},0.35204070845794505,{"$f":"((Q4-AVERAGE(Q$2:Q$3))*K4)","v":{"v":0.018762430598668365,"d":"0.0188"}},{"$f":"(10*R4)/F4","v":{"v":0.018741835175398694,"d":"0.0187"}},{"$f":"S4*100","v":{"v":1.8741835175398693,"d":"1.87"}},{"$f":"((L4*1000)*D4*10000)*(P4/1000000)","v":{"v":3.592888049343302,"d":"3.59"}},{"$f":"((L4*1000)*D4*10000)*(T4/1000000)","v":{"v":3.893049671754809,"d":"3.89"}},{"$f":"P4+T4","v":{"v":3.6038638787488058,"d":"3.60"}},{"$f":"U4+V4","v":{"v":7.485937721098111,"d":"7.49"}}]
["Pu-0-S","Pu-0","0-S",0.13,12,{"$f":"E5*(H5/100)","v":{"v":10.205082893058842,"d":"10.20508"}},{"$f":"Mass!I4","v":{"v":14.957642557842988,"d":"14.96"}},{"$f":"Mass!J4","v":{"v":85.04235744215701,"d":"85.04"}},{"$f":"(E5-F5)","v":{"v":1.794917106941158,"d":"1.794917"}},{"$f":"I5/1000","v":{"v":1.794917106941158E-3,"d":"0.001795"}},{"$f":"0.05+J5","v":{"v":0.05179491710694116,"d":"0.051795"}},{"$f":"VLOOKUP($A5,BD!$Q$2:$T$79,4,FALSE)","v":{"v":1.2546189682986126,"d":"1.254619"}},0.43646490027716345,{"v":0.018270815751497124,"d":"0.0183"},{"v":0.017903642668031954,"d":"0.0179"},{"$f":"O5*100","v":{"v":1.7903642668031954,"d":"1.79"}},0.40227578345091547,{"v":0.021660901484783848,"d":"0.0217"},{"v":0.021225600724435932,"d":"0.0212"},{"v":2.1225600724435933,"d":"2.12"},{"$f":"((L5*1000)*D5*10000)*(P5/1000000)","v":{"v":2.9200924600839255,"d":"2.92"}},{"$f":"((L5*1000)*D5*10000)*(T5/1000000)","v":{"v":3.461905366713313,"d":"3.46"}},{"v":3.9129243392467887,"d":"3.91"},{"v":6.381997826797239,"d":"6.38"}]
["Pu-1-T","Pu-1","1-T",0.17,13,{"v":11.610389610389609,"d":"11.61039"},{"$f":"Mass!I5","v":{"v":10.689310689310695,"d":"10.69"}},{"$f":"Mass!J5","v":{"v":89.3106893106893,"d":"89.31"}},{"v":1.3896103896103913,"d":"1.389610"},{"v":1.3896103896103914E-3,"d":"0.001390"},{"v":0.051389610389610395,"d":"0.051390"},{"$f":"VLOOKUP($A6,BD!$Q$2:$T$79,4,FALSE)","v":{"v":1.1676309229091983,"d":"1.167631"}},0.6869071306321191,{"v":0.03099797120781337,"d":"0.0310"},{"v":0.026698476319928745,"d":"0.0267"},{"v":2.6698476319928743,"d":"2.67"},0.33581743094005395,{"v":0.018076131282414372,"d":"0.0181"},{"v":0.015568927390893812,"d":"0.0156"},{"v":1.5568927390893812,"d":"1.56"},{"v":5.299574312770321,"d":"5.30"},{"v":3.0903893798830584,"d":"3.09"},{"v":4.226740371082256,"d":"4.23"},{"v":8.38996369265338,"d":"8.39"}]
["Pu-1-S","Pu-1","1-S",0.13,14,{"v":11.874125874125872,"d":"11.87413"},{"$f":"Mass!I6","v":{"v":15.184815184815204,"d":"15.18"}},{"$f":"Mass!J6","v":{"v":84.8151848151848,"d":"84.82"}},{"v":2.1258741258741285,"d":"2.125874"},{"v":2.1258741258741286E-3,"d":"0.002126"},{"v":0.05212587412587413,"d":"0.052126"},{"$f":"VLOOKUP($A7,BD!$Q$2:$T$79,4,FALSE)","v":{"v":1.2014067594900104,"d":"1.201407"}},0.6802228289955606,{"v":0.031093656963807916,"d":"0.0311"},{"v":0.0261860597516168,"d":"0.0262"},{"v":2.61860597516168,"d":"2.62"},0.37667946591417467,{"v":0.020465078991123806,"d":"0.0205"},{"v":0.017235019409485894,"d":"0.0172"},{"v":1.7235019409485894,"d":"1.72"},{"v":4.0898141947002244,"d":"4.09"},{"v":2.6918149464047243,"d":"2.69"},{"v":4.342107916110269,"d":"4.34"},{"v":6.781629141104949,"d":"6.78"}]
["Mo-0-T","Mo-0","0-T",0.17,15,{"v":12.75,"d":"12.75000"},{"$f":"Mass!I7","v":{"v":15.000000000000002,"d":"15.00"}},{"$f":"Mass!J7","v":{"v":85,"d":"85.00"}},{"v":2.25,"d":"2.250000"},{"v":0.00225,"d":"0.002250"},{"v":0.052250000000000005,"d":"0.052250"},{"$f":"VLOOKUP($A8,BD!$Q$2:$T$79,4,FALSE)","v":{"v":1.3082858456780266,"d":"1.308286"}},2.199834014021946,{"v":0.11056738382993503,"d":"0.1106"},{"v":0.0867195167293608,"d":"0.0867"},{"$f":"O8*100","v":{"v":8.67195167293608,"d":"8.67"}},0.4107833364739185,{"v":0.022295739143364444,"d":"0.0223"},{"v":0.01748685423008976,"d":"0.0175"},{"v":1.748685423008976,"d":"1.75"},{"v":19.28716576778047,"d":"19.29"},{"v":3.8892266586924307,"d":"3.89"},{"v":10.420637095945056,"d":"10.42"},{"v":23.176392426472898,"d":"23.18"}]
["Mo-0-S","Mo-0","0-S",0.13,16,{"v":13.088,"d":"13.08800"},{"$f":"Mass!I8","v":{"v":18.200000000000006,"d":"18.20"}},{"$f":"Mass!J8","v":{"v":81.8,"d":"81.80"}},{"v":2.912000000000001,"d":"2.912000"},{"v":2.912000000000001E-3,"d":"0.002912"},0.052912,{"$f":"VLOOKUP($A9,BD!$Q$2:$T$79,4,FALSE)","v":{"v":1.3402809118717296,"d":"1.340281"}},0.284842192024744,{"v":0.010642209426628002,"d":"0.0106"},{"v":0.00813127248367054,"d":"0.0081"},{"v":0.813127248367054,"d":"0.81"},0.39629103294772067,{"v":0.021811406193787356,"d":"0.0218"},{"v":0.01666519421896956,"d":"0.0167"},{"v":1.666519421896956,"d":"1.67"},{"v":1.416764608881889,"d":"1.42"},{"v":2.9036854215615997,"d":"2.90"},{"v":2.47964667026401,"d":"2.48"},{"v":4.320450030443489,"d":"4.32"}]
["Mo-1-T","Mo-1","1-T",0.17,17,{"v":14.605394605394606,"d":"14.60539"},{"$f":"Mass!I9","v":{"v":14.085914085914087,"d":"14.09"}},{"$f":"Mass!J9","v":{"v":85.91408591408592,"d":"85.91"}},{"v":2.394605394605394,"d":"2.394605"},{"v":0.002394605394605394,"d":"0.002395"},{"v":0.052394605394605394,"d":"0.052395"},{"$f":"VLOOKUP($A10,BD!$Q$2:$T$79,4,FALSE)","v":{"v":1.2966979851524274,"d":"1.296698"}},0.17624326627262674,{"v":0.00484814780409935,"d":"0.0048"},{"v":3.3194226757205536E-3,"d":"0.0033"},{"v":0.33194226757205536,"d":"0.33"},0.33023780200938313,{"v":0.01813729260873714,"d":"0.0181"},{"v":0.012418214706802926,"d":"0.0124"},{"v":1.2418214706802926,"d":"1.24"},{"v":0.7317290782309408,"d":"0.73"},{"v":2.737454578215272,"d":"2.74"},{"v":1.573763738252348,"d":"1.57"},{"v":3.469183656446213,"d":"3.47"}]
["Mo-1-S","Mo-1","1-S",0.13,18,{"v":14.814000000000002,"d":"14.81400"},{"$f":"Mass!I10","v":{"v":17.699999999999992,"d":"17.70"}},{"$f":"Mass!J10","v":{"v":82.30000000000001,"d":"82.30"}},{"v":3.185999999999998,"d":"3.186000"},{"v":3.1859999999999983E-3,"d":"0.003186"},{"v":0.053186000000000004,"d":"0.053186"},{"$f":"VLOOKUP($A11,BD!$Q$2:$T$79,4,FALSE)","v":{"v":1.320374053800285,"d":"1.320374"}},1.1163432123426116,{"v":0.05492153241095324,"d":"0.0549"},{"v":0.03707407345143326,"d":"0.0371"},{"v":3.707407345143326,"d":"3.71"},0.38570262821129914,{"v":0.021361199691090377,"d":"0.0214"},{"v":0.014419602869643833,"d":"0.0144"},{"v":1.4419602869643833,"d":"1.44"},{"v":6.3637138050146,"d":"6.36"},{"v":2.475105034373641,"d":"2.48"},{"v":5.149367632107709,"d":"5.15"},{"v":8.83881883938824,"d":"8.84"}]
["Si-0-T","Si-0","0-T",0.17,19,{"v":15.98502994011976,"d":"15.98503"},{"$f":"Mass!I11","v":{"v":15.86826347305389,"d":"15.87"}},{"$f":"Mass!J11","v":{"v":84.13173652694611,"d":"84.13"}},{"v":3.0149700598802394,"d":"3.014970"},{"v":3.0149700598802393E-3,"d":"0.003015"},{"v":0.05301497005988024,"d":"0.053015"},{"$f":"VLOOKUP($A12,BD!$Q$2:$T$79,4,FALSE)","v":{"v":1.2492445230668916,"d":"1.249245"}},1.3974194945493532,{"v":0.06964617221413183,"d":"0.0696"},{"v":0.04356962262506093,"d":"0.0436"},{"v":4.356962262506093,"d":"4.36"},0.2658050573611414,{"v":0.014936142464859444,"d":"0.0149"},{"v":0.00934383139775811,"d":"0.0093"},{"v":0.934383139775811,"d":"0.93"},{"v":9.252949114196278,"d":"9.25"},{"v":1.9843641336786624,"d":"1.98"},{"v":5.2913454022819035,"d":"5.29"},{"v":11.23731324787494,"d":"11.24"}]
["Si-0-S","Si-0","0-S",0.13,20,{"v":16.343656343656342,"d":"16.34366"},{"$f":"Mass!I12","v":{"v":18.281718281718284,"d":"18.28"}},{"$f":"Mass!J12","v":{"v":81.71828171828172,"d":"81.72"}},{"v":3.656343656343658,"d":"3.656344"},{"v":0.003656343656343658,"d":"0.003656"},{"v":0.05365634365634366,"d":"0.053656"},{"$f":"VLOOKUP($A13,BD!$Q$2:$T$79,4,FALSE)","v":{"v":1.2966979851524274,"d":"1.296698"}},0.5929633264597364,{"v":0.02732457300866257,"d":"0.0273"},{"v":0.016718763802977526,"d":"0.0167"},{"v":1.6718763802977525,"d":"1.67"},0.2030296282368613,{"v":0.011748539492341328,"d":"0.0117"},{"v":0.007188440117257745,"d":"0.0072"},{"v":0.7188440117257745,"d":"0.72"},{"v":2.8182943538828384,"d":"2.82"},{"v":1.2117606561368097,"d":"1.21"},{"v":2.390720392023527,"d":"2.39"},{"v":4.030055010019648,"d":"4.03"}]
["Si-1-T","Si-1","1-T",0.17,21,{"v":17.496503496503497,"d":"17.49650"},{"$f":"Mass!I13","v":{"v":16.683316683316683,"d":"16.68"}},{"$f":"Mass!J13","v":{"v":83.31668331668331,"d":"83.32"}},{"v":3.5034965034965033,"d":"3.503497"},{"v":0.003503496503496503,"d":"0.003503"},{"v":0.053503496503496506,"d":"0.053503"},{"$f":"VLOOKUP($A14,BD!$Q$2:$T$79,4,FALSE)","v":{"v":1.2408543822303493,"d":"1.240854"}},1.7123927373565497,{"v":0.08714012294000868,"d":"0.0871"},{"v":0.049804306876184014,"d":"0.0498"},{"v":4.9804306876184015,"d":"4.98"},0.9222769437108109,{"v":0.05019731846080715,"d":"0.0502"},{"v":0.02868991422819913,"d":"0.0287"},{"v":2.868991422819913,"d":"2.87"},{"v":10.50598171501387,"d":"10.51"},{"v":6.052000985298537,"d":"6.05"},{"v":7.849422110438315,"d":"7.85"},{"v":16.557982700312408,"d":"16.56"}]
["Si-1-S","Si-1","1-S",0.13,22,{"v":17.692307692307693,"d":"17.69231"},{"$f":"Mass!I14","v":{"v":19.580419580419573,"d":"19.58"}},{"$f":"Mass!J14","v":{"v":80.41958041958043,"d":"80.42"}},{"v":4.307692307692307,"d":"4.307692"},{"v":0.004307692307692307,"d":"0.004308"},{"v":0.05430769230769231,"d":"0.054308"},{"$f":"VLOOKUP($A15,BD!$Q$2:$T$79,4,FALSE)","v":{"v":1.3190048579179112,"d":"1.319005"}},0.5133110626065224,{"v":0.02333054264357198,"d":"0.0233"},{"v":0.013186828450714597,"d":"0.0132"},{"v":1.3186828450714596,"d":"1.32"},0.3286633522616196,{"v":0.018714035771218118,"d":"0.0187"},{"v":0.010577498479384153,"d":"0.0106"},{"v":1.0577498479384153,"d":"1.06"},{"v":2.2611538023129483,"d":"2.26"},{"v":1.8137303442605124,"d":"1.81"},{"v":2.3764326930098747,"d":"2.38"},{"v":4.074884146573461,"d":"4.07"}]
["BL1-07-07",null,"0-T",null,null,{"v":0,"d":"0.00000"},null,null,{"v":0,"d":"0.000000"},{"v":0,"d":"0.000000"},{"v":0.05,"d":"0.050000"},{"$f":"VLOOKUP($A16,BD!$Q$2:$T$79,4,FALSE)","v":{"$error":"#N/A"}},0.01247321487873514,{"v":-0.003561931028993063,"d":"-0.0036"},null,null,0.061596162883668815,{"v":0.003876276864376932,"d":"0.0039"},null,null,{"$error":"#N/A"},{"$error":"#N/A"},null,{"$error":"#N/A"}]
["BL2-07-07",null,"0-S",null,null,{"v":0,"d":"0.00000"},null,null,{"v":0,"d":"0.000000"},{"v":0,"d":"0.000000"},{"v":0.05,"d":"0.050000"},{"$f":"VLOOKUP($A17,BD!$Q$2:$T$79,4,FALSE)","v":{"$error":"#N/A"}},0.003131973261118052,{"v":-0.004028993109873917,"d":"-0.0040"},null,null,0.09396905945171938,{"v":0.00549492169277946,"d":"0.0055"},null,null,{"$error":"#N/A"},{"$error":"#N/A"},null,{"$error":"#N/A"}]
["Mi-0-T","Mi-0","0-T",0.17,11.02,{"v":9.433119999999999,"d":"9.43312"},{"$f":"Mass!I15","v":{"v":14.400000000000013,"d":"14.40"}},{"$f":"Mass!J15","v":{"v":85.6,"d":"85.60"}},{"v":1.5868800000000007,"d":"1.586880"},{"v":1.5868800000000008E-3,"d":"0.001587"},{"v":0.05158688,"d":"0.051587"},{"$f":"VLOOKUP($A18,BD!$Q$2:$T$79,4,FALSE)","v":{"v":1.1304410672633396,"d":"1.130441"}},0.5103557995398711,{"$f":"(M18-(AVERAGE(M$16:M$17)))*K18","v":{"v":0.025925151904193373,"d":"0.0259"}},{"$f":"(10*N18)/F18","v":{"v":0.02748311471092637,"d":"0.0275"}},{"v":2.748311471092637,"d":"2.75"},0.29138296028094923,{"$f":"((Q18-AVERAGE(Q$16:Q$17))*K18)","v":{"v":0.0110189755776636,"d":"0.0110"}},{"$f":"(10*R18)/F18","v":{"v":0.011681157006020914,"d":"0.0117"}},{"v":1.1681157006020915,"d":"1.17"},{"v":5.281567059341868,"d":"5.28"},{"v":2.244826130768676,"d":"2.24"},{"$f":"P18+T18","v":{"v":3.9164271716947283,"d":"3.92"}},{"v":7.526393190110545,"d":"7.53"}]
["Mi-0-S","Mi-0","0-S",0.13,11.03,9.41962,{"$f":"Mass!I16","v":{"v":14.59999999999999,"d":"14.60"}},{"$f":"Mass!J16","v":{"v":85.4,"d":"85.40"}},{"v":1.6103799999999993,"d":"1.610380"},{"v":1.6103799999999994E-3,"d":"0.001610"},{"v":0.051610380000000004,"d":"0.051610"},{"$f":"VLOOKUP($A19,BD!$Q$2:$T$79,4,FALSE)","v":{"v":1.2979620956516948,"d":"1.297962"}},0.3170610852687406,{"v":0.015960948248997447,"d":"0.0160"},{"v":0.016944365323651536,"d":"0.0169"},{"v":1.6944365323651536,"d":"1.69"},0.2653723138632181,{"v":0.009681575840203018,"d":"0.0097"},{"v":0.010278095974363103,"d":"0.0103"},{"v":1.0278095974363104,"d":"1.03"},{"v":2.859108710246705,"d":"2.86"},{"v":1.7342752687251657,"d":"1.73"},{"v":2.722246129801464,"d":"2.72"},{"v":4.593383978971871,"d":"4.59"}]
["Mi-1-T","Mi-1","1-T",0.17,11.01,{"v":9.380519999999999,"d":"9.38052"},{"$f":"Mass!I17","v":{"v":14.800000000000002,"d":"14.80"}},{"$f":"Mass!J17","v":{"v":85.2,"d":"85.20"}},{"v":1.629480000000001,"d":"1.629480"},{"v":1.6294800000000009E-3,"d":"0.001629"},{"v":0.051629480000000005,"d":"0.051629"},{"$f":"VLOOKUP($A20,BD!$Q$2:$T$79,4,FALSE)","v":{"v":1.1499083648049506,"d":"1.149908"}},0.510719380800437,{"v":0.025965332182167157,"d":"0.0260"},{"v":0.027680056310489354,"d":"0.0277"},{"v":2.7680056310489354,"d":"2.77"},0.2589732344790329,{"v":0.009354777662440304,"d":"0.0094"},{"v":0.009972557664650047,"d":"0.0100"},{"v":0.9972557664650047,"d":"1.00"},{"v":5.411019809249641,"d":"5.41"},{"v":1.949479671103738,"d":"1.95"},{"v":3.76526139751394,"d":"3.77"},{"v":7.360499480353379,"d":"7.36"}]
["Mi-1-S","Mi-1","1-S",0.13,11.01,9.33648,{"$f":"Mass!I18","v":{"v":15.199999999999992,"d":"15.20"}},{"$f":"Mass!J18","v":{"v":84.80000000000001,"d":"84.80"}},{"v":1.67352,"d":"1.673520"},{"v":1.67352E-3,"d":"0.001674"},{"v":0.05167352,"d":"0.051674"},{"$f":"VLOOKUP($A21,BD!$Q$2:$T$79,4,FALSE)","v":{"v":1.30566900420092,"d":"1.305669"}},0.6551916575950597,{"v":0.03345287172184724,"d":"0.0335"},{"v":0.03583028263526215,"d":"0.0358"},{"v":3.583028263526215,"d":"3.58"},0.21656437168254797,{"v":0.007171342077599511,"d":"0.0072"},{"v":0.00768099120610713,"d":"0.0077"},{"v":0.7680991206107131,"d":"0.77"},{"v":6.081723628320633,"d":"6.08"},{"v":1.3037481781160098,"d":"1.30"},{"v":4.3511273841369285,"d":"4.35"},{"v":7.385471806436643,"d":"7.39"}]
["Li-0-T","Li-0","0-T",0.17,11.01,{"v":9.426143856143858,"d":"9.42614"},{"$f":"Mass!I19","v":{"v":14.385614385614376,"d":"14.39"}},{"$f":"Mass!J19","v":{"v":85.61438561438563,"d":"85.61"}},{"v":1.583856143856142,"d":"1.583856"},{"v":0.001583856143856142,"d":"0.001584"},{"v":0.05158385614385615,"d":"0.051584"},{"$f":"VLOOKUP($A22,BD!$Q$2:$T$79,4,FALSE)","v":{"v":1.2059302827522504,"d":"1.205930"}},0.5828949223209874,{"v":0.02966547992993802,"d":"0.0297"},{"v":0.0314714907630042,"d":"0.0315"},{"v":3.14714907630042,"d":"3.15"},0.23905782626609393,{"v":0.008319197495205313,"d":"0.0083"},{"v":0.008825663624667633,"d":"0.0088"},{"v":0.8825663624667632,"d":"0.88"},{"v":6.451912038258964,"d":"6.45"},{"v":1.8093329551631872,"d":"1.81"},{"v":4.029715438767183,"d":"4.03"},{"v":8.261244993422151,"d":"8.26"}]
["Li-0-S","Li-0","0-S",0.13,11.01,{"v":9.1383,"d":"9.13830"},{"$f":"Mass!I20","v":{"v":16.999999999999993,"d":"17.00"}},{"$f":"Mass!J20","v":{"v":83,"d":"83.00"}},{"v":1.8717000000000006,"d":"1.871700"},{"v":1.8717000000000007E-3,"d":"0.001872"},{"v":0.05187170000000001,"d":"0.051872"},{"$f":"VLOOKUP($A23,BD!$Q$2:$T$79,4,FALSE)","v":{"v":1.3477480210547346,"d":"1.347748"}},0.21525833231027897,{"v":0.010761081817282088,"d":"0.0108"},{"v":0.01177580273933017,"d":"0.0118"},{"v":1.177580273933017,"d":"1.18"},0.20661127123031173,{"v":0.006682561606170083,"d":"0.0067"},{"v":0.007312696678999467,"d":"0.0073"},{"v":0.7312696678999467,"d":"0.73"},{"v":2.063205928974211,"d":"2.06"},{"v":1.2812374221003582,"d":"1.28"},{"v":1.9088499418329636,"d":"1.91"},{"v":3.344443351074569,"d":"3.34"}]
["Li-1-T","Li-1","1-T",0.17,11.01,{"v":9.270420000000001,"d":"9.27042"},{"$f":"Mass!I21","v":{"v":15.800000000000002,"d":"15.80"}},{"$f":"Mass!J21","v":{"v":84.2,"d":"84.20"}},{"v":1.7395799999999983,"d":"1.739580"},{"v":1.7395799999999984E-3,"d":"0.001740"},{"v":0.05173958,"d":"0.051740"},{"$f":"VLOOKUP($A24,BD!$Q$2:$T$79,4,FALSE)","v":{"v":1.141813188626513,"d":"1.141813"}},0.44181607062498,{"v":0.02245567499129831,"d":"0.0225"},{"v":0.02422293163772332,"d":"0.0242"},{"v":2.4222931637723324,"d":"2.42"},0.38246165563110746,{"v":0.015763965795338335,"d":"0.0158"},{"v":0.01700458641068941,"d":"0.0170"},{"v":1.700458641068941,"d":"1.70"},{"v":4.701870677895655,"d":"4.70"},{"v":3.3007303752469395,"d":"3.30"},{"v":4.122751804841274,"d":"4.12"},{"v":8.002601053142595,"d":"8.00"}]
["Li-1-S","Li-1","1-S",0.13,11,{"v":9.142857142857142,"d":"9.14286"},{"$f":"Mass!I22","v":{"v":16.883116883116877,"d":"16.88"}},{"$f":"Mass!J22","v":{"v":83.11688311688312,"d":"83.12"}},{"v":1.8571428571428577,"d":"1.857143"},{"v":1.8571428571428576E-3,"d":"0.001857"},{"v":0.05185714285714286,"d":"0.051857"},{"$f":"VLOOKUP($A25,BD!$Q$2:$T$79,4,FALSE)","v":{"v":1.2892308759694222,"d":"1.289231"}},0.19342481148347335,{"v":0.009625837845873925,"d":"0.0096"},{"v":0.010528260143924606,"d":"0.0105"},{"v":1.0528260143924606,"d":"1.05"},0.23771355922999174,{"v":8.293562020944863E-3,"d":"0.0083"},{"v":0.009071083460408445,"d":"0.0091"},{"v":0.9071083460408444,"d":"0.91"},{"v":1.7645365462121638,"d":"1.76"},{"v":1.520313713835035,"d":"1.52"},{"v":1.959934360433305,"d":"1.96"},{"v":3.284850260047199,"d":"3.28"}]
["BL1-13.07",{"$nulls":4},{"v":0,"d":"0.00000"},null,null,{"v":0,"d":"0.000000"},{"v":0,"d":"0.000000"},{"v":0.05,"d":"0.050000"},{"$f":"VLOOKUP($A26,BD!$Q$2:$T$79,4,FALSE)","v":{"$error":"#N/A"}},2.488714107809091E-3,{"v":-2.6569399810587524E-4,"d":"-0.0003"},null,null,0.06109896822648031,{"v":-8.341821470606893E-4,"d":"-0.0008"},null,null,{"$error":"#N/A"},{"$error":"#N/A"},null,{"$error":"#N/A"}]
["BL2-13.07",{"$nulls":4},{"v":0,"d":"0.00000"},null,null,{"v":0,"d":"0.000000"},{"v":0,"d":"0.000000"},{"v":0.05,"d":"0.050000"},{"$f":"VLOOKUP($A27,BD!$Q$2:$T$79,4,FALSE)","v":{"$error":"#N/A"}},0.005341428613787962,{"v":-1.2305827280693172E-4,"d":"-0.0001"},null,null,0.04263831475124101,{"v":-1.7572148208226544E-3,"d":"-0.0018"},null,null,{"$error":"#N/A"},{"$error":"#N/A"},null,{"$error":"#N/A"}]
["Ai-0-T","Ai-0","0-T",0.17,11.02,{"v":9.832215568862276,"d":"9.83222"},{"$f":"Mass!I23","v":{"v":10.77844311377244,"d":"10.78"}},{"$f":"Mass!J23","v":{"v":89.22155688622756,"d":"89.22"}},{"v":1.1877844311377235,"d":"1.187784"},{"v":1.1877844311377235E-3,"d":"0.001188"},{"v":0.05118778443113772,"d":"0.051188"},{"$f":"VLOOKUP($A28,BD!$Q$2:$T$79,4,FALSE)","v":{"v":1.4121265277786195,"d":"1.412127"}},0.3572414758594888,{"$f":"(M28-(AVERAGE(M$26:M$27)))*K28","v":{"v":0.018085995827307924,"d":"0.0181"}},{"$f":"(10*N28)/F28","v":{"v":0.01839462906466841,"d":"0.0184"}},{"v":1.8394629064668409,"d":"1.84"},0.5280844463365363,{"$f":"((Q28-AVERAGE(Q$26:Q$27))*K28)","v":{"v":0.02437643196124357,"d":"0.0244"}},{"$f":"(10*R28)/F28","v":{"v":0.02479241000211742,"d":"0.0248"}},{"v":2.479241000211742,"d":"2.48"},{"v":4.415842424047198,"d":"4.42"},{"v":5.951703374764178,"d":"5.95"},{"$f":"P28+T28","v":{"v":4.318703906678583,"d":"4.32"}},{"v":10.367545798811376,"d":"10.37"}]
["Ai-0-S","Ai-0","0-S",0.13,11,{"v":9.966000000000001,"d":"9.96600"},{"$f":"Mass!I24","v":{"v":9.399999999999997,"d":"9.40"}},{"$f":"Mass!J24","v":{"v":90.60000000000001,"d":"90.60"}},{"v":1.033999999999999,"d":"1.034000"},{"v":0.001033999999999999,"d":"0.001034"},0.051034,{"$f":"VLOOKUP($A29,BD!$Q$2:$T$79,4,FALSE)","v":{"v":1.4689499640976926,"d":"1.468950"}},0.4462722717160189,{"v":0.022575257362928317,"d":"0.0226"},{"v":0.022652275098262405,"d":"0.0227"},{"v":2.2652275098262407,"d":"2.27"},0.37818946450267305,{"v":0.0166534568816869,"d":"0.0167"},{"v":0.01671027180582671,"d":"0.0167"},{"v":1.671027180582671,"d":"1.67"},{"v":4.32575763000207,"d":"4.33"},{"v":3.191051912000138,"d":"3.19"},{"v":3.9362546904089117,"d":"3.94"},{"v":7.516809542002209,"d":"7.52"}]
["Ai-1-T","Ai-1","1-T",0.17,11.01,{"v":9.462233300099701,"d":"9.46223"},{"$f":"Mass!I25","v":{"v":14.057826520438688,"d":"14.06"}},{"$f":"Mass!J25","v":{"v":85.94217347956132,"d":"85.94"}},{"v":1.5477666999002988,"d":"1.547767"},{"v":1.5477666999002989E-3,"d":"0.001548"},{"v":0.0515477666999003,"d":"0.051548"},{"$f":"VLOOKUP($A30,BD!$Q$2:$T$79,4,FALSE)","v":{"v":1.3447372393573813,"d":"1.344737"}},0.060904103305402586,{"v":2.9376573231336156E-3,"d":"0.0029"},{"v":3.1046130759666032E-3,"d":"0.0031"},{"v":0.3104613075966603,"d":"0.31"},0.19261616236130238,{"v":7.2552203695219735E-3,"d":"0.0073"},{"v":0.007667555998059705,"d":"0.0077"},{"v":0.7667555998059705,"d":"0.77"},{"v":0.7097310988981868,"d":"0.71"},{"v":1.7528441745263192,"d":"1.75"},{"v":1.0772169074026308,"d":"1.08"},{"v":2.462575273424506,"d":"2.46"}]
["Ai-1-S","Ai-1","1-S",0.13,11,{"v":9.823,"d":"9.82300"},{"$f":"Mass!I26","v":{"v":10.7,"d":"10.70"}},{"$f":"Mass!J26","v":{"v":89.3,"d":"89.30"}},{"v":1.1769999999999996,"d":"1.177000"},{"v":1.1769999999999997E-3,"d":"0.001177"},0.051177,{"$f":"VLOOKUP($A31,BD!$Q$2:$T$79,4,FALSE)","v":{"v":1.3585482579948818,"d":"1.358548"}},0.32128422144916036,{"v":0.01624200099407209,"d":"0.0162"},{"v":0.016534664556726145,"d":"0.0165"},{"v":1.6534664556726146,"d":"1.65"},0.1509162623167344,{"v":5.068960091108095E-3,"d":"0.0051"},{"v":0.00516029735427883,"d":"0.0052"},{"v":0.516029735427883,"d":"0.52"},{"v":2.9202081649091025,"d":"2.92"},{"v":0.9113666875808433,"d":"0.91"},{"v":2.1694961911004977,"d":"2.17"},{"v":3.831574852489946,"d":"3.83"}]
["Pi-0-T","Pi-0","0-T",0.17,11,{"v":8.956043956043956,"d":"8.95604"},{"$f":"Mass!I27","v":{"v":18.581418581418575,"d":"18.58"}},{"$f":"Mass!J27","v":{"v":81.41858141858143,"d":"81.42"}},{"v":2.043956043956044,"d":"2.043956"},{"v":2.0439560439560437E-3,"d":"0.002044"},{"v":0.05204395604395605,"d":"0.052044"},{"$f":"VLOOKUP($A32,BD!$Q$2:$T$79,4,FALSE)","v":{"v":1.1789948013414202,"d":"1.178995"}},0.7161521156166148,{"v":0.03706763342412689,"d":"0.0371"},{"v":0.04138840051037481,"d":"0.0414"},{"v":4.138840051037481,"d":"4.14"},0.2890995477812688,{"v":0.012346434859349945,"d":"0.0123"},{"v":0.013785589842955153,"d":"0.0138"},{"v":1.3785589842955153,"d":"1.38"},{"v":8.295440536386645,"d":"8.30"},{"v":2.7630335889057664,"d":"2.76"},{"v":5.517399035332996,"d":"5.52"},{"v":11.058474125292411,"d":"11.06"}]
["Pi-0-S","Pi-0","0-S",0.13,11.01,{"v":9.050219999999998,"d":"9.05022"},{"$f":"Mass!I28","v":{"v":17.800000000000015,"d":"17.80"}},{"$f":"Mass!J28","v":{"v":82.19999999999999,"d":"82.20"}},{"v":1.959780000000002,"d":"1.959780"},{"v":0.001959780000000002,"d":"0.001960"},{"v":0.051959780000000004,"d":"0.051960"},{"$f":"VLOOKUP($A33,BD!$Q$2:$T$79,4,FALSE)","v":{"v":1.253535794800795,"d":"1.253536"}},0.1822376957737523,{"v":0.009265604333519707,"d":"0.0093"},{"v":0.0102379879533533,"d":"0.0102"},{"v":1.02379879533533,"d":"1.02"},0.20114213000123835,{"v":0.007756217622935672,"d":"0.0078"},{"v":0.008570197876886612,"d":"0.0086"},{"v":0.8570197876886612,"d":"0.86"},{"v":1.6683789676148002,"d":"1.67"},{"v":1.3965964749364088,"d":"1.40"},{"v":1.8808185830239912,"d":"1.88"},{"v":3.064975442551209,"d":"3.06"}]
["Pi-1-T","Pi-1","1-T",0.17,11,{"v":8.868131868131869,"d":"8.86813"},{"$f":"Mass!I29","v":{"v":19.38061938061938,"d":"19.38"}},{"$f":"Mass!J29","v":{"v":80.61938061938062,"d":"80.62"}},{"v":2.1318681318681314,"d":"2.131868"},{"v":2.1318681318681313E-3,"d":"0.002132"},{"v":0.05213186813186813,"d":"0.052132"},{"$f":"VLOOKUP($A34,BD!$Q$2:$T$79,4,FALSE)","v":{"v":1.1660445163992086,"d":"1.166045"}},0.33185604579484673,{"v":0.017096175634232137,"d":"0.0171"},{"v":0.019278215399196087,"d":"0.0193"},{"v":1.9278215399196088,"d":"1.93"},0.2319774060553912,{"v":0.009389406363776052,"d":"0.0094"},{"v":0.01058780643251079,"d":"0.0106"},{"v":1.058780643251079,"d":"1.06"},{"v":3.8214737498732143,"d":"3.82"},{"v":2.0987951173253303,"d":"2.10"},{"v":2.986602183170688,"d":"2.99"},{"v":5.920268867198544,"d":"5.92"}]
["Pi-1-S","Pi-1","1-S",0.13,11.01,{"v":8.94218781218781,"d":"8.94219"},{"$f":"Mass!I30","v":{"v":18.78121878121879,"d":"18.78"}},{"$f":"Mass!J30","v":{"v":81.2187812187812,"d":"81.22"}},{"v":2.0678121878121907,"d":"2.067812"},{"v":2.0678121878121907E-3,"d":"0.002068"},{"v":0.052067812187812194,"d":"0.052068"},{"$f":"VLOOKUP($A35,BD!$Q$2:$T$79,4,FALSE)","v":{"v":1.2429284657881507,"d":"1.242928"}},0.28423622325713405,{"v":0.01459570908920957,"d":"0.0146"},{"v":0.016322302098504642,"d":"0.0163"},{"v":1.6322302098504642,"d":"1.63"},0.23432526971433684,{"v":9.500117450865566E-3,"d":"0.0095"},{"v":0.010623929680740237,"d":"0.0106"},{"v":1.0623929680740238,"d":"1.06"},{"v":2.6373690077052614,"d":"2.64"},{"v":1.716622000434076,"d":"1.72"},{"v":2.694623177924488,"d":"2.69"},{"v":4.353991008139337,"d":"4.35"}]
["Ja-0-T","Ja-0","0-T",0.17,11,{"v":8.56043956043956,"d":"8.56044"},{"$f":"Mass!I31","v":{"v":22.177822177822172,"d":"22.18"}},{"$f":"Mass!J31","v":{"v":77.82217782217782,"d":"77.82"}},{"v":2.4395604395604398,"d":"2.439560"},{"v":2.4395604395604396E-3,"d":"0.002440"},{"v":0.05243956043956044,"d":"0.052440"},{"$f":"VLOOKUP($A36,BD!$Q$2:$T$79,4,FALSE)","v":{"v":1.2114567779469803,"d":"1.211457"}},0.9599753025099853,{"v":0.050135378275207906,"d":"0.0501"},{"v":0.058566359730987415,"d":"0.0586"},{"v":5.856635973098742,"d":"5.86"},0.3096042237360608,{"v":0.013515540642677352,"d":"0.0135"},{"v":0.015788372252678293,"d":"0.0158"},{"v":1.5788372252678293,"d":"1.58"},{"v":12.061604287483586,"d":"12.06"},{"v":3.251578198303716,"d":"3.25"},{"v":7.435473198366571,"d":"7.44"},{"$f":"U36+V36","v":{"v":15.313182485787301,"d":"15.31"}}]
["Ja-1-T","Ja-1","1-T",0.17,11.01,{"v":8.664869999999999,"d":"8.66487"},{"$f":"Mass!I32","v":{"v":21.300000000000008,"d":"21.30"}},{"$f":"Mass!J32","v":{"v":78.69999999999999,"d":"78.70"}},{"v":2.345130000000001,"d":"2.345130"},{"v":2.3451300000000013E-3,"d":"0.002345"},{"v":0.052345130000000004,"d":"0.052345"},{"$f":"VLOOKUP($A37,BD!$Q$2:$T$79,4,FALSE)","v":{"v":1.2367517447300256,"d":"1.236752"}},0.7833493906463393,{"v":0.04079959076946314,"d":"0.0408"},{"v":0.047086212221837315,"d":"0.0471"},{"v":4.708621222183732,"d":"4.71"},0.2680240187015567,{"v":0.011314681320397611,"d":"0.0113"},{"v":0.013058108569889234,"d":"0.0131"},{"v":1.3058108569889233,"d":"1.31"},{"v":9.899772370074547,"d":"9.90"},{"v":2.745438554636384,"d":"2.75"},{"v":6.014432079172655,"d":"6.01"},{"v":12.64521092471093,"d":"12.65"}]
["BL1-14.07",{"$nulls":4},{"v":0,"d":"0.00000"},null,null,{"v":0,"d":"0.000000"},{"v":0,"d":"0.000000"},{"v":0.05,"d":"0.050000"},{"$f":"VLOOKUP($A38,BD!$Q$2:$T$79,4,FALSE)","v":{"$error":"#N/A"}},-0.018160836973051042,{"v":-1.1037954166924783E-3,"d":"-0.0011"},null,null,0.07534267442408392,{"v":0.001173701646761163,"d":"0.0012"},null,null,{"$error":"#N/A"},{"$error":"#N/A"},null,{"$error":"#N/A"}]
["BL2-14.07",{"$nulls":4},{"v":0,"d":"0.00000"},null,null,{"v":0,"d":"0.000000"},{"v":0,"d":"0.000000"},{"v":0.05,"d":"0.050000"},{"$f":"VLOOKUP($A39,BD!$Q$2:$T$79,4,FALSE)","v":{"$error":"#N/A"}},-0.013462248374968193,{"v":-8.6886598678833607E-4,"d":"-0.0009"},null,null,0.038329294388940775,{"v":-6.769673549959943E-4,"d":"-0.0007"},null,null,{"$error":"#N/A"},{"$error":"#N/A"},null,{"$error":"#N/A"}]
["Mu-0-T","Mu-0","0-T",0.17,11.01,8.77497,{"$f":"Mass!I33","v":{"v":20.299999999999997,"d":"20.30"}},{"$f":"Mass!J33","v":{"v":79.7,"d":"79.70"}},{"v":2.23503,"d":"2.235030"},{"v":2.2350300000000003E-3,"d":"0.002235"},{"v":0.05223503,"d":"0.052235"},{"$f":"VLOOKUP($A40,BD!$Q$2:$T$79,4,FALSE)","v":{"v":1.1007312455848663,"d":"1.100731"}},0.5563348451068247,{"$f":"(M40-(AVERAGE(M$38:M$39)))*K40","v":{"v":0.029886083730123518,"d":"0.0299"}},{"$f":"(10*N40)/F40","v":{"v":0.03405833151580406,"d":"0.0341"}},{"v":3.4058331515804063,"d":"3.41"},0.34638742105954257,{"$f":"((Q40-AVERAGE(Q$38:Q$39))*K40)","v":{"v":0.015124727980114135,"d":"0.0151"}},{"$f":"(10*R40)/F40","v":{"v":0.01723621616953008,"d":"0.0172"}},{"v":1.7236216169530079,"d":"1.72"},{"v":6.373141844228664,"d":"6.37"},{"v":3.225315087887666,"d":"3.23"},{"$f":"P40+T40","v":{"v":5.129454768533414,"d":"5.13"}},{"v":9.598456932116331,"d":"9.60"}]
["Mu-0-S","Mu-0","0-S",0.13,11.01,{"v":8.777202797202799,"d":"8.77720"},{"$f":"Mass!I34","v":{"v":20.27972027972027,"d":"20.28"}},{"$f":"Mass!J34","v":{"v":79.72027972027973,"d":"79.72"}},{"v":2.232797202797201,"d":"2.232797"},{"v":0.002232797202797201,"d":"0.002233"},{"v":0.05223279720279721,"d":"0.052233"},{"$f":"VLOOKUP($A41,BD!$Q$2:$T$79,4,FALSE)","v":{"v":1.1848545069710879,"d":"1.184855"}},0.22552251097394801,{"v":0.012605552682322753,"d":"0.0126"},{"v":0.014361696970633978,"d":"0.0144"},{"v":1.4361696970633977,"d":"1.44"},0.33501639510347253,{"v":0.014530140977725162,"d":"0.0145"},{"v":0.016554409546462527,"d":"0.0166"},{"v":1.6554409546462527,"d":"1.66"},{"v":2.2121477798431295,"d":"2.21"},{"v":2.5498936789782727,"d":"2.55"},{"v":3.0916106517096504,"d":"3.09"},{"v":4.762041458821402,"d":"4.76"}]
["Mu-1-T","Mu-1","1-T",0.17,11.01,{"v":8.68921078921079,"d":"8.68921"},{"$f":"Mass!I35","v":{"v":21.078921078921077,"d":"21.08"}},{"$f":"Mass!J35","v":{"v":78.92107892107893,"d":"78.92"}},{"v":2.3207892107892096,"d":"2.320789"},{"v":2.3207892107892096E-3,"d":"0.002321"},{"v":0.05232078921078921,"d":"0.052321"},{"$f":"VLOOKUP($A42,BD!$Q$2:$T$79,4,FALSE)","v":{"v":1.093313593259713,"d":"1.093314"}},0.4834134958722928,{"v":0.02611984801052921,"d":"0.0261"},{"v":0.03006009250340857,"d":"0.0301"},{"v":3.0060092503408566,"d":"3.01"},0.38874104000522874,{"v":0.017365534451975716,"d":"0.0174"},{"v":0.019985168818252328,"d":"0.0200"},{"v":1.9985168818252328,"d":"2.00"},{"v":5.587068317265566,"d":"5.59"},{"v":3.7145096445395214,"d":"3.71"},{"v":5.00452613216609,"d":"5.00"},{"v":9.301577961805087,"d":"9.30"}]
["Mu-1-S","Mu-1","1-S",0.13,11.01,{"v":8.689210789210788,"d":"8.68921"},{"$f":"Mass!I36","v":{"v":21.078921078921088,"d":"21.08"}},{"$f":"Mass!J36","v":{"v":78.92107892107892,"d":"78.92"}},{"v":2.3207892107892114,"d":"2.320789"},{"v":2.3207892107892114E-3,"d":"0.002321"},{"v":0.05232078921078921,"d":"0.052321"},{"$f":"VLOOKUP($A43,BD!$Q$2:$T$79,4,FALSE)","v":{"v":1.1773428791458076,"d":"1.177343"}},0.30970555668959904,{"v":0.017031311540310897,"d":"0.0170"},{"v":0.019600527543258958,"d":"0.0196"},{"v":1.9600527543258959,"d":"1.96"},0.3251369531189679,{"v":0.014037718429054939,"d":"0.0140"},{"v":0.016155343413334248,"d":"0.0162"},{"v":1.6155343413334249,"d":"1.62"},{"v":2.999950398972436,"d":"3.00"},{"v":2.472649208619746,"d":"2.47"},{"v":3.575587095659321,"d":"3.58"},{"v":5.472599607592182,"d":"5.47"}]
["Kp-0-T","Kp-0","0-T",0.17,11.01,{"v":9.237390000000001,"d":"9.23739"},{"$f":"Mass!I37","v":{"v":16.09999999999999,"d":"16.10"}},{"$f":"Mass!J37","v":{"v":83.9,"d":"83.90"}},{"v":1.7726099999999985,"d":"1.772610"},{"v":1.7726099999999985E-3,"d":"0.001773"},{"v":0.051772610000000004,"d":"0.051773"},{"$f":"VLOOKUP($A44,BD!$Q$2:$T$79,4,FALSE)","v":{"v":1.2238187176386006,"d":"1.223819"}},0.26939464974890415,{"v":0.014765868969896472,"d":"0.0148"},{"v":0.01598489288629848,"d":"0.0160"},{"v":1.5984892886298478,"d":"1.60"},0.23807264426018343,{"v":0.009383094908306772,"d":"0.0094"},{"v":0.010157733849395523,"d":"0.0102"},{"v":1.0157733849395523,"d":"1.02"},{"v":3.325643889329033,"d":"3.33"},{"v":2.113308218325844,"d":"2.11"},{"v":2.6142626735694003,"d":"2.61"},{"v":5.4389521076548775,"d":"5.44"}]
["Kp-0-S","Kp-0","0-S",0.13,11,{"v":9.043956043956046,"d":"9.04396"},{"$f":"Mass!I38","v":{"v":17.782217782217778,"d":"17.78"}},{"$f":"Mass!J38","v":{"v":82.21778221778223,"d":"82.22"}},{"v":1.9560439560439544,"d":"1.956044"},{"v":1.9560439560439543E-3,"d":"0.001956"},{"v":0.05195604395604396,"d":"0.051956"},{"$f":"VLOOKUP($A45,BD!$Q$2:$T$79,4,FALSE)","v":{"v":1.3135940615265185,"d":"1.313594"}},0.2176262718021699,{"v":0.012128505349927217,"d":"0.0121"},{"v":0.013410619524220856,"d":"0.0134"},{"v":1.3410619524220857,"d":"1.34"},0.23674679184101408,{"v":0.009347453819234332,"d":"0.0093"},{"v":0.010335580772178906,"d":"0.0103"},{"v":1.0335580772178907,"d":"1.03"},{"v":2.2900943218930534,"d":"2.29"},{"v":1.7649784782190447,"d":"1.76"},{"v":2.3746200296399764,"d":"2.37"},{"v":4.055072800112098,"d":"4.06"}]
["Kp-1-T","Kp-1","1-T",0.17,11,{"v":9.24,"d":"9.24000"},{"$f":"Mass!I39","v":{"v":15.999999999999993,"d":"16.00"}},{"$f":"Mass!J39","v":{"v":84,"d":"84.00"}},{"v":1.7599999999999998,"d":"1.760000"},{"v":1.7599999999999998E-3,"d":"0.001760"},{"v":0.05176,"d":"0.051760"},{"$f":"VLOOKUP($A46,BD!$Q$2:$T$79,4,FALSE)","v":{"v":1.20230563666648,"d":"1.202306"}},0.3443949379861591,{"v":0.018644287438970335,"d":"0.0186"},{"v":0.020177800258625905,"d":"0.0202"},{"v":2.0177800258625904,"d":"2.02"},0.23005307858590238,{"v":0.008965716794725227,"d":"0.0090"},{"v":9.703156704248081E-3,"d":"0.0097"},{"v":0.9703156704248082,"d":"0.97"},{"v":4.124180107700967,"d":"4.12"},{"v":1.9832471998258543,"d":"1.98"},{"v":2.988095696287399,"d":"2.99"},{"v":6.107427307526821,"d":"6.11"}]
["Kp-1-S","Kp-1","1-S",0.13,11,{"v":8.998,"d":"8.99800"},{"$f":"Mass!I40","v":{"v":18.200000000000006,"d":"18.20"}},{"$f":"Mass!J40","v":{"v":81.8,"d":"81.80"}},{"v":2.0020000000000007,"d":"2.002000"},{"v":2.0020000000000007E-3,"d":"0.002002"},{"v":0.05200200000000001,"d":"0.052002"},{"$f":"VLOOKUP($A47,BD!$Q$2:$T$79,4,FALSE)","v":{"v":1.2892308759694222,"d":"1.289231"}},0.2654605140576522,{"v":0.014626709494159881,"d":"0.0146"},{"v":0.016255511773905183,"d":"0.0163"},{"v":1.6255511773905182,"d":"1.63"},0.21068090157248415,{"v":0.008000243382464868,"d":"0.0080"},{"v":0.008891135121654667,"d":"0.0089"},{"v":0.8891135121654667,"d":"0.89"},{"v":2.7244239988683945,"d":"2.72"},{"v":1.4901543697629345,"d":"1.49"},{"v":2.514664689555985,"d":"2.51"},{"v":4.214578368631329,"d":"4.21"}]
["Ki-0-T","Ki-0","0-T",0.17,11.01,{"v":9.8991008991009,"d":"9.89910"},{"$f":"Mass!I41","v":{"v":10.089910089910092,"d":"10.09"}},{"$f":"Mass!J41","v":{"v":89.91008991008991,"d":"89.91"}},{"v":1.1108991008991005,"d":"1.110899"},{"v":1.1108991008991005E-3,"d":"0.001111"},{"v":0.0511108991008991,"d":"0.051111"},{"$f":"VLOOKUP($A48,BD!$Q$2:$T$79,4,FALSE)","v":{"v":1.3569796264412541,"d":"1.356980"}},2.8512131488168797,{"v":0.14653620972657722,"d":"0.1465"},{"v":0.14802981727349257,"d":"0.1480"},{"v":14.802981727349257,"d":"14.80"},0.9302320582258268,{"v":0.044640058604100405,"d":"0.0446"},{"v":0.045095063742763654,"d":"0.0451"},{"v":4.5095063742763655,"d":"4.51"},{"v":34.14848584481168,"d":"34.15"},{"v":10.402824067839994,"d":"10.40"},{"v":19.312488101625622,"d":"19.31"},{"v":44.551309912651675,"d":"44.55"}]
["Ki-0-S","Ki-0","0-S",0.13,11.01,{"v":9.975060000000001,"d":"9.97506"},{"$f":"Mass!I42","v":{"v":9.399999999999997,"d":"9.40"}},{"$f":"Mass!J42","v":{"v":90.60000000000001,"d":"90.60"}},{"v":1.0349399999999989,"d":"1.034940"},{"v":1.034939999999999E-3,"d":"0.001035"},{"v":0.05103494,"d":"0.051035"},{"$f":"VLOOKUP($A49,BD!$Q$2:$T$79,4,FALSE)","v":{"v":1.4736559572262795,"d":"1.473656"}},0.6562171432017841,{"v":0.034296943661949984,"d":"0.0343"},{"v":0.03438269410103797,"d":"0.0344"},{"v":3.4382694101037967,"d":"3.44"},0.29246942267999076,{"v":0.012025538384280676,"d":"0.0120"},{"v":0.012055605063308567,"d":"0.0121"},{"v":1.2055605063308568,"d":"1.21"},{"v":6.58687405837285,"d":"6.59"},{"v":2.309555848536556,"d":"2.31"},{"v":4.643829916434654,"d":"4.64"},{"v":8.896429906909406,"d":"8.90"}]
["Ki-1-T","Ki-1","1-T",0.17,11,{"v":9.934065934065934,"d":"9.93407"},{"$f":"Mass!I43","v":{"v":9.690309690309695,"d":"9.69"}},{"$f":"Mass!J43","v":{"v":90.30969030969031,"d":"90.31"}},{"v":1.0659340659340657,"d":"1.065934"},{"v":1.0659340659340657E-3,"d":"0.001066"},{"v":0.05106593406593407,"d":"0.051066"},{"$f":"VLOOKUP($A50,BD!$Q$2:$T$79,4,FALSE)","v":{"v":1.2966979851524274,"d":"1.296698"}},1.2387768711890839,{"v":0.06406672922221754,"d":"0.0641"},{"v":0.0644919508763473,"d":"0.0645"},{"v":6.449195087634731,"d":"6.45"},0.9192109099914818,{"v":0.04403798109003685,"d":"0.0440"},{"v":0.04433026857514771,"d":"0.0443"},{"v":4.433026857514771,"d":"4.43"},{"v":14.216519069184514,"d":"14.22"},{"v":9.772104890252203,"d":"9.77"},{"v":10.882221945149503,"d":"10.88"},{"v":23.988623959436715,"d":"23.99"}]
["Ki-1-S","Ki-1","1-S",0.13,11,{"v":10.153000000000002,"d":"10.15300"},{"$f":"Mass!I44","v":{"v":7.699999999999996,"d":"7.70"}},{"$f":"Mass!J44","v":{"v":92.30000000000001,"d":"92.30"}},{"v":0.8469999999999978,"d":"0.847000"},{"v":8.4699999999999771E-4,"d":"0.000847"},0.050847,{"$f":"VLOOKUP($A51,BD!$Q$2:$T$79,4,FALSE)","v":{"v":1.3936988265791392,"d":"1.393699"}},0.29975834630437204,{"v":0.016045782144883773,"d":"0.0160"},{"v":0.015803981232033654,"d":"0.0158"},{"v":1.5803981232033655,"d":"1.58"},0.2431642858421322,{"v":0.009474235143096962,"d":"0.0095"},{"v":0.009331463747756289,"d":"0.0093"},{"v":0.9331463747756289,"d":"0.93"},{"v":2.8633787127873256,"d":"2.86"},{"v":1.6906825098167833,"d":"1.69"},{"v":2.5135444979789945,"d":"2.51"},{"v":4.554061222604108,"d":"4.55"}]
["BL1-20.07",{"$nulls":4},{"v":0,"d":"0.00000"},null,null,{"v":0,"d":"0.000000"},{"v":0,"d":"0.000000"},{"v":0.05,"d":"0.050000"},{"$f":"VLOOKUP($A52,BD!$Q$2:$T$79,4,FALSE)","v":{"$error":"#N/A"}},0.1147420976584352,{"v":0.006527682016622242,"d":"0.0065"},null,null,0.11605739246274137,{"v":2.9610704028114514E-3,"d":"0.0030"},null,null,{"$error":"#N/A"},{"$error":"#N/A"},null,{"$error":"#N/A"}]
["BL2-20.07",{"$nulls":4},{"v":0,"d":"0.00000"},null,null,{"v":0,"d":"0.000000"},{"v":0,"d":"0.000000"},{"v":0.05,"d":"0.050000"},{"$f":"VLOOKUP($A53,BD!$Q$2:$T$79,4,FALSE)","v":{"$error":"#N/A"}},1.3979703261112863E-3,{"v":8.6047565000604517E-4,"d":"0.0009"},null,null,0.08993625834341273,{"v":1.6550136968450195E-3,"d":"0.0017"},null,null,{"$error":"#N/A"},{"$error":"#N/A"},null,{"$error":"#N/A"}]
["Na-0-T","Na-0","0-T",0.17,11,{"v":8.516483516483515,"d":"8.51648"},{"$f":"Mass!I45","v":{"v":22.57742257742259,"d":"22.58"}},{"$f":"Mass!J45","v":{"v":77.4225774225774,"d":"77.42"}},{"v":2.4835164835164854,"d":"2.483516"},{"v":2.4835164835164854E-3,"d":"0.002484"},{"v":0.052483516483516485,"d":"0.052484"},{"$f":"VLOOKUP($A54,BD!$Q$2:$T$79,4,FALSE)","v":{"v":1.1396454358635006,"d":"1.139645"}},0.5752783610419524,{"$f":"(M54-(AVERAGE(M$52:M$53)))*K54","v":{"v":0.027144911758123818,"d":"0.0271"}},{"$f":"(10*N54)/F54","v":{"v":0.03187338025792604,"d":"0.0319"}},{"v":3.187338025792604,"d":"3.19"},0.34621248219868,{"$f":"((Q54-AVERAGE(Q$52:Q$53))*K54)","v":{"v":0.012764812932481315,"d":"0.0128"}},{"$f":"(10*R54)/F54","v":{"v":0.01498836099168774,"d":"0.0150"}},{"v":1.498836099168774,"d":"1.50"},{"v":6.175139897202827,"d":"6.18"},{"v":2.903840923192749,"d":"2.90"},{"$f":"P54+T54","v":{"v":4.6861741249613775,"d":"4.69"}},{"v":9.078980820395577,"d":"9.08"}]
["Na-0-S","Na-0","0-S",0.13,11,{"v":8.846153846153847,"d":"8.84615"},{"$f":"Mass!I46","v":{"v":19.580419580419573,"d":"19.58"}},{"$f":"Mass!J46","v":{"v":80.41958041958043,"d":"80.42"}},{"v":2.1538461538461533,"d":"2.153846"},{"v":2.1538461538461533E-3,"d":"0.002154"},{"v":0.052153846153846155,"d":"0.052154"},{"$f":"VLOOKUP($A55,BD!$Q$2:$T$79,4,FALSE)","v":{"v":1.2077603546265903,"d":"1.207760"}},0.33823270174938774,{"v":0.014611560672255665,"d":"0.0146"},{"v":0.0165174164121151,"d":"0.0165"},{"v":1.65174164121151,"d":"1.65"},0.27577657243031056,{"v":0.009011128344958794,"d":"0.0090"},{"v":0.010186492911692548,"d":"0.0102"},{"v":1.0186492911692548,"d":"1.02"},{"v":2.593380491443455,"d":"2.59"},{"v":1.599369497885515,"d":"1.60"},{"v":2.670390932380765,"d":"2.67"},{"v":4.19274998932897,"d":"4.19"}]
["Na-1-T","Na-1","1-T",0.17,11.01,8.63184,{"$f":"Mass!I47","v":{"v":21.599999999999998,"d":"21.60"}},{"$f":"Mass!J47","v":{"v":78.4,"d":"78.40"}},{"v":2.3781599999999994,"d":"2.378160"},{"v":2.3781599999999994E-3,"d":"0.002378"},{"v":0.05237816,"d":"0.052378"},{"$f":"VLOOKUP($A56,BD!$Q$2:$T$79,4,FALSE)","v":{"v":1.1283592732868346,"d":"1.128359"}},0.684138319493963,{"v":0.03279230482893318,"d":"0.0328"},{"v":0.03798993589887345,"d":"0.0380"},{"v":3.798993589887345,"d":"3.80"},0.4194934502831836,{"v":0.0165775108574302,"d":"0.0166"},{"v":0.01920507198630906,"d":"0.0192"},{"v":1.920507198630906,"d":"1.92"},{"v":7.287270398721267,"d":"7.29"},{"v":3.683937581881816,"d":"3.68"},{"v":5.719500788518251,"d":"5.72"},{"v":10.971207980603083,"d":"10.97"}]
["Na-1-S","Na-1","1-S",0.13,11.01,{"v":8.896080000000001,"d":"8.89608"},{"$f":"Mass!I48","v":{"v":19.199999999999996,"d":"19.20"}},{"$f":"Mass!J48","v":{"v":80.80000000000001,"d":"80.80"}},{"v":2.1139199999999985,"d":"2.113920"},{"v":2.1139199999999983E-3,"d":"0.002114"},{"v":0.05211392,"d":"0.052114"},{"$f":"VLOOKUP($A57,BD!$Q$2:$T$79,4,FALSE)","v":{"v":1.138926565122032,"d":"1.138927"}},0.3240810003765906,{"v":0.013862874221275004,"d":"0.0139"},{"v":0.015583126749394117,"d":"0.0156"},{"v":1.5583126749394116,"d":"1.56"},0.36254624741816854,{"v":0.013526137814940714,"d":"0.0135"},{"v":0.015204604516754247,"d":"0.0152"},{"v":1.5204604516754248,"d":"1.52"},{"v":2.3072448129313305,"d":"2.31"},{"v":2.25120063951976,"d":"2.25"},{"v":3.0787731266148364,"d":"3.08"},{"v":4.558445452451091,"d":"4.56"}]
["Ik-0-T","Ik-0","0-T",0.17,11,{"v":8.349,"d":"8.34900"},{"$f":"Mass!I49","v":{"v":24.099999999999998,"d":"24.10"}},{"$f":"Mass!J49","v":{"v":75.9,"d":"75.90"}},{"v":2.651,"d":"2.651000"},{"v":2.6509999999999997E-3,"d":"0.002651"},0.052651,{"$f":"VLOOKUP($A58,BD!$Q$2:$T$79,4,FALSE)","v":{"v":0.9588298639897991,"d":"0.958830"}},1.5945178281617889,{"v":0.08089551281081916,"d":"0.0809"},{"v":0.09689245755278376,"d":"0.0969"},{"v":9.689245755278376,"d":"9.69"},0.37719507518829604,{"v":0.014436812049441567,"d":"0.0144"},{"v":0.017291666127011097,"d":"0.0173"},{"v":1.7291666127011096,"d":"1.73"},{"v":15.793574922485416,"d":"15.79"},{"v":2.818560199722241,"d":"2.82"},{"v":11.418412367979485,"d":"11.42"},{"v":18.612135122207658,"d":"18.61"}]
["Ik-0-S","Ik-0","0-S",0.13,11,{"v":8.370999999999999,"d":"8.37100"},{"$f":"Mass!I50","v":{"v":23.90000000000001,"d":"23.90"}},{"$f":"Mass!J50","v":{"v":76.1,"d":"76.10"}},{"v":2.6290000000000013,"d":"2.629000"},{"v":0.002629000000000001,"d":"0.002629"},0.052629,{"$f":"VLOOKUP($A59,BD!$Q$2:$T$79,4,FALSE)","v":{"v":1.0091261982257071,"d":"1.009126"}},0.775341280317464,{"v":0.03774926842284846,"d":"0.0377"},{"v":0.04509529139033385,"d":"0.0451"},{"v":4.509529139033385,"d":"4.51"},0.5309571265780698,{"v":0.022523122690538692,"d":"0.0225"},{"v":0.02690613151420224,"d":"0.0269"},{"v":2.690613151420224,"d":"2.69"},{"v":5.91588919461905,"d":"5.92"},{"v":3.5297186865054138,"d":"3.53"},{"v":7.200142290453609,"d":"7.20"},{"v":9.445607881124463,"d":"9.45"}]
["Ik-1-T","Ik-1","1-T",0.17,11,{"v":8.527472527472527,"d":"8.52747"},{"$f":"Mass!I51","v":{"v":22.47752247752247,"d":"22.48"}},{"$f":"Mass!J51","v":{"v":77.52247752247753,"d":"77.52"}},{"v":2.4725274725274726,"d":"2.472527"},{"v":2.4725274725274724E-3,"d":"0.002473"},{"v":0.05247252747252747,"d":"0.052473"},{"$f":"VLOOKUP($A60,BD!$Q$2:$T$79,4,FALSE)","v":{"v":1.042670534173241,"d":"1.042671"}},0.2898577489012689,{"v":0.012162487238356643,"d":"0.0122"},{"v":0.014262710550134722,"d":"0.0143"},{"v":1.4262710550134723,"d":"1.43"},0.5305427976970795,{"v":0.02243441777696551,"d":"0.0224"},{"v":0.026308402289998215,"d":"0.0263"},{"v":2.6308402289998214,"d":"2.63"},{"v":2.528122364771439,"d":"2.53"},{"v":4.663269297722682,"d":"4.66"},{"v":4.057111284013294,"d":"4.06"},{"v":7.191391662494121,"d":"7.19"}]
["Ik-1-S","Ik-1","1-S",0.13,11,{"v":8.745000000000001,"d":"8.74500"},{"$f":"Mass!I52","v":{"v":20.499999999999996,"d":"20.50"}},{"$f":"Mass!J52","v":{"v":79.5,"d":"79.50"}},{"v":2.254999999999999,"d":"2.255000"},{"v":0.002254999999999999,"d":"0.002255"},0.052255,{"$f":"VLOOKUP($A61,BD!$Q$2:$T$79,4,FALSE)","v":{"v":1.0878765292197246,"d":"1.087877"}},0.2964208567843053,{"v":0.012455022244997636,"d":"0.0125"},{"v":0.014242449679814334,"d":"0.0142"},{"v":1.4242449679814335,"d":"1.42"},0.4031780996806279,{"v":0.01568597248737342,"d":"0.0157"},{"v":0.01793707545725948,"d":"0.0179"},{"v":1.7937075457259481,"d":"1.79"},{"v":2.0142234742841896,"d":"2.01"},{"v":2.536732041063447,"d":"2.54"},{"v":3.217952513707382,"d":"3.22"},{"v":4.550955515347637,"d":"4.55"}]
["Ne-0-T","Ne-0","0-T",0.17,11,{"v":9.196000000000002,"d":"9.19600"},{"$f":"Mass!I53","v":{"v":16.39999999999999,"d":"16.40"}},{"$f":"Mass!J53","v":{"v":83.60000000000001,"d":"83.60"}},{"v":1.8039999999999985,"d":"1.804000"},{"v":1.8039999999999985E-3,"d":"0.001804"},0.051804,{"$f":"VLOOKUP($A62,BD!$Q$2:$T$79,4,FALSE)","v":{"v":1.0927042350213862,"d":"1.092704"}},0.305174774827162,{"v":0.012801013994210578,"d":"0.0128"},{"v":0.013920197905840122,"d":"0.0139"},{"v":1.3920197905840122,"d":"1.39"},0.17530642244436975,{"v":3.745926365127127E-3,"d":"0.0037"},{"v":4.0734301491160575E-3,"d":"0.0041"},{"v":0.40734301491160574,"d":"0.41"},{"v":2.585812064688047,"d":"2.59"},{"v":0.7566792437504952,"d":"0.76"},{"v":1.799362805495618,"d":"1.80"},{"v":3.342491308438542,"d":"3.34"}]
["Ne-0-S","Ne-0","0-S",0.13,11.01,9.28143,{"$f":"Mass!I54","v":{"v":15.700000000000003,"d":"15.70"}},{"$f":"Mass!J54","v":{"v":84.3,"d":"84.30"}},{"v":1.7285699999999995,"d":"1.728570"},{"v":1.7285699999999996E-3,"d":"0.001729"},{"v":0.05172857,"d":"0.051729"},{"$f":"VLOOKUP($A63,BD!$Q$2:$T$79,4,FALSE)","v":{"v":1.155184429389365,"d":"1.155184"}},0.21688978668461328,{"v":0.008215518694528402,"d":"0.0082"},{"v":0.00885156564724229,"d":"0.0089"},{"v":0.885156564724229,"d":"0.89"},0.20357285943638206,{"v":5.2026544168142005E-3,"d":"0.0052"},{"v":0.005605444868747813,"d":"0.0056"},{"v":0.5605444868747813,"d":"0.56"},{"v":1.329274805483572,"d":"1.33"},{"v":0.8417919421831384,"d":"0.84"},{"v":1.4457010515990103,"d":"1.45"},{"v":2.1710667476667105,"d":"2.17"}]
["Ne-1-T","Ne-1","1-T",0.17,11,{"v":8.945054945054947,"d":"8.94505"},{"$f":"Mass!I55","v":{"v":18.681318681318672,"d":"18.68"}},{"$f":"Mass!J55","v":{"v":81.31868131868133,"d":"81.32"}},{"v":2.054945054945053,"d":"2.054945"},{"v":0.002054945054945053,"d":"0.002055"},{"v":0.052054945054945054,"d":"0.052055"},{"$f":"VLOOKUP($A64,BD!$Q$2:$T$79,4,FALSE)","v":{"v":1.0796233001424975,"d":"1.079623"}},0.25907453550668647,{"v":0.010463278282129401,"d":"0.0105"},{"v":0.011697276703609033,"d":"0.0117"},{"v":1.1697276703609034,"d":"1.17"},0.24987641371417685,{"v":7.6458088992272496E-3,"d":"0.0076"},{"v":0.008547525919283533,"d":"0.0085"},{"v":0.8547525919283533,"d":"0.85"},{"v":2.146870921163158,"d":"2.15"},{"v":1.568778383975172,"d":"1.57"},{"v":2.0244802622892566,"d":"2.02"},{"v":3.71564930513833,"d":"3.72"}]
["Ne-1-S","Ne-1","1-S",0.13,11,{"v":9.009,"d":"9.00900"},{"$f":"Mass!I56","v":{"v":18.100000000000005,"d":"18.10"}},{"$f":"Mass!J56","v":{"v":81.89999999999999,"d":"81.90"}},{"v":1.9909999999999997,"d":"1.991000"},{"v":1.9909999999999997E-3,"d":"0.001991"},0.051991,{"$f":"VLOOKUP($A65,BD!$Q$2:$T$79,4,FALSE)","v":{"v":1.1367809607532724,"d":"1.136781"}},0.16818854296162758,{"v":5.7251713998257014E-3,"d":"0.0057"},{"v":6.3549466087531375E-3,"d":"0.0064"},{"v":0.6354946608753137,"d":"0.64"},0.19570981800603077,{"v":0.004820241198420167,"d":"0.0048"},{"v":5.3504730807194655E-3,"d":"0.0054"},{"v":0.5350473080719466,"d":"0.54"},{"v":0.9391437004864384,"d":"0.94"},{"v":0.7907010707940235,"d":"0.79"},{"v":1.1705419689472603,"d":"1.17"},{"v":1.7298447712804619,"d":"1.73"}]
["Ae-0-T","Ae-0","0-T",0.17,11,{"v":8.546999999999999,"d":"8.54700"},{"$f":"Mass!I57","v":{"v":22.300000000000008,"d":"22.30"}},{"$f":"Mass!J57","v":{"v":77.69999999999999,"d":"77.70"}},{"v":2.453000000000001,"d":"2.453000"},{"v":0.002453000000000001,"d":"0.002453"},{"v":0.05245300000000001,"d":"0.052453"},{"$f":"VLOOKUP($A66,BD!$Q$2:$T$79,4,FALSE)","v":{"v":0.9692085401223434,"d":"0.969209"}},0.21622788233845477,{"v":0.00829585361930226,"d":"0.0083"},{"v":0.009706158440742086,"d":"0.0097"},{"v":0.9706158440742086,"d":"0.97"},0.3277242067980413,{"v":0.011787625336310063,"d":"0.0118"},{"v":0.01379153543501821,"d":"0.0138"},{"v":1.379153543501821,"d":"1.38"},{"v":1.599239580933126,"d":"1.60"},{"v":2.2723685672533263,"d":"2.27"},{"v":2.3497693875760297,"d":"2.35"},{"v":3.871608148186452,"d":"3.87"}]
["Ae-0-S","Ae-0","0-S",0.13,11,{"v":8.448,"d":"8.44800"},{"$f":"Mass!I58","v":{"v":23.2,"d":"23.20"}},{"$f":"Mass!J58","v":{"v":76.8,"d":"76.80"}},{"v":2.5519999999999996,"d":"2.552000"},{"v":2.5519999999999996E-3,"d":"0.002552"},0.052552,{"$f":"VLOOKUP($A67,BD!$Q$2:$T$79,4,FALSE)","v":{"v":1.0411474116504118,"d":"1.041147"}},0.19488845912216185,{"v":0.007190081877425907,"d":"0.0072"},{"v":0.008510987070816652,"d":"0.0085"},{"v":0.8510987070816652,"d":"0.85"},0.3746538580515549,{"v":0.014276120379742808,"d":"0.0143"},{"v":0.016898816737384952,"d":"0.0169"},{"v":1.6898816737384952,"d":"1.69"},{"v":1.1519549807182143,"d":"1.15"},{"v":2.2872407097907903,"d":"2.29"},{"v":2.5409803808201605,"d":"2.54"},{"v":3.4391956905090044,"d":"3.44"}]
["Ae-1-T","Ae-1","1-T",0.17,11.01,8.48871,{"$f":"Mass!I59","v":{"v":22.9,"d":"22.90"}},{"$f":"Mass!J59","v":{"v":77.1,"d":"77.10"}},{"v":2.5212900000000005,"d":"2.521290"},{"v":2.5212900000000007E-3,"d":"0.002521"},{"v":0.052521290000000005,"d":"0.052521"},{"$f":"VLOOKUP($A68,BD!$Q$2:$T$79,4,FALSE)","v":{"v":1.021121442655125,"d":"1.021121"}},0.23260768425677136,{"v":0.009166942545460284,"d":"0.0092"},{"v":0.010798981877647234,"d":"0.0108"},{"$f":"O68*100","v":{"v":1.0798981877647233,"d":"1.08"}},0.3063724584643356,{"v":0.010681550602943948,"d":"0.0107"},{"v":0.012583243629413597,"d":"0.0126"},{"$f":"S68*100","v":{"v":1.2583243629413596,"d":"1.26"}},{"v":1.8746022321986477,"d":"1.87"},{"v":2.1843333809851124,"d":"2.18"},{"v":2.338222550706083,"d":"2.34"},{"$f":"U68+V68","v":{"v":4.05893561318376,"d":"4.06"}}]
["Ae-1-S","Ae-1","1-S",0.13,11.01,{"$f":"E69*(H69/100)","v":{"v":8.414235764235766,"d":"8.41424"}},{"$f":"Mass!I60","v":{"v":23.576423576423565,"d":"23.58"}},{"$f":"Mass!J60","v":{"v":76.42357642357643,"d":"76.42"}},{"$f":"(E69-F69)","v":{"v":2.595764235764234,"d":"2.595764"}},{"$f":"I69/1000","v":{"v":0.002595764235764234,"d":"0.002596"}},{"$f":"0.05+J69","v":{"v":0.05259576423576424,"d":"0.052596"}},{"$f":"VLOOKUP($A69,BD!$Q$2:$T$79,4,FALSE)","v":{"v":1.092096200037604,"d":"1.092096"}},0.27239652579767926,{"v":0.011272665632475592,"d":"0.0113"},{"v":0.013397135459870785,"d":"0.0134"},{"v":1.3397135459870784,"d":"1.34"},0.3299799973723224,{"v":0.011938353398380359,"d":"0.0119"},{"v":0.014188280115852773,"d":"0.0142"},{"v":1.4188280115852774,"d":"1.42"},{"$f":"((L69*1000)*D69*10000)*(P69/1000000)","v":{"v":1.9020248945248097,"d":"1.90"}},{"$f":"((L69*1000)*D69*10000)*(T69/1000000)","v":{"v":2.0143456839469485,"d":"2.01"}},{"v":2.7585415575723555,"d":"2.76"},{"v":3.916370578471758,"d":"3.92"}]
["BL1-21.07",{"$nulls":4},{"v":0,"d":"0.00000"},null,null,{"v":0,"d":"0.000000"},{"v":0,"d":"0.000000"},{"v":0.05,"d":"0.050000"},{"$f":"VLOOKUP($A70,BD!$Q$2:$T$79,4,FALSE)","v":{"$error":"#N/A"}},-0.000848775412257693,{"v":-0.002945940470226547,"d":"-0.0029"},null,null,0.27245273407392084,{"$nulls":3},{"$error":"#N/A"},{"$error":"#N/A"},null,{"$error":"#N/A"}]
["BL2-21.07",{"$nulls":4},{"v":0,"d":"0.00000"},null,null,{"v":0,"d":"0.000000"},{"v":0,"d":"0.000000"},{"v":0.05,"d":"0.050000"},{"$f":"VLOOKUP($A71,BD!$Q$2:$T$79,4,FALSE)","v":{"$error":"#N/A"}},-4.5722636241745551E-4,{"v":-0.002926363017734535,"d":"-0.0029"},null,null,0.2027165797490019,{"$nulls":3},{"$error":"#N/A"},{"$error":"#N/A"},null,{"$error":"#N/A"}]
["Jn-0-T","Jn-0","0-T",0.17,11.01,{"v":8.766203796203797,"d":"8.76620"},{"$f":"Mass!I61","v":{"v":20.379620379620377,"d":"20.38"}},{"$f":"Mass!J61","v":{"v":79.62037962037962,"d":"79.62"}},{"v":2.2437962037962027,"d":"2.243796"},{"v":2.2437962037962027E-3,"d":"0.002244"},{"v":0.052243796203796204,"d":"0.052244"},{"$f":"VLOOKUP($A72,BD!$Q$2:$T$79,4,FALSE)","v":{"v":1.1781676220101396,"d":"1.178168"}},0.2518588458739164,{"$f":"(M72-(AVERAGE(M$70:M$71)))*K72","v":{"v":0.013192177461239168,"d":"0.0132"}},{"$f":"(10*N72)/F72","v":{"v":0.01504890573836766,"d":"0.0150"}},{"v":1.504890573836766,"d":"1.50"},0.3914571960028326,{"$f":"((Q72-AVERAGE(Q$70:Q$71))*K72)","v":{"v":0.008038885573650264,"d":"0.0080"}},{"$f":"(10*R72)/F72","v":{"v":0.009170315635522302,"d":"0.0092"}},{"v":0.9170315635522301,"d":"0.92"},{"v":3.0141226928966534,"d":"3.01"},{"v":1.8367087241155713,"d":"1.84"},{"$f":"P72+T72","v":{"v":2.421922137388996,"d":"2.42"}},{"v":4.850831417012225,"d":"4.85"}]
["Jn-0-S","Jn-0","0-S",0.13,11.01,{"v":9.085174825174825,"d":"9.08517"},{"$f":"Mass!I62","v":{"v":17.4825174825175,"d":"17.48"}},{"$f":"Mass!J62","v":{"v":82.5174825174825,"d":"82.52"}},{"v":1.924825174825175,"d":"1.924825"},{"v":1.924825174825175E-3,"d":"0.001925"},{"v":0.051924825174825176,"d":"0.051925"},{"$f":"VLOOKUP($A73,BD!$Q$2:$T$79,4,FALSE)","v":{"v":1.280763708116301,"d":"1.280764"}},0.20399663582915975,{"v":0.010626396608595608,"d":"0.0106"},{"v":0.011696414007521451,"d":"0.0117"},{"v":1.1696414007521452,"d":"1.17"},0.3431188265539516,{"v":0.005479843308656648,"d":"0.0055"},{"v":0.006031632207530139,"d":"0.0060"},{"v":0.6031632207530139,"d":"0.60"},{"v":1.9474445348717606,"d":"1.95"},{"v":1.0042624321743014,"d":"1.00"},{"v":1.7728046215051592,"d":"1.77"},{"v":2.951706967046062,"d":"2.95"}]
["Jn-1-T","Jn-1","1-T",0.17,11.01,8.74194,{"$f":"Mass!I63","v":{"v":20.60000000000001,"d":"20.60"}},{"$f":"Mass!J63","v":{"v":79.39999999999999,"d":"79.40"}},{"v":2.26806,"d":"2.268060"},{"v":0.00226806,"d":"0.002268"},{"v":0.052268060000000005,"d":"0.052268"},{"$f":"VLOOKUP($A74,BD!$Q$2:$T$79,4,FALSE)","v":{"v":1.1978398322723303,"d":"1.197840"}},0.35860257493750486,{"v":0.018777591992547416,"d":"0.0188"},{"v":0.021479891182675032,"d":"0.0215"},{"v":2.1479891182675033,"d":"2.15"},0.5793691544946825,{"v":0.01786441262674966,"d":"0.0179"},{"v":0.02043529539981933,"d":"0.0204"},{"v":2.043529539981933,"d":"2.04"},{"v":4.374009772752173,"d":"4.37"},{"v":4.161295838406368,"d":"4.16"},{"v":4.191518658249436,"d":"4.19"},{"v":8.535305611158542,"d":"8.54"}]
["Jn-1-S","Jn-1","1-S",0.13,11,{"v":9.129999999999999,"d":"9.13000"},{"$f":"Mass!I64","v":{"v":17.000000000000014,"d":"17.00"}},{"$f":"Mass!J64","v":{"v":82.99999999999999,"d":"83.00"}},{"v":1.870000000000001,"d":"1.870000"},{"v":1.870000000000001E-3,"d":"0.001870"},{"v":0.051870000000000006,"d":"0.051870"},{"$f":"VLOOKUP($A75,BD!$Q$2:$T$79,4,FALSE)","v":{"v":1.2843611880100987,"d":"1.284361"}},0.2770298562207888,{"v":0.014403409798198515,"d":"0.0144"},{"v":0.015775914346329155,"d":"0.0158"},{"v":1.5775914346329154,"d":"1.58"},0.4570776834432468,{"v":0.011385103286203712,"d":"0.0114"},{"v":0.012469992646444375,"d":"0.0125"},{"v":1.2469992646444374,"d":"1.25"},{"v":2.6340563719335934,"d":"2.63"},{"v":2.082076694082384,"d":"2.08"},{"v":2.824590699277353,"d":"2.82"},{"v":4.716133066015978,"d":"4.72"}]
["Ni-0-T","Ni-0","0-T",0.17,11.01,{"v":7.274071856287427,"d":"7.27407"},{"$f":"Mass!I65","v":{"v":33.93213572854291,"d":"33.93"}},{"$f":"Mass!J65","v":{"v":66.0678642714571,"d":"66.07"}},{"v":3.735928143712573,"d":"3.735928"},{"v":3.735928143712573E-3,"d":"0.003736"},{"v":0.05373592814371258,"d":"0.053736"},{"$f":"VLOOKUP($A76,BD!$Q$2:$T$79,4,FALSE)","v":{"v":0.9907732964143033,"d":"0.990773"}},0.4255388172673359,{"v":0.02290181291579775,"d":"0.0229"},{"v":0.03148417195796919,"d":"0.0315"},{"v":3.148417195796919,"d":"3.15"},0.7269162726696001,{"v":0.026294688542826117,"d":"0.0263"},{"v":0.03614851360053311,"d":"0.0361"},{"v":3.614851360053311,"d":"3.61"},{"v":5.302925062064224,"d":"5.30"},{"v":6.08854693668117,"d":"6.09"},{"v":6.76326855585023,"d":"6.76"},{"v":11.391471998745395,"d":"11.39"}]
["Ni-1-T","Ni-1","1-T",0.17,11.01,6.90327,{"$f":"Mass!I66","v":{"v":37.3,"d":"37.30"}},{"$f":"Mass!J66","v":{"v":62.7,"d":"62.70"}},{"v":4.10673,"d":"4.106730"},{"v":0.004106729999999999,"d":"0.004107"},{"v":0.054106730000000006,"d":"0.054107"},{"$f":"VLOOKUP($A77,BD!$Q$2:$T$79,4,FALSE)","v":{"v":0.9607230422636512,"d":"0.960723"}},0.34254906389405515,{"v":0.018569541454569325,"d":"0.0186"},{"v":0.026899630833748824,"d":"0.0269"},{"v":2.689963083374882,"d":"2.69"},0.6583678611368536,{"v":0.022767203219558163,"d":"0.0228"},{"v":0.03298031689265835,"d":"0.0330"},{"v":3.2980316892658355,"d":"3.30"},{"v":4.393326178962608,"d":"4.39"},{"v":5.386441564588783,"d":"5.39"},{"v":5.987994772640718,"d":"5.99"},{"v":9.779767743551393,"d":"9.78"}]
["BL1-27.07",null,"1-T",null,null,{"v":0,"d":"0.00000"},null,null,{"v":0,"d":"0.000000"},{"v":0,"d":"0.000000"},{"v":0.05,"d":"0.050000"},{"$f":"VLOOKUP($A78,BD!$Q$2:$T$79,4,FALSE)","v":{"$error":"#N/A"}},-3.4777476040421425E-3,{"v":-1.4123733583522842E-4,"d":"-0.0001"},null,null,0.03239058042807825,{"$nulls":3},{"$error":"#N/A"},{"$error":"#N/A"},null,{"$error":"#N/A"}]
["BL2-27.07",null,"1-S",null,null,{"v":0,"d":"0.00000"},null,null,{"v":0,"d":"0.000000"},{"v":0,"d":"0.000000"},{"v":0.05,"d":"0.050000"},{"$f":"VLOOKUP($A79,BD!$Q$2:$T$79,4,FALSE)","v":{"$error":"#N/A"}},0.09772835918323441,{"v":0.0049190680035286,"d":"0.0049"},null,null,0.06046366394229502,{"$nulls":3},{"$error":"#N/A"},{"$error":"#N/A"},null,{"$error":"#N/A"}]
["La-0-T","La-0","0-T",0.17,11,{"v":8.932,"d":"8.93200"},{"$f":"Mass!I67","v":{"v":18.799999999999994,"d":"18.80"}},{"$f":"Mass!J67","v":{"v":81.2,"d":"81.20"}},{"v":2.0679999999999996,"d":"2.068000"},{"v":2.0679999999999995E-3,"d":"0.002068"},0.052068,{"$f":"VLOOKUP($A80,BD!$Q$2:$T$79,4,FALSE)","v":{"v":1.2783908125588288,"d":"1.278391"}},0.45516602870524714,{"$f":"(M80-(AVERAGE(M$78:M$79)))*K80","v":{"v":0.02124586436077212,"d":"0.0212"}},{"$f":"(10*N80)/F80","v":{"v":0.02378623417014344,"d":"0.0238"}},{"v":2.378623417014344,"d":"2.38"},0.4293544776507553,{"$f":"((Q80-AVERAGE(Q$78:Q$79))*K80)","v":{"v":0.01993826154438123,"d":"0.0199"}},{"$f":"(10*R80)/F80","v":{"v":0.02232228117373626,"d":"0.0223"}},{"v":2.232228117373626,"d":"2.23"},{"v":5.1693775488423235,"d":"5.17"},{"v":4.851221858536089,"d":"4.85"},{"$f":"P80+T80","v":{"v":4.610851534387971,"d":"4.61"}},{"v":10.020599407378413,"d":"10.02"}]
["La-0-S","La-0","0-S",0.13,11,{"v":8.943000000000001,"d":"8.94300"},{"$f":"Mass!I68","v":{"v":18.699999999999996,"d":"18.70"}},{"$f":"Mass!J68","v":{"v":81.30000000000001,"d":"81.30"}},{"v":2.0569999999999986,"d":"2.057000"},{"v":2.0569999999999985E-3,"d":"0.002057"},0.052057,{"$f":"VLOOKUP($A81,BD!$Q$2:$T$79,4,FALSE)","v":{"v":1.3315755474921207,"d":"1.331576"}},0.5518133858408124,{"v":0.026272547383226163,"d":"0.0263"},{"v":0.02937777857902959,"d":"0.0294"},{"v":2.937777857902959,"d":"2.94"},0.48137577048621766,{"v":0.022642121784606773,"d":"0.0226"},{"v":0.025318262087226623,"d":"0.0253"},{"v":2.5318262087226624,"d":"2.53"},{"v":5.085435107411571,"d":"5.09"},{"v":4.382713231045213,"d":"4.38"},{"v":5.469604066625621,"d":"5.47"},{"v":9.468148338456784,"d":"9.47"}]
["La-1-T","La-1","1-T",0.17,11.01,{"v":8.962139999999996,"d":"8.96214"},{"$f":"Mass!I69","v":{"v":18.600000000000016,"d":"18.60"}},{"$f":"Mass!J69","v":{"v":81.39999999999998,"d":"81.40"}},{"v":2.0478600000000036,"d":"2.047860"},{"v":2.0478600000000038E-3,"d":"0.002048"},{"v":0.05204786000000001,"d":"0.052048"},{"$f":"VLOOKUP($A82,BD!$Q$2:$T$79,4,FALSE)","v":{"v":1.3245222778201244,"d":"1.324522"}},0.5748215538171386,{"v":0.02746546043986281,"d":"0.0275"},{"v":0.030646096177768728,"d":"0.0306"},{"v":3.0646096177768727,"d":"3.06"},0.4091996794176885,{"v":0.018881535270679248,"d":"0.0189"},{"v":0.02106811015078905,"d":"0.0211"},{"v":2.106811015078905,"d":"2.11"},{"v":6.900544309664384,"d":"6.90"},{"v":4.743880811869027,"d":"4.74"},{"v":5.171420632855778,"d":"5.17"},{"v":11.644425121533411,"d":"11.64"}]
["La-1-S","La-1","1-S",0.13,11,{"v":8.976,"d":"8.97600"},{"$f":"Mass!I70","v":{"v":18.399999999999995,"d":"18.40"}},{"$f":"Mass!J70","v":{"v":81.60000000000001,"d":"81.60"}},{"v":2.023999999999999,"d":"2.024000"},{"v":2.0239999999999993E-3,"d":"0.002024"},0.052024,{"$f":"VLOOKUP($A83,BD!$Q$2:$T$79,4,FALSE)","v":{"v":1.3919210428291149,"d":"1.391921"}},0.6327521680006443,{"v":0.030466651879667565,"d":"0.0305"},{"v":0.033942348350788284,"d":"0.0339"},{"v":3.3942348350788283,"d":"3.39"},0.4235078367745573,{"v":0.01961724709579742,"d":"0.0196"},{"v":0.02185522180904347,"d":"0.0219"},{"v":2.185522180904347,"d":"2.19"},{"v":6.1418589586247805,"d":"6.14"},{"v":3.9546966071217016,"d":"3.95"},{"v":5.579757015983175,"d":"5.58"},{"v":10.096555565746481,"d":"10.10"}]
["Ko-0-T","Ko-0","0-T",0.17,11.01,{"v":8.744205794205794,"d":"8.74421"},{"$f":"Mass!I71","v":{"v":20.57942057942058,"d":"20.58"}},{"$f":"Mass!J71","v":{"v":79.42057942057941,"d":"79.42"}},{"v":2.265794205794206,"d":"2.265794"},{"v":0.002265794205794206,"d":"0.002266"},{"v":0.052265794205794205,"d":"0.052266"},{"$f":"VLOOKUP($A84,BD!$Q$2:$T$79,4,FALSE)","v":{"v":1.4401498961745745,"d":"1.440150"}},0.35839747781615994,{"v":0.016268887285130956,"d":"0.0163"},{"v":0.018605334398592577,"d":"0.0186"},{"v":1.8605334398592577,"d":"1.86"},0.397211763794366,{"v":0.018334037888898643,"d":"0.0183"},{"v":0.02096707044686368,"d":"0.0210"},{"v":2.096707044686368,"d":"2.10"},{"v":4.555059968412477,"d":"4.56"},{"v":5.133273135613071,"d":"5.13"},{"v":3.9572404845456255,"d":"3.96"},{"v":9.68833310402555,"d":"9.69"}]
["Ko-0-S","Ko-0","0-S",0.13,11.01,{"v":8.973149999999999,"d":"8.97315"},{"$f":"Mass!I72","v":{"v":18.500000000000018,"d":"18.50"}},{"$f":"Mass!J72","v":{"v":81.49999999999999,"d":"81.50"}},{"v":2.036850000000001,"d":"2.036850"},{"v":0.002036850000000001,"d":"0.002037"},{"v":0.05203685,"d":"0.052037"},{"$f":"VLOOKUP($A85,BD!$Q$2:$T$79,4,FALSE)","v":{"v":1.5397182900030328,"d":"1.539718"}},0.3275210384573298,{"v":0.01459091068147096,"d":"0.0146"},{"v":0.01626063387045905,"d":"0.0163"},{"v":1.626063387045905,"d":"1.63"},0.2429064812050715,{"v":0.010224166933413896,"d":"0.0102"},{"v":0.011394178112941272,"d":"0.0114"},{"v":1.1394178112941273,"d":"1.14"},{"v":3.2547833990605186,"d":"3.25"},{"v":2.2806971772062297,"d":"2.28"},{"v":2.7654811983400323,"d":"2.77"},{"v":5.535480576266748,"d":"5.54"}]
["Ko-1-T","Ko-1","1-T",0.17,11,{"v":8.714285714285715,"d":"8.71429"},{"$f":"Mass!I73","v":{"v":20.779220779220775,"d":"20.78"}},{"$f":"Mass!J73","v":{"v":79.22077922077922,"d":"79.22"}},{"v":2.2857142857142847,"d":"2.285714"},{"v":2.2857142857142846E-3,"d":"0.002286"},{"v":0.05228571428571429,"d":"0.052286"},{"$f":"VLOOKUP($A86,BD!$Q$2:$T$79,4,FALSE)","v":{"v":1.433904284070571,"d":"1.433904"}},0.3684379141656346,{"v":0.016800059237947158,"d":"0.0168"},{"v":0.01927875650256231,"d":"0.0193"},{"v":1.9278756502562309,"d":"1.93"},0.4048077932791902,{"v":0.018738189374343617,"d":"0.0187"},{"v":0.021502840265640213,"d":"0.0215"},{"v":2.1502840265640213,"d":"2.15"},{"v":4.699461561898171,"d":"4.70"},{"v":5.241612512019735,"d":"5.24"},{"v":4.078159676820253,"d":"4.08"},{"v":9.941074073917907,"d":"9.94"}]
["Ko-1-S","Ko-1","1-S",0.13,11.01,{"v":8.907089999999998,"d":"8.90709"},{"$f":"Mass!I74","v":{"v":19.100000000000005,"d":"19.10"}},{"$f":"Mass!J74","v":{"v":80.89999999999999,"d":"80.90"}},{"v":2.1029100000000014,"d":"2.102910"},{"v":2.1029100000000012E-3,"d":"0.002103"},{"v":0.05210291,"d":"0.052103"},{"$f":"VLOOKUP($A87,BD!$Q$2:$T$79,4,FALSE)","v":{"v":1.5144552643570697,"d":"1.514455"}},0.4270863682738473,{"v":0.019797077042121317,"d":"0.0198"},{"v":0.022226200748079697,"d":"0.0222"},{"v":2.2226200748079696,"d":"2.22"},0.27059285776369724,{"v":0.011679687145930937,"d":"0.0117"},{"v":0.013112797946277559,"d":"0.0131"},{"v":1.311279794627756,"d":"1.31"},{"v":4.375876274846224,"d":"4.38"},{"v":2.5816369644247805,"d":"2.58"},{"v":3.5338998694357255,"d":"3.53"},{"v":6.957513239271004,"d":"6.96"}]
["BL1-28.07",null,0,null,null,{"v":0,"d":"0.00000"},null,null,{"v":0,"d":"0.000000"},{"v":0,"d":"0.000000"},{"v":0.05,"d":"0.050000"},{"$f":"VLOOKUP($A88,BD!$Q$2:$T$79,4,FALSE)","v":{"$error":"#N/A"}},0.006404204606211462,{"v":-0.002036055059169234,"d":"-0.0020"},null,null,0.06736914529213517,{"$nulls":3},{"$error":"#N/A"},{"$error":"#N/A"},null,{"$error":"#N/A"}]
["BL2-28.07",null,0,null,null,{"v":0,"d":"0.00000"},null,null,{"v":0,"d":"0.000000"},{"v":0,"d":"0.000000"},{"v":0.05,"d":"0.050000"},{"$f":"VLOOKUP($A89,BD!$Q$2:$T$79,4,FALSE)","v":{"$error":"#N/A"}},0.04616507835784508,{"v":-4.8011371587552976E-5,"d":"-0.0000"},null,null,0.030788508754915338,{"$nulls":3},{"$error":"#N/A"},{"$error":"#N/A"},null,{"$error":"#N/A"}]
["Pa-0-T","Pa-0","0-T",0.17,11.01,{"v":8.907089999999998,"d":"8.90709"},{"$f":"Mass!I75","v":{"v":19.100000000000005,"d":"19.10"}},{"$f":"Mass!J75","v":{"v":80.89999999999999,"d":"80.90"}},{"v":2.1029100000000014,"d":"2.102910"},{"v":2.1029100000000012E-3,"d":"0.002103"},{"v":0.05210291,"d":"0.052103"},{"$f":"VLOOKUP($A90,BD!$Q$2:$T$79,4,FALSE)","v":{"v":1.1765205584372809,"d":"1.176521"}},0.5773573000446754,{"$f":"(M90-(AVERAGE(M$88:M$89)))*K90","v":{"v":0.028712489132550336,"d":"0.0287"}},{"$f":"(10*N90)/F90","v":{"v":0.03223554396840084,"d":"0.0322"}},{"v":3.2235543968400835,"d":"3.22"},0.31250452590299366,{"$f":"((Q90-AVERAGE(Q$88:Q$89))*K90)","v":{"v":0.013725245480404045,"d":"0.0137"}},{"$f":"(10*R90)/F90","v":{"v":0.015409348598031508,"d":"0.0154"}},{"v":1.5409348598031507,"d":"1.54"},{"v":6.447382632509521,"d":"6.45"},{"v":3.0820006210108297,"d":"3.08"},{"$f":"P90+T90","v":{"v":4.764489256643234,"d":"4.76"}},{"v":9.52938325352035,"d":"9.53"}]
["Pa-0-S","Pa-0","0-S",0.13,11.01,{"v":9.0282,"d":"9.02820"},{"$f":"Mass!I76","v":{"v":18.000000000000004,"d":"18.00"}},{"$f":"Mass!J76","v":{"v":82,"d":"82.00"}},{"v":1.9817999999999998,"d":"1.981800"},{"v":1.9817999999999997E-3,"d":"0.001982"},{"v":0.0519818,"d":"0.051982"},{"$f":"VLOOKUP($A91,BD!$Q$2:$T$79,4,FALSE)","v":{"v":1.2267506816014433,"d":"1.226751"}},0.5887961258578652,{"$f":"(M91-(AVERAGE(M$88:M$89)))*K91","v":{"v":0.029240359478527884,"d":"0.0292"}},{"$f":"(10*N91)/F91","v":{"v":0.03238780651572615,"d":"0.0324"}},{"v":3.2387806515726147,"d":"3.24"},0.2862084529228024,{"$f":"((Q91-AVERAGE(Q$88:Q$89))*K91)","v":{"v":0.012326424787571044,"d":"0.0123"}},{"$f":"(10*R91)/F91","v":{"v":0.013653247366663393,"d":"0.0137"}},{"v":1.3653247366663392,"d":"1.37"},{"v":5.165129283436553,"d":"5.17"},{"v":2.1773869667065653,"d":"2.18"},{"$f":"P91+T91","v":{"v":4.604105388238954,"d":"4.60"}},{"v":7.3425162501431185,"d":"7.34"}]
["Pa-1-T","Pa-1","1-T",0.17,11.01,{"v":8.810199800199799,"d":"8.81020"},{"$f":"Mass!I77","v":{"v":19.980019980019982,"d":"19.98"}},{"$f":"Mass!J77","v":{"v":80.01998001998001,"d":"80.02"}},{"v":2.199800199800201,"d":"2.199800"},{"v":0.002199800199800201,"d":"0.002200"},{"v":0.0521998001998002,"d":"0.052200"},{"$f":"VLOOKUP($A92,BD!$Q$2:$T$79,4,FALSE)","v":{"v":1.1765205584372809,"d":"1.176521"}},0.38721362336511644,{"$f":"(M92-(AVERAGE(M$88:M$89)))*K92","v":{"v":0.01884042074061451,"d":"0.0188"}},{"$f":"(10*N92)/F92","v":{"v":0.021384782601851147,"d":"0.0214"}},{"v":2.138478260185115,"d":"2.14"},0.2829398584172114,{"$f":"((Q92-AVERAGE(Q$88:Q$89))*K92)","v":{"v":0.01220749911326962,"d":"0.0122"}},{"$f":"(10*R92)/F92","v":{"v":0.01385609792072227,"d":"0.0139"}},{"v":1.385609792072227,"d":"1.39"},{"v":4.2771381826942605,"d":"4.28"},{"v":2.771337290786468,"d":"2.77"},{"$f":"P92+T92","v":{"v":3.524088052257342,"d":"3.52"}},{"v":7.048475473480728,"d":"7.05"}]
["Pa-1-S","Pa-1","1-S",0.13,11,{"v":8.87912087912088,"d":"8.87912"},{"$f":"Mass!I78","v":{"v":19.280719280719282,"d":"19.28"}},{"$f":"Mass!J78","v":{"v":80.71928071928072,"d":"80.72"}},{"v":2.1208791208791204,"d":"2.120879"},{"v":2.1208791208791205E-3,"d":"0.002121"},{"v":0.05212087912087912,"d":"0.052121"},{"$f":"VLOOKUP($A93,BD!$Q$2:$T$79,4,FALSE)","v":{"v":1.2377717822880059,"d":"1.237772"}},0.41589925256412624,{"$f":"(M93-(AVERAGE(M$88:M$89)))*K93","v":{"v":0.020307056047938362,"d":"0.0203"}},{"$f":"(10*N93)/F93","v":{"v":0.02287057054903949,"d":"0.0229"}},{"v":2.2870570549039493,"d":"2.29"},0.23788849809085433,{"$f":"((Q93-AVERAGE(Q$88:Q$89))*K93)","v":{"v":0.009840926042553207,"d":"0.0098"}},{"$f":"(10*R93)/F93","v":{"v":0.01108322116178641,"d":"0.0111"}},{"v":1.108322116178641,"d":"1.11"},{"v":3.680111093155665,"d":"3.68"},{"v":1.7834047934191462,"d":"1.78"},{"$f":"P93+T93","v":{"v":3.39537917108259,"d":"3.40"}},{"v":5.463515886574811,"d":"5.46"}]

{"sheet":"ISNT_Amino_N","index":13,"n_rows":105,"n_cols":19,"rows_kept":105}
[null,"Titration orded","BD (kg/l)","sampling depth (m)","weight (g)","pH start","pH end","added H2SO4 (ul)","added H2SO4 (ml)","ug N/ sample","mg N/sample","mg N/kg soil","sd","% error","ISNT_N Kg/ha",null,"Titer H2SO4",280,"ugN/mL"]
["Pu-0-T",1,{"$f":"VLOOKUP($A2,BD!$Q$2:$T$79,4,FALSE)","v":1.22188099364212},0.17,1.0039,6.01,4.31,956,{"$f":"H2/1000","v":0.956},{"$f":"I2*$R$1","v":267.68},{"$f":"J2/1000","v":0.26768000000000003},{"$f":"K2/(E2/1000)","v":{"v":266.6401035959757,"d":"266.6"}},{"$f":"STDEVA(L2:L3)","v":0.9132931172889739},{"$f":"(L2-L3)/L2","v":{"v":0.004843950686612178,"d":"0.48%"}},{"$f":"((C2*1000)*D2*10000)*(L2/1000000)","v":553.8642070353707}]
["Pu-0-Ta",2,{"$f":"C2","v":1.22188099364212},0.17,1.0014,5.99,4.29,949,{"$f":"H3/1000","v":0.949},265.71999999999997,0.26571999999999996,{"$f":"K3/(E3/1000)","v":{"v":265.3485120830836,"d":"265.3"}},null,null,{"$f":"((C3*1000)*D3*10000)*(L3/1000000)","v":551.1813161294118}]
["Pu-0-S",3,{"$f":"VLOOKUP($A4,BD!$Q$2:$T$79,4,FALSE)","v":1.2546189682986126},0.13,1.0015,5.88,4.33,768,0.768,215.04,0.21503999999999998,{"$f":"K4/(E4/1000)","v":{"v":214.71792311532698,"d":"214.7"}},null,null,350.2059329264241]
["Pu-1-T",4,{"$f":"VLOOKUP($A5,BD!$Q$2:$T$79,4,FALSE)","v":1.1676309229091983},0.17,1.0054,6.06,4.35,1092,1.092,305.76000000000005,0.30576000000000003,{"$f":"K5/(E5/1000)","v":{"v":304.11776407400043,"d":"304.1"}},null,null,603.6654194159719]
["Pu-1-S",5,{"$f":"VLOOKUP($A6,BD!$Q$2:$T$79,4,FALSE)","v":1.2014067594900104},0.13,1.0022,5.99,4.31,992,0.992,277.76,0.27776,{"v":277.15026940730394,"d":"277.2"},null,null,432.86126917853613]
["Mo-0-T",6,{"$f":"VLOOKUP($A7,BD!$Q$2:$T$79,4,FALSE)","v":1.3082858456780266},0.17,1.0022,5.84,4.3,727,0.727,203.56,0.20356,{"v":203.11315106765116,"d":"203.1"},{"$f":"STDEVA(L7:L8)","v":2.2013302307942553},{"$f":"(L7-L8)/L7","v":{"v":0.01532717626252684,"d":"1.53%"}},451.7411030418803]
["Mo-0-Ta",7,{"$f":"C7","v":1.3082858456780266},0.17,1.0066,5.85,4.32,719,0.719,201.32,0.20132,{"v":200.00000000000003,"d":"200.0"},null,null,444.8171875305291]
["Mo-0-S",8,{"$f":"VLOOKUP($A9,BD!$Q$2:$T$79,4,FALSE)","v":1.3402809118717296},0.13,1.0065,5.77,4.34,684,0.684,191.52,0.19152000000000002,{"v":190.28315946348735,"d":"190.3"},null,null,331.54275242342356]
["Mo-1-T",9,{"$f":"VLOOKUP($A10,BD!$Q$2:$T$79,4,FALSE)","v":1.2966979851524274},0.17,1.0007,5.83,4.3,746,0.746,208.88,0.20887999999999998,{"v":208.73388627960426,"d":"208.7"},null,null,460.130176612058]
["Mo-1-S",10,{"$f":"VLOOKUP($A11,BD!$Q$2:$T$79,4,FALSE)","v":1.320374053800285},0.13,1.0047,5.78,4.32,656,0.656,183.68,0.18368,{"v":182.82074251020208,"d":"182.8"},null,null,313.8092943790657]
["Si-0-T",11,{"$f":"VLOOKUP($A12,BD!$Q$2:$T$79,4,FALSE)","v":1.2492445230668916},0.17,1.0038,5.93,4.32,923,0.923,258.44,0.25844,{"v":257.46164574616455,"d":"257.5"},null,null,546.7753364419134]
["Si-0-S",12,{"$f":"VLOOKUP($A13,BD!$Q$2:$T$79,4,FALSE)","v":1.2966979851524274},0.13,1.0018,5.85,4.33,781,0.781,218.68,0.21868,{"v":218.28708325014975,"d":"218.3"},null,null,367.96814734585024]
["Si-1-T",13,{"$f":"VLOOKUP($A14,BD!$Q$2:$T$79,4,FALSE)","v":1.2408543822303493},0.17,1.0018,5.98,4.33,972,0.972,272.15999999999997,0.27215999999999996,{"v":271.67099221401475,"d":"271.7"},null,null,573.0770400631665]
["Si-1-S",14,{"$f":"VLOOKUP($A15,BD!$Q$2:$T$79,4,FALSE)","v":1.3190048579179112},0.13,1.0032,5.82,4.35,750,0.75,210,0.21,{"v":209.33014354066984,"d":"209.3"},null,null,358.9397191104364]
["Pu-0-Tb",15,{"$f":"C3","v":1.22188099364212},0.17,1.0035,5.98,4.32,1024,1.024,286.72,0.28672000000000003,{"v":285.7199800697559,"d":"285.7"},{"$f":"STDEVA(L16,L2:L3)","v":11.406917512507475},{"$f":"(L3-L16)/L3","v":{"v":-0.07677249752315822,"d":"-7.68%"}},593.4968823567681]
[{"$nulls":11},{"$error":"#DIV/0!"}]
[{"$nulls":11},{"$error":"#DIV/0!"}]
["Mi-0-T",1,{"$f":"VLOOKUP($A19,BD!$Q$2:$T$79,4,FALSE)","v":1.1304410672633396},0.17,1.0016,6.18,4.31,1521,{"$f":"H19/1000","v":1.521},{"$f":"I19*$R$1","v":425.88},{"$f":"J19/1000","v":0.42588},{"v":425.19968051118207,"d":"425.2"},{"$f":"STDEVA(L19:L20)","v":0.9883681046936884},{"$f":"(L19-L20)/L19","v":{"v":-0.003287310979618778,"d":"-0.33%"}},817.1274070830559]
["Mi-0-Ta",2,{"$f":"C19","v":1.1304410672633396},0.17,1.0016,6.14,4.34,1526,{"$f":"H20/1000","v":1.526},427.28000000000003,0.42728000000000005,{"v":426.59744408945687,"d":"426.6"},null,null,819.8135589801074]
["Mi-0-S",3,{"$f":"VLOOKUP($A21,BD!$Q$2:$T$79,4,FALSE)","v":1.2979620956516948},0.13,1.0058,5.88,4.29,850,0.85,238,0.238,{"v":236.62756015112345,"d":"236.6"},null,null,399.27368502150955]
["Mi-1-T",4,{"$f":"VLOOKUP($A22,BD!$Q$2:$T$79,4,FALSE)","v":1.1499083648049506},0.17,1.0041,6.14,4.32,1463,1.463,409.64000000000004,0.40964000000000006,{"v":407.96733393088346,"d":"408.0"},null,null,797.5125847523057]
["Mi-1-S",5,{"$f":"VLOOKUP($A23,BD!$Q$2:$T$79,4,FALSE)","v":1.30566900420092},0.13,1.0023,5.91,4.29,899,0.899,251.72,0.25172,{"v":251.14237254315074,"d":"251.1"},null,null,426.2814549123937]
["Li-0-T",6,{"$f":"VLOOKUP($A24,BD!$Q$2:$T$79,4,FALSE)","v":1.2059302827522504},0.17,1.0047,6.07,4.32,1290,1.29,361.2,0.36119999999999997,{"v":359.51030158256197,"d":"359.5"},null,null,737.0254113876699]
["Li-0-S",7,{"$f":"VLOOKUP($A25,BD!$Q$2:$T$79,4,FALSE)","v":1.3477480210547346},0.13,1.0044,5.83,4.34,760,0.76,212.8,0.21280000000000002,{"v":211.86778176025493,"d":"211.9"},null,null,371.20769867043197]
["Li-1-T",8,{"$f":"VLOOKUP($A26,BD!$Q$2:$T$79,4,FALSE)","v":1.141813188626513},0.17,1.0048,6.1,4.33,1418,1.418,397.03999999999996,0.39703999999999995,{"v":395.1433121019108,"d":"395.1"},null,null,767.0057367643911]
["Li-1-S",9,{"$f":"VLOOKUP($A27,BD!$Q$2:$T$79,4,FALSE)","v":1.2892308759694222},0.13,1.0014,5.9,4.34,897,0.897,251.16,0.25116,{"v":250.80886758538043,"d":"250.8"},{"$f":"STDEVA(L27:L28)","v":0.33459140066287235},{"$f":"(L27-L28)/L27","v":{"v":-1.8866306491725734E-3,"d":"-0.19%"}},420.3556968753985]
["Li-1-Sa",10,{"$f":"C27","v":1.2892308759694222},0.13,1.0062,5.9,4.35,903,0.903,252.84,0.25284,{"v":251.28205128205127,"d":"251.3"},null,null,421.1487528166779]
["Ai-0-T",11,{"$f":"VLOOKUP($A29,BD!$Q$2:$T$79,4,FALSE)","v":1.4121265277786195},0.17,1.0036,5.72,4.34,590,0.59,165.2,0.16519999999999999,{"v":164.6074133120765,"d":"164.6"},null,null,395.1590415119045]
["Ai-0-S",12,{"$f":"VLOOKUP($A30,BD!$Q$2:$T$79,4,FALSE)","v":1.4689499640976926},0.13,1.0056,5.62,4.31,506,0.506,141.68,0.14168,{"v":140.89101034208431,"d":"140.9"},null,null,269.0503979588001]
["Ai-1-T",13,{"$f":"VLOOKUP($A31,BD!$Q$2:$T$79,4,FALSE)","v":1.3447372393573813},0.17,1.0043,5.79,4.3,714,0.714,199.92,0.19992,{"v":199.06402469381655,"d":"199.1"},null,null,455.0709719376252]
["Ai-1-S",14,{"$f":"VLOOKUP($A32,BD!$Q$2:$T$79,4,FALSE)","v":1.3585482579948818},0.13,1.0031,5.75,4.3,674,0.674,188.72,0.18872,{"v":188.1367759944173,"d":"188.1"},null,null,332.27075607958557]
["Mi-0-Tb",15,{"$f":"C19","v":1.1304410672633396},0.17,1.0035,6.1,4.32,1432,1.432,400.96,0.40096,{"v":399.56153462879917,"d":"399.6"},{"$f":"STDEVA(L33,L19:L20)","v":15.22174249591671},{"$f":"(L20-L33)/L20","v":{"v":0.06337569489747884,"d":"6.34%"}},767.8573049933678]
[{"$nulls":11},{"$error":"#DIV/0!"}]
[{"$nulls":11},{"$error":"#DIV/0!"}]
["Pi-0-T",1,{"$f":"VLOOKUP($A36,BD!$Q$2:$T$79,4,FALSE)","v":1.1789948013414202},0.17,1.0014,6.09,4.36,1281,{"$f":"H36/1000","v":1.281},{"$f":"I36*$R$1","v":358.67999999999995},{"$f":"J36/1000","v":0.35867999999999994},{"v":358.17855002995793,"d":"358.2"},{"$f":"STDEVA(L36:L37)","v":10.413644909852366},{"$f":"(L36-L37)/L36","v":{"v":-0.04111669407344184,"d":"-4.11%"}},717.8941023434581]
["Pi-0-Ta",2,{"$f":"C36","v":1.1789948013414202},0.17,1.0039,6.14,4.38,1337,1.337,374.36,0.37436,{"v":372.9056678952087,"d":"372.9"},null,null,747.4115345266422]
["Pi-0-S",3,{"$f":"VLOOKUP($A38,BD!$Q$2:$T$79,4,FALSE)","v":1.253535794800795},0.13,1.0042,6.01,4.39,1033,1.033,289.23999999999995,0.28923999999999994,{"v":288.0302728540131,"d":"288.0"},null,null,469.3731341113687]
["Pi-1-T",4,{"$f":"VLOOKUP($A39,BD!$Q$2:$T$79,4,FALSE)","v":1.1660445163992086},0.17,1.0062,6.11,4.35,1292,1.292,361.76,0.36175999999999997,{"v":359.5309083681176,"d":"359.5"},null,null,712.6893751037387]
["Pi-1-S",5,{"$f":"VLOOKUP($A40,BD!$Q$2:$T$79,4,FALSE)","v":1.2429284657881507},0.13,1.0051,6.02,4.39,1047,1.047,293.15999999999997,0.29316,{"v":291.6724704009551,"d":"291.7"},null,null,471.2864209925286]
["Ja-0-T",6,{"$f":"VLOOKUP($A41,BD!$Q$2:$T$79,4,FALSE)","v":1.2114567779469803},0.17,1.002,6.01,4.4,1010,1.01,282.8,0.2828,{"v":282.23552894211576,"d":"282.2"},null,null,581.2574456744414]
["Ja-1-T",7,{"$f":"VLOOKUP($A42,BD!$Q$2:$T$79,4,FALSE)","v":1.2367517447300256},0.17,1.0059,5.98,4.38,1042,1.042,291.76,0.29175999999999996,{"v":290.0487125956854,"d":"290.0"},null,null,609.821027311]
["Mu-0-T",8,{"$f":"VLOOKUP($A43,BD!$Q$2:$T$79,4,FALSE)","v":1.1007312455848663},0.17,1.0029,6.22,4.38,1657,1.657,463.96000000000004,0.46396000000000004,{"v":462.61840662079976,"d":"462.6"},null,null,865.6715094153386]
["Mu-0-S",9,{"$f":"VLOOKUP($A44,BD!$Q$2:$T$79,4,FALSE)","v":1.1848545069710879},0.13,1.0028,6.09,4.39,1243,1.243,348.04,0.34804,{"v":347.06820901475874,"d":"347.1"},null,null,534.5929311807766]
["Mu-1-T",10,{"$f":"VLOOKUP($A45,BD!$Q$2:$T$79,4,FALSE)","v":1.093313593259713},0.17,1.0021,6.21,4.37,1672,1.672,468.15999999999997,0.46815999999999997,{"v":467.178924259056,"d":"467.2"},null,null,868.3142162406888]
["Mu-1-S",11,{"$f":"VLOOKUP($A46,BD!$Q$2:$T$79,4,FALSE)","v":1.1773428791458076},0.13,1.0006,6.12,4.38,1285,1.285,359.79999999999995,0.35979999999999995,{"v":359.58424945032976,"d":"359.6"},null,null,550.3601422063361]
["Kp-0-T",12,{"$f":"VLOOKUP($A47,BD!$Q$2:$T$79,4,FALSE)","v":1.2238187176386006},0.17,1.005,6.03,4.4,1074,1.074,300.72,0.30072000000000004,{"v":299.223880597015,"d":"299.2"},null,null,622.5328359264439]
["Kp-0-S",13,{"$f":"VLOOKUP($A48,BD!$Q$2:$T$79,4,FALSE)","v":1.3135940615265185},0.13,1.0021,5.91,4.35,828,0.828,231.83999999999997,0.23183999999999996,{"v":231.35415627182914,"d":"231.4"},{"$f":"STDEVA(L48:L49)","v":7.429932213904866},{"$f":"(L48-L49)/L48","v":{"v":0.04541742873238567,"d":"4.54%"}},395.0770795245988]
["Kp-0-Sa",14,{"$f":"C48","v":1.3135940615265185},0.13,1.0016,5.93,4.38,790,0.79,221.20000000000002,0.2212,{"v":220.84664536741212,"d":"220.8"},null,null,377.13369442149127]
["Kp-1-T",15,{"$f":"VLOOKUP($A50,BD!$Q$2:$T$79,4,FALSE)","v":1.20230563666648},0.17,1.0032,6.02,4.41,1039,1.039,290.91999999999996,0.29091999999999996,{"v":289.9920255183412,"d":"290.0"},null,null,592.7203796773533]
["Kp-1-S",16,{"$f":"VLOOKUP($A51,BD!$Q$2:$T$79,4,FALSE)","v":1.2892308759694222},0.13,1.0029,5.87,4.37,877,0.877,245.56,0.24556,{"v":244.84993518795494,"d":"244.8"},null,null,410.36852535045045]
[{"$nulls":11},{"$error":"#DIV/0!"}]
[{"$nulls":11},{"$error":"#DIV/0!"}]
["Ki-0-T",1,{"$f":"VLOOKUP($A54,BD!$Q$2:$T$79,4,FALSE)","v":1.3569796264412541},0.17,1.0021,5.69,4.4,562,{"$f":"H54/1000","v":0.562},{"$f":"I54*$R$1","v":157.36},{"$f":"J54/1000","v":0.15736},{"v":157.030236503343,"d":"157.0"},{"$f":"STDEVA(L54:L55)","v":0.5646767495241518},{"$f":"(L54-L55)/L54","v":{"v":-0.005085476117950125,"d":"-0.51%"}},362.2476138394899]
["Ki-0-Ta",2,{"$f":"C54","v":1.3569796264412541},0.17,1.0059,5.76,4.38,567,{"$f":"H55/1000","v":0.567},158.76,0.15875999999999998,{"v":157.8288100208768,"d":"157.8"},null,null,364.08981542845504]
["Ki-0-S",3,{"$f":"VLOOKUP($A56,BD!$Q$2:$T$79,4,FALSE)","v":1.4736559572262795},0.13,1.0071,5.52,4.37,386,0.386,108.08,0.10808,{"v":107.31804190249228,"d":"107.3"},null,null,205.5948332977074]
["Ki-1-T",4,{"$f":"VLOOKUP($A57,BD!$Q$2:$T$79,4,FALSE)","v":1.2966979851524274},0.17,1.0054,5.79,4.38,674,0.674,188.72,0.18872,{"v":187.7063855182017,"d":"187.7"},null,null,413.77743623288484]
["Ki-1-S",5,{"$f":"VLOOKUP($A58,BD!$Q$2:$T$79,4,FALSE)","v":1.3936988265791392},0.13,1.0033,5.64,4.38,456,0.456,127.68,0.12768000000000002,{"v":127.26004186185587,"d":"127.3"},null,null,230.57082231726483]
["Na-0-T",6,{"$f":"VLOOKUP($A59,BD!$Q$2:$T$79,4,FALSE)","v":1.1396454358635006},0.17,1.0033,6.08,4.37,1233,1.233,345.24,0.34524,{"v":344.10445529751814,"d":"344.1"},{"$f":"STDEVA(L59:L60)","v":2.8844140273748633},{"$f":"(L59-L60)/L59","v":{"v":-0.0118544743440936,"d":"-1.19%"}},666.6670222981912]
["Na-0-Ta",7,{"$f":"C59","v":1.1396454358635006},0.17,1.002,6.07,4.38,1246,1.246,348.88,0.34887999999999997,{"v":348.1836327345309,"d":"348.2"},null,null,674.5700094100785]
["Na-0-S",8,{"$f":"VLOOKUP($A61,BD!$Q$2:$T$79,4,FALSE)","v":1.2077603546265903},0.13,1.006,5.96,4.39,1005,1.005,281.4,0.2814,{"v":279.72166998011926,"d":"279.7"},null,null,439.1877663315101]
["Na-1-T",9,{"$f":"VLOOKUP($A62,BD!$Q$2:$T$79,4,FALSE)","v":1.1283592732868346},0.17,1.0054,6.08,4.38,1281,1.281,358.67999999999995,0.35867999999999994,{"v":356.75353093296195,"d":"356.8"},null,null,684.3284633402496]
["Na-1-S",10,{"$f":"VLOOKUP($A63,BD!$Q$2:$T$79,4,FALSE)","v":1.138926565122032},0.13,1.0068,6.01,4.35,1120,1.12,313.6,0.31360000000000005,{"v":311.4819229241161,"d":"311.5"},null,null,461.1815475456398]
["Ik-0-T",11,{"$f":"VLOOKUP($A64,BD!$Q$2:$T$79,4,FALSE)","v":0.9588298639897991},0.17,1.0065,6.14,4.35,1467,1.467,410.76000000000005,0.41076000000000007,{"v":408.1073025335321,"d":"408.1"},null,null,665.2192979484996]
["Ik-0-S",12,{"$f":"VLOOKUP($A65,BD!$Q$2:$T$79,4,FALSE)","v":1.0091261982257071},0.13,1.0037,null,4.36,1194,1.194,334.32,0.33432,{"v":333.087575968915,"d":"333.1"},null,null,436.96561897784596]
["Ik-1-T",13,{"$f":"VLOOKUP($A66,BD!$Q$2:$T$79,4,FALSE)","v":1.042670534173241},0.17,1.0022,6.1,4.37,1345,1.345,376.59999999999997,0.3766,{"v":375.7732987427659,"d":"375.8"},null,null,666.0731684178729]
["Ik-1-S",14,{"$f":"VLOOKUP($A67,BD!$Q$2:$T$79,4,FALSE)","v":1.0878765292197246},0.13,1.0044,6.05,4.35,1206,1.206,337.68,0.33768,{"v":336.20071684587816,"d":"336.2"},null,null,{"$f":"((C67*1000)*D67*10000)*(L67/1000000)","v":475.46832965252054}]
["Ki-0-Tb",15,{"$f":"C54","v":1.3569796264412541},0.17,1.0041,5.68,4.41,530,0.53,148.4,0.1484,{"v":147.79404441788668,"d":"147.8"},{"$f":"STDEVA(L68,L54:L55)","v":5.577357268595133},{"$f":"(L55-L68)/L55","v":{"v":0.06358006248455382,"d":"6.36%"}},340.9409622135242]
[{"$nulls":11},{"$f":"K69/(E69/1000)","v":{"$error":"#DIV/0!"}}]
[{"$nulls":11},{"$error":"#DIV/0!"}]
["Ne-0-T",1,{"$f":"VLOOKUP($A71,BD!$Q$2:$T$79,4,FALSE)","v":1.0927042350213862},0.17,1.0061,null,4.35,1310,{"$f":"H71/1000","v":1.31},{"$f":"I71*$R$1","v":366.8},{"$f":"J71/1000","v":0.3668},{"v":364.57608587615545,"d":"364.6"},{"$f":"STDEVA(L71:L72)","v":4.789614726992531},{"$f":"(L71-L72)/L71","v":{"v":0.018579216706374104,"d":"1.86%"}},677.2355161414727]
["Ne-0-Ta",2,{"$f":"C71","v":1.0927042350213862},0.17,1.0048,6012,4.36,1284,{"$f":"H72/1000","v":1.284},359.52,0.35952,{"v":357.8025477707007,"d":"357.8"},null,null,664.6530107258271]
["Ne-0-S",3,{"$f":"VLOOKUP($A73,BD!$Q$2:$T$79,4,FALSE)","v":1.155184429389365},0.13,1.0043,6.03,4.31,1072,1.072,300.16,0.30016000000000004,{"v":298.87483819575823,"d":"298.9"},null,null,448.8322272460075]
["Ne-1-T",4,{"$f":"VLOOKUP($A74,BD!$Q$2:$T$79,4,FALSE)","v":1.0796233001424975},0.17,1.0081,6.13,4.33,1368,1.368,383.04,0.38304000000000005,{"v":379.9623053268525,"d":"380.0"},null,null,697.3674686114373]
["Ne-1-S",5,{"$f":"VLOOKUP($A75,BD!$Q$2:$T$79,4,FALSE)","v":1.1367809607532724},0.13,1.0037,6.05,4.36,1130,1.13,316.4,0.31639999999999996,{"v":315.23363554847066,"d":"315.2"},null,null,465.85707360469866]
["Ae-0-T",6,{"$f":"VLOOKUP($A76,BD!$Q$2:$T$79,4,FALSE)","v":0.9692085401223434},0.17,1.0045,6.31,4.34,2000,2,560,0.56,{"v":557.4912891986063,"d":"557.5"},null,null,918.5530415096774]
["Ae-0-S",7,{"$f":"VLOOKUP($A77,BD!$Q$2:$T$79,4,FALSE)","v":1.0411474116504118},0.13,1.0079,6.18,4.37,1533,1.533,429.23999999999995,0.42923999999999995,{"v":425.87558289512845,"d":"425.9"},null,null,576.4190390612855]
["Ae-1-T",8,{"$f":"VLOOKUP($A78,BD!$Q$2:$T$79,4,FALSE)","v":1.021121442655125},0.17,1.0069,6.21,4.35,1663,1.663,465.64,0.46564,{"v":462.4491012017083,"d":"462.4"},null,null,802.7683787352122]
["Ae-1-S",9,{"$f":"VLOOKUP($A79,BD!$Q$2:$T$79,4,FALSE)","v":1.092096200037604},0.13,1.008,6.12,4.34,1367,1.367,382.76,0.38276,{"v":379.72222222222223,"d":"379.7"},null,null,539.1011547463405]
["Jn-0-T",10,{"$f":"VLOOKUP($A80,BD!$Q$2:$T$79,4,FALSE)","v":1.1781676220101396},0.17,1.0027,6.01,4.32,1048,1.048,293.44,0.29344,{"v":292.64984541737306,"d":"292.6"},null,null,586.1439731769364]
["Jn-0-S",11,{"$f":"VLOOKUP($A81,BD!$Q$2:$T$79,4,FALSE)","v":1.280763708116301},0.13,1.0059,5.84,4.35,737,0.737,206.35999999999999,0.20636,{"v":205.14961725817673,"d":"205.1"},{"$f":"STDEVA(L81:L82)","v":6.342514345845821},{"$f":"(L81-L82)/L81","v":{"v":-0.04372257636802182,"d":"-4.37%"}},341.57263987368907]
["Jn-0-Sa",12,{"$f":"C81","v":1.280763708116301},0.13,1.0043,5.86,4.35,768,0.768,215.04,0.21503999999999998,{"v":214.1192870656178,"d":"214.1"},null,null,356.5070757057932]
["Jn-1-T",13,{"$f":"VLOOKUP($A83,BD!$Q$2:$T$79,4,FALSE)","v":1.1978398322723303},0.17,1.0033,5.99,4.32,1025,1.025,287,0.287,{"v":286.0560151500049,"d":"286.1"},null,null,582.5037916532143]
["Jn-1-S",14,{"$f":"VLOOKUP($A84,BD!$Q$2:$T$79,4,FALSE)","v":1.2843611880100987},0.13,1.0031,5.82,4.35,718,0.718,201.04,0.20104,{"v":200.41870202372644,"d":"200.4"},null,null,334.6330028998258]
["Ne-0-Tb",15,{"$f":"C71","v":1.0927042350213862},0.17,1.0046,6.06,4.36,1254,1.254,351.12,0.35112,{"v":349.5122436790762,"d":"349.5"},{"$f":"STDEVA(L85,L71:L72)","v":7.544637191808913},{"$f":"(L72-L85)/L72","v":{"v":0.023170053268981625,"d":"2.32%"}},649.2529650619207]
[{"$nulls":11},{"$error":"#DIV/0!"}]
[{"$nulls":11},{"$error":"#DIV/0!"}]
["Ni-0-T",1,{"$f":"VLOOKUP($A88,BD!$Q$2:$T$79,4,FALSE)","v":0.9907732964143033},0.17,1.0028,6.21,4.36,1542,{"$f":"H88/1000","v":1.542},{"$f":"I88*$R$1","v":431.76},{"$f":"J88/1000","v":0.43176},{"v":430.5544475468688,"d":"430.6"},{"$f":"STDEVA(L88:L89)","v":9.514830227221333},{"$f":"(L88-L89)/L88","v":{"v":0.03125273011968854,"d":"3.13%"}},725.1891437791458]
["Ni-0-Ta",2,{"$f":"C88","v":0.9907732964143033},0.17,1.0036,6.2,4.35,1495,{"$f":"H89/1000","v":1.495},418.6,0.4186,{"v":417.0984455958549,"d":"417.1"},null,null,702.5250031828881]
["Ni-1-T",3,{"$f":"VLOOKUP($A90,BD!$Q$2:$T$79,4,FALSE)","v":0.9607230422636512},0.17,1.0021,6.27,4.33,1800,1.8,504,0.504,{"v":502.94381798223736,"d":"502.9"},null,null,821.4225153293048]
["La-0-T",4,{"$f":"VLOOKUP($A91,BD!$Q$2:$T$79,4,FALSE)","v":1.2783908125588288},0.17,1.0064,6,4.36,980,0.98,274.4,0.2744,{"v":272.6550079491256,"d":"272.7"},null,null,592.5514171725382]
["La-0-S",5,{"$f":"VLOOKUP($A92,BD!$Q$2:$T$79,4,FALSE)","v":1.3315755474921207},0.13,1.0045,5.88,4.29,815,0.815,228.2,0.2282,{"v":227.17770034843204,"d":"227.2"},null,null,393.25555193530363]
["La-1-T",6,{"$f":"VLOOKUP($A93,BD!$Q$2:$T$79,4,FALSE)","v":1.3245222778201244},0.17,1.0048,5.92,4.35,872,0.872,244.16,0.24416,{"v":242.99363057324842,"d":"243.0"},null,null,547.1458110065234]
["La-1-S",7,{"$f":"VLOOKUP($A94,BD!$Q$2:$T$79,4,FALSE)","v":1.3919210428291149},0.13,1.0056,5.79,4.35,646,0.646,180.88,0.18087999999999999,{"v":179.87271280827363,"d":"179.9"},null,null,325.4791981851724]
["Ko-0-T",8,{"$f":"VLOOKUP($A95,BD!$Q$2:$T$79,4,FALSE)","v":1.4401498961745745},0.17,1.0058,5.72,4.37,583,0.583,163.23999999999998,0.16323999999999997,{"v":162.2986677271823,"d":"162.3"},null,null,397.3484961101747]
["Ko-0-S",9,{"$f":"VLOOKUP($A96,BD!$Q$2:$T$79,4,FALSE)","v":1.5397182900030328},0.13,1.0057,5.65,4.33,467,0.467,130.76000000000002,0.13076000000000002,{"v":130.01889231381128,"d":"130.0"},null,null,260.25020650396294]
["Ko-1-T",10,{"$f":"VLOOKUP($A97,BD!$Q$2:$T$79,4,FALSE)","v":1.433904284070571},0.17,1.006,5.74,4.31,604,0.604,169.12,0.16912,{"v":168.11133200795229,"d":"168.1"},null,null,409.7944505839219]
["Ko-1-S",11,{"$f":"VLOOKUP($A98,BD!$Q$2:$T$79,4,FALSE)","v":1.5144552643570697},0.13,1.0075,5.63,4.33,497,0.497,139.16,0.13916,{"v":138.12406947890818,"d":"138.1"},{"$f":"STDEVA(L98:L99)","v":3.069140366322466},{"$f":"(L98-L99)/L98","v":{"v":0.03142406640098851,"d":"3.14%"}},271.9375414037804]
["Ko-1-Sa",12,{"$f":"C96","v":1.5397182900030328},0.13,1.0067,5.6,4.35,481,0.481,134.68,0.13468,{"v":133.78364954802822,"d":"133.8"},null,null,267.7858717461915]
["Pa-0-T",13,{"$f":"VLOOKUP($A100,BD!$Q$2:$T$79,4,FALSE)","v":1.1765205584372809},0.17,1.0053,6.1,4.27,1232,1.232,344.96,0.34496,{"v":343.1413508405451,"d":"343.1"},null,null,686.3118513135298]
["Pa-0-S",14,{"$f":"VLOOKUP($A101,BD!$Q$2:$T$79,4,FALSE)","v":1.2267506816014433},0.13,1.0031,5.97,4.35,989,0.989,276.92,0.27692,{"v":276.0642009769714,"d":"276.1"},null,null,440.2605307285347]
["Pa-1-T",15,{"$f":"VLOOKUP($A102,BD!$Q$2:$T$79,4,FALSE)","v":1.1765205584372809},0.17,1.0026,6.04,4.37,1185,1.185,331.8,0.3318,{"v":330.93955715140635,"d":"330.9"},null,null,661.9072274008905]
["Pa-1-S",16,{"$f":"VLOOKUP($A103,BD!$Q$2:$T$79,4,FALSE)","v":1.2377717822880059},0.13,1.0033,5.94,4.34,978,0.978,273.84,0.27384,{"v":272.9393003089803,"d":"272.9"},null,null,439.1875334598542]
[]
[{"$nulls":12},{"$f":"AVERAGE(M2:M103)","v":5.574812805581653},{"$f":"AVERAGE(N2:N103)","v":{"v":0.007077794969008323,"d":"0.7 %"}}]

{"sheet":"Protein","index":14,"n_rows":90,"n_cols":52,"rows_kept":90}
[{"$nulls":4},595,"3 comp","other stuff that is not protein + cuvette (Sample noice)",null,null,"citrate + cuvette",0.04,{"$nulls":7},465,{"$nulls":8},"Standards average"]
["","Soil (g)","Extract solution (L)","Dilution factor","Rep_1","Rep_2","BL","stdev","error","avg abs","corrected","avg GRSP (mg/l)","mg GRSP in extr sol","GRSP (mg/kg)","GRSP (g/kg)","GRSP (Kg/ha)","GRSP_N (Kg/ha)","corr min n","Rep_1","Rep_2","BL","stdev","error","avg abs",{"$nulls":3},"std mg/L",595,465,"595/465"]
["Pu-0-T",1.25,0.01,1,0.6466,0.68953,0.065123,{"$f":"STDEVA(E3:F3)","v":0.0303560941163385},{"$f":"(E3-F3)/E3","v":{"v":-0.06639344262295085,"d":"-6.6 %"}},{"$f":"AVERAGE(E3:F3)","v":0.6680649999999999},{"$f":"J3-G3+$K$1","v":0.6429419999999999},{"$f":"(486.07*K3^2+27.514*K3-72.917)*D3","v":{"v":145.70180826397942,"d":"145.70"}},{"$f":"L3*C3","v":{"v":1.4570180826397943,"d":"1.46"}},{"$f":"M3/(B3/1000)","v":{"v":1165.6144661118353,"d":"1165.61"}},{"$f":"N3/1000","v":{"v":1.1656144661118353,"d":"1.17"}},{"$f":"(((VLOOKUP($A3,BD!$Q$2:$T$79,4,FALSE))*1000)*(VLOOKUP($A3,Mass!$A$3:$S$78,2,FALSE))*10000)*(O3/1000)","v":{"v":2421.2116754958097,"d":"2421.21"}},{"$f":"P3*0.16","v":{"v":387.39386807932954,"d":"387"}},"grass or cereals",0.50363,0.50992,0.11873,{"$f":"STDEVA(S3:T3)","v":0.004447701653663397},{"$f":"(S3-T3)/S3","v":{"v":-0.01248932748247725,"d":"-1.2 %"}},{"$f":"AVERAGE(S3:T3)","v":0.506775},{"$nulls":3},0,{"$f":"AVERAGE(AE43,AE60,AE76)","v":0.36476666666666663},{"$f":"AVERAGE(AF43,AF60,AF76)","v":0.5712},{"$f":"(AC3/AD3)","v":0.63859710550887}]
["Pu-0-S",1.25,0.01,1,0.61609,0.63587,0.066918,{"$f":"STDEVA(E4:F4)","v":0.013986572131869924},{"$f":"(E4-F4)/E4","v":{"v":-0.032105698842701584,"d":"-3.2 %"}},{"$f":"AVERAGE(E4:F4)","v":0.62598},{"$f":"J4-G4+$K$1","v":0.599062},{"$f":"(486.07*K4^2+27.514*K4-72.917)*D4","v":{"v":118.00409914177308,"d":"118.00"}},{"$f":"L4*C4","v":{"v":1.1800409914177308,"d":"1.18"}},{"$f":"M4/(B4/1000)","v":{"v":944.0327931341847,"d":"944.03"}},{"$f":"N4/1000","v":{"v":0.9440327931341846,"d":"0.94"}},{"$f":"(((VLOOKUP($A4,BD!$Q$2:$T$79,4,FALSE))*1000)*(VLOOKUP($A4,Mass!$A$3:$S$78,2,FALSE))*10000)*(O4/1000)","v":{"v":1539.721883650689,"d":"1539.72"}},{"$f":"P4*0.16","v":{"v":246.35550138411026,"d":"246"}},null,0.52151,0.51911,0.113,{"$f":"STDEVA(S4:T4)","v":1.6970562748477628E-3},{"$f":"(S4-T4)/S4","v":{"v":4.602021054246455E-3,"d":"0.5 %"}},{"$f":"AVERAGE(S4:T4)","v":0.52031},null,{"$f":"VLOOKUP($A4,BD!$Q$2:$T$79,4,FALSE)","v":1.2546189682986126},null,40,{"$f":"AVERAGE(AE44,AE61,AE77)","v":0.44822333333333336},0.5385433333333333,{"$f":"(AC4/AD4)","v":0.8322883333436494}]
["Pu-1-T",1.25,0.01,1,0.66956,0.71274,0.070094,0.03053287081163512,{"v":-0.06449011290997071,"d":"-6.4 %"},0.69115,0.6610560000000001,{"v":157.68147151255556,"d":"157.68"},{"v":1.5768147151255556,"d":"1.58"},{"v":1261.4517721004445,"d":"1261.45"},{"v":1.2614517721004446,"d":"1.26"},{"$f":"(((VLOOKUP($A5,BD!$Q$2:$T$79,4,FALSE))*1000)*(VLOOKUP($A5,Mass!$A$3:$S$78,2,FALSE))*10000)*(O5/1000)","v":{"v":2503.947164667246,"d":"2503.95"}},{"v":400.63154634675936,"d":"401"},null,0.50962,0.5214,0.12641,0.00832971788237754,{"v":-0.023115262352340987,"d":"-2.3 %"},0.5155099999999999,{"$nulls":3},80,0.5319833333333334,0.50933,1.0444767308686578]
["Pu-1-S",1.25,0.01,1,0.68073,0.69385,0.069319,0.009277240969167518,{"v":-0.01927342705624847,"d":"-1.9 %"},0.68729,0.657971,{"v":155.61867560730482,"d":"155.62"},{"v":1.5561867560730482,"d":"1.56"},{"v":1244.9494048584386,"d":"1244.95"},{"v":1.2449494048584386,"d":"1.24"},{"$f":"(((VLOOKUP($A6,BD!$Q$2:$T$79,4,FALSE))*1000)*(VLOOKUP($A6,Mass!$A$3:$S$78,2,FALSE))*10000)*(O6/1000)","v":{"v":1944.397819285992,"d":"1944.40"}},{"v":311.1036510857587,"d":"311"},null,0.52175,0.52088,0.12932,6.1518289963232277E-4,{"v":1.6674652611404644E-3,"d":"0.2 %"},0.521315,{"$nulls":3},120,0.5988133333333333,0.4678366666666667,1.2799623800329174,{"$nulls":11},"Standards Average"]
["Mo-0-T",1.25,0.01,1,0.54603,0.56635,0.054633,0.014368409793710648,{"v":-0.037214072486859706,"d":"-3.7 %"},0.55619,{"$f":"J7-G7+$K$1","v":0.541557},{"v":84.53994552191139,"d":"84.54"},{"v":0.845399455219114,"d":"0.85"},{"v":676.3195641752911,"d":"676.32"},{"v":0.6763195641752912,"d":"0.68"},{"$f":"(((VLOOKUP($A7,BD!$Q$2:$T$79,4,FALSE))*1000)*(VLOOKUP($A7,Mass!$A$3:$S$78,2,FALSE))*10000)*(O7/1000)","v":{"v":1504.1928320416307,"d":"1504.19"}},{"v":240.67085312666092,"d":"241"},null,0.53523,0.52977,0.086553,0.003860803025278564,{"v":0.010201221904601798,"d":"1.0 %"},0.5325,{"$nulls":3},160,0.67287,0.45354000000000005,1.4835957137187457,{"$nulls":11},"std mg/L",595,465]
["Mo-0-T1",1.25,0.01,1,0.56569,0.57674,0.05655,7.813529932111353E-3,{"v":-0.019533666849334448,"d":"-2.0 %"},0.571215,0.5546650000000001,{"v":91.88507397970577,"d":"91.89"},{"v":0.9188507397970577,"d":"0.92"},{"v":735.0805918376461,"d":"735.08"},{"v":0.7350805918376462,"d":"0.74"},{"$f":"(((VLOOKUP($A7,BD!$Q$2:$T$79,4,FALSE))*1000)*(VLOOKUP($A7,Mass!$A$3:$S$78,2,FALSE))*10000)*(O8/1000)","v":{"v":1634.8824073474927,"d":"1634.88"}},{"v":261.5811851755988,"d":"262"},null,0.51768,0.54369,0.090806,0.018391847378662087,{"v":-0.05024339360222527,"d":"-5.0 %"},0.5306850000000001,{"$nulls":3},180,0.7031233333333334,0.43742333333333333,1.607420728965838,{"$nulls":11},0,0.3247911666666667,0.5293855000000001]
["Mo-0-S",1.25,0.01,1,0.5371,0.55691,0.054649,0.014007785335305502,{"v":-0.036883261962390605,"d":"-3.7 %"},{"$f":"AVERAGE(E9:F9)","v":0.547005},0.5323559999999999,{"v":79.48389580544747,"d":"79.48"},{"v":0.7948389580544748,"d":"0.79"},{"v":635.8711664435798,"d":"635.87"},{"v":0.6358711664435798,"d":"0.64"},{"$f":"(((VLOOKUP($A9,BD!$Q$2:$T$79,4,FALSE))*1000)*(VLOOKUP($A9,Mass!$A$3:$S$78,2,FALSE))*10000)*(O9/1000)","v":{"v":1107.919782832124,"d":"1107.92"}},{"v":177.26716525313984,"d":"177"},null,0.52777,0.53425,0.085403,0.004582051942088857,{"v":-0.012278075676904792,"d":"-1.2 %"},0.53101,{"$nulls":3},220,0.74275,0.40499666666666667,1.8339657116519479,{"$nulls":11},40,0.4082478333333333,0.49672883333333334]
["Mo-1-T",1.25,0.01,1,0.56305,0.57632,0.05709,0.009383306986345489,{"v":-0.023568066779149282,"d":"-2.4 %"},0.569685,0.5525950000000001,{"v":90.71403385253177,"d":"90.71"},{"v":0.9071403385253177,"d":"0.91"},{"v":725.7122708202542,"d":"725.71"},{"v":0.7257122708202541,"d":"0.73"},{"$f":"(((VLOOKUP($A10,BD!$Q$2:$T$79,4,FALSE))*1000)*(VLOOKUP($A10,Mass!$A$3:$S$78,2,FALSE))*10000)*(O10/1000)","v":{"v":1599.750386934128,"d":"1599.75"}},{"v":255.9600619094605,"d":"256"},null,0.53396,0.53236,0.094441,1.1313708498984299E-3,{"v":2.9964791370138866E-3,"d":"0.3 %"},0.5331600000000001,{"$nulls":3},260,0.7923533333333334,0.3693866666666666,2.1450512561362984,{"$nulls":11},80,0.4920078333333333,0.46751550000000003]
["Mo-1-S",1.25,0.01,1,0.52843,0.56899,0.054842,0.028680251044926396,{"v":-0.07675567246371334,"d":"-7.7 %"},0.54871,0.533868,{"v":80.30910533696368,"d":"80.31"},{"v":0.8030910533696368,"d":"0.80"},{"v":642.4728426957095,"d":"642.47"},{"v":0.6424728426957095,"d":"0.64"},{"$f":"(((VLOOKUP($A11,BD!$Q$2:$T$79,4,FALSE))*1000)*(VLOOKUP($A11,Mass!$A$3:$S$78,2,FALSE))*10000)*(O11/1000)","v":{"v":1102.7958132967449,"d":"1102.80"}},{"v":176.44733012747918,"d":"176"},null,0.52221,0.55496,0.084518,0.02315774708385947,{"v":-0.06271423373738545,"d":"-6.3 %"},0.538585,{"$nulls":3},350,0.9069933333333333,0.33634000000000003,2.6966561614239555,{"$nulls":11},120,0.5588378333333334,0.42602216666666665]
["Si-0-T",1.25,0.01,1,0.54678,0.57784,0.055545,0.02196273662365415,{"v":-0.05680529646292837,"d":"-5.7 %"},0.5623100000000001,0.5467650000000002,{"v":87.43827394691584,"d":"87.44"},{"v":0.8743827394691585,"d":"0.87"},{"v":699.5061915753267,"d":"699.51"},{"v":0.6995061915753268,"d":"0.70"},{"$f":"(((VLOOKUP($A12,BD!$Q$2:$T$79,4,FALSE))*1000)*(VLOOKUP($A12,Mass!$A$3:$S$78,2,FALSE))*10000)*(O12/1000)","v":{"v":1485.5522737506567,"d":"1485.55"}},{"v":237.68836380010507,"d":"238"},null,0.51893,0.53463,0.090456,0.01110157646462883,{"v":-0.030254562272368234,"d":"-3.0 %"},0.52678,{"$nulls":18},160,0.6328945,0.4117255]
["Si-0-S",1.25,0.01,1,0.50448,0.50525,0.049756,5.4447222151359734E-4,{"v":-1.526324135743612E-3,"d":"-0.2 %"},0.504865,0.49510899999999997,{"v":59.85718836469766,"d":"59.86"},{"v":0.5985718836469767,"d":"0.60"},{"v":478.8575069175813,"d":"478.86"},{"v":0.4788575069175813,"d":"0.48"},{"$f":"(((VLOOKUP($A13,BD!$Q$2:$T$79,4,FALSE))*1000)*(VLOOKUP($A13,Mass!$A$3:$S$78,2,FALSE))*10000)*(O13/1000)","v":{"v":807.213633713685,"d":"807.21"}},{"v":129.1541813941896,"d":"129"},null,0.53779,0.53854,0.074708,5.3033008588993077E-4,{"v":-1.3945964038007928E-3,"d":"-0.1 %"},0.538165,{"$nulls":4},"Slope","Intercept",{"$nulls":12},180,0.6631478333333333,0.39560883333333335]
["Si-1-T",1.25,0.01,1,0.54108,0.53396,0.053646,0.00503460028204823,{"v":0.013158867450284644,"d":"1.3 %"},0.53752,0.5238740000000001,{"v":74.89584870148735,"d":"74.90"},{"v":0.7489584870148736,"d":"0.75"},{"v":599.1667896118988,"d":"599.17"},{"v":0.5991667896118988,"d":"0.60"},{"$f":"(((VLOOKUP($A14,BD!$Q$2:$T$79,4,FALSE))*1000)*(VLOOKUP($A14,Mass!$A$3:$S$78,2,FALSE))*10000)*(O14/1000)","v":{"v":1263.9138521805844,"d":"1263.91"}},{"v":202.2262163488935,"d":"202"},null,0.53401,0.51264,0.085899,0.015110871913956521,{"v":0.04001797719143836,"d":"4.0 %"},0.523325,{"$nulls":4},{"$f":"SLOPE(AC3:AC11,AB3:AB11)","v":1.5381339002267576E-3},{"$f":"INTERCEPT(AC3:AC11,AB3:AB11)","v":0.3992342074829933},{"$nulls":12},220,0.7027745,0.36318216666666664]
["Si-1-S",1.25,0.01,1,0.48593,0.48636,0.049462,3.0405591591024474E-4,{"v":-8.8490111744498484E-4,"d":"-0.1 %"},0.486145,0.47668299999999997,{"v":50.64652961942821,"d":"50.65"},{"v":0.506465296194282,"d":"0.51"},{"v":405.1722369554256,"d":"405.17"},{"v":0.4051722369554256,"d":"0.41"},{"$f":"(((VLOOKUP($A15,BD!$Q$2:$T$79,4,FALSE))*1000)*(VLOOKUP($A15,Mass!$A$3:$S$78,2,FALSE))*10000)*(O15/1000)","v":{"v":694.7513934889755,"d":"694.75"}},{"v":111.16022295823609,"d":"111"},null,0.54622,0.53404,0.073927,0.008612560594852206,{"v":0.022298707480502507,"d":"2.2 %"},0.54013,{"$nulls":18},260,0.7523778333333334,0.32757216666666666]
["Mi-0-T",1.25,0.01,1,0.67506,0.70451,0.069825,0.020824294705943807,{"v":-0.04362575178502648,"d":"-4.4 %"},0.689785,0.65996,{"v":156.94756772171198,"d":"156.95"},{"v":1.56947567721712,"d":"1.57"},{"v":1255.5805417736958,"d":"1255.58"},{"v":1.2555805417736958,"d":"1.26"},{"$f":"(((VLOOKUP($A16,BD!$Q$2:$T$79,4,FALSE))*1000)*(VLOOKUP($A16,Mass!$A$3:$S$78,2,FALSE))*10000)*(O16/1000)","v":{"v":2412.9116730521564,"d":"2412.91"}},{"v":386.065867688345,"d":"386"},null,0.52064,0.51052,0.12839,0.007155920625607873,{"v":0.019437615242778154,"d":"1.9 %"},0.5155799999999999,{"$nulls":18},350,0.8670178333333333,0.2945255]
["Mi-0-S",1.25,0.01,1,0.5337,0.55206,0.052264,0.012982480502585042,{"v":-0.03440134907251273,"d":"-3.4 %"},0.54288,0.5306160000000001,{"v":78.53700033337796,"d":"78.54"},{"v":0.7853700033337796,"d":"0.79"},{"v":628.2960026670237,"d":"628.30"},{"v":0.6282960026670237,"d":"0.63"},{"$f":"(((VLOOKUP($A17,BD!$Q$2:$T$79,4,FALSE))*1000)*(VLOOKUP($A17,Mass!$A$3:$S$78,2,FALSE))*10000)*(O17/1000)","v":{"v":1060.1557152046548,"d":"1060.16"}},{"v":169.6249144327448,"d":"170"},null,0.54763,0.54166,0.083508,4.221427483683632E-3,{"v":0.010901521100012636,"d":"1.1 %"},0.544645]
["Mi-1-T",1.25,0.01,1,0.68302,0.67451,0.066129,6.017478707897453E-3,{"v":0.012459371614301055,"d":"1.2 %"},0.6787650000000001,0.6526360000000001,{"v":152.07324403545076,"d":"152.07"},{"v":1.5207324403545075,"d":"1.52"},{"v":1216.585952283606,"d":"1216.59"},{"v":1.216585952283606,"d":"1.22"},{"$f":"(((VLOOKUP($A18,BD!$Q$2:$T$79,4,FALSE))*1000)*(VLOOKUP($A18,Mass!$A$3:$S$78,2,FALSE))*10000)*(O18/1000)","v":{"v":2378.2360171596956,"d":"2378.24"}},{"v":380.5177627455513,"d":"381"},null,0.51782,0.50697,0.11949,0.007672108575873981,{"v":0.02095322699007361,"d":"2.1 %"},0.5123949999999999]
["Mi-1-S",1.25,0.01,1,0.5489,0.56884,0.056976,0.014099709216859728,{"v":-0.03632719985425388,"d":"-3.6 %"},0.55887,0.541894,{"v":84.72669307020251,"d":"84.73"},{"v":0.8472669307020252,"d":"0.85"},{"v":677.8135445616201,"d":"677.81"},{"v":0.6778135445616201,"d":"0.68"},{"$f":"(((VLOOKUP($A19,BD!$Q$2:$T$79,4,FALSE))*1000)*(VLOOKUP($A19,Mass!$A$3:$S$78,2,FALSE))*10000)*(O19/1000)","v":{"v":1150.5001764901665,"d":"1150.50"}},{"v":184.08002823842665,"d":"184"},null,0.54261,0.54212,0.091829,3.464823227814015E-4,{"v":9.030427010191305E-4,"d":"0.1 %"},0.542365]
["Li-0-T",1.25,0.01,1,0.61252,0.60196,0.062837,0.007467047609329873,{"v":0.01724025337948133,"d":"1.7 %"},0.60724,0.584403,{"v":109.16822809742263,"d":"109.17"},{"v":1.0916822809742264,"d":"1.09"},{"v":873.3458247793811,"d":"873.35"},{"v":0.8733458247793812,"d":"0.87"},{"$f":"(((VLOOKUP($A20,BD!$Q$2:$T$79,4,FALSE))*1000)*(VLOOKUP($A20,Mass!$A$3:$S$78,2,FALSE))*10000)*(O20/1000)","v":{"v":1790.4301016083841,"d":"1790.43"}},{"v":286.4688162573415,"d":"286"},null,0.55018,0.53348,0.10825,0.011808683245815377,{"v":0.030353702424661108,"d":"3.0 %"},0.54183,{"$nulls":20},"Error of standards from the average"]
["Li-0-S",1.25,0.01,1,0.47838,0.4887,0.049774,0.007297341981845167,{"v":-0.02157280822776871,"d":"-2.2 %"},{"$f":"AVERAGE(E21:F21)","v":0.48354},0.473766,{"v":49.218661779008926,"d":"49.22"},{"v":0.49218661779008926,"d":"0.49"},{"v":393.7492942320714,"d":"393.75"},{"v":0.3937492942320714,"d":"0.39"},{"$f":"(((VLOOKUP($A21,BD!$Q$2:$T$79,4,FALSE))*1000)*(VLOOKUP($A21,Mass!$A$3:$S$78,2,FALSE))*10000)*(O21/1000)","v":{"v":689.8772817208644,"d":"689.88"}},{"v":110.3803650753383,"d":"110"},null,0.54774,0.54035,0.073902,0.005225519112968592,{"v":0.013491802680103714,"d":"1.3 %"},0.544045,{"$nulls":17},"stdev",null,null,"Standard 1",null,null,"Standard 2",null,null,"Standard 3"]
["Li-1-T",1.25,0.01,1,0.61171,0.63738,0.062941,0.018151431073058655,{"v":-0.04196432950254201,"d":"-4.2 %"},0.6245449999999999,0.6016039999999999,{"v":119.55757056067307,"d":"119.56"},{"v":1.1955757056067307,"d":"1.20"},{"v":956.4605644853845,"d":"956.46"},{"v":0.9564605644853844,"d":"0.96"},{"$f":"(((VLOOKUP($A22,BD!$Q$2:$T$79,4,FALSE))*1000)*(VLOOKUP($A22,Mass!$A$3:$S$78,2,FALSE))*10000)*(O22/1000)","v":{"v":1856.5687877819714,"d":"1856.57"}},{"v":297.05100604511546,"d":"297"},null,0.55004,0.55354,0.10877,0.002474873734152958,{"v":-0.006363173587375571,"d":"-0.6 %"},0.55179,{"$nulls":17},{"$f":"STDEVA(AG43,AG60,AG76)","v":0.015789823727114037},0.014327850501732608,null,{"$f":"(AR8-AG43)/AR8","v":{"v":0.02342017717025362,"d":"2.3 %"}},{"v":0.027371357923479205,"d":"2.7 %"},null,{"$f":"(AR8-AG60)/AR8","v":{"v":0.032472147487590856,"d":"3.2 %"}},{"v":-6.2336425912674486E-4,"d":"-0.1 %"},null,{"$f":"(AR8-AG76)/AR8","v":{"v":-0.055892324657844134,"d":"-5.6 %"}},{"v":-0.02674799366435225,"d":"-2.7 %"}]
["Li-1-T1",1.25,0.01,1,0.60981,0.6278,0.062329,0.012720850993546034,{"v":-0.029500992112297376,"d":"-3.0 %"},0.618805,0.5964760000000001,{"v":116.43018414523638,"d":"116.43"},{"v":1.1643018414523638,"d":"1.16"},{"v":931.441473161891,"d":"931.44"},{"v":0.9314414731618911,"d":"0.93"},{"$f":"(((VLOOKUP($A22,BD!$Q$2:$T$79,4,FALSE))*1000)*(VLOOKUP($A22,Mass!$A$3:$S$78,2,FALSE))*10000)*(O23/1000)","v":{"v":1808.0046694329244,"d":"1808.00"}},{"v":289.2807471092679,"d":"289"},null,0.54027,0.54734,0.10649,0.004999244942988906,{"v":-0.013086049567808726,"d":"-1.3 %"},0.5438050000000001,{"$nulls":17},0.012003317596953491,0.015105099580384513,null,{"v":-3.6170839036908913E-3,"d":"-0.4 %"},{"v":-0.020527631944055366,"d":"-2.1 %"},null,{"v":0.031043234767116498,"d":"3.1 %"},{"v":0.034935224550752424,"d":"3.5 %"},null,{"v":-0.027426150863425744,"d":"-2.7 %"},{"v":-0.01440759260669717,"d":"-1.4 %"}]
["Li-1-S",1.25,0.01,1,0.50552,0.5188,0.05124,0.0093903780541574,{"v":-0.026269979427124685,"d":"-2.6 %"},0.51216,0.5009199999999999,{"v":62.83040868964795,"d":"62.83"},{"v":0.6283040868964795,"d":"0.63"},{"v":502.6432695171836,"d":"502.64"},{"v":0.5026432695171836,"d":"0.50"},{"$f":"(((VLOOKUP($A24,BD!$Q$2:$T$79,4,FALSE))*1000)*(VLOOKUP($A24,Mass!$A$3:$S$78,2,FALSE))*10000)*(O24/1000)","v":{"v":842.430189457705,"d":"842.43"}},{"v":134.7888303132328,"d":"135"},null,0.54517,0.53641,0.07586,0.006194255403194149,{"v":0.016068382339453728,"d":"1.6 %"},0.5407900000000001,{"$nulls":17},0.004929354251150299,4.2332020977033823E-4,null,{"v":0.003970126491888456,"d":"0.4 %"},{"v":1.0267039274633257E-3,"d":"0.1 %"},null,{"v":0.00742535603261061,"d":"0.7 %"},{"v":-3.4223464248777518E-4,"d":"-0.0 %"},null,{"v":-0.011395482524499179,"d":"-1.1 %"},{"v":-6.844692849756692E-4,"d":"-0.1 %"}]
["Ai-0-T",1.25,0.01,1,0.6019,0.62249,0.061751,0.014559328624631012,{"v":-0.03420834025585645,"d":"-3.4 %"},0.612195,0.5904440000000001,{"v":112.78420083229557,"d":"112.78"},{"v":1.1278420083229557,"d":"1.13"},{"v":902.2736066583645,"d":"902.27"},{"v":0.9022736066583645,"d":"0.90"},{"$f":"(((VLOOKUP($A25,BD!$Q$2:$T$79,4,FALSE))*1000)*(VLOOKUP($A25,Mass!$A$3:$S$78,2,FALSE))*10000)*(O25/1000)","v":{"v":2166.011641970506,"d":"2166.01"}},{"v":346.56186271528094,"d":"347"},null,0.53592,0.52573,0.10339,0.007205418100290863,{"v":0.019014031945066283,"d":"1.9 %"},0.530825,{"$nulls":17},7.549121361677397E-3,0.01170207389026976,null,{"v":6.859473544352848E-3,"d":"0.7 %"},{"v":0.028840439836268175,"d":"2.9 %"},null,{"v":0.008702584261922133,"d":"0.9 %"},{"v":-0.002988889858235242,"d":"-0.3 %"},null,{"v":-0.015562057806274782,"d":"-1.6 %"},{"v":-0.025851549978033322,"d":"-2.6 %"}]
["Ai-0-S",1.25,0.01,1,0.55403,0.5936,0.059778,0.02798021533155168,{"v":-0.07142212515567747,"d":"-7.1 %"},0.573815,0.554037,{"v":91.52936172914983,"d":"91.53"},{"v":0.9152936172914983,"d":"0.92"},{"v":732.2348938331986,"d":"732.23"},{"v":0.7322348938331986,"d":"0.73"},{"$f":"(((VLOOKUP($A26,BD!$Q$2:$T$79,4,FALSE))*1000)*(VLOOKUP($A26,Mass!$A$3:$S$78,2,FALSE))*10000)*(O26/1000)","v":{"v":1398.3013473095614,"d":"1398.30"}},{"v":223.72821556952982,"d":"224"},null,0.51652,0.53792,0.095302,0.0151320851173921,{"v":-0.04143111592968322,"d":"-4.1 %"},0.52722,{"$nulls":17},0.011881632884414477,2.0006748861321794E-3,null,{"v":-0.02095135919177673,"d":"-2.1 %"},{"v":4.9304694511271025E-3,"d":"0.5 %"},null,{"v":5.656550973345522E-3,"d":"0.6 %"},{"v":-1.4572816111706584E-4,"d":"-0.0 %"},null,{"v":0.015294808218431384,"d":"1.5 %"},{"v":-0.004784741290009902,"d":"-0.5 %"}]
["Ai-1-T",1.25,0.01,1,0.58334,0.62963,0.063816,0.032731972901125325,{"v":-0.07935337881852789,"d":"-7.9 %"},0.6064849999999999,0.582669,{"v":108.13685757809523,"d":"108.14"},{"v":1.0813685757809524,"d":"1.08"},{"v":865.0948606247618,"d":"865.09"},{"v":0.8650948606247618,"d":"0.87"},{"$f":"(((VLOOKUP($A27,BD!$Q$2:$T$79,4,FALSE))*1000)*(VLOOKUP($A27,Mass!$A$3:$S$78,2,FALSE))*10000)*(O27/1000)","v":{"v":1977.6529669199613,"d":"1977.65"}},{"v":316.42447470719384,"d":"316"},null,0.51749,0.51579,0.10846,1.2020815280171554E-3,{"v":3.28508763454373E-3,"d":"0.3 %"},0.51664,{"$nulls":17},0.011280072399294912,0.004982261869204961,null,{"v":-7.0371438042808441E-5,"d":"-0.0 %"},{"v":-0.01129061408723181,"d":"-1.1 %"},null,{"v":0.017044967600235945,"d":"1.7 %"},{"v":-0.002291826143079886,"d":"-0.2 %"},null,{"v":-0.016974596162193305,"d":"-1.7 %"},{"v":0.013582440230311835,"d":"1.4 %"}]
["Ai-1-S",1.25,0.01,1,0.59765,0.64479,0.063325,0.033333013665133825,{"v":-0.07887559608466486,"d":"-7.9 %"},0.62122,0.5978950000000001,{"v":117.29302399832179,"d":"117.29"},{"v":1.172930239983218,"d":"1.17"},{"v":938.3441919865744,"d":"938.34"},{"v":0.9383441919865744,"d":"0.94"},{"$f":"(((VLOOKUP($A28,BD!$Q$2:$T$79,4,FALSE))*1000)*(VLOOKUP($A28,Mass!$A$3:$S$78,2,FALSE))*10000)*(O28/1000)","v":{"v":1657.2216276498682,"d":"1657.22"}},{"v":265.1554604239789,"d":"265"},null,0.52549,0.53458,0.10953,6.4276006409857474E-3,{"v":-0.01729814078288843,"d":"-1.7 %"},0.530035,{"$nulls":17},0.009088800800985775,0.012334238255090313,null,{"v":3.3296597984131438E-3,"d":"0.3 %"},{"v":0.03886938281202302,"d":"3.9 %"},null,{"v":0.01094234352555459,"d":"1.1 %"},{"v":-0.014932818379022992,"d":"-1.5 %"},null,{"v":-0.014272003323968207,"d":"-1.4 %"},{"v":-0.023936564433000483,"d":"-2.4 %"}]
["Ni-0-T",1.25,0.01,3,0.7121,0.75721,0.073662,0.031897586899325224,{"v":-0.063347844403876,"d":"-6.3 %"},0.7346550000000001,0.7009930000000001,{"v":555.6619056145125,"d":"555.66"},{"v":5.556619056145125,"d":"5.56"},{"v":4445.2952449161,"d":"4445.30"},{"v":4.4452952449161005,"d":"4.45"},{"$f":"(((VLOOKUP($A29,BD!$Q$2:$T$79,4,FALSE))*1000)*(VLOOKUP($A29,Mass!$A$3:$S$78,2,FALSE))*10000)*(O29/1000)","v":{"v":7487.2756996786,"d":"7487.28"}},{"v":1197.9641119485761,"d":"1198"},null,0.51499,0.55087,0.14265,0.025370991308973342,{"v":-0.06967125575253894,"d":"-7.0 %"},0.5329299999999999,{"$nulls":17},0.03696578733549889,0.015431997062380926,null,{"v":-0.05649643674155726,"d":"-5.6 %"},{"v":-0.05370826682975207,"d":"-5.4 %"},null,{"v":0.023769085878172506,"d":"2.4 %"},{"v":0.019374865487656073,"d":"1.9 %"},null,{"v":0.0327273508633849,"d":"3.3 %"},{"v":0.034333401342096,"d":"3.4 %"}]
["Ni-1-T",1.25,0.01,3,0.70301,0.74002,0.081836,0.026170021971714114,{"v":-0.05264505483563532,"d":"-5.3 %"},0.721515,0.679679,{"v":510.9909221158167,"d":"510.99"},{"v":5.109909221158167,"d":"5.11"},{"v":4087.9273769265337,"d":"4087.93"},{"v":4.087927376926534,"d":"4.09"},{"$f":"(((VLOOKUP($A30,BD!$Q$2:$T$79,4,FALSE))*1000)*(VLOOKUP($A30,Mass!$A$3:$S$78,2,FALSE))*10000)*(O30/1000)","v":{"v":6676.522244393336,"d":"6676.52"}},{"v":1068.243559102934,"d":"1068"},null,0.53338,0.53912,0.15763,0.004058792924010838,{"v":-0.010761558363643328,"d":"-1.1 %"},0.53625,{"$nulls":17},0.006300161373594637,0.010245433128960441,null,{"v":-6.005259022930547E-3,"d":"-0.6 %"},{"v":0.0401663013898627,"d":"4.0 %"},null,{"v":0.008077496291406572,"d":"0.8 %"},{"v":-0.019794550896272144,"d":"-2.0 %"},null,{"v":-0.002072237268476154,"d":"-0.2 %"},{"v":-0.020371750493590555,"d":"-2.0 %"}]
["Pi-0-T",1.25,0.01,1,0.65251,0.63071,0.06497,0.015414927829866766,{"v":0.03340944966360675,"d":"3.3 %"},0.64161,0.6166400000000001,{"v":128.87486644787205,"d":"128.87"},{"v":1.2887486644787205,"d":"1.29"},{"v":1030.9989315829764,"d":"1031.00"},{"v":1.0309989315829764,"d":"1.03"},{"$f":"(((VLOOKUP($A31,BD!$Q$2:$T$79,4,FALSE))*1000)*(VLOOKUP($A31,Mass!$A$3:$S$78,2,FALSE))*10000)*(O31/1000)","v":{"v":2066.4220468923095,"d":"2066.42"}},{"v":330.6275275027695,"d":"331"},null,0.5446,0.52231,0.11849,0.01576141015264809,{"v":0.040929122291590014,"d":"4.1 %"},0.533455]
["Pi-0-S",1.25,0.01,1,0.62791,0.60763,0.063583,0.014340125522463158,{"v":0.03229762227070753,"d":"3.2 %"},0.6177699999999999,0.594187,{"v":115.04245600230183,"d":"115.04"},{"v":1.1504245600230183,"d":"1.15"},{"v":920.3396480184147,"d":"920.34"},{"v":0.9203396480184146,"d":"0.92"},{"$f":"(((VLOOKUP($A32,BD!$Q$2:$T$79,4,FALSE))*1000)*(VLOOKUP($A32,Mass!$A$3:$S$78,2,FALSE))*10000)*(O32/1000)","v":{"v":1499.7822998150814,"d":"1499.78"}},{"v":239.96516797041303,"d":"240"},null,0.55172,0.5436,0.1163,0.005741707063234777,{"v":0.014717610382077894,"d":"1.5 %"},0.54766]
["Pi-1-T",1.25,0.01,1,0.62949,0.63785,0.06065,5.911412690719561E-3,{"v":-0.013280592225452404,"d":"-1.3 %"},0.63367,0.61302,{"v":126.61158874082801,"d":"126.61"},{"v":1.26611588740828,"d":"1.27"},{"v":1012.8927099266241,"d":"1012.89"},{"v":1.012892709926624,"d":"1.01"},{"$f":"(((VLOOKUP($A33,BD!$Q$2:$T$79,4,FALSE))*1000)*(VLOOKUP($A33,Mass!$A$3:$S$78,2,FALSE))*10000)*(O33/1000)","v":{"v":2007.8325831881461,"d":"2007.83"}},{"v":321.2532133101034,"d":"321"},null,0.53313,0.54207,0.10489,6.3215346238077764E-3,{"v":-0.01676889314050993,"d":"-1.7 %"},0.5376000000000001]
["Pi-1-S",1.25,0.01,1,0.60218,0.58237,0.058485,0.014007785335305502,{"v":0.032897140389916625,"d":"3.3 %"},0.5922750000000001,0.5737900000000001,{"v":102.90149706008705,"d":"102.90"},{"v":1.0290149706008704,"d":"1.03"},{"v":823.2119764806963,"d":"823.21"},{"v":0.8232119764806963,"d":"0.82"},{"$f":"(((VLOOKUP($A34,BD!$Q$2:$T$79,4,FALSE))*1000)*(VLOOKUP($A34,Mass!$A$3:$S$78,2,FALSE))*10000)*(O34/1000)","v":{"v":1330.1516786292582,"d":"1330.15"}},{"v":212.82426858068132,"d":"213"},null,0.53667,0.54391,0.10068,5.1194530957906215E-3,{"v":-0.013490599437270621,"d":"-1.3 %"},0.5402899999999999]
["Mu-0-T",1.25,0.01,1,0.71179,0.70601,0.074947,0.00408707719525825,{"v":0.008120372581800822,"d":"0.8 %"},0.7089000000000001,0.6739530000000001,{"v":166.40528378480874,"d":"166.41"},{"v":1.6640528378480874,"d":"1.66"},{"v":1331.24227027847,"d":"1331.24"},{"v":1.3312422702784699,"d":"1.33"},{"$f":"(((VLOOKUP($A35,BD!$Q$2:$T$79,4,FALSE))*1000)*(VLOOKUP($A35,Mass!$A$3:$S$78,2,FALSE))*10000)*(O35/1000)","v":{"v":2491.077935976037,"d":"2491.08"}},{"v":398.57246975616596,"d":"399"},null,0.54333,0.54274,0.14912,4.1719300090004848E-4,{"v":1.0858962324921861E-3,"d":"0.1 %"},0.5430349999999999]
["Mu-0-S",1.25,0.01,1,0.64133,0.64361,0.068054,1.6122034611053707E-3,{"v":-0.003555112032806917,"d":"-0.4 %"},0.64247,0.6144160000000001,{"v":127.48287954868997,"d":"127.48"},{"v":1.2748287954868998,"d":"1.27"},{"v":1019.8630363895198,"d":"1019.86"},{"v":1.0198630363895198,"d":"1.02"},{"$f":"(((VLOOKUP($A36,BD!$Q$2:$T$79,4,FALSE))*1000)*(VLOOKUP($A36,Mass!$A$3:$S$78,2,FALSE))*10000)*(O36/1000)","v":{"v":1570.9061097071437,"d":"1570.91"}},{"v":251.344977553143,"d":"251"},null,0.55091,0.5602,0.12754,0.006569021997223041,{"v":-0.01686300847688374,"d":"-1.7 %"},0.555555]
["Mu-1-T",1.25,0.01,1,0.71461,0.70222,0.079971,0.008761053018901333,{"v":0.01733812848966571,"d":"1.7 %"},0.708415,0.668444,{"v":162.65909266477553,"d":"162.66"},{"v":1.6265909266477554,"d":"1.63"},{"v":1301.2727413182042,"d":"1301.27"},{"v":1.3012727413182041,"d":"1.30"},{"$f":"(((VLOOKUP($A37,BD!$Q$2:$T$79,4,FALSE))*1000)*(VLOOKUP($A37,Mass!$A$3:$S$78,2,FALSE))*10000)*(O37/1000)","v":{"v":2418.5886002565885,"d":"2418.59"}},{"v":386.9741760410542,"d":"387"},null,0.53636,0.53427,0.16168,1.4778531726798315E-3,{"v":0.003896636587366555,"d":"0.4 %"},0.535315]
["Mu-1-S",1.25,0.01,1,0.65037,0.62966,0.069732,0.014644181438373404,{"v":0.03184341221151038,"d":"3.2 %"},0.640015,0.610283,{"v":124.90883291906025,"d":"124.91"},{"v":1.2490883291906025,"d":"1.25"},{"v":999.270663352482,"d":"999.27"},{"v":0.9992706633524819,"d":"1.00"},{"$f":"(((VLOOKUP($A38,BD!$Q$2:$T$79,4,FALSE))*1000)*(VLOOKUP($A38,Mass!$A$3:$S$78,2,FALSE))*10000)*(O38/1000)","v":{"v":1529.4294597885573,"d":"1529.43"}},{"v":244.70871356616917,"d":"245"},null,0.54509,0.54489,0.13644,1.4142135623729392E-4,{"v":3.6691188611051015E-4,"d":"0.0 %"},0.54499]
["Kp-0-T",1.25,0.01,1,0.63557,0.62587,0.061094,0.006858935777509462,{"v":0.01526189090108081,"d":"1.5 %"},0.63072,0.609626,{"v":124.50118073392733,"d":"124.50"},{"v":1.2450118073392733,"d":"1.25"},{"v":996.0094458714186,"d":"996.01"},{"v":0.9960094458714186,"d":"1.00"},{"$f":"(((VLOOKUP($A39,BD!$Q$2:$T$79,4,FALSE))*1000)*(VLOOKUP($A39,Mass!$A$3:$S$78,2,FALSE))*10000)*(O39/1000)","v":{"v":2072.1895047638977,"d":"2072.19"}},{"v":331.55032076222363,"d":"332"},null,0.53471,0.5375,0.10685,1.9728279195104386E-3,{"v":-0.005217781601241718,"d":"-0.5 %"},0.536105]
["Kp-0-S",1.25,0.01,1,0.57028,0.56418,0.057079,0.004313351365237936,{"v":0.010696499964929497,"d":"1.1 %"},0.56723,0.5501510000000001,{"v":89.33677692388213,"d":"89.34"},{"v":0.8933677692388213,"d":"0.89"},{"v":714.694215391057,"d":"714.69"},{"v":0.714694215391057,"d":"0.71"},{"$f":"(((VLOOKUP($A40,BD!$Q$2:$T$79,4,FALSE))*1000)*(VLOOKUP($A40,Mass!$A$3:$S$78,2,FALSE))*10000)*(O40/1000)","v":{"v":1220.4635002885614,"d":"1220.46"}},{"v":195.2741600461698,"d":"195"},null,0.53689,0.52802,0.092637,0.00627203714912463,{"v":0.016521075080556415,"d":"1.7 %"},0.532455]
["Kp-1-T",1.25,0.01,1,0.61442,0.61912,0.058162,3.3234018715768E-3,{"v":-0.007649490576478691,"d":"-0.8 %"},0.61677,0.598608,{"v":117.72731102434048,"d":"117.73"},{"v":1.1772731102434049,"d":"1.18"},{"v":941.8184881947238,"d":"941.82"},{"v":0.9418184881947238,"d":"0.94"},{"$f":"(((VLOOKUP($A41,BD!$Q$2:$T$79,4,FALSE))*1000)*(VLOOKUP($A41,Mass!$A$3:$S$78,2,FALSE))*10000)*(O41/1000)","v":{"v":1925.0012510244724,"d":"1925.00"}},{"v":308.00020016391557,"d":"308"},null,0.51641,0.50565,0.098199,0.007608468965567245,{"v":0.020836157316860615,"d":"2.1 %"},0.5110300000000001,{"$nulls":5},"Standard 1"]
["Kp-1-S",1.25,0.01,1,0.55971,0.53757,0.054221,0.015655344135470196,{"v":0.03955619874577915,"d":"4.0 %"},0.54864,0.534419,{"v":80.61037905737524,"d":"80.61"},{"v":0.8061037905737525,"d":"0.81"},{"v":644.8830324590019,"d":"644.88"},{"v":0.6448830324590019,"d":"0.64"},{"$f":"(((VLOOKUP($A42,BD!$Q$2:$T$79,4,FALSE))*1000)*(VLOOKUP($A42,Mass!$A$3:$S$78,2,FALSE))*10000)*(O42/1000)","v":{"v":1080.8240518854172,"d":"1080.82"}},{"v":172.93184830166678,"d":"173"},null,0.53219,0.53116,0.086883,0.000728319984622205,{"v":1.9353990116313465E-3,"d":"0.2 %"},0.531675,{"$nulls":5},"std mg/L",595,465]
["Ki-0-T",1.25,0.01,2,0.64544,0.63487,0.065838,0.007474118677141785,{"v":0.01637642538423396,"d":"1.6 %"},0.640155,0.6143170000000001,{"v":254.8420557760166,"d":"254.84"},{"v":2.548420557760166,"d":"2.55"},{"v":2038.736446208133,"d":"2038.74"},{"v":2.0387364462081328,"d":"2.04"},{"$f":"(((VLOOKUP($A43,BD!$Q$2:$T$79,4,FALSE))*1000)*(VLOOKUP($A43,Mass!$A$3:$S$78,2,FALSE))*10000)*(O43/1000)","v":{"v":4703.090496019059,"d":"4703.09"}},{"v":752.4944793630494,"d":"752"},null,0.52417,0.53063,0.11435,0.004567909806465112,{"v":-0.012324245950741212,"d":"-1.2 %"},0.5274000000000001,{"$nulls":5},0,0.35716,0.55671,{"$f":"AE43-$AE$55","v":0.3171845},{"$f":"AF43-$AF$55","v":0.5148955000000001}]
["Ki-0-S",1.25,0.01,2,0.59482,0.57117,0.057074,0.01672307537506189,{"v":0.039759927372986885,"d":"4.0 %"},0.5829949999999999,0.565921,{"v":196.65145215920575,"d":"196.65"},{"v":1.9665145215920574,"d":"1.97"},{"v":1573.211617273646,"d":"1573.21"},{"v":1.573211617273646,"d":"1.57"},{"$f":"(((VLOOKUP($A44,BD!$Q$2:$T$79,4,FALSE))*1000)*(VLOOKUP($A44,Mass!$A$3:$S$78,2,FALSE))*10000)*(O44/1000)","v":{"v":3013.8844733047677,"d":"3013.88"}},{"v":482.2215157287628,"d":"482"},null,0.53933,0.52905,0.092346,0.007269057710597677,{"v":0.019060686407208864,"d":"1.9 %"},0.5341899999999999,{"$nulls":5},40,0.4497,0.54874,{"$f":"AE44-$AE$55","v":0.4097245},0.5069255]
["Ki-1-T",1.25,0.01,2,0.61423,0.59341,0.05569,0.014721963184303962,{"v":0.03389609755303397,"d":"3.4 %"},0.60382,0.58813,{"v":222.78982699236605,"d":"222.79"},{"v":2.2278982699236605,"d":"2.23"},{"v":1782.3186159389284,"d":"1782.32"},{"v":1.7823186159389284,"d":"1.78"},{"$f":"(((VLOOKUP($A45,BD!$Q$2:$T$79,4,FALSE))*1000)*(VLOOKUP($A45,Mass!$A$3:$S$78,2,FALSE))*10000)*(O45/1000)","v":{"v":3928.9192289190423,"d":"3928.92"}},{"v":628.6270766270468,"d":"629"},null,0.54911,0.5234,0.088606,0.018179715344306145,{"v":0.04682121979202712,"d":"4.7 %"},0.5362549999999999,{"$nulls":5},80,0.53003,0.50885,0.4900545,0.46703550000000005]
["Ki-1-T1",1.25,0.01,2,0.60564,0.59425,0.056128,0.008053946237714785,{"v":0.018806551746912377,"d":"1.9 %"},0.599945,0.583817,{"v":217.6387051798365,"d":"217.64"},{"v":2.1763870517983652,"d":"2.18"},{"v":1741.109641438692,"d":"1741.11"},{"v":1.741109641438692,"d":"1.74"},{"$f":"(((VLOOKUP($A45,BD!$Q$2:$T$79,4,FALSE))*1000)*(VLOOKUP($A45,Mass!$A$3:$S$78,2,FALSE))*10000)*(O46/1000)","v":{"v":3838.07871877113,"d":"3838.08"}},{"v":614.0925950033808,"d":"614"},null,0.54245,0.53879,0.085508,2.5880108191427614E-3,{"v":0.006747165637385928,"d":"0.7 %"},0.54062,{"$nulls":5},120,0.59498,0.45555,0.5550044999999999,0.41373550000000003]
["Ki-1-S",1.25,0.01,2,0.54637,0.55049,0.054466,2.9132799384885845E-3,{"v":-0.00754067756282375,"d":"-0.8 %"},0.54843,0.533964,{"v":160.7231492531734,"d":"160.72"},{"v":1.6072314925317341,"d":"1.61"},{"v":1285.7851940253872,"d":"1285.79"},{"v":1.2857851940253873,"d":"1.29"},{"$f":"(((VLOOKUP($A47,BD!$Q$2:$T$79,4,FALSE))*1000)*(VLOOKUP($A47,Mass!$A$3:$S$78,2,FALSE))*10000)*(O47/1000)","v":{"v":2329.596510989817,"d":"2329.60"}},{"v":372.7354417583707,"d":"373"},null,0.52803,0.54427,0.080211,0.011483414126469554,{"v":-0.030755828267333356,"d":"-3.1 %"},0.53615,{"$nulls":5},160,0.68613,0.45151,0.6461545,0.4096955]
["Na-0-T",1.25,0.01,2,0.67233,0.64834,0.066093,0.016963491680665244,{"v":0.03568188240893602,"d":"3.6 %"},0.660335,0.6342420000000001,{"v":280.12293854024705,"d":"280.12"},{"v":2.8012293854024706,"d":"2.80"},{"v":2240.9835083219764,"d":"2240.98"},{"v":2.2409835083219765,"d":"2.24"},{"$f":"(((VLOOKUP($A48,BD!$Q$2:$T$79,4,FALSE))*1000)*(VLOOKUP($A48,Mass!$A$3:$S$78,2,FALSE))*10000)*(O48/1000)","v":{"v":4341.6752660776765,"d":"4341.68"}},{"v":694.6680425724282,"d":"695"},null,0.53414,0.51175,0.11773,0.015832120830766735,{"v":0.041917849253004666,"d":"4.2 %"},0.522945,{"$nulls":5},180,0.70317,0.44189,0.6631944999999999,0.40007550000000003]
["Na-0-S",1.25,0.01,2,0.64257,0.6274,0.06237,0.010726809870599938,{"v":0.023608322828641264,"d":"2.4 %"},0.6349849999999999,0.6126149999999999,{"v":252.71833817405138,"d":"252.72"},{"v":2.527183381740514,"d":"2.53"},{"v":2021.746705392411,"d":"2021.75"},{"v":2.021746705392411,"d":"2.02"},{"$f":"(((VLOOKUP($A49,BD!$Q$2:$T$79,4,FALSE))*1000)*(VLOOKUP($A49,Mass!$A$3:$S$78,2,FALSE))*10000)*(O49/1000)","v":{"v":3174.321173230842,"d":"3174.32"}},{"v":507.89138771693473,"d":"508"},null,0.54289,0.53547,0.10892,0.00524673231640417,{"v":0.01366759380353291,"d":"1.4 %"},0.53918,{"$nulls":5},220,0.74041,0.39088,0.7004345000000001,0.34906550000000003]
["Na-1-T",1.25,0.01,2,0.67976,0.66675,0.066826,0.009199459223237038,{"v":0.01913910792044262,"d":"1.9 %"},0.6732549999999999,0.6464289999999999,{"v":295.9662762591376,"d":"295.97"},{"v":2.959662762591376,"d":"2.96"},{"v":2367.730210073101,"d":"2367.73"},{"v":2.367730210073101,"d":"2.37"},{"$f":"(((VLOOKUP($A50,BD!$Q$2:$T$79,4,FALSE))*1000)*(VLOOKUP($A50,Mass!$A$3:$S$78,2,FALSE))*10000)*(O50/1000)","v":{"v":4541.805576601527,"d":"4541.81"}},{"v":726.6888922562443,"d":"727"},null,0.53474,0.52714,0.11879,0.005374011537017719,{"v":0.014212514493024535,"d":"1.4 %"},0.53094,{"$nulls":5},260,0.83486,0.38698,0.7948845,0.3451655]
["Na-1-S",1.25,0.01,2,0.63864,0.61947,0.06146,0.01355523699534613,{"v":0.030016910935738477,"d":"3.0 %"},0.6290549999999999,0.607595,{"v":246.48729856806347,"d":"246.49"},{"v":2.4648729856806346,"d":"2.46"},{"v":1971.8983885445077,"d":"1971.90"},{"v":1.9718983885445078,"d":"1.97"},{"$f":"(((VLOOKUP($A51,BD!$Q$2:$T$79,4,FALSE))*1000)*(VLOOKUP($A51,Mass!$A$3:$S$78,2,FALSE))*10000)*(O51/1000)","v":{"v":2919.6016959650665,"d":"2919.60"}},{"v":467.13627135441067,"d":"467"},null,0.53303,0.51022,0.10623,0.016129105678865146,{"v":0.042793088569123686,"d":"4.3 %"},0.521625,{"$nulls":5},350,0.9122,0.32451,0.8722245,0.2826955]
["Ik-0-T",1.25,0.01,3,0.86904,0.78128,0.089814,0.062055691116931454,{"v":0.10098499493694198,"d":"10.1 %"},{"$f":"AVERAGE(F52)","v":0.78128},0.731466,{"v":621.8300038483707,"d":"621.83"},{"v":6.218300038483707,"d":"6.22"},{"v":4974.640030786965,"d":"4974.64"},{"v":4.974640030786965,"d":"4.97"},{"$f":"(((VLOOKUP($A52,BD!$Q$2:$T$79,4,FALSE))*1000)*(VLOOKUP($A52,Mass!$A$3:$S$78,2,FALSE))*10000)*(O52/1000)","v":{"v":8108.716821000048,"d":"8108.72"}},{"v":1297.3946913600078,"d":"1297"},null,0.60212,0.53139,0.17898,0.05001366263332448,{"v":0.11746827874842218,"d":"11.7 %"},0.566755]
["Ik-0-S",1.25,0.01,3,0.73482,0.74665,0.080489,0.008365073221436863,{"v":-0.016099180751748737,"d":"-1.6 %"},0.740735,0.700246,{"v":554.0739011010364,"d":"554.07"},{"v":5.5407390110103645,"d":"5.54"},{"v":4432.591208808291,"d":"4432.59"},{"v":4.432591208808291,"d":"4.43"},{"$f":"(((VLOOKUP($A53,BD!$Q$2:$T$79,4,FALSE))*1000)*(VLOOKUP($A53,Mass!$A$3:$S$78,2,FALSE))*10000)*(O53/1000)","v":{"v":5814.9570892834245,"d":"5814.96"}},{"v":930.393134285348,"d":"930"},null,0.52854,0.53549,0.15512,0.004914392129246514,{"v":-0.013149430506678798,"d":"-1.3 %"},0.532015,{"$nulls":5},"Citrate",0.040196,0.040907]
["Ik-1-T",1.25,0.01,3,0.65072,0.64255,0.073092,0.005777062402294101,{"v":0.012555323334152955,"d":"1.3 %"},0.646635,0.613543,{"v":380.8133663925402,"d":"380.81"},{"v":3.8081336639254024,"d":"3.81"},{"v":3046.5069311403217,"d":"3046.51"},{"v":3.0465069311403217,"d":"3.05"},{"$f":"(((VLOOKUP($A54,BD!$Q$2:$T$79,4,FALSE))*1000)*(VLOOKUP($A54,Mass!$A$3:$S$78,2,FALSE))*10000)*(O54/1000)","v":{"v":5400.055115732752,"d":"5400.06"}},{"v":864.0088185172403,"d":"864"},null,0.50102,0.51089,0.1362,0.006979143930311177,{"v":-0.01969981238273908,"d":"-2.0 %"},0.5059549999999999,{"$nulls":5},"Citrate",0.039755,0.042722]
["Ik-1-S",1.25,0.01,3,0.67773,0.70322,0.074302,0.018024151852445026,{"v":-0.03761084797780812,"d":"-3.8 %"},0.690475,0.656173,{"v":463.2621126417271,"d":"463.26"},{"v":4.632621126417271,"d":"4.63"},{"v":3706.0969011338166,"d":"3706.10"},{"v":3.7060969011338165,"d":"3.71"},{"$f":"(((VLOOKUP($A55,BD!$Q$2:$T$79,4,FALSE))*1000)*(VLOOKUP($A55,Mass!$A$3:$S$78,2,FALSE))*10000)*(O55/1000)","v":{"v":5241.308583884663,"d":"5241.31"}},{"v":838.609373421546,"d":"839"},null,0.52379,0.53436,0.14053,0.007474118677141785,{"v":-0.020179843066877888,"d":"-2.0 %"},0.529075,{"$nulls":5},"avg",{"$f":"AVERAGE(AE53:AE54)","v":0.0399755},{"$f":"AVERAGE(AF53:AF54)","v":0.041814500000000004}]
["Ja-0-T",1.25,0.01,1,0.62134,0.62979,0.060474,5.9750523010262966E-3,{"v":-0.013599639488846618,"d":"-1.4 %"},0.6255649999999999,0.6050909999999999,{"v":121.69877071684562,"d":"121.70"},{"v":1.2169877071684563,"d":"1.22"},{"v":973.590165734765,"d":"973.59"},{"v":0.9735901657347651,"d":"0.97"},{"$f":"(((VLOOKUP($A56,BD!$Q$2:$T$79,4,FALSE))*1000)*(VLOOKUP($A56,Mass!$A$3:$S$78,2,FALSE))*10000)*(O56/1000)","v":{"v":2005.0860888772388,"d":"2005.09"}},{"v":320.8137742203582,"d":"321"},null,0.52796,0.54253,0.10774,0.010302545801887978,{"v":-0.027596787635426875,"d":"-2.8 %"},0.535245]
["Ja-0-T1",1.25,0.01,1,0.63687,0.63452,0.061292,1.6617009357884393E-3,{"v":0.003689921019988497,"d":"0.4 %"},0.635695,0.614403,{"v":127.47475707002266,"d":"127.47"},{"v":1.2747475707002267,"d":"1.27"},{"v":1019.7980565601813,"d":"1019.80"},{"v":1.0197980565601812,"d":"1.02"},{"$f":"(((VLOOKUP($A56,BD!$Q$2:$T$79,4,FALSE))*1000)*(VLOOKUP($A56,Mass!$A$3:$S$78,2,FALSE))*10000)*(O57/1000)","v":{"v":2100.2501551868822,"d":"2100.25"}},{"v":336.04002482990114,"d":"336"},null,0.54069,0.53793,0.10924,1.9516147160748604E-3,{"v":0.005104588581257254,"d":"0.5 %"},0.53931]
["Ja-1-T",1.25,0.01,1,0.56456,0.59005,0.056722,0.018024151852445106,{"v":-0.04515020546974638,"d":"-4.5 %"},0.577305,0.5605829999999999,{"v":95.25598213904618,"d":"95.26"},{"v":0.9525598213904618,"d":"0.95"},{"v":762.0478571123695,"d":"762.05"},{"v":0.7620478571123694,"d":"0.76"},{"$f":"(((VLOOKUP($A58,BD!$Q$2:$T$79,4,FALSE))*1000)*(VLOOKUP($A58,Mass!$A$3:$S$78,2,FALSE))*10000)*(O58/1000)","v":{"v":1602.1888286475505,"d":"1602.19"}},{"v":256.3502125836081,"d":"256"},null,0.50228,0.55741,0.096316,0.038982796846814376,{"v":-0.10975949669507051,"d":"-11.0 %"},0.5298449999999999,{"$nulls":5},"Standard 2"]
["Ne-0-T",1.25,0.01,2,0.68145,0.65661,0.066251,0.017564532444673823,{"v":0.036451683909310986,"d":"3.6 %"},0.66903,0.642779,{"v":291.1909131314497,"d":"291.19"},{"v":2.911909131314497,"d":"2.91"},{"v":2329.5273050515975,"d":"2329.53"},{"v":2.3295273050515974,"d":"2.33"},{"$f":"(((VLOOKUP($A59,BD!$Q$2:$T$79,4,FALSE))*1000)*(VLOOKUP($A59,Mass!$A$3:$S$78,2,FALSE))*10000)*(O59/1000)","v":{"v":4327.323398107324,"d":"4327.32"}},{"v":692.3717436971718,"d":"692"},null,0.5206,0.51744,0.11747,0.002234457428549448,{"v":0.006069919323856974,"d":"0.6 %"},0.51902,{"$nulls":6},595,465]
["Ne-0-T1",1.25,0.01,2,0.71036,0.68571,0.06317,0.01743018215624836,{"v":0.03470071513035637,"d":"3.5 %"},0.698035,0.674865,{"v":334.05660392225155,"d":"334.06"},{"v":3.340566039222516,"d":"3.34"},{"v":2672.4528313780124,"d":"2672.45"},{"v":2.6724528313780125,"d":"2.67"},{"$f":"(((VLOOKUP($A59,BD!$Q$2:$T$79,4,FALSE))*1000)*(VLOOKUP($A59,Mass!$A$3:$S$78,2,FALSE))*10000)*(O60/1000)","v":{"v":4964.340895460804,"d":"4964.34"}},{"v":794.2945432737287,"d":"794"},null,0.52958,0.52788,0.10974,1.2020815280171554E-3,{"v":3.2100910155217995E-3,"d":"0.3 %"},0.52873,{"$nulls":5},0,0.35422,0.57153,{"$f":"AE60-$AE$55","v":0.3142445},{"$f":"AF60-$AF$55","v":0.5297155}]
["Ne-0-S",1.25,0.01,2,0.64971,0.63566,0.06131,0.009934850275670998,{"v":0.021625032706900013,"d":"2.2 %"},0.642685,0.621375,{"v":263.7089761521875,"d":"263.71"},{"v":2.6370897615218754,"d":"2.64"},{"v":2109.6718092175,"d":"2109.67"},{"v":2.1096718092175,"d":"2.11"},{"$f":"(((VLOOKUP($A61,BD!$Q$2:$T$79,4,FALSE))*1000)*(VLOOKUP($A61,Mass!$A$3:$S$78,2,FALSE))*10000)*(O61/1000)","v":{"v":3168.178032668672,"d":"3168.18"}},{"v":506.9084852269876,"d":"507"},null,0.52884,0.51964,0.10514,6.505382386916227E-3,{"v":0.017396566069132414,"d":"1.7 %"},0.52424,{"$nulls":5},40,0.43555,0.52119,0.3955745,0.47937550000000007]
["Ne-1-T",1.25,0.01,2,0.71038,0.74835,0.070448,0.026848844481653172,{"v":-0.053450266054787504,"d":"-5.3 %"},0.729365,0.6989170000000001,{"v":367.5017862203127,"d":"367.50"},{"v":3.675017862203127,"d":"3.68"},{"v":2940.0142897625014,"d":"2940.01"},{"v":2.9400142897625012,"d":"2.94"},{"$f":"(((VLOOKUP($A62,BD!$Q$2:$T$79,4,FALSE))*1000)*(VLOOKUP($A62,Mass!$A$3:$S$78,2,FALSE))*10000)*(O62/1000)","v":{"v":5395.9834809651375,"d":"5395.98"}},{"v":863.357356954422,"d":"863"},null,0.52888,0.55467,0.1306,0.018236283886801045,{"v":-0.04876342459537131,"d":"-4.9 %"},0.541775,{"$nulls":5},80,0.52833,0.50949,0.48835449999999997,0.4676755]
["Ne-1-S",1.25,0.01,2,0.69449,0.66645,0.068103,0.019827274144470837,{"v":0.040374951403188045,"d":"4.0 %"},0.68047,0.652367,{"v":303.7904198680845,"d":"303.79"},{"v":3.037904198680845,"d":"3.04"},{"v":2430.323358944676,"d":"2430.32"},{"v":2.4303233589446758,"d":"2.43"},{"$f":"(((VLOOKUP($A63,BD!$Q$2:$T$79,4,FALSE))*1000)*(VLOOKUP($A63,Mass!$A$3:$S$78,2,FALSE))*10000)*(O63/1000)","v":{"v":3591.5689197989236,"d":"3591.57"}},{"v":574.6510271678278,"d":"575"},null,0.53577,0.52551,0.12266,7.254915574973932E-3,{"v":0.019150008399126374,"d":"1.9 %"},0.53064,{"$nulls":5},120,0.59395,0.46911,0.5539745,0.42729550000000005]
["Ae-0-T",1.25,0.01,2,0.79646,0.80038,0.089794,2.7718585822512905E-3,{"v":-0.00492177887150646,"d":"-0.5 %"},0.7984199999999999,0.7486259999999999,{"v":440.1883962677745,"d":"440.19"},{"v":4.401883962677745,"d":"4.40"},{"v":3521.507170142196,"d":"3521.51"},{"v":3.521507170142196,"d":"3.52"},{"$f":"(((VLOOKUP($A64,BD!$Q$2:$T$79,4,FALSE))*1000)*(VLOOKUP($A64,Mass!$A$3:$S$78,2,FALSE))*10000)*(O64/1000)","v":{"v":5802.2271997866,"d":"5802.23"}},{"v":928.356351965856,"d":"928"},null,0.55523,0.5624,0.18085,0.005069955621107553,{"v":-0.012913567350467392,"d":"-1.3 %"},0.5588150000000001,{"$nulls":5},160,0.66929,0.4536,0.6293145,0.4117855]
["Ae-0-S",1.25,0.01,2,0.72205,0.68432,0.075347,0.02667913885416839,{"v":0.052253999030537956,"d":"5.2 %"},0.703185,0.6678379999999999,{"v":324.49761213236206,"d":"324.50"},{"v":3.244976121323621,"d":"3.24"},{"v":2595.9808970588965,"d":"2595.98"},{"v":2.5959808970588965,"d":"2.60"},{"$f":"(((VLOOKUP($A65,BD!$Q$2:$T$79,4,FALSE))*1000)*(VLOOKUP($A65,Mass!$A$3:$S$78,2,FALSE))*10000)*(O65/1000)","v":{"v":3513.6384291668196,"d":"3513.64"}},{"v":562.1821486666912,"d":"562"},null,0.55492,0.53787,0.14314,0.012056170619230642,{"v":0.03072514957110937,"d":"3.1 %"},0.546395,{"$nulls":5},180,0.69182,0.43833,0.6518444999999999,0.3965155]
["Ae-1-T",1.25,0.01,2,0.75301,0.72138,0.079839,0.02236578748893045,{"v":0.04200475425293149,"d":"4.2 %"},0.737195,0.6973560000000001,{"v":365.2970285180951,"d":"365.30"},{"v":3.652970285180951,"d":"3.65"},{"v":2922.3762281447607,"d":"2922.38"},{"v":2.9223762281447607,"d":"2.92"},{"$f":"(((VLOOKUP($A66,BD!$Q$2:$T$79,4,FALSE))*1000)*(VLOOKUP($A66,Mass!$A$3:$S$78,2,FALSE))*10000)*(O66/1000)","v":{"v":5072.971751109176,"d":"5072.97"}},{"v":811.6754801774681,"d":"812"},null,0.55215,0.5487,0.15672,2.4395183950936344E-3,{"v":6.24830209182299E-3,"d":"0.6 %"},0.5504249999999999,{"$nulls":5},220,0.73506,0.41042,0.6950845000000001,0.36860550000000003]
["Ae-1-S",1.25,0.01,2,0.69313,0.64755,0.073158,0.03222992708648288,{"v":0.06575966990319286,"d":"6.6 %"},0.6703399999999999,0.6371819999999999,{"v":283.91856711468523,"d":"283.92"},{"v":2.8391856711468524,"d":"2.84"},{"v":2271.348536917482,"d":"2271.35"},{"v":2.2713485369174817,"d":"2.27"},{"$f":"(((VLOOKUP($A67,BD!$Q$2:$T$79,4,FALSE))*1000)*(VLOOKUP($A67,Mass!$A$3:$S$78,2,FALSE))*10000)*(O67/1000)","v":{"v":3224.690437967119,"d":"3224.69"}},{"v":515.9504700747391,"d":"516"},null,0.54474,0.52741,0.13808,0.012254160517962838,{"v":0.031813342144876376,"d":"3.2 %"},0.5360750000000001,{"$nulls":5},260,0.77447,0.36304,0.7344945,0.32122549999999994]
["Jn-0-T",1.25,0.01,2,0.66278,0.63476,0.062297,{"$f":"STDEVA(E68:F68)","v":0.019813132008847094},{"$f":"(E68-F68)/E68","v":{"v":0.042276471830773474,"d":"4.2 %"}},{"$f":"AVERAGE(E68:F68)","v":0.6487700000000001},{"$f":"J68-G68+$K$1","v":0.6264730000000001},{"$f":"(486.07*K68^2+27.514*K68-72.917)*D68","v":{"v":270.17380579935013,"d":"270.17"}},{"$f":"L68*C68","v":{"v":2.7017380579935013,"d":"2.70"}},{"$f":"M68/(B68/1000)","v":{"v":2161.390446394801,"d":"2161.39"}},{"$f":"N68/1000","v":{"v":2.161390446394801,"d":"2.16"}},{"$f":"(((VLOOKUP($A68,BD!$Q$2:$T$79,4,FALSE))*1000)*(VLOOKUP($A68,Mass!$A$3:$S$78,2,FALSE))*10000)*(O68/1000)","v":{"v":4329.016412189475,"d":"4329.02"}},{"$f":"P68*0.16","v":{"v":692.642625950316,"d":"693"}},null,0.52503,0.51643,0.1053,{"$f":"STDEVA(S68:T68)","v":0.006081118318204346},{"$f":"(S68-T68)/S68","v":{"v":0.01638001638001648,"d":"1.6 %"}},{"$f":"AVERAGE(S68:T68)","v":0.5207299999999999},{"$nulls":5},350,0.89999,0.34217,0.8600144999999999,0.3003555]
["Jn-0-S",1.25,0.01,2,0.60119,0.57475,0.056285,0.018695903294572328,{"v":0.04397944077579471,"d":"4.4 %"},0.58797,0.571685,{"v":203.3431120301915,"d":"203.34"},{"v":2.033431120301915,"d":"2.03"},{"v":1626.744896241532,"d":"1626.74"},{"v":1.6267448962415318,"d":"1.63"},{"$f":"(((VLOOKUP($A69,BD!$Q$2:$T$79,4,FALSE))*1000)*(VLOOKUP($A69,Mass!$A$3:$S$78,2,FALSE))*10000)*(O69/1000)","v":{"v":2708.5185731104434,"d":"2708.52"}},{"v":433.36297169767096,"d":"433"},null,0.538,0.5317,0.089268,0.004454772721475308,{"v":0.011710037174721345,"d":"1.2 %"},0.53485]
["Jn-1-T",1.25,0.01,2,0.63571,0.62058,0.059364,0.010698525599352448,{"v":0.023800160450519855,"d":"2.4 %"},0.628145,0.608781,{"v":247.9549922649266,"d":"247.95"},{"v":2.479549922649266,"d":"2.48"},{"v":1983.6399381194126,"d":"1983.64"},{"v":1.9836399381194125,"d":"1.98"},{"$f":"(((VLOOKUP($A70,BD!$Q$2:$T$79,4,FALSE))*1000)*(VLOOKUP($A70,Mass!$A$3:$S$78,2,FALSE))*10000)*(O70/1000)","v":{"v":4039.3409823016104,"d":"4039.34"}},{"v":646.2945571682577,"d":"646"},null,0.51518,0.52207,0.09707,0.004871965722375356,{"v":-0.013373966380682603,"d":"-1.3 %"},0.518625,{"$nulls":5},"Citrate",0.040015,0.041213]
["Jn-1-S",1.25,0.01,2,0.57725,0.56716,0.05526,0.007134707422172295,{"v":0.017479428323949837,"d":"1.7 %"},0.5722050000000001,0.5569450000000001,{"v":186.35947224292363,"d":"186.36"},{"v":1.8635947224292364,"d":"1.86"},{"v":1490.875777943389,"d":"1490.88"},{"v":1.490875777943389,"d":"1.49"},{"$f":"(((VLOOKUP($A71,BD!$Q$2:$T$79,4,FALSE))*1000)*(VLOOKUP($A71,Mass!$A$3:$S$78,2,FALSE))*10000)*(O71/1000)","v":{"v":2489.2698809353064,"d":"2489.27"}},{"v":398.283180949649,"d":"398"},null,0.54586,0.52571,0.084081,0.014248201640908934,{"v":0.036914227091195545,"d":"3.7 %"},0.535785,{"$nulls":5},"Citrate",0.038985,0.042057]
["La-0-T",1.25,0.01,1,0.67172,0.65767,0.063222,0.009934850275670998,{"v":0.020916453284106483,"d":"2.1 %"},0.664695,0.6414730000000001,{"v":144.74427058297508,"d":"144.74"},{"v":1.4474427058297508,"d":"1.45"},{"v":1157.9541646638006,"d":"1157.95"},{"v":1.1579541646638005,"d":"1.16"},{"$f":"(((VLOOKUP($A72,BD!$Q$2:$T$79,4,FALSE))*1000)*(VLOOKUP($A72,Mass!$A$3:$S$78,2,FALSE))*10000)*(O72/1000)","v":{"v":2516.540541299741,"d":"2516.54"}},{"v":402.6464866079586,"d":"403"},null,0.5309,0.54076,0.11134,0.006972072862499345,{"v":-0.018572235825955883,"d":"-1.9 %"},0.53583,{"$nulls":5},"avg",{"$f":"AVERAGE(AE70:AE71)","v":0.0395},{"$f":"AVERAGE(AF70:AF71)","v":0.041635}]
["La-0-S",1.25,0.01,1,0.62098,0.61153,0.058258,0.006682159082212845,{"v":0.015217881413249958,"d":"1.5 %"},0.616255,0.597997,{"v":117.35512172321464,"d":"117.36"},{"v":1.1735512172321465,"d":"1.17"},{"v":938.8409737857172,"d":"938.84"},{"v":0.9388409737857172,"d":"0.94"},{"$f":"(((VLOOKUP($A73,BD!$Q$2:$T$79,4,FALSE))*1000)*(VLOOKUP($A73,Mass!$A$3:$S$78,2,FALSE))*10000)*(O73/1000)","v":{"v":1625.1789887797777,"d":"1625.18"}},{"v":260.02863820476443,"d":"260"},null,0.53449,0.5383,0.096185,2.694076836320732E-3,{"v":-0.007128290519934854,"d":"-0.7 %"},0.536395]
["La-1-T",1.25,0.01,1,0.64082,0.65446,0.060578,0.009644936495384577,{"v":-0.02128522830123919,"d":"-2.1 %"},0.64764,0.627062,{"v":135.46198973681308,"d":"135.46"},{"v":1.354619897368131,"d":"1.35"},{"v":1083.6959178945046,"d":"1083.70"},{"v":1.0836959178945047,"d":"1.08"},{"$f":"(((VLOOKUP($A74,BD!$Q$2:$T$79,4,FALSE))*1000)*(VLOOKUP($A74,Mass!$A$3:$S$78,2,FALSE))*10000)*(O74/1000)","v":{"v":2440.1449555778004,"d":"2440.14"}},{"v":390.42319289244807,"d":"390"},null,0.52537,0.55178,0.10253,0.01867469009113675,{"v":-0.05026933399318584,"d":"-5.0 %"},0.538575]
["La-1-S",1.25,0.01,1,0.56595,0.55644,0.05379,6.7245854890840015E-3,{"v":0.01680360455870644,"d":"1.7 %"},0.561195,0.547405,{"v":87.79626256253175,"d":"87.80"},{"v":0.8779626256253176,"d":"0.88"},{"v":702.370100500254,"d":"702.37"},{"v":0.7023701005002541,"d":"0.70"},{"$f":"(((VLOOKUP($A75,BD!$Q$2:$T$79,4,FALSE))*1000)*(VLOOKUP($A75,Mass!$A$3:$S$78,2,FALSE))*10000)*(O75/1000)","v":{"v":1270.936839562395,"d":"1270.94"}},{"v":203.34989432998321,"d":"203"},null,0.5329,0.53549,0.081658,1.8314065632731448E-3,{"v":-0.004860198911615652,"d":"-0.5 %"},0.534195,{"$nulls":5},"Standard 3"]
["La-1-S1",1.25,0.01,1,0.58061,0.55816,0.054396,0.01587454723763797,{"v":0.03866623034394856,"d":"3.9 %"},0.569385,0.5549890000000001,{"v":92.06874424011451,"d":"92.07"},{"v":0.9206874424011451,"d":"0.92"},{"v":736.5499539209161,"d":"736.55"},{"v":0.736549953920916,"d":"0.74"},{"$f":"(((VLOOKUP($A75,BD!$Q$2:$T$79,4,FALSE))*1000)*(VLOOKUP($A75,Mass!$A$3:$S$78,2,FALSE))*10000)*(O76/1000)","v":{"v":1332.7851939445395,"d":"1332.79"}},{"v":213.24563103112632,"d":"213"},null,0.55328,0.52856,0.08285,0.01747967963093143,{"v":0.04467900520532093,"d":"4.5 %"},0.5409200000000001,{"$nulls":5},0,0.38292,0.58536,{"$f":"AE76-$AE$55","v":0.3429445},{"$f":"AF76-$AF$55","v":0.5435455}]
["Ko-0-T",1.25,0.01,1,0.58765,0.57827,0.052709,0.006632661607529854,{"v":0.015961882072662394,"d":"1.6 %"},0.5829599999999999,0.570251,{"v":100.83614370669602,"d":"100.84"},{"v":1.0083614370669602,"d":"1.01"},{"v":806.6891496535682,"d":"806.69"},{"v":0.8066891496535682,"d":"0.81"},{"$f":"(((VLOOKUP($A77,BD!$Q$2:$T$79,4,FALSE))*1000)*(VLOOKUP($A77,Mass!$A$3:$S$78,2,FALSE))*10000)*(O77/1000)","v":{"v":1974.9806017018614,"d":"1974.98"}},{"v":315.9968962722978,"d":"316"},null,0.53731,0.53684,0.082021,3.3234018715765643E-4,{"v":8.7472781076095821E-4,"d":"0.1 %"},0.537075,{"$nulls":5},40,0.45942,0.5457,0.4194445,0.5038855]
["Ko-0-S",1.25,0.01,1,0.56501,0.53013,0.05264,0.024663884527786794,{"v":0.06173342064742221,"d":"6.2 %"},0.54757,0.53493,{"v":80.89004550874299,"d":"80.89"},{"v":0.8089004550874299,"d":"0.81"},{"v":647.1203640699439,"d":"647.12"},{"v":0.6471203640699439,"d":"0.65"},{"$f":"(((VLOOKUP($A78,BD!$Q$2:$T$79,4,FALSE))*1000)*(VLOOKUP($A78,Mass!$A$3:$S$78,2,FALSE))*10000)*(O78/1000)","v":{"v":1295.297978509488,"d":"1295.30"}},{"v":207.2476765615181,"d":"207"},null,0.56699,0.52251,0.076923,0.03145210962717761,{"v":0.07844935536781948,"d":"7.8 %"},0.5447500000000001,{"$nulls":5},80,0.53759,0.50965,0.4976145,0.46783550000000007]
["Ko-1-T",1.25,0.01,1,0.59431,0.59558,0.054205,8.9802561210691062E-4,{"v":-2.1369319042250567E-3,"d":"-0.2 %"},0.5949450000000001,0.58074,{"v":106.99293701993199,"d":"106.99"},{"v":1.06992937019932,"d":"1.07"},{"v":855.943496159456,"d":"855.94"},{"v":0.855943496159456,"d":"0.86"},{"$f":"(((VLOOKUP($A79,BD!$Q$2:$T$79,4,FALSE))*1000)*(VLOOKUP($A79,Mass!$A$3:$S$78,2,FALSE))*10000)*(O79/1000)","v":{"v":2086.4797783111567,"d":"2086.48"}},{"v":333.83676452978506,"d":"334"},null,0.52469,0.52589,0.084936,8.4852813742384214E-4,{"v":-2.2870647429910594E-3,"d":"-0.2 %"},0.52529,{"$nulls":5},120,0.60751,0.47885,0.5675345,0.4370355]
["Ko-1-S",1.25,0.01,1,0.54546,0.558,0.051909,0.00886711903607938,{"v":-0.022989770102299176,"d":"-2.3 %"},0.55173,0.5398210000000001,{"v":83.57969551576892,"d":"83.58"},{"v":0.8357969551576891,"d":"0.84"},{"v":668.6375641261513,"d":"668.64"},{"v":0.6686375641261514,"d":"0.67"},{"$f":"(((VLOOKUP($A80,BD!$Q$2:$T$79,4,FALSE))*1000)*(VLOOKUP($A80,Mass!$A$3:$S$78,2,FALSE))*10000)*(O80/1000)","v":{"v":1316.408182619059,"d":"1316.41"}},{"v":210.62530921904946,"d":"211"},null,0.51292,0.54945,0.077174,0.025830610716744546,{"v":-0.0712196833814239,"d":"-7.1 %"},0.531185,{"$nulls":5},160,0.66319,0.45551,0.6232145,0.4136955]
["Pa-0-T",1.25,0.01,1,0.71277,0.7001,0.068724,0.008959042917633607,{"v":0.017775720078005625,"d":"1.8 %"},0.7064349999999999,0.677711,{"v":168.97769987517242,"d":"168.98"},{"v":1.6897769987517242,"d":"1.69"},{"v":1351.8215990013794,"d":"1351.82"},{"v":1.3518215990013793,"d":"1.35"},{"$f":"(((VLOOKUP($A81,BD!$Q$2:$T$79,4,FALSE))*1000)*(VLOOKUP($A81,Mass!$A$3:$S$78,2,FALSE))*10000)*(O81/1000)","v":{"v":2703.7580343599575,"d":"2703.76"}},{"v":432.6012854975932,"d":"433"},null,0.51959,0.54512,0.1293,0.018052436123692596,{"v":-0.0491348948209166,"d":"-4.9 %"},0.532355,{"$nulls":5},180,0.71438,0.43205,0.6744045000000001,0.39023549999999996]
["Pa-0-S",1.25,0.01,1,0.68384,0.66895,0.064876,0.010528819971867664,{"v":0.02177409920449222,"d":"2.2 %"},0.6763950000000001,0.6515190000000001,{"v":151.3344327339613,"d":"151.33"},{"v":1.5133443273396132,"d":"1.51"},{"v":1210.6754618716905,"d":"1210.68"},{"v":1.2106754618716904,"d":"1.21"},{"$f":"(((VLOOKUP($A82,BD!$Q$2:$T$79,4,FALSE))*1000)*(VLOOKUP($A82,Mass!$A$3:$S$78,2,FALSE))*10000)*(O82/1000)","v":{"v":1930.7560324640099,"d":"1930.76"}},{"v":308.9209651942416,"d":"309"},null,0.53566,0.53973,0.12021,2.877924599429261E-3,{"v":-7.598103274465179E-3,"d":"-0.8 %"},0.537695,{"$nulls":5},220,0.75278,0.41369,0.7128045000000001,0.3718755]
["Pa-0-S1",1.25,0.01,1,0.61568,0.6327,0.065759,0.012034957415795064,{"v":-0.027644230769230827,"d":"-2.8 %"},0.62419,0.598431,{"v":117.6194545261693,"d":"117.62"},{"v":1.176194545261693,"d":"1.18"},{"v":940.9556362093545,"d":"940.96"},{"v":0.9409556362093544,"d":"0.94"},{"$f":"(((VLOOKUP($A82,BD!$Q$2:$T$79,4,FALSE))*1000)*(VLOOKUP($A82,Mass!$A$3:$S$78,2,FALSE))*10000)*(O83/1000)","v":{"v":1500.6133584995089,"d":"1500.61"}},{"v":240.09813735992142,"d":"240"},null,0.51505,0.53339,0.11616,0.012968338366961298,{"v":-0.03560819337928361,"d":"-3.6 %"},0.52422,{"$nulls":5},260,0.76773,0.35814,0.7277545000000001,0.31632550000000004]
["Pa-1-T",1.25,0.01,1,0.6937,0.69057,0.063968,0.00221324422511387,{"v":4.512036903560568E-3,"d":"0.5 %"},0.692135,0.668167,{"v":162.47150812384618,"d":"162.47"},{"v":1.6247150812384619,"d":"1.62"},{"v":1299.7720649907694,"d":"1299.77"},{"v":1.2997720649907694,"d":"1.30"},{"$f":"(((VLOOKUP($A84,BD!$Q$2:$T$79,4,FALSE))*1000)*(VLOOKUP($A84,Mass!$A$3:$S$78,2,FALSE))*10000)*(O84/1000)","v":{"v":2599.654544765,"d":"2599.65"}},{"v":415.9447271624,"d":"416"},null,0.53488,0.54874,0.11357,0.009800499987245538,{"v":-0.025912354172898562,"d":"-2.6 %"},0.54181,{"$nulls":5},350,0.90879,0.34234,0.8688145,0.3005255]
["Pa-1-T1",1.25,0.01,1,0.68758,0.70319,0.063788,0.011037936854322016,{"v":-0.02270281276360571,"d":"-2.3 %"},0.6953849999999999,0.671597,{"v":164.79956261390262,"d":"164.80"},{"v":1.6479956261390263,"d":"1.65"},{"v":1318.396500911221,"d":"1318.40"},{"v":1.318396500911221,"d":"1.32"},{"$f":"(((VLOOKUP($A84,BD!$Q$2:$T$79,4,FALSE))*1000)*(VLOOKUP($A84,Mass!$A$3:$S$78,2,FALSE))*10000)*(O85/1000)","v":{"v":2636.904998739506,"d":"2636.90"}},{"v":421.904799798321,"d":"422"},null,0.52178,0.54415,0.11377,0.015817978695143068,{"v":-0.04287247498945916,"d":"-4.3 %"},0.532965,{"$nulls":5}," ",""]
["Pa-1-S",1.25,0.01,1,0.62762,0.59401,0.062713,0.023765858915679804,{"v":0.05355151206143832,"d":"5.4 %"},0.610815,0.588102,{"v":111.37813463371228,"d":"111.38"},{"v":1.113781346337123,"d":"1.11"},{"v":891.0250770696983,"d":"891.03"},{"v":0.8910250770696984,"d":"0.89"},{"$f":"(((VLOOKUP($A86,BD!$Q$2:$T$79,4,FALSE))*1000)*(VLOOKUP($A86,Mass!$A$3:$S$78,2,FALSE))*10000)*(O86/1000)","v":{"v":1433.751407020229,"d":"1433.75"}},{"v":229.40022512323662,"d":"229"},null,0.54562,0.50985,0.1067,0.025293209563042783,{"v":0.06555844727099441,"d":"6.6 %"},0.5277350000000001,{"$nulls":5},"Citrate",0.040114,0.040885]
[{"$nulls":29},"Citrate",0.038842,0.041695]
[{"$nulls":14},{"$f":"AVERAGE(O3:O86)","v":{"v":1.4638438617565153,"d":"1"}},null,{"$f":"AVERAGE(Q3:Q86)","v":{"v":420.0567918722754,"d":"420"}},{"$nulls":12},"avg",{"$f":"AVERAGE(AE86:AE87)","v":0.039478},{"$f":"AVERAGE(AF86:AF87)","v":0.04129}]
[{"$nulls":14},{"$f":"O88*3%","v":0.04391531585269546},null,{"$f":"Q88*3%","v":12.601703756168263}]
[{"$nulls":14},{"$f":"O89*1000*16%","v":7.026450536431273}]

{"sheet":"WEON_WEOC","index":15,"n_rows":79,"n_cols":11,"rows_kept":79}
["Sample #","Field","Soil g","DI water L","WEN (ug/L)","WEON_DON (mg/kg)","WEN (kg/ha)","WEON_DON (kg/ha)","WEOC_DOC (mg/L)","WEOC_DOC (g/kg)","WEOC_DOC (kg/ha)"]
[1,"BL1 (3 to 40)",0,0.1,410,{"$f":"(D2*E2)/C2","v":{"$error":"#DIV/0!"}},null,{"$f":"(((VLOOKUP($B2,Min_N!$A$1:$X$93,12,FALSE))*1000)*(VLOOKUP($B2,Mass!$A$3:$S$78,2,FALSE))*10000)*(F2/1000000)","v":{"$error":"#N/A"}},5.3,{"$f":"(D2*E2)/C2","v":{"$error":"#DIV/0!"}},{"$f":"(((VLOOKUP($B2,BD!$Q$2:$T$79,4,FALSE))*1000)*(VLOOKUP($B2,Mass!$A$3:$S$78,2,FALSE))*10000)*(J2/1000)","v":{"$error":"#N/A"}}]
[2,"BL2 (41 to 78)",0,0.1,120,{"$f":"(D3*E3)/C3","v":{"$error":"#DIV/0!"}},null,{"$f":"(((VLOOKUP($B3,Min_N!$A$1:$X$93,12,FALSE))*1000)*(VLOOKUP($B3,Mass!$A$3:$S$78,2,FALSE))*10000)*(F3/1000000)","v":{"$error":"#N/A"}},5.4,{"$f":"(D3*E3)/C3","v":{"$error":"#DIV/0!"}},{"$f":"(((VLOOKUP($B3,BD!$Q$2:$T$79,4,FALSE))*1000)*(VLOOKUP($B3,Mass!$A$3:$S$78,2,FALSE))*10000)*(J3/1000)","v":{"$error":"#N/A"}}]
[3,"Pu-0-T",10.09,0.1,2700,{"$f":"((D4*(E4-AVERAGE(E$2:E$3)))/C4)-VLOOKUP(B4,Min_N_Corrected!A4:X93,23,FALSE)","v":20.52894087843653},{"$f":"(((VLOOKUP($B4,BD!$Q$2:$T$79,4,FALSE))*1000)*(VLOOKUP($B4,Mass!$A$3:$S$78,2,FALSE))*10000)*(((D4*(E4-AVERAGE(E$2:E$3)))/C4)/1000000)","v":50.12860627533753},{"$f":"(((VLOOKUP($B4,BD!$Q$2:$T$79,4,FALSE))*1000)*(VLOOKUP($B4,Mass!$A$3:$S$78,2,FALSE))*10000)*(F4/1000000)","v":42.64266855423942},25,{"$f":"(D4*(I4-AVERAGE(I$2:I$3)))/C4","v":0.19474727452923685},{"$f":"(((VLOOKUP($B4,BD!$Q$2:$T$79,4,FALSE))*1000)*(VLOOKUP($B4,Mass!$A$3:$S$78,2,FALSE))*10000)*(J4/1000)","v":404.52858862849376}]
[4,"Pu-0-S",10.02,0.1,2200,{"$f":"((D5*(E5-AVERAGE(E$2:E$3)))/C5)-VLOOKUP(B5,Min_N_Corrected!A5:X94,23,FALSE)","v":15.398452906262193},null,{"$f":"(((VLOOKUP($B5,BD!$Q$2:$T$79,4,FALSE))*1000)*(VLOOKUP($B5,Mass!$A$3:$S$78,2,FALSE))*10000)*(F5/1000000)","v":25.114948428244283},21,{"$f":"(D5*(I5-AVERAGE(I$2:I$3)))/C5","v":0.15618762475049902},{"$f":"(((VLOOKUP($B5,BD!$Q$2:$T$79,4,FALSE))*1000)*(VLOOKUP($B5,Mass!$A$3:$S$78,2,FALSE))*10000)*(J5/1000)","v":254.74274361312652}]
[5,"Pu-1-T",10.06,0.1,3000,{"$f":"((D6*(E6-AVERAGE(E$2:E$3)))/C6)-VLOOKUP(B6,Min_N_Corrected!A6:X95,23,FALSE)","v":22.960138356551937},null,{"$f":"(((VLOOKUP($B6,BD!$Q$2:$T$79,4,FALSE))*1000)*(VLOOKUP($B6,Mass!$A$3:$S$78,2,FALSE))*10000)*(F6/1000000)","v":45.57524481695216},31,0.25497017892644136,{"$f":"(((VLOOKUP($B6,BD!$Q$2:$T$79,4,FALSE))*1000)*(VLOOKUP($B6,Mass!$A$3:$S$78,2,FALSE))*10000)*(J6/1000)","v":506.1088110681471}]
[6,"Pu-1-S",10.09,0.1,2700,{"$f":"((D7*(E7-AVERAGE(E$2:E$3)))/C7)-VLOOKUP(B7,Min_N_Corrected!A7:X96,23,FALSE)","v":19.790696841075064},null,{"$f":"(((VLOOKUP($B7,BD!$Q$2:$T$79,4,FALSE))*1000)*(VLOOKUP($B7,Mass!$A$3:$S$78,2,FALSE))*10000)*(F7/1000000)","v":30.909680047850735},28,0.22447968285431122,{"$f":"(((VLOOKUP($B7,BD!$Q$2:$T$79,4,FALSE))*1000)*(VLOOKUP($B7,Mass!$A$3:$S$78,2,FALSE))*10000)*(J7/1000)","v":350.5988308541463}]
[7,"Mo-0-T",10.07,0.1,3000,{"$f":"((D8*(E8-AVERAGE(E$2:E$3)))/C8)-VLOOKUP(B8,Min_N_Corrected!A8:X97,23,FALSE)","v":16.73924373821582},null,{"$f":"(((VLOOKUP($B8,BD!$Q$2:$T$79,4,FALSE))*1000)*(VLOOKUP($B8,Mass!$A$3:$S$78,2,FALSE))*10000)*(F8/1000000)","v":37.2295166051059},26,0.20506454816285996,{"$f":"(((VLOOKUP($B8,BD!$Q$2:$T$79,4,FALSE))*1000)*(VLOOKUP($B8,Mass!$A$3:$S$78,2,FALSE))*10000)*(J8/1000)","v":456.08117788011043}]
[8,"Mo-0-S",10.02,0.1,2200,{"$f":"((D9*(E9-AVERAGE(E$2:E$3)))/C9)-VLOOKUP(B9,Min_N_Corrected!A9:X98,23,FALSE)","v":16.831730575244972},null,{"$f":"(((VLOOKUP($B9,BD!$Q$2:$T$79,4,FALSE))*1000)*(VLOOKUP($B9,Mass!$A$3:$S$78,2,FALSE))*10000)*(F9/1000000)","v":29.327021364899185},22,0.1661676646706587,{"$f":"(((VLOOKUP($B9,BD!$Q$2:$T$79,4,FALSE))*1000)*(VLOOKUP($B9,Mass!$A$3:$S$78,2,FALSE))*10000)*(J9/1000)","v":289.5247538669021}]
[9,"Mo-1-T",10.06,0.1,2000,{"$f":"((D10*(E10-AVERAGE(E$2:E$3)))/C10)-VLOOKUP(B10,Min_N_Corrected!A10:X99,23,FALSE)","v":15.672757136499142},null,{"$f":"(((VLOOKUP($B10,BD!$Q$2:$T$79,4,FALSE))*1000)*(VLOOKUP($B10,Mass!$A$3:$S$78,2,FALSE))*10000)*(F10/1000000)","v":34.548815421159006},30,0.2450298210735586,{"$f":"(((VLOOKUP($B10,BD!$Q$2:$T$79,4,FALSE))*1000)*(VLOOKUP($B10,Mass!$A$3:$S$78,2,FALSE))*10000)*(J10/1000)","v":540.1404479901836}]
[10,"Mo-1-S",10.07,0.1,1600,{"$f":"((D11*(E11-AVERAGE(E$2:E$3)))/C11)-VLOOKUP(B11,Min_N_Corrected!A11:X100,23,FALSE)","v":8.107831970672827},null,{"$f":"(((VLOOKUP($B11,BD!$Q$2:$T$79,4,FALSE))*1000)*(VLOOKUP($B11,Mass!$A$3:$S$78,2,FALSE))*10000)*(F11/1000000)","v":13.916982256643486},23,0.17527308838133068,{"$f":"(((VLOOKUP($B11,BD!$Q$2:$T$79,4,FALSE))*1000)*(VLOOKUP($B11,Mass!$A$3:$S$78,2,FALSE))*10000)*(J11/1000)","v":300.8538496965992}]
[11,"Si-0-T",10.08,0.1,2400,{"$f":"((D12*(E12-AVERAGE(E$2:E$3)))/C12)-VLOOKUP(B12,Min_N_Corrected!A12:X101,23,FALSE)","v":15.889210153273654},null,{"$f":"(((VLOOKUP($B12,BD!$Q$2:$T$79,4,FALSE))*1000)*(VLOOKUP($B12,Mass!$A$3:$S$78,2,FALSE))*10000)*(F12/1000000)","v":33.74416489172113},31,0.2544642857142857,{"$f":"(((VLOOKUP($B12,BD!$Q$2:$T$79,4,FALSE))*1000)*(VLOOKUP($B12,Mass!$A$3:$S$78,2,FALSE))*10000)*(J12/1000)","v":540.4097959159902}]
[12,"Si-0-S",10.03,0.1,1400,{"$f":"((D13*(E13-AVERAGE(E$2:E$3)))/C13)-VLOOKUP(B13,Min_N_Corrected!A13:X102,23,FALSE)","v":8.925331452443075},null,{"$f":"(((VLOOKUP($B13,BD!$Q$2:$T$79,4,FALSE))*1000)*(VLOOKUP($B13,Mass!$A$3:$S$78,2,FALSE))*10000)*(F13/1000000)","v":15.045497104560683},24,0.18594217347956132,{"$f":"(((VLOOKUP($B13,BD!$Q$2:$T$79,4,FALSE))*1000)*(VLOOKUP($B13,Mass!$A$3:$S$78,2,FALSE))*10000)*(J13/1000)","v":313.4440942175534}]
[13,"Si-1-T",10.07,0.1,2300,{"$f":"((D14*(E14-AVERAGE(E$2:E$3)))/C14)-VLOOKUP(B14,Min_N_Corrected!A14:X103,23,FALSE)","v":12.35911810803239},null,{"$f":"(((VLOOKUP($B14,BD!$Q$2:$T$79,4,FALSE))*1000)*(VLOOKUP($B14,Mass!$A$3:$S$78,2,FALSE))*10000)*(F14/1000000)","v":26.070971970252575},25,0.19513406156901686,{"$f":"(((VLOOKUP($B14,BD!$Q$2:$T$79,4,FALSE))*1000)*(VLOOKUP($B14,Mass!$A$3:$S$78,2,FALSE))*10000)*(J14/1000)","v":411.62602421454636}]
[14,"Si-1-S",10.07,0.1,1200,{"$f":"((D15*(E15-AVERAGE(E$2:E$3)))/C15)-VLOOKUP(B15,Min_N_Corrected!A15:X104,23,FALSE)","v":6.908572272233421},null,{"$f":"(((VLOOKUP($B15,BD!$Q$2:$T$79,4,FALSE))*1000)*(VLOOKUP($B15,Mass!$A$3:$S$78,2,FALSE))*10000)*(F15/1000000)","v":11.846172504858725},16,0.10575968222442901,{"$f":"(((VLOOKUP($B15,BD!$Q$2:$T$79,4,FALSE))*1000)*(VLOOKUP($B15,Mass!$A$3:$S$78,2,FALSE))*10000)*(J15/1000)","v":181.3467950136394}]
[15,"Mi-0-T",10.03,0.1,3100,{"$f":"((D16*(E16-AVERAGE(E$2:E$3)))/C16)-VLOOKUP(B16,Min_N_Corrected!A16:X105,23,FALSE)","v":24.348777215144754},null,{"$f":"(((VLOOKUP($B16,BD!$Q$2:$T$79,4,FALSE))*1000)*(VLOOKUP($B16,Mass!$A$3:$S$78,2,FALSE))*10000)*(F16/1000000)","v":46.79225809279738},40,0.34546360917248253,{"$f":"(((VLOOKUP($B16,BD!$Q$2:$T$79,4,FALSE))*1000)*(VLOOKUP($B16,Mass!$A$3:$S$78,2,FALSE))*10000)*(J16/1000)","v":663.8946267910969}]
[16,"Mi-0-S",10.01,0.1,1400,{"$f":"((D17*(E17-AVERAGE(E$2:E$3)))/C17)-VLOOKUP(B17,Min_N_Corrected!A17:X106,23,FALSE)","v":8.616415208859875},null,{"$f":"(((VLOOKUP($B17,BD!$Q$2:$T$79,4,FALSE))*1000)*(VLOOKUP($B17,Mass!$A$3:$S$78,2,FALSE))*10000)*(F17/1000000)","v":14.53891444394597},26,0.2062937062937063,{"$f":"(((VLOOKUP($B17,BD!$Q$2:$T$79,4,FALSE))*1000)*(VLOOKUP($B17,Mass!$A$3:$S$78,2,FALSE))*10000)*(J17/1000)","v":348.0898347429545}]
[17,"Mi-1-T",10.03,0.1,3000,{"$f":"((D18*(E18-AVERAGE(E$2:E$3)))/C18)-VLOOKUP(B18,Min_N_Corrected!A18:X107,23,FALSE)","v":23.502934016244787},null,{"$f":"(((VLOOKUP($B18,BD!$Q$2:$T$79,4,FALSE))*1000)*(VLOOKUP($B18,Mass!$A$3:$S$78,2,FALSE))*10000)*(F18/1000000)","v":45.94457471865578},39,0.335493519441675,{"$f":"(((VLOOKUP($B18,BD!$Q$2:$T$79,4,FALSE))*1000)*(VLOOKUP($B18,Mass!$A$3:$S$78,2,FALSE))*10000)*(J18/1000)","v":655.8375673845185}]
[18,"Mi-1-S",10.08,0.1,1900,{"$f":"((D19*(E19-AVERAGE(E$2:E$3)))/C19)-VLOOKUP(B19,Min_N_Corrected!A19:X108,23,FALSE)","v":11.869110711101166},null,{"$f":"(((VLOOKUP($B19,BD!$Q$2:$T$79,4,FALSE))*1000)*(VLOOKUP($B19,Mass!$A$3:$S$78,2,FALSE))*10000)*(F19/1000000)","v":20.146268951788116},31,0.2544642857142857,{"$f":"(((VLOOKUP($B19,BD!$Q$2:$T$79,4,FALSE))*1000)*(VLOOKUP($B19,Mass!$A$3:$S$78,2,FALSE))*10000)*(J19/1000)","v":431.9199696932508}]
[19,"Li-0-T",10,0.1,2400,{"$f":"((D20*(E20-AVERAGE(E$2:E$3)))/C20)-VLOOKUP(B20,Min_N_Corrected!A20:X109,23,FALSE)","v":17.320284561232818},null,{"$f":"(((VLOOKUP($B20,BD!$Q$2:$T$79,4,FALSE))*1000)*(VLOOKUP($B20,Mass!$A$3:$S$78,2,FALSE))*10000)*(F20/1000000)","v":35.50799461907078},36,0.3065,{"$f":"(((VLOOKUP($B20,BD!$Q$2:$T$79,4,FALSE))*1000)*(VLOOKUP($B20,Mass!$A$3:$S$78,2,FALSE))*10000)*(J20/1000)","v":628.3499738280601}]
[20,"Li-0-S",10.02,0.1,1100,{"$f":"((D21*(E21-AVERAGE(E$2:E$3)))/C21)-VLOOKUP(B21,Min_N_Corrected!A21:X110,23,FALSE)","v":6.42448339150037},null,{"$f":"(((VLOOKUP($B21,BD!$Q$2:$T$79,4,FALSE))*1000)*(VLOOKUP($B21,Mass!$A$3:$S$78,2,FALSE))*10000)*(F21/1000000)","v":11.256160210351723},21,0.15618762475049902,{"$f":"(((VLOOKUP($B21,BD!$Q$2:$T$79,4,FALSE))*1000)*(VLOOKUP($B21,Mass!$A$3:$S$78,2,FALSE))*10000)*(J21/1000)","v":273.6520308219419}]
[21,"Li-1-T",10.01,0.1,2300,{"$f":"((D22*(E22-AVERAGE(E$2:E$3)))/C22)-VLOOKUP(B22,Min_N_Corrected!A22:X111,23,FALSE)","v":16.206918524829057},null,{"$f":"(((VLOOKUP($B22,BD!$Q$2:$T$79,4,FALSE))*1000)*(VLOOKUP($B22,Mass!$A$3:$S$78,2,FALSE))*10000)*(F22/1000000)","v":31.458964641696788},36,0.3061938061938062,{"$f":"(((VLOOKUP($B22,BD!$Q$2:$T$79,4,FALSE))*1000)*(VLOOKUP($B22,Mass!$A$3:$S$78,2,FALSE))*10000)*(J22/1000)","v":594.3474145193254}]
[22,"Li-1-S",10.07,0.1,1400,{"$f":"((D23*(E23-AVERAGE(E$2:E$3)))/C23)-VLOOKUP(B23,Min_N_Corrected!A23:X112,23,FALSE)","v":9.311167923578612},null,{"$f":"(((VLOOKUP($B23,BD!$Q$2:$T$79,4,FALSE))*1000)*(VLOOKUP($B23,Mass!$A$3:$S$78,2,FALSE))*10000)*(F23/1000000)","v":15.605518731937732},16,0.10575968222442901,{"$f":"(((VLOOKUP($B23,BD!$Q$2:$T$79,4,FALSE))*1000)*(VLOOKUP($B23,Mass!$A$3:$S$78,2,FALSE))*10000)*(J23/1000)","v":177.25324208338284}]
[23,"Ai-0-T",10.07,0.1,1300,{"$f":"((D24*(E24-AVERAGE(E$2:E$3)))/C24)-VLOOKUP(B24,Min_N_Corrected!A24:X113,23,FALSE)","v":5.959349717949023},null,{"$f":"(((VLOOKUP($B24,BD!$Q$2:$T$79,4,FALSE))*1000)*(VLOOKUP($B24,Mass!$A$3:$S$78,2,FALSE))*10000)*(F24/1000000)","v":14.306104902543943},15,0.09582919563058591,{"$f":"(((VLOOKUP($B24,BD!$Q$2:$T$79,4,FALSE))*1000)*(VLOOKUP($B24,Mass!$A$3:$S$78,2,FALSE))*10000)*(J24/1000)","v":230.04901378558344}]
[24,"Ai-0-S",10.04,0.1,950,{"$f":"((D25*(E25-AVERAGE(E$2:E$3)))/C25)-VLOOKUP(B25,Min_N_Corrected!A25:X114,23,FALSE)","v":2.8864544729377024},null,{"$f":"(((VLOOKUP($B25,BD!$Q$2:$T$79,4,FALSE))*1000)*(VLOOKUP($B25,Mass!$A$3:$S$78,2,FALSE))*10000)*(F25/1000000)","v":5.512074352708901},13,0.07619521912350599,{"$f":"(((VLOOKUP($B25,BD!$Q$2:$T$79,4,FALSE))*1000)*(VLOOKUP($B25,Mass!$A$3:$S$78,2,FALSE))*10000)*(J25/1000)","v":145.50505371465692}]
[25,"Ai-1-T",10.05,0.1,1500,{"$f":"((D26*(E26-AVERAGE(E$2:E$3)))/C26)-VLOOKUP(B26,Min_N_Corrected!A26:X115,23,FALSE)","v":11.211340306527717},null,{"$f":"(((VLOOKUP($B26,BD!$Q$2:$T$79,4,FALSE))*1000)*(VLOOKUP($B26,Mass!$A$3:$S$78,2,FALSE))*10000)*(F26/1000000)","v":25.629721582603572},20,0.14577114427860696,{"$f":"(((VLOOKUP($B26,BD!$Q$2:$T$79,4,FALSE))*1000)*(VLOOKUP($B26,Mass!$A$3:$S$78,2,FALSE))*10000)*(J26/1000)","v":333.24060642980675}]
[26,"Ai-1-S",10.03,0.1,1500,{"$f":"((D27*(E27-AVERAGE(E$2:E$3)))/C27)-VLOOKUP(B27,Min_N_Corrected!A27:X116,23,FALSE)","v":10.14356462644686},null,{"$f":"(((VLOOKUP($B27,BD!$Q$2:$T$79,4,FALSE))*1000)*(VLOOKUP($B27,Mass!$A$3:$S$78,2,FALSE))*10000)*(F27/1000000)","v":17.914678669053252},20,0.14606181455633102,{"$f":"(((VLOOKUP($B27,BD!$Q$2:$T$79,4,FALSE))*1000)*(VLOOKUP($B27,Mass!$A$3:$S$78,2,FALSE))*10000)*(J27/1000)","v":257.96163084259746}]
[27,"Pi-0-T",10.07,0.1,1800,{"$f":"((D28*(E28-AVERAGE(E$2:E$3)))/C28)-VLOOKUP(B28,Min_N_Corrected!A28:X117,23,FALSE)","v":9.72589788621616},null,{"$f":"(((VLOOKUP($B28,BD!$Q$2:$T$79,4,FALSE))*1000)*(VLOOKUP($B28,Mass!$A$3:$S$78,2,FALSE))*10000)*(F28/1000000)","v":19.493531178584814},22,0.16534260178748758,{"$f":"(((VLOOKUP($B28,BD!$Q$2:$T$79,4,FALSE))*1000)*(VLOOKUP($B28,Mass!$A$3:$S$78,2,FALSE))*10000)*(J28/1000)","v":331.39471551111126}]
[28,"Pi-0-S",10.04,0.1,1200,{"$f":"((D29*(E29-AVERAGE(E$2:E$3)))/C29)-VLOOKUP(B29,Min_N_Corrected!A29:X118,23,FALSE)","v":7.431930420960073},null,{"$f":"(((VLOOKUP($B29,BD!$Q$2:$T$79,4,FALSE))*1000)*(VLOOKUP($B29,Mass!$A$3:$S$78,2,FALSE))*10000)*(F29/1000000)","v":12.111048049285111},23,0.175796812749004,{"$f":"(((VLOOKUP($B29,BD!$Q$2:$T$79,4,FALSE))*1000)*(VLOOKUP($B29,Mass!$A$3:$S$78,2,FALSE))*10000)*(J29/1000)","v":286.47787661060005}]
[29,"Pi-1-T",10.08,0.1,1900,{"$f":"((D30*(E30-AVERAGE(E$2:E$3)))/C30)-VLOOKUP(B30,Min_N_Corrected!A30:X119,23,FALSE)","v":13.233635912067406},null,{"$f":"(((VLOOKUP($B30,BD!$Q$2:$T$79,4,FALSE))*1000)*(VLOOKUP($B30,Mass!$A$3:$S$78,2,FALSE))*10000)*(F30/1000000)","v":26.232714598392725},31,0.2544642857142857,{"$f":"(((VLOOKUP($B30,BD!$Q$2:$T$79,4,FALSE))*1000)*(VLOOKUP($B30,Mass!$A$3:$S$78,2,FALSE))*10000)*(J30/1000)","v":504.41836446019335}]
[30,"Pi-1-S",10.02,0.1,1100,{"$f":"((D31*(E31-AVERAGE(E$2:E$3)))/C31)-VLOOKUP(B31,Min_N_Corrected!A31:X120,23,FALSE)","v":5.638710155408846},null,{"$f":"(((VLOOKUP($B31,BD!$Q$2:$T$79,4,FALSE))*1000)*(VLOOKUP($B31,Mass!$A$3:$S$78,2,FALSE))*10000)*(F31/1000000)","v":9.111067371232297},27,0.2160678642714571,{"$f":"(((VLOOKUP($B31,BD!$Q$2:$T$79,4,FALSE))*1000)*(VLOOKUP($B31,Mass!$A$3:$S$78,2,FALSE))*10000)*(J31/1000)","v":349.1239687585579}]
[31,"Ja-0-T",10.04,0.1,1700,{"$f":"((D32*(E32-AVERAGE(E$2:E$3)))/C32)-VLOOKUP(B32,Min_N_Corrected!A32:X121,23,FALSE)","v":6.857355486892395},null,{"$f":"(((VLOOKUP($B32,BD!$Q$2:$T$79,4,FALSE))*1000)*(VLOOKUP($B32,Mass!$A$3:$S$78,2,FALSE))*10000)*(F32/1000000)","v":14.122562631759104},24,0.1857569721115538,{"$f":"(((VLOOKUP($B32,BD!$Q$2:$T$79,4,FALSE))*1000)*(VLOOKUP($B32,Mass!$A$3:$S$78,2,FALSE))*10000)*(J32/1000)","v":382.5621229562651}]
[32,"Ja-1-T",10.06,0.1,1600,{"$f":"((D33*(E33-AVERAGE(E$2:E$3)))/C33)-VLOOKUP(B33,Min_N_Corrected!A33:X122,23,FALSE)","v":7.255945654425753},null,{"$f":"(((VLOOKUP($B33,BD!$Q$2:$T$79,4,FALSE))*1000)*(VLOOKUP($B33,Mass!$A$3:$S$78,2,FALSE))*10000)*(F33/1000000)","v":15.25546586122141},26,0.20526838966202782,{"$f":"(((VLOOKUP($B33,BD!$Q$2:$T$79,4,FALSE))*1000)*(VLOOKUP($B33,Mass!$A$3:$S$78,2,FALSE))*10000)*(J33/1000)","v":431.5722663891407}]
[33,"Mu-0-T",10.09,0.1,2700,{"$f":"((D34*(E34-AVERAGE(E$2:E$3)))/C34)-VLOOKUP(B34,Min_N_Corrected!A34:X123,23,FALSE)","v":19.00334998865192},null,{"$f":"(((VLOOKUP($B34,BD!$Q$2:$T$79,4,FALSE))*1000)*(VLOOKUP($B34,Mass!$A$3:$S$78,2,FALSE))*10000)*(F34/1000000)","v":35.55988787559977},45,0.3929633300297324,{"$f":"(((VLOOKUP($B34,BD!$Q$2:$T$79,4,FALSE))*1000)*(VLOOKUP($B34,Mass!$A$3:$S$78,2,FALSE))*10000)*(J34/1000)","v":735.3299267457674}]
[34,"Mu-0-S",10.07,0.1,1600,{"$f":"((D35*(E35-AVERAGE(E$2:E$3)))/C35)-VLOOKUP(B35,Min_N_Corrected!A35:X124,23,FALSE)","v":10.165588951070886},null,{"$f":"(((VLOOKUP($B35,BD!$Q$2:$T$79,4,FALSE))*1000)*(VLOOKUP($B35,Mass!$A$3:$S$78,2,FALSE))*10000)*(F35/1000000)","v":15.658167050099383},30,0.24478649453823234,{"$f":"(((VLOOKUP($B35,BD!$Q$2:$T$79,4,FALSE))*1000)*(VLOOKUP($B35,Mass!$A$3:$S$78,2,FALSE))*10000)*(J35/1000)","v":377.0472956890617}]
[35,"Mu-1-T",10.08,0.1,2600,{"$f":"((D36*(E36-AVERAGE(E$2:E$3)))/C36)-VLOOKUP(B36,Min_N_Corrected!A36:X125,23,FALSE)","v":18.160156407516446},null,{"$f":"(((VLOOKUP($B36,BD!$Q$2:$T$79,4,FALSE))*1000)*(VLOOKUP($B36,Mass!$A$3:$S$78,2,FALSE))*10000)*(F36/1000000)","v":33.75306795530235},39,0.3338293650793651,{"$f":"(((VLOOKUP($B36,BD!$Q$2:$T$79,4,FALSE))*1000)*(VLOOKUP($B36,Mass!$A$3:$S$78,2,FALSE))*10000)*(J36/1000)","v":620.4663105398996}]
[36,"Mu-1-S",10.05,0.1,1500,{"$f":"((D37*(E37-AVERAGE(E$2:E$3)))/C37)-VLOOKUP(B37,Min_N_Corrected!A37:X126,23,FALSE)","v":8.712970118271027},null,{"$f":"(((VLOOKUP($B37,BD!$Q$2:$T$79,4,FALSE))*1000)*(VLOOKUP($B37,Mass!$A$3:$S$78,2,FALSE))*10000)*(F37/1000000)","v":13.335599322443574},25,0.19552238805970146,{"$f":"(((VLOOKUP($B37,BD!$Q$2:$T$79,4,FALSE))*1000)*(VLOOKUP($B37,Mass!$A$3:$S$78,2,FALSE))*10000)*(J37/1000)","v":299.25595868437455}]
[37,"Kp-0-T",10.05,0.1,1900,{"$f":"((D38*(E38-AVERAGE(E$2:E$3)))/C38)-VLOOKUP(B38,Min_N_Corrected!A38:X127,23,FALSE)","v":13.654394042848509},null,{"$f":"(((VLOOKUP($B38,BD!$Q$2:$T$79,4,FALSE))*1000)*(VLOOKUP($B38,Mass!$A$3:$S$78,2,FALSE))*10000)*(F38/1000000)","v":28.407855113006715},30,0.24527363184079598,{"$f":"(((VLOOKUP($B38,BD!$Q$2:$T$79,4,FALSE))*1000)*(VLOOKUP($B38,Mass!$A$3:$S$78,2,FALSE))*10000)*(J38/1000)","v":510.2897847029409}]
[38,"Kp-0-S",10.03,0.1,1200,{"$f":"((D39*(E39-AVERAGE(E$2:E$3)))/C39)-VLOOKUP(B39,Min_N_Corrected!A39:X128,23,FALSE)","v":6.947413868665109},null,{"$f":"(((VLOOKUP($B39,BD!$Q$2:$T$79,4,FALSE))*1000)*(VLOOKUP($B39,Mass!$A$3:$S$78,2,FALSE))*10000)*(F39/1000000)","v":11.863906081099103},27,0.21585244267198406,{"$f":"(((VLOOKUP($B39,BD!$Q$2:$T$79,4,FALSE))*1000)*(VLOOKUP($B39,Mass!$A$3:$S$78,2,FALSE))*10000)*(J39/1000)","v":368.605232917885}]
[39,"Kp-1-T",10.08,0.1,2000,{"$f":"((D40*(E40-AVERAGE(E$2:E$3)))/C40)-VLOOKUP(B40,Min_N_Corrected!A40:X129,23,FALSE)","v":14.22420589101419},null,{"$f":"(((VLOOKUP($B40,BD!$Q$2:$T$79,4,FALSE))*1000)*(VLOOKUP($B40,Mass!$A$3:$S$78,2,FALSE))*10000)*(F40/1000000)","v":29.073132963780548},28,0.22470238095238096,{"$f":"(((VLOOKUP($B40,BD!$Q$2:$T$79,4,FALSE))*1000)*(VLOOKUP($B40,Mass!$A$3:$S$78,2,FALSE))*10000)*(J40/1000)","v":459.2735966254247}]
[40,"Kp-1-S",10.03,0.1,1400,{"$f":"((D41*(E41-AVERAGE(E$2:E$3)))/C41)-VLOOKUP(B41,Min_N_Corrected!A41:X130,23,FALSE)","v":8.801387154910616},null,{"$f":"(((VLOOKUP($B41,BD!$Q$2:$T$79,4,FALSE))*1000)*(VLOOKUP($B41,Mass!$A$3:$S$78,2,FALSE))*10000)*(F41/1000000)","v":14.751126092912864},27,0.21585244267198406,{"$f":"(((VLOOKUP($B41,BD!$Q$2:$T$79,4,FALSE))*1000)*(VLOOKUP($B41,Mass!$A$3:$S$78,2,FALSE))*10000)*(J41/1000)","v":361.76872386998394}]
[41,"Ki-0-T",10.06,0.1,2700,{"$f":"((D42*(E42-AVERAGE(E$2:E$3)))/C42)-VLOOKUP(B42,Min_N_Corrected!A42:X131,23,FALSE)","v":4.892283270143761},null,{"$f":"(((VLOOKUP($B42,BD!$Q$2:$T$79,4,FALSE))*1000)*(VLOOKUP($B42,Mass!$A$3:$S$78,2,FALSE))*10000)*(F42/1000000)","v":11.285838831419612},14,0.08598409542743539,{"$f":"(((VLOOKUP($B42,BD!$Q$2:$T$79,4,FALSE))*1000)*(VLOOKUP($B42,Mass!$A$3:$S$78,2,FALSE))*10000)*(J42/1000)","v":198.35373167811773}]
[42,"Ki-0-S",10.07,0.1,980,{"$f":"((D43*(E43-AVERAGE(E$2:E$3)))/C43)-VLOOKUP(B43,Min_N_Corrected!A43:X132,23,FALSE)","v":2.456467998163161},null,{"$f":"(((VLOOKUP($B43,BD!$Q$2:$T$79,4,FALSE))*1000)*(VLOOKUP($B43,Mass!$A$3:$S$78,2,FALSE))*10000)*(F43/1000000)","v":4.705985308997512},12,0.0660377358490566,{"$f":"(((VLOOKUP($B43,BD!$Q$2:$T$79,4,FALSE))*1000)*(VLOOKUP($B43,Mass!$A$3:$S$78,2,FALSE))*10000)*(J43/1000)","v":126.51197368640702}]
[43,"Ki-1-T",10.04,0.1,2000,{"$f":"((D44*(E44-AVERAGE(E$2:E$3)))/C44)-VLOOKUP(B44,Min_N_Corrected!A44:X133,23,FALSE)","v":6.398654548874404},null,{"$f":"(((VLOOKUP($B44,BD!$Q$2:$T$79,4,FALSE))*1000)*(VLOOKUP($B44,Mass!$A$3:$S$78,2,FALSE))*10000)*(F44/1000000)","v":14.105108184060155},15,0.09611553784860559,{"$f":"(((VLOOKUP($B44,BD!$Q$2:$T$79,4,FALSE))*1000)*(VLOOKUP($B44,Mass!$A$3:$S$78,2,FALSE))*10000)*(J44/1000)","v":211.87580125921892}]
[44,"Ki-1-S",10.04,0.1,1100,{"$f":"((D45*(E45-AVERAGE(E$2:E$3)))/C45)-VLOOKUP(B45,Min_N_Corrected!A45:X134,23,FALSE)","v":5.803188569750089},null,{"$f":"(((VLOOKUP($B45,BD!$Q$2:$T$79,4,FALSE))*1000)*(VLOOKUP($B45,Mass!$A$3:$S$78,2,FALSE))*10000)*(F45/1000000)","v":10.514266230101624},16,0.10607569721115541,{"$f":"(((VLOOKUP($B45,BD!$Q$2:$T$79,4,FALSE))*1000)*(VLOOKUP($B45,Mass!$A$3:$S$78,2,FALSE))*10000)*(J45/1000)","v":192.18884715127678}]
[45,"Na-0-T",10.04,0.1,2800,{"$f":"((D46*(E46-AVERAGE(E$2:E$3)))/C46)-VLOOKUP(B46,Min_N_Corrected!A46:X135,23,FALSE)","v":20.562829859102372},null,{"$f":"(((VLOOKUP($B46,BD!$Q$2:$T$79,4,FALSE))*1000)*(VLOOKUP($B46,Mass!$A$3:$S$78,2,FALSE))*10000)*(F46/1000000)","v":39.838369835518336},39,0.33515936254980083,{"$f":"(((VLOOKUP($B46,BD!$Q$2:$T$79,4,FALSE))*1000)*(VLOOKUP($B46,Mass!$A$3:$S$78,2,FALSE))*10000)*(J46/1000)","v":649.3368242885614}]
[46,"Na-0-S",10.03,0.1,2200,{"$f":"((D47*(E47-AVERAGE(E$2:E$3)))/C47)-VLOOKUP(B47,Min_N_Corrected!A47:X136,23,FALSE)","v":16.621732696731897},null,{"$f":"(((VLOOKUP($B47,BD!$Q$2:$T$79,4,FALSE))*1000)*(VLOOKUP($B47,Mass!$A$3:$S$78,2,FALSE))*10000)*(F47/1000000)","v":26.097590709207292},38,0.32552342971086745,{"$f":"(((VLOOKUP($B47,BD!$Q$2:$T$79,4,FALSE))*1000)*(VLOOKUP($B47,Mass!$A$3:$S$78,2,FALSE))*10000)*(J47/1000)","v":511.1005807789195}]
[47,"Na-1-T",10.01,0.1,2600,{"$f":"((D48*(E48-AVERAGE(E$2:E$3)))/C48)-VLOOKUP(B48,Min_N_Corrected!A48:X137,23,FALSE)","v":17.607172538155076},null,{"$f":"(((VLOOKUP($B48,BD!$Q$2:$T$79,4,FALSE))*1000)*(VLOOKUP($B48,Mass!$A$3:$S$78,2,FALSE))*10000)*(F48/1000000)","v":33.77426789664057},38,0.3261738261738262,{"$f":"(((VLOOKUP($B48,BD!$Q$2:$T$79,4,FALSE))*1000)*(VLOOKUP($B48,Mass!$A$3:$S$78,2,FALSE))*10000)*(J48/1000)","v":625.6701444933642}]
[48,"Na-1-S",10.03,0.1,1700,{"$f":"((D49*(E49-AVERAGE(E$2:E$3)))/C49)-VLOOKUP(B49,Min_N_Corrected!A49:X138,23,FALSE)","v":11.228305637094039},null,{"$f":"(((VLOOKUP($B49,BD!$Q$2:$T$79,4,FALSE))*1000)*(VLOOKUP($B49,Mass!$A$3:$S$78,2,FALSE))*10000)*(F49/1000000)","v":16.62468024281462},38,0.32552342971086745,{"$f":"(((VLOOKUP($B49,BD!$Q$2:$T$79,4,FALSE))*1000)*(VLOOKUP($B49,Mass!$A$3:$S$78,2,FALSE))*10000)*(J49/1000)","v":481.9714661675439}]
[49,"Ik-0-T",10.03,0.1,3200,{"$f":"((D50*(E50-AVERAGE(E$2:E$3)))/C50)-VLOOKUP(B50,Min_N_Corrected!A50:X139,23,FALSE)","v":17.843800991940757},null,{"$f":"(((VLOOKUP($B50,BD!$Q$2:$T$79,4,FALSE))*1000)*(VLOOKUP($B50,Mass!$A$3:$S$78,2,FALSE))*10000)*(F50/1000000)","v":29.085587772878114},32,0.26570289132602193,{"$f":"(((VLOOKUP($B50,BD!$Q$2:$T$79,4,FALSE))*1000)*(VLOOKUP($B50,Mass!$A$3:$S$78,2,FALSE))*10000)*(J50/1000)","v":433.09857415810416}]
[50,"Ik-0-S",10.08,0.1,2100,{"$f":"((D51*(E51-AVERAGE(E$2:E$3)))/C51)-VLOOKUP(B51,Min_N_Corrected!A51:X140,23,FALSE)","v":11.00422278891147},null,{"$f":"(((VLOOKUP($B51,BD!$Q$2:$T$79,4,FALSE))*1000)*(VLOOKUP($B51,Mass!$A$3:$S$78,2,FALSE))*10000)*(F51/1000000)","v":14.436044359623798},34,0.2842261904761905,{"$f":"(((VLOOKUP($B51,BD!$Q$2:$T$79,4,FALSE))*1000)*(VLOOKUP($B51,Mass!$A$3:$S$78,2,FALSE))*10000)*(J51/1000)","v":372.8661235408381}]
[51,"Ik-1-T",10.03,0.1,2400,{"$f":"((D52*(E52-AVERAGE(E$2:E$3)))/C52)-VLOOKUP(B52,Min_N_Corrected!A52:X141,23,FALSE)","v":17.229030291260884},null,{"$f":"(((VLOOKUP($B52,BD!$Q$2:$T$79,4,FALSE))*1000)*(VLOOKUP($B52,Mass!$A$3:$S$78,2,FALSE))*10000)*(F52/1000000)","v":30.53914376902909},28,0.22582253240279165,{"$f":"(((VLOOKUP($B52,BD!$Q$2:$T$79,4,FALSE))*1000)*(VLOOKUP($B52,Mass!$A$3:$S$78,2,FALSE))*10000)*(J52/1000)","v":400.2794508309137}]
[52,"Ik-1-S",10.06,0.1,2200,{"$f":"((D53*(E53-AVERAGE(E$2:E$3)))/C53)-VLOOKUP(B53,Min_N_Corrected!A53:X142,23,FALSE)","v":16.01663993162065},null,{"$f":"(((VLOOKUP($B53,BD!$Q$2:$T$79,4,FALSE))*1000)*(VLOOKUP($B53,Mass!$A$3:$S$78,2,FALSE))*10000)*(F53/1000000)","v":22.65136465614557},29,0.23508946322067592,{"$f":"(((VLOOKUP($B53,BD!$Q$2:$T$79,4,FALSE))*1000)*(VLOOKUP($B53,Mass!$A$3:$S$78,2,FALSE))*10000)*(J53/1000)","v":332.4728020960281}]
[53,"Ne-0-T",10.01,0.1,3100,{"$f":"((D54*(E54-AVERAGE(E$2:E$3)))/C54)-VLOOKUP(B54,Min_N_Corrected!A54:X143,23,FALSE)","v":26.522315516182704},null,{"$f":"(((VLOOKUP($B54,BD!$Q$2:$T$79,4,FALSE))*1000)*(VLOOKUP($B54,Mass!$A$3:$S$78,2,FALSE))*10000)*(F54/1000000)","v":49.26777902808065},39,0.3361638361638362,{"$f":"(((VLOOKUP($B54,BD!$Q$2:$T$79,4,FALSE))*1000)*(VLOOKUP($B54,Mass!$A$3:$S$78,2,FALSE))*10000)*(J54/1000)","v":624.4570006433408}]
[54,"Ne-0-S",10.07,0.1,2800,{"$f":"((D55*(E55-AVERAGE(E$2:E$3)))/C55)-VLOOKUP(B55,Min_N_Corrected!A55:X144,23,FALSE)","v":23.728082463793243},null,{"$f":"(((VLOOKUP($B55,BD!$Q$2:$T$79,4,FALSE))*1000)*(VLOOKUP($B55,Mass!$A$3:$S$78,2,FALSE))*10000)*(F55/1000000)","v":35.63340482187304},38,0.3242303872889772,{"$f":"(((VLOOKUP($B55,BD!$Q$2:$T$79,4,FALSE))*1000)*(VLOOKUP($B55,Mass!$A$3:$S$78,2,FALSE))*10000)*(J55/1000)","v":486.909663410443}]
[55,"Ne-1-T",10.03,0.1,3700,{"$f":"((D56*(E56-AVERAGE(E$2:E$3)))/C56)-VLOOKUP(B56,Min_N_Corrected!A56:X145,23,FALSE)","v":32.22277796303477},null,{"$f":"(((VLOOKUP($B56,BD!$Q$2:$T$79,4,FALSE))*1000)*(VLOOKUP($B56,Mass!$A$3:$S$78,2,FALSE))*10000)*(F56/1000000)","v":59.140385203157926},42,0.3654037886340977,{"$f":"(((VLOOKUP($B56,BD!$Q$2:$T$79,4,FALSE))*1000)*(VLOOKUP($B56,Mass!$A$3:$S$78,2,FALSE))*10000)*(J56/1000)","v":670.6473550885177}]
[56,"Ne-1-S",10.07,0.1,2800,{"$f":"((D57*(E57-AVERAGE(E$2:E$3)))/C57)-VLOOKUP(B57,Min_N_Corrected!A57:X146,23,FALSE)","v":24.00324154644499},null,{"$f":"(((VLOOKUP($B57,BD!$Q$2:$T$79,4,FALSE))*1000)*(VLOOKUP($B57,Mass!$A$3:$S$78,2,FALSE))*10000)*(F57/1000000)","v":35.47235638226878},36,0.3043694141012909,{"$f":"(((VLOOKUP($B57,BD!$Q$2:$T$79,4,FALSE))*1000)*(VLOOKUP($B57,Mass!$A$3:$S$78,2,FALSE))*10000)*(J57/1000)","v":449.80176148176895}]
[57,"Ae-0-T",10.01,0.1,2900,{"$f":"((D58*(E58-AVERAGE(E$2:E$3)))/C58)-VLOOKUP(B58,Min_N_Corrected!A58:X147,23,FALSE)","v":23.973906936100295},null,{"$f":"(((VLOOKUP($B58,BD!$Q$2:$T$79,4,FALSE))*1000)*(VLOOKUP($B58,Mass!$A$3:$S$78,2,FALSE))*10000)*(F58/1000000)","v":39.500716082363375},37,0.3161838161838162,{"$f":"(((VLOOKUP($B58,BD!$Q$2:$T$79,4,FALSE))*1000)*(VLOOKUP($B58,Mass!$A$3:$S$78,2,FALSE))*10000)*(J58/1000)","v":520.9616933195074}]
[58,"Ae-0-S",10.06,0.1,2100,{"$f":"((D59*(E59-AVERAGE(E$2:E$3)))/C59)-VLOOKUP(B59,Min_N_Corrected!A59:X148,23,FALSE)","v":15.6995762792196},null,{"$f":"(((VLOOKUP($B59,BD!$Q$2:$T$79,4,FALSE))*1000)*(VLOOKUP($B59,Mass!$A$3:$S$78,2,FALSE))*10000)*(F59/1000000)","v":21.249245169253},38,0.3245526838966203,{"$f":"(((VLOOKUP($B59,BD!$Q$2:$T$79,4,FALSE))*1000)*(VLOOKUP($B59,Mass!$A$3:$S$78,2,FALSE))*10000)*(J59/1000)","v":439.2793428181087}]
[59,"Ae-1-T",10.06,0.1,2400,{"$f":"((D60*(E60-AVERAGE(E$2:E$3)))/C60)-VLOOKUP(B60,Min_N_Corrected!A60:X149,23,FALSE)","v":18.88444146519849},null,{"$f":"(((VLOOKUP($B60,BD!$Q$2:$T$79,4,FALSE))*1000)*(VLOOKUP($B60,Mass!$A$3:$S$78,2,FALSE))*10000)*(F60/1000000)","v":32.78162379155556},29,0.23508946322067592,{"$f":"(((VLOOKUP($B60,BD!$Q$2:$T$79,4,FALSE))*1000)*(VLOOKUP($B60,Mass!$A$3:$S$78,2,FALSE))*10000)*(J60/1000)","v":408.0933161227564}]
[60,"Ae-1-S",10.04,0.1,1900,{"$f":"((D61*(E61-AVERAGE(E$2:E$3)))/C61)-VLOOKUP(B61,Min_N_Corrected!A61:X150,23,FALSE)","v":13.52631900019657},null,{"$f":"(((VLOOKUP($B61,BD!$Q$2:$T$79,4,FALSE))*1000)*(VLOOKUP($B61,Mass!$A$3:$S$78,2,FALSE))*10000)*(F61/1000000)","v":19.203654054794452},34,0.2853585657370518,{"$f":"(((VLOOKUP($B61,BD!$Q$2:$T$79,4,FALSE))*1000)*(VLOOKUP($B61,Mass!$A$3:$S$78,2,FALSE))*10000)*(J61/1000)","v":405.13070687649963}]
[61,"Jn-0-T",10.07,0.1,2100,{"$f":"((D62*(E62-AVERAGE(E$2:E$3)))/C62)-VLOOKUP(B62,Min_N_Corrected!A62:X151,23,FALSE)","v":15.800520762313088},null,{"$f":"(((VLOOKUP($B62,BD!$Q$2:$T$79,4,FALSE))*1000)*(VLOOKUP($B62,Mass!$A$3:$S$78,2,FALSE))*10000)*(F62/1000000)","v":31.646625354195628},30,0.24478649453823234,{"$f":"(((VLOOKUP($B62,BD!$Q$2:$T$79,4,FALSE))*1000)*(VLOOKUP($B62,Mass!$A$3:$S$78,2,FALSE))*10000)*(J62/1000)","v":490.27918768952236}]
[62,"Jn-0-S",10.06,0.1,1400,{"$f":"((D63*(E63-AVERAGE(E$2:E$3)))/C63)-VLOOKUP(B63,Min_N_Corrected!A63:X152,23,FALSE)","v":9.509501541516709},null,{"$f":"(((VLOOKUP($B63,BD!$Q$2:$T$79,4,FALSE))*1000)*(VLOOKUP($B63,Mass!$A$3:$S$78,2,FALSE))*10000)*(F63/1000000)","v":15.833251793645807},22,0.16550695825049702,{"$f":"(((VLOOKUP($B63,BD!$Q$2:$T$79,4,FALSE))*1000)*(VLOOKUP($B63,Mass!$A$3:$S$78,2,FALSE))*10000)*(J63/1000)","v":275.56789723834333}]
[63,"Jn-1-T",10.07,0.1,2500,{"$f":"((D64*(E64-AVERAGE(E$2:E$3)))/C64)-VLOOKUP(B64,Min_N_Corrected!A64:X153,23,FALSE)","v":18.003118878989888},null,{"$f":"(((VLOOKUP($B64,BD!$Q$2:$T$79,4,FALSE))*1000)*(VLOOKUP($B64,Mass!$A$3:$S$78,2,FALSE))*10000)*(F64/1000000)","v":36.66024992725972},30,0.24478649453823234,{"$f":"(((VLOOKUP($B64,BD!$Q$2:$T$79,4,FALSE))*1000)*(VLOOKUP($B64,Mass!$A$3:$S$78,2,FALSE))*10000)*(J64/1000)","v":498.46552305235355}]
[64,"Jn-1-S",10.02,0.1,1400,{"$f":"((D65*(E65-AVERAGE(E$2:E$3)))/C65)-VLOOKUP(B65,Min_N_Corrected!A65:X154,23,FALSE)","v":8.502754610103885},null,{"$f":"(((VLOOKUP($B65,BD!$Q$2:$T$79,4,FALSE))*1000)*(VLOOKUP($B65,Mass!$A$3:$S$78,2,FALSE))*10000)*(F65/1000000)","v":14.19679041610878},22,0.1661676646706587,{"$f":"(((VLOOKUP($B65,BD!$Q$2:$T$79,4,FALSE))*1000)*(VLOOKUP($B65,Mass!$A$3:$S$78,2,FALSE))*10000)*(J65/1000)","v":277.44508896685215}]
[65,"Ni-0-T",10.03,0.1,3100,{"$f":"((D66*(E66-AVERAGE(E$2:E$3)))/C66)-VLOOKUP(B66,Min_N_Corrected!A66:X155,23,FALSE)","v":21.501935830989254},null,{"$f":"(((VLOOKUP($B66,BD!$Q$2:$T$79,4,FALSE))*1000)*(VLOOKUP($B66,Mass!$A$3:$S$78,2,FALSE))*10000)*(F66/1000000)","v":36.216024532348676},28,0.22582253240279165,{"$f":"(((VLOOKUP($B66,BD!$Q$2:$T$79,4,FALSE))*1000)*(VLOOKUP($B66,Mass!$A$3:$S$78,2,FALSE))*10000)*(J66/1000)","v":380.35618921667754}]
[66,"Ni-1-T",10.05,0.1,3000,{"$f":"((D67*(E67-AVERAGE(E$2:E$3)))/C67)-VLOOKUP(B67,Min_N_Corrected!A67:X156,23,FALSE)","v":21.225935575617985},null,{"$f":"(((VLOOKUP($B67,BD!$Q$2:$T$79,4,FALSE))*1000)*(VLOOKUP($B67,Mass!$A$3:$S$78,2,FALSE))*10000)*(F67/1000000)","v":34.66681718186996},31,0.2552238805970149,{"$f":"(((VLOOKUP($B67,BD!$Q$2:$T$79,4,FALSE))*1000)*(VLOOKUP($B67,Mass!$A$3:$S$78,2,FALSE))*10000)*(J67/1000)","v":416.8390871433483}]
[67,"La-0-T",10.06,0.1,2300,{"$f":"((D68*(E68-AVERAGE(E$2:E$3)))/C68)-VLOOKUP(B68,Min_N_Corrected!A68:X157,23,FALSE)","v":15.617776696228331},null,{"$f":"(((VLOOKUP($B68,BD!$Q$2:$T$79,4,FALSE))*1000)*(VLOOKUP($B68,Mass!$A$3:$S$78,2,FALSE))*10000)*(F68/1000000)","v":33.941557809791256},24,0.1853876739562624,{"$f":"(((VLOOKUP($B68,BD!$Q$2:$T$79,4,FALSE))*1000)*(VLOOKUP($B68,Mass!$A$3:$S$78,2,FALSE))*10000)*(J68/1000)","v":402.89642855047384}]
[68,"La-0-S",10.06,0.1,1900,{"$f":"((D69*(E69-AVERAGE(E$2:E$3)))/C69)-VLOOKUP(B69,Min_N_Corrected!A69:X158,23,FALSE)","v":10.7828810228376},null,{"$f":"(((VLOOKUP($B69,BD!$Q$2:$T$79,4,FALSE))*1000)*(VLOOKUP($B69,Mass!$A$3:$S$78,2,FALSE))*10000)*(F69/1000000)","v":18.66568691198559},21,{"$f":"(D69*(I69-AVERAGE(I$2:I$3)))/C69","v":0.15556660039761433},{"$f":"(((VLOOKUP($B69,BD!$Q$2:$T$79,4,FALSE))*1000)*(VLOOKUP($B69,Mass!$A$3:$S$78,2,FALSE))*10000)*(J69/1000)","v":269.29328542472365}]
[69,"La-1-T",10.08,0.1,2400,{"$f":"((D70*(E70-AVERAGE(E$2:E$3)))/C70)-VLOOKUP(B70,Min_N_Corrected!A70:X159,23,FALSE)","v":16.00913492269978},null,{"$f":"(((VLOOKUP($B70,BD!$Q$2:$T$79,4,FALSE))*1000)*(VLOOKUP($B70,Mass!$A$3:$S$78,2,FALSE))*10000)*(F70/1000000)","v":36.04757495136482},23,0.17509920634920634,{"$f":"(((VLOOKUP($B70,BD!$Q$2:$T$79,4,FALSE))*1000)*(VLOOKUP($B70,Mass!$A$3:$S$78,2,FALSE))*10000)*(J70/1000)","v":394.26875938484955}]
[70,"La-1-S",10.01,0.1,1600,{"$f":"((D71*(E71-AVERAGE(E$2:E$3)))/C71)-VLOOKUP(B71,Min_N_Corrected!A71:X160,23,FALSE)","v":7.756906320680162},null,{"$f":"(((VLOOKUP($B71,BD!$Q$2:$T$79,4,FALSE))*1000)*(VLOOKUP($B71,Mass!$A$3:$S$78,2,FALSE))*10000)*(F71/1000000)","v":14.036101475511549},19,0.13636363636363638,{"$f":"(((VLOOKUP($B71,BD!$Q$2:$T$79,4,FALSE))*1000)*(VLOOKUP($B71,Mass!$A$3:$S$78,2,FALSE))*10000)*(J71/1000)","v":246.74963941061583}]
[71,"Ko-0-T",10.03,0.1,1500,{"$f":"((D72*(E72-AVERAGE(E$2:E$3)))/C72)-VLOOKUP(B72,Min_N_Corrected!A72:X161,23,FALSE)","v":8.355820333001732},null,{"$f":"(((VLOOKUP($B72,BD!$Q$2:$T$79,4,FALSE))*1000)*(VLOOKUP($B72,Mass!$A$3:$S$78,2,FALSE))*10000)*(F72/1000000)","v":20.457177434543933},15,0.09621136590229314,{"$f":"(((VLOOKUP($B72,BD!$Q$2:$T$79,4,FALSE))*1000)*(VLOOKUP($B72,Mass!$A$3:$S$78,2,FALSE))*10000)*(J72/1000)","v":235.5499406455025}]
[72,"Ko-0-S",10.07,0.1,1000,{"$f":"((D73*(E73-AVERAGE(E$2:E$3)))/C73)-VLOOKUP(B73,Min_N_Corrected!A73:X162,23,FALSE)","v":4.5334264481346445},null,{"$f":"(((VLOOKUP($B73,BD!$Q$2:$T$79,4,FALSE))*1000)*(VLOOKUP($B73,Mass!$A$3:$S$78,2,FALSE))*10000)*(F73/1000000)","v":9.074259504149316},14,0.0858987090367428,{"$f":"(((VLOOKUP($B73,BD!$Q$2:$T$79,4,FALSE))*1000)*(VLOOKUP($B73,Mass!$A$3:$S$78,2,FALSE))*10000)*(J73/1000)","v":171.9377574089782}]
[73,"Ko-1-T",10.07,0.1,1600,{"$f":"((D74*(E74-AVERAGE(E$2:E$3)))/C74)-VLOOKUP(B74,Min_N_Corrected!A74:X163,23,FALSE)","v":9.179039925960284},null,{"$f":"(((VLOOKUP($B74,BD!$Q$2:$T$79,4,FALSE))*1000)*(VLOOKUP($B74,Mass!$A$3:$S$78,2,FALSE))*10000)*(F74/1000000)","v":22.375169944931756},17,0.1156901688182721,{"$f":"(((VLOOKUP($B74,BD!$Q$2:$T$79,4,FALSE))*1000)*(VLOOKUP($B74,Mass!$A$3:$S$78,2,FALSE))*10000)*(J74/1000)","v":282.0106687787255}]
[74,"Ko-1-S",10.01,0.1,1100,{"$f":"((D75*(E75-AVERAGE(E$2:E$3)))/C75)-VLOOKUP(B75,Min_N_Corrected!A75:X164,23,FALSE)","v":4.807758472222616},null,{"$f":"(((VLOOKUP($B75,BD!$Q$2:$T$79,4,FALSE))*1000)*(VLOOKUP($B75,Mass!$A$3:$S$78,2,FALSE))*10000)*(F75/1000000)","v":9.465475666419296},15,0.09640359640359641,{"$f":"(((VLOOKUP($B75,BD!$Q$2:$T$79,4,FALSE))*1000)*(VLOOKUP($B75,Mass!$A$3:$S$78,2,FALSE))*10000)*(J75/1000)","v":189.7986142992951}]
[75,"Pa-0-T",10.04,0.1,2700,{"$f":"((D76*(E76-AVERAGE(E$2:E$3)))/C76)-VLOOKUP(B76,Min_N_Corrected!A76:X165,23,FALSE)","v":19.488498791165533},null,{"$f":"(((VLOOKUP($B76,BD!$Q$2:$T$79,4,FALSE))*1000)*(VLOOKUP($B76,Mass!$A$3:$S$78,2,FALSE))*10000)*(F76/1000000)","v":38.978653117506795},29,0.23555776892430277,{"$f":"(((VLOOKUP($B76,BD!$Q$2:$T$79,4,FALSE))*1000)*(VLOOKUP($B76,Mass!$A$3:$S$78,2,FALSE))*10000)*(J76/1000)","v":471.1355483264032}]
[76,"Pa-0-S",10.03,0.1,2200,{"$f":"((D77*(E77-AVERAGE(E$2:E$3)))/C77)-VLOOKUP(B77,Min_N_Corrected!A77:X166,23,FALSE)","v":14.688018240873708},null,{"$f":"(((VLOOKUP($B77,BD!$Q$2:$T$79,4,FALSE))*1000)*(VLOOKUP($B77,Mass!$A$3:$S$78,2,FALSE))*10000)*(F77/1000000)","v":23.42409730487613},29,0.2357926221335992,{"$f":"(((VLOOKUP($B77,BD!$Q$2:$T$79,4,FALSE))*1000)*(VLOOKUP($B77,Mass!$A$3:$S$78,2,FALSE))*10000)*(J77/1000)","v":376.03638789467965}]
[77,"Pa-1-T",10.04,0.1,2400,{"$f":"((D78*(E78-AVERAGE(E$2:E$3)))/C78)-VLOOKUP(B78,Min_N_Corrected!A78:X167,23,FALSE)","v":17.740852186786487},null,{"$f":"(((VLOOKUP($B78,BD!$Q$2:$T$79,4,FALSE))*1000)*(VLOOKUP($B78,Mass!$A$3:$S$78,2,FALSE))*10000)*(F78/1000000)","v":35.4832114473172},29,0.23555776892430277,{"$f":"(((VLOOKUP($B78,BD!$Q$2:$T$79,4,FALSE))*1000)*(VLOOKUP($B78,Mass!$A$3:$S$78,2,FALSE))*10000)*(J78/1000)","v":471.1355483264032}]
[78,"Pa-1-S",10.03,0.1,1800,{"$f":"((D79*(E79-AVERAGE(E$2:E$3)))/C79)-VLOOKUP(B79,Min_N_Corrected!A79:X168,23,FALSE)","v":11.908708565707043},null,{"$f":"(((VLOOKUP($B79,BD!$Q$2:$T$79,4,FALSE))*1000)*(VLOOKUP($B79,Mass!$A$3:$S$78,2,FALSE))*10000)*(F79/1000000)","v":19.162342453960743},29,0.2357926221335992,{"$f":"(((VLOOKUP($B79,BD!$Q$2:$T$79,4,FALSE))*1000)*(VLOOKUP($B79,Mass!$A$3:$S$78,2,FALSE))*10000)*(J79/1000)","v":379.4146903932676}]

{"sheet":"TC_TN","index":16,"n_rows":80,"n_cols":22,"rows_kept":80}
["Name","Description","Carbon_Average (%)","Nitrogen_Average (%)","Soil sample airdry (g)","Carbon Std. Dev. (%)","Nitrogen Std. Dev. (%)","Carbon %RSD","Nitrogen %RSD",null,"Soil sample 105 dry (g)","TC soil sample (g)","TC in 1g sample (g/g)","TC (g/kg)","TC % (kg/kg)","TC (Kg/ha)",null,null,"TN soil sample (g)","TN 1g sample (g/g)","TN (g/kg)","TN (Kg/ha)"]
["Pu-0-T","avg 2 samples",{"v":2.9,"d":"2.90"},0.196,{"v":0.15034999999999998,"d":"0.1504"},{"v":0.023,"d":"0.0230"},0.000623,0.792,0.318,null,{"$f":"E2-(E2*((VLOOKUP(A2,Mass!A$1:T$79,18,FALSE)/100)))","v":0.14712243302779296},{"$f":"((C2/100)*K2)","v":0.004266550557805996},{"$f":"(1*L2)/K2","v":0.029},{"$f":"M2*1000","v":29},{"$f":"N2/1000","v":{"v":0.029,"d":"3%"}},{"$f":"(((VLOOKUP($A2,BD!$Q$2:$T$79,4,FALSE))*1000)*(VLOOKUP($A2,Mass!$A$3:$S$78,2,FALSE))*10000)*(N2/1000)","v":60238.732986556526},null,null,{"$f":"((D2/100)*K2)","v":2.8835996873447417E-4},{"$f":"(1*S2)/K2","v":0.00196},{"$f":"T2*1000","v":1.96},{"$f":"(((VLOOKUP($A2,BD!$Q$2:$T$79,4,FALSE))*1000)*(VLOOKUP($A2,Mass!$A$3:$S$78,2,FALSE))*10000)*(U2/1000)","v":4071.307470815544}]
["Pu-0-S",null,2.58,0.173,0.1499,{"$nulls":5},{"$f":"E3-(E3*((VLOOKUP(A3,Mass!A$1:T$79,18,FALSE)/100)))","v":0.1466313206716463},0.003783088073328475,{"$f":"(1*L3)/K3","v":0.0258},{"$f":"M3*1000","v":25.8},{"$f":"N3/1000","v":{"v":0.0258,"d":"3%"}},{"$f":"(((VLOOKUP($A3,BD!$Q$2:$T$79,4,FALSE))*1000)*(VLOOKUP($A3,Mass!$A$3:$S$78,2,FALSE))*10000)*(N3/1000)","v":42079.92019673547},null,null,{"$f":"((D3/100)*K3)","v":2.5367218476194807E-4},{"$f":"(1*S3)/K3","v":1.7299999999999998E-3},{"$f":"T3*1000","v":1.7299999999999998},{"$f":"(((VLOOKUP($A3,BD!$Q$2:$T$79,4,FALSE))*1000)*(VLOOKUP($A3,Mass!$A$3:$S$78,2,FALSE))*10000)*(U3/1000)","v":2821.6380597035795}]
["Pu-1-T",null,3.52,{"v":0.25,"d":"0.250"},0.1496,{"$nulls":5},{"$f":"E4-(E4*((VLOOKUP(A4,Mass!A$1:T$79,18,FALSE)/100)))","v":0.14505286710898546},5.1058609222362885E-3,0.0352,35.2,{"v":0.0352,"d":"4%"},{"$f":"(((VLOOKUP($A4,BD!$Q$2:$T$79,4,FALSE))*1000)*(VLOOKUP($A4,Mass!$A$3:$S$78,2,FALSE))*10000)*(N4/1000)","v":69871.03442688643},null,null,3.6263216777246367E-4,0.0025,2.5,{"$f":"(((VLOOKUP($A4,BD!$Q$2:$T$79,4,FALSE))*1000)*(VLOOKUP($A4,Mass!$A$3:$S$78,2,FALSE))*10000)*(U4/1000)","v":4962.431422364093}]
["Pu-1-S",null,3.12,{"v":0.22,"d":"0.220"},0.1498,{"$nulls":5},{"$f":"E5-(E5*((VLOOKUP(A5,Mass!A$1:T$79,18,FALSE)/100)))","v":0.1454126588852324},0.004536874957219251,0.031200000000000002,31.200000000000003,{"v":0.031200000000000002,"d":"3%"},{"$f":"(((VLOOKUP($A5,BD!$Q$2:$T$79,4,FALSE))*1000)*(VLOOKUP($A5,Mass!$A$3:$S$78,2,FALSE))*10000)*(N5/1000)","v":48729.05816491482},null,null,3.1990784954751125E-4,0.0022,2.2,{"$f":"(((VLOOKUP($A5,BD!$Q$2:$T$79,4,FALSE))*1000)*(VLOOKUP($A5,Mass!$A$3:$S$78,2,FALSE))*10000)*(U5/1000)","v":3436.02333214143}]
["Mo-0-T",null,2.13,0.161,0.1505,{"$nulls":5},{"$f":"E6-(E6*((VLOOKUP(A6,Mass!A$1:T$79,18,FALSE)/100)))","v":0.14690842127446999},3.1291493731462105E-3,0.0213,21.3,{"v":0.0213,"d":"2%"},{"$f":"(((VLOOKUP($A6,BD!$Q$2:$T$79,4,FALSE))*1000)*(VLOOKUP($A6,Mass!$A$3:$S$78,2,FALSE))*10000)*(N6/1000)","v":47373.03047200134},null,null,2.3652255825189669E-4,0.00161,1.61,{"$f":"(((VLOOKUP($A6,BD!$Q$2:$T$79,4,FALSE))*1000)*(VLOOKUP($A6,Mass!$A$3:$S$78,2,FALSE))*10000)*(U6/1000)","v":3580.778359620759}]
["Mo-0-S",null,{"v":1.9,"d":"1.90"},0.149,0.1506,{"$nulls":5},{"$f":"E7-(E7*((VLOOKUP(A7,Mass!A$1:T$79,18,FALSE)/100)))","v":0.1456699671908416},2.7677293766259904E-3,0.019,19,{"v":0.019,"d":"2%"},{"$f":"(((VLOOKUP($A7,BD!$Q$2:$T$79,4,FALSE))*1000)*(VLOOKUP($A7,Mass!$A$3:$S$78,2,FALSE))*10000)*(N7/1000)","v":33104.93852323172},null,null,0.000217048251114354,1.49E-3,1.49,{"$f":"(((VLOOKUP($A7,BD!$Q$2:$T$79,4,FALSE))*1000)*(VLOOKUP($A7,Mass!$A$3:$S$78,2,FALSE))*10000)*(U7/1000)","v":2596.1241262955405}]
["Mo-1-T",null,2.22,0.177,0.1497,{"$nulls":5},{"$f":"E8-(E8*((VLOOKUP(A8,Mass!A$1:T$79,18,FALSE)/100)))","v":0.1462001660552571},0.003245643686426708,0.0222,22.2,{"v":0.0222,"d":"2%"},{"$f":"(((VLOOKUP($A8,BD!$Q$2:$T$79,4,FALSE))*1000)*(VLOOKUP($A8,Mass!$A$3:$S$78,2,FALSE))*10000)*(N8/1000)","v":48937.38195965262},null,null,2.5877429391780505E-4,1.7699999999999999E-3,1.7699999999999998,{"$f":"(((VLOOKUP($A8,BD!$Q$2:$T$79,4,FALSE))*1000)*(VLOOKUP($A8,Mass!$A$3:$S$78,2,FALSE))*10000)*(U8/1000)","v":3901.7642373236545}]
["Mo-1-S",null,2.04,0.157,0.1505,{"$nulls":5},{"$f":"E9-(E9*((VLOOKUP(A9,Mass!A$1:T$79,18,FALSE)/100)))","v":0.13725912611275964},2.800086172700297E-3,0.0204,20.400000000000002,{"v":0.0204,"d":"2%"},{"$f":"(((VLOOKUP($A9,BD!$Q$2:$T$79,4,FALSE))*1000)*(VLOOKUP($A9,Mass!$A$3:$S$78,2,FALSE))*10000)*(N9/1000)","v":35016.31990678357},null,null,2.1549682799703264E-4,1.57E-3,1.57,{"$f":"(((VLOOKUP($A9,BD!$Q$2:$T$79,4,FALSE))*1000)*(VLOOKUP($A9,Mass!$A$3:$S$78,2,FALSE))*10000)*(U9/1000)","v":2694.883443806382}]
["Si-0-T",null,2.63,0.209,0.1505,{"$nulls":5},{"$f":"E10-(E10*((VLOOKUP(A10,Mass!A$1:T$79,18,FALSE)/100)))","v":0.1350305830788265},3.5513043349731373E-3,0.0263,26.3,{"v":0.0263,"d":"3%"},{"$f":"(((VLOOKUP($A10,BD!$Q$2:$T$79,4,FALSE))*1000)*(VLOOKUP($A10,Mass!$A$3:$S$78,2,FALSE))*10000)*(N10/1000)","v":55853.722626320734},null,null,2.8221391863474739E-4,0.00209,2.09,{"$f":"(((VLOOKUP($A10,BD!$Q$2:$T$79,4,FALSE))*1000)*(VLOOKUP($A10,Mass!$A$3:$S$78,2,FALSE))*10000)*(U10/1000)","v":4438.565790456666}]
["Si-0-S",null,2.22,0.174,0.1497,{"$nulls":5},{"$f":"E11-(E11*((VLOOKUP(A11,Mass!A$1:T$79,18,FALSE)/100)))","v":0.13247696361887368},0.002940988592338996,0.0222,22.2,{"v":0.0222,"d":"2%"},{"$f":"(((VLOOKUP($A11,BD!$Q$2:$T$79,4,FALSE))*1000)*(VLOOKUP($A11,Mass!$A$3:$S$78,2,FALSE))*10000)*(N11/1000)","v":37422.70385149906},null,null,2.3050991669684018E-4,1.7399999999999998E-3,1.7399999999999998,{"$f":"(((VLOOKUP($A11,BD!$Q$2:$T$79,4,FALSE))*1000)*(VLOOKUP($A11,Mass!$A$3:$S$78,2,FALSE))*10000)*(U11/1000)","v":2933.130842414791}]
["Si-1-T",null,2.71,{"v":0.21,"d":"0.210"},0.1508,{"$nulls":5},{"$f":"E12-(E12*((VLOOKUP(A12,Mass!A$1:T$79,18,FALSE)/100)))","v":0.13448431426195023},3.6445249164988513E-3,0.0271,27.099999999999998,{"v":0.0271,"d":"3%"},{"$f":"(((VLOOKUP($A12,BD!$Q$2:$T$79,4,FALSE))*1000)*(VLOOKUP($A12,Mass!$A$3:$S$78,2,FALSE))*10000)*(N12/1000)","v":57166.16138935219},null,null,2.8241705995009548E-4,0.0021,2.1,{"$f":"(((VLOOKUP($A12,BD!$Q$2:$T$79,4,FALSE))*1000)*(VLOOKUP($A12,Mass!$A$3:$S$78,2,FALSE))*10000)*(U12/1000)","v":4429.850144562348}]
["Si-1-S",null,2.05,0.171,0.1495,{"$nulls":5},{"$f":"E13-(E13*((VLOOKUP(A13,Mass!A$1:T$79,18,FALSE)/100)))","v":0.1315899849672528},2.6975946918286822E-3,0.020499999999999997,20.499999999999996,{"v":0.020499999999999997,"d":"2%"},{"$f":"(((VLOOKUP($A13,BD!$Q$2:$T$79,4,FALSE))*1000)*(VLOOKUP($A13,Mass!$A$3:$S$78,2,FALSE))*10000)*(N13/1000)","v":35151.47946351233},null,null,2.250188742940023E-4,1.7100000000000001E-3,1.7100000000000002,{"$f":"(((VLOOKUP($A13,BD!$Q$2:$T$79,4,FALSE))*1000)*(VLOOKUP($A13,Mass!$A$3:$S$78,2,FALSE))*10000)*(U13/1000)","v":2932.147799151517}]
["Mi-0-T","avg 2 samples",4.02,0.327,0.1501,{"v":0.123,"d":"0.1230"},{"v":0.0114,"d":"0.01140"},3.05,3.49,null,{"$f":"E14-(E14*((VLOOKUP(A14,Mass!A$1:T$79,18,FALSE)/100)))","v":0.14621602544944992},0.005877884223067886,0.04019999999999999,40.199999999999996,{"v":0.04019999999999999,"d":"4%"},{"$f":"(((VLOOKUP($A14,BD!$Q$2:$T$79,4,FALSE))*1000)*(VLOOKUP($A14,Mass!$A$3:$S$78,2,FALSE))*10000)*(N14/1000)","v":77254.34253677662},null,null,4.7812640321970128E-4,3.2700000000000003E-3,3.2700000000000005,{"$f":"(((VLOOKUP($A14,BD!$Q$2:$T$79,4,FALSE))*1000)*(VLOOKUP($A14,Mass!$A$3:$S$78,2,FALSE))*10000)*(U14/1000)","v":6284.121892916905}]
["Mi-0-S",null,2.21,0.172,0.1498,{"$nulls":5},{"$f":"E15-(E15*((VLOOKUP(A15,Mass!A$1:T$79,18,FALSE)/100)))","v":0.13854381360505316},3.0618182806716747E-3,0.022099999999999998,22.099999999999998,{"v":0.022099999999999998,"d":"2%"},{"$f":"(((VLOOKUP($A15,BD!$Q$2:$T$79,4,FALSE))*1000)*(VLOOKUP($A15,Mass!$A$3:$S$78,2,FALSE))*10000)*(N15/1000)","v":37290.45100807319},null,null,2.3829535940069144E-4,1.72E-3,1.72,{"$f":"(((VLOOKUP($A15,BD!$Q$2:$T$79,4,FALSE))*1000)*(VLOOKUP($A15,Mass!$A$3:$S$78,2,FALSE))*10000)*(U15/1000)","v":2902.2432458771896}]
["Mi-1-T",null,3.75,0.302,0.1497,{"$nulls":5},{"$f":"E16-(E16*((VLOOKUP(A16,Mass!A$1:T$79,18,FALSE)/100)))","v":0.13807198293108758},0.005177699359915784,0.0375,37.5,{"v":0.0375,"d":"4%"},{"$f":"(((VLOOKUP($A16,BD!$Q$2:$T$79,4,FALSE))*1000)*(VLOOKUP($A16,Mass!$A$3:$S$78,2,FALSE))*10000)*(N16/1000)","v":73306.6582563156},null,null,4.169773884518845E-4,0.00302,3.02,{"$f":"(((VLOOKUP($A16,BD!$Q$2:$T$79,4,FALSE))*1000)*(VLOOKUP($A16,Mass!$A$3:$S$78,2,FALSE))*10000)*(U16/1000)","v":5903.629544908617}]
["Mi-1-S",null,2.15,0.184,0.1504,{"$nulls":5},{"$f":"E17-(E17*((VLOOKUP(A17,Mass!A$1:T$79,18,FALSE)/100)))","v":0.1391843971358113},2.9924645384199425E-3,0.0215,21.5,{"v":0.0215,"d":"2%"},{"$f":"(((VLOOKUP($A17,BD!$Q$2:$T$79,4,FALSE))*1000)*(VLOOKUP($A17,Mass!$A$3:$S$78,2,FALSE))*10000)*(N17/1000)","v":36493.448667415716},null,null,2.5609929072989277E-4,1.8399999999999998E-3,1.8399999999999999,{"$f":"(((VLOOKUP($A17,BD!$Q$2:$T$79,4,FALSE))*1000)*(VLOOKUP($A17,Mass!$A$3:$S$78,2,FALSE))*10000)*(U17/1000)","v":3123.1602580486006}]
["Li-0-T",null,3.07,0.251,0.1507,{"$nulls":5},{"$f":"E18-(E18*((VLOOKUP(A18,Mass!A$1:T$79,18,FALSE)/100)))","v":0.13850120196106822},0.004251986900204794,0.030699999999999995,30.699999999999996,{"v":0.030699999999999995,"d":"3%"},{"$f":"(((VLOOKUP($A18,BD!$Q$2:$T$79,4,FALSE))*1000)*(VLOOKUP($A18,Mass!$A$3:$S$78,2,FALSE))*10000)*(N18/1000)","v":62937.50145683994},null,null,3.4763801692228122E-4,0.00251,2.5100000000000002,{"$f":"(((VLOOKUP($A18,BD!$Q$2:$T$79,4,FALSE))*1000)*(VLOOKUP($A18,Mass!$A$3:$S$78,2,FALSE))*10000)*(U18/1000)","v":5145.7045165038535}]
["Li-0-S",null,1.85,0.148,{"v":0.15,"d":"0.1500"},{"$nulls":5},{"$f":"E19-(E19*((VLOOKUP(A19,Mass!A$1:T$79,18,FALSE)/100)))","v":0.13744382907928726},2.5427108379668145E-3,0.018500000000000003,18.500000000000004,{"v":0.018500000000000003,"d":"2%"},{"$f":"(((VLOOKUP($A19,BD!$Q$2:$T$79,4,FALSE))*1000)*(VLOOKUP($A19,Mass!$A$3:$S$78,2,FALSE))*10000)*(N19/1000)","v":32413.33990636637},null,null,2.0341686703734515E-4,1.48E-3,1.48,{"$f":"(((VLOOKUP($A19,BD!$Q$2:$T$79,4,FALSE))*1000)*(VLOOKUP($A19,Mass!$A$3:$S$78,2,FALSE))*10000)*(U19/1000)","v":2593.0671925093093}]
["Li-1-T",null,3.86,0.304,0.1507,{"$nulls":5},{"$f":"E20-(E20*((VLOOKUP(A20,Mass!A$1:T$79,18,FALSE)/100)))","v":0.13694043277263662},0.005285900705023773,0.038599999999999995,38.599999999999994,{"v":0.038599999999999995,"d":"4%"},{"$f":"(((VLOOKUP($A20,BD!$Q$2:$T$79,4,FALSE))*1000)*(VLOOKUP($A20,Mass!$A$3:$S$78,2,FALSE))*10000)*(N20/1000)","v":74925.78143767179},null,null,4.1629891562881529E-4,3.0399999999999997E-3,3.0399999999999996,{"$f":"(((VLOOKUP($A20,BD!$Q$2:$T$79,4,FALSE))*1000)*(VLOOKUP($A20,Mass!$A$3:$S$78,2,FALSE))*10000)*(U20/1000)","v":5900.8905588218195}]
["Li-1-S","avg 2 samples",2.28,{"v":0.19,"d":"0.190"},0.1503,0.0576,0.00376,2.52,1.98,null,{"$f":"E21-(E21*((VLOOKUP(A21,Mass!A$1:T$79,18,FALSE)/100)))","v":0.1383770039870957},3.1549956909057817E-3,0.022799999999999997,22.799999999999997,{"v":0.022799999999999997,"d":"2%"},{"$f":"(((VLOOKUP($A21,BD!$Q$2:$T$79,4,FALSE))*1000)*(VLOOKUP($A21,Mass!$A$3:$S$78,2,FALSE))*10000)*(N21/1000)","v":38212.80316373367},null,null,2.6291630757548182E-4,1.8999999999999998E-3,1.8999999999999997,{"$f":"(((VLOOKUP($A21,BD!$Q$2:$T$79,4,FALSE))*1000)*(VLOOKUP($A21,Mass!$A$3:$S$78,2,FALSE))*10000)*(U21/1000)","v":3184.4002636444725}]
["Ai-0-T",null,1.47,0.128,{"v":0.15,"d":"0.1500"},{"$nulls":5},{"$f":"E22-(E22*((VLOOKUP(A22,Mass!A$1:T$79,18,FALSE)/100)))","v":0.14763247755811898},0.002170197420104349,0.0147,14.7,{"v":0.0147,"d":"1%"},{"$f":"(((VLOOKUP($A22,BD!$Q$2:$T$79,4,FALSE))*1000)*(VLOOKUP($A22,Mass!$A$3:$S$78,2,FALSE))*10000)*(N22/1000)","v":35289.0419291877},null,null,1.8896957127439231E-4,0.00128,1.28,{"$f":"(((VLOOKUP($A22,BD!$Q$2:$T$79,4,FALSE))*1000)*(VLOOKUP($A22,Mass!$A$3:$S$78,2,FALSE))*10000)*(U22/1000)","v":3072.787324446276}]
["Ai-0-S",null,{"v":1.2,"d":"1.20"},0.111,0.1496,{"$nulls":5},{"$f":"E23-(E23*((VLOOKUP(A23,Mass!A$1:T$79,18,FALSE)/100)))","v":0.14658773886619833},0.00175905286639438,0.012,12,{"v":0.012,"d":"1%"},{"$f":"(((VLOOKUP($A23,BD!$Q$2:$T$79,4,FALSE))*1000)*(VLOOKUP($A23,Mass!$A$3:$S$78,2,FALSE))*10000)*(N23/1000)","v":22915.619439924005},null,null,1.6271239014148015E-4,0.00111,1.11,{"$f":"(((VLOOKUP($A23,BD!$Q$2:$T$79,4,FALSE))*1000)*(VLOOKUP($A23,Mass!$A$3:$S$78,2,FALSE))*10000)*(U23/1000)","v":2119.6947981929707}]
["Ai-1-T",null,1.87,0.155,0.1495,{"$nulls":5},{"$f":"E24-(E24*((VLOOKUP(A24,Mass!A$1:T$79,18,FALSE)/100)))","v":0.14609138799857904},2.7319089555734285E-3,0.0187,18.700000000000003,{"v":0.0187,"d":"2%"},{"$f":"(((VLOOKUP($A24,BD!$Q$2:$T$79,4,FALSE))*1000)*(VLOOKUP($A24,Mass!$A$3:$S$78,2,FALSE))*10000)*(N24/1000)","v":42749.196839171156},null,null,2.2644165139779751E-4,0.00155,1.55,{"$f":"(((VLOOKUP($A24,BD!$Q$2:$T$79,4,FALSE))*1000)*(VLOOKUP($A24,Mass!$A$3:$S$78,2,FALSE))*10000)*(U24/1000)","v":3543.3826257066994}]
["Ai-1-S",null,1.78,0.149,0.1503,{"$nulls":5},{"$f":"E25-(E25*((VLOOKUP(A25,Mass!A$1:T$79,18,FALSE)/100)))","v":0.1475806182598402},2.6269350050251556E-3,0.0178,17.8,{"v":0.0178,"d":"2%"},{"$f":"(((VLOOKUP($A25,BD!$Q$2:$T$79,4,FALSE))*1000)*(VLOOKUP($A25,Mass!$A$3:$S$78,2,FALSE))*10000)*(N25/1000)","v":31436.806690001562},null,null,2.1989512120716191E-4,1.49E-3,1.49,{"$f":"(((VLOOKUP($A25,BD!$Q$2:$T$79,4,FALSE))*1000)*(VLOOKUP($A25,Mass!$A$3:$S$78,2,FALSE))*10000)*(U25/1000)","v":2631.507975736086}]
["Pi-0-T",null,3.38,0.264,0.1509,{"$nulls":5},{"$f":"E26-(E26*((VLOOKUP(A26,Mass!A$1:T$79,18,FALSE)/100)))","v":0.1411743405313824},4.771692709960724E-3,0.0338,33.8,{"v":0.0338,"d":"3%"},{"$f":"(((VLOOKUP($A26,BD!$Q$2:$T$79,4,FALSE))*1000)*(VLOOKUP($A26,Mass!$A$3:$S$78,2,FALSE))*10000)*(N26/1000)","v":67745.04128507801},null,null,3.727002590028495E-4,2.64E-3,2.64,{"$f":"(((VLOOKUP($A26,BD!$Q$2:$T$79,4,FALSE))*1000)*(VLOOKUP($A26,Mass!$A$3:$S$78,2,FALSE))*10000)*(U26/1000)","v":5291.328668420295}]
["Pi-0-S",null,2.59,0.201,0.1499,{"$nulls":5},{"$f":"E27-(E27*((VLOOKUP(A27,Mass!A$1:T$79,18,FALSE)/100)))","v":0.1416236797953964},3.6680533067007665E-3,0.0259,25.9,{"v":0.0259,"d":"3%"},{"$f":"(((VLOOKUP($A27,BD!$Q$2:$T$79,4,FALSE))*1000)*(VLOOKUP($A27,Mass!$A$3:$S$78,2,FALSE))*10000)*(N27/1000)","v":42206.55021094277},null,null,2.8466359638874676E-4,0.00201,2.0100000000000002,{"$f":"(((VLOOKUP($A27,BD!$Q$2:$T$79,4,FALSE))*1000)*(VLOOKUP($A27,Mass!$A$3:$S$78,2,FALSE))*10000)*(U27/1000)","v":3275.4890318144776}]
["Pi-1-T",null,3.54,0.278,0.1504,{"$nulls":5},{"$f":"E28-(E28*((VLOOKUP(A28,Mass!A$1:T$79,18,FALSE)/100)))","v":0.13953657289140017},0.004939594680355566,0.0354,35.4,{"v":0.0354,"d":"4%"},{"$f":"(((VLOOKUP($A28,BD!$Q$2:$T$79,4,FALSE))*1000)*(VLOOKUP($A28,Mass!$A$3:$S$78,2,FALSE))*10000)*(N28/1000)","v":70172.55899690438},null,null,3.8791167263809253E-4,2.7800000000000004E-3,2.7800000000000002,{"$f":"(((VLOOKUP($A28,BD!$Q$2:$T$79,4,FALSE))*1000)*(VLOOKUP($A28,Mass!$A$3:$S$78,2,FALSE))*10000)*(U28/1000)","v":5510.72638450266}]
["Pi-1-S",null,2.69,0.216,0.1507,{"$nulls":5},{"$f":"E29-(E29*((VLOOKUP(A29,Mass!A$1:T$79,18,FALSE)/100)))","v":0.14196299590891961},3.8188045899499377E-3,0.0269,26.9,{"v":0.0269,"d":"3%"},{"$f":"(((VLOOKUP($A29,BD!$Q$2:$T$79,4,FALSE))*1000)*(VLOOKUP($A29,Mass!$A$3:$S$78,2,FALSE))*10000)*(N29/1000)","v":43465.20844861163},null,null,3.0664007116326637E-4,2.16E-3,2.16,{"$f":"(((VLOOKUP($A29,BD!$Q$2:$T$79,4,FALSE))*1000)*(VLOOKUP($A29,Mass!$A$3:$S$78,2,FALSE))*10000)*(U29/1000)","v":3490.1431319331273}]
["Ja-0-T",null,3.01,0.221,0.1501,{"$nulls":5},{"$f":"E30-(E30*((VLOOKUP(A30,Mass!A$1:T$79,18,FALSE)/100)))","v":0.14199867737887287},4.2741601891040735E-3,0.030100000000000002,30.1,{"v":0.030100000000000002,"d":"3%"},{"$f":"(((VLOOKUP($A30,BD!$Q$2:$T$79,4,FALSE))*1000)*(VLOOKUP($A30,Mass!$A$3:$S$78,2,FALSE))*10000)*(N30/1000)","v":61990.24332754699},null,null,3.1381707700730904E-4,0.00221,2.21,{"$f":"(((VLOOKUP($A30,BD!$Q$2:$T$79,4,FALSE))*1000)*(VLOOKUP($A30,Mass!$A$3:$S$78,2,FALSE))*10000)*(U30/1000)","v":4551.443114746806}]
["Ja-1-T",null,2.75,0.218,{"v":0.15,"d":"0.1500"},{"$nulls":5},{"$f":"E31-(E31*((VLOOKUP(A31,Mass!A$1:T$79,18,FALSE)/100)))","v":0.14198018348086053},3.9044550457236647E-3,0.0275,27.5,{"v":0.0275,"d":"3%"},{"$f":"(((VLOOKUP($A31,BD!$Q$2:$T$79,4,FALSE))*1000)*(VLOOKUP($A31,Mass!$A$3:$S$78,2,FALSE))*10000)*(N31/1000)","v":57818.144066128705},null,null,3.0951679998827595E-4,0.00218,2.18,{"$f":"(((VLOOKUP($A31,BD!$Q$2:$T$79,4,FALSE))*1000)*(VLOOKUP($A31,Mass!$A$3:$S$78,2,FALSE))*10000)*(U31/1000)","v":4583.401965969476}]
["Mu-0-T","avg 2 samples",4.47,0.326,{"v":0.15015,"d":"0.1502"},0.0686,0.00366,1.54,1.12,null,{"$f":"E32-(E32*((VLOOKUP(A32,Mass!A$1:T$79,18,FALSE)/100)))","v":0.14374293129496404},6.4253090288848924E-3,0.0447,44.699999999999996,{"v":0.0447,"d":"4%"},{"$f":"(((VLOOKUP($A32,BD!$Q$2:$T$79,4,FALSE))*1000)*(VLOOKUP($A32,Mass!$A$3:$S$78,2,FALSE))*10000)*(N32/1000)","v":83644.567351994},null,null,4.6860195602158283E-4,3.2600000000000003E-3,3.2600000000000002,{"$f":"(((VLOOKUP($A32,BD!$Q$2:$T$79,4,FALSE))*1000)*(VLOOKUP($A32,Mass!$A$3:$S$78,2,FALSE))*10000)*(U32/1000)","v":6100.25256303133}]
["Mu-0-S",null,3.31,0.239,0.1502,{"$nulls":5},{"$f":"E33-(E33*((VLOOKUP(A33,Mass!A$1:T$79,18,FALSE)/100)))","v":0.1428150090212379},0.004727176798602974,0.0331,33.099999999999994,{"v":0.0331,"d":"3%"},{"$f":"(((VLOOKUP($A33,BD!$Q$2:$T$79,4,FALSE))*1000)*(VLOOKUP($A33,Mass!$A$3:$S$78,2,FALSE))*10000)*(N33/1000)","v":50984.28943496591},null,null,3.4132787156075851E-4,2.3899999999999998E-3,2.3899999999999997,{"$f":"(((VLOOKUP($A33,BD!$Q$2:$T$79,4,FALSE))*1000)*(VLOOKUP($A33,Mass!$A$3:$S$78,2,FALSE))*10000)*(U33/1000)","v":3681.34295315917}]
["Mu-1-T",null,4.59,0.351,0.1508,{"$nulls":5},{"$f":"E34-(E34*((VLOOKUP(A34,Mass!A$1:T$79,18,FALSE)/100)))","v":0.1421120825830083},{"$f":"((C34/100)*K34)","v":6.522944590560081E-3},{"$f":"(1*L34)/K34","v":0.045899999999999996},45.9,{"v":0.045899999999999996,"d":"5%"},{"$f":"(((VLOOKUP($A34,BD!$Q$2:$T$79,4,FALSE))*1000)*(VLOOKUP($A34,Mass!$A$3:$S$78,2,FALSE))*10000)*(N34/1000)","v":85311.25968205539},null,null,4.9881340986635914E-4,3.5099999999999997E-3,3.51,{"$f":"(((VLOOKUP($A34,BD!$Q$2:$T$79,4,FALSE))*1000)*(VLOOKUP($A34,Mass!$A$3:$S$78,2,FALSE))*10000)*(U34/1000)","v":6523.802210980706}]
["Mu-1-S",null,{"v":3.4,"d":"3.40"},0.255,0.1499,{"$nulls":5},{"$f":"E35-(E35*((VLOOKUP(A35,Mass!A$1:T$79,18,FALSE)/100)))","v":0.14164260454762084},0.004815848554619109,0.034,34,{"v":0.034,"d":"3%"},{"$f":"(((VLOOKUP($A35,BD!$Q$2:$T$79,4,FALSE))*1000)*(VLOOKUP($A35,Mass!$A$3:$S$78,2,FALSE))*10000)*(N35/1000)","v":52038.55525824469},null,null,3.6118864159643318E-4,0.00255,2.5500000000000003,{"$f":"(((VLOOKUP($A35,BD!$Q$2:$T$79,4,FALSE))*1000)*(VLOOKUP($A35,Mass!$A$3:$S$78,2,FALSE))*10000)*(U35/1000)","v":3902.8916443683515}]
["Kp-0-T",null,2.88,0.227,0.1499,{"$nulls":5},{"$f":"E36-(E36*((VLOOKUP(A36,Mass!A$1:T$79,18,FALSE)/100)))","v":0.14332563478625315},4.127778281844091E-3,0.028800000000000003,28.800000000000004,{"v":0.028800000000000003,"d":"3%"},{"$f":"(((VLOOKUP($A36,BD!$Q$2:$T$79,4,FALSE))*1000)*(VLOOKUP($A36,Mass!$A$3:$S$78,2,FALSE))*10000)*(N36/1000)","v":59918.164415585896},null,null,3.2534919096479466E-4,0.00227,2.27,{"$f":"(((VLOOKUP($A36,BD!$Q$2:$T$79,4,FALSE))*1000)*(VLOOKUP($A36,Mass!$A$3:$S$78,2,FALSE))*10000)*(U36/1000)","v":4722.71643136736}]
["Kp-0-S",null,2.09,0.167,0.1507,{"$nulls":5},{"$f":"E37-(E37*((VLOOKUP(A37,Mass!A$1:T$79,18,FALSE)/100)))","v":0.14405367510953865},3.0107218097893576E-3,0.0209,20.9,{"v":0.0209,"d":"2%"},{"$f":"(((VLOOKUP($A37,BD!$Q$2:$T$79,4,FALSE))*1000)*(VLOOKUP($A37,Mass!$A$3:$S$78,2,FALSE))*10000)*(N37/1000)","v":35690.35065167551},null,null,2.4056963743292954E-4,1.67E-3,1.6700000000000002,{"$f":"(((VLOOKUP($A37,BD!$Q$2:$T$79,4,FALSE))*1000)*(VLOOKUP($A37,Mass!$A$3:$S$78,2,FALSE))*10000)*(U37/1000)","v":2851.8127075740717}]
["Kp-1-T",null,3.11,0.242,0.1508,{"$nulls":5},{"$f":"E38-(E38*((VLOOKUP(A38,Mass!A$1:T$79,18,FALSE)/100)))","v":0.14453866307393837},0.004495152421599483,0.0311,31.099999999999998,{"v":0.0311,"d":"3%"},{"$f":"(((VLOOKUP($A38,BD!$Q$2:$T$79,4,FALSE))*1000)*(VLOOKUP($A38,Mass!$A$3:$S$78,2,FALSE))*10000)*(N38/1000)","v":63565.899010556794},null,null,3.4978356463893082E-4,0.00242,2.42,{"$f":"(((VLOOKUP($A38,BD!$Q$2:$T$79,4,FALSE))*1000)*(VLOOKUP($A38,Mass!$A$3:$S$78,2,FALSE))*10000)*(U38/1000)","v":4946.285389245898}]
["Kp-1-S",null,2.28,0.187,0.1494,{"$nulls":5},{"$f":"E39-(E39*((VLOOKUP(A39,Mass!A$1:T$79,18,FALSE)/100)))","v":0.142759964771345},0.003254927196786666,0.022799999999999997,22.799999999999997,{"v":0.022799999999999997,"d":"2%"},{"$f":"(((VLOOKUP($A39,BD!$Q$2:$T$79,4,FALSE))*1000)*(VLOOKUP($A39,Mass!$A$3:$S$78,2,FALSE))*10000)*(N39/1000)","v":38212.80316373367},null,null,2.6696113412241513E-4,1.8699999999999997E-3,1.8699999999999997,{"$f":"(((VLOOKUP($A39,BD!$Q$2:$T$79,4,FALSE))*1000)*(VLOOKUP($A39,Mass!$A$3:$S$78,2,FALSE))*10000)*(U39/1000)","v":3134.120259481665}]
["Ki-0-T","avg 2 samples",1.79,0.116,0.1506,{"v":0.154,"d":"0.1540"},0.00839,8.62,7.21,null,{"$f":"E40-(E40*((VLOOKUP(A40,Mass!A$1:T$79,18,FALSE)/100)))","v":0.14878052607419873},2.663171416728157E-3,0.0179,17.9,{"v":0.0179,"d":"2%"},{"$f":"(((VLOOKUP($A40,BD!$Q$2:$T$79,4,FALSE))*1000)*(VLOOKUP($A40,Mass!$A$3:$S$78,2,FALSE))*10000)*(N40/1000)","v":41292.89003260736},null,null,1.7258541024607051E-4,1.16E-3,1.16,{"$f":"(((VLOOKUP($A40,BD!$Q$2:$T$79,4,FALSE))*1000)*(VLOOKUP($A40,Mass!$A$3:$S$78,2,FALSE))*10000)*(U40/1000)","v":2675.9638233421533}]
["Ki-0-S",null,1.18,{"v":0.0807,"d":"0.081"},0.1504,{"$nulls":5},{"$f":"E41-(E41*((VLOOKUP(A41,Mass!A$1:T$79,18,FALSE)/100)))","v":0.14852133816782723},1.7525517903803612E-3,0.0118,11.799999999999999,{"v":0.0118,"d":"1%"},{"$f":"(((VLOOKUP($A41,BD!$Q$2:$T$79,4,FALSE))*1000)*(VLOOKUP($A41,Mass!$A$3:$S$78,2,FALSE))*10000)*(N41/1000)","v":22605.882383851127},null,null,1.1985671990143657E-4,0.000807,0.8069999999999999,{"$f":"(((VLOOKUP($A41,BD!$Q$2:$T$79,4,FALSE))*1000)*(VLOOKUP($A41,Mass!$A$3:$S$78,2,FALSE))*10000)*(U41/1000)","v":1546.0124647260898}]
["Ki-1-T",null,2.22,0.138,0.1492,{"$nulls":5},{"$f":"E42-(E42*((VLOOKUP(A42,Mass!A$1:T$79,18,FALSE)/100)))","v":0.14697609000124412},3.2628691980276197E-3,0.0222,22.2,{"v":0.0222,"d":"2%"},{"$f":"(((VLOOKUP($A42,BD!$Q$2:$T$79,4,FALSE))*1000)*(VLOOKUP($A42,Mass!$A$3:$S$78,2,FALSE))*10000)*(N42/1000)","v":48937.38195965262},null,null,2.028270042017169E-4,1.3800000000000002E-3,1.3800000000000001,{"$f":"(((VLOOKUP($A42,BD!$Q$2:$T$79,4,FALSE))*1000)*(VLOOKUP($A42,Mass!$A$3:$S$78,2,FALSE))*10000)*(U42/1000)","v":3042.0534731675957}]
["Ki-1-S",null,1.57,{"v":0.0977,"d":"0.098"},0.1504,{"$nulls":5},{"$f":"E43-(E43*((VLOOKUP(A43,Mass!A$1:T$79,18,FALSE)/100)))","v":0.14890763812819996},2.3378499186127396E-3,0.015700000000000002,15.700000000000003,{"v":0.015700000000000002,"d":"2%"},{"$f":"(((VLOOKUP($A43,BD!$Q$2:$T$79,4,FALSE))*1000)*(VLOOKUP($A43,Mass!$A$3:$S$78,2,FALSE))*10000)*(N43/1000)","v":28445.393050480234},null,null,1.4548276245125136E-4,9.77E-4,0.977,{"$f":"(((VLOOKUP($A43,BD!$Q$2:$T$79,4,FALSE))*1000)*(VLOOKUP($A43,Mass!$A$3:$S$78,2,FALSE))*10000)*(U43/1000)","v":1770.1368796381648}]
["Na-0-T",null,3.89,0.273,0.1508,{"$nulls":5},{"$f":"E44-(E44*((VLOOKUP(A44,Mass!A$1:T$79,18,FALSE)/100)))","v":0.14725763621853005},0.005728322048900819,0.038900000000000004,38.900000000000006,{"v":0.038900000000000004,"d":"4%"},{"$f":"(((VLOOKUP($A44,BD!$Q$2:$T$79,4,FALSE))*1000)*(VLOOKUP($A44,Mass!$A$3:$S$78,2,FALSE))*10000)*(N44/1000)","v":75364.7526736533},null,null,4.0201334687658708E-4,2.7300000000000002E-3,2.7300000000000004,{"$f":"(((VLOOKUP($A44,BD!$Q$2:$T$79,4,FALSE))*1000)*(VLOOKUP($A44,Mass!$A$3:$S$78,2,FALSE))*10000)*(U44/1000)","v":5289.094467842507}]
["Na-0-S",null,3.05,{"v":0.22,"d":"0.220"},0.1498,{"$nulls":5},{"$f":"E45-(E45*((VLOOKUP(A45,Mass!A$1:T$79,18,FALSE)/100)))","v":0.14645288796280703},0.004466813082865615,0.0305,30.5,{"v":0.0305,"d":"3%"},{"$f":"(((VLOOKUP($A45,BD!$Q$2:$T$79,4,FALSE))*1000)*(VLOOKUP($A45,Mass!$A$3:$S$78,2,FALSE))*10000)*(N45/1000)","v":47887.6980609443},null,null,3.2219635351817547E-4,0.0022,2.2,{"$f":"(((VLOOKUP($A45,BD!$Q$2:$T$79,4,FALSE))*1000)*(VLOOKUP($A45,Mass!$A$3:$S$78,2,FALSE))*10000)*(U45/1000)","v":3454.194614232048}]
["Na-1-T",null,4.05,0.271,0.1505,{"$nulls":5},{"$f":"E46-(E46*((VLOOKUP(A46,Mass!A$1:T$79,18,FALSE)/100)))","v":0.1465385201034564},0.005934810064189984,0.0405,40.5,{"v":0.0405,"d":"4%"},{"$f":"(((VLOOKUP($A46,BD!$Q$2:$T$79,4,FALSE))*1000)*(VLOOKUP($A46,Mass!$A$3:$S$78,2,FALSE))*10000)*(N46/1000)","v":77687.53596579857},null,null,3.9711938948036683E-4,0.00271,2.71,{"$f":"(((VLOOKUP($A46,BD!$Q$2:$T$79,4,FALSE))*1000)*(VLOOKUP($A46,Mass!$A$3:$S$78,2,FALSE))*10000)*(U46/1000)","v":5198.351172032448}]
["Na-1-S",null,{"v":3.9,"d":"3.90"},0.262,0.1494,{"$nulls":5},{"$f":"E47-(E47*((VLOOKUP(A47,Mass!A$1:T$79,18,FALSE)/100)))","v":0.1460247570207803},0.005694965523810431,0.039,39,{"v":0.039,"d":"4%"},{"$f":"(((VLOOKUP($A47,BD!$Q$2:$T$79,4,FALSE))*1000)*(VLOOKUP($A47,Mass!$A$3:$S$78,2,FALSE))*10000)*(N47/1000)","v":57743.57685168702},null,null,3.8258486339444437E-4,0.00262,2.62,{"$f":"(((VLOOKUP($A47,BD!$Q$2:$T$79,4,FALSE))*1000)*(VLOOKUP($A47,Mass!$A$3:$S$78,2,FALSE))*10000)*(U47/1000)","v":3879.183880805641}]
["Jn-0-T",null,3.39,0.214,0.1505,{"$nulls":5},{"$f":"E48-(E48*((VLOOKUP(A48,Mass!A$1:T$79,18,FALSE)/100)))","v":0.14540311192789385},0.004929165494355602,0.0339,33.9,{"v":0.0339,"d":"3%"},{"$f":"(((VLOOKUP($A48,BD!$Q$2:$T$79,4,FALSE))*1000)*(VLOOKUP($A48,Mass!$A$3:$S$78,2,FALSE))*10000)*(N48/1000)","v":67897.80005644435},null,null,3.1116265952569282E-4,2.14E-3,2.14,{"$f":"(((VLOOKUP($A48,BD!$Q$2:$T$79,4,FALSE))*1000)*(VLOOKUP($A48,Mass!$A$3:$S$78,2,FALSE))*10000)*(U48/1000)","v":4286.173808872888}]
["Jn-0-S","avg 2 samples",2.35,0.144,0.1497,0.0374,0.00526,1.59,3.65,null,{"$f":"E49-(E49*((VLOOKUP(A49,Mass!A$1:T$79,18,FALSE)/100)))","v":0.1474975291354458},3.4661919346829764E-3,0.0235,23.5,{"v":0.0235,"d":"2%"},{"$f":"(((VLOOKUP($A49,BD!$Q$2:$T$79,4,FALSE))*1000)*(VLOOKUP($A49,Mass!$A$3:$S$78,2,FALSE))*10000)*(N49/1000)","v":39127.331282953},null,null,2.1239644195504196E-4,1.4399999999999999E-3,1.44,{"$f":"(((VLOOKUP($A49,BD!$Q$2:$T$79,4,FALSE))*1000)*(VLOOKUP($A49,Mass!$A$3:$S$78,2,FALSE))*10000)*(U49/1000)","v":2397.5896615937154}]
["Jn-1-T",null,3.16,0.213,0.1505,{"$nulls":5},{"$f":"E50-(E50*((VLOOKUP(A50,Mass!A$1:T$79,18,FALSE)/100)))","v":0.1480823676048248},0.004679402816312464,0.0316,31.6,{"v":0.0316,"d":"3%"},{"$f":"(((VLOOKUP($A50,BD!$Q$2:$T$79,4,FALSE))*1000)*(VLOOKUP($A50,Mass!$A$3:$S$78,2,FALSE))*10000)*(N50/1000)","v":64347.9557896696},null,null,3.1541544299827683E-4,0.00213,2.13,{"$f":"(((VLOOKUP($A50,BD!$Q$2:$T$79,4,FALSE))*1000)*(VLOOKUP($A50,Mass!$A$3:$S$78,2,FALSE))*10000)*(U50/1000)","v":4337.378032658108}]
["Jn-1-S",null,2.32,0.148,0.1493,{"$nulls":5},{"$f":"E51-(E51*((VLOOKUP(A51,Mass!A$1:T$79,18,FALSE)/100)))","v":0.14708629165445983},0.003412401966383468,0.0232,23.2,{"v":0.0232,"d":"2%"},{"$f":"(((VLOOKUP($A51,BD!$Q$2:$T$79,4,FALSE))*1000)*(VLOOKUP($A51,Mass!$A$3:$S$78,2,FALSE))*10000)*(N51/1000)","v":38736.33343038457},null,null,2.1768771164860055E-4,1.48E-3,1.48,{"$f":"(((VLOOKUP($A51,BD!$Q$2:$T$79,4,FALSE))*1000)*(VLOOKUP($A51,Mass!$A$3:$S$78,2,FALSE))*10000)*(U51/1000)","v":2471.1109257314297}]
["La-0-T",null,2.37,0.201,{"v":0.15,"d":"0.1500"},{"$nulls":5},{"$f":"E52-(E52*((VLOOKUP(A52,Mass!A$1:T$79,18,FALSE)/100)))","v":0.14738979124964258},3.4931380526165294E-3,0.023700000000000002,23.700000000000003,{"v":0.023700000000000002,"d":"2%"},{"$f":"(((VLOOKUP($A52,BD!$Q$2:$T$79,4,FALSE))*1000)*(VLOOKUP($A52,Mass!$A$3:$S$78,2,FALSE))*10000)*(N52/1000)","v":51506.365837995225},null,null,2.962534804117816E-4,0.00201,2.0100000000000002,{"$f":"(((VLOOKUP($A52,BD!$Q$2:$T$79,4,FALSE))*1000)*(VLOOKUP($A52,Mass!$A$3:$S$78,2,FALSE))*10000)*(U52/1000)","v":4368.2614065135185}]
["La-0-S",null,1.96,0.167,0.1503,{"$nulls":5},{"$f":"E53-(E53*((VLOOKUP(A53,Mass!A$1:T$79,18,FALSE)/100)))","v":0.14783957462494332},0.002897655662648889,0.0196,19.599999999999998,{"v":0.0196,"d":"2%"},{"$f":"(((VLOOKUP($A53,BD!$Q$2:$T$79,4,FALSE))*1000)*(VLOOKUP($A53,Mass!$A$3:$S$78,2,FALSE))*10000)*(N53/1000)","v":33928.54495009923},null,null,2.4689208962365536E-4,1.67E-3,1.6700000000000002,{"$f":"(((VLOOKUP($A53,BD!$Q$2:$T$79,4,FALSE))*1000)*(VLOOKUP($A53,Mass!$A$3:$S$78,2,FALSE))*10000)*(U53/1000)","v":2890.850513605394}]
["La-1-T",null,2.01,0.172,0.1505,{"$nulls":5},{"$f":"E54-(E54*((VLOOKUP(A54,Mass!A$1:T$79,18,FALSE)/100)))","v":0.1486465348837209},2.9877953511627895E-3,0.020099999999999996,20.099999999999998,{"v":0.020099999999999996,"d":"2%"},{"$f":"(((VLOOKUP($A54,BD!$Q$2:$T$79,4,FALSE))*1000)*(VLOOKUP($A54,Mass!$A$3:$S$78,2,FALSE))*10000)*(N54/1000)","v":45258.92623311365},null,null,2.5567203999999992E-4,1.7199999999999997E-3,1.7199999999999998,{"$f":"(((VLOOKUP($A54,BD!$Q$2:$T$79,4,FALSE))*1000)*(VLOOKUP($A54,Mass!$A$3:$S$78,2,FALSE))*10000)*(U54/1000)","v":3872.9031403460435}]
["La-1-S",null,1.58,0.139,0.1501,{"$nulls":5},{"$f":"E55-(E55*((VLOOKUP(A55,Mass!A$1:T$79,18,FALSE)/100)))","v":0.1481584869827385},2.3409040943272686E-3,0.0158,15.8,{"v":0.0158,"d":"2%"},{"$f":"(((VLOOKUP($A55,BD!$Q$2:$T$79,4,FALSE))*1000)*(VLOOKUP($A55,Mass!$A$3:$S$78,2,FALSE))*10000)*(N55/1000)","v":28590.058219710023},null,null,2.0594029690600656E-4,1.3900000000000002E-3,1.3900000000000001,{"$f":"(((VLOOKUP($A55,BD!$Q$2:$T$79,4,FALSE))*1000)*(VLOOKUP($A55,Mass!$A$3:$S$78,2,FALSE))*10000)*(U55/1000)","v":2515.201324392211}]
["Ne-0-T","avg 2 samples",{"v":4.6,"d":"4.60"},0.26,{"v":0.15015,"d":"0.1502"},{"v":0.165,"d":"0.16500"},0.00455,3.58,1.75,null,{"$f":"E56-(E56*((VLOOKUP(A56,Mass!A$1:T$79,18,FALSE)/100)))","v":0.14716781518140937},0.006769719498344831,0.046,46,{"v":0.046,"d":"5%"},{"$f":"(((VLOOKUP($A56,BD!$Q$2:$T$79,4,FALSE))*1000)*(VLOOKUP($A56,Mass!$A$3:$S$78,2,FALSE))*10000)*(N56/1000)","v":85449.47117867241},null,null,3.8263631947166435E-4,0.0026,2.6,{"$f":"(((VLOOKUP($A56,BD!$Q$2:$T$79,4,FALSE))*1000)*(VLOOKUP($A56,Mass!$A$3:$S$78,2,FALSE))*10000)*(U56/1000)","v":4829.752718794528}]
["Ne-0-S",null,3.68,{"v":0.206,"d":"0.21"},0.1501,{"$nulls":5},{"$f":"E57-(E57*((VLOOKUP(A57,Mass!A$1:T$79,18,FALSE)/100)))","v":0.14691612538524096},0.005406513414176867,0.0368,36.8,{"v":0.0368,"d":"4%"},{"$f":"(((VLOOKUP($A57,BD!$Q$2:$T$79,4,FALSE))*1000)*(VLOOKUP($A57,Mass!$A$3:$S$78,2,FALSE))*10000)*(N57/1000)","v":55264.02310198723},null,null,3.0264721829359632E-4,2.0599999999999998E-3,2.0599999999999996,{"$f":"(((VLOOKUP($A57,BD!$Q$2:$T$79,4,FALSE))*1000)*(VLOOKUP($A57,Mass!$A$3:$S$78,2,FALSE))*10000)*(U57/1000)","v":3093.5839019047194}]
["Ne-1-S",null,3.93,{"v":0.223,"d":"0.22"},0.1504,{"$nulls":5},{"$f":"E58-(E58*((VLOOKUP(A58,Mass!A$1:T$79,18,FALSE)/100)))","v":0.14722485899423576},0.005785936958473466,0.0393,39.300000000000004,{"v":0.0393,"d":"4%"},{"$f":"(((VLOOKUP($A58,BD!$Q$2:$T$79,4,FALSE))*1000)*(VLOOKUP($A58,Mass!$A$3:$S$78,2,FALSE))*10000)*(N58/1000)","v":58078.13928488469},null,null,3.2831143555714576E-4,0.00223,2.2300000000000004,{"$f":"(((VLOOKUP($A58,BD!$Q$2:$T$79,4,FALSE))*1000)*(VLOOKUP($A58,Mass!$A$3:$S$78,2,FALSE))*10000)*(U58/1000)","v":3295.528005223737}]
["Ae-0-S",null,5.53,{"v":0.289,"d":"0.29"},0.1497,{"$nulls":5},{"$f":"E59-(E59*((VLOOKUP(A59,Mass!A$1:T$79,18,FALSE)/100)))","v":0.14504097033959912},0.008020765659779832,0.05530000000000001,55.30000000000001,{"v":0.05530000000000001,"d":"6%"},{"$f":"(((VLOOKUP($A59,BD!$Q$2:$T$79,4,FALSE))*1000)*(VLOOKUP($A59,Mass!$A$3:$S$78,2,FALSE))*10000)*(N59/1000)","v":74848.08742354812},null,null,4.1916840428144142E-4,2.8899999999999998E-3,2.8899999999999997,{"$f":"(((VLOOKUP($A59,BD!$Q$2:$T$79,4,FALSE))*1000)*(VLOOKUP($A59,Mass!$A$3:$S$78,2,FALSE))*10000)*(U59/1000)","v":3911.590825570597}]
["Ae-1-S",null,4.61,{"v":0.253,"d":"0.25"},0.1502,{"$nulls":5},{"$f":"E60-(E60*((VLOOKUP(A60,Mass!A$1:T$79,18,FALSE)/100)))","v":0.14538686219880723},0.006702334347365013,0.0461,46.1,{"v":0.0461,"d":"5%"},{"$f":"(((VLOOKUP($A60,BD!$Q$2:$T$79,4,FALSE))*1000)*(VLOOKUP($A60,Mass!$A$3:$S$78,2,FALSE))*10000)*(N60/1000)","v":65449.32526825361},null,null,3.6782876136298232E-4,0.00253,2.5300000000000002,{"$f":"(((VLOOKUP($A60,BD!$Q$2:$T$79,4,FALSE))*1000)*(VLOOKUP($A60,Mass!$A$3:$S$78,2,FALSE))*10000)*(U60/1000)","v":3591.90440192368}]
["Ko-0-T",null,1.33,{"v":0.118,"d":"0.12"},0.1502,{"$nulls":5},{"$f":"E61-(E61*((VLOOKUP(A61,Mass!A$1:T$79,18,FALSE)/100)))","v":0.14798466792521373},1.9681960834053427E-3,0.013300000000000001,13.3,{"v":0.013300000000000001,"d":"1%"},{"$f":"(((VLOOKUP($A61,BD!$Q$2:$T$79,4,FALSE))*1000)*(VLOOKUP($A61,Mass!$A$3:$S$78,2,FALSE))*10000)*(N61/1000)","v":32561.78915250713},null,null,1.7462190815175217E-4,1.1799999999999998E-3,1.18,{"$f":"(((VLOOKUP($A61,BD!$Q$2:$T$79,4,FALSE))*1000)*(VLOOKUP($A61,Mass!$A$3:$S$78,2,FALSE))*10000)*(U61/1000)","v":2888.940691726196}]
["Ko-0-S",null,{"v":0.932,"d":"0.93"},{"v":0.0909,"d":"0.09"},{"v":0.15,"d":"0.1500"},{"$nulls":5},{"$f":"E62-(E62*((VLOOKUP(A62,Mass!A$1:T$79,18,FALSE)/100)))","v":0.148682841068917},1.3857240787623064E-3,0.00932,9.32,{"v":0.00932,"d":"1%"},{"$f":"(((VLOOKUP($A62,BD!$Q$2:$T$79,4,FALSE))*1000)*(VLOOKUP($A62,Mass!$A$3:$S$78,2,FALSE))*10000)*(N62/1000)","v":18655.226801676745},null,null,1.3515270253164555E-4,9.0900000000000009E-4,0.909,{"$f":"(((VLOOKUP($A62,BD!$Q$2:$T$79,4,FALSE))*1000)*(VLOOKUP($A62,Mass!$A$3:$S$78,2,FALSE))*10000)*(U62/1000)","v":1819.4851032965837}]
["Ko-1-T",null,1.36,{"v":0.124,"d":"0.12"},0.1506,{"$nulls":5},{"$f":"E63-(E63*((VLOOKUP(A63,Mass!A$1:T$79,18,FALSE)/100)))","v":0.14909208151796688},2.0276523086443497E-3,0.013600000000000001,13.600000000000001,{"v":0.013600000000000001,"d":"1%"},{"$f":"(((VLOOKUP($A63,BD!$Q$2:$T$79,4,FALSE))*1000)*(VLOOKUP($A63,Mass!$A$3:$S$78,2,FALSE))*10000)*(N63/1000)","v":33151.8670477116},null,null,1.8487418108227894E-4,1.24E-3,1.24,{"$f":"(((VLOOKUP($A63,BD!$Q$2:$T$79,4,FALSE))*1000)*(VLOOKUP($A63,Mass!$A$3:$S$78,2,FALSE))*10000)*(U63/1000)","v":3022.6702308207637}]
["Ko-1-S","avg 2 samples",1.02,{"v":0.0971,"d":"0.10"},{"v":0.15005000000000002,"d":"0.1501"},{"v":0.0158,"d":"0.01580"},{"v":0.000759,"d":"0.00076"},1.56,0.781,null,{"$f":"E64-(E64*((VLOOKUP(A64,Mass!A$1:T$79,18,FALSE)/100)))","v":0.1486226006594385},1.5159505267262727E-3,0.0102,10.200000000000001,{"v":0.0102,"d":"1%"},{"$f":"(((VLOOKUP($A64,BD!$Q$2:$T$79,4,FALSE))*1000)*(VLOOKUP($A64,Mass!$A$3:$S$78,2,FALSE))*10000)*(N64/1000)","v":20081.676805374744},null,null,1.4431254524031479E-4,9.7100000000000007E-4,0.9710000000000001,{"$f":"(((VLOOKUP($A64,BD!$Q$2:$T$79,4,FALSE))*1000)*(VLOOKUP($A64,Mass!$A$3:$S$78,2,FALSE))*10000)*(U64/1000)","v":1911.6968801979292}]
["Pa-0-T",null,3.41,{"v":0.235,"d":"0.24"},0.1509,{"$nulls":5},{"$f":"E65-(E65*((VLOOKUP(A65,Mass!A$1:T$79,18,FALSE)/100)))","v":0.14588391680830973},4.9746415631633616E-3,0.0341,34.1,{"v":0.0341,"d":"3%"},{"$f":"(((VLOOKUP($A65,BD!$Q$2:$T$79,4,FALSE))*1000)*(VLOOKUP($A65,Mass!$A$3:$S$78,2,FALSE))*10000)*(N65/1000)","v":68202.89677260918},null,null,3.428272044995278E-4,2.3499999999999997E-3,2.3499999999999996,{"$f":"(((VLOOKUP($A65,BD!$Q$2:$T$79,4,FALSE))*1000)*(VLOOKUP($A65,Mass!$A$3:$S$78,2,FALSE))*10000)*(U65/1000)","v":4700.199630956937}]
["Pa-0-S",null,2.85,0.19,0.1502,{"$nulls":5},{"$f":"E66-(E66*((VLOOKUP(A66,Mass!A$1:T$79,18,FALSE)/100)))","v":0.1448397699772171},{"$f":"((C66/100)*K66)","v":0.004127933444350688},{"$f":"(1*L66)/K66","v":0.028500000000000004},28.500000000000004,{"v":0.028500000000000004,"d":"3%"},{"$f":"(((VLOOKUP($A66,BD!$Q$2:$T$79,4,FALSE))*1000)*(VLOOKUP($A66,Mass!$A$3:$S$78,2,FALSE))*10000)*(N66/1000)","v":45451.11275333348},null,null,2.7519556295671249E-4,1.9000000000000002E-3,1.9000000000000001,{"$f":"(((VLOOKUP($A66,BD!$Q$2:$T$79,4,FALSE))*1000)*(VLOOKUP($A66,Mass!$A$3:$S$78,2,FALSE))*10000)*(U66/1000)","v":3030.074183555565}]
["Pa-1-T",null,3.41,{"v":0.227,"d":"0.23"},0.1495,{"$nulls":5},{"$f":"E67-(E67*((VLOOKUP(A67,Mass!A$1:T$79,18,FALSE)/100)))","v":0.14332829152868617},0.004887494741128198,0.0341,{"$f":"M67*1000","v":34.1},{"$f":"N67/1000","v":{"v":0.0341,"d":"3%"}},{"$f":"(((VLOOKUP($A67,BD!$Q$2:$T$79,4,FALSE))*1000)*(VLOOKUP($A67,Mass!$A$3:$S$78,2,FALSE))*10000)*(N67/1000)","v":68202.89677260918},null,null,{"$f":"((D67/100)*K67)","v":3.2535522177011761E-4},{"$f":"(1*S67)/K67","v":0.00227},{"$f":"T67*1000","v":2.27},{"$f":"(((VLOOKUP($A67,BD!$Q$2:$T$79,4,FALSE))*1000)*(VLOOKUP($A67,Mass!$A$3:$S$78,2,FALSE))*10000)*(U67/1000)","v":4540.192835009467}]
["Pa-1-S",null,2.74,{"v":0.196,"d":"0.20"},0.1491,{"$nulls":5},{"$f":"E68-(E68*((VLOOKUP(A68,Mass!A$1:T$79,18,FALSE)/100)))","v":0.14328648297512295},0.003926049633518369,0.0274,27.400000000000002,{"v":0.0274,"d":"3%"},{"$f":"(((VLOOKUP($A68,BD!$Q$2:$T$79,4,FALSE))*1000)*(VLOOKUP($A68,Mass!$A$3:$S$78,2,FALSE))*10000)*(N68/1000)","v":44089.43088509877},null,null,2.8084150663124096E-4,0.00196,1.96,{"$f":"(((VLOOKUP($A68,BD!$Q$2:$T$79,4,FALSE))*1000)*(VLOOKUP($A68,Mass!$A$3:$S$78,2,FALSE))*10000)*(U68/1000)","v":3153.842501269839}]
["Ni-0-T",null,6.62,{"v":0.312,"d":"0.31"},0.1506,{"$nulls":5},{"$f":"E69-(E69*((VLOOKUP(A69,Mass!A$1:T$79,18,FALSE)/100)))","v":0.1479323945366543},0.009793124518326514,0.0662,66.19999999999999,{"v":0.0662,"d":"7%"},{"$f":"(((VLOOKUP($A69,BD!$Q$2:$T$79,4,FALSE))*1000)*(VLOOKUP($A69,Mass!$A$3:$S$78,2,FALSE))*10000)*(N69/1000)","v":111501.6267784657},null,null,4.6154907095436143E-4,0.00312,3.12,{"$f":"(((VLOOKUP($A69,BD!$Q$2:$T$79,4,FALSE))*1000)*(VLOOKUP($A69,Mass!$A$3:$S$78,2,FALSE))*10000)*(U69/1000)","v":5255.061564181465}]
["Ni-1-T",null,7.37,{"v":0.336,"d":"0.34"},0.1502,{"$nulls":5},{"$f":"E70-(E70*((VLOOKUP(A70,Mass!A$1:T$79,18,FALSE)/100)))","v":0.14689090666076415},0.010825859820898318,0.0737,73.7,{"v":0.0737,"d":"7%"},{"$f":"(((VLOOKUP($A70,BD!$Q$2:$T$79,4,FALSE))*1000)*(VLOOKUP($A70,Mass!$A$3:$S$78,2,FALSE))*10000)*(N70/1000)","v":120368.98996521287},null,null,4.9355344638016762E-4,3.3600000000000006E-3,3.3600000000000008,{"$f":"(((VLOOKUP($A70,BD!$Q$2:$T$79,4,FALSE))*1000)*(VLOOKUP($A70,Mass!$A$3:$S$78,2,FALSE))*10000)*(U70/1000)","v":5487.6500174099765}]
["Ae-1-T",null,5.94,{"v":0.358,"d":"0.36"},0.1502,{"$nulls":5},{"$f":"E71-(E71*((VLOOKUP(A71,Mass!A$1:T$79,18,FALSE)/100)))","v":0.14404376156716417},0.008556199437089552,0.05940000000000001,59.400000000000006,{"v":0.05940000000000001,"d":"6%"},{"$f":"(((VLOOKUP($A71,BD!$Q$2:$T$79,4,FALSE))*1000)*(VLOOKUP($A71,Mass!$A$3:$S$78,2,FALSE))*10000)*(N71/1000)","v":103112.84327931453},null,null,5.1567666641044773E-4,0.00358,3.58,{"$f":"(((VLOOKUP($A71,BD!$Q$2:$T$79,4,FALSE))*1000)*(VLOOKUP($A71,Mass!$A$3:$S$78,2,FALSE))*10000)*(U71/1000)","v":6214.545099999091}]
["Ae-0-T",null,7.15,0.38,0.1505,{"$nulls":5},{"$f":"E72-(E72*((VLOOKUP(A72,Mass!A$1:T$79,18,FALSE)/100)))","v":0.14520118577494692},0.010381884782908706,0.07150000000000001,71.50000000000001,{"v":0.07150000000000001,"d":"7%"},{"$f":"(((VLOOKUP($A72,BD!$Q$2:$T$79,4,FALSE))*1000)*(VLOOKUP($A72,Mass!$A$3:$S$78,2,FALSE))*10000)*(N72/1000)","v":117807.29805187085},null,null,5.5176450594479826E-4,3.7999999999999996E-3,3.7999999999999994,{"$f":"(((VLOOKUP($A72,BD!$Q$2:$T$79,4,FALSE))*1000)*(VLOOKUP($A72,Mass!$A$3:$S$78,2,FALSE))*10000)*(U72/1000)","v":6261.087169190338}]
["Ne-1-T",null,4.82,{"v":0.281,"d":"0.28"},0.1494,{"$nulls":5},{"$f":"E73-(E73*((VLOOKUP(A73,Mass!A$1:T$79,18,FALSE)/100)))","v":0.14574230898690946},7.024779293169036E-3,0.0482,48.2,{"v":0.0482,"d":"5%"},{"$f":"(((VLOOKUP($A73,BD!$Q$2:$T$79,4,FALSE))*1000)*(VLOOKUP($A73,Mass!$A$3:$S$78,2,FALSE))*10000)*(N73/1000)","v":88464.33321367625},null,null,4.0953588825321565E-4,2.8100000000000004E-3,2.8100000000000005,{"$f":"(((VLOOKUP($A73,BD!$Q$2:$T$79,4,FALSE))*1000)*(VLOOKUP($A73,Mass!$A$3:$S$78,2,FALSE))*10000)*(U73/1000)","v":5157.360504780712}]
["Ik-0-T","avg 2 samples",7.42,{"v":0.324,"d":"0.32"},0.1498,{"v":0.585,"d":"0.58500"},{"v":0.031,"d":"0.03100"},7.88,9.56,null,{"$f":"E74-(E74*((VLOOKUP(A74,Mass!A$1:T$79,18,FALSE)/100)))","v":0.14684266854663772},0.01089572600616052,0.0742,74.2,{"v":0.0742,"d":"7%"},{"$f":"(((VLOOKUP($A74,BD!$Q$2:$T$79,4,FALSE))*1000)*(VLOOKUP($A74,Mass!$A$3:$S$78,2,FALSE))*10000)*(N74/1000)","v":120946.79904367327},null,null,4.7577024609110624E-4,3.2400000000000003E-3,3.24,{"$f":"(((VLOOKUP($A74,BD!$Q$2:$T$79,4,FALSE))*1000)*(VLOOKUP($A74,Mass!$A$3:$S$78,2,FALSE))*10000)*(U74/1000)","v":5281.234890855814}]
["Ik-0-S",null,{"v":6.2,"d":"6.20"},{"v":0.265,"d":"0.27"},0.1504,{"$nulls":5},{"$f":"E75-(E75*((VLOOKUP(A75,Mass!A$1:T$79,18,FALSE)/100)))","v":0.14815772644567968},0.00918577903963214,0.06199999999999999,61.99999999999999,{"v":0.06199999999999999,"d":"6%"},{"$f":"(((VLOOKUP($A75,BD!$Q$2:$T$79,4,FALSE))*1000)*(VLOOKUP($A75,Mass!$A$3:$S$78,2,FALSE))*10000)*(N75/1000)","v":81335.571576992},null,null,3.9261797508105117E-4,2.65E-3,2.65,{"$f":"(((VLOOKUP($A75,BD!$Q$2:$T$79,4,FALSE))*1000)*(VLOOKUP($A75,Mass!$A$3:$S$78,2,FALSE))*10000)*(U75/1000)","v":3476.4397528875616}]
["Ik-1-T","avg 2 samples",{"v":5.5,"d":"5.50"},{"v":0.276,"d":"0.28"},0.1504,{"v":0.122,"d":"0.12200"},0.00602,2.21,2.18,null,{"$f":"E76-(E76*((VLOOKUP(A76,Mass!A$1:T$79,18,FALSE)/100)))","v":0.14704188350175143},0.008087303592596328,0.055,55,{"v":0.055,"d":"6%"},{"$f":"(((VLOOKUP($A76,BD!$Q$2:$T$79,4,FALSE))*1000)*(VLOOKUP($A76,Mass!$A$3:$S$78,2,FALSE))*10000)*(N76/1000)","v":97489.69494519802},null,null,0.000405835598464834,2.7600000000000003E-3,2.7600000000000002,{"$f":"(((VLOOKUP($A76,BD!$Q$2:$T$79,4,FALSE))*1000)*(VLOOKUP($A76,Mass!$A$3:$S$78,2,FALSE))*10000)*(U76/1000)","v":4892.210146340847}]
["Ik-1-S",null,4.68,{"v":0.241,"d":"0.24"},0.1497,{"$nulls":5},{"$f":"E77-(E77*((VLOOKUP(A77,Mass!A$1:T$79,18,FALSE)/100)))","v":0.14686050883510282},0.006873071813482811,0.046799999999999994,46.8,{"v":0.046799999999999994,"d":"5%"},{"$f":"(((VLOOKUP($A77,BD!$Q$2:$T$79,4,FALSE))*1000)*(VLOOKUP($A77,Mass!$A$3:$S$78,2,FALSE))*10000)*(N77/1000)","v":66186.40803772803},null,null,3.5393382629259778E-4,0.00241,2.4099999999999997,{"$f":"(((VLOOKUP($A77,BD!$Q$2:$T$79,4,FALSE))*1000)*(VLOOKUP($A77,Mass!$A$3:$S$78,2,FALSE))*10000)*(U77/1000)","v":3408.317166045397}]
[]
[null,null,{"$f":"MIN(C2:C77)","v":{"v":0.932,"d":"0.93"}},{"$f":"C79*2","v":1.864}]
[null,null,{"$f":"MAX(C2:C77)","v":7.42},{"$f":"C80*2","v":{"v":14.84,"d":"14.840"}}]

{"sheet":"CO2","index":17,"n_rows":81,"n_cols":21,"rows_kept":81}
[{"$nulls":3},"CO2 ppm",{"$nulls":3},"CO2 mg/l",null,2022]
[null,null,"beginning","end","ml","difference","mg/m3","mg CO2","mg CO2/l","mg CO2-C/l",null,"sample mass g / 30 ml","Sample mass (BD)  g/ml","mg CO2-C/kg soil","CO2-C kg/ha",null,"Porosity","Pores/30 ml"]
["Mi-0-T","T",377,7529,475,{"$f":"D3-C3","v":7152},{"$f":"0.0409*F3*44.01","v":{"v":12873.664368,"d":"12,874"}},{"$f":"G3*E3/1000000","v":{"v":6.114990574799999,"d":"6"}},{"$f":"H3/30*1000","v":{"v":203.83301916,"d":"204"}},{"$f":"I3/3.667","v":{"v":55.585770155440414,"d":"56"}},null,{"v":29,"d":"29.00 "},{"$f":"L3/30","v":{"v":0.9666666666666667,"d":"0.97 "}},{"$f":"J3/M3","v":{"v":57.5025208504556,"d":"58"}},{"$f":"(((VLOOKUP($A3,BD!$Q$2:$T$79,4,FALSE))*1000)*(VLOOKUP($A3,Mass!$A$3:$S$78,2,FALSE))*10000)*(N3/1000000)","v":{"v":110.50545876888651,"d":"111"}},null,{"$f":"1-M3/2.6","v":{"v":0.6282051282051282,"d":"63%"}},{"$f":"30*Q3","v":{"v":18.846153846153847,"d":"19"}},{"$f":"9/R3","v":{"v":0.4775510204081633,"d":"48%"}}]
["Mi-0-S","S",511,3835,475,{"$f":"D4-C4","v":3324},{"$f":"0.0409*F4*44.01","v":{"v":5983.229915999999,"d":"5,983"}},{"$f":"G4*E4/1000000","v":{"v":2.8420342101,"d":"3"}},{"$f":"H4/30*1000","v":{"v":94.73447367,"d":"95"}},{"$f":"I4/3.667","v":{"v":25.834326062176167,"d":"26"}},null,{"v":33,"d":"33.00 "},{"$f":"L4/30","v":{"v":1.1,"d":"1.10 "}},{"$f":"J4/M4","v":{"v":23.485750965614695,"d":"23"}},{"$f":"(((VLOOKUP($A4,BD!$Q$2:$T$79,4,FALSE))*1000)*(VLOOKUP($A4,Mass!$A$3:$S$78,2,FALSE))*10000)*(N4/1000000)","v":{"v":39.62869890366798,"d":"40"}},null,{"$f":"1-M4/2.65","v":{"v":0.5849056603773584,"d":"58%"}},{"$f":"30*Q4","v":{"v":17.54716981132075,"d":"18"}},{"$f":"9/R4","v":{"v":0.5129032258064518,"d":"51%"}}]
["Mi-1-T","T",825,4997,475,4172,{"$f":"0.0409*F5*44.01","v":{"v":7509.637547999999,"d":"7,510"}},{"$f":"G5*E5/1000000","v":{"v":3.5670778352999997,"d":"4"}},{"v":118.90259450999999,"d":"119"},{"v":32.425032590673574,"d":"32"},null,{"v":30,"d":"30.00 "},{"v":1,"d":"1.00 "},{"v":32.425032590673574,"d":"32"},{"$f":"(((VLOOKUP($A5,BD!$Q$2:$T$79,4,FALSE))*1000)*(VLOOKUP($A5,Mass!$A$3:$S$78,2,FALSE))*10000)*(N5/1000000)","v":{"v":63.385887548650764,"d":"63"}},null,{"v":0.6226415094339622,"d":"62%"},{"v":18.67924528301887,"d":"19"},{"v":0.4818181818181818,"d":"48%"}]
["Mi-1-S","S",543,3643,475,3100,{"v":5580.027899999999,"d":"5,580"},{"v":2.6505132524999997,"d":"3"},{"v":88.35044174999999,"d":"88"},{"v":24.093384715025906,"d":"24"},null,{"v":30,"d":"30.00 "},{"v":1,"d":"1.00 "},{"v":24.093384715025906,"d":"24"},{"$f":"(((VLOOKUP($A6,BD!$Q$2:$T$79,4,FALSE))*1000)*(VLOOKUP($A6,Mass!$A$3:$S$78,2,FALSE))*10000)*(N6/1000000)","v":{"v":40.89538131730681,"d":"41"}},null,{"v":0.6226415094339622,"d":"62%"},{"v":18.67924528301887,"d":"19"},{"v":0.4818181818181818,"d":"48%"}]
["Mo-0-T","T",562,3155,475,2593,{"v":4667.423336999999,"d":"4,667"},{"v":2.2170260850749997,"d":"2"},{"v":73.9008695025,"d":"74"},{"v":20.152950505181348,"d":"20"},null,{"v":29,"d":"29.00 "},{"v":0.9666666666666667,"d":"0.97 "},{"v":20.847879832946223,"d":"21"},{"$f":"(((VLOOKUP($A7,BD!$Q$2:$T$79,4,FALSE))*1000)*(VLOOKUP($A7,Mass!$A$3:$S$78,2,FALSE))*10000)*(N7/1000000)","v":{"v":46.36747636632787,"d":"46"}},null,{"v":0.6352201257861635,"d":"64%"},{"v":19.056603773584904,"d":"19"},{"v":0.4722772277227723,"d":"47%"}]
["Mo-0-S","S",479,2884,475,2405,{"v":4329.021645,"d":"4,329"},{"v":2.056285281375,"d":"2"},{"v":68.5428427125,"d":"69"},{"v":18.69180330310881,"d":"19"},null,{"v":28,"d":"28.00 "},{"v":0.9333333333333333,"d":"0.93 "},{"v":20.026932110473723,"d":"20"},{"$f":"(((VLOOKUP($A8,BD!$Q$2:$T$79,4,FALSE))*1000)*(VLOOKUP($A8,Mass!$A$3:$S$78,2,FALSE))*10000)*(N8/1000000)","v":{"v":34.89422928032463,"d":"35"}},null,{"v":0.6477987421383647,"d":"65%"},{"v":19.433962264150942,"d":"19"},{"v":0.4631067961165049,"d":"46%"}]
["Mo-1-T","T",350,5284,475,4934,{"v":8881.244406,"d":"8,881"},{"v":4.21859109285,"d":"4"},{"v":140.619703095,"d":"141"},{"v":38.347341994818656,"d":"38"},null,{"v":27,"d":"27.00 "},{"v":0.9,"d":"0.90 "},{"v":42.608157772020725,"d":"43"},{"$f":"(((VLOOKUP($A9,BD!$Q$2:$T$79,4,FALSE))*1000)*(VLOOKUP($A9,Mass!$A$3:$S$78,2,FALSE))*10000)*(N9/1000000)","v":{"v":93.92485096786125,"d":"94"}},null,{"v":0.660377358490566,"d":"66%"},{"v":19.81132075471698,"d":"20"},{"v":0.4542857142857143,"d":"45%"}]
["Mo-1-S","S",828,4573,475,3745,{"v":6741.033705,"d":"6,741"},{"v":3.201991009875,"d":"3"},{"v":106.7330336625,"d":"107"},{"v":29.106363147668397,"d":"29"},null,{"v":29,"d":"29.00 "},{"v":0.9666666666666667,"d":"0.97 "},{"v":30.110030842415583,"d":"30"},{"$f":"(((VLOOKUP($A10,BD!$Q$2:$T$79,4,FALSE))*1000)*(VLOOKUP($A10,Mass!$A$3:$S$78,2,FALSE))*10000)*(N10/1000000)","v":{"v":51.68345452848744,"d":"52"}},null,{"v":0.6352201257861635,"d":"64%"},{"v":19.056603773584904,"d":"19"},{"v":0.4722772277227723,"d":"47%"}]
["Pu-0-T","T",1172,6119,475,4947,{"v":8904.644522999999,"d":"8,905"},{"v":4.229706148425,"d":"4"},{"v":140.99020494749996,"d":"141"},{"v":38.44837876943004,"d":"38"},null,{"v":27,"d":"27.00 "},{"v":0.9,"d":"0.90 "},{"v":42.72042085492227,"d":"43"},{"$f":"(((VLOOKUP($A11,BD!$Q$2:$T$79,4,FALSE))*1000)*(VLOOKUP($A11,Mass!$A$3:$S$78,2,FALSE))*10000)*(N11/1000000)","v":{"v":88.73875948113735,"d":"89"}},null,{"v":0.660377358490566,"d":"66%"},{"v":19.81132075471698,"d":"20"},{"v":0.4542857142857143,"d":"45%"}]
["Pu-0-S","S",583,4360,475,3777,{"v":6798.6339929999995,"d":"6,799"},{"v":3.229351146675,"d":"3"},{"v":107.6450382225,"d":"108"},{"v":29.355069054404147,"d":"29"},null,{"v":29,"d":"29.00 "},{"v":0.9666666666666667,"d":"0.97 "},{"v":30.367312814900842,"d":"30"},{"$f":"(((VLOOKUP($A12,BD!$Q$2:$T$79,4,FALSE))*1000)*(VLOOKUP($A12,Mass!$A$3:$S$78,2,FALSE))*10000)*(N12/1000000)","v":{"v":49.52922867598178,"d":"50"}},null,{"v":0.6352201257861635,"d":"64%"},{"v":19.056603773584904,"d":"19"},{"v":0.4722772277227723,"d":"47%"}]
["Pu-1-T","T",500,7440,475,6940,{"v":12492.06246,"d":"12,492"},{"v":5.9337296685,"d":"6"},{"v":197.79098894999998,"d":"198"},{"v":53.93809352331606,"d":"54"},null,{"v":27,"d":"27.00 "},{"v":0.9,"d":"0.90 "},{"v":59.93121502590674,"d":"60"},{"$f":"(((VLOOKUP($A13,BD!$Q$2:$T$79,4,FALSE))*1000)*(VLOOKUP($A13,Mass!$A$3:$S$78,2,FALSE))*10000)*(N13/1000000)","v":{"v":118.96181785000748,"d":"119"}},null,{"v":0.660377358490566,"d":"66%"},{"v":19.81132075471698,"d":"20"},{"v":0.4542857142857143,"d":"45%"}]
["Pu-1-S","S",542,6035,475,5493,{"v":9887.449437,"d":"9,887"},{"v":4.696538482574999,"d":"5"},{"v":156.55128275249996,"d":"157"},{"v":42.6919233031088,"d":"43"},null,{"v":28,"d":"28.00 "},{"v":0.9333333333333333,"d":"0.93 "},{"v":45.741346396188,"d":"46"},{"$f":"(((VLOOKUP($A14,BD!$Q$2:$T$79,4,FALSE))*1000)*(VLOOKUP($A14,Mass!$A$3:$S$78,2,FALSE))*10000)*(N14/1000000)","v":{"v":71.44015157312057,"d":"71"}},null,{"v":0.6477987421383647,"d":"65%"},{"v":19.433962264150942,"d":"19"},{"v":0.4631067961165049,"d":"46%"}]
["Si-0-T","T",601,4911,475,4310,{"v":7758.03879,"d":"7,758"},{"v":3.68506842525,"d":"4"},{"v":122.83561417499999,"d":"123"},{"v":33.497576813471504,"d":"33"},null,{"v":26,"d":"26.00 "},{"v":0.8666666666666667,"d":"0.87 "},{"v":38.651050169390196,"d":"39"},{"$f":"(((VLOOKUP($A15,BD!$Q$2:$T$79,4,FALSE))*1000)*(VLOOKUP($A15,Mass!$A$3:$S$78,2,FALSE))*10000)*(N15/1000000)","v":{"v":82.0838416493204,"d":"82"}},null,{"v":0.6729559748427673,"d":"67%"},{"v":20.18867924528302,"d":"20"},{"v":0.4457943925233645,"d":"45%"}]
["Si-0-S","S",244,2961,475,2717,{"v":4890.624452999999,"d":"4,891"},{"v":2.323046615175,"d":"2"},{"v":77.4348871725,"d":"77"},{"v":21.116685893782385,"d":"21"},null,{"v":27,"d":"27.00 "},{"v":0.9,"d":"0.90 "},{"v":23.462984326424873,"d":"23"},{"$f":"(((VLOOKUP($A16,BD!$Q$2:$T$79,4,FALSE))*1000)*(VLOOKUP($A16,Mass!$A$3:$S$78,2,FALSE))*10000)*(N16/1000000)","v":{"v":39.55172585225956,"d":"40"}},null,{"v":0.660377358490566,"d":"66%"},{"v":19.81132075471698,"d":"20"},{"v":0.4542857142857143,"d":"45%"}]
["Si-1-T","T",920,4915,475,{"$f":"D17-C17","v":3995},{"v":7191.035954999999,"d":"7,191"},{"$f":"G17*E17/1000000","v":{"v":3.4157420786249997,"d":"3"}},{"v":113.85806928749999,"d":"114"},{"v":31.04937804404145,"d":"31"},null,{"v":27,"d":"27.00 "},{"v":0.9,"d":"0.90 "},{"v":34.499308937823834,"d":"34"},{"$f":"(((VLOOKUP($A17,BD!$Q$2:$T$79,4,FALSE))*1000)*(VLOOKUP($A17,Mass!$A$3:$S$78,2,FALSE))*10000)*(N17/1000000)","v":{"v":72.77465175500951,"d":"73"}},null,{"v":0.660377358490566,"d":"66%"},{"v":19.81132075471698,"d":"20"},{"v":0.4542857142857143,"d":"45%"}]
["Si-1-S","S",406,3658,475,{"$f":"D18-C18","v":3252},{"$f":"0.0409*F18*44.01","v":{"v":5853.629268,"d":"5,854"}},{"$f":"G18*E18/1000000","v":{"v":2.7804739023,"d":"3"}},{"v":92.68246341,"d":"93"},{"v":25.274737772020725,"d":"25"},null,{"v":29,"d":"29.00 "},{"v":0.9666666666666667,"d":"0.97 "},{"v":26.146280453814544,"d":"26"},{"$f":"(((VLOOKUP($A18,BD!$Q$2:$T$79,4,FALSE))*1000)*(VLOOKUP($A18,Mass!$A$3:$S$78,2,FALSE))*10000)*(N18/1000000)","v":{"v":44.83319221558517,"d":"45"}},null,{"v":0.6352201257861635,"d":"64%"},{"v":19.056603773584904,"d":"19"},{"v":0.4722772277227723,"d":"47%"}]
["Li-0-T","T",561,6733,475,{"$f":"D19-C19","v":6172},{"$f":"0.0409*F19*44.01","v":{"v":11109.655547999999,"d":"11,110"}},{"$f":"G19*E19/1000000","v":{"v":5.2770863853,"d":"5"}},{"v":175.90287951,"d":"176"},{"v":47.96915176165803,"d":"48"},null,{"v":31,"d":"31.00 "},{"v":1.0333333333333334,"d":"1.03 "},{"v":46.42175976934648,"d":"46"},{"$f":"(((VLOOKUP($A19,BD!$Q$2:$T$79,4,FALSE))*1000)*(VLOOKUP($A19,Mass!$A$3:$S$78,2,FALSE))*10000)*(N19/1000000)","v":{"v":95.16839000365857,"d":"95"}},null,{"v":0.610062893081761,"d":"61%"},{"v":18.30188679245283,"d":"18"},{"v":0.49175257731958766,"d":"49%"}]
["Li-0-S","S",489,3485,475,{"$f":"D20-C20","v":2996},{"$f":"0.0409*F20*44.01","v":{"v":5392.826964,"d":"5,393"}},{"$f":"G20*E20/1000000","v":{"v":2.5615928079,"d":"3"}},{"v":85.38642693,"d":"85"},{"v":23.285090518134716,"d":"23"},null,{"v":31,"d":"31.00 "},{"v":1.0333333333333334,"d":"1.03 "},{"v":22.53395856593682,"d":"23"},{"$f":"(((VLOOKUP($A20,BD!$Q$2:$T$79,4,FALSE))*1000)*(VLOOKUP($A20,Mass!$A$3:$S$78,2,FALSE))*10000)*(N20/1000000)","v":{"v":39.481127482901954,"d":"39"}},null,{"v":0.610062893081761,"d":"61%"},{"v":18.30188679245283,"d":"18"},{"v":0.49175257731958766,"d":"49%"}]
["Li-1-T","T",319,8620,475,{"$f":"D21-C21","v":8301},{"$f":"0.0409*F21*44.01","v":{"v":14941.874709,"d":"14,942"}},{"$f":"G21*E21/1000000","v":{"v":7.097390486775,"d":"7"}},{"v":236.57968289250002,"d":"237"},{"v":64.51586661917099,"d":"65"},null,{"v":28,"d":"28.00 "},{"v":0.9333333333333333,"d":"0.93 "},{"v":69.12414280625464,"d":"69"},{"$f":"(((VLOOKUP($A21,BD!$Q$2:$T$79,4,FALSE))*1000)*(VLOOKUP($A21,Mass!$A$3:$S$78,2,FALSE))*10000)*(N21/1000000)","v":{"v":134.1756584447629,"d":"134"}},null,{"v":0.6477987421383647,"d":"65%"},{"v":19.433962264150942,"d":"19"},{"v":0.4631067961165049,"d":"46%"},null,{"$f":"#REF!-#REF!","v":{"$error":"#REF!"}}]
["Li-1-S","S",706,4870,475,4164,{"v":7495.237476,"d":"7,495"},{"v":3.5602378011000004,"d":"4"},{"v":118.67459337000001,"d":"119"},{"v":32.36285611398964,"d":"32"},null,{"v":31,"d":"31.00 "},{"v":1.0333333333333334,"d":"1.03 "},{"v":31.31889301353836,"d":"31"},{"$f":"(((VLOOKUP($A22,BD!$Q$2:$T$79,4,FALSE))*1000)*(VLOOKUP($A22,Mass!$A$3:$S$78,2,FALSE))*10000)*(N22/1000000)","v":{"v":52.49046903650768,"d":"52"}},null,{"v":0.610062893081761,"d":"61%"},{"v":18.30188679245283,"d":"18"},{"v":0.49175257731958766,"d":"49%"}]
["Ki-0-T","T",672,4427,475,3755,{"v":6759.033794999999,"d":"6,759"},{"v":3.2105410526249996,"d":"3"},{"v":107.0180350875,"d":"107"},{"v":29.184083743523317,"d":"29"},null,{"v":33,"d":"33.00 "},{"v":1.1,"d":"1.10 "},{"v":26.53098522138483,"d":"27"},{"$f":"(((VLOOKUP($A23,BD!$Q$2:$T$79,4,FALSE))*1000)*(VLOOKUP($A23,Mass!$A$3:$S$78,2,FALSE))*10000)*(N23/1000000)","v":{"v":61.20341090521648,"d":"61"}},null,{"v":0.5849056603773584,"d":"58%"},{"v":17.54716981132075,"d":"18"},{"v":0.5129032258064518,"d":"51%"},null,{"$f":"#REF!-#REF!","v":{"$error":"#REF!"}}]
["Ki-0-S","S",566,2728,475,2162,{"v":3891.6194579999997,"d":"3,892"},{"v":1.8485192425499999,"d":"2"},{"v":61.617308085,"d":"62"},{"v":16.8031928238342,"d":"17"},null,{"v":36,"d":"36.00 "},{"v":1.2,"d":"1.20 "},{"v":14.002660686528499,"d":"14"},{"$f":"(((VLOOKUP($A24,BD!$Q$2:$T$79,4,FALSE))*1000)*(VLOOKUP($A24,Mass!$A$3:$S$78,2,FALSE))*10000)*(N24/1000000)","v":{"v":26.82563563903723,"d":"27"}},null,{"v":0.5471698113207547,"d":"55%"},{"v":16.41509433962264,"d":"16"},{"v":0.5482758620689655,"d":"55%"}]
["Ki-1-T","T",282,6136,475,5854,{"v":10537.252686,"d":"10,537"},{"v":5.00519502585,"d":"5"},{"v":166.839834195,"d":"167"},{"v":45.49763681347151,"d":"45"},null,{"v":33,"d":"33.00 "},{"v":1.1,"d":"1.10 "},{"v":41.361488012246824,"d":"41"},{"$f":"(((VLOOKUP($A25,BD!$Q$2:$T$79,4,FALSE))*1000)*(VLOOKUP($A25,Mass!$A$3:$S$78,2,FALSE))*10000)*(N25/1000000)","v":{"v":91.17670888625747,"d":"91"}},null,{"v":0.5849056603773584,"d":"58%"},{"v":17.54716981132075,"d":"18"},{"v":0.5129032258064518,"d":"51%"}]
["Ki-1-S","S",438,3536,475,3098,{"v":5576.427881999999,"d":"5,576"},{"v":2.6488032439499998,"d":"3"},{"v":88.293441465,"d":"88"},{"v":24.077840595854923,"d":"24"},null,{"v":37,"d":"37.00 "},{"v":1.2333333333333334,"d":"1.23 "},{"v":19.522573456098584,"d":"20"},{"$f":"(((VLOOKUP($A26,BD!$Q$2:$T$79,4,FALSE))*1000)*(VLOOKUP($A26,Mass!$A$3:$S$78,2,FALSE))*10000)*(N26/1000000)","v":{"v":35.37116403284054,"d":"35"}},null,{"v":0.5345911949685533,"d":"53%"},{"v":16.0377358490566,"d":"16"},{"v":0.5611764705882355,"d":"56%"}]
["Mu-0-S","S",1002,5760,475,4758,{"v":8564.442821999999,"d":"8,564"},{"v":4.06811034045,"d":"4"},{"v":135.60367801499999,"d":"136"},{"v":36.97945950777202,"d":"37"},null,{"v":29,"d":"29.00 "},{"v":0.9666666666666667,"d":"0.97 "},{"v":38.25461328390209,"d":"38"},{"$f":"(((VLOOKUP($A27,BD!$Q$2:$T$79,4,FALSE))*1000)*(VLOOKUP($A27,Mass!$A$3:$S$78,2,FALSE))*10000)*(N27/1000000)","v":{"v":58.92399625042767,"d":"59"}},null,{"v":0.6352201257861635,"d":"64%"},{"v":19.056603773584904,"d":"19"},{"v":0.4722772277227723,"d":"47%"}]
["Mu-0-T","T",715,9584,475,8869,{"v":15964.279820999998,"d":"15,964"},{"v":7.583032914975,"d":"8"},{"v":252.76776383249998,"d":"253"},{"v":68.93039646373057,"d":"69"},null,{"v":26,"d":"26.00 "},{"v":0.8666666666666667,"d":"0.87 "},{"v":79.53507284276604,"d":"80"},{"$f":"(((VLOOKUP($A28,BD!$Q$2:$T$79,4,FALSE))*1000)*(VLOOKUP($A28,Mass!$A$3:$S$78,2,FALSE))*10000)*(N28/1000000)","v":{"v":148.82945765643163,"d":"149"}},null,{"v":0.6729559748427673,"d":"67%"},{"v":20.18867924528302,"d":"20"},{"v":0.4457943925233645,"d":"45%"}]
["Mu-1-T","T",741,9654,475,8913,{"v":16043.480216999998,"d":"16,043"},{"v":7.620653103074999,"d":"8"},{"v":254.0217701025,"d":"254"},{"v":69.27236708549223,"d":"69"},null,{"v":29,"d":"29.00 "},{"v":0.9666666666666667,"d":"0.97 "},{"v":71.66106939878507,"d":"72"},{"$f":"(((VLOOKUP($A29,BD!$Q$2:$T$79,4,FALSE))*1000)*(VLOOKUP($A29,Mass!$A$3:$S$78,2,FALSE))*10000)*(N29/1000000)","v":{"v":133.1916361780729,"d":"133"}},null,{"v":0.6352201257861635,"d":"64%"},{"v":19.056603773584904,"d":"19"},{"v":0.4722772277227723,"d":"47%"}]
["Mu-1-S","S",402,6322,475,5920,{"v":10656.053279999998,"d":"10,656"},{"v":5.061625307999999,"d":"5"},{"v":168.72084359999997,"d":"169"},{"v":46.010592746113986,"d":"46"},null,{"v":30,"d":"30.00 "},{"v":1,"d":"1.00 "},{"v":46.010592746113986,"d":"46"},{"$f":"(((VLOOKUP($A30,BD!$Q$2:$T$79,4,FALSE))*1000)*(VLOOKUP($A30,Mass!$A$3:$S$78,2,FALSE))*10000)*(N30/1000000)","v":{"v":70.42131685538955,"d":"70"}},null,{"v":0.6226415094339622,"d":"62%"},{"v":18.67924528301887,"d":"19"},{"v":0.4818181818181818,"d":"48%"}]
["KP-0-T","T",760,9163,475,8403,{"v":15125.475627,"d":"15,125"},{"v":7.184600922825,"d":"7"},{"v":239.48669742750002,"d":"239"},{"v":65.3086166968912,"d":"65"},null,{"v":29,"d":"29.00 "},{"v":0.9666666666666667,"d":"0.97 "},{"v":67.56063796230124,"d":"68"},{"$f":"(((VLOOKUP($A31,BD!$Q$2:$T$79,4,FALSE))*1000)*(VLOOKUP($A31,Mass!$A$3:$S$78,2,FALSE))*10000)*(N31/1000000)","v":{"v":140.55935463357775,"d":"141"}},null,{"v":0.6352201257861635,"d":"64%"},{"v":19.056603773584904,"d":"19"},{"v":0.4722772277227723,"d":"47%"}]
["KP-0-S","S",616,5592,475,4976,{"v":8956.844783999999,"d":"8,957"},{"v":4.254501272399999,"d":"4"},{"v":141.81670907999995,"d":"142"},{"v":38.67376849740931,"d":"39"},null,{"v":31,"d":"31.00 "},{"v":1.0333333333333334,"d":"1.03 "},{"v":37.42622757813804,"d":"37"},{"$f":"(((VLOOKUP($A32,BD!$Q$2:$T$79,4,FALSE))*1000)*(VLOOKUP($A32,Mass!$A$3:$S$78,2,FALSE))*10000)*(N32/1000000)","v":{"v":63.91173137957679,"d":"64"}},null,{"v":0.610062893081761,"d":"61%"},{"v":18.30188679245283,"d":"18"},{"v":0.49175257731958766,"d":"49%"}]
["KP-1-T","T",1210,9311,475,8101,{"v":14581.872908999998,"d":"14,582"},{"v":6.926389631774999,"d":"7"},{"v":230.87965439249996,"d":"231"},{"v":62.96145470207253,"d":"63"},null,{"v":30,"d":"30.00 "},{"v":1,"d":"1.00 "},{"v":62.96145470207253,"d":"63"},{"$f":"(((VLOOKUP($A33,BD!$Q$2:$T$79,4,FALSE))*1000)*(VLOOKUP($A33,Mass!$A$3:$S$78,2,FALSE))*10000)*(N33/1000000)","v":{"v":128.6881501977392,"d":"129"}},null,{"v":0.6226415094339622,"d":"62%"},{"v":18.67924528301887,"d":"19"},{"v":0.4818181818181818,"d":"48%"}]
["KP-1-S","S",939,5344,475,4405,{"v":7929.039645,"d":"7,929"},{"v":3.766293831375,"d":"4"},{"v":125.54312771250001,"d":"126"},{"v":34.23592247409327,"d":"34"},null,{"v":30,"d":"30.00 "},{"v":1,"d":"1.00 "},{"v":34.23592247409327,"d":"34"},{"$f":"(((VLOOKUP($A34,BD!$Q$2:$T$79,4,FALSE))*1000)*(VLOOKUP($A34,Mass!$A$3:$S$78,2,FALSE))*10000)*(N34/1000000)","v":{"v":57.37941081716545,"d":"57"}},null,{"v":0.6226415094339622,"d":"62%"},{"v":18.67924528301887,"d":"19"},{"v":0.4818181818181818,"d":"48%"}]
["Pi-0-T","T",915,6407,475,5492,{"v":9885.649427999999,"d":"9,886"},{"v":4.695683478299999,"d":"5"},{"v":156.52278261,"d":"157"},{"v":42.68415124352332,"d":"43"},null,{"v":31,"d":"31.00 "},{"v":1.0333333333333334,"d":"1.03 "},{"$f":"J35/M35","v":{"v":41.307243138893526,"d":"41"}},{"$f":"(((VLOOKUP($A35,BD!$Q$2:$T$79,4,FALSE))*1000)*(VLOOKUP($A35,Mass!$A$3:$S$78,2,FALSE))*10000)*(N35/1000000)","v":{"v":82.79174236145259,"d":"83"}},null,{"v":0.610062893081761,"d":"61%"},{"v":18.30188679245283,"d":"18"},{"v":0.49175257731958766,"d":"49%"}]
["Pi-0-S","S",789,4467,475,3678,{"v":6620.433101999999,"d":"6,620"},{"v":3.1447057234499995,"d":"3"},{"v":104.82352411499998,"d":"105"},{"v":28.58563515544041,"d":"29"},null,{"v":30,"d":"30.00 "},{"v":1,"d":"1.00 "},{"v":28.58563515544041,"d":"29"},{"$f":"(((VLOOKUP($A36,BD!$Q$2:$T$79,4,FALSE))*1000)*(VLOOKUP($A36,Mass!$A$3:$S$78,2,FALSE))*10000)*(N36/1000000)","v":{"v":46.58305194979871,"d":"47"}},null,{"v":0.6226415094339622,"d":"62%"},{"v":18.67924528301887,"d":"19"},{"v":0.4818181818181818,"d":"48%"}]
["Pi-1-T","T",611,5817,475,5206,{"v":9370.846854,"d":"9,371"},{"v":4.451152255649999,"d":"4"},{"v":148.37174185499998,"d":"148"},{"v":40.46134220207254,"d":"40"},null,{"v":29,"d":"29.00 "},{"v":0.9666666666666667,"d":"0.97 "},{"v":41.856560898695726,"d":"42"},{"$f":"(((VLOOKUP($A37,BD!$Q$2:$T$79,4,FALSE))*1000)*(VLOOKUP($A37,Mass!$A$3:$S$78,2,FALSE))*10000)*(N37/1000000)","v":{"v":82.97124262913127,"d":"83"}},null,{"v":0.6352201257861635,"d":"64%"},{"v":19.056603773584904,"d":"19"},{"v":0.4722772277227723,"d":"47%"}]
["Pi-1-S","S",551,3829,475,3278,{"v":5900.429502,"d":"5,900"},{"v":2.80270401345,"d":"3"},{"v":93.42346711500001,"d":"93"},{"v":25.476811321243527,"d":"25"},null,{"v":31,"d":"31.00 "},{"v":1.0333333333333334,"d":"1.03 "},{"v":24.654978697977604,"d":"25"},{"$f":"(((VLOOKUP($A38,BD!$Q$2:$T$79,4,FALSE))*1000)*(VLOOKUP($A38,Mass!$A$3:$S$78,2,FALSE))*10000)*(N38/1000000)","v":{"v":39.8376873012519,"d":"40"}},null,{"v":0.610062893081761,"d":"61%"},{"v":18.30188679245283,"d":"18"},{"v":0.49175257731958766,"d":"49%"}]
["Ai-0-T","T",406,4899,475,4493,{"v":8087.440436999999,"d":"8,087"},{"v":3.841534207575,"d":"4"},{"v":128.0511402525,"d":"128"},{"v":34.919863717616586,"d":"35"},null,{"v":35,"d":"35.00 "},{"v":1.1666666666666667,"d":"1.17 "},{"v":29.931311757957072,"d":"30"},{"$f":"(((VLOOKUP($A39,BD!$Q$2:$T$79,4,FALSE))*1000)*(VLOOKUP($A39,Mass!$A$3:$S$78,2,FALSE))*10000)*(N39/1000000)","v":{"v":71.85355888585958,"d":"72"}},null,{"v":0.5597484276729559,"d":"56%"},{"v":16.792452830188676,"d":"17"},{"v":0.5359550561797753,"d":"54%"}]
["Ai-0-S","S",258,4104,475,3846,{"v":6922.834613999999,"d":"6,923"},{"v":3.28834644165,"d":"3"},{"v":109.611548055,"d":"110"},{"v":29.89134116580311,"d":"30"},null,{"v":35,"d":"35.00 "},{"v":1.1666666666666667,"d":"1.17 "},{"v":25.621149570688377,"d":"26"},{"$f":"(((VLOOKUP($A40,BD!$Q$2:$T$79,4,FALSE))*1000)*(VLOOKUP($A40,Mass!$A$3:$S$78,2,FALSE))*10000)*(N40/1000000)","v":{"v":48.927042764605595,"d":"49"}},null,{"v":0.5597484276729559,"d":"56%"},{"v":16.792452830188676,"d":"17"},{"v":0.5359550561797753,"d":"54%"}]
["Ai-1-T","T",247,7397,475,7150,{"v":12870.064349999999,"d":"12,870"},{"v":6.113280566249999,"d":"6"},{"v":203.776018875,"d":"204"},{"v":55.57022603626943,"d":"56"},null,{"v":31,"d":"31.00 "},{"v":1.0333333333333334,"d":"1.03 "},{"v":53.77763809961557,"d":"54"},{"$f":"(((VLOOKUP($A41,BD!$Q$2:$T$79,4,FALSE))*1000)*(VLOOKUP($A41,Mass!$A$3:$S$78,2,FALSE))*10000)*(N41/1000000)","v":{"v":122.93854741530352,"d":"123"}},null,{"v":0.610062893081761,"d":"61%"},{"v":18.30188679245283,"d":"18"},{"v":0.49175257731958766,"d":"49%"}]
["Ai-1-S","S",409,6365,475,5956,{"v":10720.853603999998,"d":"10,721"},{"v":5.092405461899999,"d":"5"},{"v":169.74684872999998,"d":"170"},{"v":46.29038689119171,"d":"46"},null,{"v":31,"d":"31.00 "},{"v":1.0333333333333334,"d":"1.03 "},{"v":44.79714860437907,"d":"45"},{"$f":"(((VLOOKUP($A42,BD!$Q$2:$T$79,4,FALSE))*1000)*(VLOOKUP($A42,Mass!$A$3:$S$78,2,FALSE))*10000)*(N42/1000000)","v":{"v":79.11681465950214,"d":"79"}},null,{"v":0.610062893081761,"d":"61%"},{"v":18.30188679245283,"d":"18"},{"v":0.49175257731958766,"d":"49%"}]
["Ja-0-T","T",213,3721,475,3508,{"v":6314.431571999999,"d":"6,314"},{"v":2.9993549966999997,"d":"3"},{"v":99.97849989,"d":"100"},{"v":27.264385025906737,"d":"27"},null,{"v":28,"d":"28.00 "},{"v":0.9333333333333333,"d":"0.93 "},{"v":29.21184109918579,"d":"29"},{"$f":"(((VLOOKUP($A43,BD!$Q$2:$T$79,4,FALSE))*1000)*(VLOOKUP($A43,Mass!$A$3:$S$78,2,FALSE))*10000)*(N43/1000000)","v":{"v":60.16110092306195,"d":"60"}},null,{"v":0.6477987421383647,"d":"65%"},{"v":19.433962264150942,"d":"19"},{"v":0.4631067961165049,"d":"46%"}]
["Ja-1-T","T",627,5086,475,4459,{"v":8026.240131,"d":"8,026"},{"v":3.812464062225,"d":"4"},{"v":127.08213540749999,"d":"127"},{"v":34.655613691709846,"d":"35"},null,{"v":28,"d":"28.00 "},{"v":0.9333333333333333,"d":"0.93 "},{"v":37.13101466968912,"d":"37"},{"$f":"(((VLOOKUP($A44,BD!$Q$2:$T$79,4,FALSE))*1000)*(VLOOKUP($A44,Mass!$A$3:$S$78,2,FALSE))*10000)*(N44/1000000)","v":{"v":78.06714019976815,"d":"78"}},null,{"v":0.6477987421383647,"d":"65%"},{"v":19.433962264150942,"d":"19"},{"v":0.4631067961165049,"d":"46%"}]
["Ni-0-T","T",498,8034,475,7536,{"v":13564.867823999999,"d":"13,565"},{"v":6.443312216399999,"d":"6"},{"v":214.77707387999996,"d":"215"},{"v":58.57024103626942,"d":"59"},null,{"v":25,"d":"25.00 "},{"v":0.8333333333333334,"d":"0.83 "},{"v":70.2842892435233,"d":"70"},{"$f":"(((VLOOKUP($A45,BD!$Q$2:$T$79,4,FALSE))*1000)*(VLOOKUP($A45,Mass!$A$3:$S$78,2,FALSE))*10000)*(N45/1000000)","v":{"v":118.3808547979013,"d":"118"}},null,{"v":0.6855345911949685,"d":"69%"},{"v":20.566037735849054,"d":"21"},{"v":0.4376146788990826,"d":"44%"}]
["Ni-1-T","T",518,8725,475,8207,{"v":14772.673862999998,"d":"14,773"},{"v":7.017020084924999,"d":"7"},{"v":233.90066949749996,"d":"234"},{"v":63.78529301813471,"d":"64"},null,{"v":26,"d":"26.00 "},{"v":0.8666666666666667,"d":"0.87 "},{"v":73.59841502092466,"d":"74"},{"$f":"(((VLOOKUP($A46,BD!$Q$2:$T$79,4,FALSE))*1000)*(VLOOKUP($A46,Mass!$A$3:$S$78,2,FALSE))*10000)*(N46/1000000)","v":{"v":120.20307841396541,"d":"120"}},null,{"v":0.6729559748427673,"d":"67%"},{"v":20.18867924528302,"d":"20"},{"v":0.4457943925233645,"d":"45%"}]
["Jn-0-T","T",658,6941,475,6283,{"v":11309.456546999998,"d":"11,309"},{"v":5.371991859824999,"d":"5"},{"v":179.06639532749995,"d":"179"},{"v":48.831850375647655,"d":"49"},null,{"v":26,"d":"26.00 "},{"v":0.8666666666666667,"d":"0.87 "},{"v":56.34444274113191,"d":"56"},{"$f":"(((VLOOKUP($A47,BD!$Q$2:$T$79,4,FALSE))*1000)*(VLOOKUP($A47,Mass!$A$3:$S$78,2,FALSE))*10000)*(N47/1000000)","v":{"v":112.85143680026995,"d":"113"}},null,{"v":0.6729559748427673,"d":"67%"},{"v":20.18867924528302,"d":"20"},{"v":0.4457943925233645,"d":"45%"}]
["Jn-1-T","T",495,6709,475,6214,{"v":11185.255926,"d":"11,185"},{"v":5.31299656485,"d":"5"},{"v":177.099885495,"d":"177"},{"v":48.295578264248704,"d":"48"},null,{"v":26,"d":"26.00 "},{"v":0.8666666666666667,"d":"0.87 "},{"v":55.72566722797927,"d":"56"},{"$f":"(((VLOOKUP($A48,BD!$Q$2:$T$79,4,FALSE))*1000)*(VLOOKUP($A48,Mass!$A$3:$S$78,2,FALSE))*10000)*(N48/1000000)","v":{"v":113.47572060556487,"d":"113"}},null,{"v":0.6729559748427673,"d":"67%"},{"v":20.18867924528302,"d":"20"},{"v":0.4457943925233645,"d":"45%"}]
["Ko-0-T","T",534,5213,475,4679,{"v":8422.242111,"d":"8,422"},{"v":4.000565002725,"d":"4"},{"v":133.35216675750002,"d":"133"},{"v":36.36546680051814,"d":"36"},null,{"v":29,"d":"29.00 "},{"v":0.9666666666666667,"d":"0.97 "},{"v":37.61944841432911,"d":"38"},{"$f":"(((VLOOKUP($A49,BD!$Q$2:$T$79,4,FALSE))*1000)*(VLOOKUP($A49,Mass!$A$3:$S$78,2,FALSE))*10000)*(N49/1000000)","v":{"v":92.10199603766941,"d":"92"}},null,{"v":0.6352201257861635,"d":"64%"},{"v":19.056603773584904,"d":"19"},{"v":0.4722772277227723,"d":"47%"}]
["Ko-1-T","T",677,4372,475,3695,{"v":6651.033254999999,"d":"6,651"},{"v":3.1592407961249998,"d":"3"},{"v":105.30802653749998,"d":"105"},{"v":28.71776016839378,"d":"29"},null,{"v":27,"d":"27.00 "},{"v":0.9,"d":"0.90 "},{"v":31.908622409326423,"d":"32"},{"$f":"(((VLOOKUP($A50,BD!$Q$2:$T$79,4,FALSE))*1000)*(VLOOKUP($A50,Mass!$A$3:$S$78,2,FALSE))*10000)*(N50/1000000)","v":{"v":77.78164763158975,"d":"78"}},null,{"v":0.660377358490566,"d":"66%"},{"v":19.81132075471698,"d":"20"},{"v":0.4542857142857143,"d":"45%"}]
["Na-0-T","T",280,4012,475,3732,{"v":6717.633588,"d":"6,718"},{"v":3.1908759543,"d":"3"},{"v":106.36253181000001,"d":"106"},{"v":29.005326373057,"d":"29"},null,{"v":28,"d":"28.00 "},{"v":0.9333333333333333,"d":"0.93 "},{"v":31.077135399703927,"d":"31"},{"$f":"(((VLOOKUP($A51,BD!$Q$2:$T$79,4,FALSE))*1000)*(VLOOKUP($A51,Mass!$A$3:$S$78,2,FALSE))*10000)*(N51/1000000)","v":{"v":60.20875638057383,"d":"60"}},null,{"v":0.6477987421383647,"d":"65%"},{"v":19.433962264150942,"d":"19"},{"v":0.4631067961165049,"d":"46%"}]
["Na-1-T","T",484,5073,475,4589,{"v":8260.241301,"d":"8,260"},{"v":3.9236146179749998,"d":"4"},{"v":130.7871539325,"d":"131"},{"v":35.66598143782383,"d":"36"},null,{"v":28,"d":"28.00 "},{"v":0.9333333333333333,"d":"0.93 "},{"v":38.21355154052553,"d":"38"},{"$f":"(((VLOOKUP($A52,BD!$Q$2:$T$79,4,FALSE))*1000)*(VLOOKUP($A52,Mass!$A$3:$S$78,2,FALSE))*10000)*(N52/1000000)","v":{"v":73.30164591815985,"d":"73"}},null,{"v":0.6477987421383647,"d":"65%"},{"v":19.433962264150942,"d":"19"},{"v":0.4631067961165049,"d":"46%"}]
["Ne-0-T","T",467,7468,475,7001,{"v":12601.863008999999,"d":"12,602"},{"v":5.985884929275,"d":"6"},{"v":199.5294976425,"d":"200"},{"v":54.41218915803109,"d":"54"},null,{"v":28,"d":"28.00 "},{"v":0.9333333333333333,"d":"0.93 "},{"v":58.29877409789045,"d":"58"},{"$f":"(((VLOOKUP($A53,BD!$Q$2:$T$79,4,FALSE))*1000)*(VLOOKUP($A53,Mass!$A$3:$S$78,2,FALSE))*10000)*(N53/1000000)","v":{"v":108.295639500644,"d":"108"}},null,{"v":0.6477987421383647,"d":"65%"},{"v":19.433962264150942,"d":"19"},{"v":0.4631067961165049,"d":"46%"}]
["Ne-1-T","T",538,7728,475,7190,{"v":12942.064709999999,"d":"12,942"},{"v":6.1474807372499995,"d":"6"},{"v":204.916024575,"d":"205"},{"v":55.88110841968912,"d":"56"},null,{"v":26,"d":"26.00 "},{"v":0.8666666666666667,"d":"0.87 "},{"v":64.47820202271821,"d":"64"},{"$f":"(((VLOOKUP($A54,BD!$Q$2:$T$79,4,FALSE))*1000)*(VLOOKUP($A54,Mass!$A$3:$S$78,2,FALSE))*10000)*(N54/1000000)","v":{"v":118.34068773353688,"d":"118"}},null,{"v":0.6729559748427673,"d":"67%"},{"v":20.18867924528302,"d":"20"},{"v":0.4457943925233645,"d":"45%"}]
["Pa-0-T","T",527,9540,475,9013,{"v":16223.481116999998,"d":"16,223"},{"v":7.706153530574999,"d":"8"},{"v":256.87178435249996,"d":"257"},{"v":70.04957304404144,"d":"70"},null,{"v":28,"d":"28.00 "},{"v":0.9333333333333333,"d":"0.93 "},{"v":75.05311397575868,"d":"75"},{"$f":"(((VLOOKUP($A55,BD!$Q$2:$T$79,4,FALSE))*1000)*(VLOOKUP($A55,Mass!$A$3:$S$78,2,FALSE))*10000)*(N55/1000000)","v":{"v":150.11260366426805,"d":"150"}},null,{"v":0.6477987421383647,"d":"65%"},{"v":19.433962264150942,"d":"19"},{"v":0.4631067961165049,"d":"46%"}]
["Pa-1-T","T",615,11100,475,10485,{"v":18873.094365,"d":"18,873"},{"v":8.964719823374999,"d":"9"},{"v":298.8239941125,"d":"299"},{"v":81.49004475388601,"d":"81"},null,{"v":26,"d":"26.00 "},{"v":0.8666666666666667,"d":"0.87 "},{"v":94.02697471602232,"d":"94"},{"$f":"(((VLOOKUP($A56,BD!$Q$2:$T$79,4,FALSE))*1000)*(VLOOKUP($A56,Mass!$A$3:$S$78,2,FALSE))*10000)*(N56/1000000)","v":{"v":188.06193696180657,"d":"188"}},null,{"v":0.6729559748427673,"d":"67%"},{"v":20.18867924528302,"d":"20"},{"v":0.4457943925233645,"d":"45%"}]
["Ae-0-T","T",426,6570,475,6144,{"v":11059.255296,"d":"11,059"},{"v":5.2531462656,"d":"5"},{"v":175.10487552,"d":"175"},{"v":47.751534093264254,"d":"48"},null,{"v":24,"d":"24.00 "},{"v":0.8,"d":"0.80 "},{"v":59.689417616580315,"d":"60"},{"$f":"(((VLOOKUP($A57,BD!$Q$2:$T$79,4,FALSE))*1000)*(VLOOKUP($A57,Mass!$A$3:$S$78,2,FALSE))*10000)*(N57/1000000)","v":{"v":98.34753862516177,"d":"98"}},null,{"v":0.6981132075471698,"d":"70%"},{"v":20.943396226415093,"d":"21"},{"v":0.4297297297297298,"d":"43%"}]
["Ae-1-T","T",815,6901,475,6086,{"v":10954.854774,"d":"10,955"},{"v":5.2035560176499995,"d":"5"},{"v":173.45186725499997,"d":"173"},{"v":47.300754637305694,"d":"47"},null,{"v":23,"d":"23.00 "},{"v":0.7666666666666667,"d":"0.77 "},{"v":61.696636483442205,"d":"62"},{"$f":"(((VLOOKUP($A58,BD!$Q$2:$T$79,4,FALSE))*1000)*(VLOOKUP($A58,Mass!$A$3:$S$78,2,FALSE))*10000)*(N58/1000000)","v":{"v":107.09958937000025,"d":"107"}},null,{"v":0.710691823899371,"d":"71%"},{"v":21.32075471698113,"d":"21"},{"v":0.42212389380530974,"d":"42%"}]
["Ik-0-T","T",591,5715,475,5124,{"v":9223.246115999998,"d":"9,223"},{"v":4.381041905099999,"d":"4"},{"v":146.03473016999996,"d":"146"},{"v":39.82403331606217,"d":"40"},null,{"v":25,"d":"25.00 "},{"v":0.8333333333333334,"d":"0.83 "},{"v":47.788839979274606,"d":"48"},{"$f":"(((VLOOKUP($A59,BD!$Q$2:$T$79,4,FALSE))*1000)*(VLOOKUP($A59,Mass!$A$3:$S$78,2,FALSE))*10000)*(N59/1000000)","v":{"v":77.89632379384884,"d":"78"}},null,{"v":0.6855345911949685,"d":"69%"},{"v":20.566037735849054,"d":"21"},{"v":0.4376146788990826,"d":"44%"}]
["Ik-1-T","T",519,5054,475,4535,{"v":8163.0408149999985,"d":"8,163"},{"v":3.8774443871249993,"d":"4"},{"v":129.24814623749998,"d":"129"},{"v":35.24629022020725,"d":"35"},null,{"v":25,"d":"25.00 "},{"v":0.8333333333333334,"d":"0.83 "},{"v":42.2955482642487,"d":"42"},{"$f":"(((VLOOKUP($A60,BD!$Q$2:$T$79,4,FALSE))*1000)*(VLOOKUP($A60,Mass!$A$3:$S$78,2,FALSE))*10000)*(N60/1000000)","v":{"v":74.97054723311828,"d":"75"}},null,{"v":0.6855345911949685,"d":"69%"},{"v":20.566037735849054,"d":"21"},{"v":0.4376146788990826,"d":"44%"}]
["La-0-T","T",1209,8923,475,7714,{"v":13885.269425999999,"d":"13,885"},{"v":6.59550297735,"d":"7"},{"v":219.850099245,"d":"220"},{"v":59.95366764248705,"d":"60"},null,{"v":29,"d":"29.00 "},{"v":0.9666666666666667,"d":"0.97 "},{"v":62.02103549222798,"d":"62"},{"$f":"(((VLOOKUP($A61,BD!$Q$2:$T$79,4,FALSE))*1000)*(VLOOKUP($A61,Mass!$A$3:$S$78,2,FALSE))*10000)*(N61/1000000)","v":{"v":134.78810732970382,"d":"135"}},null,{"v":0.6352201257861635,"d":"64%"},{"v":19.056603773584904,"d":"19"},{"v":0.4722772277227723,"d":"47%"}]
["La-1-T","T",764,7596,475,6832,{"v":12297.661487999998,"d":"12,298"},{"v":5.841389206799999,"d":"6"},{"v":194.71297355999997,"d":"195"},{"v":53.098711088082894,"d":"53"},null,{"v":27,"d":"27.00 "},{"v":0.9,"d":"0.90 "},{"v":58.99856787564766,"d":"59"},{"$f":"(((VLOOKUP($A62,BD!$Q$2:$T$79,4,FALSE))*1000)*(VLOOKUP($A62,Mass!$A$3:$S$78,2,FALSE))*10000)*(N62/1000000)","v":{"v":132.8463597683227,"d":"133"}},null,{"v":0.660377358490566,"d":"66%"},{"v":19.81132075471698,"d":"20"},{"v":0.4542857142857143,"d":"45%"}]
["Jn-0-S","S",565,2983,475,{"$f":"D63-C63","v":2418},{"$f":"0.0409*F63*44.01","v":{"v":4352.421762,"d":"4,352"}},{"$f":"G63*E63/1000000","v":{"v":2.06740033695,"d":"2"}},{"$f":"H63/30*1000","v":{"v":68.913344565,"d":"69"}},{"$f":"I63/3.667","v":{"v":18.79284007772021,"d":"19"}},null,{"v":27,"d":"27.00 "},{"v":0.9,"d":"0.90 "},{"v":20.88093341968912,"d":"21"},{"$f":"(((VLOOKUP($A63,BD!$Q$2:$T$79,4,FALSE))*1000)*(VLOOKUP($A63,Mass!$A$3:$S$78,2,FALSE))*10000)*(N63/1000000)","v":{"v":34.76660423018983,"d":"35"}},null,{"v":0.660377358490566,"d":"66%"},{"v":19.81132075471698,"d":"20"},{"v":0.4542857142857143,"d":"45%"}]
["Jn-1-S","S",460,3133,475,2673,{"v":4811.424056999999,"d":"4,811"},{"v":2.2854264270749995,"d":"2"},{"v":76.18088090249998,"d":"76"},{"v":20.77471527202072,"d":"21"},null,{"v":29,"d":"29.00 "},{"v":0.9666666666666667,"d":"0.97 "},{"v":21.491084764159368,"d":"21"},{"$f":"(((VLOOKUP($A64,BD!$Q$2:$T$79,4,FALSE))*1000)*(VLOOKUP($A64,Mass!$A$3:$S$78,2,FALSE))*10000)*(N64/1000000)","v":{"v":35.88300970711789,"d":"36"}},null,{"v":0.6352201257861635,"d":"64%"},{"v":19.056603773584904,"d":"19"},{"v":0.4722772277227723,"d":"47%"}]
["Ko-0-S","S",488,2259,475,1771,{"v":3187.8159389999996,"d":"3,188"},{"v":1.5142125710249996,"d":"2"},{"v":50.47375236749998,"d":"50"},{"v":13.764317525906732,"d":"14"},null,{"v":28,"d":"28.00 "},{"v":0.9333333333333333,"d":"0.93 "},{"v":14.747483063471497,"d":"15"},{"$f":"(((VLOOKUP($A65,BD!$Q$2:$T$79,4,FALSE))*1000)*(VLOOKUP($A65,Mass!$A$3:$S$78,2,FALSE))*10000)*(N65/1000000)","v":{"v":29.519060225638125,"d":"30"}},null,{"v":0.6477987421383647,"d":"65%"},{"v":19.433962264150942,"d":"19"},{"v":0.4631067961165049,"d":"46%"}]
["Ko-1-S","S",782,2780,475,1998,{"v":3596.4179819999995,"d":"3,596"},{"v":1.7082985414499996,"d":"2"},{"v":56.94328471499999,"d":"57"},{"v":15.528575051813469,"d":"16"},null,{"v":27,"d":"27.00 "},{"v":0.9,"d":"0.90 "},{"v":17.253972279792745,"d":"17"},{"$f":"(((VLOOKUP($A66,BD!$Q$2:$T$79,4,FALSE))*1000)*(VLOOKUP($A66,Mass!$A$3:$S$78,2,FALSE))*10000)*(N66/1000000)","v":{"v":33.969479895263994,"d":"34"}},null,{"v":0.660377358490566,"d":"66%"},{"v":19.81132075471698,"d":"20"},{"v":0.4542857142857143,"d":"45%"}]
["Na-0-S","S",1061,3608,475,2547,{"v":4584.622923,"d":"4,585"},{"v":2.177695888425,"d":"2"},{"v":72.5898629475,"d":"73"},{"v":19.795435764248705,"d":"20"},null,{"v":28,"d":"28.00 "},{"v":0.9333333333333333,"d":"0.93 "},{"v":21.209395461695042,"d":"21"},{"$f":"(((VLOOKUP($A67,BD!$Q$2:$T$79,4,FALSE))*1000)*(VLOOKUP($A67,Mass!$A$3:$S$78,2,FALSE))*10000)*(N67/1000000)","v":{"v":33.300627079502114,"d":"33"}},null,{"v":0.6477987421383647,"d":"65%"},{"v":19.433962264150942,"d":"19"},{"v":0.4631067961165049,"d":"46%"}]
["Na-1-S","S",665,3402,475,2737,{"v":4926.624632999999,"d":"4,927"},{"v":2.3401467006749996,"d":"2"},{"v":78.00489002249998,"d":"78"},{"v":21.272127085492222,"d":"21"},null,{"v":27,"d":"27.00 "},{"$f":"L68/30","v":{"v":0.9,"d":"0.90 "}},{"v":23.635696761658025,"d":"24"},{"$f":"(((VLOOKUP($A68,BD!$Q$2:$T$79,4,FALSE))*1000)*(VLOOKUP($A68,Mass!$A$3:$S$78,2,FALSE))*10000)*(N68/1000000)","v":{"v":34.99511980512744,"d":"35"}},null,{"$f":"1-M68/2.65","v":{"v":0.660377358490566,"d":"66%"}},{"$f":"30*Q68","v":{"v":19.81132075471698,"d":"20"}},{"$f":"9/R68","v":{"v":0.4542857142857143,"d":"45%"}}]
["Ne-0-S","S",660,4359,475,3699,{"v":6658.233291,"d":"6,658"},{"v":3.1626608132249996,"d":"3"},{"v":105.42202710749999,"d":"105"},{"v":28.74884840673575,"d":"29"},null,{"v":27,"d":"27.00 "},{"v":0.9,"d":"0.90 "},{"v":31.943164896373055,"d":"32"},{"$f":"(((VLOOKUP($A69,BD!$Q$2:$T$79,4,FALSE))*1000)*(VLOOKUP($A69,Mass!$A$3:$S$78,2,FALSE))*10000)*(N69/1000000)","v":{"v":47.970320727819235,"d":"48"}},null,{"v":0.660377358490566,"d":"66%"},{"v":19.81132075471698,"d":"20"},{"v":0.4542857142857143,"d":"45%"}]
["Ne-1-S","S",695,3900,475,3205,{"v":5769.028844999999,"d":"5,769"},{"v":2.740288701375,"d":"3"},{"v":91.3429567125,"d":"91"},{"v":24.90945097150259,"d":"25"},null,{"v":25,"d":"25.00 "},{"v":0.8333333333333334,"d":"0.83 "},{"v":29.891341165803105,"d":"30"},{"$f":"(((VLOOKUP($A70,BD!$Q$2:$T$79,4,FALSE))*1000)*(VLOOKUP($A70,Mass!$A$3:$S$78,2,FALSE))*10000)*(N70/1000000)","v":{"v":44.17387978726515,"d":"44"}},null,{"v":0.6855345911949685,"d":"69%"},{"v":20.566037735849054,"d":"21"},{"v":0.4376146788990826,"d":"44%"}]
["Pa-0-S","S",314,4512,475,4198,{"v":7556.437781999999,"d":"7,556"},{"v":3.5893079464499995,"d":"4"},{"v":119.64359821499998,"d":"120"},{"v":32.62710613989637,"d":"33"},null,{"v":28,"d":"28.00 "},{"v":0.9333333333333333,"d":"0.93 "},{"v":34.957613721317536,"d":"35"},{"$f":"(((VLOOKUP($A71,BD!$Q$2:$T$79,4,FALSE))*1000)*(VLOOKUP($A71,Mass!$A$3:$S$78,2,FALSE))*10000)*(N71/1000000)","v":{"v":55.74955939772213,"d":"56"}},null,{"v":0.6477987421383647,"d":"65%"},{"v":19.433962264150942,"d":"19"},{"v":0.4631067961165049,"d":"46%"}]
["Pa-1-S","S",626,5230,475,4604,{"v":8287.241435999998,"d":"8,287"},{"v":3.9364396820999996,"d":"4"},{"v":131.21465607,"d":"131"},{"v":35.782562331606215,"d":"36"},null,{"v":28,"d":"28.00 "},{"v":0.9333333333333333,"d":"0.93 "},{"v":38.33845964100666,"d":"38"},{"$f":"(((VLOOKUP($A72,BD!$Q$2:$T$79,4,FALSE))*1000)*(VLOOKUP($A72,Mass!$A$3:$S$78,2,FALSE))*10000)*(N72/1000000)","v":{"v":61.69054257603327,"d":"62"}},null,{"v":0.6477987421383647,"d":"65%"},{"v":19.433962264150942,"d":"19"},{"v":0.4631067961165049,"d":"46%"}]
["Ae-0-S","S",566,3488,475,2922,{"v":5259.626298,"d":"5,260"},{"v":2.4983224915499997,"d":"2"},{"v":83.277416385,"d":"83"},{"v":22.70995810880829,"d":"23"},null,{"v":24,"d":"24.00 "},{"v":0.8,"d":"0.80 "},{"v":28.38744763601036,"d":"28"},{"$f":"(((VLOOKUP($A73,BD!$Q$2:$T$79,4,FALSE))*1000)*(VLOOKUP($A73,Mass!$A$3:$S$78,2,FALSE))*10000)*(N73/1000000)","v":{"v":38.42217291847193,"d":"38"}},null,{"v":0.6981132075471698,"d":"70%"},{"v":20.943396226415093,"d":"21"},{"v":0.4297297297297298,"d":"43%"}]
["Ae-1-S","S",542,3389,475,2847,{"v":5124.625623,"d":"5,125"},{"v":2.4341971709249997,"d":"2"},{"v":81.13990569749998,"d":"81"},{"v":22.12705363989637,"d":"22"},null,{"v":25,"d":"25.00 "},{"v":0.8333333333333334,"d":"0.83 "},{"v":26.552464367875643,"d":"27"},{"$f":"(((VLOOKUP($A74,BD!$Q$2:$T$79,4,FALSE))*1000)*(VLOOKUP($A74,Mass!$A$3:$S$78,2,FALSE))*10000)*(N74/1000000)","v":{"v":37.69719906912813,"d":"38"}},null,{"v":0.6855345911949685,"d":"69%"},{"v":20.566037735849054,"d":"21"},{"v":0.4376146788990826,"d":"44%"}]
["Ik-0-S","S",542,4762,475,4220,{"v":7596.037979999999,"d":"7,596"},{"v":3.6081180404999995,"d":"4"},{"v":120.27060134999998,"d":"120"},{"v":32.7980914507772,"d":"33"},null,{"v":25,"d":"25.00 "},{"v":0.8333333333333334,"d":"0.83 "},{"v":39.35770974093264,"d":"39"},{"$f":"(((VLOOKUP($A75,BD!$Q$2:$T$79,4,FALSE))*1000)*(VLOOKUP($A75,Mass!$A$3:$S$78,2,FALSE))*10000)*(N75/1000000)","v":{"v":51.631964802259716,"d":"52"}},null,{"v":0.6855345911949685,"d":"69%"},{"v":20.566037735849054,"d":"21"},{"v":0.4376146788990826,"d":"44%"}]
["Ik-1-S","S",526,4136,475,3610,{"v":6498.03249,"d":"6,498"},{"v":3.0865654327499996,"d":"3"},{"v":102.885514425,"d":"103"},{"v":28.057135103626944,"d":"28"},null,{"v":26,"d":"26.00 "},{"v":0.8666666666666667,"d":"0.87 "},{"v":32.373617427261856,"d":"32"},{"$f":"(((VLOOKUP($A76,BD!$Q$2:$T$79,4,FALSE))*1000)*(VLOOKUP($A76,Mass!$A$3:$S$78,2,FALSE))*10000)*(N76/1000000)","v":{"v":45.78404813457386,"d":"46"}},null,{"v":0.6729559748427673,"d":"67%"},{"v":20.18867924528302,"d":"20"},{"v":0.4457943925233645,"d":"45%"}]
["La-0-S","S",624,5000,475,4376,{"v":7876.839383999999,"d":"7,877"},{"v":3.7414987074,"d":"4"},{"v":124.71662357999999,"d":"125"},{"v":34.01053274611399,"d":"34"},null,{"v":28,"d":"28.00 "},{"v":0.9333333333333333,"d":"0.93 "},{"v":36.439856513693556,"d":"36"},{"$f":"(((VLOOKUP($A77,BD!$Q$2:$T$79,4,FALSE))*1000)*(VLOOKUP($A77,Mass!$A$3:$S$78,2,FALSE))*10000)*(N77/1000000)","v":{"v":63.07914845408256,"d":"63"}},null,{"v":0.6477987421383647,"d":"65%"},{"v":19.433962264150942,"d":"19"},{"v":0.4631067961165049,"d":"46%"}]
["La-1-S","S",672,4846,475,4174,{"v":7513.237566,"d":"7,513"},{"v":3.56878784385,"d":"4"},{"v":118.959594795,"d":"119"},{"v":32.440576709844564,"d":"32"},null,{"v":28,"d":"28.00 "},{"v":0.9333333333333333,"d":"0.93 "},{"v":34.75776076054775,"d":"35"},{"$f":"(((VLOOKUP($A78,BD!$Q$2:$T$79,4,FALSE))*1000)*(VLOOKUP($A78,Mass!$A$3:$S$78,2,FALSE))*10000)*(N78/1000000)","v":{"v":62.894076185494455,"d":"63"}},null,{"v":0.6477987421383647,"d":"65%"},{"v":19.433962264150942,"d":"19"},{"v":0.4631067961165049,"d":"46%"}]
[]
[{"$nulls":18},{"$f":"MIN(S3:S78)","v":{"v":0.42212389380530974,"d":"42%"}}]
[{"$nulls":18},{"$f":"MAX(S3:S78)","v":{"v":0.5611764705882355,"d":"56%"}}]

{"sheet":"Nmin_SHS","index":18,"n_rows":91,"n_cols":31,"rows_kept":91}
["Management","Farm","Top/sub","Treatment/control","Sample","WSOC in soil (mg/kg)","WSON (mg/kg soil)","WSOC:WSN","Parameters",null,null,"CO2 burst mg/L soil","BD kg/l","CO2burst mg/kg soil","MAC %","Woodsend Nmin kg/ha","Nmin kg/ha","Haney Nmin kg/ha","Soil health score"]
["Cover crop","Pu","T",0,"Pu-0-T",{"v":247.77006937561944,"d":"247.77"},{"v":22.81006692963156,"d":"22.81"},{"$f":"F2/G2","v":{"v":10.86231224748193,"d":"10.86"}},{"$nulls":3},{"$f":"VLOOKUP(Nmin_SHS!E2,'CO2'!$A$3:$J$78,10,FALSE)","v":{"v":38.44837876943004,"d":"38"}},{"$f":"VLOOKUP(Nmin_SHS!E2,'CO2'!$A$3:$M$78,13,FALSE)","v":{"v":0.9,"d":"0.90"}},{"$f":"L2/M2","v":{"v":42.72042085492227,"d":"42.72"}},{"$f":"N2/F2","v":{"v":0.17241961857046625,"d":"17%"}},{"$f":"L2*0.8127-0.158","v":{"v":31.088997425915792,"d":"31"}},{"$f":"VLOOKUP($E2,BD!$Q$2:$T$79,3,FALSE)*(VLOOKUP($E2,Mass!$A$3:$S$78,2,FALSE)*10000)*((O2*G2*n_rain_events)/1000000)","v":{"v":44.93179408089625,"d":"44.9"}},{"$f":"O2*G2*n_rain_events*2.24","v":{"v":48.453365447550205,"d":"48"}},{"$f":"N2/10*F2/100*G2/10","v":{"v":24.144094622467907,"d":"24"}},null,{"$f":"Q2-P2","v":{"v":13.84279665498046,"d":"13.84 "}}]
["Cover crop","Pu","S",0,"Pu-0-S",{"v":209.5808383233533,"d":"209.58"},{"v":17.699140120627778,"d":"17.70"},{"$f":"F3/G3","v":{"v":11.84130058833161,"d":"11.84"}},"n rain events",5.5,null,{"$f":"VLOOKUP(Nmin_SHS!E3,'CO2'!$A$3:$J$78,10,FALSE)","v":{"v":29.355069054404147,"d":"29"}},{"$f":"VLOOKUP(Nmin_SHS!E3,'CO2'!$A$3:$M$78,13,FALSE)","v":{"v":0.9666666666666667,"d":"0.97"}},{"$f":"L3/M3","v":{"v":30.367312814900842,"d":"30.37"}},{"$f":"N3/F3","v":{"v":0.14489546400252687,"d":"14%"}},{"$f":"L3*0.8127-0.158","v":{"v":23.69886462051425,"d":"24"}},{"$f":"VLOOKUP($E3,BD!$Q$2:$T$79,3,FALSE)*(VLOOKUP($E3,Mass!$A$3:$S$78,2,FALSE)*10000)*((O3*G3*n_rain_events)/1000000)","v":{"v":23.005138302656775,"d":"23.0"}},{"$f":"O3*G3*n_rain_events*2.24","v":{"v":31.594949481160928,"d":"32"}},{"$f":"N3/10*F3/100*G3/10","v":{"v":11.264452910733711,"d":"11"}},null,{"$f":"Q3-P3","v":{"v":-0.6937263178574753,"d":"-0.69 "}}]
["Cover crop","Pu","T",1,"Pu-1-T",{"v":308.1510934393638,"d":"308.15"},{"v":25.294316187125638,"d":"25.29"},{"v":12.182622023053831,"d":"12.18"},{"$nulls":3},{"$f":"VLOOKUP(Nmin_SHS!E4,'CO2'!$A$3:$J$78,10,FALSE)","v":{"v":53.93809352331606,"d":"54"}},{"$f":"VLOOKUP(Nmin_SHS!E4,'CO2'!$A$3:$M$78,13,FALSE)","v":{"v":0.9,"d":"0.90"}},{"v":59.93121502590674,"d":"59.93"},{"v":0.19448645908407153,"d":"19%"},{"v":43.67748860639896,"d":"44"},{"$f":"VLOOKUP($E4,BD!$Q$2:$T$79,3,FALSE)*(VLOOKUP($E4,Mass!$A$3:$S$78,2,FALSE)*10000)*((O4*G4*n_rain_events)/1000000)","v":{"v":53.706829033757494,"d":"53.7"}},{"v":60.60703251910358,"d":"61"},{"v":46.71321289528917,"d":"47"},null,{"v":10.029340427358534,"d":"10.03 "}]
["Cover crop","Pu","S",1,"Pu-1-S",{"v":277.5024777006938,"d":"277.50"},{"v":22.11950335460626,"d":"22.12"},{"v":12.545601646291281,"d":"12.55"},{"$nulls":3},{"$f":"VLOOKUP(Nmin_SHS!E5,'CO2'!$A$3:$J$78,10,FALSE)","v":{"v":42.6919233031088,"d":"43"}},{"$f":"VLOOKUP(Nmin_SHS!E5,'CO2'!$A$3:$M$78,13,FALSE)","v":{"v":0.9333333333333333,"d":"0.93"}},{"v":45.741346396188,"d":"45.74"},{"v":0.1648322089776917,"d":"16%"},{"v":34.53772606843652,"d":"35"},{"$f":"VLOOKUP($E5,BD!$Q$2:$T$79,3,FALSE)*(VLOOKUP($E5,Mass!$A$3:$S$78,2,FALSE)*10000)*((O5*G5*n_rain_events)/1000000)","v":{"v":31.31940936195101,"d":"31.3"}},{"v":44.91880130496789,"d":"45"},{"v":28.077030943043855,"d":"28"},null,{"v":-3.21831670648551,"d":"-3.22 "}]
["Ley farming","Mo","T",0,"Mo-0-T",{"v":258.19265143992055,"d":"258.19"},{"v":19.09304750204624,"d":"19.09"},{"v":13.522862257177621,"d":"13.52"},{"$nulls":3},{"$f":"VLOOKUP(Nmin_SHS!E6,'CO2'!$A$3:$J$78,10,FALSE)","v":{"v":20.152950505181348,"d":"20"}},{"$f":"VLOOKUP(Nmin_SHS!E6,'CO2'!$A$3:$M$78,13,FALSE)","v":{"v":0.9666666666666667,"d":"0.97"}},{"$f":"L6/M6","v":{"v":20.847879832946223,"d":"20.85"}},{"v":0.0807454422760648,"d":"8%"},{"v":16.22030287556088,"d":"16"},{"$f":"VLOOKUP($E6,BD!$Q$2:$T$79,3,FALSE)*(VLOOKUP($E6,Mass!$A$3:$S$78,2,FALSE)*10000)*((O6*G6*n_rain_events)/1000000)","v":{"v":18.85851642683442,"d":"18.9"}},{"v":18.99345528019186,"d":"19"},{"v":10.277347129247511,"d":"10"},null,{"v":2.638213551273541,"d":"2.64 "}]
["Ley farming","Mo","S",0,"Mo-0-S",{"v":219.560878243513,"d":"219.56"},{"v":19.20241108231714,"d":"19.20"},{"v":11.434026555430806,"d":"11.43"},{"$nulls":3},{"$f":"VLOOKUP(Nmin_SHS!E7,'CO2'!$A$3:$J$78,10,FALSE)","v":{"v":18.69180330310881,"d":"19"}},{"$f":"VLOOKUP(Nmin_SHS!E7,'CO2'!$A$3:$M$78,13,FALSE)","v":{"v":0.9333333333333333,"d":"0.93"}},{"$f":"L7/M7","v":{"v":20.026932110473723,"d":"20.03"}},{"v":0.0912135726122485,"d":"9%"},{"v":15.03282854443653,"d":"15"},{"$f":"VLOOKUP($E7,BD!$Q$2:$T$79,3,FALSE)*(VLOOKUP($E7,Mass!$A$3:$S$78,2,FALSE)*10000)*((O7*G7*n_rain_events)/1000000)","v":{"v":16.784836042787592,"d":"16.8"}},{"v":21.578732776674055,"d":"22"},{"v":8.443551325614191,"d":"8"},null,{"v":1.7520074983510625,"d":"1.75 "}]
["Ley farming","Mo","T",1,"Mo-1-T",{"v":298.21073558648106,"d":"298.21"},{"v":18.063792820116532,"d":"18.06"},{"v":16.508755307156875,"d":"16.51"},{"$nulls":3},{"$f":"VLOOKUP(Nmin_SHS!E8,'CO2'!$A$3:$J$78,10,FALSE)","v":{"v":38.347341994818656,"d":"38"}},{"$f":"VLOOKUP(Nmin_SHS!E8,'CO2'!$A$3:$M$78,13,FALSE)","v":{"v":0.9,"d":"0.90"}},{"v":42.608157772020725,"d":"42.61"},{"v":0.14287935572884286,"d":"14%"},{"v":31.00688483918912,"d":"31"},{"$f":"VLOOKUP($E8,BD!$Q$2:$T$79,3,FALSE)*(VLOOKUP($E8,Mass!$A$3:$S$78,2,FALSE)*10000)*((O8*G8*n_rain_events)/1000000)","v":{"v":31.291679518642223,"d":"31.3"}},{"v":31.79721874754099,"d":"32"},{"v":22.952234625465813,"d":"23"},null,{"v":0.2847946794531033,"d":"0.28 "}]
["Ley farming","Mo","S",1,"Mo-1-S",{"v":228.4011916583913,"d":"228.40"},{"v":10.496054770231291,"d":"10.50"},{"v":21.76067071469352,"d":"21.76"},{"$nulls":3},{"$f":"VLOOKUP(Nmin_SHS!E9,'CO2'!$A$3:$J$78,10,FALSE)","v":{"v":29.106363147668397,"d":"29"}},{"$f":"VLOOKUP(Nmin_SHS!E9,'CO2'!$A$3:$M$78,13,FALSE)","v":{"v":0.9666666666666667,"d":"0.97"}},{"v":30.110030842415583,"d":"30.11"},{"v":0.13182956981874994,"d":"13%"},{"v":23.496741330110105,"d":"23"},{"$f":"VLOOKUP($E9,BD!$Q$2:$T$79,3,FALSE)*(VLOOKUP($E9,Mass!$A$3:$S$78,2,FALSE)*10000)*((O9*G9*n_rain_events)/1000000)","v":{"v":13.062970513805896,"d":"13.1"}},{"v":17.047065545092714,"d":"17"},{"v":7.218312071174767,"d":"7"},null,{"v":-10.433770816304209,"d":"-10.43 "}]
["Cover crop","Si","T",0,"Si-0-T",{"v":307.53968253968253,"d":"307.54"},{"v":18.293375253487262,"d":"18.29"},{"v":16.811533042873336,"d":"16.81"},{"$nulls":3},{"$f":"VLOOKUP(Nmin_SHS!E10,'CO2'!$A$3:$J$78,10,FALSE)","v":{"v":33.497576813471504,"d":"33"}},{"$f":"VLOOKUP(Nmin_SHS!E10,'CO2'!$A$3:$M$78,13,FALSE)","v":{"v":0.8666666666666667,"d":"0.87"}},{"$f":"L10/M10","v":{"v":38.651050169390196,"d":"38.65"}},{"v":0.12567825345401715,"d":"13%"},{"v":27.06548067630829,"d":"27"},{"$f":"VLOOKUP($E10,BD!$Q$2:$T$79,3,FALSE)*(VLOOKUP($E10,Mass!$A$3:$S$78,2,FALSE)*10000)*((O10*G10*n_rain_events)/1000000)","v":{"v":26.854251062049535,"d":"26.9"}},{"v":28.324658844170518,"d":"28"},{"v":21.744844350585847,"d":"22"},null,{"v":-0.2112296142587553,"d":"-0.21 "}]
["Cover crop","Si","S",0,"Si-0-S",{"v":239.2821535393819,"d":"239.28"},{"v":11.34487491428255,"d":"11.34"},{"v":21.09165198799498,"d":"21.09"},{"$nulls":3},{"$f":"VLOOKUP(Nmin_SHS!E11,'CO2'!$A$3:$J$78,10,FALSE)","v":{"v":21.116685893782385,"d":"21"}},{"$f":"VLOOKUP(Nmin_SHS!E11,'CO2'!$A$3:$M$78,13,FALSE)","v":{"v":0.9,"d":"0.90"}},{"$f":"L11/M11","v":{"v":23.462984326424873,"d":"23.46"}},{"v":0.09805572199751726,"d":"10%"},{"v":17.003530625876945,"d":"17"},{"$f":"VLOOKUP($E11,BD!$Q$2:$T$79,3,FALSE)*(VLOOKUP($E11,Mass!$A$3:$S$78,2,FALSE)*10000)*((O11*G11*n_rain_events)/1000000)","v":{"v":10.31377211757735,"d":"10.3"}},{"v":13.705136376519246,"d":"14"},{"v":6.3693229662786575,"d":"6"},null,{"v":-6.689758508299594,"d":"-6.69 "}]
["Cover crop","Si","T",1,"Si-1-T",{"v":248.26216484607744,"d":"248.26"},{"v":14.783421432087577,"d":"14.78"},{"v":16.793281987295696,"d":"16.79"},{"$nulls":3},{"$f":"VLOOKUP(Nmin_SHS!E12,'CO2'!$A$3:$J$78,10,FALSE)","v":{"v":31.04937804404145,"d":"31"}},{"$f":"VLOOKUP(Nmin_SHS!E12,'CO2'!$A$3:$M$78,13,FALSE)","v":{"v":0.9,"d":"0.90"}},{"v":34.499308937823834,"d":"34.50"},{"v":0.1389632164015544,"d":"14%"},{"v":25.075829536392487,"d":"25"},{"$f":"VLOOKUP($E12,BD!$Q$2:$T$79,3,FALSE)*(VLOOKUP($E12,Mass!$A$3:$S$78,2,FALSE)*10000)*((O12*G12*n_rain_events)/1000000)","v":{"v":23.83456580764581,"d":"23.8"}},{"v":25.30961407278998,"d":"25"},{"v":12.661812888372278,"d":"13"},null,{"v":-1.2412637287466772,"d":"-1.24 "}]
["Cover crop","Si","S",1,"Si-1-S",{"v":158.8877855014896,"d":"158.89"},{"v":9.332088534799073,"d":"9.33"},{"v":17.02596207794235,"d":"17.03"},{"$nulls":3},{"$f":"VLOOKUP(Nmin_SHS!E13,'CO2'!$A$3:$J$78,10,FALSE)","v":{"v":25.274737772020725,"d":"25"}},{"$f":"VLOOKUP(Nmin_SHS!E13,'CO2'!$A$3:$M$78,13,FALSE)","v":{"v":0.9666666666666667,"d":"0.97"}},{"v":26.146280453814544,"d":"26.15"},{"v":0.16455815260619527,"d":"16%"},{"v":20.382779387321243,"d":"20"},{"$f":"VLOOKUP($E13,BD!$Q$2:$T$79,3,FALSE)*(VLOOKUP($E13,Mass!$A$3:$S$78,2,FALSE)*10000)*((O13*G13*n_rain_events)/1000000)","v":{"v":14.482738541111496,"d":"14.5"}},{"v":18.919469790685973,"d":"19"},{"v":3.876852497329634,"d":"4"},null,{"v":-5.9000408462097464,"d":"-5.90 "}]
["Grazing","Mi","T",0,"Mi-0-T",{"v":398.8035892323031,"d":"398.80"},{"v":26.522811393722208,"d":"26.52"},{"v":15.036248733672991,"d":"15.04"},{"$nulls":3},{"$f":"VLOOKUP(Nmin_SHS!E14,'CO2'!$A$3:$J$78,10,FALSE)","v":{"v":55.585770155440414,"d":"56"}},{"$f":"VLOOKUP(Nmin_SHS!E14,'CO2'!$A$3:$M$78,13,FALSE)","v":{"v":0.9666666666666667,"d":"0.97"}},{"$f":"L14/M14","v":{"v":57.5025208504556,"d":"57.50"}},{"v":0.14418757103251742,"d":"14%"},{"v":45.01655540532642,"d":"45"},{"$f":"VLOOKUP($E14,BD!$Q$2:$T$79,3,FALSE)*(VLOOKUP($E14,Mass!$A$3:$S$78,2,FALSE)*10000)*((O14*G14*n_rain_events)/1000000)","v":{"v":40.42098757436622,"d":"40.4"}},{"v":47.1148801423532,"d":"47"},{"v":60.822672589440195,"d":"61"},null,{"v":-4.595567830960199,"d":"-4.60 "}]
["Grazing","Mi","S",0,"Mi-0-S",{"v":259.7402597402598,"d":"259.74"},{"v":10.794843954325653,"d":"10.79"},{"v":24.06151129550863,"d":"24.06"},{"$nulls":3},{"$f":"VLOOKUP(Nmin_SHS!E15,'CO2'!$A$3:$J$78,10,FALSE)","v":{"v":25.834326062176167,"d":"26"}},{"$f":"VLOOKUP(Nmin_SHS!E15,'CO2'!$A$3:$M$78,13,FALSE)","v":{"v":1.1,"d":"1.10"}},{"$f":"L15/M15","v":{"v":23.485750965614695,"d":"23.49"}},{"v":0.09042014121761656,"d":"9%"},{"v":20.83755679073057,"d":"21"},{"$f":"VLOOKUP($E15,BD!$Q$2:$T$79,3,FALSE)*(VLOOKUP($E15,Mass!$A$3:$S$78,2,FALSE)*10000)*((O15*G15*n_rain_events)/1000000)","v":{"v":9.058360519975249,"d":"9.1"}},{"v":12.025198597994244,"d":"12"},{"v":6.585065372051005,"d":"7"},null,{"v":-11.779196270755321,"d":"-11.78 "}]
["Grazing","Mi","T",1,"Mi-1-T",{"v":388.83349950149557,"d":"388.83"},{"v":25.673955055603123,"d":"25.67"},{"v":15.145056484650812,"d":"15.15"},{"$nulls":3},{"$f":"VLOOKUP(Nmin_SHS!E16,'CO2'!$A$3:$J$78,10,FALSE)","v":{"v":32.425032590673574,"d":"32"}},{"$f":"VLOOKUP(Nmin_SHS!E16,'CO2'!$A$3:$M$78,13,FALSE)","v":{"v":1,"d":"1.00"}},{"v":32.425032590673574,"d":"32.43"},{"v":0.08339053253447587,"d":"8%"},{"v":26.19382398644041,"d":"26"},{"$f":"VLOOKUP($E16,BD!$Q$2:$T$79,3,FALSE)*(VLOOKUP($E16,Mass!$A$3:$S$78,2,FALSE)*10000)*((O16*G16*n_rain_events)/1000000)","v":{"v":23.018889488520593,"d":"23.0"}},{"v":26.376686143228262,"d":"26"},{"v":32.36956565001732,"d":"32"},null,{"v":-3.1749344979198177,"d":"-3.17 "}]
["Grazing","Mi","S",1,"Mi-1-S",{"v":307.53968253968253,"d":"307.54"},{"v":14.024400575081941,"d":"14.02"},{"v":21.928900340033653,"d":"21.93"},{"$nulls":3},{"$f":"VLOOKUP(Nmin_SHS!E17,'CO2'!$A$3:$J$78,10,FALSE)","v":{"v":24.093384715025906,"d":"24"}},{"$f":"VLOOKUP(Nmin_SHS!E17,'CO2'!$A$3:$M$78,13,FALSE)","v":{"v":1,"d":"1.00"}},{"v":24.093384715025906,"d":"24.09"},{"v":0.07834236062176166,"d":"8%"},{"v":19.422693757901552,"d":"19"},{"$f":"VLOOKUP($E17,BD!$Q$2:$T$79,3,FALSE)*(VLOOKUP($E17,Mass!$A$3:$S$78,2,FALSE)*10000)*((O17*G17*n_rain_events)/1000000)","v":{"v":10.256993910203626,"d":"10.3"}},{"v":13.536041255439608,"d":"14"},{"v":10.391620666711777,"d":"10"},null,{"v":-9.165699847697926,"d":"-9.17 "}]
["Soil amendments","Li","T",0,"Li-0-T",{"v":360,"d":"360.00"},{"v":19.501926027521037,"d":"19.50"},{"v":18.45971518361671,"d":"18.46"},{"$nulls":3},{"$f":"VLOOKUP(Nmin_SHS!E18,'CO2'!$A$3:$J$78,10,FALSE)","v":{"v":47.96915176165803,"d":"48"}},{"$f":"VLOOKUP(Nmin_SHS!E18,'CO2'!$A$3:$M$78,13,FALSE)","v":{"v":1.0333333333333334,"d":"1.03"}},{"$f":"L18/M18","v":{"v":46.42175976934648,"d":"46.42"}},{"v":0.12894933269262912,"d":"13%"},{"v":38.82652963669948,"d":"39"},{"$f":"VLOOKUP($E18,BD!$Q$2:$T$79,3,FALSE)*(VLOOKUP($E18,Mass!$A$3:$S$78,2,FALSE)*10000)*((O18*G18*n_rain_events)/1000000)","v":{"v":28.35504989181367,"d":"28.4"}},{"v":30.981847480828595,"d":"31"},{"v":32.59129410320929,"d":"33"},null,{"v":-10.471479744885812,"d":"-10.47 "}]
["Soil amendments","Li","S",0,"Li-0-S",{"v":209.5808383233533,"d":"209.58"},{"v":8.583386972265986,"d":"8.58"},{"v":24.417032460558474,"d":"24.42"},{"$nulls":3},{"$f":"VLOOKUP(Nmin_SHS!E19,'CO2'!$A$3:$J$78,10,FALSE)","v":{"v":23.285090518134716,"d":"23"}},{"$f":"VLOOKUP(Nmin_SHS!E19,'CO2'!$A$3:$M$78,13,FALSE)","v":{"v":1.0333333333333334,"d":"1.03"}},{"$f":"L19/M19","v":{"v":22.53395856593682,"d":"22.53"}},{"v":0.10751917372889853,"d":"11%"},{"v":18.765793064088083,"d":"19"},{"$f":"VLOOKUP($E19,BD!$Q$2:$T$79,3,FALSE)*(VLOOKUP($E19,Mass!$A$3:$S$78,2,FALSE)*10000)*((O19*G19*n_rain_events)/1000000)","v":{"v":8.893226542034672,"d":"8.9"}},{"v":11.36986527665827,"d":"11"},{"v":4.0536640859853454,"d":"4"},null,{"v":-9.872566522053411,"d":"-9.87 "}]
["Soil amendments","Li","T",1,"Li-1-T",{"v":359.6403596403597,"d":"359.64"},{"v":18.376607530921838,"d":"18.38"},{"v":19.570552346792095,"d":"19.57"},{"$nulls":3},{"$f":"VLOOKUP(Nmin_SHS!E20,'CO2'!$A$3:$J$78,10,FALSE)","v":{"v":64.51586661917099,"d":"65"}},{"$f":"VLOOKUP(Nmin_SHS!E20,'CO2'!$A$3:$M$78,13,FALSE)","v":{"v":0.9333333333333333,"d":"0.93"}},{"v":69.12414280625464,"d":"69.12"},{"v":0.1922035193029469,"d":"19%"},{"v":52.274044801400265,"d":"52"},{"$f":"VLOOKUP($E20,BD!$Q$2:$T$79,3,FALSE)*(VLOOKUP($E20,Mass!$A$3:$S$78,2,FALSE)*10000)*((O20*G20*n_rain_events)/1000000)","v":{"v":37.707986385328546,"d":"37.7"}},{"v":43.514839248400094,"d":"44"},{"v":45.68393682060908,"d":"46"},null,{"v":-14.56605841607172,"d":"-14.57 "}]
["Soil amendments","Li","S",1,"Li-1-S",{"v":158.8877855014896,"d":"158.89"},{"v":11.457318284989903,"d":"11.46"},{"v":13.867798864385795,"d":"13.87"},{"$nulls":3},{"$f":"VLOOKUP(Nmin_SHS!E21,'CO2'!$A$3:$J$78,10,FALSE)","v":{"v":32.36285611398964,"d":"32"}},{"$f":"VLOOKUP(Nmin_SHS!E21,'CO2'!$A$3:$M$78,13,FALSE)","v":{"v":1.0333333333333334,"d":"1.03"}},{"v":31.31889301353836,"d":"31.32"},{"v":0.19711328290395705,"d":"20%"},{"v":26.14329316383938,"d":"26"},{"$f":"VLOOKUP($E21,BD!$Q$2:$T$79,3,FALSE)*(VLOOKUP($E21,Mass!$A$3:$S$78,2,FALSE)*10000)*((O21*G21*n_rain_events)/1000000)","v":{"v":20.817837244683655,"d":"20.8"}},{"v":27.823360123696308,"d":"28"},{"v":5.701378758127597,"d":"6"},null,{"v":-5.325455919155726,"d":"-5.33 "}]
["Ley farming","Ai","T",0,"Ai-0-T",{"v":148.95729890764648,"d":"148.96"},{"v":8.30051144977553,"d":"8.30"},{"v":17.945556705626217,"d":"17.95"},{"$nulls":3},{"$f":"VLOOKUP(Nmin_SHS!E22,'CO2'!$A$3:$J$78,10,FALSE)","v":{"v":34.919863717616586,"d":"35"}},{"$f":"VLOOKUP(Nmin_SHS!E22,'CO2'!$A$3:$M$78,13,FALSE)","v":{"v":1.1666666666666667,"d":"1.17"}},{"v":29.931311757957072,"d":"29.93"},{"v":0.20093887293508514,"d":"20%"},{"v":28.221373243306996,"d":"28"},{"$f":"VLOOKUP($E22,BD!$Q$2:$T$79,3,FALSE)*(VLOOKUP($E22,Mass!$A$3:$S$78,2,FALSE)*10000)*((O22*G22*n_rain_events)/1000000)","v":{"v":22.021862032751983,"d":"22.0"}},{"v":20.54847151899283,"d":"21"},{"v":3.7007725315847617,"d":"4"},null,{"v":-6.199511210555013,"d":"-6.20 "}]
["Ley farming","Ai","S",0,"Ai-0-S",{"v":129.48207171314743,"d":"129.48"},{"v":5.240238867211323,"d":"5.24"},{"v":24.709192652138277,"d":"24.71"},{"$nulls":3},{"$f":"VLOOKUP(Nmin_SHS!E23,'CO2'!$A$3:$J$78,10,FALSE)","v":{"v":29.89134116580311,"d":"30"}},{"$f":"VLOOKUP(Nmin_SHS!E23,'CO2'!$A$3:$M$78,13,FALSE)","v":{"v":1.1666666666666667,"d":"1.17"}},{"v":25.621149570688377,"d":"25.62"},{"v":0.19787410899208557,"d":"20%"},{"v":24.134692965448185,"d":"24"},{"$f":"VLOOKUP($E23,BD!$Q$2:$T$79,3,FALSE)*(VLOOKUP($E23,Mass!$A$3:$S$78,2,FALSE)*10000)*((O23*G23*n_rain_events)/1000000)","v":{"v":10.89063244573649,"d":"10.9"}},{"v":12.774701592023282,"d":"13"},{"v":1.7384385153769197,"d":"2"},null,{"v":-13.244060519711695,"d":"-13.24 "}]
["Ley farming","Ai","T",1,"Ai-1-T",{"v":199.0049751243781,"d":"199.00"},{"v":13.544261181810091,"d":"13.54"},{"v":14.692936916458853,"d":"14.69"},{"$nulls":3},{"$f":"VLOOKUP(Nmin_SHS!E24,'CO2'!$A$3:$J$78,10,FALSE)","v":{"v":55.57022603626943,"d":"56"}},{"$f":"VLOOKUP(Nmin_SHS!E24,'CO2'!$A$3:$M$78,13,FALSE)","v":{"v":1.0333333333333334,"d":"1.03"}},{"v":53.77763809961557,"d":"53.78"},{"v":0.27023263145056825,"d":"27%"},{"v":45.00392269967617,"d":"45"},{"$f":"VLOOKUP($E24,BD!$Q$2:$T$79,3,FALSE)*(VLOOKUP($E24,Mass!$A$3:$S$78,2,FALSE)*10000)*((O24*G24*n_rain_events)/1000000)","v":{"v":46.01952724827539,"d":"46.0"}},{"v":45.09244851144048,"d":"45"},{"v":14.495092062926457,"d":"14"},null,{"v":1.015604548599221,"d":"1.02 "}]
["Ley farming","Ai","S",1,"Ai-1-S",{"v":199.40179461615156,"d":"199.40"},{"v":12.49500997464085,"d":"12.50"},{"v":15.958514240552503,"d":"15.96"},{"$nulls":3},{"$f":"VLOOKUP(Nmin_SHS!E25,'CO2'!$A$3:$J$78,10,FALSE)","v":{"v":46.29038689119171,"d":"46"}},{"$f":"VLOOKUP(Nmin_SHS!E25,'CO2'!$A$3:$M$78,13,FALSE)","v":{"v":1.0333333333333334,"d":"1.03"}},{"v":44.79714860437907,"d":"44.80"},{"v":0.22465770025096102,"d":"22%"},{"v":37.4621974264715,"d":"37"},{"$f":"VLOOKUP($E25,BD!$Q$2:$T$79,3,FALSE)*(VLOOKUP($E25,Mass!$A$3:$S$78,2,FALSE)*10000)*((O25*G25*n_rain_events)/1000000)","v":{"v":27.267104823675403,"d":"27.3"}},{"v":34.58347453195258,"d":"35"},{"v":11.161332375816249,"d":"11"},null,{"v":-10.195092602796095,"d":"-10.20 "}]
["Soil amendments","Pi","T",0,"Pi-0-T",{"v":218.47070506454818,"d":"218.47"},{"v":12.033315282595641,"d":"12.03"},{"v":18.155487489015833,"d":"18.16"},{"$nulls":3},{"$f":"VLOOKUP(Nmin_SHS!E26,'CO2'!$A$3:$J$78,10,FALSE)","v":{"v":42.68415124352332,"d":"43"}},{"$f":"VLOOKUP(Nmin_SHS!E26,'CO2'!$A$3:$M$78,13,FALSE)","v":{"v":1.0333333333333334,"d":"1.03"}},{"v":41.307243138893526,"d":"41.31"},{"v":0.1890745174584808,"d":"19%"},{"v":34.531409715611396,"d":"35"},{"$f":"VLOOKUP($E26,BD!$Q$2:$T$79,3,FALSE)*(VLOOKUP($E26,Mass!$A$3:$S$78,2,FALSE)*10000)*((O26*G26*n_rain_events)/1000000)","v":{"v":25.080823815030094,"d":"25.1"}},{"v":28.030381215544814,"d":"28"},{"v":10.859372158086504,"d":"11"},null,{"v":-9.450585900581302,"d":"-9.45 "}]
["Soil amendments","Pi","S",0,"Pi-0-S",{"v":229.08366533864546,"d":"229.08"},{"v":9.751103150603601,"d":"9.75"},{"v":23.493102452153323,"d":"23.49"},{"$nulls":3},{"$f":"VLOOKUP(Nmin_SHS!E27,'CO2'!$A$3:$J$78,10,FALSE)","v":{"v":28.58563515544041,"d":"29"}},{"$f":"VLOOKUP(Nmin_SHS!E27,'CO2'!$A$3:$M$78,13,FALSE)","v":{"v":1,"d":"1.00"}},{"v":28.58563515544041,"d":"28.59"},{"v":0.12478251172200942,"d":"12%"},{"v":23.07354569082642,"d":"23"},{"$f":"VLOOKUP($E27,BD!$Q$2:$T$79,3,FALSE)*(VLOOKUP($E27,Mass!$A$3:$S$78,2,FALSE)*10000)*((O27*G27*n_rain_events)/1000000)","v":{"v":10.905617350696463,"d":"10.9"}},{"v":14.990571204134275,"d":"15"},{"v":6.3855119239074325,"d":"6"},null,{"v":-12.167928340129958,"d":"-12.17 "}]
["Soil amendments","Pi","T",1,"Pi-1-T",{"v":307.53968253968253,"d":"307.54"},{"v":15.534676119246585,"d":"15.53"},{"v":19.796980650189305,"d":"19.80"},{"$nulls":3},{"$f":"VLOOKUP(Nmin_SHS!E28,'CO2'!$A$3:$J$78,10,FALSE)","v":{"v":40.46134220207254,"d":"40"}},{"$f":"VLOOKUP(Nmin_SHS!E28,'CO2'!$A$3:$M$78,13,FALSE)","v":{"v":0.9666666666666667,"d":"0.97"}},{"v":41.856560898695726,"d":"41.86"},{"v":0.13610133350285578,"d":"14%"},{"v":32.72493280762435,"d":"33"},{"$f":"VLOOKUP($E28,BD!$Q$2:$T$79,3,FALSE)*(VLOOKUP($E28,Mass!$A$3:$S$78,2,FALSE)*10000)*((O28*G28*n_rain_events)/1000000)","v":{"v":23.05108251221422,"d":"23.1"}},{"v":26.048054467689767,"d":"26"},{"v":19.9970948688785,"d":"20"},null,{"v":-9.67385029541013,"d":"-9.67 "}]
["Soil amendments","Pi","S",1,"Pi-1-S",{"v":269.4610778443114,"d":"269.46"},{"v":7.958608065942388,"d":"7.96"},{"v":33.85781478515416,"d":"33.86"},{"$nulls":3},{"$f":"VLOOKUP(Nmin_SHS!E29,'CO2'!$A$3:$J$78,10,FALSE)","v":{"v":25.476811321243527,"d":"25"}},{"$f":"VLOOKUP(Nmin_SHS!E29,'CO2'!$A$3:$M$78,13,FALSE)","v":{"v":1.0333333333333334,"d":"1.03"}},{"v":24.654978697977604,"d":"24.65"},{"v":0.09149736539027245,"d":"9%"},{"v":20.547004560774614,"d":"21"},{"$f":"VLOOKUP($E29,BD!$Q$2:$T$79,3,FALSE)*(VLOOKUP($E29,Mass!$A$3:$S$78,2,FALSE)*10000)*((O29*G29*n_rain_events)/1000000)","v":{"v":6.471394611472642,"d":"6.5"}},{"v":8.971321376956404,"d":"9"},{"v":5.287346739467847,"d":"5"},null,{"v":-14.07560994930197,"d":"-14.08 "}]
["Ley farming","Ja","T",0,"Ja-0-T",{"v":239.0438247011953,"d":"239.04"},{"v":9.155077720896752,"d":"9.16"},{"v":26.110518336242002,"d":"26.11"},{"$nulls":3},{"$f":"VLOOKUP(Nmin_SHS!E30,'CO2'!$A$3:$J$78,10,FALSE)","v":{"v":27.264385025906737,"d":"27"}},{"$f":"VLOOKUP(Nmin_SHS!E30,'CO2'!$A$3:$M$78,13,FALSE)","v":{"v":0.9333333333333333,"d":"0.93"}},{"v":29.21184109918579,"d":"29.21"},{"v":0.12220286859826052,"d":"12%"},{"v":21.999765710554403,"d":"22"},{"$f":"VLOOKUP($E30,BD!$Q$2:$T$79,3,FALSE)*(VLOOKUP($E30,Mass!$A$3:$S$78,2,FALSE)*10000)*((O30*G30*n_rain_events)/1000000)","v":{"v":12.672519588305656,"d":"12.7"}},{"v":13.783329679918054,"d":"14"},{"v":6.392908580881243,"d":"6"},null,{"v":-9.327246122248747,"d":"-9.33 "}]
["Ley farming","Ja","T",1,"Ja-1-T",{"v":258.44930417495027,"d":"258.45"},{"v":9.553146889344394,"d":"9.55"},{"v":27.053839658136663,"d":"27.05"},{"$nulls":3},{"$f":"VLOOKUP(Nmin_SHS!E31,'CO2'!$A$3:$J$78,10,FALSE)","v":{"v":34.655613691709846,"d":"35"}},{"$f":"VLOOKUP(Nmin_SHS!E31,'CO2'!$A$3:$M$78,13,FALSE)","v":{"v":0.9333333333333333,"d":"0.93"}},{"v":37.13101466968912,"d":"37.13"},{"v":0.14366846445272025,"d":"14%"},{"v":28.00661724725259,"d":"28"},{"$f":"VLOOKUP($E31,BD!$Q$2:$T$79,3,FALSE)*(VLOOKUP($E31,Mass!$A$3:$S$78,2,FALSE)*10000)*((O31*G31*n_rain_events)/1000000)","v":{"v":15.870918011062749,"d":"15.9"}},{"v":16.909026833571367,"d":"17"},{"v":9.16766299158895,"d":"9"},null,{"v":-12.13569923618984,"d":"-12.14 "}]
["Grass mixture","Mu","T",0,"Mu-0-T",{"v":445.986124876115,"d":"445.99"},{"v":21.38550528575956,"d":"21.39"},{"v":20.854598426210377,"d":"20.85"},{"$nulls":3},{"$f":"VLOOKUP(Nmin_SHS!E32,'CO2'!$A$3:$J$78,10,FALSE)","v":{"v":68.93039646373057,"d":"69"}},{"$f":"VLOOKUP(Nmin_SHS!E32,'CO2'!$A$3:$M$78,13,FALSE)","v":{"v":0.8666666666666667,"d":"0.87"}},{"v":79.53507284276604,"d":"79.54"},{"v":0.17833530777411316,"d":"18%"},{"v":55.861733206073836,"d":"56"},{"$f":"VLOOKUP($E32,BD!$Q$2:$T$79,3,FALSE)*(VLOOKUP($E32,Mass!$A$3:$S$78,2,FALSE)*10000)*((O32*G32*n_rain_events)/1000000)","v":{"v":39.250912454952505,"d":"39.3"}},{"v":46.985901017943334,"d":"47"},{"v":75.85767832576911,"d":"76"},null,{"v":-16.61082075112133,"d":"-16.61 "}]
["Grass mixture","Mu","S",0,"Mu-0-S",{"v":297.91459781529295,"d":"297.91"},{"v":12.553033019152402,"d":"12.55"},{"v":23.732479422364218,"d":"23.73"},{"$nulls":3},{"$f":"VLOOKUP(Nmin_SHS!E33,'CO2'!$A$3:$J$78,10,FALSE)","v":{"v":36.97945950777202,"d":"37"}},{"$f":"VLOOKUP(Nmin_SHS!E33,'CO2'!$A$3:$M$78,13,FALSE)","v":{"v":0.9666666666666667,"d":"0.97"}},{"v":38.25461328390209,"d":"38.25"},{"v":0.128407985256298,"d":"13%"},{"v":29.89520674196632,"d":"30"},{"$f":"VLOOKUP($E33,BD!$Q$2:$T$79,3,FALSE)*(VLOOKUP($E33,Mass!$A$3:$S$78,2,FALSE)*10000)*((O33*G33*n_rain_events)/1000000)","v":{"v":13.655630901841409,"d":"13.7"}},{"v":19.858727243372172,"d":"20"},{"v":14.306199315423905,"d":"14"},null,{"v":-16.23957584012491,"d":"-16.24 "}]
["Grass mixture","Mu","T",1,"Mu-1-T",{"v":386.9047619047619,"d":"386.90"},{"v":20.542102092871023,"d":"20.54"},{"v":18.834721011294857,"d":"18.83"},{"$nulls":3},{"$f":"VLOOKUP(Nmin_SHS!E34,'CO2'!$A$3:$J$78,10,FALSE)","v":{"v":69.27236708549223,"d":"69"}},{"$f":"VLOOKUP(Nmin_SHS!E34,'CO2'!$A$3:$M$78,13,FALSE)","v":{"v":0.9666666666666667,"d":"0.97"}},{"v":71.66106939878507,"d":"71.66"},{"v":0.18521630244609064,"d":"19%"},{"v":56.13965273037954,"d":"56"},{"$f":"VLOOKUP($E34,BD!$Q$2:$T$79,3,FALSE)*(VLOOKUP($E34,Mass!$A$3:$S$78,2,FALSE)*10000)*((O34*G34*n_rain_events)/1000000)","v":{"v":38.893806738103585,"d":"38.9"}},{"v":46.87430063145579,"d":"47"},{"v":56.95505073739305,"d":"57"},null,{"v":-17.245845992275953,"d":"-17.25 "}]
["Grass mixture","Mu","S",1,"Mu-1-S",{"v":248.75621890547262,"d":"248.76"},{"v":11.102763470055354,"d":"11.10"},{"v":22.404892221326627,"d":"22.40"},{"$nulls":3},{"$f":"VLOOKUP(Nmin_SHS!E35,'CO2'!$A$3:$J$78,10,FALSE)","v":{"v":46.010592746113986,"d":"46"}},{"$f":"VLOOKUP(Nmin_SHS!E35,'CO2'!$A$3:$M$78,13,FALSE)","v":{"v":1,"d":"1.00"}},{"v":46.010592746113986,"d":"46.01"},{"v":0.18496258283937822,"d":"18%"},{"v":37.234808724766836,"d":"37"},{"$f":"VLOOKUP($E35,BD!$Q$2:$T$79,3,FALSE)*(VLOOKUP($E35,Mass!$A$3:$S$78,2,FALSE)*10000)*((O35*G35*n_rain_events)/1000000)","v":{"v":17.28717276916715,"d":"17.3"}},{"v":25.300300355497995,"d":"25"},{"v":12.707580307889257,"d":"13"},null,{"v":-19.947635955599686,"d":"-19.95 "}]
["Subsoiling","Kp","T",0,"Kp-0-T",{"v":298.5074626865671,"d":"298.51"},{"v":16.061281117297113,"d":"16.06"},{"v":18.585532530471124,"d":"18.59"},{"$nulls":3},{"$f":"VLOOKUP(Nmin_SHS!E36,'CO2'!$A$3:$J$78,10,FALSE)","v":{"v":65.3086166968912,"d":"65"}},{"$f":"VLOOKUP(Nmin_SHS!E36,'CO2'!$A$3:$M$78,13,FALSE)","v":{"v":0.9666666666666667,"d":"0.97"}},{"v":67.56063796230124,"d":"67.56"},{"v":0.2263281371737092,"d":"23%"},{"v":52.91831278956348,"d":"53"},{"$f":"VLOOKUP($E36,BD!$Q$2:$T$79,3,FALSE)*(VLOOKUP($E36,Mass!$A$3:$S$78,2,FALSE)*10000)*((O36*G36*n_rain_events)/1000000)","v":{"v":41.595603957928724,"d":"41.6"}},{"v":44.78467637830188,"d":"45"},{"v":32.39135518735688,"d":"32"},null,{"v":-11.322708831634756,"d":"-11.32 "}]
["Subsoiling","Kp","S",0,"Kp-0-S",{"v":269.1924227318046,"d":"269.19"},{"v":9.35380895898006,"d":"9.35"},{"v":28.778909630538074,"d":"28.78"},{"$nulls":3},{"$f":"VLOOKUP(Nmin_SHS!E37,'CO2'!$A$3:$J$78,10,FALSE)","v":{"v":38.67376849740931,"d":"39"}},{"$f":"VLOOKUP(Nmin_SHS!E37,'CO2'!$A$3:$M$78,13,FALSE)","v":{"v":1.0333333333333334,"d":"1.03"}},{"v":37.42622757813804,"d":"37.43"},{"v":0.13903150466989797,"d":"14%"},{"v":31.272171657844545,"d":"31"},{"$f":"VLOOKUP($E37,BD!$Q$2:$T$79,3,FALSE)*(VLOOKUP($E37,Mass!$A$3:$S$78,2,FALSE)*10000)*((O37*G37*n_rain_events)/1000000)","v":{"v":12.214309961718314,"d":"12.2"}},{"v":16.021841330409007,"d":"16"},{"v":9.423828650222118,"d":"9"},null,{"v":-19.05786169612623,"d":"-19.06 "}]
["Subsoiling","Kp","T",1,"Kp-1-T",{"v":277.77777777777777,"d":"277.78"},{"v":16.623366233286085,"d":"16.62"},{"v":16.710079888727027,"d":"16.71"},{"$nulls":3},{"$f":"VLOOKUP(Nmin_SHS!E38,'CO2'!$A$3:$J$78,10,FALSE)","v":{"v":62.96145470207253,"d":"63"}},{"$f":"VLOOKUP(Nmin_SHS!E38,'CO2'!$A$3:$M$78,13,FALSE)","v":{"v":1,"d":"1.00"}},{"v":62.96145470207253,"d":"62.96"},{"v":0.22666123692746112,"d":"23%"},{"v":51.010774236374345,"d":"51"},{"$f":"VLOOKUP($E38,BD!$Q$2:$T$79,3,FALSE)*(VLOOKUP($E38,Mass!$A$3:$S$78,2,FALSE)*10000)*((O38*G38*n_rain_events)/1000000)","v":{"v":42.3567589622987,"d":"42.4"}},{"v":46.42019230876491,"d":"46"},{"v":29.073092224805656,"d":"29"},null,{"v":-8.654015274075647,"d":"-8.65 "}]
["Subsoiling","Kp","S",1,"Kp-1-S",{"v":269.1924227318046,"d":"269.19"},{"v":11.206369022152796,"d":"11.21"},{"v":24.021377682607444,"d":"24.02"},{"$nulls":3},{"$f":"VLOOKUP(Nmin_SHS!E39,'CO2'!$A$3:$J$78,10,FALSE)","v":{"v":34.23592247409327,"d":"34"}},{"$f":"VLOOKUP(Nmin_SHS!E39,'CO2'!$A$3:$M$78,13,FALSE)","v":{"v":1,"d":"1.00"}},{"v":34.23592247409327,"d":"34.24"},{"v":0.12718011200561316,"d":"13%"},{"v":27.6655341946956,"d":"28"},{"$f":"VLOOKUP($E39,BD!$Q$2:$T$79,3,FALSE)*(VLOOKUP($E39,Mass!$A$3:$S$78,2,FALSE)*10000)*((O39*G39*n_rain_events)/1000000)","v":{"v":13.137746038725703,"d":"13.1"}},{"v":17.558799934535877,"d":"18"},{"v":10.327846748334592,"d":"10"},null,{"v":-14.527788155969896,"d":"-14.53 "}]
["Soil amendments","Ki","T",0,"Ki-0-T",{"v":139.16500994035786,"d":"139.17"},{"v":7.314661278252974,"d":"7.31"},{"v":19.025489307906255,"d":"19.03"},{"$nulls":3},{"$f":"VLOOKUP(Nmin_SHS!E40,'CO2'!$A$3:$J$78,10,FALSE)","v":{"v":29.184083743523317,"d":"29"}},{"$f":"VLOOKUP(Nmin_SHS!E40,'CO2'!$A$3:$M$78,13,FALSE)","v":{"v":1.1,"d":"1.10"}},{"v":26.53098522138483,"d":"26.53"},{"v":0.19064407951937956,"d":"19%"},{"v":23.5599048583614,"d":"24"},{"$f":"VLOOKUP($E40,BD!$Q$2:$T$79,3,FALSE)*(VLOOKUP($E40,Mass!$A$3:$S$78,2,FALSE)*10000)*((O40*G40*n_rain_events)/1000000)","v":{"v":17.693040874318275,"d":"17.7"}},{"v":17.180201393907385,"d":"17"},{"v":2.7007081350086652,"d":"3"},null,{"v":-5.866863984043125,"d":"-5.87 "}]
["Soil amendments","Ki","S",0,"Ki-0-S",{"v":119.16583912611719,"d":"119.17"},{"v":4.878155483991325,"d":"4.88"},{"v":24.42846266733082,"d":"24.43"},{"$nulls":3},{"$f":"VLOOKUP(Nmin_SHS!E41,'CO2'!$A$3:$J$78,10,FALSE)","v":{"v":16.8031928238342,"d":"17"}},{"$f":"VLOOKUP(Nmin_SHS!E41,'CO2'!$A$3:$M$78,13,FALSE)","v":{"v":1.2,"d":"1.20"}},{"v":14.002660686528499,"d":"14.00"},{"v":0.11750566092778497,"d":"12%"},{"v":13.497954807930054,"d":"13"},{"$f":"VLOOKUP($E41,BD!$Q$2:$T$79,3,FALSE)*(VLOOKUP($E41,Mass!$A$3:$S$78,2,FALSE)*10000)*((O41*G41*n_rain_events)/1000000)","v":{"v":6.039716785453608,"d":"6.0"}},{"v":7.061958094020361,"d":"7"},{"v":0.8139879565258241,"d":"1"},null,{"v":-7.458238022476445,"d":"-7.46 "}]
["Soil amendments","Ki","T",1,"Ki-1-T",{"v":149.402390438247,"d":"149.40"},{"v":8.827211181796406,"d":"8.83"},{"v":16.9252085807516,"d":"16.93"},{"$nulls":3},{"$f":"VLOOKUP(Nmin_SHS!E42,'CO2'!$A$3:$J$78,10,FALSE)","v":{"v":45.49763681347151,"d":"45"}},{"$f":"VLOOKUP(Nmin_SHS!E42,'CO2'!$A$3:$M$78,13,FALSE)","v":{"v":1.1,"d":"1.10"}},{"v":41.361488012246824,"d":"41.36"},{"v":0.27684622642863876,"d":"28%"},{"v":36.81792943830829,"d":"37"},{"$f":"VLOOKUP($E42,BD!$Q$2:$T$79,3,FALSE)*(VLOOKUP($E42,Mass!$A$3:$S$78,2,FALSE)*10000)*((O42*G42*n_rain_events)/1000000)","v":{"v":29.62869831008884,"d":"29.6"}},{"v":30.107370900610324,"d":"30"},{"v":5.454779723268573,"d":"5"},null,{"v":-7.1892311282194505,"d":"-7.19 "}]
["Soil amendments","Ki","S",1,"Ki-1-S",{"v":159.36254980079684,"d":"159.36"},{"v":8.23717726110624,"d":"8.24"},{"v":19.346742791764896,"d":"19.35"},{"$nulls":3},{"$f":"VLOOKUP(Nmin_SHS!E43,'CO2'!$A$3:$J$78,10,FALSE)","v":{"v":24.077840595854923,"d":"24"}},{"$f":"VLOOKUP(Nmin_SHS!E43,'CO2'!$A$3:$M$78,13,FALSE)","v":{"v":1.2333333333333334,"d":"1.23"}},{"v":19.522573456098584,"d":"19.52"},{"v":0.1225041484370186,"d":"12%"},{"v":19.410061052251294,"d":"19"},{"$f":"VLOOKUP($E43,BD!$Q$2:$T$79,3,FALSE)*(VLOOKUP($E43,Mass!$A$3:$S$78,2,FALSE)*10000)*((O43*G43*n_rain_events)/1000000)","v":{"v":10.055511890271845,"d":"10.1"}},{"v":12.431968914246028,"d":"12"},{"v":2.562723476507594,"d":"3"},null,{"v":-9.354549161979449,"d":"-9.35 "}]
["Cover crop","Na","T",0,"Na-0-T",{"v":388.4462151394423,"d":"388.45"},{"v":22.209684579891366,"d":"22.21"},{"v":17.489947402996496,"d":"17.49"},{"$nulls":3},{"$f":"VLOOKUP(Nmin_SHS!E44,'CO2'!$A$3:$J$78,10,FALSE)","v":{"v":29.005326373057,"d":"29"}},{"$f":"VLOOKUP(Nmin_SHS!E44,'CO2'!$A$3:$M$78,13,FALSE)","v":{"v":0.9333333333333333,"d":"0.93"}},{"v":31.077135399703927,"d":"31.08"},{"v":0.08000370241359676,"d":"8%"},{"v":23.41462874338342,"d":"23"},{"$f":"VLOOKUP($E44,BD!$Q$2:$T$79,3,FALSE)*(VLOOKUP($E44,Mass!$A$3:$S$78,2,FALSE)*10000)*((O44*G44*n_rain_events)/1000000)","v":{"v":18.93362812723048,"d":"18.9"}},{"v":21.89087818861917,"d":"22"},{"v":26.81107731084265,"d":"27"},null,{"v":-4.48100061615294,"d":"-4.48 "}]
["Cover crop","Na","S",0,"Na-0-S",{"v":378.863409770688,"d":"378.86"},{"v":18.314212295656365,"d":"18.31"},{"v":20.68685257408227,"d":"20.69"},{"$nulls":3},{"$f":"VLOOKUP(Nmin_SHS!E45,'CO2'!$A$3:$J$78,10,FALSE)","v":{"v":19.795435764248705,"d":"20"}},{"$f":"VLOOKUP(Nmin_SHS!E45,'CO2'!$A$3:$M$78,13,FALSE)","v":{"v":0.9333333333333333,"d":"0.93"}},{"v":21.209395461695042,"d":"21.21"},{"v":0.05598164117915822,"d":"6%"},{"v":15.929750645604921,"d":"16"},{"$f":"VLOOKUP($E45,BD!$Q$2:$T$79,3,FALSE)*(VLOOKUP($E45,Mass!$A$3:$S$78,2,FALSE)*10000)*((O45*G45*n_rain_events)/1000000)","v":{"v":8.85361599989006,"d":"8.9"}},{"v":12.631199026160942,"d":"13"},{"v":14.716319146185961,"d":"15"},null,{"v":-7.076134645714861,"d":"-7.08 "}]
["Cover crop","Na","T",1,"Na-1-T",{"v":379.62037962037965,"d":"379.62"},{"v":19.2771685926947,"d":"19.28"},{"v":19.692745736748968,"d":"19.69"},{"$nulls":3},{"$f":"VLOOKUP(Nmin_SHS!E46,'CO2'!$A$3:$J$78,10,FALSE)","v":{"v":35.66598143782383,"d":"36"}},{"$f":"VLOOKUP(Nmin_SHS!E46,'CO2'!$A$3:$M$78,13,FALSE)","v":{"v":0.9333333333333333,"d":"0.93"}},{"v":38.21355154052553,"d":"38.21"},{"v":0.1006625397159633,"d":"10%"},{"v":28.827743114519425,"d":"29"},{"$f":"VLOOKUP($E46,BD!$Q$2:$T$79,3,FALSE)*(VLOOKUP($E46,Mass!$A$3:$S$78,2,FALSE)*10000)*((O46*G46*n_rain_events)/1000000)","v":{"v":20.47246523868621,"d":"20.5"}},{"v":23.906821388584913,"d":"24"},{"v":27.9647001715773,"d":"28"},null,{"v":-8.355277875833217,"d":"-8.36 "}]
["Cover crop","Na","S",1,"Na-1-S",{"v":378.863409770688,"d":"378.86"},{"v":12.92683738093141,"d":"12.93"},{"v":29.308283117226775,"d":"29.31"},{"$nulls":3},{"$f":"VLOOKUP(Nmin_SHS!E47,'CO2'!$A$3:$J$78,10,FALSE)","v":{"v":21.272127085492222,"d":"21"}},{"$f":"VLOOKUP(Nmin_SHS!E47,'CO2'!$A$3:$M$78,13,FALSE)","v":{"v":0.9,"d":"0.90"}},{"v":23.635696761658025,"d":"23.64"},{"v":0.062385799610376304,"d":"6%"},{"v":17.129857682379527,"d":"17"},{"$f":"VLOOKUP($E47,BD!$Q$2:$T$79,3,FALSE)*(VLOOKUP($E47,Mass!$A$3:$S$78,2,FALSE)*10000)*((O47*G47*n_rain_events)/1000000)","v":{"v":6.567193245621044,"d":"6.6"}},{"v":9.93547738497417,"d":"10"},{"v":11.575595932275672,"d":"12"},null,{"v":-10.562664436758482,"d":"-10.56 "}]
["Ley farming","Ik","T",0,"Ik-0-T",{"v":319.04287138584255,"d":"319.04"},{"v":19.47014459764697,"d":"19.47"},{"v":16.386261015462612,"d":"16.39"},{"$nulls":3},{"$f":"VLOOKUP(Nmin_SHS!E48,'CO2'!$A$3:$J$78,10,FALSE)","v":{"v":39.82403331606217,"d":"40"}},{"$f":"VLOOKUP(Nmin_SHS!E48,'CO2'!$A$3:$M$78,13,FALSE)","v":{"v":0.8333333333333334,"d":"0.83"}},{"v":47.788839979274606,"d":"47.79"},{"v":0.1497881453100388,"d":"15%"},{"v":32.20699187596372,"d":"32"},{"$f":"VLOOKUP($E48,BD!$Q$2:$T$79,3,FALSE)*(VLOOKUP($E48,Mass!$A$3:$S$78,2,FALSE)*10000)*((O48*G48*n_rain_events)/1000000)","v":{"v":26.145670477352233,"d":"26.1"}},{"v":35.93000916982168,"d":"36"},{"v":29.685523415363168,"d":"30"},null,{"v":-6.06132139861149,"d":"-6.06 "}]
["Ley farming","Ik","S",0,"Ik-0-S",{"v":337.30158730158735,"d":"337.30"},{"v":12.620553634790141,"d":"12.62"},{"v":26.726370099309523,"d":"26.73"},{"$nulls":3},{"$f":"VLOOKUP(Nmin_SHS!E49,'CO2'!$A$3:$J$78,10,FALSE)","v":{"v":32.7980914507772,"d":"33"}},{"$f":"VLOOKUP(Nmin_SHS!E49,'CO2'!$A$3:$M$78,13,FALSE)","v":{"v":0.8333333333333334,"d":"0.83"}},{"v":39.35770974093264,"d":"39.36"},{"v":0.11668403358488263,"d":"12%"},{"v":26.49700892204663,"d":"26"},{"$f":"VLOOKUP($E49,BD!$Q$2:$T$79,3,FALSE)*(VLOOKUP($E49,Mass!$A$3:$S$78,2,FALSE)*10000)*((O49*G49*n_rain_events)/1000000)","v":{"v":10.625303973462708,"d":"10.6"}},{"v":18.142642723518122,"d":"18"},{"v":16.754312449156803,"d":"17"},null,{"v":-15.87170494858392,"d":"-15.87 "}]
["Ley farming","Ik","T",1,"Ik-1-T",{"v":279.1625124626122,"d":"279.16"},{"v":18.88000322764036,"d":"18.88"},{"v":14.78614749672912,"d":"14.79"},{"$nulls":3},{"$f":"VLOOKUP(Nmin_SHS!E50,'CO2'!$A$3:$J$78,10,FALSE)","v":{"v":35.24629022020725,"d":"35"}},{"$f":"VLOOKUP(Nmin_SHS!E50,'CO2'!$A$3:$M$78,13,FALSE)","v":{"v":0.8333333333333334,"d":"0.83"}},{"v":42.2955482642487,"d":"42.30"},{"v":0.15150869610371945,"d":"15%"},{"v":28.48666006196243,"d":"28"},{"$f":"VLOOKUP($E50,BD!$Q$2:$T$79,3,FALSE)*(VLOOKUP($E50,Mass!$A$3:$S$78,2,FALSE)*10000)*((O50*G50*n_rain_events)/1000000)","v":{"v":27.886777801544653,"d":"27.9"}},{"v":35.24117115231088,"d":"35"},{"v":22.29224571966835,"d":"22"},null,{"v":-0.5998822604177754,"d":"-0.60 "}]
["Ley farming","Ik","S",1,"Ik-1-S",{"v":288.2703777335984,"d":"288.27"},{"v":17.688393511896543,"d":"17.69"},{"v":16.29714860989036,"d":"16.30"},{"$nulls":3},{"$f":"VLOOKUP(Nmin_SHS!E51,'CO2'!$A$3:$J$78,10,FALSE)","v":{"v":28.057135103626944,"d":"28"}},{"$f":"VLOOKUP(Nmin_SHS!E51,'CO2'!$A$3:$M$78,13,FALSE)","v":{"v":0.8666666666666667,"d":"0.87"}},{"v":32.373617427261856,"d":"32.37"},{"v":0.11230296252353594,"d":"11%"},{"v":22.644033698717614,"d":"23"},{"$f":"VLOOKUP($E51,BD!$Q$2:$T$79,3,FALSE)*(VLOOKUP($E51,Mass!$A$3:$S$78,2,FALSE)*10000)*((O51*G51*n_rain_events)/1000000)","v":{"v":15.451308125602855,"d":"15.5"}},{"v":24.47317480199067,"d":"24"},{"v":16.507436629476125,"d":"17"},null,{"v":-7.192725573114759,"d":"-7.19 "}]
["Cover crop","Ne","T",0,"Ne-0-T",{"v":389.61038961038963,"d":"389.61"},{"v":28.26232719092588,"d":"28.26"},{"v":13.785502764099375,"d":"13.79"},{"$nulls":3},{"$f":"VLOOKUP(Nmin_SHS!E52,'CO2'!$A$3:$J$78,10,FALSE)","v":{"v":54.41218915803109,"d":"54"}},{"$f":"VLOOKUP(Nmin_SHS!E52,'CO2'!$A$3:$M$78,13,FALSE)","v":{"v":0.9333333333333333,"d":"0.93"}},{"v":58.29877409789045,"d":"58.30"},{"v":0.14963352018458548,"d":"15%"},{"v":44.062786128731865,"d":"44"},{"$f":"VLOOKUP($E52,BD!$Q$2:$T$79,3,FALSE)*(VLOOKUP($E52,Mass!$A$3:$S$78,2,FALSE)*10000)*((O52*G52*n_rain_events)/1000000)","v":{"v":43.20669528315568,"d":"43.2"}},{"v":52.10117535622097,"d":"52"},{"v":64.19450759939434,"d":"64"},null,{"v":-0.8560908455761833,"d":"-0.86 "}]
["Cover crop","Ne","S",0,"Ne-0-S",{"v":377.35849056603774,"d":"377.36"},{"v":25.46198095557319,"d":"25.46"},{"v":14.82046865184857,"d":"14.82"},{"$nulls":3},{"$f":"VLOOKUP(Nmin_SHS!E53,'CO2'!$A$3:$J$78,10,FALSE)","v":{"v":28.74884840673575,"d":"29"}},{"$f":"VLOOKUP(Nmin_SHS!E53,'CO2'!$A$3:$M$78,13,FALSE)","v":{"v":0.9,"d":"0.90"}},{"v":31.943164896373055,"d":"31.94"},{"v":0.0846493869753886,"d":"8%"},{"v":23.20618910015414,"d":"23"},{"$f":"VLOOKUP($E53,BD!$Q$2:$T$79,3,FALSE)*(VLOOKUP($E53,Mass!$A$3:$S$78,2,FALSE)*10000)*((O53*G53*n_rain_events)/1000000)","v":{"v":17.802187650125166,"d":"17.8"}},{"v":26.55380209412133,"d":"27"},{"v":30.69193419819565,"d":"31"},null,{"v":-5.404001450028975,"d":"-5.40 "}]
["Cover crop","Ne","T",1,"Ne-1-T",{"v":418.7437686939183,"d":"418.74"},{"v":33.92753759801847,"d":"33.93"},{"v":12.342297683235785,"d":"12.34"},{"$nulls":3},{"$f":"VLOOKUP(Nmin_SHS!E54,'CO2'!$A$3:$J$78,10,FALSE)","v":{"v":55.88110841968912,"d":"56"}},{"$f":"VLOOKUP(Nmin_SHS!E54,'CO2'!$A$3:$M$78,13,FALSE)","v":{"v":0.8666666666666667,"d":"0.87"}},{"v":64.47820202271821,"d":"64.48"},{"v":0.15398008721139608,"d":"15%"},{"v":45.256576812681345,"d":"45"},{"$f":"VLOOKUP($E54,BD!$Q$2:$T$79,3,FALSE)*(VLOOKUP($E54,Mass!$A$3:$S$78,2,FALSE)*10000)*((O54*G54*n_rain_events)/1000000)","v":{"v":52.735219911161074,"d":"52.7"}},{"v":64.3617152419571,"d":"64"},{"v":91.60382670178755,"d":"92"},null,{"v":7.478643098479729,"d":"7.48 "}]
["Cover crop","Ne","S",1,"Ne-1-S",{"v":357.4975173783516,"d":"357.50"},{"v":25.70530255765805,"d":"25.71"},{"v":13.907539760579356,"d":"13.91"},{"$nulls":3},{"$f":"VLOOKUP(Nmin_SHS!E55,'CO2'!$A$3:$J$78,10,FALSE)","v":{"v":24.90945097150259,"d":"25"}},{"$f":"VLOOKUP(Nmin_SHS!E55,'CO2'!$A$3:$M$78,13,FALSE)","v":{"v":0.8333333333333334,"d":"0.83"}},{"v":29.891341165803105,"d":"29.89"},{"v":0.08361272376101034,"d":"8%"},{"v":20.085910804540152,"d":"20"},{"$f":"VLOOKUP($E55,BD!$Q$2:$T$79,3,FALSE)*(VLOOKUP($E55,Mass!$A$3:$S$78,2,FALSE)*10000)*((O55*G55*n_rain_events)/1000000)","v":{"v":17.46939739252899,"d":"17.5"}},{"v":26.47925725918279,"d":"26"},{"v":27.4688926184323,"d":"27"},null,{"v":-2.6165134120111624,"d":"-2.62 "}]
["Subsoiling","Ae","T",0,"Ae-0-T",{"v":369.63036963036967,"d":"369.63"},{"v":25.632791117808353,"d":"25.63"},{"v":14.420215415931407,"d":"14.42"},{"$nulls":3},{"$f":"VLOOKUP(Nmin_SHS!E56,'CO2'!$A$3:$J$78,10,FALSE)","v":{"v":47.751534093264254,"d":"48"}},{"$f":"VLOOKUP(Nmin_SHS!E56,'CO2'!$A$3:$M$78,13,FALSE)","v":{"v":0.8,"d":"0.80"}},{"v":59.689417616580315,"d":"59.69"},{"v":0.161484073065397,"d":"16%"},{"v":38.649671757595854,"d":"39"},{"$f":"VLOOKUP($E56,BD!$Q$2:$T$79,3,FALSE)*(VLOOKUP($E56,Mass!$A$3:$S$78,2,FALSE)*10000)*((O56*G56*n_rain_events)/1000000)","v":{"v":37.51063675794972,"d":"37.5"}},{"v":50.99602216925491,"d":"51"},{"v":56.55368214510393,"d":"57"},null,{"v":-1.1390349996461353,"d":"-1.14 "}]
["Subsoiling","Ae","S",0,"Ae-0-S",{"v":377.73359840954276,"d":"377.73"},{"v":17.331831527498615,"d":"17.33"},{"v":21.794211293263043,"d":"21.79"},{"$nulls":3},{"$f":"VLOOKUP(Nmin_SHS!E57,'CO2'!$A$3:$J$78,10,FALSE)","v":{"v":22.70995810880829,"d":"23"}},{"$f":"VLOOKUP(Nmin_SHS!E57,'CO2'!$A$3:$M$78,13,FALSE)","v":{"v":0.8,"d":"0.80"}},{"v":28.38744763601036,"d":"28.39"},{"v":0.07515203242585901,"d":"8%"},{"v":18.298382955028497,"d":"18"},{"$f":"VLOOKUP($E57,BD!$Q$2:$T$79,3,FALSE)*(VLOOKUP($E57,Mass!$A$3:$S$78,2,FALSE)*10000)*((O57*G57*n_rain_events)/1000000)","v":{"v":9.696242190554463,"d":"9.7"}},{"v":16.04707553623453,"d":"16"},{"v":18.5847370547463,"d":"19"},null,{"v":-8.602140764474035,"d":"-8.60 "}]
["Subsoiling","Ae","T",1,"Ae-1-T",{"v":288.2703777335984,"d":"288.27"},{"v":20.522084496034,"d":"20.52"},{"v":14.046837093439906,"d":"14.05"},{"$nulls":3},{"$f":"VLOOKUP(Nmin_SHS!E58,'CO2'!$A$3:$J$78,10,FALSE)","v":{"v":47.300754637305694,"d":"47"}},{"$f":"VLOOKUP(Nmin_SHS!E58,'CO2'!$A$3:$M$78,13,FALSE)","v":{"v":0.7666666666666667,"d":"0.77"}},{"v":61.696636483442205,"d":"61.70"},{"v":0.21402350449083743,"d":"21%"},{"v":38.283323293738334,"d":"38"},{"$f":"VLOOKUP($E58,BD!$Q$2:$T$79,3,FALSE)*(VLOOKUP($E58,Mass!$A$3:$S$78,2,FALSE)*10000)*((O58*G58*n_rain_events)/1000000)","v":{"v":41.9345463762868,"d":"41.9"}},{"v":54.11200802143479,"d":"54"},{"v":36.499169009934946,"d":"36"},null,{"v":3.651223082548462,"d":"3.65 "}]
["Subsoiling","Ae","S",1,"Ae-1-S",{"v":338.6454183266933,"d":"338.65"},{"v":15.158963371036382,"d":"15.16"},{"v":22.339615845614443,"d":"22.34"},{"$nulls":3},{"$f":"VLOOKUP(Nmin_SHS!E59,'CO2'!$A$3:$J$78,10,FALSE)","v":{"v":22.12705363989637,"d":"22"}},{"$f":"VLOOKUP(Nmin_SHS!E59,'CO2'!$A$3:$M$78,13,FALSE)","v":{"v":0.8333333333333334,"d":"0.83"}},{"v":26.552464367875643,"d":"26.55"},{"v":0.07840786536866806,"d":"8%"},{"v":17.824656493143777,"d":"18"},{"$f":"VLOOKUP($E59,BD!$Q$2:$T$79,3,FALSE)*(VLOOKUP($E59,Mass!$A$3:$S$78,2,FALSE)*10000)*((O59*G59*n_rain_events)/1000000)","v":{"v":9.281027763103063,"d":"9.3"}},{"v":14.64332973641743,"d":"15"},{"v":13.630743408321488,"d":"14"},null,{"v":-8.543628730040714,"d":"-8.54 "}]
["Grazing","Jn","T",0,"Jn-0-T",{"v":297.91459781529295,"d":"297.91"},{"v":17.020062134544066,"d":"17.02"},{"v":17.503731505811775,"d":"17.50"},{"$nulls":3},{"$f":"VLOOKUP(Nmin_SHS!E60,'CO2'!$A$3:$J$78,10,FALSE)","v":{"v":48.831850375647655,"d":"49"}},{"$f":"VLOOKUP(Nmin_SHS!E60,'CO2'!$A$3:$M$78,13,FALSE)","v":{"v":0.8666666666666667,"d":"0.87"}},{"v":56.34444274113191,"d":"56.34"},{"v":0.1891295128010661,"d":"19%"},{"v":39.52764480028885,"d":"40"},{"$f":"VLOOKUP($E60,BD!$Q$2:$T$79,3,FALSE)*(VLOOKUP($E60,Mass!$A$3:$S$78,2,FALSE)*10000)*((O60*G60*n_rain_events)/1000000)","v":{"v":35.46003331891827,"d":"35.5"}},{"v":39.658031451194375,"d":"40"},{"v":28.5695903591954,"d":"29"},null,{"v":-4.067611481370577,"d":"-4.07 "}]
["Grazing","Jn","S",0,"Jn-0-S",{"v":218.6878727634195,"d":"218.69"},{"v":10.789552390254787,"d":"10.79"},{"v":20.268484257135654,"d":"20.27"},{"$nulls":3},{"$f":"VLOOKUP(Nmin_SHS!E61,'CO2'!$A$3:$J$78,10,FALSE)","v":{"v":18.79284007772021,"d":"19"}},{"$f":"VLOOKUP(Nmin_SHS!E61,'CO2'!$A$3:$M$78,13,FALSE)","v":{"v":0.9,"d":"0.90"}},{"v":20.88093341968912,"d":"20.88"},{"v":0.0954828137282148,"d":"10%"},{"v":15.114941131163215,"d":"15"},{"$f":"VLOOKUP($E61,BD!$Q$2:$T$79,3,FALSE)*(VLOOKUP($E61,Mass!$A$3:$S$78,2,FALSE)*10000)*((O61*G61*n_rain_events)/1000000)","v":{"v":9.434169858988104,"d":"9.4"}},{"v":12.692271235822798,"d":"13"},{"v":4.926948660001464,"d":"5"},null,{"v":-5.680771272175111,"d":"-5.68 "}]
["Grazing","Jn","T",1,"Jn-1-T",{"v":297.91459781529295,"d":"297.91"},{"v":19.21808343493395,"d":"19.22"},{"v":15.501785015344163,"d":"15.50"},{"$nulls":3},{"$f":"VLOOKUP(Nmin_SHS!E62,'CO2'!$A$3:$J$78,10,FALSE)","v":{"v":48.295578264248704,"d":"48"}},{"$f":"VLOOKUP(Nmin_SHS!E62,'CO2'!$A$3:$M$78,13,FALSE)","v":{"v":0.8666666666666667,"d":"0.87"}},{"v":55.72566722797927,"d":"55.73"},{"v":0.1870524896619171,"d":"19%"},{"v":39.091816455354916,"d":"39"},{"$f":"VLOOKUP($E62,BD!$Q$2:$T$79,3,FALSE)*(VLOOKUP($E62,Mass!$A$3:$S$78,2,FALSE)*10000)*((O62*G62*n_rain_events)/1000000)","v":{"v":40.26094173753773,"d":"40.3"}},{"v":44.28781714938926,"d":"44"},{"v":31.904881497159987,"d":"32"},null,{"v":1.1691252821828115,"d":"1.17 "}]
["Grazing","Jn","S",1,"Jn-1-S",{"v":219.560878243513,"d":"219.56"},{"v":9.801392352366651,"d":"9.80"},{"v":22.400988589187296,"d":"22.40"},{"$nulls":3},{"$f":"VLOOKUP(Nmin_SHS!E63,'CO2'!$A$3:$J$78,10,FALSE)","v":{"v":20.77471527202072,"d":"21"}},{"$f":"VLOOKUP(Nmin_SHS!E63,'CO2'!$A$3:$M$78,13,FALSE)","v":{"v":0.9666666666666667,"d":"0.97"}},{"v":21.491084764159368,"d":"21.49"},{"v":0.0978821224258531,"d":"10%"},{"v":16.72561110157124,"d":"17"},{"$f":"VLOOKUP($E63,BD!$Q$2:$T$79,3,FALSE)*(VLOOKUP($E63,Mass!$A$3:$S$78,2,FALSE)*10000)*((O63*G63*n_rain_events)/1000000)","v":{"v":8.81017159592725,"d":"8.8"}},{"v":11.81957498171509,"d":"12"},{"v":4.624886411909074,"d":"5"},null,{"v":-7.91543950564399,"d":"-7.92 "}]
["Grazing","Ni","T",0,"Ni-0-T",{"v":279.1625124626122,"d":"279.16"},{"v":22.39371861794711,"d":"22.39"},{"v":12.466107895045248,"d":"12.47"},{"$nulls":3},{"$f":"VLOOKUP(Nmin_SHS!E64,'CO2'!$A$3:$J$78,10,FALSE)","v":{"v":58.57024103626942,"d":"59"}},{"$f":"VLOOKUP(Nmin_SHS!E64,'CO2'!$A$3:$M$78,13,FALSE)","v":{"v":0.8333333333333334,"d":"0.83"}},{"v":70.2842892435233,"d":"70.28"},{"v":0.25176836468304953,"d":"25%"},{"v":47.44203489017616,"d":"47"},{"$f":"VLOOKUP($E64,BD!$Q$2:$T$79,3,FALSE)*(VLOOKUP($E64,Mass!$A$3:$S$78,2,FALSE)*10000)*((O64*G64*n_rain_events)/1000000)","v":{"v":52.229188682639275,"d":"52.2"}},{"v":69.46052856035098,"d":"69"},{"v":43.93813031335224,"d":"44"},null,{"v":4.787153792463116,"d":"4.79 "}]
["Grazing","Ni","T",1,"Ni-1-T",{"v":308.45771144278604,"d":"308.46"},{"v":22.005718938843795,"d":"22.01"},{"v":14.017161279757431,"d":"14.02"},{"$nulls":3},{"$f":"VLOOKUP(Nmin_SHS!E65,'CO2'!$A$3:$J$78,10,FALSE)","v":{"v":63.78529301813471,"d":"64"}},{"$f":"VLOOKUP(Nmin_SHS!E65,'CO2'!$A$3:$M$78,13,FALSE)","v":{"v":0.8666666666666667,"d":"0.87"}},{"v":73.59841502092466,"d":"73.60"},{"v":0.2386013132129977,"d":"24%"},{"v":51.680307635838076,"d":"52"},{"$f":"VLOOKUP($E65,BD!$Q$2:$T$79,3,FALSE)*(VLOOKUP($E65,Mass!$A$3:$S$78,2,FALSE)*10000)*((O65*G65*n_rain_events)/1000000)","v":{"v":47.16482303956559,"d":"47.2"}},{"v":64.68731114389254,"d":"65"},{"v":49.95738019317439,"d":"50"},null,{"v":-4.515484596272486,"d":"-4.52 "}]
["Subsoiling","La","T",0,"La-0-T",{"v":238.5685884691849,"d":"238.57"},{"v":17.706619106755124,"d":"17.71"},{"$f":"F66/G66","v":{"v":13.473412797261242,"d":"13.47"}},{"$nulls":3},{"$f":"VLOOKUP(Nmin_SHS!E66,'CO2'!$A$3:$J$78,10,FALSE)","v":{"v":59.95366764248705,"d":"60"}},{"$f":"VLOOKUP(Nmin_SHS!E66,'CO2'!$A$3:$M$78,13,FALSE)","v":{"v":0.9666666666666667,"d":"0.97"}},{"v":62.02103549222798,"d":"62.02"},{"v":0.2599715071049223,"d":"26%"},{"v":48.56634569304922,"d":"49"},{"$f":"VLOOKUP($E66,BD!$Q$2:$T$79,3,FALSE)*(VLOOKUP($E66,Mass!$A$3:$S$78,2,FALSE)*10000)*((O66*G66*n_rain_events)/1000000)","v":{"v":55.02203498612192,"d":"55.0"}},{"v":56.71162672456441,"d":"57"},{"v":26.199193289878842,"d":"26"},null,{"v":6.455689293072702,"d":"6.46 "}]
["Subsoiling","La","S",0,"La-0-S",{"v":208.74751491053678,"d":"208.75"},{"v":12.872509294186607,"d":"12.87"},{"v":16.21653635199237,"d":"16.22"},{"$nulls":3},{"$f":"VLOOKUP(Nmin_SHS!E67,'CO2'!$A$3:$J$78,10,FALSE)","v":{"v":34.01053274611399,"d":"34"}},{"$f":"VLOOKUP(Nmin_SHS!E67,'CO2'!$A$3:$M$78,13,FALSE)","v":{"v":0.9333333333333333,"d":"0.93"}},{"v":36.439856513693556,"d":"36.44"},{"$f":"N67/F67","v":{"v":0.1745642650132177,"d":"17%"}},{"$f":"L67*0.8127-0.158","v":{"v":27.482359962766836,"d":"27"}},{"$f":"VLOOKUP($E67,BD!$Q$2:$T$79,3,FALSE)*(VLOOKUP($E67,Mass!$A$3:$S$78,2,FALSE)*10000)*((O67*G67*n_rain_events)/1000000)","v":{"v":21.393922164817237,"d":"21.4"}},{"$f":"O67*G67*n_rain_events*2.24","v":{"v":27.684027125406946,"d":"28"}},{"$f":"N67/10*F67/100*G67/10","v":{"v":9.791769607036063,"d":"10"}},null,{"$f":"Q67-P67","v":{"v":-6.088437797949599,"d":"-6.09 "}}]
["Subsoiling","La","T",1,"La-1-T",{"v":228.1746031746032,"d":"228.17"},{"v":18.09479502996517,"d":"18.09"},{"v":12.60995787997287,"d":"12.61"},{"$nulls":3},{"$f":"VLOOKUP(Nmin_SHS!E68,'CO2'!$A$3:$J$78,10,FALSE)","v":{"v":53.098711088082894,"d":"53"}},{"$f":"VLOOKUP(Nmin_SHS!E68,'CO2'!$A$3:$M$78,13,FALSE)","v":{"v":0.9,"d":"0.90"}},{"v":58.99856787564766,"d":"59.00"},{"v":0.25856763660283844,"d":"26%"},{"v":42.99532250128497,"d":"43"},{"$f":"VLOOKUP($E68,BD!$Q$2:$T$79,3,FALSE)*(VLOOKUP($E68,Mass!$A$3:$S$78,2,FALSE)*10000)*((O68*G68*n_rain_events)/1000000)","v":{"v":57.942697801251256,"d":"57.9"}},{"v":57.64193371195805,"d":"58"},{"v":24.359167493790316,"d":"24"},null,{"v":14.94737529996629,"d":"14.95 "}]
["Subsoiling","La","S",1,"La-1-S",{"v":189.81018981018983,"d":"189.81"},{"v":9.862038434057753,"d":"9.86"},{"v":19.246547362327817,"d":"19.25"},{"$nulls":3},{"$f":"VLOOKUP(Nmin_SHS!E69,'CO2'!$A$3:$J$78,10,FALSE)","v":{"v":32.440576709844564,"d":"32"}},{"$f":"VLOOKUP(Nmin_SHS!E69,'CO2'!$A$3:$M$78,13,FALSE)","v":{"v":0.9333333333333333,"d":"0.93"}},{"v":34.75776076054775,"d":"34.76"},{"v":0.18311851853320155,"d":"18%"},{"v":26.206456692090676,"d":"26"},{"$f":"VLOOKUP($E69,BD!$Q$2:$T$79,3,FALSE)*(VLOOKUP($E69,Mass!$A$3:$S$78,2,FALSE)*10000)*((O69*G69*n_rain_events)/1000000)","v":{"v":17.97295964352028,"d":"18.0"}},{"v":22.248957410829696,"d":"22"},{"v":6.506358718824996,"d":"7"},null,{"v":-8.233497048570396,"d":"-8.23 "}]
["Grass mixture","Ko","T",0,"Ko-0-T",{"v":149.55134596211366,"d":"149.55"},{"v":10.438713316627457,"d":"10.44"},{"v":14.326607257610823,"d":"14.33"},{"$nulls":3},{"$f":"VLOOKUP(Nmin_SHS!E70,'CO2'!$A$3:$J$78,10,FALSE)","v":{"v":36.36546680051814,"d":"36"}},{"$f":"VLOOKUP(Nmin_SHS!E70,'CO2'!$A$3:$M$78,13,FALSE)","v":{"v":0.9666666666666667,"d":"0.97"}},{"v":37.61944841432911,"d":"37.62"},{"v":0.25154871173048066,"d":"25%"},{"v":29.39621486878109,"d":"29"},{"$f":"VLOOKUP($E70,BD!$Q$2:$T$79,3,FALSE)*(VLOOKUP($E70,Mass!$A$3:$S$78,2,FALSE)*10000)*((O70*G70*n_rain_events)/1000000)","v":{"v":35.35805575587884,"d":"35.4"}},{"v":32.35040900687227,"d":"32"},{"v":5.872860973980612,"d":"6"},null,{"v":5.961840887097747,"d":"5.96 "}]
["Grass mixture","Ko","S",0,"Ko-0-S",{"v":139.02681231380336,"d":"139.03"},{"v":6.622478672818215,"d":"6.62"},{"v":20.99316874880023,"d":"20.99"},{"$nulls":3},{"$f":"VLOOKUP(Nmin_SHS!E71,'CO2'!$A$3:$J$78,10,FALSE)","v":{"v":13.764317525906732,"d":"14"}},{"$f":"VLOOKUP(Nmin_SHS!E71,'CO2'!$A$3:$M$78,13,FALSE)","v":{"v":0.9333333333333333,"d":"0.93"}},{"v":14.747483063471497,"d":"14.75"},{"v":0.10607653889225571,"d":"11%"},{"v":11.0282608533044,"d":"11"},{"$f":"VLOOKUP($E71,BD!$Q$2:$T$79,3,FALSE)*(VLOOKUP($E71,Mass!$A$3:$S$78,2,FALSE)*10000)*((O71*G71*n_rain_events)/1000000)","v":{"v":7.733698194098896,"d":"7.7"}},{"v":8.654672075284132,"d":"9"},{"v":1.3578038618850343,"d":"1"},null,{"v":-3.2945626592055053,"d":"-3.29 "}]
["Grass mixture","Ko","T",1,"Ko-1-T",{"v":168.81827209533267,"d":"168.82"},{"v":11.249304305480008,"d":"11.25"},{"v":15.006996656059362,"d":"15.01"},{"$nulls":3},{"$f":"VLOOKUP(Nmin_SHS!E72,'CO2'!$A$3:$J$78,10,FALSE)","v":{"v":28.71776016839378,"d":"29"}},{"$f":"VLOOKUP(Nmin_SHS!E72,'CO2'!$A$3:$M$78,13,FALSE)","v":{"v":0.9,"d":"0.90"}},{"v":31.908622409326423,"d":"31.91"},{"v":0.18901166333053945,"d":"19%"},{"v":23.180923688853625,"d":"23"},{"$f":"VLOOKUP($E72,BD!$Q$2:$T$79,3,FALSE)*(VLOOKUP($E72,Mass!$A$3:$S$78,2,FALSE)*10000)*((O72*G72*n_rain_events)/1000000)","v":{"v":28.50664072088079,"d":"28.5"}},{"v":26.19539652687096,"d":"26"},{"v":6.059728558758606,"d":"6"},null,{"v":5.325717032027164,"d":"5.33 "}]
["Grass mixture","Ko","S",1,"Ko-1-S",{"v":149.85014985014985,"d":"149.85"},{"v":6.9078668753774854,"d":"6.91"},{"v":21.69268061379095,"d":"21.69"},{"$nulls":3},{"$f":"VLOOKUP(Nmin_SHS!E73,'CO2'!$A$3:$J$78,10,FALSE)","v":{"v":15.528575051813469,"d":"16"}},{"$f":"VLOOKUP(Nmin_SHS!E73,'CO2'!$A$3:$M$78,13,FALSE)","v":{"v":0.9,"d":"0.90"}},{"v":17.253972279792745,"d":"17.25"},{"v":0.11514150834715026,"d":"12%"},{"v":12.462072944608806,"d":"12"},{"$f":"VLOOKUP($E73,BD!$Q$2:$T$79,3,FALSE)*(VLOOKUP($E73,Mass!$A$3:$S$78,2,FALSE)*10000)*((O73*G73*n_rain_events)/1000000)","v":{"v":8.612681058198724,"d":"8.6"}},{"v":9.799108845584884,"d":"10"},{"v":1.7860361175863386,"d":"2"},null,{"v":-3.849391886410082,"d":"-3.85 "}]
["Soil amendments","Pa","T",0,"Pa-0-T",{"v":288.8446215139443,"d":"288.84"},{"v":21.68709490787249,"d":"21.69"},{"v":13.318732764391266,"d":"13.32"},{"$nulls":3},{"$f":"VLOOKUP(Nmin_SHS!E74,'CO2'!$A$3:$J$78,10,FALSE)","v":{"v":70.04957304404144,"d":"70"}},{"$f":"VLOOKUP(Nmin_SHS!E74,'CO2'!$A$3:$M$78,13,FALSE)","v":{"v":0.9333333333333333,"d":"0.93"}},{"v":75.05311397575868,"d":"75.05"},{"v":0.2598390566609024,"d":"26%"},{"v":56.77128801289248,"d":"57"},{"$f":"VLOOKUP($E74,BD!$Q$2:$T$79,3,FALSE)*(VLOOKUP($E74,Mass!$A$3:$S$78,2,FALSE)*10000)*((O74*G74*n_rain_events)/1000000)","v":{"v":61.989329972956284,"d":"62.0"}},{"v":69.42510076134923,"d":"69"},{"v":47.014777063531724,"d":"47"},null,{"v":5.2180419600638075,"d":"5.22 "}]
["Soil amendments","Pa","S",0,"Pa-0-S",{"v":289.1326021934198,"d":"289.13"},{"v":16.89617066786607,"d":"16.90"},{"v":17.112315439811802,"d":"17.11"},{"$nulls":3},{"$f":"VLOOKUP(Nmin_SHS!E75,'CO2'!$A$3:$J$78,10,FALSE)","v":{"v":32.62710613989637,"d":"33"}},{"$f":"VLOOKUP(Nmin_SHS!E75,'CO2'!$A$3:$M$78,13,FALSE)","v":{"v":0.9333333333333333,"d":"0.93"}},{"v":34.957613721317536,"d":"34.96"},{"v":0.12090512607752234,"d":"12%"},{"v":26.358049159893778,"d":"26"},{"$f":"VLOOKUP($E75,BD!$Q$2:$T$79,3,FALSE)*(VLOOKUP($E75,Mass!$A$3:$S$78,2,FALSE)*10000)*((O75*G75*n_rain_events)/1000000)","v":{"v":17.918240098246105,"d":"17.9"}},{"v":25.167710504252405,"d":"25"},{"v":17.07761158496991,"d":"17"},null,{"v":-8.439809061647672,"d":"-8.44 "}]
["Soil amendments","Pa","T",1,"Pa-1-T",{"v":288.8446215139443,"d":"288.84"},{"v":19.933771286994638,"d":"19.93"},{"v":14.490214488534578,"d":"14.49"},{"$nulls":3},{"$f":"VLOOKUP(Nmin_SHS!E76,'CO2'!$A$3:$J$78,10,FALSE)","v":{"v":81.49004475388601,"d":"81"}},{"$f":"VLOOKUP(Nmin_SHS!E76,'CO2'!$A$3:$M$78,13,FALSE)","v":{"v":0.8666666666666667,"d":"0.87"}},{"v":94.02697471602232,"d":"94.03"},{"v":0.32552787108581516,"d":"33%"},{"v":66.06895937148316,"d":"66"},{"$f":"VLOOKUP($E76,BD!$Q$2:$T$79,3,FALSE)*(VLOOKUP($E76,Mass!$A$3:$S$78,2,FALSE)*10000)*((O76*G76*n_rain_events)/1000000)","v":{"v":71.38201122615271,"d":"71.4"}},{"v":79.94445695872838,"d":"80"},{"v":54.138500054899694,"d":"54"},null,{"v":5.313051854669553,"d":"5.31 "}]
["Soil amendments","Pa","S",1,"Pa-1-S",{"v":289.1326021934198,"d":"289.13"},{"v":14.108395053378672,"d":"14.11"},{"v":20.493656514401223,"d":"20.49"},{"$nulls":3},{"$f":"VLOOKUP(Nmin_SHS!E77,'CO2'!$A$3:$J$78,10,FALSE)","v":{"v":35.782562331606215,"d":"36"}},{"$f":"VLOOKUP(Nmin_SHS!E77,'CO2'!$A$3:$M$78,13,FALSE)","v":{"v":0.9333333333333333,"d":"0.93"}},{"v":38.33845964100666,"d":"38.34"},{"v":0.13259818972389542,"d":"13%"},{"v":28.92248840689637,"d":"29"},{"$f":"VLOOKUP($E77,BD!$Q$2:$T$79,3,FALSE)*(VLOOKUP($E77,Mass!$A$3:$S$78,2,FALSE)*10000)*((O77*G77*n_rain_events)/1000000)","v":{"v":16.55624431539354,"d":"16.6"}},{"v":23.0476109739269,"d":"23"},{"v":15.63901285767373,"d":"16"},null,{"v":-12.366244091502832,"d":"-12.37 "}]
[{"$nulls":29},"La-0-T",5.156203954875093]
[{"$nulls":29},"La-0-S",6.014170626290529]
[{"$nulls":29},"La-1-T",5.714728779558639]
[{"$nulls":29},"La-1-S",6.121977549958231]
[{"$nulls":29},"Ko-0-T",4.516421279583911]
[{"$nulls":29},"Ko-0-S",3.3080079210248834]
[{"$nulls":29},"Ko-1-T",4.639474244668948]
[{"$nulls":29},"Ko-1-S",4.081144113633504]
[{"$nulls":29},"BL1-28.07",0]
[{"$nulls":29},"BL2-28.07",0]
[{"$nulls":29},"Pa-0-T",5.205335371011977]
[{"$nulls":29},"Pa-0-S",5.038026739910603]
[{"$nulls":29},"Pa-1-T",3.9706111831248867]
[{"$nulls":29},"Pa-1-S",3.8377664620749665]

{"sheet":"Ikivihrea_Protein","index":19,"n_rows":123,"n_cols":7,"rows_kept":123,"hidden":true}
["Well","sample_id","abs_595","abs_465"]
[null,"","22.5 °C","22.4 °C",null,null,"In this picture, you can see more which wells have the deposition at the bottom after centrifuge. It might not be very easy to see but when compared wit the absorbance, you can easily make the difference."]
["A1","1N",0.57685,0.50614]
["A2","1NM",0.63777,0.54112]
["A3","2N",0.61143,0.5286]
["A4","2NM",0.58174,0.5295]
["A5","3N",0.66427,0.5428]
["A6","3NM",0.67169,0.53608]
["A7","3NM1",0.70079,0.54236]
["A8","1S",0.69581,0.55426]
["A9","1SM",0.75024,0.55955]
["A10","2S",0.6552,0.53818]
["A11","2S1",0.60456,0.52966]
["A12","3S",0.6329,0.53802]
["B1","1Na",0.51814,0.48738]
["B2","1NMa",0.6348,0.53711]
["B3","2Na",0.67999,0.55406]
["B4","2NMa",0.60931,0.53871]
["B5","3Na",0.61188,0.5261]
["B6","3NMa",0.6602,0.53723]
["B7","3NM1a",0.65704,0.52948]
["B8","1Sa",0.71855,0.56353]
["B9","1SMa",0.77291,0.56972]
["B10","2Sa",0.55972,0.51695]
["B11","2S1a",0.57707,0.50979]
["B12","3Sa",0.56928,0.52007]
["C1","1N_blank",0.059959,0.091973]
["C2","1NM_blank",0.057034,0.091649]
["C3","2N_blank",0.058985,0.10058]
["C4","2NM_blank",0.061046,0.10503]
["C5","3N_blank",0.060984,0.10426]
["C6","3NM_blank",0.063574,0.11181]
["C7","3NM1_blank",0.058614,0.098845]
["C8","1S_blank",0.06529,0.12049]
["C9","1SM_blank",0.066368,0.12302]
["C10","2S_blank",0.061621,0.10954]
["C11","2S1_blank",0.061565,0.11]
["C12","3S_blank",0.053966,0.087494]
["D1","3SM",0.49308,0.47276]
["D2","Na-0",0.62285,0.50857]
["D3","Na-1",0.7184,0.53233]
["D4","Si-0",0.53802,0.54044]
["D5","Si-01",0.5578,0.54637]
["D6","Si-1",0.5806,0.54853]
["D7","Ja-0",0.57371,0.53522]
["D8","Ja-1",0.54599,0.54259]
["D9","Pu-0",0.6381,0.51523]
["D10","Pu-1",0.64309,0.51497]
["D11","Pu-11",0.61106,0.50803]
["D12","Ne-0",0.64892,0.50094]
["E1","3SMa",0.47784,0.46124]
["E2","Na-0a",0.59457,0.48818]
["E3","Na-1a",0.7048,0.52257]
["E4","Si-0a",0.53283,0.53802]
["E5","Si-01a",0.55483,0.54472]
["E6","Si-1a",0.59012,0.54716]
["E7","Ja-0a",0.57458,0.53687]
["E8","Ja-1a",0.5423,0.53742]
["E9","Pu-0a",0.65067,0.52159]
["E10","Pu-1a",0.647,0.51755]
["E11","Pu-11a",0.60365,0.50639]
["E12","Ne-0a",0.64194,0.49252]
["F1","3SM_blank",0.052675,0.080234]
["F2","Na-0_blank",0.067114,0.12453]
["F3","Na-1_blank",0.071421,0.13876]
["F4","Si-0_blank",0.054181,0.08678]
["F5","Si_01_blank",0.056932,0.094205]
["F6","Si-1_blank",0.059687,0.10148]
["F7","Ja-0_blank",0.053468,0.087906]
["F8","Ja-1_blank",0.062058,0.095863]
["F9","Pu-0_blank",0.066346,0.11813]
["F10","Pu-1_blank",0.068224,0.12046]
["F11","Pu-11_blank",0.062974,0.11211]
["F12","Ne-0_blank",0.072369,0.13502]
["G1","Ne-1",0.63871,0.47476]
["G2","Ne-1a",0.79742,0.53528]
["G3","Ne-1_blank",0.074169,0.14585]
["G4","Mo-1",0.54758,0.53403]
["G5","Mo-1-a",0.54002,0.53578]
["G6","Mo-1_blank",0.056324,0.091923]
["G7","0 mg/L",0.35483,0.55411]
["G8","40 mg/L",0.52974,0.49129]
["G9","80 mg/L",0.64747,0.4181]
["G10","120 mg/L",0.74204,0.38102]
["G11","160 mg/L",0.84551,0.34636]
["G12","MQ_water",0.039816,0.041269]
["H1","Mo-0",0.50448,0.49749]
["H2","Mo-0a",0.53762,0.50917]
["H3","Mo-0_blank",0.055316,0.087019]
["H4","2SM",0.64149,0.54945]
["H5","2SMa",0.60789,0.53587]
["H6","2SM_blank",0.054044,0.086111]
["H7","180 mg/L",0.93428,0.32816]
["H8","220 mg/L",1.0343,0.30642]
["H9","260 mg/L",1.1198,0.28505]
["H10","350 mg/L",1.2363,0.25178]
["H12","Na_citrate",0.040032,0.043314]
[]
["H11 Empty"]
[]
[null,"Date of measurement: 2022-09-15/Time of measurement: 16:03:40"]
[null,"Protein_stnMULTA.mth"]
[null,"SPARK"]
[null,"Instrument serial number: 1711006554"]
[]
[null,"Name: GRE96ft"]
[null,"Plate layout:"]
[null,"Plate area: A1-H12"]
[null,"    Absorbance"]
[null,"    Name: Protein_Carbon action_595"]
[null,"    Mode: Absorbance"]
[null,"    Measurement wavelength: 595 nm"]
[null,"    Number of flashes: 10"]
[null,"    Settle time: 50 ms"]
[null,"    Absorbance"]
[null,"    Name: Protein_Carbon action_465"]
[null,"    Mode: Absorbance"]
[null,"    Measurement wavelength: 465 nm"]
[null,"    Number of flashes: 10"]
[null,"    Settle time: 50 ms"]
[null,"Meas. temperature: Protein_Carbon action_595: 22.5 °C"]
[null,"Meas. temperature: Protein_Carbon action_465: 22.4 °C"]
[null,"Date: 2022-09-15, Time: 16:03:40"]