Workbook
Name Uusi: #REF!
Name Vanha: #REF!

Sheet Info
A2: Carbon Action field monitoring results for 2022
A3: Authors: Tuomas J. Mattila, Andrei Girz.
A4: Finnish Environment Institute SYKE
A6: The following worksheets describe the ecological soil monitoring results in an experiment
A7: where 20 farms test carbon farming practices. The fields are monitored annually in July, using a standardized | L7: www.carbonaction.org
A8: monitoring protocol to detect change over time. In addition to monitoring, soil samples are taken
A9: for monitoring nutrient status and microbiological activity.
A11: Graphs | B11: Easy way to visualize the change over time on individual farms and compare to year average.
A12: All_2022 | B12: A summary of the results, applicable for statistical analysis.
A13: Sheets in orange: detailed results of different sections
A14: Sheets in gray: additional sheets for calculating to the summary sheet.
A16: Licence: Creative Commons CC 4.0 BY
A17: Funded by Academy of Finland Strategic Research Council project MULTA.
A19: Details of monitoring protocols are presented in a separate pdf.

Sheet Graphs
A1: Change cells A4-A7 to draw charts | T1: Average of all fields
A3: Site | B3: Year | C3: Bulk density kg/l | D3: Porosity | E3: Biomass kg/ha | F3: VESS | G3: SD | H3: Earthworms/m2 | I3: SD | J3: Canopeo % | K3: SD | L3: Water cond. mm/h | M3: SD | N3: Crop height cm | O3: SD | P3: Cholrophyll | Q3: SD | R3: SPAD | S3: SD | T3: Site | U3: Year | V3: Bulk density kg/l | W3: SD | X3: Porosity | Y3: SD | Z3: Biomass kg/ha | AA3: SD | AB3: VESS | AC3: SD | AD3: Earthworms | AE3: SD | AF3: Canopeo % | AG3: SD | AH3: Water cond. mm/h | AI3: SD | AJ3: Crop height cm | AK3: SD | AL3: Chlorophyll | AM3: SD | AN3: SPAd | AO3: SD
A4: Ai-0 | B4: 2022 | C4: =VLOOKUP($A4,ALL_2022!$A$3:$R$43,5,FALSE) -> 1.3455224 | D4: =VLOOKUP($A4,ALL_2022!$A$3:$R$43,6,FALSE) -> 0.49225569 | E4: =VLOOKUP(A4,ALL_2022!$A$3:$R$43,7,FALSE) -> 1342.9888 | F4: =VLOOKUP(A4,ALL_2022!$A$3:$R$43,8,FALSE) -> 3.2118996 | G4: =VLOOKUP(A4,ALL_2022!$A$3:$R$43,9,FALSE) -> 0.57469028 | H4: =VLOOKUP(A4,ALL_2022!$A$3:$R$43,10,FALSE) -> 0 | I4: =VLOOKUP(A4,ALL_2022!$A$3:$R$43,11,FALSE) -> 0 | J4: =VLOOKUP(A4,ALL_2022!$A$3:$R$43,12,FALSE) -> 45.186667 | K4: =VLOOKUP(A4,ALL_2022!$A$3:$R$43,13,FALSE) -> 2.371516 | L4: =VLOOKUP(A4,ALL_2022!$A$3:$R$43,14,FALSE) -> 16.677 | M4: =VLOOKUP($A4,ALL_2022!$A$3:$S$43,15,FALSE) -> 4.794222 | N4: =VLOOKUP($A4,ALL_2022!$A$3:$S$43,16,FALSE) -> 42 | O4: =VLOOKUP($A4,ALL_2022!$A$3:$S$43,17,FALSE) -> 2.44949 | P4: =VLOOKUP($A4,ALL_2022!$A$3:$S$43,18,FALSE) -> 0.0482 | Q4: =VLOOKUP($A4,ALL_2022!$A$3:$S$43,19,FALSE) -> 0.005476 | R4: =VLOOKUP($A4,ALL_2022!$A$3:$U$43,20,FALSE) -> 47.0032 | S4: =VLOOKUP($A4,ALL_2022!$A$3:$U$43,21,FALSE) -> 3.629076 | T4: 0 | U4: 2022 | V4: {=AVERAGEIF(ALL_2022!$C$4:$C$43,Graphs!$T4,ALL_2022!$E$4:$E$43)} -> 0.98859889 | W4: {=_xlfn.STDEV.P(IF($T4=ALL_2022!$C$4:$C$43,ALL_2022!$E$4:$E$43,""))} -> 0.13260799 | X4: =AVERAGEIF(ALL_2022!$C$4:$C$43,Graphs!$T4,ALL_2022!$F$4:$F$43) -> 0.62694382 | Y4: {=_xlfn.STDEV.P(IF($T4=ALL_2022!$C$4:$C$43,ALL_2022!$F$4:$F$43,""))} -> 0.050040749 | Z4: =AVERAGEIF(ALL_2022!$C$4:$C$43,Graphs!$T4,ALL_2022!G4:G43) -> 3229.7424 | AA4: {=_xlfn.STDEV.P(IF($T4=ALL_2022!$C$4:$C$43,ALL_2022!$G$4:$G$43,""))} -> 2894.1574 | AB4: =AVERAGEIF(ALL_2022!$C$4:$C$43,Graphs!$T4,ALL_2022!$H$4:$H$43) -> 3.12347 | AC4: {=_xlfn.STDEV.P(IF($T4=ALL_2022!$C$4:$C$43,ALL_2022!$H$4:$H$43,""))} -> 0.46748288 | AD4: =AVERAGEIF(ALL_2022!$C$4:$C$43,Graphs!$T4,ALL_2022!$J$4:$J$43) -> 27.875 | AE4: {=_xlfn.STDEV.P(IF($T4=ALL_2022!$C$4:$C$43,ALL_2022!$J$4:$J$43,""))} -> 35.102504 | AF4: =AVERAGEIF(ALL_2022!$C$4:$C$43,Graphs!$T4,ALL_2022!$L$4:$L$43) -> 77.600167 | AG4: {=_xlfn.STDEV.P(IF($T4=ALL_2022!$C$4:$C$43,ALL_2022!$L$4:$L$43,""))} -> 16.744164 | AH4: =AVERAGEIF(ALL_2022!$C$4:$C$43,Graphs!$T4,ALL_2022!$N$4:$N$43) -> 22.181226 | AI4: {=_xlfn.STDEV.P(IF($T4=ALL_2022!$C$4:$C$43,ALL_2022!$N$4:$N$43,""))} -> 22.441413 | AJ4: =AVERAGEIF(ALL_2022!$C$4:$C$43,Graphs!$T4,ALL_2022!$P$4:$P$43) -> 52.438235 | AK4: {=_xlfn.STDEV.P(IF($T4=ALL_2022!$C$4:$C$43,ALL_2022!$P$4:$P$43,""))} -> 35.660842 | AL4: =AVERAGEIF(ALL_2022!$C$4:$C$43,Graphs!$T4,ALL_2022!R4:R43) -> 0.028153316 | AM4: {=_xlfn.STDEV.P(IF($T4=ALL_2022!$C$4:$C$43,ALL_2022!$R$4:$R$43,""))} -> 0.021235386 | AN4: =AVERAGEIF(ALL_2022!$C$4:$C$43,Graphs!$T4,ALL_2022!$T$4:$T$43) -> 28.530453
A5: =A4 -> Ai-0 | B5: 2021 | C5: =VLOOKUP($A5,ALL_2021!$A$3:$R$44,5,FALSE) -> 1.3810933 | D5: =VLOOKUP($A5,ALL_2021!$A$3:$R$44,6,FALSE) -> 0.4788327 | E5: =VLOOKUP(A5,ALL_2021!$A$3:$R$44,7,FALSE) -> 332.54142 | F5: =VLOOKUP(A5,ALL_2021!$A$3:$R$44,8,FALSE) -> 3.5402899 | G5: =VLOOKUP(A5,ALL_2021!$A$3:$R$44,9,FALSE) -> 0.58024497 | H5: =VLOOKUP(A5,ALL_2021!$A$3:$R$44,10,FALSE) -> 16.666667 | I5: =VLOOKUP(A5,ALL_2021!$A$3:$R$44,11,FALSE) -> 23.570226 | J5: =VLOOKUP(A5,ALL_2021!$A$3:$R$44,12,FALSE) -> 7.25 | K5: =VLOOKUP(A5,ALL_2021!$A$3:$R$44,13,FALSE) -> 5.5518826 | L5: =VLOOKUP(A5,ALL_2021!$A$3:$R$44,14,FALSE) -> 37.4534 | M5: =VLOOKUP($A5,ALL_2021!$A$3:$S$44,15,FALSE) -> 29.347697 | N5: =VLOOKUP($A5,ALL_2021!$A$3:$S$44,16,FALSE) -> 7 | O5: =VLOOKUP($A5,ALL_2021!$A$3:$S$44,17,FALSE) -> 0 | P5: =VLOOKUP($A5,ALL_2021!$A$3:$S$44,18,FALSE) -> 0.030804826 | Q5: =VLOOKUP($A5,ALL_2021!$A$3:$S$44,19,FALSE) -> 0.012918396 | R5: =VLOOKUP($A5,ALL_2021!$A$3:$U$44,20,FALSE) -> 34.12825 | S5: =VLOOKUP($A5,ALL_2021!$A$3:$U$44,21,FALSE) -> 10.48264 | T5: 0 | U5: 2021 | V5: {=AVERAGEIF(ALL_2021!$C$5:$C$44,Graphs!$T5,ALL_2021!$E$5:$E$44)} -> 1.0897656 | W5: {=_xlfn.STDEV.P(IF($T5=ALL_2021!$C$5:$C$44,ALL_2021!$E$5:$E$44,""))} -> 0.27612514 | X5: =AVERAGEIF(ALL_2021!$C$5:$C$44,Graphs!$T5,ALL_2021!$F$5:$F$44) -> 0.58876769 | Y5: {=_xlfn.STDEV.P(IF($T5=ALL_2021!$C$5:$C$44,ALL_2021!$F$5:$F$44,""))} -> 0.13888912 | Z5: =AVERAGEIF(ALL_2021!$C$5:$C$44,Graphs!$T5,ALL_2021!G6:G45) -> 4035.3265 | AA5: {=_xlfn.STDEV.P(IF($T5=ALL_2021!$C$5:$C$44,ALL_2021!$G$5:$G$44,""))} -> 2940.0076 | AB5: =AVERAGEIF(ALL_2021!$C$5:$C$44,Graphs!$T5,ALL_2021!$H$5:$H$44) -> 3.1519326 | AC5: {=_xlfn.STDEV.P(IF($T5=ALL_2021!$C$5:$C$44,ALL_2021!$H$5:$H$44,""))} -> 0.85340178 | AD5: =AVERAGEIF(ALL_2021!$C$5:$C$44,Graphs!$T5,ALL_2021!$J$5:$J$44) -> 22.368421 | AE5: {=_xlfn.STDEV.P(IF($T5=ALL_2021!$C$5:$C$44,ALL_2021!$J$5:$J$44,""))} -> 38.014982 | AF5: =AVERAGEIF(ALL_2021!$C$5:$C$44,Graphs!$T5,ALL_2021!$L$5:$L$44) -> 65.705351 | AG5: {=_xlfn.STDEV.P(IF($T5=ALL_2021!$C$5:$C$44,ALL_2021!$L$5:$L$44,""))} -> 28.489458 | AH5: =AVERAGEIF(ALL_2021!$C$5:$C$44,Graphs!$T5,ALL_2021!$N$5:$N$44) -> 19.987521 | AI5: {=_xlfn.STDEV.P(IF($T5=ALL_2021!$C$5:$C$44,ALL_2021!$N$5:$N$44,""))} -> 19.716627 | AJ5: =AVERAGEIF(ALL_2021!$C$5:$C$44,Graphs!$T5,ALL_2021!$P$5:$P$44) -> 38.614583 | AK5: {=_xlfn.STDEV.P(IF($T5=ALL_2021!$C$5:$C$44,ALL_2021!$P$5:$P$44,""))} -> 22.99899 | AL5: =AVERAGEIF(ALL_2021!$C$5:$C$44,Graphs!$T5,ALL_2021!R6:R45) -> 0.04283664 | AM5: {=_xlfn.STDEV.P(IF($T5=ALL_2021!$C$5:$C$44,ALL_2021!$R$5:$R$44,""))} -> 0.015866258 | AN5: =AVERAGEIF(ALL_2021!$C$5:$C$44,Graphs!$T5,ALL_2021!$T$5:$T$44) -> 44.59365
A6: =A4 -> Ai-0 | B6: 2020 | C6: =VLOOKUP($A6,ALL_2020!$A$3:$R$44,5,FALSE) -> 1.2425287 | D6: =VLOOKUP($A6,ALL_2020!$A$3:$R$44,6,FALSE) -> 0.53112123 | E6: =VLOOKUP(A6,ALL_2020!$A$3:$R$44,7,FALSE) -> 3040.117 | F6: =VLOOKUP(A6,ALL_2020!$A$3:$R$44,8,FALSE) -> 2.8603995 | G6: =VLOOKUP(A6,ALL_2020!$A$3:$R$44,9,FALSE) -> 0.36644087 | H6: =VLOOKUP(A6,ALL_2020!$A$3:$R$44,10,FALSE) -> 20 | I6: =VLOOKUP(A6,ALL_2020!$A$3:$R$44,11,FALSE) -> 40 | J6: =VLOOKUP(A6,ALL_2020!$A$3:$R$44,12,FALSE) -> 91.9755 | K6: =VLOOKUP(A6,ALL_2020!$A$3:$R$44,13,FALSE) -> 4.7844523 | L6: =VLOOKUP(A6,ALL_2020!$A$3:$R$44,14,FALSE) -> 11.398292 | M6: =VLOOKUP($A6,ALL_2020!$A$3:$S$44,15,FALSE) -> 9.6221867 | N6: =VLOOKUP($A6,ALL_2020!$A$3:$S$44,16,FALSE) -> 43 | O6: =VLOOKUP($A6,ALL_2020!$A$3:$S$44,17,FALSE) -> 2.4494897 | P6: =VLOOKUP($A6,ALL_2020!$A$3:$S$44,18,FALSE) -> 0.047341024 | Q6: =VLOOKUP($A6,ALL_2020!$A$3:$S$44,19,FALSE) -> 0.0085556475 | R6: =VLOOKUP($A6,ALL_2020!$A$3:$U$44,20,FALSE) -> 46.33 | S6: =VLOOKUP($A6,ALL_2020!$A$3:$U$44,21,FALSE) -> 5.6698571 | T6: 0 | U6: 2020 | V6: {=AVERAGEIF(ALL_2020!$C$5:$C$44,Graphs!$T6,ALL_2020!$E$5:$E$44)} -> 1.0116588 | W6: {=_xlfn.STDEV.P(IF($T6=ALL_2020!$C$5:$C$44,ALL_2020!$E$5:$E$44,""))} -> 0.32251517 | X6: =AVERAGEIF(ALL_2020!$C$5:$C$44,Graphs!$T6,ALL_2020!$F$5:$F$44) -> 0.61824196 | Y6: {=_xlfn.STDEV.P(IF($T6=ALL_2020!$C$5:$C$44,ALL_2020!$F$5:$F$44,""))} -> 0.18758764 | Z6: =AVERAGEIF(ALL_2020!$C$5:$C$44,Graphs!$T6,ALL_2020!G7:G46) -> 3609.8921 | AA6: {=_xlfn.STDEV.P(IF($T6=ALL_2020!$C$5:$C$44,ALL_2020!$G$5:$G$44,""))} -> 2416.2727 | AB6: =AVERAGEIF(ALL_2020!$C$5:$C$44,Graphs!$T6,ALL_2020!$H$5:$H$44) -> 2.9316431 | AC6: {=_xlfn.STDEV.P(IF($T6=ALL_2020!$C$5:$C$44,ALL_2020!$H$5:$H$44,""))} -> 0.92843086 | AD6: =AVERAGEIF(ALL_2020!$C$5:$C$44,Graphs!$T6,ALL_2020!$J$5:$J$44) -> 43.947368 | AE6: {=_xlfn.STDEV.P(IF($T6=ALL_2020!$C$5:$C$44,ALL_2020!$J$5:$J$44,""))} -> 38.249687 | AF6: =AVERAGEIF(ALL_2020!$C$5:$C$44,Graphs!$T6,ALL_2020!$L$5:$L$44) -> 77.377064 | AG6: {=_xlfn.STDEV.P(IF($T6=ALL_2020!$C$5:$C$44,ALL_2020!$L$5:$L$44,""))} -> 26.94973 | AH6: =AVERAGEIF(ALL_2020!$C$5:$C$44,Graphs!$T6,ALL_2020!$N$5:$N$44) -> 11.085812 | AI6: {=_xlfn.STDEV.P(IF($T6=ALL_2020!$C$5:$C$44,ALL_2020!$N$5:$N$44,""))} -> 14.586521 | AJ6: =AVERAGEIF(ALL_2020!$C$5:$C$44,Graphs!$T6,ALL_2020!$P$5:$P$44) -> 49.617544 | AK6: {=_xlfn.STDEV.P(IF($T6=ALL_2020!$C$5:$C$44,ALL_2020!$P$5:$P$44,""))} -> 25.744832 | AL6: =AVERAGEIF(ALL_2020!$C$5:$C$44,Graphs!$T6,ALL_2020!R7:R46) -> 0.043173974 | AM6: {=_xlfn.STDEV.P(IF($T6=ALL_2020!$C$5:$C$44,ALL_2020!$R$5:$R$44,""))} -> 0.019301722 | AN6: =AVERAGEIF(ALL_2020!$C$5:$C$44,Graphs!$T6,ALL_2020!$T$5:$T$44) -> 42.653037
A7: =A5 -> Ai-0 | B7: 2019 | C7: =VLOOKUP($A7,'2019'!$A$3:$R$55,5,FALSE) -> 1.3864198 | D7: =VLOOKUP(A7,'2019'!$A$3:$R$55,6,FALSE) -> 0.47682273 | E7: =VLOOKUP(A7,'2019'!$A$3:$R$55,7,FALSE) -> 6202.567 | F7: =VLOOKUP(A7,'2019'!$A$3:$R$55,8,FALSE) -> 2.9955724 | G7: =VLOOKUP(A7,'2019'!$A$3:$R$55,9,FALSE) -> 0.4081075 | H7: =VLOOKUP(A7,'2019'!$A$3:$R$55,10,FALSE) -> 0 | I7: =VLOOKUP(A7,'2019'!$A$3:$R$55,11,FALSE) -> 0 | J7: =VLOOKUP(A7,'2019'!$A$3:$R$55,12,FALSE) -> 0.6 | K7: =VLOOKUP(A7,'2019'!$A$3:$R$55,13,FALSE) -> 1.2 | L7: =VLOOKUP(A7,'2019'!$A$3:$R$55,14,FALSE) -> 13.193882 | M7: =VLOOKUP(A7,'2019'!$A$3:$R$55,15,FALSE) -> 7.0631573 | T7: 0 | U7: 2019 | V7: {=AVERAGEIF('2019'!$C$4:$C$55,Graphs!$T7,'2019'!$E$4:$E$55)} -> 1.0211604 | W7: {=_xlfn.STDEV.P(IF($T7='2019'!$C$4:$C$55,'2019'!$E$4:$E$55,""))} -> 0.42304018 | X7: {=AVERAGEIF('2019'!$C$4:$C$55,Graphs!$T7,'2019'!$F$4:$F$55)} -> 0.61465644 | Y7: {=_xlfn.STDEV.P(IF($T7='2019'!$C$4:$C$55,'2019'!$F$4:$F$55,""))} -> 0.23523522 | Z7: {=AVERAGEIF('2019'!$C$4:$C$55,Graphs!$T7,'2019'!$G$4:$G$55)} -> 6348.7145 | AA7: {=_xlfn.STDEV.P(IF($T7='2019'!$C$4:$C$55,'2019'!$G$4:$G$55,""))} -> 4581.8099 | AB7: {=AVERAGEIF('2019'!$C$4:$C$55,Graphs!$T7,'2019'!$H$4:$H$55)} -> 2.7961332 | AC7: {=_xlfn.STDEV.P(IF($T7='2019'!$C$4:$C$55,'2019'!$H$4:$H$55,""))} -> 0.33853567 | AD7: {=AVERAGEIF('2019'!$C$4:$C$55,Graphs!$T7,'2019'!$J$4:$J$55)} -> 8.4615385 | AE7: {=_xlfn.STDEV.P(IF($T7='2019'!$C$4:$C$55,'2019'!$J$4:$J$55,""))} -> 12.307692 | AF7: {=AVERAGEIF('2019'!$C$4:$C$55,Graphs!$T7,'2019'!$L$4:$L$55)} -> 32.5 | AG7: {=_xlfn.STDEV.P(IF($T7='2019'!$C$4:$C$55,'2019'!$L$4:$L$55,""))} -> 31.262868 | AH7: {=AVERAGEIF('2019'!$C$4:$C$55,Graphs!$T7,'2019'!$N$4:$N$55)} -> 7.440188 | AI7: {=_xlfn.STDEV.P(IF($T7='2019'!$C$4:$C$55,'2019'!$N$4:$N$55,""))} -> 13.810346
A8: Ai-1 | B8: 2022 | C8: =VLOOKUP($A8,ALL_2022!$A$3:$R$43,5,FALSE) -> 1.3152299 | D8: =VLOOKUP(A8,ALL_2022!$A$3:$R$43,6,FALSE) -> 0.50368682 | E8: =VLOOKUP(A8,ALL_2022!$A$3:$R$43,7,FALSE) -> 6316.1497 | F8: =VLOOKUP(A8,ALL_2022!$A$3:$R$43,8,FALSE) -> 3.1999426 | G8: =VLOOKUP(A8,ALL_2022!$A$3:$R$43,9,FALSE) -> 0.18026856 | H8: =VLOOKUP(A8,ALL_2022!$A$3:$R$43,10,FALSE) -> 30 | I8: =VLOOKUP(A8,ALL_2022!$A$3:$R$43,11,FALSE) -> 24.494897 | J8: =VLOOKUP(A8,ALL_2022!$A$3:$R$43,12,FALSE) -> 91.4 | K8: =VLOOKUP(A8,ALL_2022!$A$3:$R$43,13,FALSE) -> 1.7 | L8: =VLOOKUP(A8,ALL_2022!$A$3:$R$43,14,FALSE) -> 25.0132 | M8: =VLOOKUP(A8,ALL_2022!$A$3:$S$43,15,FALSE) -> 11.00445 | N8: =VLOOKUP($A8,ALL_2022!$A$3:$S$43,16,FALSE) -> 105 | O8: =VLOOKUP($A8,ALL_2022!$A$3:$S$43,17,FALSE) -> 5 | P8: =VLOOKUP($A8,ALL_2022!$A$3:$S$43,18,FALSE) -> 0.040536 | Q8: =VLOOKUP($A8,ALL_2022!$A$3:$S$43,19,FALSE) -> 0.003301 | R8: =VLOOKUP($A8,ALL_2022!$A$3:$U$43,20,FALSE) -> 41.8948 | S8: =VLOOKUP($A8,ALL_2022!$A$3:$U$43,21,FALSE) -> 2.282932 | T8: 1 | U8: 2022 | V8: =AVERAGEIF(ALL_2022!$C$4:$C$43,Graphs!$T8,ALL_2022!$E$4:$E$43) -> 0.96863621 | W8: {=_xlfn.STDEV.P(IF($T8=ALL_2022!$C$4:$C$43,ALL_2022!$E$4:$E$43,""))} -> 0.12960954 | X8: =AVERAGEIF(ALL_2022!$C$4:$C$43,Graphs!$T8,ALL_2022!$F$4:$F$43) -> 0.6344769 | Y8: {=_xlfn.STDEV.P(IF($T8=ALL_2022!$C$4:$C$43,ALL_2022!$F$4:$F$43,""))} -> 0.04890926 | Z8: =AVERAGEIF(ALL_2022!$C$4:$C$43,Graphs!$T8,ALL_2022!G4:G43) -> 4677.8446 | AA8: {=_xlfn.STDEV.P(IF($T8=ALL_2022!$C$4:$C$43,ALL_2022!$G$4:$G$43,""))} -> 3300.2017 | AB8: =AVERAGEIF(ALL_2022!$C$4:$C$43,Graphs!$T8,ALL_2022!$H$4:$H$43) -> 2.7906822 | AC8: {=_xlfn.STDEV.P(IF($T8=ALL_2022!$C$4:$C$43,ALL_2022!$H$4:$H$43,""))} -> 0.58861529 | AD8: =AVERAGEIF(ALL_2022!$C$4:$C$43,Graphs!$T8,ALL_2022!$J$4:$J$43) -> 52.416667 | AE8: {=_xlfn.STDEV.P(IF($T8=ALL_2022!$C$4:$C$43,ALL_2022!$J$4:$J$43,""))} -> 50.605295 | AF8: =AVERAGEIF(ALL_2022!$C$4:$C$43,Graphs!$T8,ALL_2022!$L$4:$L$43) -> 76.456083 | AG8: {=_xlfn.STDEV.P(IF($T8=ALL_2022!$C$4:$C$43,ALL_2022!$L$4:$L$43,""))} -> 24.056276 | AH8: =AVERAGEIF(ALL_2022!$C$4:$C$43,Graphs!$T8,ALL_2022!$N$4:$N$43) -> 28.388821 | AI8: {=_xlfn.STDEV.P(IF($T8=ALL_2022!$C$4:$C$43,ALL_2022!$N$4:$N$43,""))} -> 33.775588 | AJ8: =AVERAGEIF(ALL_2022!$C$4:$C$43,Graphs!$T8,ALL_2022!$P$4:$P$43) -> 50.814706 | AK8: {=_xlfn.STDEV.P(IF($T8=ALL_2022!$C$4:$C$43,ALL_2022!$P$4:$P$43,""))} -> 36.105465 | AL8: =AVERAGEIF(ALL_2022!$C$4:$C$43,Graphs!$T8,ALL_2022!R4:R43) -> 0.028119053 | AM8: {=_xlfn.STDEV.P(IF($T8=ALL_2022!$C$4:$C$43,ALL_2022!$R$4:$R$43,""))} -> 0.022199483 | AN8: =AVERAGEIF(ALL_2022!$C$4:$C$43,Graphs!$T8,ALL_2022!$T$4:$T$43) -> 28.454379
A9: =A8 -> Ai-1 | B9: 2021 | C9: =VLOOKUP($A9,ALL_2021!$A$3:$R$44,5,FALSE) -> 1.2261867 | D9: =VLOOKUP(A9,ALL_2021!$A$3:$R$44,6,FALSE) -> 0.53728805 | E9: =VLOOKUP(A9,ALL_2021!$A$3:$R$44,7,FALSE) -> 542.071 | F9: =VLOOKUP(A9,ALL_2021!$A$3:$R$44,8,FALSE) -> 3.2692308 | G9: =VLOOKUP(A9,ALL_2021!$A$3:$R$44,9,FALSE) -> 0.32191738 | H9: =VLOOKUP(A9,ALL_2021!$A$3:$R$44,10,FALSE) -> 50 | I9: =VLOOKUP(A9,ALL_2021!$A$3:$R$44,11,FALSE) -> 0 | J9: =VLOOKUP(A9,ALL_2021!$A$3:$R$44,12,FALSE) -> 51.423333 | K9: =VLOOKUP(A9,ALL_2021!$A$3:$R$44,13,FALSE) -> 6.7687632 | L9: =VLOOKUP(A9,ALL_2021!$A$3:$R$44,14,FALSE) -> 11.6635 | M9: =VLOOKUP(A9,ALL_2021!$A$3:$S$44,15,FALSE) -> 6.2004067 | N9: =VLOOKUP($A9,ALL_2021!$A$3:$S$44,16,FALSE) -> 9.3333333 | O9: =VLOOKUP($A9,ALL_2021!$A$3:$S$44,17,FALSE) -> 0.94280904 | P9: =VLOOKUP($A9,ALL_2021!$A$3:$S$44,18,FALSE) -> 0.046567152 | Q9: =VLOOKUP($A9,ALL_2021!$A$3:$S$44,19,FALSE) -> 0.010890289 | R9: =VLOOKUP($A9,ALL_2021!$A$3:$U$44,20,FALSE) -> 45.7162 | S9: =VLOOKUP($A9,ALL_2021!$A$3:$U$44,21,FALSE) -> 7.0509688 | T9: 1 | U9: 2021 | V9: =AVERAGEIF(ALL_2021!$C$5:$C$44,Graphs!$T9,ALL_2021!$E$5:$E$44) -> 1.0669573 | W9: {=_xlfn.STDEV.P(IF($T9=ALL_2021!$C$5:$C$44,ALL_2021!$E$5:$E$44,""))} -> 0.11897538 | X9: =AVERAGEIF(ALL_2021!$C$5:$C$44,Graphs!$T9,ALL_2021!$F$5:$F$44) -> 0.59737459 | Y9: {=_xlfn.STDEV.P(IF($T9=ALL_2021!$C$5:$C$44,ALL_2021!$F$5:$F$44,""))} -> 0.04489637 | Z9: =AVERAGEIF(ALL_2021!$C$5:$C$44,Graphs!$T9,ALL_2021!G6:G45) -> 4087.0122 | AA9: {=_xlfn.STDEV.P(IF($T9=ALL_2021!$C$5:$C$44,ALL_2021!$G$5:$G$44,""))} -> 2540.8785 | AB9: =AVERAGEIF(ALL_2021!$C$5:$C$44,Graphs!$T9,ALL_2021!$H$5:$H$44) -> 3.0851016 | AC9: {=_xlfn.STDEV.P(IF($T9=ALL_2021!$C$5:$C$44,ALL_2021!$H$5:$H$44,""))} -> 0.59596043 | AD9: =AVERAGEIF(ALL_2021!$C$5:$C$44,Graphs!$T9,ALL_2021!$J$5:$J$44) -> 18 | AE9: {=_xlfn.STDEV.P(IF($T9=ALL_2021!$C$5:$C$44,ALL_2021!$J$5:$J$44,""))} -> 21.612753 | AF9: =AVERAGEIF(ALL_2021!$C$5:$C$44,Graphs!$T9,ALL_2021!$L$5:$L$44) -> 72.068917 | AG9: {=_xlfn.STDEV.P(IF($T9=ALL_2021!$C$5:$C$44,ALL_2021!$L$5:$L$44,""))} -> 18.711545 | AH9: =AVERAGEIF(ALL_2021!$C$5:$C$44,Graphs!$T9,ALL_2021!$N$5:$N$44) -> 19.683473 | AI9: {=_xlfn.STDEV.P(IF($T9=ALL_2021!$C$5:$C$44,ALL_2021!$N$5:$N$44,""))} -> 29.78494 | AJ9: =AVERAGEIF(ALL_2021!$C$5:$C$44,Graphs!$T9,ALL_2021!$P$5:$P$44) -> 37.921569 | AK9: {=_xlfn.STDEV.P(IF($T9=ALL_2021!$C$5:$C$44,ALL_2021!$P$5:$P$44,""))} -> 20.284669 | AL9: =AVERAGEIF(ALL_2021!$C$5:$C$44,Graphs!$T9,ALL_2021!R6:R45) -> 0.045117147 | AM9: {=_xlfn.STDEV.P(IF($T9=ALL_2021!$C$5:$C$44,ALL_2021!$R$5:$R$44,""))} -> 0.018015845 | AN9: =AVERAGEIF(ALL_2021!$C$5:$C$44,Graphs!$T9,ALL_2021!$T$5:$T$44) -> 45.336874
A10: =A8 -> Ai-1 | B10: 2020 | C10: =VLOOKUP($A10,ALL_2020!$A$3:$R$44,5,FALSE) -> 1.1731034 | D10: =VLOOKUP(A10,ALL_2020!$A$3:$R$44,6,FALSE) -> 0.55731945 | E10: =VLOOKUP(A10,ALL_2020!$A$3:$R$44,7,FALSE) -> 5773.2137 | F10: =VLOOKUP(A10,ALL_2020!$A$3:$R$44,8,FALSE) -> 2.7494408 | G10: =VLOOKUP(A10,ALL_2020!$A$3:$R$44,9,FALSE) -> 0.18606421 | H10: =VLOOKUP(A10,ALL_2020!$A$3:$R$44,10,FALSE) -> 70 | I10: =VLOOKUP(A10,ALL_2020!$A$3:$R$44,11,FALSE) -> 60 | J10: =VLOOKUP(A10,ALL_2020!$A$3:$R$44,12,FALSE) -> 83.402 | K10: =VLOOKUP(A10,ALL_2020!$A$3:$R$44,13,FALSE) -> 9.1329655 | L10: =VLOOKUP(A10,ALL_2020!$A$3:$R$44,14,FALSE) -> 10.775629 | M10: =VLOOKUP(A10,ALL_2020!$A$3:$S$44,15,FALSE) -> 6.7656293 | N10: =VLOOKUP($A10,ALL_2020!$A$3:$S$44,16,FALSE) -> 79 | O10: =VLOOKUP($A10,ALL_2020!$A$3:$S$44,17,FALSE) -> 3.7416574 | P10: =VLOOKUP($A10,ALL_2020!$A$3:$S$44,18,FALSE) -> 0.036615536 | Q10: =VLOOKUP($A10,ALL_2020!$A$3:$S$44,19,FALSE) -> 0.0066244745 | R10: =VLOOKUP($A10,ALL_2020!$A$3:$U$44,20,FALSE) -> 39.004 | S10: =VLOOKUP($A10,ALL_2020!$A$3:$U$44,21,FALSE) -> 4.9539584 | T10: 1 | U10: 2020 | V10: =AVERAGEIF(ALL_2020!$C$5:$C$44,Graphs!$T10,ALL_2020!$E$5:$E$44) -> 0.99912488 | W10: {=_xlfn.STDEV.P(IF($T10=ALL_2020!$C$5:$C$44,ALL_2020!$E$5:$E$44,""))} -> 0.15690728 | X10: =AVERAGEIF(ALL_2020!$C$5:$C$44,Graphs!$T10,ALL_2020!$F$5:$F$44) -> 0.62297174 | Y10: {=_xlfn.STDEV.P(IF($T10=ALL_2020!$C$5:$C$44,ALL_2020!$F$5:$F$44,""))} -> 0.059210293 | Z10: =AVERAGEIF(ALL_2020!$C$5:$C$44,Graphs!$T10,ALL_2020!G7:G46) -> 3396.041 | AA10: {=_xlfn.STDEV.P(IF($T10=ALL_2020!$C$5:$C$44,ALL_2020!$G$5:$G$44,""))} -> 2470.5852 | AB10: =AVERAGEIF(ALL_2020!$C$5:$C$44,Graphs!$T10,ALL_2020!$H$5:$H$44) -> 2.8756403 | AC10: {=_xlfn.STDEV.P(IF($T10=ALL_2020!$C$5:$C$44,ALL_2020!$H$5:$H$44,""))} -> 0.4740654 | AD10: =AVERAGEIF(ALL_2020!$C$5:$C$44,Graphs!$T10,ALL_2020!$J$5:$J$44) -> 42.368421 | AE10: {=_xlfn.STDEV.P(IF($T10=ALL_2020!$C$5:$C$44,ALL_2020!$J$5:$J$44,""))} -> 43.479227 | AF10: =AVERAGEIF(ALL_2020!$C$5:$C$44,Graphs!$T10,ALL_2020!$L$5:$L$44) -> 74.792553 | AG10: {=_xlfn.STDEV.P(IF($T10=ALL_2020!$C$5:$C$44,ALL_2020!$L$5:$L$44,""))} -> 16.929809 | AH10: =AVERAGEIF(ALL_2020!$C$5:$C$44,Graphs!$T10,ALL_2020!$N$5:$N$44) -> 10.088221 | AI10: {=_xlfn.STDEV.P(IF($T10=ALL_2020!$C$5:$C$44,ALL_2020!$N$5:$N$44,""))} -> 9.0104774 | AJ10: =AVERAGEIF(ALL_2020!$C$5:$C$44,Graphs!$T10,ALL_2020!$P$5:$P$44) -> 48.600877 | AK10: {=_xlfn.STDEV.P(IF($T10=ALL_2020!$C$5:$C$44,ALL_2020!$P$5:$P$44,""))} -> 21.677036 | AL10: =AVERAGEIF(ALL_2020!$C$5:$C$44,Graphs!$T10,ALL_2020!R7:R46) -> 0.038236517 | AM10: {=_xlfn.STDEV.P(IF($T10=ALL_2020!$C$5:$C$44,ALL_2020!$R$5:$R$44,""))} -> 0.017070723 | AN10: =AVERAGEIF(ALL_2020!$C$5:$C$44,Graphs!$T10,ALL_2020!$T$5:$T$44) -> 38.184855
A11: =A9 -> Ai-1 | B11: 2019 | C11: =VLOOKUP($A11,'2019'!$A$3:$R$55,5,FALSE) -> 1.2148148 | D11: =VLOOKUP(A11,'2019'!$A$3:$R$55,6,FALSE) -> 0.54157932 | E11: =VLOOKUP(A11,'2019'!$A$3:$R$55,7,FALSE) -> 4140.6728 | F11: =VLOOKUP(A11,'2019'!$A$3:$R$55,8,FALSE) -> 2.7878502 | G11: =VLOOKUP(A11,'2019'!$A$3:$R$55,9,FALSE) -> 0.24583054 | H11: =VLOOKUP(A11,'2019'!$A$3:$R$55,10,FALSE) -> 0 | I11: =VLOOKUP(A11,'2019'!$A$3:$R$55,11,FALSE) -> 0 | J11: =VLOOKUP(A11,'2019'!$A$3:$R$55,12,FALSE) -> 60.8 | K11: =VLOOKUP(A11,'2019'!$A$3:$R$55,13,FALSE) -> 20.855695 | L11: =VLOOKUP(A11,'2019'!$A$3:$R$55,14,FALSE) -> 10.213658 | M11: =VLOOKUP(A11,'2019'!$A$3:$R$55,15,FALSE) -> 8.5475742 | T11: 1 | U11: 2019 | V11: {=AVERAGEIF('2019'!$C$4:$C$55,Graphs!$T11,'2019'!$E$4:$E$55)} -> 1.0245991 | W11: {=_xlfn.STDEV.P(IF($T11='2019'!$C$4:$C$55,'2019'!$E$4:$E$55,""))} -> 0.41521973 | X11: {=AVERAGEIF('2019'!$C$4:$C$55,Graphs!$T11,'2019'!$F$4:$F$55)} -> 0.61335884 | Y11: {=_xlfn.STDEV.P(IF($T11='2019'!$C$4:$C$55,'2019'!$F$4:$F$55,""))} -> 0.23251723 | Z11: {=AVERAGEIF('2019'!$C$4:$C$55,Graphs!$T11,'2019'!$G$4:$G$55)} -> 6850.553 | AA11: {=_xlfn.STDEV.P(IF($T11='2019'!$C$4:$C$55,'2019'!$G$4:$G$55,""))} -> 4573.7042 | AB11: {=AVERAGEIF('2019'!$C$4:$C$55,Graphs!$T11,'2019'!$H$4:$H$55)} -> 2.8283472 | AC11: {=_xlfn.STDEV.P(IF($T11='2019'!$C$4:$C$55,'2019'!$H$4:$H$55,""))} -> 0.45535363 | AD11: {=AVERAGEIF('2019'!$C$4:$C$55,Graphs!$T11,'2019'!$J$4:$J$55)} -> 3.4615385 | AE11: {=_xlfn.STDEV.P(IF($T11='2019'!$C$4:$C$55,'2019'!$J$4:$J$55,""))} -> 7.3076923 | AF11: {=AVERAGEIF('2019'!$C$4:$C$55,Graphs!$T11,'2019'!$L$4:$L$55)} -> 34.55 | AG11: {=_xlfn.STDEV.P(IF($T11='2019'!$C$4:$C$55,'2019'!$L$4:$L$55,""))} -> 31.591175 | AH11: {=AVERAGEIF('2019'!$C$4:$C$55,Graphs!$T11,'2019'!$N$4:$N$55)} -> 7.8554368 | AI11: {=_xlfn.STDEV.P(IF($T11='2019'!$C$4:$C$55,'2019'!$N$4:$N$55,""))} -> 13.137462
R14: Soil structure by layer 2022
R16: Site | S16: Year | T16: Ave cm 1 | U16: Ave cm 2 | V16: Ave cm 3 | W16: Ave cm 4 | X16: Ave VESS 1 | Y16: Ave VESS 2 | Z16: Ave VESS 3 | AA16: Ave VESS 4 | AB16: SD VESS 1 | AC16: SD VESS 2 | AD16: SD VESS 3 | AE16: SD VESS 4
R17: =A4 -> Ai-0 | S17: 2022 | T17: =VLOOKUP($R17,VESS!$A$3:$W$203,16,FALSE) -> -6 | U17: =VLOOKUP($R17,VESS!$A$3:$W$203,17,FALSE) -> -12 | V17: =VLOOKUP($R17,VESS!$A$3:$W$203,18,FALSE) -> -8.2 | W17: =VLOOKUP($R17,VESS!$A$3:$W$203,19,FALSE) -> #N/A | X17: =VLOOKUP($R17,VESS!$A$3:$W$203,20,FALSE) -> 1 | Y17: =VLOOKUP($R17,VESS!$A$3:$W$203,21,FALSE) -> 3.6 | Z17: =VLOOKUP($R17,VESS!$A$3:$W$203,22,FALSE) -> 4.4 | AA17: =VLOOKUP($R17,VESS!$A$3:$W$203,23,FALSE) | AB17: =VLOOKUP($R17,VESS!$A$3:$AA$203,24,FALSE) -> 0 | AC17: =VLOOKUP($R17,VESS!$A$3:$AA$203,25,FALSE) -> 0.8 | AD17: =VLOOKUP($R17,VESS!$A$3:$AA$203,26,FALSE) -> 0.48989795 | AE17: =VLOOKUP($R17,VESS!$A$3:$AA$203,27,FALSE)
R18: =A8 -> Ai-1 | S18: 2022 | T18: =VLOOKUP($R18,VESS!$A$3:$W$203,16,FALSE) -> -5.6 | U18: =VLOOKUP($R18,VESS!$A$3:$W$203,17,FALSE) -> -7.6 | V18: =VLOOKUP($R18,VESS!$A$3:$W$203,18,FALSE) -> -10 | W18: =VLOOKUP($R18,VESS!$A$3:$W$203,19,FALSE) -> -4.75 | X18: =VLOOKUP($R18,VESS!$A$3:$W$203,20,FALSE) -> 1.4 | Y18: =VLOOKUP($R18,VESS!$A$3:$W$203,21,FALSE) -> 3 | Z18: =VLOOKUP($R18,VESS!$A$3:$W$203,22,FALSE) -> 3.8 | AA18: =VLOOKUP($R18,VESS!$A$3:$W$203,23,FALSE) -> 4.25 | AB18: =VLOOKUP($R18,VESS!$A$3:$AA$203,24,FALSE) -> 0.48989795 | AC18: =VLOOKUP($R18,VESS!$A$3:$AA$203,25,FALSE) -> 0.63245553 | AD18: =VLOOKUP($R18,VESS!$A$3:$AA$203,26,FALSE) -> 0.4 | AE18: =VLOOKUP($R18,VESS!$A$3:$AA$203,27,FALSE) -> 0.4330127
R19: =A4 -> Ai-0 | S19: 2022 | T19: 0 | U19: =T19+T17 -> -6 | V19: =U19+U17 -> -18 | W19: =V19+V17 -> -26.2 | X19: =X17 -> 1 | Y19: =Y17 -> 3.6 | Z19: =Z17 -> 4.4 | AA19: =AA17 | AB19: =VLOOKUP($R19,VESS!$A$3:$AA$203,24,FALSE) -> 0 | AC19: =VLOOKUP($R19,VESS!$A$3:$AA$203,25,FALSE) -> 0.8 | AD19: =VLOOKUP($R19,VESS!$A$3:$AA$203,26,FALSE) -> 0.48989795 | AE19: =VLOOKUP($R19,VESS!$A$3:$AA$203,27,FALSE)
R20: =A8 -> Ai-1 | S20: 2022 | T20: 0 | U20: =T20+T18 -> -5.6 | V20: =U20+U18 -> -13.2 | W20: =V20+V18 -> -23.2 | X20: =X18 -> 1.4 | Y20: =Y18 -> 3 | Z20: =Z18 -> 3.8 | AA20: =AA18 -> 4.25 | AB20: =VLOOKUP($R20,VESS!$A$3:$AA$203,24,FALSE) -> 0.48989795 | AC20: =VLOOKUP($R20,VESS!$A$3:$AA$203,25,FALSE) -> 0.63245553 | AD20: =VLOOKUP($R20,VESS!$A$3:$AA$203,26,FALSE) -> 0.4 | AE20: =VLOOKUP($R20,VESS!$A$3:$AA$203,27,FALSE) -> 0.4330127
R22: Soil structure in different pits
R24: Site | S24: Rep | T24: ID | U24: cm 1 | V24: cm 2 | W24: cm 3 | X24: cm 4 | Y24: VESS 1 | Z24: VESS 2 | AA24: VESS 3 | AB24: VESS 4
R25: =$A$4 -> Ai-0 | S25: 1 | T25: =R25&" "&S25 -> Ai-0 1 | U25: =VLOOKUP($T25,VESS_profile!$A$3:$J$203,3,FALSE) -> 0 | V25: =VLOOKUP($T25,VESS_profile!$A$3:$J$203,4,FALSE) -> -7 | W25: =VLOOKUP($T25,VESS_profile!$A$3:$J$203,5,FALSE) -> -22 | X25: =VLOOKUP($T25,VESS_profile!$A$3:$J$203,6,FALSE) -> -27 | Y25: =VLOOKUP($T25,VESS_profile!$A$3:$J$203,7,FALSE) -> 1 | Z25: =VLOOKUP($T25,VESS_profile!$A$3:$J$203,8,FALSE) -> 2 | AA25: =VLOOKUP($T25,VESS_profile!$A$3:$J$203,9,FALSE) -> 4 | AB25: =VLOOKUP($T25,VESS_profile!$A$3:$J$203,10,FALSE) -> 4
R26: =$A$4 -> Ai-0 | S26: 2 | T26: =R26&" "&S26 -> Ai-0 2 | U26: =VLOOKUP($T26,VESS_profile!$A$3:$J$203,3,FALSE) -> 0 | V26: =VLOOKUP($T26,VESS_profile!$A$3:$J$203,4,FALSE) -> -8 | W26: =VLOOKUP($T26,VESS_profile!$A$3:$J$203,5,FALSE) -> -21 | X26: =VLOOKUP($T26,VESS_profile!$A$3:$J$203,6,FALSE) -> -31 | Y26: =VLOOKUP($T26,VESS_profile!$A$3:$J$203,7,FALSE) -> 1 | Z26: =VLOOKUP($T26,VESS_profile!$A$3:$J$203,8,FALSE) -> 4 | AA26: =VLOOKUP($T26,VESS_profile!$A$3:$J$203,9,FALSE) -> 5 | AB26: =VLOOKUP($T26,VESS_profile!$A$3:$J$203,10,FALSE) -> 5
R27: =$A$4 -> Ai-0 | S27: 3 | T27: =R27&" "&S27 -> Ai-0 3 | U27: =VLOOKUP($T27,VESS_profile!$A$3:$J$203,3,FALSE) -> 0 | V27: =VLOOKUP($T27,VESS_profile!$A$3:$J$203,4,FALSE) -> -5 | W27: =VLOOKUP($T27,VESS_profile!$A$3:$J$203,5,FALSE) -> -20 | X27: =VLOOKUP($T27,VESS_profile!$A$3:$J$203,6,FALSE) -> -28 | Y27: =VLOOKUP($T27,VESS_profile!$A$3:$J$203,7,FALSE) -> 1 | Z27: =VLOOKUP($T27,VESS_profile!$A$3:$J$203,8,FALSE) -> 4 | AA27: =VLOOKUP($T27,VESS_profile!$A$3:$J$203,9,FALSE) -> 5 | AB27: =VLOOKUP($T27,VESS_profile!$A$3:$J$203,10,FALSE) -> 5
R28: =$A$4 -> Ai-0 | S28: 4 | T28: =R28&" "&S28 -> Ai-0 4 | U28: =VLOOKUP($T28,VESS_profile!$A$3:$J$203,3,FALSE) -> 0 | V28: =VLOOKUP($T28,VESS_profile!$A$3:$J$203,4,FALSE) -> -5 | W28: =VLOOKUP($T28,VESS_profile!$A$3:$J$203,5,FALSE) -> -17 | X28: =VLOOKUP($T28,VESS_profile!$A$3:$J$203,6,FALSE) -> -25 | Y28: =VLOOKUP($T28,VESS_profile!$A$3:$J$203,7,FALSE) -> 1 | Z28: =VLOOKUP($T28,VESS_profile!$A$3:$J$203,8,FALSE) -> 4 | AA28: =VLOOKUP($T28,VESS_profile!$A$3:$J$203,9,FALSE) -> 4 | AB28: =VLOOKUP($T28,VESS_profile!$A$3:$J$203,10,FALSE) -> 4
R29: =$A$4 -> Ai-0 | S29: 5 | T29: =R29&" "&S29 -> Ai-0 5 | U29: =VLOOKUP($T29,VESS_profile!$A$3:$J$203,3,FALSE) -> 0 | V29: =VLOOKUP($T29,VESS_profile!$A$3:$J$203,4,FALSE) -> -5 | W29: =VLOOKUP($T29,VESS_profile!$A$3:$J$203,5,FALSE) -> -10 | X29: =VLOOKUP($T29,VESS_profile!$A$3:$J$203,6,FALSE) -> -20 | Y29: =VLOOKUP($T29,VESS_profile!$A$3:$J$203,7,FALSE) -> 1 | Z29: =VLOOKUP($T29,VESS_profile!$A$3:$J$203,8,FALSE) -> 4 | AA29: =VLOOKUP($T29,VESS_profile!$A$3:$J$203,9,FALSE) -> 4 | AB29: =VLOOKUP($T29,VESS_profile!$A$3:$J$203,10,FALSE) -> 4
R30: =$A$8 -> Ai-1 | S30: 1 | T30: =R30&" "&S30 -> Ai-1 1 | U30: =VLOOKUP($T30,VESS_profile!$A$3:$J$203,3,FALSE) -> 0 | V30: =VLOOKUP($T30,VESS_profile!$A$3:$J$203,4,FALSE) -> -6 | W30: =VLOOKUP($T30,VESS_profile!$A$3:$J$203,5,FALSE) -> -13 | X30: =VLOOKUP($T30,VESS_profile!$A$3:$J$203,6,FALSE) -> -20 | Y30: =VLOOKUP($T30,VESS_profile!$A$3:$J$203,7,FALSE) -> 2 | Z30: =VLOOKUP($T30,VESS_profile!$A$3:$J$203,8,FALSE) -> 3 | AA30: =VLOOKUP($T30,VESS_profile!$A$3:$J$203,9,FALSE) -> 3 | AB30: =VLOOKUP($T30,VESS_profile!$A$3:$J$203,10,FALSE) -> 4
R31: =$A$8 -> Ai-1 | S31: 2 | T31: =R31&" "&S31 -> Ai-1 2 | U31: =VLOOKUP($T31,VESS_profile!$A$3:$J$203,3,FALSE) -> 0 | V31: =VLOOKUP($T31,VESS_profile!$A$3:$J$203,4,FALSE) -> -6 | W31: =VLOOKUP($T31,VESS_profile!$A$3:$J$203,5,FALSE) -> -18 | X31: =VLOOKUP($T31,VESS_profile!$A$3:$J$203,6,FALSE) -> -25 | Y31: =VLOOKUP($T31,VESS_profile!$A$3:$J$203,7,FALSE) -> 2 | Z31: =VLOOKUP($T31,VESS_profile!$A$3:$J$203,8,FALSE) -> 3 | AA31: =VLOOKUP($T31,VESS_profile!$A$3:$J$203,9,FALSE) -> 4 | AB31: =VLOOKUP($T31,VESS_profile!$A$3:$J$203,10,FALSE) -> 5
R32: =$A$8 -> Ai-1 | S32: 3 | T32: =R32&" "&S32 -> Ai-1 3 | U32: =VLOOKUP($T32,VESS_profile!$A$3:$J$203,3,FALSE) -> 0 | V32: =VLOOKUP($T32,VESS_profile!$A$3:$J$203,4,FALSE) -> -6 | W32: =VLOOKUP($T32,VESS_profile!$A$3:$J$203,5,FALSE) -> -11 | X32: =VLOOKUP($T32,VESS_profile!$A$3:$J$203,6,FALSE) -> -26 | Y32: =VLOOKUP($T32,VESS_profile!$A$3:$J$203,7,FALSE) -> 1 | Z32: =VLOOKUP($T32,VESS_profile!$A$3:$J$203,8,FALSE) -> 3 | AA32: =VLOOKUP($T32,VESS_profile!$A$3:$J$203,9,FALSE) -> 4 | AB32: =VLOOKUP($T32,VESS_profile!$A$3:$J$203,10,FALSE) -> 4
R33: =$A$8 -> Ai-1 | S33: 4 | T33: =R33&" "&S33 -> Ai-1 4 | U33: =VLOOKUP($T33,VESS_profile!$A$3:$J$203,3,FALSE) -> 0 | V33: =VLOOKUP($T33,VESS_profile!$A$3:$J$203,4,FALSE) -> -5 | W33: =VLOOKUP($T33,VESS_profile!$A$3:$J$203,5,FALSE) -> -14 | X33: =VLOOKUP($T33,VESS_profile!$A$3:$J$203,6,FALSE) -> -24 | Y33: =VLOOKUP($T33,VESS_profile!$A$3:$J$203,7,FALSE) -> 1 | Z33: =VLOOKUP($T33,VESS_profile!$A$3:$J$203,8,FALSE) -> 4 | AA33: =VLOOKUP($T33,VESS_profile!$A$3:$J$203,9,FALSE) -> 4 | AB33: =VLOOKUP($T33,VESS_profile!$A$3:$J$203,10,FALSE) -> 4
R34: =$A$8 -> Ai-1 | S34: 5 | T34: =R34&" "&S34 -> Ai-1 5 | U34: =VLOOKUP($T34,VESS_profile!$A$3:$J$203,3,FALSE) -> 0 | V34: =VLOOKUP($T34,VESS_profile!$A$3:$J$203,4,FALSE) -> -5 | W34: =VLOOKUP($T34,VESS_profile!$A$3:$J$203,5,FALSE) -> -10 | X34: =VLOOKUP($T34,VESS_profile!$A$3:$J$203,6,FALSE) -> -21 | Y34: =VLOOKUP($T34,VESS_profile!$A$3:$J$203,7,FALSE) -> 1 | Z34: =VLOOKUP($T34,VESS_profile!$A$3:$J$203,8,FALSE) -> 2 | AA34: =VLOOKUP($T34,VESS_profile!$A$3:$J$203,9,FALSE) -> 4 | AB34: =VLOOKUP($T34,VESS_profile!$A$3:$J$203,10,FALSE) -> 4
P40: Change
P41: Year | Q41: Site | R41: BD (kg/l) | S41: Porosity | T41: Biomass (kg/ha) | U41: VESS | V41: Std | W41: Worms | X41: Std | Y41: Canopeo | Z41: Std | AA41: Kh | AB41: Std
P42: 2022 | Q42: =A4 -> Ai-0 | R42: =VLOOKUP($Q42,ALL_2022!$A$3:$R$43,5,FALSE) -> 1.3455224 | S42: =VLOOKUP($Q42,ALL_2022!$A$3:$R$43,6,FALSE) -> 0.49225569 | T42: =VLOOKUP($Q42,ALL_2022!$A$3:$R$43,7,FALSE) -> 1342.9888 | U42: =VLOOKUP($Q42,ALL_2022!$A$3:$R$43,8,FALSE) -> 3.2118996 | V42: =VLOOKUP($Q42,ALL_2022!$A$3:$R$43,9,FALSE) -> 0.57469028 | W42: =VLOOKUP($Q42,ALL_2022!$A$3:$R$43,10,FALSE) -> 0 | X42: =VLOOKUP($Q42,ALL_2022!$A$3:$R$43,11,FALSE) -> 0 | Y42: =_xlfn.NUMBERVALUE(VLOOKUP($Q42,ALL_2022!$A$3:$R$43,12,FALSE)) -> 45.186667 | Z42: =VLOOKUP($Q42,ALL_2022!$A$3:$R$43,13,FALSE) -> 2.371516 | AA42: =VLOOKUP($Q42,ALL_2022!$A$3:$R$43,14,FALSE) -> 16.677 | AB42: =VLOOKUP($Q42,ALL_2022!$A$3:$R$43,15,FALSE) -> 4.794222
Q43: =A8 -> Ai-1 | R43: =VLOOKUP($Q43,ALL_2022!$A$3:$R$43,5,FALSE) -> 1.3152299 | S43: =VLOOKUP($Q43,ALL_2022!$A$3:$R$43,6,FALSE) -> 0.50368682 | T43: =VLOOKUP($Q43,ALL_2022!$A$3:$R$43,7,FALSE) -> 6316.1497 | U43: =VLOOKUP($Q43,ALL_2022!$A$3:$R$43,8,FALSE) -> 3.1999426 | V43: =VLOOKUP($Q43,ALL_2022!$A$3:$R$43,9,FALSE) -> 0.18026856 | W43: =VLOOKUP($Q43,ALL_2022!$A$3:$R$43,10,FALSE) -> 30 | X43: =VLOOKUP($Q43,ALL_2022!$A$3:$R$43,11,FALSE) -> 24.494897 | Y43: =_xlfn.NUMBERVALUE(VLOOKUP($Q43,ALL_2022!$A$3:$R$43,12,FALSE)) -> 91.4 | Z43: =VLOOKUP($Q43,ALL_2022!$A$3:$R$43,13,FALSE) -> 1.7 | AA43: =VLOOKUP($Q43,ALL_2022!$A$3:$R$43,14,FALSE) -> 25.0132 | AB43: =VLOOKUP($Q43,ALL_2022!$A$3:$R$43,15,FALSE) -> 11.00445
P44: 2019 | Q44: =Q42 -> Ai-0 | R44: =VLOOKUP($Q44,'2019'!$A$3:$R$55,5,FALSE) -> 1.3864198 | S44: =VLOOKUP($Q44,'2019'!$A$3:$R$55,6,FALSE) -> 0.47682273 | T44: =VLOOKUP($Q44,'2019'!$A$3:$R$55,7,FALSE) -> 6202.567 | U44: =VLOOKUP($Q44,'2019'!$A$3:$R$55,8,FALSE) -> 2.9955724 | V44: =VLOOKUP($Q44,'2019'!$A$3:$R$55,9,FALSE) -> 0.4081075 | W44: =VLOOKUP($Q44,'2019'!$A$3:$R$55,10,FALSE) -> 0 | X44: =VLOOKUP($Q44,'2019'!$A$3:$R$55,11,FALSE) -> 0 | Y44: =_xlfn.NUMBERVALUE(VLOOKUP($Q44,'2019'!$A$3:$R$55,12,FALSE)) -> 0.6 | Z44: =VLOOKUP($Q44,'2019'!$A$3:$R$55,13,FALSE) -> 1.2 | AA44: =VLOOKUP($Q44,'2019'!$A$3:$R$55,14,FALSE) -> 13.193882 | AB44: =VLOOKUP($Q44,'2019'!$A$3:$R$55,15,FALSE) -> 7.0631573
Q45: =Q43 -> Ai-1 | R45: =VLOOKUP($Q45,'2019'!$A$3:$R$55,5,FALSE) -> 1.2148148 | S45: =VLOOKUP($Q45,'2019'!$A$3:$R$55,6,FALSE) -> 0.54157932 | T45: =VLOOKUP($Q45,'2019'!$A$3:$R$55,7,FALSE) -> 4140.6728 | U45: =VLOOKUP($Q45,'2019'!$A$3:$R$55,8,FALSE) -> 2.7878502 | V45: =VLOOKUP($Q45,'2019'!$A$3:$R$55,9,FALSE) -> 0.24583054 | W45: =VLOOKUP($Q45,'2019'!$A$3:$R$55,10,FALSE) -> 0 | X45: =VLOOKUP($Q45,'2019'!$A$3:$R$55,11,FALSE) -> 0 | Y45: =_xlfn.NUMBERVALUE(VLOOKUP($Q45,'2019'!$A$3:$R$55,12,FALSE)) -> 60.8 | Z45: =VLOOKUP($Q45,'2019'!$A$3:$R$55,13,FALSE) -> 20.855695 | AA45: =VLOOKUP($Q45,'2019'!$A$3:$R$55,14,FALSE) -> 10.213658 | AB45: =VLOOKUP($Q45,'2019'!$A$3:$R$55,15,FALSE) -> 8.5475742
P46: Difference | Q46: =Q42 -> Ai-0 | R46: =R42-R44 -> -0.040897338 | S46: =S42-S44 -> 0.015432958 | T46: =T42-T44 -> -4859.5782 | U46: =U42-U44 -> 0.21632725 | V46: =SQRT(V42^2+V44^2) -> 0.70485506 | W46: =W42-W44 -> 0 | X46: =SQRT(X42^2+X44^2) -> 0 | Y46: =Y42-Y44 -> 44.586667 | Z46: =SQRT(Z42^2+Z44^2) -> 2.6578352 | AA46: =AA42-AA44 -> 3.4831177 | AB46: =SQRT(AB42^2+AB44^2) -> 8.5365541
Q47: =Q43 -> Ai-1 | R47: =R43-R45 -> 0.10041511 | S47: =S43-S45 -> -0.037892494 | T47: =T43-T45 -> 2175.4769 | U47: =U43-U45 -> 0.41209234 | V47: =SQRT(V43^2+V45^2) -> 0.30484325 | W47: =W43-W45 -> 30 | X47: =SQRT(X43^2+X45^2) -> 24.494897 | Y47: =Y43-Y45 -> 30.6 | Z47: =SQRT(Z43^2+Z45^2) -> 20.924866 | AA47: =AA43-AA45 -> 14.799542 | AB47: =SQRT(AB43^2+AB45^2) -> 13.934093
A52: Different suction in mini disk infiltrometers for years: 2019 20 mm, 2020 15 mm.

Sheet ALL_2022
A3: Plot | B3: Tila | C3: Treat | D3: Group | E3: BD (kg/l) | F3: Porosity | G3: Biomass (kg/ha) | H3: VESS | I3: SD | J3: Earthworms /m2 | K3: SD | L3: Canopeo_leaf area % | M3: SD | N3: Kh (mm/h) | O3: SD | P3: Crop height cm | Q3: SD | R3: Chlorophyll | S3: SD | T3: SPAD | U3: SD
A4: =B4&"-"&C4 -> AE-0 | B4: AE | C4: 0 | D4: Subsoiling | E4: =VLOOKUP($A4,BD_biomass!$A$4:$R$43,17,FALSE) -> 0.86466228 | F4: =VLOOKUP($A4,BD_biomass!$A$4:$R$43,18,FALSE) -> 0.67371235 | G4: =VLOOKUP($A4,BD_biomass!$A$4:$R$43,11,FALSE) -> 4308.3776 | H4: =VLOOKUP($A4,VESS!$A$3:$O$203,14,FALSE) -> 2.3666667 | I4: =VLOOKUP($A4,VESS!$A$4:$O$203,15,FALSE) -> 0.26246693 | J4: =VLOOKUP($A4,WormsCanopeoKhPlantChloro!$A$3:$M$203,6,FALSE)/(0.1*0.2) -> 0 | K4: =VLOOKUP($A4,WormsCanopeoKhPlantChloro!$A$3:$M$203,7,FALSE)/(0.1*0.2) -> 0 | L4: =_xlfn.NUMBERVALUE((VLOOKUP($A4,WormsCanopeoKhPlantChloro!$A$3:$M$203,9,FALSE))) -> 79.826667 | M4: =_xlfn.NUMBERVALUE((VLOOKUP($A4,WormsCanopeoKhPlantChloro!$A$3:$M$203,10,FALSE))) -> 3.619064 | N4: =VLOOKUP($A4,WormsCanopeoKhPlantChloro!$A$3:$M$203,12,FALSE) -> 0.597 | O4: =VLOOKUP($A4,WormsCanopeoKhPlantChloro!$A$3:$M$203,13,FALSE) -> 0.46 | P4: =VLOOKUP($A4,WormsCanopeoKhPlantChloro!$A$3:$S$203,15,FALSE) -> 47.4 | Q4: =VLOOKUP($A4,WormsCanopeoKhPlantChloro!$A$3:$S$203,16,FALSE) -> 4.363485 | R4: =VLOOKUP($A4,WormsCanopeoKhPlantChloro!$A$3:$S$203,18,FALSE) -> 0.047527 | S4: =VLOOKUP($A4,WormsCanopeoKhPlantChloro!$A$3:$S$203,19,FALSE) -> 0.008448 | T4: =VLOOKUP($A4,WormsCanopeoKhPlantChloro!$A$3:$V$203,21,FALSE) -> 46.4686 | U4: =VLOOKUP($A4,WormsCanopeoKhPlantChloro!$A$3:$V$203,22,FALSE) -> 5.41435
A5: =B5&"-"&C5 -> AE-1 | B5: AE | C5: 1 | D5: Subsoiling | E5: =VLOOKUP($A5,BD_biomass!$A$4:$R$43,17,FALSE) -> 0.85178399 | F5: =VLOOKUP($A5,BD_biomass!$A$4:$R$43,18,FALSE) -> 0.67857208 | G5: =VLOOKUP($A5,BD_biomass!$A$4:$R$43,11,FALSE) -> 4004.6669 | H5: =VLOOKUP($A5,VESS!$A$3:$O$203,14,FALSE) -> 1.6666667 | I5: =VLOOKUP($A5,VESS!$A$4:$O$203,15,FALSE) -> 0.47140452 | J5: =VLOOKUP($A5,WormsCanopeoKhPlantChloro!$A$3:$M$203,6,FALSE)/(0.1*0.2) -> 116.66667 | K5: =VLOOKUP($A5,WormsCanopeoKhPlantChloro!$A$3:$M$203,7,FALSE)/(0.1*0.2) -> 23.570226 | L5: =_xlfn.NUMBERVALUE((VLOOKUP($A5,WormsCanopeoKhPlantChloro!$A$3:$M$203,9,FALSE))) -> 78.73 | M5: =_xlfn.NUMBERVALUE((VLOOKUP($A5,WormsCanopeoKhPlantChloro!$A$3:$M$203,10,FALSE))) -> 3.68544 | N5: =VLOOKUP($A5,WormsCanopeoKhPlantChloro!$A$3:$M$203,12,FALSE) -> 0.696 | O5: =VLOOKUP($A5,WormsCanopeoKhPlantChloro!$A$3:$M$203,13,FALSE) -> 0.243 | P5: =VLOOKUP($A5,WormsCanopeoKhPlantChloro!$A$3:$S$203,15,FALSE) -> 47 | Q5: =VLOOKUP($A5,WormsCanopeoKhPlantChloro!$A$3:$S$203,16,FALSE) -> 2.44949 | R5: =VLOOKUP($A5,WormsCanopeoKhPlantChloro!$A$3:$S$203,18,FALSE) -> 0.056538 | S5: =VLOOKUP($A5,WormsCanopeoKhPlantChloro!$A$3:$S$203,19,FALSE) -> 0.00487 | T5: =VLOOKUP($A5,WormsCanopeoKhPlantChloro!$A$3:$V$203,21,FALSE) -> 52.3096 | U5: =VLOOKUP($A5,WormsCanopeoKhPlantChloro!$A$3:$V$203,22,FALSE) -> 2.959156
A6: =B6&"-"&C6 -> Ai-0 | B6: Ai | C6: 0 | D6: Ley in rotation | E6: =VLOOKUP($A6,BD_biomass!$A$4:$R$43,17,FALSE) -> 1.3455224 | F6: =VLOOKUP($A6,BD_biomass!$A$4:$R$43,18,FALSE) -> 0.49225569 | G6: =VLOOKUP($A6,BD_biomass!$A$4:$R$43,11,FALSE) -> 1342.9888 | H6: =VLOOKUP($A6,VESS!$A$3:$O$203,14,FALSE) -> 3.2118996 | I6: =VLOOKUP($A6,VESS!$A$4:$O$203,15,FALSE) -> 0.57469028 | J6: =VLOOKUP($A6,WormsCanopeoKhPlantChloro!$A$3:$M$203,6,FALSE)/(0.1*0.2) -> 0 | K6: =VLOOKUP($A6,WormsCanopeoKhPlantChloro!$A$3:$M$203,7,FALSE)/(0.1*0.2) -> 0 | L6: =_xlfn.NUMBERVALUE((VLOOKUP($A6,WormsCanopeoKhPlantChloro!$A$3:$M$203,9,FALSE))) -> 45.186667 | M6: =_xlfn.NUMBERVALUE((VLOOKUP($A6,WormsCanopeoKhPlantChloro!$A$3:$M$203,10,FALSE))) -> 2.371516 | N6: =VLOOKUP($A6,WormsCanopeoKhPlantChloro!$A$3:$M$203,12,FALSE) -> 16.677 | O6: =VLOOKUP($A6,WormsCanopeoKhPlantChloro!$A$3:$M$203,13,FALSE) -> 4.794222 | P6: =VLOOKUP($A6,WormsCanopeoKhPlantChloro!$A$3:$S$203,15,FALSE) -> 42 | Q6: =VLOOKUP($A6,WormsCanopeoKhPlantChloro!$A$3:$S$203,16,FALSE) -> 2.44949 | R6: =VLOOKUP($A6,WormsCanopeoKhPlantChloro!$A$3:$S$203,18,FALSE) -> 0.0482 | S6: =VLOOKUP($A6,WormsCanopeoKhPlantChloro!$A$3:$S$203,19,FALSE) -> 0.005476 | T6: =VLOOKUP($A6,WormsCanopeoKhPlantChloro!$A$3:$V$203,21,FALSE) -> 47.0032 | U6: =VLOOKUP($A6,WormsCanopeoKhPlantChloro!$A$3:$V$203,22,FALSE) -> 3.629076
A7: =B7&"-"&C7 -> Ai-1 | B7: Ai | C7: 1 | D7: Ley in rotation | E7: =VLOOKUP($A7,BD_biomass!$A$4:$R$43,17,FALSE) -> 1.3152299 | F7: =VLOOKUP($A7,BD_biomass!$A$4:$R$43,18,FALSE) -> 0.50368682 | G7: =VLOOKUP($A7,BD_biomass!$A$4:$R$43,11,FALSE) -> 6316.1497 | H7: =VLOOKUP($A7,VESS!$A$3:$O$203,14,FALSE) -> 3.1999426 | I7: =VLOOKUP($A7,VESS!$A$4:$O$203,15,FALSE) -> 0.18026856 | J7: =VLOOKUP($A7,WormsCanopeoKhPlantChloro!$A$3:$M$203,6,FALSE)/(0.1*0.2) -> 30 | K7: =VLOOKUP($A7,WormsCanopeoKhPlantChloro!$A$3:$M$203,7,FALSE)/(0.1*0.2) -> 24.494897 | L7: =_xlfn.NUMBERVALUE((VLOOKUP($A7,WormsCanopeoKhPlantChloro!$A$3:$M$203,9,FALSE))) -> 91.4 | M7: =_xlfn.NUMBERVALUE((VLOOKUP($A7,WormsCanopeoKhPlantChloro!$A$3:$M$203,10,FALSE))) -> 1.7 | N7: =VLOOKUP($A7,WormsCanopeoKhPlantChloro!$A$3:$M$203,12,FALSE) -> 25.0132 | O7: =VLOOKUP($A7,WormsCanopeoKhPlantChloro!$A$3:$M$203,13,FALSE) -> 11.00445 | P7: =VLOOKUP($A7,WormsCanopeoKhPlantChloro!$A$3:$S$203,15,FALSE) -> 105 | Q7: =VLOOKUP($A7,WormsCanopeoKhPlantChloro!$A$3:$S$203,16,FALSE) -> 5 | R7: =VLOOKUP($A7,WormsCanopeoKhPlantChloro!$A$3:$S$203,18,FALSE) -> 0.040536 | S7: =VLOOKUP($A7,WormsCanopeoKhPlantChloro!$A$3:$S$203,19,FALSE) -> 0.003301 | T7: =VLOOKUP($A7,WormsCanopeoKhPlantChloro!$A$3:$V$203,21,FALSE) -> 41.8948 | U7: =VLOOKUP($A7,WormsCanopeoKhPlantChloro!$A$3:$V$203,22,FALSE) -> 2.282932
A8: =B8&"-"&C8 -> Ik-0 | B8: Ik | C8: 0 | D8: Ley in rotation | E8: =VLOOKUP($A8,BD_biomass!$A$4:$R$43,17,FALSE) -> 0.83919749 | F8: =VLOOKUP($A8,BD_biomass!$A$4:$R$43,18,FALSE) -> 0.6833217 | G8: =VLOOKUP($A8,BD_biomass!$A$4:$R$43,11,FALSE) -> 4234.9049 | H8: =VLOOKUP($A8,VESS!$A$3:$O$203,14,FALSE) -> 3.4607209 | I8: =VLOOKUP($A8,VESS!$A$4:$O$203,15,FALSE) -> 0.52462275 | J8: =VLOOKUP($A8,WormsCanopeoKhPlantChloro!$A$3:$M$203,6,FALSE)/(0.1*0.2) -> 0 | K8: =VLOOKUP($A8,WormsCanopeoKhPlantChloro!$A$3:$M$203,7,FALSE)/(0.1*0.2) -> 0 | L8: =_xlfn.NUMBERVALUE((VLOOKUP($A8,WormsCanopeoKhPlantChloro!$A$3:$M$203,9,FALSE))) -> 83.15 | M8: =_xlfn.NUMBERVALUE((VLOOKUP($A8,WormsCanopeoKhPlantChloro!$A$3:$M$203,10,FALSE))) -> 0.165126 | N8: =VLOOKUP($A8,WormsCanopeoKhPlantChloro!$A$3:$M$203,12,FALSE) -> 28.01358 | O8: =VLOOKUP($A8,WormsCanopeoKhPlantChloro!$A$3:$M$203,13,FALSE) -> 20.65633 | P8: =VLOOKUP($A8,WormsCanopeoKhPlantChloro!$A$3:$S$203,15,FALSE) -> 108.75 | Q8: =VLOOKUP($A8,WormsCanopeoKhPlantChloro!$A$3:$S$203,16,FALSE) -> 10.82532 | R8: =VLOOKUP($A8,WormsCanopeoKhPlantChloro!$A$3:$S$203,18,FALSE) -> 0.042471 | S8: =VLOOKUP($A8,WormsCanopeoKhPlantChloro!$A$3:$S$203,19,FALSE) -> 0.006313 | T8: =VLOOKUP($A8,WormsCanopeoKhPlantChloro!$A$3:$V$203,21,FALSE) -> 43.1422 | U8: =VLOOKUP($A8,WormsCanopeoKhPlantChloro!$A$3:$V$203,22,FALSE) -> 4.37459
A9: =B9&"-"&C9 -> Ik-1 | B9: Ik | C9: 1 | D9: Ley in rotation | E9: =VLOOKUP($A9,BD_biomass!$A$4:$R$43,17,FALSE) -> 0.9340671 | F9: =VLOOKUP($A9,BD_biomass!$A$4:$R$43,18,FALSE) -> 0.64752185 | G9: =VLOOKUP($A9,BD_biomass!$A$4:$R$43,11,FALSE) -> 9356.1166 | H9: =VLOOKUP($A9,VESS!$A$3:$O$203,14,FALSE) -> 1.9506173 | I9: =VLOOKUP($A9,VESS!$A$4:$O$203,15,FALSE) -> 0.16586455 | J9: =VLOOKUP($A9,WormsCanopeoKhPlantChloro!$A$3:$M$203,6,FALSE)/(0.1*0.2) -> 0 | K9: =VLOOKUP($A9,WormsCanopeoKhPlantChloro!$A$3:$M$203,7,FALSE)/(0.1*0.2) -> 0 | L9: =_xlfn.NUMBERVALUE((VLOOKUP($A9,WormsCanopeoKhPlantChloro!$A$3:$M$203,9,FALSE))) -> 88.003333 | M9: =_xlfn.NUMBERVALUE((VLOOKUP($A9,WormsCanopeoKhPlantChloro!$A$3:$M$203,10,FALSE))) -> 2.791157 | N9: =VLOOKUP($A9,WormsCanopeoKhPlantChloro!$A$3:$M$203,12,FALSE) -> 38.74339 | O9: =VLOOKUP($A9,WormsCanopeoKhPlantChloro!$A$3:$M$203,13,FALSE) -> 5.232109 | P9: =VLOOKUP($A9,WormsCanopeoKhPlantChloro!$A$3:$S$203,15,FALSE) -> 105 | Q9: =VLOOKUP($A9,WormsCanopeoKhPlantChloro!$A$3:$S$203,16,FALSE) -> 7.071068 | R9: =VLOOKUP($A9,WormsCanopeoKhPlantChloro!$A$3:$S$203,18,FALSE) -> 0.034861 | S9: =VLOOKUP($A9,WormsCanopeoKhPlantChloro!$A$3:$S$203,19,FALSE) -> 0.005154 | T9: =VLOOKUP($A9,WormsCanopeoKhPlantChloro!$A$3:$V$203,21,FALSE) -> 37.7962 | U9: =VLOOKUP($A9,WormsCanopeoKhPlantChloro!$A$3:$V$203,22,FALSE) -> 3.806238
A10: =B10&"-"&C10 -> Ja-0 | B10: Ja | C10: 0 | D10: Ley in rotation | E10: =VLOOKUP($A10,BD_biomass!$A$4:$R$43,17,FALSE) -> 0.73061403 | F10: =VLOOKUP($A10,BD_biomass!$A$4:$R$43,18,FALSE) -> 0.72429659 | G10: =VLOOKUP($A10,BD_biomass!$A$4:$R$43,11,FALSE) -> 0 | H10: =VLOOKUP($A10,VESS!$A$3:$O$203,14,FALSE) -> 3.2221264 | I10: =VLOOKUP($A10,VESS!$A$4:$O$203,15,FALSE) -> 0.33707987 | J10: =VLOOKUP($A10,WormsCanopeoKhPlantChloro!$A$3:$M$203,6,FALSE)/(0.1*0.2) -> 0 | K10: =VLOOKUP($A10,WormsCanopeoKhPlantChloro!$A$3:$M$203,7,FALSE)/(0.1*0.2) -> 0 | L10: =_xlfn.NUMBERVALUE((VLOOKUP($A10,WormsCanopeoKhPlantChloro!$A$3:$M$203,9,FALSE))) -> 73.543333 | M10: =_xlfn.NUMBERVALUE((VLOOKUP($A10,WormsCanopeoKhPlantChloro!$A$3:$M$203,10,FALSE))) -> 6.502929 | N10: =VLOOKUP($A10,WormsCanopeoKhPlantChloro!$A$3:$M$203,12,FALSE) -> 0 | O10: =VLOOKUP($A10,WormsCanopeoKhPlantChloro!$A$3:$M$203,13,FALSE) -> 0 | P10: =VLOOKUP($A10,WormsCanopeoKhPlantChloro!$A$3:$S$203,15,FALSE) -> 53.75 | Q10: =VLOOKUP($A10,WormsCanopeoKhPlantChloro!$A$3:$S$203,16,FALSE) -> 2.58602 | R10: =VLOOKUP($A10,WormsCanopeoKhPlantChloro!$A$3:$S$203,18,FALSE) -> 0 | S10: =VLOOKUP($A10,WormsCanopeoKhPlantChloro!$A$3:$S$203,19,FALSE) -> 0 | T10: =VLOOKUP($A10,WormsCanopeoKhPlantChloro!$A$3:$V$203,21,FALSE) -> 0 | U10: =VLOOKUP($A10,WormsCanopeoKhPlantChloro!$A$3:$V$203,22,FALSE) -> 0
A11: =B11&"-"&C11 -> Ja-1 | B11: Ja | C11: 1 | D11: Ley in rotation | E11: =VLOOKUP($A11,BD_biomass!$A$4:$R$43,17,FALSE) -> 0.9905671 | F11: =VLOOKUP($A11,BD_biomass!$A$4:$R$43,18,FALSE) -> 0.62620109 | G11: =VLOOKUP($A11,BD_biomass!$A$4:$R$43,11,FALSE) -> 0 | H11: =VLOOKUP($A11,VESS!$A$3:$O$203,14,FALSE) -> 3.1042032 | I11: =VLOOKUP($A11,VESS!$A$4:$O$203,15,FALSE) -> 0.48134675 | J11: =VLOOKUP($A11,WormsCanopeoKhPlantChloro!$A$3:$M$203,6,FALSE)/(0.1*0.2) -> 0 | K11: =VLOOKUP($A11,WormsCanopeoKhPlantChloro!$A$3:$M$203,7,FALSE)/(0.1*0.2) -> 0 | L11: =_xlfn.NUMBERVALUE((VLOOKUP($A11,WormsCanopeoKhPlantChloro!$A$3:$M$203,9,FALSE))) -> 22.45 | M11: =_xlfn.NUMBERVALUE((VLOOKUP($A11,WormsCanopeoKhPlantChloro!$A$3:$M$203,10,FALSE))) -> 3.009994 | N11: =VLOOKUP($A11,WormsCanopeoKhPlantChloro!$A$3:$M$203,12,FALSE) -> 0 | O11: =VLOOKUP($A11,WormsCanopeoKhPlantChloro!$A$3:$M$203,13,FALSE) -> 0 | P11: =VLOOKUP($A11,WormsCanopeoKhPlantChloro!$A$3:$S$203,15,FALSE) -> 26.4 | Q11: =VLOOKUP($A11,WormsCanopeoKhPlantChloro!$A$3:$S$203,16,FALSE) -> 1.959592 | R11: =VLOOKUP($A11,WormsCanopeoKhPlantChloro!$A$3:$S$203,18,FALSE) -> 0 | S11: =VLOOKUP($A11,WormsCanopeoKhPlantChloro!$A$3:$S$203,19,FALSE) -> 0 | T11: =VLOOKUP($A11,WormsCanopeoKhPlantChloro!$A$3:$V$203,21,FALSE) -> 0 | U11: =VLOOKUP($A11,WormsCanopeoKhPlantChloro!$A$3:$V$203,22,FALSE) -> 0
A12: =B12&"-"&C12 -> Jn-0 | B12: Jn | C12: 0 | D12: Carbon grazing | E12: =VLOOKUP($A12,BD_biomass!$A$4:$R$43,17,FALSE) -> 1.0177163 | F12: =VLOOKUP($A12,BD_biomass!$A$4:$R$43,18,FALSE) -> 0.61595612 | G12: =VLOOKUP($A12,BD_biomass!$A$4:$R$43,11,FALSE) -> 2527.7489 | H12: =VLOOKUP($A12,VESS!$A$3:$O$203,14,FALSE) -> 2.7416226 | I12: =VLOOKUP($A12,VESS!$A$4:$O$203,15,FALSE) -> 0.22759866 | J12: =VLOOKUP($A12,WormsCanopeoKhPlantChloro!$A$3:$M$203,6,FALSE)/(0.1*0.2) -> 100 | K12: =VLOOKUP($A12,WormsCanopeoKhPlantChloro!$A$3:$M$203,7,FALSE)/(0.1*0.2) -> 0 | L12: =_xlfn.NUMBERVALUE((VLOOKUP($A12,WormsCanopeoKhPlantChloro!$A$3:$M$203,9,FALSE))) -> 85.646667 | M12: =_xlfn.NUMBERVALUE((VLOOKUP($A12,WormsCanopeoKhPlantChloro!$A$3:$M$203,10,FALSE))) -> 8.576127 | N12: =VLOOKUP($A12,WormsCanopeoKhPlantChloro!$A$3:$M$203,12,FALSE) -> 8.0105 | O12: =VLOOKUP($A12,WormsCanopeoKhPlantChloro!$A$3:$M$203,13,FALSE) -> 0.7345 | P12: =VLOOKUP($A12,WormsCanopeoKhPlantChloro!$A$3:$S$203,15,FALSE) -> 29 | Q12: =VLOOKUP($A12,WormsCanopeoKhPlantChloro!$A$3:$S$203,16,FALSE) -> 10.19804 | R12: =VLOOKUP($A12,WormsCanopeoKhPlantChloro!$A$3:$S$203,18,FALSE) -> 0.033221 | S12: =VLOOKUP($A12,WormsCanopeoKhPlantChloro!$A$3:$S$203,19,FALSE) -> 0.007616 | T12: =VLOOKUP($A12,WormsCanopeoKhPlantChloro!$A$3:$V$203,21,FALSE) -> 36.4696 | U12: =VLOOKUP($A12,WormsCanopeoKhPlantChloro!$A$3:$V$203,22,FALSE) -> 5.705562
A13: =B13&"-"&C13 -> Jn-1 | B13: Jn | C13: 1 | D13: Carbon grazing | E13: =VLOOKUP($A13,BD_biomass!$A$4:$R$43,17,FALSE) -> 0.899557 | F13: =VLOOKUP($A13,BD_biomass!$A$4:$R$43,18,FALSE) -> 0.66054453 | G13: =VLOOKUP($A13,BD_biomass!$A$4:$R$43,11,FALSE) -> 8805.1495 | H13: =VLOOKUP($A13,VESS!$A$3:$O$203,14,FALSE) -> 2.2521073 | I13: =VLOOKUP($A13,VESS!$A$4:$O$203,15,FALSE) -> 0.30939308 | J13: =VLOOKUP($A13,WormsCanopeoKhPlantChloro!$A$3:$M$203,6,FALSE)/(0.1*0.2) -> 166.66667 | K13: =VLOOKUP($A13,WormsCanopeoKhPlantChloro!$A$3:$M$203,7,FALSE)/(0.1*0.2) -> 117.85113 | L13: =_xlfn.NUMBERVALUE((VLOOKUP($A13,WormsCanopeoKhPlantChloro!$A$3:$M$203,9,FALSE))) -> 89.156667 | M13: =_xlfn.NUMBERVALUE((VLOOKUP($A13,WormsCanopeoKhPlantChloro!$A$3:$M$203,10,FALSE))) -> 3.236936 | N13: =VLOOKUP($A13,WormsCanopeoKhPlantChloro!$A$3:$M$203,12,FALSE) -> 20.983 | O13: =VLOOKUP($A13,WormsCanopeoKhPlantChloro!$A$3:$M$203,13,FALSE) -> 9.813 | P13: =VLOOKUP($A13,WormsCanopeoKhPlantChloro!$A$3:$S$203,15,FALSE) -> 39 | Q13: =VLOOKUP($A13,WormsCanopeoKhPlantChloro!$A$3:$S$203,16,FALSE) -> 6.63325 | R13: =VLOOKUP($A13,WormsCanopeoKhPlantChloro!$A$3:$S$203,18,FALSE) -> 0.04854 | S13: =VLOOKUP($A13,WormsCanopeoKhPlantChloro!$A$3:$S$203,19,FALSE) -> 0.006496 | T13: =VLOOKUP($A13,WormsCanopeoKhPlantChloro!$A$3:$V$203,21,FALSE) -> 47.2012 | U13: =VLOOKUP($A13,WormsCanopeoKhPlantChloro!$A$3:$V$203,22,FALSE) -> 4.153944
A14: =B14&"-"&C14 -> Ki-0 | B14: Ki | C14: 0 | D14: N-poor soil amendments | E14: =VLOOKUP($A14,BD_biomass!$A$4:$R$43,17,FALSE) -> 1.0201434 | F14: =VLOOKUP($A14,BD_biomass!$A$4:$R$43,18,FALSE) -> 0.61504023 | G14: =VLOOKUP($A14,BD_biomass!$A$4:$R$43,11,FALSE) -> 737.32719 | H14: =VLOOKUP($A14,VESS!$A$3:$O$203,14,FALSE) -> 2.6623153 | I14: =VLOOKUP($A14,VESS!$A$4:$O$203,15,FALSE) -> 0.33215653 | J14: =VLOOKUP($A14,WormsCanopeoKhPlantChloro!$A$3:$M$203,6,FALSE)/(0.1*0.2) -> 16.666667 | K14: =VLOOKUP($A14,WormsCanopeoKhPlantChloro!$A$3:$M$203,7,FALSE)/(0.1*0.2) -> 23.570226 | L14: =_xlfn.NUMBERVALUE((VLOOKUP($A14,WormsCanopeoKhPlantChloro!$A$3:$M$203,9,FALSE))) -> 49.866667 | M14: =_xlfn.NUMBERVALUE((VLOOKUP($A14,WormsCanopeoKhPlantChloro!$A$3:$M$203,10,FALSE))) -> 8.666235 | N14: =VLOOKUP($A14,WormsCanopeoKhPlantChloro!$A$3:$M$203,12,FALSE) -> 47.169 | O14: =VLOOKUP($A14,WormsCanopeoKhPlantChloro!$A$3:$M$203,13,FALSE) -> 10.97 | P14: =VLOOKUP($A14,WormsCanopeoKhPlantChloro!$A$3:$S$203,15,FALSE) -> 20 | Q14: =VLOOKUP($A14,WormsCanopeoKhPlantChloro!$A$3:$S$203,16,FALSE) -> 5.25357 | R14: =VLOOKUP($A14,WormsCanopeoKhPlantChloro!$A$3:$S$203,18,FALSE) -> 0 | S14: =VLOOKUP($A14,WormsCanopeoKhPlantChloro!$A$3:$S$203,19,FALSE) -> 0 | T14: =VLOOKUP($A14,WormsCanopeoKhPlantChloro!$A$3:$V$203,21,FALSE) -> 0 | U14: =VLOOKUP($A14,WormsCanopeoKhPlantChloro!$A$3:$V$203,22,FALSE) -> 0
A15: =B15&"-"&C15 -> Ki-1 | B15: Ki | C15: 1 | D15: N-poor soil amendments | E15: =VLOOKUP($A15,BD_biomass!$A$4:$R$43,17,FALSE) -> 0.97634926 | F15: =VLOOKUP($A15,BD_biomass!$A$4:$R$43,18,FALSE) -> 0.63156632 | G15: =VLOOKUP($A15,BD_biomass!$A$4:$R$43,11,FALSE) -> 1243.4519 | H15: =VLOOKUP($A15,VESS!$A$3:$O$203,14,FALSE) -> 2.2312903 | I15: =VLOOKUP($A15,VESS!$A$4:$O$203,15,FALSE) -> 0.35718681 | J15: =VLOOKUP($A15,WormsCanopeoKhPlantChloro!$A$3:$M$203,6,FALSE)/(0.1*0.2) -> 12.5 | K15: =VLOOKUP($A15,WormsCanopeoKhPlantChloro!$A$3:$M$203,7,FALSE)/(0.1*0.2) -> 21.650635 | L15: =_xlfn.NUMBERVALUE((VLOOKUP($A15,WormsCanopeoKhPlantChloro!$A$3:$M$203,9,FALSE))) -> 80.28 | M15: =_xlfn.NUMBERVALUE((VLOOKUP($A15,WormsCanopeoKhPlantChloro!$A$3:$M$203,10,FALSE))) -> 12.55423 | N15: =VLOOKUP($A15,WormsCanopeoKhPlantChloro!$A$3:$M$203,12,FALSE) -> 87.892 | O15: =VLOOKUP($A15,WormsCanopeoKhPlantChloro!$A$3:$M$203,13,FALSE) -> 2.062 | P15: =VLOOKUP($A15,WormsCanopeoKhPlantChloro!$A$3:$S$203,15,FALSE) -> 33.8 | Q15: =VLOOKUP($A15,WormsCanopeoKhPlantChloro!$A$3:$S$203,16,FALSE) -> 7.054077 | R15: =VLOOKUP($A15,WormsCanopeoKhPlantChloro!$A$3:$S$203,18,FALSE) -> 0 | S15: =VLOOKUP($A15,WormsCanopeoKhPlantChloro!$A$3:$S$203,19,FALSE) -> 0 | T15: =VLOOKUP($A15,WormsCanopeoKhPlantChloro!$A$3:$V$203,21,FALSE) -> 0 | U15: =VLOOKUP($A15,WormsCanopeoKhPlantChloro!$A$3:$V$203,22,FALSE) -> 0
... A25: =B25&"-"&C25 -> Mi-1 | B25: Mi | C25: 1 | D25: Carbon grazing | E25: =VLOOKUP($A25,BD_biomass!$A$4:$R$43,17,FALSE) -> 0.93205114 | F25: =VLOOKUP($A25,BD_biomass!$A$4:$R$43,18,FALSE) -> 0.64828259 | G25: =VLOOKUP($A25,BD_biomass!$A$4:$R$43,11,FALSE) -> 10087.282 | H25: =VLOOKUP($A25,VESS!$A$3:$O$203,14,FALSE) -> 2.3614006 | I25: =VLOOKUP($A25,VESS!$A$4:$O$203,15,FALSE) -> 0.46727731 | J25: =VLOOKUP($A25,WormsCanopeoKhPlantChloro!$A$3:$M$203,6,FALSE)/(0.1*0.2) -> 70 | K25: =VLOOKUP($A25,WormsCanopeoKhPlantChloro!$A$3:$M$203,7,FALSE)/(0.1*0.2) -> 50.990195 | L25: =_xlfn.NUMBERVALUE((VLOOKUP($A25,WormsCanopeoKhPlantChloro!$A$3:$M$203,9,FALSE))) -> 79.955 | M25: =_xlfn.NUMBERVALUE((VLOOKUP($A25,WormsCanopeoKhPlantChloro!$A$3:$M$203,10,FALSE))) -> 0.755 | N25: =VLOOKUP($A25,WormsCanopeoKhPlantChloro!$A$3:$M$203,12,FALSE) -> 0.030728 | O25: =VLOOKUP($A25,WormsCanopeoKhPlantChloro!$A$3:$M$203,13,FALSE) -> 0.035106 | P25: =VLOOKUP($A25,WormsCanopeoKhPlantChloro!$A$3:$S$203,15,FALSE) -> 40.2 | Q25: =VLOOKUP($A25,WormsCanopeoKhPlantChloro!$A$3:$S$203,16,FALSE) -> 9.516302 | R25: =VLOOKUP($A25,WormsCanopeoKhPlantChloro!$A$3:$S$203,18,FALSE) -> 0.02541 | S25: =VLOOKUP($A25,WormsCanopeoKhPlantChloro!$A$3:$S$203,19,FALSE) -> 0.012966 | T25: =VLOOKUP($A25,WormsCanopeoKhPlantChloro!$A$3:$V$203,21,FALSE) -> 28.451 | U25: =VLOOKUP($A25,WormsCanopeoKhPlantChloro!$A$3:$V$203,22,FALSE) -> 14.35682
A26: =B26&"-"&C26 -> Mo-0 | B26: Mo | C26: 0 | D26: Ley in rotation | E26: =VLOOKUP($A26,BD_biomass!$A$4:$R$43,17,FALSE) -> 1.0961266 | F26: =VLOOKUP($A26,BD_biomass!$A$4:$R$43,18,FALSE) -> 0.58636731 | G26: =VLOOKUP($A26,BD_biomass!$A$4:$R$43,11,FALSE) -> 820.07168 | H26: =VLOOKUP($A26,VESS!$A$3:$O$203,14,FALSE) -> 4.1053877 | I26: =VLOOKUP($A26,VESS!$A$4:$O$203,15,FALSE) -> 0.41842378 | J26: =VLOOKUP($A26,WormsCanopeoKhPlantChloro!$A$3:$M$203,6,FALSE)/(0.1*0.2) -> 10 | K26: =VLOOKUP($A26,WormsCanopeoKhPlantChloro!$A$3:$M$203,7,FALSE)/(0.1*0.2) -> 20 | L26: =_xlfn.NUMBERVALUE((VLOOKUP($A26,WormsCanopeoKhPlantChloro!$A$3:$M$203,9,FALSE))) -> 64.713333 | M26: =_xlfn.NUMBERVALUE((VLOOKUP($A26,WormsCanopeoKhPlantChloro!$A$3:$M$203,10,FALSE))) -> 14.23669 | N26: =VLOOKUP($A26,WormsCanopeoKhPlantChloro!$A$3:$M$203,12,FALSE) -> 2.957 | O26: =VLOOKUP($A26,WormsCanopeoKhPlantChloro!$A$3:$M$203,13,FALSE) -> 1.255785 | R26: =VLOOKUP($A26,WormsCanopeoKhPlantChloro!$A$3:$S$203,18,FALSE) -> 0.029068 | S26: =VLOOKUP($A26,WormsCanopeoKhPlantChloro!$A$3:$S$203,19,FALSE) -> 0.015742 | T26: =VLOOKUP($A26,WormsCanopeoKhPlantChloro!$A$3:$V$203,21,FALSE) -> 31.0448 | U26: =VLOOKUP($A26,WormsCanopeoKhPlantChloro!$A$3:$V$203,22,FALSE) -> 16.12531
A27: =B27&"-"&C27 -> Mo-1 | B27: Mo | C27: 1 | D27: Ley in rotation | E27: =VLOOKUP($A27,BD_biomass!$A$4:$R$43,17,FALSE) -> 1.0858744 | F27: =VLOOKUP($A27,BD_biomass!$A$4:$R$43,18,FALSE) -> 0.59023608 | G27: =VLOOKUP($A27,BD_biomass!$A$4:$R$43,11,FALSE) -> 7542.1436 | H27: =VLOOKUP($A27,VESS!$A$3:$O$203,14,FALSE) -> 3.0047619 | I27: =VLOOKUP($A27,VESS!$A$4:$O$203,15,FALSE) -> 0.31159664 | J27: =VLOOKUP($A27,WormsCanopeoKhPlantChloro!$A$3:$M$203,6,FALSE)/(0.1*0.2) -> 0 | K27: =VLOOKUP($A27,WormsCanopeoKhPlantChloro!$A$3:$M$203,7,FALSE)/(0.1*0.2) -> 0 | L27: =_xlfn.NUMBERVALUE((VLOOKUP($A27,WormsCanopeoKhPlantChloro!$A$3:$M$203,9,FALSE))) -> 77.453333 | M27: =_xlfn.NUMBERVALUE((VLOOKUP($A27,WormsCanopeoKhPlantChloro!$A$3:$M$203,10,FALSE))) -> 7.643897 | N27: =VLOOKUP($A27,WormsCanopeoKhPlantChloro!$A$3:$M$203,12,FALSE) -> 6.674 | O27: =VLOOKUP($A27,WormsCanopeoKhPlantChloro!$A$3:$M$203,13,FALSE) -> 4.012115 | R27: =VLOOKUP($A27,WormsCanopeoKhPlantChloro!$A$3:$S$203,18,FALSE) -> 0.025906 | S27: =VLOOKUP($A27,WormsCanopeoKhPlantChloro!$A$3:$S$203,19,FALSE) -> 0.00432 | T27: =VLOOKUP($A27,WormsCanopeoKhPlantChloro!$A$3:$V$203,21,FALSE) -> 30.9652 | U27: =VLOOKUP($A27,WormsCanopeoKhPlantChloro!$A$3:$V$203,22,FALSE) -> 3.511585
A28: =B28&"-"&C28 -> Mu-0 | B28: Mu | C28: 0 | D28: Subsoiling | E28: =VLOOKUP($A28,BD_biomass!$A$4:$R$43,17,FALSE) -> 1.0452766 | F28: =VLOOKUP($A28,BD_biomass!$A$4:$R$43,18,FALSE) -> 0.60555599 | G28: =VLOOKUP($A28,BD_biomass!$A$4:$R$43,11,FALSE) -> 2047.9554 | H28: =VLOOKUP($A28,VESS!$A$3:$O$203,14,FALSE) -> 2.956539 | I28: =VLOOKUP($A28,VESS!$A$4:$O$203,15,FALSE) -> 0.31441518 | J28: =VLOOKUP($A28,WormsCanopeoKhPlantChloro!$A$3:$M$203,6,FALSE)/(0.1*0.2) -> 0 | K28: =VLOOKUP($A28,WormsCanopeoKhPlantChloro!$A$3:$M$203,7,FALSE)/(0.1*0.2) -> 0 | L28: =_xlfn.NUMBERVALUE((VLOOKUP($A28,WormsCanopeoKhPlantChloro!$A$3:$M$203,9,FALSE))) -> 98.403333 | M28: =_xlfn.NUMBERVALUE((VLOOKUP($A28,WormsCanopeoKhPlantChloro!$A$3:$M$203,10,FALSE))) -> 0.25197 | N28: =VLOOKUP($A28,WormsCanopeoKhPlantChloro!$A$3:$M$203,12,FALSE) -> 11.94333 | O28: =VLOOKUP($A28,WormsCanopeoKhPlantChloro!$A$3:$M$203,13,FALSE) -> 6.46048 | P28: =VLOOKUP($A28,WormsCanopeoKhPlantChloro!$A$3:$S$203,15,FALSE) -> 24.2 | Q28: =VLOOKUP($A28,WormsCanopeoKhPlantChloro!$A$3:$S$203,16,FALSE) -> 2.638181 | R28: =VLOOKUP($A28,WormsCanopeoKhPlantChloro!$A$3:$S$203,18,FALSE) -> 0 | S28: =VLOOKUP($A28,WormsCanopeoKhPlantChloro!$A$3:$S$203,19,FALSE) -> 0 | T28: =VLOOKUP($A28,WormsCanopeoKhPlantChloro!$A$3:$V$203,21,FALSE) -> 0 | U28: =VLOOKUP($A28,WormsCanopeoKhPlantChloro!$A$3:$V$203,22,FALSE) -> 0
A29: =B29&"-"&C29 -> Mu-1 | B29: Mu | C29: 1 | D29: Subsoiling | E29: =VLOOKUP($A29,BD_biomass!$A$4:$R$43,17,FALSE) -> 1.0198516 | F29: =VLOOKUP($A29,BD_biomass!$A$4:$R$43,18,FALSE) -> 0.61515033 | G29: =VLOOKUP($A29,BD_biomass!$A$4:$R$43,11,FALSE) -> 2211.2383 | H29: =VLOOKUP($A29,VESS!$A$3:$O$203,14,FALSE) -> 3.2968411 | I29: =VLOOKUP($A29,VESS!$A$4:$O$203,15,FALSE) -> 0.38836758 | J29: =VLOOKUP($A29,WormsCanopeoKhPlantChloro!$A$3:$M$203,6,FALSE)/(0.1*0.2) -> 50 | K29: =VLOOKUP($A29,WormsCanopeoKhPlantChloro!$A$3:$M$203,7,FALSE)/(0.1*0.2) -> 40.824829 | L29: =_xlfn.NUMBERVALUE((VLOOKUP($A29,WormsCanopeoKhPlantChloro!$A$3:$M$203,9,FALSE))) -> 99.173333 | M29: =_xlfn.NUMBERVALUE((VLOOKUP($A29,WormsCanopeoKhPlantChloro!$A$3:$M$203,10,FALSE))) -> 0.193448 | N29: =VLOOKUP($A29,WormsCanopeoKhPlantChloro!$A$3:$M$203,12,FALSE) -> 2.253 | O29: =VLOOKUP($A29,WormsCanopeoKhPlantChloro!$A$3:$M$203,13,FALSE) -> 0.02 | P29: =VLOOKUP($A29,WormsCanopeoKhPlantChloro!$A$3:$S$203,15,FALSE) -> 19.4 | Q29: =VLOOKUP($A29,WormsCanopeoKhPlantChloro!$A$3:$S$203,16,FALSE) -> 3.498571 | R29: =VLOOKUP($A29,WormsCanopeoKhPlantChloro!$A$3:$S$203,18,FALSE) -> 0 | S29: =VLOOKUP($A29,WormsCanopeoKhPlantChloro!$A$3:$S$203,19,FALSE) -> 0 | T29: =VLOOKUP($A29,WormsCanopeoKhPlantChloro!$A$3:$V$203,21,FALSE) -> 0 | U29: =VLOOKUP($A29,WormsCanopeoKhPlantChloro!$A$3:$V$203,22,FALSE) -> 0
A30: =B30&"-"&C30 -> Na-0 | B30: Na | C30: 0 | D30: Cover crops | E30: =VLOOKUP($A30,BD_biomass!$A$4:$R$43,17,FALSE) -> 0.9978617 | F30: =VLOOKUP($A30,BD_biomass!$A$4:$R$43,18,FALSE) -> 0.62344841 | G30: =VLOOKUP($A30,BD_biomass!$A$4:$R$43,11,FALSE) -> 5940.353 | H30: =VLOOKUP($A30,VESS!$A$3:$O$203,14,FALSE) -> 3.3969075 | I30: =VLOOKUP($A30,VESS!$A$4:$O$203,15,FALSE) -> 0.35421842 | J30: =VLOOKUP($A30,WormsCanopeoKhPlantChloro!$A$3:$M$203,6,FALSE)/(0.1*0.2) -> 33.333333 | K30: =VLOOKUP($A30,WormsCanopeoKhPlantChloro!$A$3:$M$203,7,FALSE)/(0.1*0.2) -> 23.570226 | L30: =_xlfn.NUMBERVALUE((VLOOKUP($A30,WormsCanopeoKhPlantChloro!$A$3:$M$203,9,FALSE))) -> 85.343333 | M30: =_xlfn.NUMBERVALUE((VLOOKUP($A30,WormsCanopeoKhPlantChloro!$A$3:$M$203,10,FALSE))) -> 1.686541 | N30: =VLOOKUP($A30,WormsCanopeoKhPlantChloro!$A$3:$M$203,12,FALSE) -> 11.92267 | O30: =VLOOKUP($A30,WormsCanopeoKhPlantChloro!$A$3:$M$203,13,FALSE) -> 7.465313 | P30: =VLOOKUP($A30,WormsCanopeoKhPlantChloro!$A$3:$S$203,15,FALSE) -> 80.75 | Q30: =VLOOKUP($A30,WormsCanopeoKhPlantChloro!$A$3:$S$203,16,FALSE) -> 2.58602 | R30: =VLOOKUP($A30,WormsCanopeoKhPlantChloro!$A$3:$S$203,18,FALSE) -> 0.058542 | S30: =VLOOKUP($A30,WormsCanopeoKhPlantChloro!$A$3:$S$203,19,FALSE) -> 0.003547 | T30: =VLOOKUP($A30,WormsCanopeoKhPlantChloro!$A$3:$V$203,21,FALSE) -> 53.557 | U30: =VLOOKUP($A30,WormsCanopeoKhPlantChloro!$A$3:$V$203,22,FALSE) -> 2.127003
A31: =B31&"-"&C31 -> Na-1 | B31: Na | C31: 1 | D31: Cover crops | E31: =VLOOKUP($A31,BD_biomass!$A$4:$R$43,17,FALSE) -> 0.92150712 | F31: =VLOOKUP($A31,BD_biomass!$A$4:$R$43,18,FALSE) -> 0.65226146 | G31: =VLOOKUP($A31,BD_biomass!$A$4:$R$43,11,FALSE) -> 5764.4899 | H31: =VLOOKUP($A31,VESS!$A$3:$O$203,14,FALSE) -> 2.8158585 | I31: =VLOOKUP($A31,VESS!$A$4:$O$203,15,FALSE) -> 0.42811278 | J31: =VLOOKUP($A31,WormsCanopeoKhPlantChloro!$A$3:$M$203,6,FALSE)/(0.1*0.2) -> 66.666667 | K31: =VLOOKUP($A31,WormsCanopeoKhPlantChloro!$A$3:$M$203,7,FALSE)/(0.1*0.2) -> 62.360956 | L31: =_xlfn.NUMBERVALUE((VLOOKUP($A31,WormsCanopeoKhPlantChloro!$A$3:$M$203,9,FALSE))) -> 78.013333 | M31: =_xlfn.NUMBERVALUE((VLOOKUP($A31,WormsCanopeoKhPlantChloro!$A$3:$M$203,10,FALSE))) -> 10.97443 | N31: =VLOOKUP($A31,WormsCanopeoKhPlantChloro!$A$3:$M$203,12,FALSE) -> 24.4185 | O31: =VLOOKUP($A31,WormsCanopeoKhPlantChloro!$A$3:$M$203,13,FALSE) -> 1.7315 | P31: =VLOOKUP($A31,WormsCanopeoKhPlantChloro!$A$3:$S$203,15,FALSE) -> 70.6 | Q31: =VLOOKUP($A31,WormsCanopeoKhPlantChloro!$A$3:$S$203,16,FALSE) -> 4.176123 | R31: =VLOOKUP($A31,WormsCanopeoKhPlantChloro!$A$3:$S$203,18,FALSE) -> 0.067582 | S31: =VLOOKUP($A31,WormsCanopeoKhPlantChloro!$A$3:$S$203,19,FALSE) -> 0.005501 | T31: =VLOOKUP($A31,WormsCanopeoKhPlantChloro!$A$3:$V$203,21,FALSE) -> 58.8634 | U31: =VLOOKUP($A31,WormsCanopeoKhPlantChloro!$A$3:$V$203,22,FALSE) -> 3.146643
A32: =B32&"-"&C32 -> Ne-0 | B32: Ne | C32: 0 | D32: Cover crops | E32: =VLOOKUP($A32,BD_biomass!$A$4:$R$43,17,FALSE) -> 0.93839081 | F32: =VLOOKUP($A32,BD_biomass!$A$4:$R$43,18,FALSE) -> 0.64589026 | G32: =VLOOKUP($A32,BD_biomass!$A$4:$R$43,11,FALSE) -> 8937.2993 | H32: =VLOOKUP($A32,VESS!$A$3:$O$203,14,FALSE) -> 2.437619 | I32: =VLOOKUP($A32,VESS!$A$4:$O$203,15,FALSE) -> 0.21463569 | J32: =VLOOKUP($A32,WormsCanopeoKhPlantChloro!$A$3:$M$203,6,FALSE)/(0.1*0.2) -> 116.66667 | K32: =VLOOKUP($A32,WormsCanopeoKhPlantChloro!$A$3:$M$203,7,FALSE)/(0.1*0.2) -> 23.570226 | L32: =_xlfn.NUMBERVALUE((VLOOKUP($A32,WormsCanopeoKhPlantChloro!$A$3:$M$203,9,FALSE))) -> 92.25 | M32: =_xlfn.NUMBERVALUE((VLOOKUP($A32,WormsCanopeoKhPlantChloro!$A$3:$M$203,10,FALSE))) -> 4.295928 | N32: =VLOOKUP($A32,WormsCanopeoKhPlantChloro!$A$3:$M$203,12,FALSE) -> 2.0685 | O32: =VLOOKUP($A32,WormsCanopeoKhPlantChloro!$A$3:$M$203,13,FALSE) -> 0.6765 | P32: =VLOOKUP($A32,WormsCanopeoKhPlantChloro!$A$3:$S$203,15,FALSE) -> 81.4 | Q32: =VLOOKUP($A32,WormsCanopeoKhPlantChloro!$A$3:$S$203,16,FALSE) -> 1.2 | R32: =VLOOKUP($A32,WormsCanopeoKhPlantChloro!$A$3:$S$203,18,FALSE) -> 0.046989 | S32: =VLOOKUP($A32,WormsCanopeoKhPlantChloro!$A$3:$S$203,19,FALSE) -> 0.007197 | T32: =VLOOKUP($A32,WormsCanopeoKhPlantChloro!$A$3:$V$203,21,FALSE) -> 46.1518 | U32: =VLOOKUP($A32,WormsCanopeoKhPlantChloro!$A$3:$V$203,22,FALSE) -> 4.789963
A33: =B33&"-"&C33 -> Ne-1 | B33: Ne | C33: 1 | D33: Cover crops | E33: =VLOOKUP($A33,BD_biomass!$A$4:$R$43,17,FALSE) -> 0.92978318 | F33: =VLOOKUP($A33,BD_biomass!$A$4:$R$43,18,FALSE) -> 0.64913842 | G33: =VLOOKUP($A33,BD_biomass!$A$4:$R$43,11,FALSE) -> 7385.6848 | H33: =VLOOKUP($A33,VESS!$A$3:$O$203,14,FALSE) -> 2.2042146 | I33: =VLOOKUP($A33,VESS!$A$4:$O$203,15,FALSE) -> 0.024942499 | J33: =VLOOKUP($A33,WormsCanopeoKhPlantChloro!$A$3:$M$203,6,FALSE)/(0.1*0.2) -> 166.66667 | K33: =VLOOKUP($A33,WormsCanopeoKhPlantChloro!$A$3:$M$203,7,FALSE)/(0.1*0.2) -> 62.360956 | L33: =_xlfn.NUMBERVALUE((VLOOKUP($A33,WormsCanopeoKhPlantChloro!$A$3:$M$203,9,FALSE))) -> 86.886667 | M33: =_xlfn.NUMBERVALUE((VLOOKUP($A33,WormsCanopeoKhPlantChloro!$A$3:$M$203,10,FALSE))) -> 7.099767 | N33: =VLOOKUP($A33,WormsCanopeoKhPlantChloro!$A$3:$M$203,12,FALSE) -> 7.759 | O33: =VLOOKUP($A33,WormsCanopeoKhPlantChloro!$A$3:$M$203,13,FALSE) -> 4.094 | P33: =VLOOKUP($A33,WormsCanopeoKhPlantChloro!$A$3:$S$203,15,FALSE) -> 77.4 | Q33: =VLOOKUP($A33,WormsCanopeoKhPlantChloro!$A$3:$S$203,16,FALSE) -> 1.624808 | R33: =VLOOKUP($A33,WormsCanopeoKhPlantChloro!$A$3:$S$203,18,FALSE) -> 0.044741 | S33: =VLOOKUP($A33,WormsCanopeoKhPlantChloro!$A$3:$S$203,19,FALSE) -> 0.003178 | T33: =VLOOKUP($A33,WormsCanopeoKhPlantChloro!$A$3:$V$203,21,FALSE) -> 44.7658 | U33: =VLOOKUP($A33,WormsCanopeoKhPlantChloro!$A$3:$V$203,22,FALSE) -> 2.135648
A34: =B34&"-"&C34 -> Ni-0 | B34: Ni | C34: 0 | D34: Carbon grazing | E34: =VLOOKUP($A34,BD_biomass!$A$4:$R$43,17,FALSE) -> 0.92914656 | F34: =VLOOKUP($A34,BD_biomass!$A$4:$R$43,18,FALSE) -> 0.64937866 | G34: =VLOOKUP($A34,BD_biomass!$A$4:$R$43,11,FALSE) -> 0 | H34: =VLOOKUP($A34,VESS!$A$3:$O$203,14,FALSE) -> 2.8724138 | I34: =VLOOKUP($A34,VESS!$A$4:$O$203,15,FALSE) -> 0.52758621 | J34: =VLOOKUP($A34,WormsCanopeoKhPlantChloro!$A$3:$M$203,6,FALSE)/(0.1*0.2) -> 16.666667 | K34: =VLOOKUP($A34,WormsCanopeoKhPlantChloro!$A$3:$M$203,7,FALSE)/(0.1*0.2) -> 23.570226 | L34: =_xlfn.NUMBERVALUE((VLOOKUP($A34,WormsCanopeoKhPlantChloro!$A$3:$M$203,9,FALSE))) -> 68.07 | M34: =_xlfn.NUMBERVALUE((VLOOKUP($A34,WormsCanopeoKhPlantChloro!$A$3:$M$203,10,FALSE))) -> 1.93 | N34: =VLOOKUP($A34,WormsCanopeoKhPlantChloro!$A$3:$M$203,12,FALSE) -> 17.487 | O34: =VLOOKUP($A34,WormsCanopeoKhPlantChloro!$A$3:$M$203,13,FALSE) -> 3.53 | P34: =VLOOKUP($A34,WormsCanopeoKhPlantChloro!$A$3:$S$203,15,FALSE) -> 75 | Q34: =VLOOKUP($A34,WormsCanopeoKhPlantChloro!$A$3:$S$203,16,FALSE) -> 5 | R34: =VLOOKUP($A34,WormsCanopeoKhPlantChloro!$A$3:$S$203,18,FALSE) -> 0 | S34: =VLOOKUP($A34,WormsCanopeoKhPlantChloro!$A$3:$S$203,19,FALSE) -> 0 | T34: =VLOOKUP($A34,WormsCanopeoKhPlantChloro!$A$3:$V$203,21,FALSE) -> 0 | U34: =VLOOKUP($A34,WormsCanopeoKhPlantChloro!$A$3:$V$203,22,FALSE) -> 0
A35: =B35&"-"&C35 -> Ni-1 | B35: Ni | C35: 1 | D35: Carbon grazing | E35: =VLOOKUP($A35,BD_biomass!$A$4:$R$43,17,FALSE) -> 0.70375663 | F35: =VLOOKUP($A35,BD_biomass!$A$4:$R$43,18,FALSE) -> 0.73443146 | G35: =VLOOKUP($A35,BD_biomass!$A$4:$R$43,11,FALSE) -> 0 | H35: =VLOOKUP($A35,VESS!$A$3:$O$203,14,FALSE) -> 2.1748941 | I35: =VLOOKUP($A35,VESS!$A$4:$O$203,15,FALSE) -> 0.10090632 | J35: =VLOOKUP($A35,WormsCanopeoKhPlantChloro!$A$3:$M$203,6,FALSE)/(0.1*0.2) -> 50 | K35: =VLOOKUP($A35,WormsCanopeoKhPlantChloro!$A$3:$M$203,7,FALSE)/(0.1*0.2) -> 40.824829 | L35: =_xlfn.NUMBERVALUE((VLOOKUP($A35,WormsCanopeoKhPlantChloro!$A$3:$M$203,9,FALSE))) -> 0 | M35: =_xlfn.NUMBERVALUE((VLOOKUP($A35,WormsCanopeoKhPlantChloro!$A$3:$M$203,10,FALSE))) -> 0 | N35: =VLOOKUP($A35,WormsCanopeoKhPlantChloro!$A$3:$M$203,12,FALSE) -> 13.063 | O35: =VLOOKUP($A35,WormsCanopeoKhPlantChloro!$A$3:$M$203,13,FALSE) -> 2.7 | P35: =VLOOKUP($A35,WormsCanopeoKhPlantChloro!$A$3:$S$203,15,FALSE) -> 0 | Q35: =VLOOKUP($A35,WormsCanopeoKhPlantChloro!$A$3:$S$203,16,FALSE) -> 0 | R35: =VLOOKUP($A35,WormsCanopeoKhPlantChloro!$A$3:$S$203,18,FALSE) -> 0 | S35: =VLOOKUP($A35,WormsCanopeoKhPlantChloro!$A$3:$S$203,19,FALSE) -> 0 | T35: =VLOOKUP($A35,WormsCanopeoKhPlantChloro!$A$3:$V$203,21,FALSE) -> 0 | U35: =VLOOKUP($A35,WormsCanopeoKhPlantChloro!$A$3:$V$203,22,FALSE) -> 0
A36: =B36&"-"&C36 -> Pa-0 | B36: Pa | C36: 0 | D36: N-rich soil amendments | E36: =VLOOKUP($A36,BD_biomass!$A$4:$R$43,17,FALSE) -> 1.0016018 | F36: =VLOOKUP($A36,BD_biomass!$A$4:$R$43,18,FALSE) -> 0.62203704 | G36: =VLOOKUP($A36,BD_biomass!$A$4:$R$43,11,FALSE) -> 10827.74 | H36: =VLOOKUP($A36,VESS!$A$3:$O$203,14,FALSE) -> 3.1339286 | I36: =VLOOKUP($A36,VESS!$A$4:$O$203,15,FALSE) -> 0.40844352 | J36: =VLOOKUP($A36,WormsCanopeoKhPlantChloro!$A$3:$M$203,6,FALSE)/(0.1*0.2) -> 16.666667 | K36: =VLOOKUP($A36,WormsCanopeoKhPlantChloro!$A$3:$M$203,7,FALSE)/(0.1*0.2) -> 23.570226 | L36: =_xlfn.NUMBERVALUE((VLOOKUP($A36,WormsCanopeoKhPlantChloro!$A$3:$M$203,9,FALSE))) -> 79.766667 | M36: =_xlfn.NUMBERVALUE((VLOOKUP($A36,WormsCanopeoKhPlantChloro!$A$3:$M$203,10,FALSE))) -> 5.522115 | N36: =VLOOKUP($A36,WormsCanopeoKhPlantChloro!$A$3:$M$203,12,FALSE) -> 39.041 | O36: =VLOOKUP($A36,WormsCanopeoKhPlantChloro!$A$3:$M$203,13,FALSE) -> 0.359 | P36: =VLOOKUP($A36,WormsCanopeoKhPlantChloro!$A$3:$S$203,15,FALSE) -> 74.8 | Q36: =VLOOKUP($A36,WormsCanopeoKhPlantChloro!$A$3:$S$203,16,FALSE) -> 2.315167
A37: =B37&"-"&C37 -> Pa-1 | B37: Pa | C37: 1 | D37: N-rich soil amendments | E37: =VLOOKUP($A37,BD_biomass!$A$4:$R$43,17,FALSE) -> 0.97892227 | F37: =VLOOKUP($A37,BD_biomass!$A$4:$R$43,18,FALSE) -> 0.63059537 | G37: =VLOOKUP($A37,BD_biomass!$A$4:$R$43,11,FALSE) -> 9749.1039 | H37: =VLOOKUP($A37,VESS!$A$3:$O$203,14,FALSE) -> 3.485119 | I37: =VLOOKUP($A37,VESS!$A$4:$O$203,15,FALSE) -> 0.2095627 | J37: =VLOOKUP($A37,WormsCanopeoKhPlantChloro!$A$3:$M$203,6,FALSE)/(0.1*0.2) -> 66.666667 | K37: =VLOOKUP($A37,WormsCanopeoKhPlantChloro!$A$3:$M$203,7,FALSE)/(0.1*0.2) -> 23.570226 | L37: =_xlfn.NUMBERVALUE((VLOOKUP($A37,WormsCanopeoKhPlantChloro!$A$3:$M$203,9,FALSE))) -> 85.636667 | M37: =_xlfn.NUMBERVALUE((VLOOKUP($A37,WormsCanopeoKhPlantChloro!$A$3:$M$203,10,FALSE))) -> 1.362457 | N37: =VLOOKUP($A37,WormsCanopeoKhPlantChloro!$A$3:$M$203,12,FALSE) -> 31.836 | O37: =VLOOKUP($A37,WormsCanopeoKhPlantChloro!$A$3:$M$203,13,FALSE) -> 0.5 | P37: =VLOOKUP($A37,WormsCanopeoKhPlantChloro!$A$3:$S$203,15,FALSE) -> 70.2 | Q37: =VLOOKUP($A37,WormsCanopeoKhPlantChloro!$A$3:$S$203,16,FALSE) -> 3.059412
A38: =B38&"-"&C38 -> Pi-0 | B38: Pi | C38: 0 | D38: N-rich soil amendments | E38: =VLOOKUP($A38,BD_biomass!$A$4:$R$43,17,FALSE) -> 0.98661476 | F38: =VLOOKUP($A38,BD_biomass!$A$4:$R$43,18,FALSE) -> 0.62769255 | G38: =VLOOKUP($A38,BD_biomass!$A$4:$R$43,11,FALSE) -> 6511.6279 | H38: =VLOOKUP($A38,VESS!$A$3:$O$203,14,FALSE) -> 2.9217037 | I38: =VLOOKUP($A38,VESS!$A$4:$O$203,15,FALSE) -> 0.33194936 | J38: =VLOOKUP($A38,WormsCanopeoKhPlantChloro!$A$3:$M$203,6,FALSE)/(0.1*0.2) -> 10 | K38: =VLOOKUP($A38,WormsCanopeoKhPlantChloro!$A$3:$M$203,7,FALSE)/(0.1*0.2) -> 20 | L38: =_xlfn.NUMBERVALUE((VLOOKUP($A38,WormsCanopeoKhPlantChloro!$A$3:$M$203,9,FALSE))) -> 78.706667 | M38: =_xlfn.NUMBERVALUE((VLOOKUP($A38,WormsCanopeoKhPlantChloro!$A$3:$M$203,10,FALSE))) -> 2.615713 | N38: =VLOOKUP($A38,WormsCanopeoKhPlantChloro!$A$3:$M$203,12,FALSE) -> 25.98489 | O38: =VLOOKUP($A38,WormsCanopeoKhPlantChloro!$A$3:$M$203,13,FALSE) -> 17.35831 | P38: =VLOOKUP($A38,WormsCanopeoKhPlantChloro!$A$3:$S$203,15,FALSE) -> 127 | Q38: =VLOOKUP($A38,WormsCanopeoKhPlantChloro!$A$3:$S$203,16,FALSE) -> 2.44949 | R38: =VLOOKUP($A38,WormsCanopeoKhPlantChloro!$A$3:$S$203,18,FALSE) -> 0 | S38: =VLOOKUP($A38,WormsCanopeoKhPlantChloro!$A$3:$S$203,19,FALSE) -> 0 | T38: =VLOOKUP($A38,WormsCanopeoKhPlantChloro!$A$3:$V$203,21,FALSE) -> 0 | U38: =VLOOKUP($A38,WormsCanopeoKhPlantChloro!$A$3:$V$203,22,FALSE) -> 0
A39: =B39&"-"&C39 -> Pi-1 | B39: Pi | C39: 1 | D39: N-rich soil amendments | E39: =VLOOKUP($A39,BD_biomass!$A$4:$R$43,17,FALSE) -> 0.87545829 | F39: =VLOOKUP($A39,BD_biomass!$A$4:$R$43,18,FALSE) -> 0.66963838 | G39: =VLOOKUP($A39,BD_biomass!$A$4:$R$43,11,FALSE) -> 6718.977 | H39: =VLOOKUP($A39,VESS!$A$3:$O$203,14,FALSE) -> 2.6674848 | I39: =VLOOKUP($A39,VESS!$A$4:$O$203,15,FALSE) -> 0.36671095 | J39: =VLOOKUP($A39,WormsCanopeoKhPlantChloro!$A$3:$M$203,6,FALSE)/(0.1*0.2) -> 60 | K39: =VLOOKUP($A39,WormsCanopeoKhPlantChloro!$A$3:$M$203,7,FALSE)/(0.1*0.2) -> 73.484692 | L39: =_xlfn.NUMBERVALUE((VLOOKUP($A39,WormsCanopeoKhPlantChloro!$A$3:$M$203,9,FALSE))) -> 81.64 | M39: =_xlfn.NUMBERVALUE((VLOOKUP($A39,WormsCanopeoKhPlantChloro!$A$3:$M$203,10,FALSE))) -> 3.764102 | N39: =VLOOKUP($A39,WormsCanopeoKhPlantChloro!$A$3:$M$203,12,FALSE) -> 111.2106 | O39: =VLOOKUP($A39,WormsCanopeoKhPlantChloro!$A$3:$M$203,13,FALSE) -> 57.39902 | P39: =VLOOKUP($A39,WormsCanopeoKhPlantChloro!$A$3:$S$203,15,FALSE) -> 118.75 | Q39: =VLOOKUP($A39,WormsCanopeoKhPlantChloro!$A$3:$S$203,16,FALSE) -> 2.165064 | R39: =VLOOKUP($A39,WormsCanopeoKhPlantChloro!$A$3:$S$203,18,FALSE) -> 0 | S39: =VLOOKUP($A39,WormsCanopeoKhPlantChloro!$A$3:$S$203,19,FALSE) -> 0 | T39: =VLOOKUP($A39,WormsCanopeoKhPlantChloro!$A$3:$V$203,21,FALSE) -> 0 | U39: =VLOOKUP($A39,WormsCanopeoKhPlantChloro!$A$3:$V$203,22,FALSE) -> 0
A40: =B40&"-"&C40 -> Pu-0 | B40: Pu | C40: 0 | D40: Cover crops | E40: =VLOOKUP($A40,BD_biomass!$A$4:$R$43,17,FALSE) -> 0.99367062 | F40: =VLOOKUP($A40,BD_biomass!$A$4:$R$43,18,FALSE) -> 0.62502995 | G40: =VLOOKUP($A40,BD_biomass!$A$4:$R$43,11,FALSE) -> 1731.2504 | H40: =VLOOKUP($A40,VESS!$A$3:$O$203,14,FALSE) -> 3.2579365 | I40: =VLOOKUP($A40,VESS!$A$4:$O$203,15,FALSE) -> 0.42785066 | J40: =VLOOKUP($A40,WormsCanopeoKhPlantChloro!$A$3:$M$203,6,FALSE)/(0.1*0.2) -> 70 | K40: =VLOOKUP($A40,WormsCanopeoKhPlantChloro!$A$3:$M$203,7,FALSE)/(0.1*0.2) -> 40 | L40: =_xlfn.NUMBERVALUE((VLOOKUP($A40,WormsCanopeoKhPlantChloro!$A$3:$M$203,9,FALSE))) -> 61.54 | M40: =_xlfn.NUMBERVALUE((VLOOKUP($A40,WormsCanopeoKhPlantChloro!$A$3:$M$203,10,FALSE))) -> 4.082654 | N40: =VLOOKUP($A40,WormsCanopeoKhPlantChloro!$A$3:$M$203,12,FALSE) -> 30.17204 | O40: =VLOOKUP($A40,WormsCanopeoKhPlantChloro!$A$3:$M$203,13,FALSE) -> 15.09331 | R40: =VLOOKUP($A40,WormsCanopeoKhPlantChloro!$A$3:$S$203,18,FALSE) -> 0.043563 | S40: =VLOOKUP($A40,WormsCanopeoKhPlantChloro!$A$3:$S$203,19,FALSE) -> 0.006049 | T40: =VLOOKUP($A40,WormsCanopeoKhPlantChloro!$A$3:$V$203,21,FALSE) -> 43.8946 | U40: =VLOOKUP($A40,WormsCanopeoKhPlantChloro!$A$3:$V$203,22,FALSE) -> 4.180849
A41: =B41&"-"&C41 -> Pu-1 | B41: Pu | C41: 1 | D41: Cover crops | E41: =VLOOKUP($A41,BD_biomass!$A$4:$R$43,17,FALSE) -> 0.97235712 | F41: =VLOOKUP($A41,BD_biomass!$A$4:$R$43,18,FALSE) -> 0.63307278 | G41: =VLOOKUP($A41,BD_biomass!$A$4:$R$43,11,FALSE) -> 2643.3692 | H41: =VLOOKUP($A41,VESS!$A$3:$O$203,14,FALSE) -> 3.4207073 | I41: =VLOOKUP($A41,VESS!$A$4:$O$203,15,FALSE) -> 0.34862594 | J41: =VLOOKUP($A41,WormsCanopeoKhPlantChloro!$A$3:$M$203,6,FALSE)/(0.1*0.2) -> 30 | K41: =VLOOKUP($A41,WormsCanopeoKhPlantChloro!$A$3:$M$203,7,FALSE)/(0.1*0.2) -> 60 | L41: =_xlfn.NUMBERVALUE((VLOOKUP($A41,WormsCanopeoKhPlantChloro!$A$3:$M$203,9,FALSE))) -> 75.416667 | M41: =_xlfn.NUMBERVALUE((VLOOKUP($A41,WormsCanopeoKhPlantChloro!$A$3:$M$203,10,FALSE))) -> 9.548327 | N41: =VLOOKUP($A41,WormsCanopeoKhPlantChloro!$A$3:$M$203,12,FALSE) -> 9.743498 | O41: =VLOOKUP($A41,WormsCanopeoKhPlantChloro!$A$3:$M$203,13,FALSE) -> 3.588717 | R41: =VLOOKUP($A41,WormsCanopeoKhPlantChloro!$A$3:$S$203,18,FALSE) -> 0.043651 | S41: =VLOOKUP($A41,WormsCanopeoKhPlantChloro!$A$3:$S$203,19,FALSE) -> 0.00722 | T41: =VLOOKUP($A41,WormsCanopeoKhPlantChloro!$A$3:$V$203,21,FALSE) -> 43.9144 | U41: =VLOOKUP($A41,WormsCanopeoKhPlantChloro!$A$3:$V$203,22,FALSE) -> 4.911278
A42: =B42&"-"&C42 -> Si-0 | B42: Si | C42: 0 | D42: Cover crops | E42: =VLOOKUP($A42,BD_biomass!$A$4:$R$43,17,FALSE) -> 0.93292649 | F42: =VLOOKUP($A42,BD_biomass!$A$4:$R$43,18,FALSE) -> 0.64795227 | G42: =VLOOKUP($A42,BD_biomass!$A$4:$R$43,11,FALSE) -> 5316.6069 | H42: =VLOOKUP($A42,VESS!$A$3:$O$203,14,FALSE) -> 3.7442367 | I42: =VLOOKUP($A42,VESS!$A$4:$O$203,15,FALSE) -> 0.10428989 | J42: =VLOOKUP($A42,WormsCanopeoKhPlantChloro!$A$3:$M$203,6,FALSE)/(0.1*0.2) -> 37.5 | K42: =VLOOKUP($A42,WormsCanopeoKhPlantChloro!$A$3:$M$203,7,FALSE)/(0.1*0.2) -> 41.45781 | L42: =_xlfn.NUMBERVALUE((VLOOKUP($A42,WormsCanopeoKhPlantChloro!$A$3:$M$203,9,FALSE))) -> 84.146667 | M42: =_xlfn.NUMBERVALUE((VLOOKUP($A42,WormsCanopeoKhPlantChloro!$A$3:$M$203,10,FALSE))) -> 2.661846 | N42: =VLOOKUP($A42,WormsCanopeoKhPlantChloro!$A$3:$M$203,12,FALSE) -> 45.0145 | O42: =VLOOKUP($A42,WormsCanopeoKhPlantChloro!$A$3:$M$203,13,FALSE) -> 26.47352 | R42: =VLOOKUP($A42,WormsCanopeoKhPlantChloro!$A$3:$S$203,18,FALSE) -> 0.057361 | S42: =VLOOKUP($A42,WormsCanopeoKhPlantChloro!$A$3:$S$203,19,FALSE) -> 0.005301 | T42: =VLOOKUP($A42,WormsCanopeoKhPlantChloro!$A$3:$V$203,21,FALSE) -> 52.8046 | U42: =VLOOKUP($A42,WormsCanopeoKhPlantChloro!$A$3:$V$203,22,FALSE) -> 3.249614
A43: =B43&"-"&C43 -> Si-1 | B43: Si | C43: 1 | D43: Cover crops | E43: =VLOOKUP($A43,BD_biomass!$A$4:$R$43,17,FALSE) -> 0.92717038 | F43: =VLOOKUP($A43,BD_biomass!$A$4:$R$43,18,FALSE) -> 0.65012438 | G43: =VLOOKUP($A43,BD_biomass!$A$4:$R$43,11,FALSE) -> 4305.6267 | H43: =VLOOKUP($A43,VESS!$A$3:$O$203,14,FALSE) -> 3.7935981 | I43: =VLOOKUP($A43,VESS!$A$4:$O$203,15,FALSE) -> 0.31558816 | J43: =VLOOKUP($A43,WormsCanopeoKhPlantChloro!$A$3:$M$203,6,FALSE)/(0.1*0.2) -> 12.5 | K43: =VLOOKUP($A43,WormsCanopeoKhPlantChloro!$A$3:$M$203,7,FALSE)/(0.1*0.2) -> 21.650635 | L43: =_xlfn.NUMBERVALUE((VLOOKUP($A43,WormsCanopeoKhPlantChloro!$A$3:$M$203,9,FALSE))) -> 77.59 | M43: =_xlfn.NUMBERVALUE((VLOOKUP($A43,WormsCanopeoKhPlantChloro!$A$3:$M$203,10,FALSE))) -> 6.657662 | N43: =VLOOKUP($A43,WormsCanopeoKhPlantChloro!$A$3:$M$203,12,FALSE) -> 27.0848 | O43: =VLOOKUP($A43,WormsCanopeoKhPlantChloro!$A$3:$M$203,13,FALSE) -> 20.07737 | R43: =VLOOKUP($A43,WormsCanopeoKhPlantChloro!$A$3:$S$203,18,FALSE) -> 0.056865 | S43: =VLOOKUP($A43,WormsCanopeoKhPlantChloro!$A$3:$S$203,19,FALSE) -> 0.008494 | T43: =VLOOKUP($A43,WormsCanopeoKhPlantChloro!$A$3:$V$203,21,FALSE) -> 52.4086 | U43: =VLOOKUP($A43,WormsCanopeoKhPlantChloro!$A$3:$V$203,22,FALSE) -> 5.244795
J44: =MAX(J4:J43) -> 166.66667

Sheet VESS
A1: VESS tot = ∑ (VESS*layer depth) / total depth
A3: Site | B3: Tila | C3: Treat | D3: Rep | E3: cm 1 | F3: cm 2 | G3: cm 3 | H3: cm 4 | I3: VESS 1 | J3: VESS 2 | K3: VESS 3 | L3: VESS 4 | M3: VESS TOT | N3: Average | O3: Std | P3: Ave cm 1 | Q3: Ave cm 2 | R3: Ave cm 3 | S3: Ave cm 4 | T3: Ave VESS 1 | U3: Ave VESS 2 | V3: Ave VESS 3 | W3: Ave VESS 4 | X3: SD VESS 1 | Y3: SD VESS 2 | Z3: SD VESS 3 | AA3: SD VESS 4 | AC3: avg vess 1
A4: =B4&"-"&C4 -> AE-0 | B4: AE | C4: 0 | D4: 1 | E4: 5 | F4: 15 | G4: 5 | I4: 1 | J4: 2 | K4: 3 | M4: {=SUM(E4:H4*I4:L4)/SUM(E4:H4)} -> 2 | N4: =AVERAGE(M4:M6) -> 2.3666667 | O4: =_xlfn.STDEV.P(M4:M6) -> 0.26246693 | P4: =0-AVERAGE(E4:E8) -> -6.3333333 | Q4: =0-AVERAGE(F4:F8) -> -11.666667 | R4: =0-AVERAGE(G4:G8) -> -8 | S4: =IF(ISNUMBER(0-AVERAGE(H4:H8)),0-AVERAGE(H4:H8),NA()) -> #N/A | T4: =AVERAGE(I4:I8) -> 2 | U4: =AVERAGE(J4:J8) -> 2 | V4: =AVERAGE(K4:K8) -> 3 | W4: =IF(ISNUMBER(AVERAGE(L4:L8)), AVERAGE(L4:L8), "") | X4: =IF(ISNUMBER(_xlfn.STDEV.P(I4:I8)),_xlfn.STDEV.P(I4:I8),"") -> 0.81649658 | Y4: =IF(ISNUMBER(_xlfn.STDEV.P(J4:J8)),_xlfn.STDEV.P(J4:J8),"") -> 0 | Z4: =IF(ISNUMBER(_xlfn.STDEV.P(K4:K8)),_xlfn.STDEV.P(K4:K8),"") -> 0 | AA4: =IF(ISNUMBER(_xlfn.STDEV.P(L4:L8)),_xlfn.STDEV.P(L4:L8),"") | AC4: =AVERAGEA(I4:I6) -> 2
A5: =B5&"-"&C5 -> AE-0 | B5: AE | C5: 0 | D5: 2 | E5: 4 | F5: 10 | G5: 14 | I5: 2 | J5: 2 | K5: 3 | M5: {=SUM(E5:H5*I5:L5)/SUM(E5:H5)} -> 2.5 | AC5: 0
A6: =B6&"-"&C6 -> AE-0 | B6: AE | C6: 0 | D6: 3 | E6: 10 | F6: 10 | G6: 5 | I6: 3 | J6: 2 | K6: 3 | M6: {=SUM(E6:H6*I6:L6)/SUM(E6:H6)} -> 2.6 | AC6: 0
A7: =B7&"-"&C7 -> AE-0 | B7: AE | C7: 0 | D7: 4 | M7: {=SUM(E7:H7*I7:L7)/SUM(E7:H7)} -> #DIV/0! | AC7: 0
A8: =B8&"-"&C8 -> AE-0 | B8: AE | C8: 0 | D8: 5 | M8: {=SUM(E8:H8*I8:L8)/SUM(E8:H8)} -> #DIV/0! | AC8: 0
A9: =B9&"-"&C9 -> AE-1 | B9: AE | C9: 1 | D9: 1 | E9: 14 | F9: 12 | I9: 2 | J9: 2 | M9: {=SUM(E9:H9*I9:L9)/SUM(E9:H9)} -> 2 | N9: =AVERAGE(M9:M11) -> 1.6666667 | O9: =_xlfn.STDEV.P(M9:M11) -> 0.47140452 | P9: =0-AVERAGE(E9:E13) -> -15 | Q9: =0-AVERAGE(F9:F13) -> -11.333333 | R9: =IF(ISNUMBER(0-AVERAGE(G9:G13)),0-AVERAGE(G9:G13),NA()) -> #N/A | S9: =IF(ISNUMBER(0-AVERAGE(H9:H13)),0-AVERAGE(H9:H13),NA()) -> #N/A | T9: =AVERAGE(I9:I13) -> 1.6666667 | U9: =AVERAGE(J9:J13) -> 1.6666667 | V9: =AVERAGE(K9:K13) -> #DIV/0! | W9: =IF(ISNUMBER(AVERAGE(L9:L13)), AVERAGE(L9:L13), "") | X9: =IF(ISNUMBER(_xlfn.STDEV.P(I9:I13)),_xlfn.STDEV.P(I9:I13),"") -> 0.47140452 | Y9: =IF(ISNUMBER(_xlfn.STDEV.P(J9:J13)),_xlfn.STDEV.P(J9:J13),"") -> 0.47140452 | Z9: =IF(ISNUMBER(_xlfn.STDEV.P(K9:K13)),_xlfn.STDEV.P(K9:K13),"") | AA9: =IF(ISNUMBER(_xlfn.STDEV.P(L9:L13)),_xlfn.STDEV.P(L9:L13),"") | AC9: =AVERAGEA(I9:I12) -> 1.6666667
A10: =B10&"-"&C10 -> AE-1 | B10: AE | C10: 1 | D10: 2 | E10: 11 | F10: 15 | I10: 1 | J10: 1 | M10: {=SUM(E10:H10*I10:L10)/SUM(E10:H10)} -> 1 | AC10: 0
A11: =B11&"-"&C11 -> AE-1 | B11: AE | C11: 1 | D11: 3 | E11: 20 | F11: 7 | I11: 2 | J11: 2 | M11: {=SUM(E11:H11*I11:L11)/SUM(E11:H11)} -> 2 | AC11: 0
A12: =B12&"-"&C12 -> AE-1 | B12: AE | C12: 1 | D12: 4 | M12: {=SUM(E12:H12*I12:L12)/SUM(E12:H12)} -> #DIV/0! | AC12: 0
A13: =B13&"-"&C13 -> AE-1 | B13: AE | C13: 1 | D13: 5 | M13: {=SUM(E13:H13*I13:L13)/SUM(E13:H13)} -> #DIV/0! | AC13: 0
A14: =B14&"-"&C14 -> Ai-0 | B14: Ai | C14: 0 | D14: 1 | E14: 7 | F14: 15 | G14: 5 | I14: 1 | J14: 2 | K14: 4 | M14: {=SUM(E14:H14*I14:L14)/SUM(E14:H14)} -> 2.1111111 | N14: =AVERAGE(M14:M18) -> 3.2118996 | O14: =_xlfn.STDEV.P(M14:M18) -> 0.57469028 | P14: =0-AVERAGE(E14:E18) -> -6 | Q14: =0-AVERAGE(F14:F18) -> -12 | R14: =0-AVERAGE(G14:G18) -> -8.2 | S14: =IF(ISNUMBER(0-AVERAGE(H14:H18)),0-AVERAGE(H14:H18),NA()) -> #N/A | T14: =AVERAGE(I14:I18) -> 1 | U14: =AVERAGE(J14:J18) -> 3.6 | V14: =AVERAGE(K14:K18) -> 4.4 | W14: =IF(ISNUMBER(AVERAGE(L14:L18)), AVERAGE(L14:L18), "") | X14: =IF(ISNUMBER(_xlfn.STDEV.P(I14:I18)),_xlfn.STDEV.P(I14:I18),"") -> 0 | Y14: =IF(ISNUMBER(_xlfn.STDEV.P(J14:J18)),_xlfn.STDEV.P(J14:J18),"") -> 0.8 | Z14: =IF(ISNUMBER(_xlfn.STDEV.P(K14:K18)),_xlfn.STDEV.P(K14:K18),"") -> 0.48989795 | AA14: =IF(ISNUMBER(_xlfn.STDEV.P(L14:L18)),_xlfn.STDEV.P(L14:L18),"") | AC14: =AVERAGEA(I14:I17) -> 1
A15: =B15&"-"&C15 -> Ai-0 | B15: Ai | C15: 0 | D15: 2 | E15: 8 | F15: 13 | G15: 10 | I15: 1 | J15: 4 | K15: 5 | M15: {=SUM(E15:H15*I15:L15)/SUM(E15:H15)} -> 3.5483871 | AC15: 0
A16: =B16&"-"&C16 -> Ai-0 | B16: Ai | C16: 0 | D16: 3 | E16: 5 | F16: 15 | G16: 8 | I16: 1 | J16: 4 | K16: 5 | M16: {=SUM(E16:H16*I16:L16)/SUM(E16:H16)} -> 3.75 | AC16: 0
A17: =B17&"-"&C17 -> Ai-0 | B17: Ai | C17: 0 | D17: 4 | E17: 5 | F17: 12 | G17: 8 | I17: 1 | J17: 4 | K17: 4 | M17: {=SUM(E17:H17*I17:L17)/SUM(E17:H17)} -> 3.4 | AC17: 0
A18: =B18&"-"&C18 -> Ai-0 | B18: Ai | C18: 0 | D18: 5 | E18: 5 | F18: 5 | G18: 10 | I18: 1 | J18: 4 | K18: 4 | M18: {=SUM(E18:H18*I18:L18)/SUM(E18:H18)} -> 3.25 | AC18: 0
A19: =B19&"-"&C19 -> Ai-1 | B19: Ai | C19: 1 | D19: 1 | E19: 6 | F19: 7 | G19: 7 | H19: 5 | I19: 2 | J19: 3 | K19: 3 | L19: 4 | M19: {=SUM(E19:H19*I19:L19)/SUM(E19:H19)} -> 2.96 | N19: =AVERAGE(M19:M23) -> 3.1999426 | O19: =_xlfn.STDEV.P(M19:M23) -> 0.18026856 | P19: =0-AVERAGE(E19:E23) -> -5.6 | Q19: =0-AVERAGE(F19:F23) -> -7.6 | R19: =0-AVERAGE(G19:G23) -> -10 | S19: =IF(ISNUMBER(0-AVERAGE(H19:H23)),0-AVERAGE(H19:H23),NA()) -> -4.75 | T19: =AVERAGE(I19:I23) -> 1.4 | U19: =AVERAGE(J19:J23) -> 3 | V19: =AVERAGE(K19:K23) -> 3.8 | W19: =IF(ISNUMBER(AVERAGE(L19:L23)), AVERAGE(L19:L23), "") -> 4.25 | X19: =IF(ISNUMBER(_xlfn.STDEV.P(I19:I23)),_xlfn.STDEV.P(I19:I23),"") -> 0.48989795 | Y19: =IF(ISNUMBER(_xlfn.STDEV.P(J19:J23)),_xlfn.STDEV.P(J19:J23),"") -> 0.63245553 | Z19: =IF(ISNUMBER(_xlfn.STDEV.P(K19:K23)),_xlfn.STDEV.P(K19:K23),"") -> 0.4 | AA19: =IF(ISNUMBER(_xlfn.STDEV.P(L19:L23)),_xlfn.STDEV.P(L19:L23),"") -> 0.4330127 | AC19: =AVERAGEA(I19:I22) -> 1.5
A20: =B20&"-"&C20 -> Ai-1 | B20: Ai | C20: 1 | D20: 2 | E20: 6 | F20: 12 | G20: 7 | H20: 6 | I20: 2 | J20: 3 | K20: 4 | L20: 5 | M20: {=SUM(E20:H20*I20:L20)/SUM(E20:H20)} -> 3.4193548 | AC20: 0
A21: =B21&"-"&C21 -> Ai-1 | B21: Ai | C21: 1 | D21: 3 | E21: 6 | F21: 5 | G21: 15 | H21: 3 | I21: 1 | J21: 3 | K21: 4 | L21: 4 | M21: {=SUM(E21:H21*I21:L21)/SUM(E21:H21)} -> 3.2068966 | AC21: 0
A22: =B22&"-"&C22 -> Ai-1 | B22: Ai | C22: 1 | D22: 4 | E22: 5 | F22: 9 | G22: 10 | I22: 1 | J22: 4 | K22: 4 | M22: {=SUM(E22:H22*I22:L22)/SUM(E22:H22)} -> 3.375 | AC22: 0
A23: =B23&"-"&C23 -> Ai-1 | B23: Ai | C23: 1 | D23: 5 | E23: 5 | F23: 5 | G23: 11 | H23: 5 | I23: 1 | J23: 2 | K23: 4 | L23: 4 | M23: {=SUM(E23:H23*I23:L23)/SUM(E23:H23)} -> 3.0384615 | AC23: 0
A24: =B24&"-"&C24 -> Ik-0 | B24: Ik | C24: 0 | D24: 1 | E24: 5 | F24: 7 | G24: 12 | H24: 10 | I24: 1 | J24: 3 | K24: 4 | L24: 2 | M24: {=SUM(E24:H24*I24:L24)/SUM(E24:H24)} -> 2.7647059 | N24: =AVERAGE(M24:M26) -> 3.4607209 | O24: =_xlfn.STDEV.P(M24:M26) -> 0.52462275 | P24: =0-AVERAGE(E24:E28) -> -4.3333333 | Q24: =0-AVERAGE(F24:F28) -> -13.333333 | R24: =0-AVERAGE(G24:G28) -> -9 | S24: =IF(ISNUMBER(0-AVERAGE(H24:H28)),0-AVERAGE(H24:H28),NA()) -> -7.5 | T24: =AVERAGE(I24:I28) -> 1.6666667 | U24: =AVERAGE(J24:J28) -> 3.6666667 | V24: =AVERAGE(K24:K28) -> 4 | W24: =IF(ISNUMBER(AVERAGE(L24:L28)), AVERAGE(L24:L28), "") -> 3.5 | X24: =IF(ISNUMBER(_xlfn.STDEV.P(I24:I28)),_xlfn.STDEV.P(I24:I28),"") -> 0.94280904 | Y24: =IF(ISNUMBER(_xlfn.STDEV.P(J24:J28)),_xlfn.STDEV.P(J24:J28),"") -> 0.47140452 | Z24: =IF(ISNUMBER(_xlfn.STDEV.P(K24:K28)),_xlfn.STDEV.P(K24:K28),"") -> 0 | AA24: =IF(ISNUMBER(_xlfn.STDEV.P(L24:L28)),_xlfn.STDEV.P(L24:L28),"") -> 1.5 | AC24: =AVERAGEA(I24:I27) -> 1.6666667
A25: =B25&"-"&C25 -> Ik-0 | B25: Ik | C25: 0 | D25: 2 | E25: 4 | F25: 20 | G25: 5 | I25: 1 | J25: 4 | K25: 4 | M25: {=SUM(E25:H25*I25:L25)/SUM(E25:H25)} -> 3.5862069 | AC25: 0
A26: =B26&"-"&C26 -> Ik-0 | B26: Ik | C26: 0 | D26: 3 | E26: 4 | F26: 13 | G26: 10 | H26: 5 | I26: 3 | J26: 4 | K26: 4 | L26: 5 | M26: {=SUM(E26:H26*I26:L26)/SUM(E26:H26)} -> 4.03125 | AC26: 0
A27: =B27&"-"&C27 -> Ik-0 | B27: Ik | C27: 0 | D27: 4 | M27: {=SUM(E27:H27*I27:L27)/SUM(E27:H27)} -> #DIV/0! | AC27: 0
A28: =B28&"-"&C28 -> Ik-0 | B28: Ik | C28: 0 | D28: 5 | M28: {=SUM(E28:H28*I28:L28)/SUM(E28:H28)} -> #DIV/0! | AC28: 0
A29: =B29&"-"&C29 -> Ik-1 | B29: Ik | C29: 1 | D29: 1 | E29: 5 | F29: 20 | G29: 5 | I29: 1 | J29: 2 | K29: 2 | M29: {=SUM(E29:H29*I29:L29)/SUM(E29:H29)} -> 1.8333333 | N29: =AVERAGE(M29:M31) -> 1.9506173 | O29: =_xlfn.STDEV.P(M29:M31) -> 0.16586455 | P29: =0-AVERAGE(E29:E33) -> -5 | Q29: =0-AVERAGE(F29:F33) -> -19 | R29: =0-AVERAGE(G29:G33) -> -5 | S29: =IF(ISNUMBER(0-AVERAGE(H29:H33)),0-AVERAGE(H29:H33),NA()) -> #N/A | T29: =AVERAGE(I29:I33) -> 1 | U29: =AVERAGE(J29:J33) -> 2 | V29: =AVERAGE(K29:K33) -> 2.6666667 | W29: =IF(ISNUMBER(AVERAGE(L29:L33)), AVERAGE(L29:L33), "") | X29: =IF(ISNUMBER(_xlfn.STDEV.P(I29:I33)),_xlfn.STDEV.P(I29:I33),"") -> 0 | Y29: =IF(ISNUMBER(_xlfn.STDEV.P(J29:J33)),_xlfn.STDEV.P(J29:J33),"") -> 0 | Z29: =IF(ISNUMBER(_xlfn.STDEV.P(K29:K33)),_xlfn.STDEV.P(K29:K33),"") -> 0.94280904 | AA29: =IF(ISNUMBER(_xlfn.STDEV.P(L29:L33)),_xlfn.STDEV.P(L29:L33),"") | AC29: =AVERAGEA(I29:I32) -> 1
A30: =B30&"-"&C30 -> Ik-1 | B30: Ik | C30: 1 | D30: 2 | E30: 5 | F30: 20 | G30: 5 | I30: 1 | J30: 2 | K30: 2 | M30: {=SUM(E30:H30*I30:L30)/SUM(E30:H30)} -> 1.8333333 | AC30: 0
A31: =B31&"-"&C31 -> Ik-1 | B31: Ik | C31: 1 | D31: 3 | E31: 5 | F31: 17 | G31: 5 | I31: 1 | J31: 2 | K31: 4 | M31: {=SUM(E31:H31*I31:L31)/SUM(E31:H31)} -> 2.1851852 | AC31: 0
A32: =B32&"-"&C32 -> Ik-1 | B32: Ik | C32: 1 | D32: 4 | M32: {=SUM(E32:H32*I32:L32)/SUM(E32:H32)} -> #DIV/0! | AC32: 0
A33: =B33&"-"&C33 -> Ik-1 | B33: Ik | C33: 1 | D33: 5 | M33: {=SUM(E33:H33*I33:L33)/SUM(E33:H33)} -> #DIV/0! | AC33: 0
A34: =B34&"-"&C34 -> Ja-0 | B34: Ja | C34: 0 | D34: 1 | E34: 6 | F34: 12 | G34: 8 | H34: 6 | I34: 1 | J34: 4 | K34: 4 | L34: 5 | M34: {=SUM(E34:H34*I34:L34)/SUM(E34:H34)} -> 3.625 | N34: =AVERAGE(M34:M36) -> 3.2221264 | O34: =_xlfn.STDEV.P(M34:M36) -> 0.33707987 | P34: =0-AVERAGE(E34:E38) -> -6 | Q34: =0-AVERAGE(F34:F38) -> -11.333333 | R34: =0-AVERAGE(G34:G38) -> -9 | S34: =IF(ISNUMBER(0-AVERAGE(H34:H38)),0-AVERAGE(H34:H38),"") -> -6 | T34: =AVERAGE(I34:I38) -> 1 | U34: =AVERAGE(J34:J38) -> 3.3333333 | V34: =AVERAGE(K34:K38) -> 4 | W34: =IF(ISNUMBER(AVERAGE(L34:L38)), AVERAGE(L34:L38), "") -> 4.5 | X34: =IF(ISNUMBER(_xlfn.STDEV.P(I34:I38)),_xlfn.STDEV.P(I34:I38),"") -> 0 | Y34: =IF(ISNUMBER(_xlfn.STDEV.P(J34:J38)),_xlfn.STDEV.P(J34:J38),"") -> 0.47140452 | Z34: =IF(ISNUMBER(_xlfn.STDEV.P(K34:K38)),_xlfn.STDEV.P(K34:K38),"") -> 0 | AA34: =IF(ISNUMBER(_xlfn.STDEV.P(L34:L38)),_xlfn.STDEV.P(L34:L38),"") -> 0.5 | AC34: =AVERAGEA(I34:I37) -> 1
A35: =B35&"-"&C35 -> Ja-0 | B35: Ja | C35: 0 | D35: 2 | E35: 6 | F35: 18 | G35: 6 | I35: 1 | J35: 3 | K35: 4 | M35: {=SUM(E35:H35*I35:L35)/SUM(E35:H35)} -> 2.8 | AC35: 0
A36: =B36&"-"&C36 -> Ja-0 | B36: Ja | C36: 0 | D36: 3 | E36: 6 | F36: 4 | G36: 13 | H36: 6 | I36: 1 | J36: 3 | K36: 4 | L36: 4 | M36: {=SUM(E36:H36*I36:L36)/SUM(E36:H36)} -> 3.2413793 | AC36: 0
A37: =B37&"-"&C37 -> Ja-0 | B37: Ja | C37: 0 | D37: 4 | M37: {=SUM(E37:H37*I37:L37)/SUM(E37:H37)} -> #DIV/0! | AC37: 0
A38: =B38&"-"&C38 -> Ja-0 | B38: Ja | C38: 0 | D38: 5 | M38: {=SUM(E38:H38*I38:L38)/SUM(E38:H38)} -> #DIV/0! | AC38: 0
A39: =B39&"-"&C39 -> Ja-1 | B39: Ja | C39: 1 | D39: 1 | E39: 6 | F39: 10 | G39: 11 | H39: 5 | I39: 1 | J39: 2 | K39: 3 | L39: 4 | M39: {=SUM(E39:H39*I39:L39)/SUM(E39:H39)} -> 2.46875 | N39: =AVERAGE(M39:M41) -> 3.1042032 | O39: =_xlfn.STDEV.P(M39:M41) -> 0.48134675 | P39: =0-AVERAGE(E39:E43) -> -5.3333333 | Q39: =0-AVERAGE(F39:F43) -> -13.333333 | R39: =0-AVERAGE(G39:G43) -> -9.6666667 | S39: =IF(ISNUMBER(0-AVERAGE(H39:H43)),0-AVERAGE(H39:H43),"") -> -5 | T39: =AVERAGE(I39:I43) -> 1 | U39: =AVERAGE(J39:J43) -> 3 | V39: =AVERAGE(K39:K43) -> 3.6666667 | W39: =IF(ISNUMBER(AVERAGE(L39:L43)), AVERAGE(L39:L43), "") -> 4.3333333 | X39: =IF(ISNUMBER(_xlfn.STDEV.P(I39:I43)),_xlfn.STDEV.P(I39:I43),"") -> 0 | Y39: =IF(ISNUMBER(_xlfn.STDEV.P(J39:J43)),_xlfn.STDEV.P(J39:J43),"") -> 0.81649658 | Z39: =IF(ISNUMBER(_xlfn.STDEV.P(K39:K43)),_xlfn.STDEV.P(K39:K43),"") -> 0.47140452 | AA39: =IF(ISNUMBER(_xlfn.STDEV.P(L39:L43)),_xlfn.STDEV.P(L39:L43),"") -> 0.47140452 | AC39: =AVERAGEA(I39:I42) -> 1
A40: =B40&"-"&C40 -> Ja-1 | B40: Ja | C40: 1 | D40: 2 | E40: 5 | F40: 15 | G40: 12 | H40: 6 | I40: 1 | J40: 3 | K40: 4 | L40: 4 | M40: {=SUM(E40:H40*I40:L40)/SUM(E40:H40)} -> 3.2105263 | AC40: 0
A41: =B41&"-"&C41 -> Ja-1 | B41: Ja | C41: 1 | D41: 3 | E41: 5 | F41: 15 | G41: 6 | H41: 4 | I41: 1 | J41: 4 | K41: 4 | L41: 5 | M41: {=SUM(E41:H41*I41:L41)/SUM(E41:H41)} -> 3.6333333 | AC41: 0
A42: =B42&"-"&C42 -> Ja-1 | B42: Ja | C42: 1 | D42: 4 | M42: {=SUM(E42:H42*I42:L42)/SUM(E42:H42)} -> #DIV/0! | AC42: 0
A43: =B43&"-"&C43 -> Ja-1 | B43: Ja | C43: 1 | D43: 5 | M43: {=SUM(E43:H43*I43:L43)/SUM(E43:H43)} -> #DIV/0! | AC43: 0
A44: =B44&"-"&C44 -> Jn-0 | B44: Jn | C44: 0 | D44: 1 | E44: 5 | F44: 13 | G44: 9 | I44: 1 | J44: 3 | K44: 4 | M44: {=SUM(E44:H44*I44:L44)/SUM(E44:H44)} -> 2.962963 | N44: =AVERAGE(M44:M46) -> 2.7416226 | O44: =_xlfn.STDEV.P(M44:M46) -> 0.22759866 | P44: =0-AVERAGE(E44:E48) -> -6 | Q44: =0-AVERAGE(F44:F48) -> -11.333333 | R44: =0-AVERAGE(G44:G48) -> -9 | S44: =IF(ISNUMBER(0-AVERAGE(H44:H48)),0-AVERAGE(H44:H48),NA()) -> -6 | T44: =AVERAGE(I44:I48) -> 1 | U44: =AVERAGE(J44:J48) -> 2.8333333 | V44: =AVERAGE(K44:K48) -> 3.5 | W44: =IF(ISNUMBER(AVERAGE(L44:L48)), AVERAGE(L44:L48), "") -> 3 | X44: =IF(ISNUMBER(_xlfn.STDEV.P(I44:I48)),_xlfn.STDEV.P(I44:I48),"") -> 0 | Y44: =IF(ISNUMBER(_xlfn.STDEV.P(J44:J48)),_xlfn.STDEV.P(J44:J48),"") -> 0.62360956 | Z44: =IF(ISNUMBER(_xlfn.STDEV.P(K44:K48)),_xlfn.STDEV.P(K44:K48),"") -> 0.40824829 | AA44: =IF(ISNUMBER(_xlfn.STDEV.P(L44:L48)),_xlfn.STDEV.P(L44:L48),"") -> 0 | AC44: =AVERAGEA(I44:I47) -> 1
A45: =B45&"-"&C45 -> Jn-0 | B45: Jn | C45: 0 | D45: 2 | E45: 8 | F45: 15 | G45: 7 | I45: 1 | J45: 3.5 | K45: 3.5 | M45: {=SUM(E45:H45*I45:L45)/SUM(E45:H45)} -> 2.8333333 | AC45: 0
A46: =B46&"-"&C46 -> Jn-0 | B46: Jn | C46: 0 | D46: 3 | E46: 5 | F46: 6 | G46: 11 | H46: 6 | I46: 1 | J46: 2 | K46: 3 | L46: 3 | M46: {=SUM(E46:H46*I46:L46)/SUM(E46:H46)} -> 2.4285714 | AC46: 0
A47: =B47&"-"&C47 -> Jn-0 | B47: Jn | C47: 0 | D47: 4 | M47: {=SUM(E47:H47*I47:L47)/SUM(E47:H47)} -> #DIV/0! | AC47: 0
A48: =B48&"-"&C48 -> Jn-0 | B48: Jn | C48: 0 | D48: 5 | M48: {=SUM(E48:H48*I48:L48)/SUM(E48:H48)} -> #DIV/0! | AC48: 0
A49: =B49&"-"&C49 -> Jn-1 | B49: Jn | C49: 1 | D49: 1 | E49: 7 | F49: 15 | G49: 8 | I49: 1 | J49: 2 | K49: 3 | M49: {=SUM(E49:H49*I49:L49)/SUM(E49:H49)} -> 2.0333333 | N49: =AVERAGE(M49:M51) -> 2.2521073 | O49: =_xlfn.STDEV.P(M49:M51) -> 0.30939308 | P49: =0-AVERAGE(E49:E53) -> -7 | Q49: =0-AVERAGE(F49:F53) -> -15.666667 | R49: =0-AVERAGE(G49:G53) -> -7 | S49: =IF(ISNUMBER(0-AVERAGE(H49:H53)),0-AVERAGE(H49:H53),NA()) -> #N/A | T49: =AVERAGE(I49:I53) -> 1 | U49: =AVERAGE(J49:J53) -> 2.3333333 | V49: =AVERAGE(K49:K53) -> 3.3333333 | W49: =IF(ISNUMBER(AVERAGE(L49:L53)), AVERAGE(L49:L53), "") | X49: =IF(ISNUMBER(_xlfn.STDEV.P(I49:I53)),_xlfn.STDEV.P(I49:I53),"") -> 0 | Y49: =IF(ISNUMBER(_xlfn.STDEV.P(J49:J53)),_xlfn.STDEV.P(J49:J53),"") -> 0.47140452 | Z49: =IF(ISNUMBER(_xlfn.STDEV.P(K49:K53)),_xlfn.STDEV.P(K49:K53),"") -> 0.47140452 | AA49: =IF(ISNUMBER(_xlfn.STDEV.P(L49:L53)),_xlfn.STDEV.P(L49:L53),"") | AC49: =AVERAGEA(I49:I52) -> 1
A50: =B50&"-"&C50 -> Jn-1 | B50: Jn | C50: 1 | D50: 2 | E50: 7 | F50: 15 | G50: 8 | I50: 1 | J50: 2 | K50: 3 | M50: {=SUM(E50:H50*I50:L50)/SUM(E50:H50)} -> 2.0333333 | AC50: 0
A51: =B51&"-"&C51 -> Jn-1 | B51: Jn | C51: 1 | D51: 3 | E51: 7 | F51: 17 | G51: 5 | I51: 1 | J51: 3 | K51: 4 | M51: {=SUM(E51:H51*I51:L51)/SUM(E51:H51)} -> 2.6896552 | AC51: 0
A52: =B52&"-"&C52 -> Jn-1 | B52: Jn | C52: 1 | D52: 4 | M52: {=SUM(E52:H52*I52:L52)/SUM(E52:H52)} -> #DIV/0! | AC52: 0
A53: =B53&"-"&C53 -> Jn-1 | B53: Jn | C53: 1 | D53: 5 | M53: {=SUM(E53:H53*I53:L53)/SUM(E53:H53)} -> #DIV/0! | AC53: 0
A54: =B54&"-"&C54 -> Ki-0 | B54: Ki | C54: 0 | D54: 1 | E54: 5 | F54: 12 | G54: 8 | H54: 3 | I54: 1 | J54: 3 | K54: 4 | L54: 2 | M54: {=SUM(E54:H54*I54:L54)/SUM(E54:H54)} -> 2.8214286 | N54: =AVERAGE(M54:M56) -> 2.6623153 | O54: =_xlfn.STDEV.P(M54:M56) -> 0.33215653 | P54: =0-AVERAGE(E54:E58) -> -5.6666667 | Q54: =0-AVERAGE(F54:F58) -> -14 | R54: =0-AVERAGE(G54:G58) -> -8.3333333 | S54: =IF(ISNUMBER(0-AVERAGE(H54:H58)),0-AVERAGE(H54:H58),"") -> -3 | T54: =AVERAGE(I54:I58) -> 1.3333333 | U54: =AVERAGE(J54:J58) -> 2.6666667 | V54: =AVERAGE(K54:K58) -> 3.6666667 | W54: =IF(ISNUMBER(AVERAGE(L54:L58)), AVERAGE(L54:L58), "") -> 2 | X54: =IF(ISNUMBER(_xlfn.STDEV.P(I54:I58)),_xlfn.STDEV.P(I54:I58),"") -> 0.47140452 | Y54: =IF(ISNUMBER(_xlfn.STDEV.P(J54:J58)),_xlfn.STDEV.P(J54:J58),"") -> 0.47140452 | Z54: =IF(ISNUMBER(_xlfn.STDEV.P(K54:K58)),_xlfn.STDEV.P(K54:K58),"") -> 0.47140452 | AA54: =IF(ISNUMBER(_xlfn.STDEV.P(L54:L58)),_xlfn.STDEV.P(L54:L58),"") -> 0 | AC54: =AVERAGEA(I54:I57) -> 1.3333333
A55: =B55&"-"&C55 -> Ki-0 | B55: Ki | C55: 0 | D55: 2 | E55: 6 | F55: 18 | G55: 5 | I55: 2 | J55: 3 | K55: 4 | M55: {=SUM(E55:H55*I55:L55)/SUM(E55:H55)} -> 2.9655172 | AC55: 0
A56: =B56&"-"&C56 -> Ki-0 | B56: Ki | C56: 0 | D56: 3 | E56: 6 | F56: 12 | G56: 12 | I56: 1 | J56: 2 | K56: 3 | M56: {=SUM(E56:H56*I56:L56)/SUM(E56:H56)} -> 2.2 | AC56: 0
A57: =B57&"-"&C57 -> Ki-0 | B57: Ki | C57: 0 | D57: 4 | M57: {=SUM(E57:H57*I57:L57)/SUM(E57:H57)} -> #DIV/0! | AC57: 0
A58: =B58&"-"&C58 -> Ki-0 | B58: Ki | C58: 0 | D58: 5 | M58: {=SUM(E58:H58*I58:L58)/SUM(E58:H58)} -> #DIV/0! | AC58: 0
A59: =B59&"-"&C59 -> Ki-1 | B59: Ki | C59: 1 | D59: 1 | E59: 6 | F59: 18 | G59: 6 | I59: 1 | J59: 3 | K59: 2 | M59: {=SUM(E59:H59*I59:L59)/SUM(E59:H59)} -> 2.4 | N59: =AVERAGE(M59:M62) -> 2.2312903 | O59: =_xlfn.STDEV.P(M59:M62) -> 0.35718681 | P59: =0-AVERAGE(E59:E63) -> -5.25 | Q59: =0-AVERAGE(F59:F63) -> -11.5 | R59: =0-AVERAGE(G59:G63) -> -9.75 | S59: =IF(ISNUMBER(0-AVERAGE(H59:H63)),0-AVERAGE(H59:H63),"") -> -5 | T59: =AVERAGE(I59:I63) -> 1 | U59: =AVERAGE(J59:J63) -> 2.25 | V59: =AVERAGE(K59:K63) -> 2.25 | W59: =IF(ISNUMBER(AVERAGE(L59:L63)), AVERAGE(L59:L63), "") -> 3.5 | X59: =IF(ISNUMBER(_xlfn.STDEV.P(I59:I63)),_xlfn.STDEV.P(I59:I63),"") -> 0 | Y59: =IF(ISNUMBER(_xlfn.STDEV.P(J59:J63)),_xlfn.STDEV.P(J59:J63),"") -> 0.8291562 | Z59: =IF(ISNUMBER(_xlfn.STDEV.P(K59:K63)),_xlfn.STDEV.P(K59:K63),"") -> 0.4330127 | AA59: =IF(ISNUMBER(_xlfn.STDEV.P(L59:L63)),_xlfn.STDEV.P(L59:L63),"") -> 0.5 | AC59: =AVERAGEA(I59:I62) -> 1
A60: =B60&"-"&C60 -> Ki-1 | B60: Ki | C60: 1 | D60: 2 | E60: 5 | F60: 7 | G60: 13 | H60: 5 | I60: 1 | J60: 2 | K60: 3 | L60: 4 | M60: {=SUM(E60:H60*I60:L60)/SUM(E60:H60)} -> 2.6 | AC60: 0
A61: =B61&"-"&C61 -> Ki-1 | B61: Ki | C61: 1 | D61: 3 | E61: 4 | F61: 11 | G61: 10 | I61: 1 | J61: 3 | K61: 2 | M61: {=SUM(E61:H61*I61:L61)/SUM(E61:H61)} -> 2.28 | AC61: 0
A62: =B62&"-"&C62 -> Ki-1 | B62: Ki | C62: 1 | D62: 4 | E62: 6 | F62: 10 | G62: 10 | H62: 5 | I62: 1 | J62: 1 | K62: 2 | L62: 3 | M62: {=SUM(E62:H62*I62:L62)/SUM(E62:H62)} -> 1.6451613 | AC62: 0
A63: =B63&"-"&C63 -> Ki-1 | B63: Ki | C63: 1 | D63: 5 | M63: {=SUM(E63:H63*I63:L63)/SUM(E63:H63)} -> #DIV/0! | AC63: 0
A64: =B64&"-"&C64 -> Ko-0 | B64: Ko | C64: 0 | D64: 1 | E64: 5 | F64: 20 | G64: 5 | H64: 5 | I64: 2 | J64: 3.5 | K64: 4 | L64: 5 | M64: {=SUM(E64:H64*I64:L64)/SUM(E64:H64)} -> 3.5714286 | N64: =AVERAGE(M64:M66) -> 3.6133254 | O64: =_xlfn.STDEV.P(M64:M66) -> 0.27207688 | P64: =0-AVERAGE(E64:E68) -> -4.3333333 | Q64: =0-AVERAGE(F64:F68) -> -14.666667 | R64: =0-AVERAGE(G64:G68) -> -6.6666667 | S64: =IF(ISNUMBER(0-AVERAGE(H64:H68)),0-AVERAGE(H64:H68),NA()) -> -6.6666667 | T64: =AVERAGE(I64:I68) -> 1.6666667 | U64: =AVERAGE(J64:J68) -> 3.5 | V64: =AVERAGE(K64:K68) -> 4 | W64: =IF(ISNUMBER(AVERAGE(L64:L68)), AVERAGE(L64:L68), "") -> 4.6666667 | X64: =IF(ISNUMBER(_xlfn.STDEV.P(I64:I68)),_xlfn.STDEV.P(I64:I68),"") -> 0.47140452 | Y64: =IF(ISNUMBER(_xlfn.STDEV.P(J64:J68)),_xlfn.STDEV.P(J64:J68),"") -> 0.40824829 | Z64: =IF(ISNUMBER(_xlfn.STDEV.P(K64:K68)),_xlfn.STDEV.P(K64:K68),"") -> 0 | AA64: =IF(ISNUMBER(_xlfn.STDEV.P(L64:L68)),_xlfn.STDEV.P(L64:L68),"") -> 0.47140452 | AC64: =AVERAGEA(I64:I67) -> 1.6666667
A65: =B65&"-"&C65 -> Ko-0 | B65: Ko | C65: 0 | D65: 2 | E65: 5 | F65: 8 | G65: 10 | H65: 10 | I65: 1 | J65: 3 | K65: 4 | L65: 4 | M65: {=SUM(E65:H65*I65:L65)/SUM(E65:H65)} -> 3.3030303 | AC65: 0
A66: =B66&"-"&C66 -> Ko-0 | B66: Ko | C66: 0 | D66: 3 | E66: 3 | F66: 16 | G66: 5 | H66: 5 | I66: 2 | J66: 4 | K66: 4 | L66: 5 | M66: {=SUM(E66:H66*I66:L66)/SUM(E66:H66)} -> 3.9655172 | AC66: 0
A67: =B67&"-"&C67 -> Ko-0 | B67: Ko | C67: 0 | D67: 4 | M67: {=SUM(E67:H67*I67:L67)/SUM(E67:H67)} -> #DIV/0! | AC67: 0
A68: =B68&"-"&C68 -> Ko-0 | B68: Ko | C68: 0 | D68: 5 | M68: {=SUM(E68:H68*I68:L68)/SUM(E68:H68)} -> #DIV/0! | AC68: 0
A69: =B69&"-"&C69 -> Ko-1 | B69: Ko | C69: 1 | D69: 1 | E69: 5 | F69: 12 | G69: 10 | H69: 5 | I69: 2 | J69: 3 | K69: 4 | L69: 3 | M69: {=SUM(E69:H69*I69:L69)/SUM(E69:H69)} -> 3.15625 | N69: =AVERAGE(M69:M71) -> 3.1790675 | O69: =_xlfn.STDEV.P(M69:M71) -> 0.025263555 | P69: =0-AVERAGE(E69:E73) -> -5 | Q69: =0-AVERAGE(F69:F73) -> -15.666667 | R69: =0-AVERAGE(G69:G73) -> -7.3333333 | S69: =IF(ISNUMBER(0-AVERAGE(H69:H73)),0-AVERAGE(H69:H73),NA()) -> -5 | T69: =AVERAGE(I69:I73) -> 1.6666667 | U69: =AVERAGE(J69:J73) -> 3.1666667 | V69: =AVERAGE(K69:K73) -> 3.8333333 | W69: =IF(ISNUMBER(AVERAGE(L69:L73)), AVERAGE(L69:L73), "") -> 4 | X69: =IF(ISNUMBER(_xlfn.STDEV.P(I69:I73)),_xlfn.STDEV.P(I69:I73),"") -> 0.47140452 | Y69: =IF(ISNUMBER(_xlfn.STDEV.P(J69:J73)),_xlfn.STDEV.P(J69:J73),"") -> 0.23570226 | Z69: =IF(ISNUMBER(_xlfn.STDEV.P(K69:K73)),_xlfn.STDEV.P(K69:K73),"") -> 0.23570226 | AA69: =IF(ISNUMBER(_xlfn.STDEV.P(L69:L73)),_xlfn.STDEV.P(L69:L73),"") -> 1 | AC69: =AVERAGEA(I69:I72) -> 1.6666667
A70: =B70&"-"&C70 -> Ko-1 | B70: Ko | C70: 1 | D70: 2 | E70: 5 | F70: 15 | G70: 7 | I70: 1 | J70: 3.5 | K70: 4 | M70: {=SUM(E70:H70*I70:L70)/SUM(E70:H70)} -> 3.1666667 | AC70: 0
A71: =B71&"-"&C71 -> Ko-1 | B71: Ko | C71: 1 | D71: 3 | E71: 5 | F71: 20 | G71: 5 | H71: 5 | I71: 2 | J71: 3 | K71: 3.5 | L71: 5 | M71: {=SUM(E71:H71*I71:L71)/SUM(E71:H71)} -> 3.2142857 | AC71: 0
A72: =B72&"-"&C72 -> Ko-1 | B72: Ko | C72: 1 | D72: 4 | M72: {=SUM(E72:H72*I72:L72)/SUM(E72:H72)} -> #DIV/0! | AC72: 0
A73: =B73&"-"&C73 -> Ko-1 | B73: Ko | C73: 1 | D73: 5 | M73: {=SUM(E73:H73*I73:L73)/SUM(E73:H73)} -> #DIV/0! | AC73: 0
A74: =B74&"-"&C74 -> KP-0 | B74: KP | C74: 0 | D74: 1 | E74: 5 | F74: 10 | G74: 12 | I74: 2 | J74: 3 | K74: 4 | M74: {=SUM(E74:H74*I74:L74)/SUM(E74:H74)} -> 3.2592593 | N74: =AVERAGE(M74:M76) -> 3.2477445 | O74: =_xlfn.STDEV.P(M74:M76) -> 0.041372237 | P74: =0-AVERAGE(E74:E78) -> -5.3333333 | Q74: =0-AVERAGE(F74:F78) -> -9.6666667 | R74: =0-AVERAGE(G74:G78) -> -9 | S74: =IF(ISNUMBER(0-AVERAGE(H74:H78)),0-AVERAGE(H74:H78),"") -> -5 | T74: =AVERAGE(I74:I78) -> 1.3333333 | U74: =AVERAGE(J74:J78) -> 3.3333333 | V74: =AVERAGE(K74:K78) -> 4 | W74: =IF(ISNUMBER(AVERAGE(L74:L78)), AVERAGE(L74:L78), "") -> 4 | X74: =IF(ISNUMBER(_xlfn.STDEV.P(I74:I78)),_xlfn.STDEV.P(I74:I78),"") -> 0.47140452 | Y74: =IF(ISNUMBER(_xlfn.STDEV.P(J74:J78)),_xlfn.STDEV.P(J74:J78),"") -> 0.47140452 | Z74: =IF(ISNUMBER(_xlfn.STDEV.P(K74:K78)),_xlfn.STDEV.P(K74:K78),"") -> 0 | AA74: =IF(ISNUMBER(_xlfn.STDEV.P(L74:L78)),_xlfn.STDEV.P(L74:L78),"") -> 0 | AC74: =AVERAGEA(I74:I77) -> 1.3333333
A75: =B75&"-"&C75 -> KP-0 | B75: KP | C75: 0 | D75: 2 | E75: 7 | F75: 14 | G75: 5 | I75: 1 | J75: 4 | K75: 4 | M75: {=SUM(E75:H75*I75:L75)/SUM(E75:H75)} -> 3.1923077 | AC75: 0
A76: =B76&"-"&C76 -> KP-0 | B76: KP | C76: 0 | D76: 3 | E76: 4 | F76: 5 | G76: 10 | H76: 5 | I76: 1 | J76: 3 | K76: 4 | L76: 4 | M76: {=SUM(E76:H76*I76:L76)/SUM(E76:H76)} -> 3.2916667 | AC76: 0
A77: =B77&"-"&C77 -> KP-0 | B77: KP | C77: 0 | D77: 4 | M77: {=SUM(E77:H77*I77:L77)/SUM(E77:H77)} -> #DIV/0! | AC77: 0
A78: =B78&"-"&C78 -> KP-0 | B78: KP | C78: 0 | D78: 5 | M78: {=SUM(E78:H78*I78:L78)/SUM(E78:H78)} -> #DIV/0! | AC78: 0
A79: =B79&"-"&C79 -> KP-1 | B79: KP | C79: 1 | D79: 1 | E79: 5 | F79: 12 | G79: 8 | I79: 1 | J79: 4 | K79: 4 | M79: {=SUM(E79:H79*I79:L79)/SUM(E79:H79)} -> 3.4 | N79: =AVERAGE(M79:M81) -> 3.1232601 | O79: =_xlfn.STDEV.P(M79:M81) -> 0.2096168 | P79: =0-AVERAGE(E79:E83) -> -6 | Q79: =0-AVERAGE(F79:F83) -> -11.333333 | R79: =0-AVERAGE(G79:G83) -> -6.6666667 | S79: =IF(ISNUMBER(0-AVERAGE(H79:H83)),0-AVERAGE(H79:H83),"") -> -7 | T79: =AVERAGE(I79:I83) -> 1.3333333 | U79: =AVERAGE(J79:J83) -> 3.3333333 | V79: =AVERAGE(K79:K83) -> 4 | W79: =IF(ISNUMBER(AVERAGE(L79:L83)), AVERAGE(L79:L83), "") -> 4 | X79: =IF(ISNUMBER(_xlfn.STDEV.P(I79:I83)),_xlfn.STDEV.P(I79:I83),"") -> 0.47140452 | Y79: =IF(ISNUMBER(_xlfn.STDEV.P(J79:J83)),_xlfn.STDEV.P(J79:J83),"") -> 0.47140452 | Z79: =IF(ISNUMBER(_xlfn.STDEV.P(K79:K83)),_xlfn.STDEV.P(K79:K83),"") -> 0 | AA79: =IF(ISNUMBER(_xlfn.STDEV.P(L79:L83)),_xlfn.STDEV.P(L79:L83),"") -> 0 | AC79: =AVERAGEA(I79:I82) -> 1.3333333
A80: =B80&"-"&C80 -> KP-1 | B80: KP | C80: 1 | D80: 2 | E80: 6 | F80: 12 | G80: 8 | I80: 2 | J80: 3 | K80: 4 | M80: {=SUM(E80:H80*I80:L80)/SUM(E80:H80)} -> 3.0769231 | AC80: 0
A81: =B81&"-"&C81 -> KP-1 | B81: KP | C81: 1 | D81: 3 | E81: 7 | F81: 10 | G81: 4 | H81: 7 | I81: 1 | J81: 3 | K81: 4 | L81: 4 | M81: {=SUM(E81:H81*I81:L81)/SUM(E81:H81)} -> 2.8928571 | AC81: 0
A82: =B82&"-"&C82 -> KP-1 | B82: KP | C82: 1 | D82: 4 | M82: {=SUM(E82:H82*I82:L82)/SUM(E82:H82)} -> #DIV/0! | AC82: 0
A83: =B83&"-"&C83 -> KP-1 | B83: KP | C83: 1 | D83: 5 | M83: {=SUM(E83:H83*I83:L83)/SUM(E83:H83)} -> #DIV/0! | AC83: 0
A84: =B84&"-"&C84 -> La-0 | B84: La | C84: 0 | D84: 1 | E84: 5 | F84: 15 | G84: 8 | I84: 2 | J84: 3 | K84: 3 | M84: {=SUM(E84:H84*I84:L84)/SUM(E84:H84)} -> 2.8214286 | N84: =AVERAGE(M84:M86) -> 3.0146697 | O84: =_xlfn.STDEV.P(M84:M86) -> 0.65831581 | P84: =0-AVERAGE(E84:E88) -> -4.3333333 | Q84: =0-AVERAGE(F84:F88) -> -15 | R84: =0-AVERAGE(G84:G88) -> -8 | S84: =IF(ISNUMBER(0-AVERAGE(H84:H88)),0-AVERAGE(H84:H88),NA()) -> -7 | T84: =AVERAGE(I84:I88) -> 2 | U84: =AVERAGE(J84:J88) -> 3 | V84: =AVERAGE(K84:K88) -> 3 | W84: =IF(ISNUMBER(AVERAGE(L84:L88)), AVERAGE(L84:L88), "") -> 5 | X84: =IF(ISNUMBER(_xlfn.STDEV.P(I84:I88)),_xlfn.STDEV.P(I84:I88),"") -> 0 | Y84: =IF(ISNUMBER(_xlfn.STDEV.P(J84:J88)),_xlfn.STDEV.P(J84:J88),"") -> 0.81649658 | Z84: =IF(ISNUMBER(_xlfn.STDEV.P(K84:K88)),_xlfn.STDEV.P(K84:K88),"") -> 0 | AA84: =IF(ISNUMBER(_xlfn.STDEV.P(L84:L88)),_xlfn.STDEV.P(L84:L88),"") -> 0 | AC84: =AVERAGEA(I84:I87) -> 2
A85: =B85&"-"&C85 -> La-0 | B85: La | C85: 0 | D85: 2 | E85: 6 | F85: 15 | G85: 10 | I85: 2 | J85: 2 | K85: 3 | M85: {=SUM(E85:H85*I85:L85)/SUM(E85:H85)} -> 2.3225806 | AC85: 0
A86: =B86&"-"&C86 -> La-0 | B86: La | C86: 0 | D86: 3 | E86: 2 | F86: 15 | G86: 6 | H86: 7 | I86: 2 | J86: 4 | K86: 3 | L86: 5 | M86: {=SUM(E86:H86*I86:L86)/SUM(E86:H86)} -> 3.9 | AC86: 0
A87: =B87&"-"&C87 -> La-0 | B87: La | C87: 0 | D87: 4 | M87: {=SUM(E87:H87*I87:L87)/SUM(E87:H87)} -> #DIV/0! | AC87: 0
A88: =B88&"-"&C88 -> La-0 | B88: La | C88: 0 | D88: 5 | M88: {=SUM(E88:H88*I88:L88)/SUM(E88:H88)} -> #DIV/0! | AC88: 0
A89: =B89&"-"&C89 -> La-1 | B89: La | C89: 1 | D89: 1 | E89: 3 | F89: 6 | G89: 11 | H89: 5 | I89: 2 | J89: 2 | K89: 4 | L89: 3 | M89: {=SUM(E89:H89*I89:L89)/SUM(E89:H89)} -> 3.08 | N89: =AVERAGE(M89:M91) -> 2.36 | O89: =_xlfn.STDEV.P(M89:M91) -> 0.52699006 | P89: =0-AVERAGE(E89:E93) -> -4.3333333 | Q89: =0-AVERAGE(F89:F93) -> -9.3333333 | R89: =0-AVERAGE(G89:G93) -> -8.6666667 | S89: =IF(ISNUMBER(0-AVERAGE(H89:H93)),0-AVERAGE(H89:H93),NA()) -> -6 | T89: =AVERAGE(I89:I93) -> 1.3333333 | U89: =AVERAGE(J89:J93) -> 2.3333333 | V89: =AVERAGE(K89:K93) -> 2.6666667 | W89: =IF(ISNUMBER(AVERAGE(L89:L93)), AVERAGE(L89:L93), "") -> 2.3333333 | X89: =IF(ISNUMBER(_xlfn.STDEV.P(I89:I93)),_xlfn.STDEV.P(I89:I93),"") -> 0.47140452 | Y89: =IF(ISNUMBER(_xlfn.STDEV.P(J89:J93)),_xlfn.STDEV.P(J89:J93),"") -> 0.47140452 | Z89: =IF(ISNUMBER(_xlfn.STDEV.P(K89:K93)),_xlfn.STDEV.P(K89:K93),"") -> 0.94280904 | AA89: =IF(ISNUMBER(_xlfn.STDEV.P(L89:L93)),_xlfn.STDEV.P(L89:L93),"") -> 0.47140452 | AC89: =AVERAGEA(I89:I92) -> 1.3333333
A90: =B90&"-"&C90 -> La-1 | B90: La | C90: 1 | D90: 2 | E90: 5 | F90: 12 | G90: 5 | H90: 8 | I90: 1 | J90: 2 | K90: 2 | L90: 2 | M90: {=SUM(E90:H90*I90:L90)/SUM(E90:H90)} -> 1.8333333 | AC90: 0
A91: =B91&"-"&C91 -> La-1 | B91: La | C91: 1 | D91: 3 | E91: 5 | F91: 10 | G91: 10 | H91: 5 | I91: 1 | J91: 3 | K91: 2 | L91: 2 | M91: {=SUM(E91:H91*I91:L91)/SUM(E91:H91)} -> 2.1666667 | AC91: 0
A92: =B92&"-"&C92 -> La-1 | B92: La | C92: 1 | D92: 4 | M92: {=SUM(E92:H92*I92:L92)/SUM(E92:H92)} -> #DIV/0! | AC92: 0
A93: =B93&"-"&C93 -> La-1 | B93: La | C93: 1 | D93: 5 | M93: {=SUM(E93:H93*I93:L93)/SUM(E93:H93)} -> #DIV/0! | AC93: 0
A94: =B94&"-"&C94 -> Li-0 | B94: Li | C94: 0 | D94: 1 | E94: 2 | F94: 9 | G94: 10 | I94: 1 | J94: 3 | K94: 5 | M94: {=SUM(E94:H94*I94:L94)/SUM(E94:H94)} -> 3.7619048 | N94: =AVERAGE(M94:M98) -> 3.752967 | O94: =_xlfn.STDEV.P(M94:M98) -> 0.37030729 | P94: =0-AVERAGE(E94:E98) -> -4.2 | Q94: =0-AVERAGE(F94:F98) -> -13.6 | R94: =0-AVERAGE(G94:G98) -> -6.6 | S94: =IF(ISNUMBER(0-AVERAGE(H94:H98)),0-AVERAGE(H94:H98),NA()) -> -5 | T94: =AVERAGE(I94:I98) -> 1 | U94: =AVERAGE(J94:J98) -> 3.8 | V94: =AVERAGE(K94:K98) -> 4.8 | W94: =IF(ISNUMBER(AVERAGE(L94:L98)), AVERAGE(L94:L98), "") -> 5 | X94: =IF(ISNUMBER(_xlfn.STDEV.P(I94:I98)),_xlfn.STDEV.P(I94:I98),"") -> 0 | Y94: =IF(ISNUMBER(_xlfn.STDEV.P(J94:J98)),_xlfn.STDEV.P(J94:J98),"") -> 0.74833148 | Z94: =IF(ISNUMBER(_xlfn.STDEV.P(K94:K98)),_xlfn.STDEV.P(K94:K98),"") -> 0.4 | AA94: =IF(ISNUMBER(_xlfn.STDEV.P(L94:L98)),_xlfn.STDEV.P(L94:L98),"") -> 0 | AC94: =AVERAGEA(I94:I97) -> 1
A95: =B95&"-"&C95 -> Li-0 | B95: Li | C95: 0 | D95: 2 | E95: 4 | F95: 20 | G95: 4 | I95: 1 | J95: 5 | K95: 5 | M95: {=SUM(E95:H95*I95:L95)/SUM(E95:H95)} -> 4.4285714 | AC95: 0
A96: =B96&"-"&C96 -> Li-0 | B96: Li | C96: 0 | D96: 3 | E96: 5 | F96: 8 | G96: 8 | H96: 5 | I96: 1 | J96: 3 | K96: 4 | L96: 5 | M96: {=SUM(E96:H96*I96:L96)/SUM(E96:H96)} -> 3.3076923 | AC96: 0
A97: =B97&"-"&C97 -> Li-0 | B97: Li | C97: 0 | D97: 4 | E97: 5 | F97: 15 | G97: 5 | I97: 1 | J97: 4 | K97: 5 | M97: {=SUM(E97:H97*I97:L97)/SUM(E97:H97)} -> 3.6 | AC97: 0
A98: =B98&"-"&C98 -> Li-0 | B98: Li | C98: 0 | D98: 5 | E98: 5 | F98: 16 | G98: 6 | I98: 1 | J98: 4 | K98: 5 | M98: {=SUM(E98:H98*I98:L98)/SUM(E98:H98)} -> 3.6666667 | AC98: 0
A99: =B99&"-"&C99 -> Li-1 | B99: Li | C99: 1 | D99: 1 | E99: 5 | F99: 20 | G99: 5 | I99: 1 | J99: 4 | K99: 5 | M99: {=SUM(E99:H99*I99:L99)/SUM(E99:H99)} -> 3.6666667 | N99: =AVERAGE(M99:M103) -> 3.5216092 | O99: =_xlfn.STDEV.P(M99:M103) -> 0.34289451 | P99: =0-AVERAGE(E99:E103) -> -5 | Q99: =0-AVERAGE(F99:F103) -> -13.2 | R99: =0-AVERAGE(G99:G103) -> -10 | S99: =IF(ISNUMBER(0-AVERAGE(H99:H103)),0-AVERAGE(H99:H103),NA()) -> -5 | T99: =AVERAGE(I99:I103) -> 1 | U99: =AVERAGE(J99:J103) -> 3.4 | V99: =AVERAGE(K99:K103) -> 4.8 | W99: =IF(ISNUMBER(AVERAGE(L99:L103)), AVERAGE(L99:L103), "") -> 4 | X99: =IF(ISNUMBER(_xlfn.STDEV.P(I99:I103)),_xlfn.STDEV.P(I99:I103),"") -> 0 | Y99: =IF(ISNUMBER(_xlfn.STDEV.P(J99:J103)),_xlfn.STDEV.P(J99:J103),"") -> 0.48989795 | Z99: =IF(ISNUMBER(_xlfn.STDEV.P(K99:K103)),_xlfn.STDEV.P(K99:K103),"") -> 0.4 | AA99: =IF(ISNUMBER(_xlfn.STDEV.P(L99:L103)),_xlfn.STDEV.P(L99:L103),"") -> 0 | AC99: =AVERAGEA(I99:I102) -> 1
A100: =B100&"-"&C100 -> Li-1 | B100: Li | C100: 1 | D100: 2 | E100: 5 | F100: 7 | G100: 18 | I100: 1 | J100: 3 | K100: 5 | M100: {=SUM(E100:H100*I100:L100)/SUM(E100:H100)} -> 3.8666667 | AC100: 0
A101: =B101&"-"&C101 -> Li-1 | B101: Li | C101: 1 | D101: 3 | E101: 5 | F101: 15 | G101: 10 | I101: 1 | J101: 4 | K101: 5 | M101: {=SUM(E101:H101*I101:L101)/SUM(E101:H101)} -> 3.8333333 | AC101: 0
...

Sheet WormsCanopeoKhPlantChloro
A3: Site | B3: Tila | C3: Treat | D3: Rep | E3: Earthworms per spade | F3: Average | G3: Std | H3: Canopeo | I3: Average | J3: Std | K3: K(h) (mm/h) | L3: Average | M3: Sd | N3: Plant height (cm) | O3: Ave | P3: Sd | Q3: Chlorophyll | R3: Ave | S3: Sd | T3: SPAD | U3: Ave | V3: Sd | Y3: Lohko | Z3: Rep | AA3: atLeaf | AB3: Tot Chlorophyl | AC3: SPAD
A4: =B4&"-"&C4 -> AE-0 | B4: AE | C4: 0 | D4: 1 | E4: 0 | F4: =AVERAGE($E4:$E8) -> 0 | G4: =_xlfn.STDEV.P($E4:$E8) -> 0 | H4: 78.06 | I4: 79.826667 | J4: 3.619064 | K4: 1.057 | L4: 0.597 | M4: 0.46 | N4: 52 | O4: 47.4 | P4: 4.363485 | Q4: 0.0375046 | R4: 0.047527 | S4: 0.008448 | T4: 39.796 | U4: 46.4686 | V4: 5.41435 | X4: =EXACT(Y4,A4) -> FALSE | Y4: La-0 | Z4: 1 | AA4: 40.2 | AB4: =8.68*10^-6*AA4^2+5.15*10^-4*AA4-1.05*10^-2 -> 0.024230227 | AC4: =0.99*AA4-10.1 -> 29.698
A5: =B5&"-"&C5 -> AE-0 | B5: AE | C5: 0 | D5: 2 | E5: 0 | H5: 76.55 | K5: 0.137 | N5: 40 | Q5: 0.0437884 | T5: 44.152 | X5: =EXACT(Y5,A5) -> FALSE | Y5: La-0 | Z5: 2 | AA5: 41.5 | AB5: =8.68*10^-6*AA5^2+5.15*10^-4*AA5-1.05*10^-2 -> 0.02582163 | AC5: =0.99*AA5-10.1 -> 30.985
A6: =B6&"-"&C6 -> AE-0 | B6: AE | C6: 0 | D6: 3 | E6: 0 | H6: 84.87 | N6: 50 | Q6: 0.0629695 | T6: 56.23 | X6: =EXACT(Y6,A6) -> FALSE | Y6: La-0 | Z6: 3 | AA6: 40.9 | AB6: =8.68*10^-6*AA6^2+5.15*10^-4*AA6-1.05*10^-2 -> 0.025083491 | AC6: =0.99*AA6-10.1 -> 30.391
A7: =B7&"-"&C7 -> AE-0 | B7: AE | C7: 0 | D7: 4 | N7: 50 | Q7: 0.0455605 | T7: 45.34 | X7: =EXACT(Y7,A7) -> FALSE | Y7: La-0 | Z7: 4 | AA7: 45.8 | AB7: =8.68*10^-6*AA7^2+5.15*10^-4*AA7-1.05*10^-2 -> 0.031294515 | AC7: =0.99*AA7-10.1 -> 35.242
A8: =B8&"-"&C8 -> AE-0 | B8: AE | C8: 0 | D8: 5 | N8: 45 | Q8: 0.0478108 | T8: 46.825 | X8: =EXACT(Y8,A8) -> FALSE | Y8: La-0 | Z8: 5 | AA8: 37.4 | AB8: =8.68*10^-6*AA8^2+5.15*10^-4*AA8-1.05*10^-2 -> 0.020902237 | AC8: =0.99*AA8-10.1 -> 26.926
A9: =B9&"-"&C9 -> AE-1 | B9: AE | C9: 1 | D9: 1 | E9: 2 | F9: =AVERAGE($E9:$E13) -> 2.3333333 | G9: =_xlfn.STDEV.P($E9:$E13) -> 0.47140452 | H9: 83.94 | I9: 78.73 | J9: 3.68544 | K9: 0.939 | L9: 0.696 | M9: 0.243 | N9: 50 | O9: 47 | P9: 2.44949 | Q9: 0.0507172 | R9: 0.056538 | S9: 0.00487 | T9: 48.706 | U9: 52.3096 | V9: 2.959156 | X9: =EXACT(Y9,A9) -> FALSE | Y9: La-1 | Z9: 1 | AA9: 41.8 | AB9: =8.68*10^-6*AA9^2+5.15*10^-4*AA9-1.05*10^-2 -> 0.026193043 | AC9: =0.99*AA9-10.1 -> 31.282
A10: =B10&"-"&C10 -> AE-1 | B10: AE | C10: 1 | D10: 2 | E10: 2 | H10: 76 | K10: 0.453 | N10: 45 | Q10: 0.0653359 | T10: 57.616 | X10: =EXACT(Y10,A10) -> FALSE | Y10: La-1 | Z10: 2 | AA10: 33.5 | AB10: =8.68*10^-6*AA10^2+5.15*10^-4*AA10-1.05*10^-2 -> 0.01649363 | AC10: =0.99*AA10-10.1 -> 23.065
A11: =B11&"-"&C11 -> AE-1 | B11: AE | C11: 1 | D11: 3 | E11: 3 | H11: 76.25 | N11: 45 | Q11: 0.0563959 | T11: 52.27 | X11: =EXACT(Y11,A11) -> FALSE | Y11: La-1 | Z11: 3 | AA11: 41.1 | AB11: =8.68*10^-6*AA11^2+5.15*10^-4*AA11-1.05*10^-2 -> 0.025328843 | AC11: =0.99*AA11-10.1 -> 30.589
A12: =B12&"-"&C12 -> AE-1 | B12: AE | C12: 1 | D12: 4 | N12: 45 | Q12: 0.0538443 | T12: 50.686 | X12: =EXACT(Y12,A12) -> FALSE | Y12: La-1 | Z12: 4 | AA12: 52.9 | AB12: =8.68*10^-6*AA12^2+5.15*10^-4*AA12-1.05*10^-2 -> 0.041033699 | AC12: =0.99*AA12-10.1 -> 42.271
A13: =B13&"-"&C13 -> AE-1 | B13: AE | C13: 1 | D13: 5 | N13: 50 | Q13: 0.0563959 | T13: 52.27 | X13: =EXACT(Y13,A13) -> FALSE | Y13: La-1 | Z13: 5 | AA13: 41.6 | AB13: =8.68*10^-6*AA13^2+5.15*10^-4*AA13-1.05*10^-2 -> 0.025945261 | AC13: =0.99*AA13-10.1 -> 31.084
A14: =B14&"-"&C14 -> Ai-0 | B14: Ai | C14: 0 | D14: 1 | E14: 0 | F14: =AVERAGE($E14:$E18) -> 0 | G14: =_xlfn.STDEV.P($E14:$E18) -> 0 | H14: 43.56 | I14: 45.186667 | J14: 2.371516 | K14: 13.465 | L14: 16.677 | M14: 4.794222 | N14: 40 | O14: 42 | P14: 2.44949 | Q14: 0.0491797 | R14: 0.0482 | S14: 0.005476 | T14: 47.716 | U14: 47.0032 | V14: 3.629076 | X14: =EXACT(Y14,A14) -> FALSE | Y14: Pi-0 | Z14: 1
A15: =B15&"-"&C15 -> Ai-0 | B15: Ai | C15: 0 | D15: 2 | E15: 0 | H15: 48.54 | K15: 19.921 | N15: 40 | Q15: 0.0540024 | T15: 50.785 | X15: =EXACT(Y15,A15) -> FALSE | Y15: Pi-0 | Z15: 2
A16: =B16&"-"&C16 -> Ai-0 | B16: Ai | C16: 0 | D16: 3 | E16: 0 | H16: 43.46 | K16: 11.142 | N16: 40 | Q16: 0.0461567 | T16: 45.736 | X16: =EXACT(Y16,A16) -> FALSE | Y16: Pi-0 | Z16: 3
A17: =B17&"-"&C17 -> Ai-0 | B17: Ai | C17: 0 | D17: 4 | E17: 0 | K17: 14.514 | N17: 45 | Q17: 0.0528988 | T17: 50.092 | X17: =EXACT(Y17,A17) -> FALSE | Y17: Pi-0 | Z17: 4
A18: =B18&"-"&C18 -> Ai-0 | B18: Ai | C18: 0 | D18: 5 | E18: 0 | K18: 24.343 | N18: 45 | Q18: 0.0387626 | T18: 40.687 | X18: =EXACT(Y18,A18) -> FALSE | Y18: Pi-0 | Z18: 5
A19: =B19&"-"&C19 -> Ai-1 | B19: Ai | C19: 1 | D19: 1 | E19: 1 | F19: =AVERAGE($E19:$E23) -> 0.6 | G19: =_xlfn.STDEV.P($E19:$E23) -> 0.48989795 | H19: 89.7 | I19: 91.4 | J19: 1.7 | K19: 40.024 | L19: 25.0132 | M19: 11.00445 | N19: 100 | O19: 105 | P19: 5 | Q19: 0.0362607 | R19: 0.040536 | S19: 0.003301 | T19: 38.905 | U19: 41.8948 | V19: 2.282932 | X19: =EXACT(Y19,A19) -> FALSE | Y19: Pi-1 | Z19: 1
A20: =B20&"-"&C20 -> Ai-1 | B20: Ai | C20: 1 | D20: 2 | E20: 0 | H20: 93.1 | K20: 28.317 | N20: 110 | Q20: 0.0454119 | T20: 45.241 | X20: =EXACT(Y20,A20) -> FALSE | Y20: Pi-1 | Z20: 2
A21: =B21&"-"&C21 -> Ai-1 | B21: Ai | C21: 1 | D21: 3 | E21: 0 | K21: 7.577 | N21: 110 | Q21: 0.0389032 | T21: 40.786 | X21: =EXACT(Y21,A21) -> FALSE | Y21: Pi-1 | Z21: 3
A22: =B22&"-"&C22 -> Ai-1 | B22: Ai | C22: 1 | D22: 4 | E22: 1 | K22: 30.268 | N22: 100 | Q22: 0.0389032 | T22: 40.786 | X22: =EXACT(Y22,A22) -> FALSE | Y22: Pi-1 | Z22: 4
A23: =B23&"-"&C23 -> Ai-1 | B23: Ai | C23: 1 | D23: 5 | E23: 1 | K23: 18.88 | Q23: 0.0432032 | T23: 43.756 | X23: =EXACT(Y23,A23) -> FALSE | Y23: Pi-1 | Z23: 5
A24: =B24&"-"&C24 -> Ik-0 | B24: Ik | C24: 0 | D24: 1 | E24: 0 | F24: =AVERAGE($E24:$E28) -> 0 | G24: =_xlfn.STDEV.P($E24:$E28) -> 0 | H24: 83.23 | I24: 83.15 | J24: 0.165126 | K24: 18.509834 | L24: 28.01358 | M24: 20.65633 | N24: 115 | O24: 108.75 | P24: 10.82532 | Q24: 0.0417525 | R24: 0.042471 | S24: 0.006313 | T24: 42.766 | U24: 43.1422 | V24: 4.37459 | X24: =EXACT(Y24,A24) -> FALSE | Y24: Ni-1 | Z24: 1
A25: =B25&"-"&C25 -> Ik-0 | B25: Ik | C25: 0 | D25: 2 | E25: 0 | H25: 82.92 | K25: 63.374265 | N25: 115 | Q25: 0.0442291 | T25: 44.449 | X25: =EXACT(Y25,A25) -> FALSE | Y25: Ni-1 | Z25: 2
A26: =B26&"-"&C26 -> Ik-0 | B26: Ik | C26: 0 | D26: 3 | E26: 0 | H26: 83.3 | K26: 11.101017 | N26: 115 | Q26: 0.0316883 | T26: 35.539 | X26: =EXACT(Y26,A26) -> FALSE | Y26: Ni-1 | Z26: 3
A27: =B27&"-"&C27 -> Ik-0 | B27: Ik | C27: 0 | D27: 4 | K27: 19.069197 | N27: 90 | Q27: 0.051337 | T27: 49.102 | X27: =EXACT(Y27,A27) -> FALSE | Y27: Ni-1 | Z27: 4
A28: =B28&"-"&C28 -> Ik-0 | B28: Ik | C28: 0 | D28: 5 | Q28: 0.0433493 | T28: 43.855 | X28: =EXACT(Y28,A28) -> FALSE | Y28: Ni-1 | Z28: 5
A29: =B29&"-"&C29 -> Ik-1 | B29: Ik | C29: 1 | D29: 1 | E29: 0 | F29: =AVERAGE($E29:$E33) -> 0 | G29: =_xlfn.STDEV.P($E29:$E33) -> 0 | H29: 84.22 | I29: 88.003333 | J29: 2.791157 | K29: 33.511285 | L29: 38.74339 | M29: 5.232109 | N29: 95 | O29: 105 | P29: 7.071068 | Q29: 0.0386221 | R29: 0.034861 | S29: 0.005154 | T29: 40.588 | U29: 37.7962 | V29: 3.806238 | X29: =EXACT(Y29,A29) -> FALSE | Y29: Ni-0 | Z29: 1
A30: =B30&"-"&C30 -> Ik-1 | B30: Ik | C30: 1 | D30: 2 | E30: 0 | H30: 90.87 | K30: 43.975502 | N30: 110 | Q30: 0.0278206 | T30: 32.569 | X30: =EXACT(Y30,A30) -> FALSE | Y30: Ni-0 | Z30: 2
A31: =B31&"-"&C31 -> Ik-1 | B31: Ik | C31: 1 | D31: 3 | E31: 0 | H31: 88.92 | N31: 110 | Q31: 0.039044 | T31: 40.885 | X31: =EXACT(Y31,A31) -> FALSE | Y31: Ni-0 | Z31: 3
A32: =B32&"-"&C32 -> Ik-1 | B32: Ik | C32: 1 | D32: 4 | Q32: 0.0293489 | T32: 33.757 | X32: =EXACT(Y32,A32) -> FALSE | Y32: Ni-0 | Z32: 4
A33: =B33&"-"&C33 -> Ik-1 | B33: Ik | C33: 1 | D33: 5 | Q33: 0.0394675 | T33: 41.182 | X33: =EXACT(Y33,A33) -> FALSE | Y33: Ni-0 | Z33: 5
A34: =B34&"-"&C34 -> Ja-0 | B34: Ja | C34: 0 | D34: 1 | E34: 0 | F34: =AVERAGE($E34:$E38) -> 0 | G34: =_xlfn.STDEV.P($E34:$E38) -> 0 | H34: 67.05 | I34: 73.543333 | J34: 6.502929 | N34: 50 | O34: 53.75 | P34: 2.58602 | Q34: 0 | R34: 0 | S34: 0 | T34: 0 | U34: 0 | V34: 0 | X34: =EXACT(Y34,A34) -> FALSE | Y34: AE-0 | Z34: 1 | AA34: 50.4 | AB34: =8.68*10^-6*AA34^2+5.15*10^-4*AA34-1.05*10^-2 -> 0.037504589 | AC34: =0.99*AA34-10.1 -> 39.796
A35: =B35&"-"&C35 -> Ja-0 | B35: Ja | C35: 0 | D35: 2 | E35: 0 | H35: 82.43 | N35: 53 | Q35: 0 | T35: 0 | X35: =EXACT(Y35,A35) -> FALSE | Y35: AE-0 | Z35: 2 | AA35: 54.8 | AB35: =8.68*10^-6*AA35^2+5.15*10^-4*AA35-1.05*10^-2 -> 0.043788387 | AC35: =0.99*AA35-10.1 -> 44.152
A36: =B36&"-"&C36 -> Ja-0 | B36: Ja | C36: 0 | D36: 3 | E36: 0 | H36: 71.15 | N36: 55 | Q36: 0 | T36: 0 | X36: =EXACT(Y36,A36) -> FALSE | Y36: AE-0 | Z36: 3 | AA36: 67 | AB36: =8.68*10^-6*AA36^2+5.15*10^-4*AA36-1.05*10^-2 -> 0.06296952 | AC36: =0.99*AA36-10.1 -> 56.23
A37: =B37&"-"&C37 -> Ja-0 | B37: Ja | C37: 0 | D37: 4 | N37: 57 | Q37: 0 | T37: 0 | X37: =EXACT(Y37,A37) -> FALSE | Y37: AE-0 | Z37: 4 | AA37: 56 | AB37: =8.68*10^-6*AA37^2+5.15*10^-4*AA37-1.05*10^-2 -> 0.04556048 | AC37: =0.99*AA37-10.1 -> 45.34
A38: =B38&"-"&C38 -> Ja-0 | B38: Ja | C38: 0 | D38: 5 | Q38: 0 | T38: 0 | X38: =EXACT(Y38,A38) -> FALSE | Y38: AE-0 | Z38: 5 | AA38: 57.5 | AB38: =8.68*10^-6*AA38^2+5.15*10^-4*AA38-1.05*10^-2 -> 0.04781075 | AC38: =0.99*AA38-10.1 -> 46.825
A39: =B39&"-"&C39 -> Ja-1 | B39: Ja | C39: 1 | D39: 1 | E39: 0 | F39: =AVERAGE($E39:$E43) -> 0 | G39: =_xlfn.STDEV.P($E39:$E43) -> 0 | H39: 21.56 | I39: 22.45 | J39: 3.009994 | N39: 25 | O39: 26.4 | P39: 1.959592 | Q39: 0 | R39: 0 | S39: 0 | T39: 0 | U39: 0 | V39: 0 | X39: =EXACT(Y39,A39) -> FALSE | Y39: AE-1 | Z39: 1 | AA39: 59.4 | AB39: =8.68*10^-6*AA39^2+5.15*10^-4*AA39-1.05*10^-2 -> 0.050717165 | AC39: =0.99*AA39-10.1 -> 48.706
A40: =B40&"-"&C40 -> Ja-1 | B40: Ja | C40: 1 | D40: 2 | E40: 0 | H40: 19.29 | N40: 27 | Q40: 0 | T40: 0 | X40: =EXACT(Y40,A40) -> FALSE | Y40: AE-1 | Z40: 2 | AA40: 68.4 | AB40: =8.68*10^-6*AA40^2+5.15*10^-4*AA40-1.05*10^-2 -> 0.065335901 | AC40: =0.99*AA40-10.1 -> 57.616
A41: =B41&"-"&C41 -> Ja-1 | B41: Ja | C41: 1 | D41: 3 | E41: 0 | H41: 26.5 | N41: 25 | Q41: 0 | T41: 0 | X41: =EXACT(Y41,A41) -> FALSE | Y41: AE-1 | Z41: 3 | AA41: 63 | AB41: =8.68*10^-6*AA41^2+5.15*10^-4*AA41-1.05*10^-2 -> 0.05639592 | AC41: =0.99*AA41-10.1 -> 52.27
A42: =B42&"-"&C42 -> Ja-1 | B42: Ja | C42: 1 | D42: 4 | N42: 25 | Q42: 0 | T42: 0 | X42: =EXACT(Y42,A42) -> FALSE | Y42: AE-1 | Z42: 4 | AA42: 61.4 | AB42: =8.68*10^-6*AA42^2+5.15*10^-4*AA42-1.05*10^-2 -> 0.053844253 | AC42: =0.99*AA42-10.1 -> 50.686
A43: =B43&"-"&C43 -> Ja-1 | B43: Ja | C43: 1 | D43: 5 | N43: 30 | Q43: 0 | T43: 0 | X43: =EXACT(Y43,A43) -> FALSE | Y43: AE-1 | Z43: 5 | AA43: 63 | AB43: =8.68*10^-6*AA43^2+5.15*10^-4*AA43-1.05*10^-2 -> 0.05639592 | AC43: =0.99*AA43-10.1 -> 52.27
A44: =B44&"-"&C44 -> Jn-0 | B44: Jn | C44: 0 | D44: 1 | E44: 2 | F44: =AVERAGE($E44:$E48) -> 2 | G44: =_xlfn.STDEV.P($E44:$E48) -> 0 | H44: 93.34 | I44: 85.646667 | J44: 8.576127 | K44: 8.745 | L44: 8.0105 | M44: 0.7345 | N44: 30 | O44: 29 | P44: 10.19804 | Q44: 0.0359862 | R44: 0.033221 | S44: 0.007616 | T44: 38.707 | U44: 36.4696 | V44: 5.705562 | X44: =EXACT(Y44,A44) -> FALSE | Y44: Ki-0 | Z44: 1
A45: =B45&"-"&C45 -> Jn-0 | B45: Jn | C45: 0 | D45: 2 | E45: 2 | H45: 89.92 | K45: 7.276 | N45: 40 | Q45: 0.0284543 | T45: 33.064 | X45: =EXACT(Y45,A45) -> FALSE | Y45: Ki-0 | Z45: 2
A46: =B46&"-"&C46 -> Jn-0 | B46: Jn | C46: 0 | D46: 3 | E46: 2 | H46: 73.68 | N46: 30 | Q46: 0.0217215 | T46: 27.619 | X46: =EXACT(Y46,A46) -> FALSE | Y46: Ki-0 | Z46: 3
A47: =B47&"-"&C47 -> Jn-0 | B47: Jn | C47: 0 | D47: 4 | N47: 35 | Q47: 0.0357123 | T47: 38.509 | X47: =EXACT(Y47,A47) -> FALSE | Y47: Ki-0 | Z47: 4
A48: =B48&"-"&C48 -> Jn-0 | B48: Jn | C48: 0 | D48: 5 | N48: 10 | Q48: 0.0442291 | T48: 44.449 | X48: =EXACT(Y48,A48) -> FALSE | Y48: Ki-0 | Z48: 5
A49: =B49&"-"&C49 -> Jn-1 | B49: Jn | C49: 1 | D49: 1 | E49: 5 | F49: =AVERAGE($E49:$E53) -> 3.3333333 | G49: =_xlfn.STDEV.P($E49:$E53) -> 2.3570226 | H49: 90.36 | I49: 89.156667 | J49: 3.236936 | K49: 30.796 | L49: 20.983 | M49: 9.813 | N49: 40 | O49: 39 | P49: 6.63325 | Q49: 0.0482655 | R49: 0.04854 | S49: 0.006496 | T49: 47.122 | U49: 47.2012 | V49: 4.153944 | X49: =EXACT(Y49,A49) -> FALSE | Y49: Ki-1 | Z49: 1
A50: =B50&"-"&C50 -> Jn-1 | B50: Jn | C50: 1 | D50: 2 | E50: 0 | H50: 84.73 | K50: 11.17 | N50: 50 | Q50: 0.0410337 | T50: 42.271 | X50: =EXACT(Y50,A50) -> FALSE | Y50: Ki-1 | Z50: 2
A51: =B51&"-"&C51 -> Jn-1 | B51: Jn | C51: 1 | D51: 3 | E51: 5 | H51: 92.38 | N51: 40 | Q51: 0.0485695 | T51: 47.32 | X51: =EXACT(Y51,A51) -> FALSE | Y51: Ki-1 | Z51: 3
A52: =B52&"-"&C52 -> Jn-1 | B52: Jn | C52: 1 | D52: 4 | N52: 35 | Q52: 0.0603067 | T52: 54.646 | X52: =EXACT(Y52,A52) -> FALSE | Y52: Ki-1 | Z52: 4
A53: =B53&"-"&C53 -> Jn-1 | B53: Jn | C53: 1 | D53: 5 | N53: 30 | Q53: 0.0445237 | T53: 44.647 | X53: =EXACT(Y53,A53) -> FALSE | Y53: Ki-1 | Z53: 5
A54: =B54&"-"&C54 -> Ki-0 | B54: Ki | C54: 0 | D54: 1 | E54: 0 | F54: =AVERAGE($E54:$E58) -> 0.33333333 | G54: =_xlfn.STDEV.P($E54:$E58) -> 0.47140452 | H54: 57.16 | I54: 49.866667 | J54: 8.666235 | K54: 58.139 | L54: 47.169 | M54: 10.97 | N54: 20 | O54: 20 | P54: 5.25357 | Q54: 0 | R54: 0 | S54: 0 | T54: 0 | U54: 0 | V54: 0 | X54: =EXACT(Y54,A54) -> FALSE | Y54: Mu-0 | Z54: 1
A55: =B55&"-"&C55 -> Ki-0 | B55: Ki | C55: 0 | D55: 2 | E55: 1 | H55: 37.69 | K55: 36.199 | N55: 30 | Q55: 0 | T55: 0 | X55: =EXACT(Y55,A55) -> FALSE | Y55: Mu-0 | Z55: 2
A56: =B56&"-"&C56 -> Ki-0 | B56: Ki | C56: 0 | D56: 3 | E56: 0 | H56: 54.75 | N56: 17 | Q56: 0 | T56: 0 | X56: =EXACT(Y56,A56) -> FALSE | Y56: Mu-0 | Z56: 3
A57: =B57&"-"&C57 -> Ki-0 | B57: Ki | C57: 0 | D57: 4 | N57: 15 | Q57: 0 | T57: 0 | X57: =EXACT(Y57,A57) -> FALSE | Y57: Mu-0 | Z57: 4
A58: =B58&"-"&C58 -> Ki-0 | B58: Ki | C58: 0 | D58: 5 | N58: 18 | Q58: 0 | T58: 0 | X58: =EXACT(Y58,A58) -> FALSE | Y58: Mu-0 | Z58: 5
A59: =B59&"-"&C59 -> Ki-1 | B59: Ki | C59: 1 | D59: 1 | E59: 0 | F59: =AVERAGE($E59:$E63) -> 0.25 | G59: =_xlfn.STDEV.P($E59:$E63) -> 0.4330127 | H59: 74.54 | I59: 80.28 | J59: 12.55423 | K59: 85.83 | L59: 87.892 | M59: 2.062 | N59: 25 | O59: 33.8 | P59: 7.054077 | Q59: 0 | R59: 0 | S59: 0 | T59: 0 | U59: 0 | V59: 0 | X59: =EXACT(Y59,A59) -> FALSE | Y59: Mu-1 | Z59: 1
A60: =B60&"-"&C60 -> Ki-1 | B60: Ki | C60: 1 | D60: 2 | E60: 0 | H60: 97.7 | K60: 89.954 | N60: 30 | Q60: 0 | T60: 0 | X60: =EXACT(Y60,A60) -> FALSE | Y60: Mu-1 | Z60: 2
A61: =B61&"-"&C61 -> Ki-1 | B61: Ki | C61: 1 | D61: 3 | E61: 1 | H61: 68.6 | N61: 40 | Q61: 0 | T61: 0 | X61: =EXACT(Y61,A61) -> FALSE | Y61: Mu-1 | Z61: 3
A62: =B62&"-"&C62 -> Ki-1 | B62: Ki | C62: 1 | D62: 4 | E62: 0 | N62: 44 | Q62: 0 | T62: 0 | X62: =EXACT(Y62,A62) -> FALSE | Y62: Mu-1 | Z62: 4
A63: =B63&"-"&C63 -> Ki-1 | B63: Ki | C63: 1 | D63: 5 | N63: 30 | Q63: 0 | T63: 0 | X63: =EXACT(Y63,A63) -> FALSE | Y63: Mu-1 | Z63: 5
A64: =B64&"-"&C64 -> Ko-0 | B64: Ko | C64: 0 | D64: 1 | E64: 0 | F64: =AVERAGE($E64:$E68) -> 0 | G64: =_xlfn.STDEV.P($E64:$E68) -> 0 | H64: 98.21 | I64: 97.91 | J64: 0.34938 | K64: 7.383 | L64: 4.4475 | M64: 2.9355 | N64: 33 | O64: 29.6 | P64: 2.416609 | Q64: 0.0336808 | R64: 0.031989 | S64: 0.009684 | T64: 37.024 | U64: 35.44 | V64: 6.983255 | X64: =EXACT(Y64,A64) -> FALSE | Y64: Pa-0 | Z64: 1 | AA64: 67.5 | AB64: =8.68*10^-6*AA64^2+5.15*10^-4*AA64-1.05*10^-2 -> 0.06381075 | AC64: =0.99*AA64-10.1 -> 56.725
A65: =B65&"-"&C65 -> Ko-0 | B65: Ko | C65: 0 | D65: 2 | E65: 0 | H65: 98.1 | K65: 1.512 | N65: 30 | Q65: 0.0499462 | T65: 48.211 | X65: =EXACT(Y65,A65) -> FALSE | Y65: Pa-0 | Z65: 2 | AA65: 65.9 | AB65: =8.68*10^-6*AA65^2+5.15*10^-4*AA65-1.05*10^-2 -> 0.061134091 | AC65: =0.99*AA65-10.1 -> 55.141
A66: =B66&"-"&C66 -> Ko-0 | B66: Ko | C66: 0 | D66: 3 | E66: 0 | H66: 97.42 | N66: 28 | Q66: 0.0231457 | T66: 28.807 | X66: =EXACT(Y66,A66) -> FALSE | Y66: Pa-0 | Z66: 3 | AA66: 64 | AB66: =8.68*10^-6*AA66^2+5.15*10^-4*AA66-1.05*10^-2 -> 0.05801328 | AC66: =0.99*AA66-10.1 -> 53.26
A67: =B67&"-"&C67 -> Ko-0 | B67: Ko | C67: 0 | D67: 4 | N67: 26 | Q67: 0.0247168 | T67: 30.094 | X67: =EXACT(Y67,A67) -> FALSE | Y67: Pa-0 | Z67: 4 | AA67: 64.2 | AB67: =8.68*10^-6*AA67^2+5.15*10^-4*AA67-1.05*10^-2 -> 0.058338835 | AC67: =0.99*AA67-10.1 -> 53.458
A68: =B68&"-"&C68 -> Ko-0 | B68: Ko | C68: 0 | D68: 5 | N68: 31 | Q68: 0.0284543 | T68: 33.064 | X68: =EXACT(Y68,A68) -> FALSE | Y68: Pa-0 | Z68: 5 | AA68: 66.9 | AB68: =8.68*10^-6*AA68^2+5.15*10^-4*AA68-1.05*10^-2 -> 0.062801795 | AC68: =0.99*AA68-10.1 -> 56.131
A69: =B69&"-"&C69 -> Ko-1 | B69: Ko | C69: 1 | D69: 1 | E69: 3 | F69: =AVERAGE($E69:$E73) -> 1 | G69: =_xlfn.STDEV.P($E69:$E73) -> 1.4142136 | H69: 97.98 | I69: 98.243333 | J69: 0.849405 | K69: 4.472 | L69: 16.021 | M69: 11.549 | N69: 30 | O69: 30.5 | P69: 1 | Q69: 0.0323481 | R69: 0.032238 | S69: 0.004564 | T69: 36.034 | U69: 35.8756 | V69: 3.388404 | X69: =EXACT(Y69,A69) -> FALSE | Y69: Pa-1 | Z69: 1 | AA69: 57.9 | AB69: =8.68*10^-6*AA69^2+5.15*10^-4*AA69-1.05*10^-2 -> 0.048417419 | AC69: =0.99*AA69-10.1 -> 47.221
A70: =B70&"-"&C70 -> Ko-1 | B70: Ko | C70: 1 | D70: 2 | E70: 0 | H70: 97.36 | K70: 27.57 | N70: 30 | Q70: 0.0299931 | T70: 34.252 | X70: =EXACT(Y70,A70) -> FALSE | Y70: Pa-1 | Z70: 2 | AA70: 53.4 | AB70: =8.68*10^-6*AA70^2+5.15*10^-4*AA70-1.05*10^-2 -> 0.041752541 | AC70: =0.99*AA70-10.1 -> 42.766
A71: =B71&"-"&C71 -> Ko-1 | B71: Ko | C71: 1 | D71: 3 | E71: 0 | H71: 99.39 | N71: 30 | Q71: 0.0400346 | T71: 41.578 | X71: =EXACT(Y71,A71) -> FALSE | Y71: Pa-1 | Z71: 3 | AA71: 62.3 | AB71: =8.68*10^-6*AA71^2+5.15*10^-4*AA71-1.05*10^-2 -> 0.055274097 | AC71: =0.99*AA71-10.1 -> 51.577
A72: =B72&"-"&C72 -> Ko-1 | B72: Ko | C72: 1 | D72: 4 | N72: 30 | Q72: 0.0260691 | T72: 31.183 | X72: =EXACT(Y72,A72) -> FALSE | Y72: Pa-1 | Z72: 4 | AA72: 64.4 | AB72: =8.68*10^-6*AA72^2+5.15*10^-4*AA72-1.05*10^-2 -> 0.058665085 | AC72: =0.99*AA72-10.1 -> 53.656
A73: =B73&"-"&C73 -> Ko-1 | B73: Ko | C73: 1 | D73: 5 | N73: 32.5 | Q73: 0.0327461 | T73: 36.331 | X73: =EXACT(Y73,A73) -> FALSE | Y73: Pa-1 | Z73: 5 | AA73: 54.7 | AB73: =8.68*10^-6*AA73^2+5.15*10^-4*AA73-1.05*10^-2 -> 0.043641841 | AC73: =0.99*AA73-10.1 -> 44.053
A74: =B74&"-"&C74 -> KP-0 | B74: KP | C74: 0 | D74: 1 | E74: 1 | F74: =AVERAGE($E74:$E78) -> 0.33333333 | G74: =_xlfn.STDEV.P($E74:$E78) -> 0.47140452 | H74: 97.69 | I74: 97.963333 | J74: 0.312019 | K74: 55.793 | L74: 71.62 | M74: 15.827 | N74: 45 | O74: 41 | P74: 3.405877 | Q74: 0 | R74: 0 | S74: 0 | T74: 0 | U74: 0 | V74: 0 | X74: =EXACT(Y74,A74) -> FALSE | Y74: Jn-0 | Z74: 1 | AA74: 49.3 | AB74: =8.68*10^-6*AA74^2+5.15*10^-4*AA74-1.05*10^-2 -> 0.035986153 | AC74: =0.99*AA74-10.1 -> 38.707
A75: =B75&"-"&C75 -> KP-0 | B75: KP | C75: 0 | D75: 2 | E75: 0 | H75: 98.4 | K75: 87.447 | N75: 40 | Q75: 0 | T75: 0 | X75: =EXACT(Y75,A75) -> FALSE | Y75: Jn-0 | Z75: 2 | AA75: 43.6 | AB75: =8.68*10^-6*AA75^2+5.15*10^-4*AA75-1.05*10^-2 -> 0.028454333 | AC75: =0.99*AA75-10.1 -> 33.064
A76: =B76&"-"&C76 -> KP-0 | B76: KP | C76: 0 | D76: 3 | E76: 0 | H76: 97.8 | N76: 42 | Q76: 0 | T76: 0 | X76: =EXACT(Y76,A76) -> FALSE | Y76: Jn-0 | Z76: 3 | AA76: 38.1 | AB76: =8.68*10^-6*AA76^2+5.15*10^-4*AA76-1.05*10^-2 -> 0.021721475 | AC76: =0.99*AA76-10.1 -> 27.619
A77: =B77&"-"&C77 -> KP-0 | B77: KP | C77: 0 | D77: 4 | N77: 43 | Q77: 0 | T77: 0 | X77: =EXACT(Y77,A77) -> FALSE | Y77: Jn-0 | Z77: 4 | AA77: 49.1 | AB77: =8.68*10^-6*AA77^2+5.15*10^-4*AA77-1.05*10^-2 -> 0.035712331 | AC77: =0.99*AA77-10.1 -> 38.509
A78: =B78&"-"&C78 -> KP-0 | B78: KP | C78: 0 | D78: 5 | N78: 35 | Q78: 0 | T78: 0 | X78: =EXACT(Y78,A78) -> FALSE | Y78: Jn-0 | Z78: 5 | AA78: 55.1 | AB78: =8.68*10^-6*AA78^2+5.15*10^-4*AA78-1.05*10^-2 -> 0.044229067 | AC78: =0.99*AA78-10.1 -> 44.449
A79: =B79&"-"&C79 -> KP-1 | B79: KP | C79: 1 | D79: 1 | E79: 0 | F79: =AVERAGE($E79:$E83) -> 0 | G79: =_xlfn.STDEV.P($E79:$E83) -> 0 | H79: 94.83 | I79: 94.12 | J79: 2.249044 | K79: 39.291 | L79: 30.677 | M79: 8.614 | N79: 40 | O79: 44.6 | P79: 6.053098 | Q79: 0 | R79: 0 | S79: 0 | T79: 0 | U79: 0 | V79: 0 | X79: =EXACT(Y79,A79) -> FALSE | Y79: Jn-1 | Z79: 1 | AA79: 57.8 | AB79: =8.68*10^-6*AA79^2+5.15*10^-4*AA79-1.05*10^-2 -> 0.048265491 | AC79: =0.99*AA79-10.1 -> 47.122
A80: =B80&"-"&C80 -> KP-1 | B80: KP | C80: 1 | D80: 2 | E80: 0 | H80: 91.08 | K80: 22.063 | N80: 40 | Q80: 0 | T80: 0 | X80: =EXACT(Y80,A80) -> FALSE | Y80: Jn-1 | Z80: 2 | AA80: 52.9 | AB80: =8.68*10^-6*AA80^2+5.15*10^-4*AA80-1.05*10^-2 -> 0.041033699 | AC80: =0.99*AA80-10.1 -> 42.271
A81: =B81&"-"&C81 -> KP-1 | B81: KP | C81: 1 | D81: 3 | E81: 0 | H81: 96.45 | N81: 55 | Q81: 0 | T81: 0 | X81: =EXACT(Y81,A81) -> FALSE | Y81: Jn-1 | Z81: 3 | AA81: 58 | AB81: =8.68*10^-6*AA81^2+5.15*10^-4*AA81-1.05*10^-2 -> 0.04856952 | AC81: =0.99*AA81-10.1 -> 47.32
A82: =B82&"-"&C82 -> KP-1 | B82: KP | C82: 1 | D82: 4 | N82: 48 | Q82: 0 | T82: 0 | X82: =EXACT(Y82,A82) -> FALSE | Y82: Jn-1 | Z82: 4 | AA82: 65.4 | AB82: =8.68*10^-6*AA82^2+5.15*10^-4*AA82-1.05*10^-2 -> 0.060306749 | AC82: =0.99*AA82-10.1 -> 54.646
A83: =B83&"-"&C83 -> KP-1 | B83: KP | C83: 1 | D83: 5 | N83: 40 | Q83: 0 | T83: 0 | X83: =EXACT(Y83,A83) -> FALSE | Y83: Jn-1 | Z83: 5 | AA83: 55.3 | AB83: =8.68*10^-6*AA83^2+5.15*10^-4*AA83-1.05*10^-2 -> 0.044523721 | AC83: =0.99*AA83-10.1 -> 44.647
A84: =B84&"-"&C84 -> La-0 | B84: La | C84: 0 | D84: 1 | E84: 0 | F84: =AVERAGE($E84:$E88) -> 1.6666667 | G84: =_xlfn.STDEV.P($E84:$E88) -> 1.6996732 | H84: 91.08 | I84: 92.343333 | J84: 0.899123 | K84: 2.726 | L84: 2.0685 | M84: 0.6575 | N84: 10 | O84: 15.4 | P84: 3.32265 | Q84: 0.0242302 | R84: 0.025466 | S84: 0.003365 | T84: 29.698 | U84: 30.6484 | V84: 2.684781 | X84: =EXACT(Y84,A84) -> FALSE | Y84: Mi-0 | Z84: 1 | AA84: 52.3 | AB84: =8.68*10^-6*AA84^2+5.15*10^-4*AA84-1.05*10^-2 -> 0.040176817 | AC84: =0.99*AA84-10.1 -> 41.677
A85: =B85&"-"&C85 -> La-0 | B85: La | C85: 0 | D85: 2 | E85: 4 | H85: 92.85 | K85: 1.411 | N85: 16 | Q85: 0.0258216 | T85: 30.985 | X85: =EXACT(Y85,A85) -> FALSE | Y85: Mi-0 | Z85: 2 | AA85: 68.8 | AB85: =8.68*10^-6*AA85^2+5.15*10^-4*AA85-1.05*10^-2 -> 0.066018259 | AC85: =0.99*AA85-10.1 -> 58.012
A86: =B86&"-"&C86 -> La-0 | B86: La | C86: 0 | D86: 3 | E86: 1 | H86: 93.1 | N86: 14 | Q86: 0.0250835 | T86: 30.391 | X86: =EXACT(Y86,A86) -> FALSE | Y86: Mi-0 | Z86: 3 | AA86: 44.1 | AB86: =8.68*10^-6*AA86^2+5.15*10^-4*AA86-1.05*10^-2 -> 0.029092451 | AC86: =0.99*AA86-10.1 -> 33.559
A87: =B87&"-"&C87 -> La-0 | B87: La | C87: 0 | D87: 4 | N87: 20 | Q87: 0.0312945 | T87: 35.242 | X87: =EXACT(Y87,A87) -> FALSE | Y87: Mi-0 | Z87: 4 | AA87: 43.3 | AB87: =8.68*10^-6*AA87^2+5.15*10^-4*AA87-1.05*10^-2 -> 0.028073545 | AC87: =0.99*AA87-10.1 -> 32.767
A88: =B88&"-"&C88 -> La-0 | B88: La | C88: 0 | D88: 5 | N88: 17 | Q88: 0.0209022 | T88: 26.926 | X88: =EXACT(Y88,A88) -> FALSE | Y88: Mi-0 | Z88: 5 | AA88: 40 | AB88: =8.68*10^-6*AA88^2+5.15*10^-4*AA88-1.05*10^-2 -> 0.023988 | AC88: =0.99*AA88-10.1 -> 29.5
A89: =B89&"-"&C89 -> La-1 | B89: La | C89: 1 | D89: 1 | E89: 3 | F89: =AVERAGE($E89:$E93) -> 2 | G89: =_xlfn.STDEV.P($E89:$E93) -> 0.81649658 | H89: 87.38 | I89: 91.22 | J89: 3.482155 | K89: 3.916 | L89: 2.5425 | M89: 1.3735 | N89: 20 | O89: 28 | P89: 6.78233 | Q89: 0.026193 | R89: 0.026999 | S89: 0.007898 | T89: 31.282 | U89: 31.6582 | V89: 6.133336 | X89: =EXACT(Y89,A89) -> FALSE | Y89: Mi-1 | Z89: 1 | AA89: 45.2 | AB89: =8.68*10^-6*AA89^2+5.15*10^-4*AA89-1.05*10^-2 -> 0.030511587 | AC89: =0.99*AA89-10.1 -> 34.648
A90: =B90&"-"&C90 -> La-1 | B90: La | C90: 1 | D90: 2 | E90: 2 | H90: 90.47 | K90: 1.169 | N90: 25 | Q90: 0.0164936 | T90: 23.065 | X90: =EXACT(Y90,A90) -> FALSE | Y90: Mi-1 | Z90: 2 | AA90: 43.4 | AB90: =8.68*10^-6*AA90^2+5.15*10^-4*AA90-1.05*10^-2 -> 0.028200301 | AC90: =0.99*AA90-10.1 -> 32.866
A91: =B91&"-"&C91 -> La-1 | B91: La | C91: 1 | D91: 3 | E91: 1 | H91: 95.81 | N91: 25 | Q91: 0.0253288 | T91: 30.589 | X91: =EXACT(Y91,A91) -> FALSE | Y91: Mi-1 | Z91: 3 | AA91: 46.5 | AB91: =8.68*10^-6*AA91^2+5.15*10^-4*AA91-1.05*10^-2 -> 0.03221583 | AC91: =0.99*AA91-10.1 -> 35.935
A92: =B92&"-"&C92 -> La-1 | B92: La | C92: 1 | D92: 4 | N92: 30 | Q92: 0.0410337 | T92: 42.271 | X92: =EXACT(Y92,A92) -> FALSE | Y92: Mi-1 | Z92: 4 | AA92: 49.4 | AB92: =8.68*10^-6*AA92^2+5.15*10^-4*AA92-1.05*10^-2 -> 0.036123325 | AC92: =0.99*AA92-10.1 -> 38.806
A93: =B93&"-"&C93 -> La-1 | B93: La | C93: 1 | D93: 5 | N93: 40 | Q93: 0.0259453 | T93: 31.084 | X93: =EXACT(Y93,A93) -> FALSE | Y93: Mi-1 | Z93: 5
A94: =B94&"-"&C94 -> Li-0 | B94: Li | C94: 0 | D94: 1 | E94: 0 | F94: =AVERAGE($E94:$E98) -> 0 | G94: =_xlfn.STDEV.P($E94:$E98) -> 0 | H94: 23.5 | I94: 43.123333 | J94: 15.83137 | K94: 33.231 | L94: 75.2105 | M94: 50.61372 | N94: 5 | O94: 5.4 | P94: 2.416609 | Q94: 0.0235056 | R94: 0.033046 | S94: 0.007556 | T94: 29.104 | U94: 36.3508 | V94: 5.550149 | X94: =EXACT(Y94,A94) -> FALSE | Y94: Ik-0 | Z94: 1 | AA94: 53.4 | AB94: =8.68*10^-6*AA94^2+5.15*10^-4*AA94-1.05*10^-2 -> 0.041752541 | AC94: =0.99*AA94-10.1 -> 42.766
A95: =B95&"-"&C95 -> Li-0 | B95: Li | C95: 0 | D95: 2 | E95: 0 | H95: 43.6 | K95: 17.86 | N95: 5 | Q95: 0.0454119 | T95: 45.241 | X95: =EXACT(Y95,A95) -> FALSE | Y95: Ik-0 | Z95: 2 | AA95: 55.1 | AB95: =8.68*10^-6*AA95^2+5.15*10^-4*AA95-1.05*10^-2 -> 0.044229067 | AC95: =0.99*AA95-10.1 -> 44.449
A96: =B96&"-"&C96 -> Li-0 | B96: Li | C96: 0 | D96: 3 | E96: 0 | H96: 62.27 | K96: 113.421 | N96: 3 | Q96: 0.0283272 | T96: 32.965 | X96: =EXACT(Y96,A96) -> FALSE | Y96: Ik-0 | Z96: 3 | AA96: 46.1 | AB96: =8.68*10^-6*AA96^2+5.15*10^-4*AA96-1.05*10^-2 -> 0.031688323 | AC96: =0.99*AA96-10.1 -> 35.539
A97: =B97&"-"&C97 -> Li-0 | B97: Li | C97: 0 | D97: 4 | E97: 0 | K97: 136.33 | N97: 4 | Q97: 0.0310328 | T97: 35.044 | X97: =EXACT(Y97,A97) -> FALSE | Y97: Ik-0 | Z97: 4 | AA97: 59.8 | AB97: =8.68*10^-6*AA97^2+5.15*10^-4*AA97-1.05*10^-2 -> 0.051337027 | AC97: =0.99*AA97-10.1 -> 49.102
A98: =B98&"-"&C98 -> Li-0 | B98: Li | C98: 0 | D98: 5 | E98: 0 | N98: 10 | Q98: 0.03695 | T98: 39.4 | X98: =EXACT(Y98,A98) -> FALSE | Y98: Ik-0 | Z98: 5 | AA98: 54.5 | AB98: =8.68*10^-6*AA98^2+5.15*10^-4*AA98-1.05*10^-2 -> 0.04334927 | AC98: =0.99*AA98-10.1 -> 43.855
A99: =B99&"-"&C99 -> Li-1 | B99: Li | C99: 1 | D99: 1 | E99: 0 | F99: =AVERAGE($E99:$E103) -> 0 | G99: =_xlfn.STDEV.P($E99:$E103) -> 0 | H99: 54.48 | I99: 53.753333 | J99: 18.85991 | K99: 132.718 | L99: 111.1352 | M99: 27.8397 | N99: 10 | O99: 8 | P99: 2.280351 | Q99: 0.0315569 | R99: 0.030395 | S99: 0.002739 | T99: 35.44 | U99: 34.5292 | V99: 2.098613 | X99: =EXACT(Y99,A99) -> FALSE | Y99: Ik-1 | Z99: 1 | AA99: 51.2 | AB99: =8.68*10^-6*AA99^2+5.15*10^-4*AA99-1.05*10^-2 -> 0.038622099 | AC99: =0.99*AA99-10.1 -> 40.588
A100: =B100&"-"&C100 -> Li-1 | B100: Li | C100: 1 | D100: 2 | E100: 0 | H100: 30.3 | K100: 140.3 | N100: 6 | Q100: 0.0268155 | T100: 31.777 | X100: =EXACT(Y100,A100) -> FALSE | Y100: Ik-1 | Z100: 2 | AA100: 43.1 | AB100: =8.68*10^-6*AA100^2+5.15*10^-4*AA100-1.05*10^-2 -> 0.027820555 | AC100: =0.99*AA100-10.1 -> 32.569
A101: =B101&"-"&C101 -> Li-1 | B101: Li | C101: 1 | D101: 3 | E101: 0 | H101: 76.48 | K101: 64.55 | N101: 8 | Q101: 0.0327461 | T101: 36.331 | X101: =EXACT(Y101,A101) -> FALSE | Y101: Ik-1 | Z101: 3 | AA101: 51.5 | AB101: =8.68*10^-6*AA101^2+5.15*10^-4*AA101-1.05*10^-2 -> 0.03904403 | AC101: =0.99*AA101-10.1 -> 40.885
A102: =B102&"-"&C102 -> Li-1 | B102: Li | C102: 1 | D102: 4 | E102: 0 | K102: 122.838 | N102: 5 | Q102: 0.0334129 | T102: 36.826 | X102: =EXACT(Y102,A102) -> FALSE | Y102: Ik-1 | Z102: 4 | AA102: 44.3 | AB102: =8.68*10^-6*AA102^2+5.15*10^-4*AA102-1.05*10^-2 -> 0.029348913 | AC102: =0.99*AA102-10.1 -> 33.757
...

Sheet BD_biomass
D1: m(g) container | E1: 88 | N1: Volume of 3 bulk density cylinders | P1: =S1 -> 0.75398224 | Q1: l | R1: =PI()*(0.8/2)^2*0.5 -> 0.25132741 | S1: =R1*3 -> 0.75398224 | T1: dm3 per 3 cylinders
D2: BIOMASS | N2: BD
A3: Site | B3: Tila | C3: Treat | D3: Crop | E3: Area (m2) | F3: Fresh weight (g) | G3: Container (g) | H3: Subsample (g) | I3: Dried sample + container (g) | J3: Biomass g/m2 | K3: Biomass kg/ha | L3: Dry-% | M3: Wet soil + alu container (g) | N3: Wet soil (g) | O3: Alu container (g) | P3: Dry soil + alu container (g) | Q3: BD (kg/l) | R3: Porosity (%) | S3: Moisture (vol-%)
A4: =B4&"-"&C4 -> AE-0 | B4: AE | C4: 0 | D4: Grass | E4: 0.6975 | F4: 1180 | G4: 11 | H4: 57 | I4: 23 | J4: 430.83776 | K4: 4308.3776 | L4: 0.21052632 | M4: 878.68 | N4: 859.36 | O4: 19.32 | P4: 671.26 | Q4: =(P4-O4)/1000/$P$1 -> 0.86466228 | R4: =1-Q4/2.65 -> 0.67371235 | S4: =(N4-(P4-O4))/1000/$P$1 -> 0.27509932
A5: =B5&"-"&C5 -> AE-1 | B5: AE | C5: 1 | D5: Grass | E5: 0.5766 | F5: 1270 | G5: 11 | H5: 77 | I5: 25 | J5: 400.46669 | K5: 4004.6669 | L5: 0.18181818 | M5: 861.48 | N5: =M5-O5 -> 842.11 | O5: 19.37 | P5: 661.6 | Q5: =(P5-O5)/1000/$P$1 -> 0.85178399 | R5: =1-Q5/2.65 -> 0.67857208 | S5: =(N5-(P5-O5))/1000/$P$1 -> 0.26509908
A6: =B6&"-"&C6 -> Ai-0 | B6: Ai | C6: 0 | D6: Wheat | E6: 0.6975 | F6: 270 | G6: 11 | H6: 49 | I6: 28 | J6: 162.45832 | K6: 1342.9888 | L6: 0.34693878 | M6: 1192.5 | N6: =M6-O6 -> 1172.52 | O6: 19.98 | P6: 1034.48 | Q6: =(P6-O6)/1000/$P$1 -> 1.3455224 | R6: =1-Q6/2.65 -> 0.49225569 | S6: =(N6-(P6-O6))/1000/$P$1 -> 0.20958053
A7: =B7&"-"&C7 -> Ai-1 | B7: Ai | C7: 1 | D7: Grass | E7: 0.5766 | F7: 770 | G7: 11 | H7: 74 | I7: 46 | J7: 631.61497 | K7: 6316.1497 | L7: 0.47297297 | M7: 1205.5 | N7: =M7-O7 -> 1186.4 | O7: 19.1 | P7: 1010.76 | Q7: =(P7-O7)/1000/$P$1 -> 1.3152299 | R7: =1-Q7/2.65 -> 0.50368682 | S7: =(N7-(P7-O7))/1000/$P$1 -> 0.25828195
A8: =B8&"-"&C8 -> Ik-0 | B8: Ik | C8: 0 | D8: Rapeseed | E8: 0.6975 | F8: 1920 | G8: 11 | H8: 78 | I8: 23 | J8: 512.28688 | K8: 4234.9049 | L8: 0.15384615 | M8: 845.38 | N8: =M8-O8 -> 826.3 | O8: 19.08 | P8: 651.82 | Q8: =(P8-O8)/1000/$P$1 -> 0.83919749 | R8: =1-Q8/2.65 -> 0.6833217 | S8: =(N8-(P8-O8))/1000/$P$1 -> 0.25671692
A9: =B9&"-"&C9 -> Ik-1 | B9: Ik | C9: 1 | D9: Grass | E9: 0.5766 | F9: 1640 | G9: 11 | H9: 76 | I9: 36 | J9: 935.61166 | K9: 9356.1166 | L9: 0.32894737 | M9: 967.12 | N9: =M9-O9 -> 947.85 | O9: 19.27 | P9: 723.54 | Q9: =(P9-O9)/1000/$P$1 -> 0.9340671 | R9: =1-Q9/2.65 -> 0.64752185 | S9: =(N9-(P9-O9))/1000/$P$1 -> 0.32305801
A10: =B10&"-"&C10 -> Ja-0 | B10: Ja | C10: 0 | D10: Peas | E10: 0.5766 | G10: 11 | K10: 0 | M10: 718.98 | N10: =M10-O10 -> 699.1 | O10: 19.88 | P10: 570.75 | Q10: =(P10-O10)/1000/$P$1 -> 0.73061403 | R10: =1-Q10/2.65 -> 0.72429659 | S10: =(N10-(P10-O10))/1000/$P$1 -> 0.19659614
A11: =B11&"-"&C11 -> Ja-1 | B11: Ja | C11: 1 | D11: Grass | E11: 0.5766 | G11: 11 | K11: 0 | M11: 961.52 | N11: =M11-O11 -> 941.65 | O11: 19.87 | P11: 766.74 | Q11: =(P11-O11)/1000/$P$1 -> 0.9905671 | R11: =1-Q11/2.65 -> 0.62620109 | S11: =(N11-(P11-O11))/1000/$P$1 -> 0.258335
A12: =B12&"-"&C12 -> Jn-0 | B12: Jn | C12: 0 | D12: Pasture | E12: 0.5766 | F12: 530 | G12: 11 | H12: 80 | I12: 33 | J12: 252.77489 | K12: 2527.7489 | L12: 0.275 | M12: 1052.24 | N12: =M12-O12 -> 1032.88 | O12: 19.36 | P12: 786.7 | Q12: =(P12-O12)/1000/$P$1 -> 1.0177163 | R12: =1-Q12/2.65 -> 0.61595612 | S12: =(N12-(P12-O12))/1000/$P$1 -> 0.35218336
A13: =B13&"-"&C13 -> Jn-1 | B13: Jn | C13: 1 | D13: Pasture | E13: 0.5766 | F13: 1630 | G13: 11 | H13: 61 | I13: 30 | J13: 880.51495 | K13: 8805.1495 | L13: 0.31147541 | M13: 923.22 | N13: =M13-O13 -> 904.09 | O13: 19.13 | P13: 697.38 | Q13: =(P13-O13)/1000/$P$1 -> 0.899557 | R13: =1-Q13/2.65 -> 0.66054453 | S13: =(N13-(P13-O13))/1000/$P$1 -> 0.2995296
A14: =B14&"-"&C14 -> Ki-0 | B14: Ki | C14: 0 | D14: Spelt | E14: 0.6975 | F14: 210 | G14: 11 | H14: 49 | I14: 23 | J14: 89.192805 | K14: 737.32719 | L14: 0.24489796 | M14: 888.7 | N14: =M14-O14 -> 869.83 | O14: 18.87 | P14: 788.04 | Q14: =(P14-O14)/1000/$P$1 -> 1.0201434 | R14: =1-Q14/2.65 -> 0.61504023 | S14: =(N14-(P14-O14))/1000/$P$1 -> 0.13350447
A15: =B15&"-"&C15 -> Ki-1 | B15: Ki | C15: 1 | D15: Spelt | E15: 0.6975 | F15: 410 | G15: 11 | H15: 52 | I15: 22 | J15: 150.41757 | K15: 1243.4519 | L15: 0.21153846 | M15: 866.48 | N15: =M15-O15 -> 847.63 | O15: 18.85 | P15: 755 | Q15: =(P15-O15)/1000/$P$1 -> 0.97634926 | R15: =1-Q15/2.65 -> 0.63156632 | S15: =(N15-(P15-O15))/1000/$P$1 -> 0.14785494
A16: =B16&"-"&C16 -> Ko-0 | B16: Ko | C16: 0 | D16: Grass | E16: 0.375 | F16: 370 | G16: 11 | H16: 68 | I16: 27 | J16: 232.15686 | K16: 2321.5686 | L16: 0.23529412 | M16: 1156.98 | N16: =M16-O16 -> 1137.6 | O16: 19.38 | P16: 885.96 | Q16: =(P16-O16)/1000/$P$1 -> 1.1493374 | R16: =1-Q16/2.65 -> 0.56628777 | S16: =(N16-(P16-O16))/1000/$P$1 -> 0.35945144
A17: =B17&"-"&C17 -> Ko-1 | B17: Ko | C17: 1 | D17: Grass | E17: 0.375 | F17: 390 | G17: 11 | H17: 60 | I17: 26 | J17: 260 | K17: 2600 | L17: 0.25 | M17: 1148.84 | N17: =M17-O17 -> 1129.99 | O17: 18.85 | P17: 891.34 | Q17: =(P17-O17)/1000/$P$1 -> 1.1571758 | R17: =1-Q17/2.65 -> 0.56332989 | S17: =(N17-(P17-O17))/1000/$P$1 -> 0.34151998
A18: =B18&"-"&C18 -> KP-0 | B18: KP | C18: 0 | D18: Oats | E18: 0.9 | F18: 610 | G18: 10 | H18: 51 | I18: 25 | J18: 199.34641 | K18: 1993.4641 | L18: 0.29411765 | M18: 770.34 | N18: =M18-O18 -> 750.64 | O18: 19.7 | P18: 647.86 | Q18: =(P18-O18)/1000/$P$1 -> 0.83312308 | R18: =1-Q18/2.65 -> 0.68561393 | S18: =(N18-(P18-O18))/1000/$P$1 -> 0.16244415
A19: =B19&"-"&C19 -> KP-1 | B19: KP | C19: 1 | D19: Oats | E19: 0.9 | F19: 620 | G19: 10 | H19: 51 | I19: 27 | J19: 229.62963 | K19: 2296.2963 | L19: 0.33333333 | M19: 747.58 | N19: =M19-O19 -> 727.91 | O19: 19.67 | P19: 654.96 | Q19: =(P19-O19)/1000/$P$1 -> 0.84257953 | R19: =1-Q19/2.65 -> 0.68204546 | S19: =(N19-(P19-O19))/1000/$P$1 -> 0.12284109
A20: =B20&"-"&C20 -> La-0 | B20: La | C20: 0 | D20: Grass | E20: 0.375 | F20: 190 | G20: 11 | H20: 86 | I20: 39 | J20: 164.96124 | K20: 1649.6124 | L20: 0.3255814 | M20: 1122.48 | N20: =M20-O20 -> 1103.37 | O20: 19.11 | P20: 897.28 | Q20: =(P20-O20)/1000/$P$1 -> 1.1647091 | R20: =1-Q20/2.65 -> 0.56048712 | S20: =(N20-(P20-O20))/1000/$P$1 -> 0.29868078
A21: =B21&"-"&C21 -> La-1 | B21: La | C21: 1 | D21: Grass | E21: 0.375 | F21: 290 | G21: 11 | H21: 67 | I21: 27 | J21: 184.67662 | K21: 1846.7662 | L21: 0.23880597 | M21: 1116.42 | N21: =M21-O21 -> 1097.18 | O21: 19.24 | P21: 894.74 | Q21: =(P21-O21)/1000/$P$1 -> 1.1611679 | R21: =1-Q21/2.65 -> 0.56182342 | S21: =(N21-(P21-O21))/1000/$P$1 -> 0.29401223
A22: =B22&"-"&C22 -> Li-0 | B22: Li | C22: 0 | D22: Grass | E22: 0.5766 | F22: 130 | G22: 11 | H22: 45 | I22: 23 | J22: 60.122558 | K22: 601.22558 | L22: 0.26666667 | M22: 759.64 | N22: =M22-O22 -> 740.58 | O22: 19.06 | P22: 679.9 | Q22: =(P22-O22)/1000/$P$1 -> 0.87646627 | R22: =1-Q22/2.65 -> 0.66925801 | S22: =(N22-(P22-O22))/1000/$P$1 -> 0.10575846
A23: =B23&"-"&C23 -> Li-1 | B23: Li | C23: 1 | D23: Grass | E23: 0.5766 | F23: 170 | G23: 12 | H23: 52 | I23: 24 | J23: 68.038101 | K23: 680.38101 | L23: 0.23076923 | M23: 797.04 | N23: =M23-O23 -> 777.87 | O23: 19.17 | P23: 695.88 | Q23: =(P23-O23)/1000/$P$1 -> 0.89751451 | R23: =1-Q23/2.65 -> 0.66131528 | S23: =(N23-(P23-O23))/1000/$P$1 -> 0.13416762
... A33: =B33&"-"&C33 -> Ne-1 | B33: Ne | C33: 1 | D33: Barley | E33: 0.6975 | F33: 1700 | G33: 11 | H33: 66 | I33: 31 | J33: 893.42961 | K33: 7385.6848 | L33: 0.3030303 | M33: 896.26 | N33: =M33-O33 -> 876.9 | O33: 19.36 | P33: 720.4 | Q33: =(P33-O33)/1000/$P$1 -> 0.92978318 | R33: =1-Q33/2.65 -> 0.64913842 | S33: =(N33-(P33-O33))/1000/$P$1 -> 0.23324157
A34: =B34&"-"&C34 -> Ni-0 | B34: Ni | C34: 0 | D34: Pasture | E34: 0.5766 | F34: 0 | G34: 0 | H34: 0 | I34: 0 | K34: 0 | M34: 1053.58 | N34: =M34-O34 -> 1033.6 | O34: 19.98 | P34: 720.54 | Q34: =(P34-O34)/1000/$P$1 -> 0.92914656 | R34: =1-Q34/2.65 -> 0.64937866 | S34: =(N34-(P34-O34))/1000/$P$1 -> 0.44170802
A35: =B35&"-"&C35 -> Ni-1 | B35: Ni | C35: 1 | D35: Pasture | E35: 0.5766 | G35: 11 | K35: 0 | M35: 849.36 | N35: =M35-O35 -> 830.26 | O35: 19.1 | P35: 549.72 | Q35: =(P35-O35)/1000/$P$1 -> 0.70375663 | R35: =1-Q35/2.65 -> 0.73443146 | S35: =(N35-(P35-O35))/1000/$P$1 -> 0.39740989
A36: =B36&"-"&C36 -> Pa-0 | B36: Pa | C36: 0 | D36: Oats | E36: 0.465 | F36: 1210 | G36: 11 | H36: 149 | I36: 73 | J36: 1342.6398 | K36: 10827.74 | L36: 0.41610738 | M36: 959.42 | N36: =M36-O36 -> 940.55 | O36: 18.87 | P36: 774.06 | Q36: =(P36-O36)/1000/$P$1 -> 1.0016018 | R36: =1-Q36/2.65 -> 0.62203704 | S36: =(N36-(P36-O36))/1000/$P$1 -> 0.24584134
A37: =B37&"-"&C37 -> Pa-1 | B37: Pa | C37: 1 | D37: Oats | E37: 0.465 | F37: 1360 | G37: 11 | H37: 102 | I37: 45 | J37: 1208.8889 | K37: 9749.1039 | L37: 0.33333333 | M37: 952.04 | N37: =M37-O37 -> 933.19 | O37: 18.85 | P37: 756.94 | Q37: =(P37-O37)/1000/$P$1 -> 0.97892227 | R37: =1-Q37/2.65 -> 0.63059537 | S37: =(N37-(P37-O37))/1000/$P$1 -> 0.25875941
A38: =B38&"-"&C38 -> Pi-0 | B38: Pi | C38: 0 | D38: Rye | E38: 0.6975 | F38: 930 | G38: 10 | H38: 43 | I38: 31 | J38: 787.69692 | K38: 6511.6279 | L38: 0.48837209 | M38: 942 | N38: =M38-O38 -> 922.89 | O38: 19.11 | P38: 763 | Q38: =(P38-O38)/1000/$P$1 -> 0.98661476 | R38: =1-Q38/2.65 -> 0.62769255 | S38: =(N38-(P38-O38))/1000/$P$1 -> 0.23740612
A39: =B39&"-"&C39 -> Pi-1 | B39: Pi | C39: 1 | D39: Rye | E39: 0.6975 | F39: 1020 | G39: 11 | H39: 37 | I39: 28 | J39: 812.77948 | K39: 6718.977 | L39: 0.45945946 | M39: 855.32 | N39: =M39-O39 -> 836.08 | O39: 19.24 | P39: 679.32 | Q39: =(P39-O39)/1000/$P$1 -> 0.87545829 | R39: =1-Q39/2.65 -> 0.66963838 | S39: =(N39-(P39-O39))/1000/$P$1 -> 0.23342725
A40: =B40&"-"&C40 -> Pu-0 | B40: Pu | C40: 0 | D40: Barley | E40: 0.6975 | F40: 400 | G40: 11 | H40: 53 | I40: 27 | J40: 209.42545 | K40: 1731.2504 | L40: 0.30188679 | M40: 835.18 | N40: =M40-O40 -> 816.07 | O40: 19.11 | P40: 768.32 | Q40: =(P40-O40)/1000/$P$1 -> 0.99367062 | R40: =1-Q40/2.65 -> 0.62502995 | S40: =(N40-(P40-O40))/1000/$P$1 -> 0.088675829
A41: =B41&"-"&C41 -> Pu-1 | B41: Pu | C41: 1 | D41: Barley | E41: 0.6975 | F41: 590 | G41: 11 | H41: 80 | I41: 36 | J41: 319.7624 | K41: 2643.3692 | L41: 0.3125 | M41: 817.52 | N41: =M41-O41 -> 798.28 | O41: 19.24 | P41: 752.38 | Q41: =(P41-O41)/1000/$P$1 -> 0.97235712 | R41: =1-Q41/2.65 -> 0.63307278 | S41: =(N41-(P41-O41))/1000/$P$1 -> 0.086394608
A42: =B42&"-"&C42 -> Si-0 | B42: Si | C42: 0 | D42: Oats | E42: 0.6975 | F42: 890 | G42: 11 | H42: 48 | I42: 31 | J42: 643.13794 | K42: 5316.6069 | L42: 0.41666667 | M42: 843.1 | N42: =M42-O42 -> 824.23 | O42: 18.87 | P42: 722.28 | Q42: =(P42-O42)/1000/$P$1 -> 0.93292649 | R42: =1-Q42/2.65 -> 0.64795227 | S42: =(N42-(P42-O42))/1000/$P$1 -> 0.1602425
A43: =B43&"-"&C43 -> Si-1 | B43: Si | C43: 1 | D43: Oats | E43: 0.6975 | F43: 860 | G43: 11 | H43: 63 | I43: 33 | J43: 520.84194 | K43: 4305.6267 | L43: 0.34920635 | M43: 850.52 | N43: =M43-O43 -> 831.67 | O43: 18.85 | P43: 717.92 | Q43: =(P43-O43)/1000/$P$1 -> 0.92717038 | R43: =1-Q43/2.65 -> 0.65012438 | S43: =(N43-(P43-O43))/1000/$P$1 -> 0.17586621
AI44: 0.16109333
AI45: 0.1768

Sheet atLeaf
A1: Data spots for fitting gathered from atleaf.com convertor
A3: Lohko | B3: Rep | C3: atLeaf | D3: Tot Chlorophyl | E3: SPAD
A4: La-0 | B4: 1 | C4: 53.1 | D4: =8.68*10^-6*C4^2+5.15*10^-4*C4-1.05*10^-2 -> 0.041320715 | E4: =0.99*C4-10.1 -> 42.469
A5: La-0 | B5: 2 | C5: 54.2 | D5: =8.68*10^-6*C5^2+5.15*10^-4*C5-1.05*10^-2 -> 0.042911715 | E5: =0.99*C5-10.1 -> 43.558 | X5: AtLeaf | Y5: Sdpad | Z5: Tot Chloro
A6: La-0 | B6: 3 | C6: 60.3 | D6: =8.68*10^-6*C6^2+5.15*10^-4*C6-1.05*10^-2 -> 0.052115761 | E6: =0.99*C6-10.1 -> 49.597 | X6: 20 | Y6: 9.7 | Z6: 0.0033
A7: La-0 | B7: 4 | C7: 59.1 | D7: =8.68*10^-6*C7^2+5.15*10^-4*C7-1.05*10^-2 -> 0.050254091 | E7: =0.99*C7-10.1 -> 48.409 | X7: 30 | Y7: 19.6 | Z7: 0.0128
A8: La-0 | B8: 5 | C8: 62.1 | D8: =8.68*10^-6*C8^2+5.15*10^-4*C8-1.05*10^-2 -> 0.054955139 | E8: =0.99*C8-10.1 -> 51.379 | X8: 40 | Y8: 29.5 | Z8: 0.024
A9: La-1 | B9: 1 | C9: 58.3 | D9: =8.68*10^-6*C9^2+5.15*10^-4*C9-1.05*10^-2 -> 0.049026865 | E9: =0.99*C9-10.1 -> 47.617 | X9: 50 | Y9: 39.4 | Z9: 0.037
A10: La-1 | B10: 2 | C10: 69.5 | D10: =8.68*10^-6*C10^2+5.15*10^-4*C10-1.05*10^-2 -> 0.06721907 | E10: =0.99*C10-10.1 -> 58.705 | X10: 70 | Y10: 59.2 | Z10: 0.0681
A11: La-1 | B11: 3 | C11: 63.2 | D11: =8.68*10^-6*C11^2+5.15*10^-4*C11-1.05*10^-2 -> 0.056718003 | E11: =0.99*C11-10.1 -> 52.468 | X11: 90 | Y11: 79 | Z11: 0.1062
A12: La-1 | B12: 4 | C12: 52.2 | D12: =8.68*10^-6*C12^2+5.15*10^-4*C12-1.05*10^-2 -> 0.040034611 | E12: =0.99*C12-10.1 -> 41.578 | X12: 80 | Y12: 69.1 | Z12: 0.0863
A13: La-1 | B13: 5 | C13: 57.3 | D13: =8.68*10^-6*C13^2+5.15*10^-4*C13-1.05*10^-2 -> 0.047508457 | E13: =0.99*C13-10.1 -> 46.627 | X13: 60 | Y13: 49.3 | Z13: 0.0517
A14: Pi-0 | B14: 1 | C14: 48.2 | D14: =8.68*10^-6*C14^2+5.15*10^-4*C14-1.05*10^-2 -> 0.034488723 | E14: =0.99*C14-10.1 -> 37.618
A15: Pi-0 | B15: 2 | C15: 49.5 | D15: =8.68*10^-6*C15^2+5.15*10^-4*C15-1.05*10^-2 -> 0.03626067 | E15: =0.99*C15-10.1 -> 38.905
A16: Pi-0 | B16: 3 | C16: 48.4 | D16: =8.68*10^-6*C16^2+5.15*10^-4*C16-1.05*10^-2 -> 0.034759421 | E16: =0.99*C16-10.1 -> 37.816
A17: Pi-0 | B17: 4 | C17: 51.1 | D17: =8.68*10^-6*C17^2+5.15*10^-4*C17-1.05*10^-2 -> 0.038481803 | E17: =0.99*C17-10.1 -> 40.489
A18: Pi-0 | B18: 5 | C18: 45.7 | D18: =8.68*10^-6*C18^2+5.15*10^-4*C18-1.05*10^-2 -> 0.031163593 | E18: =0.99*C18-10.1 -> 35.143
A19: Pi-1 | B19: 1 | C19: 41.3 | D19: =8.68*10^-6*C19^2+5.15*10^-4*C19-1.05*10^-2 -> 0.025574889 | E19: =0.99*C19-10.1 -> 30.787
A20: Pi-1 | B20: 2 | C20: 56.7 | D20: =8.68*10^-6*C20^2+5.15*10^-4*C20-1.05*10^-2 -> 0.046605745 | E20: =0.99*C20-10.1 -> 46.033
A21: Pi-1 | B21: 3 | C21: 54.9 | D21: =8.68*10^-6*C21^2+5.15*10^-4*C21-1.05*10^-2 -> 0.043935107 | E21: =0.99*C21-10.1 -> 44.251
A22: Pi-1 | B22: 4 | C22: 44.3 | D22: =8.68*10^-6*C22^2+5.15*10^-4*C22-1.05*10^-2 -> 0.029348913 | E22: =0.99*C22-10.1 -> 33.757
A23: Pi-1 | B23: 5 | C23: 48 | D23: =8.68*10^-6*C23^2+5.15*10^-4*C23-1.05*10^-2 -> 0.03421872 | E23: =0.99*C23-10.1 -> 37.42
A24: Ni-1 | B24: 1 | C24: 51.7 | D24: =8.68*10^-6*C24^2+5.15*10^-4*C24-1.05*10^-2 -> 0.039326185 | E24: =0.99*C24-10.1 -> 41.083
A25: Ni-1 | B25: 2 | C25: 43.6 | D25: =8.68*10^-6*C25^2+5.15*10^-4*C25-1.05*10^-2 -> 0.028454333 | E25: =0.99*C25-10.1 -> 33.064
... A63: Mu-1 | B63: 5 | C63: 55.1 | D63: =8.68*10^-6*C63^2+5.15*10^-4*C63-1.05*10^-2 -> 0.044229067 | E63: =0.99*C63-10.1 -> 44.449
A64: Pa-0 | B64: 1
A65: Pa-0 | B65: 2
A66: Pa-0 | B66: 3
A67: Pa-0 | B67: 4
A68: Pa-0 | B68: 5
A69: Pa-1 | B69: 1
A70: Pa-1 | B70: 2
A71: Pa-1 | B71: 3
A72: Pa-1 | B72: 4
A73: Pa-1 | B73: 5
A74: Jn-0 | B74: 1 | C74: 48.9 | D74: =8.68*10^-6*C74^2+5.15*10^-4*C74-1.05*10^-2 -> 0.035439203 | E74: =0.99*C74-10.1 -> 38.311
A75: Jn-0 | B75: 2 | C75: 60.1 | D75: =8.68*10^-6*C75^2+5.15*10^-4*C75-1.05*10^-2 -> 0.051803747 | E75: =0.99*C75-10.1 -> 49.399
A76: Jn-0 | B76: 3 | C76: 42.5 | D76: =8.68*10^-6*C76^2+5.15*10^-4*C76-1.05*10^-2 -> 0.02706575 | E76: =0.99*C76-10.1 -> 31.975
A77: Jn-0 | B77: 4 | C77: 57.5 | D77: =8.68*10^-6*C77^2+5.15*10^-4*C77-1.05*10^-2 -> 0.04781075 | E77: =0.99*C77-10.1 -> 46.825
A78: Jn-0 | B78: 5 | C78: 62 | D78: =8.68*10^-6*C78^2+5.15*10^-4*C78-1.05*10^-2 -> 0.05479592 | E78: =0.99*C78-10.1 -> 51.28
A79: Jn-1 | B79: 1 | C79: 56.3 | D79: =8.68*10^-6*C79^2+5.15*10^-4*C79-1.05*10^-2 -> 0.046007409 | E79: =0.99*C79-10.1 -> 45.637
A80: Jn-1 | B80: 2 | C80: 36.7 | D80: =8.68*10^-6*C80^2+5.15*10^-4*C80-1.05*10^-2 -> 0.020091505 | E80: =0.99*C80-10.1 -> 26.233
A81: Jn-1 | B81: 3 | C81: 39.9 | D81: =8.68*10^-6*C81^2+5.15*10^-4*C81-1.05*10^-2 -> 0.023867147 | E81: =0.99*C81-10.1 -> 29.401
A82: Jn-1 | B82: 4 | C82: 58.7 | D82: =8.68*10^-6*C82^2+5.15*10^-4*C82-1.05*10^-2 -> 0.049639089 | E82: =0.99*C82-10.1 -> 48.013
A83: Jn-1 | B83: 5 | C83: 41.9 | D83: =8.68*10^-6*C83^2+5.15*10^-4*C83-1.05*10^-2 -> 0.026317195 | E83: =0.99*C83-10.1 -> 31.381
A84: Mi-0 | B84: 1 | C84: 60 | D84: =8.68*10^-6*C84^2+5.15*10^-4*C84-1.05*10^-2 -> 0.051648 | E84: =0.99*C84-10.1 -> 49.3
A85: Mi-0 | B85: 2 | C85: 56.2 | D85: =8.68*10^-6*C85^2+5.15*10^-4*C85-1.05*10^-2 -> 0.045858259 | E85: =0.99*C85-10.1 -> 45.538
... A97: Ik-0 | B97: 4 | C97: 64.5 | D97: =8.68*10^-6*C97^2+5.15*10^-4*C97-1.05*10^-2 -> 0.05882847 | E97: =0.99*C97-10.1 -> 53.755
A98: Ik-0 | B98: 5
A99: Ik-1 | B99: 1 | C99: 60.1 | D99: =8.68*10^-6*C99^2+5.15*10^-4*C99-1.05*10^-2 -> 0.051803747 | E99: =0.99*C99-10.1 -> 49.399
A100: Ik-1 | B100: 2 | C100: 69.2 | D100: =8.68*10^-6*C100^2+5.15*10^-4*C100-1.05*10^-2 -> 0.066703395 | E100: =0.99*C100-10.1 -> 58.408
A101: Ik-1 | B101: 3 | C101: 62 | D101: =8.68*10^-6*C101^2+5.15*10^-4*C101-1.05*10^-2 -> 0.05479592 | E101: =0.99*C101-10.1 -> 51.28
A102: Ik-1 | B102: 4 | C102: 38.5 | D102: =8.68*10^-6*C102^2+5.15*10^-4*C102-1.05*10^-2 -> 0.02219343 | E102: =0.99*C102-10.1 -> 28.015
A103: Ik-1 | B103: 5 | C103: 61.3 | D103: =8.68*10^-6*C103^2+5.15*10^-4*C103-1.05*10^-2 -> 0.053686249 | E103: =0.99*C103-10.1 -> 50.587
A104: Mo-0 | B104: 1 | C104: 61.1 | D104: =8.68*10^-6*C104^2+5.15*10^-4*C104-1.05*10^-2 -> 0.053370763 | E104: =0.99*C104-10.1 -> 50.389
A105: Mo-0 | B105: 2 | C105: 57.7 | D105: =8.68*10^-6*C105^2+5.15*10^-4*C105-1.05*10^-2 -> 0.048113737 | E105: =0.99*C105-10.1 -> 47.023
A106: Mo-0 | B106: 3 | C106: 62.5 | D106: =8.68*10^-6*C106^2+5.15*10^-4*C106-1.05*10^-2 -> 0.05559375 | E106: =0.99*C106-10.1 -> 51.775
A107: Mo-0 | B107: 4 | C107: 61 | D107: =8.68*10^-6*C107^2+5.15*10^-4*C107-1.05*10^-2 -> 0.05321328 | E107: =0.99*C107-10.1 -> 50.29
A108: Mo-0 | B108: 5 | C108: 60 | D108: =8.68*10^-6*C108^2+5.15*10^-4*C108-1.05*10^-2 -> 0.051648 | E108: =0.99*C108-10.1 -> 49.3
A109: Mo-1 | B109: 1 | C109: 35.9 | D109: =8.68*10^-6*C109^2+5.15*10^-4*C109-1.05*10^-2 -> 0.019175371 | E109: =0.99*C109-10.1 -> 25.441
A110: Mo-1 | B110: 2 | C110: 53.1 | D110: =8.68*10^-6*C110^2+5.15*10^-4*C110-1.05*10^-2 -> 0.041320715 | E110: =0.99*C110-10.1 -> 42.469
... A117: Ai-0 | B117: 4 | C117: 47.6 | D117: =8.68*10^-6*C117^2+5.15*10^-4*C117-1.05*10^-2 -> 0.033680797 | E117: =0.99*C117-10.1 -> 37.024
A118: Ai-0 | B118: 5
A119: Ai-1 | B119: 1 | C119: 50.9 | D119: =8.68*10^-6*C119^2+5.15*10^-4*C119-1.05*10^-2 -> 0.038201731 | E119: =0.99*C119-10.1 -> 40.291
A120: Ai-1 | B120: 2 | C120: 67.5 | D120: =8.68*10^-6*C120^2+5.15*10^-4*C120-1.05*10^-2 -> 0.06381075 | E120: =0.99*C120-10.1 -> 56.725
A121: Ai-1 | B121: 3 | C121: 50.2 | D121: =8.68*10^-6*C121^2+5.15*10^-4*C121-1.05*10^-2 -> 0.037226947 | E121: =0.99*C121-10.1 -> 39.598
A122: Ai-1 | B122: 4 | C122: 62.2 | D122: =8.68*10^-6*C122^2+5.15*10^-4*C122-1.05*10^-2 -> 0.055114531 | E122: =0.99*C122-10.1 -> 51.478
A123: Ai-1 | B123: 5 | C123: 51.1 | D123: =8.68*10^-6*C123^2+5.15*10^-4*C123-1.05*10^-2 -> 0.038481803 | E123: =0.99*C123-10.1 -> 40.489
A124: Ja-0 | B124: 1 | C124: 56.5 | D124: =8.68*10^-6*C124^2+5.15*10^-4*C124-1.05*10^-2 -> 0.04630623 | E124: =0.99*C124-10.1 -> 45.835
A125: Ja-0 | B125: 2 | C125: 35.5 | D125: =8.68*10^-6*C125^2+5.15*10^-4*C125-1.05*10^-2 -> 0.01872147 | E125: =0.99*C125-10.1 -> 25.045
A126: Ja-0 | B126: 3 | C126: 45.1 | D126: =8.68*10^-6*C126^2+5.15*10^-4*C126-1.05*10^-2 -> 0.030381707 | E126: =0.99*C126-10.1 -> 34.549
A127: Ja-0 | B127: 4 | C127: 46 | D127: =8.68*10^-6*C127^2+5.15*10^-4*C127-1.05*10^-2 -> 0.03155688 | E127: =0.99*C127-10.1 -> 35.44
A128: Ja-0 | B128: 5 | C128: 53 | D128: =8.68*10^-6*C128^2+5.15*10^-4*C128-1.05*10^-2 -> 0.04117712 | E128: =0.99*C128-10.1 -> 42.37
A129: Ja-1 | B129: 1 | C129: 57.6 | D129: =8.68*10^-6*C129^2+5.15*10^-4*C129-1.05*10^-2 -> 0.047962157 | E129: =0.99*C129-10.1 -> 46.924
A130: Ja-1 | B130: 2 | C130: 66.5 | D130: =8.68*10^-6*C130^2+5.15*10^-4*C130-1.05*10^-2 -> 0.06213263 | E130: =0.99*C130-10.1 -> 55.735
... A160: Pu-1 | B160: 2 | C160: 57.3 | D160: =8.68*10^-6*C160^2+5.15*10^-4*C160-1.05*10^-2 -> 0.047508457 | E160: =0.99*C160-10.1 -> 46.627
A161: Pu-1 | B161: 3
A162: Pu-1 | B162: 4
A163: Pu-1 | B163: 5 | C163: 68.8 | D163: =8.68*10^-6*C163^2+5.15*10^-4*C163-1.05*10^-2 -> 0.066018259 | E163: =0.99*C163-10.1 -> 58.012
A164: Si-0 | B164: 1 | C164: 58.3 | D164: =8.68*10^-6*C164^2+5.15*10^-4*C164-1.05*10^-2 -> 0.049026865 | E164: =0.99*C164-10.1 -> 47.617
A165: Si-0 | B165: 2 | C165: 54.2 | D165: =8.68*10^-6*C165^2+5.15*10^-4*C165-1.05*10^-2 -> 0.042911715 | E165: =0.99*C165-10.1 -> 43.558
A166: Si-0 | B166: 3 | C166: 54.1 | D166: =8.68*10^-6*C166^2+5.15*10^-4*C166-1.05*10^-2 -> 0.042766211 | E166: =0.99*C166-10.1 -> 43.459
A167: Si-0 | B167: 4 | C167: 56.8 | D167: =8.68*10^-6*C167^2+5.15*10^-4*C167-1.05*10^-2 -> 0.046755763 | E167: =0.99*C167-10.1 -> 46.132
A168: Si-0 | B168: 5 | C168: 51.2 | D168: =8.68*10^-6*C168^2+5.15*10^-4*C168-1.05*10^-2 -> 0.038622099 | E168: =0.99*C168-10.1 -> 40.588
A169: Si-1 | B169: 1 | C169: 51 | D169: =8.68*10^-6*C169^2+5.15*10^-4*C169-1.05*10^-2 -> 0.03834168 | E169: =0.99*C169-10.1 -> 40.39
A170: Si-1 | B170: 2 | C170: 57.7 | D170: =8.68*10^-6*C170^2+5.15*10^-4*C170-1.05*10^-2 -> 0.048113737 | E170: =0.99*C170-10.1 -> 47.023
A171: Si-1 | B171: 3 | C171: 62 | D171: =8.68*10^-6*C171^2+5.15*10^-4*C171-1.05*10^-2 -> 0.05479592 | E171: =0.99*C171-10.1 -> 51.28
A172: Si-1 | B172: 4 | C172: 55.9 | D172: =8.68*10^-6*C172^2+5.15*10^-4*C172-1.05*10^-2 -> 0.045411851 | E172: =0.99*C172-10.1 -> 45.241
A173: Si-1 | B173: 5 | C173: 59.4 | D173: =8.68*10^-6*C173^2+5.15*10^-4*C173-1.05*10^-2 -> 0.050717165 | E173: =0.99*C173-10.1 -> 48.706
A174: Li-0 | B174: 1 | C174: 55.9 | D174: =8.68*10^-6*C174^2+5.15*10^-4*C174-1.05*10^-2 -> 0.045411851 | E174: =0.99*C174-10.1 -> 45.241
... A203: KP-1 | B203: 5 | C203: 63 | D203: =8.68*10^-6*C203^2+5.15*10^-4*C203-1.05*10^-2 -> 0.05639592 | E203: =0.99*C203-10.1 -> 52.27

Sheet ALL_2021
A3: Plot | B3: Tila | C3: Treat | D3: Group | E3: BD (kg/l) | F3: Porosity | G3: Biomass (kg/ha) | H3: VESS | I3: SD | J3: Earthworms /m2 | K3: SD | L3: Canopeo_leaf area % | M3: SD | N3: Kh (mm/h) | O3: SD | P3: Crop height cm | Q3: SD | R3: Chlorphyll | S3: SD | T3: SPAD | U3: SD | V3: Microplate score (%) | W3: Slakes Score | X3: Nrich vs all
A4: AE-0 | B4: AE | C4: 0 | D4: Subsoiling | E4: 0.80717333 | F4: 0.69540629 | G4: 2968.8796 | H4: 2.1575177 | I4: 0.43725156 | J4: 83.333333 | K4: 23.570226 | L4: 45.85 | M4: 11.059991 | N4: 10.192 | O4: 5.3594676 | P4: 46.333333 | Q4: 2.0548047 | R4: 0 | S4: 0.0066385599 | T4: 52.9432 | U4: 4.0191562 | V4: 100 | W4: 0 | X4: 2 | Y4: 0
A5: AE-1 | B5: AE | C5: 1 | D5: Subsoiling | E5: 0.83296 | F5: 0.68567547 | G5: 3235.3358 | H5: 2.0822222 | I5: 0.47629226 | J5: 75 | K5: 25 | L5: 45.72 | M5: 19.197408 | N5: 23.0588 | O5: 4.2677475 | P5: 46 | Q5: 1.6329932 | R5: 0 | S5: 0.00086215866 | T5: 53.7748 | U5: 0.52160882 | V5: 100 | W5: 0 | X5: 2 | Y5: 0
A6: Ai-0 | B6: Ai | C6: 0 | D6: Ley in rotation | E6: 1.3810933 | F6: 0.4788327 | G6: 332.54142 | H6: 3.5402899 | I6: 0.58024497 | J6: 16.666667 | K6: 23.570226 | L6: 7.25 | M6: 5.5518826 | N6: 37.4534 | O6: 29.347697 | P6: 7 | Q6: 0 | R6: 0.030804826 | S6: 0.012918396 | T6: 34.12825 | U6: 10.48264 | V6: 90 | W6: 0.4 | X6: 2 | Y6: 0
A7: Ai-1 | B7: Ai | C7: 1 | D7: Ley in rotation | E7: 1.2261867 | F7: 0.53728805 | G7: 542.071 | H7: 3.2692308 | I7: 0.32191738 | J7: 50 | K7: 0 | L7: 51.423333 | M7: 6.7687632 | N7: 11.6635 | O7: 6.2004067 | P7: 9.3333333 | Q7: 0.94280904 | R7: 0.046567152 | S7: 0.010890289 | T7: 45.7162 | U7: 7.0509688 | V7: 85 | W7: 3.3 | X7: 2 | Y7: 0
A8: Ik-0 | B8: Ik | C8: 0 | D8: Ley in rotation | E8: 0.91101333 | F8: 0.65622138 | G8: 5054.7551 | H8: 2.7485714 | I8: 0.35877342 | J8: 0 | K8: 0 | L8: 94.155 | M8: 3.005 | N8: 29.86628 | O8: 24.284645 | P8: 76.5 | Q8: 3.5 | R8: 0.060996305 | S8: 0.0046886548 | T8: 55.01725 | U8: 2.800471 | V8: 100 | W8: 0 | X8: 2 | Y8: 0
A9: Ik-1 | B9: Ik | C9: 1 | D9: Ley in rotation | E9: 1.1066133 | F9: 0.58241006 | G9: 3037.0286 | H9: 2.3188728 | I9: 0.23845831 | J9: 16.666667 | K9: 23.570226 | L9: 96.006667 | M9: 2.1048251 | N9: 11.483759 | O9: 8.3471398 | P9: 31 | Q9: 1.4142136 | R9: 0.049836548 | S9: 0.014777807 | T9: 47.5378 | U9: 10.257356 | V9: 100 | W9: 0 | X9: 2 | Y9: 0
A10: Ja-0 | B10: Ja | C10: 0 | D10: Ley in rotation | E10: 1.09896 | F10: 0.58529811 | G10: 8192.2351 | H10: 3.5977011 | I10: 0.13817029 | J10: 0 | K10: 0 | L10: 43.446667 | M10: 8.2849435 | N10: 3.9542 | O10: 2.0197962 | P10: 44.666667 | Q10: 4.1096093 | R10: 0.033628681 | S10: 0.0095368687 | T10: 36.6478 | U10: 7.1782578 | V10: 100 | W10: 1.2 | X10: 2 | Y10: 0
A11: Ja-1 | B11: Ja | C11: 1 | D11: Ley in rotation | E11: 1.13064 | F11: 0.5733434 | G11: 2052.983 | H11: 3.337963 | I11: 0.078703704 | J11: 25 | K11: 25 | L11: 82.263333 | M11: 2.8001111 | N11: 1.2588 | O11: 0.63881747 | P11: 22.666667 | Q11: 2.0548047 | R11: 0.051268939 | S11: 0.0093604998 | T11: 48.8446 | U11: 6.1515895 | V11: 85 | W11: 0 | X11: 2 | Y11: 0
A12: Jn-0 | B12: Jn | C12: 0 | D12: Carbon grazing | E12: 1.1902667 | F12: 0.55084277 | G12: 3637.6328 | H12: 2.9689937 | I12: 0.35515822 | J12: 16.666667 | K12: 23.570226 | L12: 83.03 | M12: 10.006188 | N12: 5.1398 | O12: 2.0643248 | P12: 25 | Q12: 4.8476799 | R12: 0.043383074 | S12: 0.010489283 | T12: 43.558 | U12: 7.2954335 | V12: 100 | W12: 0 | X12: 2 | Y12: 0
A13: Jn-1 | B13: Jn | C13: 1 | D13: Carbon grazing | E13: 1.09008 | F13: 0.58864906 | G13: 4819.4926 | H13: 2.978329 | I13: 0.079944246 | J13: 33.333333 | K13: 47.140452 | L13: 86.606667 | M13: 8.2468795 | N13: 1.066 | O13: 0.6644354 | P13: 29.333333 | Q13: 4.9216077 | R13: 0.033184469 | S13: 0.012170291 | T13: 36.133 | U13: 8.9148387 | V13: 100 | W13: 0.3 | X13: 2 | Y13: 0
A14: Ki-0 | B14: Ki | C14: 0 | D14: N-poor soil amendments | E14: 1.2470667 | F14: 0.52940881 | G14: 5096.543 | H14: 2.0700431 | I14: 0.82835802 | J14: 0 | K14: 0 | L14: 81.233333 | M14: 3.507956 | N14: 63.7938 | O14: 50.554444 | P14: 55 | Q14: 17.79513 | R14: 0.034102539 | S14: 0.01746653 | T14: 36.2716 | U14: 12.734279 | V14: 97.5 | W14: 0 | X14: 0 | Y14: 0
A15: Ki-1 | B15: Ki | C15: 1 | D15: N-poor soil amendments | E15: 1.07584 | F15: 0.59402264 | G15: 4583.5341 | H15: 1.5006191 | I15: 0.056802931 | J15: 0 | K15: 0 | L15: 85.606667 | M15: 2.2708931 | N15: 63.18 | O15: 33.189469 | P15: 60 | Q15: 0 | R15: 0.03709223 | S15: 0.0035893997 | T15: 39.4594 | U15: 2.5858527 | V15: 100 | W15: 0 | X15: 1 | Y15: 0
... A25: Mi-1 | B25: Mi | C25: 1 | D25: Carbon grazing | E25: 0.91352 | F25: 0.65527547 | G25: 6092.9399 | H25: 3.2222222 | I25: 0.80521846 | J25: 16.666667 | K25: 23.570226 | L25: 76.823333 | M25: 13.070043 | N25: 1.754 | O25: 1.7296543 | P25: 40.666667 | Q25: 0.94280904 | R25: 0.043214287 | S25: 0.0069917449 | T25: 43.6372 | U25: 4.5833472 | V25: 95 | W25: 0.4 | X25: 2 | Y25: 0
A26: Mo-0 | B26: Mo | C26: 0 | D26: Ley in rotation | E26: 1.2177867 | F26: 0.54045786 | G26: 1714.3722 | H26: 3.8824532 | I26: 0.36882804 | J26: 33.333333 | K26: 23.570226 | L26: 59.063333 | M26: 13.055002 | N26: 1.9142 | O26: 1.6253345 | R26: 0.052387906 | S26: 0.0024795429 | T26: 49.7554 | U26: 1.5773033 | V26: 87.5 | W26: 2 | X26: 2 | Y26: 0
A27: Mo-1 | B27: Mo | C27: 1 | D27: Ley in rotation | E27: 1.2456 | F27: 0.52996226 | G27: 5691.5211 | H27: 3.8264103 | I27: 0.094787905 | J27: 25 | K27: 25 | L27: 58.63 | M27: 7.8852563 | N27: 2.005 | O27: 0.15516121 | R27: 0.031150444 | S27: 0.013840997 | T27: 34.4302 | U27: 10.216378 | V27: 82.5 | W27: 0.6 | X27: 2 | Y27: 0
A28: Mu-0 | B28: Mu | C28: 0 | D28: Subsoiling | E28: 1.1333867 | F28: 0.57230692 | G28: 2526.3921 | H28: 2.9763533 | I28: 0.3507929 | J28: 16.666667 | K28: 23.570226 | L28: 92.626667 | M28: 1.4260045 | N28: 0.8726 | O28: 0.48117465 | P28: 24.666667 | Q28: 4.1096093 | R28: 0.043255443 | S28: 0.0091875442 | T28: 43.558 | U28: 6.2299246 | V28: 95 | W28: 0 | X28: 2 | Y28: 1
A29: Mu-1 | B29: Mu | C29: 1 | D29: Subsoiling | E29: 1.0957333 | F29: 0.58651572 | G29: 2640.933 | H29: 3.4613527 | I29: 0.18544056 | J29: 0 | K29: 0 | L29: 94.136667 | M29: 1.4144571 | N29: 0.5272 | O29: 0.42162467 | P29: 22.333333 | Q29: 1.6996732 | R29: 0.045756107 | S29: 0.01106456 | T29: 45.142 | U29: 7.4588469 | V29: 97.5 | W29: 0 | X29: 2 | Y29: 1
A30: Na-0 | B30: Na | C30: 0 | D30: Cover crops | E30: 0.98010667 | F30: 0.63014843 | G30: 8751.2392 | H30: 2.6180556 | I30: 0.20994745 | J30: 50 | K30: 40.824829 | L30: 87.796667 | M30: 2.2101634 | N30: 1.0098 | O30: 0.93941735 | P30: 69.333333 | Q30: 2.6246693 | R30: 0.059359688 | S30: 0.0055722238 | T30: 54.0124 | U30: 3.4531563 | V30: 97.5 | W30: 0 | X30: 2 | Y30: 0
A31: Na-1 | B31: Na | C31: 1 | D31: Cover crops | E31: 1.00168 | F31: 0.62200755 | G31: 7482.4112 | H31: 2.5829248 | I31: 0.18761433 | J31: 0 | K31: 0 | L31: 81.006667 | M31: 4.7960076 | N31: 0.7752 | O31: 0.31066857 | P31: 63.333333 | Q31: 0.47140452 | R31: 0.054038001 | S31: 0.0059510223 | T31: 50.7256 | U31: 3.8386476 | V31: 95 | W31: 0.6 | X31: 2 | Y31: 0
A32: Ne-0 | B32: Ne | C32: 0 | D32: Cover crops | E32: 0.96085333 | F32: 0.63741384 | G32: 7224.8636 | H32: 2.7927803 | I32: 0.11957339 | J32: 50 | K32: 40.824829 | L32: 58.56 | M32: 19.66565 | N32: 3.0054 | O32: 2.1805078 | P32: 51.333333 | Q32: 3.0912062 | R32: 0.054945547 | S32: 0.0084670404 | T32: 51.2206 | U32: 5.2604691 | V32: 100 | W32: 0 | X32: 2 | Y32: 0
A33: Ne-1 | B33: Ne | C33: 1 | D33: Cover crops | E33: 0.94592 | F33: 0.64304906 | G33: 9923.7109 | H33: 3.04 | I33: 0.11775681 | J33: 16.666667 | K33: 23.570226 | L33: 83.503333 | M33: 7.4984991 | N33: 1.411 | O33: 0.673373 | P33: 59 | Q33: 2.1602469 | R33: 0.061270829 | S33: 0.0047149744 | T33: 55.1806 | U33: 2.8187023 | V33: 100 | W33: 0 | X33: 2 | Y33: 0
A34: Ni-0 | B34: Ni | C34: 0 | D34: Carbon grazing | E34: 1.18688 | F34: 0.55212075 | G34: 4043.5516 | H34: 2.9156328 | I34: 0.2382134 | J34: 0 | K34: 0 | L34: 87.2 | M34: 4.583543 | N34: 2.894 | O34: 1.2350364 | P34: 36 | Q34: 6.4807407 | R34: 0.044141224 | S34: 0.010258458 | T34: 44.0728 | U34: 7.2855929 | V34: 95 | W34: 0.4 | X34: 2 | Y34: 0
A35: Ni-1 | B35: Ni | C35: 1 | D35: Carbon grazing | E35: 0.84469333 | F35: 0.6812478 | G35: 4768.9258 | H35: 2.7993979 | I35: 0.29964522 | J35: 0 | K35: 0 | L35: 79.615 | M35: 9.741418 | N35: 2.2094 | O35: 0.64368955 | P35: 56.666667 | Q35: 4.7140452 | R35: 0.03668049 | S35: 0.0056244678 | T35: 39.103 | U35: 4.0408497 | V35: 100 | W35: 0 | X35: 2 | Y35: 0
A36: Pa-0 | B36: Pa | C36: 0 | D36: N-rich soil amendments | E36: 1.13288 | F36: 0.57249811 | G36: 6168.3009 | H36: 3.6811409 | I36: 0.055770037 | J36: 0 | K36: 0 | L36: 14.323333 | M36: 10.995624 | N36: 22.8268 | O36: 12.599865 | P36: 32.5 | Q36: 5.4083269 | V36: 95 | W36: 0.9 | X36: 2 | Y36: 0
A37: Pa-1 | B37: Pa | C37: 1 | D37: N-rich soil amendments | E37: 1.1547467 | F37: 0.56424654 | G37: 4922.7957 | H37: 3.6733143 | I37: 0.25830872 | J37: 16.666667 | K37: 23.570226 | L37: 25.896667 | M37: 8.0705487 | N37: 15.2128 | O37: 6.3948562 | P37: 46 | Q37: 11.343133 | V37: 85 | W37: 1.3 | X37: 2 | Y37: 0
A38: Pi-0 | B38: Pi | C38: 0 | D38: N-rich soil amendments | E38: 0.92893333 | F38: 0.64945912 | G38: 2077.4128 | H38: 2.574552 | I38: 0.22241234 | J38: 0 | K38: 0 | L38: 95.723333 | M38: 0.50413843 | N38: 55.188602 | O38: 25.995441 | P38: 50 | Q38: 4.0824829 | R38: 0.035030842 | S38: 0.0023976982 | T38: 37.9942 | U38: 1.7524958 | V38: 95 | W38: 0.7 | X38: 0 | Y38: 0
A39: Pi-1 | B39: Pi | C39: 1 | D39: N-rich soil amendments | E39: 0.97432 | F39: 0.63233208 | G39: 1479.9465 | H39: 2.7150794 | I39: 0.35299353 | J39: 25 | K39: 25 | L39: 94.75 | M39: 1.2493465 | N39: 111.2106 | O39: 57.399022 | P39: 48.333333 | Q39: 6.2360956 | R39: 0.035936675 | S39: 0.0081427336 | T39: 38.4496 | U39: 5.8814999 | V39: 97.5 | W39: 0.3 | X39: 1 | Y39: 0
A40: Pu-0 | B40: Pu | C40: 0 | D40: Cover crops | E40: 0.90285333 | F40: 0.65930063 | G40: 1670.669 | H40: 3.2403017 | I40: 0.32676498 | J40: 125 | K40: 43.30127 | L40: 66.58 | M40: 14.555922 | N40: 6.4098721 | O40: 1.6585181 | R40: 0.048147852 | S40: 0.0087125353 | T40: 46.8448 | U40: 5.8860974 | V40: 80 | W40: 2.2 | X40: 2 | Y40: 0
A41: Pu-1 | B41: Pu | C41: 1 | D41: Cover crops | E41: 1.0082933 | F41: 0.61951195 | G41: 1994.04 | H41: 3.388604 | I41: 0.19612643 | J41: 60 | K41: 37.416574 | L41: 79.606667 | M41: 4.4443547 | N41: 7.2586001 | O41: 1.479828 | R41: 0.055948674 | S41: 0.0076439224 | T41: 51.874 | U41: 4.6904134 | V41: 92.5 | W41: 0.7 | X41: 2 | Y41: 0
A42: Si-0 | B42: Si | C42: 0 | D42: Cover crops | E42: 1.1898133 | F42: 0.55101384 | G42: 10644.21 | H42: 3.5942029 | I42: 0.57388376 | J42: 0 | K42: 0 | L42: 60.28 | M42: 9.0838024 | N42: 16.1024 | O42: 10.106458 | R42: 0.044016531 | S42: 0.0035913968 | T42: 44.2708 | U42: 2.4245098 | V42: 97.5 | W42: 1 | X42: 2 | Y42: 0
A43: Si-1 | B43: Si | C43: 1 | D43: Cover crops | E43: 1.14248 | F43: 0.56887547 | G43: 9008.976 | H43: 3.5268727 | I43: 0.2046202 | J43: 0 | K43: 0 | L43: 67.333333 | M43: 2.7970262 | N43: 14.088 | O43: 11.369078 | R43: 0 | S43: 0.0055170572 | T43: 46.528 | U43: 3.6579127 | V43: 95 | W43: 5.5 | X43: 2 | Y43: 0
J44: =MAX(J4:J43) -> 125

Sheet ALL_2020
A2: Plot | B2: Farm | C2: Treat | D2: Group | E2: BD (kg/l) | F2: Porosity | G2: Biomass (kg/ha) | H2: VESS | I2: SD | J2: Earthworms /m2 | K2: SD | L2: Canopeo_leaf area % | M2: SD | N2: Kh (mm/h) | O2: SD | P2: Crop height cm | Q2: SD | R2: Chlorphyll | S2: SD | T2: SPAD | U2: SD
A3: AE-0 | B3: AE | C3: 0 | D3: Subsoiling | E3: 0.77949425 | F3: 0.70585123 | G3: 12547.71 | H3: 2.6379209 | I3: 0.22459072 | J3: 70 | K3: 67.8233 | L3: 15.519375 | M3: 2.2256878 | N3: 5.4732355 | O3: 3.0986892 | P3: 125 | Q3: 12.247449 | R3: 0 | S3: 0 | T3: 0 | U3: 0
A4: AE-1 | B4: AE | C4: 1 | D4: Subsoiling | E4: 0.73650575 | F4: 0.7220733 | G4: 11157.49 | H4: 1.9084987 | I4: 0.10260522 | J4: 50 | K4: 77.459667 | L4: 13.669375 | M4: 3.2709845 | N4: 5.1845507 | O4: 3.2657381 | P4: 126.25 | Q4: 6.4951905 | R4: 0 | S4: 0 | T4: 0 | U4: 0
A5: Ai-0 | B5: Ai | C5: 0 | D5: Ley in rotation | E5: 1.2425287 | F5: 0.53112123 | G5: 3040.117 | H5: 2.8603995 | I5: 0.36644087 | J5: 20 | K5: 40 | L5: 91.9755 | M5: 4.7844523 | N5: 11.398292 | O5: 9.6221867 | P5: 43 | Q5: 2.4494897 | R5: 0.047341024 | S5: 0.0085556475 | T5: 46.33 | U5: 5.6698571
A6: Ai-1 | B6: Ai | C6: 1 | D6: Ley in rotation | E6: 1.1731034 | F6: 0.55731945 | G6: 5773.2137 | H6: 2.7494408 | I6: 0.18606421 | J6: 70 | K6: 60 | L6: 83.402 | M6: 9.1329655 | N6: 10.775629 | O6: 6.7656293 | P6: 79 | Q6: 3.7416574 | R6: 0.036615536 | S6: 0.0066244745 | T6: 39.004 | U6: 4.9539584
A7: Ik-0 | B7: Ik | C7: 0 | D7: Ley in rotation | E7: 0.93402299 | F7: 0.64753849 | G7: 8188.1755 | H7: 2.6945604 | I7: 0.17670949 | J7: 0 | K7: 0 | L7: 85.495 | M7: 10.053332 | N7: 11.572385 | O7: 1.9279074 | P7: 85 | Q7: 6.1237244 | R7: 0.053706304 | S7: 0.01165435 | T7: 50.29 | U7: 7.4612117
A8: Ik-1 | B8: Ik | C8: 1 | D8: Ley in rotation | E8: 0.98995402 | F8: 0.62643244 | G8: 802.40585 | H8: 2.316298 | I8: 0.5457136 | J8: 0 | K8: 0 | L8: 67.2425 | M8: 7.8770271 | N8: 8.1867516 | O8: 3.6579273 | P8: 10 | Q8: 0 | R8: 0.036657792 | S8: 0.016915922 | T8: 38.014 | U8: 13.553964
A9: Ja-0 | B9: Ja | C9: 0 | D9: Ley in rotation | E9: 0.91678161 | F9: 0.65404468 | G9: 4360.8567 | H9: 3.7731237 | I9: 0.29910002 | J9: 20 | K9: 40 | L9: 69.5255 | M9: 7.8585036 | N9: 8.2792502 | O9: 2.3043427 | P9: 60 | Q9: 0 | R9: 0.049013936 | S9: 0.010841277 | T9: 47.32 | U9: 7.0838634
A10: Ja-1 | B10: Ja | C10: 1 | D10: Ley in rotation | E10: 1.072069 | F10: 0.59544567 | G10: 601.6276 | H10: 3.9926654 | I10: 0.442602 | J10: 30 | K10: 40 | L10: 40.159 | M10: 18.363684 | N10: 13.734151 | O10: 8.5491005 | P10: 38 | Q10: 8.7177979 | R10: 0.036664144 | S10: 0.0075507607 | T10: 39.004 | U10: 5.4799876
A11: Jn-0 | B11: Jn | C11: 0 | D11: Carbon grazing | E11: 1.0965287 | F11: 0.58621557 | G11: 1046.1226 | H11: 2.9148682 | I11: 0.27802649 | J11: 90 | K11: 48.989795 | L11: 61.3745 | M11: 4.8037085 | N11: 4.0079715 | O11: 1.6879075 | P11: 22.8 | Q11: 21.535088 | R11: 0.032506464 | S11: 0.0055444952 | T11: 36.034 | U11: 4.228123
A12: Jn-1 | B12: Jn | C12: 1 | D12: Carbon grazing | E12: 1.0477635 | F12: 0.60461753 | G12: 3988.5766 | H12: 3.1511381 | I12: 0.17388243 | J12: 160 | K12: 115.75837 | L12: 92.4875 | M12: 4.4145343 | N12: 17.660522 | O12: 9.5905928 | P12: 86 | Q12: 8.6023253 | R12: 0.024887248 | S12: 0.012845792 | T12: 29.5 | U12: 10.076624
A13: Ki-0 | B13: Ki | C13: 0 | D13: N-poor soil amendments | E13: 1.1718391 | F13: 0.55779657 | G13: 1868.4007 | H13: 2.5483002 | I13: 0.88716783 | J13: 0 | K13: 0 | L13: 63.1625 | M13: 17.676694 | N13: 71.942256 | O13: 29.15025 | P13: 60 | Q13: 0 | R13: 0.04801864 | S13: 0.012530158 | T13: 47.815 | U13: 1.485
A14: Ki-1 | B14: Ki | C14: 1 | D14: N-poor soil amendments | E14: 1.0925287 | F14: 0.58772501 | G14: 2563.0772 | H14: 1.9773077 | I14: 0.24339115 | J14: 0 | K14: 0 | L14: 73.5165 | M14: 13.86511 | N14: 43.649921 | O14: 29.670335 | P14: 41 | Q14: 12 | R14: 0.043841856 | S14: 0.0035719872 | T14: 44.152 | U14: 2.4571154
... A42: Si-1 | B42: Si | C42: 1 | D42: Cover crops | E42: 0.7983908 | F42: 0.69872045 | G42: 630.79877 | H42: 3.0514286 | I42: 0.20136496 | J42: 50 | K42: 31.622777 | L42: 34.688 | M42: 12.040044 | N42: 8.878813 | O42: 1.2108759 | P42: 39.25 | Q42: 6.259992 | R42: 0 | S42: 0 | T42: 0 | U42: 0

Sheet 2019
A3: Plot | B3: Tila | C3: Treatment | D3: Group | E3: Bulk density kg/l | F3: Porosity | G3: Biomass kg/ha | H3: avg VESS | I3: std VESS | J3: Earthworms avg per m2 | K3: Earthworms k.h | L3: Canopeo avg | M3: Canopeo std | N3: Infiltrometer mm/h | O3: Infiltrometer std | P3: Water pores | Q3: Air pores | R3: Solid earth
A4: Ai-0 | B4: Ai | C4: 0 | D4: Ley in rotation | E4: 1.3864198 | F4: 0.47682273 | G4: 6202.567 | H4: 2.9955724 | I4: 0.4081075 | J4: 0 | K4: 0 | L4: 0.6 | M4: 1.2 | N4: 13.193882 | O4: 7.0631573 | P4: 0.18735162 | Q4: 0.28947112 | R4: 0.52317727
A5: Ai-1 | B5: Ai | C5: 1 | D5: Ley in rotation | E5: 1.2148148 | F5: 0.54157932 | G5: 4140.6728 | H5: 2.7878502 | I5: 0.24583054 | J5: 0 | K5: 0 | L5: 60.8 | M5: 20.855695 | N5: 10.213658 | O5: 8.5475742 | P5: 0.28944591 | Q5: 0.25213341 | R5: 0.45842068
A6: At-0 | B6: At | C6: 0 | D6: Diverse grass | E6: 1.017284 | F6: 0.61611926 | G6: 813.72549 | H6: 2.9410104 | I6: 0.42252117 | J6: 0 | K6: 0 | L6: 33.6 | M6: 24.286622 | N6: 1.6763873 | O6: 1.1378191 | P6: 0.45220652 | Q6: 0.16391274 | R6: 0.38388074
A7: At-1 | B7: At | C7: 1 | D7: Diverse grass | E7: 1.2302469 | F7: 0.53575588 | G7: 1568.9103 | H7: 3.2253968 | I7: 0.27709111 | J7: 30 | K7: 40 | L7: 23.8 | M7: 21.367265 | N7: 1.7401186 | O7: 1.177134 | P7: 0.45171702 | Q7: 0.084038864 | R7: 0.46424412
A8: Ja-0 | B8: Ja | C8: 0 | D8: Ley in rotation | E8: 1.4037037 | F8: 0.47030049 | G8: 13067.708 | H8: 3.1553651 | I8: 0.20783287 | J8: 0 | K8: 0 | L8: 1 | M8: 1.5491933 | N8: 1.6963563 | O8: 0.84661231 | P8: 0.24759284 | Q8: 0.22270765 | R8: 0.52969951
A9: Ja-1 | B9: Ja | C9: 1 | D9: Ley in rotation | E9: 1.062963 | F9: 0.5988819 | G9: 13423.913 | H9: 3.6520969 | I9: 0.12493422 | J9: 10 | K9: 20 | L9: 2.4 | M9: 2.2449944 | N9: 1.4228155 | O9: 1.3568954 | P9: 0.4396249 | Q9: 0.159257 | R9: 0.4011181
A10: Jn-0 | B10: Jn | C10: 0 | D10: Grazing | E10: 1.0762214 | F10: 0.59387873 | G10: 4120.1456 | H10: 2.6568084 | I10: 0.28865192 | J10: 10 | K10: 20 | L10: 28 | M10: 16.589153 | N10: 1.249269 | O10: 1.4281366 | P10: 0.51645953 | Q10: 0.077419199 | R10: 0.40612127
A11: Jn-1 | B11: Jn | C11: 1 | D11: Grazing | E11: 1.0166931 | F11: 0.61634223 | G11: 6113.8393 | H11: 3.1266469 | I11: 0.322549 | J11: 0 | K11: 0 | L11: 12 | M11: 3.4641016 | N11: 0.3690338 | O11: 0.46353895 | P11: 0.73504307 | Q11: -0.11870084 | R11: 0.38365777
A12: Jo-0 | B12: Jo | C12: 0 | D12: Cover crops | G12: 5330.756 | H12: 2.8370655 | I12: 0.48988697 | J12: 20 | K12: 40 | L12: 83.8 | M12: 8.7954534 | N12: 3.6988668 | O12: 3.0588134 | Q12: 1 | R12: 0
A13: Jo-1 | B13: Jo | C13: 1 | D13: Cover crops | G13: 6624.2138 | H13: 2.6837762 | I13: 0.31876326 | J13: 0 | K13: 0 | L13: 81.8 | M13: 4.4899889 | N13: 5.6831766 | O13: 6.8297421 | Q13: 1 | R13: 0
A14: Ka-0 | B14: Ka | C14: 0 | D14: All in | E14: 0.99858025 | F14: 0.62317727 | G14: 1825.8427 | H14: 2.5589947 | I14: 0.31020321 | J14: 0 | K14: 0 | L14: 61 | M14: 5.0199602 | N14: 4.966067 | O14: 0.64101532 | P14: 0.57850654 | Q14: 0.044670727 | R14: 0.37682273
A15: Ka-1 | B15: Ka | C15: 1 | D15: All in | E15: 0.70123457 | F15: 0.73538318 | G15: 1825.8427 | H15: 2.0859259 | I15: 0.6056995 | J15: 0 | K15: 0 | L15: 61.8 | M15: 2.8565714 | N15: 6.9426532 | O15: 2.5910586 | P15: 0.35200681 | Q15: 0.38337637 | R15: 0.26461682
A16: Ke-0 | B16: Ke | C16: 0 | D16: Cover crops | E16: 0.9962963 | F16: 0.62403913 | G16: 2022.4719 | H16: 2.4759406 | I16: 0.18256368 | J16: 0 | K16: 0 | L16: 51.8 | M16: 8.7954534 | N16: 4.6126299 | O16: 3.0008941 | P16: 0.51993804 | Q16: 0.10410109 | R16: 0.37596087
A17: Ke-1 | B17: Ke | C17: 1 | D17: Cover crops | E17: 0.8691358 | F17: 0.67202423 | H17: 2.593094 | I17: 0.3745645 | J17: 0 | K17: 0 | L17: 5 | M17: 0 | N17: 8.1774862 | O17: 4.8458118 | P17: 0.45357668 | Q17: 0.21844754 | R17: 0.32797577
A18: Ki-0 | B18: Ki | C18: 0 | D18: Org.amendments | G18: 2790.2462 | H18: 2.6668929 | I18: 0.98283415 | J18: 10 | K18: 20 | L18: 19 | M18: 9.0994505 | N18: 73.480875 | O18: 36.612643 | P18: 0 | Q18: 1 | R18: 0
A19: Ki-1 | B19: Ki | C19: 1 | D19: Org.amendments | G19: 5045.2851 | H19: 2.1116692 | I19: 0.40372955 | J19: 0 | K19: 0 | L19: 55.2 | M19: 20.29187 | N19: 64.432103 | O19: 44.527536 | P19: 0 | Q19: 1 | R19: 0
A20: Ko-0 | B20: Ko | C20: 0 | D20: Subsoiling | E20: 0.82098765 | F20: 0.69019334 | G20: 2063.75 | H20: 2.8842062 | I20: 0.26423242 | J20: 0 | K20: 0 | L20: 67.6 | M20: 15.679286 | N20: 6.8759365 | O20: 9.5239669 | P20: 0.22161662 | Q20: 0.46857672 | R20: 0.30980666
A21: Ko-1 | B21: Ko | C21: 1 | D21: Subsoiling | E21: 0.9617284 | F21: 0.63708362 | G21: 2562.5 | H21: 2.9436203 | I21: 0.34687248 | J21: 20 | K21: 40 | L21: 63.6 | M21: 14.008569 | N21: 4.633998 | O21: 2.2847151 | P21: 0.2702348 | Q21: 0.36684883 | R21: 0.36291638
A22: KP-0 | B22: KP | C22: 0 | D22: Subsoiling | E22: 0.86524691 | F22: 0.67349173 | H22: 2.723172 | I22: 0.24188695 | J22: 0 | K22: 0 | L22: 0 | M22: 0 | N22: 18.001765 | O22: 13.091993 | P22: 0.45345932 | Q22: 0.22003241 | R22: 0.32650827
A23: KP-1 | B23: KP | C23: 1 | D23: Subsoiling | E23: 1.0764403 | F23: 0.5937961 | H23: 2.9557029 | I23: 0.21394443 | J23: 0 | K23: 0 | L23: 0 | M23: 0 | N23: 34.163608 | O23: 9.5989281 | P23: 0.45709321 | Q23: 0.13670289 | R23: 0.4062039
A24: Ky-0 | B24: Ky | C24: 0 | D24: Grazing | E24: 0.48913013 | F24: 0.81542259 | G24: 4970.297 | H24: 2.4079637 | I24: 0.39273812 | J24: 0 | K24: 0 | L24: 87.6 | M24: 2.9393877 | N24: 1.6776832 | O24: 1.4339353 | P24: 0.27796257 | Q24: 0.53746002 | R24: 0.18457741
A25: Ky-1 | B25: Ky | C25: 1 | D25: Grazing | E25: 0.63422733 | F25: 0.76066893 | G25: 2228.5657 | H25: 2.4343342 | I25: 0.46808852 | J25: 0 | K25: 0 | L25: 35.75 | M25: 5.584577 | N25: 2.5548055 | O25: 2.1526903 | P25: 0.3253784 | Q25: 0.43529053 | R25: 0.23933107
A26: La-0 | B26: La | C26: 0 | D26: Subsoiling | E26: 1.1595988 | F26: 0.56241556 | G26: 983.14607 | H26: 2.857812 | I26: 0.4467309 | J26: 0 | K26: 0 | L26: 70.2 | M26: 14.985326 | N26: 1.8934842 | O26: 1.9986052 | P26: 0.6846024 | Q26: -0.12218683 | R26: 0.43758444
A27: La-1 | B27: La | C27: 1 | D27: Subsoiling | E27: 1.2289969 | F27: 0.53622758 | G27: 1228.9326 | H27: 3.136223 | I27: 0.24194097 | J27: 0 | K27: 0 | L27: 80.8 | M27: 6.5848311 | N27: 1.9976082 | O27: 1.1525512 | P27: 0.73915356 | Q27: -0.20292598 | R27: 0.46377242
A28: Li-0 | B28: Li | C28: 0 | D28: Org.amendments | E28: 0.90246914 | F28: 0.65944561 | G28: 9538.4615 | H28: 2.3617343 | I28: 0.36636977 | J28: 0 | K28: 0 | L28: 22.4 | M28: 9.0686272 | N28: 2.0949498 | O28: 0.80674081 | P28: 0.14987522 | Q28: 0.50957039 | R28: 0.34055439
A29: Li-1 | B29: Li | C29: 1 | D29: Org.amendments | E29: 0.70246914 | F29: 0.73491731 | G29: 11742.308 | H29: 2.6252801 | I29: 0.39372774 | J29: 0 | K29: 0 | L29: 18.6 | M29: 7.3102668 | N29: 5.6358019 | O29: 3.2115168 | P29: 0.39195417 | Q29: 0.34296313 | R29: 0.26508269
A30: Me-0 | B30: Me | C30: 0 | D30: Diverse grass | E30: 1.2139645 | F30: 0.54190017 | H30: 3.098996 | I30: 0.65636969 | J30: 20 | K30: 24.494897 | L30: 91.6 | M30: 2.4166092 | N30: 6.8824034 | O30: 7.733841 | P30: 0.6630433 | Q30: -0.12114313 | R30: 0.45809983
A31: Me-1 | B31: Me | C31: 1 | D31: Diverse grass | E31: 1.5374502 | F31: 0.41983013 | H31: 2.9369231 | I31: 0.41522504 | J31: 0 | K31: 0 | L31: 73.75 | M31: 16.902293 | N31: 1.3309696 | O31: 1.1136344 | P31: 0.82273643 | Q31: -0.4029063 | R31: 0.58016987
A32: Mi-0 | B32: Mi | C32: 0 | D32: Grazing | E32: 0.90493827 | F32: 0.65851386 | G32: 4179.6875 | H32: 2.8000741 | I32: 0.34094264 | J32: 0 | K32: 0 | L32: 68.4 | M32: 11.534297 | N32: 2.6901568 | O32: 1.3982471 | P32: 0.37426835 | Q32: 0.28424551 | R32: 0.34148614
A33: Mi-1 | B33: Mi | C33: 1 | D33: Grazing | E33: 1.0222222 | F33: 0.61425577 | G33: 7414.6982 | H33: 2.8737931 | I33: 0.15038253 | J33: 0 | K33: 0 | L33: 80.6 | M33: 4.0298883 | N33: 1.1123615 | O33: 0.2199724 | P33: 0.40169081 | Q33: 0.21256496 | R33: 0.38574423
A34: ML-0 | B34: ML | C34: 0 | D34: Diverse grass | E34: 1.1851852 | F34: 0.55276031 | G34: 3000 | H34: 2.220396 | I34: 0.25585218 | J34: 10 | K34: 20 | L34: 61.8 | M34: 8.7269697 | N34: 3.5299095 | O34: 1.7821767 | P34: 0.13571247 | Q34: 0.41704783 | R34: 0.44723969
A35: ML-1 | B35: ML | C35: 1 | D35: Diverse grass | E35: 1.0790123 | F35: 0.59282553 | G35: 3277.7778 | H35: 2.3907407 | I35: 0.46438301 | J35: 0 | K35: 0 | L35: 68 | M35: 14.028542 | N35: 3.5322136 | O35: 2.2885603 | P35: 0.23483344 | Q35: 0.35799209 | R35: 0.40717447
A36: Mo-0 | B36: Mo | C36: 0 | D36: Ley in rotation | E36: 1.1702143 | F36: 0.55840971 | G36: 12923.11 | H36: 3.4240639 | I36: 0.33434032 | J36: 30 | K36: 40 | L36: 2.4 | M36: 1.0198039 | N36: 2.3015579 | O36: 2.7294397 | P36: 0.69086957 | Q36: -0.13245986 | R36: 0.44159029
A37: Mo-1 | B37: Mo | C37: 1 | D37: Ley in rotation | E37: 1.0244992 | F37: 0.61339653 | G37: 11956.019 | H37: 3.6851852 | I37: 0.31440932 | J37: 0 | K37: 0 | L37: 2.2 | M37: 0.9797959 | N37: 1.5343856 | O37: 1.68539 | P37: 0.50295934 | Q37: 0.11043718 | R37: 0.38660347
A38: Mu-0 | B38: Mu | C38: 0 | D38: Diverse grass | E38: 1.1481481 | F38: 0.56673655 | G38: 11281.158 | H38: 2.6401684 | I38: 0.52018036 | J38: 40 | K38: 80 | L38: 8.6 | M38: 7.7097341 | N38: 10.242717 | O38: 4.105218 | P38: 0.3919702 | Q38: 0.17476635 | R38: 0.43326345
A39: Mu-1 | B39: Mu | C39: 1 | D39: Diverse grass | E39: 1.0691358 | F39: 0.59655253 | G39: 7001.2906 | H39: 3.2038028 | I39: 0.25244465 | J39: 10 | K39: 20 | L39: 8.2 | M39: 7.5206383 | N39: 15.192621 | O39: 11.44684 | P39: 0.44217789 | Q39: 0.15437464 | R39: 0.40344747
A40: Mä-0 | B40: Mä | C40: 0 | D40: Cover crops | E40: 1.1111111 | F40: 0.58071279 | G40: 7392.2414 | H40: 2.8182287 | I40: 0.4835629 | J40: 20 | K40: 40 | L40: 0.4 | M40: 0.8 | N40: 1.0505486 | O40: 1.861119 | P40: 0.33349044 | Q40: 0.24722234 | R40: 0.41928721
A41: Mä-1 | B41: Mä | C41: 1 | D41: Cover crops | E41: 1.054321 | F41: 0.60214302 | G41: 7590.6863 | H41: 2.9855886 | I41: 0.18996373 | J41: 10 | K41: 20 | L41: 2 | M41: 0.89442719 | N41: 1.7025439 | O41: 1.1671046 | P41: 0.41430429 | Q41: 0.18783874 | R41: 0.39785698
A42: Ni-0 | B42: Ni | C42: 0 | D42: Grazing | E42: 0.5749255 | F42: 0.78304698 | G42: 4894.4444 | H42: 2.9314047 | I42: 0.34305397 | J42: 0 | K42: 0 | L42: 25.4 | M42: 6.3118935 | N42: 3.5367575 | O42: 2.9328879 | P42: 0.33942376 | Q42: 0.44362322 | R42: 0.21695302
A43: Ni-1 | B43: Ni | C43: 1 | D43: Grazing | E43: 1.1499693 | F43: 0.56604934 | G43: 8269.2057 | H43: 2.2788542 | I43: 0.61480403 | J43: 0 | K43: 0 | L43: 52.4 | M43: 16.776174 | N43: 3.2332229 | O43: 3.3464603 | P43: 0.22147435 | Q43: 0.34457499 | R43: 0.43395066
A44: Pa-0 | B44: Pa | C44: 0 | D44: Org.amendments | G44: 3511.2028 | H44: 2.5179425 | I44: 0.54331288 | J44: 10 | K44: 20 | L44: 42 | M44: 21.288495 | N44: 3.6895586 | O44: 1.3190226 | P44: 0 | Q44: 1 | R44: 0
A45: Pa-1 | B45: Pa | C45: 1 | D45: Org.amendments | G45: 4215.9669 | H45: 2.4380342 | I45: 0.27410707 | J45: 10 | K45: 20 | L45: 84.6 | M45: 14.319218 | N45: 2.6423902 | O45: 2.0140472 | P45: 0 | Q45: 1 | R45: 0
A46: Pu-0 | B46: Pu | C46: 0 | D46: Cover crops | E46: 0.9617284 | F46: 0.63708362 | G46: 16268.519 | H46: 2.5233202 | I46: 0.26880493 | J46: 0 | K46: 0 | L46: 0 | M46: 0 | N46: 1.4505985 | O46: 0.45387783 | P46: 0.50933679 | Q46: 0.12774683 | R46: 0.36291638
A47: Pu-1 | B47: Pu | C47: 1 | D47: Cover crops | E47: 0.91234568 | F47: 0.65571861 | G47: 14717.172 | H47: 2.6544799 | I47: 0.27657518 | J47: 0 | K47: 0 | L47: 0.6 | M47: 0.8 | N47: 7.3610616 | O47: 7.7468571 | P47: 0.51846726 | Q47: 0.13725136 | R47: 0.34428139
A48: Ru-0 | B48: Ru | C48: 0 | D48: Cover crops | E48: 1.2506173 | F48: 0.52806895 | G48: 13491.745 | H48: 2.291895 | I48: 0.32258506 | J48: 10 | K48: 20 | L48: 2.8 | M48: 3.0594117 | N48: 9.380409 | O48: 5.9972772 | P48: 0.31087394 | Q48: 0.21719501 | R48: 0.47193105
A49: Ru-1 | B49: Ru | C49: 1 | D49: Cover crops | E49: 1.1666667 | F49: 0.55974843 | G49: 15627.778 | H49: 2.1820513 | I49: 0.31100249 | J49: 0 | K49: 0 | L49: 3.2 | M49: 1.3266499 | N49: 1.7343422 | O49: 1.3501799 | P49: 0.30203763 | Q49: 0.25771079 | R49: 0.44025157
A50: Se-0 | B50: Se | C50: 0 | D50: Org.amendments | E50: 1.0830797 | F50: 0.59129067 | G50: 11158.588 | H50: 3.0359328 | I50: 0.20176081 | J50: 40 | K50: 37.416574 | L50: 0 | M50: 0 | N50: 5.2312904 | O50: 4.4758749 | P50: 0.55565367 | Q50: 0.035636998 | R50: 0.40870933
A51: Se-1 | B51: Se | C51: 1 | D51: Org.amendments | E51: 1.1056194 | F51: 0.58278513 | G51: 10556.659 | H51: 3.0229469 | I51: 0.24052653 | J51: 0 | K51: 0 | L51: 0.2 | M51: 0.4 | N51: 3.8249309 | O51: 1.2848408 | P51: 0.68938423 | Q51: -0.10659911 | R51: 0.41721487
A52: Si-0 | B52: Si | C52: 0 | D52: Cover crops | G52: 3157.0513 | H52: 3.6504141 | I52: 0.35360591 | J52: 0 | K52: 0 | L52: 8.2 | M52: 3.4292856 | N52: 1.09884 | O52: 0.69153202 | P52: 0 | Q52: 1 | R52: 0
A53: Si-1 | B53: Si | C53: 1 | D53: Cover crops | G53: 2998.0518 | H53: 3.8008541 | I53: 0.13144916 | J53: 0 | K53: 0 | L53: 13.8 | M53: 6.6753277 | N53: 2.9124502 | O53: 1.7046039 | P53: 0 | Q53: 1 | R53: 0
A54: Vi-0 | B54: Vi | C54: 0 | D54: Diverse grass | E54: 0.74567901 | F54: 0.71861169 | G54: 7382.2816 | H54: 3.2240899 | I54: 0.1605394 | J54: 0 | K54: 0 | L54: 6.8 | M54: 1.9390719 | N54: 7.2419894 | O54: 5.4718075 | P54: 0.5621774 | Q54: 0.15643429 | R54: 0.28138831
A55: Vi-1 | B55: Vi | C55: 1 | D55: Diverse grass | E55: 0.72098765 | F55: 0.72792919 | G55: 7432.4324 | H55: 2.7221576 | I55: 0.73525507 | J55: 0 | K55: 0 | L55: 7.2 | M55: 2.6381812 | N55: 10.160996 | O55: 5.6833794 | P55: 0.49894898 | Q55: 0.22898021 | R55: 0.27207081

Sheet VESS_profile
A3: ID | B3: Site | C3: cm 1 | D3: cm 2 | E3: cm 3 | F3: cm 4 | G3: VESS 1 | H3: VESS 2 | I3: VESS 3 | J3: VESS 4
A4: AE-0 1 | B4: AE-0 | C4: 0 | D4: {=C4:C57-VESS!E4:E57} -> -5 | E4: {=D4:D203-VESS!F4:F57} -> -20 | F4: {=E4:E203-VESS!G4:G203} -> -25 | G4: {=IF(VESS!I4:I203>0,VESS!I4:I203,"")} -> 1 | H4: {=IF(VESS!J4:J203>0,VESS!J4:J203,"")} -> 2 | I4: {=IF(VESS!K4:K203>0,VESS!K4:K203,"")} -> 3 | J4: =IF(VESS!L4:L203>0,VESS!L4:L203,I4) -> 3
A5: AE-0 2 | B5: AE-0 | C5: 0 | D5: {=C5:C58-VESS!E5:E58} -> -4 | E5: {=D5:D204-VESS!F5:F58} -> -14 | F5: {=E5:E204-VESS!G5:G204} -> -28 | G5: {=IF(VESS!I5:I204>0,VESS!I5:I204,"")} -> 2 | H5: {=IF(VESS!J5:J204>0,VESS!J5:J204,"")} -> 2 | I5: {=IF(VESS!K5:K204>0,VESS!K5:K204,"")} -> 3 | J5: =IF(VESS!L5:L204>0,VESS!L5:L204,I5) -> 3
A6: AE-0 3 | B6: AE-0 | C6: 0 | D6: {=C6:C59-VESS!E6:E59} -> -10 | E6: {=D6:D205-VESS!F6:F59} -> -20 | F6: {=E6:E205-VESS!G6:G205} -> -25 | G6: {=IF(VESS!I6:I205>0,VESS!I6:I205,"")} -> 3 | H6: {=IF(VESS!J6:J205>0,VESS!J6:J205,"")} -> 2 | I6: {=IF(VESS!K6:K205>0,VESS!K6:K205,"")} -> 3 | J6: =IF(VESS!L6:L205>0,VESS!L6:L205,I6) -> 3
A7: AE-0 4 | B7: AE-0 | C7: 0 | D7: {=C7:C60-VESS!E7:E60} -> 0 | E7: {=D7:D206-VESS!F7:F60} -> 0 | F7: {=E7:E206-VESS!G7:G206} -> 0 | G7: {=IF(VESS!I7:I206>0,VESS!I7:I206,"")} | H7: {=IF(VESS!J7:J206>0,VESS!J7:J206,"")} | I7: {=IF(VESS!K7:K206>0,VESS!K7:K206,"")} | J7: =IF(VESS!L7:L206>0,VESS!L7:L206,I7)
A8: AE-0 5 | B8: AE-0 | C8: 0 | D8: {=C8:C61-VESS!E8:E61} -> 0 | E8: {=D8:D207-VESS!F8:F61} -> 0 | F8: {=E8:E207-VESS!G8:G207} -> 0 | G8: {=IF(VESS!I8:I207>0,VESS!I8:I207,"")} | H8: {=IF(VESS!J8:J207>0,VESS!J8:J207,"")} | I8: {=IF(VESS!K8:K207>0,VESS!K8:K207,"")} | J8: =IF(VESS!L8:L207>0,VESS!L8:L207,I8)
A9: AE-1 1 | B9: AE-1 | C9: 0 | D9: {=C9:C62-VESS!E9:E62} -> -14 | E9: {=D9:D208-VESS!F9:F62} -> -26 | F9: {=E9:E208-VESS!G9:G208} -> -26 | G9: {=IF(VESS!I9:I208>0,VESS!I9:I208,"")} -> 2 | H9: {=IF(VESS!J9:J208>0,VESS!J9:J208,"")} -> 2 | I9: {=IF(VESS!K9:K208>0,VESS!K9:K208,"")} | J9: =IF(VESS!L9:L208>0,VESS!L9:L208,I9)
A10: AE-1 2 | B10: AE-1 | C10: 0 | D10: {=C10:C63-VESS!E10:E63} -> -11 | E10: {=D10:D209-VESS!F10:F63} -> -26 | F10: {=E10:E209-VESS!G10:G209} -> -26 | G10: {=IF(VESS!I10:I209>0,VESS!I10:I209,"")} -> 1 | H10: {=IF(VESS!J10:J209>0,VESS!J10:J209,"")} -> 1 | I10: {=IF(VESS!K10:K209>0,VESS!K10:K209,"")} | J10: =IF(VESS!L10:L209>0,VESS!L10:L209,I10)
A11: AE-1 3 | B11: AE-1 | C11: 0 | D11: {=C11:C64-VESS!E11:E64} -> -20 | E11: {=D11:D210-VESS!F11:F64} -> -27 | F11: {=E11:E210-VESS!G11:G210} -> -27 | G11: {=IF(VESS!I11:I210>0,VESS!I11:I210,"")} -> 2 | H11: {=IF(VESS!J11:J210>0,VESS!J11:J210,"")} -> 2 | I11: {=IF(VESS!K11:K210>0,VESS!K11:K210,"")} | J11: =IF(VESS!L11:L210>0,VESS!L11:L210,I11)
A12: AE-1 4 | B12: AE-1 | C12: 0 | D12: {=C12:C65-VESS!E12:E65} -> 0 | E12: {=D12:D211-VESS!F12:F65} -> 0 | F12: {=E12:E211-VESS!G12:G211} -> 0 | G12: {=IF(VESS!I12:I211>0,VESS!I12:I211,"")} | H12: {=IF(VESS!J12:J211>0,VESS!J12:J211,"")} | I12: {=IF(VESS!K12:K211>0,VESS!K12:K211,"")} | J12: =IF(VESS!L12:L211>0,VESS!L12:L211,I12)
A13: AE-1 5 | B13: AE-1 | C13: 0 | D13: {=C13:C66-VESS!E13:E66} -> 0 | E13: {=D13:D212-VESS!F13:F66} -> 0 | F13: {=E13:E212-VESS!G13:G212} -> 0 | G13: {=IF(VESS!I13:I212>0,VESS!I13:I212,"")} | H13: {=IF(VESS!J13:J212>0,VESS!J13:J212,"")} | I13: {=IF(VESS!K13:K212>0,VESS!K13:K212,"")} | J13: =IF(VESS!L13:L212>0,VESS!L13:L212,I13)
A14: Ai-0 1 | B14: Ai-0 | C14: 0 | D14: {=C14:C67-VESS!E14:E67} -> -7 | E14: {=D14:D213-VESS!F14:F67} -> -22 | F14: {=E14:E213-VESS!G14:G213} -> -27 | G14: {=IF(VESS!I14:I213>0,VESS!I14:I213,"")} -> 1 | H14: {=IF(VESS!J14:J213>0,VESS!J14:J213,"")} -> 2 | I14: {=IF(VESS!K14:K213>0,VESS!K14:K213,"")} -> 4 | J14: =IF(VESS!L14:L213>0,VESS!L14:L213,I14) -> 4
A15: Ai-0 2 | B15: Ai-0 | C15: 0 | D15: {=C15:C68-VESS!E15:E68} -> -8 | E15: {=D15:D214-VESS!F15:F68} -> -21 | F15: {=E15:E214-VESS!G15:G214} -> -31 | G15: {=IF(VESS!I15:I214>0,VESS!I15:I214,"")} -> 1 | H15: {=IF(VESS!J15:J214>0,VESS!J15:J214,"")} -> 4 | I15: {=IF(VESS!K15:K214>0,VESS!K15:K214,"")} -> 5 | J15: =IF(VESS!L15:L214>0,VESS!L15:L214,I15) -> 5
... A163: Ni-1 5 | B163: Ni-1 | C163: 0 | D163: {=C163:C216-VESS!E163:E216} -> 0 | E163: {=D163:D362-VESS!F163:F216} -> 0 | F163: {=E163:E362-VESS!G163:G362} -> 0 | G163: {=IF(VESS!I163:I362>0,VESS!I163:I362,"")} | H163: {=IF(VESS!J163:J362>0,VESS!J163:J362,"")} | I163: {=IF(VESS!K163:K362>0,VESS!K163:K362,"")} | J163: =IF(VESS!L163:L362>0,VESS!L163:L362,I163)
A164: Pa-0 1 | B164: Pa-0 | C164: 0 | D164: {=C164:C217-VESS!E164:E217} -> -5 | E164: {=D164:D363-VESS!F164:F217} -> -16 | F164: {=E164:E363-VESS!G164:G363} -> -27 | G164: {=IF(VESS!I164:I363>0,VESS!I164:I363,"")} -> 2 | H164: {=IF(VESS!J164:J363>0,VESS!J164:J363,"")} -> 4 | I164: {=IF(VESS!K164:K363>0,VESS!K164:K363,"")} -> 4 | J164: =IF(VESS!L164:L363>0,VESS!L164:L363,I164) -> 4 | L164: =AVERAGE(G164:G166) -> 1.3333333
A165: Pa-0 2 | B165: Pa-0 | C165: 0 | D165: {=C165:C218-VESS!E165:E218} -> -6 | E165: {=D165:D364-VESS!F165:F218} -> -21 | F165: {=E165:E364-VESS!G165:G364} -> -27 | G165: {=IF(VESS!I165:I364>0,VESS!I165:I364,"")} -> 1 | H165: {=IF(VESS!J165:J364>0,VESS!J165:J364,"")} -> 3 | I165: {=IF(VESS!K165:K364>0,VESS!K165:K364,"")} -> 5 | J165: =IF(VESS!L165:L364>0,VESS!L165:L364,I165) -> 5
A166: Pa-0 3 | B166: Pa-0 | C166: 0 | D166: {=C166:C219-VESS!E166:E219} -> -6 | E166: {=D166:D365-VESS!F166:F219} -> -24 | F166: {=E166:E365-VESS!G166:G365} -> -28 | G166: {=IF(VESS!I166:I365>0,VESS!I166:I365,"")} -> 1 | H166: {=IF(VESS!J166:J365>0,VESS!J166:J365,"")} -> 3 | I166: {=IF(VESS!K166:K365>0,VESS!K166:K365,"")} -> 4 | J166: =IF(VESS!L166:L365>0,VESS!L166:L365,I166) -> 4
A167: Pa-0 4 | B167: Pa-0 | C167: 0 | D167: {=C167:C220-VESS!E167:E220} -> 0 | E167: {=D167:D366-VESS!F167:F220} -> 0 | F167: {=E167:E366-VESS!G167:G366} -> 0 | G167: {=IF(VESS!I167:I366>0,VESS!I167:I366,"")} | H167: {=IF(VESS!J167:J366>0,VESS!J167:J366,"")} | I167: {=IF(VESS!K167:K366>0,VESS!K167:K366,"")} | J167: =IF(VESS!L167:L366>0,VESS!L167:L366,I167)
A168: Pa-0 5 | B168: Pa-0 | C168: 0 | D168: {=C168:C221-VESS!E168:E221} -> 0 | E168: {=D168:D367-VESS!F168:F221} -> 0 | F168: {=E168:E367-VESS!G168:G367} -> 0 | G168: {=IF(VESS!I168:I367>0,VESS!I168:I367,"")} | H168: {=IF(VESS!J168:J367>0,VESS!J168:J367,"")} | I168: {=IF(VESS!K168:K367>0,VESS!K168:K367,"")} | J168: =IF(VESS!L168:L367>0,VESS!L168:L367,I168)
A169: Pa-1 1 | B169: Pa-1 | C169: 0 | D169: {=C169:C222-VESS!E169:E222} -> -6 | E169: {=D169:D368-VESS!F169:F222} -> -20 | F169: {=E169:E368-VESS!G169:G368} -> -28 | G169: {=IF(VESS!I169:I368>0,VESS!I169:I368,"")} -> 2 | H169: {=IF(VESS!J169:J368>0,VESS!J169:J368,"")} -> 4 | I169: {=IF(VESS!K169:K368>0,VESS!K169:K368,"")} -> 4 | J169: =IF(VESS!L169:L368>0,VESS!L169:L368,I169) -> 4 | L169: =AVERAGE(G169:G171) -> 1.3333333
A170: Pa-1 2 | B170: Pa-1 | C170: 0 | D170: {=C170:C223-VESS!E170:E223} -> -5 | E170: {=D170:D369-VESS!F170:F223} -> -20 | F170: {=E170:E369-VESS!G170:G369} -> -28 | G170: {=IF(VESS!I170:I369>0,VESS!I170:I369,"")} -> 1 | H170: {=IF(VESS!J170:J369>0,VESS!J170:J369,"")} -> 3.5 | I170: {=IF(VESS!K170:K369>0,VESS!K170:K369,"")} -> 4 | J170: =IF(VESS!L170:L369>0,VESS!L170:L369,I170) -> 4
A171: Pa-1 3 | B171: Pa-1 | C171: 0 | D171: {=C171:C224-VESS!E171:E224} -> -6 | E171: {=D171:D370-VESS!F171:F224} -> -24 | F171: {=E171:E370-VESS!G171:G370} -> -32 | G171: {=IF(VESS!I171:I370>0,VESS!I171:I370,"")} -> 1 | H171: {=IF(VESS!J171:J370>0,VESS!J171:J370,"")} -> 4 | I171: {=IF(VESS!K171:K370>0,VESS!K171:K370,"")} -> 5 | J171: =IF(VESS!L171:L370>0,VESS!L171:L370,I171) -> 5
A172: Pa-1 4 | B172: Pa-1 | C172: 0 | D172: {=C172:C225-VESS!E172:E225} -> 0 | E172: {=D172:D371-VESS!F172:F225} -> 0 | F172: {=E172:E371-VESS!G172:G371} -> 0 | G172: {=IF(VESS!I172:I371>0,VESS!I172:I371,"")} | H172: {=IF(VESS!J172:J371>0,VESS!J172:J371,"")} | I172: {=IF(VESS!K172:K371>0,VESS!K172:K371,"")} | J172: =IF(VESS!L172:L371>0,VESS!L172:L371,I172)
A173: Pa-1 5 | B173: Pa-1 | C173: 0 | D173: {=C173:C226-VESS!E173:E226} -> 0 | E173: {=D173:D372-VESS!F173:F226} -> 0 | F173: {=E173:E372-VESS!G173:G372} -> 0 | G173: {=IF(VESS!I173:I372>0,VESS!I173:I372,"")} | H173: {=IF(VESS!J173:J372>0,VESS!J173:J372,"")} | I173: {=IF(VESS!K173:K372>0,VESS!K173:K372,"")} | J173: =IF(VESS!L173:L372>0,VESS!L173:L372,I173)
A174: Pi-0 1 | B174: Pi-0 | C174: 0 | D174: {=C174:C227-VESS!E174:E227} -> -5 | E174: {=D174:D373-VESS!F174:F227} -> -10 | F174: {=E174:E373-VESS!G174:G373} -> -28 | G174: {=IF(VESS!I174:I373>0,VESS!I174:I373,"")} -> 1 | H174: {=IF(VESS!J174:J373>0,VESS!J174:J373,"")} -> 2 | I174: {=IF(VESS!K174:K373>0,VESS!K174:K373,"")} -> 3 | J174: =IF(VESS!L174:L373>0,VESS!L174:L373,I174) -> 5
A175: Pi-0 2 | B175: Pi-0 | C175: 0 | D175: {=C175:C228-VESS!E175:E228} -> -6 | E175: {=D175:D374-VESS!F175:F228} -> -19 | F175: {=E175:E374-VESS!G175:G374} -> -25 | G175: {=IF(VESS!I175:I374>0,VESS!I175:I374,"")} -> 1 | H175: {=IF(VESS!J175:J374>0,VESS!J175:J374,"")} -> 4 | I175: {=IF(VESS!K175:K374>0,VESS!K175:K374,"")} -> 3 | J175: =IF(VESS!L175:L374>0,VESS!L175:L374,I175) -> 3
A176: Pi-0 3 | B176: Pi-0 | C176: 0 | D176: {=C176:C229-VESS!E176:E229} -> -6 | E176: {=D176:D375-VESS!F176:F229} -> -19 | F176: {=E176:E375-VESS!G176:G375} -> -27 | G176: {=IF(VESS!I176:I375>0,VESS!I176:I375,"")} -> 1 | H176: {=IF(VESS!J176:J375>0,VESS!J176:J375,"")} -> 3 | I176: {=IF(VESS!K176:K375>0,VESS!K176:K375,"")} -> 4 | J176: =IF(VESS!L176:L375>0,VESS!L176:L375,I176) -> 4
A177: Pi-0 4 | B177: Pi-0 | C177: 0 | D177: {=C177:C230-VESS!E177:E230} -> -5 | E177: {=D177:D376-VESS!F177:F230} -> -16 | F177: {=E177:E376-VESS!G177:G376} -> -24 | G177: {=IF(VESS!I177:I376>0,VESS!I177:I376,"")} -> 1 | H177: {=IF(VESS!J177:J376>0,VESS!J177:J376,"")} -> 3 | I177: {=IF(VESS!K177:K376>0,VESS!K177:K376,"")} -> 3 | J177: =IF(VESS!L177:L376>0,VESS!L177:L376,I177) -> 3
A178: Pi-0 5 | B178: Pi-0 | C178: 0 | D178: {=C178:C231-VESS!E178:E231} -> -3 | E178: {=D178:D377-VESS!F178:F231} -> -13 | F178: {=E178:E377-VESS!G178:G377} -> -23 | G178: {=IF(VESS!I178:I377>0,VESS!I178:I377,"")} -> 1 | H178: {=IF(VESS!J178:J377>0,VESS!J178:J377,"")} -> 3 | I178: {=IF(VESS!K178:K377>0,VESS!K178:K377,"")} -> 4 | J178: =IF(VESS!L178:L377>0,VESS!L178:L377,I178) -> 5
A179: Pi-1 1 | B179: Pi-1 | C179: 0 | D179: {=C179:C232-VESS!E179:E232} -> -3 | E179: {=D179:D378-VESS!F179:F232} -> -8 | F179: {=E179:E378-VESS!G179:G378} -> -23 | G179: {=IF(VESS!I179:I378>0,VESS!I179:I378,"")} -> 1 | H179: {=IF(VESS!J179:J378>0,VESS!J179:J378,"")} -> 2 | I179: {=IF(VESS!K179:K378>0,VESS!K179:K378,"")} -> 3 | J179: =IF(VESS!L179:L378>0,VESS!L179:L378,I179) -> 4
A180: Pi-1 2 | B180: Pi-1 | C180: 0 | D180: {=C180:C233-VESS!E180:E233} -> -4 | E180: {=D180:D379-VESS!F180:F233} -> -21 | F180: {=E180:E379-VESS!G180:G379} -> -25 | G180: {=IF(VESS!I180:I379>0,VESS!I180:I379,"")} -> 1 | H180: {=IF(VESS!J180:J379>0,VESS!J180:J379,"")} -> 2 | I180: {=IF(VESS!K180:K379>0,VESS!K180:K379,"")} -> 5 | J180: =IF(VESS!L180:L379>0,VESS!L180:L379,I180) -> 5
A181: Pi-1 3 | B181: Pi-1 | C181: 0 | D181: {=C181:C234-VESS!E181:E234} -> -8 | E181: {=D181:D380-VESS!F181:F234} -> -23 | F181: {=E181:E380-VESS!G181:G380} -> -28 | G181: {=IF(VESS!I181:I380>0,VESS!I181:I380,"")} -> 2 | H181: {=IF(VESS!J181:J380>0,VESS!J181:J380,"")} -> 2 | I181: {=IF(VESS!K181:K380>0,VESS!K181:K380,"")} -> 4 | J181: =IF(VESS!L181:L380>0,VESS!L181:L380,I181) -> 4
... A203: Si-1 5 | B203: Si-1 | C203: 0 | D203: {=C203:C256-VESS!E203:E256} -> 0 | E203: {=D203:D402-VESS!F203:F256} -> 0 | F203: {=E203:E402-VESS!G203:G402} -> 0 | G203: {=IF(VESS!I203:I402>0,VESS!I203:I402,"")} | H203: {=IF(VESS!J203:J402>0,VESS!J203:J402,"")} | I203: {=IF(VESS!K203:K402>0,VESS!K203:K402,"")} | J203: =IF(VESS!L203:L402>0,VESS!L203:L402,I203)
