Workbook
Name Uusi: #REF!
Name Vanha: #REF!

Sheet Info
A2: Carbon Action field monitoring results for 2022
A3: Authors: Tuomas J. Mattila, Andrei Girz.
A4: Finnish Environment Institute SYKE
A6: The following worksheets describe the ecological soil monitoring results in an experiment
A7: where 20 farms test carbon farming practices. The fields are monitored annually in July, using a standardized | L7: www.carbonaction.org
A8: monitoring protocol to detect change over time. In addition to monitoring, soil samples are taken
A9: for monitoring nutrient status and microbiological activity.
A11: Graphs | B11: Easy way to visualize the change over time on individual farms and compare to year average.
A12: All_2022 | B12: A summary of the results, applicable for statistical analysis.
A13: Sheets in orange: detailed results of different sections
A14: Sheets in gray: additional sheets for calculating to the summary sheet.
A16: Licence: Creative Commons CC 4.0 BY
A17: Funded by Academy of Finland Strategic Research Council project MULTA.
A19: Details of monitoring protocols are presented in a separate pdf.

Sheet Graphs
A1: Change cells A4-A7 to draw charts | T1: Average of all fields
A3: Site | B3: Year | C3: Bulk density kg/l | D3: Porosity | E3: Biomass kg/ha | F3: VESS | G3: SD | H3: Earthworms/m2 | I3: SD | J3: Canopeo % | K3: SD | L3: Water cond. mm/h | M3: SD | N3: Crop height cm | O3: SD | P3: Cholrophyll | Q3: SD | R3: SPAD | S3: SD | T3: Site | U3: Year | V3: Bulk density kg/l | W3: SD | X3: Porosity | Y3: SD | Z3: Biomass kg/ha | AA3: SD | AB3: VESS | AC3: SD | AD3: Earthworms | AE3: SD | AF3: Canopeo % | AG3: SD | AH3: Water cond. mm/h | AI3: SD | AJ3: Crop height cm | AK3: SD | AL3: Chlorophyll | AM3: SD | AN3: SPAd | AO3: SD
A4: Ai-0 | B4: 2022 | C4: =VLOOKUP($A4,ALL_2022!$A$3:$R$43,5,FALSE) -> 1.3455224 | D4: =VLOOKUP($A4,ALL_2022!$A$3:$R$43,6,FALSE) -> 0.49225569 | E4: =VLOOKUP(A4,ALL_2022!$A$3:$R$43,7,FALSE) -> 1342.9888 | F4: =VLOOKUP(A4,ALL_2022!$A$3:$R$43,8,FALSE) -> 3.2118996 | G4: =VLOOKUP(A4,ALL_2022!$A$3:$R$43,9,FALSE) -> 0.57469028 | H4: =VLOOKUP(A4,ALL_2022!$A$3:$R$43,10,FALSE) -> 0 | I4: =VLOOKUP(A4,ALL_2022!$A$3:$R$43,11,FALSE) -> 0 | J4: =VLOOKUP(A4,ALL_2022!$A$3:$R$43,12,FALSE) -> 45.186667 | K4: =VLOOKUP(A4,ALL_2022!$A$3:$R$43,13,FALSE) -> 2.371516 | L4: =VLOOKUP(A4,ALL_2022!$A$3:$R$43,14,FALSE) -> 16.677 | M4: =VLOOKUP($A4,ALL_2022!$A$3:$S$43,15,FALSE) -> 4.794222 | N4: =VLOOKUP($A4,ALL_2022!$A$3:$S$43,16,FALSE) -> 42 | O4: =VLOOKUP($A4,ALL_2022!$A$3:$S$43,17,FALSE) -> 2.44949 | P4: =VLOOKUP($A4,ALL_2022!$A$3:$S$43,18,FALSE) -> 0.0482 | Q4: =VLOOKUP($A4,ALL_2022!$A$3:$S$43,19,FALSE) -> 0.005476 | R4: =VLOOKUP($A4,ALL_2022!$A$3:$U$43,20,FALSE) -> 47.0032 | S4: =VLOOKUP($A4,ALL_2022!$A$3:$U$43,21,FALSE) -> 3.629076 | T4: 0 | U4: 2022 | V4: {=AVERAGEIF(ALL_2022!$C$4:$C$43,Graphs!$T4,ALL_2022!$E$4:$E$43)} -> 0.98859889 | W4: {=_xlfn.STDEV.P(IF($T4=ALL_2022!$C$4:$C$43,ALL_2022!$E$4:$E$43,""))} -> 0.13260799 | X4: =AVERAGEIF(ALL_2022!$C$4:$C$43,Graphs!$T4,ALL_2022!$F$4:$F$43) -> 0.62694382 | Y4: {=_xlfn.STDEV.P(IF($T4=ALL_2022!$C$4:$C$43,ALL_2022!$F$4:$F$43,""))} -> 0.050040749 | Z4: =AVERAGEIF(ALL_2022!$C$4:$C$43,Graphs!$T4,ALL_2022!G4:G43) -> 3229.7424 | AA4: {=_xlfn.STDEV.P(IF($T4=ALL_2022!$C$4:$C$43,ALL_2022!$G$4:$G$43,""))} -> 2894.1574 | AB4: =AVERAGEIF(ALL_2022!$C$4:$C$43,Graphs!$T4,ALL_2022!$H$4:$H$43) -> 3.12347 | AC4: {=_xlfn.STDEV.P(IF($T4=ALL_2022!$C$4:$C$43,ALL_2022!$H$4:$H$43,""))} -> 0.46748288 | AD4: =AVERAGEIF(ALL_2022!$C$4:$C$43,Graphs!$T4,ALL_2022!$J$4:$J$43) -> 27.875 | AE4: {=_xlfn.STDEV.P(IF($T4=ALL_2022!$C$4:$C$43,ALL_2022!$J$4:$J$43,""))} -> 35.102504 | AF4: =AVERAGEIF(ALL_2022!$C$4:$C$43,Graphs!$T4,ALL_2022!$L$4:$L$43) -> 77.600167 | AG4: {=_xlfn.STDEV.P(IF($T4=ALL_2022!$C$4:$C$43,ALL_2022!$L$4:$L$43,""))} -> 16.744164 | AH4: =AVERAGEIF(ALL_2022!$C$4:$C$43,Graphs!$T4,ALL_2022!$N$4:$N$43) -> 22.181226 | AI4: {=_xlfn.STDEV.P(IF($T4=ALL_2022!$C$4:$C$43,ALL_2022!$N$4:$N$43,""))} -> 22.441413 | AJ4: =AVERAGEIF(ALL_2022!$C$4:$C$43,Graphs!$T4,ALL_2022!$P$4:$P$43) -> 52.438235 | AK4: {=_xlfn.STDEV.P(IF($T4=ALL_2022!$C$4:$C$43,ALL_2022!$P$4:$P$43,""))} -> 35.660842 | AL4: =AVERAGEIF(ALL_2022!$C$4:$C$43,Graphs!$T4,ALL_2022!R4:R43) -> 0.028153316 | AM4: {=_xlfn.STDEV.P(IF($T4=ALL_2022!$C$4:$C$43,ALL_2022!$R$4:$R$43,""))} -> 0.021235386 | AN4: =AVERAGEIF(ALL_2022!$C$4:$C$43,Graphs!$T4,ALL_2022!$T$4:$T$43) -> 28.530453
A5: =A4 -> Ai-0 | B5: 2021 | C5: =VLOOKUP($A5,ALL_2021!$A$3:$R$44,5,FALSE) -> 1.3810933 | D5: =VLOOKUP($A5,ALL_2021!$A$3:$R$44,6,FALSE) -> 0.4788327 | E5: =VLOOKUP(A5,ALL_2021!$A$3:$R$44,7,FALSE) -> 332.54142 | F5: =VLOOKUP(A5,ALL_2021!$A$3:$R$44,8,FALSE) -> 3.5402899 | G5: =VLOOKUP(A5,ALL_2021!$A$3:$R$44,9,FALSE) -> 0.58024497 | H5: =VLOOKUP(A5,ALL_2021!$A$3:$R$44,10,FALSE) -> 16.666667 | I5: =VLOOKUP(A5,ALL_2021!$A$3:$R$44,11,FALSE) -> 23.570226 | J5: =VLOOKUP(A5,ALL_2021!$A$3:$R$44,12,FALSE) -> 7.25 | K5: =VLOOKUP(A5,ALL_2021!$A$3:$R$44,13,FALSE) -> 5.5518826 | L5: =VLOOKUP(A5,ALL_2021!$A$3:$R$44,14,FALSE) -> 37.4534 | M5: =VLOOKUP($A5,ALL_2021!$A$3:$S$44,15,FALSE) -> 29.347697 | N5: =VLOOKUP($A5,ALL_2021!$A$3:$S$44,16,FALSE) -> 7 | O5: =VLOOKUP($A5,ALL_2021!$A$3:$S$44,17,FALSE) -> 0 | P5: =VLOOKUP($A5,ALL_2021!$A$3:$S$44,18,FALSE) -> 0.030804826 | Q5: =VLOOKUP($A5,ALL_2021!$A$3:$S$44,19,FALSE) -> 0.012918396 | R5: =VLOOKUP($A5,ALL_2021!$A$3:$U$44,20,FALSE) -> 34.12825 | S5: =VLOOKUP($A5,ALL_2021!$A$3:$U$44,21,FALSE) -> 10.48264 | T5: 0 | U5: 2021 | V5: {=AVERAGEIF(ALL_2021!$C$5:$C$44,Graphs!$T5,ALL_2021!$E$5:$E$44)} -> 1.0897656 | W5: {=_xlfn.STDEV.P(IF($T5=ALL_2021!$C$5:$C$44,ALL_2021!$E$5:$E$44,""))} -> 0.27612514 | X5: =AVERAGEIF(ALL_2021!$C$5:$C$44,Graphs!$T5,ALL_2021!$F$5:$F$44) -> 0.58876769 | Y5: {=_xlfn.STDEV.P(IF($T5=ALL_2021!$C$5:$C$44,ALL_2021!$F$5:$F$44,""))} -> 0.13888912 | Z5: =AVERAGEIF(ALL_2021!$C$5:$C$44,Graphs!$T5,ALL_2021!G6:G45) -> 4035.3265 | AA5: {=_xlfn.STDEV.P(IF($T5=ALL_2021!$C$5:$C$44,ALL_2021!$G$5:$G$44,""))} -> 2940.0076 | AB5: =AVERAGEIF(ALL_2021!$C$5:$C$44,Graphs!$T5,ALL_2021!$H$5:$H$44) -> 3.1519326 | AC5: {=_xlfn.STDEV.P(IF($T5=ALL_2021!$C$5:$C$44,ALL_2021!$H$5:$H$44,""))} -> 0.85340178 | AD5: =AVERAGEIF(ALL_2021!$C$5:$C$44,Graphs!$T5,ALL_2021!$J$5:$J$44) -> 22.368421 | AE5: {=_xlfn.STDEV.P(IF($T5=ALL_2021!$C$5:$C$44,ALL_2021!$J$5:$J$44,""))} -> 38.014982 | AF5: =AVERAGEIF(ALL_2021!$C$5:$C$44,Graphs!$T5,ALL_2021!$L$5:$L$44) -> 65.705351 | AG5: {=_xlfn.STDEV.P(IF($T5=ALL_2021!$C$5:$C$44,ALL_2021!$L$5:$L$44,""))} -> 28.489458 | AH5: =AVERAGEIF(ALL_2021!$C$5:$C$44,Graphs!$T5,ALL_2021!$N$5:$N$44) -> 19.987521 | AI5: {=_xlfn.STDEV.P(IF($T5=ALL_2021!$C$5:$C$44,ALL_2021!$N$5:$N$44,""))} -> 19.716627 | AJ5: =AVERAGEIF(ALL_2021!$C$5:$C$44,Graphs!$T5,ALL_2021!$P$5:$P$44) -> 38.614583 | AK5: {=_xlfn.STDEV.P(IF($T5=ALL_2021!$C$5:$C$44,ALL_2021!$P$5:$P$44,""))} -> 22.99899 | AL5: =AVERAGEIF(ALL_2021!$C$5:$C$44,Graphs!$T5,ALL_2021!R6:R45) -> 0.04283664 | AM5: {=_xlfn.STDEV.P(IF($T5=ALL_2021!$C$5:$C$44,ALL_2021!$R$5:$R$44,""))} -> 0.015866258 | AN5: =AVERAGEIF(ALL_2021!$C$5:$C$44,Graphs!$T5,ALL_2021!$T$5:$T$44) -> 44.59365
A6: =A4 -> Ai-0 | B6: 2020 | C6: =VLOOKUP($A6,ALL_2020!$A$3:$R$44,5,FALSE) -> 1.2425287 | D6: =VLOOKUP($A6,ALL_2020!$A$3:$R$44,6,FALSE) -> 0.53112123 | E6: =VLOOKUP(A6,ALL_2020!$A$3:$R$44,7,FALSE) -> 3040.117 | F6: =VLOOKUP(A6,ALL_2020!$A$3:$R$44,8,FALSE) -> 2.8603995 | G6: =VLOOKUP(A6,ALL_2020!$A$3:$R$44,9,FALSE) -> 0.36644087 | H6: =VLOOKUP(A6,ALL_2020!$A$3:$R$44,10,FALSE) -> 20 | I6: =VLOOKUP(A6,ALL_2020!$A$3:$R$44,11,FALSE) -> 40 | J6: =VLOOKUP(A6,ALL_2020!$A$3:$R$44,12,FALSE) -> 91.9755 | K6: =VLOOKUP(A6,ALL_2020!$A$3:$R$44,13,FALSE) -> 4.7844523 | L6: =VLOOKUP(A6,ALL_2020!$A$3:$R$44,14,FALSE) -> 11.398292 | M6: =VLOOKUP($A6,ALL_2020!$A$3:$S$44,15,FALSE) -> 9.6221867 | N6: =VLOOKUP($A6,ALL_2020!$A$3:$S$44,16,FALSE) -> 43 | O6: =VLOOKUP($A6,ALL_2020!$A$3:$S$44,17,FALSE) -> 2.4494897 | P6: =VLOOKUP($A6,ALL_2020!$A$3:$S$44,18,FALSE) -> 0.047341024 | Q6: =VLOOKUP($A6,ALL_2020!$A$3:$S$44,19,FALSE) -> 0.0085556475 | R6: =VLOOKUP($A6,ALL_2020!$A$3:$U$44,20,FALSE) -> 46.33 | S6: =VLOOKUP($A6,ALL_2020!$A$3:$U$44,21,FALSE) -> 5.6698571 | T6: 0 | U6: 2020 | V6: {=AVERAGEIF(ALL_2020!$C$5:$C$44,Graphs!$T6,ALL_2020!$E$5:$E$44)} -> 1.0116588 | W6: {=_xlfn.STDEV.P(IF($T6=ALL_2020!$C$5:$C$44,ALL_2020!$E$5:$E$44,""))} -> 0.32251517 | X6: =AVERAGEIF(ALL_2020!$C$5:$C$44,Graphs!$T6,ALL_2020!$F$5:$F$44) -> 0.61824196 | Y6: {=_xlfn.STDEV.P(IF($T6=ALL_2020!$C$5:$C$44,ALL_2020!$F$5:$F$44,""))} -> 0.18758764 | Z6: =AVERAGEIF(ALL_2020!$C$5:$C$44,Graphs!$T6,ALL_2020!G7:G46) -> 3609.8921 | AA6: {=_xlfn.STDEV.P(IF($T6=ALL_2020!$C$5:$C$44,ALL_2020!$G$5:$G$44,""))} -> 2416.2727 | AB6: =AVERAGEIF(ALL_2020!$C$5:$C$44,Graphs!$T6,ALL_2020!$H$5:$H$44) -> 2.9316431 | AC6: {=_xlfn.STDEV.P(IF($T6=ALL_2020!$C$5:$C$44,ALL_2020!$H$5:$H$44,""))} -> 0.92843086 | AD6: =AVERAGEIF(ALL_2020!$C$5:$C$44,Graphs!$T6,ALL_2020!$J$5:$J$44) -> 43.947368 | AE6: {=_xlfn.STDEV.P(IF($T6=ALL_2020!$C$5:$C$44,ALL_2020!$J$5:$J$44,""))} -> 38.249687 | AF6: =AVERAGEIF(ALL_2020!$C$5:$C$44,Graphs!$T6,ALL_2020!$L$5:$L$44) -> 77.377064 | AG6: {=_xlfn.STDEV.P(IF($T6=ALL_2020!$C$5:$C$44,ALL_2020!$L$5:$L$44,""))} -> 26.94973 | AH6: =AVERAGEIF(ALL_2020!$C$5:$C$44,Graphs!$T6,ALL_2020!$N$5:$N$44) -> 11.085812 | AI6: {=_xlfn.STDEV.P(IF($T6=ALL_2020!$C$5:$C$44,ALL_2020!$N$5:$N$44,""))} -> 14.586521 | AJ6: =AVERAGEIF(ALL_2020!$C$5:$C$44,Graphs!$T6,ALL_2020!$P$5:$P$44) -> 49.617544 | AK6: {=_xlfn.STDEV.P(IF($T6=ALL_2020!$C$5:$C$44,ALL_2020!$P$5:$P$44,""))} -> 25.744832 | AL6: =AVERAGEIF(ALL_2020!$C$5:$C$44,Graphs!$T6,ALL_2020!R7:R46) -> 0.043173974 | AM6: {=_xlfn.STDEV.P(IF($T6=ALL_2020!$C$5:$C$44,ALL_2020!$R$5:$R$44,""))} -> 0.019301722 | AN6: =AVERAGEIF(ALL_2020!$C$5:$C$44,Graphs!$T6,ALL_2020!$T$5:$T$44) -> 42.653037
A7: =A5 -> Ai-0 | B7: 2019 | C7: =VLOOKUP($A7,'2019'!$A$3:$R$55,5,FALSE) -> 1.3864198 | D7: =VLOOKUP(A7,'2019'!$A$3:$R$55,6,FALSE) -> 0.47682273 | E7: =VLOOKUP(A7,'2019'!$A$3:$R$55,7,FALSE) -> 6202.567 | F7: =VLOOKUP(A7,'2019'!$A$3:$R$55,8,FALSE) -> 2.9955724 | G7: =VLOOKUP(A7,'2019'!$A$3:$R$55,9,FALSE) -> 0.4081075 | H7: =VLOOKUP(A7,'2019'!$A$3:$R$55,10,FALSE) -> 0 | I7: =VLOOKUP(A7,'2019'!$A$3:$R$55,11,FALSE) -> 0 | J7: =VLOOKUP(A7,'2019'!$A$3:$R$55,12,FALSE) -> 0.6 | K7: =VLOOKUP(A7,'2019'!$A$3:$R$55,13,FALSE) -> 1.2 | L7: =VLOOKUP(A7,'2019'!$A$3:$R$55,14,FALSE) -> 13.193882 | M7: =VLOOKUP(A7,'2019'!$A$3:$R$55,15,FALSE) -> 7.0631573 | T7: 0 | U7: 2019 | V7: {=AVERAGEIF('2019'!$C$4:$C$55,Graphs!$T7,'2019'!$E$4:$E$55)} -> 1.0211604 | W7: {=_xlfn.STDEV.P(IF($T7='2019'!$C$4:$C$55,'2019'!$E$4:$E$55,""))} -> 0.42304018 | X7: {=AVERAGEIF('2019'!$C$4:$C$55,Graphs!$T7,'2019'!$F$4:$F$55)} -> 0.61465644 | Y7: {=_xlfn.STDEV.P(IF($T7='2019'!$C$4:$C$55,'2019'!$F$4:$F$55,""))} -> 0.23523522 | Z7: {=AVERAGEIF('2019'!$C$4:$C$55,Graphs!$T7,'2019'!$G$4:$G$55)} -> 6348.7145 | AA7: {=_xlfn.STDEV.P(IF($T7='2019'!$C$4:$C$55,'2019'!$G$4:$G$55,""))} -> 4581.8099 | AB7: {=AVERAGEIF('2019'!$C$4:$C$55,Graphs!$T7,'2019'!$H$4:$H$55)} -> 2.7961332 | AC7: {=_xlfn.STDEV.P(IF($T7='2019'!$C$4:$C$55,'2019'!$H$4:$H$55,""))} -> 0.33853567 | AD7: {=AVERAGEIF('2019'!$C$4:$C$55,Graphs!$T7,'2019'!$J$4:$J$55)} -> 8.4615385 | AE7: {=_xlfn.STDEV.P(IF($T7='2019'!$C$4:$C$55,'2019'!$J$4:$J$55,""))} -> 12.307692 | AF7: {=AVERAGEIF('2019'!$C$4:$C$55,Graphs!$T7,'2019'!$L$4:$L$55)} -> 32.5 | AG7: {=_xlfn.STDEV.P(IF($T7='2019'!$C$4:$C$55,'2019'!$L$4:$L$55,""))} -> 31.262868 | AH7: {=AVERAGEIF('2019'!$C$4:$C$55,Graphs!$T7,'2019'!$N$4:$N$55)} -> 7.440188 | AI7: {=_xlfn.STDEV.P(IF($T7='2019'!$C$4:$C$55,'2019'!$N$4:$N$55,""))} -> 13.810346
A8: Ai-1 | B8: 2022 | C8: =VLOOKUP($A8,ALL_2022!$A$3:$R$43,5,FALSE) -> 1.3152299 | D8: =VLOOKUP(A8,ALL_2022!$A$3:$R$43,6,FALSE) -> 0.50368682 | E8: =VLOOKUP(A8,ALL_2022!$A$3:$R$43,7,FALSE) -> 6316.1497 | F8: =VLOOKUP(A8,ALL_2022!$A$3:$R$43,8,FALSE) -> 3.1999426 | G8: =VLOOKUP(A8,ALL_2022!$A$3:$R$43,9,FALSE) -> 0.18026856 | H8: =VLOOKUP(A8,ALL_2022!$A$3:$R$43,10,FALSE) -> 30 | I8: =VLOOKUP(A8,ALL_2022!$A$3:$R$43,11,FALSE) -> 24.494897 | J8: =VLOOKUP(A8,ALL_2022!$A$3:$R$43,12,FALSE) -> 91.4 | K8: =VLOOKUP(A8,ALL_2022!$A$3:$R$43,13,FALSE) -> 1.7 | L8: =VLOOKUP(A8,ALL_2022!$A$3:$R$43,14,FALSE) -> 25.0132 | M8: =VLOOKUP(A8,ALL_2022!$A$3:$S$43,15,FALSE) -> 11.00445 | N8: =VLOOKUP($A8,ALL_2022!$A$3:$S$43,16,FALSE) -> 105 | O8: =VLOOKUP($A8,ALL_2022!$A$3:$S$43,17,FALSE) -> 5 | P8: =VLOOKUP($A8,ALL_2022!$A$3:$S$43,18,FALSE) -> 0.040536 | Q8: =VLOOKUP($A8,ALL_2022!$A$3:$S$43,19,FALSE) -> 0.003301 | R8: =VLOOKUP($A8,ALL_2022!$A$3:$U$43,20,FALSE) -> 41.8948 | S8: =VLOOKUP($A8,ALL_2022!$A$3:$U$43,21,FALSE) -> 2.282932 | T8: 1 | U8: 2022 | V8: =AVERAGEIF(ALL_2022!$C$4:$C$43,Graphs!$T8,ALL_2022!$E$4:$E$43) -> 0.96863621 | W8: {=_xlfn.STDEV.P(IF($T8=ALL_2022!$C$4:$C$43,ALL_2022!$E$4:$E$43,""))} -> 0.12960954 | X8: =AVERAGEIF(ALL_2022!$C$4:$C$43,Graphs!$T8,ALL_2022!$F$4:$F$43) -> 0.6344769 | Y8: {=_xlfn.STDEV.P(IF($T8=ALL_2022!$C$4:$C$43,ALL_2022!$F$4:$F$43,""))} -> 0.04890926 | Z8: =AVERAGEIF(ALL_2022!$C$4:$C$43,Graphs!$T8,ALL_2022!G4:G43) -> 4677.8446 | AA8: {=_xlfn.STDEV.P(IF($T8=ALL_2022!$C$4:$C$43,ALL_2022!$G$4:$G$43,""))} -> 3300.2017 | AB8: =AVERAGEIF(ALL_2022!$C$4:$C$43,Graphs!$T8,ALL_2022!$H$4:$H$43) -> 2.7906822 | AC8: {=_xlfn.STDEV.P(IF($T8=ALL_2022!$C$4:$C$43,ALL_2022!$H$4:$H$43,""))} -> 0.58861529 | AD8: =AVERAGEIF(ALL_2022!$C$4:$C$43,Graphs!$T8,ALL_2022!$J$4:$J$43) -> 52.416667 | AE8: {=_xlfn.STDEV.P(IF($T8=ALL_2022!$C$4:$C$43,ALL_2022!$J$4:$J$43,""))} -> 50.605295 | AF8: =AVERAGEIF(ALL_2022!$C$4:$C$43,Graphs!$T8,ALL_2022!$L$4:$L$43) -> 76.456083 | AG8: {=_xlfn.STDEV.P(IF($T8=ALL_2022!$C$4:$C$43,ALL_2022!$L$4:$L$43,""))} -> 24.056276 | AH8: =AVERAGEIF(ALL_2022!$C$4:$C$43,Graphs!$T8,ALL_2022!$N$4:$N$43) -> 28.388821 | AI8: {=_xlfn.STDEV.P(IF($T8=ALL_2022!$C$4:$C$43,ALL_2022!$N$4:$N$43,""))} -> 33.775588 | AJ8: =AVERAGEIF(ALL_2022!$C$4:$C$43,Graphs!$T8,ALL_2022!$P$4:$P$43) -> 50.814706 | AK8: {=_xlfn.STDEV.P(IF($T8=ALL_2022!$C$4:$C$43,ALL_2022!$P$4:$P$43,""))} -> 36.105465 | AL8: =AVERAGEIF(ALL_2022!$C$4:$C$43,Graphs!$T8,ALL_2022!R4:R43) -> 0.028119053 | AM8: {=_xlfn.STDEV.P(IF($T8=ALL_2022!$C$4:$C$43,ALL_2022!$R$4:$R$43,""))} -> 0.022199483 | AN8: =AVERAGEIF(ALL_2022!$C$4:$C$43,Graphs!$T8,ALL_2022!$T$4:$T$43) -> 28.454379
A9: =A8 -> Ai-1 | B9: 2021 | C9: =VLOOKUP($A9,ALL_2021!$A$3:$R$44,5,FALSE) -> 1.2261867 | D9: =VLOOKUP(A9,ALL_2021!$A$3:$R$44,6,FALSE) -> 0.53728805 | E9: =VLOOKUP(A9,ALL_2021!$A$3:$R$44,7,FALSE) -> 542.071 | F9: =VLOOKUP(A9,ALL_2021!$A$3:$R$44,8,FALSE) -> 3.2692308 | G9: =VLOOKUP(A9,ALL_2021!$A$3:$R$44,9,FALSE) -> 0.32191738 | H9: =VLOOKUP(A9,ALL_2021!$A$3:$R$44,10,FALSE) -> 50 | I9: =VLOOKUP(A9,ALL_2021!$A$3:$R$44,11,FALSE) -> 0 | J9: =VLOOKUP(A9,ALL_2021!$A$3:$R$44,12,FALSE) -> 51.423333 | K9: =VLOOKUP(A9,ALL_2021!$A$3:$R$44,13,FALSE) -> 6.7687632 | L9: =VLOOKUP(A9,ALL_2021!$A$3:$R$44,14,FALSE) -> 11.6635 | M9: =VLOOKUP(A9,ALL_2021!$A$3:$S$44,15,FALSE) -> 6.2004067 | N9: =VLOOKUP($A9,ALL_2021!$A$3:$S$44,16,FALSE) -> 9.3333333 | O9: =VLOOKUP($A9,ALL_2021!$A$3:$S$44,17,FALSE) -> 0.94280904 | P9: =VLOOKUP($A9,ALL_2021!$A$3:$S$44,18,FALSE) -> 0.046567152 | Q9: =VLOOKUP($A9,ALL_2021!$A$3:$S$44,19,FALSE) -> 0.010890289 | R9: =VLOOKUP($A9,ALL_2021!$A$3:$U$44,20,FALSE) -> 45.7162 | S9: =VLOOKUP($A9,ALL_2021!$A$3:$U$44,21,FALSE) -> 7.0509688 | T9: 1 | U9: 2021 | V9: =AVERAGEIF(ALL_2021!$C$5:$C$44,Graphs!$T9,ALL_2021!$E$5:$E$44) -> 1.0669573 | W9: {=_xlfn.STDEV.P(IF($T9=ALL_2021!$C$5:$C$44,ALL_2021!$E$5:$E$44,""))} -> 0.11897538 | X9: =AVERAGEIF(ALL_2021!$C$5:$C$44,Graphs!$T9,ALL_2021!$F$5:$F$44) -> 0.59737459 | Y9: {=_xlfn.STDEV.P(IF($T9=ALL_2021!$C$5:$C$44,ALL_2021!$F$5:$F$44,""))} -> 0.04489637 | Z9: =AVERAGEIF(ALL_2021!$C$5:$C$44,Graphs!$T9,ALL_2021!G6:G45) -> 4087.0122 | AA9: {=_xlfn.STDEV.P(IF($T9=ALL_2021!$C$5:$C$44,ALL_2021!$G$5:$G$44,""))} -> 2540.8785 | AB9: =AVERAGEIF(ALL_2021!$C$5:$C$44,Graphs!$T9,ALL_2021!$H$5:$H$44) -> 3.0851016 | AC9: {=_xlfn.STDEV.P(IF($T9=ALL_2021!$C$5:$C$44,ALL_2021!$H$5:$H$44,""))} -> 0.59596043 | AD9: =AVERAGEIF(ALL_2021!$C$5:$C$44,Graphs!$T9,ALL_2021!$J$5:$J$44) -> 18 | AE9: {=_xlfn.STDEV.P(IF($T9=ALL_2021!$C$5:$C$44,ALL_2021!$J$5:$J$44,""))} -> 21.612753 | AF9: =AVERAGEIF(ALL_2021!$C$5:$C$44,Graphs!$T9,ALL_2021!$L$5:$L$44) -> 72.068917 | AG9: {=_xlfn.STDEV.P(IF($T9=ALL_2021!$C$5:$C$44,ALL_2021!$L$5:$L$44,""))} -> 18.711545 | AH9: =AVERAGEIF(ALL_2021!$C$5:$C$44,Graphs!$T9,ALL_2021!$N$5:$N$44) -> 19.683473 | AI9: {=_xlfn.STDEV.P(IF($T9=ALL_2021!$C$5:$C$44,ALL_2021!$N$5:$N$44,""))} -> 29.78494 | AJ9: =AVERAGEIF(ALL_2021!$C$5:$C$44,Graphs!$T9,ALL_2021!$P$5:$P$44) -> 37.921569 | AK9: {=_xlfn.STDEV.P(IF($T9=ALL_2021!$C$5:$C$44,ALL_2021!$P$5:$P$44,""))} -> 20.284669 | AL9: =AVERAGEIF(ALL_2021!$C$5:$C$44,Graphs!$T9,ALL_2021!R6:R45) -> 0.045117147 | AM9: {=_xlfn.STDEV.P(IF($T9=ALL_2021!$C$5:$C$44,ALL_2021!$R$5:$R$44,""))} -> 0.018015845 | AN9: =AVERAGEIF(ALL_2021!$C$5:$C$44,Graphs!$T9,ALL_2021!$T$5:$T$44) -> 45.336874
A10: =A8 -> Ai-1 | B10: 2020 | C10: =VLOOKUP($A10,ALL_2020!$A$3:$R$44,5,FALSE) -> 1.1731034 | D10: =VLOOKUP(A10,ALL_2020!$A$3:$R$44,6,FALSE) -> 0.55731945 | E10: =VLOOKUP(A10,ALL_2020!$A$3:$R$44,7,FALSE) -> 5773.2137 | F10: =VLOOKUP(A10,ALL_2020!$A$3:$R$44,8,FALSE) -> 2.7494408 | G10: =VLOOKUP(A10,ALL_2020!$A$3:$R$44,9,FALSE) -> 0.18606421 | H10: =VLOOKUP(A10,ALL_2020!$A$3:$R$44,10,FALSE) -> 70 | I10: =VLOOKUP(A10,ALL_2020!$A$3:$R$44,11,FALSE) -> 60 | J10: =VLOOKUP(A10,ALL_2020!$A$3:$R$44,12,FALSE) -> 83.402 | K10: =VLOOKUP(A10,ALL_2020!$A$3:$R$44,13,FALSE) -> 9.1329655 | L10: =VLOOKUP(A10,ALL_2020!$A$3:$R$44,14,FALSE) -> 10.775629 | M10: =VLOOKUP(A10,ALL_2020!$A$3:$S$44,15,FALSE) -> 6.7656293 | N10: =VLOOKUP($A10,ALL_2020!$A$3:$S$44,16,FALSE) -> 79 | O10: =VLOOKUP($A10,ALL_2020!$A$3:$S$44,17,FALSE) -> 3.7416574 | P10: =VLOOKUP($A10,ALL_2020!$A$3:$S$44,18,FALSE) -> 0.036615536 | Q10: =VLOOKUP($A10,ALL_2020!$A$3:$S$44,19,FALSE) -> 0.0066244745 | R10: =VLOOKUP($A10,ALL_2020!$A$3:$U$44,20,FALSE) -> 39.004 | S10: =VLOOKUP($A10,ALL_2020!$A$3:$U$44,21,FALSE) -> 4.9539584 | T10: 1 | U10: 2020 | V10: =AVERAGEIF(ALL_2020!$C$5:$C$44,Graphs!$T10,ALL_2020!$E$5:$E$44) -> 0.99912488 | W10: {=_xlfn.STDEV.P(IF($T10=ALL_2020!$C$5:$C$44,ALL_2020!$E$5:$E$44,""))} -> 0.15690728 | X10: =AVERAGEIF(ALL_2020!$C$5:$C$44,Graphs!$T10,ALL_2020!$F$5:$F$44) -> 0.62297174 | Y10: {=_xlfn.STDEV.P(IF($T10=ALL_2020!$C$5:$C$44,ALL_2020!$F$5:$F$44,""))} -> 0.059210293 | Z10: =AVERAGEIF(ALL_2020!$C$5:$C$44,Graphs!$T10,ALL_2020!G7:G46) -> 3396.041 | AA10: {=_xlfn.STDEV.P(IF($T10=ALL_2020!$C$5:$C$44,ALL_2020!$G$5:$G$44,""))} -> 2470.5852 | AB10: =AVERAGEIF(ALL_2020!$C$5:$C$44,Graphs!$T10,ALL_2020!$H$5:$H$44) -> 2.8756403 | AC10: {=_xlfn.STDEV.P(IF($T10=ALL_2020!$C$5:$C$44,ALL_2020!$H$5:$H$44,""))} -> 0.4740654 | AD10: =AVERAGEIF(ALL_2020!$C$5:$C$44,Graphs!$T10,ALL_2020!$J$5:$J$44) -> 42.368421 | AE10: {=_xlfn.STDEV.P(IF($T10=ALL_2020!$C$5:$C$44,ALL_2020!$J$5:$J$44,""))} -> 43.479227 | AF10: =AVERAGEIF(ALL_2020!$C$5:$C$44,Graphs!$T10,ALL_2020!$L$5:$L$44) -> 74.792553 | AG10: {=_xlfn.STDEV.P(IF($T10=ALL_2020!$C$5:$C$44,ALL_2020!$L$5:$L$44,""))} -> 16.929809 | AH10: =AVERAGEIF(ALL_2020!$C$5:$C$44,Graphs!$T10,ALL_2020!$N$5:$N$44) -> 10.088221 | AI10: {=_xlfn.STDEV.P(IF($T10=ALL_2020!$C$5:$C$44,ALL_2020!$N$5:$N$44,""))} -> 9.0104774 | AJ10: =AVERAGEIF(ALL_2020!$C$5:$C$44,Graphs!$T10,ALL_2020!$P$5:$P$44) -> 48.600877 | AK10: {=_xlfn.STDEV.P(IF($T10=ALL_2020!$C$5:$C$44,ALL_2020!$P$5:$P$44,""))} -> 21.677036 | AL10: =AVERAGEIF(ALL_2020!$C$5:$C$44,Graphs!$T10,ALL_2020!R7:R46) -> 0.038236517 | AM10: {=_xlfn.STDEV.P(IF($T10=ALL_2020!$C$5:$C$44,ALL_2020!$R$5:$R$44,""))} -> 0.017070723 | AN10: =AVERAGEIF(ALL_2020!$C$5:$C$44,Graphs!$T10,ALL_2020!$T$5:$T$44) -> 38.184855
A11: =A9 -> Ai-1 | B11: 2019 | C11: =VLOOKUP($A11,'2019'!$A$3:$R$55,5,FALSE) -> 1.2148148 | D11: =VLOOKUP(A11,'2019'!$A$3:$R$55,6,FALSE) -> 0.54157932 | E11: =VLOOKUP(A11,'2019'!$A$3:$R$55,7,FALSE) -> 4140.6728 | F11: =VLOOKUP(A11,'2019'!$A$3:$R$55,8,FALSE) -> 2.7878502 | G11: =VLOOKUP(A11,'2019'!$A$3:$R$55,9,FALSE) -> 0.24583054 | H11: =VLOOKUP(A11,'2019'!$A$3:$R$55,10,FALSE) -> 0 | I11: =VLOOKUP(A11,'2019'!$A$3:$R$55,11,FALSE) -> 0 | J11: =VLOOKUP(A11,'2019'!$A$3:$R$55,12,FALSE) -> 60.8 | K11: =VLOOKUP(A11,'2019'!$A$3:$R$55,13,FALSE) -> 20.855695 | L11: =VLOOKUP(A11,'2019'!$A$3:$R$55,14,FALSE) -> 10.213658 | M11: =VLOOKUP(A11,'2019'!$A$3:$R$55,15,FALSE) -> 8.5475742 | T11: 1 | U11: 2019 | V11: {=AVERAGEIF('2019'!$C$4:$C$55,Graphs!$T11,'2019'!$E$4:$E$55)} -> 1.0245991 | W11: {=_xlfn.STDEV.P(IF($T11='2019'!$C$4:$C$55,'2019'!$E$4:$E$55,""))} -> 0.41521973 | X11: {=AVERAGEIF('2019'!$C$4:$C$55,Graphs!$T11,'2019'!$F$4:$F$55)} -> 0.61335884 | Y11: {=_xlfn.STDEV.P(IF($T11='2019'!$C$4:$C$55,'2019'!$F$4:$F$55,""))} -> 0.23251723 | Z11: {=AVERAGEIF('2019'!$C$4:$C$55,Graphs!$T11,'2019'!$G$4:$G$55)} -> 6850.553 | AA11: {=_xlfn.STDEV.P(IF($T11='2019'!$C$4:$C$55,'2019'!$G$4:$G$55,""))} -> 4573.7042 | AB11: {=AVERAGEIF('2019'!$C$4:$C$55,Graphs!$T11,'2019'!$H$4:$H$55)} -> 2.8283472 | AC11: {=_xlfn.STDEV.P(IF($T11='2019'!$C$4:$C$55,'2019'!$H$4:$H$55,""))} -> 0.45535363 | AD11: {=AVERAGEIF('2019'!$C$4:$C$55,Graphs!$T11,'2019'!$J$4:$J$55)} -> 3.4615385 | AE11: {=_xlfn.STDEV.P(IF($T11='2019'!$C$4:$C$55,'2019'!$J$4:$J$55,""))} -> 7.3076923 | AF11: {=AVERAGEIF('2019'!$C$4:$C$55,Graphs!$T11,'2019'!$L$4:$L$55)} -> 34.55 | AG11: {=_xlfn.STDEV.P(IF($T11='2019'!$C$4:$C$55,'2019'!$L$4:$L$55,""))} -> 31.591175 | AH11: {=AVERAGEIF('2019'!$C$4:$C$55,Graphs!$T11,'2019'!$N$4:$N$55)} -> 7.8554368 | AI11: {=_xlfn.STDEV.P(IF($T11='2019'!$C$4:$C$55,'2019'!$N$4:$N$55,""))} -> 13.137462
R14: Soil structure by layer 2022
R16: Site | S16: Year | T16: Ave cm 1 | U16: Ave cm 2 | V16: Ave cm 3 | W16: Ave cm 4 | X16: Ave VESS 1 | Y16: Ave VESS 2 | Z16: Ave VESS 3 | AA16: Ave VESS 4 | AB16: SD VESS 1 | AC16: SD VESS 2 | AD16: SD VESS 3 | AE16: SD VESS 4
R17: =A4 -> Ai-0 | S17: 2022 | T17: =VLOOKUP($R17,VESS!$A$3:$W$203,16,FALSE) -> -6 | U17: =VLOOKUP($R17,VESS!$A$3:$W$203,17,FALSE) -> -12 | V17: =VLOOKUP($R17,VESS!$A$3:$W$203,18,FALSE) -> -8.2 | W17: =VLOOKUP($R17,VESS!$A$3:$W$203,19,FALSE) -> #N/A | X17: =VLOOKUP($R17,VESS!$A$3:$W$203,20,FALSE) -> 1 | Y17: =VLOOKUP($R17,VESS!$A$3:$W$203,21,FALSE) -> 3.6 | Z17: =VLOOKUP($R17,VESS!$A$3:$W$203,22,FALSE) -> 4.4 | AA17: =VLOOKUP($R17,VESS!$A$3:$W$203,23,FALSE) | AB17: =VLOOKUP($R17,VESS!$A$3:$AA$203,24,FALSE) -> 0 | AC17: =VLOOKUP($R17,VESS!$A$3:$AA$203,25,FALSE) -> 0.8 | AD17: =VLOOKUP($R17,VESS!$A$3:$AA$203,26,FALSE) -> 0.48989795 | AE17: =VLOOKUP($R17,VESS!$A$3:$AA$203,27,FALSE)
R18: =A8 -> Ai-1 | S18: 2022 | T18: =VLOOKUP($R18,VESS!$A$3:$W$203,16,FALSE) -> -5.6 | U18: =VLOOKUP($R18,VESS!$A$3:$W$203,17,FALSE) -> -7.6 | V18: =VLOOKUP($R18,VESS!$A$3:$W$203,18,FALSE) -> -10 | W18: =VLOOKUP($R18,VESS!$A$3:$W$203,19,FALSE) -> -4.75 | X18: =VLOOKUP($R18,VESS!$A$3:$W$203,20,FALSE) -> 1.4 | Y18: =VLOOKUP($R18,VESS!$A$3:$W$203,21,FALSE) -> 3 | Z18: =VLOOKUP($R18,VESS!$A$3:$W$203,22,FALSE) -> 3.8 | AA18: =VLOOKUP($R18,VESS!$A$3:$W$203,23,FALSE) -> 4.25 | AB18: =VLOOKUP($R18,VESS!$A$3:$AA$203,24,FALSE) -> 0.48989795 | AC18: =VLOOKUP($R18,VESS!$A$3:$AA$203,25,FALSE) -> 0.63245553 | AD18: =VLOOKUP($R18,VESS!$A$3:$AA$203,26,FALSE) -> 0.4 | AE18: =VLOOKUP($R18,VESS!$A$3:$AA$203,27,FALSE) -> 0.4330127
R19: =A4 -> Ai-0 | S19: 2022 | T19: 0 | U19: =T19+T17 -> -6 | V19: =U19+U17 -> -18 | W19: =V19+V17 -> -26.2 | X19: =X17 -> 1 | Y19: =Y17 -> 3.6 | Z19: =Z17 -> 4.4 | AA19: =AA17 | AB19: =VLOOKUP($R19,VESS!$A$3:$AA$203,24,FALSE) -> 0 | AC19: =VLOOKUP($R19,VESS!$A$3:$AA$203,25,FALSE) -> 0.8 | AD19: =VLOOKUP($R19,VESS!$A$3:$AA$203,26,FALSE) -> 0.48989795 | AE19: =VLOOKUP($R19,VESS!$A$3:$AA$203,27,FALSE)
R20: =A8 -> Ai-1 | S20: 2022 | T20: 0 | U20: =T20+T18 -> -5.6 | V20: =U20+U18 -> -13.2 | W20: =V20+V18 -> -23.2 | X20: =X18 -> 1.4 | Y20: =Y18 -> 3 | Z20: =Z18 -> 3.8 | AA20: =AA18 -> 4.25 | AB20: =VLOOKUP($R20,VESS!$A$3:$AA$203,24,FALSE) -> 0.48989795 | AC20: =VLOOKUP($R20,VESS!$A$3:$AA$203,25,FALSE) -> 0.63245553 | AD20: =VLOOKUP($R20,VESS!$A$3:$AA$203,26,FALSE) -> 0.4 | AE20: =VLOOKUP($R20,VESS!$A$3:$AA$203,27,FALSE) -> 0.4330127
R22: Soil structure in different pits
R24: Site | S24: Rep | T24: ID | U24: cm 1 | V24: cm 2 | W24: cm 3 | X24: cm 4 | Y24: VESS 1 | Z24: VESS 2 | AA24: VESS 3 | AB24: VESS 4
R25: =$A$4 -> Ai-0 | S25: 1 | T25: =R25&" "&S25 -> Ai-0 1 | U25: =VLOOKUP($T25,VESS_profile!$A$3:$J$203,3,FALSE) -> 0 | V25: =VLOOKUP($T25,VESS_profile!$A$3:$J$203,4,FALSE) -> -7 | W25: =VLOOKUP($T25,VESS_profile!$A$3:$J$203,5,FALSE) -> -22 | X25: =VLOOKUP($T25,VESS_profile!$A$3:$J$203,6,FALSE) -> -27 | Y25: =VLOOKUP($T25,VESS_profile!$A$3:$J$203,7,FALSE) -> 1 | Z25: =VLOOKUP($T25,VESS_profile!$A$3:$J$203,8,FALSE) -> 2 | AA25: =VLOOKUP($T25,VESS_profile!$A$3:$J$203,9,FALSE) -> 4 | AB25: =VLOOKUP($T25,VESS_profile!$A$3:$J$203,10,FALSE) -> 4
R26: =$A$4 -> Ai-0 | S26: 2 | T26: =R26&" "&S26 -> Ai-0 2 | U26: =VLOOKUP($T26,VESS_profile!$A$3:$J$203,3,FALSE) -> 0 | V26: =VLOOKUP($T26,VESS_profile!$A$3:$J$203,4,FALSE) -> -8 | W26: =VLOOKUP($T26,VESS_profile!$A$3:$J$203,5,FALSE) -> -21 | X26: =VLOOKUP($T26,VESS_profile!$A$3:$J$203,6,FALSE) -> -31 | Y26: =VLOOKUP($T26,VESS_profile!$A$3:$J$203,7,FALSE) -> 1 | Z26: =VLOOKUP($T26,VESS_profile!$A$3:$J$203,8,FALSE) -> 4 | AA26: =VLOOKUP($T26,VESS_profile!$A$3:$J$203,9,FALSE) -> 5 | AB26: =VLOOKUP($T26,VESS_profile!$A$3:$J$203,10,FALSE) -> 5
R27: =$A$4 -> Ai-0 | S27: 3 | T27: =R27&" "&S27 -> Ai-0 3 | U27: =VLOOKUP($T27,VESS_profile!$A$3:$J$203,3,FALSE) -> 0 | V27: =VLOOKUP($T27,VESS_profile!$A$3:$J$203,4,FALSE) -> -5 | W27: =VLOOKUP($T27,VESS_profile!$A$3:$J$203,5,FALSE) -> -20 | X27: =VLOOKUP($T27,VESS_profile!$A$3:$J$203,6,FALSE) -> -28 | Y27: =VLOOKUP($T27,VESS_profile!$A$3:$J$203,7,FALSE) -> 1 | Z27: =VLOOKUP($T27,VESS_profile!$A$3:$J$203,8,FALSE) -> 4 | AA27: =VLOOKUP($T27,VESS_profile!$A$3:$J$203,9,FALSE) -> 5 | AB27: =VLOOKUP($T27,VESS_profile!$A$3:$J$203,10,FALSE) -> 5
R28: =$A$4 -> Ai-0 | S28: 4 | T28: =R28&" "&S28 -> Ai-0 4 | U28: =VLOOKUP($T28,VESS_profile!$A$3:$J$203,3,FALSE) -> 0 | V28: =VLOOKUP($T28,VESS_profile!$A$3:$J$203,4,FALSE) -> -5 | W28: =VLOOKUP($T28,VESS_profile!$A$3:$J$203,5,FALSE) -> -17 | X28: =VLOOKUP($T28,VESS_profile!$A$3:$J$203,6,FALSE) -> -25 | Y28: =VLOOKUP($T28,VESS_profile!$A$3:$J$203,7,FALSE) -> 1 | Z28: =VLOOKUP($T28,VESS_profile!$A$3:$J$203,8,FALSE) -> 4 | AA28: =VLOOKUP($T28,VESS_profile!$A$3:$J$203,9,FALSE) -> 4 | AB28: =VLOOKUP($T28,VESS_profile!$A$3:$J$203,10,FALSE) -> 4
R29: =$A$4 -> Ai-0 | S29: 5 | T29: =R29&" "&S29 -> Ai-0 5 | U29: =VLOOKUP($T29,VESS_profile!$A$3:$J$203,3,FALSE) -> 0 | V29: =VLOOKUP($T29,VESS_profile!$A$3:$J$203,4,FALSE) -> -5 | W29: =VLOOKUP($T29,VESS_profile!$A$3:$J$203,5,FALSE) -> -10 | X29: =VLOOKUP($T29,VESS_profile!$A$3:$J$203,6,FALSE) -> -20 | Y29: =VLOOKUP($T29,VESS_profile!$A$3:$J$203,7,FALSE) -> 1 | Z29: =VLOOKUP($T29,VESS_profile!$A$3:$J$203,8,FALSE) -> 4 | AA29: =VLOOKUP($T29,VESS_profile!$A$3:$J$203,9,FALSE) -> 4 | AB29: =VLOOKUP($T29,VESS_profile!$A$3:$J$203,10,FALSE) -> 4
R30: =$A$8 -> Ai-1 | S30: 1 | T30: =R30&" "&S30 -> Ai-1 1 | U30: =VLOOKUP($T30,VESS_profile!$A$3:$J$203,3,FALSE) -> 0 | V30: =VLOOKUP($T30,VESS_profile!$A$3:$J$203,4,FALSE) -> -6 | W30: =VLOOKUP($T30,VESS_profile!$A$3:$J$203,5,FALSE) -> -13 | X30: =VLOOKUP($T30,VESS_profile!$A$3:$J$203,6,FALSE) -> -20 | Y30: =VLOOKUP($T30,VESS_profile!$A$3:$J$203,7,FALSE) -> 2 | Z30: =VLOOKUP($T30,VESS_profile!$A$3:$J$203,8,FALSE) -> 3 | AA30: =VLOOKUP($T30,VESS_profile!$A$3:$J$203,9,FALSE) -> 3 | AB30: =VLOOKUP($T30,VESS_profile!$A$3:$J$203,10,FALSE) -> 4
R31: =$A$8 -> Ai-1 | S31: 2 | T31: =R31&" "&S31 -> Ai-1 2 | U31: =VLOOKUP($T31,VESS_profile!$A$3:$J$203,3,FALSE) -> 0 | V31: =VLOOKUP($T31,VESS_profile!$A$3:$J$203,4,FALSE) -> -6 | W31: =VLOOKUP($T31,VESS_profile!$A$3:$J$203,5,FALSE) -> -18 | X31: =VLOOKUP($T31,VESS_profile!$A$3:$J$203,6,FALSE) -> -25 | Y31: =VLOOKUP($T31,VESS_profile!$A$3:$J$203,7,FALSE) -> 2 | Z31: =VLOOKUP($T31,VESS_profile!$A$3:$J$203,8,FALSE) -> 3 | AA31: =VLOOKUP($T31,VESS_profile!$A$3:$J$203,9,FALSE) -> 4 | AB31: =VLOOKUP($T31,VESS_profile!$A$3:$J$203,10,FALSE) -> 5
R32: =$A$8 -> Ai-1 | S32: 3 | T32: =R32&" "&S32 -> Ai-1 3 | U32: =VLOOKUP($T32,VESS_profile!$A$3:$J$203,3,FALSE) -> 0 | V32: =VLOOKUP($T32,VESS_profile!$A$3:$J$203,4,FALSE) -> -6 | W32: =VLOOKUP($T32,VESS_profile!$A$3:$J$203,5,FALSE) -> -11 | X32: =VLOOKUP($T32,VESS_profile!$A$3:$J$203,6,FALSE) -> -26 | Y32: =VLOOKUP($T32,VESS_profile!$A$3:$J$203,7,FALSE) -> 1 | Z32: =VLOOKUP($T32,VESS_profile!$A$3:$J$203,8,FALSE) -> 3 | AA32: =VLOOKUP($T32,VESS_profile!$A$3:$J$203,9,FALSE) -> 4 | AB32: =VLOOKUP($T32,VESS_profile!$A$3:$J$203,10,FALSE) -> 4
R33: =$A$8 -> Ai-1 | S33: 4 | T33: =R33&" "&S33 -> Ai-1 4 | U33: =VLOOKUP($T33,VESS_profile!$A$3:$J$203,3,FALSE) -> 0 | V33: =VLOOKUP($T33,VESS_profile!$A$3:$J$203,4,FALSE) -> -5 | W33: =VLOOKUP($T33,VESS_profile!$A$3:$J$203,5,FALSE) -> -14 | X33: =VLOOKUP($T33,VESS_profile!$A$3:$J$203,6,FALSE) -> -24 | Y33: =VLOOKUP($T33,VESS_profile!$A$3:$J$203,7,FALSE) -> 1 | Z33: =VLOOKUP($T33,VESS_profile!$A$3:$J$203,8,FALSE) -> 4 | AA33: =VLOOKUP($T33,VESS_profile!$A$3:$J$203,9,FALSE) -> 4 | AB33: =VLOOKUP($T33,VESS_profile!$A$3:$J$203,10,FALSE) -> 4
R34: =$A$8 -> Ai-1 | S34: 5 | T34: =R34&" "&S34 -> Ai-1 5 | U34: =VLOOKUP($T34,VESS_profile!$A$3:$J$203,3,FALSE) -> 0 | V34: =VLOOKUP($T34,VESS_profile!$A$3:$J$203,4,FALSE) -> -5 | W34: =VLOOKUP($T34,VESS_profile!$A$3:$J$203,5,FALSE) -> -10 | X34: =VLOOKUP($T34,VESS_profile!$A$3:$J$203,6,FALSE) -> -21 | Y34: =VLOOKUP($T34,VESS_profile!$A$3:$J$203,7,FALSE) -> 1 | Z34: =VLOOKUP($T34,VESS_profile!$A$3:$J$203,8,FALSE) -> 2 | AA34: =VLOOKUP($T34,VESS_profile!$A$3:$J$203,9,FALSE) -> 4 | AB34: =VLOOKUP($T34,VESS_profile!$A$3:$J$203,10,FALSE) -> 4
P40: Change
P41: Year | Q41: Site | R41: BD (kg/l) | S41: Porosity | T41: Biomass (kg/ha) | U41: VESS | V41: Std | W41: Worms | X41: Std | Y41: Canopeo | Z41: Std | AA41: Kh | AB41: Std
P42: 2022 | Q42: =A4 -> Ai-0 | R42: =VLOOKUP($Q42,ALL_2022!$A$3:$R$43,5,FALSE) -> 1.3455224 | S42: =VLOOKUP($Q42,ALL_2022!$A$3:$R$43,6,FALSE) -> 0.49225569 | T42: =VLOOKUP($Q42,ALL_2022!$A$3:$R$43,7,FALSE) -> 1342.9888 | U42: =VLOOKUP($Q42,ALL_2022!$A$3:$R$43,8,FALSE) -> 3.2118996 | V42: =VLOOKUP($Q42,ALL_2022!$A$3:$R$43,9,FALSE) -> 0.57469028 | W42: =VLOOKUP($Q42,ALL_2022!$A$3:$R$43,10,FALSE) -> 0 | X42: =VLOOKUP($Q42,ALL_2022!$A$3:$R$43,11,FALSE) -> 0 | Y42: =_xlfn.NUMBERVALUE(VLOOKUP($Q42,ALL_2022!$A$3:$R$43,12,FALSE)) -> 45.186667 | Z42: =VLOOKUP($Q42,ALL_2022!$A$3:$R$43,13,FALSE) -> 2.371516 | AA42: =VLOOKUP($Q42,ALL_2022!$A$3:$R$43,14,FALSE) -> 16.677 | AB42: =VLOOKUP($Q42,ALL_2022!$A$3:$R$43,15,FALSE) -> 4.794222
Q43: =A8 -> Ai-1 | R43: =VLOOKUP($Q43,ALL_2022!$A$3:$R$43,5,FALSE) -> 1.3152299 | S43: =VLOOKUP($Q43,ALL_2022!$A$3:$R$43,6,FALSE) -> 0.50368682 | T43: =VLOOKUP($Q43,ALL_2022!$A$3:$R$43,7,FALSE) -> 6316.1497 | U43: =VLOOKUP($Q43,ALL_2022!$A$3:$R$43,8,FALSE) -> 3.1999426 | V43: =VLOOKUP($Q43,ALL_2022!$A$3:$R$43,9,FALSE) -> 0.18026856 | W43: =VLOOKUP($Q43,ALL_2022!$A$3:$R$43,10,FALSE) -> 30 | X43: =VLOOKUP($Q43,ALL_2022!$A$3:$R$43,11,FALSE) -> 24.494897 | Y43: =_xlfn.NUMBERVALUE(VLOOKUP($Q43,ALL_2022!$A$3:$R$43,12,FALSE)) -> 91.4 | Z43: =VLOOKUP($Q43,ALL_2022!$A$3:$R$43,13,FALSE) -> 1.7 | AA43: =VLOOKUP($Q43,ALL_2022!$A$3:$R$43,14,FALSE) -> 25.0132 | AB43: =VLOOKUP($Q43,ALL_2022!$A$3:$R$43,15,FALSE) -> 11.00445
P44: 2019 | Q44: =Q42 -> Ai-0 | R44: =VLOOKUP($Q44,'2019'!$A$3:$R$55,5,FALSE) -> 1.3864198 | S44: =VLOOKUP($Q44,'2019'!$A$3:$R$55,6,FALSE) -> 0.47682273 | T44: =VLOOKUP($Q44,'2019'!$A$3:$R$55,7,FALSE) -> 6202.567 | U44: =VLOOKUP($Q44,'2019'!$A$3:$R$55,8,FALSE) -> 2.9955724 | V44: =VLOOKUP($Q44,'2019'!$A$3:$R$55,9,FALSE) -> 0.4081075 | W44: =VLOOKUP($Q44,'2019'!$A$3:$R$55,10,FALSE) -> 0 | X44: =VLOOKUP($Q44,'2019'!$A$3:$R$55,11,FALSE) -> 0 | Y44: =_xlfn.NUMBERVALUE(VLOOKUP($Q44,'2019'!$A$3:$R$55,12,FALSE)) -> 0.6 | Z44: =VLOOKUP($Q44,'2019'!$A$3:$R$55,13,FALSE) -> 1.2 | AA44: =VLOOKUP($Q44,'2019'!$A$3:$R$55,14,FALSE) -> 13.193882 | AB44: =VLOOKUP($Q44,'2019'!$A$3:$R$55,15,FALSE) -> 7.0631573
Q45: =Q43 -> Ai-1 | R45: =VLOOKUP($Q45,'2019'!$A$3:$R$55,5,FALSE) -> 1.2148148 | S45: =VLOOKUP($Q45,'2019'!$A$3:$R$55,6,FALSE) -> 0.54157932 | T45: =VLOOKUP($Q45,'2019'!$A$3:$R$55,7,FALSE) -> 4140.6728 | U45: =VLOOKUP($Q45,'2019'!$A$3:$R$55,8,FALSE) -> 2.7878502 | V45: =VLOOKUP($Q45,'2019'!$A$3:$R$55,9,FALSE) -> 0.24583054 | W45: =VLOOKUP($Q45,'2019'!$A$3:$R$55,10,FALSE) -> 0 | X45: =VLOOKUP($Q45,'2019'!$A$3:$R$55,11,FALSE) -> 0 | Y45: =_xlfn.NUMBERVALUE(VLOOKUP($Q45,'2019'!$A$3:$R$55,12,FALSE)) -> 60.8 | Z45: =VLOOKUP($Q45,'2019'!$A$3:$R$55,13,FALSE) -> 20.855695 | AA45: =VLOOKUP($Q45,'2019'!$A$3:$R$55,14,FALSE) -> 10.213658 | AB45: =VLOOKUP($Q45,'2019'!$A$3:$R$55,15,FALSE) -> 8.5475742
P46: Difference | Q46: =Q42 -> Ai-0 | R46: =R42-R44 -> -0.040897338 | S46: =S42-S44 -> 0.015432958 | T46: =T42-T44 -> -4859.5782 | U46: =U42-U44 -> 0.21632725 | V46: =SQRT(V42^2+V44^2) -> 0.70485506 | W46: =W42-W44 -> 0 | X46: =SQRT(X42^2+X44^2) -> 0 | Y46: =Y42-Y44 -> 44.586667 | Z46: =SQRT(Z42^2+Z44^2) -> 2.6578352 | AA46: =AA42-AA44 -> 3.4831177 | AB46: =SQRT(AB42^2+AB44^2) -> 8.5365541
Q47: =Q43 -> Ai-1 | R47: =R43-R45 -> 0.10041511 | S47: =S43-S45 -> -0.037892494 | T47: =T43-T45 -> 2175.4769 | U47: =U43-U45 -> 0.41209234 | V47: =SQRT(V43^2+V45^2) -> 0.30484325 | W47: =W43-W45 -> 30 | X47: =SQRT(X43^2+X45^2) -> 24.494897 | Y47: =Y43-Y45 -> 30.6 | Z47: =SQRT(Z43^2+Z45^2) -> 20.924866 | AA47: =AA43-AA45 -> 14.799542 | AB47: =SQRT(AB43^2+AB45^2) -> 13.934093
A52: Different suction in mini disk infiltrometers for years: 2019 20 mm, 2020 15 mm.

Sheet ALL_2022
A3: Plot | B3: Tila | C3: Treat | D3: Group | E3: BD (kg/l) | F3: Porosity | G3: Biomass (kg/ha) | H3: VESS | I3: SD | J3: Earthworms /m2 | K3: SD | L3: Canopeo_leaf area % | M3: SD | N3: Kh (mm/h) | O3: SD | P3: Crop height cm | Q3: SD | R3: Chlorophyll | S3: SD | T3: SPAD | U3: SD
A4: =B4&"-"&C4 -> AE-0 | B4: AE | C4: 0 | D4: Subsoiling | E4: =VLOOKUP($A4,BD_biomass!$A$4:$R$43,17,FALSE) -> 0.86466228 | F4: =VLOOKUP($A4,BD_biomass!$A$4:$R$43,18,FALSE) -> 0.67371235 | G4: =VLOOKUP($A4,BD_biomass!$A$4:$R$43,11,FALSE) -> 4308.3776 | H4: =VLOOKUP($A4,VESS!$A$3:$O$203,14,FALSE) -> 2.3666667 | I4: =VLOOKUP($A4,VESS!$A$4:$O$203,15,FALSE) -> 0.26246693 | J4: =VLOOKUP($A4,WormsCanopeoKhPlantChloro!$A$3:$M$203,6,FALSE)/(0.1*0.2) -> 0 | K4: =VLOOKUP($A4,WormsCanopeoKhPlantChloro!$A$3:$M$203,7,FALSE)/(0.1*0.2) -> 0 | L4: =_xlfn.NUMBERVALUE((VLOOKUP($A4,WormsCanopeoKhPlantChloro!$A$3:$M$203,9,FALSE))) -> 79.826667 | M4: =_xlfn.NUMBERVALUE((VLOOKUP($A4,WormsCanopeoKhPlantChloro!$A$3:$M$203,10,FALSE))) -> 3.619064 | N4: =VLOOKUP($A4,WormsCanopeoKhPlantChloro!$A$3:$M$203,12,FALSE) -> 0.597 | O4: =VLOOKUP($A4,WormsCanopeoKhPlantChloro!$A$3:$M$203,13,FALSE) -> 0.46 | P4: =VLOOKUP($A4,WormsCanopeoKhPlantChloro!$A$3:$S$203,15,FALSE) -> 47.4 | Q4: =VLOOKUP($A4,WormsCanopeoKhPlantChloro!$A$3:$S$203,16,FALSE) -> 4.363485 | R4: =VLOOKUP($A4,WormsCanopeoKhPlantChloro!$A$3:$S$203,18,FALSE) -> 0.047527 | S4: =VLOOKUP($A4,WormsCanopeoKhPlantChloro!$A$3:$S$203,19,FALSE) -> 0.008448 | T4: =VLOOKUP($A4,WormsCanopeoKhPlantChloro!$A$3:$V$203,21,FALSE) -> 46.4686 | U4: =VLOOKUP($A4,WormsCanopeoKhPlantChloro!$A$3:$V$203,22,FALSE) -> 5.41435
A5: =B5&"-"&C5 -> AE-1 | B5: AE | C5: 1 | D5: Subsoiling | E5: =VLOOKUP($A5,BD_biomass!$A$4:$R$43,17,FALSE) -> 0.85178399 | F5: =VLOOKUP($A5,BD_biomass!$A$4:$R$43,18,FALSE) -> 0.67857208 | G5: =VLOOKUP($A5,BD_biomass!$A$4:$R$43,11,FALSE) -> 4004.6669 | H5: =VLOOKUP($A5,VESS!$A$3:$O$203,14,FALSE) -> 1.6666667 | I5: =VLOOKUP($A5,VESS!$A$4:$O$203,15,FALSE) -> 0.47140452 | J5: =VLOOKUP($A5,WormsCanopeoKhPlantChloro!$A$3:$M$203,6,FALSE)/(0.1*0.2) -> 116.66667 | K5: =VLOOKUP($A5,WormsCanopeoKhPlantChloro!$A$3:$M$203,7,FALSE)/(0.1*0.2) -> 23.570226 | L5: =_xlfn.NUMBERVALUE((VLOOKUP($A5,WormsCanopeoKhPlantChloro!$A$3:$M$203,9,FALSE))) -> 78.73 | M5: =_xlfn.NUMBERVALUE((VLOOKUP($A5,WormsCanopeoKhPlantChloro!$A$3:$M$203,10,FALSE))) -> 3.68544 | N5: =VLOOKUP($A5,WormsCanopeoKhPlantChloro!$A$3:$M$203,12,FALSE) -> 0.696 | O5: =VLOOKUP($A5,WormsCanopeoKhPlantChloro!$A$3:$M$203,13,FALSE) -> 0.243 | P5: =VLOOKUP($A5,WormsCanopeoKhPlantChloro!$A$3:$S$203,15,FALSE) -> 47 | Q5: =VLOOKUP($A5,WormsCanopeoKhPlantChloro!$A$3:$S$203,16,FALSE) -> 2.44949 | R5: =VLOOKUP($A5,WormsCanopeoKhPlantChloro!$A$3:$S$203,18,FALSE) -> 0.056538 | S5: =VLOOKUP($A5,WormsCanopeoKhPlantChloro!$A$3:$S$203,19,FALSE) -> 0.00487 | T5: =VLOOKUP($A5,WormsCanopeoKhPlantChloro!$A$3:$V$203,21,FALSE) -> 52.3096 | U5: =VLOOKUP($A5,WormsCanopeoKhPlantChloro!$A$3:$V$203,22,FALSE) -> 2.959156
A6: =B6&"-"&C6 -> Ai-0 | B6: Ai | C6: 0 | D6: Ley in rotation | E6: =VLOOKUP($A6,BD_biomass!$A$4:$R$43,17,FALSE) -> 1.3455224 | F6: =VLOOKUP($A6,BD_biomass!$A$4:$R$43,18,FALSE) -> 0.49225569 | G6: =VLOOKUP($A6,BD_biomass!$A$4:$R$43,11,FALSE) -> 1342.9888 | H6: =VLOOKUP($A6,VESS!$A$3:$O$203,14,FALSE) -> 3.2118996 | I6: =VLOOKUP($A6,VESS!$A$4:$O$203,15,FALSE) -> 0.57469028 | J6: =VLOOKUP($A6,WormsCanopeoKhPlantChloro!$A$3:$M$203,6,FALSE)/(0.1*0.2) -> 0 | K6: =VLOOKUP($A6,WormsCanopeoKhPlantChloro!$A$3:$M$203,7,FALSE)/(0.1*0.2) -> 0 | L6: =_xlfn.NUMBERVALUE((VLOOKUP($A6,WormsCanopeoKhPlantChloro!$A$3:$M$203,9,FALSE))) -> 45.186667 | M6: =_xlfn.NUMBERVALUE((VLOOKUP($A6,WormsCanopeoKhPlantChloro!$A$3:$M$203,10,FALSE))) -> 2.371516 | N6: =VLOOKUP($A6,WormsCanopeoKhPlantChloro!$A$3:$M$203,12,FALSE) -> 16.677 | O6: =VLOOKUP($A6,WormsCanopeoKhPlantChloro!$A$3:$M$203,13,FALSE) -> 4.794222 | P6: =VLOOKUP($A6,WormsCanopeoKhPlantChloro!$A$3:$S$203,15,FALSE) -> 42 | Q6: =VLOOKUP($A6,WormsCanopeoKhPlantChloro!$A$3:$S$203,16,FALSE) -> 2.44949 | R6: =VLOOKUP($A6,WormsCanopeoKhPlantChloro!$A$3:$S$203,18,FALSE) -> 0.0482 | S6: =VLOOKUP($A6,WormsCanopeoKhPlantChloro!$A$3:$S$203,19,FALSE) -> 0.005476 | T6: =VLOOKUP($A6,WormsCanopeoKhPlantChloro!$A$3:$V$203,21,FALSE) -> 47.0032 | U6: =VLOOKUP($A6,WormsCanopeoKhPlantChloro!$A$3:$V$203,22,FALSE) -> 3.629076
A7: =B7&"-"&C7 -> Ai-1 | B7: Ai | C7: 1 | D7: Ley in rotation | E7: =VLOOKUP($A7,BD_biomass!$A$4:$R$43,17,FALSE) -> 1.3152299 | F7: =VLOOKUP($A7,BD_biomass!$A$4:$R$43,18,FALSE) -> 0.50368682 | G7: =VLOOKUP($A7,BD_biomass!$A$4:$R$43,11,FALSE) -> 6316.1497 | H7: =VLOOKUP($A7,VESS!$A$3:$O$203,14,FALSE) -> 3.1999426 | I7: =VLOOKUP($A7,VESS!$A$4:$O$203,15,FALSE) -> 0.18026856 | J7: =VLOOKUP($A7,WormsCanopeoKhPlantChloro!$A$3:$M$203,6,FALSE)/(0.1*0.2) -> 30 | K7: =VLOOKUP($A7,WormsCanopeoKhPlantChloro!$A$3:$M$203,7,FALSE)/(0.1*0.2) -> 24.494897 | L7: =_xlfn.NUMBERVALUE((VLOOKUP($A7,WormsCanopeoKhPlantChloro!$A$3:$M$203,9,FALSE))) -> 91.4 | M7: =_xlfn.NUMBERVALUE((VLOOKUP($A7,WormsCanopeoKhPlantChloro!$A$3:$M$203,10,FALSE))) -> 1.7 | N7: =VLOOKUP($A7,WormsCanopeoKhPlantChloro!$A$3:$M$203,12,FALSE) -> 25.0132 | O7: =VLOOKUP($A7,WormsCanopeoKhPlantChloro!$A$3:$M$203,13,FALSE) -> 11.00445 | P7: =VLOOKUP($A7,WormsCanopeoKhPlantChloro!$A$3:$S$203,15,FALSE) -> 105 | Q7: =VLOOKUP($A7,WormsCanopeoKhPlantChloro!$A$3:$S$203,16,FALSE) -> 5 | R7: =VLOOKUP($A7,WormsCanopeoKhPlantChloro!$A$3:$S$203,18,FALSE) -> 0.040536 | S7: =VLOOKUP($A7,WormsCanopeoKhPlantChloro!$A$3:$S$203,19,FALSE) -> 0.003301 | T7: =VLOOKUP($A7,WormsCanopeoKhPlantChloro!$A$3:$V$203,21,FALSE) -> 41.8948 | U7: =VLOOKUP($A7,WormsCanopeoKhPlantChloro!$A$3:$V$203,22,FALSE) -> 2.282932
A8: =B8&"-"&C8 -> Ik-0 | B8: Ik | C8: 0 | D8: Ley in rotation | E8: =VLOOKUP($A8,BD_biomass!$A$4:$R$43,17,FALSE) -> 0.83919749 | F8: =VLOOKUP($A8,BD_biomass!$A$4:$R$43,18,FALSE) -> 0.6833217 | G8: =VLOOKUP($A8,BD_biomass!$A$4:$R$43,11,FALSE) -> 4234.9049 | H8: =VLOOKUP($A8,VESS!$A$3:$O$203,14,FALSE) -> 3.4607209 | I8: =VLOOKUP($A8,VESS!$A$4:$O$203,15,FALSE) -> 0.52462275 | J8: =VLOOKUP($A8,WormsCanopeoKhPlantChloro!$A$3:$M$203,6,FALSE)/(0.1*0.2) -> 0 | K8: =VLOOKUP($A8,WormsCanopeoKhPlantChloro!$A$3:$M$203,7,FALSE)/(0.1*0.2) -> 0 | L8: =_xlfn.NUMBERVALUE((VLOOKUP($A8,WormsCanopeoKhPlantChloro!$A$3:$M$203,9,FALSE))) -> 83.15 | M8: =_xlfn.NUMBERVALUE((VLOOKUP($A8,WormsCanopeoKhPlantChloro!$A$3:$M$203,10,FALSE))) -> 0.165126 | N8: =VLOOKUP($A8,WormsCanopeoKhPlantChloro!$A$3:$M$203,12,FALSE) -> 28.01358 | O8: =VLOOKUP($A8,WormsCanopeoKhPlantChloro!$A$3:$M$203,13,FALSE) -> 20.65633 | P8: =VLOOKUP($A8,WormsCanopeoKhPlantChloro!$A$3:$S$203,15,FALSE) -> 108.75 | Q8: =VLOOKUP($A8,WormsCanopeoKhPlantChloro!$A$3:$S$203,16,FALSE) -> 10.82532 | R8: =VLOOKUP($A8,WormsCanopeoKhPlantChloro!$A$3:$S$203,18,FALSE) -> 0.042471 | S8: =VLOOKUP($A8,WormsCanopeoKhPlantChloro!$A$3:$S$203,19,FALSE) -> 0.006313 | T8: =VLOOKUP($A8,WormsCanopeoKhPlantChloro!$A$3:$V$203,21,FALSE) -> 43.1422 | U8: =VLOOKUP($A8,WormsCanopeoKhPlantChloro!$A$3:$V$203,22,FALSE) -> 4.37459
A9: =B9&"-"&C9 -> Ik-1 | B9: Ik | C9: 1 | D9: Ley in rotation | E9: =VLOOKUP($A9,BD_biomass!$A$4:$R$43,17,FALSE) -> 0.9340671 | F9: =VLOOKUP($A9,BD_biomass!$A$4:$R$43,18,FALSE) -> 0.64752185 | G9: =VLOOKUP($A9,BD_biomass!$A$4:$R$43,11,FALSE) -> 9356.1166 | H9: =VLOOKUP($A9,VESS!$A$3:$O$203,14,FALSE) -> 1.9506173 | I9: =VLOOKUP($A9,VESS!$A$4:$O$203,15,FALSE) -> 0.16586455 | J9: =VLOOKUP($A9,WormsCanopeoKhPlantChloro!$A$3:$M$203,6,FALSE)/(0.1*0.2) -> 0 | K9: =VLOOKUP($A9,WormsCanopeoKhPlantChloro!$A$3:$M$203,7,FALSE)/(0.1*0.2) -> 0 | L9: =_xlfn.NUMBERVALUE((VLOOKUP($A9,WormsCanopeoKhPlantChloro!$A$3:$M$203,9,FALSE))) -> 88.003333 | M9: =_xlfn.NUMBERVALUE((VLOOKUP($A9,WormsCanopeoKhPlantChloro!$A$3:$M$203,10,FALSE))) -> 2.791157 | N9: =VLOOKUP($A9,WormsCanopeoKhPlantChloro!$A$3:$M$203,12,FALSE) -> 38.74339 | O9: =VLOOKUP($A9,WormsCanopeoKhPlantChloro!$A$3:$M$203,13,FALSE) -> 5.232109 | P9: =VLOOKUP($A9,WormsCanopeoKhPlantChloro!$A$3:$S$203,15,FALSE) -> 105 | Q9: =VLOOKUP($A9,WormsCanopeoKhPlantChloro!$A$3:$S$203,16,FALSE) -> 7.071068 | R9: =VLOOKUP($A9,WormsCanopeoKhPlantChloro!$A$3:$S$203,18,FALSE) -> 0.034861 | S9: =VLOOKUP($A9,WormsCanopeoKhPlantChloro!$A$3:$S$203,19,FALSE) -> 0.005154 | T9: =VLOOKUP($A9,WormsCanopeoKhPlantChloro!$A$3:$V$203,21,FALSE) -> 37.7962 | U9: =VLOOKUP($A9,WormsCanopeoKhPlantChloro!$A$3:$V$203,22,FALSE) -> 3.806238
A10: =B10&"-"&C10 -> Ja-0 | B10: Ja | C10: 0 | D10: Ley in rotation | E10: =VLOOKUP($A10,BD_biomass!$A$4:$R$43,17,FALSE) -> 0.73061403 | F10: =VLOOKUP($A10,BD_biomass!$A$4:$R$43,18,FALSE) -> 0.72429659 | G10: =VLOOKUP($A10,BD_biomass!$A$4:$R$43,11,FALSE) -> 0 | H10: =VLOOKUP($A10,VESS!$A$3:$O$203,14,FALSE) -> 3.2221264 | I10: =VLOOKUP($A10,VESS!$A$4:$O$203,15,FALSE) -> 0.33707987 | J10: =VLOOKUP($A10,WormsCanopeoKhPlantChloro!$A$3:$M$203,6,FALSE)/(0.1*0.2) -> 0 | K10: =VLOOKUP($A10,WormsCanopeoKhPlantChloro!$A$3:$M$203,7,FALSE)/(0.1*0.2) -> 0 | L10: =_xlfn.NUMBERVALUE((VLOOKUP($A10,WormsCanopeoKhPlantChloro!$A$3:$M$203,9,FALSE))) -> 73.543333 | M10: =_xlfn.NUMBERVALUE((VLOOKUP($A10,WormsCanopeoKhPlantChloro!$A$3:$M$203,10,FALSE))) -> 6.502929 | N10: =VLOOKUP($A10,WormsCanopeoKhPlantChloro!$A$3:$M$203,12,FALSE) -> 0 | O10: =VLOOKUP($A10,WormsCanopeoKhPlantChloro!$A$3:$M$203,13,FALSE) -> 0 | P10: =VLOOKUP($A10,WormsCanopeoKhPlantChloro!$A$3:$S$203,15,FALSE) -> 53.75 | Q10: =VLOOKUP($A10,WormsCanopeoKhPlantChloro!$A$3:$S$203,16,FALSE) -> 2.58602 | R10: =VLOOKUP($A10,WormsCanopeoKhPlantChloro!$A$3:$S$203,18,FALSE) -> 0 | S10: =VLOOKUP($A10,WormsCanopeoKhPlantChloro!$A$3:$S$203,19,FALSE) -> 0 | T10: =VLOOKUP($A10,WormsCanopeoKhPlantChloro!$A$3:$V$203,21,FALSE) -> 0 | U10: =VLOOKUP($A10,WormsCanopeoKhPlantChloro!$A$3:$V$203,22,FALSE) -> 0
A11: =B11&"-"&C11 -> Ja-1 | B11: Ja | C11: 1 | D11: Ley in rotation | E11: =VLOOKUP($A11,BD_biomass!$A$4:$R$43,17,FALSE) -> 0.9905671 | F11: =VLOOKUP($A11,BD_biomass!$A$4:$R$43,18,FALSE) -> 0.62620109 | G11: =VLOOKUP($A11,BD_biomass!$A$4:$R$43,11,FALSE) -> 0 | H11: =VLOOKUP($A11,VESS!$A$3:$O$203,14,FALSE) -> 3.1042032 | I11: =VLOOKUP($A11,VESS!$A$4:$O$203,15,FALSE) -> 0.48134675 | J11: =VLOOKUP($A11,WormsCanopeoKhPlantChloro!$A$3:$M$203,6,FALSE)/(0.1*0.2) -> 0 | K11: =VLOOKUP($A11,WormsCanopeoKhPlantChloro!$A$3:$M$203,7,FALSE)/(0.1*0.2) -> 0 | L11: =_xlfn.NUMBERVALUE((VLOOKUP($A11,WormsCanopeoKhPlantChloro!$A$3:$M$203,9,FALSE))) -> 22.45 | M11: =_xlfn.NUMBERVALUE((VLOOKUP($A11,WormsCanopeoKhPlantChloro!$A$3:$M$203,10,FALSE))) -> 3.009994 | N11: =VLOOKUP($A11,WormsCanopeoKhPlantChloro!$A$3:$M$203,12,FALSE) -> 0 | O11: =VLOOKUP($A11,WormsCanopeoKhPlantChloro!$A$3:$M$203,13,FALSE) -> 0 | P11: =VLOOKUP($A11,WormsCanopeoKhPlantChloro!$A$3:$S$203,15,FALSE) -> 26.4 | Q11: =VLOOKUP($A11,WormsCanopeoKhPlantChloro!$A$3:$S$203,16,FALSE) -> 1.959592 | R11: =VLOOKUP($A11,WormsCanopeoKhPlantChloro!$A$3:$S$203,18,FALSE) -> 0 | S11: =VLOOKUP($A11,WormsCanopeoKhPlantChloro!$A$3:$S$203,19,FALSE) -> 0 | T11: =VLOOKUP($A11,WormsCanopeoKhPlantChloro!$A$3:$V$203,21,FALSE) -> 0 | U11: =VLOOKUP($A11,WormsCanopeoKhPlantChloro!$A$3:$V$203,22,FALSE) -> 0
A12: =B12&"-"&C12 -> Jn-0 | B12: Jn | C12: 0 | D12: Carbon grazing | E12: =VLOOKUP($A12,BD_biomass!$A$4:$R$43,17,FALSE) -> 1.0177163 | F12: =VLOOKUP($A12,BD_biomass!$A$4:$R$43,18,FALSE) -> 0.61595612 | G12: =VLOOKUP($A12,BD_biomass!$A$4:$R$43,11,FALSE) -> 2527.7489 | H12: =VLOOKUP($A12,VESS!$A$3:$O$203,14,FALSE) -> 2.7416226 | I12: =VLOOKUP($A12,VESS!$A$4:$O$203,15,FALSE) -> 0.22759866 | J12: =VLOOKUP($A12,WormsCanopeoKhPlantChloro!$A$3:$M$203,6,FALSE)/(0.1*0.2) -> 100 | K12: =VLOOKUP($A12,WormsCanopeoKhPlantChloro!$A$3:$M$203,7,FALSE)/(0.1*0.2) -> 0 | L12: =_xlfn.NUMBERVALUE((VLOOKUP($A12,WormsCanopeoKhPlantChloro!$A$3:$M$203,9,FALSE))) -> 85.646667 | M12: =_xlfn.NUMBERVALUE((VLOOKUP($A12,WormsCanopeoKhPlantChloro!$A$3:$M$203,10,FALSE))) -> 8.576127 | N12: =VLOOKUP($A12,WormsCanopeoKhPlantChloro!$A$3:$M$203,12,FALSE) -> 8.0105 | O12: =VLOOKUP($A12,WormsCanopeoKhPlantChloro!$A$3:$M$203,13,FALSE) -> 0.7345 | P12: =VLOOKUP($A12,WormsCanopeoKhPlantChloro!$A$3:$S$203,15,FALSE) -> 29 | Q12: =VLOOKUP($A12,WormsCanopeoKhPlantChloro!$A$3:$S$203,16,FALSE) -> 10.19804 | R12: =VLOOKUP($A12,WormsCanopeoKhPlantChloro!$A$3:$S$203,18,FALSE) -> 0.033221 | S12: =VLOOKUP($A12,WormsCanopeoKhPlantChloro!$A$3:$S$203,19,FALSE) -> 0.007616 | T12: =VLOOKUP($A12,WormsCanopeoKhPlantChloro!$A$3:$V$203,21,FALSE) -> 36.4696 | U12: =VLOOKUP($A12,WormsCanopeoKhPlantChloro!$A$3:$V$203,22,FALSE) -> 5.705562
A13: =B13&"-"&C13 -> Jn-1 | B13: Jn | C13: 1 | D13: Carbon grazing | E13: =VLOOKUP($A13,BD_biomass!$A$4:$R$43,17,FALSE) -> 0.899557 | F13: =VLOOKUP($A13,BD_biomass!$A$4:$R$43,18,FALSE) -> 0.66054453 | G13: =VLOOKUP($A13,BD_biomass!$A$4:$R$43,11,FALSE) -> 8805.1495 | H13: =VLOOKUP($A13,VESS!$A$3:$O$203,14,FALSE) -> 2.2521073 | I13: =VLOOKUP($A13,VESS!$A$4:$O$203,15,FALSE) -> 0.30939308 | J13: =VLOOKUP($A13,WormsCanopeoKhPlantChloro!$A$3:$M$203,6,FALSE)/(0.1*0.2) -> 166.66667 | K13: =VLOOKUP($A13,WormsCanopeoKhPlantChloro!$A$3:$M$203,7,FALSE)/(0.1*0.2) -> 117.85113 | L13: =_xlfn.NUMBERVALUE((VLOOKUP($A13,WormsCanopeoKhPlantChloro!$A$3:$M$203,9,FALSE))) -> 89.156667 | M13: =_xlfn.NUMBERVALUE((VLOOKUP($A13,WormsCanopeoKhPlantChloro!$A$3:$M$203,10,FALSE))) -> 3.236936 | N13: =VLOOKUP($A13,WormsCanopeoKhPlantChloro!$A$3:$M$203,12,FALSE) -> 20.983 | O13: =VLOOKUP($A13,WormsCanopeoKhPlantChloro!$A$3:$M$203,13,FALSE) -> 9.813 | P13: =VLOOKUP($A13,WormsCanopeoKhPlantChloro!$A$3:$S$203,15,FALSE) -> 39 | Q13: =VLOOKUP($A13,WormsCanopeoKhPlantChloro!$A$3:$S$203,16,FALSE) -> 6.63325 | R13: =VLOOKUP($A13,WormsCanopeoKhPlantChloro!$A$3:$S$203,18,FALSE) -> 0.04854 | S13: =VLOOKUP($A13,WormsCanopeoKhPlantChloro!$A$3:$S$203,19,FALSE) -> 0.006496 | T13: =VLOOKUP($A13,WormsCanopeoKhPlantChloro!$A$3:$V$203,21,FALSE) -> 47.2012 | U13: =VLOOKUP($A13,WormsCanopeoKhPlantChloro!$A$3:$V$203,22,FALSE) -> 4.153944
A14: =B14&"-"&C14 -> Ki-0 | B14: Ki | C14: 0 | D14: N-poor soil amendments | E14: =VLOOKUP($A14,BD_biomass!$A$4:$R$43,17,FALSE) -> 1.0201434 | F14: =VLOOKUP($A14,BD_biomass!$A$4:$R$43,18,FALSE) -> 0.61504023 | G14: =VLOOKUP($A14,BD_biomass!$A$4:$R$43,11,FALSE) -> 737.32719 | H14: =VLOOKUP($A14,VESS!$A$3:$O$203,14,FALSE) -> 2.6623153 | I14: =VLOOKUP($A14,VESS!$A$4:$O$203,15,FALSE) -> 0.33215653 | J14: =VLOOKUP($A14,WormsCanopeoKhPlantChloro!$A$3:$M$203,6,FALSE)/(0.1*0.2) -> 16.666667 | K14: =VLOOKUP($A14,WormsCanopeoKhPlantChloro!$A$3:$M$203,7,FALSE)/(0.1*0.2) -> 23.570226 | L14: =_xlfn.NUMBERVALUE((VLOOKUP($A14,WormsCanopeoKhPlantChloro!$A$3:$M$203,9,FALSE))) -> 49.866667 | M14: =_xlfn.NUMBERVALUE((VLOOKUP($A14,WormsCanopeoKhPlantChloro!$A$3:$M$203,10,FALSE))) -> 8.666235 | N14: =VLOOKUP($A14,WormsCanopeoKhPlantChloro!$A$3:$M$203,12,FALSE) -> 47.169 | O14: =VLOOKUP($A14,WormsCanopeoKhPlantChloro!$A$3:$M$203,13,FALSE) -> 10.97 | P14: =VLOOKUP($A14,WormsCanopeoKhPlantChloro!$A$3:$S$203,15,FALSE) -> 20 | Q14: =VLOOKUP($A14,WormsCanopeoKhPlantChloro!$A$3:$S$203,16,FALSE) -> 5.25357 | R14: =VLOOKUP($A14,WormsCanopeoKhPlantChloro!$A$3:$S$203,18,FALSE) -> 0 | S14: =VLOOKUP($A14,WormsCanopeoKhPlantChloro!$A$3:$S$203,19,FALSE) -> 0 | T14: =VLOOKUP($A14,WormsCanopeoKhPlantChloro!$A$3:$V$203,21,FALSE) -> 0 | U14: =VLOOKUP($A14,WormsCanopeoKhPlantChloro!$A$3:$V$203,22,FALSE) -> 0
A15: =B15&"-"&C15 -> Ki-1 | B15: Ki | C15: 1 | D15: N-poor soil amendments | E15: =VLOOKUP($A15,BD_biomass!$A$4:$R$43,17,FALSE) -> 0.97634926 | F15: =VLOOKUP($A15,BD_biomass!$A$4:$R$43,18,FALSE) -> 0.63156632 | G15: =VLOOKUP($A15,BD_biomass!$A$4:$R$43,11,FALSE) -> 1243.4519 | H15: =VLOOKUP($A15,VESS!$A$3:$O$203,14,FALSE) -> 2.2312903 | I15: =VLOOKUP($A15,VESS!$A$4:$O$203,15,FALSE) -> 0.35718681 | J15: =VLOOKUP($A15,WormsCanopeoKhPlantChloro!$A$3:$M$203,6,FALSE)/(0.1*0.2) -> 12.5 | K15: =VLOOKUP($A15,WormsCanopeoKhPlantChloro!$A$3:$M$203,7,FALSE)/(0.1*0.2) -> 21.650635 | L15: =_xlfn.NUMBERVALUE((VLOOKUP($A15,WormsCanopeoKhPlantChloro!$A$3:$M$203,9,FALSE))) -> 80.28 | M15: =_xlfn.NUMBERVALUE((VLOOKUP($A15,WormsCanopeoKhPlantChloro!$A$3:$M$203,10,FALSE))) -> 12.55423 | N15: =VLOOKUP($A15,WormsCanopeoKhPlantChloro!$A$3:$M$203,12,FALSE) -> 87.892 | O15: =VLOOKUP($A15,WormsCanopeoKhPlantChloro!$A$3:$M$203,13,FALSE) -> 2.062 | P15: =VLOOKUP($A15,WormsCanopeoKhPlantChloro!$A$3:$S$203,15,FALSE) -> 33.8 | Q15: =VLOOKUP($A15,WormsCanopeoKhPlantChloro!$A$3:$S$203,16,FALSE) -> 7.054077 | R15: =VLOOKUP($A15,WormsCanopeoKhPlantChloro!$A$3:$S$203,18,FALSE) -> 0 | S15: =VLOOKUP($A15,WormsCanopeoKhPlantChloro!$A$3:$S$203,19,FALSE) -> 0 | T15: =VLOOKUP($A15,WormsCanopeoKhPlantChloro!$A$3:$V$203,21,FALSE) -> 0 | U15: =VLOOKUP($A15,WormsCanopeoKhPlantChloro!$A$3:$V$203,22,FALSE) -> 0
... A25: =B25&"-"&C25 -> Mi-1 | B25: Mi | C25: 1 | D25: Carbon grazing | E25: =VLOOKUP($A25,BD_biomass!$A$4:$R$43,17,FALSE) -> 0.93205114 | F25: =VLOOKUP($A25,BD_biomass!$A$4:$R$43,18,FALSE) -> 0.64828259 | G25: =VLOOKUP($A25,BD_biomass!$A$4:$R$43,11,FALSE) -> 10087.282 | H25: =VLOOKUP($A25,VESS!$A$3:$O$203,14,FALSE) -> 2.3614006 | I25: =VLOOKUP($A25,VESS!$A$4:$O$203,15,FALSE) -> 0.46727731 | J25: =VLOOKUP($A25,WormsCanopeoKhPlantChloro!$A$3:$M$203,6,FALSE)/(0.1*0.2) -> 70 | K25: =VLOOKUP($A25,WormsCanopeoKhPlantChloro!$A$3:$M$203,7,FALSE)/(0.1*0.2) -> 50.990195 | L25: =_xlfn.NUMBERVALUE((VLOOKUP($A25,WormsCanopeoKhPlantChloro!$A$3:$M$203,9,FALSE))) -> 79.955 | M25: =_xlfn.NUMBERVALUE((VLOOKUP($A25,WormsCanopeoKhPlantChloro!$A$3:$M$203,10,FALSE))) -> 0.755 | N25: =VLOOKUP($A25,WormsCanopeoKhPlantChloro!$A$3:$M$203,12,FALSE) -> 0.030728 | O25: =VLOOKUP($A25,WormsCanopeoKhPlantChloro!$A$3:$M$203,13,FALSE) -> 0.035106 | P25: =VLOOKUP($A25,WormsCanopeoKhPlantChloro!$A$3:$S$203,15,FALSE) -> 40.2 | Q25: =VLOOKUP($A25,WormsCanopeoKhPlantChloro!$A$3:$S$203,16,FALSE) -> 9.516302 | R25: =VLOOKUP($A25,WormsCanopeoKhPlantChloro!$A$3:$S$203,18,FALSE) -> 0.02541 | S25: =VLOOKUP($A25,WormsCanopeoKhPlantChloro!$A$3:$S$203,19,FALSE) -> 0.012966 | T25: =VLOOKUP($A25,WormsCanopeoKhPlantChloro!$A$3:$V$203,21,FALSE) -> 28.451 | U25: =VLOOKUP($A25,WormsCanopeoKhPlantChloro!$A$3:$V$203,22,FALSE) -> 14.35682
A26: =B26&"-"&C26 -> Mo-0 | B26: Mo | C26: 0 | D26: Ley in rotation | E26: =VLOOKUP($A26,BD_biomass!$A$4:$R$43,17,FALSE) -> 1.0961266 | F26: =VLOOKUP($A26,BD_biomass!$A$4:$R$43,18,FALSE) -> 0.58636731 | G26: =VLOOKUP($A26,BD_biomass!$A$4:$R$43,11,FALSE) -> 820.07168 | H26: =VLOOKUP($A26,VESS!$A$3:$O$203,14,FALSE) -> 4.1053877 | I26: =VLOOKUP($A26,VESS!$A$4:$O$203,15,FALSE) -> 0.41842378 | J26: =VLOOKUP($A26,WormsCanopeoKhPlantChloro!$A$3:$M$203,6,FALSE)/(0.1*0.2) -> 10 | K26: =VLOOKUP($A26,WormsCanopeoKhPlantChloro!$A$3:$M$203,7,FALSE)/(0.1*0.2) -> 20 | L26: =_xlfn.NUMBERVALUE((VLOOKUP($A26,WormsCanopeoKhPlantChloro!$A$3:$M$203,9,FALSE))) -> 64.713333 | M26: =_xlfn.NUMBERVALUE((VLOOKUP($A26,WormsCanopeoKhPlantChloro!$A$3:$M$203,10,FALSE))) -> 14.23669 | N26: =VLOOKUP($A26,WormsCanopeoKhPlantChloro!$A$3:$M$203,12,FALSE) -> 2.957 | O26: =VLOOKUP($A26,WormsCanopeoKhPlantChloro!$A$3:$M$203,13,FALSE) -> 1.255785 | R26: =VLOOKUP($A26,WormsCanopeoKhPlantChloro!$A$3:$S$203,18,FALSE) -> 0.029068 | S26: =VLOOKUP($A26,WormsCanopeoKhPlantChloro!$A$3:$S$203,19,FALSE) -> 0.015742 | T26: =VLOOKUP($A26,WormsCanopeoKhPlantChloro!$A$3:$V$203,21,FALSE) -> 31.0448 | U26: =VLOOKUP($A26,WormsCanopeoKhPlantChloro!$A$3:$V$203,22,FALSE) -> 16.12531
A27: =B27&"-"&C27 -> Mo-1 | B27: Mo | C27: 1 | D27: Ley in rotation | E27: =VLOOKUP($A27,BD_biomass!$A$4:$R$43,17,FALSE) -> 1.0858744 | F27: =VLOOKUP($A27,BD_biomass!$A$4:$R$43,18,FALSE) -> 0.59023608 | G27: =VLOOKUP($A27,BD_biomass!$A$4:$R$43,11,FALSE) -> 7542.1436 | H27: =VLOOKUP($A27,VESS!$A$3:$O$203,14,FALSE) -> 3.0047619 | I27: =VLOOKUP($A27,VESS!$A$4:$O$203,15,FALSE) -> 0.31159664 | J27: =VLOOKUP($A27,WormsCanopeoKhPlantChloro!$A$3:$M$203,6,FALSE)/(0.1*0.2) -> 0 | K27: =VLOOKUP($A27,WormsCanopeoKhPlantChloro!$A$3:$M$203,7,FALSE)/(0.1*0.2) -> 0 | L27: =_xlfn.NUMBERVALUE((VLOOKUP($A27,WormsCanopeoKhPlantChloro!$A$3:$M$203,9,FALSE))) -> 77.453333 | M27: =_xlfn.NUMBERVALUE((VLOOKUP($A27,WormsCanopeoKhPlantChloro!$A$3:$M$203,10,FALSE))) -> 7.643897 | N27: =VLOOKUP($A27,WormsCanopeoKhPlantChloro!$A$3:$M$203,12,FALSE) -> 6.674 | O27: =VLOOKUP($A27,WormsCanopeoKhPlantChloro!$A$3:$M$203,13,FALSE) -> 4.012115 | R27: =VLOOKUP($A27,WormsCanopeoKhPlantChloro!$A$3:$S$203,18,FALSE) -> 0.025906 | S27: =VLOOKUP($A27,WormsCanopeoKhPlantChloro!$A$3:$S$203,19,FALSE) -> 0.00432 | T27: =VLOOKUP($A27,WormsCanopeoKhPlantChloro!$A$3:$V$203,21,FALSE) -> 30.9652 | U27: =VLOOKUP($A27,WormsCanopeoKhPlantChloro!$A$3:$V$203,22,FALSE) -> 3.511585
A28: =B28&"-"&C28 -> Mu-0 | B28: Mu | C28: 0 | D28: Subsoiling | E28: =VLOOKUP($A28,BD_biomass!$A$4:$R$43,17,FALSE) -> 1.0452766 | F28: =VLOOKUP($A28,BD_biomass!$A$4:$R$43,18,FALSE) -> 0.60555599 | G28: =VLOOKUP($A28,BD_biomass!$A$4:$R$43,11,FALSE) -> 2047.9554 | H28: =VLOOKUP($A28,VESS!$A$3:$O$203,14,FALSE) -> 2.956539 | I28: =VLOOKUP($A28,VESS!$A$4:$O$203,15,FALSE) -> 0.31441518 | J28: =VLOOKUP($A28,WormsCanopeoKhPlantChloro!$A$3:$M$203,6,FALSE)/(0.1*0.2) -> 0 | K28: =VLOOKUP($A28,WormsCanopeoKhPlantChloro!$A$3:$M$203,7,FALSE)/(0.1*0.2) -> 0 | L28: =_xlfn.NUMBERVALUE((VLOOKUP($A28,WormsCanopeoKhPlantChloro!$A$3:$M$203,9,FALSE))) -> 98.403333 | M28: =_xlfn.NUMBERVALUE((VLOOKUP($A28,WormsCanopeoKhPlantChloro!$A$3:$M$203,10,FALSE))) -> 0.25197 | N28: =VLOOKUP($A28,WormsCanopeoKhPlantChloro!$A$3:$M$203,12,FALSE) -> 11.94333 | O28: =VLOOKUP($A28,WormsCanopeoKhPlantChloro!$A$3:$M$203,13,FALSE) -> 6.46048 | P28: =VLOOKUP($A28,WormsCanopeoKhPlantChloro!$A$3:$S$203,15,FALSE) -> 24.2 | Q28: =VLOOKUP($A28,WormsCanopeoKhPlantChloro!$A$3:$S$203,16,FALSE) -> 2.638181 | R28: =VLOOKUP($A28,WormsCanopeoKhPlantChloro!$A$3:$S$203,18,FALSE) -> 0 | S28: =VLOOKUP($A28,WormsCanopeoKhPlantChloro!$A$3:$S$203,19,FALSE) -> 0 | T28: =VLOOKUP($A28,WormsCanopeoKhPlantChloro!$A$3:$V$203,21,FALSE) -> 0 | U28: =VLOOKUP($A28,WormsCanopeoKhPlantChloro!$A$3:$V$203,22,FALSE) -> 0
A29: =B29&"-"&C29 -> Mu-1 | B29: Mu | C29: 1 | D29: Subsoiling | E29: =VLOOKUP($A29,BD_biomass!$A$4:$R$43,17,FALSE) -> 1.0198516 | F29: =VLOOKUP($A29,BD_biomass!$A$4:$R$43,18,FALSE) -> 0.61515033 | G29: =VLOOKUP($A29,BD_biomass!$A$4:$R$43,11,FALSE) -> 2211.2383 | H29: =VLOOKUP($A29,VESS!$A$3:$O$203,14,FALSE) -> 3.2968411 | I29: =VLOOKUP($A29,VESS!$A$4:$O$203,15,FALSE) -> 0.38836758 | J29: =VLOOKUP($A29,WormsCanopeoKhPlantChloro!$A$3:$M$203,6,FALSE)/(0.1*0.2) -> 50 | K29: =VLOOKUP($A29,WormsCanopeoKhPlantChloro!$A$3:$M$203,7,FALSE)/(0.1*0.2) -> 40.824829 | L29: =_xlfn.NUMBERVALUE((VLOOKUP($A29,WormsCanopeoKhPlantChloro!$A$3:$M$203,9,FALSE))) -> 99.173333 | M29: =_xlfn.NUMBERVALUE((VLOOKUP($A29,WormsCanopeoKhPlantChloro!$A$3:$M$203,10,FALSE))) -> 0.193448 | N29: =VLOOKUP($A29,WormsCanopeoKhPlantChloro!$A$3:$M$203,12,FALSE) -> 2.253 | O29: =VLOOKUP($A29,WormsCanopeoKhPlantChloro!$A$3:$M$203,13,FALSE) -> 0.02 | P29: =VLOOKUP($A29,WormsCanopeoKhPlantChloro!$A$3:$S$203,15,FALSE) -> 19.4 | Q29: =VLOOKUP($A29,WormsCanopeoKhPlantChloro!$A$3:$S$203,16,FALSE) -> 3.498571 | R29: =VLOOKUP($A29,WormsCanopeoKhPlantChloro!$A$3:$S$203,18,FALSE) -> 0 | S29: =VLOOKUP($A29,WormsCanopeoKhPlantChloro!$A$3:$S$203,19,FALSE) -> 0 | T29: =VLOOKUP($A29,WormsCanopeoKhPlantChloro!$A$3:$V$203,21,FALSE) -> 0 | U29: =VLOOKUP($A29,WormsCanopeoKhPlantChloro!$A$3:$V$203,22,FALSE) -> 0
A30: =B30&"-"&C30 -> Na-0 | B30: Na | C30: 0 | D30: Cover crops | E30: =VLOOKUP($A30,BD_biomass!$A$4:$R$43,17,FALSE) -> 0.9978617 | F30: =VLOOKUP($A30,BD_biomass!$A$4:$R$43,18,FALSE) -> 0.62344841 | G30: =VLOOKUP($A30,BD_biomass!$A$4:$R$43,11,FALSE) -> 5940.353 | H30: =VLOOKUP($A30,VESS!$A$3:$O$203,14,FALSE) -> 3.3969075 | I30: =VLOOKUP($A30,VESS!$A$4:$O$203,15,FALSE) -> 0.35421842 | J30: =VLOOKUP($A30,WormsCanopeoKhPlantChloro!$A$3:$M$203,6,FALSE)/(0.1*0.2) -> 33.333333 | K30: =VLOOKUP($A30,WormsCanopeoKhPlantChloro!$A$3:$M$203,7,FALSE)/(0.1*0.2) -> 23.570226 | L30: =_xlfn.NUMBERVALUE((VLOOKUP($A30,WormsCanopeoKhPlantChloro!$A$3:$M$203,9,FALSE))) -> 85.343333 | M30: =_xlfn.NUMBERVALUE((VLOOKUP($A30,WormsCanopeoKhPlantChloro!$A$3:$M$203,10,FALSE))) -> 1.686541 | N30: =VLOOKUP($A30,WormsCanopeoKhPlantChloro!$A$3:$M$203,12,FALSE) -> 11.92267 | O30: =VLOOKUP($A30,WormsCanopeoKhPlantChloro!$A$3:$M$203,13,FALSE) -> 7.465313 | P30: =VLOOKUP($A30,WormsCanopeoKhPlantChloro!$A$3:$S$203,15,FALSE) -> 80.75 | Q30: =VLOOKUP($A30,WormsCanopeoKhPlantChloro!$A$3:$S$203,16,FALSE) -> 2.58602 | R30: =VLOOKUP($A30,WormsCanopeoKhPlantChloro!$A$3:$S$203,18,FALSE) -> 0.058542 | S30: =VLOOKUP($A30,WormsCanopeoKhPlantChloro!$A$3:$S$203,19,FALSE) -> 0.003547 | T30: =VLOOKUP($A30,WormsCanopeoKhPlantChloro!$A$3:$V$203,21,FALSE) -> 53.557 | U30: =VLOOKUP($A30,WormsCanopeoKhPlantChloro!$A$3:$V$203,22,FALSE) -> 2.127003
A31: =B31&"-"&C31 -> Na-1 | B31: Na | C31: 1 | D31: Cover crops | E31: =VLOOKUP($A31,BD_biomass!$A$4:$R$43,17,FALSE) -> 0.92150712 | F31: =VLOOKUP($A31,BD_biomass!$A$4:$R$43,18,FALSE) -> 0.65226146 | G31: =VLOOKUP($A31,BD_biomass!$A$4:$R$43,11,FALSE) -> 5764.4899 | H31: =VLOOKUP($A31,VESS!$A$3:$O$203,14,FALSE) -> 2.8158585 | I31: =VLOOKUP($A31,VESS!$A$4:$O$203,15,FALSE) -> 0.42811278 | J31: =VLOOKUP($A31,WormsCanopeoKhPlantChloro!$A$3:$M$203,6,FALSE)/(0.1*0.2) -> 66.666667 | K31: =VLOOKUP($A31,WormsCanopeoKhPlantChloro!$A$3:$M$203,7,FALSE)/(0.1*0.2) -> 62.360956 | L31: =_xlfn.NUMBERVALUE((VLOOKUP($A31,WormsCanopeoKhPlantChloro!$A$3:$M$203,9,FALSE))) -> 78.013333 | M31: =_xlfn.NUMBERVALUE((VLOOKUP($A31,WormsCanopeoKhPlantChloro!$A$3:$M$203,10,FALSE))) -> 10.97443 | N31: =VLOOKUP($A31,WormsCanopeoKhPlantChloro!$A$3:$M$203,12,FALSE) -> 24.4185 | O31: =VLOOKUP($A31,WormsCanopeoKhPlantChloro!$A$3:$M$203,13,FALSE) -> 1.7315 | P31: =VLOOKUP($A31,WormsCanopeoKhPlantChloro!$A$3:$S$203,15,FALSE) -> 70.6 | Q31: =VLOOKUP($A31,WormsCanopeoKhPlantChloro!$A$3:$S$203,16,FALSE) -> 4.176123 | R31: =VLOOKUP($A31,WormsCanopeoKhPlantChloro!$A$3:$S$203,18,FALSE) -> 0.067582 | S31: =VLOOKUP($A31,WormsCanopeoKhPlantChloro!$A$3:$S$203,19,FALSE) -> 0.005501 | T31: =VLOOKUP($A31,WormsCanopeoKhPlantChloro!$A$3:$V$203,21,FALSE) -> 58.8634 | U31: =VLOOKUP($A31,WormsCanopeoKhPlantChloro!$A$3:$V$203,22,FALSE) -> 3.146643
