Workbook

Sheet Pathway extensions
A2: Pathway extensions
A4: For: Current policy, unconditional NDC, conditional NDC
A5: For: median, min and max
A7: 1) Harmonize to SSP2 emission with tapered scaling factor starting in latest available year and converging to 1 in 2050
A8: 2) Use [MESSAGE-GLOBIOM 1.0, AIM/CGE 2.0, GCAM4.2, REMIND-MAgPIE 1.5, WITCH-GLOBIOM 3.1] SSP2 to extend 2030 emissions to 2100
B9: 2.a) implied 2030 carbon price extensions and corresponding emissions
C10: 2.a.1) prescribed annual GDP growth rate extension of carbon price
C11: 2.a.2) 0, 1, 2, 3, 4, and 5% annual growth rate extension of carbon price
A12: 3) Split up to individual gases
A13: 4) run through IPCC AR6 FaIR calibration
A15: 5) Apply in addition the net zero targets to current policy, unconditional and conditional NDC
B16: 5.a) Apply all net zero targets marked "higher" in the "Confidence assessment" column
B17: 5.b) Apply all net zero targets marked "higher" AND "lower" in the "Confidence assessment" column
B18: 5.c) Apply all net zero targets marked "higher", "lower", and "much lower" in the "Confidence assessment" column (i.e., entire table)
A19: 6) Split up to individual gases
A20: 7) run through IPCC AR6 FaIR calibration
A22: * net zero targets that are "UNCLEAR" are applied to CO2 only

Sheet Extracted data EGR2023
C1: 2015 | D1: 2021 | E1: 2030 | F1: Unit:
A2: Min | B2: Current policies | C2: 54347 | D2: 56132 | E2: 51755 | F2: MtCO2-eq/yr (aggregated with AR6 GWP-100 metric values)
A3: Median | B3: Current policies | C3: 54347 | D3: 56132 | E3: 56166 | F3: MtCO2-eq/yr (aggregated with AR6 GWP-100 metric values)
A4: Max | B4: Current policies | C4: 54347 | D4: 56132 | E4: 58835 | F4: MtCO2-eq/yr (aggregated with AR6 GWP-100 metric values)
A5: Min | B5: NDC case - unconditional | C5: 54347 | D5: 56132 | E5: 52861 | F5: MtCO2-eq/yr (aggregated with AR6 GWP-100 metric values)
A6: Median | B6: NDC case - unconditional | C6: 54347 | D6: 56132 | E6: 55640 | F6: MtCO2-eq/yr (aggregated with AR6 GWP-100 metric values)
A7: Max | B7: NDC case - unconditional | C7: 54347 | D7: 56132 | E7: 57110 | F7: MtCO2-eq/yr (aggregated with AR6 GWP-100 metric values)
A8: Min | B8: NDC case - conditional | C8: 54347 | D8: 56132 | E8: 49822 | F8: MtCO2-eq/yr (aggregated with AR6 GWP-100 metric values)
A9: Median | B9: NDC case - conditional | C9: 54347 | D9: 56132 | E9: 51879 | F9: MtCO2-eq/yr (aggregated with AR6 GWP-100 metric values)
A10: Max | B10: NDC case - conditional | C10: 54347 | D10: 56132 | E10: 54413 | F10: MtCO2-eq/yr (aggregated with AR6 GWP-100 metric values)

Sheet Net Zero country data 
C1: EGR 2022 ANALYSIS (Fig 3_4), extended with other sources | K1: CLIMATE WATCH ANALYSIS | P1: Current policies
A2: Country | C2: Current emissions | F2: NDC Emissions | G2: Current Policies | H2: Net zero target | P2: vs. Reported year | Q2: vs. 2015 levels
B3: Unit | C3: Year | D3: Total | E3: Year | F3: Total | G3: Total | H3: Year | I3: Total | J3: Net zero target applicable to | K3: Legally binding | L3: Published plan | M3: NDC on downward path (2030 emissions at least 10% below last historic data point) | N3: Current policy projection on downward path (2030 emissions at least 10% below last historic data point) | O3: Confidence assessment | R3: Source NDC levels
A4: Argentina | B4: MtCO2e/yr | C4: 2016 | D4: 378 | E4: 2030 | F4: ='EGR22 Fig3_4 Emissions_16OCT'!L7 -> 374.84808 | G4: ='EGR22 Fig3_4 Emissions_16OCT'!G7 -> 424.03382 | H4: 2050 | I4: 0 | J4: UNCLEAR | K4: N | L4: N | M4: =IF(F4<0.9*D4,"Y","N") -> N | N4: =IF(G4<0.9*D4,"Y","N") -> N | O4: =IF(AND(K4="Y",AND(L4="Y",N4="Y")),"higher",IF(N4="Y","lower",IF(AND(N4="Y",OR(K4="Y",L4="Y")),"lower","much lower"))) -> much lower | P4: =G4/D4-1 -> 0.12178261 | Q4: ='EGR22 Fig3_4 Emissions_16OCT'!W7 -> 0.1285587 | R4: Figure 3.4 UNEP Emissions Gap report Chapter 3
A5: Australia | B5: MtCO2e/yr | C5: 2020 | D5: 503 | E5: 2030 | F5: ='EGR22 Fig3_4 Emissions_16OCT'!L8 -> 347.2195 | G5: ='EGR22 Fig3_4 Emissions_16OCT'!G8 -> 480.69339 | H5: 2050 | I5: 0 | J5: GHG | K5: Y | L5: [inconclusive] | M5: =IF(F5<0.9*D5,"Y","N") -> Y | N5: =IF(G5<0.9*D5,"Y","N") -> N | O5: =IF(AND(K5="Y",AND(L5="Y",N5="Y")),"higher",IF(N5="Y","lower",IF(AND(N5="Y",OR(K5="Y",L5="Y")),"lower","much lower"))) -> much lower | P5: =G5/D5-1 -> -0.044347139 | Q5: ='EGR22 Fig3_4 Emissions_16OCT'!W8 -> -0.067576519 | R5: Figure 3.4 UNEP Emissions Gap report Chapter 3
A6: Brazil | B6: MtCO2e/yr | C6: 2018 | D6: 1366 | E6: 2030 | F6: ='EGR22 Fig3_4 Emissions_16OCT'!L9 -> 1268.0457 | G6: ='EGR22 Fig3_4 Emissions_16OCT'!G9 -> 1540.766 | H6: 2050 | I6: 0 | J6: UNCLEAR | K6: N | L6: N | M6: =IF(F6<0.9*D6,"Y","N") -> N | N6: =IF(G6<0.9*D6,"Y","N") -> N | O6: =IF(AND(K6="Y",AND(L6="Y",N6="Y")),"higher",IF(N6="Y","lower",IF(AND(N6="Y",OR(K6="Y",L6="Y")),"lower","much lower"))) -> much lower | P6: =G6/D6-1 -> 0.12793998 | Q6: ='EGR22 Fig3_4 Emissions_16OCT'!W9 -> 0.10791943 | R6: Figure 3.4 UNEP Emissions Gap report Chapter 3
A7: Canada | B7: MtCO2e/yr | C7: 2020 | D7: 638 | E7: 2030 | F7: ='EGR22 Fig3_4 Emissions_16OCT'!L10 -> 426.8608 | G7: ='EGR22 Fig3_4 Emissions_16OCT'!G10 -> 620.78341 | H7: 2050 | I7: 0 | J7: GHG | K7: Y | L7: Y | M7: =IF(F7<0.9*D7,"Y","N") -> Y | N7: =IF(G7<0.9*D7,"Y","N") -> N | O7: =IF(AND(K7="Y",AND(L7="Y",N7="Y")),"higher",IF(N7="Y","lower",IF(AND(N7="Y",OR(K7="Y",L7="Y")),"lower","much lower"))) -> much lower | P7: =G7/D7-1 -> -0.026985245 | Q7: ='EGR22 Fig3_4 Emissions_16OCT'!W10 -> -0.15564631 | R7: Figure 3.4 UNEP Emissions Gap report Chapter 3
A8: China | B8: MtCO2e/yr | C8: 2018 | D8: 12233 | E8: 2030 | F8: ='EGR22 Fig3_4 Emissions_16OCT'!L11 -> 14091.721 | G8: ='EGR22 Fig3_4 Emissions_16OCT'!G11 -> 14704.913 | H8: 2060 | I8: 0 | J8: UNCLEAR | K8: N | L8: Y | M8: =IF(F8<0.9*D8,"Y","N") -> N | N8: =IF(G8<0.9*D8,"Y","N") -> N | O8: =IF(AND(K8="Y",AND(L8="Y",N8="Y")),"higher",IF(N8="Y","lower",IF(AND(N8="Y",OR(K8="Y",L8="Y")),"lower","much lower"))) -> much lower | P8: =G8/D8-1 -> 0.2020692 | Q8: ='EGR22 Fig3_4 Emissions_16OCT'!W11 -> 0.27378232 | R8: Figure 3.4 UNEP Emissions Gap report Chapter 3
A9: European Union | B9: MtCO2e/yr | C9: 2020 | D9: 3043 | E9: 2030 | F9: ='EGR22 Fig3_4 Emissions_16OCT'!L12 -> 2146.3179 | G9: ='EGR22 Fig3_4 Emissions_16OCT'!G12 -> 2426.2204 | H9: 2050 | I9: 0 | J9: GHG | K9: Y | L9: Y | M9: =IF(F9<0.9*D9,"Y","N") -> Y | N9: =IF(G9<0.9*D9,"Y","N") -> Y | O9: =IF(AND(K9="Y",AND(L9="Y",N9="Y")),"higher",IF(N9="Y","lower",IF(AND(N9="Y",OR(K9="Y",L9="Y")),"lower","much lower"))) -> higher | P9: =G9/D9-1 -> -0.202688 | Q9: ='EGR22 Fig3_4 Emissions_16OCT'!W12 -> -0.30480442 | R9: Figure 3.4 UNEP Emissions Gap report Chapter 3
A10: India | B10: MtCO2e/yr | C10: 2018 | D10: 2691.663 | E10: 2030 | F10: ='EGR22 Fig3_4 Emissions_16OCT'!$Q$13 -> 4934.2402 | G10: ='EGR22 Fig3_4 Emissions_16OCT'!$G$13 -> 4892.9292 | H10: 2070 | I10: 0 | J10: UNCLEAR | K10: N | L10: N | M10: =IF(F10<0.9*D10,"Y","N") -> N | N10: =IF(G10<0.9*D10,"Y","N") -> N | O10: =IF(AND(K10="Y",AND(L10="Y",N10="Y")),"higher",IF(N10="Y","lower",IF(AND(N10="Y",OR(K10="Y",L10="Y")),"lower","much lower"))) -> much lower | P10: =G10/D10-1 -> 0.817809 | Q10: ='EGR22 Fig3_4 Emissions_16OCT'!W13 -> 0.95611142 | R10: Figure 3.4 UNEP Emissions Gap report Chapter 3
A11: Indonesia | B11: MtCO2e/yr | C11: 2016 | D11: 1491.0912 | E11: 2030 | F11: ='EGR22 Fig3_4 Emissions_16OCT'!$L$14 -> 2130.3454 | G11: ='EGR22 Fig3_4 Emissions_16OCT'!$G$14 -> 1876.8416 | H11: 2060 | I11: 0 | J11: UNCLEAR | K11: N | L11: [inconclusive] | M11: =IF(F11<0.9*D11,"Y","N") -> N | N11: =IF(G11<0.9*D11,"Y","N") -> N | O11: =IF(AND(K11="Y",AND(L11="Y",N11="Y")),"higher",IF(N11="Y","lower",IF(AND(N11="Y",OR(K11="Y",L11="Y")),"lower","much lower"))) -> much lower | P11: =G11/D11-1 -> 0.25870341 | Q11: ='EGR22 Fig3_4 Emissions_16OCT'!W14 -> -0.21804665 | R11: Figure 3.4 UNEP Emissions Gap report Chapter 3
A12: Japan | B12: MtCO2e/yr | C12: 2020 | D12: 1069.57 | E12: 2030 | F12: ='EGR22 Fig3_4 Emissions_16OCT'!$L$15 -> 767.41315 | G12: ='EGR22 Fig3_4 Emissions_16OCT'!$G15 -> 982.37269 | H12: 2050 | I12: 0 | J12: GHG | K12: Y | L12: [inconclusive] | M12: =IF(F12<0.9*D12,"Y","N") -> Y | N12: =IF(G12<0.9*D12,"Y","N") -> N | O12: =IF(AND(K12="Y",AND(L12="Y",N12="Y")),"higher",IF(N12="Y","lower",IF(AND(N12="Y",OR(K12="Y",L12="Y")),"lower","much lower"))) -> much lower | P12: =G12/D12-1 -> -0.081525579 | Q12: ='EGR22 Fig3_4 Emissions_16OCT'!W15 -> -0.22194767 | R12: Figure 3.4 UNEP Emissions Gap report Chapter 3
A13: Mexico | B13: MtCO2e/yr | C13: 2017 | D13: 576.6623 | E13: 2030 | F13: ='EGR22 Fig3_4 Emissions_16OCT'!$L16 -> 771.94638 | G13: ='EGR22 Fig3_4 Emissions_16OCT'!$G16 -> 725.00361 | H13: No NetZero target | I13: No NetZero target | J13: NOTARGET | K13: NOTARGET | L13: NOTARGET | M13: =IF(F13<0.9*D13,"Y","N") -> N | N13: =IF(G13<0.9*D13,"Y","N") -> N | O13: =IF(AND(K13="Y",AND(L13="Y",N13="Y")),"higher",IF(N13="Y","lower",IF(AND(N13="Y",OR(K13="Y",L13="Y")),"lower","much lower"))) -> much lower | P13: =G13/D13-1 -> 0.25724121 | Q13: ='EGR22 Fig3_4 Emissions_16OCT'!W16 -> 0.23180997 | R13: Figure 3.4 UNEP Emissions Gap report Chapter 3
A14: Republic of Korea | B14: MtCO2e/yr | C14: 2017 | D14: 672.1924 | E14: 2030 | F14: ='EGR22 Fig3_4 Emissions_16OCT'!$L17 -> 437.02176 | G14: ='EGR22 Fig3_4 Emissions_16OCT'!$G17 -> 592.82776 | H14: 2050 | I14: 0 | J14: GHG | K14: Y | L14: [inconclusive] | M14: =IF(F14<0.9*D14,"Y","N") -> Y | N14: =IF(G14<0.9*D14,"Y","N") -> Y | O14: =IF(AND(K14="Y",AND(L14="Y",N14="Y")),"higher",IF(N14="Y","lower",IF(AND(N14="Y",OR(K14="Y",L14="Y")),"lower","much lower"))) -> lower | P14: =G14/D14-1 -> -0.11806834 | Q14: ='EGR22 Fig3_4 Emissions_16OCT'!W17 -> -0.094777987 | R14: Figure 3.4 UNEP Emissions Gap report Chapter 3
A15: Russian Federation | B15: MtCO2e/yr | C15: 2018 | D15: 1629.123 | E15: 2030 | F15: ='EGR22 Fig3_4 Emissions_16OCT'!$L18 -> 2204.8164 | G15: ='EGR22 Fig3_4 Emissions_16OCT'!$G18 -> 1794.3875 | H15: 2060 | I15: 0 | J15: UNCLEAR | K15: Y | L15: [inconclusive] | M15: =IF(F15<0.9*D15,"Y","N") -> N | N15: =IF(G15<0.9*D15,"Y","N") -> N | O15: =IF(AND(K15="Y",AND(L15="Y",N15="Y")),"higher",IF(N15="Y","lower",IF(AND(N15="Y",OR(K15="Y",L15="Y")),"lower","much lower"))) -> much lower | P15: =G15/D15-1 -> 0.10144382 | Q15: ='EGR22 Fig3_4 Emissions_16OCT'!W18 -> 0.28572107 | R15: Figure 3.4 UNEP Emissions Gap report Chapter 3
A16: Saudi Arabia | B16: MtCO2e/yr | C16: 2015 | D16: 640.3346 | E16: 2030 | F16: ='EGR22 Fig3_4 Emissions_16OCT'!$L19 -> 649.84871 | G16: ='EGR22 Fig3_4 Emissions_16OCT'!$G19 -> 690.00675 | H16: 2060 | I16: 0 | J16: UNCLEAR | K16: N | L16: [inconclusive] | M16: =IF(F16<0.9*D16,"Y","N") -> N | N16: =IF(G16<0.9*D16,"Y","N") -> N | O16: =IF(AND(K16="Y",AND(L16="Y",N16="Y")),"higher",IF(N16="Y","lower",IF(AND(N16="Y",OR(K16="Y",L16="Y")),"lower","much lower"))) -> much lower | P16: =G16/D16-1 -> 0.077572179 | Q16: ='EGR22 Fig3_4 Emissions_16OCT'!W19 -> 0.11697863 | R16: Figure 3.4 UNEP Emissions Gap report Chapter 3
A17: South Africa | B17: MtCO2e/yr | C17: 2017 | D17: 527.8684 | E17: 2030 | F17: ='EGR22 Fig3_4 Emissions_16OCT'!$Q$20 -> 399.09466 | G17: ='EGR22 Fig3_4 Emissions_16OCT'!$G$20 -> 443.61465 | H17: 2050 | I17: 0 | J17: CO2 | K17: N | L17: N | M17: =IF(F17<0.9*D17,"Y","N") -> Y | N17: =IF(G17<0.9*D17,"Y","N") -> Y | O17: =IF(AND(K17="Y",AND(L17="Y",N17="Y")),"higher",IF(N17="Y","lower",IF(AND(N17="Y",OR(K17="Y",L17="Y")),"lower","much lower"))) -> lower | P17: =G17/D17-1 -> -0.15961128 | Q17: ='EGR22 Fig3_4 Emissions_16OCT'!W20 -> -0.13568177 | R17: Figure 3.4 UNEP Emissions Gap report Chapter 3
A18: Turkey | B18: MtCO2e/yr | C18: 2018 | D18: 426.3 | E18: 2030 | F18: ='EGR22 Fig3_4 Emissions_16OCT'!$L$21 -> 935.82282 | G18: ='EGR22 Fig3_4 Emissions_16OCT'!$G21 -> 568.68214 | H18: 2053 | I18: 0 | J18: UNCLEAR | K18: N | L18: N | M18: =IF(F18<0.9*D18,"Y","N") -> N | N18: =IF(G18<0.9*D18,"Y","N") -> N | O18: =IF(AND(K18="Y",AND(L18="Y",N18="Y")),"higher",IF(N18="Y","lower",IF(AND(N18="Y",OR(K18="Y",L18="Y")),"lower","much lower"))) -> much lower | P18: =G18/D18-1 -> 0.33399517 | Q18: ='EGR22 Fig3_4 Emissions_16OCT'!W21 -> 0.50790498 | R18: Figure 3.4 UNEP Emissions Gap report Chapter 3
A19: United Kingdom of Great Britain and Northern Ireland | B19: MtCO2e/yr | C19: 2020 | D19: 396.4538 | E19: 2030 | F19: ='EGR22 Fig3_4 Emissions_16OCT'!$L$22 -> 276.74774 | G19: ='EGR22 Fig3_4 Emissions_16OCT'!$G$22 -> 356.39803 | H19: 2050 | I19: 0 | J19: GHG | K19: Y | L19: Y | M19: =IF(F19<0.9*D19,"Y","N") -> Y | N19: =IF(G19<0.9*D19,"Y","N") -> Y | O19: =IF(AND(K19="Y",AND(L19="Y",N19="Y")),"higher",IF(N19="Y","lower",IF(AND(N19="Y",OR(K19="Y",L19="Y")),"lower","much lower"))) -> higher | P19: =G19/D19-1 -> -0.10103514 | Q19: ='EGR22 Fig3_4 Emissions_16OCT'!W22 -> -0.29862887 | R19: Figure 3.4 UNEP Emissions Gap report Chapter 3
A20: United States of America | B20: MtCO2e/yr | C20: 2020 | D20: 5167.1599 | E20: 2030 | F20: ='EGR22 Fig3_4 Emissions_16OCT'!$L$23 -> 3278.6024 | G20: ='EGR22 Fig3_4 Emissions_16OCT'!$G$23 -> 4164.3807 | H20: 2050 | I20: 0 | J20: GHG | K20: N | L20: Y | M20: =IF(F20<0.9*D20,"Y","N") -> Y | N20: =IF(G20<0.9*D20,"Y","N") -> Y | O20: =IF(AND(K20="Y",AND(L20="Y",N20="Y")),"higher",IF(N20="Y","lower",IF(AND(N20="Y",OR(K20="Y",L20="Y")),"lower","much lower"))) -> lower | P20: =G20/D20-1 -> -0.19406777 | Q20: ='EGR22 Fig3_4 Emissions_16OCT'!W23 -> -0.29385097 | R20: Figure 3.4 UNEP Emissions Gap report Chapter 3
A21: Malaysia | B21: MtCO2e/yr | C21: 2018 | D21: 403 | E21: 2030 | F21: 545.56354 | G21: No CurPol data | H21: 2050 | I21: 0 | J21: UNCLEAR | K21: N | L21: N | M21: =IF(F21<0.9*D21,"Y","N") -> N | N21: =IF(G21<0.9*D21,"Y","N") -> N | O21: =IF(AND(K21="Y",AND(L21="Y",N21="Y")),"higher",IF(N21="Y","lower",IF(AND(N21="Y",OR(K21="Y",L21="Y")),"lower","much lower"))) -> much lower | R21: Not sure, if we need to include Malaysia. I have no confidence in the numbers.
A22: Nigeria | B22: MtCO2e/yr | C22: 2018 | D22: 360 | E22: 2030 | F22: 334 | G22: 375 | H22: 2060 | I22: 0 | J22: GHG | K22: N | L22: [inconclusive] | M22: =IF(F22<0.9*D22,"Y","N") -> N | N22: =IF(G22<0.9*D22,"Y","N") -> N | O22: =IF(AND(K22="Y",AND(L22="Y",N22="Y")),"higher",IF(N22="Y","lower",IF(AND(N22="Y",OR(K22="Y",L22="Y")),"lower","much lower"))) -> much lower | P22: =G22/D22-1 -> 0.041666667 | R22: https://climateactiontracker.org/countries/nigeria/
A23: Thailand | B23: MtCO2e/yr | C23: 2018 | D23: 360 | E23: 2030 | F23: 444 | G23: 444 | H23: 2050 | I23: 0 | J23: CO2 | K23: N | L23: [inconclusive] | M23: =IF(F23<0.9*D23,"Y","N") -> N | N23: =IF(G23<0.9*D23,"Y","N") -> N | O23: =IF(AND(K23="Y",AND(L23="Y",N23="Y")),"higher",IF(N23="Y","lower",IF(AND(N23="Y",OR(K23="Y",L23="Y")),"lower","much lower"))) -> much lower | P23: =G23/D23-1 -> 0.23333333 | R23: https://newclimate.org/resources/publications/emissions-scenarios-for-major-economies-2022-update
A24: Kazakhstan | B24: MtCO2e/yr | C24: 2018 | D24: 351 | E24: 2030 | F24: 331 | G24: 393 | H24: 2060 | I24: 0 | J24: UNCLEAR | K24: N | L24: [inconclusive] | M24: =IF(F24<0.9*D24,"Y","N") -> N | N24: =IF(G24<0.9*D24,"Y","N") -> N | O24: =IF(AND(K24="Y",AND(L24="Y",N24="Y")),"higher",IF(N24="Y","lower",IF(AND(N24="Y",OR(K24="Y",L24="Y")),"lower","much lower"))) -> much lower | P24: =G24/D24-1 -> 0.11965812 | R24: https://climateactiontracker.org/countries/kazakhstan/
A25: Ukraine | B25: MtCO2e/yr | C25: 2018 | D25: 341 | E25: 2030 | F25: 309.477 | G25: 398 | H25: 2060 | I25: 0 | J25: CO2 | K25: N | L25: N | M25: =IF(F25<0.9*D25,"Y","N") -> N | N25: =IF(G25<0.9*D25,"Y","N") -> N | O25: =IF(AND(K25="Y",AND(L25="Y",N25="Y")),"higher",IF(N25="Y","lower",IF(AND(N25="Y",OR(K25="Y",L25="Y")),"lower","much lower"))) -> much lower | P25: =G25/D25-1 -> 0.16715543 | R25: Not sure, if we need to include Ukraine, given the war, and the large uncertainty around the projections
A26: Vietnam | B26: MtCO2e/yr | C26: 2018 | D26: 334 | E26: 2030 | F26: 844.48 | G26: 458.52837 | H26: 2050 | I26: 0 | J26: UNCLEAR | K26: N | L26: [inconclusive] | M26: =IF(F26<0.9*D26,"Y","N") -> N | N26: =IF(G26<0.9*D26,"Y","N") -> N | O26: =IF(AND(K26="Y",AND(L26="Y",N26="Y")),"higher",IF(N26="Y","lower",IF(AND(N26="Y",OR(K26="Y",L26="Y")),"lower","much lower"))) -> much lower | P26: =G26/D26-1 -> 0.37283943 | R26: https://newclimate.org/resources/publications/emissions-scenarios-for-major-economies-2022-update
A27: Colombia | B27: MtCO2e/yr | C27: 2018 | D27: 260 | E27: 2030 | F27: 164.15 | G27: 306.82098 | H27: 2050 | I27: 0 | J27: GHG | K27: N | L27: [inconclusive] | M27: =IF(F27<0.9*D27,"Y","N") -> Y | N27: =IF(G27<0.9*D27,"Y","N") -> N | O27: =IF(AND(K27="Y",AND(L27="Y",N27="Y")),"higher",IF(N27="Y","lower",IF(AND(N27="Y",OR(K27="Y",L27="Y")),"lower","much lower"))) -> much lower | P27: =G27/D27-1 -> 0.1800807 | R27: https://newclimate.org/resources/publications/emissions-scenarios-for-major-economies-2022-update
A28: United Arab Emirates | B28: MtCO2e/yr | C28: 2018 | D28: 215 | E28: 2030 | F28: 207.828 | G28: 249.90813 | H28: 2050 | I28: 0 | J28: UNCLEAR | K28: N | L28: [inconclusive] | M28: =IF(F28<0.9*D28,"Y","N") -> N | N28: =IF(G28<0.9*D28,"Y","N") -> N | O28: =IF(AND(K28="Y",AND(L28="Y",N28="Y")),"higher",IF(N28="Y","lower",IF(AND(N28="Y",OR(K28="Y",L28="Y")),"lower","much lower"))) -> much lower | P28: =G28/D28-1 -> 0.1623634 | R28: https://newclimate.org/resources/publications/emissions-scenarios-for-major-economies-2022-update
A29: Chile | B29: MtCO2e/yr | C29: 2018 | D29: 109 | E29: 2030 | F29: 95 | G29: 96 | H29: 2050 | I29: 0 | J29: GHG | K29: Y | L29: [inconclusive] | M29: =IF(F29<0.9*D29,"Y","N") -> Y | N29: =IF(G29<0.9*D29,"Y","N") -> Y | O29: =IF(AND(K29="Y",AND(L29="Y",N29="Y")),"higher",IF(N29="Y","lower",IF(AND(N29="Y",OR(K29="Y",L29="Y")),"lower","much lower"))) -> lower | P29: =G29/D29-1 -> -0.11926606 | R29: https://climateactiontracker.org/countries/chile/
A30: Egypt | B30: MtCO2e/yr | C30: 2019 | D30: 352.52849 | E30: 2030 | F30: 514.5 | G30: 432.0155 | H30: No NetZero target | I30: No NetZero target | J30: NOTARGET | K30: NOTARGET | L30: NOTARGET | M30: =IF(F30<0.9*D30,"Y","N") -> N | N30: =IF(G30<0.9*D30,"Y","N") -> N | O30: =IF(AND(K30="Y",AND(L30="Y",N30="Y")),"higher",IF(N30="Y","lower",IF(AND(N30="Y",OR(K30="Y",L30="Y")),"lower","much lower"))) -> much lower | P30: =G30/D30-1 -> 0.22547686 | R30: https://newclimate.org/resources/publications/emissions-scenarios-for-major-economies-2022-update
A31: Ethiopia | B31: MtCO2e/yr | C31: 2019 | D31: 142.01605 | E31: 2030 | F31: 347.44 | G31: 214.21825 | H31: No NetZero target | I31: No NetZero target | J31: NOTARGET | K31: NOTARGET | L31: NOTARGET | M31: =IF(F31<0.9*D31,"Y","N") -> N | N31: =IF(G31<0.9*D31,"Y","N") -> N | O31: =IF(AND(K31="Y",AND(L31="Y",N31="Y")),"higher",IF(N31="Y","lower",IF(AND(N31="Y",OR(K31="Y",L31="Y")),"lower","much lower"))) -> much lower | P31: =G31/D31-1 -> 0.50840873 | R31: https://newclimate.org/resources/publications/emissions-scenarios-for-major-economies-2022-update
A32: Iran | B32: MtCO2e/yr | C32: 2019 | D32: 1038.3737 | E32: 2030 | F32: 1958.7 | G32: 1189.0293 | H32: No NetZero target | I32: No NetZero target | J32: NOTARGET | K32: NOTARGET | L32: NOTARGET | M32: =IF(F32<0.9*D32,"Y","N") -> N | N32: =IF(G32<0.9*D32,"Y","N") -> N | O32: =IF(AND(K32="Y",AND(L32="Y",N32="Y")),"higher",IF(N32="Y","lower",IF(AND(N32="Y",OR(K32="Y",L32="Y")),"lower","much lower"))) -> much lower | P32: =G32/D32-1 -> 0.14508807 | R32: https://newclimate.org/resources/publications/emissions-scenarios-for-major-economies-2022-update
A33: Morocco | B33: MtCO2e/yr | C33: 2019 | D33: 92.31 | E33: 2030 | F33: 116.29995 | G33: 103.51164 | H33: No NetZero target | I33: No NetZero target | J33: NOTARGET | K33: NOTARGET | L33: NOTARGET | M33: =IF(F33<0.9*D33,"Y","N") -> N | N33: =IF(G33<0.9*D33,"Y","N") -> N | O33: =IF(AND(K33="Y",AND(L33="Y",N33="Y")),"higher",IF(N33="Y","lower",IF(AND(N33="Y",OR(K33="Y",L33="Y")),"lower","much lower"))) -> much lower | P33: =G33/D33-1 -> 0.12134803 | R33: https://newclimate.org/resources/publications/emissions-scenarios-for-major-economies-2022-update

Sheet EGR22 Fig3_4 Emissions_16OCT
AM1: a | AN1: b
AH2: 1 | AI2: 2
A3: Table for figures (corrected, AR6 GWP)
A5: Country ISO | B5: Country alternative name | C5: Country name_figure | D5: Historical | F5: Current policies 2030 (official data) | G5: Current policies 2030 (independent) | L5: Unconditional NDC: current (2030) | Q5: Conditional NDC: current | W5: Reduction below 2015 levels
D6: 2015 | G6: Central | H6: Low | I6: High | J6: Deviation Min | K6: Deviation Max | L6: Central | M6: Low | N6: High | O6: Deviation Min | P6: Deviation Max | Q6: Central | R6: Low | S6: High | T6: Deviation Min | U6: Deviation Max
A7: ARG | B7: Argentina | C7: Argentina | D7: 375.73041 | F7: NA | G7: 424.03382 | H7: 388.87535 | I7: 487.29813 | J7: 35.158478 | K7: 63.264303 | L7: 374.84808 | M7: 374.84808 | N7: 374.84808 | O7: 0 | P7: 0 | Q7: NA | R7: NA | S7: NA | T7: NA | U7: NA | W7: =G7/D7-1 -> 0.1285587
A8: AUS | B8: Australia | C8: Australia | D8: 515.53119 | F8: 439.3657 | G8: 480.69339 | H8: 407.95174 | I8: 548.74576 | J8: 72.741651 | K8: 68.052374 | L8: 347.2195 | M8: 347.2195 | N8: 347.2195 | O8: 0 | P8: 0 | Q8: NA | R8: NA | S8: NA | T8: NA | U8: NA | W8: =G8/D8-1 -> -0.067576519
A9: BRA | B9: Brazil | C9: Brazil | D9: 1390.6842 | F9: NA | G9: 1540.766 | H9: 1185.6298 | I9: 1851.0443 | J9: 355.13619 | K9: 310.27828 | L9: 1268.0457 | M9: 1025.9268 | N9: 1462.8467 | O9: 242.11885 | P9: 194.80107 | Q9: NA | R9: NA | S9: NA | T9: NA | U9: NA | W9: =G9/D9-1 -> 0.10791943
A10: CAN | B10: Canada | C10: Canada | D10: 735.21727 | F10: 658.31237 | G10: 620.78341 | H10: 502.04855 | I10: 736.32623 | J10: 118.73487 | K10: 115.54281 | L10: 426.8608 | M10: 408.32784 | N10: 445.39376 | O10: 18.532961 | P10: 18.532961 | Q10: NA | R10: NA | S10: NA | T10: NA | U10: NA | W10: =G10/D10-1 -> -0.15564631
A11: CHN | B11: China | C11: China | D11: 11544.29 | F11: NA | G11: 14704.913 | H11: 12790.475 | I11: 17000.941 | J11: 1914.4373 | K11: 2296.0288 | L11: 14091.721 | M11: 12157.872 | N11: 15457.478 | O11: 1933.8491 | P11: 1365.7568 | Q11: NA | R11: NA | S11: NA | T11: NA | U11: NA | W11: =G11/D11-1 -> 0.27378232
A12: EU | B12: EU | C12: EU27 | D12: 3489.9825 | F12: 2551.2749 | G12: 2426.2204 | H12: 2206.6836 | I12: 2879.3488 | J12: 219.53684 | K12: 453.12835 | L12: 2146.3179 | M12: 1988.8498 | N12: 2387.4571 | O12: 157.46815 | P12: 241.13915 | Q12: NA | R12: NA | S12: NA | T12: NA | U12: NA | W12: =G12/D12-1 -> -0.30480442
A13: IND | B13: India | C13: India | D13: 2501.3551 | F13: NA | G13: 4892.9292 | H13: 3527.1871 | I13: 5467.3641 | J13: 1365.7421 | K13: 574.43483 | L13: NA | M13: NA | N13: NA | O13: NA | P13: NA | Q13: 4934.2402 | R13: 3575.6106 | S13: 6455.181 | T13: 1358.6295 | U13: 1520.9408 | W13: =G13/D13-1 -> 0.95611142
A14: IDN | B14: Indonesia | C14: Indonesia | D14: 2400.1963 | F14: NA | G14: 1876.8416 | H14: 1494.2315 | I14: 2213.0138 | J14: 382.61011 | K14: 336.17221 | L14: 2130.3454 | M14: 2130.3454 | N14: 2130.3454 | O14: 0 | P14: 0 | Q14: 1780.1965 | R14: 1780.1965 | S14: 1780.1965 | T14: 0 | U14: 0 | W14: =G14/D14-1 -> -0.21804665
A15: JPN | B15: Japan | C15: Japan | D15: 1262.6049 | F15: NA | G15: 982.37269 | H15: 867.87874 | I15: 1019.2117 | J15: 114.49394 | K15: 36.839044 | L15: 767.41315 | M15: 767.41315 | N15: 767.41315 | O15: 0 | P15: 0 | Q15: NA | R15: NA | S15: NA | T15: NA | U15: NA | W15: =G15/D15-1 -> -0.22194767
A16: MEX | B16: Mexico | C16: Mexico | D16: 588.56774 | F16: NA | G16: 725.00361 | H16: 664.27543 | I16: 789.41226 | J16: 60.728175 | K16: 64.408647 | L16: 771.94638 | M16: 771.94638 | N16: 771.94638 | O16: 0 | P16: 0 | Q16: 633.3919 | R16: 633.3919 | S16: 633.3919 | T16: 0 | U16: 0 | W16: =G16/D16-1 -> 0.23180997
A17: KOR | B17: South Korea | C17: Republic of Korea | D17: 654.89764 | F17: NA | G17: 592.82776 | H17: 549.30928 | I17: 648.84454 | J17: 43.518483 | K17: 56.016773 | L17: 437.02176 | M17: 391.71032 | N17: 476.66603 | O17: 45.311447 | P17: 39.64427 | Q17: NA | R17: NA | S17: NA | T17: NA | U17: NA | W17: =G17/D17-1 -> -0.094777987
A18: RUS | B18: Russia | C18: Russian Federation | D18: 1395.6273 | F18: NA | G18: 1794.3875 | H18: 1525.7601 | I18: 2012.98 | J18: 268.62739 | K18: 218.59252 | L18: 2204.8164 | M18: 2097.889 | N18: 2469.5395 | O18: 106.92737 | P18: 264.72311 | Q18: NA | R18: NA | S18: NA | T18: NA | U18: NA | W18: =G18/D18-1 -> 0.28572107
A19: SAU | B19: Saudi Arabia | C19: Saudi Arabia | D19: 617.74392 | F19: NA | G19: 690.00675 | H19: 635.10624 | I19: 744.90726 | J19: 54.900507 | K19: 54.900507 | L19: 649.84871 | M19: 301.86551 | N19: 969.6664 | O19: 347.9832 | P19: 319.81769 | Q19: NA | R19: NA | S19: NA | T19: NA | U19: NA | W19: =G19/D19-1 -> 0.11697863
A20: ZAF | B20: South Africa | C20: South Africa | D20: 513.25383 | F20: NA | G20: 443.61465 | H20: 424.08986 | I20: 464.34147 | J20: 19.524785 | K20: 20.726823 | L20: NA | M20: NA | N20: NA | O20: NA | P20: NA | Q20: 399.09466 | R20: 362.81333 | S20: 435.376 | T20: 36.281333 | U20: 36.281333 | W20: =G20/D20-1 -> -0.13568177
A21: TUR | B21: Turkey | C21: Türkiye | D21: 377.13394 | F21: NA | G21: 568.68214 | H21: 449.44644 | I21: 711.94169 | J21: 119.2357 | K21: 143.25955 | L21: 935.82282 | M21: 935.82282 | N21: 935.82282 | O21: 0 | P21: 0 | Q21: NA | R21: NA | S21: NA | T21: NA | U21: NA | W21: =G21/D21-1 -> 0.50790498
A22: GBR | B22: UK | C22: United Kingdom | D22: 508.14471 | F22: 357.82554 | G22: 356.39803 | H22: 348.55963 | I22: 364.23644 | J22: 7.8384068 | K22: 7.8384068 | L22: 276.74774 | M22: 276.74774 | N22: 276.74774 | O22: 0 | P22: 0 | Q22: NA | R22: NA | S22: NA | T22: NA | U22: NA | W22: =G22/D22-1 -> -0.29862887
A23: USA | B23: USA | C23: United States of America | D23: 5897.3114 | F23: NA | G23: 4164.3807 | H23: 3880.7947 | I23: 4866.1848 | J23: 283.58603 | K23: 701.80411 | L23: 3278.6024 | M23: 3211.6921 | N23: 3345.5126 | O23: 66.910253 | P23: 66.910253 | Q23: NA | R23: NA | S23: NA | T23: NA | U23: NA | W23: =G23/D23-1 -> -0.29385097
A24: G20 | B24: G20 | C24: G20 | D24: 34768.272
