Workbook

Sheet 12-14
D1: EGR 2022 ANALYSIS (Fig 3_4), extended with other sources (all incl. LULUCF) | O1: CLIMATE WATCH ANALYSIS | P1: CAT | Q1: EGR2022 | W1: CAT | X1: EGR2022 | AE1: OLD-NOT USED | AF1: OLD-NOT USED
A2: Country | B2: 3LC | D2: Current emissions | H2: NDC Emissions | I2: Current Policies | J2: CAIT Data | L2: Net zero target | Q2: Current policy projection on downward path (2030 emissions, incl. LULUCF, at least 10% below 2020) | R2: Added 23 Feb | S2: Added 23 Feb | T2: Confidence assessment
C3: Unit | D3: Year | E3: Total | F3: 2020 | G3: Year | H3: Total | I3: Total | J3: Emissions (MtCO2e/yr, 2019) | K3: Share of global emissions | L3: Year | M3: Total | N3: Net zero target applicable to | O3: Legally binding | P3: Published plan (BOLD: manually coded) | Q3: 10% below 2020 | R3: 0% below 2020 | S3: 20% below 2020 | T3: 0.1 | U3: 0 | V3: 0.2 | W3: Published plan assessment notes | X3: Current policy trends (and 2020 emission estimates where relevant) - assessment notes for 10% threshold | Y3: Source Current Policy projection trends | AE3: NDC on downward path (2030 emissions at least 10% below last historic data point) | AF3: Current policy projection on downward path (2030 emissions at least 10% below last historic data point)
A4: Argentina | B4: ARG | C4: MtCO2e/yr | D4: 2016 | E4: 378 | F4: 390 | G4: 2030 | H4: 375 | I4: 424 | J4: 398.91 | K4: =J4/49758.23 -> 0.0080169652 | L4: 2050 | M4: 0 | N4: UNCLEAR | O4: N | P4: {=index(CAT_NZ_Nov22!$Q$16:$Q$54,match($B4,CAT_NZ_Nov22!$C$16:$C$53,0))} -> Weaker | Q4: n | R4: n | S4: n | T4: =IF(AND(O4="Y",AND(P4="credible",Q4="Y")),"higher",IF(Q4="Y","lower",IF(AND(Q4="N",OR(O4="Y",P4="credible")),"lower","much lower"))) -> much lower | U4: =IF(AND(O4="Y",AND(P4="credible",R4="Y")),"higher",IF(R4="Y","lower",IF(AND(R4="N",OR(O4="Y",P4="credible")),"lower","much lower"))) -> much lower | V4: =IF(AND(O4="Y",AND(P4="credible",S4="Y")),"higher",IF(S4="Y","lower",IF(AND(S4="N",OR(O4="Y",P4="credible")),"lower","much lower"))) -> much lower | W4: See 'CAT_NZ_Nov22' sheet | Y4: Figure 3.4 UNEP Emissions Gap report Chapter 3 | AC4: n | AE4: N | AF4: =IF(I4<0.9*J4,"Y","N") -> N
A5: Australia | B5: AUS | C5: MtCO2e/yr | D5: 2020 | E5: 503 | F5: 508 | G5: 2030 | H5: 347 | I5: 458 | J5: 608.49 | K5: =J5/49758.23 -> 0.012228932 | L5: 2050 | M5: 0 | N5: GHG | O5: Y | P5: {=index(CAT_NZ_Nov22!$Q$16:$Q$54,match($B5,CAT_NZ_Nov22!$C$16:$C$53,0))} -> Weaker | Q5: n | R5: y | S5: n | T5: =IF(AND(O5="Y",AND(P5="credible",Q5="Y")),"higher",IF(Q5="Y","lower",IF(AND(Q5="N",OR(O5="Y",P5="credible")),"lower","much lower"))) -> lower | U5: =IF(AND(O5="Y",AND(P5="credible",R5="Y")),"higher",IF(R5="Y","lower",IF(AND(R5="N",OR(O5="Y",P5="credible")),"lower","much lower"))) -> lower | V5: =IF(AND(O5="Y",AND(P5="credible",S5="Y")),"higher",IF(S5="Y","lower",IF(AND(S5="N",OR(O5="Y",P5="credible")),"lower","much lower"))) -> lower | W5: See 'CAT_NZ_Nov22' sheet | X5: 3 of 5 says no. Nascimento et al 2022 reports between -34% to -16% below 2015 levels. JRC reports an increase | Y5: Figure 3.4 UNEP Emissions Gap report Chapter 3 | AC5: n | AE5: Y | AF5: =IF(I5<0.9*J5,"Y","N") -> Y
A6: Brazil | B6: BRA | C6: MtCO2e/yr | D6: 2018 | E6: 1366 | F6: 1568 | G6: 2030 | H6: 1268 | I6: 1541 | J6: 1451.63 | K6: =J6/49758.23 -> 0.029173666 | L6: 2050 | M6: 0 | N6: UNCLEAR | O6: N | P6: {=index(CAT_NZ_Nov22!$Q$16:$Q$54,match($B6,CAT_NZ_Nov22!$C$16:$C$53,0))} -> None | Q6: n | R6: n | S6: n | T6: =IF(AND(O6="Y",AND(P6="credible",Q6="Y")),"higher",IF(Q6="Y","lower",IF(AND(Q6="N",OR(O6="Y",P6="credible")),"lower","much lower"))) -> much lower | U6: =IF(AND(O6="Y",AND(P6="credible",R6="Y")),"higher",IF(R6="Y","lower",IF(AND(R6="N",OR(O6="Y",P6="credible")),"lower","much lower"))) -> much lower | V6: =IF(AND(O6="Y",AND(P6="credible",S6="Y")),"higher",IF(S6="Y","lower",IF(AND(S6="N",OR(O6="Y",P6="credible")),"lower","much lower"))) -> much lower | W6: See 'CAT_NZ_Nov22' sheet | Y6: Figure 3.4 UNEP Emissions Gap report Chapter 3 | AC6: n | AE6: N | AF6: =IF(I6<0.9*J6,"Y","N") -> N
A7: Canada | B7: CAN | C7: MtCO2e/yr | D7: 2020 | E7: 638 | F7: 642 | G7: 2030 | H7: 427 | I7: 621 | J7: 774.29 | K7: =J7/49758.23 -> 0.015561044 | L7: 2050 | M7: 0 | N7: GHG | O7: Y | P7: {=index(CAT_NZ_Nov22!$Q$16:$Q$54,match($B7,CAT_NZ_Nov22!$C$16:$C$53,0))} -> Credible | Q7: n | R7: n | S7: n | T7: =IF(AND(O7="Y",AND(P7="credible",Q7="Y")),"higher",IF(Q7="Y","lower",IF(AND(Q7="N",OR(O7="Y",P7="credible")),"lower","much lower"))) -> lower | U7: =IF(AND(O7="Y",AND(P7="credible",R7="Y")),"higher",IF(R7="Y","lower",IF(AND(R7="N",OR(O7="Y",P7="credible")),"lower","much lower"))) -> lower | V7: =IF(AND(O7="Y",AND(P7="credible",S7="Y")),"higher",IF(S7="Y","lower",IF(AND(S7="N",OR(O7="Y",P7="credible")),"lower","much lower"))) -> lower | W7: See 'CAT_NZ_Nov22' sheet | X7: 3 of 4 says no, incl. official projection. Only JRC projects -21% reduction. Official projections also only -3%. Nascimento et al 2022 reports between -3% and 0% below 2015 levels. | Y7: Figure 3.4 UNEP Emissions Gap report Chapter 3 | AC7: n | AE7: Y | AF7: =IF(I7<0.9*J7,"Y","N") -> Y
A8: China | B8: CHN | C8: MtCO2e/yr | D8: 2018 | E8: 12233 | F8: 12935 | G8: 2030 | H8: 14092 | I8: 14705 | J8: 12055.41 | K8: =J8/49758.23 -> 0.24227972 | L8: 2060 | M8: 0 | N8: UNCLEAR | O8: N | P8: {=index(CAT_NZ_Nov22!$Q$16:$Q$54,match($B8,CAT_NZ_Nov22!$C$16:$C$53,0))} -> Credible | Q8: n | R8: n | S8: n | T8: =IF(AND(O8="Y",AND(P8="credible",Q8="Y")),"higher",IF(Q8="Y","lower",IF(AND(Q8="N",OR(O8="Y",P8="credible")),"lower","much lower"))) -> lower | U8: =IF(AND(O8="Y",AND(P8="credible",R8="Y")),"higher",IF(R8="Y","lower",IF(AND(R8="N",OR(O8="Y",P8="credible")),"lower","much lower"))) -> lower | V8: =IF(AND(O8="Y",AND(P8="credible",S8="Y")),"higher",IF(S8="Y","lower",IF(AND(S8="N",OR(O8="Y",P8="credible")),"lower","much lower"))) -> lower | W8: See 'CAT_NZ_Nov22' sheet | Y8: Figure 3.4 UNEP Emissions Gap report Chapter 3 | AC8: n | AE8: N | AF8: =IF(I8<0.9*J8,"Y","N") -> N
A9: European Union | B9: EU27 | C9: MtCO2e/yr | D9: 2020 | E9: 3043 | F9: 3046 | G9: 2030 | H9: 2146 | I9: 2426 | J9: 3149.57 | K9: =J9/49758.23 -> 0.063297469 | L9: 2050 | M9: 0 | N9: GHG | O9: Y | P9: {=index(CAT_NZ_Nov22!$Q$16:$Q$54,match($B9,CAT_NZ_Nov22!$C$16:$C$53,0))} -> Credible | Q9: y | R9: y | S9: n | T9: =IF(AND(O9="Y",AND(P9="credible",Q9="Y")),"higher",IF(Q9="Y","lower",IF(AND(Q9="N",OR(O9="Y",P9="credible")),"lower","much lower"))) -> higher | U9: =IF(AND(O9="Y",AND(P9="credible",R9="Y")),"higher",IF(R9="Y","lower",IF(AND(R9="N",OR(O9="Y",P9="credible")),"lower","much lower"))) -> higher | V9: =IF(AND(O9="Y",AND(P9="credible",S9="Y")),"higher",IF(S9="Y","lower",IF(AND(S9="N",OR(O9="Y",P9="credible")),"lower","much lower"))) -> lower | W9: See 'CAT_NZ_Nov22' sheet | Y9: Figure 3.4 UNEP Emissions Gap report Chapter 3 | AC9: y | AE9: Y | AF9: =IF(I9<0.9*J9,"Y","N") -> Y
A10: India | B10: IND | C10: MtCO2e/yr | D10: 2018 | E10: 2692 | F10: 3027 | G10: 2030 | H10: 4934 | I10: 4893 | J10: 3363.59 | K10: =J10/49758.23 -> 0.067598667 | L10: 2070 | M10: 0 | N10: UNCLEAR | O10: N | P10: {=index(CAT_NZ_Nov22!$Q$16:$Q$54,match($B10,CAT_NZ_Nov22!$C$16:$C$53,0))} -> None | Q10: n | R10: n | S10: n | T10: =IF(AND(O10="Y",AND(P10="credible",Q10="Y")),"higher",IF(Q10="Y","lower",IF(AND(Q10="N",OR(O10="Y",P10="credible")),"lower","much lower"))) -> much lower | U10: =IF(AND(O10="Y",AND(P10="credible",R10="Y")),"higher",IF(R10="Y","lower",IF(AND(R10="N",OR(O10="Y",P10="credible")),"lower","much lower"))) -> much lower | V10: =IF(AND(O10="Y",AND(P10="credible",S10="Y")),"higher",IF(S10="Y","lower",IF(AND(S10="N",OR(O10="Y",P10="credible")),"lower","much lower"))) -> much lower | W10: See 'CAT_NZ_Nov22' sheet | Y10: Figure 3.4 UNEP Emissions Gap report Chapter 3 | AC10: n | AE10: N | AF10: =IF(I10<0.9*J10,"Y","N") -> N
A11: Indonesia | B11: IDN | C11: MtCO2e/yr | D11: 2016 | E11: 1491 | F11: 1645 | G11: 2030 | H11: 2130 | I11: 1877 | J11: 1959.71 | K11: =J11/49758.23 -> 0.03938464 | L11: 2060 | M11: 0 | N11: UNCLEAR | O11: N | P11: {=index(CAT_NZ_Nov22!$Q$16:$Q$54,match($B11,CAT_NZ_Nov22!$C$16:$C$53,0))} -> None | Q11: n | R11: n | S11: n | T11: =IF(AND(O11="Y",AND(P11="credible",Q11="Y")),"higher",IF(Q11="Y","lower",IF(AND(Q11="N",OR(O11="Y",P11="credible")),"lower","much lower"))) -> much lower | U11: =IF(AND(O11="Y",AND(P11="credible",R11="Y")),"higher",IF(R11="Y","lower",IF(AND(R11="N",OR(O11="Y",P11="credible")),"lower","much lower"))) -> much lower | V11: =IF(AND(O11="Y",AND(P11="credible",S11="Y")),"higher",IF(S11="Y","lower",IF(AND(S11="N",OR(O11="Y",P11="credible")),"lower","much lower"))) -> much lower | W11: See 'CAT_NZ_Nov22' sheet | Y11: Figure 3.4 UNEP Emissions Gap report Chapter 3 | AC11: n | AE11: N | AF11: =IF(I11<0.9*J11,"Y","N") -> N
A12: Japan | B12: JPN | C12: MtCO2e/yr | D12: 2020 | E12: 1070 | F12: 1082 | G12: 2030 | H12: 767 | I12: 982 | J12: 1134.45 | K12: =J12/49758.23 -> 0.022799243 | L12: 2050 | M12: 0 | N12: GHG | O12: Y | P12: {=index(CAT_NZ_Nov22!$Q$16:$Q$54,match($B12,CAT_NZ_Nov22!$C$16:$C$53,0))} -> Credible | Q12: n | R12: y | S12: n | T12: =IF(AND(O12="Y",AND(P12="credible",Q12="Y")),"higher",IF(Q12="Y","lower",IF(AND(Q12="N",OR(O12="Y",P12="credible")),"lower","much lower"))) -> lower | U12: =IF(AND(O12="Y",AND(P12="credible",R12="Y")),"higher",IF(R12="Y","lower",IF(AND(R12="N",OR(O12="Y",P12="credible")),"lower","much lower"))) -> higher | V12: =IF(AND(O12="Y",AND(P12="credible",S12="Y")),"higher",IF(S12="Y","lower",IF(AND(S12="N",OR(O12="Y",P12="credible")),"lower","much lower"))) -> lower | W12: See 'CAT_NZ_Nov22' sheet | X12: 2 of 3 says no. Only CAT lower bound projects -20% reduction. Nascimento et al 2022 reports between -31% and -18% below 2015 levels. JRC shows similar result | Y12: Figure 3.4 UNEP Emissions Gap report Chapter 3 | AC12: n | AE12: Y | AF12: =IF(I12<0.9*J12,"Y","N") -> Y
A13: Mexico | B13: MEX | C13: MtCO2e/yr | D13: 2017 | E13: 577 | F13: 658 | G13: 2030 | H13: 772 | I13: 725 | J13: 670.84 | K13: =J13/49758.23 -> 0.013481991 | L13: 2050 | M13: =558.02/2 -> 279.01 | N13: NOTARGET | O13: No NZT | P13: {=index(CAT_NZ_Nov22!$Q$16:$Q$54,match($B13,CAT_NZ_Nov22!$C$16:$C$53,0))} -> None | Q13: n | R13: n | S13: n | T13: =IF(AND(O13="Y",AND(P13="credible",Q13="Y")),"higher",IF(Q13="Y","lower",IF(AND(Q13="N",OR(O13="Y",P13="credible")),"lower","much lower"))) -> much lower | U13: =IF(AND(O13="Y",AND(P13="credible",R13="Y")),"higher",IF(R13="Y","lower",IF(AND(R13="N",OR(O13="Y",P13="credible")),"lower","much lower"))) -> much lower | V13: =IF(AND(O13="Y",AND(P13="credible",S13="Y")),"higher",IF(S13="Y","lower",IF(AND(S13="N",OR(O13="Y",P13="credible")),"lower","much lower"))) -> much lower | W13: See 'CAT_NZ_Nov22' sheet | Y13: Figure 3.4 UNEP Emissions Gap report Chapter 3 | AC13: n | AE13: N | AF13: =IF(I13<0.9*J13,"Y","N") -> N
A14: Republic of Korea | B14: KOR | C14: MtCO2e/yr | D14: 2017 | E14: 672 | F14: 659 | G14: 2030 | H14: 437 | I14: 593 | J14: 652.66 | K14: =J14/49758.23 -> 0.013116624 | L14: 2050 | M14: 0 | N14: GHG | O14: Y | P14: {=index(CAT_NZ_Nov22!$Q$16:$Q$54,match($B14,CAT_NZ_Nov22!$C$16:$C$53,0))} -> Credible | Q14: n | R14: y | S14: n | T14: =IF(AND(O14="Y",AND(P14="credible",Q14="Y")),"higher",IF(Q14="Y","lower",IF(AND(Q14="N",OR(O14="Y",P14="credible")),"lower","much lower"))) -> lower | U14: =IF(AND(O14="Y",AND(P14="credible",R14="Y")),"higher",IF(R14="Y","lower",IF(AND(R14="N",OR(O14="Y",P14="credible")),"lower","much lower"))) -> higher | V14: =IF(AND(O14="Y",AND(P14="credible",S14="Y")),"higher",IF(S14="Y","lower",IF(AND(S14="N",OR(O14="Y",P14="credible")),"lower","much lower"))) -> lower | W14: See 'CAT_NZ_Nov22' sheet | X14: 2 of 3 says yes (CAT say no). | Y14: Figure 3.4 UNEP Emissions Gap report Chapter 3 | AC14: y | AE14: Y | AF14: =IF(I14<0.9*J14,"Y","N") -> N
A15: Russian Federation | B15: RUS | C15: MtCO2e/yr | D15: 2018 | E15: 1629 | F15: 1536 | G15: 2030 | H15: 2205 | I15: 1794 | J15: 1924.82 | K15: =J15/49758.23 -> 0.03868345 | L15: 2060 | M15: 0 | N15: UNCLEAR | O15: Y | P15: {=index(CAT_NZ_Nov22!$Q$16:$Q$54,match($B15,CAT_NZ_Nov22!$C$16:$C$53,0))} -> Credible | Q15: n | R15: n | S15: n | T15: =IF(AND(O15="Y",AND(P15="credible",Q15="Y")),"higher",IF(Q15="Y","lower",IF(AND(Q15="N",OR(O15="Y",P15="credible")),"lower","much lower"))) -> lower | U15: =IF(AND(O15="Y",AND(P15="credible",R15="Y")),"higher",IF(R15="Y","lower",IF(AND(R15="N",OR(O15="Y",P15="credible")),"lower","much lower"))) -> lower | V15: =IF(AND(O15="Y",AND(P15="credible",S15="Y")),"higher",IF(S15="Y","lower",IF(AND(S15="N",OR(O15="Y",P15="credible")),"lower","much lower"))) -> lower | W15: See 'CAT_NZ_Nov22' sheet | Y15: Figure 3.4 UNEP Emissions Gap report Chapter 3 | AC15: n | AE15: N | AF15: =IF(I15<0.9*J15,"Y","N") -> N
A16: Saudi Arabia | B16: SAU | C16: MtCO2e/yr | D16: 2015 | E16: 640 | F16: 600 | G16: 2030 | H16: 650 | I16: 690 | J16: 723.15 | K16: =J16/49758.23 -> 0.014533274 | L16: 2060 | M16: 0 | N16: UNCLEAR | O16: N | P16: {=index(CAT_NZ_Nov22!$Q$16:$Q$54,match($B16,CAT_NZ_Nov22!$C$16:$C$53,0))} -> Weaker | Q16: n | R16: n | S16: n | T16: =IF(AND(O16="Y",AND(P16="credible",Q16="Y")),"higher",IF(Q16="Y","lower",IF(AND(Q16="N",OR(O16="Y",P16="credible")),"lower","much lower"))) -> much lower | U16: =IF(AND(O16="Y",AND(P16="credible",R16="Y")),"higher",IF(R16="Y","lower",IF(AND(R16="N",OR(O16="Y",P16="credible")),"lower","much lower"))) -> much lower | V16: =IF(AND(O16="Y",AND(P16="credible",S16="Y")),"higher",IF(S16="Y","lower",IF(AND(S16="N",OR(O16="Y",P16="credible")),"lower","much lower"))) -> much lower | W16: See 'CAT_NZ_Nov22' sheet | Y16: Figure 3.4 UNEP Emissions Gap report Chapter 3 | AC16: n | AE16: N | AF16: =IF(I16<0.9*J16,"Y","N") -> N
A17: South Africa | B17: ZAF | C17: MtCO2e/yr | D17: 2017 | E17: 528 | F17: 508 | G17: 2030 | H17: 399 | I17: 444 | J17: 562.19 | K17: =J17/49758.23 -> 0.011298432 | L17: 2050 | M17: 0 | N17: CO2 | O17: N | P17: {=index(CAT_NZ_Nov22!$Q$16:$Q$54,match($B17,CAT_NZ_Nov22!$C$16:$C$53,0))} -> None | Q17: n | R17: y | S17: n | T17: =IF(AND(O17="Y",AND(P17="credible",Q17="Y")),"higher",IF(Q17="Y","lower",IF(AND(Q17="N",OR(O17="Y",P17="credible")),"lower","much lower"))) -> much lower | U17: =IF(AND(O17="Y",AND(P17="credible",R17="Y")),"higher",IF(R17="Y","lower",IF(AND(R17="N",OR(O17="Y",P17="credible")),"lower","much lower"))) -> lower | V17: =IF(AND(O17="Y",AND(P17="credible",S17="Y")),"higher",IF(S17="Y","lower",IF(AND(S17="N",OR(O17="Y",P17="credible")),"lower","much lower"))) -> much lower | W17: See 'CAT_NZ_Nov22' sheet | X17: 2 of 3 says yes (CAT say no). CAT not on track, JRC and PBL shows more than -10% reduction. Nascimento et al 2022 reports between -19% and -5% below 2015 levels. JRC also has a decrease of more than 20% | Y17: Figure 3.4 UNEP Emissions Gap report Chapter 3 | AC17: y | AE17: Y | AF17: =IF(I17<0.9*J17,"Y","N") -> Y
A18: Turkey | B18: TUR | C18: MtCO2e/yr | D18: 2018 | E18: 426 | F18: 463 | G18: 2030 | H18: 936 | I18: 569 | J18: 459.86 | K18: =J18/49758.23 -> 0.0092418882 | L18: 2053 | M18: 0 | N18: UNCLEAR | O18: N | P18: {=index(CAT_NZ_Nov22!$Q$16:$Q$54,match($B18,CAT_NZ_Nov22!$C$16:$C$53,0))} -> Credible | Q18: n | R18: n | S18: n | T18: =IF(AND(O18="Y",AND(P18="credible",Q18="Y")),"higher",IF(Q18="Y","lower",IF(AND(Q18="N",OR(O18="Y",P18="credible")),"lower","much lower"))) -> lower | U18: =IF(AND(O18="Y",AND(P18="credible",R18="Y")),"higher",IF(R18="Y","lower",IF(AND(R18="N",OR(O18="Y",P18="credible")),"lower","much lower"))) -> lower | V18: =IF(AND(O18="Y",AND(P18="credible",S18="Y")),"higher",IF(S18="Y","lower",IF(AND(S18="N",OR(O18="Y",P18="credible")),"lower","much lower"))) -> lower | W18: See 'CAT_NZ_Nov22' sheet | Y18: Figure 3.4 UNEP Emissions Gap report Chapter 3 | AC18: n | AE18: N | AF18: =IF(I18<0.9*J18,"Y","N") -> N
A19: United Kingdom of Great Britain and Northern Ireland | B19: GBR | C19: MtCO2e/yr | D19: 2020 | E19: 396 | F19: 409 | G19: 2030 | H19: 277 | I19: 356 | J19: 429.13 | K19: =J19/49758.23 -> 0.0086243019 | L19: 2050 | M19: 0 | N19: GHG | O19: Y | P19: {=index(CAT_NZ_Nov22!$Q$16:$Q$54,match($B19,CAT_NZ_Nov22!$C$16:$C$53,0))} -> Credible | Q19: y | R19: y | S19: n | T19: =IF(AND(O19="Y",AND(P19="credible",Q19="Y")),"higher",IF(Q19="Y","lower",IF(AND(Q19="N",OR(O19="Y",P19="credible")),"lower","much lower"))) -> higher | U19: =IF(AND(O19="Y",AND(P19="credible",R19="Y")),"higher",IF(R19="Y","lower",IF(AND(R19="N",OR(O19="Y",P19="credible")),"lower","much lower"))) -> higher | V19: =IF(AND(O19="Y",AND(P19="credible",S19="Y")),"higher",IF(S19="Y","lower",IF(AND(S19="N",OR(O19="Y",P19="credible")),"lower","much lower"))) -> lower | W19: See 'CAT_NZ_Nov22' sheet | Y19: Figure 3.4 UNEP Emissions Gap report Chapter 3 | AC19: y | AE19: Y | AF19: =IF(I19<0.9*J19,"Y","N") -> Y
A20: United States of America | B20: USA | C20: MtCO2e/yr | D20: 2020 | E20: 5167 | F20: 5216 | G20: 2030 | H20: 3279 | I20: 4164 | J20: 5771 | K20: =J20/49758.23 -> 0.11598081 | L20: 2050 | M20: 0 | N20: GHG | O20: N | P20: {=index(CAT_NZ_Nov22!$Q$16:$Q$54,match($B20,CAT_NZ_Nov22!$C$16:$C$53,0))} -> Credible | Q20: y | R20: y | S20: n | T20: =IF(AND(O20="Y",AND(P20="credible",Q20="Y")),"higher",IF(Q20="Y","lower",IF(AND(Q20="N",OR(O20="Y",P20="credible")),"lower","much lower"))) -> lower | U20: =IF(AND(O20="Y",AND(P20="credible",R20="Y")),"higher",IF(R20="Y","lower",IF(AND(R20="N",OR(O20="Y",P20="credible")),"lower","much lower"))) -> lower | V20: =IF(AND(O20="Y",AND(P20="credible",S20="Y")),"higher",IF(S20="Y","lower",IF(AND(S20="N",OR(O20="Y",P20="credible")),"lower","much lower"))) -> lower | W20: See 'CAT_NZ_Nov22' sheet | Y20: Figure 3.4 UNEP Emissions Gap report Chapter 3 | AC20: y | AE20: Y | AF20: =IF(I20<0.9*J20,"Y","N") -> Y
A21: Malaysia | B21: MYS | C21: MtCO2e/yr | D21: 2018 | E21: 403 | F21: 280 | G21: 2030 | H21: 383.7 | I21: 393.7 | J21: 396.11 | K21: =J21/49758.23 -> 0.0079606931 | L21: 2050 | M21: 0 | N21: UNCLEAR | O21: N | P21: None | Q21: n | R21: n | S21: n | T21: =IF(AND(O21="Y",AND(P21="credible",Q21="Y")),"higher",IF(Q21="Y","lower",IF(AND(Q21="N",OR(O21="Y",P21="credible")),"lower","much lower"))) -> much lower | U21: =IF(AND(O21="Y",AND(P21="credible",R21="Y")),"higher",IF(R21="Y","lower",IF(AND(R21="N",OR(O21="Y",P21="credible")),"lower","much lower"))) -> much lower | V21: =IF(AND(O21="Y",AND(P21="credible",S21="Y")),"higher",IF(S21="Y","lower",IF(AND(S21="N",OR(O21="Y",P21="credible")),"lower","much lower"))) -> much lower | W21: The latest planning document states the 2050 net zero target, but the planning only goes up to 2025 (https://rmke12.epu.gov.my/file/download/2021092722_twelfth_malaysia_plan.pdf?path=fileUpload/2021/09/2021092722_twelfth_malaysia_plan.pdf&name=Twelfth%20Plan%20Document.pdf) | X21: Keramidas et al. (2021) | Y21: http://doi.org/10.2760/410610 | AE21: N | AF21: =IF(I21<0.9*J21,"Y","N") -> N
A22: Nigeria | B22: NGA | C22: MtCO2e/yr | D22: 2018 | E22: 360 | F22: 360 | G22: 2030 | H22: 334 | I22: 375 | J22: 354.33 | K22: =J22/49758.23 -> 0.007121033 | L22: 2060 | M22: 0 | N22: GHG | O22: Y | P22: {=index(CAT_NZ_Nov22!$Q$16:$Q$54,match($B22,CAT_NZ_Nov22!$C$16:$C$53,0))} -> Credible | Q22: n | R22: n | S22: n | T22: =IF(AND(O22="Y",AND(P22="credible",Q22="Y")),"higher",IF(Q22="Y","lower",IF(AND(Q22="N",OR(O22="Y",P22="credible")),"lower","much lower"))) -> lower | U22: =IF(AND(O22="Y",AND(P22="credible",R22="Y")),"higher",IF(R22="Y","lower",IF(AND(R22="N",OR(O22="Y",P22="credible")),"lower","much lower"))) -> lower | V22: =IF(AND(O22="Y",AND(P22="credible",S22="Y")),"higher",IF(S22="Y","lower",IF(AND(S22="N",OR(O22="Y",P22="credible")),"lower","much lower"))) -> lower | W22: See 'CAT_NZ_Nov22' sheet | Y22: https://climateactiontracker.org/countries/nigeria/ | AE22: N | AF22: =IF(I22<0.9*J22,"Y","N") -> N
A23: Thailand | B23: THA | C23: MtCO2e/yr | D23: 2018 | E23: 360 | F23: 342 | G23: 2030 | H23: 444 | I23: 444 | J23: 437.18 | K23: =J23/49758.23 -> 0.0087860842 | L23: 2050 | M23: 0 | N23: CO2 | O23: N | P23: {=index(CAT_NZ_Nov22!$Q$16:$Q$54,match($B23,CAT_NZ_Nov22!$C$16:$C$53,0))} -> Credible | Q23: n | R23: n | S23: n | T23: =IF(AND(O23="Y",AND(P23="credible",Q23="Y")),"higher",IF(Q23="Y","lower",IF(AND(Q23="N",OR(O23="Y",P23="credible")),"lower","much lower"))) -> lower | U23: =IF(AND(O23="Y",AND(P23="credible",R23="Y")),"higher",IF(R23="Y","lower",IF(AND(R23="N",OR(O23="Y",P23="credible")),"lower","much lower"))) -> lower | V23: =IF(AND(O23="Y",AND(P23="credible",S23="Y")),"higher",IF(S23="Y","lower",IF(AND(S23="N",OR(O23="Y",P23="credible")),"lower","much lower"))) -> lower | W23: See 'CAT_NZ_Nov22' sheet | Y23: https://newclimate.org/resources/publications/emissions-scenarios-for-major-economies-2022-update | AE23: N | AF23: =IF(I23<0.9*J23,"Y","N") -> N
A24: Kazakhstan | B24: KAZ | C24: MtCO2e/yr | D24: 2018 | E24: 351 | F24: 394 | G24: 2030 | H24: 324.44 | I24: 443 | J24: 271.68 | K24: =J24/49758.23 -> 0.0054600013 | L24: 2060 | M24: 0 | N24: UNCLEAR | O24: N | P24: {=index(CAT_NZ_Nov22!$Q$16:$Q$54,match($B24,CAT_NZ_Nov22!$C$16:$C$53,0))} -> Credible | Q24: n | R24: n | S24: n | T24: =IF(AND(O24="Y",AND(P24="credible",Q24="Y")),"higher",IF(Q24="Y","lower",IF(AND(Q24="N",OR(O24="Y",P24="credible")),"lower","much lower"))) -> lower | U24: =IF(AND(O24="Y",AND(P24="credible",R24="Y")),"higher",IF(R24="Y","lower",IF(AND(R24="N",OR(O24="Y",P24="credible")),"lower","much lower"))) -> lower | V24: =IF(AND(O24="Y",AND(P24="credible",S24="Y")),"higher",IF(S24="Y","lower",IF(AND(S24="N",OR(O24="Y",P24="credible")),"lower","much lower"))) -> lower | W24: See 'CAT_NZ_Nov22' sheet | Y24: https://newclimate.org/sites/default/files/2021/11/NewClimate_TrackingCurrentPolicies_Nov21.pdf | AE24: N | AF24: =IF(I24<0.9*J24,"Y","N") -> N
A25: Ukraine | B25: UKR | C25: MtCO2e/yr | D25: 2018 | E25: 341 | F25: 340 | G25: 2030 | H25: 309 | I25: 426 | J25: 221.29 | K25: =J25/49758.23 -> 0.0044473045 | L25: 2060 | M25: 0 | N25: CO2 | O25: N | P25: None | Q25: n | R25: n | S25: n | T25: =IF(AND(O25="Y",AND(P25="credible",Q25="Y")),"higher",IF(Q25="Y","lower",IF(AND(Q25="N",OR(O25="Y",P25="credible")),"lower","much lower"))) -> much lower | U25: =IF(AND(O25="Y",AND(P25="credible",R25="Y")),"higher",IF(R25="Y","lower",IF(AND(R25="N",OR(O25="Y",P25="credible")),"lower","much lower"))) -> much lower | V25: =IF(AND(O25="Y",AND(P25="credible",S25="Y")),"higher",IF(S25="Y","lower",IF(AND(S25="N",OR(O25="Y",P25="credible")),"lower","much lower"))) -> much lower | W25: CAT NZT evaluation Nov 2021 | X25: Last CAT assessment in Nov 2021 | Y25: https://newclimate.org/sites/default/files/2021/11/NewClimate_TrackingCurrentPolicies_Nov21.pdf | AE25: N | AF25: =IF(I25<0.9*J25,"Y","N") -> N
A26: Vietnam | B26: VNM | C26: MtCO2e/yr | D26: 2018 | E26: 334 | F26: 359 | G26: 2030 | H26: 844 | I26: 459 | J26: 438.11 | K26: =J26/49758.23 -> 0.0088047746 | L26: 2050 | M26: 0 | N26: UNCLEAR | O26: Y | P26: {=index(CAT_NZ_Nov22!$Q$16:$Q$54,match($B26,CAT_NZ_Nov22!$C$16:$C$53,0))} -> Credible | Q26: n | R26: n | S26: n | T26: =IF(AND(O26="Y",AND(P26="credible",Q26="Y")),"higher",IF(Q26="Y","lower",IF(AND(Q26="N",OR(O26="Y",P26="credible")),"lower","much lower"))) -> lower | U26: =IF(AND(O26="Y",AND(P26="credible",R26="Y")),"higher",IF(R26="Y","lower",IF(AND(R26="N",OR(O26="Y",P26="credible")),"lower","much lower"))) -> lower | V26: =IF(AND(O26="Y",AND(P26="credible",S26="Y")),"higher",IF(S26="Y","lower",IF(AND(S26="N",OR(O26="Y",P26="credible")),"lower","much lower"))) -> lower | W26: See 'CAT_NZ_Nov22' sheet | Y26: https://newclimate.org/resources/publications/emissions-scenarios-for-major-economies-2022-update | AE26: N | AF26: =IF(I26<0.9*J26,"Y","N") -> N
A27: Colombia | B27: COL | C27: MtCO2e/yr | D27: 2018 | E27: 282 | F27: 296 | G27: 2030 | H27: 164 | I27: 307 | J27: 270.53 | K27: =J27/49758.23 -> 0.0054368895 | L27: 2050 | M27: 0 | N27: GHG | O27: Y | P27: {=index(CAT_NZ_Nov22!$Q$16:$Q$54,match($B27,CAT_NZ_Nov22!$C$16:$C$53,0))} -> Credible | Q27: n | R27: n | S27: n | T27: =IF(AND(O27="Y",AND(P27="credible",Q27="Y")),"higher",IF(Q27="Y","lower",IF(AND(Q27="N",OR(O27="Y",P27="credible")),"lower","much lower"))) -> lower | U27: =IF(AND(O27="Y",AND(P27="credible",R27="Y")),"higher",IF(R27="Y","lower",IF(AND(R27="N",OR(O27="Y",P27="credible")),"lower","much lower"))) -> lower | V27: =IF(AND(O27="Y",AND(P27="credible",S27="Y")),"higher",IF(S27="Y","lower",IF(AND(S27="N",OR(O27="Y",P27="credible")),"lower","much lower"))) -> lower | W27: See 'CAT_NZ_Nov22' sheet | Y27: https://newclimate.org/resources/publications/emissions-scenarios-for-major-economies-2022-update | AE27: Y | AF27: =IF(I27<0.9*J27,"Y","N") -> N
A28: United Arab Emirates | B28: ARE | C28: MtCO2e/yr | D28: 2018 | E28: 215 | F28: 206 | G28: 2030 | H28: 208 | I28: 250 | J28: 243.55 | K28: =J28/49758.23 -> 0.0048946677 | L28: 2050 | M28: 0 | N28: UNCLEAR | O28: N | P28: {=index(CAT_NZ_Nov22!$Q$16:$Q$54,match($B28,CAT_NZ_Nov22!$C$16:$C$53,0))} -> None | Q28: n | R28: n | S28: n | T28: =IF(AND(O28="Y",AND(P28="credible",Q28="Y")),"higher",IF(Q28="Y","lower",IF(AND(Q28="N",OR(O28="Y",P28="credible")),"lower","much lower"))) -> much lower | U28: =IF(AND(O28="Y",AND(P28="credible",R28="Y")),"higher",IF(R28="Y","lower",IF(AND(R28="N",OR(O28="Y",P28="credible")),"lower","much lower"))) -> much lower | V28: =IF(AND(O28="Y",AND(P28="credible",S28="Y")),"higher",IF(S28="Y","lower",IF(AND(S28="N",OR(O28="Y",P28="credible")),"lower","much lower"))) -> much lower | W28: See 'CAT_NZ_Nov22' sheet | Y28: https://newclimate.org/resources/publications/emissions-scenarios-for-major-economies-2022-update | AE28: N | AF28: =IF(I28<0.9*J28,"Y","N") -> N
A29: Chile | B29: CHL | C29: MtCO2e/yr | D29: 2018 | E29: 109 | F29: 90 | G29: 2030 | H29: 81 | I29: 134 | J29: 55.33 | K29: =J29/49758.23 -> 0.0011119769 | L29: 2050 | M29: 0 | N29: GHG | O29: Y | P29: {=index(CAT_NZ_Nov22!$Q$16:$Q$54,match($B29,CAT_NZ_Nov22!$C$16:$C$53,0))} -> Credible | Q29: n | R29: n | S29: n | T29: =IF(AND(O29="Y",AND(P29="credible",Q29="Y")),"higher",IF(Q29="Y","lower",IF(AND(Q29="N",OR(O29="Y",P29="credible")),"lower","much lower"))) -> lower | U29: =IF(AND(O29="Y",AND(P29="credible",R29="Y")),"higher",IF(R29="Y","lower",IF(AND(R29="N",OR(O29="Y",P29="credible")),"lower","much lower"))) -> lower | V29: =IF(AND(O29="Y",AND(P29="credible",S29="Y")),"higher",IF(S29="Y","lower",IF(AND(S29="N",OR(O29="Y",P29="credible")),"lower","much lower"))) -> lower | W29: See 'CAT_NZ_Nov22' sheet | X29: Keramidas et al. (2021) | Y29: http://doi.org/10.2760/410610 | AE29: Y | AF29: =IF(I29<0.9*J29,"Y","N") -> N
A30: Egypt | B30: EGY | C30: MtCO2e/yr | D30: 2019 | E30: 353 | F30: 332 | G30: 2030 | H30: 515 | I30: 432 | J30: 351.96 | K30: =J30/49758.23 -> 0.0070734027 | L30: No NetZero target | M30: No NetZero target | N30: NOTARGET | O30: No NZT | P30: {=index(CAT_NZ_Nov22!$Q$16:$Q$54,match($B30,CAT_NZ_Nov22!$C$16:$C$53,0))} -> None | Q30: n | R30: n | S30: n | T30: =IF(AND(O30="Y",AND(P30="credible",Q30="Y")),"higher",IF(Q30="Y","lower",IF(AND(Q30="N",OR(O30="Y",P30="credible")),"lower","much lower"))) -> much lower | U30: =IF(AND(O30="Y",AND(P30="credible",R30="Y")),"higher",IF(R30="Y","lower",IF(AND(R30="N",OR(O30="Y",P30="credible")),"lower","much lower"))) -> much lower | V30: =IF(AND(O30="Y",AND(P30="credible",S30="Y")),"higher",IF(S30="Y","lower",IF(AND(S30="N",OR(O30="Y",P30="credible")),"lower","much lower"))) -> much lower | W30: See 'CAT_NZ_Nov22' sheet | Y30: https://newclimate.org/resources/publications/emissions-scenarios-for-major-economies-2022-update | AE30: N | AF30: =IF(I30<0.9*J30,"Y","N") -> N
A31: Ethiopia | B31: ETH | C31: MtCO2e/yr | D31: 2019 | E31: 179 | F31: 178 | G31: 2030 | H31: 347 | I31: 214 | J31: 183.37 | K31: =J31/49758.23 -> 0.0036852195 | L31: No NetZero target | M31: No NetZero target | N31: NOTARGET | O31: No NZT | P31: {=index(CAT_NZ_Nov22!$Q$16:$Q$54,match($B31,CAT_NZ_Nov22!$C$16:$C$53,0))} -> None | Q31: n | R31: n | S31: n | T31: =IF(AND(O31="Y",AND(P31="credible",Q31="Y")),"higher",IF(Q31="Y","lower",IF(AND(Q31="N",OR(O31="Y",P31="credible")),"lower","much lower"))) -> much lower | U31: =IF(AND(O31="Y",AND(P31="credible",R31="Y")),"higher",IF(R31="Y","lower",IF(AND(R31="N",OR(O31="Y",P31="credible")),"lower","much lower"))) -> much lower | V31: =IF(AND(O31="Y",AND(P31="credible",S31="Y")),"higher",IF(S31="Y","lower",IF(AND(S31="N",OR(O31="Y",P31="credible")),"lower","much lower"))) -> much lower | W31: See 'CAT_NZ_Nov22' sheet | Y31: https://newclimate.org/resources/publications/emissions-scenarios-for-major-economies-2022-update | AE31: N | AF31: =IF(I31<0.9*J31,"Y","N") -> N
A32: Iran | B32: IRN | C32: MtCO2e/yr | D32: 2019 | E32: 1038 | F32: 1078 | G32: 2030 | H32: 1959 | I32: 1189 | J32: 893.78 | K32: =J32/49758.23 -> 0.017962456 | L32: No NetZero target | M32: No NetZero target | N32: NOTARGET | O32: No NZT | P32: {=index(CAT_NZ_Nov22!$Q$16:$Q$54,match($B32,CAT_NZ_Nov22!$C$16:$C$53,0))} -> None | Q32: n | R32: n | S32: n | T32: =IF(AND(O32="Y",AND(P32="credible",Q32="Y")),"higher",IF(Q32="Y","lower",IF(AND(Q32="N",OR(O32="Y",P32="credible")),"lower","much lower"))) -> much lower | U32: =IF(AND(O32="Y",AND(P32="credible",R32="Y")),"higher",IF(R32="Y","lower",IF(AND(R32="N",OR(O32="Y",P32="credible")),"lower","much lower"))) -> much lower | V32: =IF(AND(O32="Y",AND(P32="credible",S32="Y")),"higher",IF(S32="Y","lower",IF(AND(S32="N",OR(O32="Y",P32="credible")),"lower","much lower"))) -> much lower | W32: See 'CAT_NZ_Nov22' sheet | Y32: https://newclimate.org/resources/publications/emissions-scenarios-for-major-economies-2022-update | AE32: N | AF32: =IF(I32<0.9*J32,"Y","N") -> N
A33: Morocco | B33: MAR | C33: MtCO2e/yr | D33: 2019 | E33: 92 | F33: 85 | G33: 2030 | H33: 116 | I33: 104 | J33: 91.15 | K33: =J33/49758.23 -> 0.0018318578 | L33: 2100 | M33: 0 | N33: GHG | O33: N | P33: {=index(CAT_NZ_Nov22!$Q$16:$Q$54,match($B33,CAT_NZ_Nov22!$C$16:$C$53,0))} -> None | Q33: n | R33: n | S33: n | T33: =IF(AND(O33="Y",AND(P33="credible",Q33="Y")),"higher",IF(Q33="Y","lower",IF(AND(Q33="N",OR(O33="Y",P33="credible")),"lower","much lower"))) -> much lower | U33: =IF(AND(O33="Y",AND(P33="credible",R33="Y")),"higher",IF(R33="Y","lower",IF(AND(R33="N",OR(O33="Y",P33="credible")),"lower","much lower"))) -> much lower | V33: =IF(AND(O33="Y",AND(P33="credible",S33="Y")),"higher",IF(S33="Y","lower",IF(AND(S33="N",OR(O33="Y",P33="credible")),"lower","much lower"))) -> much lower | W33: See 'CAT_NZ_Nov22' sheet | Y33: https://newclimate.org/resources/publications/emissions-scenarios-for-major-economies-2022-update | AE33: N | AF33: =IF(I33<0.9*J33,"Y","N") -> N
A34: Israel | B34: ISR | C34: MtCO2e/yr | F34: 82.5 | G34: 2030 | H34: 65.6 | I34: 81.9 | J34: 87.26 | K34: =J34/49758.23 -> 0.0017536797 | L34: No NetZero target | M34: No NetZero target | N34: NOTARGET | O34: N | P34: None | Q34: n | R34: y | S34: n | T34: =IF(AND(O34="Y",AND(P34="credible",Q34="Y")),"higher",IF(Q34="Y","lower",IF(AND(Q34="N",OR(O34="Y",P34="credible")),"lower","much lower"))) -> much lower | U34: =IF(AND(O34="Y",AND(P34="credible",R34="Y")),"higher",IF(R34="Y","lower",IF(AND(R34="N",OR(O34="Y",P34="credible")),"lower","much lower"))) -> lower | V34: =IF(AND(O34="Y",AND(P34="credible",S34="Y")),"higher",IF(S34="Y","lower",IF(AND(S34="N",OR(O34="Y",P34="credible")),"lower","much lower"))) -> much lower | W34: As of November 2022, Israel has not published an official document (https://www.timesofisrael.com/israel-joins-us-canada-plan-for-net-zero-carbon-emissions-in-government-by-2050/). The official long-term target is an 85% reduction from 2015 levels by 2050 (https://www.gov.il/BlobFolder/reports/implementation-plan/en/climate_change_and_energy_efficiency_implementation-plan-en.pdf) | X34: Based on the average of high and low projections by Nascimento et al. (2021): https://newclimate.org/sites/default/files/2021/11/NewClimate_TrackingCurrentPolicies_Nov21.pdf | Y34: https://newclimate.org/sites/default/files/2021/11/NewClimate_TrackingCurrentPolicies_Nov21.pdf | AF34: =IF(I34<0.9*J34,"Y","N") -> N
A35: New Zealand | B35: NZL | C35: MtCO2e/yr | F35: 59 | G35: 2030 | H35: 33.4 | I35: 31.5 | J35: 72.59 | K35: =J35/49758.23 -> 0.0014588541 | L35: 2050 | M35: 0 | N35: CO2 | O35: Y | P35: {=index(CAT_NZ_Nov22!$Q$16:$Q$54,match($B35,CAT_NZ_Nov22!$C$16:$C$53,0))} -> Credible | Q35: y | R35: y | S35: y | T35: =IF(AND(O35="Y",AND(P35="credible",Q35="Y")),"higher",IF(Q35="Y","lower",IF(AND(Q35="N",OR(O35="Y",P35="credible")),"lower","much lower"))) -> higher | U35: =IF(AND(O35="Y",AND(P35="credible",R35="Y")),"higher",IF(R35="Y","lower",IF(AND(R35="N",OR(O35="Y",P35="credible")),"lower","much lower"))) -> higher | V35: =IF(AND(O35="Y",AND(P35="credible",S35="Y")),"higher",IF(S35="Y","lower",IF(AND(S35="N",OR(O35="Y",P35="credible")),"lower","much lower"))) -> higher | W35: See 'CAT_NZ_Nov22' sheet | X35: Keramidas et al. (2021) | Y35: http://doi.org/10.2760/410610 | AF35: =IF(I35<0.9*J35,"Y","N") -> Y
A36: Cambodia | B36: KHM | C36: MtCO2e/yr | F36: 80 | G36: 2030 | H36: 90.5 | I36: 100 | J36: 71.77 | K36: =J36/49758.23 -> 0.0014423745 | L36: 2050 | M36: 0 | N36: CO2 | O36: N | P36: Credible | Q36: n | R36: n | S36: n | T36: =IF(AND(O36="Y",AND(P36="credible",Q36="Y")),"higher",IF(Q36="Y","lower",IF(AND(Q36="N",OR(O36="Y",P36="credible")),"lower","much lower"))) -> lower | U36: =IF(AND(O36="Y",AND(P36="credible",R36="Y")),"higher",IF(R36="Y","lower",IF(AND(R36="N",OR(O36="Y",P36="credible")),"lower","much lower"))) -> lower | V36: =IF(AND(O36="Y",AND(P36="credible",S36="Y")),"higher",IF(S36="Y","lower",IF(AND(S36="N",OR(O36="Y",P36="credible")),"lower","much lower"))) -> lower | W36: Long-term strategy (https://unfccc.int/sites/default/files/resource/KHM_LTS_Dec2021.pdf) assessed by authors based on the Climate Action Tracker assessment framework. | X36: Based on the BAU scenario reported in the long-term strategy document (https://unfccc.int/sites/default/files/resource/KHM_LTS_Dec2021.pdf) | Y36: https://unfccc.int/sites/default/files/resource/KHM_LTS_Dec2021.pdf | AF36: =IF(I36<0.9*J36,"Y","N") -> N
A37: Singapore | B37: SGP | C37: MtCO2e/yr | D37: 2021 | E37: 57.9 | F37: 47 | G37: 2030 | H37: 60 | I37: 49 | J37: 67.26 | K37: =J37/49758.23 -> 0.0013517362 | L37: 2050 | M37: 0 | N37: GHG | O37: N | P37: {=index(CAT_NZ_Nov22!$Q$16:$Q$54,match($B37,CAT_NZ_Nov22!$C$16:$C$53,0))} -> Credible | Q37: n | R37: n | S37: n | T37: =IF(AND(O37="Y",AND(P37="credible",Q37="Y")),"higher",IF(Q37="Y","lower",IF(AND(Q37="N",OR(O37="Y",P37="credible")),"lower","much lower"))) -> lower | U37: =IF(AND(O37="Y",AND(P37="credible",R37="Y")),"higher",IF(R37="Y","lower",IF(AND(R37="N",OR(O37="Y",P37="credible")),"lower","much lower"))) -> lower | V37: =IF(AND(O37="Y",AND(P37="credible",S37="Y")),"higher",IF(S37="Y","lower",IF(AND(S37="N",OR(O37="Y",P37="credible")),"lower","much lower"))) -> lower | W37: See 'CAT_NZ_Nov22' sheet | X37: Based on the average of high and low projections by Nascimento et al. (2021): https://newclimate.org/sites/default/files/2021/11/NewClimate_TrackingCurrentPolicies_Nov21.pdf | Y37: https://newclimate.org/sites/default/files/2021/11/NewClimate_TrackingCurrentPolicies_Nov21.pdf | AF37: =IF(I37<0.9*J37,"Y","N") -> Y
A38: Nepal | B38: NPL | C38: MtCO2e/yr | F38: 44 | G38: 2030 | H38: 60 | I38: 59.4 | J38: 48.37 | K38: =J38/49758.23 -> 0.00097210049 | L38: 2045 | M38: 0 | N38: CO2 | O38: N | P38: Credible | Q38: n | R38: n | S38: n | T38: =IF(AND(O38="Y",AND(P38="credible",Q38="Y")),"higher",IF(Q38="Y","lower",IF(AND(Q38="N",OR(O38="Y",P38="credible")),"lower","much lower"))) -> lower | U38: =IF(AND(O38="Y",AND(P38="credible",R38="Y")),"higher",IF(R38="Y","lower",IF(AND(R38="N",OR(O38="Y",P38="credible")),"lower","much lower"))) -> lower | V38: =IF(AND(O38="Y",AND(P38="credible",S38="Y")),"higher",IF(S38="Y","lower",IF(AND(S38="N",OR(O38="Y",P38="credible")),"lower","much lower"))) -> lower | W38: Long-term strategy (https://unfccc.int/sites/default/files/resource/NepalLTLEDS.pdf) assessed by authors based on the Climate Action Tracker assessment framework. | X38: CAT Sept 2021 update. LULUCF emissions in 2020 and 2030 assumed to remain constant at the level of the last inventory data year (2011) due to the lack of information. Values in AR4 GWPs used without conversion to AR6 GWPs due to the uncertainty on the LULUCF emission levels. | Y38: https://climateactiontracker.org/countries/nepal/ | AF38: =IF(I38<0.9*J38,"Y","N") -> N
H40: EGR2022
H41: Nascimento 2022 - PBL NewClimate IIASA
...

Sheet CAT_NZ_Nov22
B7: Climate Action Tracker: | D7: Overview of Climate Action Tracker’s net zero target evaluations for G20 member countries (excluding France and Italy as both not separately analysed by the CAT) and selected other countries per key elements as of November 2022
B9: Date Published: | D9: 44875
B10: Climate Action Tracker Data: | D10: Do not redistribute without prior permission of the Climate Action Tracker team. Any reproduction of this data in graphical or numerical format must include credit to the Climate Action Tracker project.
D11: For further details on methodology, please see the Climate Action Tracker website:
D12: climateactiontracker.org/global/cat-net-zero-target-evaluations
B15: Country | C15: ISO | D15: Overall Rating | E15: Target year | F15: Emissions coverage | G15: International aviation and shipping | H15: Reductions or removals outside of own border | I15: Legal status | J15: Separate reduction & removal targets | K15: Review process | L15: Carbon dioxide removal | M15: Comprehensive planning | N15: Clarity on fairness of target | Q15: Comprehensive planning: score | U15: Underlying [government or government-endorsed] analysis identifies pathway and key measures for reaching net zero, with sector-specific detail | V15: Credible
B16: Chile | C16: CHL | D16: Acceptable | E16: 2050 | F16: All sectors and gases | G16: Excluded, or not specified | H16: Reaching net zero on own territory | I16: In law | J16: Yes | K16: Yes | L16: Transparent assumptions for domestic LULUCF and separately for domestic removals and storage | M16: Underlying [government or government-endorsed] analysis identifies pathway and key measures for reaching net zero, with sector-specific detail | N16: No reference to fairness / equity | Q16: =index($V$15:$V$18,match($M16,$U$15:$U$18, 0)) -> Credible | U16: Some information on anticipated pathway or measures for achieving net zero is available, but with limited detail | V16: Credible
B17: Colombia | C17: COL | D17: Acceptable | E17: 2050 | F17: All sectors and gases | G17: Excluded, or not specified | H17: Reaching net zero on own territory | I17: In law | J17: Yes | K17: Yes | L17: Transparent assumptions for domestic LULUCF or separately for domestic removals and storage | M17: Underlying [government or government-endorsed] analysis identifies pathway and key measures for reaching net zero, with sector-specific detail | N17: The government clearly explains why its net zero target is a fair contribution to the global goal of limiting warming to 1.5˚C above pre-industrial levels. For developed countries, this statement needs to include an explanation of how the government addresses the gap between its net zero target and what would be a fair target. | Q17: =index($V$15:$V$18,match($M17,$U$15:$U$18, 0)) -> Credible | U17: No pathway, measures or underlying analysis provided | V17: Weaker
B18: Costa Rica | C18: CRI | D18: Acceptable | E18: 2050 | F18: All sectors and gases | G18: Excluded, or not specified | H18: Reaching net zero on own territory | I18: Proposed Legislation or In Policy Document | J18: Yes | K18: Yes, but non-legally binding or in the process of establishing a review cycle | L18: Transparent assumptions for domestic LULUCF and separately for domestic removals and storage | M18: Underlying [government or government-endorsed] analysis identifies pathway and key measures for reaching net zero, with sector-specific detail | N18: No reference to fairness / equity | Q18: =index($V$15:$V$18,match($M18,$U$15:$U$18, 0)) -> Credible | U18: No information provided [only for targets announced or under discussion] | V18: None
B19: European Union | C19: EU27 | D19: Acceptable | E19: 2050 | F19: All sectors and gases | G19: Partially included | H19: Reaching net zero on own territory | I19: In law | J19: No or not specified | K19: Yes | L19: Transparent assumptions for domestic LULUCF and separately for domestic removals and storage | M19: Underlying [government or government-endorsed] analysis identifies pathway and key measures for reaching net zero, with sector-specific detail | N19: No reference to fairness / equity | Q19: =index($V$15:$V$18,match($M19,$U$15:$U$18, 0)) -> Credible
B20: United Kingdom | C20: GBR | D20: Acceptable | E20: 2050 | F20: All sectors and gases | G20: Included | H20: Reliance on offsetting - or leaving the option open to offset - own emissions with international offset credits (emission reductions or removals) not fulfilling the criteria above | I20: In law | J20: No or not specified | K20: Yes | L20: Transparent assumptions for domestic LULUCF and separately for domestic removals and storage | M20: Some information on anticipated pathway or measures for achieving net zero is available, but with limited detail | N20: Statement explaining why fair share in advisory (but not government) document | Q20: =index($V$15:$V$18,match($M20,$U$15:$U$18, 0)) -> Credible
B21: Viet Nam | C21: VNM | D21: Acceptable | E21: 2050 | F21: All sectors and gases | G21: Excluded, or not specified | H21: Reliance on offsetting - or leaving the option open to offset - own emissions with international offset credits (emission reductions or removals) not fulfilling the criteria above | I21: In law | J21: Yes | K21: Yes | L21: Transparent assumptions for domestic LULUCF or separately for domestic removals and storage | M21: Underlying [government or government-endorsed] analysis identifies pathway and key measures for reaching net zero, with sector-specific detail | N21: No reference to fairness / equity | Q21: =index($V$15:$V$18,match($M21,$U$15:$U$18, 0)) -> Credible
B22: Canada | C22: CAN | D22: Average | E22: 2050 | F22: All sectors and gases | G22: Excluded, or not specified | H22: Reaching net zero on own territory | I22: In law | J22: No or not specified | K22: Yes | L22: Non-transparent assumptions for domestic LULUCF and domestic removals and storage | M22: Some information on anticipated pathway or measures for achieving net zero is available, but with limited detail | N22: No reference to fairness / equity | Q22: =index($V$15:$V$18,match($M22,$U$15:$U$18, 0)) -> Credible
B23: Germany | C23: DEU | D23: Average | E23: 2045 | F23: All sectors and gases | G23: Excluded, or not specified | H23: Reliance on offsetting - or leaving the option open to offset - own emissions with international offset credits (emission reductions or removals) not fulfilling the criteria above | I23: In law | J23: Yes | K23: Yes | L23: Non-transparent assumptions for domestic LULUCF and domestic removals and storage | M23: Some information on anticipated pathway or measures for achieving net zero is available, but with limited detail | N23: Statement explaining why fair share in advisory (but not government) document | Q23: =index($V$15:$V$18,match($M23,$U$15:$U$18, 0)) -> Credible
B24: Nigeria | C24: NGA | D24: Average | E24: 2050–2070 | F24: Partial coverage (>95% of emissions excl. bunkers) | G24: Excluded, or not specified | H24: Reaching net zero on own territory | I24: Proposed Legislation or In Policy Document | J24: No or not specified | K24: Yes | L24: Non-transparent assumptions for domestic LULUCF and domestic removals and storage | M24: Some information on anticipated pathway or measures for achieving net zero is available, but with limited detail | N24: No reference to fairness / equity | Q24: =index($V$15:$V$18,match($M24,$U$15:$U$18, 0)) -> Credible
B25: South Korea | C25: KOR | D25: Average | E25: 2050 | F25: Incomplete coverage (<95% of emissions excl. bunkers), or not specified | G25: Excluded, or not specified | H25: Reaching net zero on own territory | I25: In law | J25: Yes | K25: Yes, but non-legally binding or in the process of establishing a review cycle | L25: Transparent assumptions for domestic LULUCF and separately for domestic removals and storage | M25: Some information on anticipated pathway or measures for achieving net zero is available, but with limited detail | N25: No reference to fairness / equity | Q25: =index($V$15:$V$18,match($M25,$U$15:$U$18, 0)) -> Credible
B26: Switzerland | C26: CHE | D26: Average | E26: 2050 | F26: All sectors and gases | G26: Included | H26: Limited reliance on removals outside of own territory (in the order of x% of current national emissions) from technological removal projects with a high certainty of permanence for more than 200 years and which do not negatively impact biodiversity (e.g. direct air capture with mineralisation). | I26: Proposed Legislation or In Policy Document | J26: Yes | K26: No | L26: Non-transparent assumptions for domestic LULUCF and domestic removals and storage | M26: Some information on anticipated pathway or measures for achieving net zero is available, but with limited detail | N26: No reference to fairness / equity | Q26: =index($V$15:$V$18,match($M26,$U$15:$U$18, 0)) -> Credible
B27: Thailand | C27: THA | D27: Average | E27: 2065 | F27: Partial coverage (>95% of emissions excl. bunkers) | G27: Excluded, or not specified | H27: Reaching net zero on own territory | I27: Proposed Legislation or In Policy Document | J27: Yes | K27: Yes, but non-legally binding or in the process of establishing a review cycle | L27: Transparent assumptions for domestic LULUCF and separately for domestic removals and storage | M27: Underlying [government or government-endorsed] analysis identifies pathway and key measures for reaching net zero, with sector-specific detail | N27: No reference to fairness / equity | Q27: =index($V$15:$V$18,match($M27,$U$15:$U$18, 0)) -> Credible
B28: United States | C28: USA | D28: Average | E28: 2050 | F28: All sectors and gases | G28: Excluded, or not specified | H28: Reliance on offsetting - or leaving the option open to offset - own emissions with international offset credits (emission reductions or removals) not fulfilling the criteria above | I28: Proposed Legislation or In Policy Document | J28: No or not specified | K28: Yes, but non-legally binding or in the process of establishing a review cycle | L28: Transparent assumptions for domestic LULUCF and separately for domestic removals and storage | M28: Some information on anticipated pathway or measures for achieving net zero is available, but with limited detail | N28: No reference to fairness / equity | Q28: =index($V$15:$V$18,match($M28,$U$15:$U$18, 0)) -> Credible
B29: Argentina | C29: ARG | D29: Poor | E29: 2050 | F29: All sectors and gases | G29: Excluded, or not specified | H29: Reliance on offsetting - or leaving the option open to offset - own emissions with international offset credits (emission reductions or removals) not fulfilling the criteria above | I29: Proposed Legislation or In Policy Document | J29: No or not specified | K29: No | L29: Non-transparent assumptions for domestic LULUCF and domestic removals and storage | M29: No pathway, measures or underlying analysis provided | N29: The government clearly explains why its net zero target is a fair contribution to the global goal of limiting warming to 1.5˚C above pre-industrial levels. For developed countries, this statement needs to include an explanation of how the government addresses the gap between its net zero target and what would be a fair target. | Q29: =index($V$15:$V$18,match($M29,$U$15:$U$18, 0)) -> Weaker
B30: Australia | C30: AUS | D30: Poor | E30: 2050 | F30: All sectors and gases | G30: Excluded, or not specified | H30: Reliance on offsetting - or leaving the option open to offset - own emissions with international offset credits (emission reductions or removals) not fulfilling the criteria above | I30: Proposed Legislation or In Policy Document | J30: No or not specified | K30: Yes, but non-legally binding or in the process of establishing a review cycle | L30: Non-transparent assumptions for domestic LULUCF and domestic removals and storage | M30: No pathway, measures or underlying analysis provided | N30: No reference to fairness / equity | Q30: =index($V$15:$V$18,match($M30,$U$15:$U$18, 0)) -> Weaker
B31: China | C31: CHN | D31: Poor | E31: 2060 | F31: Incomplete coverage (<95% of emissions excl. bunkers), or not specified | G31: Excluded, or not specified | H31: Reliance on offsetting - or leaving the option open to offset - own emissions with international offset credits (emission reductions or removals) not fulfilling the criteria above | I31: Proposed Legislation or In Policy Document | J31: No or not specified | K31: Yes, but non-legally binding or in the process of establishing a review cycle | L31: Non-transparent assumptions for domestic LULUCF and domestic removals and storage | M31: Some information on anticipated pathway or measures for achieving net zero is available, but with limited detail | N31: Statement explaining why fair share in advisory (but not government) document | Q31: =index($V$15:$V$18,match($M31,$U$15:$U$18, 0)) -> Credible
B32: Japan | C32: JPN | D32: Poor | E32: 2050 | F32: All sectors and gases | G32: Excluded, or not specified | H32: Reliance on offsetting - or leaving the option open to offset - own emissions with international offset credits (emission reductions or removals) not fulfilling the criteria above | I32: In law | J32: No or not specified | K32: Yes, but non-legally binding or in the process of establishing a review cycle | L32: Non-transparent assumptions for domestic LULUCF and domestic removals and storage | M32: Some information on anticipated pathway or measures for achieving net zero is available, but with limited detail | N32: No reference to fairness / equity | Q32: =index($V$15:$V$18,match($M32,$U$15:$U$18, 0)) -> Credible
B33: Kazakhstan | C33: KAZ | D33: Poor | E33: 2060 | F33: All sectors and gases | G33: Excluded, or not specified | H33: Reliance on offsetting - or leaving the option open to offset - own emissions with international offset credits (emission reductions or removals) not fulfilling the criteria above | I33: Proposed Legislation or In Policy Document | J33: No or not specified | K33: No | L33: Transparent assumptions for domestic LULUCF or separately for domestic removals and storage | M33: Underlying [government or government-endorsed] analysis identifies pathway and key measures for reaching net zero, with sector-specific detail | N33: No reference to fairness / equity | Q33: =index($V$15:$V$18,match($M33,$U$15:$U$18, 0)) -> Credible
B34: New Zealand | C34: NZL | D34: Poor | E34: 2050 | F34: Incomplete coverage (<95% of emissions excl. bunkers), or not specified | G34: Excluded, or not specified | H34: Reliance on offsetting - or leaving the option open to offset - own emissions with international offset credits (emission reductions or removals) not fulfilling the criteria above | I34: In law | J34: No or not specified | K34: Yes | L34: Non-transparent assumptions for domestic LULUCF and domestic removals and storage | M34: Some information on anticipated pathway or measures for achieving net zero is available, but with limited detail | N34: No reference to fairness / equity | Q34: =index($V$15:$V$18,match($M34,$U$15:$U$18, 0)) -> Credible
B35: Russian Federation | C35: RUS | D35: Poor | E35: 2060 | F35: All sectors and gases | G35: Excluded, or not specified | H35: Reliance on offsetting - or leaving the option open to offset - own emissions with international offset credits (emission reductions or removals) not fulfilling the criteria above | I35: In law | J35: No or not specified | K35: Yes, but non-legally binding or in the process of establishing a review cycle | L35: Non-transparent assumptions for domestic LULUCF and domestic removals and storage | M35: Some information on anticipated pathway or measures for achieving net zero is available, but with limited detail | N35: No reference to fairness / equity | Q35: =index($V$15:$V$18,match($M35,$U$15:$U$18, 0)) -> Credible
B36: Singapore | C36: SGP | D36: Poor | E36: 2050 | F36: All sectors and gases | G36: Excluded, or not specified | H36: Reliance on offsetting - or leaving the option open to offset - own emissions with international offset credits (emission reductions or removals) not fulfilling the criteria above | I36: Proposed Legislation or In Policy Document | J36: No or not specified | K36: Yes, but non-legally binding or in the process of establishing a review cycle | L36: Non-transparent assumptions for domestic LULUCF and domestic removals and storage | M36: Some information on anticipated pathway or measures for achieving net zero is available, but with limited detail | N36: No reference to fairness / equity | Q36: =index($V$15:$V$18,match($M36,$U$15:$U$18, 0)) -> Credible
... B39: Brazil | C39: BRA | D39: Information incomplete | E39: 2050 | F39: No information provided [only for targets announced or under discussion] | G39: No information provided [only for targets announced or under discussion] | H39: No information provided [only for targets announced or under discussion] | I39: Proposed Legislation or In Policy Document | J39: No information provided [only for targets announced or under discussion] | K39: No information provided [only for targets announced or under discussion] | L39: No information provided [only for targets announced or under discussion] | M39: No information provided [only for targets announced or under discussion] | N39: No information provided [only for targets announced or under discussion] | Q39: =index($V$15:$V$18,match($M39,$U$15:$U$18, 0)) -> None
B40: Ethiopia | C40: ETH | D40: Information incomplete | E40: Not defined | F40: No information provided [only for targets announced or under discussion] | G40: No information provided [only for targets announced or under discussion] | H40: No information provided [only for targets announced or under discussion] | I40: Proposed Legislation or In Policy Document | J40: No information provided [only for targets announced or under discussion] | K40: No information provided [only for targets announced or under discussion] | L40: No information provided [only for targets announced or under discussion] | M40: No information provided [only for targets announced or under discussion] | N40: No information provided [only for targets announced or under discussion] | Q40: =index($V$15:$V$18,match($M40,$U$15:$U$18, 0)) -> None
B41: India | C41: IND | D41: Information incomplete | E41: 2070 | F41: No information provided [only for targets announced or under discussion] | G41: No information provided [only for targets announced or under discussion] | H41: No information provided [only for targets announced or under discussion] | I41: Target announced by Head of Government or equivalent | J41: No information provided [only for targets announced or under discussion] | K41: No information provided [only for targets announced or under discussion] | L41: No information provided [only for targets announced or under discussion] | M41: No information provided [only for targets announced or under discussion] | N41: No information provided [only for targets announced or under discussion] | Q41: =index($V$15:$V$18,match($M41,$U$15:$U$18, 0)) -> None
B42: Indonesia | C42: IDN | D42: Information incomplete | E42: 2060 | F42: No information provided [only for targets announced or under discussion] | G42: No information provided [only for targets announced or under discussion] | H42: No information provided [only for targets announced or under discussion] | I42: Proposed Legislation or In Policy Document | J42: No information provided [only for targets announced or under discussion] | K42: No information provided [only for targets announced or under discussion] | L42: No information provided [only for targets announced or under discussion] | M42: No information provided [only for targets announced or under discussion] | N42: No information provided [only for targets announced or under discussion] | Q42: =index($V$15:$V$18,match($M42,$U$15:$U$18, 0)) -> None
B43: Peru | C43: PER | D43: Information incomplete | E43: 2050 | F43: No information provided [only for targets announced or under discussion] | G43: No information provided [only for targets announced or under discussion] | H43: No information provided [only for targets announced or under discussion] | I43: Proposed Legislation or In Policy Document | J43: No information provided [only for targets announced or under discussion] | K43: No information provided [only for targets announced or under discussion] | L43: No information provided [only for targets announced or under discussion] | M43: No information provided [only for targets announced or under discussion] | N43: No information provided [only for targets announced or under discussion] | Q43: =index($V$15:$V$18,match($M43,$U$15:$U$18, 0)) -> None
B44: Saudi Arabia | C44: SAU | D44: Information incomplete | E44: 2060 | F44: Incomplete coverage (<95% of emissions excl. bunkers), or not specified | G44: No information provided [only for targets announced or under discussion] | H44: No information provided [only for targets announced or under discussion] | I44: Target announced by Head of Government or equivalent | J44: No information provided [only for targets announced or under discussion] | K44: No information provided [only for targets announced or under discussion] | L44: No information provided [only for targets announced or under discussion] | M44: No pathway, measures or underlying analysis provided | N44: No information provided [only for targets announced or under discussion] | Q44: =index($V$15:$V$18,match($M44,$U$15:$U$18, 0)) -> Weaker
B45: South Africa | C45: ZAF | D45: Information incomplete | E45: 2050 | F45: No information provided [only for targets announced or under discussion] | G45: No information provided [only for targets announced or under discussion] | H45: No information provided [only for targets announced or under discussion] | I45: Proposed Legislation or In Policy Document | J45: No information provided [only for targets announced or under discussion] | K45: No information provided [only for targets announced or under discussion] | L45: No information provided [only for targets announced or under discussion] | M45: No information provided [only for targets announced or under discussion] | N45: No information provided [only for targets announced or under discussion] | Q45: =index($V$15:$V$18,match($M45,$U$15:$U$18, 0)) -> None
B46: United Arab Emirates | C46: ARE | D46: Information incomplete | E46: 2050 | F46: Incomplete coverage (<95% of emissions excl. bunkers), or not specified | G46: No information provided [only for targets announced or under discussion] | H46: No information provided [only for targets announced or under discussion] | I46: Target announced by Head of Government or equivalent | J46: No information provided [only for targets announced or under discussion] | K46: No information provided [only for targets announced or under discussion] | L46: No information provided [only for targets announced or under discussion] | M46: No information provided [only for targets announced or under discussion] | N46: No information provided [only for targets announced or under discussion] | Q46: =index($V$15:$V$18,match($M46,$U$15:$U$18, 0)) -> None
B47: Egypt | C47: EGY | D47: No target | Q47: None | R47: Manually coded (no target)
B48: Iran | C48: IRN | D48: No target | Q48: None | R48: Manually coded (no target)
