Workbook

Sheet disposal
A1: Bitkom e.V. 2020
A2: Bundesbürger
A3: 0.64 | B3: =A2&" haben Smartphone entsorgt oder verkauft" -> Bundesbürger haben Smartphone entsorgt oder verkauft
A4: 0.21 | B4: =A2&" heben Geräte ausnahmslos auf" -> Bundesbürger heben Geräte ausnahmslos auf
A5: =1-A3-A4 -> 0.15 | B5: =A2&" benutzen noch oder haben keines" -> Bundesbürger benutzen noch oder haben keines
A7: ehemalige Smartphone-Besitzer
A8: =A3/(A3+A4) -> 0.75294118 | B8: =A7&" haben Smartphone entsorgt oder verkauft" -> ehemalige Smartphone-Besitzer haben Smartphone entsorgt oder verkauft | I8: min | J8: max
A9: =A4/(A3+A4) -> 0.24705882 | B9: =A7&" heben Geräte ausnahmslos auf" -> ehemalige Smartphone-Besitzer heben Geräte ausnahmslos auf | H9: lifetime = replacement cycle | I9: 1.75 | J9: 2.8 | K9: a
A11: Smartphone-Entsorger
A12: 0.5 | B12: =A11&" verkauften an Privatperson" -> Smartphone-Entsorger verkauften an Privatperson
A13: 0.09 | B13: =A11&" verkauften an professionellen Händler" -> Smartphone-Entsorger verkauften an professionellen Händler
A15: 0.41 | B15: =A11&" brachten zur Sammelstelle für Elektromüll" -> Smartphone-Entsorger brachten zur Sammelstelle für Elektromüll
A16: 0.17 | B16: =A11&" brachten zum Hersteller oder Händler" -> Smartphone-Entsorger brachten zum Hersteller oder Händler
A18: 0.25 | B18: =A11&" haben schon einmal Altgerät verschenkt" -> Smartphone-Entsorger haben schon einmal Altgerät verschenkt
A19: 0.01 | B19: =A11&" im Hausmüll entsorgt" -> Smartphone-Entsorger im Hausmüll entsorgt
A21: Watson et al. 2017
A22: 0.4 | B22: existing phone not functioning
A23: 0.47 | B23: want latest phone model
A24: 0.13 | B24: want latest software
A29: Benton et al., 2015

Sheet dmg_causes
A1: https://www.statista.com/statistics/959492/us-top-common-smartphone-damage-cause/
A2: https://www.squaretrade.com/press/Mobile-myths-cost-consumers-dearly-Americans-report-spending-3.4-billion-replacing-millions
B3: 0.66 | C3: of smartphone owners damaged their phones in the past year
A4: dropped on the ground | B4: 0.74 | C4: impact | D4: impact | E4: =SUM(B4:B5,B7,B9) -> 1.83 | F4: =E4/($E$4+$E$5) -> 0.73790323
A5: falling out of a pocket | B5: 0.49 | C5: impact | D5: water | E5: =SUM(B6,B8) -> 0.65 | F5: =E5/($E$4+$E$5) -> 0.26209677
A6: dropped in water | B6: 0.39 | C6: water
A7: knocked off a table or counter | B7: 0.38 | C7: impact
A8: dropped in the toilet | B8: 0.26 | C8: water
A9: falling out of a bag | B9: 0.22 | C9: impact

Sheet defects
A1: https://www.statista.com/statistics/959492/us-top-common-smartphone-damage-cause/
A2: https://www.squaretrade.com/press/Mobile-myths-cost-consumers-dearly-Americans-report-spending-3.4-billion-replacing-millions
B3: 0.66 | C3: of smartphone owners damaged their phones in the past year
A4: dropped on the ground | B4: 0.74 | C4: impact | D4: impact | E4: =SUM(B4:B5,B7,B9) -> 1.83 | F4: =E4/($E$4+$E$5) -> 0.73790323
A5: falling out of a pocket | B5: 0.49 | C5: impact | D5: ingress | E5: =SUM(B6,B8) -> 0.65 | F5: =E5/($E$4+$E$5) -> 0.26209677
A6: dropped in water | B6: 0.39 | C6: ingress
A7: knocked off a table or counter | B7: 0.38 | C7: impact
A8: dropped in the toilet | B8: 0.26 | C8: ingress
A9: falling out of a bag | B9: 0.22 | C9: impact
A11: (Agrawal, 2017) | B11: mix | C11: max | D11: average
A12: broken screen | B12: 0.5 | C12: 0.55 | D12: =AVERAGE(B12:C12) -> 0.525 | E12: impact | F12: display glass | G12: impact | H12: =D12+D14+D17 -> 0.65
A13: water-caused damage | B13: 0.15 | C13: 0.2 | D13: =AVERAGE(B13:C13) -> 0.175 | E13: ingress | F13: random | G13: ingress | H13: =D13 -> 0.175
A14: charging connector | B14: 0.05 | C14: 0.1 | D14: =AVERAGE(B14:C14) -> 0.075 | E14: impact/wear | F14: connector | G14: wear | H14: =D14+D17 -> 0.125
A15: phone locked | B15: 0.05 | C15: 0.1 | D15: =AVERAGE(B15:C15) -> 0.075
A16: connectivity | B16: 0.07 | C16: 0.07 | D16: =AVERAGE(B16:C16) -> 0.07
A17: audio | B17: 0.05 | C17: 0.05 | D17: =AVERAGE(B17:C17) -> 0.05 | E17: impact/ingress/wear | F17: audio
A18: phone crush | B18: 0.01 | C18: 0.05 | D18: =AVERAGE(B18:C18) -> 0.03 | E18: impact
A19: battery not mentioned
A21: https://www.statista.com/statistics/959513/us-common-smartphone-damages/
A22: https://www.squaretrade.com/press/Mobile-myths-cost-consumers-dearly-Americans-report-spending-3.4-billion-replacing-millions
A23: 5761
A24: cracked screen | B24: 0.29 | C24: impact | D24: display | E24: display glass | F24: impact | G24: =SUM(B24,B27:B28) -> 0.61 | H24: =G24/SUM($G$24:$G$26) -> 0.33888889 | I24: display | J24: =SUM(B24:B25,B27) -> 0.72 | K24: =J24/SUM($J$24:$J$26) -> 0.65454545 | L24: display glass | M24: =SUM(B24:B25) -> 0.56 | N24: =M24/SUM($M$24:$M$27) -> 0.50909091
A25: scratched screen | B25: 0.27 | C25: wear | D25: display | E25: display glass | F25: ingress | G25: =SUM(B26:B27) -> 0.38 | H25: =G25/SUM($G$24:$G$26) -> 0.21111111 | I25: battery | J25: =B26 -> 0.22 | K25: =J25/SUM($J$24:$J$26) -> 0.2 | L25: display unit | M25: =B27 -> 0.16 | N25: =M25/SUM($M$24:$M$27) -> 0.14545455
A26: nonworking batteries | B26: 0.22 | C26: impact/ingress/wear | D26: battery | E26: battery | F26: wear | G26: =SUM(B25:B28) -> 0.81 | H26: =G26/SUM($G$24:$G$26) -> 0.45 | I26: housing | J26: =B28 -> 0.16 | K26: =J26/SUM($J$24:$J$26) -> 0.14545455 | L26: battery | M26: =B26 -> 0.22 | N26: =M26/SUM($M$24:$M$27) -> 0.2
A27: touchscreen issues | B27: 0.16 | C27: impact/ingress/wear | D27: display | E27: display unit | L27: housing | M27: =B28 -> 0.16 | N27: =M27/SUM($M$24:$M$27) -> 0.14545455
A28: chipped corners/side | B28: 0.16 | C28: impact/wear | D28: housing | E28: housing
A30: clickrepair 2019
A31: Defects | B31: Share | C31: at impact | D31: from wear | J31: impact | K31: ingress | L31: wear
A32: Display | B32: 0.674 | C32: 0.774 | D32: 0.603 | I32: (Statista, 2018) | J32: =F4 -> 0.73790323 | K32: =F5 -> 0.26209677 | W32: 0
A33: Casing | B33: 0.5 | C33: 0.427 | D33: 0.731 | I33: =A11 -> (Agrawal, 2017) | J33: =H12 -> 0.65 | K33: =H13 -> 0.175 | L33: =H14 -> 0.125 | W33: 0.05 | X33: 50
A34: Battery | B34: 0.339 | C34: 0.067 | I34: (Agrawal, 2017), impact & ingress | J34: =J33/($J$33+$K$33) -> 0.78787879 | K34: =K33/($J$33+$K$33) -> 0.21212121 | W34: 0.1 | X34: 15
A35: Connectors | B35: 0.161 | C35: 0.054 | D35: 0.138 | I35: (Statista, 2017) | J35: =H24 -> 0.33888889 | K35: =H25 -> 0.21111111 | L35: =H26 -> 0.45 | W35: 0.15 | X35: 9
A36: Camera | B36: 0.079 | C36: 0.093 | I36: (Statista, 2017), impact & ingress | J36: =J35/($J$35+$K$35) -> 0.61616162 | K36: =K35/($J$35+$K$35) -> 0.38383838 | W36: 0.2 | X36: 7
I37: average impact & ingress; wear | J37: =AVERAGE(J36,J32,J34) -> 0.71398121 | K37: =AVERAGE(K36,K32,K34) -> 0.28601879 | L37: =AVERAGE(L33,L35) -> 0.2875 | W37: 0.25 | X37: 6
I38: defect frequency | J38: =J37/SUM($J$37:$L$37) -> 0.55454851 | K38: =K37/SUM($J$37:$L$37) -> 0.22215052 | L38: =L37/SUM($J$37:$L$37) -> 0.22330097
A39: Handyreparaturvergleich 03/19 | W39: 0.3 | X39: 5
A40: Repair requests | B40: iPhone6 | C40: iPhoneX | W40: 0.35 | X40: 4.5
A41: Display | B41: 0.485 | C41: 0.38 | F41: Display | G41: Back cover | H41: Display glass/ Touchscreen | I41: LCD Display | J41: Camera | K41: Buttons | L41: Ports/connectors | M41: Battery | N41: Audio | O41: Others | W41: 0.4 | X41: 4
A42: Back cover | B42: 0.009 | C42: 0.357 | E42: =A11 -> (Agrawal, 2017) | H42: =D12 -> 0.525 | L42: =D14 -> 0.075 | N42: =D17 -> 0.05 | W42: 0.45 | X42: 3.5
A43: Display glass / Touchscreen | B43: 0.096 | C43: 0.12 | E43: =A21 -> https://www.statista.com/statistics/959513/us-common-smartphone-damages/ | G43: =N27 -> 0.14545455 | H43: =N24 -> 0.50909091 | I43: =N25 -> 0.14545455 | M43: =N26 -> 0.2 | W43: 0.5 | X43: 3
...

Sheet lifetime
C1: average
B2: YouGov | C2: 45.8 | D2: =ROUND(C2,0) -> 46
B3: Ipsos | C3: 38.4 | D3: =ROUND(C3,0) -> 38
B4: Ng | C4: =AVERAGE(20.2, 26.2) -> 23.2 | D4: =ROUND(C4,0) -> 23
B5: Wieser | C5: 32.4 | D5: =ROUND(C5,0) -> 32
B6: Counterpoint | C6: 21 | D6: =ROUND(C6,0) -> 21
C7: =AVERAGE(C2:C6) -> 32.16 | D7: =ROUND(C7,0) -> 32
B10: YouGov Research, 2020
B11: On average, how long do you tend to own the following devices before buying a new one?
B12: less than 1 year | C12: 0.01 | D12: 0.02
B13: 1-2 years | C13: 0.28 | D13: 0.39
B14: 3-4 years | C14: 0.41 | D14: 0.36
B15: 5-6 years | C15: 0.15 | D15: 0.23
B16: 7-8 years | C16: 0.03
B17: 9-10 years | C17: 0.01
B18: more than 10 years | C18: 0.02
B20: Ipsos, Trinomics, Fraunhofer FOKUS, Economisti Associati 2019
B22: In the past 5 years, how often have you acquired a new mobile phone for personal use?
B23: less often than every five years | C23: 0.14
B24: every five years | C24: 0.09
B25: every four years | C25: 0.11
B26: every three years | C26: 0.25
B27: every two years | C27: 0.33
B28: every year | C28: 0.06
B29: more often than every year | C29: 0.02
B31: (Kantar Worldpanel 2017) and (Ng 2019a)
B32: active use in months | C32: USA | D32: China | E32: EU5 | F32: France | G32: Germany | H32: Great Britain | I32: Italy | J32: Spain
B33: 2013 | C33: 20.5 | D33: 18.6 | E33: 18.3
B34: 2014 | C34: 20.9 | D34: 21.8 | E34: 19.5
B35: 2015 | C35: 21.6 | D35: 19.5 | E35: 20.4
B36: 2016 | C36: 22.7 | D36: 20.2 | E36: 23.4 | F36: min | G36: =MIN(C36:E38) -> 20.2
B37: 2017 | C37: 23.6 | D37: 21 | E37: 24.9 | F37: max | G37: =MAX(C36:E38) -> 26.2
B38: 2018 | C38: 24.7 | D38: 21 | E38: 26.2
B41: Stiftung Warentest/Prakash (2015)/Cordella (2020)
B42: < 2 years | C42: 0.42
B43: 3 years | C43: 0.16
B44: 4 years | C44: 0.12
B45: > 5 years | C45: 0.2
B47: (Ametsreiter 2016, 2017, 2019, 2020; Haas 2018)
B48: When was the currently used smartphone bought | C48: 2016 | D48: 2017 | E48: 2018 | F48: 2019 | G48: 2020
...

Sheet lifetime_months
A1: (YouGov, 2020) | B1: (EC et al., 2019) | C1: (Prakash et al., 2015)
A2: 0.01 | B2: 0.02
A3: 0.01 | B3: 0.02
A4: 0.01 | B4: 0.02
A5: 0.01 | B5: 0.02
A6: 0.01 | B6: 0.02
A7: 0.01 | B7: 0.02
A8: 0.01 | B8: 0.02
A9: 0.01 | B9: 0.02
A10: 0.01 | B10: 0.02
A11: 0.01 | B11: 0.02
A12: 0.01 | B12: 0.02
A13: 0.01 | B13: 0.02
... A25: 0.28 | B25: 0.06
A26: 0.28 | B26: 0.33 | C26: 0.42
A27: 0.28 | B27: 0.33 | C27: 0.42
A28: 0.28 | B28: 0.33 | C28: 0.42
A29: 0.28 | B29: 0.33 | C29: 0.42
A30: 0.28 | B30: 0.33 | C30: 0.42
A31: 0.28 | B31: 0.33 | C31: 0.42
A32: 0.28 | B32: 0.33 | C32: 0.42
A33: 0.28 | B33: 0.33 | C33: 0.42
A34: 0.28 | B34: 0.33 | C34: 0.42
A35: 0.28 | B35: 0.33 | C35: 0.42
A36: 0.28 | B36: 0.33 | C36: 0.42
A37: 0.28 | B37: 0.33 | C37: 0.42
... A61: 0.41 | B61: 0.11 | C61: 0.12
A62: 0.15 | B62: 0.09
A63: 0.15 | B63: 0.09
A64: 0.15 | B64: 0.09
A65: 0.15 | B65: 0.09
A66: 0.15 | B66: 0.09
A67: 0.15 | B67: 0.09
A68: 0.15 | B68: 0.09
A69: 0.15 | B69: 0.09
A70: 0.15 | B70: 0.09
A71: 0.15 | B71: 0.09
A72: 0.15 | B72: 0.09
A73: 0.15 | B73: 0.09
A74: 0.15
...

Sheet purchase_criteria
B1: category | C1: statista (paywall)/PS (176) 2014 | D1: statista (paywall)/PS (176) 2015
A2: newest model, newest technology | B2: lifetime | C2: 0.29 | D2: 0.31
A3: good design | B3: design | C3: 0.33 | D3: 0.34
A4: high-quality finish | B4: design

Sheet repair
A1: https://www.squaretrade.com/press/Mobile-myths-cost-consumers-dearly-Americans-report-spending-3.4-billion-replacing-millions
A2: 0.65 | B2: 65% of smartphone owners have avoided fixing a broken phone because of high costs
A3: 0.67 | B3: 67% admit they would not repair a damaged smartphone that still worked
A4: 0.59 | B4: 59% have chosen to upgrade to a new device rather than repair a broken phone
A6: 0.38 | B6: of smartphone owners with a cracked screen don’t get them fixed
A7: 0.34 | B7: 34% of that group say repairing them was too costly
A10: (Wertgarantie, 2019)
A11: https://reparatur-marktplatz.wertgarantie.de/images/presse/downloads/pdf/clickrepair-smartphone-reparatur-studie-2019.pdf
B12: Apple | C12: HTC | D12: LG | E12: Samsung | F12: Sony | G12: Nokia | H12: Huawei | I12: avg
A13: would repair | B13: 0.503 | C13: 0.243 | D13: 0.314 | E13: 0.427 | F13: 0.331 | G13: 0.361 | H13: 0.421 | I13: =AVERAGE(B13:H13) -> 0.37142857
A14: have repaired | B14: 0.195 | C14: 0.151 | D14: 0.128 | E14: 0.127 | F14: 0.121 | G14: 0.109 | H14: 0.102 | I14: =AVERAGE(B14:H14) -> 0.13328571
A16: 0.491 | B16: repair is cheaper than buying new device
A17: 0.425 | B17: repair is more sustainable
A18: 0.357 | B18: repaired device as back-up
A20: (Wertgarantie, 2020)
B22: Apple | C22: Samsung | D22: Huawei | E22: LG | F22: Nokia | G22: HTC | H22: Sony | I22: Xiaomi | J22: avg
A23: would repair | B23: 0.44 | C23: 0.34 | D23: 0.302 | E23: 0.384 | F23: 0.399 | G23: 0.417 | H23: 0.361 | I23: 0.275 | J23: =AVERAGE(B23:I23) -> 0.36475
A24: have repaired | B24: 0.246 | C24: 0.137 | D24: 0.145 | E24: 0.176 | F24: 0.113 | G24: 0.132 | H24: 0.146 | I24: 0.024 | J24: =AVERAGE(B24:I24) -> 0.139875
E25: trend
A26: 0.539 | B26: repair is cheaper than buying new device | E26: =(A26/A16)-1 -> 0.097759674
A27: 0.531 | B27: repair is more sustainable | E27: =(A27/A17)-1 -> 0.24941176
A28: 0.305 | B28: repaired device as back-up | E28: =(A28/A18)-1 -> -0.14565826
A30: YouGov (PS)
A31: smartphone repair motivation
A32: buy new one | B32: 0.45
A33: get repaired | B33: 0.47
A35: reasons for not repairing
A36: The cost of repair | B36: 0.53
A37: My device is old anyway | B37: 0.53
A38: The general inconvenience of repair | B38: 0.27
A39: Not having a device during repair | B39: 0.27
A40: The time of repair | B40: 0.12
A41: Bad experiences with certified repair shops | B41: 0.08
A42: I like upgrading frequently | B42: 0.07
A43: Bad experiences with uncertified repair shops | B43: 0.08
A44: None of the above | B44: 0.04
A45: Don't know | B45: 0.03
A47: OHA - Obsoleszenz als Herausforderung für Nachhaltigkeit 2019
A48: Prompt purchase of new device | B48: 0.59
A49: Repair | B49: 0.11
...

Sheet transport
B1: weight [g] | C1: packaging_overhead | D1: total_weight [g] | E1: plane [tkm] | F1: ship [tkm] | G1: Plane | H1: Ship | I1: Truck | J1: Train
A2: Fairphone 4 (current case) | B2: 225 | C2: 0 | D2: =B2*(1+C2) -> 225 | E2: 1.361 | F2: 1.361 | G2: =E2/($B$2/1000000) -> 6048.8889 | H2: =F2/($B$2/1000000) -> 6048.8889 | I2: =1500*75% -> 1125 | J2: =1500*25% -> 375

Sheet designs
F2: Berwald et al., 2020
F24: While this design trend can have negative implications for repair and recycling of smartphones, it may have positive effects on the robustness of the devices (e.g. through better ingress protection).
F46: Proske et al., 2020
F83: market share not taken into account!
F84: wireless charging does not work with metal backside

Sheet defects_new
A1: (Wertgarantie, 2020)
K2: drop damage | M2: technical problems | P2: daily use | R2: overall
B3: impact | C3: wear | D3: overall | E3: impact | F3: wear | G3: overall | H3: impact | I3: ingress | J3: wear | K3: impact | M3: wear | P3: wear | T3: impact | U3: ingress | V3: wear
B4: average | C4: average | D4: average | E4: relative | F4: relative | G4: relative | K4: 2019 | L4: 2020 | M4: 2019 | N4: 2020 | O4: average | P4: 2019 | Q4: 2020 | R4: 2019 | S4: 2020
A5: display | B5: =AVERAGE(K5:L5) -> 0.79 | C5: =AVERAGE(P5:Q5) -> 0.623 | D5: =AVERAGE(R5:S5) -> 0.685 | E5: =B5/$B$5 -> 1 | F5: =C5/$C$6 -> 0.86829268 | G5: =D5/$D$5 -> 1 | H5: =E5*$H$11 -> 0.55454851 | J5: =F5*$J$11 -> 0.1938906 | K5: 0.774 | L5: 0.806 | M5: 0.169 | N5: 0.179 | O5: =AVERAGE(M5:N5) -> 0.174 | P5: 0.603 | Q5: 0.643 | R5: 0.674 | S5: 0.696
A6: body | B6: =AVERAGE(K6:L6) -> 0.411 | C6: =AVERAGE(P6:Q6) -> 0.7175 | D6: =AVERAGE(R6:S6) -> 0.49 | E6: =B6/$B$5 -> 0.52025316 | F6: =C6/$C$6 -> 1 | G6: =D6/$D$5 -> 0.71532847 | H6: =E6*$H$11 -> 0.28850562 | J6: =F6*$J$11 -> 0.22330097 | K6: 0.427 | L6: 0.395 | O6: =AVERAGE(M6:N6) -> #DIV/0! | P6: 0.731 | Q6: 0.704 | R6: 0.5 | S6: 0.48
A7: camera (breakage) | B7: =AVERAGE(K7:L7) -> 0.0945 | C7: =AVERAGE(P7:Q7) -> #DIV/0! | D7: =AVERAGE(R7:S7) -> 0.075 | E7: =B7/$B$5 -> 0.11962025 | G7: =D7/$D$5 -> 0.10948905 | H7: =E7*$H$11 -> 0.066335233 | J7: =F7*$J$11 -> 0 | K7: 0.093 | L7: 0.096 | M7: 0.095 | N7: 0.075 | O7: =AVERAGE(M7:N7) -> 0.085 | R7: 0.079 | S7: 0.071
A8: battery (e.g. bracket) | B8: =AVERAGE(K8:L8) -> 0.0675 | C8: =AVERAGE(P8:Q8) -> #DIV/0! | D8: =AVERAGE(R8:S8) -> 0.343 | E8: =B8/$B$5 -> 0.085443038 | G8: =D8/$D$5 -> 0.50072993 | H8: =E8*$H$11 -> 0.04738231 | J8: =F8*$J$11 -> 0 | K8: 0.067 | L8: 0.068 | M8: 0.688 | N8: 0.714 | O8: =AVERAGE(M8:N8) -> 0.701 | R8: 0.339 | S8: 0.347
A9: connections, ports | B9: =AVERAGE(K9:L9) -> 0.056 | C9: =AVERAGE(P9:Q9) -> 0.1335 | D9: =AVERAGE(R9:S9) -> 0.1615 | E9: =B9/$B$5 -> 0.070886076 | F9: =C9/$C$6 -> 0.18606272 | G9: =D9/$D$5 -> 0.23576642 | H9: =E9*$H$11 -> 0.039309768 | J9: =F9*$J$11 -> 0.041547986 | K9: 0.054 | L9: 0.058 | M9: 0.221 | N9: 0.18 | O9: =AVERAGE(M9:N9) -> 0.2005 | P9: 0.138 | Q9: 0.129 | R9: 0.161 | S9: 0.162
A10: high temperature | B10: =AVERAGE(K10:L10) -> #DIV/0! | C10: =AVERAGE(P10:Q10) -> #DIV/0! | M10: 0.275 | N10: 0.291 | O10: =AVERAGE(M10:N10) -> 0.283
H11: 0.55454851 | I11: 0.22215052 | J11: 0.22330097 | K11: =SUM(H11:J11) -> 1 | T11: 0.55454851 | U11: 0.22215052 | V11: 0.22330097
B12: impact | D12: wear | H12: =H11/SUM(H11:I11) -> 0.71398121 | I12: =I11/SUM(H11:I11) -> 0.28601879 | K12: =SUM(H12:J12) -> 1
B13: 2019 | C13: 2020 | D13: 2019 | E13: 2020 | H13: =H11/SUM(H11,J11) -> 0.71292522 | J13: =J11/SUM(J11,H11) -> 0.28707478 | K13: =SUM(H13:J13) -> 1
A14: display | B14: 0.774 | C14: 0.806 | D14: 0.603 | E14: 0.643 | I14: =I11/SUM(I11:J11) -> 0.49870866 | J14: =J11/SUM(I11:J11) -> 0.50129134 | K14: =SUM(H14:J14) -> 1
A15: body | B15: 0.427 | C15: 0.395 | D15: 0.731 | E15: 0.704 | H15: =H11/H11 -> 1 | K15: =SUM(H15:J15) -> 1
A16: camera | B16: 0.093 | C16: 0.096 | I16: =I12/I12 -> 1 | K16: =SUM(H16:J16) -> 1
A17: battery | B17: 0.067 | C17: 0.068 | J17: =J13/J13 -> 1 | K17: =SUM(H17:J17) -> 1
A18: connections | B18: 0.054 | C18: 0.058 | D18: 0.138 | E18: 0.129

Sheet product_calc
A3: ingress resistance low | B3: =1-15%/(3*12)*defects_new!I11 -> 0.99907437
A4: ingress resistance high | B4: =1-(1-B3)*(1-design_options!G8) -> 0.99953719
A7: =64*2*2 -> 256 | B7: 21147 | C7: =A7*B7 -> 5413632 | D7: 0.004 | E7: =D7*C7 -> 21654.528 | F7: =E7/60/60 -> 6.0151467 | G7: =F7/24 -> 0.25063111
A9: others divided by number of occurences

Sheet product_data
A1: energy_annual_kWh_a | B1: ingress_resistances | C1: num_devices | D1: maximum_lifetime_months | E1: repair_motivations | F1: motivation_drop | G1: modularity_overhead_per_module | H1: cost
A2: =(0.0287/3)*1000 -> 9.5666667 | B2: ip_low,0,ip_high,0.5 | C2: 500 | D2: =7*12 -> 84 | E2: ="rep_low,"&ROUND(repair!J88,6)&","&"rep_high,"&ROUND(repair!K88,6) -> rep_low,0.228093,rep_high,0.514987 | F2: =1/5 -> 0.2 | G2: =1%/10 -> 0.001 | H2: 500

Sheet components_calc
B1: BC2 | D1: conversion | F1: comment | G1: waste
A2: Battery PCB | B2: 1.5 | C2: cm² | D2: =B2/10000*conversion!$B$6 -> 0.00022889983 | E2: kg | F2: 6-layer | G2: =D2*0.05 -> 1.1444991e-05
A3: Display LCD | B3: 93 | C3: cm² | D3: =B3/10000*conversion!$B$9 -> 0.012555 | E3: kg | G3: =D3*0.05 -> 0.00062775
A4: Display OLED | B4: 93 | C4: cm² | D4: =B4/10000*conversion!$B$9 -> 0.012555 | E4: kg | F4: LCD conversion factor | G4: =D4*0.05 -> 0.00062775
A5: Display PCB | B5: 3 | C5: cm² | D5: =B5/10000*conversion!$B$5 -> 0.00043709366 | E5: kg | F5: 4-layer | G5: =D5*0.05 -> 2.1854683e-05
A6: Mainboard | B6: 35 | C6: cm² | D6: =B6/10000*conversion!$B$7 -> 0.0070329639 | E6: kg | G6: =D6*0.05 -> 0.0003516482
A7: CPU SoC | B7: 1 | C7: cm² | D7: =B7/10000*conversion!$B$2 -> 0.000430575 | E7: kg | G7: =D7*0.05 -> 2.152875e-05
A8: RAM | B8: 1 | C8: cm² | D8: =B8/10000*conversion!$B$2 -> 0.000430575 | E8: kg | G8: =D8*0.05 -> 2.152875e-05
A9: NAND | B9: 3 | C9: cm² | D9: =B9/10000*conversion!$B$2 -> 0.001291725 | E9: kg | G9: =D9*0.05 -> 6.458625e-05
A10: other ICs | B10: 3 | C10: cm² | D10: =B10/10000*conversion!$B$3 -> 0.002791725 | E10: kg | F10: generic IC | G10: =D10*0.05 -> 0.00013958625
A11: sub-board | B11: 8 | C11: cm² | D11: =B11/10000*conversion!$B$6 -> 0.0012207991 | E11: kg | F11: 6-layer | G11: =D11*0.05 -> 6.1039954e-05
A12: flex boards | B12: 50 | C12: cm² | D12: =B12/10000*conversion!$B$4 -> 0.0046222295 | E12: kg | G12: =D12*0.05 -> 0.00023111148
A13: front camera IC | B13: 0.4 | C13: cm² | D13: =B13/10000*conversion!$B$3 -> 0.00037223 | E13: kg | F13: generic IC | G13: =D13*0.05 -> 1.86115e-05
A14: front camera PCB | B14: 0.3 | C14: cm² | D14: =B14/10000*conversion!$B$6 -> 4.5779966e-05 | E14: kg | F14: 6-layer | G14: =D14*0.05 -> 2.2889983e-06
A15: rear camera IC | B15: 0.3 | C15: cm² | D15: =B15/10000*conversion!$B$3 -> 0.0002791725 | E15: kg | F15: generic IC | G15: =D15*0.05 -> 1.3958625e-05
A16: connectors | B16: 1.5 | C16: g | D16: =B16/100/1000 -> 1.5e-05 | E16: kg | F16: assumption: 1 % Gold | G16: =D16*0.05 -> 7.5e-07

Sheet design_options
A1: design_option | B1: name | C1: description | D1: components | E1: parameter | G1: value | H1: comment | I1: additional costs | J1: additional material
A2: 1 | B2: display robustness | C2: 10 % increase fracture toughness (currently use typical glass) | D2: display glass | E2: impact resistance | F2: 0.1 | G2: 0.1 | I2: x
A3: 2 | B3: display scratch-resistance | D3: display glass | E3: wear resistance | F3: 0.1 | G3: 0.1 | H3: assumption: same as DO1 | I3: x
A4: 3.1.1. | B4: provision of additional screen protection | C4: covers would reduce the probability of damages by 50% | D4: display glass | E4: wear resistance | F4: 0.24 | G4: 0.24 | H4: corrected value based on original data | I4: x | J4: x
A5: 3.1.2 | B5: provision of additional screen protection | C5: covers would reduce the probability of damages by 50% | D5: display glass | E5: impact resistance | F5: 0.24 | G5: 0.24 | H5: corrected value based on original data | I5: x | J5: x
A6: 3.2.1 | B6: provision of additional glass back-cover protection | C6: covers would reduce the probability of damages by 50% | D6: back-cover | E6: wear resistance | F6: 0.24 | G6: 0.24 | H6: corrected value based on original data | I6: x | J6: x
A7: 3.2.2. | B7: provision of additional glass back-cover protection | C7: covers would reduce the probability of damages by 50% | D7: all | E7: impact resistance | F7: 0.24 | G7: 0.24 | H7: corrected value based on original data | I7: x | J7: x
A8: 4 | B8: water and dust resistance | C8: 50 % decreased failure from ingress | D8: all | E8: ingress resistance | F8: 0.5 | G8: 0.5 | I8: x | J8: x
A9: 5,7-9 | B9: battery endurance | C9: longer battery life (various reasons) | D9: battery | E9: wear resistance | F9: =(0.2)*(1+(0.25*1))*(1+(0.25))*(1+(0.2))*(1+(0.1)) -> 0.4125 | G9: =(0.2*0.5)*(1+(0.25*1))*(1+(0.25*0.75))*(1+(0.2*0.1))*(1+(0.1*0.1)) -> 0.15292031 | H9: effect * share for all DOs | I9: x
A10: 17 | B10: battery removable without tools | C10: repair rate for defect battery is increased from 33 % to 50 % | D10: battery | E10: repair rate | F10: =(1-((1-50%)/(1-33%))) -> 0.25373134 | G10: =(1-((1-50%)/(1-33%)))*95% -> 0.24104478 | H10: effective increase of 25.4 % for 95 % of devices; overrides DO15 | I10: x | J10: x
A11: 18 | B11: glass back cover removability/replacement | C11: 40 % more repaired | D11: back-cover glass | E11: repair rate | F11: =40% -> 0.4 | G11: =40%*50% -> 0.2 | H11: 40 % for 50 % of devices | I11: x
A12: 19 | B12: display replacement | C12: 15 % more display defects repaired | D12: display glass | E12: repair rate | F12: 0.15 | G12: 0.15 | H12: no value for BC2, avg. between BC1 (10%) and BC3 (20%)
A13: 20,21a,21b,23 | B13: general repairability improvements | C13: better repairability for various reasons | D13: all | E13: repair rate | F13: =10%*(1+(10%))*(1+(10%))*(1+(10%)) -> 0.1331 | G13: =10%*100%*(1+(10%*20%))*(1+(10%*75%))*(1+(10%*70%)) -> 0.1173255 | H13: effect * share for all DOs | I13: x | K13: DORep-a, DORep-b Combined Reparability Option
A14: 25 | B14: post-consumer recycled plastics | C14: An LCA performed under the H2020 PolyCE project indicates that the potential environmental impact of a plastic component produced by injection moulding with recycled feedstock can be reduced by 24 %, compared to the use of virgin plastics. | D14: housing, back-cover | E14: GWP | F14: 0.24 | G14: 0.24
A15: 26 | B15: bio-based plastics | C15: use of bio-based plastics | D15: housing, back-cover | E15: GWP | H15: depends on dataset

Sheet conversion
A1: conversion | B1: kg/m² | C1: source
A2: IC | B2: 4.30575
A3: IC small | B3: 9.30575
A4: PCB1 | B4: 0.9244459 | C4: model
A5: PCB4 | B5: 1.4569789 | C5: model
A6: PCB6 | B6: 1.5259989 | C6: model
A7: PCB8 | B7: 2.0094183 | C7: model
A8: PCB12 | B8: 4.5092048 | C8: model
A9: LCD | B9: 1.35 | C9: FP4
A10: AMOLED | B10: =material_elements!O2 -> 8.6485089 | C10: model

Sheet processes_data
A1: name | B1: short | C1: category | D1: type | E1: composition | F1: unit_ref | G1: gwp_pri | H1: gwp_sec | I1: gwp_rec | J1: gwp_inc_disp | K1: comment | L1: crm | M1: process_pri | N1: process_sec | O1: process_rec | P1: process_inc_disp | Q1: original_gwp_pri | R1: original_gwp_sec | S1: original_gwp_rec | T1: original_gwp_inc_disp
A2: Acrylonitrile Butadiene Styrene | B2: ABS | C2: =IF(D2="transport","transport","material") -> material | D2: plastic | E2: ABS,100 | F2: kg | M2: DE: Acrylonitrile-Butadiene-Styrene Granulate (ABS) Sphera
A3: Aluminum | B3: Al | C3: =IF(D3="transport","transport","material") -> material | D3: element | E3: Al,100 | F3: kg | M3: RNA: Recycled aluminum ingot (100% recycled content) AA <t-agg>
A4: Aluminum | B4: Al | C4: =IF(D4="transport","transport","material") -> material | D4: element | E4: Al,100 | F4: kg | M4: RNA: Primary Aluminum Ingot AA/Sphera | N4: RNA: Recycled aluminum ingot (100% recycled content) AA <t-agg>
A5: AMOLED | B5: AMOLED | C5: material | D5: blend | E5: =material_elements!A7&","&ROUND(material_elements!O7,6)&","&material_elements!A8&","&ROUND(material_elements!O8,6)&","&material_elements!A9&","&ROUND(material_elements!O9,6)&","&material_elements!A10&","&ROUND(material_elements!O10,6)&","&material_elements!A11&","&ROUND(material_elements!O11,6)&","&material_elements!A12&","&ROUND(material_elements!O12,6)&","&material_elements!A13&","&ROUND(material_elements!O13,6)&","&material_elements!A14&","&ROUND(material_elements!O14,6)&","&material_elements!A15&","&ROUND(material_elements!O15,6)&","&material_elements!A16&","&ROUND(material_elements!O16,6) -> C,18,188359,H,1,322518,N,0,856991,In,3,788296,O,20,664686,Sn,0,217591,Ag,36,573095,Al,17,945506,Ir,0,025398,Mg,0,417558 | F5: kg | K5: original: 1000 cm² | M5: AMOLED panel per cm² - (Schischke et al., 2016)
A6: Antimony | B6: Sb | C6: =IF(D6="transport","transport","material") -> material | D6: element | E6: Sb,100 | F6: kg | M6: CN: Antimony Sphera
A7: Arsenic | B7: As | C7: =IF(D7="transport","transport","material") -> material | D7: element | E7: As,100 | F7: kg
A8: Barium | B8: Ba | C8: =IF(D8="transport","transport","material") -> material | D8: element | E8: Ba,100 | F8: kg | K8: hydroxide has highest GWP | M8: GLO: barium hydroxide production ecoinvent 3.8
A9: Beryllium | B9: Be | C9: =IF(D9="transport","transport","material") -> material | D9: element | E9: Be,100 | F9: kg | K9: hydroxide | M9: RoW: beryllium hydroxide production ecoinvent 3.8
A10: Bismuth | B10: Bi | C10: =IF(D10="transport","transport","material") -> material | D10: element | E10: Bi,100 | F10: kg
A11: Boron | B11: B | C11: =IF(D11="transport","transport","material") -> material | D11: element | E11: B,100 | F11: kg | K11: carbide | M11: GLO: boron carbide production ecoinvent 3.8
A12: Cadmium | B12: Cd | C12: =IF(D12="transport","transport","material") -> material | D12: element | E12: Cd,100 | F12: kg | M12: GLO: Cadmium Sphera
A13: Capacitor (Aluminum) | B13: Cap_Al | C13: =IF(D13="transport","transport","material") -> material | D13: blend | F13: kg | M13: GLO: Capacitor Al-capacitor SMD (80mg) D3x5.4 Sphera
A14: Capacitor (Ceramic) | B14: Cap_Cer | C14: =IF(D14="transport","transport","material") -> material | D14: blend | F14: kg | M14: GLO: Capacitor ceramic MLCC 0603 (6mg) D 1.6x0.8x0.8 Sphera
A15: Capacitor (Tantalum) | B15: Cap_Ta | C15: =IF(D15="transport","transport","material") -> material | D15: blend | F15: kg | M15: GLO: Capacitor tantal SMD Y (25mg) 3.2x1.6x1.6 Sphera
A16: Car | B16: Car | C16: =IF(D16="transport","transport","material") -> transport | D16: transport | F16: kgkm | M16: RER: transport, passenger car, EURO 5 ecoinvent 3.5
A17: Cardboard | B17: Cardboard | C17: material | D17: blend | E17: Paper,100 | F17: kg | M17: EU-28: Corrugated board excl. paper production (2018), open paper input, average composition Sphera/FEFCO <t-agg>
A18: Chromium | B18: Cr | C18: =IF(D18="transport","transport","material") -> material | D18: element | E18: Cr,100 | F18: kg | M18: RoW: chromium production ecoinvent 3.8
A19: Cobalt | B19: Co | C19: =IF(D19="transport","transport","material") -> material | D19: element | E19: Co,100 | F19: kg | M19: GLO: Cobalt, refined (metal) CDI
A20: Copper | B20: Cu | C20: =IF(D20="transport","transport","material") -> material | D20: element | E20: Cu,100 | F20: kg | M20: GLO: Copper mix (99,999% from electrolysis) Sphera
A21: Diode (mMELF) | B21: Diode_mMELF | C21: =IF(D21="transport","transport","material") -> material | D21: blend | F21: kg | M21: GLO: Diode mMELF (40mg) D1.6x3.8 Sphera
A22: Diode (Power) | B22: Diode_Power | C22: =IF(D22="transport","transport","material") -> material | D22: blend | F22: kg | M22: GLO: Diode power THT DO35 (150mg) D1.76x3.77 Sphera
A23: Diode (Signal) | B23: Diode_Signal | C23: =IF(D23="transport","transport","material") -> material | D23: blend | F23: kg | M23: GLO: Diode signal SOD123/323/523 (9.26mg) 2.4x1.6x1 with Au-Bondwire Sphera
A24: Dysprosium | B24: Dy | C24: =IF(D24="transport","transport","material") -> material | D24: element | E24: Dy,100 | F24: kg | K24: oxide | M24: GLO: dysprosium oxide to generic market for mischmetal ecoinvent 3.8
A25: Energy Mix | B25: Energy_Mix | C25: energy | D25: element | F25: kWh | M25: CO2-eq. emission factor incl. upstream [g/kWh] - 2021 for Germany, estimated (Umweltbundesamt, 2022)
A26: Epoxy Resin | B26: Epoxy | C26: =IF(D26="transport","transport","material") -> material | D26: plastic | E26: Epoxy,100 | F26: kg | M26: DE: Epoxy Resin (EP) Mix Sphera
A27: Filter | B27: Filter | C27: =IF(D27="transport","transport","material") -> material | D27: blend | F27: kg | M27: GLO: Filter SAW (25mg) 3x7x1 Sphera
A28: Gallium | B28: Ga | C28: =IF(D28="transport","transport","material") -> material | D28: element | E28: Ga,100 | F28: kg | M28: GLO: gallium production, semiconductor-grade ecoinvent 3.8
A29: Germanium | B29: Ge | C29: =IF(D29="transport","transport","material") -> material | D29: element | E29: Ge,100 | F29: kg
A30: Glass (LCD) | B30: Glass | C30: =IF(D30="transport","transport","material") -> material | D30: blend | E30: Glass,80,Sb,12.987,In,6.494,Sn,0.519 | F30: kg | M30: GLO: glass production, for liquid crystal display ecoinvent 3.8
A31: Glass Fibre | B31: GF | C31: =IF(D31="transport","transport","material") -> material | D31: glass | E31: Glass,100 | F31: kg | M31: DE: Glass fibres Sphera
A32: Glass Fibre Reinforced Polyamide | B32: GFRPA | C32: =IF(D32="transport","transport","material") -> material | D32: plastic | E32: GFRPA,100 | F32: kg | M32: RER: glass fibre reinforced plastic production, polyamide, injection moulded ecoinvent 3.8
A33: Glass Fibre Reinforced Polyester | B33: GFRPE | C33: =IF(D33="transport","transport","material") -> material | D33: plastic | E33: GFRPE,100 | F33: kg | M33: RoW: glass fibre reinforced plastic production, polyester resin, hand lay-up ecoinvent 3.8
A34: Gold | B34: Au | C34: =IF(D34="transport","transport","material") -> material | D34: element | E34: Au,100 | F34: kg | M34: GLO: Gold (primary) Sphera
A35: Graphite | B35: C | C35: =IF(D35="transport","transport","material") -> material | D35: element | E35: C,100 | F35: kg | M35: RoW: graphite production, battery grade ecoinvent 3.8
A36: Hafnium | B36: Hf | C36: =IF(D36="transport","transport","material") -> material | D36: element | E36: Hf,100 | F36: kg
A37: IC DRAM (Schischke et al., 2021) | B37: IC_DRAM | C37: material | D37: blend | E37: Si,41,Silicone,56,P,0.5,Sb,0.5,As,0.5,B,0.5,In,0.5,Ga,0.5 | F37: kg | M37: IC, DRAM (50% of SoC) per 1cm² die area (Schischke et al., 2021)
A38: IC generic (Schischke et al., 2021) | B38: IC_generic | C38: material | D38: blend | E38: Si,41,Silicone,56,P,0.5,Sb,0.5,As,0.5,B,0.5,In,0.5,Ga,0.6 | F38: kg | M38: Generic IC per 1cm² die area (Schischke et al., 2021)
A39: IC NAND (Schischke et al., 2021) | B39: IC_NAND | C39: material | D39: blend | E39: Si,41,Silicone,56,P,0.5,Sb,0.5,As,0.5,B,0.5,In,0.5,Ga,0.7 | F39: kg | M39: IC, NAND (60% of SoC) per 1cm² die area (Schischke et al., 2021)
A40: IC SoC (Schischke et al., 2021) | B40: IC_SoC | C40: material | D40: blend | E40: Si,41,Silicone,56,P,0.5,Sb,0.5,As,0.5,B,0.5,In,0.5,Ga,0.8 | F40: kg | M40: IC, SoC per cm² die area (Schischke et al., 2021)
...

Sheet components_data
A1: name | B1: type | C1: composition | D1: transport | E1: impact_failures | F1: ingress_failures | G1: wear_failures | H1: impact_res | I1: ingress_res | J1: wear_res | K1: rep_low | L1: rep_high | M1: rep_low_perc | N1: rep_high_perc | O1: change_component | P1: change_impact_res | Q1: change_ingress_res | R1: change_wear_res
A2: mainboard R | B2: mainboard | C2: PCB_8,0.010219,IC_SoC,0.000431,IC_DRAM,0.000431,IC_NAND,0.001292,IC_generic,0.002792,Au,0.0000009,Diode_mMELF,0.00005,Passive,0.0007,Au,0.000020,Fe,0.004,Solder,0.0004,PCB_1,0.004622,Solder,0.0005,Passive,0.00005,IC_generic,0.000372,Au,0.000001,PCB_6,0.000033,Al,0.0006,Fe,0.0002,Ni,0.00001,Cu,0.00001,Magnet,0.0001,PMMA,0.0002,Glass,0.0001,Diode_mMELF,0.0001,IC_generic,0.000279,Au,0.00000075,Al,0.0003,Fe,0.0001,Ni,0.000005,Cu,0.00005,PMMA,0.0001 | D2: =transport!G1&","&ROUND(transport!G2,0)&","&transport!H1&","&ROUND(transport!H2,0)&","&transport!I1&","&ROUND(transport!I2,0)&","&transport!J1&","&ROUND(transport!J2,0) -> Plane,6049,Ship,6049,Truck,1125,Train,375 | E2: =(1-H2)*(3*12) -> 0 | F2: =(1-I2)*(3*12) -> 0.033322577 | G2: -1 | H2: 1 | I2: =1-(15%/(3*12)*defects_new!I11) -> 0.99907437 | J2: =3*12/(2*G2) -> -18 | K2: =product_data!H2*0.75 -> 375 | L2: =K2*(1-design_options!$F$13) -> 325.0875 | M2: =(1-K2/product_data!$H$2) -> 0.25 | N2: =M2*(1+design_options!$F$13) -> 0.283275
A3: display glass | B3: display glass | C3: Glass,0.02 | D3: =D2 -> Plane,6049,Ship,6049,Truck,1125,Train,375 | E3: =(1-H3)*(3*12) -> 0.10693878 | F3: =(1-I3)*(3*12) -> 0 | G3: =15%*defects_new!$J$13*defects_new!F5 -> 0.03738974 | H3: =1-(15%/(3*12)*defects_new!H13) -> 0.99702948 | I3: 1 | J3: =3*12/(2*G3) -> 481.41549 | K3: 200 | L3: =K3*(1-design_options!$F$13)*(1-design_options!$F$12) -> 147.373 | M3: =(1-K3/product_data!$H$2) -> 0.6 | N3: =M3*(1+design_options!$F$13)*(1+design_options!$F$12) -> 0.781839
A4: display glass (robust) | B4: display glass | C4: Glass,0.02 | D4: =D3 -> Plane,6049,Ship,6049,Truck,1125,Train,375 | E4: =(1-H4)*(3*12) -> 0.096244904 | F4: =(1-I4)*(3*12) -> 0 | G4: =G3*(1-design_options!G3) -> 0.033650766 | H4: =1-(1-H3)*(1-design_options!G2) -> 0.99732653 | I4: 1 | J4: =3*12/(2*G4) -> 534.9061 | K4: 200 | L4: =K4*(1-design_options!$F$13)*(1-design_options!$F$12) -> 147.373 | M4: =(1-K4/product_data!$H$2) -> 0.6 | N4: =M4*(1+design_options!$F$13)*(1+design_options!$F$12) -> 0.781839
A5: screen protector n.a. | B5: screen protector | D5: =D4 -> Plane,6049,Ship,6049,Truck,1125,Train,375 | E5: =(1-H5)*(3*12) -> 0 | F5: =(1-I5)*(3*12) -> 0 | G5: -1 | H5: 1 | I5: 1 | J5: =3*12/(2*G5) -> -18 | K5: 0 | L5: =K5*(1-design_options!$F$13) -> 0 | M5: =(1-K5/product_data!$H$2) -> 1 | N5: =M5*(1+design_options!$F$13) -> 1.1331 | O5: display glass,display glass (robust),AMOLED | P5: 0 | Q5: 0 | R5: 0
A6: screen protector plastic | B6: screen protector | C6: PET,0.005 | D6: =D5 -> Plane,6049,Ship,6049,Truck,1125,Train,375 | E6: 0 | F6: =(1-I6)*(3*12) -> 0 | G6: -1 | H6: 1 | I6: 1 | J6: =3*12/(2*G6) -> -18 | K6: 5 | L6: =K6*(1-design_options!$F$13) -> 4.3345 | M6: =(1-K6/product_data!$H$2) -> 0.99 | N6: =M6*(1+design_options!$F$13) -> 1.121769 | O6: display glass,display glass (robust),AMOLED | P6: =design_options!G5 -> 0.24 | Q6: 0 | R6: -2
A7: protective case n.a. | B7: protective case | D7: =D14 -> Plane,6049,Ship,6049,Truck,1125,Train,375 | E7: =(1-H7)*(3*12) -> 0 | F7: =(1-I7)*(3*12) -> 0 | G7: -1 | H7: 1 | I7: 1 | J7: =3*12/(2*G7) -> -18 | K7: 0 | L7: =K7*(1-design_options!$F$13) -> 0 | M7: =(1-K7/product_data!$H$2) -> 1 | N7: =M7*(1+design_options!$F$13) -> 1.1331 | O7: frame,back-cover glass,display glass,display glass (robust),AMOLED,mic/speaker/vibration | P7: 0 | Q7: 0 | R7: 0
A8: protective case | B8: protective case | C8: Silicone,0.024 | D8: =D7 -> Plane,6049,Ship,6049,Truck,1125,Train,375 | E8: 0 | F8: =(1-I8)*(3*12) -> 0 | G8: -1 | H8: 1 | I8: 1 | J8: =3*12/(2*G8) -> -18 | K8: 20 | L8: =K8*(1-design_options!$F$13) -> 17.338 | M8: =(1-K8/product_data!$H$2) -> 0.96 | N8: =M8*(1+design_options!$F$13) -> 1.087776 | O8: frame,back-cover glass,display glass,display glass (robust),AMOLED,mic/speaker/vibration | P8: =design_options!G5 -> 0.24 | Q8: 0 | R8: -2
A9: AMOLED | B9: display | C9: AMOLED,0.012555,PMMA,0.002,PCB_4,0.000313,Diode_mMELF,0.0005 | D9: =D6 -> Plane,6049,Ship,6049,Truck,1125,Train,375 | E9: =(1-H9)*(3*12) -> 0.012810992 | F9: =(1-I9)*(3*12) -> 0.066645155 | G9: -1 | H9: =1-(1-(1-(15%/(3*12)*defects_new!H12)))*(1-(1-defects_new!E7)) -> 0.99964414 | I9: =1-(30%/(3*12)*defects_new!I11) -> 0.99814875 | J9: =3*12/(2*G9) -> -18 | K9: 200 | L9: =K9*(1-design_options!$F$13) -> 173.38 | M9: =(1-K9/product_data!$H$2) -> 0.6 | N9: =M9*(1+design_options!$F$13) -> 0.67986
A10: battery | B10: battery | C10: Battery,0.052,PCB_8,0.000167 | D10: =D9 -> Plane,6049,Ship,6049,Truck,1125,Train,375 | E10: =(1-H10)*(3*12) -> 0.0071073464 | F10: =(1-I10)*(3*12) -> 0.066645155 | G10: =(15%-(1-H10)*3*12-(1-I10)*3*12) -> 0.076247499 | H10: =1-(1-(1-(15%/(3*12)*defects_new!H11)))*(1-(1-defects_new!E8)) -> 0.99980257 | I10: =1-(30%/(3*12)*defects_new!I11) -> 0.99814875 | J10: =3*12/(2*G10) -> 236.07332 | K10: 60 | L10: =K10*(1-design_options!$F$13)*(1-design_options!$F$10) -> 38.816418 | M10: =(1-K10/product_data!$H$2) -> 0.88 | N10: =M10*(1+design_options!$F$13)*(1+design_options!$F$10) -> 1.2501306
A11: battery (endurance) | B11: battery | C11: Battery,0.052,PCB_8,0.000167 | D11: =D10 -> Plane,6049,Ship,6049,Truck,1125,Train,375 | E11: =(1-H11)*(3*12) -> 0.0071073464 | F11: =(1-I11)*(3*12) -> 0.066645155 | G11: =G10*(1-design_options!G9) -> 0.064587707 | H11: =1-(1-(1-(15%/(3*12)*defects_new!H11)))*(1-(1-defects_new!E8)) -> 0.99980257 | I11: =1-(30%/(3*12)*defects_new!I11) -> 0.99814875 | J11: =3*12/(2*G11) -> 278.6908 | K11: 60 | L11: =K11*(1-design_options!$F$13)*(1-design_options!$F$10) -> 38.816418 | M11: =(1-K11/product_data!$H$2) -> 0.88 | N11: =M11*(1+design_options!$F$13)*(1+design_options!$F$10) -> 1.2501306
A12: frame | B12: frame | C12: Mg,0.015,Al,0.02,Al,0.08,PC,0.015,Fe,0.01,Ni,0.00005,Cu,0.003,Silicone,0.0005,Fe,0.0005 | D12: =D11 -> Plane,6049,Ship,6049,Truck,1125,Train,375 | E12: =(1-H12)*(3*12) -> 0.05563524 | F12: =(1-I12)*(3*12) -> 0 | G12: =15%*defects_new!$J$11*defects_new!F6 -> 0.033495146 | H12: =1-(1-H3)*(1-(1-defects_new!E6)) -> 0.99845458 | I12: 1 | J12: =3*12/(2*G12) -> 537.3913 | K12: 55 | L12: =K12*(1-design_options!$F$13) -> 47.6795 | M12: =(1-K12/product_data!$H$2) -> 0.89 | N12: =M12*(1+design_options!$F$13) -> 1.008459
A13: back-cover integrated | B13: back-cover | D13: =D12 -> Plane,6049,Ship,6049,Truck,1125,Train,375 | E13: =(1-H13)*(3*12) -> 0 | F13: =(1-I13)*(3*12) -> 0 | G13: -1 | H13: 1 | I13: 1 | J13: =3*12/(2*G13) -> -18 | K13: 0 | L13: =K13*(1-design_options!$F$13) -> 0 | M13: =(1-K13/product_data!$H$2) -> 1 | N13: =M13*(1+design_options!$F$13) -> 1.1331
A14: back-cover glass | B14: back-cover | C14: Glass,0.02 | D14: =D13 -> Plane,6049,Ship,6049,Truck,1125,Train,375 | E14: =(1-H14)*(3*12) -> 0.10693878 | F14: =(1-I14)*(3*12) -> 0 | G14: =G3 -> 0.03738974 | H14: =H3 -> 0.99702948 | I14: 1 | J14: =3*12/(2*G14) -> 481.41549 | K14: 55 | L14: =K14*(1-design_options!$F$13)*(1-design_options!F11) -> 28.6077 | M14: =(1-K14/product_data!$H$2) -> 0.89 | N14: =M14*(1+design_options!$F$13)*(1+design_options!F11) -> 1.4118426
A15: mic/speaker/vibration | B15: electromechanics | C15: PCB_6,0.000889,Fe,0.001,Ni,0.00001,PC,0.0008,PET,0.00001,Cu,0.00004,Magnet,0.0012,Silicone,0.00002,Magnet,0.0002,W,0.0006,Cu,0.0006 | D15: =D8 -> Plane,6049,Ship,6049,Truck,1125,Train,375 | E15: =(1-H15)*(3*12) -> 0.012810992 | F15: =(1-I15)*(3*12) -> 0.066645155 | G15: -1 | H15: =1-(1-(1-(15%/(3*12)*defects_new!H12)))*(1-(1-defects_new!E7)) -> 0.99964414 | I15: =1-(30%/(3*12)*defects_new!I11) -> 0.99814875 | J15: =3*12/(2*G15) -> -18 | K15: 55 | L15: =K15*(1-design_options!$F$13) -> 47.6795 | M15: =(1-K15/product_data!$H$2) -> 0.89 | N15: =M15*(1+design_options!$F$13) -> 1.008459

Sheet material_elements
C1: OLED | P1: NdFeB
A2: mass [g] | C2: =C3/10000000*C4 -> 4.2e-05 | D2: =D3/10000000*D4 -> 0.0003147 | E2: =E3/10000000*E4 -> 2.34e-05 | F2: =F3/10000000*F4 -> 9.396e-05 | G2: =G3/10000000*G4 -> 3e-06 | H2: =H3/10000000*H4 -> 3.6e-06 | I2: =I3/10000000*I4 -> 3e-06 | J2: =J3/10000000*J4 -> 1.071e-05 | ... M2: =M3/10000000*M4 -> 7.347189e-05 | N2: =SUM(C2:M2) -> 0.00086485089 | O2: =N2*10000 -> 8.6485089
A3: thickness [nm] | C3: =material_composition!B3*material_composition!D3+material_composition!B5*material_composition!D5 -> 60 | D3: =material_composition!B4*material_composition!D4 -> 300 | E3: =material_composition!B6*material_composition!D6 -> 180 | F3: =material_composition!B7+material_composition!B8+material_composition!B9+material_composition!B15+material_composition!B16+material_composition!B17 -> 696 | G3: =material_composition!B10 -> 30 | H3: =material_composition!B11 -> 30 | I3: =material_composition!B12 -> 30 | J3: =material_composition!B13*material_composition!D13 -> 90 | K3: =material_composition!B14*material_composition!D14 -> 30 | L3: =material_composition!B18*material_composition!D18+material_composition!B20*material_composition!D20+material_composition!B22*material_composition!D22 -> 735 | M3: =material_composition!B19*material_composition!D19+material_composition!B21*material_composition!D21 -> 699
A4: density [g/cm³] | C4: 7 | D4: 10.49 | E4: 1.3 | F4: 1.35 | G4: 1 | H4: 1.2 | I4: 1 | J4: 1.19 | K4: 1.738 | L4: 3.97 | M4: 1.0511 | P4: 7.59
B5: atomic mass [u] | C5: Indium-Tin-Oxide | D5: Ag | E5: 2T-NATA | F5: NPB | G5: EML red | H5: EML green | I5: EML blue | J5: Alq3 | K5: Mg:Ag | L5: Al2O3 | M5: Polyacrylate | P5: NdFeB
A6: total | C6: =SUM(C7:C16) -> 264.9441 | D6: =SUM(D7:D16) -> 107.87 | E6: =SUM(E7:E16) -> 897.138 | F6: =SUM(F7:F16) -> 588.754 | G6: =SUM(G7:G16) -> 531.2738 | H6: =SUM(H7:H16) -> 498.21752 | I6: =SUM(I7:I16) -> 608.19645 | J6: =SUM(J7:J16) -> 459.441 | ... M6: =SUM(M7:M16) -> 72.063 | N6: =C6/SUM(C$6:C$16)*C$2+D6/SUM(D$6:D$16)*D$2+E6/SUM(E$6:E$16)*E$2+F6/SUM(F$6:F$16)*F$2+G6/SUM(G$6:G$16)*G$2+H6/SUM(H$6:H$16)*H$2+I6/SUM(I$6:I$16)*I$2+J6/SUM(J$6:J$16)*J$2+K6/SUM(K$6:K$16)*K$2+L6/SUM(L$6:L$16)*L$2+M6/SUM(M$6:M$16)*M$2 -> 0.00043242545 | O6: =N6/SUM($N$7:$N$16)*100 -> 100
A7: C | B7: 12.011 | E7: =66*B7 -> 792.726 | F7: =44*B7 -> 528.484 | G7: =(32*0.9+35*0.1)*B7 -> 387.9553 | H7: =(36*0.92+33*0.08)*B7 -> 429.51336 | I7: =(46*0.95+35*0.05)*B7 -> 545.89995 | J7: =27*B7 -> 324.297 | M7: =3*B7 -> 36.033 | N7: =C7/SUM(C$6:C$16)*C$2+D7/SUM(D$6:D$16)*D$2+E7/SUM(E$6:E$16)*E$2+F7/SUM(F$6:F$16)*F$2+G7/SUM(G$6:G$16)*G$2+H7/SUM(H$6:H$16)*H$2+I7/SUM(I$6:I$16)*I$2+J7/SUM(J$6:J$16)*J$2+K7/SUM(K$6:K$16)*K$2+L7/SUM(L$6:L$16)*L$2+M7/SUM(M$6:M$16)*M$2 -> 7.8651093e-05 | O7: =N7/SUM($N$7:$N$16)*100 -> 18.188359
A8: H | B8: 1.008 | E8: =48*B8 -> 48.384 | F8: =32*B8 -> 32.256 | G8: =(25*0.9+27*0.1)*B8 -> 25.4016 | H8: =24*B8 -> 24.192 | I8: =(36*0.95+24*0.05)*B8 -> 35.6832 | J8: =18*B8 -> 18.144 | M8: =4*B8 -> 4.032 | N8: =C8/SUM(C$6:C$16)*C$2+D8/SUM(D$6:D$16)*D$2+E8/SUM(E$6:E$16)*E$2+F8/SUM(F$6:F$16)*F$2+G8/SUM(G$6:G$16)*G$2+H8/SUM(H$6:H$16)*H$2+I8/SUM(I$6:I$16)*I$2+J8/SUM(J$6:J$16)*J$2+K8/SUM(K$6:K$16)*K$2+L8/SUM(L$6:L$16)*L$2+M8/SUM(M$6:M$16)*M$2 -> 5.7189054e-06 | O8: =N8/SUM($N$7:$N$16)*100 -> 1.3225182
A9: N | B9: 14.007 | E9: =4*B9 -> 56.028 | F9: =2*B9 -> 28.014 | G9: =(2*0.9+2*0.1)*B9 -> 28.014 | H9: =(2*0.92+3*0.08)*B9 -> 29.13456 | I9: =2*0.95*B9 -> 26.6133 | J9: =3*B9 -> 42.021 | N9: =C9/SUM(C$6:C$16)*C$2+D9/SUM(D$6:D$16)*D$2+E9/SUM(E$6:E$16)*E$2+F9/SUM(F$6:F$16)*F$2+G9/SUM(G$6:G$16)*G$2+H9/SUM(H$6:H$16)*H$2+I9/SUM(I$6:I$16)*I$2+J9/SUM(J$6:J$16)*J$2+K9/SUM(K$6:K$16)*K$2+L9/SUM(L$6:L$16)*L$2+M9/SUM(M$6:M$16)*M$2 -> 3.705848e-06 | O9: =N9/SUM($N$7:$N$16)*100 -> 0.85699121
A10: In | B10: 114.82 | C10: =2*0.9*B10 -> 206.676 | N10: =C10/SUM(C$6:C$16)*C$2+D10/SUM(D$6:D$16)*D$2+E10/SUM(E$6:E$16)*E$2+F10/SUM(F$6:F$16)*F$2+G10/SUM(G$6:G$16)*G$2+H10/SUM(H$6:H$16)*H$2+I10/SUM(I$6:I$16)*I$2+J10/SUM(J$6:J$16)*J$2+K10/SUM(K$6:K$16)*K$2+L10/SUM(L$6:L$16)*L$2+M10/SUM(M$6:M$16)*M$2 -> 1.6381554e-05 | O10: =N10/SUM($N$7:$N$16)*100 -> 3.7882955
A11: O | B11: 15.999 | C11: =(3*0.9+2*0.1)*B11 -> 46.3971 | G11: =(3*0.9+2*0.1)*B11 -> 46.3971 | J11: =3*B11 -> 47.997 | L11: =3*B11 -> 47.997 | M11: =2*B11 -> 31.998 | N11: =C11/SUM(C$6:C$16)*C$2+D11/SUM(D$6:D$16)*D$2+E11/SUM(E$6:E$16)*E$2+F11/SUM(F$6:F$16)*F$2+G11/SUM(G$6:G$16)*G$2+H11/SUM(H$6:H$16)*H$2+I11/SUM(I$6:I$16)*I$2+J11/SUM(J$6:J$16)*J$2+K11/SUM(K$6:K$16)*K$2+L11/SUM(L$6:L$16)*L$2+M11/SUM(M$6:M$16)*M$2 -> 8.9359362e-05 | O11: =N11/SUM($N$7:$N$16)*100 -> 20.664686
A12: Sn | B12: 118.71 | C12: =1*0.1*B12 -> 11.871 | N12: =C12/SUM(C$6:C$16)*C$2+D12/SUM(D$6:D$16)*D$2+E12/SUM(E$6:E$16)*E$2+F12/SUM(F$6:F$16)*F$2+G12/SUM(G$6:G$16)*G$2+H12/SUM(H$6:H$16)*H$2+I12/SUM(I$6:I$16)*I$2+J12/SUM(J$6:J$16)*J$2+K12/SUM(K$6:K$16)*K$2+L12/SUM(L$6:L$16)*L$2+M12/SUM(M$6:M$16)*M$2 -> 9.4091924e-07 | O12: =N12/SUM($N$7:$N$16)*100 -> 0.21759109
A13: Ag | B13: 107.87 | D13: =1*B13 -> 107.87 | K13: =1*B13 -> 107.87 | N13: =C13/SUM(C$6:C$16)*C$2+D13/SUM(D$6:D$16)*D$2+E13/SUM(E$6:E$16)*E$2+F13/SUM(F$6:F$16)*F$2+G13/SUM(G$6:G$16)*G$2+H13/SUM(H$6:H$16)*H$2+I13/SUM(I$6:I$16)*I$2+J13/SUM(J$6:J$16)*J$2+K13/SUM(K$6:K$16)*K$2+L13/SUM(L$6:L$16)*L$2+M13/SUM(M$6:M$16)*M$2 -> 0.00015815137 | O13: =N13/SUM($N$7:$N$16)*100 -> 36.573095
A14: Al | B14: 26.982 | G14: =1*0.9*B14 -> 24.2838 | J14: =1*B14 -> 26.982 | L14: =2*B14 -> 53.964 | N14: =C14/SUM(C$6:C$16)*C$2+D14/SUM(D$6:D$16)*D$2+E14/SUM(E$6:E$16)*E$2+F14/SUM(F$6:F$16)*F$2+G14/SUM(G$6:G$16)*G$2+H14/SUM(H$6:H$16)*H$2+I14/SUM(I$6:I$16)*I$2+J14/SUM(J$6:J$16)*J$2+K14/SUM(K$6:K$16)*K$2+L14/SUM(L$6:L$16)*L$2+M14/SUM(M$6:M$16)*M$2 -> 7.7600935e-05 | O14: =N14/SUM($N$7:$N$16)*100 -> 17.945506
A15: Ir | B15: 192.22 | G15: =1*0.1*B15 -> 19.222 | H15: =1*0.08*B15 -> 15.3776 | N15: =C15/SUM(C$6:C$16)*C$2+D15/SUM(D$6:D$16)*D$2+E15/SUM(E$6:E$16)*E$2+F15/SUM(F$6:F$16)*F$2+G15/SUM(G$6:G$16)*G$2+H15/SUM(H$6:H$16)*H$2+I15/SUM(I$6:I$16)*I$2+J15/SUM(J$6:J$16)*J$2+K15/SUM(K$6:K$16)*K$2+L15/SUM(L$6:L$16)*L$2+M15/SUM(M$6:M$16)*M$2 -> 1.0982887e-07 | O15: =N15/SUM($N$7:$N$16)*100 -> 0.025398337
A16: Mg | B16: 24.305 | K16: =10*B16 -> 243.05 | N16: =C16/SUM(C$6:C$16)*C$2+D16/SUM(D$6:D$16)*D$2+E16/SUM(E$6:E$16)*E$2+F16/SUM(F$6:F$16)*F$2+G16/SUM(G$6:G$16)*G$2+H16/SUM(H$6:H$16)*H$2+I16/SUM(I$6:I$16)*I$2+J16/SUM(J$6:J$16)*J$2+K16/SUM(K$6:K$16)*K$2+L16/SUM(L$6:L$16)*L$2+M16/SUM(M$6:M$16)*M$2 -> 1.8056291e-06 | O16: =N16/SUM($N$7:$N$16)*100 -> 0.41755847
A17: Nd | B17: 144.242 | P17: =2*B17 -> 288.484
A18: Fe | B18: 55.845 | P18: =14*B18 -> 781.83
A19: B | B19: 10.81 | P19: =1*B19 -> 10.81

Sheet recycling_routes
A1: carrier | B1: phase | C1: recovery | D1: element | E1: oxide | F1: comment
A2: Al | B2: carrier | C2: recovered | D2: Al | E2: 0
A3: Al | B3: metal phase | C3: lost | D3: Ag | E3: 0
A4: Al | B4: metal phase | C4: lost | D4: Au | E4: 0
A5: Al | B5: metal phase | C5: lost | D5: Pt | E5: 0
A6: Al | B6: metal phase | C6: lost | D6: Pd | E6: 0
A7: Al | B7: metal phase | C7: separately recovered | D7: Sn | E7: 0
A8: Al | B8: metal phase | C8: separately recovered | D8: Ni | E8: 0
A9: Al | B9: metal phase | C9: separately recovered | D9: Cu | E9: 0
A10: Al | B10: metal phase | C10: separately recovered | D10: Fe | E10: 0
A11: Al | B11: metal phase | C11: separately recovered | D11: Mn | E11: 0
A12: Al | B12: metal phase | C12: separately recovered | D12: Si | E12: 0
A13: Al | B13: metal phase | C13: separately recovered | D13: Mg | E13: 0
... A49: Al | B49: not recovered compound | C49: separately recovered | D49: Sr | E49: 1
A50: Al | B50: not recovered compound | C50: separately recovered | D50: K | E50: 0 | F50: as KCl
A51: Al | B51: not recovered compound | C51: separately recovered | D51: Cl | E51: 0 | F51: as KCl
A52: Ti | B52: carrier | C52: recovered | D52: Ti | E52: 0
A53: Ti | B53: metal phase | C53: separately recovered | D53: Sn | E53: 0
A54: Ti | B54: metal phase | C54: separately recovered | D54: Al | E54: 0
A55: Ti | B55: metal phase | C55: separately recovered | D55: Mo | E55: 0
A56: Ti | B56: metal phase | C56: separately recovered | D56: Si | E56: 0
A57: Ti | B57: metal phase | C57: separately recovered | D57: V | E57: 0
A58: Ti | B58: metal phase | C58: separately recovered | D58: Cr | E58: 0
A59: Ti | B59: metal phase | C59: separately recovered | D59: Nb | E59: 0
A60: Ti | B60: metal phase | C60: separately recovered | D60: Zr | E60: 0
A61: Ti | B61: not recovered compound | C61: lost | D61: Ca | E61: 1
A62: Ti | B62: not recovered compound | C62: lost | D62: Sc | E62: 1
A63: Ti | B63: not recovered compound | C63: lost | D63: Y | E63: 1
... A85: Ti | B85: not recovered compound | C85: separately recovered | D85: Sr | E85: 1
A86: Ti | B86: not recovered compound | C86: separately recovered | D86: K | E86: 0 | F86: as KCl
A87: Ti | B87: not recovered compound | C87: separately recovered | D87: Cl | E87: 0 | F87: as KCl
A88: Mg | B88: carrier | C88: recovered | D88: Mg | E88: 0
A89: Mg | B89: metal phase | C89: separately recovered | D89: Zr | E89: 0
A90: Mg | B90: metal phase | C90: separately recovered | D90: Al | E90: 0
A91: Mg | B91: metal phase | C91: separately recovered | D91: Th | E91: 0
A92: Mg | B92: metal phase | C92: separately recovered | D92: Si | E92: 0
A93: Mg | B93: metal phase | C93: separately recovered | D93: Zn | E93: 0
A94: Mg | B94: metal phase | C94: separately recovered | D94: Sc | E94: 0
A95: Mg | B95: metal phase | C95: separately recovered | D95: Y | E95: 0
A96: Mg | B96: metal phase | C96: separately recovered | D96: La | E96: 0
...

Sheet routes_params
A1: carrier | B1: recovered | D1: rees
A2: metal phase | B2: separately recovered | D2: Sc
A3: mainly recovered compound | B3: lost | D3: Y
A4: not recovered compound | D4: La
D5: Ce
D6: Pr
D7: Nd
D8: Pm
D9: Sm
D10: Eu
D11: Gd
D12: Tb
D13: Dy
D14: Ho
D15: Er
D16: Tm
... D18: Lu

Sheet BoM
C1: iPhone 4 | D1: estimated average (Richter) | E1: iPhone 6 | F1: avg. of representative 3 smartphones (2012-2017)
C2: 137 | D2: =F2 -> 110 | E2: 129 | F2: 110 | G2: 160
A3: element | C3: (University of Plymouth, 2019) | D3: (US EPA, 2015) | E3: (Merchant, 2017) | F3: (Bookhagen et al., 2020) | G3: (Manhart et al., 2016) | H3: =C3 -> (University of Plymouth, 2019) | I3: =D3 -> (US EPA, 2015) | J3: =E3 -> (Merchant, 2017) | K3: =F3 -> (Bookhagen et al., 2020) | L3: =G3 -> (Manhart et al., 2016)
A4: aluminum | B4: =MAX(H4:L4) -> 0.24139535 | C4: 2.5 | E4: 31.14 | F4: 6.68 | G4: 22.18 | H4: =IF(C4<>"",C4/C$2,"-") -> 0.018248175 | I4: =IF(D4<>"",D4/D$2,"-") -> - | J4: =IF(E4<>"",E4/E$2,"-") -> 0.24139535 | K4: =IF(F4<>"",F4/F$2,"-") -> 0.060727273 | L4: =IF(G4<>"",G4/G$2,"-") -> 0.138625
A5: antimony | B5: =MAX(H5:L5) -> 5.1094891e-05 | C5: 0.007 | H5: =IF(C5<>"",C5/C$2,"-") -> 5.1094891e-05 | I5: =IF(D5<>"",D5/D$2,"-") -> - | J5: =IF(E5<>"",E5/E$2,"-") -> - | K5: =IF(F5<>"",F5/F$2,"-") -> - | L5: =IF(G5<>"",G5/G$2,"-") -> -
A6: arsenic | B6: =MAX(H6:L6) -> 7.751938e-05 | E6: 0.01 | H6: =IF(C6<>"",C6/C$2,"-") -> - | I6: =IF(D6<>"",D6/D$2,"-") -> - | J6: =IF(E6<>"",E6/E$2,"-") -> 7.751938e-05 | K6: =IF(F6<>"",F6/F$2,"-") -> - | L6: =IF(G6<>"",G6/G$2,"-") -> -
A7: bismuth | B7: =MAX(H7:L7) -> 0.00015503876 | E7: 0.02 | H7: =IF(C7<>"",C7/C$2,"-") -> - | I7: =IF(D7<>"",D7/D$2,"-") -> - | J7: =IF(E7<>"",E7/E$2,"-") -> 0.00015503876 | K7: =IF(F7<>"",F7/F$2,"-") -> - | L7: =IF(G7<>"",G7/G$2,"-") -> -
A8: calcium | B8: =MAX(H8:L8) -> 0.011678832 | C8: 1.6 | E8: 0.44 | H8: =IF(C8<>"",C8/C$2,"-") -> 0.011678832 | I8: =IF(D8<>"",D8/D$2,"-") -> - | J8: =IF(E8<>"",E8/E$2,"-") -> 0.0034108527 | K8: =IF(F8<>"",F8/F$2,"-") -> - | L8: =IF(G8<>"",G8/G$2,"-") -> -
A9: carbon | B9: =MAX(H9:L9) -> 0.15387597 | C9: 4 | E9: 19.85 | H9: =IF(C9<>"",C9/C$2,"-") -> 0.02919708 | I9: =IF(D9<>"",D9/D$2,"-") -> - | J9: =IF(E9<>"",E9/E$2,"-") -> 0.15387597 | K9: =IF(F9<>"",F9/F$2,"-") -> - | L9: =IF(G9<>"",G9/G$2,"-") -> -
A10: cerium | B10: =MAX(H10:L10) -> 1.875e-07 | G10: 3e-05 | H10: =IF(C10<>"",C10/C$2,"-") -> - | I10: =IF(D10<>"",D10/D$2,"-") -> - | J10: =IF(E10<>"",E10/E$2,"-") -> - | K10: =IF(F10<>"",F10/F$2,"-") -> - | L10: =IF(G10<>"",G10/G$2,"-") -> 1.875e-07
A11: chlorine | B11: =MAX(H11:L11) -> 7.751938e-05 | E11: 0.01 | H11: =IF(C11<>"",C11/C$2,"-") -> - | I11: =IF(D11<>"",D11/D$2,"-") -> - | J11: =IF(E11<>"",E11/E$2,"-") -> 7.751938e-05 | K11: =IF(F11<>"",F11/F$2,"-") -> - | L11: =IF(G11<>"",G11/G$2,"-") -> -
A12: chromium | B12: =MAX(H12:L12) -> 0.051094891 | C12: 7 | E12: 4.94 | H12: =IF(C12<>"",C12/C$2,"-") -> 0.051094891 | I12: =IF(D12<>"",D12/D$2,"-") -> - | J12: =IF(E12<>"",E12/E$2,"-") -> 0.038294574 | K12: =IF(F12<>"",F12/F$2,"-") -> - | L12: =IF(G12<>"",G12/G$2,"-") -> -
A13: cobalt | B13: =MAX(H13:L13) -> 0.051085271 | C13: 0.07 | E13: 6.59 | G13: 5.38 | H13: =IF(C13<>"",C13/C$2,"-") -> 0.00051094891 | I13: =IF(D13<>"",D13/D$2,"-") -> - | J13: =IF(E13<>"",E13/E$2,"-") -> 0.051085271 | K13: =IF(F13<>"",F13/F$2,"-") -> - | L13: =IF(G13<>"",G13/G$2,"-") -> 0.033625
A14: copper | B14: =MAX(H14:L14) -> 0.1454547 | C14: 6 | D14: =35274/1000000*[1]calculations!N2 -> 16.000017 | E14: 7.84 | F14: 6.61 | G14: 15.12 | H14: =IF(C14<>"",C14/C$2,"-") -> 0.04379562 | I14: =IF(D14<>"",D14/D$2,"-") -> 0.1454547 | J14: =IF(E14<>"",E14/E$2,"-") -> 0.060775194 | K14: =IF(F14<>"",F14/F$2,"-") -> 0.060090909 | L14: =IF(G14<>"",G14/G$2,"-") -> 0.0945
A15: dysprosium | B15: =MAX(H15:L15) -> 1.459854e-05 | C15: 0.002 | H15: =IF(C15<>"",C15/C$2,"-") -> 1.459854e-05 | I15: =IF(D15<>"",D15/D$2,"-") -> - | J15: =IF(E15<>"",E15/E$2,"-") -> - | K15: =IF(F15<>"",F15/F$2,"-") -> - | L15: =IF(G15<>"",G15/G$2,"-") -> -
A16: europium | B16: =MAX(H16:L16) -> 6.25e-07 | G16: 0.0001 | H16: =IF(C16<>"",C16/C$2,"-") -> - | I16: =IF(D16<>"",D16/D$2,"-") -> - | J16: =IF(E16<>"",E16/E$2,"-") -> - | K16: =IF(F16<>"",F16/F$2,"-") -> - | L16: =IF(G16<>"",G16/G$2,"-") -> 6.25e-07
A17: gadolinium | B17: =MAX(H17:L17) -> 3.649635e-05 | C17: 0.005 | G17: 0.0002 | H17: =IF(C17<>"",C17/C$2,"-") -> 3.649635e-05 | I17: =IF(D17<>"",D17/D$2,"-") -> - | J17: =IF(E17<>"",E17/E$2,"-") -> - | K17: =IF(F17<>"",F17/F$2,"-") -> - | L17: =IF(G17<>"",G17/G$2,"-") -> 1.25e-06
A18: gallium | B18: =MAX(H18:L18) -> 7.751938e-05 | E18: 0.01 | G18: 0.0004 | H18: =IF(C18<>"",C18/C$2,"-") -> - | I18: =IF(D18<>"",D18/D$2,"-") -> - | J18: =IF(E18<>"",E18/E$2,"-") -> 7.751938e-05 | K18: =IF(F18<>"",F18/F$2,"-") -> - | L18: =IF(G18<>"",G18/G$2,"-") -> 2.5e-06
A19: germanium | B19: =MAX(H19:L19) -> 1.459854e-05 | C19: 0.002 | H19: =IF(C19<>"",C19/C$2,"-") -> 1.459854e-05 | I19: =IF(D19<>"",D19/D$2,"-") -> - | J19: =IF(E19<>"",E19/E$2,"-") -> - | K19: =IF(F19<>"",F19/F$2,"-") -> - | L19: =IF(G19<>"",G19/G$2,"-") -> -
A20: gold | B20: =MAX(H20:L20) -> 0.00030926752 | C20: 0.036 | D20: =75/1000000*[1]calculations!N2 -> 0.034019428 | E20: 0.014 | F20: 0.017 | G20: 0.03 | H20: =IF(C20<>"",C20/C$2,"-") -> 0.00026277372 | I20: =IF(D20<>"",D20/D$2,"-") -> 0.00030926752 | J20: =IF(E20<>"",E20/E$2,"-") -> 0.00010852713 | K20: =IF(F20<>"",F20/F$2,"-") -> 0.00015454545 | L20: =IF(G20<>"",G20/G$2,"-") -> 0.0001875
A21: hydrogen | B21: =MAX(H21:L21) -> 0.042790698 | E21: 5.52 | H21: =IF(C21<>"",C21/C$2,"-") -> - | I21: =IF(D21<>"",D21/D$2,"-") -> - | J21: =IF(E21<>"",E21/E$2,"-") -> 0.042790698 | K21: =IF(F21<>"",F21/F$2,"-") -> - | L21: =IF(G21<>"",G21/G$2,"-") -> -
A22: indium | B22: =MAX(H22:L22) -> 6.25e-05 | C22: 0.002 | F22: =0.0004+0.0022 -> 0.0026 | G22: 0.01 | H22: =IF(C22<>"",C22/C$2,"-") -> 1.459854e-05 | I22: =IF(D22<>"",D22/D$2,"-") -> - | J22: =IF(E22<>"",E22/E$2,"-") -> - | K22: =IF(F22<>"",F22/F$2,"-") -> 2.3636364e-05 | L22: =IF(G22<>"",G22/G$2,"-") -> 6.25e-05
A23: iron | B23: =MAX(H23:L23) -> 0.24087591 | C23: 33 | E23: 18.63 | F23: 15.98 | G23: 0.88 | H23: =IF(C23<>"",C23/C$2,"-") -> 0.24087591 | I23: =IF(D23<>"",D23/D$2,"-") -> - | J23: =IF(E23<>"",E23/E$2,"-") -> 0.1444186 | K23: =IF(F23<>"",F23/F$2,"-") -> 0.14527273 | L23: =IF(G23<>"",G23/G$2,"-") -> 0.0055
A24: lead | B24: =MAX(H24:L24) -> 0.00031007752 | E24: 0.04 | H24: =IF(C24<>"",C24/C$2,"-") -> - | I24: =IF(D24<>"",D24/D$2,"-") -> - | J24: =IF(E24<>"",E24/E$2,"-") -> 0.00031007752 | K24: =IF(F24<>"",F24/F$2,"-") -> - | L24: =IF(G24<>"",G24/G$2,"-") -> -
A25: lithium | B25: =MAX(H25:L25) -> 0.006744186 | E25: 0.87 | H25: =IF(C25<>"",C25/C$2,"-") -> - | I25: =IF(D25<>"",D25/D$2,"-") -> - | J25: =IF(E25<>"",E25/E$2,"-") -> 0.006744186 | K25: =IF(F25<>"",F25/F$2,"-") -> - | L25: =IF(G25<>"",G25/G$2,"-") -> -
A26: magnesium | B26: =MAX(H26:L26) -> 0.065818182 | E26: 0.65 | F26: 7.24 | G26: 5.54 | H26: =IF(C26<>"",C26/C$2,"-") -> - | I26: =IF(D26<>"",D26/D$2,"-") -> - | J26: =IF(E26<>"",E26/E$2,"-") -> 0.0050387597 | K26: =IF(F26<>"",F26/F$2,"-") -> 0.065818182 | L26: =IF(G26<>"",G26/G$2,"-") -> 0.034625
A27: manganese | B27: =MAX(H27:L27) -> 0.002248062 | E27: 0.29 | H27: =IF(C27<>"",C27/C$2,"-") -> - | I27: =IF(D27<>"",D27/D$2,"-") -> - | J27: =IF(E27<>"",E27/E$2,"-") -> 0.002248062 | K27: =IF(F27<>"",F27/F$2,"-") -> - | L27: =IF(G27<>"",G27/G$2,"-") -> -
A28: molybdenum | B28: =MAX(H28:L28) -> 0.00051094891 | C28: 0.07 | E28: 0.02 | H28: =IF(C28<>"",C28/C$2,"-") -> 0.00051094891 | I28: =IF(D28<>"",D28/D$2,"-") -> - | J28: =IF(E28<>"",E28/E$2,"-") -> 0.00015503876 | K28: =IF(F28<>"",F28/F$2,"-") -> - | L28: =IF(G28<>"",G28/G$2,"-") -> -
A29: neodymium | B29: =MAX(H29:L29) -> 0.0019090909 | C29: 0.16 | F29: 0.21 | G29: 0.05 | H29: =IF(C29<>"",C29/C$2,"-") -> 0.0011678832 | I29: =IF(D29<>"",D29/D$2,"-") -> - | J29: =IF(E29<>"",E29/E$2,"-") -> - | K29: =IF(F29<>"",F29/F$2,"-") -> 0.0019090909 | L29: =IF(G29<>"",G29/G$2,"-") -> 0.0003125
A30: nickel | B30: =MAX(H30:L30) -> 0.023636364 | C30: 2.7 | E30: 2.72 | F30: 2.6 | H30: =IF(C30<>"",C30/C$2,"-") -> 0.019708029 | I30: =IF(D30<>"",D30/D$2,"-") -> - | J30: =IF(E30<>"",E30/E$2,"-") -> 0.021085271 | K30: =IF(F30<>"",F30/F$2,"-") -> 0.023636364 | L30: =IF(G30<>"",G30/G$2,"-") -> -
A31: niobium | B31: =MAX(H31:L31) -> 7.2992701e-05 | C31: 0.01 | H31: =IF(C31<>"",C31/C$2,"-") -> 7.2992701e-05 | I31: =IF(D31<>"",D31/D$2,"-") -> - | J31: =IF(E31<>"",E31/E$2,"-") -> - | K31: =IF(F31<>"",F31/F$2,"-") -> - | L31: =IF(G31<>"",G31/G$2,"-") -> -
A32: oxygen | B32: =MAX(H32:L32) -> 0.14503876 | E32: 18.71 | H32: =IF(C32<>"",C32/C$2,"-") -> - | I32: =IF(D32<>"",D32/D$2,"-") -> - | J32: =IF(E32<>"",E32/E$2,"-") -> 0.14503876 | K32: =IF(F32<>"",F32/F$2,"-") -> - | L32: =IF(G32<>"",G32/G$2,"-") -> -
A33: palladium | B33: =MAX(H33:L33) -> 0.00013607771 | D33: =33/1000000*[1]calculations!N2 -> 0.014968548 | F33: 0.0019 | G33: 0.01 | H33: =IF(C33<>"",C33/C$2,"-") -> - | I33: =IF(D33<>"",D33/D$2,"-") -> 0.00013607771 | J33: =IF(E33<>"",E33/E$2,"-") -> - | K33: =IF(F33<>"",F33/F$2,"-") -> 1.7272727e-05 | L33: =IF(G33<>"",G33/G$2,"-") -> 6.25e-05
