Workbook

Sheet disposal
A1: Bitkom e.V. 2020
A2: Bundesbürger
A3: 0.64 | B3: =A2&" haben Smartphone entsorgt oder verkauft" -> Bundesbürger haben Smartphone entsorgt oder verkauft
A4: 0.21 | B4: =A2&" heben Geräte ausnahmslos auf" -> Bundesbürger heben Geräte ausnahmslos auf
A5: =1-A3-A4 -> 0.15 | B5: =A2&" benutzen noch oder haben keines" -> Bundesbürger benutzen noch oder haben keines
A7: ehemalige Smartphone-Besitzer
A8: =A3/(A3+A4) -> 0.75294118 | B8: =A7&" haben Smartphone entsorgt oder verkauft" -> ehemalige Smartphone-Besitzer haben Smartphone entsorgt oder verkauft | I8: min | J8: max
A9: =A4/(A3+A4) -> 0.24705882 | B9: =A7&" heben Geräte ausnahmslos auf" -> ehemalige Smartphone-Besitzer heben Geräte ausnahmslos auf | H9: lifetime = replacement cycle | I9: 1.75 | J9: 2.8 | K9: a
A11: Smartphone-Entsorger
A12: 0.5 | B12: =A11&" verkauften an Privatperson" -> Smartphone-Entsorger verkauften an Privatperson
A13: 0.09 | B13: =A11&" verkauften an professionellen Händler" -> Smartphone-Entsorger verkauften an professionellen Händler
A15: 0.41 | B15: =A11&" brachten zur Sammelstelle für Elektromüll" -> Smartphone-Entsorger brachten zur Sammelstelle für Elektromüll
A16: 0.17 | B16: =A11&" brachten zum Hersteller oder Händler" -> Smartphone-Entsorger brachten zum Hersteller oder Händler
A18: 0.25 | B18: =A11&" haben schon einmal Altgerät verschenkt" -> Smartphone-Entsorger haben schon einmal Altgerät verschenkt
A19: 0.01 | B19: =A11&" im Hausmüll entsorgt" -> Smartphone-Entsorger im Hausmüll entsorgt
A21: Watson et al. 2017
A22: 0.4 | B22: existing phone not functioning
A23: 0.47 | B23: want latest phone model
A24: 0.13 | B24: want latest software
A29: Benton et al., 2015

Sheet dmg_causes
A1: https://www.statista.com/statistics/959492/us-top-common-smartphone-damage-cause/
A2: https://www.squaretrade.com/press/Mobile-myths-cost-consumers-dearly-Americans-report-spending-3.4-billion-replacing-millions
B3: 0.66 | C3: of smartphone owners damaged their phones in the past year
A4: dropped on the ground | B4: 0.74 | C4: impact | D4: impact | E4: =SUM(B4:B5,B7,B9) -> 1.83 | F4: =E4/($E$4+$E$5) -> 0.73790323
A5: falling out of a pocket | B5: 0.49 | C5: impact | D5: water | E5: =SUM(B6,B8) -> 0.65 | F5: =E5/($E$4+$E$5) -> 0.26209677
A6: dropped in water | B6: 0.39 | C6: water
A7: knocked off a table or counter | B7: 0.38 | C7: impact
A8: dropped in the toilet | B8: 0.26 | C8: water
A9: falling out of a bag | B9: 0.22 | C9: impact

Sheet defects
A1: https://www.statista.com/statistics/959492/us-top-common-smartphone-damage-cause/
A2: https://www.squaretrade.com/press/Mobile-myths-cost-consumers-dearly-Americans-report-spending-3.4-billion-replacing-millions
B3: 0.66 | C3: of smartphone owners damaged their phones in the past year
A4: dropped on the ground | B4: 0.74 | C4: impact | D4: impact | E4: =SUM(B4:B5,B7,B9) -> 1.83 | F4: =E4/($E$4+$E$5) -> 0.73790323
A5: falling out of a pocket | B5: 0.49 | C5: impact | D5: ingress | E5: =SUM(B6,B8) -> 0.65 | F5: =E5/($E$4+$E$5) -> 0.26209677
A6: dropped in water | B6: 0.39 | C6: ingress
A7: knocked off a table or counter | B7: 0.38 | C7: impact
A8: dropped in the toilet | B8: 0.26 | C8: ingress
A9: falling out of a bag | B9: 0.22 | C9: impact
A11: (Agrawal, 2017) | B11: mix | C11: max | D11: average
A12: broken screen | B12: 0.5 | C12: 0.55 | D12: =AVERAGE(B12:C12) -> 0.525 | E12: impact | F12: display glass | G12: impact | H12: =D12+D14+D17 -> 0.65
A13: water-caused damage | B13: 0.15 | C13: 0.2 | D13: =AVERAGE(B13:C13) -> 0.175 | E13: ingress | F13: random | G13: ingress | H13: =D13 -> 0.175
A14: charging connector | B14: 0.05 | C14: 0.1 | D14: =AVERAGE(B14:C14) -> 0.075 | E14: impact/wear | F14: connector | G14: wear | H14: =D14+D17 -> 0.125
A15: phone locked | B15: 0.05 | C15: 0.1 | D15: =AVERAGE(B15:C15) -> 0.075
A16: connectivity | B16: 0.07 | C16: 0.07 | D16: =AVERAGE(B16:C16) -> 0.07
A17: audio | B17: 0.05 | C17: 0.05 | D17: =AVERAGE(B17:C17) -> 0.05 | E17: impact/ingress/wear | F17: audio
A18: phone crush | B18: 0.01 | C18: 0.05 | D18: =AVERAGE(B18:C18) -> 0.03 | E18: impact
A19: battery not mentioned
A21: https://www.statista.com/statistics/959513/us-common-smartphone-damages/
A22: https://www.squaretrade.com/press/Mobile-myths-cost-consumers-dearly-Americans-report-spending-3.4-billion-replacing-millions
A23: 5761
A24: cracked screen | B24: 0.29 | C24: impact | D24: display | E24: display glass | F24: impact | G24: =SUM(B24,B27:B28) -> 0.61 | H24: =G24/SUM($G$24:$G$26) -> 0.33888889 | I24: display | J24: =SUM(B24:B25,B27) -> 0.72 | K24: =J24/SUM($J$24:$J$26) -> 0.65454545 | L24: display glass | M24: =SUM(B24:B25) -> 0.56 | N24: =M24/SUM($M$24:$M$27) -> 0.50909091
A25: scratched screen | B25: 0.27 | C25: wear | D25: display | E25: display glass | F25: ingress | G25: =SUM(B26:B27) -> 0.38 | H25: =G25/SUM($G$24:$G$26) -> 0.21111111 | I25: battery | J25: =B26 -> 0.22 | K25: =J25/SUM($J$24:$J$26) -> 0.2 | L25: display unit | M25: =B27 -> 0.16 | N25: =M25/SUM($M$24:$M$27) -> 0.14545455
A26: nonworking batteries | B26: 0.22 | C26: impact/ingress/wear | D26: battery | E26: battery | F26: wear | G26: =SUM(B25:B28) -> 0.81 | H26: =G26/SUM($G$24:$G$26) -> 0.45 | I26: housing | J26: =B28 -> 0.16 | K26: =J26/SUM($J$24:$J$26) -> 0.14545455 | L26: battery | M26: =B26 -> 0.22 | N26: =M26/SUM($M$24:$M$27) -> 0.2
A27: touchscreen issues | B27: 0.16 | C27: impact/ingress/wear | D27: display | E27: display unit | L27: housing | M27: =B28 -> 0.16 | N27: =M27/SUM($M$24:$M$27) -> 0.14545455
A28: chipped corners/side | B28: 0.16 | C28: impact/wear | D28: housing | E28: housing
A30: clickrepair 2019
A31: Defects | B31: Share | C31: at impact | D31: from wear | J31: impact | K31: ingress | L31: wear
A32: Display | B32: 0.674 | C32: 0.774 | D32: 0.603 | I32: (Statista, 2018) | J32: =F4 -> 0.73790323 | K32: =F5 -> 0.26209677 | W32: 0
A33: Casing | B33: 0.5 | C33: 0.427 | D33: 0.731 | I33: =A11 -> (Agrawal, 2017) | J33: =H12 -> 0.65 | K33: =H13 -> 0.175 | L33: =H14 -> 0.125 | W33: 0.05 | X33: 50
A34: Battery | B34: 0.339 | C34: 0.067 | I34: (Agrawal, 2017), impact & ingress | J34: =J33/($J$33+$K$33) -> 0.78787879 | K34: =K33/($J$33+$K$33) -> 0.21212121 | W34: 0.1 | X34: 15
A35: Connectors | B35: 0.161 | C35: 0.054 | D35: 0.138 | I35: (Statista, 2017) | J35: =H24 -> 0.33888889 | K35: =H25 -> 0.21111111 | L35: =H26 -> 0.45 | W35: 0.15 | X35: 9
A36: Camera | B36: 0.079 | C36: 0.093 | I36: (Statista, 2017), impact & ingress | J36: =J35/($J$35+$K$35) -> 0.61616162 | K36: =K35/($J$35+$K$35) -> 0.38383838 | W36: 0.2 | X36: 7
I37: average impact & ingress; wear | J37: =AVERAGE(J36,J32,J34) -> 0.71398121 | K37: =AVERAGE(K36,K32,K34) -> 0.28601879 | L37: =AVERAGE(L33,L35) -> 0.2875 | W37: 0.25 | X37: 6
I38: defect frequency | J38: =J37/SUM($J$37:$L$37) -> 0.55454851 | K38: =K37/SUM($J$37:$L$37) -> 0.22215052 | L38: =L37/SUM($J$37:$L$37) -> 0.22330097
A39: Handyreparaturvergleich 03/19 | W39: 0.3 | X39: 5
A40: Repair requests | B40: iPhone6 | C40: iPhoneX | W40: 0.35 | X40: 4.5
A41: Display | B41: 0.485 | C41: 0.38 | F41: Display | G41: Back cover | H41: Display glass/ Touchscreen | I41: LCD Display | J41: Camera | K41: Buttons | L41: Ports/connectors | M41: Battery | N41: Audio | O41: Others | W41: 0.4 | X41: 4
A42: Back cover | B42: 0.009 | C42: 0.357 | E42: =A11 -> (Agrawal, 2017) | H42: =D12 -> 0.525 | L42: =D14 -> 0.075 | N42: =D17 -> 0.05 | W42: 0.45 | X42: 3.5
A43: Display glass / Touchscreen | B43: 0.096 | C43: 0.12 | E43: =A21 -> https://www.statista.com/statistics/959513/us-common-smartphone-damages/ | G43: =N27 -> 0.14545455 | H43: =N24 -> 0.50909091 | I43: =N25 -> 0.14545455 | M43: =N26 -> 0.2 | W43: 0.5 | X43: 3
A44: LCD Display | B44: 0.07 | C44: 0.062 | E44: =A30 -> clickrepair 2019 | F44: =B32 -> 0.674 | G44: =B33 -> 0.5 | J44: =B36 -> 0.079 | L44: =B35 -> 0.161 | M44: =B34 -> 0.339 | W44: 0.55 | X44: 2
A45: Battery | B45: 0.17 | C45: 0.012 | E45: =B40 -> iPhone6 | F45: 0.485 | G45: 0.009 | H45: 0.096 | I45: 0.07 | M45: 0.17 | O45: 0.17 | W45: 0.6 | X45: 1
A46: Others | B46: 0.17 | C46: 0.069 | E46: =C40 -> iPhoneX | F46: 0.38 | G46: 0.357 | H46: 0.12 | I46: 0.062 | M46: 0.012 | O46: 0.069 | W46: 0.65
E47: =B48 -> S6 | F47: 0.137 | G47: 0.014 | H47: 0.072 | I47: 0.072 | J47: 0.043 | K47: 0.122 | L47: 0.043 | M47: 0.439 | O47: 0.058 | W47: 0.7
A48: Repair requests | B48: S6 | C48: S9 | E48: =C48 -> S9 | F48: 0.499 | G48: 0.217 | H48: 0.188 | I48: 0.054 | J48: 0.013 | K48: 0.008 | L48: 0.005 | M48: 0.003 | O48: 0.013 | W48: 0.75
A49: Display | B49: 0.137 | C49: 0.499 | F49: =AVERAGE(F42:F48) -> 0.435 | G49: =AVERAGE(G42:G48) -> 0.20707576 | H49: =AVERAGE(H42:H48) -> 0.25168182 | I49: =AVERAGE(I42:I48) -> 0.080690909 | J49: =AVERAGE(J42:J48) -> 0.045 | K49: =AVERAGE(K42:K48) -> 0.065 | L49: =AVERAGE(L42:L48) -> 0.071 | M49: =AVERAGE(M42:M48) -> 0.19383333 | ... O49: =AVERAGE(O42:O48) -> 0.0775 | P49: TU Berlin / Fraunhofer IZM young researchers group “Obsolescence as a challenge for sustainability!” | W49: 0.8 | X49: 0.5
A50: Back cover | B50: 0.014 | C50: 0.217 | D50: clickrepair 2019 | E50: =C31 -> at impact | F50: =C32 -> 0.774 | G50: =C33 -> 0.427 | J50: =C36 -> 0.093 | L50: =C35 -> 0.054 | M50: =C34 -> 0.067 | W50: 0.85
A51: Display glass/ Touchscreen | B51: 0.072 | C51: 0.188 | E51: =D31 -> from wear | F51: =D32 -> 0.603 | G51: =D33 -> 0.731 | L51: =D35 -> 0.138 | W51: 0.9
A52: LCD Display | B52: 0.072 | C52: 0.054 | D52: w/o others | E52: repair request frequency | F52: =F49/SUM($F$49:$N$49) -> 0.31087376 | G52: =G49/SUM($F$49:$N$49) -> 0.14798717 | H52: =H49/SUM($F$49:$N$49) -> 0.179865 | I52: =I49/SUM($F$49:$N$49) -> 0.057665946 | J52: =J49/SUM($F$49:$N$49) -> 0.032159354 | K52: =K49/SUM($F$49:$N$49) -> 0.046452401 | L52: =L49/SUM($F$49:$N$49) -> 0.050740315 | M52: =M49/SUM($F$49:$N$49) -> 0.13852344 | N52: =N49/SUM($F$49:$N$49) -> 0.035732616 | W52: 0.95
A53: Camera | B53: 0.043 | C53: 0.013 | E53: =E50 -> at impact | F53: =F50/SUM($F$50:$N$50) -> 0.54699647 | G53: =G50/SUM($F$50:$N$50) -> 0.30176678 | H53: =H50/SUM($F$50:$N$50) -> 0 | I53: =I50/SUM($F$50:$N$50) -> 0 | J53: =J50/SUM($F$50:$N$50) -> 0.065724382 | K53: =K50/SUM($F$50:$N$50) -> 0 | L53: =L50/SUM($F$50:$N$50) -> 0.038162544 | M53: =M50/SUM($F$50:$N$50) -> 0.047349823 | N53: =N50/SUM($F$50:$N$50) -> 0 | W53: 1 | X53: 0
A54: Buttons | B54: 0.122 | C54: 0.008 | E54: =E51 -> from wear | F54: =F51/SUM($F$51:$N$51) -> 0.40964674 | G54: =G51/SUM($F$51:$N$51) -> 0.49660326 | H54: =H51/SUM($F$51:$N$51) -> 0 | I54: =I51/SUM($F$51:$N$51) -> 0 | J54: =J51/SUM($F$51:$N$51) -> 0 | K54: =K51/SUM($F$51:$N$51) -> 0 | L54: =L51/SUM($F$51:$N$51) -> 0.09375 | M54: =M51/SUM($F$51:$N$51) -> 0 | N54: =N51/SUM($F$51:$N$51) -> 0
A55: Ports/connectors | B55: 0.043 | C55: 0.005 | D55: w/o display unit | E55: =E52 -> repair request frequency | G55: =G52 -> 0.14798717 | H55: =(H$52/SUM($H$52:$I$52))*$F52+H52 -> 0.4152672 | I55: =(I$52/SUM($H$52:$I$52))*$F52+I52 -> 0.1331375 | J55: =J52 -> 0.032159354 | K55: =K52 -> 0.046452401 | L55: =L52 -> 0.050740315 | M55: =M52 -> 0.13852344 | N55: =N52 -> 0.035732616
A56: Battery | B56: 0.439 | C56: 0.003 | E56: =E53 -> at impact | G56: =G53 -> 0.30176678 | H56: =(H$52/SUM($H$52:$I$52))*$F53+H53 -> 0.41420085 | I56: =(I$52/SUM($H$52:$I$52))*$F53+I53 -> 0.13279562 | J56: =J53 -> 0.065724382 | K56: =K53 -> 0 | L56: =L53 -> 0.038162544 | M56: =M53 -> 0.047349823 | N56: =N53 -> 0
A57: Others | B57: 0.058 | C57: 0.013 | E57: =E54 -> from wear | G57: =G54 -> 0.49660326 | H57: =(H$52/SUM($H$52:$I$52))*$F54+H54 -> 0.31019584 | I57: =(I$52/SUM($H$52:$I$52))*$F54+I54 -> 0.099450903 | J57: =J54 -> 0 | K57: =K54 -> 0 | L57: =L54 -> 0.09375 | M57: =M54 -> 0 | N57: =N54 -> 0
E58: impact | G58: =G56 -> 0.30176678 | H58: =H56 -> 0.41420085 | I58: =I56 -> 0.13279562 | J58: =J56 -> 0.065724382 | K58: =K56 -> 0 | L58: =L56 -> 0.038162544 | M58: =M56 -> 0.047349823 | N58: =N56 -> 0
E59: wear | G59: =G57 -> 0.49660326 | H59: =H57 -> 0.31019584 | I59: =I57 -> 0.099450903 | J59: =J57 -> 0 | K59: =K57 -> 0 | L59: =L57 -> 0.09375 | M59: =M57 -> 0 | N59: =N57 -> 0
A62: https://susproc.jrc.ec.europa.eu/product-bureau/sites/default/files/2021-12/JRC_Report_Repair_Score_Smartphone_Tablets_v2.pdf
A63: Relevance value | C63: Failure Likelihood
C64: Low | D64: Medium | E64: High
A65: Functional relevance | B65: Low
B66: Medium | D66: Front-facing camera | E66: Back cover (assembly)
D67: Rear-facing camera
B68: High | C68: External connectors | D68: Hinge assembly or mechanical display folding mechanism | E68: Battery
C69: Buttons | D69: mechanical display rolling mechanism | E69: Display assembly
C70: Microphone
C71: Speaker
A74: Wertgarantie 2020 | J74: Wertgarantie 2019
B75: 2019 | C75: 2020 | D75: 2019 | E75: 2020 | F75: 2019 | G75: 2020 | J75: 2019 | K75: 2019 | L75: 2019
B76: with screen protector/protective case | C76: with screen protector/protective case | D76: without screen protector/protective case | E76: without screen protector/protective case | F76: reduction through screen protector/protective case | J76: with screen protector/protective case | K76: without screen protector/protective case | L76: reduction through screen protector/protective case
A77: Sony | B77: 0.064 | C77: 0.106 | D77: 0.056 | E77: 0.125 | F77: =B77/D77 -> 1.1428571 | G77: =C77/E77 -> 0.848 | I77: htc | J77: 0.202 | K77: 0.233 | L77: =J77/K77 -> 0.86695279
A78: Apple | B78: 0.122 | C78: 0.103 | D78: 0.183 | E78: 0.115 | F78: =B78/D78 -> 0.66666667 | G78: =C78/E78 -> 0.89565217 | I78: LG | J78: 0.145 | K78: 0.22 | L78: =J78/K78 -> 0.65909091
A79: Samsung | B79: 0.114 | C79: 0.109 | D79: 0.178 | E79: 0.165 | F79: =B79/D79 -> 0.64044944 | G79: =C79/E79 -> 0.66060606 | I79: Apple | J79: 0.133 | K79: 0.199 | L79: =J79/K79 -> 0.66834171
A80: Huawei | B80: 0.102 | C80: 0.108 | D80: 0.205 | E80: 0.123 | F80: =B80/D80 -> 0.49756098 | G80: =C80/E80 -> 0.87804878 | I80: Samsung | J80: 0.132 | K80: 0.185 | L80: =J80/K80 -> 0.71351351
A81: LG | B81: 0.137 | C81: 0.115 | D81: 0.095 | E81: 0.053 | F81: =B81/D81 -> 1.4421053 | G81: =C81/E81 -> 2.1698113 | I81: Sony | J81: 0.111 | K81: 0.19 | L81: =J81/K81 -> 0.58421053
A82: Nokia | B82: 0.047 | C82: 0.125 | D82: 0.095 | E82: 0.111 | F82: =B82/D82 -> 0.49473684 | G82: =C82/E82 -> 1.1261261 | I82: Huawei | J82: 0.105 | K82: 0.184 | L82: =J82/K82 -> 0.57065217
A83: Xiaomi | B83: 0.059 | C83: 0.051 | D83: 0.25 | E83: 0.1 | F83: =B83/D83 -> 0.236 | G83: =C83/E83 -> 0.51 | I83: Nokia | J83: 0.091 | K83: 0.106 | L83: =J83/K83 -> 0.85849057
H84: =AVERAGE(F77:G83) -> 0.87204434 | I84: Xiaomi | J84: 0.063 | K84: 0.286 | L84: =J84/K84 -> 0.22027972
L85: =AVERAGE(L77:L84) -> 0.64269149 | N85: =(H84+L85)/2 -> 0.75736792 | O85: =1-N85 -> 0.24263208
O87: 0.03
N88: 1
N89: =N88-O89 -> 0.67 | O89: 0.33
N90: =N88-O90 -> 0.6499 | O90: =((1-((1-O89)*(1-O87)))) -> 0.3501
N91: =N90/N89 -> 0.97

Sheet lifetime
C1: average
B2: YouGov | C2: 45.8 | D2: =ROUND(C2,0) -> 46
B3: Ipsos | C3: 38.4 | D3: =ROUND(C3,0) -> 38
B4: Ng | C4: =AVERAGE(20.2, 26.2) -> 23.2 | D4: =ROUND(C4,0) -> 23
B5: Wieser | C5: 32.4 | D5: =ROUND(C5,0) -> 32
B6: Counterpoint | C6: 21 | D6: =ROUND(C6,0) -> 21
C7: =AVERAGE(C2:C6) -> 32.16 | D7: =ROUND(C7,0) -> 32
B10: YouGov Research, 2020
B11: On average, how long do you tend to own the following devices before buying a new one?
B12: less than 1 year | C12: 0.01 | D12: 0.02
B13: 1-2 years | C13: 0.28 | D13: 0.39
B14: 3-4 years | C14: 0.41 | D14: 0.36
B15: 5-6 years | C15: 0.15 | D15: 0.23
B16: 7-8 years | C16: 0.03
B17: 9-10 years | C17: 0.01
B18: more than 10 years | C18: 0.02
B20: Ipsos, Trinomics, Fraunhofer FOKUS, Economisti Associati 2019
B22: In the past 5 years, how often have you acquired a new mobile phone for personal use?
B23: less often than every five years | C23: 0.14
B24: every five years | C24: 0.09
B25: every four years | C25: 0.11
B26: every three years | C26: 0.25
B27: every two years | C27: 0.33
B28: every year | C28: 0.06
B29: more often than every year | C29: 0.02
B31: (Kantar Worldpanel 2017) and (Ng 2019a)
B32: active use in months | C32: USA | D32: China | E32: EU5 | F32: France | G32: Germany | H32: Great Britain | I32: Italy | J32: Spain
B33: 2013 | C33: 20.5 | D33: 18.6 | E33: 18.3
B34: 2014 | C34: 20.9 | D34: 21.8 | E34: 19.5
B35: 2015 | C35: 21.6 | D35: 19.5 | E35: 20.4
B36: 2016 | C36: 22.7 | D36: 20.2 | E36: 23.4 | F36: min | G36: =MIN(C36:E38) -> 20.2
B37: 2017 | C37: 23.6 | D37: 21 | E37: 24.9 | F37: max | G37: =MAX(C36:E38) -> 26.2
B38: 2018 | C38: 24.7 | D38: 21 | E38: 26.2
B41: Stiftung Warentest/Prakash (2015)/Cordella (2020)
B42: < 2 years | C42: 0.42
B43: 3 years | C43: 0.16
B44: 4 years | C44: 0.12
B45: > 5 years | C45: 0.2
B47: (Ametsreiter 2016, 2017, 2019, 2020; Haas 2018)
B48: When was the currently used smartphone bought | C48: 2016 | D48: 2017 | E48: 2018 | F48: 2019 | G48: 2020
B49: > 24 months | C49: =1-C50-C51-C52 -> 0.19 | D49: =1-D50-D51-D52 -> 0.19 | E49: =1-E50-E51-E52 -> 0.19 | F49: =1-F50-F51-F52 -> 0.19 | G49: =1-G50-G51-G52 -> 0.19
B50: 13-34 months | C50: =0.81-C51-C52 -> 0.26 | D50: =0.81-D51-D52 -> 0.26 | E50: =0.81-E51-E52 -> 0.26 | F50: =0.81-F51-F52 -> 0.26 | G50: =0.81-G51-G52 -> 0.26
B51: 7-12 months | C51: =0.55-C52 -> 0.24 | D51: =0.55-D52 -> 0.21 | E51: =0.55-E52 -> 0.28 | F51: =0.55-F52 -> 0.32 | G51: =0.55-G52 -> 0.34
B52: 1-6 months | C52: 0.31 | D52: 0.34 | E52: 0.27 | F52: 0.23 | G52: 0.21
B54: https://www.bitkom.org/sites/main/files/2022-02/Bitkom-Pressekonferenz%20Smartphone-Markt%2017%2002%202022%20Pr%C3%A4sentation_final.pdf
B55: Wie lange haben Sie das Smartphone, das Sie derzeit
B56: privat nutzen und selbst gekauft haben?
B57: 0-6 months | C57: 0.22
B58: 7-12 months | C58: 0.38
B59: 13-24 months | C59: 0.22
B60: more than 2 or 3 years | C60: 0.08
B61: more than 3 years | C61: 0.08
B63: months | C63: =B10 -> YouGov Research, 2020 | D63: =B20 -> Ipsos, Trinomics, Fraunhofer FOKUS, Economisti Associati 2019 | E63: =B41 -> Stiftung Warentest/Prakash (2015)/Cordella (2020)
A64: =ROUNDDOWN(B64/12,0) -> 0 | B64: 0 | C64: 0.01 | D64: 0.02
A65: =ROUNDDOWN(B65/12,0) -> 0 | B65: 1 | C65: 0.01 | D65: 0.02
A66: =ROUNDDOWN(B66/12,0) -> 0 | B66: 2 | C66: 0.01 | D66: 0.02
A67: =ROUNDDOWN(B67/12,0) -> 0 | B67: 3 | C67: 0.01 | D67: 0.02
A68: =ROUNDDOWN(B68/12,0) -> 0 | B68: 4 | C68: 0.01 | D68: 0.02
A69: =ROUNDDOWN(B69/12,0) -> 0 | B69: 5 | C69: 0.01 | D69: 0.02
A70: =ROUNDDOWN(B70/12,0) -> 0 | B70: 6 | C70: 0.01 | D70: 0.02
A71: =ROUNDDOWN(B71/12,0) -> 0 | B71: 7 | C71: 0.01 | D71: 0.02
A72: =ROUNDDOWN(B72/12,0) -> 0 | B72: 8 | C72: 0.01 | D72: 0.02
A73: =ROUNDDOWN(B73/12,0) -> 0 | B73: 9 | C73: 0.01 | D73: 0.02
A74: =ROUNDDOWN(B74/12,0) -> 0 | B74: 10 | C74: 0.01 | D74: 0.02
A75: =ROUNDDOWN(B75/12,0) -> 0 | B75: 11 | C75: 0.01 | D75: 0.02
... A87: =ROUNDDOWN(B87/12,0) -> 1 | B87: 23 | C87: 0.28 | D87: 0.06
A88: =ROUNDDOWN(B88/12,0) -> 2 | B88: 24 | C88: 0.28 | D88: 0.33 | E88: 0.42
A89: =ROUNDDOWN(B89/12,0) -> 2 | B89: 25 | C89: 0.28 | D89: 0.33 | E89: 0.42
A90: =ROUNDDOWN(B90/12,0) -> 2 | B90: 26 | C90: 0.28 | D90: 0.33 | E90: 0.42
A91: =ROUNDDOWN(B91/12,0) -> 2 | B91: 27 | C91: 0.28 | D91: 0.33 | E91: 0.42
A92: =ROUNDDOWN(B92/12,0) -> 2 | B92: 28 | C92: 0.28 | D92: 0.33 | E92: 0.42
A93: =ROUNDDOWN(B93/12,0) -> 2 | B93: 29 | C93: 0.28 | D93: 0.33 | E93: 0.42
A94: =ROUNDDOWN(B94/12,0) -> 2 | B94: 30 | C94: 0.28 | D94: 0.33 | E94: 0.42
A95: =ROUNDDOWN(B95/12,0) -> 2 | B95: 31 | C95: 0.28 | D95: 0.33 | E95: 0.42
A96: =ROUNDDOWN(B96/12,0) -> 2 | B96: 32 | C96: 0.28 | D96: 0.33 | E96: 0.42
A97: =ROUNDDOWN(B97/12,0) -> 2 | B97: 33 | C97: 0.28 | D97: 0.33 | E97: 0.42
A98: =ROUNDDOWN(B98/12,0) -> 2 | B98: 34 | C98: 0.28 | D98: 0.33 | E98: 0.42
A99: =ROUNDDOWN(B99/12,0) -> 2 | B99: 35 | C99: 0.28 | D99: 0.33 | E99: 0.42
... A123: =ROUNDDOWN(B123/12,0) -> 4 | B123: 59 | C123: 0.41 | D123: 0.11 | E123: 0.12
A124: =ROUNDDOWN(B124/12,0) -> 5 | B124: 60 | C124: 0.15 | D124: 0.09
A125: =ROUNDDOWN(B125/12,0) -> 5 | B125: 61 | C125: 0.15 | D125: 0.09
A126: =ROUNDDOWN(B126/12,0) -> 5 | B126: 62 | C126: 0.15 | D126: 0.09
A127: =ROUNDDOWN(B127/12,0) -> 5 | B127: 63 | C127: 0.15 | D127: 0.09
A128: =ROUNDDOWN(B128/12,0) -> 5 | B128: 64 | C128: 0.15 | D128: 0.09
A129: =ROUNDDOWN(B129/12,0) -> 5 | B129: 65 | C129: 0.15 | D129: 0.09
A130: =ROUNDDOWN(B130/12,0) -> 5 | B130: 66 | C130: 0.15 | D130: 0.09
A131: =ROUNDDOWN(B131/12,0) -> 5 | B131: 67 | C131: 0.15 | D131: 0.09
A132: =ROUNDDOWN(B132/12,0) -> 5 | B132: 68 | C132: 0.15 | D132: 0.09
A133: =ROUNDDOWN(B133/12,0) -> 5 | B133: 69 | C133: 0.15 | D133: 0.09
A134: =ROUNDDOWN(B134/12,0) -> 5 | B134: 70 | C134: 0.15 | D134: 0.09
A135: =ROUNDDOWN(B135/12,0) -> 5 | B135: 71 | C135: 0.15 | D135: 0.09
A136: =ROUNDDOWN(B136/12,0) -> 6 | B136: 72 | C136: 0.15
A137: =ROUNDDOWN(B137/12,0) -> 6 | B137: 73 | C137: 0.15
A138: =ROUNDDOWN(B138/12,0) -> 6 | B138: 74 | C138: 0.15
A139: =ROUNDDOWN(B139/12,0) -> 6 | B139: 75 | C139: 0.15
A140: =ROUNDDOWN(B140/12,0) -> 6 | B140: 76 | C140: 0.15
A141: =ROUNDDOWN(B141/12,0) -> 6 | B141: 77 | C141: 0.15
A142: =ROUNDDOWN(B142/12,0) -> 6 | B142: 78 | C142: 0.15
A143: =ROUNDDOWN(B143/12,0) -> 6 | B143: 79 | C143: 0.15
A144: =ROUNDDOWN(B144/12,0) -> 6 | B144: 80 | C144: 0.15
...

Sheet lifetime_months
A1: (YouGov, 2020) | B1: (EC et al., 2019) | C1: (Prakash et al., 2015)
A2: 0.01 | B2: 0.02
A3: 0.01 | B3: 0.02
A4: 0.01 | B4: 0.02
A5: 0.01 | B5: 0.02
A6: 0.01 | B6: 0.02
A7: 0.01 | B7: 0.02
A8: 0.01 | B8: 0.02
A9: 0.01 | B9: 0.02
A10: 0.01 | B10: 0.02
A11: 0.01 | B11: 0.02
A12: 0.01 | B12: 0.02
A13: 0.01 | B13: 0.02
... A25: 0.28 | B25: 0.06
A26: 0.28 | B26: 0.33 | C26: 0.42
A27: 0.28 | B27: 0.33 | C27: 0.42
A28: 0.28 | B28: 0.33 | C28: 0.42
A29: 0.28 | B29: 0.33 | C29: 0.42
A30: 0.28 | B30: 0.33 | C30: 0.42
A31: 0.28 | B31: 0.33 | C31: 0.42
A32: 0.28 | B32: 0.33 | C32: 0.42
A33: 0.28 | B33: 0.33 | C33: 0.42
A34: 0.28 | B34: 0.33 | C34: 0.42
A35: 0.28 | B35: 0.33 | C35: 0.42
A36: 0.28 | B36: 0.33 | C36: 0.42
A37: 0.28 | B37: 0.33 | C37: 0.42
... A61: 0.41 | B61: 0.11 | C61: 0.12
A62: 0.15 | B62: 0.09
A63: 0.15 | B63: 0.09
A64: 0.15 | B64: 0.09
A65: 0.15 | B65: 0.09
A66: 0.15 | B66: 0.09
A67: 0.15 | B67: 0.09
A68: 0.15 | B68: 0.09
A69: 0.15 | B69: 0.09
A70: 0.15 | B70: 0.09
A71: 0.15 | B71: 0.09
A72: 0.15 | B72: 0.09
A73: 0.15 | B73: 0.09
A74: 0.15
A75: 0.15
A76: 0.15
A77: 0.15
A78: 0.15
A79: 0.15
A80: 0.15
A81: 0.15
A82: 0.15
A83: 0.15
A84: 0.15
A85: 0.15
... A122: 0.02

Sheet purchase_criteria
B1: category | C1: statista (paywall)/PS (176) 2014 | D1: statista (paywall)/PS (176) 2015
A2: newest model, newest technology | B2: lifetime | C2: 0.29 | D2: 0.31
A3: good design | B3: design | C3: 0.33 | D3: 0.34
A4: high-quality finish | B4: design

Sheet repair
A1: https://www.squaretrade.com/press/Mobile-myths-cost-consumers-dearly-Americans-report-spending-3.4-billion-replacing-millions
A2: 0.65 | B2: 65% of smartphone owners have avoided fixing a broken phone because of high costs
A3: 0.67 | B3: 67% admit they would not repair a damaged smartphone that still worked
A4: 0.59 | B4: 59% have chosen to upgrade to a new device rather than repair a broken phone
A6: 0.38 | B6: of smartphone owners with a cracked screen don’t get them fixed
A7: 0.34 | B7: 34% of that group say repairing them was too costly
A10: (Wertgarantie, 2019)
A11: https://reparatur-marktplatz.wertgarantie.de/images/presse/downloads/pdf/clickrepair-smartphone-reparatur-studie-2019.pdf
B12: Apple | C12: HTC | D12: LG | E12: Samsung | F12: Sony | G12: Nokia | H12: Huawei | I12: avg
A13: would repair | B13: 0.503 | C13: 0.243 | D13: 0.314 | E13: 0.427 | F13: 0.331 | G13: 0.361 | H13: 0.421 | I13: =AVERAGE(B13:H13) -> 0.37142857
A14: have repaired | B14: 0.195 | C14: 0.151 | D14: 0.128 | E14: 0.127 | F14: 0.121 | G14: 0.109 | H14: 0.102 | I14: =AVERAGE(B14:H14) -> 0.13328571
A16: 0.491 | B16: repair is cheaper than buying new device
A17: 0.425 | B17: repair is more sustainable
A18: 0.357 | B18: repaired device as back-up
A20: (Wertgarantie, 2020)
B22: Apple | C22: Samsung | D22: Huawei | E22: LG | F22: Nokia | G22: HTC | H22: Sony | I22: Xiaomi | J22: avg
A23: would repair | B23: 0.44 | C23: 0.34 | D23: 0.302 | E23: 0.384 | F23: 0.399 | G23: 0.417 | H23: 0.361 | I23: 0.275 | J23: =AVERAGE(B23:I23) -> 0.36475
A24: have repaired | B24: 0.246 | C24: 0.137 | D24: 0.145 | E24: 0.176 | F24: 0.113 | G24: 0.132 | H24: 0.146 | I24: 0.024 | J24: =AVERAGE(B24:I24) -> 0.139875
E25: trend
A26: 0.539 | B26: repair is cheaper than buying new device | E26: =(A26/A16)-1 -> 0.097759674
A27: 0.531 | B27: repair is more sustainable | E27: =(A27/A17)-1 -> 0.24941176
A28: 0.305 | B28: repaired device as back-up | E28: =(A28/A18)-1 -> -0.14565826
A30: YouGov (PS)
A31: smartphone repair motivation
A32: buy new one | B32: 0.45
A33: get repaired | B33: 0.47
A35: reasons for not repairing
A36: The cost of repair | B36: 0.53
A37: My device is old anyway | B37: 0.53
A38: The general inconvenience of repair | B38: 0.27
A39: Not having a device during repair | B39: 0.27
A40: The time of repair | B40: 0.12
A41: Bad experiences with certified repair shops | B41: 0.08
A42: I like upgrading frequently | B42: 0.07
A43: Bad experiences with uncertified repair shops | B43: 0.08
A44: None of the above | B44: 0.04
A45: Don't know | B45: 0.03
A47: OHA - Obsoleszenz als Herausforderung für Nachhaltigkeit 2019
A48: Prompt purchase of new device | B48: 0.59
A49: Repair | B49: 0.11
A50: Go without | B50: 0.01
A51: Others (e.g. buy second-hand, borrow, etc.) | B51: =1-SUM(B48:B50) -> 0.29
A54: Fitzpatrick and Makov, 2020
A75: Wieser and Tröger, 2018 | C75: repairable
A76: attempt to repair | B76: 0.34 | C76: 0.31
A77: no attempt to repair | B77: 0.66 | C77: 0
A79: repairable | B79: =B76*C76 -> 0.1054
A80: not repairable | B80: =1-B79 -> 0.8946
A83: clickrepair 2019 | B83: MoDeSt
A84: 0.33 | B84: of devices have a defect in their lifetime
A85: 0.154 | B85: of defect devices are repaired
B87: Squaretrade | C87: YouGov | D87: OHA | E87: Wieser | F87: (Wertgarantie, 2019) | G87: (Wertgarantie, 2020) | H87: high | I87: low | J87: avg | K87: PS Design Options
A88: repair | B88: =1-B89 -> 0.41 | C88: 0.47 | D88: 0.11 | E88: =B79 -> 0.1054 | F88: =I14 -> 0.13328571 | G88: =J24 -> 0.139875 | H88: =MAX(B88:G88) -> 0.47 | I88: =MIN(B88:G88) -> 0.1054 | J88: =AVERAGE(B88:G88) -> 0.22809345 | K88: =1-(1-J88)*(1-(design_options!G10*(1+design_options!G11)*(1+design_options!G12)*(1+design_options!G13))) -> 0.51498731
A89: no repair | B89: 0.59 | C89: =1-C88 -> 0.53 | D89: =1-D88 -> 0.89 | E89: =B80 -> 0.8946 | F89: =1-F88 -> 0.86671429 | G89: =1-G88 -> 0.860125 | H89: =MAX(B89:G89) -> 0.8946 | I89: =MIN(B89:G89) -> 0.53 | J89: =AVERAGE(B89:G89) -> 0.77190655

Sheet transport
B1: weight [g] | C1: packaging_overhead | D1: total_weight [g] | E1: plane [tkm] | F1: ship [tkm] | G1: Plane | H1: Ship | I1: Truck | J1: Train
A2: Fairphone 4 (current case) | B2: 225 | C2: 0 | D2: =B2*(1+C2) -> 225 | E2: 1.361 | F2: 1.361 | G2: =E2/($B$2/1000000) -> 6048.8889 | H2: =F2/($B$2/1000000) -> 6048.8889 | I2: =1500*75% -> 1125 | J2: =1500*25% -> 375

Sheet designs
F2: Berwald et al., 2020
F24: While this design trend can have negative implications for repair and recycling of smartphones, it may have positive effects on the robustness of the devices (e.g. through better ingress protection).
F46: Proske et al., 2020
F83: market share not taken into account!
F84: wireless charging does not work with metal backside

Sheet defects_new
A1: (Wertgarantie, 2020)
K2: drop damage | M2: technical problems | P2: daily use | R2: overall
B3: impact | C3: wear | D3: overall | E3: impact | F3: wear | G3: overall | H3: impact | I3: ingress | J3: wear | K3: impact | M3: wear | P3: wear | T3: impact | U3: ingress | V3: wear
B4: average | C4: average | D4: average | E4: relative | F4: relative | G4: relative | K4: 2019 | L4: 2020 | M4: 2019 | N4: 2020 | O4: average | P4: 2019 | Q4: 2020 | R4: 2019 | S4: 2020
A5: display | B5: =AVERAGE(K5:L5) -> 0.79 | C5: =AVERAGE(P5:Q5) -> 0.623 | D5: =AVERAGE(R5:S5) -> 0.685 | E5: =B5/$B$5 -> 1 | F5: =C5/$C$6 -> 0.86829268 | G5: =D5/$D$5 -> 1 | H5: =E5*$H$11 -> 0.55454851 | J5: =F5*$J$11 -> 0.1938906 | K5: 0.774 | L5: 0.806 | M5: 0.169 | N5: 0.179 | O5: =AVERAGE(M5:N5) -> 0.174 | P5: 0.603 | Q5: 0.643 | R5: 0.674 | S5: 0.696
A6: body | B6: =AVERAGE(K6:L6) -> 0.411 | C6: =AVERAGE(P6:Q6) -> 0.7175 | D6: =AVERAGE(R6:S6) -> 0.49 | E6: =B6/$B$5 -> 0.52025316 | F6: =C6/$C$6 -> 1 | G6: =D6/$D$5 -> 0.71532847 | H6: =E6*$H$11 -> 0.28850562 | J6: =F6*$J$11 -> 0.22330097 | K6: 0.427 | L6: 0.395 | O6: =AVERAGE(M6:N6) -> #DIV/0! | P6: 0.731 | Q6: 0.704 | R6: 0.5 | S6: 0.48
A7: camera (breakage) | B7: =AVERAGE(K7:L7) -> 0.0945 | C7: =AVERAGE(P7:Q7) -> #DIV/0! | D7: =AVERAGE(R7:S7) -> 0.075 | E7: =B7/$B$5 -> 0.11962025 | G7: =D7/$D$5 -> 0.10948905 | H7: =E7*$H$11 -> 0.066335233 | J7: =F7*$J$11 -> 0 | K7: 0.093 | L7: 0.096 | M7: 0.095 | N7: 0.075 | O7: =AVERAGE(M7:N7) -> 0.085 | R7: 0.079 | S7: 0.071
A8: battery (e.g. bracket) | B8: =AVERAGE(K8:L8) -> 0.0675 | C8: =AVERAGE(P8:Q8) -> #DIV/0! | D8: =AVERAGE(R8:S8) -> 0.343 | E8: =B8/$B$5 -> 0.085443038 | G8: =D8/$D$5 -> 0.50072993 | H8: =E8*$H$11 -> 0.04738231 | J8: =F8*$J$11 -> 0 | K8: 0.067 | L8: 0.068 | M8: 0.688 | N8: 0.714 | O8: =AVERAGE(M8:N8) -> 0.701 | R8: 0.339 | S8: 0.347
A9: connections, ports | B9: =AVERAGE(K9:L9) -> 0.056 | C9: =AVERAGE(P9:Q9) -> 0.1335 | D9: =AVERAGE(R9:S9) -> 0.1615 | E9: =B9/$B$5 -> 0.070886076 | F9: =C9/$C$6 -> 0.18606272 | G9: =D9/$D$5 -> 0.23576642 | H9: =E9*$H$11 -> 0.039309768 | J9: =F9*$J$11 -> 0.041547986 | K9: 0.054 | L9: 0.058 | M9: 0.221 | N9: 0.18 | O9: =AVERAGE(M9:N9) -> 0.2005 | P9: 0.138 | Q9: 0.129 | R9: 0.161 | S9: 0.162
A10: high temperature | B10: =AVERAGE(K10:L10) -> #DIV/0! | C10: =AVERAGE(P10:Q10) -> #DIV/0! | M10: 0.275 | N10: 0.291 | O10: =AVERAGE(M10:N10) -> 0.283
H11: 0.55454851 | I11: 0.22215052 | J11: 0.22330097 | K11: =SUM(H11:J11) -> 1 | T11: 0.55454851 | U11: 0.22215052 | V11: 0.22330097
B12: impact | D12: wear | H12: =H11/SUM(H11:I11) -> 0.71398121 | I12: =I11/SUM(H11:I11) -> 0.28601879 | K12: =SUM(H12:J12) -> 1
B13: 2019 | C13: 2020 | D13: 2019 | E13: 2020 | H13: =H11/SUM(H11,J11) -> 0.71292522 | J13: =J11/SUM(J11,H11) -> 0.28707478 | K13: =SUM(H13:J13) -> 1
A14: display | B14: 0.774 | C14: 0.806 | D14: 0.603 | E14: 0.643 | I14: =I11/SUM(I11:J11) -> 0.49870866 | J14: =J11/SUM(I11:J11) -> 0.50129134 | K14: =SUM(H14:J14) -> 1
A15: body | B15: 0.427 | C15: 0.395 | D15: 0.731 | E15: 0.704 | H15: =H11/H11 -> 1 | K15: =SUM(H15:J15) -> 1
A16: camera | B16: 0.093 | C16: 0.096 | I16: =I12/I12 -> 1 | K16: =SUM(H16:J16) -> 1
A17: battery | B17: 0.067 | C17: 0.068 | J17: =J13/J13 -> 1 | K17: =SUM(H17:J17) -> 1
A18: connections | B18: 0.054 | C18: 0.058 | D18: 0.138 | E18: 0.129

Sheet product_calc
A3: ingress resistance low | B3: =1-15%/(3*12)*defects_new!I11 -> 0.99907437
A4: ingress resistance high | B4: =1-(1-B3)*(1-design_options!G8) -> 0.99953719
A7: =64*2*2 -> 256 | B7: 21147 | C7: =A7*B7 -> 5413632 | D7: 0.004 | E7: =D7*C7 -> 21654.528 | F7: =E7/60/60 -> 6.0151467 | G7: =F7/24 -> 0.25063111
A9: others divided by number of occurences

Sheet product_data
A1: energy_annual_kWh_a | B1: ingress_resistances | C1: num_devices | D1: maximum_lifetime_months | E1: repair_motivations | F1: motivation_drop | G1: modularity_overhead_per_module | H1: cost
A2: =(0.0287/3)*1000 -> 9.5666667 | B2: ip_low,0,ip_high,0.5 | C2: 500 | D2: =7*12 -> 84 | E2: ="rep_low,"&ROUND(repair!J88,6)&","&"rep_high,"&ROUND(repair!K88,6) -> rep_low,0.228093,rep_high,0.514987 | F2: =1/5 -> 0.2 | G2: =1%/10 -> 0.001 | H2: 500

Sheet components_calc
B1: BC2 | D1: conversion | F1: comment | G1: waste
A2: Battery PCB | B2: 1.5 | C2: cm² | D2: =B2/10000*conversion!$B$6 -> 0.00022889983 | E2: kg | F2: 6-layer | G2: =D2*0.05 -> 1.1444991e-05
A3: Display LCD | B3: 93 | C3: cm² | D3: =B3/10000*conversion!$B$9 -> 0.012555 | E3: kg | G3: =D3*0.05 -> 0.00062775
A4: Display OLED | B4: 93 | C4: cm² | D4: =B4/10000*conversion!$B$9 -> 0.012555 | E4: kg | F4: LCD conversion factor | G4: =D4*0.05 -> 0.00062775
A5: Display PCB | B5: 3 | C5: cm² | D5: =B5/10000*conversion!$B$5 -> 0.00043709366 | E5: kg | F5: 4-layer | G5: =D5*0.05 -> 2.1854683e-05
A6: Mainboard | B6: 35 | C6: cm² | D6: =B6/10000*conversion!$B$7 -> 0.0070329639 | E6: kg | G6: =D6*0.05 -> 0.0003516482
A7: CPU SoC | B7: 1 | C7: cm² | D7: =B7/10000*conversion!$B$2 -> 0.000430575 | E7: kg | G7: =D7*0.05 -> 2.152875e-05
A8: RAM | B8: 1 | C8: cm² | D8: =B8/10000*conversion!$B$2 -> 0.000430575 | E8: kg | G8: =D8*0.05 -> 2.152875e-05
A9: NAND | B9: 3 | C9: cm² | D9: =B9/10000*conversion!$B$2 -> 0.001291725 | E9: kg | G9: =D9*0.05 -> 6.458625e-05
A10: other ICs | B10: 3 | C10: cm² | D10: =B10/10000*conversion!$B$3 -> 0.002791725 | E10: kg | F10: generic IC | G10: =D10*0.05 -> 0.00013958625
A11: sub-board | B11: 8 | C11: cm² | D11: =B11/10000*conversion!$B$6 -> 0.0012207991 | E11: kg | F11: 6-layer | G11: =D11*0.05 -> 6.1039954e-05
A12: flex boards | B12: 50 | C12: cm² | D12: =B12/10000*conversion!$B$4 -> 0.0046222295 | E12: kg | G12: =D12*0.05 -> 0.00023111148
A13: front camera IC | B13: 0.4 | C13: cm² | D13: =B13/10000*conversion!$B$3 -> 0.00037223 | E13: kg | F13: generic IC | G13: =D13*0.05 -> 1.86115e-05
A14: front camera PCB | B14: 0.3 | C14: cm² | D14: =B14/10000*conversion!$B$6 -> 4.5779966e-05 | E14: kg | F14: 6-layer | G14: =D14*0.05 -> 2.2889983e-06
A15: rear camera IC | B15: 0.3 | C15: cm² | D15: =B15/10000*conversion!$B$3 -> 0.0002791725 | E15: kg | F15: generic IC | G15: =D15*0.05 -> 1.3958625e-05
A16: connectors | B16: 1.5 | C16: g | D16: =B16/100/1000 -> 1.5e-05 | E16: kg | F16: assumption: 1 % Gold | G16: =D16*0.05 -> 7.5e-07

Sheet design_options
A1: design_option | B1: name | C1: description | D1: components | E1: parameter | G1: value | H1: comment | I1: additional costs | J1: additional material
A2: 1 | B2: display robustness | C2: 10 % increase fracture toughness (currently use typical glass) | D2: display glass | E2: impact resistance | F2: 0.1 | G2: 0.1 | I2: x
A3: 2 | B3: display scratch-resistance | D3: display glass | E3: wear resistance | F3: 0.1 | G3: 0.1 | H3: assumption: same as DO1 | I3: x
A4: 3.1.1. | B4: provision of additional screen protection | C4: covers would reduce the probability of damages by 50% | D4: display glass | E4: wear resistance | F4: 0.24 | G4: 0.24 | H4: corrected value based on original data | I4: x | J4: x
A5: 3.1.2 | B5: provision of additional screen protection | C5: covers would reduce the probability of damages by 50% | D5: display glass | E5: impact resistance | F5: 0.24 | G5: 0.24 | H5: corrected value based on original data | I5: x | J5: x
A6: 3.2.1 | B6: provision of additional glass back-cover protection | C6: covers would reduce the probability of damages by 50% | D6: back-cover | E6: wear resistance | F6: 0.24 | G6: 0.24 | H6: corrected value based on original data | I6: x | J6: x
A7: 3.2.2. | B7: provision of additional glass back-cover protection | C7: covers would reduce the probability of damages by 50% | D7: all | E7: impact resistance | F7: 0.24 | G7: 0.24 | H7: corrected value based on original data | I7: x | J7: x
A8: 4 | B8: water and dust resistance | C8: 50 % decreased failure from ingress | D8: all | E8: ingress resistance | F8: 0.5 | G8: 0.5 | I8: x | J8: x
A9: 5,7-9 | B9: battery endurance | C9: longer battery life (various reasons) | D9: battery | E9: wear resistance | F9: =(0.2)*(1+(0.25*1))*(1+(0.25))*(1+(0.2))*(1+(0.1)) -> 0.4125 | G9: =(0.2*0.5)*(1+(0.25*1))*(1+(0.25*0.75))*(1+(0.2*0.1))*(1+(0.1*0.1)) -> 0.15292031 | H9: effect * share for all DOs | I9: x
A10: 17 | B10: battery removable without tools | C10: repair rate for defect battery is increased from 33 % to 50 % | D10: battery | E10: repair rate | F10: =(1-((1-50%)/(1-33%))) -> 0.25373134 | G10: =(1-((1-50%)/(1-33%)))*95% -> 0.24104478 | H10: effective increase of 25.4 % for 95 % of devices; overrides DO15 | I10: x | J10: x
A11: 18 | B11: glass back cover removability/replacement | C11: 40 % more repaired | D11: back-cover glass | E11: repair rate | F11: =40% -> 0.4 | G11: =40%*50% -> 0.2 | H11: 40 % for 50 % of devices | I11: x
A12: 19 | B12: display replacement | C12: 15 % more display defects repaired | D12: display glass | E12: repair rate | F12: 0.15 | G12: 0.15 | H12: no value for BC2, avg. between BC1 (10%) and BC3 (20%)
A13: 20,21a,21b,23 | B13: general repairability improvements | C13: better repairability for various reasons | D13: all | E13: repair rate | F13: =10%*(1+(10%))*(1+(10%))*(1+(10%)) -> 0.1331 | G13: =10%*100%*(1+(10%*20%))*(1+(10%*75%))*(1+(10%*70%)) -> 0.1173255 | H13: effect * share for all DOs | I13: x | K13: DORep-a, DORep-b Combined Reparability Option
A14: 25 | B14: post-consumer recycled plastics | C14: An LCA performed under the H2020 PolyCE project indicates that the potential environmental impact of a plastic component produced by injection moulding with recycled feedstock can be reduced by 24 %, compared to the use of virgin plastics. | D14: housing, back-cover | E14: GWP | F14: 0.24 | G14: 0.24
A15: 26 | B15: bio-based plastics | C15: use of bio-based plastics | D15: housing, back-cover | E15: GWP | H15: depends on dataset

Sheet conversion
A1: conversion | B1: kg/m² | C1: source
A2: IC | B2: 4.30575
A3: IC small | B3: 9.30575
A4: PCB1 | B4: 0.9244459 | C4: model
A5: PCB4 | B5: 1.4569789 | C5: model
A6: PCB6 | B6: 1.5259989 | C6: model
A7: PCB8 | B7: 2.0094183 | C7: model
A8: PCB12 | B8: 4.5092048 | C8: model
A9: LCD | B9: 1.35 | C9: FP4
A10: AMOLED | B10: =material_elements!O2 -> 8.6485089 | C10: model

Sheet processes_data
A1: name | B1: short | C1: category | D1: type | E1: composition | F1: unit_ref | G1: gwp_pri | H1: gwp_sec | I1: gwp_rec | J1: gwp_inc_disp | K1: comment | L1: crm | M1: process_pri | N1: process_sec | O1: process_rec | P1: process_inc_disp | Q1: original_gwp_pri | R1: original_gwp_sec | S1: original_gwp_rec | T1: original_gwp_inc_disp
A2: Acrylonitrile Butadiene Styrene | B2: ABS | C2: =IF(D2="transport","transport","material") -> material | D2: plastic | E2: ABS,100 | F2: kg | M2: DE: Acrylonitrile-Butadiene-Styrene Granulate (ABS) Sphera
A3: Aluminum | B3: Al | C3: =IF(D3="transport","transport","material") -> material | D3: element | E3: Al,100 | F3: kg | M3: RNA: Recycled aluminum ingot (100% recycled content) AA <t-agg>
A4: Aluminum | B4: Al | C4: =IF(D4="transport","transport","material") -> material | D4: element | E4: Al,100 | F4: kg | M4: RNA: Primary Aluminum Ingot AA/Sphera | N4: RNA: Recycled aluminum ingot (100% recycled content) AA <t-agg>
A5: AMOLED | B5: AMOLED | C5: material | D5: blend | E5: =material_elements!A7&","&ROUND(material_elements!O7,6)&","&material_elements!A8&","&ROUND(material_elements!O8,6)&","&material_elements!A9&","&ROUND(material_elements!O9,6)&","&material_elements!A10&","&ROUND(material_elements!O10,6)&","&material_elements!A11&","&ROUND(material_elements!O11,6)&","&material_elements!A12&","&ROUND(material_elements!O12,6)&","&material_elements!A13&","&ROUND(material_elements!O13,6)&","&material_elements!A14&","&ROUND(material_elements!O14,6)&","&material_elements!A15&","&ROUND(material_elements!O15,6)&","&material_elements!A16&","&ROUND(material_elements!O16,6) -> C,18,188359,H,1,322518,N,0,856991,In,3,788296,O,20,664686,Sn,0,217591,Ag,36,573095,Al,17,945506,Ir,0,025398,Mg,0,417558 | F5: kg | K5: original: 1000 cm² | M5: AMOLED panel per cm² - (Schischke et al., 2016)
A6: Antimony | B6: Sb | C6: =IF(D6="transport","transport","material") -> material | D6: element | E6: Sb,100 | F6: kg | M6: CN: Antimony Sphera
A7: Arsenic | B7: As | C7: =IF(D7="transport","transport","material") -> material | D7: element | E7: As,100 | F7: kg
A8: Barium | B8: Ba | C8: =IF(D8="transport","transport","material") -> material | D8: element | E8: Ba,100 | F8: kg | K8: hydroxide has highest GWP | M8: GLO: barium hydroxide production ecoinvent 3.8
A9: Beryllium | B9: Be | C9: =IF(D9="transport","transport","material") -> material | D9: element | E9: Be,100 | F9: kg | K9: hydroxide | M9: RoW: beryllium hydroxide production ecoinvent 3.8
A10: Bismuth | B10: Bi | C10: =IF(D10="transport","transport","material") -> material | D10: element | E10: Bi,100 | F10: kg
A11: Boron | B11: B | C11: =IF(D11="transport","transport","material") -> material | D11: element | E11: B,100 | F11: kg | K11: carbide | M11: GLO: boron carbide production ecoinvent 3.8
A12: Cadmium | B12: Cd | C12: =IF(D12="transport","transport","material") -> material | D12: element | E12: Cd,100 | F12: kg | M12: GLO: Cadmium Sphera
A13: Capacitor (Aluminum) | B13: Cap_Al | C13: =IF(D13="transport","transport","material") -> material | D13: blend | F13: kg | M13: GLO: Capacitor Al-capacitor SMD (80mg) D3x5.4 Sphera
A14: Capacitor (Ceramic) | B14: Cap_Cer | C14: =IF(D14="transport","transport","material") -> material | D14: blend | F14: kg | M14: GLO: Capacitor ceramic MLCC 0603 (6mg) D 1.6x0.8x0.8 Sphera
A15: Capacitor (Tantalum) | B15: Cap_Ta | C15: =IF(D15="transport","transport","material") -> material | D15: blend | F15: kg | M15: GLO: Capacitor tantal SMD Y (25mg) 3.2x1.6x1.6 Sphera
A16: Car | B16: Car | C16: =IF(D16="transport","transport","material") -> transport | D16: transport | F16: kgkm | M16: RER: transport, passenger car, EURO 5 ecoinvent 3.5
A17: Cardboard | B17: Cardboard | C17: material | D17: blend | E17: Paper,100 | F17: kg | M17: EU-28: Corrugated board excl. paper production (2018), open paper input, average composition Sphera/FEFCO <t-agg>
A18: Chromium | B18: Cr | C18: =IF(D18="transport","transport","material") -> material | D18: element | E18: Cr,100 | F18: kg | M18: RoW: chromium production ecoinvent 3.8
A19: Cobalt | B19: Co | C19: =IF(D19="transport","transport","material") -> material | D19: element | E19: Co,100 | F19: kg | M19: GLO: Cobalt, refined (metal) CDI
A20: Copper | B20: Cu | C20: =IF(D20="transport","transport","material") -> material | D20: element | E20: Cu,100 | F20: kg | M20: GLO: Copper mix (99,999% from electrolysis) Sphera
A21: Diode (mMELF) | B21: Diode_mMELF | C21: =IF(D21="transport","transport","material") -> material | D21: blend | F21: kg | M21: GLO: Diode mMELF (40mg) D1.6x3.8 Sphera
A22: Diode (Power) | B22: Diode_Power | C22: =IF(D22="transport","transport","material") -> material | D22: blend | F22: kg | M22: GLO: Diode power THT DO35 (150mg) D1.76x3.77 Sphera
A23: Diode (Signal) | B23: Diode_Signal | C23: =IF(D23="transport","transport","material") -> material | D23: blend | F23: kg | M23: GLO: Diode signal SOD123/323/523 (9.26mg) 2.4x1.6x1 with Au-Bondwire Sphera
A24: Dysprosium | B24: Dy | C24: =IF(D24="transport","transport","material") -> material | D24: element | E24: Dy,100 | F24: kg | K24: oxide | M24: GLO: dysprosium oxide to generic market for mischmetal ecoinvent 3.8
A25: Energy Mix | B25: Energy_Mix | C25: energy | D25: element | F25: kWh | M25: CO2-eq. emission factor incl. upstream [g/kWh] - 2021 for Germany, estimated (Umweltbundesamt, 2022)
A26: Epoxy Resin | B26: Epoxy | C26: =IF(D26="transport","transport","material") -> material | D26: plastic | E26: Epoxy,100 | F26: kg | M26: DE: Epoxy Resin (EP) Mix Sphera
A27: Filter | B27: Filter | C27: =IF(D27="transport","transport","material") -> material | D27: blend | F27: kg | M27: GLO: Filter SAW (25mg) 3x7x1 Sphera
A28: Gallium | B28: Ga | C28: =IF(D28="transport","transport","material") -> material | D28: element | E28: Ga,100 | F28: kg | M28: GLO: gallium production, semiconductor-grade ecoinvent 3.8
A29: Germanium | B29: Ge | C29: =IF(D29="transport","transport","material") -> material | D29: element | E29: Ge,100 | F29: kg
A30: Glass (LCD) | B30: Glass | C30: =IF(D30="transport","transport","material") -> material | D30: blend | E30: Glass,80,Sb,12.987,In,6.494,Sn,0.519 | F30: kg | M30: GLO: glass production, for liquid crystal display ecoinvent 3.8
A31: Glass Fibre | B31: GF | C31: =IF(D31="transport","transport","material") -> material | D31: glass | E31: Glass,100 | F31: kg | M31: DE: Glass fibres Sphera
A32: Glass Fibre Reinforced Polyamide | B32: GFRPA | C32: =IF(D32="transport","transport","material") -> material | D32: plastic | E32: GFRPA,100 | F32: kg | M32: RER: glass fibre reinforced plastic production, polyamide, injection moulded ecoinvent 3.8
A33: Glass Fibre Reinforced Polyester | B33: GFRPE | C33: =IF(D33="transport","transport","material") -> material | D33: plastic | E33: GFRPE,100 | F33: kg | M33: RoW: glass fibre reinforced plastic production, polyester resin, hand lay-up ecoinvent 3.8
A34: Gold | B34: Au | C34: =IF(D34="transport","transport","material") -> material | D34: element | E34: Au,100 | F34: kg | M34: GLO: Gold (primary) Sphera
A35: Graphite | B35: C | C35: =IF(D35="transport","transport","material") -> material | D35: element | E35: C,100 | F35: kg | M35: RoW: graphite production, battery grade ecoinvent 3.8
A36: Hafnium | B36: Hf | C36: =IF(D36="transport","transport","material") -> material | D36: element | E36: Hf,100 | F36: kg
A37: IC DRAM (Schischke et al., 2021) | B37: IC_DRAM | C37: material | D37: blend | E37: Si,41,Silicone,56,P,0.5,Sb,0.5,As,0.5,B,0.5,In,0.5,Ga,0.5 | F37: kg | M37: IC, DRAM (50% of SoC) per 1cm² die area (Schischke et al., 2021)
A38: IC generic (Schischke et al., 2021) | B38: IC_generic | C38: material | D38: blend | E38: Si,41,Silicone,56,P,0.5,Sb,0.5,As,0.5,B,0.5,In,0.5,Ga,0.6 | F38: kg | M38: Generic IC per 1cm² die area (Schischke et al., 2021)
A39: IC NAND (Schischke et al., 2021) | B39: IC_NAND | C39: material | D39: blend | E39: Si,41,Silicone,56,P,0.5,Sb,0.5,As,0.5,B,0.5,In,0.5,Ga,0.7 | F39: kg | M39: IC, NAND (60% of SoC) per 1cm² die area (Schischke et al., 2021)
A40: IC SoC (Schischke et al., 2021) | B40: IC_SoC | C40: material | D40: blend | E40: Si,41,Silicone,56,P,0.5,Sb,0.5,As,0.5,B,0.5,In,0.5,Ga,0.8 | F40: kg | M40: IC, SoC per cm² die area (Schischke et al., 2021)
A41: Indium | B41: In | C41: =IF(D41="transport","transport","material") -> material | D41: element | E41: In,100 | F41: kg | M41: RoW: indium production ecoinvent 3.8
A42: Integrated Circuit (Boyd) | B42: IC_Boyd | C42: =IF(D42="transport","transport","material") -> material | D42: blend | E42: Si,42.134,Silicone,57.866 | F42: kg | M42: IC - Front- & Back-End - FP2
A43: Integrated Circuit (CMOS, WLP 14 nm) | B43: IC_CMOS | C43: =IF(D43="transport","transport","material") -> material | D43: blend | E43: Si,19.405,Epoxy,80.595 | F43: kg | M43: GLO: IC WLP CSP 196 (209mg) 12x12x1.41mm CMOS logic (14 nm node) Sphera
A44: Integrated Circuit (DRAM) | B44: IC_DRAM | C44: =IF(D44="transport","transport","material") -> material | D44: blend | E44: Si,42.134,Silicone,57.866 | F44: kg | M44: DRAM - Wafer & Front-End
A45: Integrated Circuit (MPU, BGA 14 nm) | B45: IC_MPU | C45: =IF(D45="transport","transport","material") -> material | D45: blend | E45: Si,19.405,Epoxy,80.595 | F45: kg | M45: GLO: IC BGA 48 (72mg) 8x6 mm MPU generic (14 nm node) Sphera
A46: Liquid Crystal Display | B46: LCD | C46: =IF(D46="transport","transport","material") -> material | D46: blend | F46: kg | M46: LCD display, smartphone, per cm² - (Schischke et al., 2021)
A47: Liquid Crystal Display (FP4) | B47: LCD_FP4 | C47: =IF(D47="transport","transport","material") -> material | D47: blend | F47: kg | M47: LCD display - FP4 <LZ>
A48: Lithium | B48: Li | C48: =IF(D48="transport","transport","material") -> material | D48: element | E48: Li,100 | F48: kg | K48: hydroxide has highest GWP | M48: GLO: lithium hydroxide production ecoinvent 3.8
A49: Lithium-Ion Battery | B49: Battery | C49: =IF(D49="transport","transport","material") -> material | D49: blend | E49: Fe,9.618,C,19.416,Al,37.623,Cu,15.485,Li,1.091,Ni,3.381,Co,3.381,Mn,3.053,O,6.147,H,0.805 | F49: kg | M49: Battery - FP4 <LZ> | O49: FP4 - Battery recycling <LZ>
A50: Magnesium | B50: Mg | C50: =IF(D50="transport","transport","material") -> material | D50: element | E50: Mg,100 | F50: kg | M50: CN: Magnesium Sphera
A51: Manganese | B51: Mn | C51: =IF(D51="transport","transport","material") -> material | D51: element | E51: Mn,100 | F51: kg | M51: GLO: Manganese Sphera
A52: Molybdenum | B52: Mo | C52: =IF(D52="transport","transport","material") -> material | D52: element | E52: Mo,100 | F52: kg | M52: RoW: molybdenum production ecoinvent 3.8
A53: NdFeB Magnet | B53: Magnet | C53: material | D53: blend | E53: =material_elements!A17&","&ROUND(material_elements!P17/SUM(material_elements!P6:P19)*100,6)&","&material_elements!A18&","&ROUND(material_elements!P18/SUM(material_elements!P6:P19)*100,6)&","&material_elements!A19&","&ROUND(material_elements!P19/SUM(material_elements!P6:P19)*100,6) -> Nd,26,683711,Fe,72,316404,B,0,999885 | F53: kg | M53: NdFeB magnet - (Schischke et al., 2016)
A54: Neodymium | B54: Nd | C54: =IF(D54="transport","transport","material") -> material | D54: element | E54: Nd,100 | F54: kg | M54: GLO: neodymium oxide to generic market for mischmetal ecoinvent 3.8
A55: Nickel | B55: Ni | C55: =IF(D55="transport","transport","material") -> material | D55: element | E55: Ni,100 | F55: kg | M55: GLO: Nickel (Class 1, >99.8% Nickel) Nickel Institute
A56: Niobium | B56: Nb | C56: =IF(D56="transport","transport","material") -> material | D56: element | E56: Nb,100 | F56: kg | K56: scaled up from ferroniobium (66 % Nb) | M56: RoW: ferroniobium production, from pyrochlore concentrate, 66% Nb ecoinvent 3.8
A57: Palladium | B57: Pd | C57: =IF(D57="transport","transport","material") -> material | D57: element | E57: Pd,100 | F57: kg | M57: GLO: Palladium, primary route IPA | N57: GLO: Palladium, secondary route IPA
A58: Paper | B58: Paper | C58: material | D58: blend | E58: Paper,100 | F58: kg | M58: EU-25: Graphic Paper Euro-graph/ELCD
A59: Passive Components (Unspecified) | B59: Passive | C59: =IF(D59="transport","transport","material") -> material | D59: blend | E59: Ba,5,Ti,5,Zr,5,Sr,5,Ca,5,Mg,5,Zn,5,Al,5,Nb,5,Li,5,Si,5,Ta,5,O,10,Be,5,Cu,5,W,5,Au,5,Ag,5,Sb,5 | F59: kg | M59: GLO: electronic component production, passive, unspecified ecoinvent 3.8
A60: Plane | B60: Plane | C60: =IF(D60="transport","transport","material") -> transport | D60: transport | F60: kgkm | M60: RER: transport, freight, aircraft, intercontinental ecoinvent 3.5
A61: Platinum | B61: Pt | C61: =IF(D61="transport","transport","material") -> material | D61: element | E61: Pt,100 | F61: kg | M61: GLO: Platinum, primary route IPA | N61: GLO: Platinum, secondary route IPA
A62: Polyamide | B62: PA | C62: =IF(D62="transport","transport","material") -> material | D62: plastic | E62: PA,100 | F62: kg | M62: DE: Polyamide 6 Granulate (PA 6) Mix Sphera
A63: Polycarbonate | B63: PC | C63: =IF(D63="transport","transport","material") -> material | D63: plastic | E63: PC,100 | F63: kg | M63: DE: Polycarbonate Granulate (PC) Sphera
A64: Polyethylene (Biobased) | B64: PE_bio | C64: =IF(D64="transport","transport","material") -> material | D64: plastic | E64: PE_bio,100 | F64: kg | M64: EU-28: Polyethylene Low Density Granulate (LDPE/PE-LD) (biobased from sugar cane) Sphera
A65: Polyethylene High-Density | B65: PE-HD | C65: =IF(D65="transport","transport","material") -> material | D65: plastic | E65: PE-HD,100 | F65: kg | M65: DE: Polyethylene High Density Granulate (HDPE/PE-HD) Sphera
A66: Polyethylene Low-Density | B66: PE-LD | C66: =IF(D66="transport","transport","material") -> material | D66: plastic | E66: PE-LD,100 | F66: kg | M66: DE: Polyethylene High Density Granulate (HDPE/PE-HD) Sphera
A67: Polyethylene Terephthalate | B67: PET | C67: =IF(D67="transport","transport","material") -> material | D67: plastic | E67: PET,100 | F67: kg | M67: DE: Polyethylene terephthalate granulate (PET via DMT) Sphera
A68: Polymethylmethacrylate | B68: PMMA | C68: material | D68: plastic | E68: PMMA,100 | F68: kg | M68: DE: Polymethylmethacrylate granulate (PMMA) Sphera | P68: DE: Polymethylmethacrylate (PMMA) in waste incineration plant Sphera <t-agg>
A69: Polypropylene | B69: PP | C69: =IF(D69="transport","transport","material") -> material | D69: plastic | E69: PP,100 | F69: kg | M69: DE: Polypropylene granulate (PP) Sphera
A70: Praseodymium | B70: Pr | C70: =IF(D70="transport","transport","material") -> material | D70: element | E70: Pr,100 | F70: kg | M70: CN: Praseodymium Sphera
A71: Printed Circuit Board (12-layer) | B71: PCB_12_GaBi | C71: =IF(D71="transport","transport","material") -> material | D71: blend | E71: Cu,19.629,Glass,36.393,C,28.977,H,2.27,N,0.273,Sb,0.136,Fe,4.8,Sn,4.1,Ni,2.032,Zn,1.3,Au,0.028,Ag,0.05,Pd,0.012 | F71: kg | M71: GLO: Printed Wiring Board 12-layer rigid FR4 with chem-elec AuNi finish (Subtractive method) Sphera
A72: Printed Circuit Board (1-layer) | B72: PCB_1_GaBi | C72: =IF(D72="transport","transport","material") -> material | D72: blend | E72: Cu,4.231,Glass,43.042,C,34.271,H,2.684,N,0.323,Sb,0.161,Fe,4.8,Sn,4.1,Ni,4.818,Zn,1.3,Au,0.209,Ag,0.05,Pd,0.012 | F72: kg | M72: GLO: Printed Wiring Board 1-layer rigid FR4 with chem-elec AuNi finish (Subtractive method) Sphera
A73: Printed Circuit Board (1-layer) (Schischke et al., 2021) | B73: PCB_1 | C73: material | D73: blend | E73: Cu,4.231,Glass,43.042,C,34.271,H,2.684,N,0.323,Sb,0.161,Fe,4.8,Sn,4.1,Ni,4.818,Zn,1.3,Au,0.209,Ag,0.05,Pd,0.012 | F73: kg | M73: Flex PCB Ni/Au-Finish 1-layer per cm² (Schischke et al., 2021)
A74: Printed Circuit Board (4-layer) (Schischke et al., 2021) | B74: PCB_4 | C74: material | D74: blend | E74: Cu,10.738,Glass,39.77,C,31.665,H,2.48,N,0.298,Sb,0.149,Fe,4.8,Sn,4.1,Ni,4.586,Zn,1.3,Au,0.052,Ag,0.05,Pd,0.012 | F74: kg | M74: FR4 PCB Ni/Au-Finish 4-layers per cm² (Schischke et al., 2021)
A75: Printed Circuit Board (6-layer) (Schischke et al., 2021) | B75: PCB_6 | C75: material | D75: blend | E75: Cu,15.378,Glass,37.401,C,29.779,H,2.332,N,0.28,Sb,0.14,Fe,4.8,Sn,4.1,Ni,4.378,Zn,1.3,Au,0.049,Ag,0.05,Pd,0.012 | F75: kg | M75: FR4 PCB Ni/Au-Finish 6-layers per cm² (Schischke et al., 2021)
A76: Printed Circuit Board (8-layer) (Schischke et al., 2021) | B76: PCB_8 | C76: material | D76: blend | E76: Cu,27.25,Glass,31.621,C,25.177,H,1.972,N,0.237,Sb,0.119,Fe,4.8,Sn,4.1,Ni,3.325,Zn,1.3,Au,0.038,Ag,0.05,Pd,0.012 | F76: kg | M76: FR4 PCB Ni/Au-Finish 8-layers per cm² (Schischke et al., 2021)
A77: Printed Circuit Board (8-layer) | B77: PCB_8_GaBi | C77: =IF(D77="transport","transport","material") -> material | D77: blend | E77: Cu,19.291,Glass,36.403,C,28.985,H,2.27,N,0.273,Sb,0.136,Fe,4.8,Sn,4.1,Ni,2.354,Zn,1.3,Au,0.027,Ag,0.05,Pd,0.012 | F77: kg | M77: GLO: Printed Wiring Board 8-layer rigid FR4 with chemSn elecAuNi finish (Subtractive method) Sphera
A78: REE | B78: REE | C78: =IF(D78="transport","transport","material") -> material | D78: blend | E78: REE,100 | F78: kg | M78: CN: rare earth oxides production from bastnäsite concentrate ecoinvent 3.6
A79: Resistor (Flat Chip) | B79: Res_Flat | C79: =IF(D79="transport","transport","material") -> material | D79: blend | F79: kg | M79: GLO: Resistor flat chip 0603 (1.9mg) Sphera
A80: Resistor (MELF) | B80: Res_MELF | C80: =IF(D80="transport","transport","material") -> material | D80: blend | F80: kg | M80: GLO: Resistor MELF MMA 0204 (19mg) D1.4x3.6 Sphera
A81: Resistor (Thick Film Flat Chip) | B81: Res_Thick | C81: =IF(D81="transport","transport","material") -> material | D81: blend | F81: kg | M81: GLO: Resistor thick film flat chip 0603 (2.1mg) Sphera
A82: Resistor (THT) | B82: Res_THT | C82: =IF(D82="transport","transport","material") -> material | D82: blend | F82: kg | M82: GLO: Resistor THT MBA 0204 (125mg) D1.6x3.6 Sphera
A83: Rhenium | B83: Re | C83: =IF(D83="transport","transport","material") -> material | D83: element | E83: Re,100 | F83: kg
A84: Rhodium | B84: Rh | C84: =IF(D84="transport","transport","material") -> material | D84: element | E84: Rh,100 | F84: kg | M84: GLO: Rhodium, primary route IPA | N84: GLO: Rhodium, secondary route IPA
A85: Ship | B85: Ship | C85: =IF(D85="transport","transport","material") -> transport | D85: transport | F85: kgkm | M85: GLO: transport, freight, sea, transoceanic ship ecoinvent 3.5
A86: Silicon | B86: Si | C86: =IF(D86="transport","transport","material") -> material | D86: element | E86: Si,100 | F86: kg | M86: RoW: silicon production, electronics grade ecoinvent 3.8
A87: Silicone Rubber | B87: Silicone | C87: =IF(D87="transport","transport","material") -> material | D87: plastic | E87: Silicone,100 | F87: kg | M87: DE: Silicone rubber (RTV-2, condensation) Sphera
A88: Silver | B88: Ag | C88: =IF(D88="transport","transport","material") -> material | D88: element | E88: Ag,100 | F88: kg | M88: GLO: Silver mix Sphera
A89: Solder Paste | B89: Solder | C89: =IF(D89="transport","transport","material") -> material | D89: blend | E89: Sn,96.5,Ag,3.5 | F89: kg | K89: SnAg3.5 | M89: GLO: Solder paste SnAg3.5 Sphera
A90: Steel | B90: Fe | C90: =IF(D90="transport","transport","material") -> material | D90: blend | E90: Fe,95.65,C,1.952,Zn,1.952 | F90: kg | M90: DE: Steel sheet 0.75mm EG (0.01mm Zn; 2sides) Sphera <t-agg>
A91: Strontium | B91: Sr | C91: =IF(D91="transport","transport","material") -> material | D91: element | E91: Sr,100 | F91: kg | K91: carbonate | M91: GLO: strontium carbonate production ecoinvent 3.8
A92: Tantalum | B92: Ta | C92: =IF(D92="transport","transport","material") -> material | D92: element | E92: Ta,100 | F92: kg | M92: GLO: tantalum production, powder, capacitor-grade ecoinvent 3.7.1
A93: Tin | B93: Sn | C93: =IF(D93="transport","transport","material") -> material | D93: element | E93: Sn,100 | F93: kg | M93: GLO: Tin Sphera
A94: Titanium | B94: Ti | C94: =IF(D94="transport","transport","material") -> material | D94: element | E94: Ti,100 | F94: kg | M94: GLO: Titanium Sphera
A95: Train | B95: Train | C95: =IF(D95="transport","transport","material") -> transport | D95: transport | F95: kgkm | M95: EU-28: Transportation by rail (EN15804 A4) Sphera
A96: Truck | B96: Truck | C96: =IF(D96="transport","transport","material") -> transport | D96: transport | F96: kgkm | M96: EU-28: Transport, truck (26 t total cap., 17.3t payload) (A4) Sphera
A97: Tungsten | B97: W | C97: =IF(D97="transport","transport","material") -> material | D97: element | E97: W,100 | F97: kg | M97: Tungsten (ProBas) <e-ep>
A98: Vanadium | B98: V | C98: =IF(D98="transport","transport","material") -> material | D98: element | E98: V,100 | F98: kg
A99: Yttrium | B99: Y | C99: =IF(D99="transport","transport","material") -> material | D99: element | E99: Y,100 | F99: kg | M99: CN: Yttrium Sphera
A100: Zinc | B100: Zn | C100: =IF(D100="transport","transport","material") -> material | D100: element | E100: Zn,100 | F100: kg | M100: GLO: Special high grade zinc IZA <t-agg>
...

Sheet components_data
A1: name | B1: type | C1: composition | D1: transport | E1: impact_failures | F1: ingress_failures | G1: wear_failures | H1: impact_res | I1: ingress_res | J1: wear_res | K1: rep_low | L1: rep_high | M1: rep_low_perc | N1: rep_high_perc | O1: change_component | P1: change_impact_res | Q1: change_ingress_res | R1: change_wear_res
A2: mainboard R | B2: mainboard | C2: PCB_8,0.010219,IC_SoC,0.000431,IC_DRAM,0.000431,IC_NAND,0.001292,IC_generic,0.002792,Au,0.0000009,Diode_mMELF,0.00005,Passive,0.0007,Au,0.000020,Fe,0.004,Solder,0.0004,PCB_1,0.004622,Solder,0.0005,Passive,0.00005,IC_generic,0.000372,Au,0.000001,PCB_6,0.000033,Al,0.0006,Fe,0.0002,Ni,0.00001,Cu,0.00001,Magnet,0.0001,PMMA,0.0002,Glass,0.0001,Diode_mMELF,0.0001,IC_generic,0.000279,Au,0.00000075,Al,0.0003,Fe,0.0001,Ni,0.000005,Cu,0.00005,PMMA,0.0001 | D2: =transport!G1&","&ROUND(transport!G2,0)&","&transport!H1&","&ROUND(transport!H2,0)&","&transport!I1&","&ROUND(transport!I2,0)&","&transport!J1&","&ROUND(transport!J2,0) -> Plane,6049,Ship,6049,Truck,1125,Train,375 | E2: =(1-H2)*(3*12) -> 0 | F2: =(1-I2)*(3*12) -> 0.033322577 | G2: -1 | H2: 1 | I2: =1-(15%/(3*12)*defects_new!I11) -> 0.99907437 | J2: =3*12/(2*G2) -> -18 | K2: =product_data!H2*0.75 -> 375 | L2: =K2*(1-design_options!$F$13) -> 325.0875 | M2: =(1-K2/product_data!$H$2) -> 0.25 | N2: =M2*(1+design_options!$F$13) -> 0.283275
A3: display glass | B3: display glass | C3: Glass,0.02 | D3: =D2 -> Plane,6049,Ship,6049,Truck,1125,Train,375 | E3: =(1-H3)*(3*12) -> 0.10693878 | F3: =(1-I3)*(3*12) -> 0 | G3: =15%*defects_new!$J$13*defects_new!F5 -> 0.03738974 | H3: =1-(15%/(3*12)*defects_new!H13) -> 0.99702948 | I3: 1 | J3: =3*12/(2*G3) -> 481.41549 | K3: 200 | L3: =K3*(1-design_options!$F$13)*(1-design_options!$F$12) -> 147.373 | M3: =(1-K3/product_data!$H$2) -> 0.6 | N3: =M3*(1+design_options!$F$13)*(1+design_options!$F$12) -> 0.781839
A4: display glass (robust) | B4: display glass | C4: Glass,0.02 | D4: =D3 -> Plane,6049,Ship,6049,Truck,1125,Train,375 | E4: =(1-H4)*(3*12) -> 0.096244904 | F4: =(1-I4)*(3*12) -> 0 | G4: =G3*(1-design_options!G3) -> 0.033650766 | H4: =1-(1-H3)*(1-design_options!G2) -> 0.99732653 | I4: 1 | J4: =3*12/(2*G4) -> 534.9061 | K4: 200 | L4: =K4*(1-design_options!$F$13)*(1-design_options!$F$12) -> 147.373 | M4: =(1-K4/product_data!$H$2) -> 0.6 | N4: =M4*(1+design_options!$F$13)*(1+design_options!$F$12) -> 0.781839
A5: screen protector n.a. | B5: screen protector | D5: =D4 -> Plane,6049,Ship,6049,Truck,1125,Train,375 | E5: =(1-H5)*(3*12) -> 0 | F5: =(1-I5)*(3*12) -> 0 | G5: -1 | H5: 1 | I5: 1 | J5: =3*12/(2*G5) -> -18 | K5: 0 | L5: =K5*(1-design_options!$F$13) -> 0 | M5: =(1-K5/product_data!$H$2) -> 1 | N5: =M5*(1+design_options!$F$13) -> 1.1331 | O5: display glass,display glass (robust),AMOLED | P5: 0 | Q5: 0 | R5: 0
A6: screen protector plastic | B6: screen protector | C6: PET,0.005 | D6: =D5 -> Plane,6049,Ship,6049,Truck,1125,Train,375 | E6: 0 | F6: =(1-I6)*(3*12) -> 0 | G6: -1 | H6: 1 | I6: 1 | J6: =3*12/(2*G6) -> -18 | K6: 5 | L6: =K6*(1-design_options!$F$13) -> 4.3345 | M6: =(1-K6/product_data!$H$2) -> 0.99 | N6: =M6*(1+design_options!$F$13) -> 1.121769 | O6: display glass,display glass (robust),AMOLED | P6: =design_options!G5 -> 0.24 | Q6: 0 | R6: -2
A7: protective case n.a. | B7: protective case | D7: =D14 -> Plane,6049,Ship,6049,Truck,1125,Train,375 | E7: =(1-H7)*(3*12) -> 0 | F7: =(1-I7)*(3*12) -> 0 | G7: -1 | H7: 1 | I7: 1 | J7: =3*12/(2*G7) -> -18 | K7: 0 | L7: =K7*(1-design_options!$F$13) -> 0 | M7: =(1-K7/product_data!$H$2) -> 1 | N7: =M7*(1+design_options!$F$13) -> 1.1331 | O7: frame,back-cover glass,display glass,display glass (robust),AMOLED,mic/speaker/vibration | P7: 0 | Q7: 0 | R7: 0
A8: protective case | B8: protective case | C8: Silicone,0.024 | D8: =D7 -> Plane,6049,Ship,6049,Truck,1125,Train,375 | E8: 0 | F8: =(1-I8)*(3*12) -> 0 | G8: -1 | H8: 1 | I8: 1 | J8: =3*12/(2*G8) -> -18 | K8: 20 | L8: =K8*(1-design_options!$F$13) -> 17.338 | M8: =(1-K8/product_data!$H$2) -> 0.96 | N8: =M8*(1+design_options!$F$13) -> 1.087776 | O8: frame,back-cover glass,display glass,display glass (robust),AMOLED,mic/speaker/vibration | P8: =design_options!G5 -> 0.24 | Q8: 0 | R8: -2
A9: AMOLED | B9: display | C9: AMOLED,0.012555,PMMA,0.002,PCB_4,0.000313,Diode_mMELF,0.0005 | D9: =D6 -> Plane,6049,Ship,6049,Truck,1125,Train,375 | E9: =(1-H9)*(3*12) -> 0.012810992 | F9: =(1-I9)*(3*12) -> 0.066645155 | G9: -1 | H9: =1-(1-(1-(15%/(3*12)*defects_new!H12)))*(1-(1-defects_new!E7)) -> 0.99964414 | I9: =1-(30%/(3*12)*defects_new!I11) -> 0.99814875 | J9: =3*12/(2*G9) -> -18 | K9: 200 | L9: =K9*(1-design_options!$F$13) -> 173.38 | M9: =(1-K9/product_data!$H$2) -> 0.6 | N9: =M9*(1+design_options!$F$13) -> 0.67986
A10: battery | B10: battery | C10: Battery,0.052,PCB_8,0.000167 | D10: =D9 -> Plane,6049,Ship,6049,Truck,1125,Train,375 | E10: =(1-H10)*(3*12) -> 0.0071073464 | F10: =(1-I10)*(3*12) -> 0.066645155 | G10: =(15%-(1-H10)*3*12-(1-I10)*3*12) -> 0.076247499 | H10: =1-(1-(1-(15%/(3*12)*defects_new!H11)))*(1-(1-defects_new!E8)) -> 0.99980257 | I10: =1-(30%/(3*12)*defects_new!I11) -> 0.99814875 | J10: =3*12/(2*G10) -> 236.07332 | K10: 60 | L10: =K10*(1-design_options!$F$13)*(1-design_options!$F$10) -> 38.816418 | M10: =(1-K10/product_data!$H$2) -> 0.88 | N10: =M10*(1+design_options!$F$13)*(1+design_options!$F$10) -> 1.2501306
A11: battery (endurance) | B11: battery | C11: Battery,0.052,PCB_8,0.000167 | D11: =D10 -> Plane,6049,Ship,6049,Truck,1125,Train,375 | E11: =(1-H11)*(3*12) -> 0.0071073464 | F11: =(1-I11)*(3*12) -> 0.066645155 | G11: =G10*(1-design_options!G9) -> 0.064587707 | H11: =1-(1-(1-(15%/(3*12)*defects_new!H11)))*(1-(1-defects_new!E8)) -> 0.99980257 | I11: =1-(30%/(3*12)*defects_new!I11) -> 0.99814875 | J11: =3*12/(2*G11) -> 278.6908 | K11: 60 | L11: =K11*(1-design_options!$F$13)*(1-design_options!$F$10) -> 38.816418 | M11: =(1-K11/product_data!$H$2) -> 0.88 | N11: =M11*(1+design_options!$F$13)*(1+design_options!$F$10) -> 1.2501306
A12: frame | B12: frame | C12: Mg,0.015,Al,0.02,Al,0.08,PC,0.015,Fe,0.01,Ni,0.00005,Cu,0.003,Silicone,0.0005,Fe,0.0005 | D12: =D11 -> Plane,6049,Ship,6049,Truck,1125,Train,375 | E12: =(1-H12)*(3*12) -> 0.05563524 | F12: =(1-I12)*(3*12) -> 0 | G12: =15%*defects_new!$J$11*defects_new!F6 -> 0.033495146 | H12: =1-(1-H3)*(1-(1-defects_new!E6)) -> 0.99845458 | I12: 1 | J12: =3*12/(2*G12) -> 537.3913 | K12: 55 | L12: =K12*(1-design_options!$F$13) -> 47.6795 | M12: =(1-K12/product_data!$H$2) -> 0.89 | N12: =M12*(1+design_options!$F$13) -> 1.008459
A13: back-cover integrated | B13: back-cover | D13: =D12 -> Plane,6049,Ship,6049,Truck,1125,Train,375 | E13: =(1-H13)*(3*12) -> 0 | F13: =(1-I13)*(3*12) -> 0 | G13: -1 | H13: 1 | I13: 1 | J13: =3*12/(2*G13) -> -18 | K13: 0 | L13: =K13*(1-design_options!$F$13) -> 0 | M13: =(1-K13/product_data!$H$2) -> 1 | N13: =M13*(1+design_options!$F$13) -> 1.1331
A14: back-cover glass | B14: back-cover | C14: Glass,0.02 | D14: =D13 -> Plane,6049,Ship,6049,Truck,1125,Train,375 | E14: =(1-H14)*(3*12) -> 0.10693878 | F14: =(1-I14)*(3*12) -> 0 | G14: =G3 -> 0.03738974 | H14: =H3 -> 0.99702948 | I14: 1 | J14: =3*12/(2*G14) -> 481.41549 | K14: 55 | L14: =K14*(1-design_options!$F$13)*(1-design_options!F11) -> 28.6077 | M14: =(1-K14/product_data!$H$2) -> 0.89 | N14: =M14*(1+design_options!$F$13)*(1+design_options!F11) -> 1.4118426
A15: mic/speaker/vibration | B15: electromechanics | C15: PCB_6,0.000889,Fe,0.001,Ni,0.00001,PC,0.0008,PET,0.00001,Cu,0.00004,Magnet,0.0012,Silicone,0.00002,Magnet,0.0002,W,0.0006,Cu,0.0006 | D15: =D8 -> Plane,6049,Ship,6049,Truck,1125,Train,375 | E15: =(1-H15)*(3*12) -> 0.012810992 | F15: =(1-I15)*(3*12) -> 0.066645155 | G15: -1 | H15: =1-(1-(1-(15%/(3*12)*defects_new!H12)))*(1-(1-defects_new!E7)) -> 0.99964414 | I15: =1-(30%/(3*12)*defects_new!I11) -> 0.99814875 | J15: =3*12/(2*G15) -> -18 | K15: 55 | L15: =K15*(1-design_options!$F$13) -> 47.6795 | M15: =(1-K15/product_data!$H$2) -> 0.89 | N15: =M15*(1+design_options!$F$13) -> 1.008459

Sheet material_elements
C1: OLED | P1: NdFeB
A2: mass [g] | C2: =C3/10000000*C4 -> 4.2e-05 | D2: =D3/10000000*D4 -> 0.0003147 | E2: =E3/10000000*E4 -> 2.34e-05 | F2: =F3/10000000*F4 -> 9.396e-05 | G2: =G3/10000000*G4 -> 3e-06 | H2: =H3/10000000*H4 -> 3.6e-06 | I2: =I3/10000000*I4 -> 3e-06 | J2: =J3/10000000*J4 -> 1.071e-05 | ... M2: =M3/10000000*M4 -> 7.347189e-05 | N2: =SUM(C2:M2) -> 0.00086485089 | O2: =N2*10000 -> 8.6485089
A3: thickness [nm] | C3: =material_composition!B3*material_composition!D3+material_composition!B5*material_composition!D5 -> 60 | D3: =material_composition!B4*material_composition!D4 -> 300 | E3: =material_composition!B6*material_composition!D6 -> 180 | F3: =material_composition!B7+material_composition!B8+material_composition!B9+material_composition!B15+material_composition!B16+material_composition!B17 -> 696 | G3: =material_composition!B10 -> 30 | H3: =material_composition!B11 -> 30 | I3: =material_composition!B12 -> 30 | J3: =material_composition!B13*material_composition!D13 -> 90 | K3: =material_composition!B14*material_composition!D14 -> 30 | L3: =material_composition!B18*material_composition!D18+material_composition!B20*material_composition!D20+material_composition!B22*material_composition!D22 -> 735 | M3: =material_composition!B19*material_composition!D19+material_composition!B21*material_composition!D21 -> 699
A4: density [g/cm³] | C4: 7 | D4: 10.49 | E4: 1.3 | F4: 1.35 | G4: 1 | H4: 1.2 | I4: 1 | J4: 1.19 | K4: 1.738 | L4: 3.97 | M4: 1.0511 | P4: 7.59
B5: atomic mass [u] | C5: Indium-Tin-Oxide | D5: Ag | E5: 2T-NATA | F5: NPB | G5: EML red | H5: EML green | I5: EML blue | J5: Alq3 | K5: Mg:Ag | L5: Al2O3 | M5: Polyacrylate | P5: NdFeB
A6: total | C6: =SUM(C7:C16) -> 264.9441 | D6: =SUM(D7:D16) -> 107.87 | E6: =SUM(E7:E16) -> 897.138 | F6: =SUM(F7:F16) -> 588.754 | G6: =SUM(G7:G16) -> 531.2738 | H6: =SUM(H7:H16) -> 498.21752 | I6: =SUM(I7:I16) -> 608.19645 | J6: =SUM(J7:J16) -> 459.441 | ... M6: =SUM(M7:M16) -> 72.063 | N6: =C6/SUM(C$6:C$16)*C$2+D6/SUM(D$6:D$16)*D$2+E6/SUM(E$6:E$16)*E$2+F6/SUM(F$6:F$16)*F$2+G6/SUM(G$6:G$16)*G$2+H6/SUM(H$6:H$16)*H$2+I6/SUM(I$6:I$16)*I$2+J6/SUM(J$6:J$16)*J$2+K6/SUM(K$6:K$16)*K$2+L6/SUM(L$6:L$16)*L$2+M6/SUM(M$6:M$16)*M$2 -> 0.00043242545 | O6: =N6/SUM($N$7:$N$16)*100 -> 100
A7: C | B7: 12.011 | E7: =66*B7 -> 792.726 | F7: =44*B7 -> 528.484 | G7: =(32*0.9+35*0.1)*B7 -> 387.9553 | H7: =(36*0.92+33*0.08)*B7 -> 429.51336 | I7: =(46*0.95+35*0.05)*B7 -> 545.89995 | J7: =27*B7 -> 324.297 | M7: =3*B7 -> 36.033 | N7: =C7/SUM(C$6:C$16)*C$2+D7/SUM(D$6:D$16)*D$2+E7/SUM(E$6:E$16)*E$2+F7/SUM(F$6:F$16)*F$2+G7/SUM(G$6:G$16)*G$2+H7/SUM(H$6:H$16)*H$2+I7/SUM(I$6:I$16)*I$2+J7/SUM(J$6:J$16)*J$2+K7/SUM(K$6:K$16)*K$2+L7/SUM(L$6:L$16)*L$2+M7/SUM(M$6:M$16)*M$2 -> 7.8651093e-05 | O7: =N7/SUM($N$7:$N$16)*100 -> 18.188359
A8: H | B8: 1.008 | E8: =48*B8 -> 48.384 | F8: =32*B8 -> 32.256 | G8: =(25*0.9+27*0.1)*B8 -> 25.4016 | H8: =24*B8 -> 24.192 | I8: =(36*0.95+24*0.05)*B8 -> 35.6832 | J8: =18*B8 -> 18.144 | M8: =4*B8 -> 4.032 | N8: =C8/SUM(C$6:C$16)*C$2+D8/SUM(D$6:D$16)*D$2+E8/SUM(E$6:E$16)*E$2+F8/SUM(F$6:F$16)*F$2+G8/SUM(G$6:G$16)*G$2+H8/SUM(H$6:H$16)*H$2+I8/SUM(I$6:I$16)*I$2+J8/SUM(J$6:J$16)*J$2+K8/SUM(K$6:K$16)*K$2+L8/SUM(L$6:L$16)*L$2+M8/SUM(M$6:M$16)*M$2 -> 5.7189054e-06 | O8: =N8/SUM($N$7:$N$16)*100 -> 1.3225182
A9: N | B9: 14.007 | E9: =4*B9 -> 56.028 | F9: =2*B9 -> 28.014 | G9: =(2*0.9+2*0.1)*B9 -> 28.014 | H9: =(2*0.92+3*0.08)*B9 -> 29.13456 | I9: =2*0.95*B9 -> 26.6133 | J9: =3*B9 -> 42.021 | N9: =C9/SUM(C$6:C$16)*C$2+D9/SUM(D$6:D$16)*D$2+E9/SUM(E$6:E$16)*E$2+F9/SUM(F$6:F$16)*F$2+G9/SUM(G$6:G$16)*G$2+H9/SUM(H$6:H$16)*H$2+I9/SUM(I$6:I$16)*I$2+J9/SUM(J$6:J$16)*J$2+K9/SUM(K$6:K$16)*K$2+L9/SUM(L$6:L$16)*L$2+M9/SUM(M$6:M$16)*M$2 -> 3.705848e-06 | O9: =N9/SUM($N$7:$N$16)*100 -> 0.85699121
A10: In | B10: 114.82 | C10: =2*0.9*B10 -> 206.676 | N10: =C10/SUM(C$6:C$16)*C$2+D10/SUM(D$6:D$16)*D$2+E10/SUM(E$6:E$16)*E$2+F10/SUM(F$6:F$16)*F$2+G10/SUM(G$6:G$16)*G$2+H10/SUM(H$6:H$16)*H$2+I10/SUM(I$6:I$16)*I$2+J10/SUM(J$6:J$16)*J$2+K10/SUM(K$6:K$16)*K$2+L10/SUM(L$6:L$16)*L$2+M10/SUM(M$6:M$16)*M$2 -> 1.6381554e-05 | O10: =N10/SUM($N$7:$N$16)*100 -> 3.7882955
A11: O | B11: 15.999 | C11: =(3*0.9+2*0.1)*B11 -> 46.3971 | G11: =(3*0.9+2*0.1)*B11 -> 46.3971 | J11: =3*B11 -> 47.997 | L11: =3*B11 -> 47.997 | M11: =2*B11 -> 31.998 | N11: =C11/SUM(C$6:C$16)*C$2+D11/SUM(D$6:D$16)*D$2+E11/SUM(E$6:E$16)*E$2+F11/SUM(F$6:F$16)*F$2+G11/SUM(G$6:G$16)*G$2+H11/SUM(H$6:H$16)*H$2+I11/SUM(I$6:I$16)*I$2+J11/SUM(J$6:J$16)*J$2+K11/SUM(K$6:K$16)*K$2+L11/SUM(L$6:L$16)*L$2+M11/SUM(M$6:M$16)*M$2 -> 8.9359362e-05 | O11: =N11/SUM($N$7:$N$16)*100 -> 20.664686
A12: Sn | B12: 118.71 | C12: =1*0.1*B12 -> 11.871 | N12: =C12/SUM(C$6:C$16)*C$2+D12/SUM(D$6:D$16)*D$2+E12/SUM(E$6:E$16)*E$2+F12/SUM(F$6:F$16)*F$2+G12/SUM(G$6:G$16)*G$2+H12/SUM(H$6:H$16)*H$2+I12/SUM(I$6:I$16)*I$2+J12/SUM(J$6:J$16)*J$2+K12/SUM(K$6:K$16)*K$2+L12/SUM(L$6:L$16)*L$2+M12/SUM(M$6:M$16)*M$2 -> 9.4091924e-07 | O12: =N12/SUM($N$7:$N$16)*100 -> 0.21759109
A13: Ag | B13: 107.87 | D13: =1*B13 -> 107.87 | K13: =1*B13 -> 107.87 | N13: =C13/SUM(C$6:C$16)*C$2+D13/SUM(D$6:D$16)*D$2+E13/SUM(E$6:E$16)*E$2+F13/SUM(F$6:F$16)*F$2+G13/SUM(G$6:G$16)*G$2+H13/SUM(H$6:H$16)*H$2+I13/SUM(I$6:I$16)*I$2+J13/SUM(J$6:J$16)*J$2+K13/SUM(K$6:K$16)*K$2+L13/SUM(L$6:L$16)*L$2+M13/SUM(M$6:M$16)*M$2 -> 0.00015815137 | O13: =N13/SUM($N$7:$N$16)*100 -> 36.573095
A14: Al | B14: 26.982 | G14: =1*0.9*B14 -> 24.2838 | J14: =1*B14 -> 26.982 | L14: =2*B14 -> 53.964 | N14: =C14/SUM(C$6:C$16)*C$2+D14/SUM(D$6:D$16)*D$2+E14/SUM(E$6:E$16)*E$2+F14/SUM(F$6:F$16)*F$2+G14/SUM(G$6:G$16)*G$2+H14/SUM(H$6:H$16)*H$2+I14/SUM(I$6:I$16)*I$2+J14/SUM(J$6:J$16)*J$2+K14/SUM(K$6:K$16)*K$2+L14/SUM(L$6:L$16)*L$2+M14/SUM(M$6:M$16)*M$2 -> 7.7600935e-05 | O14: =N14/SUM($N$7:$N$16)*100 -> 17.945506
A15: Ir | B15: 192.22 | G15: =1*0.1*B15 -> 19.222 | H15: =1*0.08*B15 -> 15.3776 | N15: =C15/SUM(C$6:C$16)*C$2+D15/SUM(D$6:D$16)*D$2+E15/SUM(E$6:E$16)*E$2+F15/SUM(F$6:F$16)*F$2+G15/SUM(G$6:G$16)*G$2+H15/SUM(H$6:H$16)*H$2+I15/SUM(I$6:I$16)*I$2+J15/SUM(J$6:J$16)*J$2+K15/SUM(K$6:K$16)*K$2+L15/SUM(L$6:L$16)*L$2+M15/SUM(M$6:M$16)*M$2 -> 1.0982887e-07 | O15: =N15/SUM($N$7:$N$16)*100 -> 0.025398337
A16: Mg | B16: 24.305 | K16: =10*B16 -> 243.05 | N16: =C16/SUM(C$6:C$16)*C$2+D16/SUM(D$6:D$16)*D$2+E16/SUM(E$6:E$16)*E$2+F16/SUM(F$6:F$16)*F$2+G16/SUM(G$6:G$16)*G$2+H16/SUM(H$6:H$16)*H$2+I16/SUM(I$6:I$16)*I$2+J16/SUM(J$6:J$16)*J$2+K16/SUM(K$6:K$16)*K$2+L16/SUM(L$6:L$16)*L$2+M16/SUM(M$6:M$16)*M$2 -> 1.8056291e-06 | O16: =N16/SUM($N$7:$N$16)*100 -> 0.41755847
A17: Nd | B17: 144.242 | P17: =2*B17 -> 288.484
A18: Fe | B18: 55.845 | P18: =14*B18 -> 781.83
A19: B | B19: 10.81 | P19: =1*B19 -> 10.81

Sheet recycling_routes
A1: carrier | B1: phase | C1: recovery | D1: element | E1: oxide | F1: comment
A2: Al | B2: carrier | C2: recovered | D2: Al | E2: 0
A3: Al | B3: metal phase | C3: lost | D3: Ag | E3: 0
A4: Al | B4: metal phase | C4: lost | D4: Au | E4: 0
A5: Al | B5: metal phase | C5: lost | D5: Pt | E5: 0
A6: Al | B6: metal phase | C6: lost | D6: Pd | E6: 0
A7: Al | B7: metal phase | C7: separately recovered | D7: Sn | E7: 0
A8: Al | B8: metal phase | C8: separately recovered | D8: Ni | E8: 0
A9: Al | B9: metal phase | C9: separately recovered | D9: Cu | E9: 0
A10: Al | B10: metal phase | C10: separately recovered | D10: Fe | E10: 0
A11: Al | B11: metal phase | C11: separately recovered | D11: Mn | E11: 0
A12: Al | B12: metal phase | C12: separately recovered | D12: Si | E12: 0
A13: Al | B13: metal phase | C13: separately recovered | D13: Mg | E13: 0
... A49: Al | B49: not recovered compound | C49: separately recovered | D49: Sr | E49: 1
A50: Al | B50: not recovered compound | C50: separately recovered | D50: K | E50: 0 | F50: as KCl
A51: Al | B51: not recovered compound | C51: separately recovered | D51: Cl | E51: 0 | F51: as KCl
A52: Ti | B52: carrier | C52: recovered | D52: Ti | E52: 0
A53: Ti | B53: metal phase | C53: separately recovered | D53: Sn | E53: 0
A54: Ti | B54: metal phase | C54: separately recovered | D54: Al | E54: 0
A55: Ti | B55: metal phase | C55: separately recovered | D55: Mo | E55: 0
A56: Ti | B56: metal phase | C56: separately recovered | D56: Si | E56: 0
A57: Ti | B57: metal phase | C57: separately recovered | D57: V | E57: 0
A58: Ti | B58: metal phase | C58: separately recovered | D58: Cr | E58: 0
A59: Ti | B59: metal phase | C59: separately recovered | D59: Nb | E59: 0
A60: Ti | B60: metal phase | C60: separately recovered | D60: Zr | E60: 0
A61: Ti | B61: not recovered compound | C61: lost | D61: Ca | E61: 1
A62: Ti | B62: not recovered compound | C62: lost | D62: Sc | E62: 1
A63: Ti | B63: not recovered compound | C63: lost | D63: Y | E63: 1
... A85: Ti | B85: not recovered compound | C85: separately recovered | D85: Sr | E85: 1
A86: Ti | B86: not recovered compound | C86: separately recovered | D86: K | E86: 0 | F86: as KCl
A87: Ti | B87: not recovered compound | C87: separately recovered | D87: Cl | E87: 0 | F87: as KCl
A88: Mg | B88: carrier | C88: recovered | D88: Mg | E88: 0
A89: Mg | B89: metal phase | C89: separately recovered | D89: Zr | E89: 0
A90: Mg | B90: metal phase | C90: separately recovered | D90: Al | E90: 0
A91: Mg | B91: metal phase | C91: separately recovered | D91: Th | E91: 0
A92: Mg | B92: metal phase | C92: separately recovered | D92: Si | E92: 0
A93: Mg | B93: metal phase | C93: separately recovered | D93: Zn | E93: 0
A94: Mg | B94: metal phase | C94: separately recovered | D94: Sc | E94: 0
A95: Mg | B95: metal phase | C95: separately recovered | D95: Y | E95: 0
A96: Mg | B96: metal phase | C96: separately recovered | D96: La | E96: 0
A97: Mg | B97: metal phase | C97: separately recovered | D97: Ce | E97: 0
A98: Mg | B98: metal phase | C98: separately recovered | D98: Pr | E98: 0
A99: Mg | B99: metal phase | C99: separately recovered | D99: Nd | E99: 0
... A138: Li | B138: not recovered compound | C138: separately recovered | D138: Mn | E138: 1
A139: RE | B139: metal phase | C139: recovered | D139: Sc | E139: 0 | F139: maybe as oxide
A140: RE | B140: metal phase | C140: recovered | D140: Y | E140: 0 | F140: maybe as oxide
A141: RE | B141: metal phase | C141: recovered | D141: La | E141: 0 | F141: maybe as oxide
A142: RE | B142: metal phase | C142: recovered | D142: Ce | E142: 0 | F142: maybe as oxide
A143: RE | B143: metal phase | C143: recovered | D143: Pr | E143: 0 | F143: maybe as oxide
A144: RE | B144: metal phase | C144: recovered | D144: Nd | E144: 0 | F144: maybe as oxide
A145: RE | B145: metal phase | C145: recovered | D145: Pm | E145: 0 | F145: maybe as oxide
A146: RE | B146: metal phase | C146: recovered | D146: Sm | E146: 0 | F146: maybe as oxide
A147: RE | B147: metal phase | C147: recovered | D147: Eu | E147: 0 | F147: maybe as oxide
A148: RE | B148: metal phase | C148: recovered | D148: Gd | E148: 0 | F148: maybe as oxide
A149: RE | B149: metal phase | C149: recovered | D149: Tb | E149: 0 | F149: maybe as oxide
A150: RE | B150: metal phase | C150: recovered | D150: Dy | E150: 0 | F150: maybe as oxide
... A156: RE | B156: mainly recovered compound | C156: separately recovered | D156: Al | E156: 0 | F156: as AlXy
A157: RE | B157: mainly recovered compound | C157: separately recovered | D157: In | E157: 0
A158: RE | B158: mainly recovered compound | C158: separately recovered | D158: P | E158: 0
A159: RE | B159: mainly recovered compound | C159: separately recovered | D159: Sb | E159: 1
A160: RE | B160: mainly recovered compound | C160: separately recovered | D160: Ga | E160: 0
A161: RE | B161: mainly recovered compound | C161: separately recovered | D161: As | E161: 0
A162: RE | B162: mainly recovered compound | C162: separately recovered | D162: Cu | E162: 0
A163: RE | B163: mainly recovered compound | C163: separately recovered | D163: Ca | E163: 0 | F163: as CaXy
A164: RE | B164: mainly recovered compound | C164: separately recovered | D164: Si | E164: 0 | F164: as SiXy
A165: RE | B165: not recovered compound | C165: separately recovered | D165: Mg | E165: 1
A166: RE | B166: not recovered compound | C166: separately recovered | D166: Sr | E166: 1
A167: RE | B167: not recovered compound | C167: separately recovered | D167: Al | E167: 1
A168: RE | B168: not recovered compound | C168: separately recovered | D168: Si | E168: 1
A169: RE | B169: not recovered compound | C169: separately recovered | D169: Ca | E169: 1
A170: RE | B170: not recovered compound | C170: lost | D170: P | E170: 0
A171: RE_Bat | B171: metal phase | C171: recovered | D171: Ni | E171: 0
A172: RE_Bat | B172: metal phase | C172: recovered | D172: Co | E172: 0
A173: RE_Bat | B173: mainly recovered compound | C173: recovered | D173: Sc | E173: 1
A174: RE_Bat | B174: mainly recovered compound | C174: recovered | D174: Y | E174: 1
A175: RE_Bat | B175: mainly recovered compound | C175: recovered | D175: La | E175: 1
A176: RE_Bat | B176: mainly recovered compound | C176: recovered | D176: Ce | E176: 1
... A357: Ni/Cr | B357: mainly recovered compound | C357: separately recovered | D357: Al | E357: 0
A358: Ni/Cr | B358: not recovered compound | C358: separately recovered | D358: Ca | E358: 0 | F358: as CaF2
A359: Ni/Cr | B359: not recovered compound | C359: separately recovered | D359: F | E359: 0 | F359: as CaF2
A360: Ni/Cr | B360: not recovered compound | C360: separately recovered | D360: Al | E360: 1
A361: Ni/Cr | B361: not recovered compound | C361: separately recovered | D361: Si | E361: 1
A362: Ni/Cr | B362: not recovered compound | C362: separately recovered | D362: Ca | E362: 1
A363: Ni/Cr | B363: not recovered compound | C363: separately recovered | D363: Fe | E363: 1
A364: Ni/Cr | B364: not recovered compound | C364: separately recovered | D364: Mg | E364: 1
A365: Mn | B365: carrier | C365: recovered | D365: Mn | E365: 0
A366: Mn | B366: metal phase | C366: recovered | D366: Fe | E366: 0
A367: Mn | B367: mainly recovered compound | C367: separately recovered | D367: Pb | E367: 0
A368: Mn | B368: mainly recovered compound | C368: separately recovered | D368: F | E368: 0
A369: Mn | B369: mainly recovered compound | C369: separately recovered | D369: Cl | E369: 0
A370: Mn | B370: mainly recovered compound | C370: separately recovered | D370: Zn | E370: 0
A371: Mn | B371: mainly recovered compound | C371: separately recovered | D371: Al | E371: 0
A372: Mn | B372: not recovered compound | C372: separately recovered | D372: Ca | E372: 0 | F372: as CaF2
A373: Mn | B373: not recovered compound | C373: separately recovered | D373: F | E373: 0 | F373: as CaF2
A374: Mn | B374: not recovered compound | C374: separately recovered | D374: Al | E374: 1
A375: Mn | B375: not recovered compound | C375: separately recovered | D375: Si | E375: 1
A376: Mn | B376: not recovered compound | C376: separately recovered | D376: Ca | E376: 1
A377: Mn | B377: not recovered compound | C377: separately recovered | D377: Fe | E377: 1
A378: Mn | B378: not recovered compound | C378: separately recovered | D378: Mg | E378: 1
A379: Fe | B379: carrier | C379: recovered | D379: Fe | E379: 0
...

Sheet routes_params
A1: carrier | B1: recovered | D1: rees
A2: metal phase | B2: separately recovered | D2: Sc
A3: mainly recovered compound | B3: lost | D3: Y
A4: not recovered compound | D4: La
D5: Ce
D6: Pr
D7: Nd
D8: Pm
D9: Sm
D10: Eu
D11: Gd
D12: Tb
D13: Dy
D14: Ho
D15: Er
D16: Tm
... D18: Lu

Sheet BoM
C1: iPhone 4 | D1: estimated average (Richter) | E1: iPhone 6 | F1: avg. of representative 3 smartphones (2012-2017)
C2: 137 | D2: =F2 -> 110 | E2: 129 | F2: 110 | G2: 160
A3: element | C3: (University of Plymouth, 2019) | D3: (US EPA, 2015) | E3: (Merchant, 2017) | F3: (Bookhagen et al., 2020) | G3: (Manhart et al., 2016) | H3: =C3 -> (University of Plymouth, 2019) | I3: =D3 -> (US EPA, 2015) | J3: =E3 -> (Merchant, 2017) | K3: =F3 -> (Bookhagen et al., 2020) | L3: =G3 -> (Manhart et al., 2016)
A4: aluminum | B4: =MAX(H4:L4) -> 0.24139535 | C4: 2.5 | E4: 31.14 | F4: 6.68 | G4: 22.18 | H4: =IF(C4<>"",C4/C$2,"-") -> 0.018248175 | I4: =IF(D4<>"",D4/D$2,"-") -> - | J4: =IF(E4<>"",E4/E$2,"-") -> 0.24139535 | K4: =IF(F4<>"",F4/F$2,"-") -> 0.060727273 | L4: =IF(G4<>"",G4/G$2,"-") -> 0.138625
A5: antimony | B5: =MAX(H5:L5) -> 5.1094891e-05 | C5: 0.007 | H5: =IF(C5<>"",C5/C$2,"-") -> 5.1094891e-05 | I5: =IF(D5<>"",D5/D$2,"-") -> - | J5: =IF(E5<>"",E5/E$2,"-") -> - | K5: =IF(F5<>"",F5/F$2,"-") -> - | L5: =IF(G5<>"",G5/G$2,"-") -> -
A6: arsenic | B6: =MAX(H6:L6) -> 7.751938e-05 | E6: 0.01 | H6: =IF(C6<>"",C6/C$2,"-") -> - | I6: =IF(D6<>"",D6/D$2,"-") -> - | J6: =IF(E6<>"",E6/E$2,"-") -> 7.751938e-05 | K6: =IF(F6<>"",F6/F$2,"-") -> - | L6: =IF(G6<>"",G6/G$2,"-") -> -
A7: bismuth | B7: =MAX(H7:L7) -> 0.00015503876 | E7: 0.02 | H7: =IF(C7<>"",C7/C$2,"-") -> - | I7: =IF(D7<>"",D7/D$2,"-") -> - | J7: =IF(E7<>"",E7/E$2,"-") -> 0.00015503876 | K7: =IF(F7<>"",F7/F$2,"-") -> - | L7: =IF(G7<>"",G7/G$2,"-") -> -
A8: calcium | B8: =MAX(H8:L8) -> 0.011678832 | C8: 1.6 | E8: 0.44 | H8: =IF(C8<>"",C8/C$2,"-") -> 0.011678832 | I8: =IF(D8<>"",D8/D$2,"-") -> - | J8: =IF(E8<>"",E8/E$2,"-") -> 0.0034108527 | K8: =IF(F8<>"",F8/F$2,"-") -> - | L8: =IF(G8<>"",G8/G$2,"-") -> -
A9: carbon | B9: =MAX(H9:L9) -> 0.15387597 | C9: 4 | E9: 19.85 | H9: =IF(C9<>"",C9/C$2,"-") -> 0.02919708 | I9: =IF(D9<>"",D9/D$2,"-") -> - | J9: =IF(E9<>"",E9/E$2,"-") -> 0.15387597 | K9: =IF(F9<>"",F9/F$2,"-") -> - | L9: =IF(G9<>"",G9/G$2,"-") -> -
A10: cerium | B10: =MAX(H10:L10) -> 1.875e-07 | G10: 3e-05 | H10: =IF(C10<>"",C10/C$2,"-") -> - | I10: =IF(D10<>"",D10/D$2,"-") -> - | J10: =IF(E10<>"",E10/E$2,"-") -> - | K10: =IF(F10<>"",F10/F$2,"-") -> - | L10: =IF(G10<>"",G10/G$2,"-") -> 1.875e-07
A11: chlorine | B11: =MAX(H11:L11) -> 7.751938e-05 | E11: 0.01 | H11: =IF(C11<>"",C11/C$2,"-") -> - | I11: =IF(D11<>"",D11/D$2,"-") -> - | J11: =IF(E11<>"",E11/E$2,"-") -> 7.751938e-05 | K11: =IF(F11<>"",F11/F$2,"-") -> - | L11: =IF(G11<>"",G11/G$2,"-") -> -
A12: chromium | B12: =MAX(H12:L12) -> 0.051094891 | C12: 7 | E12: 4.94 | H12: =IF(C12<>"",C12/C$2,"-") -> 0.051094891 | I12: =IF(D12<>"",D12/D$2,"-") -> - | J12: =IF(E12<>"",E12/E$2,"-") -> 0.038294574 | K12: =IF(F12<>"",F12/F$2,"-") -> - | L12: =IF(G12<>"",G12/G$2,"-") -> -
A13: cobalt | B13: =MAX(H13:L13) -> 0.051085271 | C13: 0.07 | E13: 6.59 | G13: 5.38 | H13: =IF(C13<>"",C13/C$2,"-") -> 0.00051094891 | I13: =IF(D13<>"",D13/D$2,"-") -> - | J13: =IF(E13<>"",E13/E$2,"-") -> 0.051085271 | K13: =IF(F13<>"",F13/F$2,"-") -> - | L13: =IF(G13<>"",G13/G$2,"-") -> 0.033625
A14: copper | B14: =MAX(H14:L14) -> 0.1454547 | C14: 6 | D14: =35274/1000000*[1]calculations!N2 -> 16.000017 | E14: 7.84 | F14: 6.61 | G14: 15.12 | H14: =IF(C14<>"",C14/C$2,"-") -> 0.04379562 | I14: =IF(D14<>"",D14/D$2,"-") -> 0.1454547 | J14: =IF(E14<>"",E14/E$2,"-") -> 0.060775194 | K14: =IF(F14<>"",F14/F$2,"-") -> 0.060090909 | L14: =IF(G14<>"",G14/G$2,"-") -> 0.0945
A15: dysprosium | B15: =MAX(H15:L15) -> 1.459854e-05 | C15: 0.002 | H15: =IF(C15<>"",C15/C$2,"-") -> 1.459854e-05 | I15: =IF(D15<>"",D15/D$2,"-") -> - | J15: =IF(E15<>"",E15/E$2,"-") -> - | K15: =IF(F15<>"",F15/F$2,"-") -> - | L15: =IF(G15<>"",G15/G$2,"-") -> -
A16: europium | B16: =MAX(H16:L16) -> 6.25e-07 | G16: 0.0001 | H16: =IF(C16<>"",C16/C$2,"-") -> - | I16: =IF(D16<>"",D16/D$2,"-") -> - | J16: =IF(E16<>"",E16/E$2,"-") -> - | K16: =IF(F16<>"",F16/F$2,"-") -> - | L16: =IF(G16<>"",G16/G$2,"-") -> 6.25e-07
A17: gadolinium | B17: =MAX(H17:L17) -> 3.649635e-05 | C17: 0.005 | G17: 0.0002 | H17: =IF(C17<>"",C17/C$2,"-") -> 3.649635e-05 | I17: =IF(D17<>"",D17/D$2,"-") -> - | J17: =IF(E17<>"",E17/E$2,"-") -> - | K17: =IF(F17<>"",F17/F$2,"-") -> - | L17: =IF(G17<>"",G17/G$2,"-") -> 1.25e-06
A18: gallium | B18: =MAX(H18:L18) -> 7.751938e-05 | E18: 0.01 | G18: 0.0004 | H18: =IF(C18<>"",C18/C$2,"-") -> - | I18: =IF(D18<>"",D18/D$2,"-") -> - | J18: =IF(E18<>"",E18/E$2,"-") -> 7.751938e-05 | K18: =IF(F18<>"",F18/F$2,"-") -> - | L18: =IF(G18<>"",G18/G$2,"-") -> 2.5e-06
A19: germanium | B19: =MAX(H19:L19) -> 1.459854e-05 | C19: 0.002 | H19: =IF(C19<>"",C19/C$2,"-") -> 1.459854e-05 | I19: =IF(D19<>"",D19/D$2,"-") -> - | J19: =IF(E19<>"",E19/E$2,"-") -> - | K19: =IF(F19<>"",F19/F$2,"-") -> - | L19: =IF(G19<>"",G19/G$2,"-") -> -
A20: gold | B20: =MAX(H20:L20) -> 0.00030926752 | C20: 0.036 | D20: =75/1000000*[1]calculations!N2 -> 0.034019428 | E20: 0.014 | F20: 0.017 | G20: 0.03 | H20: =IF(C20<>"",C20/C$2,"-") -> 0.00026277372 | I20: =IF(D20<>"",D20/D$2,"-") -> 0.00030926752 | J20: =IF(E20<>"",E20/E$2,"-") -> 0.00010852713 | K20: =IF(F20<>"",F20/F$2,"-") -> 0.00015454545 | L20: =IF(G20<>"",G20/G$2,"-") -> 0.0001875
A21: hydrogen | B21: =MAX(H21:L21) -> 0.042790698 | E21: 5.52 | H21: =IF(C21<>"",C21/C$2,"-") -> - | I21: =IF(D21<>"",D21/D$2,"-") -> - | J21: =IF(E21<>"",E21/E$2,"-") -> 0.042790698 | K21: =IF(F21<>"",F21/F$2,"-") -> - | L21: =IF(G21<>"",G21/G$2,"-") -> -
A22: indium | B22: =MAX(H22:L22) -> 6.25e-05 | C22: 0.002 | F22: =0.0004+0.0022 -> 0.0026 | G22: 0.01 | H22: =IF(C22<>"",C22/C$2,"-") -> 1.459854e-05 | I22: =IF(D22<>"",D22/D$2,"-") -> - | J22: =IF(E22<>"",E22/E$2,"-") -> - | K22: =IF(F22<>"",F22/F$2,"-") -> 2.3636364e-05 | L22: =IF(G22<>"",G22/G$2,"-") -> 6.25e-05
A23: iron | B23: =MAX(H23:L23) -> 0.24087591 | C23: 33 | E23: 18.63 | F23: 15.98 | G23: 0.88 | H23: =IF(C23<>"",C23/C$2,"-") -> 0.24087591 | I23: =IF(D23<>"",D23/D$2,"-") -> - | J23: =IF(E23<>"",E23/E$2,"-") -> 0.1444186 | K23: =IF(F23<>"",F23/F$2,"-") -> 0.14527273 | L23: =IF(G23<>"",G23/G$2,"-") -> 0.0055
A24: lead | B24: =MAX(H24:L24) -> 0.00031007752 | E24: 0.04 | H24: =IF(C24<>"",C24/C$2,"-") -> - | I24: =IF(D24<>"",D24/D$2,"-") -> - | J24: =IF(E24<>"",E24/E$2,"-") -> 0.00031007752 | K24: =IF(F24<>"",F24/F$2,"-") -> - | L24: =IF(G24<>"",G24/G$2,"-") -> -
A25: lithium | B25: =MAX(H25:L25) -> 0.006744186 | E25: 0.87 | H25: =IF(C25<>"",C25/C$2,"-") -> - | I25: =IF(D25<>"",D25/D$2,"-") -> - | J25: =IF(E25<>"",E25/E$2,"-") -> 0.006744186 | K25: =IF(F25<>"",F25/F$2,"-") -> - | L25: =IF(G25<>"",G25/G$2,"-") -> -
A26: magnesium | B26: =MAX(H26:L26) -> 0.065818182 | E26: 0.65 | F26: 7.24 | G26: 5.54 | H26: =IF(C26<>"",C26/C$2,"-") -> - | I26: =IF(D26<>"",D26/D$2,"-") -> - | J26: =IF(E26<>"",E26/E$2,"-") -> 0.0050387597 | K26: =IF(F26<>"",F26/F$2,"-") -> 0.065818182 | L26: =IF(G26<>"",G26/G$2,"-") -> 0.034625
A27: manganese | B27: =MAX(H27:L27) -> 0.002248062 | E27: 0.29 | H27: =IF(C27<>"",C27/C$2,"-") -> - | I27: =IF(D27<>"",D27/D$2,"-") -> - | J27: =IF(E27<>"",E27/E$2,"-") -> 0.002248062 | K27: =IF(F27<>"",F27/F$2,"-") -> - | L27: =IF(G27<>"",G27/G$2,"-") -> -
A28: molybdenum | B28: =MAX(H28:L28) -> 0.00051094891 | C28: 0.07 | E28: 0.02 | H28: =IF(C28<>"",C28/C$2,"-") -> 0.00051094891 | I28: =IF(D28<>"",D28/D$2,"-") -> - | J28: =IF(E28<>"",E28/E$2,"-") -> 0.00015503876 | K28: =IF(F28<>"",F28/F$2,"-") -> - | L28: =IF(G28<>"",G28/G$2,"-") -> -
A29: neodymium | B29: =MAX(H29:L29) -> 0.0019090909 | C29: 0.16 | F29: 0.21 | G29: 0.05 | H29: =IF(C29<>"",C29/C$2,"-") -> 0.0011678832 | I29: =IF(D29<>"",D29/D$2,"-") -> - | J29: =IF(E29<>"",E29/E$2,"-") -> - | K29: =IF(F29<>"",F29/F$2,"-") -> 0.0019090909 | L29: =IF(G29<>"",G29/G$2,"-") -> 0.0003125
A30: nickel | B30: =MAX(H30:L30) -> 0.023636364 | C30: 2.7 | E30: 2.72 | F30: 2.6 | H30: =IF(C30<>"",C30/C$2,"-") -> 0.019708029 | I30: =IF(D30<>"",D30/D$2,"-") -> - | J30: =IF(E30<>"",E30/E$2,"-") -> 0.021085271 | K30: =IF(F30<>"",F30/F$2,"-") -> 0.023636364 | L30: =IF(G30<>"",G30/G$2,"-") -> -
A31: niobium | B31: =MAX(H31:L31) -> 7.2992701e-05 | C31: 0.01 | H31: =IF(C31<>"",C31/C$2,"-") -> 7.2992701e-05 | I31: =IF(D31<>"",D31/D$2,"-") -> - | J31: =IF(E31<>"",E31/E$2,"-") -> - | K31: =IF(F31<>"",F31/F$2,"-") -> - | L31: =IF(G31<>"",G31/G$2,"-") -> -
A32: oxygen | B32: =MAX(H32:L32) -> 0.14503876 | E32: 18.71 | H32: =IF(C32<>"",C32/C$2,"-") -> - | I32: =IF(D32<>"",D32/D$2,"-") -> - | J32: =IF(E32<>"",E32/E$2,"-") -> 0.14503876 | K32: =IF(F32<>"",F32/F$2,"-") -> - | L32: =IF(G32<>"",G32/G$2,"-") -> -
A33: palladium | B33: =MAX(H33:L33) -> 0.00013607771 | D33: =33/1000000*[1]calculations!N2 -> 0.014968548 | F33: 0.0019 | G33: 0.01 | H33: =IF(C33<>"",C33/C$2,"-") -> - | I33: =IF(D33<>"",D33/D$2,"-") -> 0.00013607771 | J33: =IF(E33<>"",E33/E$2,"-") -> - | K33: =IF(F33<>"",F33/F$2,"-") -> 1.7272727e-05 | L33: =IF(G33<>"",G33/G$2,"-") -> 6.25e-05
A34: phosphorous | B34: =MAX(H34:L34) -> 0.00023255814 | E34: 0.03 | H34: =IF(C34<>"",C34/C$2,"-") -> - | I34: =IF(D34<>"",D34/D$2,"-") -> - | J34: =IF(E34<>"",E34/E$2,"-") -> 0.00023255814 | K34: =IF(F34<>"",F34/F$2,"-") -> - | L34: =IF(G34<>"",G34/G$2,"-") -> -
A35: plastics | B35: =MAX(H35:L35) -> 0.0595625 | G35: 9.53 | H35: =IF(C35<>"",C35/C$2,"-") -> - | I35: =IF(D35<>"",D35/D$2,"-") -> - | J35: =IF(E35<>"",E35/E$2,"-") -> - | K35: =IF(F35<>"",F35/F$2,"-") -> - | L35: =IF(G35<>"",G35/G$2,"-") -> 0.0595625
A36: platinum | B36: =MAX(H36:L36) -> 4.5454545e-06 | F36: 0.0005 | H36: =IF(C36<>"",C36/C$2,"-") -> - | I36: =IF(D36<>"",D36/D$2,"-") -> - | J36: =IF(E36<>"",E36/E$2,"-") -> - | K36: =IF(F36<>"",F36/F$2,"-") -> 4.5454545e-06 | L36: =IF(G36<>"",G36/G$2,"-") -> -
A37: potassium | B37: =MAX(H37:L37) -> 0.0025581395 | E37: 0.33 | H37: =IF(C37<>"",C37/C$2,"-") -> - | I37: =IF(D37<>"",D37/D$2,"-") -> - | J37: =IF(E37<>"",E37/E$2,"-") -> 0.0025581395 | K37: =IF(F37<>"",F37/F$2,"-") -> - | L37: =IF(G37<>"",G37/G$2,"-") -> -
A38: praseodymium | B38: =MAX(H38:L38) -> 0.0002189781 | C38: 0.03 | G38: 0.01 | H38: =IF(C38<>"",C38/C$2,"-") -> 0.0002189781 | I38: =IF(D38<>"",D38/D$2,"-") -> - | J38: =IF(E38<>"",E38/E$2,"-") -> - | K38: =IF(F38<>"",F38/F$2,"-") -> - | L38: =IF(G38<>"",G38/G$2,"-") -> 6.25e-05
A39: silicon | B39: =MAX(H39:L39) -> 0.094890511 | C39: 13 | E39: 8.14 | F39: 9.27 | H39: =IF(C39<>"",C39/C$2,"-") -> 0.094890511 | I39: =IF(D39<>"",D39/D$2,"-") -> - | J39: =IF(E39<>"",E39/E$2,"-") -> 0.063100775 | K39: =IF(F39<>"",F39/F$2,"-") -> 0.084272727 | L39: =IF(G39<>"",G39/G$2,"-") -> -
A40: silver | B40: =MAX(H40:L40) -> 0.0031833937 | C40: 0.09 | D40: =772/1000000*[1]calculations!N2 -> 0.35017331 | G40: 0.31 | H40: =IF(C40<>"",C40/C$2,"-") -> 0.00065693431 | I40: =IF(D40<>"",D40/D$2,"-") -> 0.0031833937 | J40: =IF(E40<>"",E40/E$2,"-") -> - | K40: =IF(F40<>"",F40/F$2,"-") -> - | L40: =IF(G40<>"",G40/G$2,"-") -> 0.0019375
A41: sulfur | B41: =MAX(H41:L41) -> 0.0034108527 | E41: 0.44 | H41: =IF(C41<>"",C41/C$2,"-") -> - | I41: =IF(D41<>"",D41/D$2,"-") -> - | J41: =IF(E41<>"",E41/E$2,"-") -> 0.0034108527 | K41: =IF(F41<>"",F41/F$2,"-") -> - | L41: =IF(G41<>"",G41/G$2,"-") -> -
A42: tantalum | B42: =MAX(H42:L42) -> 0.00036363636 | C42: 0.02 | E42: 0.025 | F42: 0.04 | G42: 0.02 | H42: =IF(C42<>"",C42/C$2,"-") -> 0.0001459854 | I42: =IF(D42<>"",D42/D$2,"-") -> - | J42: =IF(E42<>"",E42/E$2,"-") -> 0.00019379845 | K42: =IF(F42<>"",F42/F$2,"-") -> 0.00036363636 | L42: =IF(G42<>"",G42/G$2,"-") -> 0.000125
A43: tin | B43: =MAX(H43:L43) -> 0.0075625 | C43: 0.7 | E43: 0.66 | F43: 0.64 | G43: 1.21 | H43: =IF(C43<>"",C43/C$2,"-") -> 0.0051094891 | I43: =IF(D43<>"",D43/D$2,"-") -> - | J43: =IF(E43<>"",E43/E$2,"-") -> 0.0051162791 | K43: =IF(F43<>"",F43/F$2,"-") -> 0.0058181818 | L43: =IF(G43<>"",G43/G$2,"-") -> 0.0075625
A44: titanium | B44: =MAX(H44:L44) -> 0.0023255814 | E44: 0.3 | H44: =IF(C44<>"",C44/C$2,"-") -> - | I44: =IF(D44<>"",D44/D$2,"-") -> - | J44: =IF(E44<>"",E44/E$2,"-") -> 0.0023255814 | K44: =IF(F44<>"",F44/F$2,"-") -> - | L44: =IF(G44<>"",G44/G$2,"-") -> -
A45: tungsten | B45: =MAX(H45:L45) -> 0.0065693431 | C45: 0.9 | E45: 0.02 | H45: =IF(C45<>"",C45/C$2,"-") -> 0.0065693431 | I45: =IF(D45<>"",D45/D$2,"-") -> - | J45: =IF(E45<>"",E45/E$2,"-") -> 0.00015503876 | K45: =IF(F45<>"",F45/F$2,"-") -> - | L45: =IF(G45<>"",G45/G$2,"-") -> -
A46: vanadium | B46: =MAX(H46:L46) -> 0.00031007752 | E46: 0.04 | H46: =IF(C46<>"",C46/C$2,"-") -> - | I46: =IF(D46<>"",D46/D$2,"-") -> - | J46: =IF(E46<>"",E46/E$2,"-") -> 0.00031007752 | K46: =IF(F46<>"",F46/F$2,"-") -> - | L46: =IF(G46<>"",G46/G$2,"-") -> -
A47: yttrium | B47: =MAX(H47:L47) -> 2.5e-06 | G47: 0.0004 | H47: =IF(C47<>"",C47/C$2,"-") -> - | I47: =IF(D47<>"",D47/D$2,"-") -> - | J47: =IF(E47<>"",E47/E$2,"-") -> - | K47: =IF(F47<>"",F47/F$2,"-") -> - | L47: =IF(G47<>"",G47/G$2,"-") -> 2.5e-06
A48: zinc | B48: =MAX(H48:L48) -> 0.0053488372 | E48: 0.69 | H48: =IF(C48<>"",C48/C$2,"-") -> - | I48: =IF(D48<>"",D48/D$2,"-") -> - | J48: =IF(E48<>"",E48/E$2,"-") -> 0.0053488372 | K48: =IF(F48<>"",F48/F$2,"-") -> - | L48: =IF(G48<>"",G48/G$2,"-") -> -

Sheet material_composition
A1: AMOLED
A2: (Tan et al., 2017) | D2: factor | E2: material | I2: density [g/cm³]
B3: 10 | C3: nm | D3: 3 | E3: ITO
B4: 100 | C4: nm | D4: 3 | E4: Ag
B5: 10 | C5: nm | D5: 3 | E5: ITO | F5: Indium-Tin-Oxide | G5: (In2O3)*0.9*(SnO2)*0.1
B6: 60 | C6: nm | D6: 3 | E6: 2T-NATA | F6: 4,4',4”-Tris(N-(naphthalen-2-yl)-N-phenyl-amino)triphenylamin | G6: C66H48N4 | H6: ="C,"&66*material_elements!B7/(66*material_elements!B7+48*material_elements!B8+4*material_elements!B9)&",H,"&48*material_elements!B8/(66*material_elements!B7+48*material_elements!B8+4*material_elements!B9)&",N,"&4*material_elements!B9/(66*material_elements!B7+48*material_elements!B8+4*material_elements!B9) -> C,0.883616567350842,H,0.0539315021769226,N,0.062451930472235 | I6: 1.3 | J6: https://www.chemsrc.com/en/cas/185690-41-9_165484.html
A7: d1 | B7: 184 | C7: nm | D7: 1 | E7: NPB | F7: N,N′-Bis(naphthalen-1-yl)-N,N′-bis(phenyl)benzidine | G7: C44H32N2 | J7: https://www.scbt.com/p/n-nprime-bisnaphthalen-1-yl-n-nprime-bisphenylbenzidine-123847-85-8
A8: d2 | B8: 114 | C8: nm | D8: 1 | E8: NPB
A9: d3 | B9: 69 | C9: nm | D9: 1 | E9: NPB
B10: 30 | C10: nm | D10: 1 | E10: EML red | F10: Balq*0.9, Ir(piq)2(acac))*0.1 | G10: (C32H25AlN2O3)*0.9*(C35H27IrN2O2)*0.1 | J10: https://www.chemsrc.com/en/baike/1028635.html | K10: https://www.ossila.com/en-eu/products/irpiq2acac
B11: 30 | C11: nm | D11: 1 | E11: EML green | F11: CBP*0.92,Ir(ppy)3*0.08 | J11: https://www.sigmaaldrich.com/DE/de/product/aldrich/699195 | K11: https://pubchem.ncbi.nlm.nih.gov/compound/Ir_ppy_3
B12: 30 | C12: nm | D12: 1 | E12: EML blue | F12: (DSA-Ph)*0.95*(MADN)*0.05 | J12: https://pubchem.ncbi.nlm.nih.gov/compound/DSA-Ph | K12: https://www.sigmaaldrich.com/DE/de/product/aldrich/804827
B13: 30 | C13: nm | D13: 3 | E13: Alq3 | F13: Tris(8-hydroxyquinoline)aluminum(III) | G13: C27H18AlN3O3 | J13: https://www.ossila.com/en-eu/products/alq3
B14: 10 | C14: nm | D14: 3 | E14: Mg:Ag | G14: Mg10Ag
A15: d4 | B15: 39 | C15: nm | D15: 1 | E15: NPB
A16: d5 | B16: 174 | C16: nm | D16: 1 | E16: NPB
A17: d6 | B17: 116 | C17: nm | D17: 1 | E17: NPB
A18: d7 | B18: 56 | C18: nm | D18: 3 | E18: Al2O3
A19: d8 | B19: 107 | C19: nm | D19: 3 | E19: Polyacrylate | J19: https://pubchem.ncbi.nlm.nih.gov/compound/Acrylic-acid
A20: d9 | B20: 77 | C20: nm | D20: 3 | E20: Al2O3
A21: d10 | B21: 126 | C21: nm | D21: 3 | E21: Polyacrylate
A22: d11 | B22: 112 | C22: nm | D22: 3 | E22: Al2O3
B24: area | C24: thickness | D24: volume | E24: density | F24: mass per m² | M24: pound | N24: gram
B25: m² | C25: m | D25: m³ | E25: kg/m³ | F25: kg/m² | M25: 1 | N25: 453.59237
A26: =[1]material_data_old!B15 -> IC | B26: 1 | C26: 0.000775 | D26: =B26*C26 -> 0.000775 | E26: 2330 | F26: =E26*D26/B26 -> 1.80575
A27: =[1]material_data_old!B16 -> PCB 1-layer | B27: 1 | C27: =N51/1000 -> 0.0004226 | D27: =B27*C27 -> 0.0004226 | E27: =[1]material_data_old!E16 -> 1963.0442 | F27: =E27*D27/B27 -> 0.8295825
A28: =[1]material_data_old!B17 -> PCB 8-layer | B28: 1 | C28: =N54/1000 -> 0.00095278 | D28: =B28*C28 -> 0.00095278 | E28: =[1]material_data_old!E17 -> 1892.5867 | F28: =E28*D28/B28 -> 1.8032188
A29: =[1]material_data_old!B18 -> PCB 12-layer | B29: 1 | C29: =N55/1000 -> 0.00209546 | D29: =B29*C29 -> 0.00209546 | E29: =[1]material_data_old!E18 -> 1877.2756 | F29: =E29*D29/B29 -> 3.9337559
A31: IC | B31: thickness | C31: density | D31: area percentage | E31: mass | F31: mass percentage | G31: min GWP per m² | H31: max GWP per m² | I31: min GWP per kg | J31: max GWP per kg
B32: m | C32: kg/m³ | E32: kg/m² | F32: % | G32: kg CO2e/m² | H32: kg CO2e/m² | I32: kg CO2e/kg | J32: kg CO2e/kg
A33: IC | D33: 1 | E33: =SUM(E34:E36) -> 4.28575 | F33: =E33/$E$33 -> 1 | G33: 19740 | H33: 54000 | I33: =G33/E33 -> 4605.9616 | J33: =H33/E33 -> 12599.895
A34: Si | B34: 0.000775 | C34: 2330 | D34: 1 | E34: =B34*C34 -> 1.80575 | F34: =E34/$E$33 -> 0.42133816
A35: Au | F35: =E35/$E$33 -> 0
A36: Silicone | B36: 0.001 | C36: 1240 | D36: 2 | E36: =B36*C36*D36 -> 2.48 | F36: =E36/$E$33 -> 0.57866184
G38: ="Si,"&ROUND(F34*100,3)&","&"Silicone,"&ROUND(F36*100,3) -> Si,42.134,Silicone,57.866
A40: IC small | B40: thickness | C40: density | D40: area percentage | E40: mass | F40: mass percentage | G40: min GWP per kg | H40: max GWP per kg
B41: m | C41: kg/m³ | E41: kg/m² | F41: % | G41: kg CO2e/kg | H41: kg CO2e/kg
A42: IC | D42: 1 | E42: =SUM(E43:E45) -> 9.30575 | F42: =E42/$E$42 -> 1 | G42: 12497.189 | H42: 18039.996
A43: Si | B43: 0.000775 | C43: 2330 | D43: 1 | E43: =B43*C43 -> 1.80575 | F43: =E43/$E$42 -> 0.19404669
A44: Au | F44: =E44/$E$42 -> 0
A45: Epoxy | B45: 0.003 | C45: 1250 | D45: 2 | E45: =B45*C45*D45 -> 7.5 | F45: =E45/$E$42 -> 0.80595331
G46: ="Si,"&ROUND(F43*100,3)&","&"Epoxy,"&ROUND(F45*100,3) -> Si,19.405,Epoxy,80.595
T47: density: | U47: 8940 | V47: =AVERAGE(1750,1970) -> 1860 | X47: 19300
AC48: Cu | AD48: Si | AE48: O | AF48: C | AG48: H | AH48: N | AI48: Br | AJ48: Sb | AK48: Fe | AL48: Sn | AM48: Ni | AN48: Zn | AO48: Pb | AP48: Au | AQ48: Ag | AR48: Pd
A49: PCB | B49: layers | C49: copper thickness (internal) | D49: copper thickness (external) | E49: FR4 thickness | F49: prepreg thickness | G49: gold thickness | H49: nickel thickness | I49: copper thickness (total) | J49: FR4 thickness (total) | K49: prepreg thickness (total) | L49: gold thickness (total) | M49: nickel thickness (total) | N49: total board thickness | O49: copper volume percentage | P49: copper volume per m² | Q49: FR4 volume per m² | R49: prepreg volume per m² | S49: gold volume per m² | T49: nickel volume per m² | U49: copper mass per m² | V49: FR4 mass per m² | W49: prepreg mass per m² | X49: gold mass per m² | Y49: nickel mass per m² | Z49: total mass per m² excl. rest | AA49: total mass per m² | AB49: FR4 mass percentage | AC49: copper mass percentage | AD49: silicon mass percentage | AE49: oxygen mass percentage | AF49: carbon mass percentage | AG49: hydrogen mass percentage | AH49: nitrogen mass percentage | AI49: bromium mass percentage | AJ49: antimony mass percentage | AK49: iron mass percentage | AL49: tin mass percentage | AM49: nickel mass percentage | AN49: zinc mass percentage | AO49: lead mass percentage | AP49: gold mass percentage | AQ49: silver mass percentage | AR49: palladium mass percentage | AS49: sum | AT49: composition | AU49: density
C50: µm | D50: µm | E50: µm | F50: µm | G50: µm | H50: µm | I50: m | J50: m | K50: m | L50: m | M50: m | N50: mm | O50: % | P50: m³ | Q50: m³ | R50: m³ | S50: m³ | T50: m³ | U50: kg | V50: kg | W50: kg | X50: kg | Y50: kg | Z50: kg | AA50: kg | AB50: % | AC50: % | AD50: % | AE50: % | AF50: % | AG50: % | AU50: kg/m³
B51: 1 | C51: 35 | D51: =C51/2 -> 17.5 | E51: 400 | F51: 400 | G51: 0.05 | H51: 2.5 | I51: =D51/1000000*B51 -> 1.75e-05 | J51: =E51/1000000 -> 0.0004 | K51: 0 | L51: =G51*2/1000000 -> 1e-07 | M51: =H51*2/1000000 -> 5e-06 | N51: =SUM(I51:M51)*1000 -> 0.4226 | O51: 0.25 | P51: =I51*O51 -> 4.375e-06 | Q51: =J51 -> 0.0004 | R51: 0 | S51: =L51 -> 1e-07 | T51: =M51 -> 5e-06 | U51: =material_composition!$U$47*material_composition!P51 -> 0.0391125 | V51: =material_composition!$V$47*material_composition!Q51 -> 0.744 | W51: =material_composition!$V$47*material_composition!R51 -> 0 | X51: =S51*material_composition!X47 -> 0.00193 | Y51: =T51*8908 -> 0.04454 | Z51: =SUM(U51:Y51) -> 0.8295825 | AA51: =Z51/(1-SUM(AK51:AL51,AN51:AO51,AQ51,AR51)) -> 0.9244459 | AB51: =(V51+W51)/AA51 -> 0.80480642 | AC51: =U51/$AA51 -> 0.042309128 | AD51: =AB51*$H$61 -> 0.18696613 | AE51: =AB51*$H$62 -> 0.24345159 | AF51: =AB51*$H$63 -> 0.34270613 | AG51: =AB51*$H$64 -> 0.026842626 | AH51: =AB51*$H$65 -> 0.0032266299 | AI51: =AB51*$H$66 -> 0 | AJ51: =AB51*$H$67 -> 0.001613315 | AK51: 0.048 | AL51: 0.041 | AM51: =Y51/AA51 -> 0.048180212 | AN51: 0.013 | AO51: 0 | AP51: =X51/AA51 -> 0.0020877371 | AQ51: =498.7/1000000 -> 0.0004987 | AR51: =117.8/1000000 -> 0.0001178 | AS51: =SUM(AC51:AR51) -> 1 | AT51: ="Cu,"&ROUND(AC51*100,3)&","&"Glass,"&ROUND((AD51+AE51)*100,3)&","&"C,"&ROUND(AF51*100,3)&","&"H,"&ROUND(AG51*100,3)&","&"N,"&ROUND(AH51*100,3)&","&"Sb,"&ROUND(AJ51*100,3)&","&"Fe,"&ROUND(AK51*100,3)&","&"Sn,"&ROUND(AL51*100,3)&","&"Ni,"&ROUND(AM51*100,3)&","&"Zn,"&ROUND(AN51*100,3)&","&"Au,"&ROUND(AP51*100,3)&","&"Ag,"&ROUND(AQ51*100,3)&","&"Pd,"&ROUND(AR51*100,3) -> Cu,4.231,Glass,43.042,C,34.271,H,2.684,N,0.323,Sb,0.161,Fe,4.8,Sn,4.1,Ni,4.818,Zn,1.3,Au,0.209,Ag,0.05,Pd,0.012 | AU51: =Z51/(N51/1000) -> 1963.0442
B52: 4 | C52: 35 | D52: =C52/2 -> 17.5 | E52: 300 | F52: 300 | G52: =AVERAGE(0.05,0.23) -> 0.14 | H52: =AVERAGE(2.5,5) -> 3.75 | I52: =D52/1000000*B52 -> 7e-05 | J52: =E52/1000000 -> 0.0003 | K52: =(B52/2-1)*F52/1000000 -> 0.0003 | L52: =G52*2/1000000 -> 2.8e-07 | M52: =H52*2/1000000 -> 7.5e-06 | N52: =SUM(I52:M52)*1000 -> 0.67778 | O52: 0.25 | P52: =I52*O52 -> 1.75e-05 | Q52: =J52 -> 0.0003 | R52: =K52-P52 -> 0.0002825 | S52: =L52 -> 2.8e-07 | T52: =M52 -> 7.5e-06 | U52: =material_composition!$U$47*material_composition!P52 -> 0.15645 | V52: =material_composition!$V$47*material_composition!Q52 -> 0.558 | W52: =material_composition!$V$47*material_composition!R52 -> 0.52545 | X52: =S52*[1]material_data_old!E7 -> 0.0007588 | Y52: =T52*8908 -> 0.06681 | Z52: =SUM(U52:Y52) -> 1.3074688 | AA52: =Z52/(1-SUM(AK52:AL52,AN52:AO52,AQ52,AR52)) -> 1.4569789 | AB52: =(V52+W52)/AA52 -> 0.7436278 | AC52: =U52/$AA52 -> 0.10737973 | AD52: =AB52*$H$61 -> 0.17275361 | AE52: =AB52*$H$62 -> 0.22494524 | AF52: =AB52*$H$63 -> 0.31665478 | AG52: =AB52*$H$64 -> 0.024802142 | AH52: =AB52*$H$65 -> 0.0029813526 | AI52: =AB52*$H$66 -> 0 | AJ52: =AB52*$H$67 -> 0.0014906763 | AK52: 0.048 | AL52: 0.041 | AM52: =Y52/AA52 -> 0.04585516 | AN52: 0.013 | AO52: 0 | AP52: =X52/AA52 -> 0.00052080371 | AQ52: =498.7/1000000 -> 0.0004987 | AR52: =117.8/1000000 -> 0.0001178 | AS52: =SUM(AC52:AR52) -> 1 | AT52: ="Cu,"&ROUND(AC52*100,3)&","&"Glass,"&ROUND((AD52+AE52)*100,3)&","&"C,"&ROUND(AF52*100,3)&","&"H,"&ROUND(AG52*100,3)&","&"N,"&ROUND(AH52*100,3)&","&"Sb,"&ROUND(AJ52*100,3)&","&"Fe,"&ROUND(AK52*100,3)&","&"Sn,"&ROUND(AL52*100,3)&","&"Ni,"&ROUND(AM52*100,3)&","&"Zn,"&ROUND(AN52*100,3)&","&"Au,"&ROUND(AP52*100,3)&","&"Ag,"&ROUND(AQ52*100,3)&","&"Pd,"&ROUND(AR52*100,3) -> Cu,10.738,Glass,39.77,C,31.665,H,2.48,N,0.298,Sb,0.149,Fe,4.8,Sn,4.1,Ni,4.586,Zn,1.3,Au,0.052,Ag,0.05,Pd,0.012 | AU52: =Z52/(N52/1000) -> 1929.046
B53: 6 | C53: 35 | D53: =C53/2 -> 17.5 | E53: 200 | F53: 200 | G53: =AVERAGE(0.05,0.23) -> 0.14 | H53: =AVERAGE(2.5,5) -> 3.75 | I53: =D53/1000000*B53 -> 0.000105 | J53: =E53/1000000 -> 0.0002 | K53: =(B53/2-1)*F53/1000000 -> 0.0004 | L53: =G53*2/1000000 -> 2.8e-07 | M53: =H53*2/1000000 -> 7.5e-06 | N53: =SUM(I53:M53)*1000 -> 0.71278 | O53: 0.25 | P53: =I53*O53 -> 2.625e-05 | Q53: =J53 -> 0.0002 | R53: =K53-P53 -> 0.00037375 | S53: =L53 -> 2.8e-07 | T53: =M53 -> 7.5e-06 | U53: =material_composition!$U$47*material_composition!P53 -> 0.234675 | V53: =material_composition!$V$47*material_composition!Q53 -> 0.372 | W53: =material_composition!$V$47*material_composition!R53 -> 0.695175 | X53: =S53*[1]material_data_old!E8 -> 0.0007462 | Y53: =T53*8908 -> 0.06681 | Z53: =SUM(U53:Y53) -> 1.3694062 | AA53: =Z53/(1-SUM(AK53:AL53,AN53:AO53,AQ53,AR53)) -> 1.5259989 | AB53: =(V53+W53)/AA53 -> 0.69932883 | AC53: =U53/$AA53 -> 0.15378452 | AD53: =AB53*$H$61 -> 0.16246243 | AE53: =AB53*$H$62 -> 0.21154493 | AF53: =AB53*$H$63 -> 0.2977912 | AG53: =AB53*$H$64 -> 0.023324643 | AH53: =AB53*$H$65 -> 0.0028037491 | AI53: =AB53*$H$66 -> 0 | AJ53: =AB53*$H$67 -> 0.0014018746 | AK53: 0.048 | AL53: 0.041 | AM53: =Y53/AA53 -> 0.04378116 | AN53: 0.013 | AO53: 0 | AP53: =X53/AA53 -> 0.00048899119 | AQ53: =498.7/1000000 -> 0.0004987 | AR53: =117.8/1000000 -> 0.0001178 | AS53: =SUM(AC53:AR53) -> 1 | AT53: ="Cu,"&ROUND(AC53*100,3)&","&"Glass,"&ROUND((AD53+AE53)*100,3)&","&"C,"&ROUND(AF53*100,3)&","&"H,"&ROUND(AG53*100,3)&","&"N,"&ROUND(AH53*100,3)&","&"Sb,"&ROUND(AJ53*100,3)&","&"Fe,"&ROUND(AK53*100,3)&","&"Sn,"&ROUND(AL53*100,3)&","&"Ni,"&ROUND(AM53*100,3)&","&"Zn,"&ROUND(AN53*100,3)&","&"Au,"&ROUND(AP53*100,3)&","&"Ag,"&ROUND(AQ53*100,3)&","&"Pd,"&ROUND(AR53*100,3) -> Cu,15.378,Glass,37.401,C,29.779,H,2.332,N,0.28,Sb,0.14,Fe,4.8,Sn,4.1,Ni,4.378,Zn,1.3,Au,0.049,Ag,0.05,Pd,0.012 | AU53: =Z53/(N53/1000) -> 1921.2186
B54: 8 | C54: 35 | D54: =C54/2 -> 17.5 | E54: 100 | F54: 100 | G54: =AVERAGE(0.05,0.23) -> 0.14 | H54: =AVERAGE(2.5,5) -> 3.75 | I54: =(2*D54+(B54-2)*C54)/1000000 -> 0.000245 | J54: =B54/2*E54/1000000 -> 0.0004 | K54: =(B54/2-1)*F54/1000000 -> 0.0003 | L54: =G54*2/1000000 -> 2.8e-07 | M54: =H54*2/1000000 -> 7.5e-06 | N54: =SUM(I54:M54)*1000 -> 0.95278 | O54: 0.25 | P54: =I54*O54 -> 6.125e-05 | Q54: =J54 -> 0.0004 | R54: =K54-P54 -> 0.00023875 | S54: =L54 -> 2.8e-07 | T54: =M54 -> 7.5e-06 | U54: =material_composition!$U$47*material_composition!P54 -> 0.547575 | V54: =material_composition!$V$47*material_composition!Q54 -> 0.744 | W54: =material_composition!$V$47*material_composition!R54 -> 0.444075 | X54: =S54*[1]material_data_old!E7 -> 0.0007588 | Y54: =T54*8908 -> 0.06681 | Z54: =SUM(U54:Y54) -> 1.8032188 | AA54: =Z54/(1-SUM(AK54:AL54,AN54:AO54,AQ54,AR54)) -> 2.0094183 | AB54: =(V54+W54)/AA54 -> 0.59125321 | AC54: =U54/$AA54 -> 0.27250424 | AD54: =AB54*$H$61 -> 0.13735517 | AE54: =AB54*$H$62 -> 0.17885237 | AF54: =AB54*$H$63 -> 0.25176998 | AG54: =AB54*$H$64 -> 0.019720008 | AH54: =AB54*$H$65 -> 0.0023704524 | AI54: =AB54*$H$66 -> 0 | AJ54: =AB54*$H$67 -> 0.0011852262 | AK54: 0.048 | AL54: 0.041 | AM54: =Y54/AA54 -> 0.033248429 | AN54: 0.013 | AO54: 0 | AP54: =X54/AA54 -> 0.00037762173 | AQ54: =498.7/1000000 -> 0.0004987 | AR54: =117.8/1000000 -> 0.0001178 | AS54: =SUM(AC54:AR54) -> 1 | AT54: ="Cu,"&ROUND(AC54*100,3)&","&"Glass,"&ROUND((AD54+AE54)*100,3)&","&"C,"&ROUND(AF54*100,3)&","&"H,"&ROUND(AG54*100,3)&","&"N,"&ROUND(AH54*100,3)&","&"Sb,"&ROUND(AJ54*100,3)&","&"Fe,"&ROUND(AK54*100,3)&","&"Sn,"&ROUND(AL54*100,3)&","&"Ni,"&ROUND(AM54*100,3)&","&"Zn,"&ROUND(AN54*100,3)&","&"Au,"&ROUND(AP54*100,3)&","&"Ag,"&ROUND(AQ54*100,3)&","&"Pd,"&ROUND(AR54*100,3) -> Cu,27.25,Glass,31.621,C,25.177,H,1.972,N,0.237,Sb,0.119,Fe,4.8,Sn,4.1,Ni,3.325,Zn,1.3,Au,0.038,Ag,0.05,Pd,0.012 | AU54: =Z54/(N54/1000) -> 1892.5867
B55: 12 | C55: 35 | D55: =C55/2 -> 17.5 | E55: 200 | F55: 100 | G55: 0.23 | H55: 5 | I55: =(2*D55+(B55-2)*C55)/1000000 -> 0.000385 | J55: =B55/2*E55/1000000 -> 0.0012 | K55: =(B55/2-1)*F55/1000000 -> 0.0005 | L55: =G55*2/1000000 -> 4.6e-07 | M55: =H55*2/1000000 -> 1e-05 | N55: =SUM(I55:M55)*1000 -> 2.09546 | O55: 0.25 | P55: =I55*O55 -> 9.625e-05 | Q55: =J55 -> 0.0012 | R55: =K55-P55 -> 0.00040375 | S55: =L55 -> 4.6e-07 | T55: =M55 -> 1e-05 | U55: =material_composition!$U$47*material_composition!P55 -> 0.860475 | V55: =material_composition!$V$47*material_composition!Q55 -> 2.232 | W55: =material_composition!$V$47*material_composition!R55 -> 0.750975 | X55: =S55*[1]material_data_old!E8 -> 0.0012259 | Y55: =T55*8908 -> 0.08908 | Z55: =SUM(U55:Y55) -> 3.9337559 | AA55: =Z55/(1-SUM(AK55:AL55,AN55:AO55,AQ55,AR55)) -> 4.3835839 | AB55: =(V55+W55)/AA55 -> 0.68048771 | AC55: =U55/$AA55 -> 0.19629486 | AD55: =AB55*$H$61 -> 0.15808541 | AE55: =AB55*$H$62 -> 0.20584554 | AF55: =AB55*$H$63 -> 0.2897682 | AG55: =AB55*$H$64 -> 0.022696237 | AH55: =AB55*$H$65 -> 0.0027282113 | AI55: =AB55*$H$66 -> 0 | AJ55: =AB55*$H$67 -> 0.0013641057 | AK55: 0.048 | AL55: 0.041 | AM55: =Y55/AA55 -> 0.020321272 | AN55: 0.013 | AO55: 0 | AP55: =X55/AA55 -> 0.00027965701 | AQ55: =498.7/1000000 -> 0.0004987 | AR55: =117.8/1000000 -> 0.0001178 | AS55: =SUM(AC55:AR55) -> 1 | AT55: ="Cu,"&ROUND(AC55*100,3)&","&"Glass,"&ROUND((AD55+AE55)*100,3)&","&"C,"&ROUND(AF55*100,3)&","&"H,"&ROUND(AG55*100,3)&","&"N,"&ROUND(AH55*100,3)&","&"Sb,"&ROUND(AJ55*100,3)&","&"Fe,"&ROUND(AK55*100,3)&","&"Sn,"&ROUND(AL55*100,3)&","&"Ni,"&ROUND(AM55*100,3)&","&"Zn,"&ROUND(AN55*100,3)&","&"Au,"&ROUND(AP55*100,3)&","&"Ag,"&ROUND(AQ55*100,3)&","&"Pd,"&ROUND(AR55*100,3) -> Cu,19.629,Glass,36.393,C,28.977,H,2.27,N,0.273,Sb,0.136,Fe,4.8,Sn,4.1,Ni,2.032,Zn,1.3,Au,0.028,Ag,0.05,Pd,0.012 | AU55: =Z55/(N55/1000) -> 1877.2756
A56: Bilesan.2021 | AB56: =(21.4+1.6+0.6+5.3+0.3+37.62)/100 -> 0.6682 | AC56: 0.202 | AD56: =37.62/100*E61 -> 0.17584902 | AE56: =37.62/100*E62 -> 0.20035098 | AF56: 0.214 | AG56: 0.016 | AH56: 0.006 | AI56: 0 | AJ56: 0.003 | AK56: 0.048 | AL56: 0.041 | AM56: 0.01 | AN56: 0.013 | AO56: 0 | AP56: =224.8/1000000 -> 0.0002248 | AQ56: =498.7/1000000 -> 0.0004987 | AR56: =117.8/1000000 -> 0.0001178 | AS56: =SUM(AC56:AR56) -> 0.9300413 | AT56: ="Cu,"&ROUND(AC56*100,3)&","&"Glass,"&ROUND((AD56+AE56)*100,3)&","&"C,"&ROUND(AF56*100,3)&","&"H,"&ROUND(AG56*100,3)&","&"N,"&ROUND(AH56*100,3)&","&"Sb,"&ROUND(AJ56*100,3)&","&"Fe,"&ROUND(AK56*100,3)&","&"Sn,"&ROUND(AL56*100,3)&","&"Ni,"&ROUND(AM56*100,3)&","&"Zn,"&ROUND(AN56*100,3)&","&"Pb,"&ROUND(AO56*100,3)&","&"Au,"&ROUND(AP56*100,3)&","&"Ag,"&ROUND(AQ56*100,3)&","&"Pd,"&ROUND(AR56*100,3) -> Cu,20.2,Glass,37.62,C,21.4,H,1.6,N,0.6,Sb,0.3,Fe,4.8,Sn,4.1,Ni,1,Zn,1.3,Pb,0,Au,0.022,Ag,0.05,Pd,0.012
A59: https://www.translatorscafe.com/unit-converter/en-US/molar-mass/?q=SiO2
A60: element | B60: atomic mass | C60: atoms in glass fiber | D60: atoms in epoxy | E60: percentage in glass fiber | F60: percentage in epoxy | G60: percentage in GFRP | H60: percentage in FR4
A61: Si | B61: 28.0855 | C61: 1 | D61: 0 | E61: =B61/$C$71*C61 -> 0.46743492 | F61: =B61/$C$72*D61 -> 0 | G61: =E61*$D$71+F61*$D$72 -> 0.23371746 | H61: =G61*(1-SUM($H$65:$H$67)) -> 0.23231193
A62: O | B62: 15.9994 | C62: 2 | D62: 1 | E62: =B62/$C$71*C62 -> 0.53256508 | F62: =B62/$C$72*D62 -> 0.076089406 | G62: =E62*$D$71+F62*$D$72 -> 0.30432724 | H62: =G62*(1-SUM($H$65:$H$67)) -> 0.30249708
A63: C | B63: 12.0107 | C63: 0 | D63: 15 | E63: =B63/$C$71*C63 -> 0 | F63: =B63/$C$72*D63 -> 0.85680122 | G63: =E63*$D$71+F63*$D$72 -> 0.42840061 | H63: =G63*(1-SUM($H$65:$H$67)) -> 0.42582429
A64: H | B64: 1.00794 | C64: 0 | D64: 14 | E64: =B64/$C$71*C64 -> 0 | F64: =B64/$C$72*D64 -> 0.067109378 | G64: =E64*$D$71+F64*$D$72 -> 0.033554689 | H64: =G64*(1-SUM($H$65:$H$67)) -> 0.033352898
A65: N | H65: =AH56*AB56 -> 0.0040092
A66: Br | H66: =AI56*AB56 -> 0
A67: Sb | H67: =AJ56*AB56 -> 0.0020046
A68: Cu | B68: 63.546
A70: material | B70: composition | C70: molar mass | D70: percentage in GFRP | E70: composition
A71: glass fiber | B71: SiO2 | C71: =B61+2*B62 -> 60.0843 | D71: 0.5 | E71: ="Si,"&ROUND(E61*100,3)&","&"O,"&ROUND(E62*100,3) -> Si,46.743,O,53.257
A72: epoxy | B72: (O-C6H4-CH3-C-CH3-C6H4)n | C72: =1*B62+15*B63+14*B64 -> 210.27106 | D72: =1-D71 -> 0.5 | E72: ="C,"&ROUND(F63*100,3)&","&"O,"&ROUND(F62*100,3)&","&"H,"&ROUND(F64*100,3) -> C,85.68,O,7.609,H,6.711
A73: GFRP | E73: ="Si,"&ROUND(G61*100,3)&","&"O,"&ROUND(G62*100,3)&","&"C"&ROUND(G63*100,3)&","&"H"&ROUND(G64*100,3) -> Si,23.372,O,30.433,C42.84,H3.355
A75: https://www.researchgate.net/figure/Material-composition-of-a-generic-Li-ion-traction-battery-with-an-NCM-cathode_fig7_323727659
A76: Li-Ion Battery | H76: FP3 | I76: battery
A77: Fe | B77: =((5.7+3.3)*0.98)/100 -> 0.0882 | C77: =B77/$B$88 -> 0.096183206 | E77: 0.00040495868 | F77: kg CO2e/mAh | H77: capacity | I77: 3040 | J77: mAh
A78: C | B78: =((5.7+3.3)*0.02+(5.7+1.5+3.8)*F63+8.2)/100 -> 0.17804813 | C78: =B78/$B$88 -> 0.19416372 | H78: mass | I78: 52 | J78: g
A79: Al | B79: =(18+5.2+5.5+5.8)/100 -> 0.345 | C79: =B79/$B$88 -> 0.37622683 | H79: mass per capacity | I79: =(I78/1000)/(I77) -> 1.7105263e-05 | J79: kg/mAh
A80: Cu | B80: =(2.7+2.3+9.2)/100 -> 0.142 | C80: =B80/$B$88 -> 0.15485278 | H80: gwp | I80: 1.54 | J80: kg CO2e
A81: Li | B81: 0.01 | C81: =B81/$B$88 -> 0.010905125 | H81: gwp (cap.) | I81: =I80/I77 -> 0.00050657895 | J81: kg CO2e/mAh
A82: Ni | B82: 0.031 | C82: =B82/$B$88 -> 0.033805889 | H82: gwp (mass) | I82: =I80/(I78/1000) -> 29.615385 | J82: kg CO2e/kg
A83: Co | B83: 0.031 | C83: =B83/$B$88 -> 0.033805889
A84: Mn | B84: 0.028 | C84: =B84/$B$88 -> 0.030534351
A85: O | B85: =(4.8+(5.7+1.5+3.8)*F62)/100 -> 0.056369835 | C85: =B85/$B$88 -> 0.061472012
A86: H | B86: =(5.7+1.5+3.8)*F64/100 -> 0.0073820316 | C86: =B86/$B$88 -> 0.008050198
A87: volatile comp. | B87: 0.083 | C87: 0
A88: sum | B88: =SUM(B77:B86) -> 0.917 | C88: =B88/$B$88 -> 1
C89: ="Fe,"&ROUND(C77*100,3)&","&"C,"&ROUND(C78*100,3)&","&"Al,"&ROUND(C79*100,3)&","&"Cu,"&ROUND(C80*100,3)&","&"Li,"&ROUND(C81*100,3)&","&"Ni,"&ROUND(C82*100,3)&","&"Co,"&ROUND(C83*100,3)&","&"Mn,"&ROUND(C84*100,3)&","&"O,"&ROUND(C85*100,3)&","&"H,"&ROUND(C86*100,3) -> Fe,9.618,C,19.416,Al,37.623,Cu,15.485,Li,1.091,Ni,3.381,Co,3.381,Mn,3.053,O,6.147,H,0.805
A91: display glass
A92: Si | B92: =0.8*0.47 -> 0.376
A93: O | B93: =0.8*0.53 -> 0.424
A94: Sb | B94: =(50/77)*(1-SUM($B$92:$B$93)) -> 0.12987013
A95: In | B95: =(25/77)*(1-SUM($B$92:$B$93)) -> 0.064935065
A96: Sn | B96: =(2/77)*(1-SUM($B$92:$B$93)) -> 0.0051948052
A97: sum | B97: =SUM(B92:B96) -> 1
C98: ="Si,"&ROUND(B92*100,3)&","&"O,"&ROUND(B93*100,3)&","&"Sb,"&ROUND(B94*100,3)&","&"In,"&ROUND(B95*100,3)&","&"Sn,"&ROUND(B96*100,3) -> Si,37.6,O,42.4,Sb,12.987,In,6.494,Sn,0.519
A100: Steel sheet Zn on 2 sides | B100: thickness | C100: density | D100: volume | E100: mass | F100: mass percentage steel | G100: mass percentage
B101: mm | C101: kg/m³ | D101: m³ | E101: kg | F101: % | G101: %
A102: Steel | B102: 0.75 | C102: 7750 | D102: =B102/1000 -> 0.00075 | E102: =C102*D102 -> 5.8125 | F102: 1 | G102: =E102/SUM($E$102,$E$105) -> 0.97602136
A103: Fe | F103: 0.98 | G103: =F103*$G$102 -> 0.95650093
A104: C | F104: 0.02 | G104: =F104*$G$102 -> 0.019520427
A105: Zn | B105: 0.01 | C105: 7140 | D105: =2*B105/1000 -> 2e-05 | E105: =C105*D105 -> 0.1428 | F105: 0 | G105: =E105/SUM($E$102,$E$105) -> 0.023978641
H106: ="Fe,"&ROUND(G103*100,3)&","&"C,"&ROUND(G104*100,3)&","&"Zn,"&ROUND(G104*100,3) -> Fe,95.65,C,1.952,Zn,1.952

Sheet pcb
A1: layers | B1: 1 | C1: 4 | D1: 6 | E1: 8
A3: copper (internal) [µm] | B3: 35 | C3: 35 | D3: 35 | E3: 35
A5: copper (external) [µm] | B5: 17.5 | C5: 17.5 | D5: 17.5 | E5: 17.5
A7: FR4 [µm] | B7: 400 | C7: 300 | D7: 200 | E7: 100
A9: prepreg [µm] | B9: 400 | C9: 300 | D9: 200 | E9: 100
A11: gold [µm] | B11: 0.05 | C11: 0.14 | D11: 0.14 | E11: 0.14
A13: nickel [µm] | B13: 2.5 | C13: 3.75 | D13: 3.75 | E13: 3.75
A15: Cu | B15: 0.042 | C15: 0.107 | D15: 0.154 | E15: 0.273
A17: Glass | B17: 0.43 | C17: 0.4 | D17: 0.374 | E17: 0.316
A19: C | B19: 0.343 | C19: 0.317 | D19: 0.298 | E19: 0.252
A21: H | B21: 0.027 | C21: 0.025 | D21: 0.023 | E21: 2,0 %
A23: N | B23: 0.0032 | C23: 0.003 | D23: 0.0028 | E23: 0.0024
A25: Sb | B25: 0.0016 | C25: 0.0015 | D25: 0.0014 | E25: 0.0012
A27: Fe | B27: 0.048 | C27: 0.048 | D27: 0.048 | E27: 0.048
A29: Sn | B29: 0.041 | C29: 0.041 | D29: 0.041 | E29: 0.041
A31: Ni | B31: 0.048 | C31: 0.046 | D31: 0.044 | E31: 0.033
A33: Zn | B33: 0.013 | C33: 0.013 | D33: 0.013 | E33: 0.013
A35: Au | B35: 0.0021 | C35: 0.0005 | D35: 0.0005 | E35: 0.0004
A37: Ag | B37: 0.0005 | C37: 0.0005 | D37: 0.0005 | E37: 0.0005
A39: Pd | B39: 0.0001 | C39: 0.0001 | D39: 0.0001 | E39: 0.0001

Sheet amoled
A1: abbr. | B1: thickness [nm] | C1: material | D1: composition | E1: source
A3: Ag | B3: 300 | C3: Silver
A5: ITO | B5: 60 | C5: Indium-Tin-Oxide | D5: (In2O3)*0.9*(SnO2)*0.1
A7: 2T-NATA | B7: 180 | C7: 4,4',4”-Tris(N-(naphthalen-2-yl)-N-phenyl-amino)triphenylamin | D7: C66H48N4 | E7: https://www.chemsrc.com/en/cas/185690-41-9_165484.html
A9: NPB | B9: 696 | C9: N,N′-Bis(naphthalen-1-yl)-N,N′-bis(phenyl)benzidine | D9: C44H32N2 | E9: https://www.scbt.com/p/n-nprime-bisnaphthalen-1-yl-n-nprime-bisphenylbenzidine-123847-85-8
A11: EML red | B11: 30 | C11: Balq*0.9, Ir(piq)2(acac))*0.1 | D11: (C32H25AlN2O3)*0.9*(C35H27IrN2O2)*0.1 | E11: https://www.chemsrc.com/en/baike/1028635.html \newline https://www.ossila.com/en-eu/products/irpiq2acac
A13: EML green | B13: 30 | C13: CBP*0.92,Ir(ppy)3*0.08 | E13: https://www.sigmaaldrich.com/DE/de/product/aldrich/699195 \newline https://pubchem.ncbi.nlm.nih.gov/compound/Ir_ppy_
A15: EML blue | B15: 30 | C15: (DSA-Ph)*0.95*(MADN)*0.05 | E15: https://pubchem.ncbi.nlm.nih.gov/compound/DSA-Ph
A17: Alq3 | B17: 90 | C17: Tris(8-hydroxyquinoline)aluminum(III) | D17: C27H18AlN3O3 | E17: https://www.ossila.com/en-eu/products/alq3
A19: Mg:Ag | B19: 30 | C19: Magnesium-Silver Alloy | D19: Mg10Ag
A21: Al2O3 | B21: 735 | C21: Aluminum Oxide | D21: Al2O3
A23: PA | B23: 699 | C23: Polyacrylate | D23: C3H4O2 | E23: https://pubchem.ncbi.nlm.nih.gov/compound/Acrylic-acid
