Workbook

Sheet Definitions
A1: LEUCO | B1: Leucocytes (CD45+)
A2: NEUTRO | B2: Neutrophils
A3: MONO | B3: Monocytes (CD14+)
A4: MONO/CLASSICAL | B4: Classical monocytes (CD14++CD16-)
A5: MONO/NON_CLASSICAL | B5: Non-classical monocytes (CD14++CD16+)
A6: MONO/INTERMEDIATE | B6: Intermediate monocytes (CD14+CD16+)
A7: LYMPHO | B7: Lymphocytes
A8: LYMPHO/T | B8: T cells (CD3+ CD56-)
A9: LYMPHO/T/CD4 | B9: CD4+ T cells
A10: LYMPHO/T/CD4/TREG | B10: CD4+ CD25high Treg
A11: LYMPHO/T/CD8 | B11: CD8+ T cells
A12: LYMPHO/T/DP | B12: DP (CD4+ CD8+)
... A19: LYMPHO/B | B19: B cells (CD19+)

Sheet Counts
A1: Id | B1: WBC | C1: LEUCO | D1: NEUTRO | E1: MONO | F1: MONO/CLASSICAL | G1: MONO/NON_CLASSICAL | H1: MONO/INTERMEDIATE | I1: LYMPHO | J1: LYMPHO/T | K1: LYMPHO/T/CD4 | L1: LYMPHO/T/CD4/TREG | M1: LYMPHO/T/CD8 | N1: LYMPHO/T/DP | O1: LYMPHO/T/DN | P1: LYMPHO/NK | Q1: LYMPHO/NK/DIM | R1: LYMPHO/NK/BRIGHT | S1: LYMPHO/NK/OTHER | T1: LYMPHO/NKT | U1: LYMPHO/B
A2: ='absolute count'!A3 -> BCG001v1 | B2: =VLOOKUP(A2,WBC!A:B,2,FALSE) -> 5.8 | C2: ='absolute count'!B3 -> 109098 | D2: ='absolute count'!C3/($B2*1000000)*Counts!$C2 -> 67969 | E2: ='absolute count'!D3/($B2*1000000)*Counts!$C2 -> 5882 | F2: ='absolute count'!E3/($B2*1000000)*Counts!$C2 -> 4276 | G2: ='absolute count'!F3/($B2*1000000)*Counts!$C2 -> 352 | H2: ='absolute count'!G3/($B2*1000000)*Counts!$C2 -> 557 | I2: ='absolute count'!H3/($B2*1000000)*Counts!$C2 -> 33513 | J2: ='absolute count'!I3/($B2*1000000)*Counts!$C2 -> 24295 | K2: ='absolute count'!M3/($B2*1000000)*Counts!$C2 -> 15472 | L2: ='absolute count'!Q3/($B2*1000000)*Counts!$C2 -> 459 | M2: ='absolute count'!N3/($B2*1000000)*Counts!$C2 -> 7822 | N2: ='absolute count'!O3/($B2*1000000)*Counts!$C2 -> 195 | O2: ='absolute count'!P3/($B2*1000000)*Counts!$C2 -> 806 | P2: ='absolute count'!J3/($B2*1000000)*Counts!$C2 -> 4968 | Q2: ='absolute count'!R3/($B2*1000000)*Counts!$C2 -> 4687 | R2: ='absolute count'!S3/($B2*1000000)*Counts!$C2 -> 228 | S2: ='absolute count'!T3/($B2*1000000)*Counts!$C2 -> 53 | T2: ='absolute count'!K3/($B2*1000000)*Counts!$C2 -> 1903 | U2: ='absolute count'!L3/($B2*1000000)*Counts!$C2 -> 1083
A3: ='absolute count'!A4 -> BCG001v2 | B3: =VLOOKUP(A3,WBC!A:B,2,FALSE) -> 5.9 | C3: ='absolute count'!B4 -> 98632 | D3: ='absolute count'!C4/($B3*1000000)*Counts!$C3 -> 59823 | E3: ='absolute count'!D4/($B3*1000000)*Counts!$C3 -> 5295 | F3: ='absolute count'!E4/($B3*1000000)*Counts!$C3 -> 3878 | G3: ='absolute count'!F4/($B3*1000000)*Counts!$C3 -> 451 | H3: ='absolute count'!G4/($B3*1000000)*Counts!$C3 -> 443 | I3: ='absolute count'!H4/($B3*1000000)*Counts!$C3 -> 31007 | J3: ='absolute count'!I4/($B3*1000000)*Counts!$C3 -> 23426 | K3: ='absolute count'!M4/($B3*1000000)*Counts!$C3 -> 15099 | L3: ='absolute count'!Q4/($B3*1000000)*Counts!$C3 -> 451 | M3: ='absolute count'!N4/($B3*1000000)*Counts!$C3 -> 7411 | N3: ='absolute count'!O4/($B3*1000000)*Counts!$C3 -> 154 | O3: ='absolute count'!P4/($B3*1000000)*Counts!$C3 -> 762 | P3: ='absolute count'!J4/($B3*1000000)*Counts!$C3 -> 4096 | Q3: ='absolute count'!R4/($B3*1000000)*Counts!$C3 -> 3797 | R3: ='absolute count'!S4/($B3*1000000)*Counts!$C3 -> 249 | S3: ='absolute count'!T4/($B3*1000000)*Counts!$C3 -> 49 | T3: ='absolute count'!K4/($B3*1000000)*Counts!$C3 -> 1572 | U3: ='absolute count'!L4/($B3*1000000)*Counts!$C3 -> 853
A4: ='absolute count'!A5 -> BCG001v3 | B4: =VLOOKUP(A4,WBC!A:B,2,FALSE) -> 6.6 | C4: ='absolute count'!B5 -> 34136 | D4: ='absolute count'!C5/($B4*1000000)*Counts!$C4 -> 16214 | E4: ='absolute count'!D5/($B4*1000000)*Counts!$C4 -> 1119 | F4: ='absolute count'!E5/($B4*1000000)*Counts!$C4 -> 651 | G4: ='absolute count'!F5/($B4*1000000)*Counts!$C4 -> 223 | H4: ='absolute count'!G5/($B4*1000000)*Counts!$C4 -> 149 | I4: ='absolute count'!H5/($B4*1000000)*Counts!$C4 -> 16552 | J4: ='absolute count'!I5/($B4*1000000)*Counts!$C4 -> 13084 | K4: ='absolute count'!M5/($B4*1000000)*Counts!$C4 -> 8655 | L4: ='absolute count'!Q5/($B4*1000000)*Counts!$C4 -> 166 | M4: ='absolute count'!N5/($B4*1000000)*Counts!$C4 -> 3942 | N4: ='absolute count'!O5/($B4*1000000)*Counts!$C4 -> 94 | O4: ='absolute count'!P5/($B4*1000000)*Counts!$C4 -> 393 | P4: ='absolute count'!J5/($B4*1000000)*Counts!$C4 -> 1789 | Q4: ='absolute count'!R5/($B4*1000000)*Counts!$C4 -> 1651 | R4: ='absolute count'!S5/($B4*1000000)*Counts!$C4 -> 117 | S4: ='absolute count'!T5/($B4*1000000)*Counts!$C4 -> 22 | T4: ='absolute count'!K5/($B4*1000000)*Counts!$C4 -> 811 | U4: ='absolute count'!L5/($B4*1000000)*Counts!$C4 -> 453
A5: ='absolute count'!A6 -> BCG002v1 | B5: =VLOOKUP(A5,WBC!A:B,2,FALSE) -> 5.7 | C5: ='absolute count'!B6 -> 75580 | D5: ='absolute count'!C6/($B5*1000000)*Counts!$C5 -> 35008 | E5: ='absolute count'!D6/($B5*1000000)*Counts!$C5 -> 9115 | F5: ='absolute count'!E6/($B5*1000000)*Counts!$C5 -> 8166 | G5: ='absolute count'!F6/($B5*1000000)*Counts!$C5 -> 259 | H5: ='absolute count'!G6/($B5*1000000)*Counts!$C5 -> 317 | I5: ='absolute count'!H6/($B5*1000000)*Counts!$C5 -> 29602 | J5: ='absolute count'!I6/($B5*1000000)*Counts!$C5 -> 23543 | K5: ='absolute count'!M6/($B5*1000000)*Counts!$C5 -> 15005 | L5: ='absolute count'!Q6/($B5*1000000)*Counts!$C5 -> 181 | M5: ='absolute count'!N6/($B5*1000000)*Counts!$C5 -> 7468 | N5: ='absolute count'!O6/($B5*1000000)*Counts!$C5 -> 281 | O5: ='absolute count'!P6/($B5*1000000)*Counts!$C5 -> 789 | P5: ='absolute count'!J6/($B5*1000000)*Counts!$C5 -> 3004 | Q5: ='absolute count'!R6/($B5*1000000)*Counts!$C5 -> 2872 | R5: ='absolute count'!S6/($B5*1000000)*Counts!$C5 -> 79 | S5: ='absolute count'!T6/($B5*1000000)*Counts!$C5 -> 53 | T5: ='absolute count'!K6/($B5*1000000)*Counts!$C5 -> 798 | U5: ='absolute count'!L6/($B5*1000000)*Counts!$C5 -> 1268
A6: ='absolute count'!A7 -> BCG002v2 | B6: =VLOOKUP(A6,WBC!A:B,2,FALSE) -> 7.3 | C6: ='absolute count'!B7 -> 78625 | D6: ='absolute count'!C7/($B6*1000000)*Counts!$C6 -> 50495 | E6: ='absolute count'!D7/($B6*1000000)*Counts!$C6 -> 7812 | F6: ='absolute count'!E7/($B6*1000000)*Counts!$C6 -> 7079 | G6: ='absolute count'!F7/($B6*1000000)*Counts!$C6 -> 184 | H6: ='absolute count'!G7/($B6*1000000)*Counts!$C6 -> 223 | I6: ='absolute count'!H7/($B6*1000000)*Counts!$C6 -> 19097 | J6: ='absolute count'!I7/($B6*1000000)*Counts!$C6 -> 15294 | K6: ='absolute count'!M7/($B6*1000000)*Counts!$C6 -> 10019 | L6: ='absolute count'!Q7/($B6*1000000)*Counts!$C6 -> 154 | M6: ='absolute count'!N7/($B6*1000000)*Counts!$C6 -> 4572 | N6: ='absolute count'!O7/($B6*1000000)*Counts!$C6 -> 190 | O6: ='absolute count'!P7/($B6*1000000)*Counts!$C6 -> 513 | P6: ='absolute count'!J7/($B6*1000000)*Counts!$C6 -> 1663 | Q6: ='absolute count'!R7/($B6*1000000)*Counts!$C6 -> 1558 | R6: ='absolute count'!S7/($B6*1000000)*Counts!$C6 -> 65 | S6: ='absolute count'!T7/($B6*1000000)*Counts!$C6 -> 39 | T6: ='absolute count'!K7/($B6*1000000)*Counts!$C6 -> 561 | U6: ='absolute count'!L7/($B6*1000000)*Counts!$C6 -> 931
A7: ='absolute count'!A8 -> BCG002v3 | B7: =VLOOKUP(A7,WBC!A:B,2,FALSE) -> 5.3 | C7: ='absolute count'!B8 -> 69314 | D7: ='absolute count'!C8/($B7*1000000)*Counts!$C7 -> 44477 | E7: ='absolute count'!D8/($B7*1000000)*Counts!$C7 -> 5025 | F7: ='absolute count'!E8/($B7*1000000)*Counts!$C7 -> 4293 | G7: ='absolute count'!F8/($B7*1000000)*Counts!$C7 -> 219 | H7: ='absolute count'!G8/($B7*1000000)*Counts!$C7 -> 329 | I7: ='absolute count'!H8/($B7*1000000)*Counts!$C7 -> 19389 | J7: ='absolute count'!I8/($B7*1000000)*Counts!$C7 -> 15606 | K7: ='absolute count'!M8/($B7*1000000)*Counts!$C7 -> 10310 | L7: ='absolute count'!Q8/($B7*1000000)*Counts!$C7 -> 102 | M7: ='absolute count'!N8/($B7*1000000)*Counts!$C7 -> 4629 | N7: ='absolute count'!O8/($B7*1000000)*Counts!$C7 -> 183 | O7: ='absolute count'!P8/($B7*1000000)*Counts!$C7 -> 484 | P7: ='absolute count'!J8/($B7*1000000)*Counts!$C7 -> 1989 | Q7: ='absolute count'!R8/($B7*1000000)*Counts!$C7 -> 1839 | R7: ='absolute count'!S8/($B7*1000000)*Counts!$C7 -> 88 | S7: ='absolute count'!T8/($B7*1000000)*Counts!$C7 -> 62 | T7: ='absolute count'!K8/($B7*1000000)*Counts!$C7 -> 574 | U7: ='absolute count'!L8/($B7*1000000)*Counts!$C7 -> 619
A8: ='absolute count'!A9 -> BCG003v1 | B8: =VLOOKUP(A8,WBC!A:B,2,FALSE) -> 8.5 | C8: ='absolute count'!B9 -> 53062 | D8: ='absolute count'!C9/($B8*1000000)*Counts!$C8 -> 23241 | E8: ='absolute count'!D9/($B8*1000000)*Counts!$C8 -> 6409 | F8: ='absolute count'!E9/($B8*1000000)*Counts!$C8 -> 5572 | G8: ='absolute count'!F9/($B8*1000000)*Counts!$C8 -> 291 | H8: ='absolute count'!G9/($B8*1000000)*Counts!$C8 -> 205 | I8: ='absolute count'!H9/($B8*1000000)*Counts!$C8 -> 21841 | J8: ='absolute count'!I9/($B8*1000000)*Counts!$C8 -> 16078 | K8: ='absolute count'!M9/($B8*1000000)*Counts!$C8 -> 10230 | L8: ='absolute count'!Q9/($B8*1000000)*Counts!$C8 -> 192 | M8: ='absolute count'!N9/($B8*1000000)*Counts!$C8 -> 4992 | N8: ='absolute count'!O9/($B8*1000000)*Counts!$C8 -> 200 | O8: ='absolute count'!P9/($B8*1000000)*Counts!$C8 -> 656 | P8: ='absolute count'!J9/($B8*1000000)*Counts!$C8 -> 2711 | Q8: ='absolute count'!R9/($B8*1000000)*Counts!$C8 -> 2561 | R8: ='absolute count'!S9/($B8*1000000)*Counts!$C8 -> 96 | S8: ='absolute count'!T9/($B8*1000000)*Counts!$C8 -> 54 | T8: ='absolute count'!K9/($B8*1000000)*Counts!$C8 -> 470 | U8: ='absolute count'!L9/($B8*1000000)*Counts!$C8 -> 1268
A9: ='absolute count'!A10 -> BCG003v2 | B9: =VLOOKUP(A9,WBC!A:B,2,FALSE) -> 8.5 | C9: ='absolute count'!B10 -> 59601 | D9: ='absolute count'!C10/($B9*1000000)*Counts!$C9 -> 26794 | E9: ='absolute count'!D10/($B9*1000000)*Counts!$C9 -> 7535 | F9: ='absolute count'!E10/($B9*1000000)*Counts!$C9 -> 6668 | G9: ='absolute count'!F10/($B9*1000000)*Counts!$C9 -> 330 | H9: ='absolute count'!G10/($B9*1000000)*Counts!$C9 -> 224 | I9: ='absolute count'!H10/($B9*1000000)*Counts!$C9 -> 22589 | J9: ='absolute count'!I10/($B9*1000000)*Counts!$C9 -> 16227 | K9: ='absolute count'!M10/($B9*1000000)*Counts!$C9 -> 10548 | L9: ='absolute count'!Q10/($B9*1000000)*Counts!$C9 -> 266 | M9: ='absolute count'!N10/($B9*1000000)*Counts!$C9 -> 4791 | N9: ='absolute count'!O10/($B9*1000000)*Counts!$C9 -> 167 | O9: ='absolute count'!P10/($B9*1000000)*Counts!$C9 -> 721 | P9: ='absolute count'!J10/($B9*1000000)*Counts!$C9 -> 2943 | Q9: ='absolute count'!R10/($B9*1000000)*Counts!$C9 -> 2825 | R9: ='absolute count'!S10/($B9*1000000)*Counts!$C9 -> 86 | S9: ='absolute count'!T10/($B9*1000000)*Counts!$C9 -> 32 | T9: ='absolute count'!K10/($B9*1000000)*Counts!$C9 -> 369 | U9: ='absolute count'!L10/($B9*1000000)*Counts!$C9 -> 1430
A10: ='absolute count'!A11 -> BCG003v3 | B10: =VLOOKUP(A10,WBC!A:B,2,FALSE) -> 6.1 | C10: ='absolute count'!B11 -> 60970 | D10: ='absolute count'!C11/($B10*1000000)*Counts!$C10 -> 35488 | E10: ='absolute count'!D11/($B10*1000000)*Counts!$C10 -> 4903 | F10: ='absolute count'!E11/($B10*1000000)*Counts!$C10 -> 2340 | G10: ='absolute count'!F11/($B10*1000000)*Counts!$C10 -> 175 | H10: ='absolute count'!G11/($B10*1000000)*Counts!$C10 -> 425 | I10: ='absolute count'!H11/($B10*1000000)*Counts!$C10 -> 19055 | J10: ='absolute count'!I11/($B10*1000000)*Counts!$C10 -> 13068 | K10: ='absolute count'!M11/($B10*1000000)*Counts!$C10 -> 8137 | L10: ='absolute count'!Q11/($B10*1000000)*Counts!$C10 -> 193 | M10: ='absolute count'!N11/($B10*1000000)*Counts!$C10 -> 3967 | N10: ='absolute count'!O11/($B10*1000000)*Counts!$C10 -> 162 | O10: ='absolute count'!P11/($B10*1000000)*Counts!$C10 -> 802 | P10: ='absolute count'!J11/($B10*1000000)*Counts!$C10 -> 2314 | Q10: ='absolute count'!R11/($B10*1000000)*Counts!$C10 -> 2159 | R10: ='absolute count'!S11/($B10*1000000)*Counts!$C10 -> 85 | S10: ='absolute count'!T11/($B10*1000000)*Counts!$C10 -> 70 | T10: ='absolute count'!K11/($B10*1000000)*Counts!$C10 -> 366 | U10: ='absolute count'!L11/($B10*1000000)*Counts!$C10 -> 1620
A11: ='absolute count'!A12 -> BCG004v1 | B11: =VLOOKUP(A11,WBC!A:B,2,FALSE) -> 7.8 | C11: ='absolute count'!B12 -> 69510 | D11: ='absolute count'!C12/($B11*1000000)*Counts!$C11 -> 49609 | E11: ='absolute count'!D12/($B11*1000000)*Counts!$C11 -> 4991 | F11: ='absolute count'!E12/($B11*1000000)*Counts!$C11 -> 4040 | G11: ='absolute count'!F12/($B11*1000000)*Counts!$C11 -> 342 | H11: ='absolute count'!G12/($B11*1000000)*Counts!$C11 -> 383 | I11: ='absolute count'!H12/($B11*1000000)*Counts!$C11 -> 13882 | J11: ='absolute count'!I12/($B11*1000000)*Counts!$C11 -> 10987 | K11: ='absolute count'!M12/($B11*1000000)*Counts!$C11 -> 7762 | L11: ='absolute count'!Q12/($B11*1000000)*Counts!$C11 -> 243 | M11: ='absolute count'!N12/($B11*1000000)*Counts!$C11 -> 2146 | N11: ='absolute count'!O12/($B11*1000000)*Counts!$C11 -> 80 | O11: ='absolute count'!P12/($B11*1000000)*Counts!$C11 -> 999 | P11: ='absolute count'!J12/($B11*1000000)*Counts!$C11 -> 776 | Q11: ='absolute count'!R12/($B11*1000000)*Counts!$C11 -> 641 | R11: ='absolute count'!S12/($B11*1000000)*Counts!$C11 -> 113 | S11: ='absolute count'!T12/($B11*1000000)*Counts!$C11 -> 22 | T11: ='absolute count'!K12/($B11*1000000)*Counts!$C11 -> 665 | U11: ='absolute count'!L12/($B11*1000000)*Counts!$C11 -> 849
A12: ='absolute count'!A13 -> BCG004v2 | B12: =VLOOKUP(A12,WBC!A:B,2,FALSE) -> 7.3 | C12: ='absolute count'!B13 -> 91301 | D12: ='absolute count'!C13/($B12*1000000)*Counts!$C12 -> 64223 | E12: ='absolute count'!D13/($B12*1000000)*Counts!$C12 -> 7991 | F12: ='absolute count'!E13/($B12*1000000)*Counts!$C12 -> 6546 | G12: ='absolute count'!F13/($B12*1000000)*Counts!$C12 -> 563 | H12: ='absolute count'!G13/($B12*1000000)*Counts!$C12 -> 538 | I12: ='absolute count'!H13/($B12*1000000)*Counts!$C12 -> 17452 | J12: ='absolute count'!I13/($B12*1000000)*Counts!$C12 -> 13840 | K12: ='absolute count'!M13/($B12*1000000)*Counts!$C12 -> 9637 | L12: ='absolute count'!Q13/($B12*1000000)*Counts!$C12 -> 377 | M12: ='absolute count'!N13/($B12*1000000)*Counts!$C12 -> 2721 | N12: ='absolute count'!O13/($B12*1000000)*Counts!$C12 -> 78 | O12: ='absolute count'!P13/($B12*1000000)*Counts!$C12 -> 1404 | P12: ='absolute count'!J13/($B12*1000000)*Counts!$C12 -> 1063 | Q12: ='absolute count'!R13/($B12*1000000)*Counts!$C12 -> 906 | R12: ='absolute count'!S13/($B12*1000000)*Counts!$C12 -> 144 | S12: ='absolute count'!T13/($B12*1000000)*Counts!$C12 -> 12 | T12: ='absolute count'!K13/($B12*1000000)*Counts!$C12 -> 529 | U12: ='absolute count'!L13/($B12*1000000)*Counts!$C12 -> 1086
A13: ='absolute count'!A14 -> BCG004v3 | B13: =VLOOKUP(A13,WBC!A:B,2,FALSE) -> 6 | C13: ='absolute count'!B14 -> 73049 | D13: ='absolute count'!C14/($B13*1000000)*Counts!$C13 -> 54262 | E13: ='absolute count'!D14/($B13*1000000)*Counts!$C13 -> 3604 | F13: ='absolute count'!E14/($B13*1000000)*Counts!$C13 -> 2738 | G13: ='absolute count'!F14/($B13*1000000)*Counts!$C13 -> 334 | H13: ='absolute count'!G14/($B13*1000000)*Counts!$C13 -> 347 | I13: ='absolute count'!H14/($B13*1000000)*Counts!$C13 -> 14576 | J13: ='absolute count'!I14/($B13*1000000)*Counts!$C13 -> 12245 | K13: ='absolute count'!M14/($B13*1000000)*Counts!$C13 -> 9081 | L13: ='absolute count'!Q14/($B13*1000000)*Counts!$C13 -> 230 | M13: ='absolute count'!N14/($B13*1000000)*Counts!$C13 -> 2308 | N13: ='absolute count'!O14/($B13*1000000)*Counts!$C13 -> 81 | O13: ='absolute count'!P14/($B13*1000000)*Counts!$C13 -> 775 | P13: ='absolute count'!J14/($B13*1000000)*Counts!$C13 -> 638 | Q13: ='absolute count'!R14/($B13*1000000)*Counts!$C13 -> 459 | R13: ='absolute count'!S14/($B13*1000000)*Counts!$C13 -> 148 | S13: ='absolute count'!T14/($B13*1000000)*Counts!$C13 -> 31 | T13: ='absolute count'!K14/($B13*1000000)*Counts!$C13 -> 384 | U13: ='absolute count'!L14/($B13*1000000)*Counts!$C13 -> 765
... A946: ='absolute count'!A947 -> BCG327v3 | B946: =VLOOKUP(A946,WBC!A:B,2,FALSE) -> 5.2 | C946: ='absolute count'!B947 -> 38353 | D946: ='absolute count'!C947/($B946*1000000)*Counts!$C946 -> 24927 | E946: ='absolute count'!D947/($B946*1000000)*Counts!$C946 -> 1925 | F946: ='absolute count'!E947/($B946*1000000)*Counts!$C946 -> 1395 | G946: ='absolute count'!F947/($B946*1000000)*Counts!$C946 -> 172 | H946: ='absolute count'!G947/($B946*1000000)*Counts!$C946 -> 207 | I946: ='absolute count'!H947/($B946*1000000)*Counts!$C946 -> 11243 | J946: ='absolute count'!I947/($B946*1000000)*Counts!$C946 -> 9527 | K946: ='absolute count'!M947/($B946*1000000)*Counts!$C946 -> 7569 | L946: ='absolute count'!Q947/($B946*1000000)*Counts!$C946 -> 135 | M946: ='absolute count'!N947/($B946*1000000)*Counts!$C946 -> 1713 | N946: ='absolute count'!O947/($B946*1000000)*Counts!$C946 -> 70 | O946: ='absolute count'!P947/($B946*1000000)*Counts!$C946 -> 175 | P946: ='absolute count'!J947/($B946*1000000)*Counts!$C946 -> 844 | Q946: ='absolute count'!R947/($B946*1000000)*Counts!$C946 -> 728 | R946: ='absolute count'!S947/($B946*1000000)*Counts!$C946 -> 82 | S946: ='absolute count'!T947/($B946*1000000)*Counts!$C946 -> 34 | T946: ='absolute count'!K947/($B946*1000000)*Counts!$C946 -> 279 | U946: ='absolute count'!L947/($B946*1000000)*Counts!$C946 -> 120

Sheet absolute count
B1: ACQUIRED COUNT. UNITS: # Cells | C1: DERIVED FROM (Neutrophils Acq. / Leuco Acq.)*WBC. UNITS: #cells/ml | D1: DERIVED FROM (Monocytes Acq. / Leuco Acq.)*WBC. UNITS: #cells/ml | E1: Monocytes (CD14+) | H1: DERIVED FROM (Lymphocytes Acq. / Leuco Acq.)*WBC. UNITS: #cells/ml | I1: Lymphocytes | M1: T cells (CD3+ CD56-) | Q1: SUBPOPULATION OF CD4+ T cells | R1: NK cells (CD3- CD56+)
A2: Id | B2: Leucocytes (CD45+) | C2: Neutrophils | D2: Monocytes (CD14+) | E2: Classical monocytes (CD14++CD16-) | F2: Non-classical monocytes (CD14++CD16+) | G2: Intermediate monocytes (CD14+CD16+) | H2: Lymphocytes | I2: T cells (CD3+ CD56-) | J2: NK cells (CD3- CD56+) | K2: NKT cells (CD3+ CD56+) | L2: B cells (CD19+) | M2: CD4+ T cells | N2: CD8+ T cells | O2: DP (CD4+ CD8+) | P2: DN (CD4- CD8-) | Q2: CD4+ CD25high Treg | R2: NK dim (CD56+ CD16+) | S2: NK bright (CD56++ CD16-) | T2: NK (CD56+ CD16-)
A3: BCG001v1 | B3: 109098 | C3: 3613450.3 | D3: 312706.01 | E3: 227325.89 | F3: 18713.45 | G3: 29611.909 | H3: 1781658.7 | I3: 1291600.2 | J3: 264114.83 | K3: 101169.59 | L3: 57575.758 | M3: 822541.2 | N3: 415842.64 | O3: 10366.826 | P3: 42849.548 | Q3: 24401.914 | R3: 249175.97 | S3: 12121.212 | T3: 2817.6502
A4: BCG001v2 | B4: 98632 | C4: 3578511 | D4: 316737.98 | E4: 231975.42 | F4: 26978.06 | G4: 26499.513 | H4: 1854786.5 | I4: 1401303.8 | J4: 245015.82 | K4: 94034.39 | L4: 51025.022 | M4: 903196.73 | N4: 443313.53 | O4: 9212.0204 | P4: 45581.556 | Q4: 26978.06 | R4: 227130.14 | S4: 14894.76 | T4: 2931.0974
A5: BCG001v3 | B5: 34136 | C5: 3134884 | D5: 216352.24 | E5: 125867.12 | F5: 43115.772 | G5: 28808.296 | H5: 3200234.4 | I5: 2529716.4 | J5: 345892.9 | K5: 156802.2 | L5: 87584.954 | M5: 1673394.7 | N5: 762163.11 | O5: 18174.361 | P5: 75984.298 | Q5: 32095.149 | R5: 319211.39 | S5: 22621.28 | T5: 4253.5739
A6: BCG002v1 | B6: 75580 | C6: 2640190.5 | D6: 687423.92 | E6: 615853.4 | F6: 19532.945 | G6: 23907.118 | H6: 2232487.4 | I6: 1775537.2 | J6: 226552 | K6: 60182.588 | L6: 95628.473 | M6: 1131628.7 | N6: 563212.49 | O6: 21192.114 | P6: 59503.837 | Q6: 13650.437 | R6: 216596.98 | S6: 5957.9254 | T6: 3997.0892
A7: BCG002v2 | B7: 78625 | C7: 4688248 | D7: 725311.29 | E7: 657255.33 | F7: 17083.625 | G7: 20704.61 | H7: 1773076 | I7: 1419983.5 | J7: 154402.54 | K7: 52086.486 | L7: 86439.428 | M7: 930221.94 | N7: 424490.94 | O7: 17640.7 | P7: 47629.889 | Q7: 14298.251 | R7: 144653.74 | S7: 6034.9762 | T7: 3620.9857
A8: BCG002v3 | B8: 69314 | C8: 3400872.8 | D8: 384229.74 | E8: 328258.36 | F8: 16745.535 | G8: 25156.534 | H8: 1482553.3 | I8: 1193291.4 | J8: 152086.16 | K8: 43890.123 | L8: 47330.987 | M8: 788340.02 | N8: 353950.14 | O8: 13992.844 | P8: 37008.397 | Q8: 7799.2902 | R8: 140616.61 | S8: 6728.7994 | T8: 4740.745
A9: BCG003v1 | B9: 53062 | C9: 3722975 | D9: 1026657.5 | E9: 892578.49 | F9: 46615.28 | G9: 32838.943 | H9: 3498709.1 | I9: 2575534.3 | J9: 434275 | K9: 75289.284 | L9: 203120.88 | M9: 1638743.4 | N9: 799668.31 | O9: 32037.993 | P9: 105084.62 | Q9: 30756.474 | R9: 410246.5 | S9: 15378.237 | T9: 8650.2582
A10: BCG003v2 | B10: 59601 | C10: 3821227.8 | D10: 1074604.5 | E10: 950957.2 | F10: 47062.969 | G10: 31945.773 | H10: 3221531.5 | I10: 2314214.5 | J10: 419716.11 | K10: 52624.956 | L10: 203939.53 | M10: 1504303.6 | N10: 683268.74 | O10: 23816.714 | P10: 102825.46 | Q10: 37935.605 | R10: 402887.54 | S10: 12264.895 | T10: 4563.6818
A11: BCG003v3 | B11: 60970 | C11: 3550546.2 | D11: 490541.25 | E11: 234115.14 | F11: 17508.611 | G11: 42520.912 | H11: 1906437.6 | I11: 1307443 | J11: 231513.86 | K11: 36618.009 | L11: 162079.71 | M11: 814100.38 | N11: 396895.19 | O11: 16207.971 | P11: 80239.462 | Q11: 19309.496 | R11: 216006.23 | S11: 8504.1824 | T11: 7003.4443
A12: BCG004v1 | B12: 69510 | C12: 5566827.8 | D12: 560060.42 | E12: 453344.84 | F12: 38377.212 | G12: 42977.989 | H12: 1557755.7 | I12: 1232896 | J12: 87078.118 | K12: 74622.356 | L12: 95269.745 | M12: 871005.61 | N12: 240811.39 | O12: 8977.1256 | P12: 112101.86 | Q12: 27268.019 | R12: 71929.219 | S12: 12680.19 | T12: 2468.7095
A13: BCG004v2 | B13: 91301 | C13: 5134970 | D13: 638922.9 | E13: 523387.48 | F13: 45014.841 | G13: 43015.958 | H13: 1395380.1 | I13: 1106581.5 | J13: 84992.497 | K13: 42296.36 | L13: 86831.47 | M13: 770529.35 | N13: 217558.41 | O13: 6236.5144 | P13: 112257.26 | Q13: 30143.153 | R13: 72439.513 | S13: 11513.565 | T13: 959.46375
A14: BCG004v3 | B14: 73049 | C14: 4456898.8 | D14: 296020.48 | E14: 224890.14 | F14: 27433.64 | G14: 28501.417 | H14: 1197223.8 | I14: 1005763.3 | J14: 52403.181 | K14: 31540.473 | L14: 62834.536 | M14: 745882.9 | N14: 189571.38 | O14: 6653.0685 | P14: 63655.902 | Q14: 18891.429 | R14: 37700.721 | S14: 12156.224 | T14: 2546.2361
... A947: BCG327v3 | B947: 38353 | C947: 3379667.8 | D947: 260996.53 | E947: 189137.75 | F947: 23320.21 | G947: 28065.601 | H947: 1524355.3 | I947: 1291695.6 | J947: 114431.73 | K947: 37827.549 | L947: 16269.914 | M947: 1026224.8 | N947: 232253.02 | O947: 9490.783 | P947: 23726.957 | Q947: 18303.653 | R947: 98704.143 | S947: 11117.774 | T947: 4609.8089

Sheet Absolute_%
A1: Id | C1: Neutrophils | D1: Monocytes (CD14+) | E1: Classical monocytes (CD14++CD16-) | F1: Non-classical monocytes (CD14++CD16+) | G1: Intermediate monocytes (CD14+CD16+) | H1: Lymphocytes | I1: T cells (CD3+ CD56-) | J1: NK cells (CD3- CD56+) | K1: NKT cells (CD3+ CD56+) | L1: B cells (CD19+) | M1: CD4+ T cells | N1: CD8+ T cells | O1: DP (CD4+ CD8+) | P1: DN (CD4- CD8-) | Q1: CD4+ CD25high Treg | R1: NK dim (CD56+ CD16+) | S1: NK bright (CD56++ CD16-) | T1: NK (CD56+ CD16-)
A2: BCG001v1 | C2: 0.62300867 | D2: 0.053914829 | E2: 0.039194119 | F2: 0.0032264569 | G2: 0.0051055015 | H2: 0.30718253 | I2: 0.22268969 | J2: 0.04553704 | K2: 0.017443033 | L2: 0.0099268548 | M2: 0.14181745 | N2: 0.071697006 | O2: 0.0017873838 | P2: 0.0073878531 | Q2: 0.0042072265 | R2: 0.042961374 | S2: 0.0020898642 | T2: 0.00048580176
A3: BCG001v2 | C3: 0.60652729 | D3: 0.053684403 | E3: 0.039317868 | F3: 0.0045725525 | G3: 0.0044914429 | H3: 0.31437059 | I3: 0.23750912 | J3: 0.041528104 | K3: 0.015938032 | L3: 0.0086483089 | M3: 0.15308419 | N3: 0.075137886 | O3: 0.0015613594 | P3: 0.0077256874 | Q3: 0.0045725525 | R3: 0.038496634 | S3: 0.0025245356 | T3: 0.00049679617
A4: BCG001v3 | C4: 0.47498242 | D4: 0.032780642 | E4: 0.019070776 | F4: 0.0065326928 | G4: 0.0043648934 | H4: 0.48488399 | I4: 0.38329037 | J4: 0.052408015 | K4: 0.02375791 | L4: 0.013270448 | M4: 0.25354464 | N4: 0.11547926 | O4: 0.0027536911 | P4: 0.011512772 | Q4: 0.0048629013 | R4: 0.048365362 | S4: 0.0034274666 | T4: 0.0006444809
A5: BCG002v1 | C5: 0.46319132 | D5: 0.12060069 | E5: 0.10804446 | F5: 0.0034268325 | G5: 0.0041942313 | H5: 0.39166446 | I5: 0.31149775 | J5: 0.039745965 | K5: 0.010558349 | L5: 0.016776925 | M5: 0.19853136 | N5: 0.098809209 | O5: 0.0037179148 | P5: 0.01043927 | Q5: 0.0023948134 | R5: 0.037999471 | S5: 0.0010452501 | T5: 0.00070124372
A6: BCG002v2 | C6: 0.64222576 | D6: 0.099357711 | E6: 0.090034976 | F6: 0.0023402226 | G6: 0.002836248 | H6: 0.24288712 | I6: 0.19451828 | J6: 0.021151033 | K6: 0.0071351351 | L6: 0.011841017 | M6: 0.12742766 | N6: 0.058149444 | O6: 0.0024165342 | P6: 0.0065246423 | Q6: 0.0019586645 | R6: 0.01981558 | S6: 0.00082670906 | T6: 0.00049602544
A7: BCG002v3 | C7: 0.64167412 | D7: 0.072496177 | E7: 0.06193554 | F7: 0.0031595349 | G7: 0.0047465159 | H7: 0.27972704 | I7: 0.22514932 | J7: 0.028695502 | K7: 0.0082811553 | L7: 0.0089303748 | M7: 0.1487434 | N7: 0.066783045 | O7: 0.0026401593 | P7: 0.0069827163 | Q7: 0.0014715642 | R7: 0.026531437 | S7: 0.0012695848 | T7: 0.00089448019
A8: BCG003v1 | C8: 0.43799706 | D8: 0.12078323 | E8: 0.10500923 | F8: 0.0054841506 | G8: 0.0038634051 | H8: 0.41161283 | I8: 0.30300403 | J8: 0.051091176 | K8: 0.0088575629 | L8: 0.023896574 | M8: 0.19279334 | N8: 0.094078625 | O8: 0.0037691757 | P8: 0.012362896 | Q8: 0.0036184087 | R8: 0.048264295 | S8: 0.0018092043 | T8: 0.0010176774
A9: BCG003v2 | C9: 0.44955622 | D9: 0.12642405 | E9: 0.11187732 | F9: 0.0055368199 | G9: 0.0037583262 | H9: 0.37900371 | I9: 0.27226053 | J9: 0.049378366 | K9: 0.0061911713 | L9: 0.023992886 | M9: 0.1769769 | N9: 0.080384557 | O9: 0.0028019664 | P9: 0.012097112 | Q9: 0.0044630124 | R9: 0.047398534 | S9: 0.0014429288 | T9: 0.00053690374
A10: BCG003v3 | C10: 0.58205675 | D10: 0.080416598 | E10: 0.038379531 | F10: 0.0028702641 | G10: 0.0069706413 | H10: 0.31253075 | I10: 0.21433492 | J10: 0.037953092 | K10: 0.0060029523 | L10: 0.026570444 | M10: 0.13345908 | N10: 0.065064786 | O10: 0.0026570444 | P10: 0.01315401 | Q10: 0.0031654912 | R10: 0.035410858 | S10: 0.0013941283 | T10: 0.0011481056
A11: BCG004v1 | C11: 0.71369587 | D11: 0.071802618 | E11: 0.058121134 | F11: 0.0049201554 | G11: 0.0055099986 | H11: 0.19971227 | I11: 0.15806359 | J11: 0.011163861 | K11: 0.0095669688 | L11: 0.01221407 | M11: 0.11166739 | N11: 0.030873256 | O11: 0.0011509135 | P11: 0.014372033 | Q11: 0.0034958999 | R11: 0.0092216947 | S11: 0.0016256654 | T11: 0.00031650122
A12: BCG004v2 | C12: 0.70342055 | D12: 0.087523685 | E12: 0.071696915 | F12: 0.0061664166 | G12: 0.005892597 | H12: 0.19114796 | I12: 0.15158651 | J12: 0.011642808 | K12: 0.005794022 | L12: 0.011894722 | M12: 0.10555197 | N12: 0.029802521 | O12: 0.00085431704 | P12: 0.015377707 | Q12: 0.004129199 | R12: 0.009923221 | S12: 0.0015772007 | T12: 0.00013143339
A13: BCG004v3 | C13: 0.74281647 | D13: 0.049336747 | E13: 0.03748169 | F13: 0.0045722734 | G13: 0.0047502361 | H13: 0.1995373 | I13: 0.16762721 | J13: 0.0087338636 | K13: 0.0052567455 | L13: 0.010472423 | M13: 0.12431382 | N13: 0.031595231 | O13: 0.0011088447 | P13: 0.010609317 | Q13: 0.0031485715 | R13: 0.0062834536 | S13: 0.0020260373 | T13: 0.00042437268
... A946: BCG327v3 | C946: 0.64993612 | D946: 0.050191641 | E946: 0.036372644 | F946: 0.0044846557 | G946: 0.005397231 | H946: 0.29314526 | I946: 0.24840299 | J946: 0.022006101 | K946: 0.0072745287 | L946: 0.0031288296 | M946: 0.19735092 | N946: 0.044664042 | O946: 0.0018251506 | P946: 0.0045628764 | Q946: 0.0035199333 | R946: 0.018981566 | S946: 0.0021380335 | T946: 0.00088650171

Sheet Relative_%
A1: Id | B1: Leucocytes (CD45+) | C1: Neutrophils | D1: Monocytes (CD14+) | E1: Classical monocytes (CD14++CD16-) | F1: Non-classical monocytes (CD14++CD16+) | G1: Intermediate monocytes (CD14+CD16+) | H1: Lymphocytes | I1: T cells (CD3+ CD56-) | J1: NK cells (CD3- CD56+) | K1: NKT cells (CD3+ CD56+) | L1: B cells (CD19+) | M1: CD4+ T cells | N1: CD8+ T cells | O1: DP (CD4+ CD8+) | P1: DN (CD4- CD8-) | Q1: CD4+ CD25high Treg | R1: NK dim (CD56+ CD16+) | S1: NK bright (CD56++ CD16-) | T1: NK (CD56+ CD16-)
A2: BCG001v1 | B2: 82.13 | C2: 62.3 | D2: 14.3 | E2: 72.7 | F2: 5.98 | G2: 9.47 | H2: 95.08 | I2: 72.49 | J2: 14.82 | K2: 5.68 | L2: 3.23 | M2: 63.68 | N2: 32.2 | O2: 0.8 | P2: 3.32 | Q2: 2.97 | R2: 94.34 | S2: 4.59 | T2: 1.07
A3: BCG001v2 | B3: 91.55 | C3: 60.65 | D3: 13.64 | E3: 73.24 | F3: 8.52 | G3: 8.37 | H3: 92.52 | I3: 75.55 | J3: 13.21 | K3: 5.07 | L3: 2.75 | M3: 64.45 | N3: 31.64 | O3: 0.66 | P3: 3.25 | Q3: 2.99 | R3: 92.7 | S3: 6.08 | T3: 1.2
A4: BCG001v3 | B4: 96.61 | C4: 47.5 | D4: 6.24 | E4: 58.18 | F4: 19.93 | G4: 13.32 | H4: 98.51 | I4: 79.05 | J4: 10.81 | K4: 4.9 | L4: 2.74 | M4: 66.15 | N4: 30.13 | O4: 0.72 | P4: 3 | Q4: 1.92 | R4: 92.29 | S4: 6.54 | T4: 1.23
A5: BCG002v1 | B5: 72.61 | C5: 46.32 | D5: 22.47 | E5: 89.59 | F5: 2.84 | G5: 3.48 | H5: 94.1 | I5: 79.53 | J5: 10.15 | K5: 2.7 | L5: 4.28 | M5: 63.73 | N5: 31.72 | O5: 1.19 | P5: 3.35 | Q5: 1.21 | R5: 95.61 | S5: 2.63 | T5: 1.76
A6: BCG002v2 | B6: 86.15 | C6: 64.22 | D6: 27.77 | E6: 90.62 | F6: 2.36 | G6: 2.85 | H6: 93.99 | I6: 80.09 | J6: 8.71 | K6: 2.94 | L6: 4.88 | M6: 65.51 | N6: 29.89 | O6: 1.24 | P6: 3.35 | Q6: 1.54 | R6: 93.69 | S6: 3.91 | T6: 2.35
A7: BCG002v3 | B7: 96.51 | C7: 64.17 | D7: 20.23 | E7: 85.43 | F7: 4.36 | G7: 6.55 | H7: 97.86 | I7: 80.49 | J7: 10.26 | K7: 2.96 | L7: 3.19 | M7: 66.06 | N7: 29.66 | O7: 1.17 | P7: 3.1 | Q7: 0.99 | R7: 92.46 | S7: 4.42 | T7: 3.12
A8: BCG003v1 | B8: 82.27 | C8: 43.8 | D8: 21.49 | E8: 86.94 | F8: 4.54 | G8: 3.2 | H8: 93.29 | I8: 73.61 | J8: 12.41 | K8: 2.15 | L8: 5.81 | M8: 63.63 | N8: 31.05 | O8: 1.24 | P8: 4.08 | Q8: 1.88 | R8: 94.47 | S8: 3.54 | T8: 1.99
A9: BCG003v2 | B9: 82.35 | C9: 44.96 | D9: 22.97 | E9: 88.49 | F9: 4.38 | G9: 2.97 | H9: 89.38 | I9: 71.84 | J9: 13.03 | K9: 1.63 | L9: 6.33 | M9: 65 | N9: 29.52 | O9: 1.03 | P9: 4.44 | Q9: 2.52 | R9: 95.99 | S9: 2.92 | T9: 1.09
A10: BCG003v3 | B10: 96.36 | C10: 58.21 | D10: 19.24 | E10: 47.73 | F10: 3.57 | G10: 8.67 | H10: 92.59 | I10: 68.58 | J10: 12.14 | K10: 1.92 | L10: 8.5 | M10: 62.27 | N10: 30.36 | O10: 1.24 | P10: 6.14 | Q10: 2.37 | R10: 93.3 | S10: 3.67 | T10: 3.03
A11: BCG004v1 | B11: 82.63 | C11: 71.37 | D11: 25.08 | E11: 80.95 | F11: 6.85 | G11: 7.67 | H11: 93.11 | I11: 79.15 | J11: 5.59 | K11: 4.79 | L11: 6.12 | M11: 70.65 | N11: 19.53 | O11: 0.73 | P11: 9.09 | Q11: 3.13 | R11: 82.6 | S11: 14.56 | T11: 2.84
A12: BCG004v2 | B12: 71.7 | C12: 70.34 | D12: 29.51 | E12: 81.92 | F12: 7.05 | G12: 6.73 | H12: 91.43 | I12: 79.3 | J12: 6.09 | K12: 3.03 | L12: 6.22 | M12: 69.63 | N12: 19.66 | O12: 0.56 | P12: 10.14 | Q12: 3.91 | R12: 85.23 | S12: 13.55 | T12: 1.13
A13: BCG004v3 | B13: 97.88 | C13: 74.28 | D13: 19.18 | E13: 75.97 | F13: 9.27 | G13: 9.63 | H13: 96 | I13: 84.01 | J13: 4.38 | K13: 2.63 | L13: 5.25 | M13: 74.16 | N13: 18.85 | O13: 0.66 | P13: 6.33 | Q13: 2.53 | R13: 71.94 | S13: 23.2 | T13: 4.86
... A946: BCG327v3 | B946: 78.77 | C946: 64.99 | D946: 14.34 | E946: 72.47 | F946: 8.94 | G946: 10.75 | H946: 97.76 | I946: 84.74 | J946: 7.51 | K946: 2.48 | L946: 1.07 | M946: 79.45 | N946: 17.98 | O946: 0.73 | P946: 1.84 | Q946: 1.78 | R946: 86.26 | S946: 9.72 | T946: 4.03

Sheet WBC
A1: ID | B1: WBC *10^6 /ml
A2: BCG001v1 | B2: 5.8
A3: BCG001v2 | B3: 5.9
A4: BCG001v3 | B4: 6.6
A5: BCG002v1 | B5: 5.7
A6: BCG002v2 | B6: 7.3
A7: BCG002v3 | B7: 5.3
A8: BCG003v1 | B8: 8.5
A9: BCG003v2 | B9: 8.5
A10: BCG003v3 | B10: 6.1
A11: BCG004v1 | B11: 7.8
A12: BCG004v2 | B12: 7.3
A13: BCG004v3 | B13: 6
... A946: BCG327v3 | B946: 5.2
