Workbook

Sheet All Langs
A1: Project Name | B1: Language | C1: (CLIQUE) InstanceCount | D1: (CLIQUE) FileCount | E1: (CLIQUE) ChangeCount | F1: (CLIQUE) ChangeChurn | G1: (CLIQUE) %Files | H1: (CLIQUE) %Changes | I1: (CLIQUE) %ChangeChurn | J1: (CROSSING) InstanceCount | K1: (CROSSING) FileCount | L1: (CROSSING) ChangeCount | M1: (CROSSING) ChangeChurn | N1: (CROSSING) %Files | O1: (CROSSING) %Changes | P1: (CROSSING) %ChangeChurn | Q1: (MODULARITYVIOLATION) InstanceCount | R1: (MODULARITYVIOLATION) FileCount | S1: (MODULARITYVIOLATION) ChangeCount | T1: (MODULARITYVIOLATION) ChangeChurn | U1: (MODULARITYVIOLATION) %Files | V1: (MODULARITYVIOLATION) %Changes | W1: (MODULARITYVIOLATION) %ChangeChurn | X1: (PACKAGECYCLE) InstanceCount | Y1: (PACKAGECYCLE) FileCount | Z1: (PACKAGECYCLE) ChangeCount | AA1: (PACKAGECYCLE) ChangeChurn | AB1: (PACKAGECYCLE) %Files | AC1: (PACKAGECYCLE) %Changes | AD1: (PACKAGECYCLE) %ChangeChurn | AE1: (UNHEALTHYINHERITANCE) InstanceCount | AF1: (UNHEALTHYINHERITANCE) FileCount | AG1: (UNHEALTHYINHERITANCE) ChangeCount | AH1: (UNHEALTHYINHERITANCE) ChangeChurn | AI1: (UNHEALTHYINHERITANCE) %Files | AJ1: (UNHEALTHYINHERITANCE) %Changes | AK1: (UNHEALTHYINHERITANCE) %ChangeChurn | AL1: (UNSTABLEINTERFACE) InstanceCount | AM1: (UNSTABLEINTERFACE) FileCount | AN1: (UNSTABLEINTERFACE) ChangeCount | AO1: (UNSTABLEINTERFACE) ChangeChurn | AP1: (UNSTABLEINTERFACE) %Files | AQ1: (UNSTABLEINTERFACE) %Changes | AR1: (UNSTABLEINTERFACE) %ChangeChurn | AT1: CLQ Average Churn/Files | AU1: CRS Average Churn/Files | AV1: MVG Average Churn/Files | AW1: PKC Average Churn/Files | AX1: UIH Average Churn/Files | AY1: UIF Average Churn/Files | BA1: Total Files | BB1: Total LOC | BC1: Total Churn | BE1: Total Churn / Total LOC | BF1: Total Churn / Total Project Files | BG1: All AP Churn / All LOC | BH1: All AP Files | BI1: All AP Churn | BJ1: All AP Churn / All Files | BK1: All AP Files / All Project FIles
A2: AI-on-the-edge-device | B2: cpp | C2: 4 | D2: 46 | E2: 0 | F2: 0 | G2: 0.0852 | H2: 0 | I2: 0 | Q2: 1 | R2: 24 | S2: 96 | T2: 4871 | U2: 0.0444 | V2: 0.9796 | W2: 0.6599 | X2: 19 | Y2: 260 | Z2: 42 | AA2: 2340 | AB2: 0.4815 | AC2: 0.4286 | AD2: 0.317 | AE2: 16 | AF2: 106 | AG2: 40 | AH2: 2363 | AI2: 0.1963 | AJ2: 0.4082 | AK2: 0.3201 | AT2: =IF(D2 = 0, "", F2 / D2) -> 0 | AU2: =IF(K2 = 0, "", M2 / K2) | AV2: =IF(R2 = 0, "", T2 / R2) -> 202.95833 | AW2: =IF(Y2 = 0, "", AA2 / Y2) -> 9 | AX2: =IF(AF2 = 0, "", AH2 / AF2) -> 22.292453 | AY2: =IF(AM2 = 0, "", AO2 / AM2) | BA2: =VLOOKUP(A2, ALL_AP_DATA!$A$2:$F$3600, 6, FALSE) -> 540 | BB2: =VLOOKUP(A2, projmetadata!$A$2:$D$2036, 4, FALSE) -> 109906 | BC2: {=_xludf.IFS(I2<>0, F2/I2, P2<>0, M2/P2, W2<>0, T2/W2, AD2<>0, AA2/AD2, AK2<>0, AH2/AK2, AR2<>0, AO2/AR2, TRUE, 0)} -> #NAME? | BE2: =BC2/BB2 -> #NAME? | BF2: =BC2/BA2 -> #NAME? | BG2: =BI2/BB2 -> 0.067157389 | BH2: =VLOOKUP(A2, ALL_AP_DATA!$A$2:$D$3600, 3, FALSE) -> 310 | BI2: =VLOOKUP(A2, ALL_AP_DATA!$A$2:$E$3600, 5, FALSE) -> 7381 | BJ2: =BI2/BA2 -> 13.668519 | BK2: =BH2/BA2 -> 0.57407407
A3: ALVR | B3: cpp | J3: 1 | K3: 13 | L3: 110 | M3: 9142 | N3: 0.0922 | O3: 0.7383 | P3: 0.5595 | Q3: 7 | R3: 33 | S3: 147 | T3: 12364 | U3: 0.234 | V3: 0.9866 | W3: 0.7567 | X3: 3 | Y3: 30 | Z3: 0 | AA3: 0 | AB3: 0.2128 | AC3: 0 | AD3: 0 | AE3: 10 | AF3: 26 | AG3: 76 | AH3: 3694 | AI3: 0.1844 | AJ3: 0.5101 | AK3: 0.2261 | AL3: 1 | AM3: 17 | AN3: 118 | AO3: 9948 | AP3: 0.1206 | AQ3: 0.7919 | AR3: 0.6088 | AT3: =IF(D3 = 0, "", F3 / D3) | AU3: =IF(K3 = 0, "", M3 / K3) -> 703.23077 | AV3: =IF(R3 = 0, "", T3 / R3) -> 374.66667 | AW3: =IF(Y3 = 0, "", AA3 / Y3) -> 0 | AX3: =IF(AF3 = 0, "", AH3 / AF3) -> 142.07692 | AY3: =IF(AM3 = 0, "", AO3 / AM3) -> 585.17647 | BA3: =VLOOKUP(A3, ALL_AP_DATA!$A$2:$F$3600, 6, FALSE) -> 141 | BB3: =VLOOKUP(A3, projmetadata!$A$2:$D$2036, 4, FALSE) -> 34536 | BC3: {=_xludf.IFS(I3<>0, F3/I3, P3<>0, M3/P3, W3<>0, T3/W3, AD3<>0, AA3/AD3, AK3<>0, AH3/AK3, AR3<>0, AO3/AR3, TRUE, 0)} -> #NAME? | BE3: =BC3/BB3 -> #NAME? | BF3: =BC3/BA3 -> #NAME? | BG3: =BI3/BB3 -> 0.47312949 | BH3: =VLOOKUP(A3, ALL_AP_DATA!$A$2:$D$3600, 3, FALSE) -> 70 | BI3: =VLOOKUP(A3, ALL_AP_DATA!$A$2:$E$3600, 5, FALSE) -> 16340 | BJ3: =BI3/BA3 -> 115.88652 | BK3: =BH3/BA3 -> 0.4964539
A4: ActionBarSherlock | B4: java | C4: 5 | D4: 25 | E4: 17 | F4: 949 | G4: 0.1582 | H4: 0.4722 | I4: 0.3909 | Q4: 1 | R4: 5 | S4: 11 | T4: 740 | U4: 0.0316 | V4: 0.3056 | W4: 0.3048 | X4: 8 | Y4: 47 | Z4: 22 | AA4: 1189 | AB4: 0.2975 | AC4: 0.6111 | AD4: 0.4897 | AE4: 23 | AF4: 62 | AG4: 19 | AH4: 990 | AI4: 0.3924 | AJ4: 0.5278 | AK4: 0.4077 | AT4: =IF(D4 = 0, "", F4 / D4) -> 37.96 | AU4: =IF(K4 = 0, "", M4 / K4) | AV4: =IF(R4 = 0, "", T4 / R4) -> 148 | AW4: =IF(Y4 = 0, "", AA4 / Y4) -> 25.297872 | AX4: =IF(AF4 = 0, "", AH4 / AF4) -> 15.967742 | AY4: =IF(AM4 = 0, "", AO4 / AM4) | BA4: =VLOOKUP(A4, ALL_AP_DATA!$A$2:$F$3600, 6, FALSE) -> 158 | BB4: =VLOOKUP(A4, projmetadata!$A$2:$D$2036, 4, FALSE) -> 25335 | BC4: {=_xludf.IFS(I4<>0, F4/I4, P4<>0, M4/P4, W4<>0, T4/W4, AD4<>0, AA4/AD4, AK4<>0, AH4/AK4, AR4<>0, AO4/AR4, TRUE, 0)} -> #NAME? | BE4: =BC4/BB4 -> #NAME? | BF4: =BC4/BA4 -> #NAME? | BG4: =BI4/BB4 -> 0.0958358 | BH4: =VLOOKUP(A4, ALL_AP_DATA!$A$2:$D$3600, 3, FALSE) -> 80 | BI4: =VLOOKUP(A4, ALL_AP_DATA!$A$2:$E$3600, 5, FALSE) -> 2428 | BJ4: =BI4/BA4 -> 15.367089 | BK4: =BH4/BA4 -> 0.50632911
A5: Activiti | B5: java | C5: 15 | D5: 531 | E5: 45 | F5: 2216 | G5: 0.1848 | H5: 0.5422 | I5: 0.1762 | Q5: 10 | R5: 40 | S5: 47 | T5: 4818 | U5: 0.0139 | V5: 0.5663 | W5: 0.3831 | X5: 130 | Y5: 954 | Z5: 50 | AA5: 3432 | AB5: 0.3319 | AC5: 0.6024 | AD5: 0.2729 | AE5: 328 | AF5: 1590 | AG5: 67 | AH5: 8925 | AI5: 0.5532 | AJ5: 0.8072 | AK5: 0.7096 | AT5: =IF(D5 = 0, "", F5 / D5) -> 4.173258 | AU5: =IF(K5 = 0, "", M5 / K5) | AV5: =IF(R5 = 0, "", T5 / R5) -> 120.45 | AW5: =IF(Y5 = 0, "", AA5 / Y5) -> 3.5974843 | AX5: =IF(AF5 = 0, "", AH5 / AF5) -> 5.6132075 | AY5: =IF(AM5 = 0, "", AO5 / AM5) | BA5: =VLOOKUP(A5, ALL_AP_DATA!$A$2:$F$3600, 6, FALSE) -> 2874 | BB5: =VLOOKUP(A5, projmetadata!$A$2:$D$2036, 4, FALSE) -> 182246 | BC5: {=_xludf.IFS(I5<>0, F5/I5, P5<>0, M5/P5, W5<>0, T5/W5, AD5<>0, AA5/AD5, AK5<>0, AH5/AK5, AR5<>0, AO5/AR5, TRUE, 0)} -> #NAME? | BE5: =BC5/BB5 -> #NAME? | BF5: =BC5/BA5 -> #NAME? | BG5: =BI5/BB5 -> 0.069011117 | BH5: =VLOOKUP(A5, ALL_AP_DATA!$A$2:$D$3600, 3, FALSE) -> 1905 | BI5: =VLOOKUP(A5, ALL_AP_DATA!$A$2:$E$3600, 5, FALSE) -> 12577 | BJ5: =BI5/BA5 -> 4.3761308 | BK5: =BH5/BA5 -> 0.66283925
A6: Aegisub | B6: cpp | C6: 7 | D6: 14 | E6: 54 | F6: 1651 | G6: 0.0148 | H6: 0.1113 | I6: 0.0571 | Q6: 39 | R6: 139 | S6: 374 | T6: 19019 | U6: 0.1465 | V6: 0.7711 | W6: 0.6582 | X6: 11 | Y6: 203 | Z6: 344 | AA6: 15425 | AB6: 0.2139 | AC6: 0.7093 | AD6: 0.5338 | AE6: 38 | AF6: 143 | AG6: 298 | AH6: 11217 | AI6: 0.1507 | AJ6: 0.6144 | AK6: 0.3882 | AT6: =IF(D6 = 0, "", F6 / D6) -> 117.92857 | AU6: =IF(K6 = 0, "", M6 / K6) | AV6: =IF(R6 = 0, "", T6 / R6) -> 136.82734 | AW6: =IF(Y6 = 0, "", AA6 / Y6) -> 75.985222 | AX6: =IF(AF6 = 0, "", AH6 / AF6) -> 78.440559 | AY6: =IF(AM6 = 0, "", AO6 / AM6) | BA6: =VLOOKUP(A6, ALL_AP_DATA!$A$2:$F$3600, 6, FALSE) -> 949 | BB6: =VLOOKUP(A6, projmetadata!$A$2:$D$2036, 4, FALSE) -> 249767 | BC6: {=_xludf.IFS(I6<>0, F6/I6, P6<>0, M6/P6, W6<>0, T6/W6, AD6<>0, AA6/AD6, AK6<>0, AH6/AK6, AR6<>0, AO6/AR6, TRUE, 0)} -> #NAME? | BE6: =BC6/BB6 -> #NAME? | BF6: =BC6/BA6 -> #NAME? | BG6: =BI6/BB6 -> 0.11569182 | BH6: =VLOOKUP(A6, ALL_AP_DATA!$A$2:$D$3600, 3, FALSE) -> 324 | BI6: =VLOOKUP(A6, ALL_AP_DATA!$A$2:$E$3600, 5, FALSE) -> 28896 | BJ6: =BI6/BA6 -> 30.448894 | BK6: =BH6/BA6 -> 0.34141201
A7: AgentWeb | B7: java | C7: 3 | D7: 19 | E7: 13 | F7: 2476 | G7: 0.1473 | H7: 0.3824 | I7: 0.3178 | Q7: 5 | R7: 17 | S7: 31 | T7: 7411 | U7: 0.1318 | V7: 0.9118 | W7: 0.9511 | AE7: 30 | AF7: 66 | AG7: 23 | AH7: 5552 | AI7: 0.5116 | AJ7: 0.6765 | AK7: 0.7125 | AT7: =IF(D7 = 0, "", F7 / D7) -> 130.31579 | AU7: =IF(K7 = 0, "", M7 / K7) | AV7: =IF(R7 = 0, "", T7 / R7) -> 435.94118 | AW7: =IF(Y7 = 0, "", AA7 / Y7) | AX7: =IF(AF7 = 0, "", AH7 / AF7) -> 84.121212 | AY7: =IF(AM7 = 0, "", AO7 / AM7) | BA7: =VLOOKUP(A7, ALL_AP_DATA!$A$2:$F$3600, 6, FALSE) -> 129 | BB7: =VLOOKUP(A7, projmetadata!$A$2:$D$2036, 4, FALSE) -> 11102 | BC7: {=_xludf.IFS(I7<>0, F7/I7, P7<>0, M7/P7, W7<>0, T7/W7, AD7<>0, AA7/AD7, AK7<>0, AH7/AK7, AR7<>0, AO7/AR7, TRUE, 0)} -> #NAME? | BE7: =BC7/BB7 -> #NAME? | BF7: =BC7/BA7 -> #NAME? | BG7: =BI7/BB7 -> 0.70185552 | BH7: =VLOOKUP(A7, ALL_AP_DATA!$A$2:$D$3600, 3, FALSE) -> 82 | BI7: =VLOOKUP(A7, ALL_AP_DATA!$A$2:$E$3600, 5, FALSE) -> 7792 | BJ7: =BI7/BA7 -> 60.403101 | BK7: =BH7/BA7 -> 0.63565891
A8: AirSim | B8: cpp | Q8: 9 | R8: 37 | S8: 215 | T8: 21455 | U8: 0.0889 | V8: 0.8175 | W8: 0.2156 | X8: 16 | Y8: 75 | Z8: 81 | AA8: 8105 | AB8: 0.1803 | AC8: 0.308 | AD8: 0.0815 | AE8: 24 | AF8: 115 | AG8: 41 | AH8: 3119 | AI8: 0.2764 | AJ8: 0.1559 | AK8: 0.0313 | AT8: =IF(D8 = 0, "", F8 / D8) | AU8: =IF(K8 = 0, "", M8 / K8) | AV8: =IF(R8 = 0, "", T8 / R8) -> 579.86486 | AW8: =IF(Y8 = 0, "", AA8 / Y8) -> 108.06667 | AX8: =IF(AF8 = 0, "", AH8 / AF8) -> 27.121739 | AY8: =IF(AM8 = 0, "", AO8 / AM8) | BA8: =VLOOKUP(A8, ALL_AP_DATA!$A$2:$F$3600, 6, FALSE) -> 416 | BB8: =VLOOKUP(A8, projmetadata!$A$2:$D$2036, 4, FALSE) -> 92870 | BC8: {=_xludf.IFS(I8<>0, F8/I8, P8<>0, M8/P8, W8<>0, T8/W8, AD8<>0, AA8/AD8, AK8<>0, AH8/AK8, AR8<>0, AO8/AR8, TRUE, 0)} -> #NAME? | BE8: =BC8/BB8 -> #NAME? | BF8: =BC8/BA8 -> #NAME? | BG8: =BI8/BB8 -> 1.0713147 | BH8: =VLOOKUP(A8, ALL_AP_DATA!$A$2:$D$3600, 3, FALSE) -> 180 | BI8: =VLOOKUP(A8, ALL_AP_DATA!$A$2:$E$3600, 5, FALSE) -> 99493 | BJ8: =BI8/BA8 -> 239.16587 | BK8: =BH8/BA8 -> 0.43269231
A9: Album | B9: java | C9: 2 | D9: 30 | E9: 20 | F9: 3529 | G9: 0.2885 | H9: 0.6061 | I9: 0.3769 | J9: 1 | K9: 10 | L9: 4 | M9: 3782 | N9: 0.0962 | O9: 0.1212 | P9: 0.4039 | Q9: 7 | R9: 47 | S9: 19 | T9: 7741 | U9: 0.4519 | V9: 0.5758 | W9: 0.8267 | X9: 2 | Y9: 25 | Z9: 9 | AA9: 3406 | AB9: 0.2404 | AC9: 0.2727 | AD9: 0.3637 | AE9: 10 | AF9: 39 | AG9: 21 | AH9: 3993 | AI9: 0.375 | AJ9: 0.6364 | AK9: 0.4264 | AL9: 1 | AM9: 17 | AN9: 7 | AO9: 505 | AP9: 0.1635 | AQ9: 0.2121 | AR9: 0.0539 | AT9: =IF(D9 = 0, "", F9 / D9) -> 117.63333 | AU9: =IF(K9 = 0, "", M9 / K9) -> 378.2 | AV9: =IF(R9 = 0, "", T9 / R9) -> 164.70213 | AW9: =IF(Y9 = 0, "", AA9 / Y9) -> 136.24 | AX9: =IF(AF9 = 0, "", AH9 / AF9) -> 102.38462 | AY9: =IF(AM9 = 0, "", AO9 / AM9) -> 29.705882 | BA9: =VLOOKUP(A9, ALL_AP_DATA!$A$2:$F$3600, 6, FALSE) -> 104 | BB9: =VLOOKUP(A9, projmetadata!$A$2:$D$2036, 4, FALSE) -> 7957 | BC9: {=_xludf.IFS(I9<>0, F9/I9, P9<>0, M9/P9, W9<>0, T9/W9, AD9<>0, AA9/AD9, AK9<>0, AH9/AK9, AR9<>0, AO9/AR9, TRUE, 0)} -> #NAME? | BE9: =BC9/BB9 -> #NAME? | BF9: =BC9/BA9 -> #NAME? | BG9: =BI9/BB9 -> 1.1768254 | BH9: =VLOOKUP(A9, ALL_AP_DATA!$A$2:$D$3600, 3, FALSE) -> 69 | BI9: =VLOOKUP(A9, ALL_AP_DATA!$A$2:$E$3600, 5, FALSE) -> 9364 | BJ9: =BI9/BA9 -> 90.038462 | BK9: =BH9/BA9 -> 0.66346154
A10: AlgoDS | B10: java | AE10: 1 | AF10: 3 | AG10: 0 | AH10: 0 | AI10: 0.0048 | AJ10: 0 | AK10: 0 | AT10: =IF(D10 = 0, "", F10 / D10) | AU10: =IF(K10 = 0, "", M10 / K10) | AV10: =IF(R10 = 0, "", T10 / R10) | AW10: =IF(Y10 = 0, "", AA10 / Y10) | AX10: =IF(AF10 = 0, "", AH10 / AF10) -> 0 | AY10: =IF(AM10 = 0, "", AO10 / AM10) | BA10: =VLOOKUP(A10, ALL_AP_DATA!$A$2:$F$3600, 6, FALSE) -> 621 | BB10: =VLOOKUP(A10, projmetadata!$A$2:$D$2036, 4, FALSE) -> 22300 | BC10: {=_xludf.IFS(I10<>0, F10/I10, P10<>0, M10/P10, W10<>0, T10/W10, AD10<>0, AA10/AD10, AK10<>0, AH10/AK10, AR10<>0, AO10/AR10, TRUE, 0)} -> #NAME? | BE10: =BC10/BB10 -> #NAME? | BF10: =BC10/BA10 -> #NAME? | BG10: =BI10/BB10 -> 0.0001793722 | BH10: =VLOOKUP(A10, ALL_AP_DATA!$A$2:$D$3600, 3, FALSE) -> 3 | BI10: =VLOOKUP(A10, ALL_AP_DATA!$A$2:$E$3600, 5, FALSE) -> 4 | BJ10: =BI10/BA10 -> 0.0064412238 | BK10: =BH10/BA10 -> 0.0048309179
A11: Algo_Ds_Notes | B11: cpp | AT11: =IF(D11 = 0, "", F11 / D11) | AU11: =IF(K11 = 0, "", M11 / K11) | AV11: =IF(R11 = 0, "", T11 / R11) | AW11: =IF(Y11 = 0, "", AA11 / Y11) | AX11: =IF(AF11 = 0, "", AH11 / AF11) | AY11: =IF(AM11 = 0, "", AO11 / AM11) | BA11: =VLOOKUP(A11, ALL_AP_DATA!$A$2:$F$3600, 6, FALSE) -> 564 | BB11: =VLOOKUP(A11, projmetadata!$A$2:$D$2036, 4, FALSE) -> 27830 | BC11: {=_xludf.IFS(I11<>0, F11/I11, P11<>0, M11/P11, W11<>0, T11/W11, AD11<>0, AA11/AD11, AK11<>0, AH11/AK11, AR11<>0, AO11/AR11, TRUE, 0)} -> #NAME? | BE11: =BC11/BB11 -> #NAME? | BF11: =BC11/BA11 -> #NAME? | BG11: =BI11/BB11 -> 0 | BH11: =VLOOKUP(A11, ALL_AP_DATA!$A$2:$D$3600, 3, FALSE) -> 0 | BI11: =VLOOKUP(A11, ALL_AP_DATA!$A$2:$E$3600, 5, FALSE) -> 0 | BJ11: =BI11/BA11 -> 0 | BK11: =BH11/BA11 -> 0
A12: Algorithms | B12: java | C12: 1 | D12: 3 | E12: 0 | F12: 0 | G12: 0.0111 | H12: 0 | I12: 0 | X12: 3 | Y12: 26 | Z12: 0 | AA12: 0 | AB12: 0.0963 | AC12: 0 | AD12: 0 | AT12: =IF(D12 = 0, "", F12 / D12) -> 0 | AU12: =IF(K12 = 0, "", M12 / K12) | AV12: =IF(R12 = 0, "", T12 / R12) | AW12: =IF(Y12 = 0, "", AA12 / Y12) -> 0 | AX12: =IF(AF12 = 0, "", AH12 / AF12) | AY12: =IF(AM12 = 0, "", AO12 / AM12) | BA12: =VLOOKUP(A12, ALL_AP_DATA!$A$2:$F$3600, 6, FALSE) -> 422 | BB12: =VLOOKUP(A12, projmetadata!$A$2:$D$2036, 4, FALSE) -> 14753 | BC12: {=_xludf.IFS(I12<>0, F12/I12, P12<>0, M12/P12, W12<>0, T12/W12, AD12<>0, AA12/AD12, AK12<>0, AH12/AK12, AR12<>0, AO12/AR12, TRUE, 0)} -> #NAME? | BE12: =BC12/BB12 -> #NAME? | BF12: =BC12/BA12 -> #NAME? | BG12: =BI12/BB12 -> 0.29166949 | BH12: =VLOOKUP(A12, ALL_AP_DATA!$A$2:$D$3600, 3, FALSE) -> 12 | BI12: =VLOOKUP(A12, ALL_AP_DATA!$A$2:$E$3600, 5, FALSE) -> 4303 | BJ12: =BI12/BA12 -> 10.196682 | BK12: =BH12/BA12 -> 0.028436019
A13: AliSQL | B13: cpp | C13: 1 | D13: 2 | E13: 0 | F13: 0 | G13: 0.0003 | H13: 0 | I13: 0 | X13: 231 | Y13: 2530 | Z13: 14 | AA13: 846 | AB13: 0.391 | AC13: 1 | AD13: 0.756 | AE13: 97 | AF13: 571 | AG13: 11 | AH13: 642 | AI13: 0.0883 | AJ13: 0.7857 | AK13: 0.5737 | AT13: =IF(D13 = 0, "", F13 / D13) -> 0 | AU13: =IF(K13 = 0, "", M13 / K13) | AV13: =IF(R13 = 0, "", T13 / R13) | AW13: =IF(Y13 = 0, "", AA13 / Y13) -> 0.33438735 | AX13: =IF(AF13 = 0, "", AH13 / AF13) -> 1.1243433 | AY13: =IF(AM13 = 0, "", AO13 / AM13) | BA13: =VLOOKUP(A13, ALL_AP_DATA!$A$2:$F$3600, 6, FALSE) -> 6470 | BB13: =VLOOKUP(A13, projmetadata!$A$2:$D$2036, 4, FALSE) -> 2289195 | BC13: {=_xludf.IFS(I13<>0, F13/I13, P13<>0, M13/P13, W13<>0, T13/W13, AD13<>0, AA13/AD13, AK13<>0, AH13/AK13, AR13<>0, AO13/AR13, TRUE, 0)} -> #NAME? | BE13: =BC13/BB13 -> #NAME? | BF13: =BC13/BA13 -> #NAME? | BG13: =BI13/BB13 -> 0.00048881812 | BH13: =VLOOKUP(A13, ALL_AP_DATA!$A$2:$D$3600, 3, FALSE) -> 2809 | BI13: =VLOOKUP(A13, ALL_AP_DATA!$A$2:$E$3600, 5, FALSE) -> 1119 | BJ13: =BI13/BA13 -> 0.17295209 | BK13: =BH13/BA13 -> 0.43415765
A14: AndEngine | B14: java | C14: 16 | D14: 42 | E14: 13 | F14: 129 | G14: 0.0705 | H14: 0.1646 | I14: 0.0379 | Q14: 5 | R14: 16 | S14: 26 | T14: 534 | U14: 0.0268 | V14: 0.3291 | W14: 0.1569 | X14: 39 | Y14: 215 | Z14: 29 | AA14: 635 | AB14: 0.3607 | AC14: 0.3671 | AD14: 0.1866 | AE14: 72 | AF14: 205 | AG14: 30 | AH14: 635 | AI14: 0.344 | AJ14: 0.3797 | AK14: 0.1866 | AT14: =IF(D14 = 0, "", F14 / D14) -> 3.0714286 | AU14: =IF(K14 = 0, "", M14 / K14) | AV14: =IF(R14 = 0, "", T14 / R14) -> 33.375 | AW14: =IF(Y14 = 0, "", AA14 / Y14) -> 2.9534884 | AX14: =IF(AF14 = 0, "", AH14 / AF14) -> 3.097561 | AY14: =IF(AM14 = 0, "", AO14 / AM14) | BA14: =VLOOKUP(A14, ALL_AP_DATA!$A$2:$F$3600, 6, FALSE) -> 596 | BB14: =VLOOKUP(A14, projmetadata!$A$2:$D$2036, 4, FALSE) -> 34114 | BC14: {=_xludf.IFS(I14<>0, F14/I14, P14<>0, M14/P14, W14<>0, T14/W14, AD14<>0, AA14/AD14, AK14<>0, AH14/AK14, AR14<>0, AO14/AR14, TRUE, 0)} -> #NAME? | BE14: =BC14/BB14 -> #NAME? | BF14: =BC14/BA14 -> #NAME? | BG14: =BI14/BB14 -> 0.099753767 | BH14: =VLOOKUP(A14, ALL_AP_DATA!$A$2:$D$3600, 3, FALSE) -> 333 | BI14: =VLOOKUP(A14, ALL_AP_DATA!$A$2:$E$3600, 5, FALSE) -> 3403 | BJ14: =BI14/BA14 -> 5.7097315 | BK14: =BH14/BA14 -> 0.55872483
A15: AndPermission | B15: java | C15: 1 | D15: 24 | E15: 8 | F15: 876 | G15: 0.2286 | H15: 0.2424 | I15: 0.1847 | Q15: 5 | R15: 18 | S15: 16 | T15: 2076 | U15: 0.1714 | V15: 0.4848 | W15: 0.4376 | X15: 9 | Y15: 41 | Z15: 16 | AA15: 1649 | AB15: 0.3905 | AC15: 0.4848 | AD15: 0.3476 | AE15: 7 | AF15: 44 | AG15: 23 | AH15: 1443 | AI15: 0.419 | AJ15: 0.697 | AK15: 0.3042 | AT15: =IF(D15 = 0, "", F15 / D15) -> 36.5 | AU15: =IF(K15 = 0, "", M15 / K15) | AV15: =IF(R15 = 0, "", T15 / R15) -> 115.33333 | AW15: =IF(Y15 = 0, "", AA15 / Y15) -> 40.219512 | AX15: =IF(AF15 = 0, "", AH15 / AF15) -> 32.795455 | AY15: =IF(AM15 = 0, "", AO15 / AM15) | BA15: =VLOOKUP(A15, ALL_AP_DATA!$A$2:$F$3600, 6, FALSE) -> 105 | BB15: =VLOOKUP(A15, projmetadata!$A$2:$D$2036, 4, FALSE) -> 4632 | BC15: {=_xludf.IFS(I15<>0, F15/I15, P15<>0, M15/P15, W15<>0, T15/W15, AD15<>0, AA15/AD15, AK15<>0, AH15/AK15, AR15<>0, AO15/AR15, TRUE, 0)} -> #NAME? | BE15: =BC15/BB15 -> #NAME? | BF15: =BC15/BA15 -> #NAME? | BG15: =BI15/BB15 -> 1.0241796 | BH15: =VLOOKUP(A15, ALL_AP_DATA!$A$2:$D$3600, 3, FALSE) -> 76 | BI15: =VLOOKUP(A15, ALL_AP_DATA!$A$2:$E$3600, 5, FALSE) -> 4744 | BJ15: =BI15/BA15 -> 45.180952 | BK15: =BH15/BA15 -> 0.72380952
A16: AndServer | B16: java | C16: 5 | D16: 18 | E16: 2 | F16: 45 | G16: 0.0968 | H16: 0.5 | I16: 0.3982 | X16: 10 | Y16: 58 | Z16: 1 | AA16: 6 | AB16: 0.3118 | AC16: 0.25 | AD16: 0.0531 | AE16: 22 | AF16: 61 | AG16: 2 | AH16: 17 | AI16: 0.328 | AJ16: 0.5 | AK16: 0.1504 | AT16: =IF(D16 = 0, "", F16 / D16) -> 2.5 | AU16: =IF(K16 = 0, "", M16 / K16) | AV16: =IF(R16 = 0, "", T16 / R16) | AW16: =IF(Y16 = 0, "", AA16 / Y16) -> 0.10344828 | AX16: =IF(AF16 = 0, "", AH16 / AF16) -> 0.27868852 | AY16: =IF(AM16 = 0, "", AO16 / AM16) | BA16: =VLOOKUP(A16, ALL_AP_DATA!$A$2:$F$3600, 6, FALSE) -> 186 | BB16: =VLOOKUP(A16, projmetadata!$A$2:$D$2036, 4, FALSE) -> 13682 | BC16: {=_xludf.IFS(I16<>0, F16/I16, P16<>0, M16/P16, W16<>0, T16/W16, AD16<>0, AA16/AD16, AK16<>0, AH16/AK16, AR16<>0, AO16/AR16, TRUE, 0)} -> #NAME? | BE16: =BC16/BB16 -> #NAME? | BF16: =BC16/BA16 -> #NAME? | BG16: =BI16/BB16 -> 0.0082590265 | BH16: =VLOOKUP(A16, ALL_AP_DATA!$A$2:$D$3600, 3, FALSE) -> 94 | BI16: =VLOOKUP(A16, ALL_AP_DATA!$A$2:$E$3600, 5, FALSE) -> 113 | BJ16: =BI16/BA16 -> 0.60752688 | BK16: =BH16/BA16 -> 0.50537634
A17: Android-ZBLibrary | B17: java | C17: 5 | D17: 16 | E17: 3 | F17: 27 | G17: 0.1019 | H17: 0.1667 | I17: 0.0081 | Q17: 3 | R17: 8 | S17: 7 | T17: 2391 | U17: 0.051 | V17: 0.3889 | W17: 0.7215 | X17: 8 | Y17: 59 | Z17: 12 | AA17: 2640 | AB17: 0.3758 | AC17: 0.6667 | AD17: 0.7966 | AE17: 17 | AF17: 59 | AG17: 10 | AH17: 2612 | AI17: 0.3758 | AJ17: 0.5556 | AK17: 0.7882 | AT17: =IF(D17 = 0, "", F17 / D17) -> 1.6875 | AU17: =IF(K17 = 0, "", M17 / K17) | AV17: =IF(R17 = 0, "", T17 / R17) -> 298.875 | AW17: =IF(Y17 = 0, "", AA17 / Y17) -> 44.745763 | AX17: =IF(AF17 = 0, "", AH17 / AF17) -> 44.271186 | AY17: =IF(AM17 = 0, "", AO17 / AM17) | BA17: =VLOOKUP(A17, ALL_AP_DATA!$A$2:$F$3600, 6, FALSE) -> 157 | BB17: =VLOOKUP(A17, projmetadata!$A$2:$D$2036, 4, FALSE) -> 15257 | BC17: {=_xludf.IFS(I17<>0, F17/I17, P17<>0, M17/P17, W17<>0, T17/W17, AD17<>0, AA17/AD17, AK17<>0, AH17/AK17, AR17<>0, AO17/AR17, TRUE, 0)} -> #NAME? | BE17: =BC17/BB17 -> #NAME? | BF17: =BC17/BA17 -> #NAME? | BG17: =BI17/BB17 -> 0.21721177 | BH17: =VLOOKUP(A17, ALL_AP_DATA!$A$2:$D$3600, 3, FALSE) -> 83 | BI17: =VLOOKUP(A17, ALL_AP_DATA!$A$2:$E$3600, 5, FALSE) -> 3314 | BJ17: =BI17/BA17 -> 21.10828 | BK17: =BH17/BA17 -> 0.52866242
A18: AndroidFire | B18: java | C18: 8 | D18: 25 | E18: 0 | F18: 0 | G18: 0.0877 | H18: 0 | I18: 0 | X18: 14 | Y18: 62 | Z18: 0 | AA18: 0 | AB18: 0.2175 | AC18: 0 | AD18: 0 | AE18: 11 | AF18: 49 | AG18: 0 | AH18: 0 | AI18: 0.1719 | AJ18: 0 | AK18: 0 | AT18: =IF(D18 = 0, "", F18 / D18) -> 0 | AU18: =IF(K18 = 0, "", M18 / K18) | AV18: =IF(R18 = 0, "", T18 / R18) | AW18: =IF(Y18 = 0, "", AA18 / Y18) -> 0 | AX18: =IF(AF18 = 0, "", AH18 / AF18) -> 0 | AY18: =IF(AM18 = 0, "", AO18 / AM18) | BA18: =VLOOKUP(A18, ALL_AP_DATA!$A$2:$F$3600, 6, FALSE) -> 285 | BB18: =VLOOKUP(A18, projmetadata!$A$2:$D$2036, 4, FALSE) -> 25247 | BC18: {=_xludf.IFS(I18<>0, F18/I18, P18<>0, M18/P18, W18<>0, T18/W18, AD18<>0, AA18/AD18, AK18<>0, AH18/AK18, AR18<>0, AO18/AR18, TRUE, 0)} -> #NAME? | BE18: =BC18/BB18 -> #NAME? | BF18: =BC18/BA18 -> #NAME? | BG18: =BI18/BB18 -> 0 | BH18: =VLOOKUP(A18, ALL_AP_DATA!$A$2:$D$3600, 3, FALSE) -> 100 | BI18: =VLOOKUP(A18, ALL_AP_DATA!$A$2:$E$3600, 5, FALSE) -> 0 | BJ18: =BI18/BA18 -> 0 | BK18: =BH18/BA18 -> 0.35087719
A19: AndroidPicker | B19: java | C19: 2 | D19: 11 | E19: 10 | F19: 6097 | G19: 0.0663 | H19: 0.2041 | I19: 0.5387 | Q19: 10 | R19: 34 | S19: 44 | T19: 3321 | U19: 0.2048 | V19: 0.898 | W19: 0.2935 | X19: 4 | Y19: 19 | Z19: 27 | AA19: 2188 | AB19: 0.1145 | AC19: 0.551 | AD19: 0.1933 | AE19: 18 | AF19: 55 | AG19: 35 | AH19: 4745 | AI19: 0.3313 | AJ19: 0.7143 | AK19: 0.4193 | AL19: 1 | AM19: 13 | AN19: 31 | AO19: 1977 | AP19: 0.0783 | AQ19: 0.6327 | AR19: 0.1747 | AT19: =IF(D19 = 0, "", F19 / D19) -> 554.27273 | AU19: =IF(K19 = 0, "", M19 / K19) | AV19: =IF(R19 = 0, "", T19 / R19) -> 97.676471 | AW19: =IF(Y19 = 0, "", AA19 / Y19) -> 115.15789 | AX19: =IF(AF19 = 0, "", AH19 / AF19) -> 86.272727 | AY19: =IF(AM19 = 0, "", AO19 / AM19) -> 152.07692 | BA19: =VLOOKUP(A19, ALL_AP_DATA!$A$2:$F$3600, 6, FALSE) -> 166 | BB19: =VLOOKUP(A19, projmetadata!$A$2:$D$2036, 4, FALSE) -> 14688 | BC19: {=_xludf.IFS(I19<>0, F19/I19, P19<>0, M19/P19, W19<>0, T19/W19, AD19<>0, AA19/AD19, AK19<>0, AH19/AK19, AR19<>0, AO19/AR19, TRUE, 0)} -> #NAME? | BE19: =BC19/BB19 -> #NAME? | BF19: =BC19/BA19 -> #NAME? | BG19: =BI19/BB19 -> 0.77049292 | BH19: =VLOOKUP(A19, ALL_AP_DATA!$A$2:$D$3600, 3, FALSE) -> 86 | BI19: =VLOOKUP(A19, ALL_AP_DATA!$A$2:$E$3600, 5, FALSE) -> 11317 | BJ19: =BI19/BA19 -> 68.174699 | BK19: =BH19/BA19 -> 0.51807229
A20: AndroidUtilCode | B20: java | C20: 10 | D20: 46 | E20: 35 | F20: 1650 | G20: 0.1673 | H20: 0.7 | I20: 0.4651 | J20: 1 | K20: 5 | L20: 16 | M20: 518 | N20: 0.0182 | O20: 0.32 | P20: 0.146 | Q20: 10 | R20: 22 | S20: 34 | T20: 1750 | U20: 0.08 | V20: 0.68 | W20: 0.4932 | X20: 12 | Y20: 86 | Z20: 32 | AA20: 1625 | AB20: 0.3127 | AC20: 0.64 | AD20: 0.458 | AE20: 10 | AF20: 47 | AG20: 23 | AH20: 353 | AI20: 0.1709 | AJ20: 0.46 | AK20: 0.0995 | AT20: =IF(D20 = 0, "", F20 / D20) -> 35.869565 | AU20: =IF(K20 = 0, "", M20 / K20) -> 103.6 | AV20: =IF(R20 = 0, "", T20 / R20) -> 79.545455 | AW20: =IF(Y20 = 0, "", AA20 / Y20) -> 18.895349 | AX20: =IF(AF20 = 0, "", AH20 / AF20) -> 7.5106383 | AY20: =IF(AM20 = 0, "", AO20 / AM20) | BA20: =VLOOKUP(A20, ALL_AP_DATA!$A$2:$F$3600, 6, FALSE) -> 275 | BB20: =VLOOKUP(A20, projmetadata!$A$2:$D$2036, 4, FALSE) -> 38335 | BC20: {=_xludf.IFS(I20<>0, F20/I20, P20<>0, M20/P20, W20<>0, T20/W20, AD20<>0, AA20/AD20, AK20<>0, AH20/AK20, AR20<>0, AO20/AR20, TRUE, 0)} -> #NAME? | BE20: =BC20/BB20 -> #NAME? | BF20: =BC20/BA20 -> #NAME? | BG20: =BI20/BB20 -> 0.092552498 | BH20: =VLOOKUP(A20, ALL_AP_DATA!$A$2:$D$3600, 3, FALSE) -> 143 | BI20: =VLOOKUP(A20, ALL_AP_DATA!$A$2:$E$3600, 5, FALSE) -> 3548 | BJ20: =BI20/BA20 -> 12.901818 | BK20: =BH20/BA20 -> 0.52
A21: AppAuth-Android | B21: java | C21: 3 | D21: 12 | E21: 16 | F21: 981 | G21: 0.1188 | H21: 0.5926 | I21: 0.3952 | Q21: 3 | R21: 7 | S21: 11 | T21: 1109 | U21: 0.0693 | V21: 0.4074 | W21: 0.4468 | X21: 2 | Y21: 15 | Z21: 13 | AA21: 832 | AB21: 0.1485 | AC21: 0.4815 | AD21: 0.3352 | AE21: 5 | AF21: 22 | AG21: 7 | AH21: 283 | AI21: 0.2178 | AJ21: 0.2593 | AK21: 0.114 | AT21: =IF(D21 = 0, "", F21 / D21) -> 81.75 | AU21: =IF(K21 = 0, "", M21 / K21) | AV21: =IF(R21 = 0, "", T21 / R21) -> 158.42857 | AW21: =IF(Y21 = 0, "", AA21 / Y21) -> 55.466667 | AX21: =IF(AF21 = 0, "", AH21 / AF21) -> 12.863636 | AY21: =IF(AM21 = 0, "", AO21 / AM21) | BA21: =VLOOKUP(A21, ALL_AP_DATA!$A$2:$F$3600, 6, FALSE) -> 101 | BB21: =VLOOKUP(A21, projmetadata!$A$2:$D$2036, 4, FALSE) -> 14353 | BC21: {=_xludf.IFS(I21<>0, F21/I21, P21<>0, M21/P21, W21<>0, T21/W21, AD21<>0, AA21/AD21, AK21<>0, AH21/AK21, AR21<>0, AO21/AR21, TRUE, 0)} -> #NAME? | BE21: =BC21/BB21 -> #NAME? | BF21: =BC21/BA21 -> #NAME? | BG21: =BI21/BB21 -> 0.17292552 | BH21: =VLOOKUP(A21, ALL_AP_DATA!$A$2:$D$3600, 3, FALSE) -> 38 | BI21: =VLOOKUP(A21, ALL_AP_DATA!$A$2:$E$3600, 5, FALSE) -> 2482 | BJ21: =BI21/BA21 -> 24.574257 | BK21: =BH21/BA21 -> 0.37623762
A22: Applied-Energistics-2 | B22: java | C22: 11 | D22: 629 | E22: 553 | F22: 38345 | G22: 0.4652 | H22: 0.8379 | I22: 0.5658 | J22: 10 | K22: 78 | L22: 314 | M22: 22268 | N22: 0.0577 | O22: 0.4758 | P22: 0.3286 | Q22: 76 | R22: 334 | S22: 537 | T22: 51072 | U22: 0.247 | V22: 0.8136 | W22: 0.7536 | X22: 170 | Y22: 695 | Z22: 560 | AA22: 35970 | AB22: 0.5141 | AC22: 0.8485 | AD22: 0.5308 | AE22: 126 | AF22: 526 | AG22: 511 | AH22: 39501 | AI22: 0.3891 | AJ22: 0.7742 | AK22: 0.5829 | AL22: 4 | AM22: 103 | AN22: 360 | AO22: 24212 | AP22: 0.0762 | AQ22: 0.5455 | AR22: 0.3573 | AT22: =IF(D22 = 0, "", F22 / D22) -> 60.961844 | AU22: =IF(K22 = 0, "", M22 / K22) -> 285.48718 | AV22: =IF(R22 = 0, "", T22 / R22) -> 152.91018 | AW22: =IF(Y22 = 0, "", AA22 / Y22) -> 51.755396 | AX22: =IF(AF22 = 0, "", AH22 / AF22) -> 75.096958 | AY22: =IF(AM22 = 0, "", AO22 / AM22) -> 235.06796 | BA22: =VLOOKUP(A22, ALL_AP_DATA!$A$2:$F$3600, 6, FALSE) -> 1352 | BB22: =VLOOKUP(A22, projmetadata!$A$2:$D$2036, 4, FALSE) -> 98334 | BC22: {=_xludf.IFS(I22<>0, F22/I22, P22<>0, M22/P22, W22<>0, T22/W22, AD22<>0, AA22/AD22, AK22<>0, AH22/AK22, AR22<>0, AO22/AR22, TRUE, 0)} -> #NAME? | BE22: =BC22/BB22 -> #NAME? | BF22: =BC22/BA22 -> #NAME? | BG22: =BI22/BB22 -> 0.6891716 | BH22: =VLOOKUP(A22, ALL_AP_DATA!$A$2:$D$3600, 3, FALSE) -> 1025 | BI22: =VLOOKUP(A22, ALL_AP_DATA!$A$2:$E$3600, 5, FALSE) -> 67769 | BJ22: =BI22/BA22 -> 50.125 | BK22: =BH22/BA22 -> 0.75813609
A23: Arcade-Learning-Environment | B23: cpp | X23: 4 | Y23: 248 | Z23: 2 | AA23: 17 | AB23: 0.7066 | AC23: 0.4 | AD23: 0.0409 | AE23: 2 | AF23: 109 | AG23: 0 | AH23: 0 | AI23: 0.3105 | AJ23: 0 | AK23: 0 | AT23: =IF(D23 = 0, "", F23 / D23) | AU23: =IF(K23 = 0, "", M23 / K23) | AV23: =IF(R23 = 0, "", T23 / R23) | AW23: =IF(Y23 = 0, "", AA23 / Y23) -> 0.068548387 | AX23: =IF(AF23 = 0, "", AH23 / AF23) -> 0 | AY23: =IF(AM23 = 0, "", AO23 / AM23) | BA23: =VLOOKUP(A23, ALL_AP_DATA!$A$2:$F$3600, 6, FALSE) -> 351 | BB23: =VLOOKUP(A23, projmetadata!$A$2:$D$2036, 4, FALSE) -> 29580 | BC23: {=_xludf.IFS(I23<>0, F23/I23, P23<>0, M23/P23, W23<>0, T23/W23, AD23<>0, AA23/AD23, AK23<>0, AH23/AK23, AR23<>0, AO23/AR23, TRUE, 0)} -> #NAME? | BE23: =BC23/BB23 -> #NAME? | BF23: =BC23/BA23 -> #NAME? | BG23: =BI23/BB23 -> 0.014063556 | BH23: =VLOOKUP(A23, ALL_AP_DATA!$A$2:$D$3600, 3, FALSE) -> 251 | BI23: =VLOOKUP(A23, ALL_AP_DATA!$A$2:$E$3600, 5, FALSE) -> 416 | BJ23: =BI23/BA23 -> 1.1851852 | BK23: =BH23/BA23 -> 0.71509972
A24: ArchUnit | B24: java | C24: 17 | D24: 173 | E24: 121 | F24: 9375 | G24: 0.1446 | H24: 0.7658 | I24: 0.4058 | J24: 4 | K24: 45 | L24: 104 | M24: 8204 | N24: 0.0376 | O24: 0.6582 | P24: 0.3551 | Q24: 26 | R24: 96 | S24: 126 | T24: 12673 | U24: 0.0803 | V24: 0.7975 | W24: 0.5485 | X24: 115 | Y24: 382 | Z24: 133 | AA24: 14769 | AB24: 0.3194 | AC24: 0.8418 | AD24: 0.6392 | AE24: 106 | AF24: 423 | AG24: 139 | AH24: 14816 | AI24: 0.3537 | AJ24: 0.8797 | AK24: 0.6412 | AL24: 4 | AM24: 51 | AN24: 112 | AO24: 8844 | AP24: 0.0426 | AQ24: 0.7089 | AR24: 0.3828 | AT24: =IF(D24 = 0, "", F24 / D24) -> 54.190751 | AU24: =IF(K24 = 0, "", M24 / K24) -> 182.31111 | AV24: =IF(R24 = 0, "", T24 / R24) -> 132.01042 | AW24: =IF(Y24 = 0, "", AA24 / Y24) -> 38.662304 | AX24: =IF(AF24 = 0, "", AH24 / AF24) -> 35.026005 | AY24: =IF(AM24 = 0, "", AO24 / AM24) -> 173.41176 | BA24: =VLOOKUP(A24, ALL_AP_DATA!$A$2:$F$3600, 6, FALSE) -> 1196 | BB24: =VLOOKUP(A24, projmetadata!$A$2:$D$2036, 4, FALSE) -> 85302 | BC24: {=_xludf.IFS(I24<>0, F24/I24, P24<>0, M24/P24, W24<>0, T24/W24, AD24<>0, AA24/AD24, AK24<>0, AH24/AK24, AR24<>0, AO24/AR24, TRUE, 0)} -> #NAME? | BE24: =BC24/BB24 -> #NAME? | BF24: =BC24/BA24 -> #NAME? | BG24: =BI24/BB24 -> 0.27086118 | BH24: =VLOOKUP(A24, ALL_AP_DATA!$A$2:$D$3600, 3, FALSE) -> 649 | BI24: =VLOOKUP(A24, ALL_AP_DATA!$A$2:$E$3600, 5, FALSE) -> 23105 | BJ24: =BI24/BA24 -> 19.318562 | BK24: =BH24/BA24 -> 0.54264214
A25: Arduino | B25: cpp | C25: 2 | D25: 9 | E25: 6 | F25: 144 | G25: 0.0177 | H25: 0.0333 | I25: 0.0105 | Q25: 10 | R25: 26 | S25: 61 | T25: 5492 | U25: 0.0511 | V25: 0.3389 | W25: 0.4 | X25: 18 | Y25: 205 | Z25: 141 | AA25: 9215 | AB25: 0.4028 | AC25: 0.7833 | AD25: 0.6712 | AE25: 24 | AF25: 101 | AG25: 115 | AH25: 6519 | AI25: 0.1984 | AJ25: 0.6389 | AK25: 0.4748 | AT25: =IF(D25 = 0, "", F25 / D25) -> 16 | AU25: =IF(K25 = 0, "", M25 / K25) | AV25: =IF(R25 = 0, "", T25 / R25) -> 211.23077 | AW25: =IF(Y25 = 0, "", AA25 / Y25) -> 44.95122 | AX25: =IF(AF25 = 0, "", AH25 / AF25) -> 64.544554 | AY25: =IF(AM25 = 0, "", AO25 / AM25) | BA25: =VLOOKUP(A25, ALL_AP_DATA!$A$2:$F$3600, 6, FALSE) -> 509 | BB25: =VLOOKUP(A25, projmetadata!$A$2:$D$2036, 4, FALSE) -> 84032 | BC25: {=_xludf.IFS(I25<>0, F25/I25, P25<>0, M25/P25, W25<>0, T25/W25, AD25<>0, AA25/AD25, AK25<>0, AH25/AK25, AR25<>0, AO25/AR25, TRUE, 0)} -> #NAME? | BE25: =BC25/BB25 -> #NAME? | BF25: =BC25/BA25 -> #NAME? | BG25: =BI25/BB25 -> 0.16339014 | BH25: =VLOOKUP(A25, ALL_AP_DATA!$A$2:$D$3600, 3, FALSE) -> 274 | BI25: =VLOOKUP(A25, ALL_AP_DATA!$A$2:$E$3600, 5, FALSE) -> 13730 | BJ25: =BI25/BA25 -> 26.97446 | BK25: =BH25/BA25 -> 0.53831041
A26: ArduinoJson | B26: cpp | J26: 1 | K26: 14 | L26: 44 | M26: 1126 | N26: 0.045 | O26: 0.4112 | P26: 0.189 | Q26: 15 | R26: 55 | S26: 73 | T26: 3572 | U26: 0.1768 | V26: 0.6822 | W26: 0.5995 | X26: 12 | Y26: 55 | Z26: 62 | AA26: 2526 | AB26: 0.1768 | AC26: 0.5794 | AD26: 0.424 | AE26: 2 | AF26: 7 | AG26: 20 | AH26: 477 | AI26: 0.0225 | AJ26: 0.1869 | AK26: 0.0801 | AT26: =IF(D26 = 0, "", F26 / D26) | AU26: =IF(K26 = 0, "", M26 / K26) -> 80.428571 | AV26: =IF(R26 = 0, "", T26 / R26) -> 64.945455 | AW26: =IF(Y26 = 0, "", AA26 / Y26) -> 45.927273 | AX26: =IF(AF26 = 0, "", AH26 / AF26) -> 68.142857 | AY26: =IF(AM26 = 0, "", AO26 / AM26) | BA26: =VLOOKUP(A26, ALL_AP_DATA!$A$2:$F$3600, 6, FALSE) -> 311 | BB26: =VLOOKUP(A26, projmetadata!$A$2:$D$2036, 4, FALSE) -> 29771 | BC26: {=_xludf.IFS(I26<>0, F26/I26, P26<>0, M26/P26, W26<>0, T26/W26, AD26<>0, AA26/AD26, AK26<>0, AH26/AK26, AR26<>0, AO26/AR26, TRUE, 0)} -> #NAME? | BE26: =BC26/BB26 -> #NAME? | BF26: =BC26/BA26 -> #NAME? | BG26: =BI26/BB26 -> 0.20012764 | BH26: =VLOOKUP(A26, ALL_AP_DATA!$A$2:$D$3600, 3, FALSE) -> 85 | BI26: =VLOOKUP(A26, ALL_AP_DATA!$A$2:$E$3600, 5, FALSE) -> 5958 | BJ26: =BI26/BA26 -> 19.157556 | BK26: =BH26/BA26 -> 0.2733119
A27: Aria | B27: java | C27: 11 | D27: 76 | E27: 44 | F27: 1614 | G27: 0.1301 | H27: 0.6769 | I27: 0.2009 | Q27: 13 | R27: 65 | S27: 58 | T27: 4818 | U27: 0.1113 | V27: 0.8923 | W27: 0.5996 | X27: 51 | Y27: 226 | Z27: 55 | AA27: 3660 | AB27: 0.387 | AC27: 0.8462 | AD27: 0.4555 | AE27: 63 | AF27: 280 | AG27: 62 | AH27: 6368 | AI27: 0.4795 | AJ27: 0.9538 | AK27: 0.7925 | AT27: =IF(D27 = 0, "", F27 / D27) -> 21.236842 | AU27: =IF(K27 = 0, "", M27 / K27) | AV27: =IF(R27 = 0, "", T27 / R27) -> 74.123077 | AW27: =IF(Y27 = 0, "", AA27 / Y27) -> 16.19469 | AX27: =IF(AF27 = 0, "", AH27 / AF27) -> 22.742857 | AY27: =IF(AM27 = 0, "", AO27 / AM27) | BA27: =VLOOKUP(A27, ALL_AP_DATA!$A$2:$F$3600, 6, FALSE) -> 584 | BB27: =VLOOKUP(A27, projmetadata!$A$2:$D$2036, 4, FALSE) -> 45634 | BC27: {=_xludf.IFS(I27<>0, F27/I27, P27<>0, M27/P27, W27<>0, T27/W27, AD27<>0, AA27/AD27, AK27<>0, AH27/AK27, AR27<>0, AO27/AR27, TRUE, 0)} -> #NAME? | BE27: =BC27/BB27 -> #NAME? | BF27: =BC27/BA27 -> #NAME? | BG27: =BI27/BB27 -> 0.17607486 | BH27: =VLOOKUP(A27, ALL_AP_DATA!$A$2:$D$3600, 3, FALSE) -> 385 | BI27: =VLOOKUP(A27, ALL_AP_DATA!$A$2:$E$3600, 5, FALSE) -> 8035 | BJ27: =BI27/BA27 -> 13.758562 | BK27: =BH27/BA27 -> 0.65924658
A28: AtomicGameEngine | B28: cpp | C28: 5 | D28: 19 | E28: 0 | F28: 0 | G28: 0.0035 | H28: 0 | I28: 0 | J28: 1 | K28: 12 | L28: 24 | M28: 1304 | N28: 0.0022 | O28: 0.0468 | P28: 0.0102 | Q28: 40 | R28: 156 | S28: 369 | T28: 29539 | U28: 0.0285 | V28: 0.7193 | W28: 0.2307 | X28: 132 | Y28: 2249 | Z28: 358 | AA28: 19489 | AB28: 0.4113 | AC28: 0.6979 | AD28: 0.1522 | AE28: 145 | AF28: 1007 | AG28: 424 | AH28: 20854 | AI28: 0.1842 | AJ28: 0.8265 | AK28: 0.1629 | AT28: =IF(D28 = 0, "", F28 / D28) -> 0 | AU28: =IF(K28 = 0, "", M28 / K28) -> 108.66667 | AV28: =IF(R28 = 0, "", T28 / R28) -> 189.35256 | AW28: =IF(Y28 = 0, "", AA28 / Y28) -> 8.6656292 | AX28: =IF(AF28 = 0, "", AH28 / AF28) -> 20.709037 | AY28: =IF(AM28 = 0, "", AO28 / AM28) | BA28: =VLOOKUP(A28, ALL_AP_DATA!$A$2:$F$3600, 6, FALSE) -> 5468 | BB28: =VLOOKUP(A28, projmetadata!$A$2:$D$2036, 4, FALSE) -> 1433346 | BC28: {=_xludf.IFS(I28<>0, F28/I28, P28<>0, M28/P28, W28<>0, T28/W28, AD28<>0, AA28/AD28, AK28<>0, AH28/AK28, AR28<>0, AO28/AR28, TRUE, 0)} -> #NAME? | BE28: =BC28/BB28 -> #NAME? | BF28: =BC28/BA28 -> #NAME? | BG28: =BI28/BB28 -> 0.089314094 | BH28: =VLOOKUP(A28, ALL_AP_DATA!$A$2:$D$3600, 3, FALSE) -> 2646 | BI28: =VLOOKUP(A28, ALL_AP_DATA!$A$2:$E$3600, 5, FALSE) -> 128018 | BJ28: =BI28/BA28 -> 23.412217 | BK28: =BH28/BA28 -> 0.48390636
A29: Auto.js | B29: java | C29: 13 | D29: 114 | E29: 0 | F29: 0 | G29: 0.2065 | H29: 0 | I29: 0 | X29: 31 | Y29: 133 | Z29: 0 | AA29: 0 | AB29: 0.2409 | AC29: 0 | AD29: 0 | AE29: 49 | AF29: 161 | AG29: 0 | AH29: 0 | AI29: 0.2917 | AJ29: 0 | AK29: 0 | AT29: =IF(D29 = 0, "", F29 / D29) -> 0 | AU29: =IF(K29 = 0, "", M29 / K29) | AV29: =IF(R29 = 0, "", T29 / R29) | AW29: =IF(Y29 = 0, "", AA29 / Y29) -> 0 | AX29: =IF(AF29 = 0, "", AH29 / AF29) -> 0 | AY29: =IF(AM29 = 0, "", AO29 / AM29) | BA29: =VLOOKUP(A29, ALL_AP_DATA!$A$2:$F$3600, 6, FALSE) -> 552 | BB29: =VLOOKUP(A29, projmetadata!$A$2:$D$2036, 4, FALSE) -> 51886 | BC29: {=_xludf.IFS(I29<>0, F29/I29, P29<>0, M29/P29, W29<>0, T29/W29, AD29<>0, AA29/AD29, AK29<>0, AH29/AK29, AR29<>0, AO29/AR29, TRUE, 0)} -> #NAME? | BE29: =BC29/BB29 -> #NAME? | BF29: =BC29/BA29 -> #NAME? | BG29: =BI29/BB29 -> 0 | BH29: =VLOOKUP(A29, ALL_AP_DATA!$A$2:$D$3600, 3, FALSE) -> 248 | BI29: =VLOOKUP(A29, ALL_AP_DATA!$A$2:$E$3600, 5, FALSE) -> 0 | BJ29: =BI29/BA29 -> 0 | BK29: =BH29/BA29 -> 0.44927536
A30: AutoHotkey_L | B30: cpp | C30: 1 | D30: 5 | E30: 35 | F30: 559 | G30: 0.0459 | H30: 0.2692 | I30: 0.1668 | J30: 2 | K30: 12 | L30: 93 | M30: 2352 | N30: 0.1101 | O30: 0.7154 | P30: 0.7019 | X30: 1 | Y30: 6 | Z30: 21 | AA30: 647 | AB30: 0.055 | AC30: 0.1615 | AD30: 0.1931 | AE30: 3 | AF30: 23 | AG30: 94 | AH30: 2324 | AI30: 0.211 | AJ30: 0.7231 | AK30: 0.6935 | AT30: =IF(D30 = 0, "", F30 / D30) -> 111.8 | AU30: =IF(K30 = 0, "", M30 / K30) -> 196 | AV30: =IF(R30 = 0, "", T30 / R30) | AW30: =IF(Y30 = 0, "", AA30 / Y30) -> 107.83333 | AX30: =IF(AF30 = 0, "", AH30 / AF30) -> 101.04348 | AY30: =IF(AM30 = 0, "", AO30 / AM30) | BA30: =VLOOKUP(A30, ALL_AP_DATA!$A$2:$F$3600, 6, FALSE) -> 109 | BB30: =VLOOKUP(A30, projmetadata!$A$2:$D$2036, 4, FALSE) -> 92977 | BC30: {=_xludf.IFS(I30<>0, F30/I30, P30<>0, M30/P30, W30<>0, T30/W30, AD30<>0, AA30/AD30, AK30<>0, AH30/AK30, AR30<>0, AO30/AR30, TRUE, 0)} -> #NAME? | BE30: =BC30/BB30 -> #NAME? | BF30: =BC30/BA30 -> #NAME? | BG30: =BI30/BB30 -> 0.036041171 | BH30: =VLOOKUP(A30, ALL_AP_DATA!$A$2:$D$3600, 3, FALSE) -> 31 | BI30: =VLOOKUP(A30, ALL_AP_DATA!$A$2:$E$3600, 5, FALSE) -> 3351 | BJ30: =BI30/BA30 -> 30.743119 | BK30: =BH30/BA30 -> 0.28440367
A31: AutoLoadCache | B31: java | C31: 2 | D31: 9 | E31: 23 | F31: 2745 | G31: 0.0629 | H31: 0.5897 | I31: 0.3703 | J31: 1 | K31: 10 | L31: 25 | M31: 2724 | N31: 0.0699 | O31: 0.641 | P31: 0.3675 | Q31: 8 | R31: 32 | S31: 35 | T31: 5766 | U31: 0.2238 | V31: 0.8974 | W31: 0.7779 | X31: 3 | Y31: 24 | Z31: 24 | AA31: 2871 | AB31: 0.1678 | AC31: 0.6154 | AD31: 0.3873 | AE31: 8 | AF31: 33 | AG31: 20 | AH31: 1303 | AI31: 0.2308 | AJ31: 0.5128 | AK31: 0.1758 | AT31: =IF(D31 = 0, "", F31 / D31) -> 305 | AU31: =IF(K31 = 0, "", M31 / K31) -> 272.4 | AV31: =IF(R31 = 0, "", T31 / R31) -> 180.1875 | AW31: =IF(Y31 = 0, "", AA31 / Y31) -> 119.625 | AX31: =IF(AF31 = 0, "", AH31 / AF31) -> 39.484848 | AY31: =IF(AM31 = 0, "", AO31 / AM31) | BA31: =VLOOKUP(A31, ALL_AP_DATA!$A$2:$F$3600, 6, FALSE) -> 143 | BB31: =VLOOKUP(A31, projmetadata!$A$2:$D$2036, 4, FALSE) -> 8496 | BC31: {=_xludf.IFS(I31<>0, F31/I31, P31<>0, M31/P31, W31<>0, T31/W31, AD31<>0, AA31/AD31, AK31<>0, AH31/AK31, AR31<>0, AO31/AR31, TRUE, 0)} -> #NAME? | BE31: =BC31/BB31 -> #NAME? | BF31: =BC31/BA31 -> #NAME? | BG31: =BI31/BB31 -> 0.87241055 | BH31: =VLOOKUP(A31, ALL_AP_DATA!$A$2:$D$3600, 3, FALSE) -> 68 | BI31: =VLOOKUP(A31, ALL_AP_DATA!$A$2:$E$3600, 5, FALSE) -> 7412 | BJ31: =BI31/BA31 -> 51.832168 | BK31: =BH31/BA31 -> 0.47552448
A32: AxonFramework | B32: java | C32: 19 | D32: 58 | E32: 66 | F32: 1673 | G32: 0.0385 | H32: 0.165 | I32: 0.0558 | Q32: 27 | R32: 123 | S32: 290 | T32: 19272 | U32: 0.0816 | V32: 0.725 | W32: 0.6431 | X32: 31 | Y32: 347 | Z32: 250 | AA32: 11318 | AB32: 0.2303 | AC32: 0.625 | AD32: 0.3777 | AE32: 176 | AF32: 761 | AG32: 360 | AH32: 23803 | AI32: 0.505 | AJ32: 0.9 | AK32: 0.7943 | AL32: 2 | AM32: 30 | AN32: 105 | AO32: 6498 | AP32: 0.0199 | AQ32: 0.2625 | AR32: 0.2168 | AT32: =IF(D32 = 0, "", F32 / D32) -> 28.844828 | AU32: =IF(K32 = 0, "", M32 / K32) | AV32: =IF(R32 = 0, "", T32 / R32) -> 156.68293 | AW32: =IF(Y32 = 0, "", AA32 / Y32) -> 32.616715 | AX32: =IF(AF32 = 0, "", AH32 / AF32) -> 31.278581 | AY32: =IF(AM32 = 0, "", AO32 / AM32) -> 216.6 | BA32: =VLOOKUP(A32, ALL_AP_DATA!$A$2:$F$3600, 6, FALSE) -> 1507 | BB32: =VLOOKUP(A32, projmetadata!$A$2:$D$2036, 4, FALSE) -> 110225 | BC32: {=_xludf.IFS(I32<>0, F32/I32, P32<>0, M32/P32, W32<>0, T32/W32, AD32<>0, AA32/AD32, AK32<>0, AH32/AK32, AR32<>0, AO32/AR32, TRUE, 0)} -> #NAME? | BE32: =BC32/BB32 -> #NAME? | BF32: =BC32/BA32 -> #NAME? | BG32: =BI32/BB32 -> 0.2718621 | BH32: =VLOOKUP(A32, ALL_AP_DATA!$A$2:$D$3600, 3, FALSE) -> 901 | BI32: =VLOOKUP(A32, ALL_AP_DATA!$A$2:$E$3600, 5, FALSE) -> 29966 | BJ32: =BI32/BA32 -> 19.884539 | BK32: =BH32/BA32 -> 0.59787658
A33: BIMserver | B33: java | C33: 24 | D33: 419 | E33: 185 | F33: 59045 | G33: 0.0742 | H33: 0.6293 | I33: 0.878 | Q33: 15 | R33: 53 | S33: 111 | T33: 58363 | U33: 0.0094 | V33: 0.3776 | W33: 0.8679 | X33: 60 | Y33: 819 | Z33: 190 | AA33: 6924 | AB33: 0.145 | AC33: 0.6463 | AD33: 0.103 | AE33: 552 | AF33: 2221 | AG33: 215 | AH33: 61370 | AI33: 0.3933 | AJ33: 0.7313 | AK33: 0.9126 | AT33: =IF(D33 = 0, "", F33 / D33) -> 140.91885 | AU33: =IF(K33 = 0, "", M33 / K33) | AV33: =IF(R33 = 0, "", T33 / R33) -> 1101.1887 | AW33: =IF(Y33 = 0, "", AA33 / Y33) -> 8.4542125 | AX33: =IF(AF33 = 0, "", AH33 / AF33) -> 27.631697 | AY33: =IF(AM33 = 0, "", AO33 / AM33) | BA33: =VLOOKUP(A33, ALL_AP_DATA!$A$2:$F$3600, 6, FALSE) -> 5647 | BB33: =VLOOKUP(A33, projmetadata!$A$2:$D$2036, 4, FALSE) -> 417591 | BC33: {=_xludf.IFS(I33<>0, F33/I33, P33<>0, M33/P33, W33<>0, T33/W33, AD33<>0, AA33/AD33, AK33<>0, AH33/AK33, AR33<>0, AO33/AR33, TRUE, 0)} -> #NAME? | BE33: =BC33/BB33 -> #NAME? | BF33: =BC33/BA33 -> #NAME? | BG33: =BI33/BB33 -> 0.16103556 | BH33: =VLOOKUP(A33, ALL_AP_DATA!$A$2:$D$3600, 3, FALSE) -> 2695 | BI33: =VLOOKUP(A33, ALL_AP_DATA!$A$2:$E$3600, 5, FALSE) -> 67247 | BJ33: =BI33/BA33 -> 11.908447 | BK33: =BH33/BA33 -> 0.47724455
A34: Bear | B34: cpp | C34: 1 | D34: 2 | E34: 9 | F34: 475 | G34: 0.0132 | H34: 0.1552 | I34: 0.0609 | Q34: 10 | R34: 59 | S34: 52 | T34: 6991 | U34: 0.3907 | V34: 0.8966 | W34: 0.8957 | X34: 1 | Y34: 11 | Z34: 23 | AA34: 905 | AB34: 0.0728 | AC34: 0.3966 | AD34: 0.116 | AE34: 8 | AF34: 29 | AG34: 36 | AH34: 2041 | AI34: 0.1921 | AJ34: 0.6207 | AK34: 0.2615 | AT34: =IF(D34 = 0, "", F34 / D34) -> 237.5 | AU34: =IF(K34 = 0, "", M34 / K34) | AV34: =IF(R34 = 0, "", T34 / R34) -> 118.49153 | AW34: =IF(Y34 = 0, "", AA34 / Y34) -> 82.272727 | AX34: =IF(AF34 = 0, "", AH34 / AF34) -> 70.37931 | AY34: =IF(AM34 = 0, "", AO34 / AM34) | BA34: =VLOOKUP(A34, ALL_AP_DATA!$A$2:$F$3600, 6, FALSE) -> 151 | BB34: =VLOOKUP(A34, projmetadata!$A$2:$D$2036, 4, FALSE) -> 8799 | BC34: {=_xludf.IFS(I34<>0, F34/I34, P34<>0, M34/P34, W34<>0, T34/W34, AD34<>0, AA34/AD34, AK34<>0, AH34/AK34, AR34<>0, AO34/AR34, TRUE, 0)} -> #NAME? | BE34: =BC34/BB34 -> #NAME? | BF34: =BC34/BA34 -> #NAME? | BG34: =BI34/BB34 -> 0.88703262 | BH34: =VLOOKUP(A34, ALL_AP_DATA!$A$2:$D$3600, 3, FALSE) -> 73 | BI34: =VLOOKUP(A34, ALL_AP_DATA!$A$2:$E$3600, 5, FALSE) -> 7805 | BJ34: =BI34/BA34 -> 51.688742 | BK34: =BH34/BA34 -> 0.48344371
A35: Beef | B35: cpp | C35: 13 | D35: 28 | E35: 0 | F35: 0 | G35: 0.0161 | H35: 0 | I35: 0 | J35: 3 | K35: 24 | L35: 648 | M35: 28540 | N35: 0.0138 | O35: 0.7855 | P35: 0.5821 | Q35: 14 | R35: 56 | S35: 755 | T35: 35436 | U35: 0.0323 | V35: 0.9152 | W35: 0.7227 | X35: 58 | Y35: 496 | Z35: 480 | AA35: 30099 | AB35: 0.2859 | AC35: 0.5818 | AD35: 0.6139 | AE35: 48 | AF35: 238 | AG35: 813 | AH35: 38702 | AI35: 0.1372 | AJ35: 0.9855 | AK35: 0.7893 | AL35: 5 | AM35: 42 | AN35: 728 | AO35: 32153 | AP35: 0.0242 | AQ35: 0.8824 | AR35: 0.6558 | AT35: =IF(D35 = 0, "", F35 / D35) -> 0 | AU35: =IF(K35 = 0, "", M35 / K35) -> 1189.1667 | AV35: =IF(R35 = 0, "", T35 / R35) -> 632.78571 | AW35: =IF(Y35 = 0, "", AA35 / Y35) -> 60.683468 | AX35: =IF(AF35 = 0, "", AH35 / AF35) -> 162.61345 | AY35: =IF(AM35 = 0, "", AO35 / AM35) -> 765.54762 | BA35: =VLOOKUP(A35, ALL_AP_DATA!$A$2:$F$3600, 6, FALSE) -> 1735 | BB35: =VLOOKUP(A35, projmetadata!$A$2:$D$2036, 4, FALSE) -> 674943 | BC35: {=_xludf.IFS(I35<>0, F35/I35, P35<>0, M35/P35, W35<>0, T35/W35, AD35<>0, AA35/AD35, AK35<>0, AH35/AK35, AR35<>0, AO35/AR35, TRUE, 0)} -> #NAME? | BE35: =BC35/BB35 -> #NAME? | BF35: =BC35/BA35 -> #NAME? | BG35: =BI35/BB35 -> 0.072644653 | BH35: =VLOOKUP(A35, ALL_AP_DATA!$A$2:$D$3600, 3, FALSE) -> 568 | BI35: =VLOOKUP(A35, ALL_AP_DATA!$A$2:$E$3600, 5, FALSE) -> 49031 | BJ35: =BI35/BA35 -> 28.259942 | BK35: =BH35/BA35 -> 0.32737752
A36: BespokeSynth | B36: cpp | C36: 3 | D36: 86 | E36: 523 | F36: 26564 | G36: 0.1135 | H36: 0.7294 | I36: 0.2961 | J36: 28 | K36: 127 | L36: 573 | M36: 32513 | N36: 0.1675 | O36: 0.7992 | P36: 0.3624 | Q36: 47 | R36: 162 | S36: 624 | T36: 34233 | U36: 0.2137 | V36: 0.8703 | W36: 0.3815 | X36: 3 | Y36: 38 | Z36: 32 | AA36: 3878 | AB36: 0.0501 | AC36: 0.0446 | AD36: 0.0432 | AE36: 42 | AF36: 328 | AG36: 650 | AH36: 39129 | AI36: 0.4327 | AJ36: 0.9066 | AK36: 0.4361 | AL36: 15 | AM36: 140 | AN36: 577 | AO36: 32960 | AP36: 0.1847 | AQ36: 0.8047 | AR36: 0.3673 | AT36: =IF(D36 = 0, "", F36 / D36) -> 308.88372 | AU36: =IF(K36 = 0, "", M36 / K36) -> 256.00787 | AV36: =IF(R36 = 0, "", T36 / R36) -> 211.31481 | AW36: =IF(Y36 = 0, "", AA36 / Y36) -> 102.05263 | AX36: =IF(AF36 = 0, "", AH36 / AF36) -> 119.29573 | AY36: =IF(AM36 = 0, "", AO36 / AM36) -> 235.42857 | BA36: =VLOOKUP(A36, ALL_AP_DATA!$A$2:$F$3600, 6, FALSE) -> 758 | BB36: =VLOOKUP(A36, projmetadata!$A$2:$D$2036, 4, FALSE) -> 157346 | BC36: {=_xludf.IFS(I36<>0, F36/I36, P36<>0, M36/P36, W36<>0, T36/W36, AD36<>0, AA36/AD36, AK36<>0, AH36/AK36, AR36<>0, AO36/AR36, TRUE, 0)} -> #NAME? | BE36: =BC36/BB36 -> #NAME? | BF36: =BC36/BA36 -> #NAME? | BG36: =BI36/BB36 -> 0.57024011 | BH36: =VLOOKUP(A36, ALL_AP_DATA!$A$2:$D$3600, 3, FALSE) -> 400 | BI36: =VLOOKUP(A36, ALL_AP_DATA!$A$2:$E$3600, 5, FALSE) -> 89725 | BJ36: =BI36/BA36 -> 118.37071 | BK36: =BH36/BA36 -> 0.52770449
A37: BookReader | B37: java | C37: 6 | D37: 44 | E37: 0 | F37: 0 | G37: 0.1522 | H37: 0 | I37: 0 | X37: 17 | Y37: 99 | Z37: 0 | AA37: 0 | AB37: 0.3426 | AC37: 0 | AD37: 0 | AE37: 16 | AF37: 100 | AG37: 0 | AH37: 0 | AI37: 0.346 | AJ37: 0 | AK37: 0 | AT37: =IF(D37 = 0, "", F37 / D37) -> 0 | AU37: =IF(K37 = 0, "", M37 / K37) | AV37: =IF(R37 = 0, "", T37 / R37) | AW37: =IF(Y37 = 0, "", AA37 / Y37) -> 0 | AX37: =IF(AF37 = 0, "", AH37 / AF37) -> 0 | AY37: =IF(AM37 = 0, "", AO37 / AM37) | BA37: =VLOOKUP(A37, ALL_AP_DATA!$A$2:$F$3600, 6, FALSE) -> 289 | BB37: =VLOOKUP(A37, projmetadata!$A$2:$D$2036, 4, FALSE) -> 29280 | BC37: {=_xludf.IFS(I37<>0, F37/I37, P37<>0, M37/P37, W37<>0, T37/W37, AD37<>0, AA37/AD37, AK37<>0, AH37/AK37, AR37<>0, AO37/AR37, TRUE, 0)} -> #NAME? | BE37: =BC37/BB37 -> #NAME? | BF37: =BC37/BA37 -> #NAME? | BG37: =BI37/BB37 -> 0 | BH37: =VLOOKUP(A37, ALL_AP_DATA!$A$2:$D$3600, 3, FALSE) -> 159 | BI37: =VLOOKUP(A37, ALL_AP_DATA!$A$2:$E$3600, 5, FALSE) -> 0 | BJ37: =BI37/BA37 -> 0 | BK37: =BH37/BA37 -> 0.55017301
A38: ByteTCC | B38: java | C38: 5 | D38: 12 | E38: 35 | F38: 4326 | G38: 0.0976 | H38: 0.2966 | I38: 0.2372 | Q38: 9 | R38: 54 | S38: 114 | T38: 16132 | U38: 0.439 | V38: 0.9661 | W38: 0.8844 | X38: 1 | Y38: 3 | Z38: 5 | AA38: 157 | AB38: 0.0244 | AC38: 0.0424 | AD38: 0.0086 | AE38: 3 | AF38: 12 | AG38: 42 | AH38: 2815 | AI38: 0.0976 | AJ38: 0.3559 | AK38: 0.1543 | AT38: =IF(D38 = 0, "", F38 / D38) -> 360.5 | AU38: =IF(K38 = 0, "", M38 / K38) | AV38: =IF(R38 = 0, "", T38 / R38) -> 298.74074 | AW38: =IF(Y38 = 0, "", AA38 / Y38) -> 52.333333 | AX38: =IF(AF38 = 0, "", AH38 / AF38) -> 234.58333 | AY38: =IF(AM38 = 0, "", AO38 / AM38) | BA38: =VLOOKUP(A38, ALL_AP_DATA!$A$2:$F$3600, 6, FALSE) -> 123 | BB38: =VLOOKUP(A38, projmetadata!$A$2:$D$2036, 4, FALSE) -> 15034 | BC38: {=_xludf.IFS(I38<>0, F38/I38, P38<>0, M38/P38, W38<>0, T38/W38, AD38<>0, AA38/AD38, AK38<>0, AH38/AK38, AR38<>0, AO38/AR38, TRUE, 0)} -> #NAME? | BE38: =BC38/BB38 -> #NAME? | BF38: =BC38/BA38 -> #NAME? | BG38: =BI38/BB38 -> 1.2133165 | BH38: =VLOOKUP(A38, ALL_AP_DATA!$A$2:$D$3600, 3, FALSE) -> 64 | BI38: =VLOOKUP(A38, ALL_AP_DATA!$A$2:$E$3600, 5, FALSE) -> 18241 | BJ38: =BI38/BA38 -> 148.30081 | BK38: =BH38/BA38 -> 0.5203252
A39: C-Plus-Plus | B39: cpp | AE39: 1 | AF39: 3 | AG39: 1 | AH39: 4 | AI39: 0.0091 | AJ39: 0.0112 | AK39: 0.0003 | AT39: =IF(D39 = 0, "", F39 / D39) | AU39: =IF(K39 = 0, "", M39 / K39) | AV39: =IF(R39 = 0, "", T39 / R39) | AW39: =IF(Y39 = 0, "", AA39 / Y39) | AX39: =IF(AF39 = 0, "", AH39 / AF39) -> 1.3333333 | AY39: =IF(AM39 = 0, "", AO39 / AM39) | BA39: =VLOOKUP(A39, ALL_AP_DATA!$A$2:$F$3600, 6, FALSE) -> 328 | BB39: =VLOOKUP(A39, projmetadata!$A$2:$D$2036, 4, FALSE) -> 27857 | BC39: {=_xludf.IFS(I39<>0, F39/I39, P39<>0, M39/P39, W39<>0, T39/W39, AD39<>0, AA39/AD39, AK39<>0, AH39/AK39, AR39<>0, AO39/AR39, TRUE, 0)} -> #NAME? | BE39: =BC39/BB39 -> #NAME? | BF39: =BC39/BA39 -> #NAME? | BG39: =BI39/BB39 -> 0.55795671 | BH39: =VLOOKUP(A39, ALL_AP_DATA!$A$2:$D$3600, 3, FALSE) -> 3 | BI39: =VLOOKUP(A39, ALL_AP_DATA!$A$2:$E$3600, 5, FALSE) -> 15543 | BJ39: =BI39/BA39 -> 47.387195 | BK39: =BH39/BA39 -> 0.0091463415
A40: CNTK | B40: cpp | C40: 1 | D40: 4 | E40: 1 | F40: 2 | G40: 0.0058 | H40: 0.001 | I40: 0 | J40: 3 | K40: 35 | L40: 486 | M40: 41672 | N40: 0.0507 | O40: 0.4934 | P40: 0.2855 | Q40: 26 | R40: 149 | S40: 932 | T40: 143795 | U40: 0.2156 | V40: 0.9462 | W40: 0.9852 | X40: 22 | Y40: 252 | Z40: 846 | AA40: 121301 | AB40: 0.3647 | AC40: 0.8589 | AD40: 0.8311 | AE40: 28 | AF40: 191 | AG40: 799 | AH40: 96153 | AI40: 0.2764 | AJ40: 0.8112 | AK40: 0.6588 | AL40: 4 | AM40: 72 | AN40: 754 | AO40: 109410 | AP40: 0.1042 | AQ40: 0.7655 | AR40: 0.7496 | AT40: =IF(D40 = 0, "", F40 / D40) -> 0.5 | AU40: =IF(K40 = 0, "", M40 / K40) -> 1190.6286 | AV40: =IF(R40 = 0, "", T40 / R40) -> 965.06711 | AW40: =IF(Y40 = 0, "", AA40 / Y40) -> 481.35317 | AX40: =IF(AF40 = 0, "", AH40 / AF40) -> 503.41885 | AY40: =IF(AM40 = 0, "", AO40 / AM40) -> 1519.5833 | BA40: =VLOOKUP(A40, ALL_AP_DATA!$A$2:$F$3600, 6, FALSE) -> 691 | BB40: =VLOOKUP(A40, projmetadata!$A$2:$D$2036, 4, FALSE) -> 191369 | BC40: {=_xludf.IFS(I40<>0, F40/I40, P40<>0, M40/P40, W40<>0, T40/W40, AD40<>0, AA40/AD40, AK40<>0, AH40/AK40, AR40<>0, AO40/AR40, TRUE, 0)} -> #NAME? | BE40: =BC40/BB40 -> #NAME? | BF40: =BC40/BA40 -> #NAME? | BG40: =BI40/BB40 -> 0.76267316 | BH40: =VLOOKUP(A40, ALL_AP_DATA!$A$2:$D$3600, 3, FALSE) -> 378 | BI40: =VLOOKUP(A40, ALL_AP_DATA!$A$2:$E$3600, 5, FALSE) -> 145952 | BJ40: =BI40/BA40 -> 211.21852 | BK40: =BH40/BA40 -> 0.54703329
...

Sheet Python Duck Typing
A1: Project Name | B1: Language | C1: (CLIQUE) InstanceCount | D1: (CLIQUE) FileCount | E1: (CLIQUE) ChangeCount | F1: (CLIQUE) ChangeChurn | G1: (CLIQUE) %Files | H1: (CLIQUE) %Changes | I1: (CLIQUE) %ChangeChurn | J1: (CROSSING) InstanceCount | K1: (CROSSING) FileCount | L1: (CROSSING) ChangeCount | M1: (CROSSING) ChangeChurn | N1: (CROSSING) %Files | O1: (CROSSING) %Changes | P1: (CROSSING) %ChangeChurn | Q1: (MODULARITYVIOLATION) InstanceCount | R1: (MODULARITYVIOLATION) FileCount | S1: (MODULARITYVIOLATION) ChangeCount | T1: (MODULARITYVIOLATION) ChangeChurn | U1: (MODULARITYVIOLATION) %Files | V1: (MODULARITYVIOLATION) %Changes | W1: (MODULARITYVIOLATION) %ChangeChurn | X1: (PACKAGECYCLE) InstanceCount | Y1: (PACKAGECYCLE) FileCount | Z1: (PACKAGECYCLE) ChangeCount | AA1: (PACKAGECYCLE) ChangeChurn | AB1: (PACKAGECYCLE) %Files | AC1: (PACKAGECYCLE) %Changes | AD1: (PACKAGECYCLE) %ChangeChurn | AE1: (UNHEALTHYINHERITANCE) InstanceCount | AF1: (UNHEALTHYINHERITANCE) FileCount | AG1: (UNHEALTHYINHERITANCE) ChangeCount | AH1: (UNHEALTHYINHERITANCE) ChangeChurn | AI1: (UNHEALTHYINHERITANCE) %Files | AJ1: (UNHEALTHYINHERITANCE) %Changes | AK1: (UNHEALTHYINHERITANCE) %ChangeChurn | AL1: (UNSTABLEINTERFACE) InstanceCount | AM1: (UNSTABLEINTERFACE) FileCount | AN1: (UNSTABLEINTERFACE) ChangeCount | AO1: (UNSTABLEINTERFACE) ChangeChurn | AP1: (UNSTABLEINTERFACE) %Files | AQ1: (UNSTABLEINTERFACE) %Changes | AR1: (UNSTABLEINTERFACE) %ChangeChurn | AT1: CLQ Average Churn/Files | AU1: CRS Average Churn/Files | AV1: MVG Average Churn/Files | AW1: PKC Average Churn/Files | AX1: UIH Average Churn/Files | AY1: UIF Average Churn/Files | BA1: Total Files | BB1: Total LOC | BC1: Total Churn | BE1: Total Churn / Total LOC | BF1: Total Churn / Total Project Files | BG1: All AP Churn / All LOC | BH1: All AP Files | BI1: All AP Churn | BJ1: All AP Churn / All Files | BK1: All AP Files / All Project FIles
A2: Agriculture_KnowledgeGraph | B2: Python - Duck Typing | C2: 2 | D2: 4 | E2: 0 | F2: 0 | G2: 0.0345 | H2: 0 | I2: 0 | X2: 3 | Y2: 9 | Z2: 0 | AA2: 0 | AB2: 0.0776 | AC2: 0 | AD2: 0 | AT2: =IF(D2 = 0, "", F2 / D2) -> 0 | AU2: =IF(K2 = 0, "", M2 / K2) | AV2: =IF(R2 = 0, "", T2 / R2) | AW2: =IF(Y2 = 0, "", AA2 / Y2) -> 0 | AX2: =IF(AF2 = 0, "", AH2 / AF2) | AY2: =IF(AM2 = 0, "", AO2 / AM2) | BA2: =VLOOKUP(A2, ALL_AP_DATA!$A$2:$F$3600, 6, FALSE) -> 116 | BB2: =VLOOKUP(A2, projmetadata!$A$2:$D$2036, 4, FALSE) -> 22421 | BC2: {=_xludf.IFS(I2<>0, F2/I2, P2<>0, M2/P2, W2<>0, T2/W2, AD2<>0, AA2/AD2, AK2<>0, AH2/AK2, AR2<>0, AO2/AR2, TRUE, 0)} -> #NAME? | BE2: =BC2/BB2 -> #NAME? | BF2: =BC2/BA2 -> #NAME? | BG2: =BI2/BB2 -> 0.001070425 | BH2: =VLOOKUP(A2, ALL_AP_DATA!$A$2:$D$3600, 3, FALSE) -> 2 | BI2: =VLOOKUP(A2, ALL_AP_DATA!$A$2:$E$3600, 5, FALSE) -> 24 | BJ2: =BI2/BA2 -> 0.20689655 | BK2: =BH2/BA2 -> 0.017241379
A3: Airtest | B3: Python - Duck Typing | C3: 4 | D3: 12 | E3: 23 | F3: 378 | G3: 0.0694 | H3: 0.1544 | I3: 0.0177 | Q3: 11 | R3: 35 | S3: 118 | T3: 10203 | U3: 0.2023 | V3: 0.7919 | W3: 0.4773 | X3: 7 | Y3: 31 | Z3: 85 | AA3: 1871 | AB3: 0.1792 | AC3: 0.5705 | AD3: 0.0875 | AE3: 2 | AF3: 8 | AG3: 18 | AH3: 398 | AI3: 0.0462 | AJ3: 0.1208 | AK3: 0.0186 | AT3: =IF(D3 = 0, "", F3 / D3) -> 31.5 | AU3: =IF(K3 = 0, "", M3 / K3) | AV3: =IF(R3 = 0, "", T3 / R3) -> 291.51429 | AW3: =IF(Y3 = 0, "", AA3 / Y3) -> 60.354839 | AX3: =IF(AF3 = 0, "", AH3 / AF3) -> 49.75 | AY3: =IF(AM3 = 0, "", AO3 / AM3) | BA3: =VLOOKUP(A3, ALL_AP_DATA!$A$2:$F$3600, 6, FALSE) -> 173 | BB3: =VLOOKUP(A3, projmetadata!$A$2:$D$2036, 4, FALSE) -> 8892 | BC3: {=_xludf.IFS(I3<>0, F3/I3, P3<>0, M3/P3, W3<>0, T3/W3, AD3<>0, AA3/AD3, AK3<>0, AH3/AK3, AR3<>0, AO3/AR3, TRUE, 0)} -> #NAME? | BE3: =BC3/BB3 -> #NAME? | BF3: =BC3/BA3 -> #NAME? | BH3: =VLOOKUP(A3, ALL_AP_DATA!$A$2:$D$3600, 3, FALSE) -> 43 | BI3: =VLOOKUP(A3, ALL_AP_DATA!$A$2:$E$3600, 5, FALSE) -> 21375 | BJ3: =BI3/BA3 -> 123.55491 | BK3: =BH3/BA3 -> 0.24855491
A4: AlphaPose | B4: Python - Duck Typing | C4: 3 | D4: 12 | E4: 0 | F4: 0 | G4: 0.055 | H4: 0 | I4: 0 | X4: 5 | Y4: 25 | Z4: 2 | AA4: 21 | AB4: 0.1147 | AC4: 0.1538 | AD4: 0.5122 | AE4: 2 | AF4: 7 | AG4: 0 | AH4: 0 | AI4: 0.0321 | AJ4: 0 | AK4: 0 | AT4: =IF(D4 = 0, "", F4 / D4) -> 0 | AU4: =IF(K4 = 0, "", M4 / K4) | AV4: =IF(R4 = 0, "", T4 / R4) | AW4: =IF(Y4 = 0, "", AA4 / Y4) -> 0.84 | AX4: =IF(AF4 = 0, "", AH4 / AF4) -> 0 | AY4: =IF(AM4 = 0, "", AO4 / AM4) | BA4: =VLOOKUP(A4, ALL_AP_DATA!$A$2:$F$3600, 6, FALSE) -> 218 | BB4: =VLOOKUP(A4, projmetadata!$A$2:$D$2036, 4, FALSE) -> 18810 | BC4: {=_xludf.IFS(I4<>0, F4/I4, P4<>0, M4/P4, W4<>0, T4/W4, AD4<>0, AA4/AD4, AK4<>0, AH4/AK4, AR4<>0, AO4/AR4, TRUE, 0)} -> #NAME? | BE4: =BC4/BB4 -> #NAME? | BF4: =BC4/BA4 -> #NAME? | BH4: =VLOOKUP(A4, ALL_AP_DATA!$A$2:$D$3600, 3, FALSE) -> 18 | BI4: =VLOOKUP(A4, ALL_AP_DATA!$A$2:$E$3600, 5, FALSE) -> 41 | BJ4: =BI4/BA4 -> 0.18807339 | BK4: =BH4/BA4 -> 0.082568807
A5: ArchiveBox | B5: Python - Duck Typing | C5: 2 | D5: 23 | E5: 432 | F5: 7142 | G5: 0.0865 | H5: 0.3224 | I5: 0.1574 | J5: 4 | K5: 44 | L5: 552 | M5: 9788 | N5: 0.1654 | O5: 0.4119 | P5: 0.2156 | Q5: 30 | R5: 159 | S5: 1285 | T5: 40079 | U5: 0.5977 | V5: 0.959 | W5: 0.883 | X5: 4 | Y5: 33 | Z5: 551 | AA5: 9913 | AB5: 0.1241 | AC5: 0.4112 | AD5: 0.2184 | AL5: 8 | AM5: 86 | AN5: 1089 | AO5: 23860 | AP5: 0.3233 | AQ5: 0.8127 | AR5: 0.5257 | AT5: =IF(D5 = 0, "", F5 / D5) -> 310.52174 | AU5: =IF(K5 = 0, "", M5 / K5) -> 222.45455 | AV5: =IF(R5 = 0, "", T5 / R5) -> 252.06918 | AW5: =IF(Y5 = 0, "", AA5 / Y5) -> 300.39394 | AX5: =IF(AF5 = 0, "", AH5 / AF5) | AY5: =IF(AM5 = 0, "", AO5 / AM5) -> 277.44186 | BA5: =VLOOKUP(A5, ALL_AP_DATA!$A$2:$F$3600, 6, FALSE) -> 266 | BH5: =VLOOKUP(A5, ALL_AP_DATA!$A$2:$D$3600, 3, FALSE) -> 163 | BI5: =VLOOKUP(A5, ALL_AP_DATA!$A$2:$E$3600, 5, FALSE) -> 45389 | BJ5: =BI5/BA5 -> 170.63534
A6: ChatterBot | B6: Python - Duck Typing | C6: 2 | D6: 4 | E6: 0 | F6: 0 | G6: 0.0288 | H6: 0 | I6: 0 | X6: 4 | Y6: 30 | Z6: 0 | AA6: 0 | AB6: 0.2158 | AC6: 0 | AD6: 0 | AE6: 2 | AF6: 6 | AG6: 0 | AH6: 0 | AI6: 0.0432 | AJ6: 0 | AK6: 0 | AT6: =IF(D6 = 0, "", F6 / D6) -> 0 | AU6: =IF(K6 = 0, "", M6 / K6) | AV6: =IF(R6 = 0, "", T6 / R6) | AW6: =IF(Y6 = 0, "", AA6 / Y6) -> 0 | AX6: =IF(AF6 = 0, "", AH6 / AF6) -> 0 | AY6: =IF(AM6 = 0, "", AO6 / AM6) | BA6: =VLOOKUP(A6, ALL_AP_DATA!$A$2:$F$3600, 6, FALSE) -> 139 | BB6: =VLOOKUP(A6, projmetadata!$A$2:$D$2036, 4, FALSE) -> 8923 | BC6: {=_xludf.IFS(I6<>0, F6/I6, P6<>0, M6/P6, W6<>0, T6/W6, AD6<>0, AA6/AD6, AK6<>0, AH6/AK6, AR6<>0, AO6/AR6, TRUE, 0)} -> #NAME? | BE6: =BC6/BB6 -> #NAME? | BF6: =BC6/BA6 -> #NAME? | BH6: =VLOOKUP(A6, ALL_AP_DATA!$A$2:$D$3600, 3, FALSE) -> 4 | BI6: =VLOOKUP(A6, ALL_AP_DATA!$A$2:$E$3600, 5, FALSE) -> 153 | BJ6: =BI6/BA6 -> 1.1007194 | BK6: =BH6/BA6 -> 0.028776978
A7: DeepCTR | B7: Python - Duck Typing | C7: 1 | D7: 2 | E7: 6 | F7: 62 | G7: 0.0142 | H7: 0.4615 | I7: 0.0236 | Q7: 4 | R7: 20 | S7: 12 | T7: 1035 | U7: 0.1418 | V7: 0.9231 | W7: 0.3937 | X7: 1 | Y7: 17 | Z7: 3 | AA7: 101 | AB7: 0.1206 | AC7: 0.2308 | AD7: 0.0384 | AT7: =IF(D7 = 0, "", F7 / D7) -> 31 | AU7: =IF(K7 = 0, "", M7 / K7) | AV7: =IF(R7 = 0, "", T7 / R7) -> 51.75 | AW7: =IF(Y7 = 0, "", AA7 / Y7) -> 5.9411765 | AX7: =IF(AF7 = 0, "", AH7 / AF7) | AY7: =IF(AM7 = 0, "", AO7 / AM7) | BA7: =VLOOKUP(A7, ALL_AP_DATA!$A$2:$F$3600, 6, FALSE) -> 141 | BB7: =VLOOKUP(A7, projmetadata!$A$2:$D$2036, 4, FALSE) -> 7240 | BC7: {=_xludf.IFS(I7<>0, F7/I7, P7<>0, M7/P7, W7<>0, T7/W7, AD7<>0, AA7/AD7, AK7<>0, AH7/AK7, AR7<>0, AO7/AR7, TRUE, 0)} -> #NAME? | BE7: =BC7/BB7 -> #NAME? | BF7: =BC7/BA7 -> #NAME? | BH7: =VLOOKUP(A7, ALL_AP_DATA!$A$2:$D$3600, 3, FALSE) -> 37 | BI7: =VLOOKUP(A7, ALL_AP_DATA!$A$2:$E$3600, 5, FALSE) -> 2629 | BJ7: =BI7/BA7 -> 18.64539 | BK7: =BH7/BA7 -> 0.26241135
A8: DeepFaceLab | B8: Python - Duck Typing | C8: 1 | D8: 2 | E8: 19 | F8: 676 | G8: 0.0087 | H8: 0.0378 | I8: 0.0162 | J8: 4 | K8: 18 | L8: 163 | M8: 10591 | N8: 0.0779 | O8: 0.3247 | P8: 0.2532 | Q8: 16 | R8: 109 | S8: 475 | T8: 36523 | U8: 0.4719 | V8: 0.9462 | W8: 0.8733 | X8: 9 | Y8: 40 | Z8: 48 | AA8: 1251 | AB8: 0.1732 | AC8: 0.0956 | AD8: 0.0299 | AL8: 3 | AM8: 62 | AN8: 337 | AO8: 27935 | AP8: 0.2684 | AQ8: 0.6713 | AR8: 0.6679 | AT8: =IF(D8 = 0, "", F8 / D8) -> 338 | AU8: =IF(K8 = 0, "", M8 / K8) -> 588.38889 | AV8: =IF(R8 = 0, "", T8 / R8) -> 335.07339 | AW8: =IF(Y8 = 0, "", AA8 / Y8) -> 31.275 | AX8: =IF(AF8 = 0, "", AH8 / AF8) | AY8: =IF(AM8 = 0, "", AO8 / AM8) -> 450.56452 | BA8: =VLOOKUP(A8, ALL_AP_DATA!$A$2:$F$3600, 6, FALSE) -> 231 | BB8: =VLOOKUP(A8, projmetadata!$A$2:$D$2036, 4, FALSE) -> 13552 | BC8: {=_xludf.IFS(I8<>0, F8/I8, P8<>0, M8/P8, W8<>0, T8/W8, AD8<>0, AA8/AD8, AK8<>0, AH8/AK8, AR8<>0, AO8/AR8, TRUE, 0)} -> #NAME? | BE8: =BC8/BB8 -> #NAME? | BF8: =BC8/BA8 -> #NAME? | BH8: =VLOOKUP(A8, ALL_AP_DATA!$A$2:$D$3600, 3, FALSE) -> 113 | BI8: =VLOOKUP(A8, ALL_AP_DATA!$A$2:$E$3600, 5, FALSE) -> 41823 | BJ8: =BI8/BA8 -> 181.05195 | BK8: =BH8/BA8 -> 0.48917749
A9: DeepPavlov | B9: Python - Duck Typing | C9: 3 | D9: 10 | E9: 2 | F9: 446 | G9: 0.0295 | H9: 0.087 | I9: 0.0244 | Q9: 2 | R9: 13 | S9: 16 | T9: 773 | U9: 0.0383 | V9: 0.6957 | W9: 0.0422 | X9: 18 | Y9: 78 | Z9: 6 | AA9: 1002 | AB9: 0.2301 | AC9: 0.2609 | AD9: 0.0547 | AE9: 4 | AF9: 19 | AG9: 3 | AH9: 89 | AI9: 0.056 | AJ9: 0.1304 | AK9: 0.0049 | AT9: =IF(D9 = 0, "", F9 / D9) -> 44.6 | AU9: =IF(K9 = 0, "", M9 / K9) | AV9: =IF(R9 = 0, "", T9 / R9) -> 59.461538 | AW9: =IF(Y9 = 0, "", AA9 / Y9) -> 12.846154 | AX9: =IF(AF9 = 0, "", AH9 / AF9) -> 4.6842105 | AY9: =IF(AM9 = 0, "", AO9 / AM9) | BA9: =VLOOKUP(A9, ALL_AP_DATA!$A$2:$F$3600, 6, FALSE) -> 339 | BB9: =VLOOKUP(A9, projmetadata!$A$2:$D$2036, 4, FALSE) -> 28563 | BC9: {=_xludf.IFS(I9<>0, F9/I9, P9<>0, M9/P9, W9<>0, T9/W9, AD9<>0, AA9/AD9, AK9<>0, AH9/AK9, AR9<>0, AO9/AR9, TRUE, 0)} -> #NAME? | BE9: =BC9/BB9 -> #NAME? | BF9: =BC9/BA9 -> #NAME? | BH9: =VLOOKUP(A9, ALL_AP_DATA!$A$2:$D$3600, 3, FALSE) -> 30 | BI9: =VLOOKUP(A9, ALL_AP_DATA!$A$2:$E$3600, 5, FALSE) -> 18305 | BJ9: =BI9/BA9 -> 53.99705 | BK9: =BH9/BA9 -> 0.088495575
A10: DeepSpeed | B10: Python - Duck Typing | C10: 3 | D10: 59 | E10: 177 | F10: 9906 | G10: 0.0988 | H10: 0.4116 | I10: 0.2746 | J10: 5 | K10: 23 | L10: 167 | M10: 9381 | N10: 0.0385 | O10: 0.3884 | P10: 0.26 | Q10: 23 | R10: 116 | S10: 368 | T10: 28522 | U10: 0.1943 | V10: 0.8558 | W10: 0.7906 | X10: 56 | Y10: 158 | Z10: 222 | AA10: 13590 | AB10: 0.2647 | AC10: 0.5163 | AD10: 0.3767 | AE10: 13 | AF10: 50 | AG10: 154 | AH10: 5285 | AI10: 0.0838 | AJ10: 0.3581 | AK10: 0.1465 | AL10: 1 | AM10: 26 | AN10: 206 | AO10: 12340 | AP10: 0.0436 | AQ10: 0.4791 | AR10: 0.342 | AT10: =IF(D10 = 0, "", F10 / D10) -> 167.89831 | AU10: =IF(K10 = 0, "", M10 / K10) -> 407.86957 | AV10: =IF(R10 = 0, "", T10 / R10) -> 245.87931 | AW10: =IF(Y10 = 0, "", AA10 / Y10) -> 86.012658 | AX10: =IF(AF10 = 0, "", AH10 / AF10) -> 105.7 | AY10: =IF(AM10 = 0, "", AO10 / AM10) -> 474.61538 | BA10: =VLOOKUP(A10, ALL_AP_DATA!$A$2:$F$3600, 6, FALSE) -> 596 | BB10: =VLOOKUP(A10, projmetadata!$A$2:$D$2036, 4, FALSE) -> 43685 | BC10: {=_xludf.IFS(I10<>0, F10/I10, P10<>0, M10/P10, W10<>0, T10/W10, AD10<>0, AA10/AD10, AK10<>0, AH10/AK10, AR10<>0, AO10/AR10, TRUE, 0)} -> #NAME? | BE10: =BC10/BB10 -> #NAME? | BF10: =BC10/BA10 -> #NAME? | BH10: =VLOOKUP(A10, ALL_AP_DATA!$A$2:$D$3600, 3, FALSE) -> 161 | BI10: =VLOOKUP(A10, ALL_AP_DATA!$A$2:$E$3600, 5, FALSE) -> 36077 | BJ10: =BI10/BA10 -> 60.531879 | BK10: =BH10/BA10 -> 0.27013423
