Workbook

Sheet All Langs
A1: Project Name | B1: Language | C1: (CLIQUE) InstanceCount | D1: (CLIQUE) FileCount | E1: (CLIQUE) ChangeCount | F1: (CLIQUE) ChangeChurn | G1: (CLIQUE) %Files | H1: (CLIQUE) %Changes | I1: (CLIQUE) %ChangeChurn | J1: (CROSSING) InstanceCount | K1: (CROSSING) FileCount | L1: (CROSSING) ChangeCount | M1: (CROSSING) ChangeChurn | N1: (CROSSING) %Files | O1: (CROSSING) %Changes | P1: (CROSSING) %ChangeChurn | Q1: (MODULARITYVIOLATION) InstanceCount | R1: (MODULARITYVIOLATION) FileCount | S1: (MODULARITYVIOLATION) ChangeCount | T1: (MODULARITYVIOLATION) ChangeChurn | U1: (MODULARITYVIOLATION) %Files | V1: (MODULARITYVIOLATION) %Changes | W1: (MODULARITYVIOLATION) %ChangeChurn | X1: (PACKAGECYCLE) InstanceCount | Y1: (PACKAGECYCLE) FileCount | Z1: (PACKAGECYCLE) ChangeCount | AA1: (PACKAGECYCLE) ChangeChurn | AB1: (PACKAGECYCLE) %Files | AC1: (PACKAGECYCLE) %Changes | AD1: (PACKAGECYCLE) %ChangeChurn | AE1: (UNHEALTHYINHERITANCE) InstanceCount | AF1: (UNHEALTHYINHERITANCE) FileCount | AG1: (UNHEALTHYINHERITANCE) ChangeCount | AH1: (UNHEALTHYINHERITANCE) ChangeChurn | AI1: (UNHEALTHYINHERITANCE) %Files | AJ1: (UNHEALTHYINHERITANCE) %Changes | AK1: (UNHEALTHYINHERITANCE) %ChangeChurn | AL1: (UNSTABLEINTERFACE) InstanceCount | AM1: (UNSTABLEINTERFACE) FileCount | AN1: (UNSTABLEINTERFACE) ChangeCount | AO1: (UNSTABLEINTERFACE) ChangeChurn | AP1: (UNSTABLEINTERFACE) %Files | AQ1: (UNSTABLEINTERFACE) %Changes | AR1: (UNSTABLEINTERFACE) %ChangeChurn | AT1: CLQ Average Churn/Files | AU1: CRS Average Churn/Files | AV1: MVG Average Churn/Files | AW1: PKC Average Churn/Files | AX1: UIH Average Churn/Files | AY1: UIF Average Churn/Files | BA1: Total Files | BB1: Total LOC | BC1: Total Churn | BE1: Total Churn / Total LOC | BF1: Total Churn / Total Project Files | BG1: All AP Churn / All LOC | BH1: All AP Files | BI1: All AP Churn | BJ1: All AP Churn / All Files | BK1: All AP Files / All Project FIles
A2: AI-on-the-edge-device | B2: cpp | C2: 4 | D2: 46 | E2: 0 | F2: 0 | G2: 0.0852 | H2: 0 | I2: 0 | Q2: 1 | R2: 24 | S2: 96 | T2: 4871 | U2: 0.0444 | V2: 0.9796 | W2: 0.6599 | X2: 19 | Y2: 260 | Z2: 42 | AA2: 2340 | AB2: 0.4815 | AC2: 0.4286 | AD2: 0.317 | AE2: 16 | AF2: 106 | AG2: 40 | AH2: 2363 | AI2: 0.1963 | AJ2: 0.4082 | AK2: 0.3201 | AT2: =IF(D2 = 0, "", F2 / D2) -> 0 | AU2: =IF(K2 = 0, "", M2 / K2) | AV2: =IF(R2 = 0, "", T2 / R2) -> 202.95833 | AW2: =IF(Y2 = 0, "", AA2 / Y2) -> 9 | AX2: =IF(AF2 = 0, "", AH2 / AF2) -> 22.292453 | AY2: =IF(AM2 = 0, "", AO2 / AM2) | BA2: =VLOOKUP(A2, ALL_AP_DATA!$A$2:$F$3600, 6, FALSE) -> 540 | BB2: =VLOOKUP(A2, projmetadata!$A$2:$D$2036, 4, FALSE) -> 109906 | BC2: {=_xludf.IFS(I2<>0, F2/I2, P2<>0, M2/P2, W2<>0, T2/W2, AD2<>0, AA2/AD2, AK2<>0, AH2/AK2, AR2<>0, AO2/AR2, TRUE, 0)} -> #NAME? | BE2: =BC2/BB2 -> #NAME? | BF2: =BC2/BA2 -> #NAME? | BG2: =BI2/BB2 -> 0.067157389 | BH2: =VLOOKUP(A2, ALL_AP_DATA!$A$2:$D$3600, 3, FALSE) -> 310 | BI2: =VLOOKUP(A2, ALL_AP_DATA!$A$2:$E$3600, 5, FALSE) -> 7381 | BJ2: =BI2/BA2 -> 13.668519 | BK2: =BH2/BA2 -> 0.57407407
A3: ALVR | B3: cpp | J3: 1 | K3: 13 | L3: 110 | M3: 9142 | N3: 0.0922 | O3: 0.7383 | P3: 0.5595 | Q3: 7 | R3: 33 | S3: 147 | T3: 12364 | U3: 0.234 | V3: 0.9866 | W3: 0.7567 | X3: 3 | Y3: 30 | Z3: 0 | AA3: 0 | AB3: 0.2128 | AC3: 0 | AD3: 0 | AE3: 10 | AF3: 26 | AG3: 76 | AH3: 3694 | AI3: 0.1844 | AJ3: 0.5101 | AK3: 0.2261 | AL3: 1 | AM3: 17 | AN3: 118 | AO3: 9948 | AP3: 0.1206 | AQ3: 0.7919 | AR3: 0.6088 | AT3: =IF(D3 = 0, "", F3 / D3) | AU3: =IF(K3 = 0, "", M3 / K3) -> 703.23077 | AV3: =IF(R3 = 0, "", T3 / R3) -> 374.66667 | AW3: =IF(Y3 = 0, "", AA3 / Y3) -> 0 | AX3: =IF(AF3 = 0, "", AH3 / AF3) -> 142.07692 | AY3: =IF(AM3 = 0, "", AO3 / AM3) -> 585.17647 | BA3: =VLOOKUP(A3, ALL_AP_DATA!$A$2:$F$3600, 6, FALSE) -> 141 | BB3: =VLOOKUP(A3, projmetadata!$A$2:$D$2036, 4, FALSE) -> 34536 | BC3: {=_xludf.IFS(I3<>0, F3/I3, P3<>0, M3/P3, W3<>0, T3/W3, AD3<>0, AA3/AD3, AK3<>0, AH3/AK3, AR3<>0, AO3/AR3, TRUE, 0)} -> #NAME? | BE3: =BC3/BB3 -> #NAME? | BF3: =BC3/BA3 -> #NAME? | BG3: =BI3/BB3 -> 0.47312949 | BH3: =VLOOKUP(A3, ALL_AP_DATA!$A$2:$D$3600, 3, FALSE) -> 70 | BI3: =VLOOKUP(A3, ALL_AP_DATA!$A$2:$E$3600, 5, FALSE) -> 16340 | BJ3: =BI3/BA3 -> 115.88652 | BK3: =BH3/BA3 -> 0.4964539
A4: ActionBarSherlock | B4: java | C4: 5 | D4: 25 | E4: 17 | F4: 949 | G4: 0.1582 | H4: 0.4722 | I4: 0.3909 | Q4: 1 | R4: 5 | S4: 11 | T4: 740 | U4: 0.0316 | V4: 0.3056 | W4: 0.3048 | X4: 8 | Y4: 47 | Z4: 22 | AA4: 1189 | AB4: 0.2975 | AC4: 0.6111 | AD4: 0.4897 | AE4: 23 | AF4: 62 | AG4: 19 | AH4: 990 | AI4: 0.3924 | AJ4: 0.5278 | AK4: 0.4077 | AT4: =IF(D4 = 0, "", F4 / D4) -> 37.96 | AU4: =IF(K4 = 0, "", M4 / K4) | AV4: =IF(R4 = 0, "", T4 / R4) -> 148 | AW4: =IF(Y4 = 0, "", AA4 / Y4) -> 25.297872 | AX4: =IF(AF4 = 0, "", AH4 / AF4) -> 15.967742 | AY4: =IF(AM4 = 0, "", AO4 / AM4) | BA4: =VLOOKUP(A4, ALL_AP_DATA!$A$2:$F$3600, 6, FALSE) -> 158 | BB4: =VLOOKUP(A4, projmetadata!$A$2:$D$2036, 4, FALSE) -> 25335 | BC4: {=_xludf.IFS(I4<>0, F4/I4, P4<>0, M4/P4, W4<>0, T4/W4, AD4<>0, AA4/AD4, AK4<>0, AH4/AK4, AR4<>0, AO4/AR4, TRUE, 0)} -> #NAME? | BE4: =BC4/BB4 -> #NAME? | BF4: =BC4/BA4 -> #NAME? | BG4: =BI4/BB4 -> 0.0958358 | BH4: =VLOOKUP(A4, ALL_AP_DATA!$A$2:$D$3600, 3, FALSE) -> 80 | BI4: =VLOOKUP(A4, ALL_AP_DATA!$A$2:$E$3600, 5, FALSE) -> 2428 | BJ4: =BI4/BA4 -> 15.367089 | BK4: =BH4/BA4 -> 0.50632911
A5: Activiti | B5: java | C5: 15 | D5: 531 | E5: 45 | F5: 2216 | G5: 0.1848 | H5: 0.5422 | I5: 0.1762 | Q5: 10 | R5: 40 | S5: 47 | T5: 4818 | U5: 0.0139 | V5: 0.5663 | W5: 0.3831 | X5: 130 | Y5: 954 | Z5: 50 | AA5: 3432 | AB5: 0.3319 | AC5: 0.6024 | AD5: 0.2729 | AE5: 328 | AF5: 1590 | AG5: 67 | AH5: 8925 | AI5: 0.5532 | AJ5: 0.8072 | AK5: 0.7096 | AT5: =IF(D5 = 0, "", F5 / D5) -> 4.173258 | AU5: =IF(K5 = 0, "", M5 / K5) | AV5: =IF(R5 = 0, "", T5 / R5) -> 120.45 | AW5: =IF(Y5 = 0, "", AA5 / Y5) -> 3.5974843 | AX5: =IF(AF5 = 0, "", AH5 / AF5) -> 5.6132075 | AY5: =IF(AM5 = 0, "", AO5 / AM5) | BA5: =VLOOKUP(A5, ALL_AP_DATA!$A$2:$F$3600, 6, FALSE) -> 2874 | BB5: =VLOOKUP(A5, projmetadata!$A$2:$D$2036, 4, FALSE) -> 182246 | BC5: {=_xludf.IFS(I5<>0, F5/I5, P5<>0, M5/P5, W5<>0, T5/W5, AD5<>0, AA5/AD5, AK5<>0, AH5/AK5, AR5<>0, AO5/AR5, TRUE, 0)} -> #NAME? | BE5: =BC5/BB5 -> #NAME? | BF5: =BC5/BA5 -> #NAME? | BG5: =BI5/BB5 -> 0.069011117 | BH5: =VLOOKUP(A5, ALL_AP_DATA!$A$2:$D$3600, 3, FALSE) -> 1905 | BI5: =VLOOKUP(A5, ALL_AP_DATA!$A$2:$E$3600, 5, FALSE) -> 12577 | BJ5: =BI5/BA5 -> 4.3761308 | BK5: =BH5/BA5 -> 0.66283925
A6: Aegisub | B6: cpp | C6: 7 | D6: 14 | E6: 54 | F6: 1651 | G6: 0.0148 | H6: 0.1113 | I6: 0.0571 | Q6: 39 | R6: 139 | S6: 374 | T6: 19019 | U6: 0.1465 | V6: 0.7711 | W6: 0.6582 | X6: 11 | Y6: 203 | Z6: 344 | AA6: 15425 | AB6: 0.2139 | AC6: 0.7093 | AD6: 0.5338 | AE6: 38 | AF6: 143 | AG6: 298 | AH6: 11217 | AI6: 0.1507 | AJ6: 0.6144 | AK6: 0.3882 | AT6: =IF(D6 = 0, "", F6 / D6) -> 117.92857 | AU6: =IF(K6 = 0, "", M6 / K6) | AV6: =IF(R6 = 0, "", T6 / R6) -> 136.82734 | AW6: =IF(Y6 = 0, "", AA6 / Y6) -> 75.985222 | AX6: =IF(AF6 = 0, "", AH6 / AF6) -> 78.440559 | AY6: =IF(AM6 = 0, "", AO6 / AM6) | BA6: =VLOOKUP(A6, ALL_AP_DATA!$A$2:$F$3600, 6, FALSE) -> 949 | BB6: =VLOOKUP(A6, projmetadata!$A$2:$D$2036, 4, FALSE) -> 249767 | BC6: {=_xludf.IFS(I6<>0, F6/I6, P6<>0, M6/P6, W6<>0, T6/W6, AD6<>0, AA6/AD6, AK6<>0, AH6/AK6, AR6<>0, AO6/AR6, TRUE, 0)} -> #NAME? | BE6: =BC6/BB6 -> #NAME? | BF6: =BC6/BA6 -> #NAME? | BG6: =BI6/BB6 -> 0.11569182 | BH6: =VLOOKUP(A6, ALL_AP_DATA!$A$2:$D$3600, 3, FALSE) -> 324 | BI6: =VLOOKUP(A6, ALL_AP_DATA!$A$2:$E$3600, 5, FALSE) -> 28896 | BJ6: =BI6/BA6 -> 30.448894 | BK6: =BH6/BA6 -> 0.34141201
A7: AgentWeb | B7: java | C7: 3 | D7: 19 | E7: 13 | F7: 2476 | G7: 0.1473 | H7: 0.3824 | I7: 0.3178 | Q7: 5 | R7: 17 | S7: 31 | T7: 7411 | U7: 0.1318 | V7: 0.9118 | W7: 0.9511 | AE7: 30 | AF7: 66 | AG7: 23 | AH7: 5552 | AI7: 0.5116 | AJ7: 0.6765 | AK7: 0.7125 | AT7: =IF(D7 = 0, "", F7 / D7) -> 130.31579 | AU7: =IF(K7 = 0, "", M7 / K7) | AV7: =IF(R7 = 0, "", T7 / R7) -> 435.94118 | AW7: =IF(Y7 = 0, "", AA7 / Y7) | AX7: =IF(AF7 = 0, "", AH7 / AF7) -> 84.121212 | AY7: =IF(AM7 = 0, "", AO7 / AM7) | BA7: =VLOOKUP(A7, ALL_AP_DATA!$A$2:$F$3600, 6, FALSE) -> 129 | BB7: =VLOOKUP(A7, projmetadata!$A$2:$D$2036, 4, FALSE) -> 11102 | BC7: {=_xludf.IFS(I7<>0, F7/I7, P7<>0, M7/P7, W7<>0, T7/W7, AD7<>0, AA7/AD7, AK7<>0, AH7/AK7, AR7<>0, AO7/AR7, TRUE, 0)} -> #NAME? | BE7: =BC7/BB7 -> #NAME? | BF7: =BC7/BA7 -> #NAME? | BG7: =BI7/BB7 -> 0.70185552 | BH7: =VLOOKUP(A7, ALL_AP_DATA!$A$2:$D$3600, 3, FALSE) -> 82 | BI7: =VLOOKUP(A7, ALL_AP_DATA!$A$2:$E$3600, 5, FALSE) -> 7792 | BJ7: =BI7/BA7 -> 60.403101 | BK7: =BH7/BA7 -> 0.63565891
A8: AirSim | B8: cpp | Q8: 9 | R8: 37 | S8: 215 | T8: 21455 | U8: 0.0889 | V8: 0.8175 | W8: 0.2156 | X8: 16 | Y8: 75 | Z8: 81 | AA8: 8105 | AB8: 0.1803 | AC8: 0.308 | AD8: 0.0815 | AE8: 24 | AF8: 115 | AG8: 41 | AH8: 3119 | AI8: 0.2764 | AJ8: 0.1559 | AK8: 0.0313 | AT8: =IF(D8 = 0, "", F8 / D8) | AU8: =IF(K8 = 0, "", M8 / K8) | AV8: =IF(R8 = 0, "", T8 / R8) -> 579.86486 | AW8: =IF(Y8 = 0, "", AA8 / Y8) -> 108.06667 | AX8: =IF(AF8 = 0, "", AH8 / AF8) -> 27.121739 | AY8: =IF(AM8 = 0, "", AO8 / AM8) | BA8: =VLOOKUP(A8, ALL_AP_DATA!$A$2:$F$3600, 6, FALSE) -> 416 | BB8: =VLOOKUP(A8, projmetadata!$A$2:$D$2036, 4, FALSE) -> 92870 | BC8: {=_xludf.IFS(I8<>0, F8/I8, P8<>0, M8/P8, W8<>0, T8/W8, AD8<>0, AA8/AD8, AK8<>0, AH8/AK8, AR8<>0, AO8/AR8, TRUE, 0)} -> #NAME? | BE8: =BC8/BB8 -> #NAME? | BF8: =BC8/BA8 -> #NAME? | BG8: =BI8/BB8 -> 1.0713147 | BH8: =VLOOKUP(A8, ALL_AP_DATA!$A$2:$D$3600, 3, FALSE) -> 180 | BI8: =VLOOKUP(A8, ALL_AP_DATA!$A$2:$E$3600, 5, FALSE) -> 99493 | BJ8: =BI8/BA8 -> 239.16587 | BK8: =BH8/BA8 -> 0.43269231
A9: Album | B9: java | C9: 2 | D9: 30 | E9: 20 | F9: 3529 | G9: 0.2885 | H9: 0.6061 | I9: 0.3769 | J9: 1 | K9: 10 | L9: 4 | M9: 3782 | N9: 0.0962 | O9: 0.1212 | P9: 0.4039 | Q9: 7 | R9: 47 | S9: 19 | T9: 7741 | U9: 0.4519 | V9: 0.5758 | W9: 0.8267 | X9: 2 | Y9: 25 | Z9: 9 | AA9: 3406 | AB9: 0.2404 | AC9: 0.2727 | AD9: 0.3637 | AE9: 10 | AF9: 39 | AG9: 21 | AH9: 3993 | AI9: 0.375 | AJ9: 0.6364 | AK9: 0.4264 | AL9: 1 | AM9: 17 | AN9: 7 | AO9: 505 | AP9: 0.1635 | AQ9: 0.2121 | AR9: 0.0539 | AT9: =IF(D9 = 0, "", F9 / D9) -> 117.63333 | AU9: =IF(K9 = 0, "", M9 / K9) -> 378.2 | AV9: =IF(R9 = 0, "", T9 / R9) -> 164.70213 | AW9: =IF(Y9 = 0, "", AA9 / Y9) -> 136.24 | AX9: =IF(AF9 = 0, "", AH9 / AF9) -> 102.38462 | AY9: =IF(AM9 = 0, "", AO9 / AM9) -> 29.705882 | BA9: =VLOOKUP(A9, ALL_AP_DATA!$A$2:$F$3600, 6, FALSE) -> 104 | BB9: =VLOOKUP(A9, projmetadata!$A$2:$D$2036, 4, FALSE) -> 7957 | BC9: {=_xludf.IFS(I9<>0, F9/I9, P9<>0, M9/P9, W9<>0, T9/W9, AD9<>0, AA9/AD9, AK9<>0, AH9/AK9, AR9<>0, AO9/AR9, TRUE, 0)} -> #NAME? | BE9: =BC9/BB9 -> #NAME? | BF9: =BC9/BA9 -> #NAME? | BG9: =BI9/BB9 -> 1.1768254 | BH9: =VLOOKUP(A9, ALL_AP_DATA!$A$2:$D$3600, 3, FALSE) -> 69 | BI9: =VLOOKUP(A9, ALL_AP_DATA!$A$2:$E$3600, 5, FALSE) -> 9364 | BJ9: =BI9/BA9 -> 90.038462 | BK9: =BH9/BA9 -> 0.66346154
A10: AlgoDS | B10: java | AE10: 1 | AF10: 3 | AG10: 0 | AH10: 0 | AI10: 0.0048 | AJ10: 0 | AK10: 0 | AT10: =IF(D10 = 0, "", F10 / D10) | AU10: =IF(K10 = 0, "", M10 / K10) | AV10: =IF(R10 = 0, "", T10 / R10) | AW10: =IF(Y10 = 0, "", AA10 / Y10) | AX10: =IF(AF10 = 0, "", AH10 / AF10) -> 0 | AY10: =IF(AM10 = 0, "", AO10 / AM10) | BA10: =VLOOKUP(A10, ALL_AP_DATA!$A$2:$F$3600, 6, FALSE) -> 621 | BB10: =VLOOKUP(A10, projmetadata!$A$2:$D$2036, 4, FALSE) -> 22300 | BC10: {=_xludf.IFS(I10<>0, F10/I10, P10<>0, M10/P10, W10<>0, T10/W10, AD10<>0, AA10/AD10, AK10<>0, AH10/AK10, AR10<>0, AO10/AR10, TRUE, 0)} -> #NAME? | BE10: =BC10/BB10 -> #NAME? | BF10: =BC10/BA10 -> #NAME? | BG10: =BI10/BB10 -> 0.0001793722 | BH10: =VLOOKUP(A10, ALL_AP_DATA!$A$2:$D$3600, 3, FALSE) -> 3 | BI10: =VLOOKUP(A10, ALL_AP_DATA!$A$2:$E$3600, 5, FALSE) -> 4 | BJ10: =BI10/BA10 -> 0.0064412238 | BK10: =BH10/BA10 -> 0.0048309179
A11: Algo_Ds_Notes | B11: cpp | AT11: =IF(D11 = 0, "", F11 / D11) | AU11: =IF(K11 = 0, "", M11 / K11) | AV11: =IF(R11 = 0, "", T11 / R11) | AW11: =IF(Y11 = 0, "", AA11 / Y11) | AX11: =IF(AF11 = 0, "", AH11 / AF11) | AY11: =IF(AM11 = 0, "", AO11 / AM11) | BA11: =VLOOKUP(A11, ALL_AP_DATA!$A$2:$F$3600, 6, FALSE) -> 564 | BB11: =VLOOKUP(A11, projmetadata!$A$2:$D$2036, 4, FALSE) -> 27830 | BC11: {=_xludf.IFS(I11<>0, F11/I11, P11<>0, M11/P11, W11<>0, T11/W11, AD11<>0, AA11/AD11, AK11<>0, AH11/AK11, AR11<>0, AO11/AR11, TRUE, 0)} -> #NAME? | BE11: =BC11/BB11 -> #NAME? | BF11: =BC11/BA11 -> #NAME? | BG11: =BI11/BB11 -> 0 | BH11: =VLOOKUP(A11, ALL_AP_DATA!$A$2:$D$3600, 3, FALSE) -> 0 | BI11: =VLOOKUP(A11, ALL_AP_DATA!$A$2:$E$3600, 5, FALSE) -> 0 | BJ11: =BI11/BA11 -> 0 | BK11: =BH11/BA11 -> 0
A12: Algorithms | B12: java | C12: 1 | D12: 3 | E12: 0 | F12: 0 | G12: 0.0111 | H12: 0 | I12: 0 | X12: 3 | Y12: 26 | Z12: 0 | AA12: 0 | AB12: 0.0963 | AC12: 0 | AD12: 0 | AT12: =IF(D12 = 0, "", F12 / D12) -> 0 | AU12: =IF(K12 = 0, "", M12 / K12) | AV12: =IF(R12 = 0, "", T12 / R12) | AW12: =IF(Y12 = 0, "", AA12 / Y12) -> 0 | AX12: =IF(AF12 = 0, "", AH12 / AF12) | AY12: =IF(AM12 = 0, "", AO12 / AM12) | BA12: =VLOOKUP(A12, ALL_AP_DATA!$A$2:$F$3600, 6, FALSE) -> 422 | BB12: =VLOOKUP(A12, projmetadata!$A$2:$D$2036, 4, FALSE) -> 14753 | BC12: {=_xludf.IFS(I12<>0, F12/I12, P12<>0, M12/P12, W12<>0, T12/W12, AD12<>0, AA12/AD12, AK12<>0, AH12/AK12, AR12<>0, AO12/AR12, TRUE, 0)} -> #NAME? | BE12: =BC12/BB12 -> #NAME? | BF12: =BC12/BA12 -> #NAME? | BG12: =BI12/BB12 -> 0.29166949 | BH12: =VLOOKUP(A12, ALL_AP_DATA!$A$2:$D$3600, 3, FALSE) -> 12 | BI12: =VLOOKUP(A12, ALL_AP_DATA!$A$2:$E$3600, 5, FALSE) -> 4303 | BJ12: =BI12/BA12 -> 10.196682 | BK12: =BH12/BA12 -> 0.028436019
A13: AliSQL | B13: cpp | C13: 1 | D13: 2 | E13: 0 | F13: 0 | G13: 0.0003 | H13: 0 | I13: 0 | X13: 231 | Y13: 2530 | Z13: 14 | AA13: 846 | AB13: 0.391 | AC13: 1 | AD13: 0.756 | AE13: 97 | AF13: 571 | AG13: 11 | AH13: 642 | AI13: 0.0883 | AJ13: 0.7857 | AK13: 0.5737 | AT13: =IF(D13 = 0, "", F13 / D13) -> 0 | AU13: =IF(K13 = 0, "", M13 / K13) | AV13: =IF(R13 = 0, "", T13 / R13) | AW13: =IF(Y13 = 0, "", AA13 / Y13) -> 0.33438735 | AX13: =IF(AF13 = 0, "", AH13 / AF13) -> 1.1243433 | AY13: =IF(AM13 = 0, "", AO13 / AM13) | BA13: =VLOOKUP(A13, ALL_AP_DATA!$A$2:$F$3600, 6, FALSE) -> 6470 | BB13: =VLOOKUP(A13, projmetadata!$A$2:$D$2036, 4, FALSE) -> 2289195 | BC13: {=_xludf.IFS(I13<>0, F13/I13, P13<>0, M13/P13, W13<>0, T13/W13, AD13<>0, AA13/AD13, AK13<>0, AH13/AK13, AR13<>0, AO13/AR13, TRUE, 0)} -> #NAME? | BE13: =BC13/BB13 -> #NAME? | BF13: =BC13/BA13 -> #NAME? | BG13: =BI13/BB13 -> 0.00048881812 | BH13: =VLOOKUP(A13, ALL_AP_DATA!$A$2:$D$3600, 3, FALSE) -> 2809 | BI13: =VLOOKUP(A13, ALL_AP_DATA!$A$2:$E$3600, 5, FALSE) -> 1119 | BJ13: =BI13/BA13 -> 0.17295209 | BK13: =BH13/BA13 -> 0.43415765
A14: AndEngine | B14: java | C14: 16 | D14: 42 | E14: 13 | F14: 129 | G14: 0.0705 | H14: 0.1646 | I14: 0.0379 | Q14: 5 | R14: 16 | S14: 26 | T14: 534 | U14: 0.0268 | V14: 0.3291 | W14: 0.1569 | X14: 39 | Y14: 215 | Z14: 29 | AA14: 635 | AB14: 0.3607 | AC14: 0.3671 | AD14: 0.1866 | AE14: 72 | AF14: 205 | AG14: 30 | AH14: 635 | AI14: 0.344 | AJ14: 0.3797 | AK14: 0.1866 | AT14: =IF(D14 = 0, "", F14 / D14) -> 3.0714286 | AU14: =IF(K14 = 0, "", M14 / K14) | AV14: =IF(R14 = 0, "", T14 / R14) -> 33.375 | AW14: =IF(Y14 = 0, "", AA14 / Y14) -> 2.9534884 | AX14: =IF(AF14 = 0, "", AH14 / AF14) -> 3.097561 | AY14: =IF(AM14 = 0, "", AO14 / AM14) | BA14: =VLOOKUP(A14, ALL_AP_DATA!$A$2:$F$3600, 6, FALSE) -> 596 | BB14: =VLOOKUP(A14, projmetadata!$A$2:$D$2036, 4, FALSE) -> 34114 | BC14: {=_xludf.IFS(I14<>0, F14/I14, P14<>0, M14/P14, W14<>0, T14/W14, AD14<>0, AA14/AD14, AK14<>0, AH14/AK14, AR14<>0, AO14/AR14, TRUE, 0)} -> #NAME? | BE14: =BC14/BB14 -> #NAME? | BF14: =BC14/BA14 -> #NAME? | BG14: =BI14/BB14 -> 0.099753767 | BH14: =VLOOKUP(A14, ALL_AP_DATA!$A$2:$D$3600, 3, FALSE) -> 333 | BI14: =VLOOKUP(A14, ALL_AP_DATA!$A$2:$E$3600, 5, FALSE) -> 3403 | BJ14: =BI14/BA14 -> 5.7097315 | BK14: =BH14/BA14 -> 0.55872483
A15: AndPermission | B15: java | C15: 1 | D15: 24 | E15: 8 | F15: 876 | G15: 0.2286 | H15: 0.2424 | I15: 0.1847 | Q15: 5 | R15: 18 | S15: 16 | T15: 2076 | U15: 0.1714 | V15: 0.4848 | W15: 0.4376 | X15: 9 | Y15: 41 | Z15: 16 | AA15: 1649 | AB15: 0.3905 | AC15: 0.4848 | AD15: 0.3476 | AE15: 7 | AF15: 44 | AG15: 23 | AH15: 1443 | AI15: 0.419 | AJ15: 0.697 | AK15: 0.3042 | AT15: =IF(D15 = 0, "", F15 / D15) -> 36.5 | AU15: =IF(K15 = 0, "", M15 / K15) | AV15: =IF(R15 = 0, "", T15 / R15) -> 115.33333 | AW15: =IF(Y15 = 0, "", AA15 / Y15) -> 40.219512 | AX15: =IF(AF15 = 0, "", AH15 / AF15) -> 32.795455 | AY15: =IF(AM15 = 0, "", AO15 / AM15) | BA15: =VLOOKUP(A15, ALL_AP_DATA!$A$2:$F$3600, 6, FALSE) -> 105 | BB15: =VLOOKUP(A15, projmetadata!$A$2:$D$2036, 4, FALSE) -> 4632 | BC15: {=_xludf.IFS(I15<>0, F15/I15, P15<>0, M15/P15, W15<>0, T15/W15, AD15<>0, AA15/AD15, AK15<>0, AH15/AK15, AR15<>0, AO15/AR15, TRUE, 0)} -> #NAME? | BE15: =BC15/BB15 -> #NAME? | BF15: =BC15/BA15 -> #NAME? | BG15: =BI15/BB15 -> 1.0241796 | BH15: =VLOOKUP(A15, ALL_AP_DATA!$A$2:$D$3600, 3, FALSE) -> 76 | BI15: =VLOOKUP(A15, ALL_AP_DATA!$A$2:$E$3600, 5, FALSE) -> 4744 | BJ15: =BI15/BA15 -> 45.180952 | BK15: =BH15/BA15 -> 0.72380952
A16: AndServer | B16: java | C16: 5 | D16: 18 | E16: 2 | F16: 45 | G16: 0.0968 | H16: 0.5 | I16: 0.3982 | X16: 10 | Y16: 58 | Z16: 1 | AA16: 6 | AB16: 0.3118 | AC16: 0.25 | AD16: 0.0531 | AE16: 22 | AF16: 61 | AG16: 2 | AH16: 17 | AI16: 0.328 | AJ16: 0.5 | AK16: 0.1504 | AT16: =IF(D16 = 0, "", F16 / D16) -> 2.5 | AU16: =IF(K16 = 0, "", M16 / K16) | AV16: =IF(R16 = 0, "", T16 / R16) | AW16: =IF(Y16 = 0, "", AA16 / Y16) -> 0.10344828 | AX16: =IF(AF16 = 0, "", AH16 / AF16) -> 0.27868852 | AY16: =IF(AM16 = 0, "", AO16 / AM16) | BA16: =VLOOKUP(A16, ALL_AP_DATA!$A$2:$F$3600, 6, FALSE) -> 186 | BB16: =VLOOKUP(A16, projmetadata!$A$2:$D$2036, 4, FALSE) -> 13682 | BC16: {=_xludf.IFS(I16<>0, F16/I16, P16<>0, M16/P16, W16<>0, T16/W16, AD16<>0, AA16/AD16, AK16<>0, AH16/AK16, AR16<>0, AO16/AR16, TRUE, 0)} -> #NAME? | BE16: =BC16/BB16 -> #NAME? | BF16: =BC16/BA16 -> #NAME? | BG16: =BI16/BB16 -> 0.0082590265 | BH16: =VLOOKUP(A16, ALL_AP_DATA!$A$2:$D$3600, 3, FALSE) -> 94 | BI16: =VLOOKUP(A16, ALL_AP_DATA!$A$2:$E$3600, 5, FALSE) -> 113 | BJ16: =BI16/BA16 -> 0.60752688 | BK16: =BH16/BA16 -> 0.50537634
A17: Android-ZBLibrary | B17: java | C17: 5 | D17: 16 | E17: 3 | F17: 27 | G17: 0.1019 | H17: 0.1667 | I17: 0.0081 | Q17: 3 | R17: 8 | S17: 7 | T17: 2391 | U17: 0.051 | V17: 0.3889 | W17: 0.7215 | X17: 8 | Y17: 59 | Z17: 12 | AA17: 2640 | AB17: 0.3758 | AC17: 0.6667 | AD17: 0.7966 | AE17: 17 | AF17: 59 | AG17: 10 | AH17: 2612 | AI17: 0.3758 | AJ17: 0.5556 | AK17: 0.7882 | AT17: =IF(D17 = 0, "", F17 / D17) -> 1.6875 | AU17: =IF(K17 = 0, "", M17 / K17) | AV17: =IF(R17 = 0, "", T17 / R17) -> 298.875 | AW17: =IF(Y17 = 0, "", AA17 / Y17) -> 44.745763 | AX17: =IF(AF17 = 0, "", AH17 / AF17) -> 44.271186 | AY17: =IF(AM17 = 0, "", AO17 / AM17) | BA17: =VLOOKUP(A17, ALL_AP_DATA!$A$2:$F$3600, 6, FALSE) -> 157 | BB17: =VLOOKUP(A17, projmetadata!$A$2:$D$2036, 4, FALSE) -> 15257 | BC17: {=_xludf.IFS(I17<>0, F17/I17, P17<>0, M17/P17, W17<>0, T17/W17, AD17<>0, AA17/AD17, AK17<>0, AH17/AK17, AR17<>0, AO17/AR17, TRUE, 0)} -> #NAME? | BE17: =BC17/BB17 -> #NAME? | BF17: =BC17/BA17 -> #NAME? | BG17: =BI17/BB17 -> 0.21721177 | BH17: =VLOOKUP(A17, ALL_AP_DATA!$A$2:$D$3600, 3, FALSE) -> 83 | BI17: =VLOOKUP(A17, ALL_AP_DATA!$A$2:$E$3600, 5, FALSE) -> 3314 | BJ17: =BI17/BA17 -> 21.10828 | BK17: =BH17/BA17 -> 0.52866242
A18: AndroidFire | B18: java | C18: 8 | D18: 25 | E18: 0 | F18: 0 | G18: 0.0877 | H18: 0 | I18: 0 | X18: 14 | Y18: 62 | Z18: 0 | AA18: 0 | AB18: 0.2175 | AC18: 0 | AD18: 0 | AE18: 11 | AF18: 49 | AG18: 0 | AH18: 0 | AI18: 0.1719 | AJ18: 0 | AK18: 0 | AT18: =IF(D18 = 0, "", F18 / D18) -> 0 | AU18: =IF(K18 = 0, "", M18 / K18) | AV18: =IF(R18 = 0, "", T18 / R18) | AW18: =IF(Y18 = 0, "", AA18 / Y18) -> 0 | AX18: =IF(AF18 = 0, "", AH18 / AF18) -> 0 | AY18: =IF(AM18 = 0, "", AO18 / AM18) | BA18: =VLOOKUP(A18, ALL_AP_DATA!$A$2:$F$3600, 6, FALSE) -> 285 | BB18: =VLOOKUP(A18, projmetadata!$A$2:$D$2036, 4, FALSE) -> 25247 | BC18: {=_xludf.IFS(I18<>0, F18/I18, P18<>0, M18/P18, W18<>0, T18/W18, AD18<>0, AA18/AD18, AK18<>0, AH18/AK18, AR18<>0, AO18/AR18, TRUE, 0)} -> #NAME? | BE18: =BC18/BB18 -> #NAME? | BF18: =BC18/BA18 -> #NAME? | BG18: =BI18/BB18 -> 0 | BH18: =VLOOKUP(A18, ALL_AP_DATA!$A$2:$D$3600, 3, FALSE) -> 100 | BI18: =VLOOKUP(A18, ALL_AP_DATA!$A$2:$E$3600, 5, FALSE) -> 0 | BJ18: =BI18/BA18 -> 0 | BK18: =BH18/BA18 -> 0.35087719
A19: AndroidPicker | B19: java | C19: 2 | D19: 11 | E19: 10 | F19: 6097 | G19: 0.0663 | H19: 0.2041 | I19: 0.5387 | Q19: 10 | R19: 34 | S19: 44 | T19: 3321 | U19: 0.2048 | V19: 0.898 | W19: 0.2935 | X19: 4 | Y19: 19 | Z19: 27 | AA19: 2188 | AB19: 0.1145 | AC19: 0.551 | AD19: 0.1933 | AE19: 18 | AF19: 55 | AG19: 35 | AH19: 4745 | AI19: 0.3313 | AJ19: 0.7143 | AK19: 0.4193 | AL19: 1 | AM19: 13 | AN19: 31 | AO19: 1977 | AP19: 0.0783 | AQ19: 0.6327 | AR19: 0.1747 | AT19: =IF(D19 = 0, "", F19 / D19) -> 554.27273 | AU19: =IF(K19 = 0, "", M19 / K19) | AV19: =IF(R19 = 0, "", T19 / R19) -> 97.676471 | AW19: =IF(Y19 = 0, "", AA19 / Y19) -> 115.15789 | AX19: =IF(AF19 = 0, "", AH19 / AF19) -> 86.272727 | AY19: =IF(AM19 = 0, "", AO19 / AM19) -> 152.07692 | BA19: =VLOOKUP(A19, ALL_AP_DATA!$A$2:$F$3600, 6, FALSE) -> 166 | BB19: =VLOOKUP(A19, projmetadata!$A$2:$D$2036, 4, FALSE) -> 14688 | BC19: {=_xludf.IFS(I19<>0, F19/I19, P19<>0, M19/P19, W19<>0, T19/W19, AD19<>0, AA19/AD19, AK19<>0, AH19/AK19, AR19<>0, AO19/AR19, TRUE, 0)} -> #NAME? | BE19: =BC19/BB19 -> #NAME? | BF19: =BC19/BA19 -> #NAME? | BG19: =BI19/BB19 -> 0.77049292 | BH19: =VLOOKUP(A19, ALL_AP_DATA!$A$2:$D$3600, 3, FALSE) -> 86 | BI19: =VLOOKUP(A19, ALL_AP_DATA!$A$2:$E$3600, 5, FALSE) -> 11317 | BJ19: =BI19/BA19 -> 68.174699 | BK19: =BH19/BA19 -> 0.51807229
A20: AndroidUtilCode | B20: java | C20: 10 | D20: 46 | E20: 35 | F20: 1650 | G20: 0.1673 | H20: 0.7 | I20: 0.4651 | J20: 1 | K20: 5 | L20: 16 | M20: 518 | N20: 0.0182 | O20: 0.32 | P20: 0.146 | Q20: 10 | R20: 22 | S20: 34 | T20: 1750 | U20: 0.08 | V20: 0.68 | W20: 0.4932 | X20: 12 | Y20: 86 | Z20: 32 | AA20: 1625 | AB20: 0.3127 | AC20: 0.64 | AD20: 0.458 | AE20: 10 | AF20: 47 | AG20: 23 | AH20: 353 | AI20: 0.1709 | AJ20: 0.46 | AK20: 0.0995 | AT20: =IF(D20 = 0, "", F20 / D20) -> 35.869565 | AU20: =IF(K20 = 0, "", M20 / K20) -> 103.6 | AV20: =IF(R20 = 0, "", T20 / R20) -> 79.545455 | AW20: =IF(Y20 = 0, "", AA20 / Y20) -> 18.895349 | AX20: =IF(AF20 = 0, "", AH20 / AF20) -> 7.5106383 | AY20: =IF(AM20 = 0, "", AO20 / AM20) | BA20: =VLOOKUP(A20, ALL_AP_DATA!$A$2:$F$3600, 6, FALSE) -> 275 | BB20: =VLOOKUP(A20, projmetadata!$A$2:$D$2036, 4, FALSE) -> 38335 | BC20: {=_xludf.IFS(I20<>0, F20/I20, P20<>0, M20/P20, W20<>0, T20/W20, AD20<>0, AA20/AD20, AK20<>0, AH20/AK20, AR20<>0, AO20/AR20, TRUE, 0)} -> #NAME? | BE20: =BC20/BB20 -> #NAME? | BF20: =BC20/BA20 -> #NAME? | BG20: =BI20/BB20 -> 0.092552498 | BH20: =VLOOKUP(A20, ALL_AP_DATA!$A$2:$D$3600, 3, FALSE) -> 143 | BI20: =VLOOKUP(A20, ALL_AP_DATA!$A$2:$E$3600, 5, FALSE) -> 3548 | BJ20: =BI20/BA20 -> 12.901818 | BK20: =BH20/BA20 -> 0.52
A21: AppAuth-Android | B21: java | C21: 3 | D21: 12 | E21: 16 | F21: 981 | G21: 0.1188 | H21: 0.5926 | I21: 0.3952 | Q21: 3 | R21: 7 | S21: 11 | T21: 1109 | U21: 0.0693 | V21: 0.4074 | W21: 0.4468 | X21: 2 | Y21: 15 | Z21: 13 | AA21: 832 | AB21: 0.1485 | AC21: 0.4815 | AD21: 0.3352 | AE21: 5 | AF21: 22 | AG21: 7 | AH21: 283 | AI21: 0.2178 | AJ21: 0.2593 | AK21: 0.114 | AT21: =IF(D21 = 0, "", F21 / D21) -> 81.75 | AU21: =IF(K21 = 0, "", M21 / K21) | AV21: =IF(R21 = 0, "", T21 / R21) -> 158.42857 | AW21: =IF(Y21 = 0, "", AA21 / Y21) -> 55.466667 | AX21: =IF(AF21 = 0, "", AH21 / AF21) -> 12.863636 | AY21: =IF(AM21 = 0, "", AO21 / AM21) | BA21: =VLOOKUP(A21, ALL_AP_DATA!$A$2:$F$3600, 6, FALSE) -> 101 | BB21: =VLOOKUP(A21, projmetadata!$A$2:$D$2036, 4, FALSE) -> 14353 | BC21: {=_xludf.IFS(I21<>0, F21/I21, P21<>0, M21/P21, W21<>0, T21/W21, AD21<>0, AA21/AD21, AK21<>0, AH21/AK21, AR21<>0, AO21/AR21, TRUE, 0)} -> #NAME? | BE21: =BC21/BB21 -> #NAME? | BF21: =BC21/BA21 -> #NAME? | BG21: =BI21/BB21 -> 0.17292552 | BH21: =VLOOKUP(A21, ALL_AP_DATA!$A$2:$D$3600, 3, FALSE) -> 38 | BI21: =VLOOKUP(A21, ALL_AP_DATA!$A$2:$E$3600, 5, FALSE) -> 2482 | BJ21: =BI21/BA21 -> 24.574257 | BK21: =BH21/BA21 -> 0.37623762
A22: Applied-Energistics-2 | B22: java | C22: 11 | D22: 629 | E22: 553 | F22: 38345 | G22: 0.4652 | H22: 0.8379 | I22: 0.5658 | J22: 10 | K22: 78 | L22: 314 | M22: 22268 | N22: 0.0577 | O22: 0.4758 | P22: 0.3286 | Q22: 76 | R22: 334 | S22: 537 | T22: 51072 | U22: 0.247 | V22: 0.8136 | W22: 0.7536 | X22: 170 | Y22: 695 | Z22: 560 | AA22: 35970 | AB22: 0.5141 | AC22: 0.8485 | AD22: 0.5308 | AE22: 126 | AF22: 526 | AG22: 511 | AH22: 39501 | AI22: 0.3891 | AJ22: 0.7742 | AK22: 0.5829 | AL22: 4 | AM22: 103 | AN22: 360 | AO22: 24212 | AP22: 0.0762 | AQ22: 0.5455 | AR22: 0.3573 | AT22: =IF(D22 = 0, "", F22 / D22) -> 60.961844 | AU22: =IF(K22 = 0, "", M22 / K22) -> 285.48718 | AV22: =IF(R22 = 0, "", T22 / R22) -> 152.91018 | AW22: =IF(Y22 = 0, "", AA22 / Y22) -> 51.755396 | AX22: =IF(AF22 = 0, "", AH22 / AF22) -> 75.096958 | AY22: =IF(AM22 = 0, "", AO22 / AM22) -> 235.06796 | BA22: =VLOOKUP(A22, ALL_AP_DATA!$A$2:$F$3600, 6, FALSE) -> 1352 | BB22: =VLOOKUP(A22, projmetadata!$A$2:$D$2036, 4, FALSE) -> 98334 | BC22: {=_xludf.IFS(I22<>0, F22/I22, P22<>0, M22/P22, W22<>0, T22/W22, AD22<>0, AA22/AD22, AK22<>0, AH22/AK22, AR22<>0, AO22/AR22, TRUE, 0)} -> #NAME? | BE22: =BC22/BB22 -> #NAME? | BF22: =BC22/BA22 -> #NAME? | BG22: =BI22/BB22 -> 0.6891716 | BH22: =VLOOKUP(A22, ALL_AP_DATA!$A$2:$D$3600, 3, FALSE) -> 1025 | BI22: =VLOOKUP(A22, ALL_AP_DATA!$A$2:$E$3600, 5, FALSE) -> 67769 | BJ22: =BI22/BA22 -> 50.125 | BK22: =BH22/BA22 -> 0.75813609
A23: Arcade-Learning-Environment | B23: cpp | X23: 4 | Y23: 248 | Z23: 2 | AA23: 17 | AB23: 0.7066 | AC23: 0.4 | AD23: 0.0409 | AE23: 2 | AF23: 109 | AG23: 0 | AH23: 0 | AI23: 0.3105 | AJ23: 0 | AK23: 0 | AT23: =IF(D23 = 0, "", F23 / D23) | AU23: =IF(K23 = 0, "", M23 / K23) | AV23: =IF(R23 = 0, "", T23 / R23) | AW23: =IF(Y23 = 0, "", AA23 / Y23) -> 0.068548387 | AX23: =IF(AF23 = 0, "", AH23 / AF23) -> 0 | AY23: =IF(AM23 = 0, "", AO23 / AM23) | BA23: =VLOOKUP(A23, ALL_AP_DATA!$A$2:$F$3600, 6, FALSE) -> 351 | BB23: =VLOOKUP(A23, projmetadata!$A$2:$D$2036, 4, FALSE) -> 29580 | BC23: {=_xludf.IFS(I23<>0, F23/I23, P23<>0, M23/P23, W23<>0, T23/W23, AD23<>0, AA23/AD23, AK23<>0, AH23/AK23, AR23<>0, AO23/AR23, TRUE, 0)} -> #NAME? | BE23: =BC23/BB23 -> #NAME? | BF23: =BC23/BA23 -> #NAME? | BG23: =BI23/BB23 -> 0.014063556 | BH23: =VLOOKUP(A23, ALL_AP_DATA!$A$2:$D$3600, 3, FALSE) -> 251 | BI23: =VLOOKUP(A23, ALL_AP_DATA!$A$2:$E$3600, 5, FALSE) -> 416 | BJ23: =BI23/BA23 -> 1.1851852 | BK23: =BH23/BA23 -> 0.71509972
A24: ArchUnit | B24: java | C24: 17 | D24: 173 | E24: 121 | F24: 9375 | G24: 0.1446 | H24: 0.7658 | I24: 0.4058 | J24: 4 | K24: 45 | L24: 104 | M24: 8204 | N24: 0.0376 | O24: 0.6582 | P24: 0.3551 | Q24: 26 | R24: 96 | S24: 126 | T24: 12673 | U24: 0.0803 | V24: 0.7975 | W24: 0.5485 | X24: 115 | Y24: 382 | Z24: 133 | AA24: 14769 | AB24: 0.3194 | AC24: 0.8418 | AD24: 0.6392 | AE24: 106 | AF24: 423 | AG24: 139 | AH24: 14816 | AI24: 0.3537 | AJ24: 0.8797 | AK24: 0.6412 | AL24: 4 | AM24: 51 | AN24: 112 | AO24: 8844 | AP24: 0.0426 | AQ24: 0.7089 | AR24: 0.3828 | AT24: =IF(D24 = 0, "", F24 / D24) -> 54.190751 | AU24: =IF(K24 = 0, "", M24 / K24) -> 182.31111 | AV24: =IF(R24 = 0, "", T24 / R24) -> 132.01042 | AW24: =IF(Y24 = 0, "", AA24 / Y24) -> 38.662304 | AX24: =IF(AF24 = 0, "", AH24 / AF24) -> 35.026005 | AY24: =IF(AM24 = 0, "", AO24 / AM24) -> 173.41176 | BA24: =VLOOKUP(A24, ALL_AP_DATA!$A$2:$F$3600, 6, FALSE) -> 1196 | BB24: =VLOOKUP(A24, projmetadata!$A$2:$D$2036, 4, FALSE) -> 85302 | BC24: {=_xludf.IFS(I24<>0, F24/I24, P24<>0, M24/P24, W24<>0, T24/W24, AD24<>0, AA24/AD24, AK24<>0, AH24/AK24, AR24<>0, AO24/AR24, TRUE, 0)} -> #NAME? | BE24: =BC24/BB24 -> #NAME? | BF24: =BC24/BA24 -> #NAME? | BG24: =BI24/BB24 -> 0.27086118 | BH24: =VLOOKUP(A24, ALL_AP_DATA!$A$2:$D$3600, 3, FALSE) -> 649 | BI24: =VLOOKUP(A24, ALL_AP_DATA!$A$2:$E$3600, 5, FALSE) -> 23105 | BJ24: =BI24/BA24 -> 19.318562 | BK24: =BH24/BA24 -> 0.54264214
A25: Arduino | B25: cpp | C25: 2 | D25: 9 | E25: 6 | F25: 144 | G25: 0.0177 | H25: 0.0333 | I25: 0.0105 | Q25: 10 | R25: 26 | S25: 61 | T25: 5492 | U25: 0.0511 | V25: 0.3389 | W25: 0.4 | X25: 18 | Y25: 205 | Z25: 141 | AA25: 9215 | AB25: 0.4028 | AC25: 0.7833 | AD25: 0.6712 | AE25: 24 | AF25: 101 | AG25: 115 | AH25: 6519 | AI25: 0.1984 | AJ25: 0.6389 | AK25: 0.4748 | AT25: =IF(D25 = 0, "", F25 / D25) -> 16 | AU25: =IF(K25 = 0, "", M25 / K25) | AV25: =IF(R25 = 0, "", T25 / R25) -> 211.23077 | AW25: =IF(Y25 = 0, "", AA25 / Y25) -> 44.95122 | AX25: =IF(AF25 = 0, "", AH25 / AF25) -> 64.544554 | AY25: =IF(AM25 = 0, "", AO25 / AM25) | BA25: =VLOOKUP(A25, ALL_AP_DATA!$A$2:$F$3600, 6, FALSE) -> 509 | BB25: =VLOOKUP(A25, projmetadata!$A$2:$D$2036, 4, FALSE) -> 84032 | BC25: {=_xludf.IFS(I25<>0, F25/I25, P25<>0, M25/P25, W25<>0, T25/W25, AD25<>0, AA25/AD25, AK25<>0, AH25/AK25, AR25<>0, AO25/AR25, TRUE, 0)} -> #NAME? | BE25: =BC25/BB25 -> #NAME? | BF25: =BC25/BA25 -> #NAME? | BG25: =BI25/BB25 -> 0.16339014 | BH25: =VLOOKUP(A25, ALL_AP_DATA!$A$2:$D$3600, 3, FALSE) -> 274 | BI25: =VLOOKUP(A25, ALL_AP_DATA!$A$2:$E$3600, 5, FALSE) -> 13730 | BJ25: =BI25/BA25 -> 26.97446 | BK25: =BH25/BA25 -> 0.53831041
A26: ArduinoJson | B26: cpp | J26: 1 | K26: 14 | L26: 44 | M26: 1126 | N26: 0.045 | O26: 0.4112 | P26: 0.189 | Q26: 15 | R26: 55 | S26: 73 | T26: 3572 | U26: 0.1768 | V26: 0.6822 | W26: 0.5995 | X26: 12 | Y26: 55 | Z26: 62 | AA26: 2526 | AB26: 0.1768 | AC26: 0.5794 | AD26: 0.424 | AE26: 2 | AF26: 7 | AG26: 20 | AH26: 477 | AI26: 0.0225 | AJ26: 0.1869 | AK26: 0.0801 | AT26: =IF(D26 = 0, "", F26 / D26) | AU26: =IF(K26 = 0, "", M26 / K26) -> 80.428571 | AV26: =IF(R26 = 0, "", T26 / R26) -> 64.945455 | AW26: =IF(Y26 = 0, "", AA26 / Y26) -> 45.927273 | AX26: =IF(AF26 = 0, "", AH26 / AF26) -> 68.142857 | AY26: =IF(AM26 = 0, "", AO26 / AM26) | BA26: =VLOOKUP(A26, ALL_AP_DATA!$A$2:$F$3600, 6, FALSE) -> 311 | BB26: =VLOOKUP(A26, projmetadata!$A$2:$D$2036, 4, FALSE) -> 29771 | BC26: {=_xludf.IFS(I26<>0, F26/I26, P26<>0, M26/P26, W26<>0, T26/W26, AD26<>0, AA26/AD26, AK26<>0, AH26/AK26, AR26<>0, AO26/AR26, TRUE, 0)} -> #NAME? | BE26: =BC26/BB26 -> #NAME? | BF26: =BC26/BA26 -> #NAME? | BG26: =BI26/BB26 -> 0.20012764 | BH26: =VLOOKUP(A26, ALL_AP_DATA!$A$2:$D$3600, 3, FALSE) -> 85 | BI26: =VLOOKUP(A26, ALL_AP_DATA!$A$2:$E$3600, 5, FALSE) -> 5958 | BJ26: =BI26/BA26 -> 19.157556 | BK26: =BH26/BA26 -> 0.2733119
A27: Aria | B27: java | C27: 11 | D27: 76 | E27: 44 | F27: 1614 | G27: 0.1301 | H27: 0.6769 | I27: 0.2009 | Q27: 13 | R27: 65 | S27: 58 | T27: 4818 | U27: 0.1113 | V27: 0.8923 | W27: 0.5996 | X27: 51 | Y27: 226 | Z27: 55 | AA27: 3660 | AB27: 0.387 | AC27: 0.8462 | AD27: 0.4555 | AE27: 63 | AF27: 280 | AG27: 62 | AH27: 6368 | AI27: 0.4795 | AJ27: 0.9538 | AK27: 0.7925 | AT27: =IF(D27 = 0, "", F27 / D27) -> 21.236842 | AU27: =IF(K27 = 0, "", M27 / K27) | AV27: =IF(R27 = 0, "", T27 / R27) -> 74.123077 | AW27: =IF(Y27 = 0, "", AA27 / Y27) -> 16.19469 | AX27: =IF(AF27 = 0, "", AH27 / AF27) -> 22.742857 | AY27: =IF(AM27 = 0, "", AO27 / AM27) | BA27: =VLOOKUP(A27, ALL_AP_DATA!$A$2:$F$3600, 6, FALSE) -> 584 | BB27: =VLOOKUP(A27, projmetadata!$A$2:$D$2036, 4, FALSE) -> 45634 | BC27: {=_xludf.IFS(I27<>0, F27/I27, P27<>0, M27/P27, W27<>0, T27/W27, AD27<>0, AA27/AD27, AK27<>0, AH27/AK27, AR27<>0, AO27/AR27, TRUE, 0)} -> #NAME? | BE27: =BC27/BB27 -> #NAME? | BF27: =BC27/BA27 -> #NAME? | BG27: =BI27/BB27 -> 0.17607486 | BH27: =VLOOKUP(A27, ALL_AP_DATA!$A$2:$D$3600, 3, FALSE) -> 385 | BI27: =VLOOKUP(A27, ALL_AP_DATA!$A$2:$E$3600, 5, FALSE) -> 8035 | BJ27: =BI27/BA27 -> 13.758562 | BK27: =BH27/BA27 -> 0.65924658
A28: AtomicGameEngine | B28: cpp | C28: 5 | D28: 19 | E28: 0 | F28: 0 | G28: 0.0035 | H28: 0 | I28: 0 | J28: 1 | K28: 12 | L28: 24 | M28: 1304 | N28: 0.0022 | O28: 0.0468 | P28: 0.0102 | Q28: 40 | R28: 156 | S28: 369 | T28: 29539 | U28: 0.0285 | V28: 0.7193 | W28: 0.2307 | X28: 132 | Y28: 2249 | Z28: 358 | AA28: 19489 | AB28: 0.4113 | AC28: 0.6979 | AD28: 0.1522 | AE28: 145 | AF28: 1007 | AG28: 424 | AH28: 20854 | AI28: 0.1842 | AJ28: 0.8265 | AK28: 0.1629 | AT28: =IF(D28 = 0, "", F28 / D28) -> 0 | AU28: =IF(K28 = 0, "", M28 / K28) -> 108.66667 | AV28: =IF(R28 = 0, "", T28 / R28) -> 189.35256 | AW28: =IF(Y28 = 0, "", AA28 / Y28) -> 8.6656292 | AX28: =IF(AF28 = 0, "", AH28 / AF28) -> 20.709037 | AY28: =IF(AM28 = 0, "", AO28 / AM28) | BA28: =VLOOKUP(A28, ALL_AP_DATA!$A$2:$F$3600, 6, FALSE) -> 5468 | BB28: =VLOOKUP(A28, projmetadata!$A$2:$D$2036, 4, FALSE) -> 1433346 | BC28: {=_xludf.IFS(I28<>0, F28/I28, P28<>0, M28/P28, W28<>0, T28/W28, AD28<>0, AA28/AD28, AK28<>0, AH28/AK28, AR28<>0, AO28/AR28, TRUE, 0)} -> #NAME? | BE28: =BC28/BB28 -> #NAME? | BF28: =BC28/BA28 -> #NAME? | BG28: =BI28/BB28 -> 0.089314094 | BH28: =VLOOKUP(A28, ALL_AP_DATA!$A$2:$D$3600, 3, FALSE) -> 2646 | BI28: =VLOOKUP(A28, ALL_AP_DATA!$A$2:$E$3600, 5, FALSE) -> 128018 | BJ28: =BI28/BA28 -> 23.412217 | BK28: =BH28/BA28 -> 0.48390636
A29: Auto.js | B29: java | C29: 13 | D29: 114 | E29: 0 | F29: 0 | G29: 0.2065 | H29: 0 | I29: 0 | X29: 31 | Y29: 133 | Z29: 0 | AA29: 0 | AB29: 0.2409 | AC29: 0 | AD29: 0 | AE29: 49 | AF29: 161 | AG29: 0 | AH29: 0 | AI29: 0.2917 | AJ29: 0 | AK29: 0 | AT29: =IF(D29 = 0, "", F29 / D29) -> 0 | AU29: =IF(K29 = 0, "", M29 / K29) | AV29: =IF(R29 = 0, "", T29 / R29) | AW29: =IF(Y29 = 0, "", AA29 / Y29) -> 0 | AX29: =IF(AF29 = 0, "", AH29 / AF29) -> 0 | AY29: =IF(AM29 = 0, "", AO29 / AM29) | BA29: =VLOOKUP(A29, ALL_AP_DATA!$A$2:$F$3600, 6, FALSE) -> 552 | BB29: =VLOOKUP(A29, projmetadata!$A$2:$D$2036, 4, FALSE) -> 51886 | BC29: {=_xludf.IFS(I29<>0, F29/I29, P29<>0, M29/P29, W29<>0, T29/W29, AD29<>0, AA29/AD29, AK29<>0, AH29/AK29, AR29<>0, AO29/AR29, TRUE, 0)} -> #NAME? | BE29: =BC29/BB29 -> #NAME? | BF29: =BC29/BA29 -> #NAME? | BG29: =BI29/BB29 -> 0 | BH29: =VLOOKUP(A29, ALL_AP_DATA!$A$2:$D$3600, 3, FALSE) -> 248 | BI29: =VLOOKUP(A29, ALL_AP_DATA!$A$2:$E$3600, 5, FALSE) -> 0 | BJ29: =BI29/BA29 -> 0 | BK29: =BH29/BA29 -> 0.44927536
A30: AutoHotkey_L | B30: cpp | C30: 1 | D30: 5 | E30: 35 | F30: 559 | G30: 0.0459 | H30: 0.2692 | I30: 0.1668 | J30: 2 | K30: 12 | L30: 93 | M30: 2352 | N30: 0.1101 | O30: 0.7154 | P30: 0.7019 | X30: 1 | Y30: 6 | Z30: 21 | AA30: 647 | AB30: 0.055 | AC30: 0.1615 | AD30: 0.1931 | AE30: 3 | AF30: 23 | AG30: 94 | AH30: 2324 | AI30: 0.211 | AJ30: 0.7231 | AK30: 0.6935 | AT30: =IF(D30 = 0, "", F30 / D30) -> 111.8 | AU30: =IF(K30 = 0, "", M30 / K30) -> 196 | AV30: =IF(R30 = 0, "", T30 / R30) | AW30: =IF(Y30 = 0, "", AA30 / Y30) -> 107.83333 | AX30: =IF(AF30 = 0, "", AH30 / AF30) -> 101.04348 | AY30: =IF(AM30 = 0, "", AO30 / AM30) | BA30: =VLOOKUP(A30, ALL_AP_DATA!$A$2:$F$3600, 6, FALSE) -> 109 | BB30: =VLOOKUP(A30, projmetadata!$A$2:$D$2036, 4, FALSE) -> 92977 | BC30: {=_xludf.IFS(I30<>0, F30/I30, P30<>0, M30/P30, W30<>0, T30/W30, AD30<>0, AA30/AD30, AK30<>0, AH30/AK30, AR30<>0, AO30/AR30, TRUE, 0)} -> #NAME? | BE30: =BC30/BB30 -> #NAME? | BF30: =BC30/BA30 -> #NAME? | BG30: =BI30/BB30 -> 0.036041171 | BH30: =VLOOKUP(A30, ALL_AP_DATA!$A$2:$D$3600, 3, FALSE) -> 31 | BI30: =VLOOKUP(A30, ALL_AP_DATA!$A$2:$E$3600, 5, FALSE) -> 3351 | BJ30: =BI30/BA30 -> 30.743119 | BK30: =BH30/BA30 -> 0.28440367
A31: AutoLoadCache | B31: java | C31: 2 | D31: 9 | E31: 23 | F31: 2745 | G31: 0.0629 | H31: 0.5897 | I31: 0.3703 | J31: 1 | K31: 10 | L31: 25 | M31: 2724 | N31: 0.0699 | O31: 0.641 | P31: 0.3675 | Q31: 8 | R31: 32 | S31: 35 | T31: 5766 | U31: 0.2238 | V31: 0.8974 | W31: 0.7779 | X31: 3 | Y31: 24 | Z31: 24 | AA31: 2871 | AB31: 0.1678 | AC31: 0.6154 | AD31: 0.3873 | AE31: 8 | AF31: 33 | AG31: 20 | AH31: 1303 | AI31: 0.2308 | AJ31: 0.5128 | AK31: 0.1758 | AT31: =IF(D31 = 0, "", F31 / D31) -> 305 | AU31: =IF(K31 = 0, "", M31 / K31) -> 272.4 | AV31: =IF(R31 = 0, "", T31 / R31) -> 180.1875 | AW31: =IF(Y31 = 0, "", AA31 / Y31) -> 119.625 | AX31: =IF(AF31 = 0, "", AH31 / AF31) -> 39.484848 | AY31: =IF(AM31 = 0, "", AO31 / AM31) | BA31: =VLOOKUP(A31, ALL_AP_DATA!$A$2:$F$3600, 6, FALSE) -> 143 | BB31: =VLOOKUP(A31, projmetadata!$A$2:$D$2036, 4, FALSE) -> 8496 | BC31: {=_xludf.IFS(I31<>0, F31/I31, P31<>0, M31/P31, W31<>0, T31/W31, AD31<>0, AA31/AD31, AK31<>0, AH31/AK31, AR31<>0, AO31/AR31, TRUE, 0)} -> #NAME? | BE31: =BC31/BB31 -> #NAME? | BF31: =BC31/BA31 -> #NAME? | BG31: =BI31/BB31 -> 0.87241055 | BH31: =VLOOKUP(A31, ALL_AP_DATA!$A$2:$D$3600, 3, FALSE) -> 68 | BI31: =VLOOKUP(A31, ALL_AP_DATA!$A$2:$E$3600, 5, FALSE) -> 7412 | BJ31: =BI31/BA31 -> 51.832168 | BK31: =BH31/BA31 -> 0.47552448
A32: AxonFramework | B32: java | C32: 19 | D32: 58 | E32: 66 | F32: 1673 | G32: 0.0385 | H32: 0.165 | I32: 0.0558 | Q32: 27 | R32: 123 | S32: 290 | T32: 19272 | U32: 0.0816 | V32: 0.725 | W32: 0.6431 | X32: 31 | Y32: 347 | Z32: 250 | AA32: 11318 | AB32: 0.2303 | AC32: 0.625 | AD32: 0.3777 | AE32: 176 | AF32: 761 | AG32: 360 | AH32: 23803 | AI32: 0.505 | AJ32: 0.9 | AK32: 0.7943 | AL32: 2 | AM32: 30 | AN32: 105 | AO32: 6498 | AP32: 0.0199 | AQ32: 0.2625 | AR32: 0.2168 | AT32: =IF(D32 = 0, "", F32 / D32) -> 28.844828 | AU32: =IF(K32 = 0, "", M32 / K32) | AV32: =IF(R32 = 0, "", T32 / R32) -> 156.68293 | AW32: =IF(Y32 = 0, "", AA32 / Y32) -> 32.616715 | AX32: =IF(AF32 = 0, "", AH32 / AF32) -> 31.278581 | AY32: =IF(AM32 = 0, "", AO32 / AM32) -> 216.6 | BA32: =VLOOKUP(A32, ALL_AP_DATA!$A$2:$F$3600, 6, FALSE) -> 1507 | BB32: =VLOOKUP(A32, projmetadata!$A$2:$D$2036, 4, FALSE) -> 110225 | BC32: {=_xludf.IFS(I32<>0, F32/I32, P32<>0, M32/P32, W32<>0, T32/W32, AD32<>0, AA32/AD32, AK32<>0, AH32/AK32, AR32<>0, AO32/AR32, TRUE, 0)} -> #NAME? | BE32: =BC32/BB32 -> #NAME? | BF32: =BC32/BA32 -> #NAME? | BG32: =BI32/BB32 -> 0.2718621 | BH32: =VLOOKUP(A32, ALL_AP_DATA!$A$2:$D$3600, 3, FALSE) -> 901 | BI32: =VLOOKUP(A32, ALL_AP_DATA!$A$2:$E$3600, 5, FALSE) -> 29966 | BJ32: =BI32/BA32 -> 19.884539 | BK32: =BH32/BA32 -> 0.59787658
A33: BIMserver | B33: java | C33: 24 | D33: 419 | E33: 185 | F33: 59045 | G33: 0.0742 | H33: 0.6293 | I33: 0.878 | Q33: 15 | R33: 53 | S33: 111 | T33: 58363 | U33: 0.0094 | V33: 0.3776 | W33: 0.8679 | X33: 60 | Y33: 819 | Z33: 190 | AA33: 6924 | AB33: 0.145 | AC33: 0.6463 | AD33: 0.103 | AE33: 552 | AF33: 2221 | AG33: 215 | AH33: 61370 | AI33: 0.3933 | AJ33: 0.7313 | AK33: 0.9126 | AT33: =IF(D33 = 0, "", F33 / D33) -> 140.91885 | AU33: =IF(K33 = 0, "", M33 / K33) | AV33: =IF(R33 = 0, "", T33 / R33) -> 1101.1887 | AW33: =IF(Y33 = 0, "", AA33 / Y33) -> 8.4542125 | AX33: =IF(AF33 = 0, "", AH33 / AF33) -> 27.631697 | AY33: =IF(AM33 = 0, "", AO33 / AM33) | BA33: =VLOOKUP(A33, ALL_AP_DATA!$A$2:$F$3600, 6, FALSE) -> 5647 | BB33: =VLOOKUP(A33, projmetadata!$A$2:$D$2036, 4, FALSE) -> 417591 | BC33: {=_xludf.IFS(I33<>0, F33/I33, P33<>0, M33/P33, W33<>0, T33/W33, AD33<>0, AA33/AD33, AK33<>0, AH33/AK33, AR33<>0, AO33/AR33, TRUE, 0)} -> #NAME? | BE33: =BC33/BB33 -> #NAME? | BF33: =BC33/BA33 -> #NAME? | BG33: =BI33/BB33 -> 0.16103556 | BH33: =VLOOKUP(A33, ALL_AP_DATA!$A$2:$D$3600, 3, FALSE) -> 2695 | BI33: =VLOOKUP(A33, ALL_AP_DATA!$A$2:$E$3600, 5, FALSE) -> 67247 | BJ33: =BI33/BA33 -> 11.908447 | BK33: =BH33/BA33 -> 0.47724455
A34: Bear | B34: cpp | C34: 1 | D34: 2 | E34: 9 | F34: 475 | G34: 0.0132 | H34: 0.1552 | I34: 0.0609 | Q34: 10 | R34: 59 | S34: 52 | T34: 6991 | U34: 0.3907 | V34: 0.8966 | W34: 0.8957 | X34: 1 | Y34: 11 | Z34: 23 | AA34: 905 | AB34: 0.0728 | AC34: 0.3966 | AD34: 0.116 | AE34: 8 | AF34: 29 | AG34: 36 | AH34: 2041 | AI34: 0.1921 | AJ34: 0.6207 | AK34: 0.2615 | AT34: =IF(D34 = 0, "", F34 / D34) -> 237.5 | AU34: =IF(K34 = 0, "", M34 / K34) | AV34: =IF(R34 = 0, "", T34 / R34) -> 118.49153 | AW34: =IF(Y34 = 0, "", AA34 / Y34) -> 82.272727 | AX34: =IF(AF34 = 0, "", AH34 / AF34) -> 70.37931 | AY34: =IF(AM34 = 0, "", AO34 / AM34) | BA34: =VLOOKUP(A34, ALL_AP_DATA!$A$2:$F$3600, 6, FALSE) -> 151 | BB34: =VLOOKUP(A34, projmetadata!$A$2:$D$2036, 4, FALSE) -> 8799 | BC34: {=_xludf.IFS(I34<>0, F34/I34, P34<>0, M34/P34, W34<>0, T34/W34, AD34<>0, AA34/AD34, AK34<>0, AH34/AK34, AR34<>0, AO34/AR34, TRUE, 0)} -> #NAME? | BE34: =BC34/BB34 -> #NAME? | BF34: =BC34/BA34 -> #NAME? | BG34: =BI34/BB34 -> 0.88703262 | BH34: =VLOOKUP(A34, ALL_AP_DATA!$A$2:$D$3600, 3, FALSE) -> 73 | BI34: =VLOOKUP(A34, ALL_AP_DATA!$A$2:$E$3600, 5, FALSE) -> 7805 | BJ34: =BI34/BA34 -> 51.688742 | BK34: =BH34/BA34 -> 0.48344371
A35: Beef | B35: cpp | C35: 13 | D35: 28 | E35: 0 | F35: 0 | G35: 0.0161 | H35: 0 | I35: 0 | J35: 3 | K35: 24 | L35: 648 | M35: 28540 | N35: 0.0138 | O35: 0.7855 | P35: 0.5821 | Q35: 14 | R35: 56 | S35: 755 | T35: 35436 | U35: 0.0323 | V35: 0.9152 | W35: 0.7227 | X35: 58 | Y35: 496 | Z35: 480 | AA35: 30099 | AB35: 0.2859 | AC35: 0.5818 | AD35: 0.6139 | AE35: 48 | AF35: 238 | AG35: 813 | AH35: 38702 | AI35: 0.1372 | AJ35: 0.9855 | AK35: 0.7893 | AL35: 5 | AM35: 42 | AN35: 728 | AO35: 32153 | AP35: 0.0242 | AQ35: 0.8824 | AR35: 0.6558 | AT35: =IF(D35 = 0, "", F35 / D35) -> 0 | AU35: =IF(K35 = 0, "", M35 / K35) -> 1189.1667 | AV35: =IF(R35 = 0, "", T35 / R35) -> 632.78571 | AW35: =IF(Y35 = 0, "", AA35 / Y35) -> 60.683468 | AX35: =IF(AF35 = 0, "", AH35 / AF35) -> 162.61345 | AY35: =IF(AM35 = 0, "", AO35 / AM35) -> 765.54762 | BA35: =VLOOKUP(A35, ALL_AP_DATA!$A$2:$F$3600, 6, FALSE) -> 1735 | BB35: =VLOOKUP(A35, projmetadata!$A$2:$D$2036, 4, FALSE) -> 674943 | BC35: {=_xludf.IFS(I35<>0, F35/I35, P35<>0, M35/P35, W35<>0, T35/W35, AD35<>0, AA35/AD35, AK35<>0, AH35/AK35, AR35<>0, AO35/AR35, TRUE, 0)} -> #NAME? | BE35: =BC35/BB35 -> #NAME? | BF35: =BC35/BA35 -> #NAME? | BG35: =BI35/BB35 -> 0.072644653 | BH35: =VLOOKUP(A35, ALL_AP_DATA!$A$2:$D$3600, 3, FALSE) -> 568 | BI35: =VLOOKUP(A35, ALL_AP_DATA!$A$2:$E$3600, 5, FALSE) -> 49031 | BJ35: =BI35/BA35 -> 28.259942 | BK35: =BH35/BA35 -> 0.32737752
A36: BespokeSynth | B36: cpp | C36: 3 | D36: 86 | E36: 523 | F36: 26564 | G36: 0.1135 | H36: 0.7294 | I36: 0.2961 | J36: 28 | K36: 127 | L36: 573 | M36: 32513 | N36: 0.1675 | O36: 0.7992 | P36: 0.3624 | Q36: 47 | R36: 162 | S36: 624 | T36: 34233 | U36: 0.2137 | V36: 0.8703 | W36: 0.3815 | X36: 3 | Y36: 38 | Z36: 32 | AA36: 3878 | AB36: 0.0501 | AC36: 0.0446 | AD36: 0.0432 | AE36: 42 | AF36: 328 | AG36: 650 | AH36: 39129 | AI36: 0.4327 | AJ36: 0.9066 | AK36: 0.4361 | AL36: 15 | AM36: 140 | AN36: 577 | AO36: 32960 | AP36: 0.1847 | AQ36: 0.8047 | AR36: 0.3673 | AT36: =IF(D36 = 0, "", F36 / D36) -> 308.88372 | AU36: =IF(K36 = 0, "", M36 / K36) -> 256.00787 | AV36: =IF(R36 = 0, "", T36 / R36) -> 211.31481 | AW36: =IF(Y36 = 0, "", AA36 / Y36) -> 102.05263 | AX36: =IF(AF36 = 0, "", AH36 / AF36) -> 119.29573 | AY36: =IF(AM36 = 0, "", AO36 / AM36) -> 235.42857 | BA36: =VLOOKUP(A36, ALL_AP_DATA!$A$2:$F$3600, 6, FALSE) -> 758 | BB36: =VLOOKUP(A36, projmetadata!$A$2:$D$2036, 4, FALSE) -> 157346 | BC36: {=_xludf.IFS(I36<>0, F36/I36, P36<>0, M36/P36, W36<>0, T36/W36, AD36<>0, AA36/AD36, AK36<>0, AH36/AK36, AR36<>0, AO36/AR36, TRUE, 0)} -> #NAME? | BE36: =BC36/BB36 -> #NAME? | BF36: =BC36/BA36 -> #NAME? | BG36: =BI36/BB36 -> 0.57024011 | BH36: =VLOOKUP(A36, ALL_AP_DATA!$A$2:$D$3600, 3, FALSE) -> 400 | BI36: =VLOOKUP(A36, ALL_AP_DATA!$A$2:$E$3600, 5, FALSE) -> 89725 | BJ36: =BI36/BA36 -> 118.37071 | BK36: =BH36/BA36 -> 0.52770449
A37: BookReader | B37: java | C37: 6 | D37: 44 | E37: 0 | F37: 0 | G37: 0.1522 | H37: 0 | I37: 0 | X37: 17 | Y37: 99 | Z37: 0 | AA37: 0 | AB37: 0.3426 | AC37: 0 | AD37: 0 | AE37: 16 | AF37: 100 | AG37: 0 | AH37: 0 | AI37: 0.346 | AJ37: 0 | AK37: 0 | AT37: =IF(D37 = 0, "", F37 / D37) -> 0 | AU37: =IF(K37 = 0, "", M37 / K37) | AV37: =IF(R37 = 0, "", T37 / R37) | AW37: =IF(Y37 = 0, "", AA37 / Y37) -> 0 | AX37: =IF(AF37 = 0, "", AH37 / AF37) -> 0 | AY37: =IF(AM37 = 0, "", AO37 / AM37) | BA37: =VLOOKUP(A37, ALL_AP_DATA!$A$2:$F$3600, 6, FALSE) -> 289 | BB37: =VLOOKUP(A37, projmetadata!$A$2:$D$2036, 4, FALSE) -> 29280 | BC37: {=_xludf.IFS(I37<>0, F37/I37, P37<>0, M37/P37, W37<>0, T37/W37, AD37<>0, AA37/AD37, AK37<>0, AH37/AK37, AR37<>0, AO37/AR37, TRUE, 0)} -> #NAME? | BE37: =BC37/BB37 -> #NAME? | BF37: =BC37/BA37 -> #NAME? | BG37: =BI37/BB37 -> 0 | BH37: =VLOOKUP(A37, ALL_AP_DATA!$A$2:$D$3600, 3, FALSE) -> 159 | BI37: =VLOOKUP(A37, ALL_AP_DATA!$A$2:$E$3600, 5, FALSE) -> 0 | BJ37: =BI37/BA37 -> 0 | BK37: =BH37/BA37 -> 0.55017301
A38: ByteTCC | B38: java | C38: 5 | D38: 12 | E38: 35 | F38: 4326 | G38: 0.0976 | H38: 0.2966 | I38: 0.2372 | Q38: 9 | R38: 54 | S38: 114 | T38: 16132 | U38: 0.439 | V38: 0.9661 | W38: 0.8844 | X38: 1 | Y38: 3 | Z38: 5 | AA38: 157 | AB38: 0.0244 | AC38: 0.0424 | AD38: 0.0086 | AE38: 3 | AF38: 12 | AG38: 42 | AH38: 2815 | AI38: 0.0976 | AJ38: 0.3559 | AK38: 0.1543 | AT38: =IF(D38 = 0, "", F38 / D38) -> 360.5 | AU38: =IF(K38 = 0, "", M38 / K38) | AV38: =IF(R38 = 0, "", T38 / R38) -> 298.74074 | AW38: =IF(Y38 = 0, "", AA38 / Y38) -> 52.333333 | AX38: =IF(AF38 = 0, "", AH38 / AF38) -> 234.58333 | AY38: =IF(AM38 = 0, "", AO38 / AM38) | BA38: =VLOOKUP(A38, ALL_AP_DATA!$A$2:$F$3600, 6, FALSE) -> 123 | BB38: =VLOOKUP(A38, projmetadata!$A$2:$D$2036, 4, FALSE) -> 15034 | BC38: {=_xludf.IFS(I38<>0, F38/I38, P38<>0, M38/P38, W38<>0, T38/W38, AD38<>0, AA38/AD38, AK38<>0, AH38/AK38, AR38<>0, AO38/AR38, TRUE, 0)} -> #NAME? | BE38: =BC38/BB38 -> #NAME? | BF38: =BC38/BA38 -> #NAME? | BG38: =BI38/BB38 -> 1.2133165 | BH38: =VLOOKUP(A38, ALL_AP_DATA!$A$2:$D$3600, 3, FALSE) -> 64 | BI38: =VLOOKUP(A38, ALL_AP_DATA!$A$2:$E$3600, 5, FALSE) -> 18241 | BJ38: =BI38/BA38 -> 148.30081 | BK38: =BH38/BA38 -> 0.5203252
A39: C-Plus-Plus | B39: cpp | AE39: 1 | AF39: 3 | AG39: 1 | AH39: 4 | AI39: 0.0091 | AJ39: 0.0112 | AK39: 0.0003 | AT39: =IF(D39 = 0, "", F39 / D39) | AU39: =IF(K39 = 0, "", M39 / K39) | AV39: =IF(R39 = 0, "", T39 / R39) | AW39: =IF(Y39 = 0, "", AA39 / Y39) | AX39: =IF(AF39 = 0, "", AH39 / AF39) -> 1.3333333 | AY39: =IF(AM39 = 0, "", AO39 / AM39) | BA39: =VLOOKUP(A39, ALL_AP_DATA!$A$2:$F$3600, 6, FALSE) -> 328 | BB39: =VLOOKUP(A39, projmetadata!$A$2:$D$2036, 4, FALSE) -> 27857 | BC39: {=_xludf.IFS(I39<>0, F39/I39, P39<>0, M39/P39, W39<>0, T39/W39, AD39<>0, AA39/AD39, AK39<>0, AH39/AK39, AR39<>0, AO39/AR39, TRUE, 0)} -> #NAME? | BE39: =BC39/BB39 -> #NAME? | BF39: =BC39/BA39 -> #NAME? | BG39: =BI39/BB39 -> 0.55795671 | BH39: =VLOOKUP(A39, ALL_AP_DATA!$A$2:$D$3600, 3, FALSE) -> 3 | BI39: =VLOOKUP(A39, ALL_AP_DATA!$A$2:$E$3600, 5, FALSE) -> 15543 | BJ39: =BI39/BA39 -> 47.387195 | BK39: =BH39/BA39 -> 0.0091463415
A40: CNTK | B40: cpp | C40: 1 | D40: 4 | E40: 1 | F40: 2 | G40: 0.0058 | H40: 0.001 | I40: 0 | J40: 3 | K40: 35 | L40: 486 | M40: 41672 | N40: 0.0507 | O40: 0.4934 | P40: 0.2855 | Q40: 26 | R40: 149 | S40: 932 | T40: 143795 | U40: 0.2156 | V40: 0.9462 | W40: 0.9852 | X40: 22 | Y40: 252 | Z40: 846 | AA40: 121301 | AB40: 0.3647 | AC40: 0.8589 | AD40: 0.8311 | AE40: 28 | AF40: 191 | AG40: 799 | AH40: 96153 | AI40: 0.2764 | AJ40: 0.8112 | AK40: 0.6588 | AL40: 4 | AM40: 72 | AN40: 754 | AO40: 109410 | AP40: 0.1042 | AQ40: 0.7655 | AR40: 0.7496 | AT40: =IF(D40 = 0, "", F40 / D40) -> 0.5 | AU40: =IF(K40 = 0, "", M40 / K40) -> 1190.6286 | AV40: =IF(R40 = 0, "", T40 / R40) -> 965.06711 | AW40: =IF(Y40 = 0, "", AA40 / Y40) -> 481.35317 | AX40: =IF(AF40 = 0, "", AH40 / AF40) -> 503.41885 | AY40: =IF(AM40 = 0, "", AO40 / AM40) -> 1519.5833 | BA40: =VLOOKUP(A40, ALL_AP_DATA!$A$2:$F$3600, 6, FALSE) -> 691 | BB40: =VLOOKUP(A40, projmetadata!$A$2:$D$2036, 4, FALSE) -> 191369 | BC40: {=_xludf.IFS(I40<>0, F40/I40, P40<>0, M40/P40, W40<>0, T40/W40, AD40<>0, AA40/AD40, AK40<>0, AH40/AK40, AR40<>0, AO40/AR40, TRUE, 0)} -> #NAME? | BE40: =BC40/BB40 -> #NAME? | BF40: =BC40/BA40 -> #NAME? | BG40: =BI40/BB40 -> 0.76267316 | BH40: =VLOOKUP(A40, ALL_AP_DATA!$A$2:$D$3600, 3, FALSE) -> 378 | BI40: =VLOOKUP(A40, ALL_AP_DATA!$A$2:$E$3600, 5, FALSE) -> 145952 | BJ40: =BI40/BA40 -> 211.21852 | BK40: =BH40/BA40 -> 0.54703329
A41: CPlusPlusThings | B41: cpp | C41: 2 | D41: 4 | E41: 0 | F41: 0 | G41: 0.0091 | H41: 0 | I41: 0 | X41: 12 | Y41: 19 | Z41: 0 | AA41: 0 | AB41: 0.0434 | AC41: 0 | AD41: 0 | AT41: =IF(D41 = 0, "", F41 / D41) -> 0 | AU41: =IF(K41 = 0, "", M41 / K41) | AV41: =IF(R41 = 0, "", T41 / R41) | AW41: =IF(Y41 = 0, "", AA41 / Y41) -> 0 | AX41: =IF(AF41 = 0, "", AH41 / AF41) | AY41: =IF(AM41 = 0, "", AO41 / AM41) | BA41: =VLOOKUP(A41, ALL_AP_DATA!$A$2:$F$3600, 6, FALSE) -> 438 | BB41: =VLOOKUP(A41, projmetadata!$A$2:$D$2036, 4, FALSE) -> 11821 | BC41: {=_xludf.IFS(I41<>0, F41/I41, P41<>0, M41/P41, W41<>0, T41/W41, AD41<>0, AA41/AD41, AK41<>0, AH41/AK41, AR41<>0, AO41/AR41, TRUE, 0)} -> #NAME? | BE41: =BC41/BB41 -> #NAME? | BF41: =BC41/BA41 -> #NAME? | BG41: =BI41/BB41 -> 0.005583284 | BH41: =VLOOKUP(A41, ALL_AP_DATA!$A$2:$D$3600, 3, FALSE) -> 19 | BI41: =VLOOKUP(A41, ALL_AP_DATA!$A$2:$E$3600, 5, FALSE) -> 66 | BJ41: =BI41/BA41 -> 0.15068493 | BK41: =BH41/BA41 -> 0.043378995
A42: CameraView | B42: java | AE42: 1 | AF42: 3 | AG42: 0 | AH42: 0 | AI42: 0.125 | AJ42: 0 | AK42: 0 | AT42: =IF(D42 = 0, "", F42 / D42) | AU42: =IF(K42 = 0, "", M42 / K42) | AV42: =IF(R42 = 0, "", T42 / R42) | AW42: =IF(Y42 = 0, "", AA42 / Y42) | AX42: =IF(AF42 = 0, "", AH42 / AF42) -> 0 | AY42: =IF(AM42 = 0, "", AO42 / AM42) | BA42: =VLOOKUP(A42, ALL_AP_DATA!$A$2:$F$3600, 6, FALSE) -> 24 | BB42: =VLOOKUP(A42, projmetadata!$A$2:$D$2036, 4, FALSE) -> 23607 | BC42: {=_xludf.IFS(I42<>0, F42/I42, P42<>0, M42/P42, W42<>0, T42/W42, AD42<>0, AA42/AD42, AK42<>0, AH42/AK42, AR42<>0, AO42/AR42, TRUE, 0)} -> #NAME? | BE42: =BC42/BB42 -> #NAME? | BF42: =BC42/BA42 -> #NAME? | BG42: =BI42/BB42 -> 0 | BH42: =VLOOKUP(A42, ALL_AP_DATA!$A$2:$D$3600, 3, FALSE) -> 3 | BI42: =VLOOKUP(A42, ALL_AP_DATA!$A$2:$E$3600, 5, FALSE) -> 0 | BJ42: =BI42/BA42 -> 0 | BK42: =BH42/BA42 -> 0.125
A43: Catch2 | B43: cpp | C43: 2 | D43: 29 | E43: 107 | F43: 13201 | G43: 0.089 | H43: 0.3993 | I43: 0.5416 | J43: 1 | K43: 9 | L43: 55 | M43: 1671 | N43: 0.0276 | O43: 0.2052 | P43: 0.0686 | Q43: 24 | R43: 90 | S43: 177 | T43: 19433 | U43: 0.2761 | V43: 0.6604 | W43: 0.7972 | X43: 28 | Y43: 255 | Z43: 242 | AA43: 21630 | AB43: 0.7822 | AC43: 0.903 | AD43: 0.8873 | AE43: 18 | AF43: 52 | AG43: 127 | AH43: 14821 | AI43: 0.1595 | AJ43: 0.4739 | AK43: 0.608 | AL43: 2 | AM43: 42 | AN43: 111 | AO43: 4182 | AP43: 0.1288 | AQ43: 0.4142 | AR43: 0.1716 | AT43: =IF(D43 = 0, "", F43 / D43) -> 455.2069 | AU43: =IF(K43 = 0, "", M43 / K43) -> 185.66667 | AV43: =IF(R43 = 0, "", T43 / R43) -> 215.92222 | AW43: =IF(Y43 = 0, "", AA43 / Y43) -> 84.823529 | AX43: =IF(AF43 = 0, "", AH43 / AF43) -> 285.01923 | AY43: =IF(AM43 = 0, "", AO43 / AM43) -> 99.571429 | BA43: =VLOOKUP(A43, ALL_AP_DATA!$A$2:$F$3600, 6, FALSE) -> 326 | BB43: =VLOOKUP(A43, projmetadata!$A$2:$D$2036, 4, FALSE) -> 42151 | BC43: {=_xludf.IFS(I43<>0, F43/I43, P43<>0, M43/P43, W43<>0, T43/W43, AD43<>0, AA43/AD43, AK43<>0, AH43/AK43, AR43<>0, AO43/AR43, TRUE, 0)} -> #NAME? | BE43: =BC43/BB43 -> #NAME? | BF43: =BC43/BA43 -> #NAME? | BG43: =BI43/BB43 -> 0.57830182 | BH43: =VLOOKUP(A43, ALL_AP_DATA!$A$2:$D$3600, 3, FALSE) -> 271 | BI43: =VLOOKUP(A43, ALL_AP_DATA!$A$2:$E$3600, 5, FALSE) -> 24376 | BJ43: =BI43/BA43 -> 74.773006 | BK43: =BH43/BA43 -> 0.83128834
A44: Checkpoint | B44: cpp | Q44: 2 | R44: 16 | S44: 7 | T44: 407 | U44: 0.16 | V44: 0.6364 | W44: 0.5522 | X44: 2 | Y44: 40 | Z44: 9 | AA44: 358 | AB44: 0.4 | AC44: 0.8182 | AD44: 0.4858 | AE44: 1 | AF44: 4 | AG44: 3 | AH44: 28 | AI44: 0.04 | AJ44: 0.2727 | AK44: 0.038 | AT44: =IF(D44 = 0, "", F44 / D44) | AU44: =IF(K44 = 0, "", M44 / K44) | AV44: =IF(R44 = 0, "", T44 / R44) -> 25.4375 | AW44: =IF(Y44 = 0, "", AA44 / Y44) -> 8.95 | AX44: =IF(AF44 = 0, "", AH44 / AF44) -> 7 | AY44: =IF(AM44 = 0, "", AO44 / AM44) | BA44: =VLOOKUP(A44, ALL_AP_DATA!$A$2:$F$3600, 6, FALSE) -> 100 | BC44: {=_xludf.IFS(I44<>0, F44/I44, P44<>0, M44/P44, W44<>0, T44/W44, AD44<>0, AA44/AD44, AK44<>0, AH44/AK44, AR44<>0, AO44/AR44, TRUE, 0)} -> #NAME? | BH44: =VLOOKUP(A44, ALL_AP_DATA!$A$2:$D$3600, 3, FALSE) -> 50 | BI44: =VLOOKUP(A44, ALL_AP_DATA!$A$2:$E$3600, 5, FALSE) -> 737 | BJ44: =BI44/BA44 -> 7.37
A45: Chronicle-Queue | B45: java | C45: 4 | D45: 24 | E45: 83 | F45: 1987 | G45: 0.0642 | H45: 0.2748 | I45: 0.0635 | J45: 3 | K45: 49 | L45: 191 | M45: 23012 | N45: 0.131 | O45: 0.6325 | P45: 0.736 | Q45: 16 | R45: 78 | S45: 232 | T45: 28194 | U45: 0.2086 | V45: 0.7682 | W45: 0.9017 | X45: 13 | Y45: 80 | Z45: 147 | AA45: 6106 | AB45: 0.2139 | AC45: 0.4868 | AD45: 0.1953 | AE45: 22 | AF45: 85 | AG45: 194 | AH45: 20003 | AI45: 0.2273 | AJ45: 0.6424 | AK45: 0.6397 | AL45: 2 | AM45: 42 | AN45: 195 | AO45: 22457 | AP45: 0.1123 | AQ45: 0.6457 | AR45: 0.7182 | AT45: =IF(D45 = 0, "", F45 / D45) -> 82.791667 | AU45: =IF(K45 = 0, "", M45 / K45) -> 469.63265 | AV45: =IF(R45 = 0, "", T45 / R45) -> 361.46154 | AW45: =IF(Y45 = 0, "", AA45 / Y45) -> 76.325 | AX45: =IF(AF45 = 0, "", AH45 / AF45) -> 235.32941 | AY45: =IF(AM45 = 0, "", AO45 / AM45) -> 534.69048 | BA45: =VLOOKUP(A45, ALL_AP_DATA!$A$2:$F$3600, 6, FALSE) -> 374 | BB45: =VLOOKUP(A45, projmetadata!$A$2:$D$2036, 4, FALSE) -> 37448 | BC45: {=_xludf.IFS(I45<>0, F45/I45, P45<>0, M45/P45, W45<>0, T45/W45, AD45<>0, AA45/AD45, AK45<>0, AH45/AK45, AR45<>0, AO45/AR45, TRUE, 0)} -> #NAME? | BE45: =BC45/BB45 -> #NAME? | BF45: =BC45/BA45 -> #NAME? | BH45: =VLOOKUP(A45, ALL_AP_DATA!$A$2:$D$3600, 3, FALSE) -> 172 | BI45: =VLOOKUP(A45, ALL_AP_DATA!$A$2:$E$3600, 5, FALSE) -> 31268 | BJ45: =BI45/BA45 -> 83.604278 | BK45: =BH45/BA45 -> 0.45989305
A46: Cimoc | B46: java | C46: 5 | D46: 27 | E46: 0 | F46: 0 | G46: 0.1071 | H46: 0 | I46: 0 | X46: 20 | Y46: 121 | Z46: 0 | AA46: 0 | AB46: 0.4802 | AC46: 0 | AD46: 0 | AE46: 12 | AF46: 74 | AG46: 0 | AH46: 0 | AI46: 0.2937 | AJ46: 0 | AK46: 0 | AT46: =IF(D46 = 0, "", F46 / D46) -> 0 | AU46: =IF(K46 = 0, "", M46 / K46) | AV46: =IF(R46 = 0, "", T46 / R46) | AW46: =IF(Y46 = 0, "", AA46 / Y46) -> 0 | AX46: =IF(AF46 = 0, "", AH46 / AF46) -> 0 | AY46: =IF(AM46 = 0, "", AO46 / AM46) | BA46: =VLOOKUP(A46, ALL_AP_DATA!$A$2:$F$3600, 6, FALSE) -> 252 | BB46: =VLOOKUP(A46, projmetadata!$A$2:$D$2036, 4, FALSE) -> 27331 | BC46: {=_xludf.IFS(I46<>0, F46/I46, P46<>0, M46/P46, W46<>0, T46/W46, AD46<>0, AA46/AD46, AK46<>0, AH46/AK46, AR46<>0, AO46/AR46, TRUE, 0)} -> #NAME? | BE46: =BC46/BB46 -> #NAME? | BF46: =BC46/BA46 -> #NAME? | BH46: =VLOOKUP(A46, ALL_AP_DATA!$A$2:$D$3600, 3, FALSE) -> 164 | BI46: =VLOOKUP(A46, ALL_AP_DATA!$A$2:$E$3600, 5, FALSE) -> 0 | BJ46: =BI46/BA46 -> 0 | BK46: =BH46/BA46 -> 0.65079365
A47: Cinder | B47: cpp | C47: 1 | D47: 21 | E47: 0 | F47: 0 | G47: 0.0088 | H47: 0 | I47: 0 | X47: 66 | Y47: 1022 | Z47: 19 | AA47: 309 | AB47: 0.4262 | AC47: 0.5429 | AD47: 0.2088 | AE47: 57 | AF47: 321 | AG47: 13 | AH47: 217 | AI47: 0.1339 | AJ47: 0.3714 | AK47: 0.1466 | AT47: =IF(D47 = 0, "", F47 / D47) -> 0 | AU47: =IF(K47 = 0, "", M47 / K47) | AV47: =IF(R47 = 0, "", T47 / R47) | AW47: =IF(Y47 = 0, "", AA47 / Y47) -> 0.30234834 | AX47: =IF(AF47 = 0, "", AH47 / AF47) -> 0.67601246 | AY47: =IF(AM47 = 0, "", AO47 / AM47) | BA47: =VLOOKUP(A47, ALL_AP_DATA!$A$2:$F$3600, 6, FALSE) -> 2398 | BB47: =VLOOKUP(A47, projmetadata!$A$2:$D$2036, 4, FALSE) -> 620888 | BC47: {=_xludf.IFS(I47<>0, F47/I47, P47<>0, M47/P47, W47<>0, T47/W47, AD47<>0, AA47/AD47, AK47<>0, AH47/AK47, AR47<>0, AO47/AR47, TRUE, 0)} -> #NAME? | BE47: =BC47/BB47 -> #NAME? | BF47: =BC47/BA47 -> #NAME? | BH47: =VLOOKUP(A47, ALL_AP_DATA!$A$2:$D$3600, 3, FALSE) -> 1162 | BI47: =VLOOKUP(A47, ALL_AP_DATA!$A$2:$E$3600, 5, FALSE) -> 1480 | BJ47: =BI47/BA47 -> 0.61718098 | BK47: =BH47/BA47 -> 0.48457048
A48: CodingInterviews | B48: cpp | AT48: =IF(D48 = 0, "", F48 / D48) | AU48: =IF(K48 = 0, "", M48 / K48) | AV48: =IF(R48 = 0, "", T48 / R48) | AW48: =IF(Y48 = 0, "", AA48 / Y48) | AX48: =IF(AF48 = 0, "", AH48 / AF48) | AY48: =IF(AM48 = 0, "", AO48 / AM48) | BA48: =VLOOKUP(A48, ALL_AP_DATA!$A$2:$F$3600, 6, FALSE) -> 213 | BB48: =VLOOKUP(A48, projmetadata!$A$2:$D$2036, 4, FALSE) -> 14819 | BC48: {=_xludf.IFS(I48<>0, F48/I48, P48<>0, M48/P48, W48<>0, T48/W48, AD48<>0, AA48/AD48, AK48<>0, AH48/AK48, AR48<>0, AO48/AR48, TRUE, 0)} -> #NAME? | BE48: =BC48/BB48 -> #NAME? | BF48: =BC48/BA48 -> #NAME? | BH48: =VLOOKUP(A48, ALL_AP_DATA!$A$2:$D$3600, 3, FALSE) -> 0 | BI48: =VLOOKUP(A48, ALL_AP_DATA!$A$2:$E$3600, 5, FALSE) -> 0 | BJ48: =BI48/BA48 -> 0 | BK48: =BH48/BA48 -> 0
A49: ConEmu | B49: cpp | Q49: 8 | R49: 23 | S49: 41 | T49: 1756 | U49: 0.0324 | V49: 0.41 | W49: 0.2324 | X49: 25 | Y49: 536 | Z49: 98 | AA49: 7393 | AB49: 0.7549 | AC49: 0.98 | AD49: 0.9783 | AE49: 93 | AF49: 274 | AG49: 77 | AH49: 5445 | AI49: 0.3859 | AJ49: 0.77 | AK49: 0.7205 | AT49: =IF(D49 = 0, "", F49 / D49) | AU49: =IF(K49 = 0, "", M49 / K49) | AV49: =IF(R49 = 0, "", T49 / R49) -> 76.347826 | AW49: =IF(Y49 = 0, "", AA49 / Y49) -> 13.79291 | AX49: =IF(AF49 = 0, "", AH49 / AF49) -> 19.872263 | AY49: =IF(AM49 = 0, "", AO49 / AM49) | BA49: =VLOOKUP(A49, ALL_AP_DATA!$A$2:$F$3600, 6, FALSE) -> 710 | BB49: =VLOOKUP(A49, projmetadata!$A$2:$D$2036, 4, FALSE) -> 253776 | BC49: {=_xludf.IFS(I49<>0, F49/I49, P49<>0, M49/P49, W49<>0, T49/W49, AD49<>0, AA49/AD49, AK49<>0, AH49/AK49, AR49<>0, AO49/AR49, TRUE, 0)} -> #NAME? | BE49: =BC49/BB49 -> #NAME? | BF49: =BC49/BA49 -> #NAME? | BH49: =VLOOKUP(A49, ALL_AP_DATA!$A$2:$D$3600, 3, FALSE) -> 563 | BI49: =VLOOKUP(A49, ALL_AP_DATA!$A$2:$E$3600, 5, FALSE) -> 7557 | BJ49: =BI49/BA49 -> 10.643662 | BK49: =BH49/BA49 -> 0.79295775
A50: Conversations | B50: java | C50: 6 | D50: 205 | E50: 148 | F50: 9014 | G50: 0.527 | H50: 0.908 | I50: 0.9038 | J50: 1 | K50: 8 | L50: 36 | M50: 1477 | N50: 0.0206 | O50: 0.2209 | P50: 0.1481 | Q50: 4 | R50: 15 | S50: 41 | T50: 1633 | U50: 0.0386 | V50: 0.2515 | W50: 0.1637 | X50: 66 | Y50: 296 | Z50: 157 | AA50: 9714 | AB50: 0.7609 | AC50: 0.9632 | AD50: 0.974 | AE50: 44 | AF50: 183 | AG50: 135 | AH50: 8437 | AI50: 0.4704 | AJ50: 0.8282 | AK50: 0.846 | AT50: =IF(D50 = 0, "", F50 / D50) -> 43.970732 | AU50: =IF(K50 = 0, "", M50 / K50) -> 184.625 | AV50: =IF(R50 = 0, "", T50 / R50) -> 108.86667 | AW50: =IF(Y50 = 0, "", AA50 / Y50) -> 32.817568 | AX50: =IF(AF50 = 0, "", AH50 / AF50) -> 46.103825 | AY50: =IF(AM50 = 0, "", AO50 / AM50) | BA50: =VLOOKUP(A50, ALL_AP_DATA!$A$2:$F$3600, 6, FALSE) -> 389 | BB50: =VLOOKUP(A50, projmetadata!$A$2:$D$2036, 4, FALSE) -> 68395 | BC50: {=_xludf.IFS(I50<>0, F50/I50, P50<>0, M50/P50, W50<>0, T50/W50, AD50<>0, AA50/AD50, AK50<>0, AH50/AK50, AR50<>0, AO50/AR50, TRUE, 0)} -> #NAME? | BE50: =BC50/BB50 -> #NAME? | BF50: =BC50/BA50 -> #NAME? | BH50: =VLOOKUP(A50, ALL_AP_DATA!$A$2:$D$3600, 3, FALSE) -> 330 | BI50: =VLOOKUP(A50, ALL_AP_DATA!$A$2:$E$3600, 5, FALSE) -> 9973 | BJ50: =BI50/BA50 -> 25.637532 | BK50: =BH50/BA50 -> 0.84832905
A51: CopyQ | B51: cpp | C51: 3 | D51: 7 | E51: 28 | F51: 1019 | G51: 0.0229 | H51: 0.2188 | I51: 0.1701 | Q51: 8 | R51: 31 | S51: 84 | T51: 3877 | U51: 0.1013 | V51: 0.6563 | W51: 0.647 | X51: 20 | Y51: 180 | Z51: 105 | AA51: 4280 | AB51: 0.5882 | AC51: 0.8203 | AD51: 0.7143 | AE51: 25 | AF51: 104 | AG51: 97 | AH51: 3836 | AI51: 0.3399 | AJ51: 0.7578 | AK51: 0.6402 | AT51: =IF(D51 = 0, "", F51 / D51) -> 145.57143 | AU51: =IF(K51 = 0, "", M51 / K51) | AV51: =IF(R51 = 0, "", T51 / R51) -> 125.06452 | AW51: =IF(Y51 = 0, "", AA51 / Y51) -> 23.777778 | AX51: =IF(AF51 = 0, "", AH51 / AF51) -> 36.884615 | AY51: =IF(AM51 = 0, "", AO51 / AM51) | BA51: =VLOOKUP(A51, ALL_AP_DATA!$A$2:$F$3600, 6, FALSE) -> 306 | BB51: =VLOOKUP(A51, projmetadata!$A$2:$D$2036, 4, FALSE) -> 58859 | BC51: {=_xludf.IFS(I51<>0, F51/I51, P51<>0, M51/P51, W51<>0, T51/W51, AD51<>0, AA51/AD51, AK51<>0, AH51/AK51, AR51<>0, AO51/AR51, TRUE, 0)} -> #NAME? | BE51: =BC51/BB51 -> #NAME? | BF51: =BC51/BA51 -> #NAME? | BH51: =VLOOKUP(A51, ALL_AP_DATA!$A$2:$D$3600, 3, FALSE) -> 210 | BI51: =VLOOKUP(A51, ALL_AP_DATA!$A$2:$E$3600, 5, FALSE) -> 5992 | BJ51: =BI51/BA51 -> 19.581699 | BK51: =BH51/BA51 -> 0.68627451
A52: Cpp-Primer | B52: cpp | C52: 1 | D52: 2 | E52: 0 | F52: 0 | G52: 0.0036 | H52: 0 | I52: 0 | X52: 52 | Y52: 144 | Z52: 0 | AA52: 0 | AB52: 0.2576 | AC52: 0 | AD52: 0 | AE52: 10 | AF52: 32 | AG52: 0 | AH52: 0 | AI52: 0.0572 | AJ52: 0 | AK52: 0 | AT52: =IF(D52 = 0, "", F52 / D52) -> 0 | AU52: =IF(K52 = 0, "", M52 / K52) | AV52: =IF(R52 = 0, "", T52 / R52) | AW52: =IF(Y52 = 0, "", AA52 / Y52) -> 0 | AX52: =IF(AF52 = 0, "", AH52 / AF52) -> 0 | AY52: =IF(AM52 = 0, "", AO52 / AM52) | BA52: =VLOOKUP(A52, ALL_AP_DATA!$A$2:$F$3600, 6, FALSE) -> 559 | BB52: =VLOOKUP(A52, projmetadata!$A$2:$D$2036, 4, FALSE) -> 17097 | BC52: {=_xludf.IFS(I52<>0, F52/I52, P52<>0, M52/P52, W52<>0, T52/W52, AD52<>0, AA52/AD52, AK52<>0, AH52/AK52, AR52<>0, AO52/AR52, TRUE, 0)} -> #NAME? | BE52: =BC52/BB52 -> #NAME? | BF52: =BC52/BA52 -> #NAME? | BH52: =VLOOKUP(A52, ALL_AP_DATA!$A$2:$D$3600, 3, FALSE) -> 156 | BI52: =VLOOKUP(A52, ALL_AP_DATA!$A$2:$E$3600, 5, FALSE) -> 2 | BJ52: =BI52/BA52 -> 0.0035778175 | BK52: =BH52/BA52 -> 0.27906977
A53: Cpp_Primer_Answers | B53: cpp | X53: 3 | Y53: 24 | Z53: 0 | AA53: 0 | AB53: 0.1013 | AC53: 0 | AD53: 0 | AT53: =IF(D53 = 0, "", F53 / D53) | AU53: =IF(K53 = 0, "", M53 / K53) | AV53: =IF(R53 = 0, "", T53 / R53) | AW53: =IF(Y53 = 0, "", AA53 / Y53) -> 0 | AX53: =IF(AF53 = 0, "", AH53 / AF53) | AY53: =IF(AM53 = 0, "", AO53 / AM53) | BA53: =VLOOKUP(A53, ALL_AP_DATA!$A$2:$F$3600, 6, FALSE) -> 237 | BB53: =VLOOKUP(A53, projmetadata!$A$2:$D$2036, 4, FALSE) -> 6233 | BC53: {=_xludf.IFS(I53<>0, F53/I53, P53<>0, M53/P53, W53<>0, T53/W53, AD53<>0, AA53/AD53, AK53<>0, AH53/AK53, AR53<>0, AO53/AR53, TRUE, 0)} -> #NAME? | BE53: =BC53/BB53 -> #NAME? | BF53: =BC53/BA53 -> #NAME? | BH53: =VLOOKUP(A53, ALL_AP_DATA!$A$2:$D$3600, 3, FALSE) -> 24 | BI53: =VLOOKUP(A53, ALL_AP_DATA!$A$2:$E$3600, 5, FALSE) -> 0 | BJ53: =BI53/BA53 -> 0 | BK53: =BH53/BA53 -> 0.10126582
A54: Cxbx-Reloaded | B54: cpp | J54: 7 | K54: 51 | L54: 111 | M54: 8654 | N54: 0.1301 | O54: 0.74 | P54: 0.784 | Q54: 10 | R54: 47 | S54: 115 | T54: 8450 | U54: 0.1199 | V54: 0.7667 | W54: 0.7655 | X54: 42 | Y54: 186 | Z54: 141 | AA54: 10448 | AB54: 0.4745 | AC54: 0.94 | AD54: 0.9465 | AE54: 6 | AF54: 30 | AG54: 80 | AH54: 3668 | AI54: 0.0765 | AJ54: 0.5333 | AK54: 0.3323 | AL54: 1 | AM54: 19 | AN54: 99 | AO54: 6527 | AP54: 0.0485 | AQ54: 0.66 | AR54: 0.5913 | AT54: =IF(D54 = 0, "", F54 / D54) | AU54: =IF(K54 = 0, "", M54 / K54) -> 169.68627 | AV54: =IF(R54 = 0, "", T54 / R54) -> 179.78723 | AW54: =IF(Y54 = 0, "", AA54 / Y54) -> 56.172043 | AX54: =IF(AF54 = 0, "", AH54 / AF54) -> 122.26667 | AY54: =IF(AM54 = 0, "", AO54 / AM54) -> 343.52632 | BA54: =VLOOKUP(A54, ALL_AP_DATA!$A$2:$F$3600, 6, FALSE) -> 392 | BB54: =VLOOKUP(A54, projmetadata!$A$2:$D$2036, 4, FALSE) -> 113787 | BC54: {=_xludf.IFS(I54<>0, F54/I54, P54<>0, M54/P54, W54<>0, T54/W54, AD54<>0, AA54/AD54, AK54<>0, AH54/AK54, AR54<>0, AO54/AR54, TRUE, 0)} -> #NAME? | BE54: =BC54/BB54 -> #NAME? | BF54: =BC54/BA54 -> #NAME? | BH54: =VLOOKUP(A54, ALL_AP_DATA!$A$2:$D$3600, 3, FALSE) -> 200 | BI54: =VLOOKUP(A54, ALL_AP_DATA!$A$2:$E$3600, 5, FALSE) -> 11038 | BJ54: =BI54/BA54 -> 28.158163 | BK54: =BH54/BA54 -> 0.51020408
A55: DBus | B55: java | C55: 15 | D55: 81 | E55: 0 | F55: 0 | G55: 0.0814 | H55: 0 | I55: 0 | X55: 29 | Y55: 173 | Z55: 0 | AA55: 0 | AB55: 0.1739 | AC55: 0 | AD55: 0 | AE55: 57 | AF55: 263 | AG55: 0 | AH55: 0 | AI55: 0.2643 | AJ55: 0 | AK55: 0 | AT55: =IF(D55 = 0, "", F55 / D55) -> 0 | AU55: =IF(K55 = 0, "", M55 / K55) | AV55: =IF(R55 = 0, "", T55 / R55) | AW55: =IF(Y55 = 0, "", AA55 / Y55) -> 0 | AX55: =IF(AF55 = 0, "", AH55 / AF55) -> 0 | AY55: =IF(AM55 = 0, "", AO55 / AM55) | BA55: =VLOOKUP(A55, ALL_AP_DATA!$A$2:$F$3600, 6, FALSE) -> 995 | BB55: =VLOOKUP(A55, projmetadata!$A$2:$D$2036, 4, FALSE) -> 86241 | BC55: {=_xludf.IFS(I55<>0, F55/I55, P55<>0, M55/P55, W55<>0, T55/W55, AD55<>0, AA55/AD55, AK55<>0, AH55/AK55, AR55<>0, AO55/AR55, TRUE, 0)} -> #NAME? | BE55: =BC55/BB55 -> #NAME? | BF55: =BC55/BA55 -> #NAME? | BH55: =VLOOKUP(A55, ALL_AP_DATA!$A$2:$D$3600, 3, FALSE) -> 376 | BI55: =VLOOKUP(A55, ALL_AP_DATA!$A$2:$E$3600, 5, FALSE) -> 1 | BJ55: =BI55/BA55 -> 0.0010050251 | BK55: =BH55/BA55 -> 0.37788945
A56: DOOM-3-BFG | B56: cpp | C56: 2 | D56: 4 | E56: 0 | F56: 0 | G56: 0.0041 | H56: 0 | I56: 0 | X56: 67 | Y56: 657 | Z56: 1 | AA56: 29 | AB56: 0.6808 | AC56: 1 | AD56: 1 | AE56: 31 | AF56: 137 | AG56: 0 | AH56: 0 | AI56: 0.142 | AJ56: 0 | AK56: 0 | AT56: =IF(D56 = 0, "", F56 / D56) -> 0 | AU56: =IF(K56 = 0, "", M56 / K56) | AV56: =IF(R56 = 0, "", T56 / R56) | AW56: =IF(Y56 = 0, "", AA56 / Y56) -> 0.04414003 | AX56: =IF(AF56 = 0, "", AH56 / AF56) -> 0 | AY56: =IF(AM56 = 0, "", AO56 / AM56) | BA56: =VLOOKUP(A56, ALL_AP_DATA!$A$2:$F$3600, 6, FALSE) -> 965 | BB56: =VLOOKUP(A56, projmetadata!$A$2:$D$2036, 4, FALSE) -> 361467 | BC56: {=_xludf.IFS(I56<>0, F56/I56, P56<>0, M56/P56, W56<>0, T56/W56, AD56<>0, AA56/AD56, AK56<>0, AH56/AK56, AR56<>0, AO56/AR56, TRUE, 0)} -> #NAME? | BE56: =BC56/BB56 -> #NAME? | BF56: =BC56/BA56 -> #NAME? | BH56: =VLOOKUP(A56, ALL_AP_DATA!$A$2:$D$3600, 3, FALSE) -> 705 | BI56: =VLOOKUP(A56, ALL_AP_DATA!$A$2:$E$3600, 5, FALSE) -> 29 | BJ56: =BI56/BA56 -> 0.030051813 | BK56: =BH56/BA56 -> 0.73056995
A57: DWSurvey | B57: java | C57: 3 | D57: 6 | E57: 7 | F57: 144 | G57: 0.0201 | H57: 0.3182 | I57: 0.0573 | Q57: 1 | R57: 3 | S57: 7 | T57: 131 | U57: 0.0101 | V57: 0.3182 | W57: 0.0522 | X57: 6 | Y57: 29 | Z57: 11 | AA57: 1481 | AB57: 0.0973 | AC57: 0.5 | AD57: 0.5898 | AE57: 10 | AF57: 145 | AG57: 16 | AH57: 1835 | AI57: 0.4866 | AJ57: 0.7273 | AK57: 0.7308 | AT57: =IF(D57 = 0, "", F57 / D57) -> 24 | AU57: =IF(K57 = 0, "", M57 / K57) | AV57: =IF(R57 = 0, "", T57 / R57) -> 43.666667 | AW57: =IF(Y57 = 0, "", AA57 / Y57) -> 51.068966 | AX57: =IF(AF57 = 0, "", AH57 / AF57) -> 12.655172 | AY57: =IF(AM57 = 0, "", AO57 / AM57) | BA57: =VLOOKUP(A57, ALL_AP_DATA!$A$2:$F$3600, 6, FALSE) -> 298 | BB57: =VLOOKUP(A57, projmetadata!$A$2:$D$2036, 4, FALSE) -> 17963 | BC57: {=_xludf.IFS(I57<>0, F57/I57, P57<>0, M57/P57, W57<>0, T57/W57, AD57<>0, AA57/AD57, AK57<>0, AH57/AK57, AR57<>0, AO57/AR57, TRUE, 0)} -> #NAME? | BE57: =BC57/BB57 -> #NAME? | BF57: =BC57/BA57 -> #NAME? | BH57: =VLOOKUP(A57, ALL_AP_DATA!$A$2:$D$3600, 3, FALSE) -> 158 | BI57: =VLOOKUP(A57, ALL_AP_DATA!$A$2:$E$3600, 5, FALSE) -> 2511 | BJ57: =BI57/BA57 -> 8.4261745 | BK57: =BH57/BA57 -> 0.53020134
A58: DaggerMock | B58: java | C58: 1 | D58: 8 | E58: 3 | F58: 106 | G58: 0.0362 | H58: 0.5 | I58: 0.1712 | X58: 2 | Y58: 14 | Z58: 0 | AA58: 0 | AB58: 0.0633 | AC58: 0 | AD58: 0 | AE58: 3 | AF58: 12 | AG58: 1 | AH58: 131 | AI58: 0.0543 | AJ58: 0.1667 | AK58: 0.2116 | AT58: =IF(D58 = 0, "", F58 / D58) -> 13.25 | AU58: =IF(K58 = 0, "", M58 / K58) | AV58: =IF(R58 = 0, "", T58 / R58) | AW58: =IF(Y58 = 0, "", AA58 / Y58) -> 0 | AX58: =IF(AF58 = 0, "", AH58 / AF58) -> 10.916667 | AY58: =IF(AM58 = 0, "", AO58 / AM58) | BA58: =VLOOKUP(A58, ALL_AP_DATA!$A$2:$F$3600, 6, FALSE) -> 221 | BB58: =VLOOKUP(A58, projmetadata!$A$2:$D$2036, 4, FALSE) -> 4767 | BC58: {=_xludf.IFS(I58<>0, F58/I58, P58<>0, M58/P58, W58<>0, T58/W58, AD58<>0, AA58/AD58, AK58<>0, AH58/AK58, AR58<>0, AO58/AR58, TRUE, 0)} -> #NAME? | BE58: =BC58/BB58 -> #NAME? | BF58: =BC58/BA58 -> #NAME? | BH58: =VLOOKUP(A58, ALL_AP_DATA!$A$2:$D$3600, 3, FALSE) -> 32 | BI58: =VLOOKUP(A58, ALL_AP_DATA!$A$2:$E$3600, 5, FALSE) -> 619 | BJ58: =BI58/BA58 -> 2.800905 | BK58: =BH58/BA58 -> 0.14479638
A59: DataStructures-Algorithms | B59: cpp | AT59: =IF(D59 = 0, "", F59 / D59) | AU59: =IF(K59 = 0, "", M59 / K59) | AV59: =IF(R59 = 0, "", T59 / R59) | AW59: =IF(Y59 = 0, "", AA59 / Y59) | AX59: =IF(AF59 = 0, "", AH59 / AF59) | AY59: =IF(AM59 = 0, "", AO59 / AM59) | BA59: =VLOOKUP(A59, ALL_AP_DATA!$A$2:$F$3600, 6, FALSE) -> 133 | BB59: =VLOOKUP(A59, projmetadata!$A$2:$D$2036, 4, FALSE) -> 8403 | BC59: {=_xludf.IFS(I59<>0, F59/I59, P59<>0, M59/P59, W59<>0, T59/W59, AD59<>0, AA59/AD59, AK59<>0, AH59/AK59, AR59<>0, AO59/AR59, TRUE, 0)} -> #NAME? | BE59: =BC59/BB59 -> #NAME? | BF59: =BC59/BA59 -> #NAME? | BH59: =VLOOKUP(A59, ALL_AP_DATA!$A$2:$D$3600, 3, FALSE) -> 0 | BI59: =VLOOKUP(A59, ALL_AP_DATA!$A$2:$E$3600, 5, FALSE) -> 1197 | BJ59: =BI59/BA59 -> 9 | BK59: =BH59/BA59 -> 0
A60: DeepMimic | B60: cpp | X60: 4 | Y60: 85 | Z60: 1 | AA60: 10 | AB60: 0.3761 | AC60: 1 | AD60: 1 | AE60: 24 | AF60: 69 | AG60: 1 | AH60: 10 | AI60: 0.3053 | AJ60: 1 | AK60: 1 | AT60: =IF(D60 = 0, "", F60 / D60) | AU60: =IF(K60 = 0, "", M60 / K60) | AV60: =IF(R60 = 0, "", T60 / R60) | AW60: =IF(Y60 = 0, "", AA60 / Y60) -> 0.11764706 | AX60: =IF(AF60 = 0, "", AH60 / AF60) -> 0.14492754 | AY60: =IF(AM60 = 0, "", AO60 / AM60) | BA60: =VLOOKUP(A60, ALL_AP_DATA!$A$2:$F$3600, 6, FALSE) -> 226 | BB60: =VLOOKUP(A60, projmetadata!$A$2:$D$2036, 4, FALSE) -> 41846 | BC60: {=_xludf.IFS(I60<>0, F60/I60, P60<>0, M60/P60, W60<>0, T60/W60, AD60<>0, AA60/AD60, AK60<>0, AH60/AK60, AR60<>0, AO60/AR60, TRUE, 0)} -> #NAME? | BE60: =BC60/BB60 -> #NAME? | BF60: =BC60/BA60 -> #NAME? | BH60: =VLOOKUP(A60, ALL_AP_DATA!$A$2:$D$3600, 3, FALSE) -> 131 | BI60: =VLOOKUP(A60, ALL_AP_DATA!$A$2:$E$3600, 5, FALSE) -> 10 | BJ60: =BI60/BA60 -> 0.044247788 | BK60: =BH60/BA60 -> 0.57964602
A61: DeepSpeech | B61: cpp | C61: 2 | D61: 4 | E61: 0 | F61: 0 | G61: 0.0049 | H61: 0 | I61: 0 | Q61: 5 | R61: 17 | S61: 73 | T61: 3008 | U61: 0.0208 | V61: 0.869 | W61: 0.7727 | X61: 23 | Y61: 443 | Z61: 79 | AA61: 3589 | AB61: 0.5422 | AC61: 0.9405 | AD61: 0.9219 | AE61: 31 | AF61: 158 | AG61: 36 | AH61: 1038 | AI61: 0.1934 | AJ61: 0.4286 | AK61: 0.2666 | AT61: =IF(D61 = 0, "", F61 / D61) -> 0 | AU61: =IF(K61 = 0, "", M61 / K61) | AV61: =IF(R61 = 0, "", T61 / R61) -> 176.94118 | AW61: =IF(Y61 = 0, "", AA61 / Y61) -> 8.1015801 | AX61: =IF(AF61 = 0, "", AH61 / AF61) -> 6.5696203 | AY61: =IF(AM61 = 0, "", AO61 / AM61) | BA61: =VLOOKUP(A61, ALL_AP_DATA!$A$2:$F$3600, 6, FALSE) -> 817 | BB61: =VLOOKUP(A61, projmetadata!$A$2:$D$2036, 4, FALSE) -> 161487 | BC61: {=_xludf.IFS(I61<>0, F61/I61, P61<>0, M61/P61, W61<>0, T61/W61, AD61<>0, AA61/AD61, AK61<>0, AH61/AK61, AR61<>0, AO61/AR61, TRUE, 0)} -> #NAME? | BE61: =BC61/BB61 -> #NAME? | BF61: =BC61/BA61 -> #NAME? | BH61: =VLOOKUP(A61, ALL_AP_DATA!$A$2:$D$3600, 3, FALSE) -> 485 | BI61: =VLOOKUP(A61, ALL_AP_DATA!$A$2:$E$3600, 5, FALSE) -> 3893 | BJ61: =BI61/BA61 -> 4.7649939 | BK61: =BH61/BA61 -> 0.59363525
A62: DependencyCheck | B62: java | C62: 8 | D62: 28 | E62: 51 | F62: 985 | G62: 0.0603 | H62: 0.2329 | I62: 0.1053 | Q62: 6 | R62: 23 | S62: 123 | T62: 3379 | U62: 0.0496 | V62: 0.5616 | W62: 0.3612 | X62: 10 | Y62: 94 | Z62: 104 | AA62: 2676 | AB62: 0.2026 | AC62: 0.4749 | AD62: 0.286 | AE62: 19 | AF62: 138 | AG62: 144 | AH62: 3729 | AI62: 0.2974 | AJ62: 0.6575 | AK62: 0.3986 | AT62: =IF(D62 = 0, "", F62 / D62) -> 35.178571 | AU62: =IF(K62 = 0, "", M62 / K62) | AV62: =IF(R62 = 0, "", T62 / R62) -> 146.91304 | AW62: =IF(Y62 = 0, "", AA62 / Y62) -> 28.468085 | AX62: =IF(AF62 = 0, "", AH62 / AF62) -> 27.021739 | AY62: =IF(AM62 = 0, "", AO62 / AM62) | BA62: =VLOOKUP(A62, ALL_AP_DATA!$A$2:$F$3600, 6, FALSE) -> 464 | BB62: =VLOOKUP(A62, projmetadata!$A$2:$D$2036, 4, FALSE) -> 45318 | BC62: {=_xludf.IFS(I62<>0, F62/I62, P62<>0, M62/P62, W62<>0, T62/W62, AD62<>0, AA62/AD62, AK62<>0, AH62/AK62, AR62<>0, AO62/AR62, TRUE, 0)} -> #NAME? | BE62: =BC62/BB62 -> #NAME? | BF62: =BC62/BA62 -> #NAME? | BH62: =VLOOKUP(A62, ALL_AP_DATA!$A$2:$D$3600, 3, FALSE) -> 185 | BI62: =VLOOKUP(A62, ALL_AP_DATA!$A$2:$E$3600, 5, FALSE) -> 9356 | BJ62: =BI62/BA62 -> 20.163793 | BK62: =BH62/BA62 -> 0.3987069
A63: DirectX-Graphics-Samples | B63: cpp | C63: 9 | D63: 30 | E63: 11 | F63: 873 | G63: 0.0203 | H63: 0.55 | I63: 0.0306 | Q63: 1 | R63: 2 | S63: 4 | T63: 716 | U63: 0.0014 | V63: 0.2 | W63: 0.0251 | X63: 2389 | Y63: 685 | Z63: 17 | AA63: 26612 | AB63: 0.4625 | AC63: 0.85 | AD63: 0.9324 | AE63: 42 | AF63: 323 | AG63: 16 | AH63: 26341 | AI63: 0.2181 | AJ63: 0.8 | AK63: 0.923 | AT63: =IF(D63 = 0, "", F63 / D63) -> 29.1 | AU63: =IF(K63 = 0, "", M63 / K63) | AV63: =IF(R63 = 0, "", T63 / R63) -> 358 | AW63: =IF(Y63 = 0, "", AA63 / Y63) -> 38.849635 | AX63: =IF(AF63 = 0, "", AH63 / AF63) -> 81.551084 | AY63: =IF(AM63 = 0, "", AO63 / AM63) | BA63: =VLOOKUP(A63, ALL_AP_DATA!$A$2:$F$3600, 6, FALSE) -> 1481 | BB63: =VLOOKUP(A63, projmetadata!$A$2:$D$2036, 4, FALSE) -> 442360 | BC63: {=_xludf.IFS(I63<>0, F63/I63, P63<>0, M63/P63, W63<>0, T63/W63, AD63<>0, AA63/AD63, AK63<>0, AH63/AK63, AR63<>0, AO63/AR63, TRUE, 0)} -> #NAME? | BE63: =BC63/BB63 -> #NAME? | BF63: =BC63/BA63 -> #NAME? | BH63: =VLOOKUP(A63, ALL_AP_DATA!$A$2:$D$3600, 3, FALSE) -> 749 | BI63: =VLOOKUP(A63, ALL_AP_DATA!$A$2:$E$3600, 5, FALSE) -> 28540 | BJ63: =BI63/BA63 -> 19.270763 | BK63: =BH63/BA63 -> 0.50573937
A64: Discovery | B64: java | C64: 2 | D64: 4 | E64: 4 | F64: 74 | G64: 0.0067 | H64: 0.0193 | I64: 0.005 | Q64: 35 | R64: 195 | S64: 157 | T64: 12123 | U64: 0.3245 | V64: 0.7585 | W64: 0.8218 | X64: 9 | Y64: 54 | Z64: 63 | AA64: 2200 | AB64: 0.0899 | AC64: 0.3043 | AD64: 0.1491 | AE64: 17 | AF64: 82 | AG64: 63 | AH64: 2716 | AI64: 0.1364 | AJ64: 0.3043 | AK64: 0.1841 | AL64: 4 | AM64: 92 | AN64: 75 | AO64: 5408 | AP64: 0.1531 | AQ64: 0.3623 | AR64: 0.3666 | AT64: =IF(D64 = 0, "", F64 / D64) -> 18.5 | AU64: =IF(K64 = 0, "", M64 / K64) | AV64: =IF(R64 = 0, "", T64 / R64) -> 62.169231 | AW64: =IF(Y64 = 0, "", AA64 / Y64) -> 40.740741 | AX64: =IF(AF64 = 0, "", AH64 / AF64) -> 33.121951 | AY64: =IF(AM64 = 0, "", AO64 / AM64) -> 58.782609 | BA64: =VLOOKUP(A64, ALL_AP_DATA!$A$2:$F$3600, 6, FALSE) -> 601 | BB64: =VLOOKUP(A64, projmetadata!$A$2:$D$2036, 4, FALSE) -> 26879 | BC64: {=_xludf.IFS(I64<>0, F64/I64, P64<>0, M64/P64, W64<>0, T64/W64, AD64<>0, AA64/AD64, AK64<>0, AH64/AK64, AR64<>0, AO64/AR64, TRUE, 0)} -> #NAME? | BE64: =BC64/BB64 -> #NAME? | BF64: =BC64/BA64 -> #NAME? | BH64: =VLOOKUP(A64, ALL_AP_DATA!$A$2:$D$3600, 3, FALSE) -> 258 | BI64: =VLOOKUP(A64, ALL_AP_DATA!$A$2:$E$3600, 5, FALSE) -> 14752 | BJ64: =BI64/BA64 -> 24.545757 | BK64: =BH64/BA64 -> 0.42928453
A65: Dozer | B65: java | C65: 11 | D65: 56 | E65: 1 | F65: 2 | G65: 0.0623 | H65: 0.5 | I65: 0.5 | X65: 31 | Y65: 161 | Z65: 1 | AA65: 2 | AB65: 0.1791 | AC65: 0.5 | AD65: 0.5 | AE65: 89 | AF65: 248 | AG65: 0 | AH65: 0 | AI65: 0.2759 | AJ65: 0 | AK65: 0 | AT65: =IF(D65 = 0, "", F65 / D65) -> 0.035714286 | AU65: =IF(K65 = 0, "", M65 / K65) | AV65: =IF(R65 = 0, "", T65 / R65) | AW65: =IF(Y65 = 0, "", AA65 / Y65) -> 0.01242236 | AX65: =IF(AF65 = 0, "", AH65 / AF65) -> 0 | AY65: =IF(AM65 = 0, "", AO65 / AM65) | BA65: =VLOOKUP(A65, ALL_AP_DATA!$A$2:$F$3600, 6, FALSE) -> 899 | BB65: =VLOOKUP(A65, projmetadata!$A$2:$D$2036, 4, FALSE) -> 38208 | BC65: {=_xludf.IFS(I65<>0, F65/I65, P65<>0, M65/P65, W65<>0, T65/W65, AD65<>0, AA65/AD65, AK65<>0, AH65/AK65, AR65<>0, AO65/AR65, TRUE, 0)} -> #NAME? | BE65: =BC65/BB65 -> #NAME? | BF65: =BC65/BA65 -> #NAME? | BH65: =VLOOKUP(A65, ALL_AP_DATA!$A$2:$D$3600, 3, FALSE) -> 363 | BI65: =VLOOKUP(A65, ALL_AP_DATA!$A$2:$E$3600, 5, FALSE) -> 4 | BJ65: =BI65/BA65 -> 0.0044493882 | BK65: =BH65/BA65 -> 0.40378198
A66: EASTL | B66: cpp | C66: 2 | D66: 11 | E66: 6 | F66: 895 | G66: 0.0311 | H66: 0.3158 | I66: 0.0888 | Q66: 1 | R66: 5 | S66: 6 | T66: 1091 | U66: 0.0141 | V66: 0.3158 | W66: 0.1082 | X66: 5 | Y66: 130 | Z66: 18 | AA66: 1664 | AB66: 0.3672 | AC66: 0.9474 | AD66: 0.165 | AE66: 17 | AF66: 100 | AG66: 14 | AH66: 1546 | AI66: 0.2825 | AJ66: 0.7368 | AK66: 0.1533 | AT66: =IF(D66 = 0, "", F66 / D66) -> 81.363636 | AU66: =IF(K66 = 0, "", M66 / K66) | AV66: =IF(R66 = 0, "", T66 / R66) -> 218.2 | AW66: =IF(Y66 = 0, "", AA66 / Y66) -> 12.8 | AX66: =IF(AF66 = 0, "", AH66 / AF66) -> 15.46 | AY66: =IF(AM66 = 0, "", AO66 / AM66) | BA66: =VLOOKUP(A66, ALL_AP_DATA!$A$2:$F$3600, 6, FALSE) -> 354 | BB66: =VLOOKUP(A66, projmetadata!$A$2:$D$2036, 4, FALSE) -> 104700 | BC66: {=_xludf.IFS(I66<>0, F66/I66, P66<>0, M66/P66, W66<>0, T66/W66, AD66<>0, AA66/AD66, AK66<>0, AH66/AK66, AR66<>0, AO66/AR66, TRUE, 0)} -> #NAME? | BE66: =BC66/BB66 -> #NAME? | BF66: =BC66/BA66 -> #NAME? | BH66: =VLOOKUP(A66, ALL_AP_DATA!$A$2:$D$3600, 3, FALSE) -> 173 | BI66: =VLOOKUP(A66, ALL_AP_DATA!$A$2:$E$3600, 5, FALSE) -> 10084 | BJ66: =BI66/BA66 -> 28.485876 | BK66: =BH66/BA66 -> 0.48870056
A67: ELF | B67: cpp | X67: 25 | Y67: 294 | Z67: 5 | AA67: 49 | AB67: 0.6592 | AC67: 1 | AD67: 0.5104 | AE67: 15 | AF67: 64 | AG67: 3 | AH67: 61 | AI67: 0.1435 | AJ67: 0.6 | AK67: 0.6354 | AT67: =IF(D67 = 0, "", F67 / D67) | AU67: =IF(K67 = 0, "", M67 / K67) | AV67: =IF(R67 = 0, "", T67 / R67) | AW67: =IF(Y67 = 0, "", AA67 / Y67) -> 0.16666667 | AX67: =IF(AF67 = 0, "", AH67 / AF67) -> 0.953125 | AY67: =IF(AM67 = 0, "", AO67 / AM67) | BA67: =VLOOKUP(A67, ALL_AP_DATA!$A$2:$F$3600, 6, FALSE) -> 446 | BB67: =VLOOKUP(A67, projmetadata!$A$2:$D$2036, 4, FALSE) -> 55383 | BC67: {=_xludf.IFS(I67<>0, F67/I67, P67<>0, M67/P67, W67<>0, T67/W67, AD67<>0, AA67/AD67, AK67<>0, AH67/AK67, AR67<>0, AO67/AR67, TRUE, 0)} -> #NAME? | BE67: =BC67/BB67 -> #NAME? | BF67: =BC67/BA67 -> #NAME? | BH67: =VLOOKUP(A67, ALL_AP_DATA!$A$2:$D$3600, 3, FALSE) -> 314 | BI67: =VLOOKUP(A67, ALL_AP_DATA!$A$2:$E$3600, 5, FALSE) -> 96 | BJ67: =BI67/BA67 -> 0.21524664 | BK67: =BH67/BA67 -> 0.70403587
A68: ELL | B68: cpp | C68: 10 | D68: 78 | E68: 11 | F68: 1300 | G68: 0.0796 | H68: 0.55 | I68: 0.1629 | Q68: 5 | R68: 20 | S68: 13 | T68: 5809 | U68: 0.0204 | V68: 0.65 | W68: 0.7281 | X68: 44 | Y68: 519 | Z68: 19 | AA68: 2329 | AB68: 0.5296 | AC68: 0.95 | AD68: 0.2919 | AE68: 64 | AF68: 274 | AG68: 17 | AH68: 6186 | AI68: 0.2796 | AJ68: 0.85 | AK68: 0.7754 | AL68: 2 | AM68: 19 | AN68: 13 | AO68: 5338 | AP68: 0.0194 | AQ68: 0.65 | AR68: 0.6691 | AT68: =IF(D68 = 0, "", F68 / D68) -> 16.666667 | AU68: =IF(K68 = 0, "", M68 / K68) | AV68: =IF(R68 = 0, "", T68 / R68) -> 290.45 | AW68: =IF(Y68 = 0, "", AA68 / Y68) -> 4.4874759 | AX68: =IF(AF68 = 0, "", AH68 / AF68) -> 22.576642 | AY68: =IF(AM68 = 0, "", AO68 / AM68) -> 280.94737 | BA68: =VLOOKUP(A68, ALL_AP_DATA!$A$2:$F$3600, 6, FALSE) -> 980 | BB68: =VLOOKUP(A68, projmetadata!$A$2:$D$2036, 4, FALSE) -> 142955 | BC68: {=_xludf.IFS(I68<>0, F68/I68, P68<>0, M68/P68, W68<>0, T68/W68, AD68<>0, AA68/AD68, AK68<>0, AH68/AK68, AR68<>0, AO68/AR68, TRUE, 0)} -> #NAME? | BE68: =BC68/BB68 -> #NAME? | BF68: =BC68/BA68 -> #NAME? | BH68: =VLOOKUP(A68, ALL_AP_DATA!$A$2:$D$3600, 3, FALSE) -> 574 | BI68: =VLOOKUP(A68, ALL_AP_DATA!$A$2:$E$3600, 5, FALSE) -> 7978 | BJ68: =BI68/BA68 -> 8.1408163 | BK68: =BH68/BA68 -> 0.58571429
A69: EPIJudge | B69: cpp | C69: 1 | D69: 8 | E69: 4 | F69: 105 | G69: 0.016 | H69: 0.4444 | I69: 0.7609 | Q69: 1 | R69: 2 | S69: 3 | T69: 101 | U69: 0.004 | V69: 0.3333 | W69: 0.7319 | X69: 6 | Y69: 493 | Z69: 9 | AA69: 138 | AB69: 0.986 | AC69: 1 | AD69: 1 | AE69: 2 | AF69: 6 | AG69: 0 | AH69: 0 | AI69: 0.012 | AJ69: 0 | AK69: 0 | AT69: =IF(D69 = 0, "", F69 / D69) -> 13.125 | AU69: =IF(K69 = 0, "", M69 / K69) | AV69: =IF(R69 = 0, "", T69 / R69) -> 50.5 | AW69: =IF(Y69 = 0, "", AA69 / Y69) -> 0.27991886 | AX69: =IF(AF69 = 0, "", AH69 / AF69) -> 0 | AY69: =IF(AM69 = 0, "", AO69 / AM69) | BA69: =VLOOKUP(A69, ALL_AP_DATA!$A$2:$F$3600, 6, FALSE) -> 500 | BB69: =VLOOKUP(A69, projmetadata!$A$2:$D$2036, 4, FALSE) -> 41584 | BC69: {=_xludf.IFS(I69<>0, F69/I69, P69<>0, M69/P69, W69<>0, T69/W69, AD69<>0, AA69/AD69, AK69<>0, AH69/AK69, AR69<>0, AO69/AR69, TRUE, 0)} -> #NAME? | BE69: =BC69/BB69 -> #NAME? | BF69: =BC69/BA69 -> #NAME? | BH69: =VLOOKUP(A69, ALL_AP_DATA!$A$2:$D$3600, 3, FALSE) -> 493 | BI69: =VLOOKUP(A69, ALL_AP_DATA!$A$2:$E$3600, 5, FALSE) -> 138 | BJ69: =BI69/BA69 -> 0.276 | BK69: =BH69/BA69 -> 0.986
A70: EVCache | B70: java | C70: 2 | D70: 25 | E70: 25 | F70: 4631 | G70: 0.2381 | H70: 0.9259 | I70: 0.9337 | Q70: 3 | R70: 8 | S70: 21 | T70: 4710 | U70: 0.0762 | V70: 0.7778 | W70: 0.9496 | X70: 12 | Y70: 54 | Z70: 25 | AA70: 4700 | AB70: 0.5143 | AC70: 0.9259 | AD70: 0.9476 | AE70: 6 | AF70: 20 | AG70: 23 | AH70: 4407 | AI70: 0.1905 | AJ70: 0.8519 | AK70: 0.8885 | AT70: =IF(D70 = 0, "", F70 / D70) -> 185.24 | AU70: =IF(K70 = 0, "", M70 / K70) | AV70: =IF(R70 = 0, "", T70 / R70) -> 588.75 | AW70: =IF(Y70 = 0, "", AA70 / Y70) -> 87.037037 | AX70: =IF(AF70 = 0, "", AH70 / AF70) -> 220.35 | AY70: =IF(AM70 = 0, "", AO70 / AM70) | BA70: =VLOOKUP(A70, ALL_AP_DATA!$A$2:$F$3600, 6, FALSE) -> 105 | BB70: =VLOOKUP(A70, projmetadata!$A$2:$D$2036, 4, FALSE) -> 15422 | BC70: {=_xludf.IFS(I70<>0, F70/I70, P70<>0, M70/P70, W70<>0, T70/W70, AD70<>0, AA70/AD70, AK70<>0, AH70/AK70, AR70<>0, AO70/AR70, TRUE, 0)} -> #NAME? | BE70: =BC70/BB70 -> #NAME? | BF70: =BC70/BA70 -> #NAME? | BH70: =VLOOKUP(A70, ALL_AP_DATA!$A$2:$D$3600, 3, FALSE) -> 61 | BI70: =VLOOKUP(A70, ALL_AP_DATA!$A$2:$E$3600, 5, FALSE) -> 4960 | BJ70: =BI70/BA70 -> 47.238095 | BK70: =BH70/BA70 -> 0.58095238
A71: EasyTransaction | B71: java | C71: 3 | D71: 35 | E71: 2 | F71: 39 | G71: 0.1064 | H71: 0.2857 | I71: 0.3145 | Q71: 1 | R71: 2 | S71: 2 | T71: 24 | U71: 0.0061 | V71: 0.2857 | W71: 0.1935 | X71: 38 | Y71: 102 | Z71: 4 | AA71: 56 | AB71: 0.31 | AC71: 0.5714 | AD71: 0.4516 | AE71: 31 | AF71: 105 | AG71: 2 | AH71: 40 | AI71: 0.3191 | AJ71: 0.2857 | AK71: 0.3226 | AT71: =IF(D71 = 0, "", F71 / D71) -> 1.1142857 | AU71: =IF(K71 = 0, "", M71 / K71) | AV71: =IF(R71 = 0, "", T71 / R71) -> 12 | AW71: =IF(Y71 = 0, "", AA71 / Y71) -> 0.54901961 | AX71: =IF(AF71 = 0, "", AH71 / AF71) -> 0.38095238 | AY71: =IF(AM71 = 0, "", AO71 / AM71) | BA71: =VLOOKUP(A71, ALL_AP_DATA!$A$2:$F$3600, 6, FALSE) -> 329 | BB71: =VLOOKUP(A71, projmetadata!$A$2:$D$2036, 4, FALSE) -> 12883 | BC71: {=_xludf.IFS(I71<>0, F71/I71, P71<>0, M71/P71, W71<>0, T71/W71, AD71<>0, AA71/AD71, AK71<>0, AH71/AK71, AR71<>0, AO71/AR71, TRUE, 0)} -> #NAME? | BE71: =BC71/BB71 -> #NAME? | BF71: =BC71/BA71 -> #NAME? | BH71: =VLOOKUP(A71, ALL_AP_DATA!$A$2:$D$3600, 3, FALSE) -> 167 | BI71: =VLOOKUP(A71, ALL_AP_DATA!$A$2:$E$3600, 5, FALSE) -> 124 | BJ71: =BI71/BA71 -> 0.3768997 | BK71: =BH71/BA71 -> 0.50759878
A72: EhViewer | B72: java | C72: 4 | D72: 97 | E72: 220 | F72: 8329 | G72: 0.3356 | H72: 0.8462 | I72: 0.6108 | J72: 2 | K72: 20 | L72: 141 | M72: 4305 | N72: 0.0692 | O72: 0.5423 | P72: 0.3157 | Q72: 9 | R72: 39 | S72: 194 | T72: 7427 | U72: 0.1349 | V72: 0.7462 | W72: 0.5446 | X72: 19 | Y72: 120 | Z72: 220 | AA72: 9099 | AB72: 0.4152 | AC72: 0.8462 | AD72: 0.6672 | AE72: 27 | AF72: 94 | AG72: 195 | AH72: 7191 | AI72: 0.3253 | AJ72: 0.75 | AK72: 0.5273 | AT72: =IF(D72 = 0, "", F72 / D72) -> 85.865979 | AU72: =IF(K72 = 0, "", M72 / K72) -> 215.25 | AV72: =IF(R72 = 0, "", T72 / R72) -> 190.4359 | AW72: =IF(Y72 = 0, "", AA72 / Y72) -> 75.825 | AX72: =IF(AF72 = 0, "", AH72 / AF72) -> 76.5 | AY72: =IF(AM72 = 0, "", AO72 / AM72) | BA72: =VLOOKUP(A72, ALL_AP_DATA!$A$2:$F$3600, 6, FALSE) -> 289 | BB72: =VLOOKUP(A72, projmetadata!$A$2:$D$2036, 4, FALSE) -> 43260 | BC72: {=_xludf.IFS(I72<>0, F72/I72, P72<>0, M72/P72, W72<>0, T72/W72, AD72<>0, AA72/AD72, AK72<>0, AH72/AK72, AR72<>0, AO72/AR72, TRUE, 0)} -> #NAME? | BE72: =BC72/BB72 -> #NAME? | BF72: =BC72/BA72 -> #NAME? | BH72: =VLOOKUP(A72, ALL_AP_DATA!$A$2:$D$3600, 3, FALSE) -> 163 | BI72: =VLOOKUP(A72, ALL_AP_DATA!$A$2:$E$3600, 5, FALSE) -> 13637 | BJ72: =BI72/BA72 -> 47.186851 | BK72: =BH72/BA72 -> 0.56401384
A73: EternalTerminal | B73: cpp | C73: 28 | D73: 65 | E73: 0 | F73: 0 | G73: 0.0172 | H73: 0 | I73: 0 | Q73: 4 | R73: 11 | S73: 23 | T73: 601 | U73: 0.0029 | V73: 0.7188 | W73: 0.2718 | X73: 150 | Y73: 1518 | Z73: 0 | AA73: 0 | AB73: 0.4013 | AC73: 0 | AD73: 0 | AE73: 146 | AF73: 603 | AG73: 6 | AH73: 101 | AI73: 0.1594 | AJ73: 0.1875 | AK73: 0.0457 | AT73: =IF(D73 = 0, "", F73 / D73) -> 0 | AU73: =IF(K73 = 0, "", M73 / K73) | AV73: =IF(R73 = 0, "", T73 / R73) -> 54.636364 | AW73: =IF(Y73 = 0, "", AA73 / Y73) -> 0 | AX73: =IF(AF73 = 0, "", AH73 / AF73) -> 0.16749585 | AY73: =IF(AM73 = 0, "", AO73 / AM73) | BA73: =VLOOKUP(A73, ALL_AP_DATA!$A$2:$F$3600, 6, FALSE) -> 3783 | BB73: =VLOOKUP(A73, projmetadata!$A$2:$D$2036, 4, FALSE) -> 535730 | BC73: {=_xludf.IFS(I73<>0, F73/I73, P73<>0, M73/P73, W73<>0, T73/W73, AD73<>0, AA73/AD73, AK73<>0, AH73/AK73, AR73<>0, AO73/AR73, TRUE, 0)} -> #NAME? | BE73: =BC73/BB73 -> #NAME? | BF73: =BC73/BA73 -> #NAME? | BH73: =VLOOKUP(A73, ALL_AP_DATA!$A$2:$D$3600, 3, FALSE) -> 1760 | BI73: =VLOOKUP(A73, ALL_AP_DATA!$A$2:$E$3600, 5, FALSE) -> 2211 | BJ73: =BI73/BA73 -> 0.58445678 | BK73: =BH73/BA73 -> 0.46523923
A74: FBReaderJ | B74: java | C74: 31 | D74: 268 | E74: 427 | F74: 14852 | G74: 0.3333 | H74: 0.6887 | I74: 0.4886 | J74: 7 | K74: 76 | L74: 421 | M74: 17691 | N74: 0.0945 | O74: 0.679 | P74: 0.582 | Q74: 27 | R74: 141 | S74: 490 | T74: 23847 | U74: 0.1754 | V74: 0.7903 | W74: 0.7845 | X74: 38 | Y74: 232 | Z74: 406 | AA74: 16694 | AB74: 0.2886 | AC74: 0.6548 | AD74: 0.5492 | AE74: 101 | AF74: 398 | AG74: 537 | AH74: 24548 | AI74: 0.495 | AJ74: 0.8661 | AK74: 0.8076 | AL74: 6 | AM74: 77 | AN74: 405 | AO74: 16825 | AP74: 0.0958 | AQ74: 0.6532 | AR74: 0.5535 | AT74: =IF(D74 = 0, "", F74 / D74) -> 55.41791 | AU74: =IF(K74 = 0, "", M74 / K74) -> 232.77632 | AV74: =IF(R74 = 0, "", T74 / R74) -> 169.12766 | AW74: =IF(Y74 = 0, "", AA74 / Y74) -> 71.956897 | AX74: =IF(AF74 = 0, "", AH74 / AF74) -> 61.678392 | AY74: =IF(AM74 = 0, "", AO74 / AM74) -> 218.50649 | BA74: =VLOOKUP(A74, ALL_AP_DATA!$A$2:$F$3600, 6, FALSE) -> 804 | BB74: =VLOOKUP(A74, projmetadata!$A$2:$D$2036, 4, FALSE) -> 70587 | BC74: {=_xludf.IFS(I74<>0, F74/I74, P74<>0, M74/P74, W74<>0, T74/W74, AD74<>0, AA74/AD74, AK74<>0, AH74/AK74, AR74<>0, AO74/AR74, TRUE, 0)} -> #NAME? | BE74: =BC74/BB74 -> #NAME? | BF74: =BC74/BA74 -> #NAME? | BH74: =VLOOKUP(A74, ALL_AP_DATA!$A$2:$D$3600, 3, FALSE) -> 528 | BI74: =VLOOKUP(A74, ALL_AP_DATA!$A$2:$E$3600, 5, FALSE) -> 30396 | BJ74: =BI74/BA74 -> 37.80597 | BK74: =BH74/BA74 -> 0.65671642
A75: FEBS-Cloud | B75: java | X75: 3 | Y75: 8 | Z75: 0 | AA75: 0 | AB75: 0.0301 | AC75: 0 | AD75: 0 | AE75: 1 | AF75: 5 | AG75: 0 | AH75: 0 | AI75: 0.0188 | AJ75: 0 | AK75: 0 | AT75: =IF(D75 = 0, "", F75 / D75) | AU75: =IF(K75 = 0, "", M75 / K75) | AV75: =IF(R75 = 0, "", T75 / R75) | AW75: =IF(Y75 = 0, "", AA75 / Y75) -> 0 | AX75: =IF(AF75 = 0, "", AH75 / AF75) -> 0 | AY75: =IF(AM75 = 0, "", AO75 / AM75) | BA75: =VLOOKUP(A75, ALL_AP_DATA!$A$2:$F$3600, 6, FALSE) -> 266 | BB75: =VLOOKUP(A75, projmetadata!$A$2:$D$2036, 4, FALSE) -> 9845 | BC75: {=_xludf.IFS(I75<>0, F75/I75, P75<>0, M75/P75, W75<>0, T75/W75, AD75<>0, AA75/AD75, AK75<>0, AH75/AK75, AR75<>0, AO75/AR75, TRUE, 0)} -> #NAME? | BE75: =BC75/BB75 -> #NAME? | BF75: =BC75/BA75 -> #NAME? | BH75: =VLOOKUP(A75, ALL_AP_DATA!$A$2:$D$3600, 3, FALSE) -> 13 | BI75: =VLOOKUP(A75, ALL_AP_DATA!$A$2:$E$3600, 5, FALSE) -> 29 | BJ75: =BI75/BA75 -> 0.10902256 | BK75: =BH75/BA75 -> 0.04887218
A76: FarPlaneTwo | B76: java | C76: 5 | D76: 87 | E76: 204 | F76: 15698 | G76: 0.1925 | H76: 0.6846 | I76: 0.3364 | J76: 4 | K76: 46 | L76: 176 | M76: 12686 | N76: 0.1018 | O76: 0.5906 | P76: 0.2719 | Q76: 46 | R76: 193 | S76: 281 | T76: 37487 | U76: 0.427 | V76: 0.943 | W76: 0.8034 | X76: 49 | Y76: 179 | Z76: 232 | AA76: 17091 | AB76: 0.396 | AC76: 0.7785 | AD76: 0.3663 | AE76: 49 | AF76: 165 | AG76: 209 | AH76: 24066 | AI76: 0.365 | AJ76: 0.7013 | AK76: 0.5158 | AL76: 3 | AM76: 78 | AN76: 230 | AO76: 19622 | AP76: 0.1726 | AQ76: 0.7718 | AR76: 0.4205 | AT76: =IF(D76 = 0, "", F76 / D76) -> 180.43678 | AU76: =IF(K76 = 0, "", M76 / K76) -> 275.78261 | AV76: =IF(R76 = 0, "", T76 / R76) -> 194.23316 | AW76: =IF(Y76 = 0, "", AA76 / Y76) -> 95.480447 | AX76: =IF(AF76 = 0, "", AH76 / AF76) -> 145.85455 | AY76: =IF(AM76 = 0, "", AO76 / AM76) -> 251.5641 | BA76: =VLOOKUP(A76, ALL_AP_DATA!$A$2:$F$3600, 6, FALSE) -> 452 | BB76: =VLOOKUP(A76, projmetadata!$A$2:$D$2036, 4, FALSE) -> 28767 | BC76: {=_xludf.IFS(I76<>0, F76/I76, P76<>0, M76/P76, W76<>0, T76/W76, AD76<>0, AA76/AD76, AK76<>0, AH76/AK76, AR76<>0, AO76/AR76, TRUE, 0)} -> #NAME? | BE76: =BC76/BB76 -> #NAME? | BF76: =BC76/BA76 -> #NAME? | BH76: =VLOOKUP(A76, ALL_AP_DATA!$A$2:$D$3600, 3, FALSE) -> 325 | BI76: =VLOOKUP(A76, ALL_AP_DATA!$A$2:$E$3600, 5, FALSE) -> 46661 | BJ76: =BI76/BA76 -> 103.2323 | BK76: =BH76/BA76 -> 0.71902655
A77: Fast-Android-Networking | B77: java | C77: 4 | D77: 17 | E77: 16 | F77: 796 | G77: 0.1308 | H77: 0.4848 | I77: 0.2756 | Q77: 3 | R77: 8 | S77: 13 | T77: 693 | U77: 0.0615 | V77: 0.3939 | W77: 0.24 | X77: 10 | Y77: 43 | Z77: 14 | AA77: 610 | AB77: 0.3308 | AC77: 0.4242 | AD77: 0.2112 | AE77: 3 | AF77: 12 | AG77: 14 | AH77: 1025 | AI77: 0.0923 | AJ77: 0.4242 | AK77: 0.3549 | AT77: =IF(D77 = 0, "", F77 / D77) -> 46.823529 | AU77: =IF(K77 = 0, "", M77 / K77) | AV77: =IF(R77 = 0, "", T77 / R77) -> 86.625 | AW77: =IF(Y77 = 0, "", AA77 / Y77) -> 14.186047 | AX77: =IF(AF77 = 0, "", AH77 / AF77) -> 85.416667 | AY77: =IF(AM77 = 0, "", AO77 / AM77) | BA77: =VLOOKUP(A77, ALL_AP_DATA!$A$2:$F$3600, 6, FALSE) -> 130 | BB77: =VLOOKUP(A77, projmetadata!$A$2:$D$2036, 4, FALSE) -> 16504 | BC77: {=_xludf.IFS(I77<>0, F77/I77, P77<>0, M77/P77, W77<>0, T77/W77, AD77<>0, AA77/AD77, AK77<>0, AH77/AK77, AR77<>0, AO77/AR77, TRUE, 0)} -> #NAME? | BE77: =BC77/BB77 -> #NAME? | BF77: =BC77/BA77 -> #NAME? | BH77: =VLOOKUP(A77, ALL_AP_DATA!$A$2:$D$3600, 3, FALSE) -> 53 | BI77: =VLOOKUP(A77, ALL_AP_DATA!$A$2:$E$3600, 5, FALSE) -> 2888 | BJ77: =BI77/BA77 -> 22.215385 | BK77: =BH77/BA77 -> 0.40769231
A78: FastLED | B78: cpp | Q78: 4 | R78: 11 | S78: 23 | T78: 647 | U78: 0.0957 | V78: 0.4035 | W78: 0.3645 | X78: 3 | Y78: 14 | Z78: 23 | AA78: 262 | AB78: 0.1217 | AC78: 0.4035 | AD78: 0.1476 | AE78: 1 | AF78: 3 | AG78: 5 | AH78: 28 | AI78: 0.0261 | AJ78: 0.0877 | AK78: 0.0158 | AT78: =IF(D78 = 0, "", F78 / D78) | AU78: =IF(K78 = 0, "", M78 / K78) | AV78: =IF(R78 = 0, "", T78 / R78) -> 58.818182 | AW78: =IF(Y78 = 0, "", AA78 / Y78) -> 18.714286 | AX78: =IF(AF78 = 0, "", AH78 / AF78) -> 9.3333333 | AY78: =IF(AM78 = 0, "", AO78 / AM78) | BA78: =VLOOKUP(A78, ALL_AP_DATA!$A$2:$F$3600, 6, FALSE) -> 115 | BB78: =VLOOKUP(A78, projmetadata!$A$2:$D$2036, 4, FALSE) -> 16275 | BC78: {=_xludf.IFS(I78<>0, F78/I78, P78<>0, M78/P78, W78<>0, T78/W78, AD78<>0, AA78/AD78, AK78<>0, AH78/AK78, AR78<>0, AO78/AR78, TRUE, 0)} -> #NAME? | BE78: =BC78/BB78 -> #NAME? | BF78: =BC78/BA78 -> #NAME? | BH78: =VLOOKUP(A78, ALL_AP_DATA!$A$2:$D$3600, 3, FALSE) -> 23 | BI78: =VLOOKUP(A78, ALL_AP_DATA!$A$2:$E$3600, 5, FALSE) -> 1775 | BJ78: =BI78/BA78 -> 15.434783 | BK78: =BH78/BA78 -> 0.2
A79: FileDownloader | B79: java | C79: 4 | D79: 49 | E79: 16 | F79: 738 | G79: 0.4188 | H79: 0.64 | I79: 0.7137 | Q79: 2 | R79: 5 | S79: 5 | T79: 159 | U79: 0.0427 | V79: 0.2 | W79: 0.1538 | X79: 20 | Y79: 76 | Z79: 22 | AA79: 744 | AB79: 0.6496 | AC79: 0.88 | AD79: 0.7195 | AE79: 13 | AF79: 40 | AG79: 6 | AH79: 117 | AI79: 0.3419 | AJ79: 0.24 | AK79: 0.1132 | AT79: =IF(D79 = 0, "", F79 / D79) -> 15.061224 | AU79: =IF(K79 = 0, "", M79 / K79) | AV79: =IF(R79 = 0, "", T79 / R79) -> 31.8 | AW79: =IF(Y79 = 0, "", AA79 / Y79) -> 9.7894737 | AX79: =IF(AF79 = 0, "", AH79 / AF79) -> 2.925 | AY79: =IF(AM79 = 0, "", AO79 / AM79) | BA79: =VLOOKUP(A79, ALL_AP_DATA!$A$2:$F$3600, 6, FALSE) -> 117 | BB79: =VLOOKUP(A79, projmetadata!$A$2:$D$2036, 4, FALSE) -> 14937 | BC79: {=_xludf.IFS(I79<>0, F79/I79, P79<>0, M79/P79, W79<>0, T79/W79, AD79<>0, AA79/AD79, AK79<>0, AH79/AK79, AR79<>0, AO79/AR79, TRUE, 0)} -> #NAME? | BE79: =BC79/BB79 -> #NAME? | BF79: =BC79/BA79 -> #NAME? | BH79: =VLOOKUP(A79, ALL_AP_DATA!$A$2:$D$3600, 3, FALSE) -> 89 | BI79: =VLOOKUP(A79, ALL_AP_DATA!$A$2:$E$3600, 5, FALSE) -> 1034 | BJ79: =BI79/BA79 -> 8.8376068 | BK79: =BH79/BA79 -> 0.76068376
A80: FirebaseUI-Android | B80: java | C80: 2 | D80: 60 | E80: 16 | F80: 433 | G80: 0.2899 | H80: 0.5517 | I80: 0.2013 | Q80: 1 | R80: 3 | S80: 5 | T80: 151 | U80: 0.0145 | V80: 0.1724 | W80: 0.0702 | X80: 13 | Y80: 63 | Z80: 9 | AA80: 100 | AB80: 0.3043 | AC80: 0.3103 | AD80: 0.0465 | AE80: 22 | AF80: 98 | AG80: 10 | AH80: 446 | AI80: 0.4734 | AJ80: 0.3448 | AK80: 0.2073 | AT80: =IF(D80 = 0, "", F80 / D80) -> 7.2166667 | AU80: =IF(K80 = 0, "", M80 / K80) | AV80: =IF(R80 = 0, "", T80 / R80) -> 50.333333 | AW80: =IF(Y80 = 0, "", AA80 / Y80) -> 1.5873016 | AX80: =IF(AF80 = 0, "", AH80 / AF80) -> 4.5510204 | AY80: =IF(AM80 = 0, "", AO80 / AM80) | BA80: =VLOOKUP(A80, ALL_AP_DATA!$A$2:$F$3600, 6, FALSE) -> 207 | BB80: =VLOOKUP(A80, projmetadata!$A$2:$D$2036, 4, FALSE) -> 18016 | BC80: {=_xludf.IFS(I80<>0, F80/I80, P80<>0, M80/P80, W80<>0, T80/W80, AD80<>0, AA80/AD80, AK80<>0, AH80/AK80, AR80<>0, AO80/AR80, TRUE, 0)} -> #NAME? | BE80: =BC80/BB80 -> #NAME? | BF80: =BC80/BA80 -> #NAME? | BH80: =VLOOKUP(A80, ALL_AP_DATA!$A$2:$D$3600, 3, FALSE) -> 131 | BI80: =VLOOKUP(A80, ALL_AP_DATA!$A$2:$E$3600, 5, FALSE) -> 2151 | BJ80: =BI80/BA80 -> 10.391304 | BK80: =BH80/BA80 -> 0.63285024
A81: FlatLaf | B81: java | C81: 7 | D81: 58 | E81: 262 | F81: 16936 | G81: 0.1408 | H81: 0.6633 | I81: 0.4925 | J81: 3 | K81: 21 | L81: 167 | M81: 13192 | N81: 0.051 | O81: 0.4228 | P81: 0.3836 | Q81: 17 | R81: 77 | S81: 316 | T81: 22005 | U81: 0.1869 | V81: 0.8 | W81: 0.6399 | X81: 5 | Y81: 99 | Z81: 237 | AA81: 10089 | AB81: 0.2403 | AC81: 0.6 | AD81: 0.2934 | AE81: 20 | AF81: 124 | AG81: 319 | AH81: 20877 | AI81: 0.301 | AJ81: 0.8076 | AK81: 0.6071 | AL81: 2 | AM81: 41 | AN81: 189 | AO81: 8769 | AP81: 0.0995 | AQ81: 0.4785 | AR81: 0.255 | AT81: =IF(D81 = 0, "", F81 / D81) -> 292 | AU81: =IF(K81 = 0, "", M81 / K81) -> 628.19048 | AV81: =IF(R81 = 0, "", T81 / R81) -> 285.77922 | AW81: =IF(Y81 = 0, "", AA81 / Y81) -> 101.90909 | AX81: =IF(AF81 = 0, "", AH81 / AF81) -> 168.3629 | AY81: =IF(AM81 = 0, "", AO81 / AM81) -> 213.87805 | BA81: =VLOOKUP(A81, ALL_AP_DATA!$A$2:$F$3600, 6, FALSE) -> 412 | BB81: =VLOOKUP(A81, projmetadata!$A$2:$D$2036, 4, FALSE) -> 64795 | BC81: {=_xludf.IFS(I81<>0, F81/I81, P81<>0, M81/P81, W81<>0, T81/W81, AD81<>0, AA81/AD81, AK81<>0, AH81/AK81, AR81<>0, AO81/AR81, TRUE, 0)} -> #NAME? | BE81: =BC81/BB81 -> #NAME? | BF81: =BC81/BA81 -> #NAME? | BH81: =VLOOKUP(A81, ALL_AP_DATA!$A$2:$D$3600, 3, FALSE) -> 199 | BI81: =VLOOKUP(A81, ALL_AP_DATA!$A$2:$E$3600, 5, FALSE) -> 34390 | BJ81: =BI81/BA81 -> 83.470874 | BK81: =BH81/BA81 -> 0.48300971
A82: FlexibleAdapter | B82: java | C82: 2 | D82: 21 | E82: 54 | F82: 1907 | G82: 0.1429 | H82: 0.6835 | I82: 0.233 | J82: 2 | K82: 26 | L82: 65 | M82: 2564 | N82: 0.1769 | O82: 0.8228 | P82: 0.3133 | Q82: 9 | R82: 35 | S82: 69 | T82: 6565 | U82: 0.2381 | V82: 0.8734 | W82: 0.8022 | X82: 9 | Y82: 61 | Z82: 68 | AA82: 2895 | AB82: 0.415 | AC82: 0.8608 | AD82: 0.3537 | AE82: 18 | AF82: 89 | AG82: 73 | AH82: 4474 | AI82: 0.6054 | AJ82: 0.9241 | AK82: 0.5467 | AL82: 1 | AM82: 24 | AN82: 66 | AO82: 2720 | AP82: 0.1633 | AQ82: 0.8354 | AR82: 0.3324 | AT82: =IF(D82 = 0, "", F82 / D82) -> 90.809524 | AU82: =IF(K82 = 0, "", M82 / K82) -> 98.615385 | AV82: =IF(R82 = 0, "", T82 / R82) -> 187.57143 | AW82: =IF(Y82 = 0, "", AA82 / Y82) -> 47.459016 | AX82: =IF(AF82 = 0, "", AH82 / AF82) -> 50.269663 | AY82: =IF(AM82 = 0, "", AO82 / AM82) -> 113.33333 | BA82: =VLOOKUP(A82, ALL_AP_DATA!$A$2:$F$3600, 6, FALSE) -> 147 | BB82: =VLOOKUP(A82, projmetadata!$A$2:$D$2036, 4, FALSE) -> 16704 | BC82: {=_xludf.IFS(I82<>0, F82/I82, P82<>0, M82/P82, W82<>0, T82/W82, AD82<>0, AA82/AD82, AK82<>0, AH82/AK82, AR82<>0, AO82/AR82, TRUE, 0)} -> #NAME? | BE82: =BC82/BB82 -> #NAME? | BF82: =BC82/BA82 -> #NAME? | BH82: =VLOOKUP(A82, ALL_AP_DATA!$A$2:$D$3600, 3, FALSE) -> 116 | BI82: =VLOOKUP(A82, ALL_AP_DATA!$A$2:$E$3600, 5, FALSE) -> 8184 | BJ82: =BI82/BA82 -> 55.673469 | BK82: =BH82/BA82 -> 0.78911565
A83: GacUI | B83: cpp | C83: 1 | D83: 2 | E83: 6 | F83: 50406 | G83: 0.0047 | H83: 0.0397 | I83: 0.164 | J83: 2 | K83: 20 | L83: 68 | M83: 82287 | N83: 0.0473 | O83: 0.4503 | P83: 0.2677 | Q83: 28 | R83: 114 | S83: 113 | T83: 282575 | U83: 0.2695 | V83: 0.7483 | W83: 0.9191 | X83: 56 | Y83: 258 | Z83: 95 | AA83: 183496 | AB83: 0.6099 | AC83: 0.6291 | AD83: 0.5969 | AE83: 50 | AF83: 259 | AG83: 135 | AH83: 216581 | AI83: 0.6123 | AJ83: 0.894 | AK83: 0.7045 | AL83: 2 | AM83: 35 | AN83: 74 | AO83: 107339 | AP83: 0.0827 | AQ83: 0.4901 | AR83: 0.3491 | AT83: =IF(D83 = 0, "", F83 / D83) -> 25203 | AU83: =IF(K83 = 0, "", M83 / K83) -> 4114.35 | AV83: =IF(R83 = 0, "", T83 / R83) -> 2478.7281 | AW83: =IF(Y83 = 0, "", AA83 / Y83) -> 711.22481 | AX83: =IF(AF83 = 0, "", AH83 / AF83) -> 836.22008 | AY83: =IF(AM83 = 0, "", AO83 / AM83) -> 3066.8286 | BA83: =VLOOKUP(A83, ALL_AP_DATA!$A$2:$F$3600, 6, FALSE) -> 423 | BB83: =VLOOKUP(A83, projmetadata!$A$2:$D$2036, 4, FALSE) -> 495588 | BC83: {=_xludf.IFS(I83<>0, F83/I83, P83<>0, M83/P83, W83<>0, T83/W83, AD83<>0, AA83/AD83, AK83<>0, AH83/AK83, AR83<>0, AO83/AR83, TRUE, 0)} -> #NAME? | BE83: =BC83/BB83 -> #NAME? | BF83: =BC83/BA83 -> #NAME? | BH83: =VLOOKUP(A83, ALL_AP_DATA!$A$2:$D$3600, 3, FALSE) -> 364 | BI83: =VLOOKUP(A83, ALL_AP_DATA!$A$2:$E$3600, 5, FALSE) -> 307437 | BJ83: =BI83/BA83 -> 726.80142 | BK83: =BH83/BA83 -> 0.86052009
A84: Gadgetbridge | B84: java | C84: 2 | D84: 690 | E84: 341 | F84: 24649 | G84: 0.6319 | H84: 0.942 | I84: 0.87 | J84: 1 | K84: 16 | L84: 91 | M84: 2405 | N84: 0.0147 | O84: 0.2514 | P84: 0.0849 | Q84: 21 | R84: 106 | S84: 262 | T84: 16936 | U84: 0.0971 | V84: 0.7238 | W84: 0.5978 | X84: 185 | Y84: 630 | Z84: 318 | AA84: 21418 | AB84: 0.5769 | AC84: 0.8785 | AD84: 0.756 | AE84: 96 | AF84: 556 | AG84: 263 | AH84: 15833 | AI84: 0.5092 | AJ84: 0.7265 | AK84: 0.5589 | AL84: 2 | AM84: 53 | AN84: 201 | AO84: 11298 | AP84: 0.0485 | AQ84: 0.5552 | AR84: 0.3988 | AT84: =IF(D84 = 0, "", F84 / D84) -> 35.723188 | AU84: =IF(K84 = 0, "", M84 / K84) -> 150.3125 | AV84: =IF(R84 = 0, "", T84 / R84) -> 159.77358 | AW84: =IF(Y84 = 0, "", AA84 / Y84) -> 33.996825 | AX84: =IF(AF84 = 0, "", AH84 / AF84) -> 28.476619 | AY84: =IF(AM84 = 0, "", AO84 / AM84) -> 213.16981 | BA84: =VLOOKUP(A84, ALL_AP_DATA!$A$2:$F$3600, 6, FALSE) -> 1092 | BB84: =VLOOKUP(A84, projmetadata!$A$2:$D$2036, 4, FALSE) -> 120271 | BC84: {=_xludf.IFS(I84<>0, F84/I84, P84<>0, M84/P84, W84<>0, T84/W84, AD84<>0, AA84/AD84, AK84<>0, AH84/AK84, AR84<>0, AO84/AR84, TRUE, 0)} -> #NAME? | BE84: =BC84/BB84 -> #NAME? | BF84: =BC84/BA84 -> #NAME? | BH84: =VLOOKUP(A84, ALL_AP_DATA!$A$2:$D$3600, 3, FALSE) -> 919 | BI84: =VLOOKUP(A84, ALL_AP_DATA!$A$2:$E$3600, 5, FALSE) -> 28331 | BJ84: =BI84/BA84 -> 25.944139 | BK84: =BH84/BA84 -> 0.84157509
A85: GameNetworkingSockets | B85: cpp | J85: 2 | K85: 13 | L85: 120 | M85: 12787 | N85: 0.0722 | O85: 0.6186 | P85: 0.5075 | Q85: 7 | R85: 24 | S85: 148 | T85: 18974 | U85: 0.1333 | V85: 0.7629 | W85: 0.753 | X85: 5 | Y85: 45 | Z85: 151 | AA85: 17407 | AB85: 0.25 | AC85: 0.7784 | AD85: 0.6908 | AE85: 11 | AF85: 36 | AG85: 157 | AH85: 21173 | AI85: 0.2 | AJ85: 0.8093 | AK85: 0.8403 | AL85: 1 | AM85: 12 | AN85: 120 | AO85: 11980 | AP85: 0.0667 | AQ85: 0.6186 | AR85: 0.4755 | AT85: =IF(D85 = 0, "", F85 / D85) | AU85: =IF(K85 = 0, "", M85 / K85) -> 983.61538 | AV85: =IF(R85 = 0, "", T85 / R85) -> 790.58333 | AW85: =IF(Y85 = 0, "", AA85 / Y85) -> 386.82222 | AX85: =IF(AF85 = 0, "", AH85 / AF85) -> 588.13889 | AY85: =IF(AM85 = 0, "", AO85 / AM85) -> 998.33333 | BA85: =VLOOKUP(A85, ALL_AP_DATA!$A$2:$F$3600, 6, FALSE) -> 180 | BB85: =VLOOKUP(A85, projmetadata!$A$2:$D$2036, 4, FALSE) -> 58191 | BC85: {=_xludf.IFS(I85<>0, F85/I85, P85<>0, M85/P85, W85<>0, T85/W85, AD85<>0, AA85/AD85, AK85<>0, AH85/AK85, AR85<>0, AO85/AR85, TRUE, 0)} -> #NAME? | BE85: =BC85/BB85 -> #NAME? | BF85: =BC85/BA85 -> #NAME? | BH85: =VLOOKUP(A85, ALL_AP_DATA!$A$2:$D$3600, 3, FALSE) -> 63 | BI85: =VLOOKUP(A85, ALL_AP_DATA!$A$2:$E$3600, 5, FALSE) -> 25197 | BJ85: =BI85/BA85 -> 139.98333 | BK85: =BH85/BA85 -> 0.35
A86: GeekNews | B86: java | C86: 5 | D86: 17 | E86: 1 | F86: 12 | G86: 0.0876 | H86: 0.3333 | I86: 0.6667 | X86: 22 | Y86: 66 | Z86: 2 | AA86: 6 | AB86: 0.3402 | AC86: 0.6667 | AD86: 0.3333 | AE86: 4 | AF86: 26 | AG86: 1 | AH86: 4 | AI86: 0.134 | AJ86: 0.3333 | AK86: 0.2222 | AT86: =IF(D86 = 0, "", F86 / D86) -> 0.70588235 | AU86: =IF(K86 = 0, "", M86 / K86) | AV86: =IF(R86 = 0, "", T86 / R86) | AW86: =IF(Y86 = 0, "", AA86 / Y86) -> 0.090909091 | AX86: =IF(AF86 = 0, "", AH86 / AF86) -> 0.15384615 | AY86: =IF(AM86 = 0, "", AO86 / AM86) | BA86: =VLOOKUP(A86, ALL_AP_DATA!$A$2:$F$3600, 6, FALSE) -> 194 | BB86: =VLOOKUP(A86, projmetadata!$A$2:$D$2036, 4, FALSE) -> 12167 | BC86: {=_xludf.IFS(I86<>0, F86/I86, P86<>0, M86/P86, W86<>0, T86/W86, AD86<>0, AA86/AD86, AK86<>0, AH86/AK86, AR86<>0, AO86/AR86, TRUE, 0)} -> #NAME? | BE86: =BC86/BB86 -> #NAME? | BF86: =BC86/BA86 -> #NAME? | BH86: =VLOOKUP(A86, ALL_AP_DATA!$A$2:$D$3600, 3, FALSE) -> 73 | BI86: =VLOOKUP(A86, ALL_AP_DATA!$A$2:$E$3600, 5, FALSE) -> 18 | BJ86: =BI86/BA86 -> 0.092783505 | BK86: =BH86/BA86 -> 0.37628866
A87: GeometricWeather | B87: java | C87: 5 | D87: 54 | E87: 7 | F87: 360 | G87: 0.136 | H87: 0.3333 | I87: 0.1463 | Q87: 2 | R87: 11 | S87: 9 | T87: 1250 | U87: 0.0277 | V87: 0.4286 | W87: 0.5081 | X87: 12 | Y87: 80 | Z87: 14 | AA87: 1503 | AB87: 0.2015 | AC87: 0.6667 | AD87: 0.611 | AE87: 10 | AF87: 63 | AG87: 7 | AH87: 951 | AI87: 0.1587 | AJ87: 0.3333 | AK87: 0.3866 | AT87: =IF(D87 = 0, "", F87 / D87) -> 6.6666667 | AU87: =IF(K87 = 0, "", M87 / K87) | AV87: =IF(R87 = 0, "", T87 / R87) -> 113.63636 | AW87: =IF(Y87 = 0, "", AA87 / Y87) -> 18.7875 | AX87: =IF(AF87 = 0, "", AH87 / AF87) -> 15.095238 | AY87: =IF(AM87 = 0, "", AO87 / AM87) | BA87: =VLOOKUP(A87, ALL_AP_DATA!$A$2:$F$3600, 6, FALSE) -> 397 | BB87: =VLOOKUP(A87, projmetadata!$A$2:$D$2036, 4, FALSE) -> 44317 | BC87: {=_xludf.IFS(I87<>0, F87/I87, P87<>0, M87/P87, W87<>0, T87/W87, AD87<>0, AA87/AD87, AK87<>0, AH87/AK87, AR87<>0, AO87/AR87, TRUE, 0)} -> #NAME? | BE87: =BC87/BB87 -> #NAME? | BF87: =BC87/BA87 -> #NAME? | BH87: =VLOOKUP(A87, ALL_AP_DATA!$A$2:$D$3600, 3, FALSE) -> 131 | BI87: =VLOOKUP(A87, ALL_AP_DATA!$A$2:$E$3600, 5, FALSE) -> 2460 | BJ87: =BI87/BA87 -> 6.1964736 | BK87: =BH87/BA87 -> 0.32997481
A88: HElib | B88: cpp | J88: 3 | K88: 19 | L88: 23 | M88: 2762 | N88: 0.0766 | O88: 0.7419 | P88: 0.3 | Q88: 9 | R88: 31 | S88: 25 | T88: 5720 | U88: 0.125 | V88: 0.8065 | W88: 0.6213 | X88: 3 | Y88: 123 | Z88: 25 | AA88: 3477 | AB88: 0.496 | AC88: 0.8065 | AD88: 0.3777 | AE88: 20 | AF88: 138 | AG88: 28 | AH88: 6567 | AI88: 0.5565 | AJ88: 0.9032 | AK88: 0.7133 | AT88: =IF(D88 = 0, "", F88 / D88) | AU88: =IF(K88 = 0, "", M88 / K88) -> 145.36842 | AV88: =IF(R88 = 0, "", T88 / R88) -> 184.51613 | AW88: =IF(Y88 = 0, "", AA88 / Y88) -> 28.268293 | AX88: =IF(AF88 = 0, "", AH88 / AF88) -> 47.586957 | AY88: =IF(AM88 = 0, "", AO88 / AM88) | BA88: =VLOOKUP(A88, ALL_AP_DATA!$A$2:$F$3600, 6, FALSE) -> 248 | BB88: =VLOOKUP(A88, projmetadata!$A$2:$D$2036, 4, FALSE) -> 83525 | BC88: {=_xludf.IFS(I88<>0, F88/I88, P88<>0, M88/P88, W88<>0, T88/W88, AD88<>0, AA88/AD88, AK88<>0, AH88/AK88, AR88<>0, AO88/AR88, TRUE, 0)} -> #NAME? | BE88: =BC88/BB88 -> #NAME? | BF88: =BC88/BA88 -> #NAME? | BH88: =VLOOKUP(A88, ALL_AP_DATA!$A$2:$D$3600, 3, FALSE) -> 198 | BI88: =VLOOKUP(A88, ALL_AP_DATA!$A$2:$E$3600, 5, FALSE) -> 9206 | BJ88: =BI88/BA88 -> 37.120968 | BK88: =BH88/BA88 -> 0.7983871
A89: HIP | B89: cpp | Q89: 21 | R89: 72 | S89: 71 | T89: 12949 | U89: 0.1113 | V89: 0.2851 | W89: 0.2182 | X89: 3 | Y89: 32 | Z89: 13 | AA89: 80 | AB89: 0.0495 | AC89: 0.0522 | AD89: 0.0013 | AE89: 3 | AF89: 27 | AG89: 42 | AH89: 7009 | AI89: 0.0417 | AJ89: 0.1687 | AK89: 0.1181 | AT89: =IF(D89 = 0, "", F89 / D89) | AU89: =IF(K89 = 0, "", M89 / K89) | AV89: =IF(R89 = 0, "", T89 / R89) -> 179.84722 | AW89: =IF(Y89 = 0, "", AA89 / Y89) -> 2.5 | AX89: =IF(AF89 = 0, "", AH89 / AF89) -> 259.59259 | AY89: =IF(AM89 = 0, "", AO89 / AM89) | BA89: =VLOOKUP(A89, ALL_AP_DATA!$A$2:$F$3600, 6, FALSE) -> 647 | BB89: =VLOOKUP(A89, projmetadata!$A$2:$D$2036, 4, FALSE) -> 97684 | BC89: {=_xludf.IFS(I89<>0, F89/I89, P89<>0, M89/P89, W89<>0, T89/W89, AD89<>0, AA89/AD89, AK89<>0, AH89/AK89, AR89<>0, AO89/AR89, TRUE, 0)} -> #NAME? | BE89: =BC89/BB89 -> #NAME? | BF89: =BC89/BA89 -> #NAME? | BH89: =VLOOKUP(A89, ALL_AP_DATA!$A$2:$D$3600, 3, FALSE) -> 116 | BI89: =VLOOKUP(A89, ALL_AP_DATA!$A$2:$E$3600, 5, FALSE) -> 59340 | BJ89: =BI89/BA89 -> 91.715611 | BK89: =BH89/BA89 -> 0.17928903
A90: HackerRank_solutions | B90: java | AT90: =IF(D90 = 0, "", F90 / D90) | AU90: =IF(K90 = 0, "", M90 / K90) | AV90: =IF(R90 = 0, "", T90 / R90) | AW90: =IF(Y90 = 0, "", AA90 / Y90) | AX90: =IF(AF90 = 0, "", AH90 / AF90) | AY90: =IF(AM90 = 0, "", AO90 / AM90) | BA90: =VLOOKUP(A90, ALL_AP_DATA!$A$2:$F$3600, 6, FALSE) -> 267 | BB90: =VLOOKUP(A90, projmetadata!$A$2:$D$2036, 4, FALSE) -> 7454 | BC90: {=_xludf.IFS(I90<>0, F90/I90, P90<>0, M90/P90, W90<>0, T90/W90, AD90<>0, AA90/AD90, AK90<>0, AH90/AK90, AR90<>0, AO90/AR90, TRUE, 0)} -> #NAME? | BE90: =BC90/BB90 -> #NAME? | BF90: =BC90/BA90 -> #NAME? | BH90: =VLOOKUP(A90, ALL_AP_DATA!$A$2:$D$3600, 3, FALSE) -> 0 | BI90: =VLOOKUP(A90, ALL_AP_DATA!$A$2:$E$3600, 5, FALSE) -> 38 | BJ90: =BI90/BA90 -> 0.1423221 | BK90: =BH90/BA90 -> 0
A91: Hazel | B91: cpp | Q91: 5 | R91: 14 | S91: 30 | T91: 1922 | U91: 0.125 | V91: 0.7895 | W91: 0.8603 | X91: 11 | Y91: 78 | Z91: 26 | AA91: 1253 | AB91: 0.6964 | AC91: 0.6842 | AD91: 0.5609 | AE91: 4 | AF91: 14 | AG91: 9 | AH91: 248 | AI91: 0.125 | AJ91: 0.2368 | AK91: 0.111 | AT91: =IF(D91 = 0, "", F91 / D91) | AU91: =IF(K91 = 0, "", M91 / K91) | AV91: =IF(R91 = 0, "", T91 / R91) -> 137.28571 | AW91: =IF(Y91 = 0, "", AA91 / Y91) -> 16.064103 | AX91: =IF(AF91 = 0, "", AH91 / AF91) -> 17.714286 | AY91: =IF(AM91 = 0, "", AO91 / AM91) | BA91: =VLOOKUP(A91, ALL_AP_DATA!$A$2:$F$3600, 6, FALSE) -> 112 | BB91: =VLOOKUP(A91, projmetadata!$A$2:$D$2036, 4, FALSE) -> 25026 | BC91: {=_xludf.IFS(I91<>0, F91/I91, P91<>0, M91/P91, W91<>0, T91/W91, AD91<>0, AA91/AD91, AK91<>0, AH91/AK91, AR91<>0, AO91/AR91, TRUE, 0)} -> #NAME? | BE91: =BC91/BB91 -> #NAME? | BF91: =BC91/BA91 -> #NAME? | BH91: =VLOOKUP(A91, ALL_AP_DATA!$A$2:$D$3600, 3, FALSE) -> 84 | BI91: =VLOOKUP(A91, ALL_AP_DATA!$A$2:$E$3600, 5, FALSE) -> 2234 | BJ91: =BI91/BA91 -> 19.946429 | BK91: =BH91/BA91 -> 0.75
A92: Head-First-Design-Patterns | B92: java | C92: 6 | D92: 27 | E92: 1 | F92: 2 | G92: 0.0485 | H92: 0.3333 | I92: 0.0286 | X92: 1 | Y92: 5 | Z92: 0 | AA92: 0 | AB92: 0.009 | AC92: 0 | AD92: 0 | AE92: 46 | AF92: 211 | AG92: 0 | AH92: 0 | AI92: 0.3788 | AJ92: 0 | AK92: 0 | AT92: =IF(D92 = 0, "", F92 / D92) -> 0.074074074 | AU92: =IF(K92 = 0, "", M92 / K92) | AV92: =IF(R92 = 0, "", T92 / R92) | AW92: =IF(Y92 = 0, "", AA92 / Y92) -> 0 | AX92: =IF(AF92 = 0, "", AH92 / AF92) -> 0 | AY92: =IF(AM92 = 0, "", AO92 / AM92) | BA92: =VLOOKUP(A92, ALL_AP_DATA!$A$2:$F$3600, 6, FALSE) -> 557 | BB92: =VLOOKUP(A92, projmetadata!$A$2:$D$2036, 4, FALSE) -> 10648 | BC92: {=_xludf.IFS(I92<>0, F92/I92, P92<>0, M92/P92, W92<>0, T92/W92, AD92<>0, AA92/AD92, AK92<>0, AH92/AK92, AR92<>0, AO92/AR92, TRUE, 0)} -> #NAME? | BE92: =BC92/BB92 -> #NAME? | BF92: =BC92/BA92 -> #NAME? | BH92: =VLOOKUP(A92, ALL_AP_DATA!$A$2:$D$3600, 3, FALSE) -> 216 | BI92: =VLOOKUP(A92, ALL_AP_DATA!$A$2:$E$3600, 5, FALSE) -> 70 | BJ92: =BI92/BA92 -> 0.12567325 | BK92: =BH92/BA92 -> 0.38779174
A93: Hippy | B93: cpp | C93: 3 | D93: 6 | E93: 39 | F93: 463 | G93: 0.0335 | H93: 0.2074 | I93: 0.0249 | J93: 1 | K93: 10 | L93: 5 | M93: 8781 | N93: 0.0559 | O93: 0.0266 | P93: 0.4731 | Q93: 14 | R93: 70 | S93: 152 | T93: 17704 | U93: 0.3911 | V93: 0.8085 | W93: 0.9539 | X93: 10 | Y93: 67 | Z93: 167 | AA93: 15783 | AB93: 0.3743 | AC93: 0.8883 | AD93: 0.8504 | AE93: 3 | AF93: 16 | AG93: 71 | AH93: 3524 | AI93: 0.0894 | AJ93: 0.3777 | AK93: 0.1899 | AL93: 2 | AM93: 38 | AN93: 125 | AO93: 16247 | AP93: 0.2123 | AQ93: 0.6649 | AR93: 0.8754 | AT93: =IF(D93 = 0, "", F93 / D93) -> 77.166667 | AU93: =IF(K93 = 0, "", M93 / K93) -> 878.1 | AV93: =IF(R93 = 0, "", T93 / R93) -> 252.91429 | AW93: =IF(Y93 = 0, "", AA93 / Y93) -> 235.56716 | AX93: =IF(AF93 = 0, "", AH93 / AF93) -> 220.25 | AY93: =IF(AM93 = 0, "", AO93 / AM93) -> 427.55263 | BA93: =VLOOKUP(A93, ALL_AP_DATA!$A$2:$F$3600, 6, FALSE) -> 179 | BB93: =VLOOKUP(A93, projmetadata!$A$2:$D$2036, 4, FALSE) -> 49962 | BC93: {=_xludf.IFS(I93<>0, F93/I93, P93<>0, M93/P93, W93<>0, T93/W93, AD93<>0, AA93/AD93, AK93<>0, AH93/AK93, AR93<>0, AO93/AR93, TRUE, 0)} -> #NAME? | BE93: =BC93/BB93 -> #NAME? | BF93: =BC93/BA93 -> #NAME? | BH93: =VLOOKUP(A93, ALL_AP_DATA!$A$2:$D$3600, 3, FALSE) -> 101 | BI93: =VLOOKUP(A93, ALL_AP_DATA!$A$2:$E$3600, 5, FALSE) -> 18559 | BJ93: =BI93/BA93 -> 103.68156 | BK93: =BH93/BA93 -> 0.56424581
A94: HoloEverywhere | B94: java | C94: 10 | D94: 90 | E94: 181 | F94: 17753 | G94: 0.3321 | H94: 0.7802 | I94: 0.522 | J94: 6 | K94: 44 | L94: 176 | M94: 16498 | N94: 0.1624 | O94: 0.7586 | P94: 0.4851 | Q94: 16 | R94: 82 | S94: 209 | T94: 28169 | U94: 0.3026 | V94: 0.9009 | W94: 0.8282 | X94: 23 | Y94: 102 | Z94: 197 | AA94: 24952 | AB94: 0.3764 | AC94: 0.8491 | AD94: 0.7336 | AE94: 52 | AF94: 153 | AG94: 205 | AH94: 24653 | AI94: 0.5646 | AJ94: 0.8836 | AK94: 0.7249 | AL94: 3 | AM94: 55 | AN94: 187 | AO94: 20090 | AP94: 0.203 | AQ94: 0.806 | AR94: 0.5907 | AT94: =IF(D94 = 0, "", F94 / D94) -> 197.25556 | AU94: =IF(K94 = 0, "", M94 / K94) -> 374.95455 | AV94: =IF(R94 = 0, "", T94 / R94) -> 343.52439 | AW94: =IF(Y94 = 0, "", AA94 / Y94) -> 244.62745 | AX94: =IF(AF94 = 0, "", AH94 / AF94) -> 161.13072 | AY94: =IF(AM94 = 0, "", AO94 / AM94) -> 365.27273 | BA94: =VLOOKUP(A94, ALL_AP_DATA!$A$2:$F$3600, 6, FALSE) -> 271 | BB94: =VLOOKUP(A94, projmetadata!$A$2:$D$2036, 4, FALSE) -> 52824 | BC94: {=_xludf.IFS(I94<>0, F94/I94, P94<>0, M94/P94, W94<>0, T94/W94, AD94<>0, AA94/AD94, AK94<>0, AH94/AK94, AR94<>0, AO94/AR94, TRUE, 0)} -> #NAME? | BE94: =BC94/BB94 -> #NAME? | BF94: =BC94/BA94 -> #NAME? | BH94: =VLOOKUP(A94, ALL_AP_DATA!$A$2:$D$3600, 3, FALSE) -> 202 | BI94: =VLOOKUP(A94, ALL_AP_DATA!$A$2:$E$3600, 5, FALSE) -> 34011 | BJ94: =BI94/BA94 -> 125.50185 | BK94: =BH94/BA94 -> 0.74538745
A95: HotswapAgent | B95: java | C95: 24 | D95: 197 | E95: 21 | F95: 1343 | G95: 0.2923 | H95: 0.4468 | I95: 0.3571 | Q95: 5 | R95: 13 | S95: 18 | T95: 1345 | U95: 0.0193 | V95: 0.383 | W95: 0.3576 | X95: 30 | Y95: 250 | Z95: 25 | AA95: 1666 | AB95: 0.3709 | AC95: 0.5319 | AD95: 0.443 | AE95: 57 | AF95: 240 | AG95: 15 | AH95: 306 | AI95: 0.3561 | AJ95: 0.3191 | AK95: 0.0814 | AT95: =IF(D95 = 0, "", F95 / D95) -> 6.8172589 | AU95: =IF(K95 = 0, "", M95 / K95) | AV95: =IF(R95 = 0, "", T95 / R95) -> 103.46154 | AW95: =IF(Y95 = 0, "", AA95 / Y95) -> 6.664 | AX95: =IF(AF95 = 0, "", AH95 / AF95) -> 1.275 | AY95: =IF(AM95 = 0, "", AO95 / AM95) | BA95: =VLOOKUP(A95, ALL_AP_DATA!$A$2:$F$3600, 6, FALSE) -> 674 | BB95: =VLOOKUP(A95, projmetadata!$A$2:$D$2036, 4, FALSE) -> 69497 | BC95: {=_xludf.IFS(I95<>0, F95/I95, P95<>0, M95/P95, W95<>0, T95/W95, AD95<>0, AA95/AD95, AK95<>0, AH95/AK95, AR95<>0, AO95/AR95, TRUE, 0)} -> #NAME? | BE95: =BC95/BB95 -> #NAME? | BF95: =BC95/BA95 -> #NAME? | BH95: =VLOOKUP(A95, ALL_AP_DATA!$A$2:$D$3600, 3, FALSE) -> 374 | BI95: =VLOOKUP(A95, ALL_AP_DATA!$A$2:$E$3600, 5, FALSE) -> 3761 | BJ95: =BI95/BA95 -> 5.5801187 | BK95: =BH95/BA95 -> 0.55489614
A96: HyperLPR | B96: cpp | X96: 19 | Y96: 104 | Z96: 0 | AA96: 0 | AB96: 0.4706 | AC96: 0 | AD96: 0 | AE96: 5 | AF96: 50 | AG96: 0 | AH96: 0 | AI96: 0.2262 | AJ96: 0 | AK96: 0 | AT96: =IF(D96 = 0, "", F96 / D96) | AU96: =IF(K96 = 0, "", M96 / K96) | AV96: =IF(R96 = 0, "", T96 / R96) | AW96: =IF(Y96 = 0, "", AA96 / Y96) -> 0 | AX96: =IF(AF96 = 0, "", AH96 / AF96) -> 0 | AY96: =IF(AM96 = 0, "", AO96 / AM96) | BA96: =VLOOKUP(A96, ALL_AP_DATA!$A$2:$F$3600, 6, FALSE) -> 221 | BB96: =VLOOKUP(A96, projmetadata!$A$2:$D$2036, 4, FALSE) -> 37293 | BC96: {=_xludf.IFS(I96<>0, F96/I96, P96<>0, M96/P96, W96<>0, T96/W96, AD96<>0, AA96/AD96, AK96<>0, AH96/AK96, AR96<>0, AO96/AR96, TRUE, 0)} -> #NAME? | BE96: =BC96/BB96 -> #NAME? | BF96: =BC96/BA96 -> #NAME? | BH96: =VLOOKUP(A96, ALL_AP_DATA!$A$2:$D$3600, 3, FALSE) -> 123 | BI96: =VLOOKUP(A96, ALL_AP_DATA!$A$2:$E$3600, 5, FALSE) -> 0 | BJ96: =BI96/BA96 -> 0 | BK96: =BH96/BA96 -> 0.55656109
A97: Hyperion-Android | B97: java | C97: 3 | D97: 16 | E97: 5 | F97: 36 | G97: 0.0734 | H97: 0.5556 | I97: 0.24 | X97: 3 | Y97: 39 | Z97: 1 | AA97: 38 | AB97: 0.1789 | AC97: 0.1111 | AD97: 0.2533 | AE97: 6 | AF97: 22 | AG97: 1 | AH97: 4 | AI97: 0.1009 | AJ97: 0.1111 | AK97: 0.0267 | AT97: =IF(D97 = 0, "", F97 / D97) -> 2.25 | AU97: =IF(K97 = 0, "", M97 / K97) | AV97: =IF(R97 = 0, "", T97 / R97) | AW97: =IF(Y97 = 0, "", AA97 / Y97) -> 0.97435897 | AX97: =IF(AF97 = 0, "", AH97 / AF97) -> 0.18181818 | AY97: =IF(AM97 = 0, "", AO97 / AM97) | BA97: =VLOOKUP(A97, ALL_AP_DATA!$A$2:$F$3600, 6, FALSE) -> 218 | BB97: =VLOOKUP(A97, projmetadata!$A$2:$D$2036, 4, FALSE) -> 8964 | BC97: {=_xludf.IFS(I97<>0, F97/I97, P97<>0, M97/P97, W97<>0, T97/W97, AD97<>0, AA97/AD97, AK97<>0, AH97/AK97, AR97<>0, AO97/AR97, TRUE, 0)} -> #NAME? | BE97: =BC97/BB97 -> #NAME? | BF97: =BC97/BA97 -> #NAME? | BH97: =VLOOKUP(A97, ALL_AP_DATA!$A$2:$D$3600, 3, FALSE) -> 61 | BI97: =VLOOKUP(A97, ALL_AP_DATA!$A$2:$E$3600, 5, FALSE) -> 150 | BJ97: =BI97/BA97 -> 0.68807339 | BK97: =BH97/BA97 -> 0.27981651
A98: Hystrix | B98: java | C98: 8 | D98: 41 | E98: 0 | F98: 0 | G98: 0.099 | H98: 0 | I98: 0 | X98: 23 | Y98: 176 | Z98: 11 | AA98: 33 | AB98: 0.4251 | AC98: 0.6111 | AD98: 0.1988 | AE98: 33 | AF98: 147 | AG98: 13 | AH98: 66 | AI98: 0.3551 | AJ98: 0.7222 | AK98: 0.3976 | AT98: =IF(D98 = 0, "", F98 / D98) -> 0 | AU98: =IF(K98 = 0, "", M98 / K98) | AV98: =IF(R98 = 0, "", T98 / R98) | AW98: =IF(Y98 = 0, "", AA98 / Y98) -> 0.1875 | AX98: =IF(AF98 = 0, "", AH98 / AF98) -> 0.44897959 | AY98: =IF(AM98 = 0, "", AO98 / AM98) | BA98: =VLOOKUP(A98, ALL_AP_DATA!$A$2:$F$3600, 6, FALSE) -> 414 | BB98: =VLOOKUP(A98, projmetadata!$A$2:$D$2036, 4, FALSE) -> 50068 | BC98: {=_xludf.IFS(I98<>0, F98/I98, P98<>0, M98/P98, W98<>0, T98/W98, AD98<>0, AA98/AD98, AK98<>0, AH98/AK98, AR98<>0, AO98/AR98, TRUE, 0)} -> #NAME? | BE98: =BC98/BB98 -> #NAME? | BF98: =BC98/BA98 -> #NAME? | BH98: =VLOOKUP(A98, ALL_AP_DATA!$A$2:$D$3600, 3, FALSE) -> 233 | BI98: =VLOOKUP(A98, ALL_AP_DATA!$A$2:$E$3600, 5, FALSE) -> 166 | BJ98: =BI98/BA98 -> 0.40096618 | BK98: =BH98/BA98 -> 0.56280193
A99: IRremoteESP8266 | B99: cpp | J99: 2 | K99: 28 | L99: 89 | M99: 13192 | N99: 0.134 | O99: 0.7295 | P99: 0.5126 | Q99: 8 | R99: 45 | S99: 98 | T99: 19019 | U99: 0.2153 | V99: 0.8033 | W99: 0.739 | X99: 1 | Y99: 126 | Z99: 102 | AA99: 14697 | AB99: 0.6029 | AC99: 0.8361 | AD99: 0.571 | AE99: 1 | AF99: 5 | AG99: 24 | AH99: 394 | AI99: 0.0239 | AJ99: 0.1967 | AK99: 0.0153 | AL99: 2 | AM99: 25 | AN99: 86 | AO99: 11759 | AP99: 0.1196 | AQ99: 0.7049 | AR99: 0.4569 | AT99: =IF(D99 = 0, "", F99 / D99) | AU99: =IF(K99 = 0, "", M99 / K99) -> 471.14286 | AV99: =IF(R99 = 0, "", T99 / R99) -> 422.64444 | AW99: =IF(Y99 = 0, "", AA99 / Y99) -> 116.64286 | AX99: =IF(AF99 = 0, "", AH99 / AF99) -> 78.8 | AY99: =IF(AM99 = 0, "", AO99 / AM99) -> 470.36 | BA99: =VLOOKUP(A99, ALL_AP_DATA!$A$2:$F$3600, 6, FALSE) -> 209 | BB99: =VLOOKUP(A99, projmetadata!$A$2:$D$2036, 4, FALSE) -> 82560 | BC99: {=_xludf.IFS(I99<>0, F99/I99, P99<>0, M99/P99, W99<>0, T99/W99, AD99<>0, AA99/AD99, AK99<>0, AH99/AK99, AR99<>0, AO99/AR99, TRUE, 0)} -> #NAME? | BE99: =BC99/BB99 -> #NAME? | BF99: =BC99/BA99 -> #NAME? | BH99: =VLOOKUP(A99, ALL_AP_DATA!$A$2:$D$3600, 3, FALSE) -> 150 | BI99: =VLOOKUP(A99, ALL_AP_DATA!$A$2:$E$3600, 5, FALSE) -> 25737 | BJ99: =BI99/BA99 -> 123.14354 | BK99: =BH99/BA99 -> 0.71770335
A100: ImHex | B100: cpp | C100: 1 | D100: 5 | E100: 0 | F100: 0 | G100: 0.0229 | H100: 0 | I100: 0 | Q100: 15 | R100: 78 | S100: 340 | T100: 22987 | U100: 0.3578 | V100: 0.9067 | W100: 0.5302 | X100: 4 | Y100: 54 | Z100: 68 | AA100: 7151 | AB100: 0.2477 | AC100: 0.1813 | AD100: 0.165 | AE100: 9 | AF100: 55 | AG100: 210 | AH100: 10212 | AI100: 0.2523 | AJ100: 0.56 | AK100: 0.2356 | AL100: 2 | AM100: 31 | AN100: 259 | AO100: 15871 | AP100: 0.1422 | AQ100: 0.6907 | AR100: 0.3661 | AT100: =IF(D100 = 0, "", F100 / D100) -> 0 | AU100: =IF(K100 = 0, "", M100 / K100) | AV100: =IF(R100 = 0, "", T100 / R100) -> 294.70513 | AW100: =IF(Y100 = 0, "", AA100 / Y100) -> 132.42593 | AX100: =IF(AF100 = 0, "", AH100 / AF100) -> 185.67273 | AY100: =IF(AM100 = 0, "", AO100 / AM100) -> 511.96774 | BA100: =VLOOKUP(A100, ALL_AP_DATA!$A$2:$F$3600, 6, FALSE) -> 218 | BB100: =VLOOKUP(A100, projmetadata!$A$2:$D$2036, 4, FALSE) -> 243276 | BC100: {=_xludf.IFS(I100<>0, F100/I100, P100<>0, M100/P100, W100<>0, T100/W100, AD100<>0, AA100/AD100, AK100<>0, AH100/AK100, AR100<>0, AO100/AR100, TRUE, 0)} -> #NAME? | BE100: =BC100/BB100 -> #NAME? | BF100: =BC100/BA100 -> #NAME? | BH100: =VLOOKUP(A100, ALL_AP_DATA!$A$2:$D$3600, 3, FALSE) -> 144 | BI100: =VLOOKUP(A100, ALL_AP_DATA!$A$2:$E$3600, 5, FALSE) -> 43352 | BJ100: =BI100/BA100 -> 198.86239 | BK100: =BH100/BA100 -> 0.66055046
...

Sheet Python Duck Typing
A1: Project Name | B1: Language | C1: (CLIQUE) InstanceCount | D1: (CLIQUE) FileCount | E1: (CLIQUE) ChangeCount | F1: (CLIQUE) ChangeChurn | G1: (CLIQUE) %Files | H1: (CLIQUE) %Changes | I1: (CLIQUE) %ChangeChurn | J1: (CROSSING) InstanceCount | K1: (CROSSING) FileCount | L1: (CROSSING) ChangeCount | M1: (CROSSING) ChangeChurn | N1: (CROSSING) %Files | O1: (CROSSING) %Changes | P1: (CROSSING) %ChangeChurn | Q1: (MODULARITYVIOLATION) InstanceCount | R1: (MODULARITYVIOLATION) FileCount | S1: (MODULARITYVIOLATION) ChangeCount | T1: (MODULARITYVIOLATION) ChangeChurn | U1: (MODULARITYVIOLATION) %Files | V1: (MODULARITYVIOLATION) %Changes | W1: (MODULARITYVIOLATION) %ChangeChurn | X1: (PACKAGECYCLE) InstanceCount | Y1: (PACKAGECYCLE) FileCount | Z1: (PACKAGECYCLE) ChangeCount | AA1: (PACKAGECYCLE) ChangeChurn | AB1: (PACKAGECYCLE) %Files | AC1: (PACKAGECYCLE) %Changes | AD1: (PACKAGECYCLE) %ChangeChurn | AE1: (UNHEALTHYINHERITANCE) InstanceCount | AF1: (UNHEALTHYINHERITANCE) FileCount | AG1: (UNHEALTHYINHERITANCE) ChangeCount | AH1: (UNHEALTHYINHERITANCE) ChangeChurn | AI1: (UNHEALTHYINHERITANCE) %Files | AJ1: (UNHEALTHYINHERITANCE) %Changes | AK1: (UNHEALTHYINHERITANCE) %ChangeChurn | AL1: (UNSTABLEINTERFACE) InstanceCount | AM1: (UNSTABLEINTERFACE) FileCount | AN1: (UNSTABLEINTERFACE) ChangeCount | AO1: (UNSTABLEINTERFACE) ChangeChurn | AP1: (UNSTABLEINTERFACE) %Files | AQ1: (UNSTABLEINTERFACE) %Changes | AR1: (UNSTABLEINTERFACE) %ChangeChurn | AT1: CLQ Average Churn/Files | AU1: CRS Average Churn/Files | AV1: MVG Average Churn/Files | AW1: PKC Average Churn/Files | AX1: UIH Average Churn/Files | AY1: UIF Average Churn/Files | BA1: Total Files | BB1: Total LOC | BC1: Total Churn | BE1: Total Churn / Total LOC | BF1: Total Churn / Total Project Files | BG1: All AP Churn / All LOC | BH1: All AP Files | BI1: All AP Churn | BJ1: All AP Churn / All Files | BK1: All AP Files / All Project FIles
A2: Agriculture_KnowledgeGraph | B2: Python - Duck Typing | C2: 2 | D2: 4 | E2: 0 | F2: 0 | G2: 0.0345 | H2: 0 | I2: 0 | X2: 3 | Y2: 9 | Z2: 0 | AA2: 0 | AB2: 0.0776 | AC2: 0 | AD2: 0 | AT2: =IF(D2 = 0, "", F2 / D2) -> 0 | AU2: =IF(K2 = 0, "", M2 / K2) | AV2: =IF(R2 = 0, "", T2 / R2) | AW2: =IF(Y2 = 0, "", AA2 / Y2) -> 0 | AX2: =IF(AF2 = 0, "", AH2 / AF2) | AY2: =IF(AM2 = 0, "", AO2 / AM2) | BA2: =VLOOKUP(A2, ALL_AP_DATA!$A$2:$F$3600, 6, FALSE) -> 116 | BB2: =VLOOKUP(A2, projmetadata!$A$2:$D$2036, 4, FALSE) -> 22421 | BC2: {=_xludf.IFS(I2<>0, F2/I2, P2<>0, M2/P2, W2<>0, T2/W2, AD2<>0, AA2/AD2, AK2<>0, AH2/AK2, AR2<>0, AO2/AR2, TRUE, 0)} -> #NAME? | BE2: =BC2/BB2 -> #NAME? | BF2: =BC2/BA2 -> #NAME? | BG2: =BI2/BB2 -> 0.001070425 | BH2: =VLOOKUP(A2, ALL_AP_DATA!$A$2:$D$3600, 3, FALSE) -> 2 | BI2: =VLOOKUP(A2, ALL_AP_DATA!$A$2:$E$3600, 5, FALSE) -> 24 | BJ2: =BI2/BA2 -> 0.20689655 | BK2: =BH2/BA2 -> 0.017241379
A3: Airtest | B3: Python - Duck Typing | C3: 4 | D3: 12 | E3: 23 | F3: 378 | G3: 0.0694 | H3: 0.1544 | I3: 0.0177 | Q3: 11 | R3: 35 | S3: 118 | T3: 10203 | U3: 0.2023 | V3: 0.7919 | W3: 0.4773 | X3: 7 | Y3: 31 | Z3: 85 | AA3: 1871 | AB3: 0.1792 | AC3: 0.5705 | AD3: 0.0875 | AE3: 2 | AF3: 8 | AG3: 18 | AH3: 398 | AI3: 0.0462 | AJ3: 0.1208 | AK3: 0.0186 | AT3: =IF(D3 = 0, "", F3 / D3) -> 31.5 | AU3: =IF(K3 = 0, "", M3 / K3) | AV3: =IF(R3 = 0, "", T3 / R3) -> 291.51429 | AW3: =IF(Y3 = 0, "", AA3 / Y3) -> 60.354839 | AX3: =IF(AF3 = 0, "", AH3 / AF3) -> 49.75 | AY3: =IF(AM3 = 0, "", AO3 / AM3) | BA3: =VLOOKUP(A3, ALL_AP_DATA!$A$2:$F$3600, 6, FALSE) -> 173 | BB3: =VLOOKUP(A3, projmetadata!$A$2:$D$2036, 4, FALSE) -> 8892 | BC3: {=_xludf.IFS(I3<>0, F3/I3, P3<>0, M3/P3, W3<>0, T3/W3, AD3<>0, AA3/AD3, AK3<>0, AH3/AK3, AR3<>0, AO3/AR3, TRUE, 0)} -> #NAME? | BE3: =BC3/BB3 -> #NAME? | BF3: =BC3/BA3 -> #NAME? | BH3: =VLOOKUP(A3, ALL_AP_DATA!$A$2:$D$3600, 3, FALSE) -> 43 | BI3: =VLOOKUP(A3, ALL_AP_DATA!$A$2:$E$3600, 5, FALSE) -> 21375 | BJ3: =BI3/BA3 -> 123.55491 | BK3: =BH3/BA3 -> 0.24855491
A4: AlphaPose | B4: Python - Duck Typing | C4: 3 | D4: 12 | E4: 0 | F4: 0 | G4: 0.055 | H4: 0 | I4: 0 | X4: 5 | Y4: 25 | Z4: 2 | AA4: 21 | AB4: 0.1147 | AC4: 0.1538 | AD4: 0.5122 | AE4: 2 | AF4: 7 | AG4: 0 | AH4: 0 | AI4: 0.0321 | AJ4: 0 | AK4: 0 | AT4: =IF(D4 = 0, "", F4 / D4) -> 0 | AU4: =IF(K4 = 0, "", M4 / K4) | AV4: =IF(R4 = 0, "", T4 / R4) | AW4: =IF(Y4 = 0, "", AA4 / Y4) -> 0.84 | AX4: =IF(AF4 = 0, "", AH4 / AF4) -> 0 | AY4: =IF(AM4 = 0, "", AO4 / AM4) | BA4: =VLOOKUP(A4, ALL_AP_DATA!$A$2:$F$3600, 6, FALSE) -> 218 | BB4: =VLOOKUP(A4, projmetadata!$A$2:$D$2036, 4, FALSE) -> 18810 | BC4: {=_xludf.IFS(I4<>0, F4/I4, P4<>0, M4/P4, W4<>0, T4/W4, AD4<>0, AA4/AD4, AK4<>0, AH4/AK4, AR4<>0, AO4/AR4, TRUE, 0)} -> #NAME? | BE4: =BC4/BB4 -> #NAME? | BF4: =BC4/BA4 -> #NAME? | BH4: =VLOOKUP(A4, ALL_AP_DATA!$A$2:$D$3600, 3, FALSE) -> 18 | BI4: =VLOOKUP(A4, ALL_AP_DATA!$A$2:$E$3600, 5, FALSE) -> 41 | BJ4: =BI4/BA4 -> 0.18807339 | BK4: =BH4/BA4 -> 0.082568807
A5: ArchiveBox | B5: Python - Duck Typing | C5: 2 | D5: 23 | E5: 432 | F5: 7142 | G5: 0.0865 | H5: 0.3224 | I5: 0.1574 | J5: 4 | K5: 44 | L5: 552 | M5: 9788 | N5: 0.1654 | O5: 0.4119 | P5: 0.2156 | Q5: 30 | R5: 159 | S5: 1285 | T5: 40079 | U5: 0.5977 | V5: 0.959 | W5: 0.883 | X5: 4 | Y5: 33 | Z5: 551 | AA5: 9913 | AB5: 0.1241 | AC5: 0.4112 | AD5: 0.2184 | AL5: 8 | AM5: 86 | AN5: 1089 | AO5: 23860 | AP5: 0.3233 | AQ5: 0.8127 | AR5: 0.5257 | AT5: =IF(D5 = 0, "", F5 / D5) -> 310.52174 | AU5: =IF(K5 = 0, "", M5 / K5) -> 222.45455 | AV5: =IF(R5 = 0, "", T5 / R5) -> 252.06918 | AW5: =IF(Y5 = 0, "", AA5 / Y5) -> 300.39394 | AX5: =IF(AF5 = 0, "", AH5 / AF5) | AY5: =IF(AM5 = 0, "", AO5 / AM5) -> 277.44186 | BA5: =VLOOKUP(A5, ALL_AP_DATA!$A$2:$F$3600, 6, FALSE) -> 266 | BH5: =VLOOKUP(A5, ALL_AP_DATA!$A$2:$D$3600, 3, FALSE) -> 163 | BI5: =VLOOKUP(A5, ALL_AP_DATA!$A$2:$E$3600, 5, FALSE) -> 45389 | BJ5: =BI5/BA5 -> 170.63534
A6: ChatterBot | B6: Python - Duck Typing | C6: 2 | D6: 4 | E6: 0 | F6: 0 | G6: 0.0288 | H6: 0 | I6: 0 | X6: 4 | Y6: 30 | Z6: 0 | AA6: 0 | AB6: 0.2158 | AC6: 0 | AD6: 0 | AE6: 2 | AF6: 6 | AG6: 0 | AH6: 0 | AI6: 0.0432 | AJ6: 0 | AK6: 0 | AT6: =IF(D6 = 0, "", F6 / D6) -> 0 | AU6: =IF(K6 = 0, "", M6 / K6) | AV6: =IF(R6 = 0, "", T6 / R6) | AW6: =IF(Y6 = 0, "", AA6 / Y6) -> 0 | AX6: =IF(AF6 = 0, "", AH6 / AF6) -> 0 | AY6: =IF(AM6 = 0, "", AO6 / AM6) | BA6: =VLOOKUP(A6, ALL_AP_DATA!$A$2:$F$3600, 6, FALSE) -> 139 | BB6: =VLOOKUP(A6, projmetadata!$A$2:$D$2036, 4, FALSE) -> 8923 | BC6: {=_xludf.IFS(I6<>0, F6/I6, P6<>0, M6/P6, W6<>0, T6/W6, AD6<>0, AA6/AD6, AK6<>0, AH6/AK6, AR6<>0, AO6/AR6, TRUE, 0)} -> #NAME? | BE6: =BC6/BB6 -> #NAME? | BF6: =BC6/BA6 -> #NAME? | BH6: =VLOOKUP(A6, ALL_AP_DATA!$A$2:$D$3600, 3, FALSE) -> 4 | BI6: =VLOOKUP(A6, ALL_AP_DATA!$A$2:$E$3600, 5, FALSE) -> 153 | BJ6: =BI6/BA6 -> 1.1007194 | BK6: =BH6/BA6 -> 0.028776978
A7: DeepCTR | B7: Python - Duck Typing | C7: 1 | D7: 2 | E7: 6 | F7: 62 | G7: 0.0142 | H7: 0.4615 | I7: 0.0236 | Q7: 4 | R7: 20 | S7: 12 | T7: 1035 | U7: 0.1418 | V7: 0.9231 | W7: 0.3937 | X7: 1 | Y7: 17 | Z7: 3 | AA7: 101 | AB7: 0.1206 | AC7: 0.2308 | AD7: 0.0384 | AT7: =IF(D7 = 0, "", F7 / D7) -> 31 | AU7: =IF(K7 = 0, "", M7 / K7) | AV7: =IF(R7 = 0, "", T7 / R7) -> 51.75 | AW7: =IF(Y7 = 0, "", AA7 / Y7) -> 5.9411765 | AX7: =IF(AF7 = 0, "", AH7 / AF7) | AY7: =IF(AM7 = 0, "", AO7 / AM7) | BA7: =VLOOKUP(A7, ALL_AP_DATA!$A$2:$F$3600, 6, FALSE) -> 141 | BB7: =VLOOKUP(A7, projmetadata!$A$2:$D$2036, 4, FALSE) -> 7240 | BC7: {=_xludf.IFS(I7<>0, F7/I7, P7<>0, M7/P7, W7<>0, T7/W7, AD7<>0, AA7/AD7, AK7<>0, AH7/AK7, AR7<>0, AO7/AR7, TRUE, 0)} -> #NAME? | BE7: =BC7/BB7 -> #NAME? | BF7: =BC7/BA7 -> #NAME? | BH7: =VLOOKUP(A7, ALL_AP_DATA!$A$2:$D$3600, 3, FALSE) -> 37 | BI7: =VLOOKUP(A7, ALL_AP_DATA!$A$2:$E$3600, 5, FALSE) -> 2629 | BJ7: =BI7/BA7 -> 18.64539 | BK7: =BH7/BA7 -> 0.26241135
A8: DeepFaceLab | B8: Python - Duck Typing | C8: 1 | D8: 2 | E8: 19 | F8: 676 | G8: 0.0087 | H8: 0.0378 | I8: 0.0162 | J8: 4 | K8: 18 | L8: 163 | M8: 10591 | N8: 0.0779 | O8: 0.3247 | P8: 0.2532 | Q8: 16 | R8: 109 | S8: 475 | T8: 36523 | U8: 0.4719 | V8: 0.9462 | W8: 0.8733 | X8: 9 | Y8: 40 | Z8: 48 | AA8: 1251 | AB8: 0.1732 | AC8: 0.0956 | AD8: 0.0299 | AL8: 3 | AM8: 62 | AN8: 337 | AO8: 27935 | AP8: 0.2684 | AQ8: 0.6713 | AR8: 0.6679 | AT8: =IF(D8 = 0, "", F8 / D8) -> 338 | AU8: =IF(K8 = 0, "", M8 / K8) -> 588.38889 | AV8: =IF(R8 = 0, "", T8 / R8) -> 335.07339 | AW8: =IF(Y8 = 0, "", AA8 / Y8) -> 31.275 | AX8: =IF(AF8 = 0, "", AH8 / AF8) | AY8: =IF(AM8 = 0, "", AO8 / AM8) -> 450.56452 | BA8: =VLOOKUP(A8, ALL_AP_DATA!$A$2:$F$3600, 6, FALSE) -> 231 | BB8: =VLOOKUP(A8, projmetadata!$A$2:$D$2036, 4, FALSE) -> 13552 | BC8: {=_xludf.IFS(I8<>0, F8/I8, P8<>0, M8/P8, W8<>0, T8/W8, AD8<>0, AA8/AD8, AK8<>0, AH8/AK8, AR8<>0, AO8/AR8, TRUE, 0)} -> #NAME? | BE8: =BC8/BB8 -> #NAME? | BF8: =BC8/BA8 -> #NAME? | BH8: =VLOOKUP(A8, ALL_AP_DATA!$A$2:$D$3600, 3, FALSE) -> 113 | BI8: =VLOOKUP(A8, ALL_AP_DATA!$A$2:$E$3600, 5, FALSE) -> 41823 | BJ8: =BI8/BA8 -> 181.05195 | BK8: =BH8/BA8 -> 0.48917749
A9: DeepPavlov | B9: Python - Duck Typing | C9: 3 | D9: 10 | E9: 2 | F9: 446 | G9: 0.0295 | H9: 0.087 | I9: 0.0244 | Q9: 2 | R9: 13 | S9: 16 | T9: 773 | U9: 0.0383 | V9: 0.6957 | W9: 0.0422 | X9: 18 | Y9: 78 | Z9: 6 | AA9: 1002 | AB9: 0.2301 | AC9: 0.2609 | AD9: 0.0547 | AE9: 4 | AF9: 19 | AG9: 3 | AH9: 89 | AI9: 0.056 | AJ9: 0.1304 | AK9: 0.0049 | AT9: =IF(D9 = 0, "", F9 / D9) -> 44.6 | AU9: =IF(K9 = 0, "", M9 / K9) | AV9: =IF(R9 = 0, "", T9 / R9) -> 59.461538 | AW9: =IF(Y9 = 0, "", AA9 / Y9) -> 12.846154 | AX9: =IF(AF9 = 0, "", AH9 / AF9) -> 4.6842105 | AY9: =IF(AM9 = 0, "", AO9 / AM9) | BA9: =VLOOKUP(A9, ALL_AP_DATA!$A$2:$F$3600, 6, FALSE) -> 339 | BB9: =VLOOKUP(A9, projmetadata!$A$2:$D$2036, 4, FALSE) -> 28563 | BC9: {=_xludf.IFS(I9<>0, F9/I9, P9<>0, M9/P9, W9<>0, T9/W9, AD9<>0, AA9/AD9, AK9<>0, AH9/AK9, AR9<>0, AO9/AR9, TRUE, 0)} -> #NAME? | BE9: =BC9/BB9 -> #NAME? | BF9: =BC9/BA9 -> #NAME? | BH9: =VLOOKUP(A9, ALL_AP_DATA!$A$2:$D$3600, 3, FALSE) -> 30 | BI9: =VLOOKUP(A9, ALL_AP_DATA!$A$2:$E$3600, 5, FALSE) -> 18305 | BJ9: =BI9/BA9 -> 53.99705 | BK9: =BH9/BA9 -> 0.088495575
A10: DeepSpeed | B10: Python - Duck Typing | C10: 3 | D10: 59 | E10: 177 | F10: 9906 | G10: 0.0988 | H10: 0.4116 | I10: 0.2746 | J10: 5 | K10: 23 | L10: 167 | M10: 9381 | N10: 0.0385 | O10: 0.3884 | P10: 0.26 | Q10: 23 | R10: 116 | S10: 368 | T10: 28522 | U10: 0.1943 | V10: 0.8558 | W10: 0.7906 | X10: 56 | Y10: 158 | Z10: 222 | AA10: 13590 | AB10: 0.2647 | AC10: 0.5163 | AD10: 0.3767 | AE10: 13 | AF10: 50 | AG10: 154 | AH10: 5285 | AI10: 0.0838 | AJ10: 0.3581 | AK10: 0.1465 | AL10: 1 | AM10: 26 | AN10: 206 | AO10: 12340 | AP10: 0.0436 | AQ10: 0.4791 | AR10: 0.342 | AT10: =IF(D10 = 0, "", F10 / D10) -> 167.89831 | AU10: =IF(K10 = 0, "", M10 / K10) -> 407.86957 | AV10: =IF(R10 = 0, "", T10 / R10) -> 245.87931 | AW10: =IF(Y10 = 0, "", AA10 / Y10) -> 86.012658 | AX10: =IF(AF10 = 0, "", AH10 / AF10) -> 105.7 | AY10: =IF(AM10 = 0, "", AO10 / AM10) -> 474.61538 | BA10: =VLOOKUP(A10, ALL_AP_DATA!$A$2:$F$3600, 6, FALSE) -> 596 | BB10: =VLOOKUP(A10, projmetadata!$A$2:$D$2036, 4, FALSE) -> 43685 | BC10: {=_xludf.IFS(I10<>0, F10/I10, P10<>0, M10/P10, W10<>0, T10/W10, AD10<>0, AA10/AD10, AK10<>0, AH10/AK10, AR10<>0, AO10/AR10, TRUE, 0)} -> #NAME? | BE10: =BC10/BB10 -> #NAME? | BF10: =BC10/BA10 -> #NAME? | BH10: =VLOOKUP(A10, ALL_AP_DATA!$A$2:$D$3600, 3, FALSE) -> 161 | BI10: =VLOOKUP(A10, ALL_AP_DATA!$A$2:$E$3600, 5, FALSE) -> 36077 | BJ10: =BI10/BA10 -> 60.531879 | BK10: =BH10/BA10 -> 0.27013423
A11: FATE | B11: Python - Duck Typing | C11: 11 | D11: 23 | E11: 112 | F11: 5147 | G11: 0.008 | H11: 0.0609 | I11: 0.0084 | Q11: 173 | R11: 916 | S11: 1492 | T11: 247276 | U11: 0.3168 | V11: 0.8118 | W11: 0.4042 | X11: 44 | Y11: 203 | Z11: 451 | AA11: 25143 | AB11: 0.0702 | AC11: 0.2454 | AD11: 0.0411 | AE11: 7 | AF11: 47 | AG11: 67 | AH11: 3370 | AI11: 0.0163 | AJ11: 0.0365 | AK11: 0.0055 | AT11: =IF(D11 = 0, "", F11 / D11) -> 223.78261 | AU11: =IF(K11 = 0, "", M11 / K11) | AV11: =IF(R11 = 0, "", T11 / R11) -> 269.95197 | AW11: =IF(Y11 = 0, "", AA11 / Y11) -> 123.85714 | AX11: =IF(AF11 = 0, "", AH11 / AF11) -> 71.702128 | AY11: =IF(AM11 = 0, "", AO11 / AM11) | BA11: =VLOOKUP(A11, ALL_AP_DATA!$A$2:$F$3600, 6, FALSE) -> 2891 | BB11: =VLOOKUP(A11, projmetadata!$A$2:$D$2036, 4, FALSE) -> 87683 | BC11: {=_xludf.IFS(I11<>0, F11/I11, P11<>0, M11/P11, W11<>0, T11/W11, AD11<>0, AA11/AD11, AK11<>0, AH11/AK11, AR11<>0, AO11/AR11, TRUE, 0)} -> #NAME? | BE11: =BC11/BB11 -> #NAME? | BF11: =BC11/BA11 -> #NAME? | BH11: =VLOOKUP(A11, ALL_AP_DATA!$A$2:$D$3600, 3, FALSE) -> 967 | BI11: =VLOOKUP(A11, ALL_AP_DATA!$A$2:$E$3600, 5, FALSE) -> 611803 | BJ11: =BI11/BA11 -> 211.62331 | BK11: =BH11/BA11 -> 0.33448634
A12: Flask-AppBuilder | B12: Python - Duck Typing | C12: 2 | D12: 4 | E12: 0 | F12: 0 | G12: 0.0103 | H12: 0 | I12: 0 | Q12: 8 | R12: 22 | S12: 66 | T12: 3519 | U12: 0.0568 | V12: 0.7765 | W12: 0.57 | X12: 14 | Y12: 56 | Z12: 55 | AA12: 1759 | AB12: 0.1447 | AC12: 0.6471 | AD12: 0.2849 | AE12: 8 | AF12: 28 | AG12: 36 | AH12: 1020 | AI12: 0.0724 | AJ12: 0.4235 | AK12: 0.1652 | AT12: =IF(D12 = 0, "", F12 / D12) -> 0 | AU12: =IF(K12 = 0, "", M12 / K12) | AV12: =IF(R12 = 0, "", T12 / R12) -> 159.95455 | AW12: =IF(Y12 = 0, "", AA12 / Y12) -> 31.410714 | AX12: =IF(AF12 = 0, "", AH12 / AF12) -> 36.428571 | AY12: =IF(AM12 = 0, "", AO12 / AM12) | BA12: =VLOOKUP(A12, ALL_AP_DATA!$A$2:$F$3600, 6, FALSE) -> 387 | BB12: =VLOOKUP(A12, projmetadata!$A$2:$D$2036, 4, FALSE) -> 27733 | BC12: {=_xludf.IFS(I12<>0, F12/I12, P12<>0, M12/P12, W12<>0, T12/W12, AD12<>0, AA12/AD12, AK12<>0, AH12/AK12, AR12<>0, AO12/AR12, TRUE, 0)} -> #NAME? | BE12: =BC12/BB12 -> #NAME? | BF12: =BC12/BA12 -> #NAME? | BH12: =VLOOKUP(A12, ALL_AP_DATA!$A$2:$D$3600, 3, FALSE) -> 56 | BI12: =VLOOKUP(A12, ALL_AP_DATA!$A$2:$E$3600, 5, FALSE) -> 6174 | BJ12: =BI12/BA12 -> 15.953488 | BK12: =BH12/BA12 -> 0.14470284
A13: Games | B13: Python - Duck Typing | Q13: 3 | R13: 13 | S13: 19 | T13: 1741 | U13: 0.0459 | V13: 0.76 | W13: 0.4243 | X13: 5 | Y13: 6 | Z13: 0 | AA13: 0 | AB13: 0.0212 | AC13: 0 | AD13: 0 | AT13: =IF(D13 = 0, "", F13 / D13) | AU13: =IF(K13 = 0, "", M13 / K13) | AV13: =IF(R13 = 0, "", T13 / R13) -> 133.92308 | AW13: =IF(Y13 = 0, "", AA13 / Y13) -> 0 | AX13: =IF(AF13 = 0, "", AH13 / AF13) | AY13: =IF(AM13 = 0, "", AO13 / AM13) | BA13: =VLOOKUP(A13, ALL_AP_DATA!$A$2:$F$3600, 6, FALSE) -> 283 | BB13: =VLOOKUP(A13, projmetadata!$A$2:$D$2036, 4, FALSE) -> 12118 | BC13: {=_xludf.IFS(I13<>0, F13/I13, P13<>0, M13/P13, W13<>0, T13/W13, AD13<>0, AA13/AD13, AK13<>0, AH13/AK13, AR13<>0, AO13/AR13, TRUE, 0)} -> #NAME? | BE13: =BC13/BB13 -> #NAME? | BF13: =BC13/BA13 -> #NAME? | BH13: =VLOOKUP(A13, ALL_AP_DATA!$A$2:$D$3600, 3, FALSE) -> 13 | BI13: =VLOOKUP(A13, ALL_AP_DATA!$A$2:$E$3600, 5, FALSE) -> 4103 | BJ13: =BI13/BA13 -> 14.498233 | BK13: =BH13/BA13 -> 0.045936396
A14: Gooey | B14: Python - Duck Typing | C14: 2 | D14: 5 | E14: 0 | F14: 0 | G14: 0.0311 | H14: 0 | I14: 0 | X14: 6 | Y14: 43 | Z14: 0 | AA14: 0 | AB14: 0.2671 | AC14: 0 | AD14: 0 | AE14: 3 | AF14: 17 | AG14: 0 | AH14: 0 | AI14: 0.1056 | AJ14: 0 | AK14: 0 | AT14: =IF(D14 = 0, "", F14 / D14) -> 0 | AU14: =IF(K14 = 0, "", M14 / K14) | AV14: =IF(R14 = 0, "", T14 / R14) | AW14: =IF(Y14 = 0, "", AA14 / Y14) -> 0 | AX14: =IF(AF14 = 0, "", AH14 / AF14) -> 0 | AY14: =IF(AM14 = 0, "", AO14 / AM14) | BA14: =VLOOKUP(A14, ALL_AP_DATA!$A$2:$F$3600, 6, FALSE) -> 161 | BB14: =VLOOKUP(A14, projmetadata!$A$2:$D$2036, 4, FALSE) -> 8217 | BC14: {=_xludf.IFS(I14<>0, F14/I14, P14<>0, M14/P14, W14<>0, T14/W14, AD14<>0, AA14/AD14, AK14<>0, AH14/AK14, AR14<>0, AO14/AR14, TRUE, 0)} -> #NAME? | BE14: =BC14/BB14 -> #NAME? | BF14: =BC14/BA14 -> #NAME? | BH14: =VLOOKUP(A14, ALL_AP_DATA!$A$2:$D$3600, 3, FALSE) -> 6 | BI14: =VLOOKUP(A14, ALL_AP_DATA!$A$2:$E$3600, 5, FALSE) -> 41 | BJ14: =BI14/BA14 -> 0.25465839 | BK14: =BH14/BA14 -> 0.037267081
A15: KaraKara | B15: Python - Duck Typing | C15: 2 | D15: 4 | E15: 2 | F15: 23 | G15: 0.0212 | H15: 0.0103 | I15: 0.0028 | Q15: 14 | R15: 72 | S15: 172 | T15: 7169 | U15: 0.381 | V15: 0.8821 | W15: 0.8772 | AE15: 1 | AF15: 5 | AG15: 3 | AH15: 27 | AI15: 0.0265 | AJ15: 0.0154 | AK15: 0.0033 | AT15: =IF(D15 = 0, "", F15 / D15) -> 5.75 | AU15: =IF(K15 = 0, "", M15 / K15) | AV15: =IF(R15 = 0, "", T15 / R15) -> 99.569444 | AW15: =IF(Y15 = 0, "", AA15 / Y15) | AX15: =IF(AF15 = 0, "", AH15 / AF15) -> 5.4 | AY15: =IF(AM15 = 0, "", AO15 / AM15) | BA15: =VLOOKUP(A15, ALL_AP_DATA!$A$2:$F$3600, 6, FALSE) -> 189 | BB15: =VLOOKUP(A15, projmetadata!$A$2:$D$2036, 4, FALSE) -> 6423 | BC15: {=_xludf.IFS(I15<>0, F15/I15, P15<>0, M15/P15, W15<>0, T15/W15, AD15<>0, AA15/AD15, AK15<>0, AH15/AK15, AR15<>0, AO15/AR15, TRUE, 0)} -> #NAME? | BE15: =BC15/BB15 -> #NAME? | BF15: =BC15/BA15 -> #NAME? | BH15: =VLOOKUP(A15, ALL_AP_DATA!$A$2:$D$3600, 3, FALSE) -> 80 | BI15: =VLOOKUP(A15, ALL_AP_DATA!$A$2:$E$3600, 5, FALSE) -> 8173 | BJ15: =BI15/BA15 -> 43.243386 | BK15: =BH15/BA15 -> 0.42328042
A16: LaZagne | B16: Python - Duck Typing | C16: 2 | D16: 8 | E16: 10 | F16: 191 | G16: 0.0317 | H16: 0.1111 | I16: 0.033 | Q16: 2 | R16: 6 | S16: 23 | T16: 263 | U16: 0.0238 | V16: 0.2556 | W16: 0.0454 | X16: 27 | Y16: 28 | Z16: 23 | AA16: 1125 | AB16: 0.1111 | AC16: 0.2556 | AD16: 0.1942 | AE16: 3 | AF16: 10 | AG16: 0 | AH16: 0 | AI16: 0.0397 | AJ16: 0 | AK16: 0 | AT16: =IF(D16 = 0, "", F16 / D16) -> 23.875 | AU16: =IF(K16 = 0, "", M16 / K16) | AV16: =IF(R16 = 0, "", T16 / R16) -> 43.833333 | AW16: =IF(Y16 = 0, "", AA16 / Y16) -> 40.178571 | AX16: =IF(AF16 = 0, "", AH16 / AF16) -> 0 | AY16: =IF(AM16 = 0, "", AO16 / AM16) | BA16: =VLOOKUP(A16, ALL_AP_DATA!$A$2:$F$3600, 6, FALSE) -> 252 | BB16: =VLOOKUP(A16, projmetadata!$A$2:$D$2036, 4, FALSE) -> 19877 | BC16: {=_xludf.IFS(I16<>0, F16/I16, P16<>0, M16/P16, W16<>0, T16/W16, AD16<>0, AA16/AD16, AK16<>0, AH16/AK16, AR16<>0, AO16/AR16, TRUE, 0)} -> #NAME? | BE16: =BC16/BB16 -> #NAME? | BF16: =BC16/BA16 -> #NAME? | BH16: =VLOOKUP(A16, ALL_AP_DATA!$A$2:$D$3600, 3, FALSE) -> 25 | BI16: =VLOOKUP(A16, ALL_AP_DATA!$A$2:$E$3600, 5, FALSE) -> 5794 | BJ16: =BI16/BA16 -> 22.992063 | BK16: =BH16/BA16 -> 0.099206349
A17: MMdnn | B17: Python - Duck Typing | C17: 4 | D17: 10 | E17: 9 | F17: 207 | G17: 0.0488 | H17: 0.2647 | I17: 0.0533 | Q17: 5 | R17: 17 | S17: 23 | T17: 1440 | U17: 0.0829 | V17: 0.6765 | W17: 0.3706 | X17: 20 | Y17: 38 | Z17: 13 | AA17: 472 | AB17: 0.1854 | AC17: 0.3824 | AD17: 0.1215 | AE17: 5 | AF17: 32 | AG17: 20 | AH17: 1401 | AI17: 0.1561 | AJ17: 0.5882 | AK17: 0.3605 | AT17: =IF(D17 = 0, "", F17 / D17) -> 20.7 | AU17: =IF(K17 = 0, "", M17 / K17) | AV17: =IF(R17 = 0, "", T17 / R17) -> 84.705882 | AW17: =IF(Y17 = 0, "", AA17 / Y17) -> 12.421053 | AX17: =IF(AF17 = 0, "", AH17 / AF17) -> 43.78125 | AY17: =IF(AM17 = 0, "", AO17 / AM17) | BA17: =VLOOKUP(A17, ALL_AP_DATA!$A$2:$F$3600, 6, FALSE) -> 205 | BB17: =VLOOKUP(A17, projmetadata!$A$2:$D$2036, 4, FALSE) -> 28041 | BC17: {=_xludf.IFS(I17<>0, F17/I17, P17<>0, M17/P17, W17<>0, T17/W17, AD17<>0, AA17/AD17, AK17<>0, AH17/AK17, AR17<>0, AO17/AR17, TRUE, 0)} -> #NAME? | BE17: =BC17/BB17 -> #NAME? | BF17: =BC17/BA17 -> #NAME? | BH17: =VLOOKUP(A17, ALL_AP_DATA!$A$2:$D$3600, 3, FALSE) -> 21 | BI17: =VLOOKUP(A17, ALL_AP_DATA!$A$2:$E$3600, 5, FALSE) -> 3886 | BJ17: =BI17/BA17 -> 18.956098 | BK17: =BH17/BA17 -> 0.10243902
A18: Mailpile | B18: Python - Duck Typing | C18: 5 | D18: 47 | E18: 97 | F18: 6080 | G18: 0.1638 | H18: 0.447 | I18: 0.1709 | Q18: 11 | R18: 42 | S18: 128 | T18: 10203 | U18: 0.1463 | V18: 0.5899 | W18: 0.2868 | X18: 15 | Y18: 95 | Z18: 129 | AA18: 5187 | AB18: 0.331 | AC18: 0.5945 | AD18: 0.1458 | AE18: 8 | AF18: 29 | AG18: 82 | AH18: 3251 | AI18: 0.101 | AJ18: 0.3779 | AK18: 0.0914 | AT18: =IF(D18 = 0, "", F18 / D18) -> 129.3617 | AU18: =IF(K18 = 0, "", M18 / K18) | AV18: =IF(R18 = 0, "", T18 / R18) -> 242.92857 | AW18: =IF(Y18 = 0, "", AA18 / Y18) -> 54.6 | AX18: =IF(AF18 = 0, "", AH18 / AF18) -> 112.10345 | AY18: =IF(AM18 = 0, "", AO18 / AM18) | BA18: =VLOOKUP(A18, ALL_AP_DATA!$A$2:$F$3600, 6, FALSE) -> 286 | BB18: =VLOOKUP(A18, projmetadata!$A$2:$D$2036, 4, FALSE) -> 43346 | BC18: {=_xludf.IFS(I18<>0, F18/I18, P18<>0, M18/P18, W18<>0, T18/W18, AD18<>0, AA18/AD18, AK18<>0, AH18/AK18, AR18<>0, AO18/AR18, TRUE, 0)} -> #NAME? | BE18: =BC18/BB18 -> #NAME? | BF18: =BC18/BA18 -> #NAME? | BH18: =VLOOKUP(A18, ALL_AP_DATA!$A$2:$D$3600, 3, FALSE) -> 93 | BI18: =VLOOKUP(A18, ALL_AP_DATA!$A$2:$E$3600, 5, FALSE) -> 35580 | BJ18: =BI18/BA18 -> 124.40559 | BK18: =BH18/BA18 -> 0.32517483
A19: Mobile-Security-Framework-MobSF | B19: Python - Duck Typing | Q19: 7 | R19: 46 | S19: 84 | T19: 143347 | U19: 0.2514 | V19: 0.672 | W19: 0.9749 | X19: 12 | Y19: 55 | Z19: 32 | AA19: 1764 | AB19: 0.3005 | AC19: 0.256 | AD19: 0.012 | AT19: =IF(D19 = 0, "", F19 / D19) | AU19: =IF(K19 = 0, "", M19 / K19) | AV19: =IF(R19 = 0, "", T19 / R19) -> 3116.2391 | AW19: =IF(Y19 = 0, "", AA19 / Y19) -> 32.072727 | AX19: =IF(AF19 = 0, "", AH19 / AF19) | AY19: =IF(AM19 = 0, "", AO19 / AM19) | BA19: =VLOOKUP(A19, ALL_AP_DATA!$A$2:$F$3600, 6, FALSE) -> 183 | BB19: =VLOOKUP(A19, projmetadata!$A$2:$D$2036, 4, FALSE) -> 14228 | BC19: {=_xludf.IFS(I19<>0, F19/I19, P19<>0, M19/P19, W19<>0, T19/W19, AD19<>0, AA19/AD19, AK19<>0, AH19/AK19, AR19<>0, AO19/AR19, TRUE, 0)} -> #NAME? | BE19: =BC19/BB19 -> #NAME? | BF19: =BC19/BA19 -> #NAME? | BH19: =VLOOKUP(A19, ALL_AP_DATA!$A$2:$D$3600, 3, FALSE) -> 48 | BI19: =VLOOKUP(A19, ALL_AP_DATA!$A$2:$E$3600, 5, FALSE) -> 147038 | BJ19: =BI19/BA19 -> 803.48634 | BK19: =BH19/BA19 -> 0.26229508
A20: MrDoc | B20: Python - Duck Typing | C20: 1 | D20: 2 | E20: 27 | F20: 613 | G20: 0.0066 | H20: 0.0879 | I20: 0.0042 | J20: 1 | K20: 9 | L20: 73 | M20: 7096 | N20: 0.0295 | O20: 0.2378 | P20: 0.0487 | Q20: 19 | R20: 119 | S20: 282 | T20: 111230 | U20: 0.3902 | V20: 0.9186 | W20: 0.7638 | X20: 3 | Y20: 16 | Z20: 79 | AA20: 5969 | AB20: 0.0525 | AC20: 0.2573 | AD20: 0.041 | AT20: =IF(D20 = 0, "", F20 / D20) -> 306.5 | AU20: =IF(K20 = 0, "", M20 / K20) -> 788.44444 | AV20: =IF(R20 = 0, "", T20 / R20) -> 934.70588 | AW20: =IF(Y20 = 0, "", AA20 / Y20) -> 373.0625 | AX20: =IF(AF20 = 0, "", AH20 / AF20) | AY20: =IF(AM20 = 0, "", AO20 / AM20) | BA20: =VLOOKUP(A20, ALL_AP_DATA!$A$2:$F$3600, 6, FALSE) -> 305 | BB20: =VLOOKUP(A20, projmetadata!$A$2:$D$2036, 4, FALSE) -> 8765 | BC20: {=_xludf.IFS(I20<>0, F20/I20, P20<>0, M20/P20, W20<>0, T20/W20, AD20<>0, AA20/AD20, AK20<>0, AH20/AK20, AR20<>0, AO20/AR20, TRUE, 0)} -> #NAME? | BE20: =BC20/BB20 -> #NAME? | BF20: =BC20/BA20 -> #NAME? | BH20: =VLOOKUP(A20, ALL_AP_DATA!$A$2:$D$3600, 3, FALSE) -> 121 | BI20: =VLOOKUP(A20, ALL_AP_DATA!$A$2:$E$3600, 5, FALSE) -> 145631 | BJ20: =BI20/BA20 -> 477.47869 | BK20: =BH20/BA20 -> 0.39672131
A21: ODM | B21: Python - Duck Typing | C21: 1 | D21: 2 | E21: 24 | F21: 163 | G21: 0.0103 | H21: 0.0792 | I21: 0.0134 | J21: 1 | K21: 12 | L21: 99 | M21: 2223 | N21: 0.0615 | O21: 0.3267 | P21: 0.1823 | Q21: 20 | R21: 69 | S21: 266 | T21: 7827 | U21: 0.3538 | V21: 0.8779 | W21: 0.6417 | X21: 9 | Y21: 69 | Z21: 156 | AA21: 4202 | AB21: 0.3538 | AC21: 0.5149 | AD21: 0.3445 | AE21: 1 | AF21: 14 | AG21: 73 | AH21: 1370 | AI21: 0.0718 | AJ21: 0.2409 | AK21: 0.1123 | AT21: =IF(D21 = 0, "", F21 / D21) -> 81.5 | AU21: =IF(K21 = 0, "", M21 / K21) -> 185.25 | AV21: =IF(R21 = 0, "", T21 / R21) -> 113.43478 | AW21: =IF(Y21 = 0, "", AA21 / Y21) -> 60.898551 | AX21: =IF(AF21 = 0, "", AH21 / AF21) -> 97.857143 | AY21: =IF(AM21 = 0, "", AO21 / AM21) | BA21: =VLOOKUP(A21, ALL_AP_DATA!$A$2:$F$3600, 6, FALSE) -> 195 | BB21: =VLOOKUP(A21, projmetadata!$A$2:$D$2036, 4, FALSE) -> 11289 | BC21: {=_xludf.IFS(I21<>0, F21/I21, P21<>0, M21/P21, W21<>0, T21/W21, AD21<>0, AA21/AD21, AK21<>0, AH21/AK21, AR21<>0, AO21/AR21, TRUE, 0)} -> #NAME? | BE21: =BC21/BB21 -> #NAME? | BF21: =BC21/BA21 -> #NAME? | BH21: =VLOOKUP(A21, ALL_AP_DATA!$A$2:$D$3600, 3, FALSE) -> 81 | BI21: =VLOOKUP(A21, ALL_AP_DATA!$A$2:$E$3600, 5, FALSE) -> 12197 | BJ21: =BI21/BA21 -> 62.548718 | BK21: =BH21/BA21 -> 0.41538462
A22: OctoPrint | B22: Python - Duck Typing | C22: 10 | D22: 28 | E22: 93 | F22: 3203 | G22: 0.0568 | H22: 0.2031 | I22: 0.0461 | Q22: 28 | R22: 110 | S22: 337 | T22: 62512 | U22: 0.2231 | V22: 0.7358 | W22: 0.8993 | X22: 20 | Y22: 63 | Z22: 125 | AA22: 4846 | AB22: 0.1278 | AC22: 0.2729 | AD22: 0.0697 | AE22: 5 | AF22: 29 | AG22: 72 | AH22: 2642 | AI22: 0.0588 | AJ22: 0.1572 | AK22: 0.038 | AT22: =IF(D22 = 0, "", F22 / D22) -> 114.39286 | AU22: =IF(K22 = 0, "", M22 / K22) | AV22: =IF(R22 = 0, "", T22 / R22) -> 568.29091 | AW22: =IF(Y22 = 0, "", AA22 / Y22) -> 76.920635 | AX22: =IF(AF22 = 0, "", AH22 / AF22) -> 91.103448 | AY22: =IF(AM22 = 0, "", AO22 / AM22) | BA22: =VLOOKUP(A22, ALL_AP_DATA!$A$2:$F$3600, 6, FALSE) -> 493 | BB22: =VLOOKUP(A22, projmetadata!$A$2:$D$2036, 4, FALSE) -> 59816 | BC22: {=_xludf.IFS(I22<>0, F22/I22, P22<>0, M22/P22, W22<>0, T22/W22, AD22<>0, AA22/AD22, AK22<>0, AH22/AK22, AR22<>0, AO22/AR22, TRUE, 0)} -> #NAME? | BE22: =BC22/BB22 -> #NAME? | BF22: =BC22/BA22 -> #NAME? | BH22: =VLOOKUP(A22, ALL_AP_DATA!$A$2:$D$3600, 3, FALSE) -> 149 | BI22: =VLOOKUP(A22, ALL_AP_DATA!$A$2:$E$3600, 5, FALSE) -> 69514 | BJ22: =BI22/BA22 -> 141.00203 | BK22: =BH22/BA22 -> 0.30223124
A23: OpenNMT-py | B23: Python - Duck Typing | C23: 3 | D23: 16 | E23: 3 | F23: 105 | G23: 0.086 | H23: 0.0375 | I23: 0.0167 | Q23: 7 | R23: 34 | S23: 63 | T23: 3684 | U23: 0.1828 | V23: 0.7875 | W23: 0.5871 | X23: 15 | Y23: 77 | Z23: 40 | AA23: 2212 | AB23: 0.414 | AC23: 0.5 | AD23: 0.3525 | AE23: 3 | AF23: 15 | AG23: 9 | AH23: 723 | AI23: 0.0806 | AJ23: 0.1125 | AK23: 0.1152 | AT23: =IF(D23 = 0, "", F23 / D23) -> 6.5625 | AU23: =IF(K23 = 0, "", M23 / K23) | AV23: =IF(R23 = 0, "", T23 / R23) -> 108.35294 | AW23: =IF(Y23 = 0, "", AA23 / Y23) -> 28.727273 | AX23: =IF(AF23 = 0, "", AH23 / AF23) -> 48.2 | AY23: =IF(AM23 = 0, "", AO23 / AM23) | BA23: =VLOOKUP(A23, ALL_AP_DATA!$A$2:$F$3600, 6, FALSE) -> 186 | BB23: =VLOOKUP(A23, projmetadata!$A$2:$D$2036, 4, FALSE) -> 14490 | BC23: {=_xludf.IFS(I23<>0, F23/I23, P23<>0, M23/P23, W23<>0, T23/W23, AD23<>0, AA23/AD23, AK23<>0, AH23/AK23, AR23<>0, AO23/AR23, TRUE, 0)} -> #NAME? | BE23: =BC23/BB23 -> #NAME? | BF23: =BC23/BA23 -> #NAME? | BH23: =VLOOKUP(A23, ALL_AP_DATA!$A$2:$D$3600, 3, FALSE) -> 54 | BI23: =VLOOKUP(A23, ALL_AP_DATA!$A$2:$E$3600, 5, FALSE) -> 6275 | BJ23: =BI23/BA23 -> 33.736559 | BK23: =BH23/BA23 -> 0.29032258
A24: Paddle | B24: Python - Duck Typing | C24: 34 | D24: 215 | E24: 568 | F24: 33388 | G24: 0.0185 | H24: 0.1105 | I24: 0.0245 | J24: 5 | K24: 37 | L24: 554 | M24: 26717 | N24: 0.0032 | O24: 0.1078 | P24: 0.0196 | Q24: 667 | R24: 3673 | S24: 4654 | T24: 991180 | U24: 0.3163 | V24: 0.9054 | W24: 0.7261 | X24: 434 | Y24: 2206 | Z24: 967 | AA24: 79062 | AB24: 0.19 | AC24: 0.1881 | AD24: 0.0579 | AE24: 26 | AF24: 198 | AG24: 516 | AH24: 31511 | AI24: 0.017 | AJ24: 0.1004 | AK24: 0.0231 | AL24: 1 | AM24: 56 | AN24: 910 | AO24: 44567 | AP24: 0.0048 | AQ24: 0.177 | AR24: 0.0326 | AT24: =IF(D24 = 0, "", F24 / D24) -> 155.29302 | AU24: =IF(K24 = 0, "", M24 / K24) -> 722.08108 | AV24: =IF(R24 = 0, "", T24 / R24) -> 269.8557 | AW24: =IF(Y24 = 0, "", AA24 / Y24) -> 35.839529 | AX24: =IF(AF24 = 0, "", AH24 / AF24) -> 159.14646 | AY24: =IF(AM24 = 0, "", AO24 / AM24) -> 795.83929 | BA24: =VLOOKUP(A24, ALL_AP_DATA!$A$2:$F$3600, 6, FALSE) -> 11613 | BB24: =VLOOKUP(A24, projmetadata!$A$2:$D$2036, 4, FALSE) -> 537713 | BC24: {=_xludf.IFS(I24<>0, F24/I24, P24<>0, M24/P24, W24<>0, T24/W24, AD24<>0, AA24/AD24, AK24<>0, AH24/AK24, AR24<>0, AO24/AR24, TRUE, 0)} -> #NAME? | BE24: =BC24/BB24 -> #NAME? | BF24: =BC24/BA24 -> #NAME? | BH24: =VLOOKUP(A24, ALL_AP_DATA!$A$2:$D$3600, 3, FALSE) -> 3996 | BI24: =VLOOKUP(A24, ALL_AP_DATA!$A$2:$E$3600, 5, FALSE) -> 1365163 | BJ24: =BI24/BA24 -> 117.55472 | BK24: =BH24/BA24 -> 0.34409713
A25: PaddleDetection | B25: Python - Duck Typing | C25: 9 | D25: 27 | E25: 125 | F25: 7785 | G25: 0.019 | H25: 0.1849 | I25: 0.0243 | J25: 2 | K25: 23 | L25: 154 | M25: 7933 | N25: 0.0162 | O25: 0.2278 | P25: 0.0248 | Q25: 107 | R25: 587 | S25: 610 | T25: 109160 | U25: 0.4137 | V25: 0.9024 | W25: 0.341 | X25: 34 | Y25: 257 | Z25: 278 | AA25: 41833 | AB25: 0.1811 | AC25: 0.4112 | AD25: 0.1307 | AE25: 8 | AF25: 25 | AG25: 143 | AH25: 9450 | AI25: 0.0176 | AJ25: 0.2115 | AK25: 0.0295 | AL25: 1 | AM25: 34 | AN25: 172 | AO25: 10221 | AP25: 0.024 | AQ25: 0.2544 | AR25: 0.0319 | AT25: =IF(D25 = 0, "", F25 / D25) -> 288.33333 | AU25: =IF(K25 = 0, "", M25 / K25) -> 344.91304 | AV25: =IF(R25 = 0, "", T25 / R25) -> 185.96252 | AW25: =IF(Y25 = 0, "", AA25 / Y25) -> 162.77432 | AX25: =IF(AF25 = 0, "", AH25 / AF25) -> 378 | AY25: =IF(AM25 = 0, "", AO25 / AM25) -> 300.61765 | BA25: =VLOOKUP(A25, ALL_AP_DATA!$A$2:$F$3600, 6, FALSE) -> 1419 | BB25: =VLOOKUP(A25, projmetadata!$A$2:$D$2036, 4, FALSE) -> 86915 | BC25: {=_xludf.IFS(I25<>0, F25/I25, P25<>0, M25/P25, W25<>0, T25/W25, AD25<>0, AA25/AD25, AK25<>0, AH25/AK25, AR25<>0, AO25/AR25, TRUE, 0)} -> #NAME? | BE25: =BC25/BB25 -> #NAME? | BF25: =BC25/BA25 -> #NAME? | BH25: =VLOOKUP(A25, ALL_AP_DATA!$A$2:$D$3600, 3, FALSE) -> 708 | BI25: =VLOOKUP(A25, ALL_AP_DATA!$A$2:$E$3600, 5, FALSE) -> 320160 | BJ25: =BI25/BA25 -> 225.62368 | BK25: =BH25/BA25 -> 0.49894292
A26: PaddleHub | B26: Python - Duck Typing | C26: 13 | D26: 47 | E26: 88 | F26: 6085 | G26: 0.0194 | H26: 0.2126 | I26: 0.0514 | J26: 3 | K26: 27 | L26: 129 | M26: 8409 | N26: 0.0112 | O26: 0.3116 | P26: 0.0711 | Q26: 47 | R26: 266 | S26: 302 | T26: 45328 | U26: 0.11 | V26: 0.7295 | W26: 0.383 | X26: 110 | Y26: 178 | Z26: 116 | AA26: 10633 | AB26: 0.0736 | AC26: 0.2802 | AD26: 0.0898 | AE26: 9 | AF26: 26 | AG26: 7 | AH26: 1119 | AI26: 0.0107 | AJ26: 0.0169 | AK26: 0.0095 | AL26: 2 | AM26: 27 | AN26: 127 | AO26: 8635 | AP26: 0.0112 | AQ26: 0.3068 | AR26: 0.073 | AT26: =IF(D26 = 0, "", F26 / D26) -> 129.46809 | AU26: =IF(K26 = 0, "", M26 / K26) -> 311.44444 | AV26: =IF(R26 = 0, "", T26 / R26) -> 170.40602 | AW26: =IF(Y26 = 0, "", AA26 / Y26) -> 59.735955 | AX26: =IF(AF26 = 0, "", AH26 / AF26) -> 43.038462 | AY26: =IF(AM26 = 0, "", AO26 / AM26) -> 319.81481 | BA26: =VLOOKUP(A26, ALL_AP_DATA!$A$2:$F$3600, 6, FALSE) -> 2419 | BB26: =VLOOKUP(A26, projmetadata!$A$2:$D$2036, 4, FALSE) -> 99661 | BC26: {=_xludf.IFS(I26<>0, F26/I26, P26<>0, M26/P26, W26<>0, T26/W26, AD26<>0, AA26/AD26, AK26<>0, AH26/AK26, AR26<>0, AO26/AR26, TRUE, 0)} -> #NAME? | BE26: =BC26/BB26 -> #NAME? | BF26: =BC26/BA26 -> #NAME? | BH26: =VLOOKUP(A26, ALL_AP_DATA!$A$2:$D$3600, 3, FALSE) -> 322 | BI26: =VLOOKUP(A26, ALL_AP_DATA!$A$2:$E$3600, 5, FALSE) -> 118345 | BJ26: =BI26/BA26 -> 48.923109 | BK26: =BH26/BA26 -> 0.13311286
A27: PaddleOCR | B27: Python - Duck Typing | C27: 5 | D27: 20 | E27: 161 | F27: 3648 | G27: 0.0251 | H27: 0.1193 | I27: 0.014 | J27: 1 | K27: 7 | L27: 148 | M27: 4485 | N27: 0.0088 | O27: 0.1097 | P27: 0.0172 | Q27: 62 | R27: 340 | S27: 1238 | T27: 214526 | U27: 0.4271 | V27: 0.9177 | W27: 0.8207 | X27: 11 | Y27: 26 | Z27: 151 | AA27: 4214 | AB27: 0.0327 | AC27: 0.1119 | AD27: 0.0161 | AE27: 1 | AF27: 14 | AG27: 106 | AH27: 1657 | AI27: 0.0176 | AJ27: 0.0786 | AK27: 0.0063 | AT27: =IF(D27 = 0, "", F27 / D27) -> 182.4 | AU27: =IF(K27 = 0, "", M27 / K27) -> 640.71429 | AV27: =IF(R27 = 0, "", T27 / R27) -> 630.95882 | AW27: =IF(Y27 = 0, "", AA27 / Y27) -> 162.07692 | AX27: =IF(AF27 = 0, "", AH27 / AF27) -> 118.35714 | AY27: =IF(AM27 = 0, "", AO27 / AM27) | BA27: =VLOOKUP(A27, ALL_AP_DATA!$A$2:$F$3600, 6, FALSE) -> 796 | BB27: =VLOOKUP(A27, projmetadata!$A$2:$D$2036, 4, FALSE) -> 20571 | BC27: {=_xludf.IFS(I27<>0, F27/I27, P27<>0, M27/P27, W27<>0, T27/W27, AD27<>0, AA27/AD27, AK27<>0, AH27/AK27, AR27<>0, AO27/AR27, TRUE, 0)} -> #NAME? | BE27: =BC27/BB27 -> #NAME? | BF27: =BC27/BA27 -> #NAME? | BH27: =VLOOKUP(A27, ALL_AP_DATA!$A$2:$D$3600, 3, FALSE) -> 351 | BI27: =VLOOKUP(A27, ALL_AP_DATA!$A$2:$E$3600, 5, FALSE) -> 261389 | BJ27: =BI27/BA27 -> 328.37814 | BK27: =BH27/BA27 -> 0.44095477
A28: ParlAI | B28: Python - Duck Typing | C28: 9 | D28: 61 | E28: 143 | F28: 6867 | G28: 0.0365 | H28: 0.3243 | I28: 0.0845 | J28: 4 | K28: 30 | L28: 100 | M28: 4985 | N28: 0.018 | O28: 0.2268 | P28: 0.0613 | Q28: 49 | R28: 163 | S28: 293 | T28: 29430 | U28: 0.0976 | V28: 0.6644 | W28: 0.3621 | X28: 267 | Y28: 540 | Z28: 284 | AA28: 27563 | AB28: 0.3234 | AC28: 0.644 | AD28: 0.3392 | AE28: 36 | AF28: 220 | AG28: 228 | AH28: 16444 | AI28: 0.1317 | AJ28: 0.517 | AK28: 0.2023 | AL28: 1 | AM28: 23 | AN28: 88 | AO28: 4665 | AP28: 0.0138 | AQ28: 0.1995 | AR28: 0.0574 | AT28: =IF(D28 = 0, "", F28 / D28) -> 112.57377 | AU28: =IF(K28 = 0, "", M28 / K28) -> 166.16667 | AV28: =IF(R28 = 0, "", T28 / R28) -> 180.55215 | AW28: =IF(Y28 = 0, "", AA28 / Y28) -> 51.042593 | AX28: =IF(AF28 = 0, "", AH28 / AF28) -> 74.745455 | AY28: =IF(AM28 = 0, "", AO28 / AM28) -> 202.82609 | BA28: =VLOOKUP(A28, ALL_AP_DATA!$A$2:$F$3600, 6, FALSE) -> 1670 | BB28: =VLOOKUP(A28, projmetadata!$A$2:$D$2036, 4, FALSE) -> 93117 | BC28: {=_xludf.IFS(I28<>0, F28/I28, P28<>0, M28/P28, W28<>0, T28/W28, AD28<>0, AA28/AD28, AK28<>0, AH28/AK28, AR28<>0, AO28/AR28, TRUE, 0)} -> #NAME? | BE28: =BC28/BB28 -> #NAME? | BF28: =BC28/BA28 -> #NAME? | BH28: =VLOOKUP(A28, ALL_AP_DATA!$A$2:$D$3600, 3, FALSE) -> 204 | BI28: =VLOOKUP(A28, ALL_AP_DATA!$A$2:$E$3600, 5, FALSE) -> 81269 | BJ28: =BI28/BA28 -> 48.664072 | BK28: =BH28/BA28 -> 0.12215569
A29: Pillow | B29: Python - Duck Typing | C29: 2 | D29: 37 | E29: 230 | F29: 3107 | G29: 0.0892 | H29: 0.2489 | I29: 0.1487 | J29: 2 | K29: 24 | L29: 215 | M29: 4203 | N29: 0.0578 | O29: 0.2327 | P29: 0.2011 | Q29: 38 | R29: 130 | S29: 724 | T29: 14473 | U29: 0.3133 | V29: 0.7835 | W29: 0.6926 | X29: 2 | Y29: 154 | Z29: 373 | AA29: 7969 | AB29: 0.3711 | AC29: 0.4037 | AD29: 0.3813 | AE29: 3 | AF29: 50 | AG29: 209 | AH29: 2890 | AI29: 0.1205 | AJ29: 0.2262 | AK29: 0.1383 | AL29: 1 | AM29: 25 | AN29: 235 | AO29: 4667 | AP29: 0.0602 | AQ29: 0.2543 | AR29: 0.2233 | AT29: =IF(D29 = 0, "", F29 / D29) -> 83.972973 | AU29: =IF(K29 = 0, "", M29 / K29) -> 175.125 | AV29: =IF(R29 = 0, "", T29 / R29) -> 111.33077 | AW29: =IF(Y29 = 0, "", AA29 / Y29) -> 51.746753 | AX29: =IF(AF29 = 0, "", AH29 / AF29) -> 57.8 | AY29: =IF(AM29 = 0, "", AO29 / AM29) -> 186.68 | BA29: =VLOOKUP(A29, ALL_AP_DATA!$A$2:$F$3600, 6, FALSE) -> 415 | BB29: =VLOOKUP(A29, projmetadata!$A$2:$D$2036, 4, FALSE) -> 37986 | BC29: {=_xludf.IFS(I29<>0, F29/I29, P29<>0, M29/P29, W29<>0, T29/W29, AD29<>0, AA29/AD29, AK29<>0, AH29/AK29, AR29<>0, AO29/AR29, TRUE, 0)} -> #NAME? | BE29: =BC29/BB29 -> #NAME? | BF29: =BC29/BA29 -> #NAME? | BH29: =VLOOKUP(A29, ALL_AP_DATA!$A$2:$D$3600, 3, FALSE) -> 189 | BI29: =VLOOKUP(A29, ALL_AP_DATA!$A$2:$E$3600, 5, FALSE) -> 20898 | BJ29: =BI29/BA29 -> 50.356627 | BK29: =BH29/BA29 -> 0.45542169
A30: PokemonGo-Bot | B30: Python - Duck Typing | C30: 1 | D30: 3 | E30: 403 | F30: 7321 | G30: 0.0098 | H30: 0.1769 | I30: 0.0295 | J30: 2 | K30: 25 | L30: 915 | M30: 28915 | N30: 0.0817 | O30: 0.4017 | P30: 0.1163 | Q30: 33 | R30: 233 | S30: 2234 | T30: 224305 | U30: 0.7614 | V30: 0.9807 | W30: 0.9025 | X30: 4 | Y30: 53 | Z30: 1118 | AA30: 41771 | AB30: 0.1732 | AC30: 0.4908 | AD30: 0.1681 | AE30: 3 | AF30: 11 | AG30: 110 | AH30: 3378 | AI30: 0.0359 | AJ30: 0.0483 | AK30: 0.0136 | AL30: 2 | AM30: 52 | AN30: 1468 | AO30: 125762 | AP30: 0.1699 | AQ30: 0.6444 | AR30: 0.506 | AT30: =IF(D30 = 0, "", F30 / D30) -> 2440.3333 | AU30: =IF(K30 = 0, "", M30 / K30) -> 1156.6 | AV30: =IF(R30 = 0, "", T30 / R30) -> 962.6824 | AW30: =IF(Y30 = 0, "", AA30 / Y30) -> 788.13208 | AX30: =IF(AF30 = 0, "", AH30 / AF30) -> 307.09091 | AY30: =IF(AM30 = 0, "", AO30 / AM30) -> 2418.5 | BA30: =VLOOKUP(A30, ALL_AP_DATA!$A$2:$F$3600, 6, FALSE) -> 306 | BB30: =VLOOKUP(A30, projmetadata!$A$2:$D$2036, 4, FALSE) -> 15431 | BC30: {=_xludf.IFS(I30<>0, F30/I30, P30<>0, M30/P30, W30<>0, T30/W30, AD30<>0, AA30/AD30, AK30<>0, AH30/AK30, AR30<>0, AO30/AR30, TRUE, 0)} -> #NAME? | BE30: =BC30/BB30 -> #NAME? | BF30: =BC30/BA30 -> #NAME? | BH30: =VLOOKUP(A30, ALL_AP_DATA!$A$2:$D$3600, 3, FALSE) -> 234 | BI30: =VLOOKUP(A30, ALL_AP_DATA!$A$2:$E$3600, 5, FALSE) -> 248540 | BJ30: =BI30/BA30 -> 812.22222 | BK30: =BH30/BA30 -> 0.76470588
A31: PyChecker | B31: Python - Duck Typing | C31: 4 | D31: 15 | E31: 0 | F31: 0 | G31: 0.0685 | H31: 0 | I31: 0 | AE31: 2 | AF31: 13 | AG31: 0 | AH31: 0 | AI31: 0.0594 | AJ31: 0 | AK31: 0 | AT31: =IF(D31 = 0, "", F31 / D31) -> 0 | AU31: =IF(K31 = 0, "", M31 / K31) | AV31: =IF(R31 = 0, "", T31 / R31) | AW31: =IF(Y31 = 0, "", AA31 / Y31) | AX31: =IF(AF31 = 0, "", AH31 / AF31) -> 0 | AY31: =IF(AM31 = 0, "", AO31 / AM31) | BA31: =VLOOKUP(A31, ALL_AP_DATA!$A$2:$F$3600, 6, FALSE) -> 219 | BB31: =VLOOKUP(A31, projmetadata!$A$2:$D$2036, 4, FALSE) -> 10674 | BC31: {=_xludf.IFS(I31<>0, F31/I31, P31<>0, M31/P31, W31<>0, T31/W31, AD31<>0, AA31/AD31, AK31<>0, AH31/AK31, AR31<>0, AO31/AR31, TRUE, 0)} -> #NAME? | BE31: =BC31/BB31 -> #NAME? | BF31: =BC31/BA31 -> #NAME? | BH31: =VLOOKUP(A31, ALL_AP_DATA!$A$2:$D$3600, 3, FALSE) -> 29 | BI31: =VLOOKUP(A31, ALL_AP_DATA!$A$2:$E$3600, 5, FALSE) -> 32 | BJ31: =BI31/BA31 -> 0.14611872 | BK31: =BH31/BA31 -> 0.13242009
A32: PyGithub | B32: Python - Duck Typing | C32: 1 | D32: 126 | E32: 61 | F32: 3517 | G32: 0.2951 | H32: 0.4919 | I32: 0.3901 | Q32: 15 | R32: 51 | S32: 81 | T32: 3884 | U32: 0.1194 | V32: 0.6532 | W32: 0.4308 | X32: 1 | Y32: 186 | Z32: 65 | AA32: 5004 | AB32: 0.4356 | AC32: 0.5242 | AD32: 0.5551 | AE32: 2 | AF32: 27 | AG32: 38 | AH32: 1035 | AI32: 0.0632 | AJ32: 0.3065 | AK32: 0.1148 | AT32: =IF(D32 = 0, "", F32 / D32) -> 27.912698 | AU32: =IF(K32 = 0, "", M32 / K32) | AV32: =IF(R32 = 0, "", T32 / R32) -> 76.156863 | AW32: =IF(Y32 = 0, "", AA32 / Y32) -> 26.903226 | AX32: =IF(AF32 = 0, "", AH32 / AF32) -> 38.333333 | AY32: =IF(AM32 = 0, "", AO32 / AM32) | BA32: =VLOOKUP(A32, ALL_AP_DATA!$A$2:$F$3600, 6, FALSE) -> 427 | BB32: =VLOOKUP(A32, projmetadata!$A$2:$D$2036, 4, FALSE) -> 27637 | BC32: {=_xludf.IFS(I32<>0, F32/I32, P32<>0, M32/P32, W32<>0, T32/W32, AD32<>0, AA32/AD32, AK32<>0, AH32/AK32, AR32<>0, AO32/AR32, TRUE, 0)} -> #NAME? | BE32: =BC32/BB32 -> #NAME? | BF32: =BC32/BA32 -> #NAME? | BH32: =VLOOKUP(A32, ALL_AP_DATA!$A$2:$D$3600, 3, FALSE) -> 70 | BI32: =VLOOKUP(A32, ALL_AP_DATA!$A$2:$E$3600, 5, FALSE) -> 9015 | BJ32: =BI32/BA32 -> 21.112412 | BK32: =BH32/BA32 -> 0.16393443
A33: PySimpleGUI | B33: Python - Duck Typing | C33: 11 | D33: 87 | E33: 50 | F33: 2705 | G33: 0.151 | H33: 0.0856 | I33: 0.0271 | Q33: 3 | R33: 31 | S33: 365 | T33: 61357 | U33: 0.0538 | V33: 0.625 | W33: 0.6152 | X33: 11 | Y33: 367 | Z33: 473 | AA33: 33712 | AB33: 0.6372 | AC33: 0.8099 | AD33: 0.338 | AT33: =IF(D33 = 0, "", F33 / D33) -> 31.091954 | AU33: =IF(K33 = 0, "", M33 / K33) | AV33: =IF(R33 = 0, "", T33 / R33) -> 1979.2581 | AW33: =IF(Y33 = 0, "", AA33 / Y33) -> 91.858311 | AX33: =IF(AF33 = 0, "", AH33 / AF33) | AY33: =IF(AM33 = 0, "", AO33 / AM33) | BA33: =VLOOKUP(A33, ALL_AP_DATA!$A$2:$F$3600, 6, FALSE) -> 576 | BB33: =VLOOKUP(A33, projmetadata!$A$2:$D$2036, 4, FALSE) -> 64882 | BC33: {=_xludf.IFS(I33<>0, F33/I33, P33<>0, M33/P33, W33<>0, T33/W33, AD33<>0, AA33/AD33, AK33<>0, AH33/AK33, AR33<>0, AO33/AR33, TRUE, 0)} -> #NAME? | BE33: =BC33/BB33 -> #NAME? | BF33: =BC33/BA33 -> #NAME? | BH33: =VLOOKUP(A33, ALL_AP_DATA!$A$2:$D$3600, 3, FALSE) -> 128 | BI33: =VLOOKUP(A33, ALL_AP_DATA!$A$2:$E$3600, 5, FALSE) -> 99730 | BJ33: =BI33/BA33 -> 173.14236 | BK33: =BH33/BA33 -> 0.22222222
A34: QUANTAXIS | B34: Python - Duck Typing | C34: 4 | D34: 18 | E34: 23 | F34: 1488 | G34: 0.0497 | H34: 0.0983 | I34: 0.0168 | J34: 2 | K34: 25 | L34: 86 | M34: 4120 | N34: 0.0691 | O34: 0.3675 | P34: 0.0466 | Q34: 20 | R34: 108 | S34: 160 | T34: 33912 | U34: 0.2983 | V34: 0.6838 | W34: 0.3836 | X34: 20 | Y34: 87 | Z34: 86 | AA34: 8934 | AB34: 0.2403 | AC34: 0.3675 | AD34: 0.1011 | AE34: 1 | AF34: 3 | AG34: 10 | AH34: 279 | AI34: 0.0083 | AJ34: 0.0427 | AK34: 0.0032 | AL34: 1 | AM34: 32 | AN34: 67 | AO34: 11236 | AP34: 0.0884 | AQ34: 0.2863 | AR34: 0.1271 | AT34: =IF(D34 = 0, "", F34 / D34) -> 82.666667 | AU34: =IF(K34 = 0, "", M34 / K34) -> 164.8 | AV34: =IF(R34 = 0, "", T34 / R34) -> 314 | AW34: =IF(Y34 = 0, "", AA34 / Y34) -> 102.68966 | AX34: =IF(AF34 = 0, "", AH34 / AF34) -> 93 | AY34: =IF(AM34 = 0, "", AO34 / AM34) -> 351.125 | BA34: =VLOOKUP(A34, ALL_AP_DATA!$A$2:$F$3600, 6, FALSE) -> 362 | BB34: =VLOOKUP(A34, projmetadata!$A$2:$D$2036, 4, FALSE) -> 41745 | BC34: {=_xludf.IFS(I34<>0, F34/I34, P34<>0, M34/P34, W34<>0, T34/W34, AD34<>0, AA34/AD34, AK34<>0, AH34/AK34, AR34<>0, AO34/AR34, TRUE, 0)} -> #NAME? | BE34: =BC34/BB34 -> #NAME? | BF34: =BC34/BA34 -> #NAME? | BH34: =VLOOKUP(A34, ALL_AP_DATA!$A$2:$D$3600, 3, FALSE) -> 110 | BI34: =VLOOKUP(A34, ALL_AP_DATA!$A$2:$E$3600, 5, FALSE) -> 88406 | BJ34: =BI34/BA34 -> 244.21547 | BK34: =BH34/BA34 -> 0.3038674
A35: RxPY | B35: Python - Duck Typing | C35: 7 | D35: 64 | E35: 11 | F35: 296 | G35: 0.1011 | H35: 0.0659 | I35: 0.0237 | Q35: 17 | R35: 137 | S35: 125 | T35: 8551 | U35: 0.2164 | V35: 0.7485 | W35: 0.6849 | X35: 60 | Y35: 351 | Z35: 47 | AA35: 2523 | AB35: 0.5545 | AC35: 0.2814 | AD35: 0.2021 | AE35: 1 | AF35: 18 | AG35: 2 | AH35: 26 | AI35: 0.0284 | AJ35: 0.012 | AK35: 0.0021 | AT35: =IF(D35 = 0, "", F35 / D35) -> 4.625 | AU35: =IF(K35 = 0, "", M35 / K35) | AV35: =IF(R35 = 0, "", T35 / R35) -> 62.416058 | AW35: =IF(Y35 = 0, "", AA35 / Y35) -> 7.1880342 | AX35: =IF(AF35 = 0, "", AH35 / AF35) -> 1.4444444 | AY35: =IF(AM35 = 0, "", AO35 / AM35) | BA35: =VLOOKUP(A35, ALL_AP_DATA!$A$2:$F$3600, 6, FALSE) -> 633 | BB35: =VLOOKUP(A35, projmetadata!$A$2:$D$2036, 4, FALSE) -> 39698 | BC35: {=_xludf.IFS(I35<>0, F35/I35, P35<>0, M35/P35, W35<>0, T35/W35, AD35<>0, AA35/AD35, AK35<>0, AH35/AK35, AR35<>0, AO35/AR35, TRUE, 0)} -> #NAME? | BE35: =BC35/BB35 -> #NAME? | BF35: =BC35/BA35 -> #NAME? | BH35: =VLOOKUP(A35, ALL_AP_DATA!$A$2:$D$3600, 3, FALSE) -> 200 | BI35: =VLOOKUP(A35, ALL_AP_DATA!$A$2:$E$3600, 5, FALSE) -> 12485 | BJ35: =BI35/BA35 -> 19.723539 | BK35: =BH35/BA35 -> 0.31595577
A36: SASM | B36: Python - Duck Typing | C36: 1 | D36: 16 | E36: 0 | F36: 0 | G36: 0.0952 | H36: 0 | I36: 0 | Q36: 2 | R36: 4 | S36: 10 | T36: 142 | U36: 0.0238 | V36: 0.5263 | W36: 0.4 | X36: 1 | Y36: 121 | Z36: 0 | AA36: 0 | AB36: 0.7202 | AC36: 0 | AD36: 0 | AT36: =IF(D36 = 0, "", F36 / D36) -> 0 | AU36: =IF(K36 = 0, "", M36 / K36) | AV36: =IF(R36 = 0, "", T36 / R36) -> 35.5 | AW36: =IF(Y36 = 0, "", AA36 / Y36) -> 0 | AX36: =IF(AF36 = 0, "", AH36 / AF36) | AY36: =IF(AM36 = 0, "", AO36 / AM36) | BA36: =VLOOKUP(A36, ALL_AP_DATA!$A$2:$F$3600, 6, FALSE) -> 168 | BB36: =VLOOKUP(A36, projmetadata!$A$2:$D$2036, 4, FALSE) -> 36676 | BC36: {=_xludf.IFS(I36<>0, F36/I36, P36<>0, M36/P36, W36<>0, T36/W36, AD36<>0, AA36/AD36, AK36<>0, AH36/AK36, AR36<>0, AO36/AR36, TRUE, 0)} -> #NAME? | BE36: =BC36/BB36 -> #NAME? | BF36: =BC36/BA36 -> #NAME? | BH36: =VLOOKUP(A36, ALL_AP_DATA!$A$2:$D$3600, 3, FALSE) -> 20 | BI36: =VLOOKUP(A36, ALL_AP_DATA!$A$2:$E$3600, 5, FALSE) -> 355 | BJ36: =BI36/BA36 -> 2.1130952 | BK36: =BH36/BA36 -> 0.11904762
A37: SerpentAI | B37: Python - Duck Typing | C37: 4 | D37: 19 | E37: 1 | F37: 2 | G37: 0.1776 | H37: 0.5 | I37: 0.1667 | X37: 9 | Y37: 29 | Z37: 1 | AA37: 2 | AB37: 0.271 | AC37: 0.5 | AD37: 0.1667 | AE37: 5 | AF37: 16 | AG37: 0 | AH37: 0 | AI37: 0.1495 | AJ37: 0 | AK37: 0 | AT37: =IF(D37 = 0, "", F37 / D37) -> 0.10526316 | AU37: =IF(K37 = 0, "", M37 / K37) | AV37: =IF(R37 = 0, "", T37 / R37) | AW37: =IF(Y37 = 0, "", AA37 / Y37) -> 0.068965517 | AX37: =IF(AF37 = 0, "", AH37 / AF37) -> 0 | AY37: =IF(AM37 = 0, "", AO37 / AM37) | BA37: =VLOOKUP(A37, ALL_AP_DATA!$A$2:$F$3600, 6, FALSE) -> 107 | BB37: =VLOOKUP(A37, projmetadata!$A$2:$D$2036, 4, FALSE) -> 8063 | BC37: {=_xludf.IFS(I37<>0, F37/I37, P37<>0, M37/P37, W37<>0, T37/W37, AD37<>0, AA37/AD37, AK37<>0, AH37/AK37, AR37<>0, AO37/AR37, TRUE, 0)} -> #NAME? | BE37: =BC37/BB37 -> #NAME? | BF37: =BC37/BA37 -> #NAME? | BH37: =VLOOKUP(A37, ALL_AP_DATA!$A$2:$D$3600, 3, FALSE) -> 5 | BI37: =VLOOKUP(A37, ALL_AP_DATA!$A$2:$E$3600, 5, FALSE) -> 12 | BJ37: =BI37/BA37 -> 0.11214953 | BK37: =BH37/BA37 -> 0.046728972
A38: Stream-Framework | B38: Python - Duck Typing | C38: 3 | D38: 6 | E38: 1 | F38: 1 | G38: 0.0541 | H38: 0.0156 | I38: 0.0018 | Q38: 3 | R38: 7 | S38: 32 | T38: 210 | U38: 0.0631 | V38: 0.5 | W38: 0.3723 | X38: 14 | Y38: 32 | Z38: 10 | AA38: 74 | AB38: 0.2883 | AC38: 0.1563 | AD38: 0.1312 | AE38: 5 | AF38: 24 | AG38: 7 | AH38: 43 | AI38: 0.2162 | AJ38: 0.1094 | AK38: 0.0762 | AT38: =IF(D38 = 0, "", F38 / D38) -> 0.16666667 | AU38: =IF(K38 = 0, "", M38 / K38) | AV38: =IF(R38 = 0, "", T38 / R38) -> 30 | AW38: =IF(Y38 = 0, "", AA38 / Y38) -> 2.3125 | AX38: =IF(AF38 = 0, "", AH38 / AF38) -> 1.7916667 | AY38: =IF(AM38 = 0, "", AO38 / AM38) | BA38: =VLOOKUP(A38, ALL_AP_DATA!$A$2:$F$3600, 6, FALSE) -> 111 | BB38: =VLOOKUP(A38, projmetadata!$A$2:$D$2036, 4, FALSE) -> 5187 | BC38: {=_xludf.IFS(I38<>0, F38/I38, P38<>0, M38/P38, W38<>0, T38/W38, AD38<>0, AA38/AD38, AK38<>0, AH38/AK38, AR38<>0, AO38/AR38, TRUE, 0)} -> #NAME? | BE38: =BC38/BB38 -> #NAME? | BF38: =BC38/BA38 -> #NAME? | BH38: =VLOOKUP(A38, ALL_AP_DATA!$A$2:$D$3600, 3, FALSE) -> 14 | BI38: =VLOOKUP(A38, ALL_AP_DATA!$A$2:$E$3600, 5, FALSE) -> 564 | BJ38: =BI38/BA38 -> 5.0810811 | BK38: =BH38/BA38 -> 0.12612613
A39: Telethon | B39: Python - Duck Typing | C39: 1 | D39: 29 | E39: 71 | F39: 1073 | G39: 0.1716 | H39: 0.5145 | I39: 0.2953 | Q39: 5 | R39: 16 | S39: 79 | T39: 2041 | U39: 0.0947 | V39: 0.5725 | W39: 0.5616 | X39: 15 | Y39: 75 | Z39: 98 | AA39: 1508 | AB39: 0.4438 | AC39: 0.7101 | AD39: 0.415 | AE39: 13 | AF39: 33 | AG39: 64 | AH39: 1175 | AI39: 0.1953 | AJ39: 0.4638 | AK39: 0.3233 | AT39: =IF(D39 = 0, "", F39 / D39) -> 37 | AU39: =IF(K39 = 0, "", M39 / K39) | AV39: =IF(R39 = 0, "", T39 / R39) -> 127.5625 | AW39: =IF(Y39 = 0, "", AA39 / Y39) -> 20.106667 | AX39: =IF(AF39 = 0, "", AH39 / AF39) -> 35.606061 | AY39: =IF(AM39 = 0, "", AO39 / AM39) | BA39: =VLOOKUP(A39, ALL_AP_DATA!$A$2:$F$3600, 6, FALSE) -> 169 | BB39: =VLOOKUP(A39, projmetadata!$A$2:$D$2036, 4, FALSE) -> 15823 | BC39: {=_xludf.IFS(I39<>0, F39/I39, P39<>0, M39/P39, W39<>0, T39/W39, AD39<>0, AA39/AD39, AK39<>0, AH39/AK39, AR39<>0, AO39/AR39, TRUE, 0)} -> #NAME? | BE39: =BC39/BB39 -> #NAME? | BF39: =BC39/BA39 -> #NAME? | BH39: =VLOOKUP(A39, ALL_AP_DATA!$A$2:$D$3600, 3, FALSE) -> 70 | BI39: =VLOOKUP(A39, ALL_AP_DATA!$A$2:$E$3600, 5, FALSE) -> 3634 | BJ39: =BI39/BA39 -> 21.502959 | BK39: =BH39/BA39 -> 0.41420118
A40: WeasyPrint | B40: Python - Duck Typing | C40: 2 | D40: 40 | E40: 313 | F40: 12618 | G40: 0.2353 | H40: 0.644 | I40: 0.5258 | J40: 10 | K40: 33 | L40: 299 | M40: 12649 | N40: 0.1941 | O40: 0.6152 | P40: 0.5271 | Q40: 19 | R40: 77 | S40: 435 | T40: 20319 | U40: 0.4529 | V40: 0.8951 | W40: 0.8467 | X40: 11 | Y40: 82 | Z40: 283 | AA40: 10352 | AB40: 0.4824 | AC40: 0.5823 | AD40: 0.4314 | AE40: 1 | AF40: 9 | AG40: 50 | AH40: 511 | AI40: 0.0529 | AJ40: 0.1029 | AK40: 0.0213 | AT40: =IF(D40 = 0, "", F40 / D40) -> 315.45 | AU40: =IF(K40 = 0, "", M40 / K40) -> 383.30303 | AV40: =IF(R40 = 0, "", T40 / R40) -> 263.88312 | AW40: =IF(Y40 = 0, "", AA40 / Y40) -> 126.2439 | AX40: =IF(AF40 = 0, "", AH40 / AF40) -> 56.777778 | AY40: =IF(AM40 = 0, "", AO40 / AM40) | BA40: =VLOOKUP(A40, ALL_AP_DATA!$A$2:$F$3600, 6, FALSE) -> 170 | BB40: =VLOOKUP(A40, projmetadata!$A$2:$D$2036, 4, FALSE) -> 30129 | BC40: {=_xludf.IFS(I40<>0, F40/I40, P40<>0, M40/P40, W40<>0, T40/W40, AD40<>0, AA40/AD40, AK40<>0, AH40/AK40, AR40<>0, AO40/AR40, TRUE, 0)} -> #NAME? | BE40: =BC40/BB40 -> #NAME? | BF40: =BC40/BA40 -> #NAME? | BH40: =VLOOKUP(A40, ALL_AP_DATA!$A$2:$D$3600, 3, FALSE) -> 106 | BI40: =VLOOKUP(A40, ALL_AP_DATA!$A$2:$E$3600, 5, FALSE) -> 23999 | BJ40: =BI40/BA40 -> 141.17059 | BK40: =BH40/BA40 -> 0.62352941
A41: aiohttp | B41: Python - Duck Typing | C41: 2 | D41: 44 | E41: 156 | F41: 4934 | G41: 0.1164 | H41: 0.1855 | I41: 0.1505 | J41: 21 | K41: 68 | L41: 192 | M41: 9819 | N41: 0.1799 | O41: 0.2283 | P41: 0.2996 | Q41: 41 | R41: 278 | S41: 794 | T41: 31688 | U41: 0.7354 | V41: 0.9441 | W41: 0.9668 | X41: 3 | Y41: 121 | Z41: 199 | AA41: 10348 | AB41: 0.3201 | AC41: 0.2366 | AD41: 0.3157 | AE41: 8 | AF41: 56 | AG41: 163 | AH41: 7725 | AI41: 0.1481 | AJ41: 0.1938 | AK41: 0.2357 | AL41: 12 | AM41: 123 | AN41: 602 | AO41: 22211 | AP41: 0.3254 | AQ41: 0.7158 | AR41: 0.6776 | AT41: =IF(D41 = 0, "", F41 / D41) -> 112.13636 | AU41: =IF(K41 = 0, "", M41 / K41) -> 144.39706 | AV41: =IF(R41 = 0, "", T41 / R41) -> 113.98561 | AW41: =IF(Y41 = 0, "", AA41 / Y41) -> 85.520661 | AX41: =IF(AF41 = 0, "", AH41 / AF41) -> 137.94643 | AY41: =IF(AM41 = 0, "", AO41 / AM41) -> 180.57724 | BA41: =VLOOKUP(A41, ALL_AP_DATA!$A$2:$F$3600, 6, FALSE) -> 378 | BB41: =VLOOKUP(A41, projmetadata!$A$2:$D$2036, 4, FALSE) -> 42010 | BC41: {=_xludf.IFS(I41<>0, F41/I41, P41<>0, M41/P41, W41<>0, T41/W41, AD41<>0, AA41/AD41, AK41<>0, AH41/AK41, AR41<>0, AO41/AR41, TRUE, 0)} -> #NAME? | BE41: =BC41/BB41 -> #NAME? | BF41: =BC41/BA41 -> #NAME? | BH41: =VLOOKUP(A41, ALL_AP_DATA!$A$2:$D$3600, 3, FALSE) -> 284 | BI41: =VLOOKUP(A41, ALL_AP_DATA!$A$2:$E$3600, 5, FALSE) -> 32777 | BJ41: =BI41/BA41 -> 86.71164 | BK41: =BH41/BA41 -> 0.75132275
A42: airavata-django-portal | B42: Python - Duck Typing | C42: 2 | D42: 6 | E42: 18 | F42: 590 | G42: 0.0156 | H42: 0.0508 | I42: 0.0149 | Q42: 27 | R42: 97 | S42: 289 | T42: 34852 | U42: 0.2526 | V42: 0.8164 | W42: 0.8785 | X42: 1 | Y42: 10 | Z42: 65 | AA42: 1365 | AB42: 0.026 | AC42: 0.1836 | AD42: 0.0344 | AT42: =IF(D42 = 0, "", F42 / D42) -> 98.333333 | AU42: =IF(K42 = 0, "", M42 / K42) | AV42: =IF(R42 = 0, "", T42 / R42) -> 359.29897 | AW42: =IF(Y42 = 0, "", AA42 / Y42) -> 136.5 | AX42: =IF(AF42 = 0, "", AH42 / AF42) | AY42: =IF(AM42 = 0, "", AO42 / AM42) | BA42: =VLOOKUP(A42, ALL_AP_DATA!$A$2:$F$3600, 6, FALSE) -> 384 | BB42: =VLOOKUP(A42, projmetadata!$A$2:$D$2036, 4, FALSE) -> 10614 | BC42: {=_xludf.IFS(I42<>0, F42/I42, P42<>0, M42/P42, W42<>0, T42/W42, AD42<>0, AA42/AD42, AK42<>0, AH42/AK42, AR42<>0, AO42/AR42, TRUE, 0)} -> #NAME? | BE42: =BC42/BB42 -> #NAME? | BF42: =BC42/BA42 -> #NAME? | BH42: =VLOOKUP(A42, ALL_AP_DATA!$A$2:$D$3600, 3, FALSE) -> 102 | BI42: =VLOOKUP(A42, ALL_AP_DATA!$A$2:$E$3600, 5, FALSE) -> 39672 | BJ42: =BI42/BA42 -> 103.3125 | BK42: =BH42/BA42 -> 0.265625
A43: airflow | B43: Python - Duck Typing | C43: 32 | D43: 381 | E43: 984 | F43: 55260 | G43: 0.0687 | H43: 0.2895 | I43: 0.1607 | J43: 17 | K43: 123 | L43: 833 | M43: 63552 | N43: 0.0222 | O43: 0.2451 | P43: 0.1848 | Q43: 234 | R43: 1264 | S43: 2844 | T43: 267286 | U43: 0.2281 | V43: 0.8367 | W43: 0.7774 | X43: 451 | Y43: 1069 | Z43: 1493 | AA43: 113580 | AB43: 0.1929 | AC43: 0.4392 | AD43: 0.3303 | AE43: 58 | AF43: 678 | AG43: 1260 | AH43: 84526 | AI43: 0.1223 | AJ43: 0.3707 | AK43: 0.2458 | AL43: 9 | AM43: 181 | AN43: 1313 | AO43: 76233 | AP43: 0.0327 | AQ43: 0.3863 | AR43: 0.2217 | AT43: =IF(D43 = 0, "", F43 / D43) -> 145.03937 | AU43: =IF(K43 = 0, "", M43 / K43) -> 516.68293 | AV43: =IF(R43 = 0, "", T43 / R43) -> 211.46044 | AW43: =IF(Y43 = 0, "", AA43 / Y43) -> 106.24883 | AX43: =IF(AF43 = 0, "", AH43 / AF43) -> 124.66962 | AY43: =IF(AM43 = 0, "", AO43 / AM43) -> 421.1768 | BA43: =VLOOKUP(A43, ALL_AP_DATA!$A$2:$F$3600, 6, FALSE) -> 5542 | BB43: =VLOOKUP(A43, projmetadata!$A$2:$D$2036, 4, FALSE) -> 328373 | BC43: {=_xludf.IFS(I43<>0, F43/I43, P43<>0, M43/P43, W43<>0, T43/W43, AD43<>0, AA43/AD43, AK43<>0, AH43/AK43, AR43<>0, AO43/AR43, TRUE, 0)} -> #NAME? | BE43: =BC43/BB43 -> #NAME? | BF43: =BC43/BA43 -> #NAME? | BH43: =VLOOKUP(A43, ALL_AP_DATA!$A$2:$D$3600, 3, FALSE) -> 1511 | BI43: =VLOOKUP(A43, ALL_AP_DATA!$A$2:$E$3600, 5, FALSE) -> 343831 | BJ43: =BI43/BA43 -> 62.04096 | BK43: =BH43/BA43 -> 0.27264525
A44: ajenti | B44: Python - Duck Typing | C44: 3 | D44: 7 | E44: 21 | F44: 146 | G44: 0.023 | H44: 0.1313 | I44: 0.0335 | Q44: 16 | R44: 62 | S44: 90 | T44: 2263 | U44: 0.2039 | V44: 0.5625 | W44: 0.5192 | X44: 4 | Y44: 19 | Z44: 34 | AA44: 280 | AB44: 0.0625 | AC44: 0.2125 | AD44: 0.0642 | AT44: =IF(D44 = 0, "", F44 / D44) -> 20.857143 | AU44: =IF(K44 = 0, "", M44 / K44) | AV44: =IF(R44 = 0, "", T44 / R44) -> 36.5 | AW44: =IF(Y44 = 0, "", AA44 / Y44) -> 14.736842 | AX44: =IF(AF44 = 0, "", AH44 / AF44) | AY44: =IF(AM44 = 0, "", AO44 / AM44) | BA44: =VLOOKUP(A44, ALL_AP_DATA!$A$2:$F$3600, 6, FALSE) -> 304 | BB44: =VLOOKUP(A44, projmetadata!$A$2:$D$2036, 4, FALSE) -> 6964 | BC44: {=_xludf.IFS(I44<>0, F44/I44, P44<>0, M44/P44, W44<>0, T44/W44, AD44<>0, AA44/AD44, AK44<>0, AH44/AK44, AR44<>0, AO44/AR44, TRUE, 0)} -> #NAME? | BE44: =BC44/BB44 -> #NAME? | BF44: =BC44/BA44 -> #NAME? | BH44: =VLOOKUP(A44, ALL_AP_DATA!$A$2:$D$3600, 3, FALSE) -> 69 | BI44: =VLOOKUP(A44, ALL_AP_DATA!$A$2:$E$3600, 5, FALSE) -> 4359 | BJ44: =BI44/BA44 -> 14.338816 | BK44: =BH44/BA44 -> 0.22697368
A45: akshare | B45: Python - Duck Typing | Q45: 8 | R45: 225 | S45: 1050 | T45: 121870 | U45: 0.4386 | V45: 0.9804 | W45: 0.8823 | X45: 7 | Y45: 144 | Z45: 690 | AA45: 33412 | AB45: 0.2807 | AC45: 0.6443 | AD45: 0.2419 | AT45: =IF(D45 = 0, "", F45 / D45) | AU45: =IF(K45 = 0, "", M45 / K45) | AV45: =IF(R45 = 0, "", T45 / R45) -> 541.64444 | AW45: =IF(Y45 = 0, "", AA45 / Y45) -> 232.02778 | AX45: =IF(AF45 = 0, "", AH45 / AF45) | AY45: =IF(AM45 = 0, "", AO45 / AM45) | BA45: =VLOOKUP(A45, ALL_AP_DATA!$A$2:$F$3600, 6, FALSE) -> 513 | BB45: =VLOOKUP(A45, projmetadata!$A$2:$D$2036, 4, FALSE) -> 52900 | BC45: {=_xludf.IFS(I45<>0, F45/I45, P45<>0, M45/P45, W45<>0, T45/W45, AD45<>0, AA45/AD45, AK45<>0, AH45/AK45, AR45<>0, AO45/AR45, TRUE, 0)} -> #NAME? | BE45: =BC45/BB45 -> #NAME? | BF45: =BC45/BA45 -> #NAME? | BH45: =VLOOKUP(A45, ALL_AP_DATA!$A$2:$D$3600, 3, FALSE) -> 225 | BI45: =VLOOKUP(A45, ALL_AP_DATA!$A$2:$E$3600, 5, FALSE) -> 138123 | BJ45: =BI45/BA45 -> 269.24561 | BK45: =BH45/BA45 -> 0.43859649
A46: algorithms | B46: Python - Duck Typing | Q46: 3 | R46: 12 | S46: 42 | T46: 659 | U46: 0.0284 | V46: 0.5915 | W46: 0.1531 | AT46: =IF(D46 = 0, "", F46 / D46) | AU46: =IF(K46 = 0, "", M46 / K46) | AV46: =IF(R46 = 0, "", T46 / R46) -> 54.916667 | AW46: =IF(Y46 = 0, "", AA46 / Y46) | AX46: =IF(AF46 = 0, "", AH46 / AF46) | AY46: =IF(AM46 = 0, "", AO46 / AM46) | BA46: =VLOOKUP(A46, ALL_AP_DATA!$A$2:$F$3600, 6, FALSE) -> 422 | BB46: =VLOOKUP(A46, projmetadata!$A$2:$D$2036, 4, FALSE) -> 14753 | BC46: {=_xludf.IFS(I46<>0, F46/I46, P46<>0, M46/P46, W46<>0, T46/W46, AD46<>0, AA46/AD46, AK46<>0, AH46/AK46, AR46<>0, AO46/AR46, TRUE, 0)} -> #NAME? | BE46: =BC46/BB46 -> #NAME? | BF46: =BC46/BA46 -> #NAME? | BH46: =VLOOKUP(A46, ALL_AP_DATA!$A$2:$D$3600, 3, FALSE) -> 12 | BI46: =VLOOKUP(A46, ALL_AP_DATA!$A$2:$E$3600, 5, FALSE) -> 4303 | BJ46: =BI46/BA46 -> 10.196682 | BK46: =BH46/BA46 -> 0.028436019
A47: allennlp | B47: Python - Duck Typing | C47: 7 | D47: 41 | E47: 54 | F47: 6256 | G47: 0.0611 | H47: 0.2278 | I47: 0.162 | Q47: 7 | R47: 121 | S47: 232 | T47: 23000 | U47: 0.1803 | V47: 0.9789 | W47: 0.5957 | X47: 25 | Y47: 141 | Z47: 122 | AA47: 13789 | AB47: 0.2101 | AC47: 0.5148 | AD47: 0.3571 | AE47: 18 | AF47: 75 | AG47: 46 | AH47: 5034 | AI47: 0.1118 | AJ47: 0.1941 | AK47: 0.1304 | AT47: =IF(D47 = 0, "", F47 / D47) -> 152.58537 | AU47: =IF(K47 = 0, "", M47 / K47) | AV47: =IF(R47 = 0, "", T47 / R47) -> 190.08264 | AW47: =IF(Y47 = 0, "", AA47 / Y47) -> 97.794326 | AX47: =IF(AF47 = 0, "", AH47 / AF47) -> 67.12 | AY47: =IF(AM47 = 0, "", AO47 / AM47) | BA47: =VLOOKUP(A47, ALL_AP_DATA!$A$2:$F$3600, 6, FALSE) -> 671 | BB47: =VLOOKUP(A47, projmetadata!$A$2:$D$2036, 4, FALSE) -> 58026 | BC47: {=_xludf.IFS(I47<>0, F47/I47, P47<>0, M47/P47, W47<>0, T47/W47, AD47<>0, AA47/AD47, AK47<>0, AH47/AK47, AR47<>0, AO47/AR47, TRUE, 0)} -> #NAME? | BE47: =BC47/BB47 -> #NAME? | BF47: =BC47/BA47 -> #NAME? | BH47: =VLOOKUP(A47, ALL_AP_DATA!$A$2:$D$3600, 3, FALSE) -> 137 | BI47: =VLOOKUP(A47, ALL_AP_DATA!$A$2:$E$3600, 5, FALSE) -> 38609 | BJ47: =BI47/BA47 -> 57.539493 | BK47: =BH47/BA47 -> 0.20417288
A48: allura | B48: Python - Duck Typing | C48: 13 | D48: 64 | E48: 69 | F48: 864 | G48: 0.1056 | H48: 0.3966 | I48: 0.1685 | Q48: 13 | R48: 49 | S48: 106 | T48: 2940 | U48: 0.0809 | V48: 0.6092 | W48: 0.5733 | X48: 90 | Y48: 135 | Z48: 104 | AA48: 2201 | AB48: 0.2228 | AC48: 0.5977 | AD48: 0.4292 | AE48: 11 | AF48: 38 | AG48: 44 | AH48: 533 | AI48: 0.0627 | AJ48: 0.2529 | AK48: 0.1039 | AT48: =IF(D48 = 0, "", F48 / D48) -> 13.5 | AU48: =IF(K48 = 0, "", M48 / K48) | AV48: =IF(R48 = 0, "", T48 / R48) -> 60 | AW48: =IF(Y48 = 0, "", AA48 / Y48) -> 16.303704 | AX48: =IF(AF48 = 0, "", AH48 / AF48) -> 14.026316 | AY48: =IF(AM48 = 0, "", AO48 / AM48) | BA48: =VLOOKUP(A48, ALL_AP_DATA!$A$2:$F$3600, 6, FALSE) -> 606 | BB48: =VLOOKUP(A48, projmetadata!$A$2:$D$2036, 4, FALSE) -> 79913 | BC48: {=_xludf.IFS(I48<>0, F48/I48, P48<>0, M48/P48, W48<>0, T48/W48, AD48<>0, AA48/AD48, AK48<>0, AH48/AK48, AR48<>0, AO48/AR48, TRUE, 0)} -> #NAME? | BE48: =BC48/BB48 -> #NAME? | BF48: =BC48/BA48 -> #NAME? | BH48: =VLOOKUP(A48, ALL_AP_DATA!$A$2:$D$3600, 3, FALSE) -> 107 | BI48: =VLOOKUP(A48, ALL_AP_DATA!$A$2:$E$3600, 5, FALSE) -> 5128 | BJ48: =BI48/BA48 -> 8.4620462 | BK48: =BH48/BA48 -> 0.17656766
A49: altair | B49: Python - Duck Typing | C49: 5 | D49: 28 | E49: 2 | F49: 45 | G49: 0.0705 | H49: 0.0408 | I49: 0.0006 | Q49: 3 | R49: 12 | S49: 15 | T49: 4488 | U49: 0.0302 | V49: 0.3061 | W49: 0.0642 | X49: 8 | Y49: 29 | Z49: 13 | AA49: 36862 | AB49: 0.073 | AC49: 0.2653 | AD49: 0.5271 | AE49: 4 | AF49: 240 | AG49: 9 | AH49: 36603 | AI49: 0.6045 | AJ49: 0.1837 | AK49: 0.5234 | AT49: =IF(D49 = 0, "", F49 / D49) -> 1.6071429 | AU49: =IF(K49 = 0, "", M49 / K49) | AV49: =IF(R49 = 0, "", T49 / R49) -> 374 | AW49: =IF(Y49 = 0, "", AA49 / Y49) -> 1271.1034 | AX49: =IF(AF49 = 0, "", AH49 / AF49) -> 152.5125 | AY49: =IF(AM49 = 0, "", AO49 / AM49) | BA49: =VLOOKUP(A49, ALL_AP_DATA!$A$2:$F$3600, 6, FALSE) -> 397 | BB49: =VLOOKUP(A49, projmetadata!$A$2:$D$2036, 4, FALSE) -> 23734 | BC49: {=_xludf.IFS(I49<>0, F49/I49, P49<>0, M49/P49, W49<>0, T49/W49, AD49<>0, AA49/AD49, AK49<>0, AH49/AK49, AR49<>0, AO49/AR49, TRUE, 0)} -> #NAME? | BE49: =BC49/BB49 -> #NAME? | BF49: =BC49/BA49 -> #NAME? | BH49: =VLOOKUP(A49, ALL_AP_DATA!$A$2:$D$3600, 3, FALSE) -> 53 | BI49: =VLOOKUP(A49, ALL_AP_DATA!$A$2:$E$3600, 5, FALSE) -> 69928 | BJ49: =BI49/BA49 -> 176.14106 | BK49: =BH49/BA49 -> 0.13350126
A50: anki | B50: Python - Duck Typing | C50: 5 | D50: 27 | E50: 388 | F50: 8486 | G50: 0.0158 | H50: 0.1213 | I50: 0.0328 | J50: 5 | K50: 46 | L50: 552 | M50: 15286 | N50: 0.0269 | O50: 0.1726 | P50: 0.059 | Q50: 150 | R50: 924 | S50: 3079 | T50: 234788 | U50: 0.5404 | V50: 0.9625 | W50: 0.9062 | X50: 10 | Y50: 59 | Z50: 509 | AA50: 14191 | AB50: 0.0345 | AC50: 0.1591 | AD50: 0.0548 | AE50: 2 | AF50: 8 | AG50: 50 | AH50: 1136 | AI50: 0.0047 | AJ50: 0.0156 | AK50: 0.0044 | AL50: 4 | AM50: 173 | AN50: 1391 | AO50: 77139 | AP50: 0.1012 | AQ50: 0.4348 | AR50: 0.2977 | AT50: =IF(D50 = 0, "", F50 / D50) -> 314.2963 | AU50: =IF(K50 = 0, "", M50 / K50) -> 332.30435 | AV50: =IF(R50 = 0, "", T50 / R50) -> 254.09957 | AW50: =IF(Y50 = 0, "", AA50 / Y50) -> 240.52542 | AX50: =IF(AF50 = 0, "", AH50 / AF50) -> 142 | AY50: =IF(AM50 = 0, "", AO50 / AM50) -> 445.89017 | BA50: =VLOOKUP(A50, ALL_AP_DATA!$A$2:$F$3600, 6, FALSE) -> 1710 | BH50: =VLOOKUP(A50, ALL_AP_DATA!$A$2:$D$3600, 3, FALSE) -> 929 | BI50: =VLOOKUP(A50, ALL_AP_DATA!$A$2:$E$3600, 5, FALSE) -> 259083 | BJ50: =BI50/BA50 -> 151.51053
A51: ansible | B51: Python - Duck Typing | C51: 30 | D51: 116 | E51: 215 | F51: 8871 | G51: 0.0346 | H51: 0.1825 | I51: 0.049 | Q51: 112 | R51: 375 | S51: 777 | T51: 81435 | U51: 0.1118 | V51: 0.6596 | W51: 0.45 | X51: 132 | Y51: 305 | Z51: 399 | AA51: 16000 | AB51: 0.091 | AC51: 0.3387 | AD51: 0.0884 | AE51: 25 | AF51: 105 | AG51: 167 | AH51: 5749 | AI51: 0.0313 | AJ51: 0.1418 | AK51: 0.0318 | AT51: =IF(D51 = 0, "", F51 / D51) -> 76.474138 | AU51: =IF(K51 = 0, "", M51 / K51) | AV51: =IF(R51 = 0, "", T51 / R51) -> 217.16 | AW51: =IF(Y51 = 0, "", AA51 / Y51) -> 52.459016 | AX51: =IF(AF51 = 0, "", AH51 / AF51) -> 54.752381 | AY51: =IF(AM51 = 0, "", AO51 / AM51) | BA51: =VLOOKUP(A51, ALL_AP_DATA!$A$2:$F$3600, 6, FALSE) -> 3353 | BB51: =VLOOKUP(A51, projmetadata!$A$2:$D$2036, 4, FALSE) -> 153900 | BC51: {=_xludf.IFS(I51<>0, F51/I51, P51<>0, M51/P51, W51<>0, T51/W51, AD51<>0, AA51/AD51, AK51<>0, AH51/AK51, AR51<>0, AO51/AR51, TRUE, 0)} -> #NAME? | BE51: =BC51/BB51 -> #NAME? | BF51: =BC51/BA51 -> #NAME? | BH51: =VLOOKUP(A51, ALL_AP_DATA!$A$2:$D$3600, 3, FALSE) -> 517 | BI51: =VLOOKUP(A51, ALL_AP_DATA!$A$2:$E$3600, 5, FALSE) -> 180972 | BJ51: =BI51/BA51 -> 53.973158 | BK51: =BH51/BA51 -> 0.15419028
A52: apex | B52: Python - Duck Typing | C52: 5 | D52: 11 | E52: 7 | F52: 699 | G52: 0.0312 | H52: 0.0769 | I52: 0.0154 | Q52: 9 | R52: 60 | S52: 56 | T52: 22336 | U52: 0.17 | V52: 0.6154 | W52: 0.4915 | X52: 15 | Y52: 55 | Z52: 32 | AA52: 2445 | AB52: 0.1558 | AC52: 0.3516 | AD52: 0.0538 | AE52: 1 | AF52: 3 | AG52: 0 | AH52: 0 | AI52: 0.0085 | AJ52: 0 | AK52: 0 | AT52: =IF(D52 = 0, "", F52 / D52) -> 63.545455 | AU52: =IF(K52 = 0, "", M52 / K52) | AV52: =IF(R52 = 0, "", T52 / R52) -> 372.26667 | AW52: =IF(Y52 = 0, "", AA52 / Y52) -> 44.454545 | AX52: =IF(AF52 = 0, "", AH52 / AF52) -> 0 | AY52: =IF(AM52 = 0, "", AO52 / AM52) | BA52: =VLOOKUP(A52, ALL_AP_DATA!$A$2:$F$3600, 6, FALSE) -> 353 | BB52: =VLOOKUP(A52, projmetadata!$A$2:$D$2036, 4, FALSE) -> 29936 | BC52: {=_xludf.IFS(I52<>0, F52/I52, P52<>0, M52/P52, W52<>0, T52/W52, AD52<>0, AA52/AD52, AK52<>0, AH52/AK52, AR52<>0, AO52/AR52, TRUE, 0)} -> #NAME? | BE52: =BC52/BB52 -> #NAME? | BF52: =BC52/BA52 -> #NAME? | BH52: =VLOOKUP(A52, ALL_AP_DATA!$A$2:$D$3600, 3, FALSE) -> 77 | BI52: =VLOOKUP(A52, ALL_AP_DATA!$A$2:$E$3600, 5, FALSE) -> 45448 | BJ52: =BI52/BA52 -> 128.74788 | BK52: =BH52/BA52 -> 0.21813031
A53: apprise | B53: Python - Duck Typing | Q53: 9 | R53: 45 | S53: 70 | T53: 7768 | U53: 0.1466 | V53: 0.7292 | W53: 0.375 | X53: 14 | Y53: 234 | Z53: 74 | AA53: 14453 | AB53: 0.7622 | AC53: 0.7708 | AD53: 0.6978 | AE53: 4 | AF53: 117 | AG53: 59 | AH53: 10102 | AI53: 0.3811 | AJ53: 0.6146 | AK53: 0.4877 | AT53: =IF(D53 = 0, "", F53 / D53) | AU53: =IF(K53 = 0, "", M53 / K53) | AV53: =IF(R53 = 0, "", T53 / R53) -> 172.62222 | AW53: =IF(Y53 = 0, "", AA53 / Y53) -> 61.764957 | AX53: =IF(AF53 = 0, "", AH53 / AF53) -> 86.34188 | AY53: =IF(AM53 = 0, "", AO53 / AM53) | BA53: =VLOOKUP(A53, ALL_AP_DATA!$A$2:$F$3600, 6, FALSE) -> 307 | BB53: =VLOOKUP(A53, projmetadata!$A$2:$D$2036, 4, FALSE) -> 42879 | BC53: {=_xludf.IFS(I53<>0, F53/I53, P53<>0, M53/P53, W53<>0, T53/W53, AD53<>0, AA53/AD53, AK53<>0, AH53/AK53, AR53<>0, AO53/AR53, TRUE, 0)} -> #NAME? | BE53: =BC53/BB53 -> #NAME? | BF53: =BC53/BA53 -> #NAME? | BH53: =VLOOKUP(A53, ALL_AP_DATA!$A$2:$D$3600, 3, FALSE) -> 153 | BI53: =VLOOKUP(A53, ALL_AP_DATA!$A$2:$E$3600, 5, FALSE) -> 20712 | BJ53: =BI53/BA53 -> 67.465798 | BK53: =BH53/BA53 -> 0.49837134
A54: astropy | B54: Python - Duck Typing | C54: 22 | D54: 222 | E54: 773 | F54: 25984 | G54: 0.1729 | H54: 0.3535 | I54: 0.2007 | J54: 4 | K54: 33 | L54: 266 | M54: 9487 | N54: 0.0257 | O54: 0.1216 | P54: 0.0733 | Q54: 73 | R54: 316 | S54: 1715 | T54: 92452 | U54: 0.2461 | V54: 0.7842 | W54: 0.7141 | X54: 128 | Y54: 514 | Z54: 1105 | AA54: 46079 | AB54: 0.4003 | AC54: 0.5053 | AD54: 0.3559 | AE54: 55 | AF54: 273 | AG54: 953 | AH54: 37578 | AI54: 0.2126 | AJ54: 0.4358 | AK54: 0.2902 | AT54: =IF(D54 = 0, "", F54 / D54) -> 117.04505 | AU54: =IF(K54 = 0, "", M54 / K54) -> 287.48485 | AV54: =IF(R54 = 0, "", T54 / R54) -> 292.56962 | AW54: =IF(Y54 = 0, "", AA54 / Y54) -> 89.64786 | AX54: =IF(AF54 = 0, "", AH54 / AF54) -> 137.64835 | AY54: =IF(AM54 = 0, "", AO54 / AM54) | BA54: =VLOOKUP(A54, ALL_AP_DATA!$A$2:$F$3600, 6, FALSE) -> 1284 | BB54: =VLOOKUP(A54, projmetadata!$A$2:$D$2036, 4, FALSE) -> 166142 | BC54: {=_xludf.IFS(I54<>0, F54/I54, P54<>0, M54/P54, W54<>0, T54/W54, AD54<>0, AA54/AD54, AK54<>0, AH54/AK54, AR54<>0, AO54/AR54, TRUE, 0)} -> #NAME? | BE54: =BC54/BB54 -> #NAME? | BF54: =BC54/BA54 -> #NAME? | BH54: =VLOOKUP(A54, ALL_AP_DATA!$A$2:$D$3600, 3, FALSE) -> 463 | BI54: =VLOOKUP(A54, ALL_AP_DATA!$A$2:$E$3600, 5, FALSE) -> 129468 | BJ54: =BI54/BA54 -> 100.83178 | BK54: =BH54/BA54 -> 0.3605919
A55: astroquery | B55: Python - Duck Typing | C55: 48 | D55: 99 | E55: 138 | F55: 3830 | G55: 0.1467 | H55: 0.227 | I55: 0.1 | Q55: 31 | R55: 108 | S55: 395 | T55: 26252 | U55: 0.16 | V55: 0.6497 | W55: 0.6854 | X55: 43 | Y55: 85 | Z55: 157 | AA55: 7952 | AB55: 0.1259 | AC55: 0.2582 | AD55: 0.2076 | AE55: 2 | AF55: 14 | AG55: 47 | AH55: 1229 | AI55: 0.0207 | AJ55: 0.0773 | AK55: 0.0321 | AT55: =IF(D55 = 0, "", F55 / D55) -> 38.686869 | AU55: =IF(K55 = 0, "", M55 / K55) | AV55: =IF(R55 = 0, "", T55 / R55) -> 243.07407 | AW55: =IF(Y55 = 0, "", AA55 / Y55) -> 93.552941 | AX55: =IF(AF55 = 0, "", AH55 / AF55) -> 87.785714 | AY55: =IF(AM55 = 0, "", AO55 / AM55) | BA55: =VLOOKUP(A55, ALL_AP_DATA!$A$2:$F$3600, 6, FALSE) -> 675 | BB55: =VLOOKUP(A55, projmetadata!$A$2:$D$2036, 4, FALSE) -> 42060 | BC55: {=_xludf.IFS(I55<>0, F55/I55, P55<>0, M55/P55, W55<>0, T55/W55, AD55<>0, AA55/AD55, AK55<>0, AH55/AK55, AR55<>0, AO55/AR55, TRUE, 0)} -> #NAME? | BE55: =BC55/BB55 -> #NAME? | BF55: =BC55/BA55 -> #NAME? | BH55: =VLOOKUP(A55, ALL_AP_DATA!$A$2:$D$3600, 3, FALSE) -> 199 | BI55: =VLOOKUP(A55, ALL_AP_DATA!$A$2:$E$3600, 5, FALSE) -> 38299 | BJ55: =BI55/BA55 -> 56.739259 | BK55: =BH55/BA55 -> 0.29481481
A56: asyncssh | B56: Python - Duck Typing | C56: 3 | D56: 25 | E56: 63 | F56: 4488 | G56: 0.1634 | H56: 0.5833 | I56: 0.4081 | J56: 3 | K56: 28 | L56: 65 | M56: 7397 | N56: 0.183 | O56: 0.6019 | P56: 0.6726 | Q56: 6 | R56: 30 | S56: 80 | T56: 8241 | U56: 0.1961 | V56: 0.7407 | W56: 0.7493 | X56: 4 | Y56: 134 | Z56: 98 | AA56: 10248 | AB56: 0.8758 | AC56: 0.9074 | AD56: 0.9318 | AE56: 8 | AF56: 55 | AG56: 77 | AH56: 6452 | AI56: 0.3595 | AJ56: 0.713 | AK56: 0.5867 | AL56: 2 | AM56: 34 | AN56: 72 | AO56: 7947 | AP56: 0.2222 | AQ56: 0.6667 | AR56: 0.7226 | AT56: =IF(D56 = 0, "", F56 / D56) -> 179.52 | AU56: =IF(K56 = 0, "", M56 / K56) -> 264.17857 | AV56: =IF(R56 = 0, "", T56 / R56) -> 274.7 | AW56: =IF(Y56 = 0, "", AA56 / Y56) -> 76.477612 | AX56: =IF(AF56 = 0, "", AH56 / AF56) -> 117.30909 | AY56: =IF(AM56 = 0, "", AO56 / AM56) -> 233.73529 | BA56: =VLOOKUP(A56, ALL_AP_DATA!$A$2:$F$3600, 6, FALSE) -> 153 | BB56: =VLOOKUP(A56, projmetadata!$A$2:$D$2036, 4, FALSE) -> 34337 | BC56: {=_xludf.IFS(I56<>0, F56/I56, P56<>0, M56/P56, W56<>0, T56/W56, AD56<>0, AA56/AD56, AK56<>0, AH56/AK56, AR56<>0, AO56/AR56, TRUE, 0)} -> #NAME? | BE56: =BC56/BB56 -> #NAME? | BF56: =BC56/BA56 -> #NAME? | BH56: =VLOOKUP(A56, ALL_AP_DATA!$A$2:$D$3600, 3, FALSE) -> 64 | BI56: =VLOOKUP(A56, ALL_AP_DATA!$A$2:$E$3600, 5, FALSE) -> 10998 | BJ56: =BI56/BA56 -> 71.882353 | BK56: =BH56/BA56 -> 0.41830065
A57: bitbake | B57: Python - Duck Typing | C57: 12 | D57: 57 | E57: 145 | F57: 2677 | G57: 0.1887 | H57: 0.4915 | I57: 0.344 | Q57: 6 | R57: 20 | S57: 131 | T57: 2792 | U57: 0.0662 | V57: 0.4441 | W57: 0.3588 | X57: 20 | Y57: 97 | Z57: 198 | AA57: 4571 | AB57: 0.3212 | AC57: 0.6712 | AD57: 0.5875 | AE57: 13 | AF57: 67 | AG57: 105 | AH57: 1636 | AI57: 0.2219 | AJ57: 0.3559 | AK57: 0.2103 | AT57: =IF(D57 = 0, "", F57 / D57) -> 46.964912 | AU57: =IF(K57 = 0, "", M57 / K57) | AV57: =IF(R57 = 0, "", T57 / R57) -> 139.6 | AW57: =IF(Y57 = 0, "", AA57 / Y57) -> 47.123711 | AX57: =IF(AF57 = 0, "", AH57 / AF57) -> 24.41791 | AY57: =IF(AM57 = 0, "", AO57 / AM57) | BA57: =VLOOKUP(A57, ALL_AP_DATA!$A$2:$F$3600, 6, FALSE) -> 302 | BB57: =VLOOKUP(A57, projmetadata!$A$2:$D$2036, 4, FALSE) -> 54998 | BC57: {=_xludf.IFS(I57<>0, F57/I57, P57<>0, M57/P57, W57<>0, T57/W57, AD57<>0, AA57/AD57, AK57<>0, AH57/AK57, AR57<>0, AO57/AR57, TRUE, 0)} -> #NAME? | BE57: =BC57/BB57 -> #NAME? | BF57: =BC57/BA57 -> #NAME? | BH57: =VLOOKUP(A57, ALL_AP_DATA!$A$2:$D$3600, 3, FALSE) -> 98 | BI57: =VLOOKUP(A57, ALL_AP_DATA!$A$2:$E$3600, 5, FALSE) -> 7781 | BJ57: =BI57/BA57 -> 25.764901 | BK57: =BH57/BA57 -> 0.32450331
A58: blueman | B58: Python - Duck Typing | C58: 2 | D58: 10 | E58: 49 | F58: 1156 | G58: 0.0383 | H58: 0.1628 | I58: 0.0212 | J58: 3 | K58: 14 | L58: 64 | M58: 2331 | N58: 0.0536 | O58: 0.2126 | P58: 0.0428 | Q58: 14 | R58: 80 | S58: 148 | T58: 21669 | U58: 0.3065 | V58: 0.4917 | W58: 0.3982 | X58: 19 | Y58: 96 | Z58: 127 | AA58: 5452 | AB58: 0.3678 | AC58: 0.4219 | AD58: 0.1002 | AE58: 10 | AF58: 48 | AG58: 86 | AH58: 2956 | AI58: 0.1839 | AJ58: 0.2857 | AK58: 0.0543 | AL58: 1 | AM58: 22 | AN58: 39 | AO58: 1309 | AP58: 0.0843 | AQ58: 0.1296 | AR58: 0.0241 | AT58: =IF(D58 = 0, "", F58 / D58) -> 115.6 | AU58: =IF(K58 = 0, "", M58 / K58) -> 166.5 | AV58: =IF(R58 = 0, "", T58 / R58) -> 270.8625 | AW58: =IF(Y58 = 0, "", AA58 / Y58) -> 56.791667 | AX58: =IF(AF58 = 0, "", AH58 / AF58) -> 61.583333 | AY58: =IF(AM58 = 0, "", AO58 / AM58) -> 59.5 | BA58: =VLOOKUP(A58, ALL_AP_DATA!$A$2:$F$3600, 6, FALSE) -> 261 | BB58: =VLOOKUP(A58, projmetadata!$A$2:$D$2036, 4, FALSE) -> 10030 | BC58: {=_xludf.IFS(I58<>0, F58/I58, P58<>0, M58/P58, W58<>0, T58/W58, AD58<>0, AA58/AD58, AK58<>0, AH58/AK58, AR58<>0, AO58/AR58, TRUE, 0)} -> #NAME? | BE58: =BC58/BB58 -> #NAME? | BF58: =BC58/BA58 -> #NAME? | BH58: =VLOOKUP(A58, ALL_AP_DATA!$A$2:$D$3600, 3, FALSE) -> 84 | BI58: =VLOOKUP(A58, ALL_AP_DATA!$A$2:$E$3600, 5, FALSE) -> 54412 | BJ58: =BI58/BA58 -> 208.4751 | BK58: =BH58/BA58 -> 0.32183908
A59: bodhi | B59: Python - Duck Typing | C59: 4 | D59: 18 | E59: 0 | F59: 0 | G59: 0.0366 | H59: 0 | I59: 0 | Q59: 18 | R59: 80 | S59: 172 | T59: 12298 | U59: 0.1626 | V59: 0.789 | W59: 0.7026 | X59: 6 | Y59: 28 | Z59: 0 | AA59: 0 | AB59: 0.0569 | AC59: 0 | AD59: 0 | AE59: 3 | AF59: 12 | AG59: 0 | AH59: 0 | AI59: 0.0244 | AJ59: 0 | AK59: 0 | AT59: =IF(D59 = 0, "", F59 / D59) -> 0 | AU59: =IF(K59 = 0, "", M59 / K59) | AV59: =IF(R59 = 0, "", T59 / R59) -> 153.725 | AW59: =IF(Y59 = 0, "", AA59 / Y59) -> 0 | AX59: =IF(AF59 = 0, "", AH59 / AF59) -> 0 | AY59: =IF(AM59 = 0, "", AO59 / AM59) | BA59: =VLOOKUP(A59, ALL_AP_DATA!$A$2:$F$3600, 6, FALSE) -> 492 | BB59: =VLOOKUP(A59, projmetadata!$A$2:$D$2036, 4, FALSE) -> 45353 | BC59: {=_xludf.IFS(I59<>0, F59/I59, P59<>0, M59/P59, W59<>0, T59/W59, AD59<>0, AA59/AD59, AK59<>0, AH59/AK59, AR59<>0, AO59/AR59, TRUE, 0)} -> #NAME? | BE59: =BC59/BB59 -> #NAME? | BF59: =BC59/BA59 -> #NAME? | BH59: =VLOOKUP(A59, ALL_AP_DATA!$A$2:$D$3600, 3, FALSE) -> 110 | BI59: =VLOOKUP(A59, ALL_AP_DATA!$A$2:$E$3600, 5, FALSE) -> 17503 | BJ59: =BI59/BA59 -> 35.575203 | BK59: =BH59/BA59 -> 0.22357724
A60: boto | B60: Python - Duck Typing | C60: 12 | D60: 164 | E60: 6 | F60: 323 | G60: 0.2268 | H60: 0.8571 | I60: 0.7995 | Q60: 1 | R60: 2 | S60: 2 | T60: 87 | U60: 0.0028 | V60: 0.2857 | W60: 0.2153 | X60: 98 | Y60: 307 | Z60: 7 | AA60: 328 | AB60: 0.4246 | AC60: 1 | AD60: 0.8119 | AE60: 12 | AF60: 43 | AG60: 2 | AH60: 215 | AI60: 0.0595 | AJ60: 0.2857 | AK60: 0.5322 | AT60: =IF(D60 = 0, "", F60 / D60) -> 1.9695122 | AU60: =IF(K60 = 0, "", M60 / K60) | AV60: =IF(R60 = 0, "", T60 / R60) -> 43.5 | AW60: =IF(Y60 = 0, "", AA60 / Y60) -> 1.0684039 | AX60: =IF(AF60 = 0, "", AH60 / AF60) -> 5 | AY60: =IF(AM60 = 0, "", AO60 / AM60) | BA60: =VLOOKUP(A60, ALL_AP_DATA!$A$2:$F$3600, 6, FALSE) -> 723 | BB60: =VLOOKUP(A60, projmetadata!$A$2:$D$2036, 4, FALSE) -> 81045 | BC60: {=_xludf.IFS(I60<>0, F60/I60, P60<>0, M60/P60, W60<>0, T60/W60, AD60<>0, AA60/AD60, AK60<>0, AH60/AK60, AR60<>0, AO60/AR60, TRUE, 0)} -> #NAME? | BE60: =BC60/BB60 -> #NAME? | BF60: =BC60/BA60 -> #NAME? | BH60: =VLOOKUP(A60, ALL_AP_DATA!$A$2:$D$3600, 3, FALSE) -> 106 | BI60: =VLOOKUP(A60, ALL_AP_DATA!$A$2:$E$3600, 5, FALSE) -> 404 | BJ60: =BI60/BA60 -> 0.55878285 | BK60: =BH60/BA60 -> 0.14661134
A61: buildbot | B61: Python - Duck Typing | C61: 12 | D61: 47 | E61: 126 | F61: 3041 | G61: 0.0324 | H61: 0.1107 | I61: 0.0379 | J61: 1 | K61: 7 | L61: 51 | M61: 2026 | N61: 0.0048 | O61: 0.0448 | P61: 0.0252 | Q61: 71 | R61: 283 | S61: 839 | T61: 57999 | U61: 0.1949 | V61: 0.7373 | W61: 0.722 | X61: 199 | Y61: 427 | Z61: 445 | AA61: 20561 | AB61: 0.2941 | AC61: 0.391 | AD61: 0.256 | AE61: 16 | AF61: 63 | AG61: 109 | AH61: 2962 | AI61: 0.0434 | AJ61: 0.0958 | AK61: 0.0369 | AT61: =IF(D61 = 0, "", F61 / D61) -> 64.702128 | AU61: =IF(K61 = 0, "", M61 / K61) -> 289.42857 | AV61: =IF(R61 = 0, "", T61 / R61) -> 204.94346 | AW61: =IF(Y61 = 0, "", AA61 / Y61) -> 48.152225 | AX61: =IF(AF61 = 0, "", AH61 / AF61) -> 47.015873 | AY61: =IF(AM61 = 0, "", AO61 / AM61) | BA61: =VLOOKUP(A61, ALL_AP_DATA!$A$2:$F$3600, 6, FALSE) -> 1452 | BB61: =VLOOKUP(A61, projmetadata!$A$2:$D$2036, 4, FALSE) -> 134366 | BC61: {=_xludf.IFS(I61<>0, F61/I61, P61<>0, M61/P61, W61<>0, T61/W61, AD61<>0, AA61/AD61, AK61<>0, AH61/AK61, AR61<>0, AO61/AR61, TRUE, 0)} -> #NAME? | BE61: =BC61/BB61 -> #NAME? | BF61: =BC61/BA61 -> #NAME? | BH61: =VLOOKUP(A61, ALL_AP_DATA!$A$2:$D$3600, 3, FALSE) -> 357 | BI61: =VLOOKUP(A61, ALL_AP_DATA!$A$2:$E$3600, 5, FALSE) -> 80331 | BJ61: =BI61/BA61 -> 55.32438 | BK61: =BH61/BA61 -> 0.24586777
A62: cassandra-dtest | B62: Python - Duck Typing | C62: 3 | D62: 21 | E62: 24 | F62: 866 | G62: 0.1257 | H62: 0.2759 | I62: 0.2781 | Q62: 5 | R62: 10 | S62: 25 | T62: 808 | U62: 0.0599 | V62: 0.2874 | W62: 0.2595 | X62: 6 | Y62: 120 | Z62: 75 | AA62: 2937 | AB62: 0.7186 | AC62: 0.8621 | AD62: 0.9432 | AE62: 1 | AF62: 13 | AG62: 16 | AH62: 483 | AI62: 0.0778 | AJ62: 0.1839 | AK62: 0.1551 | AT62: =IF(D62 = 0, "", F62 / D62) -> 41.238095 | AU62: =IF(K62 = 0, "", M62 / K62) | AV62: =IF(R62 = 0, "", T62 / R62) -> 80.8 | AW62: =IF(Y62 = 0, "", AA62 / Y62) -> 24.475 | AX62: =IF(AF62 = 0, "", AH62 / AF62) -> 37.153846 | AY62: =IF(AM62 = 0, "", AO62 / AM62) | BA62: =VLOOKUP(A62, ALL_AP_DATA!$A$2:$F$3600, 6, FALSE) -> 167 | BB62: =VLOOKUP(A62, projmetadata!$A$2:$D$2036, 4, FALSE) -> 62861 | BC62: {=_xludf.IFS(I62<>0, F62/I62, P62<>0, M62/P62, W62<>0, T62/W62, AD62<>0, AA62/AD62, AK62<>0, AH62/AK62, AR62<>0, AO62/AR62, TRUE, 0)} -> #NAME? | BE62: =BC62/BB62 -> #NAME? | BF62: =BC62/BA62 -> #NAME? | BH62: =VLOOKUP(A62, ALL_AP_DATA!$A$2:$D$3600, 3, FALSE) -> 30 | BI62: =VLOOKUP(A62, ALL_AP_DATA!$A$2:$E$3600, 5, FALSE) -> 3114 | BJ62: =BI62/BA62 -> 18.646707 | BK62: =BH62/BA62 -> 0.17964072
A63: celery | B63: Python - Duck Typing | C63: 7 | D63: 103 | E63: 126 | F63: 3984 | G63: 0.2384 | H63: 0.375 | I63: 0.2875 | J63: 1 | K63: 7 | L63: 53 | M63: 3042 | N63: 0.0162 | O63: 0.1577 | P63: 0.2195 | Q63: 18 | R63: 62 | S63: 205 | T63: 7104 | U63: 0.1435 | V63: 0.6101 | W63: 0.5126 | X63: 96 | Y63: 226 | Z63: 172 | AA63: 8841 | AB63: 0.5231 | AC63: 0.5119 | AD63: 0.6379 | AE63: 12 | AF63: 70 | AG63: 94 | AH63: 3674 | AI63: 0.162 | AJ63: 0.2798 | AK63: 0.2651 | AT63: =IF(D63 = 0, "", F63 / D63) -> 38.679612 | AU63: =IF(K63 = 0, "", M63 / K63) -> 434.57143 | AV63: =IF(R63 = 0, "", T63 / R63) -> 114.58065 | AW63: =IF(Y63 = 0, "", AA63 / Y63) -> 39.119469 | AX63: =IF(AF63 = 0, "", AH63 / AF63) -> 52.485714 | AY63: =IF(AM63 = 0, "", AO63 / AM63) | BA63: =VLOOKUP(A63, ALL_AP_DATA!$A$2:$F$3600, 6, FALSE) -> 432 | BB63: =VLOOKUP(A63, projmetadata!$A$2:$D$2036, 4, FALSE) -> 55318 | BC63: {=_xludf.IFS(I63<>0, F63/I63, P63<>0, M63/P63, W63<>0, T63/W63, AD63<>0, AA63/AD63, AK63<>0, AH63/AK63, AR63<>0, AO63/AR63, TRUE, 0)} -> #NAME? | BE63: =BC63/BB63 -> #NAME? | BF63: =BC63/BA63 -> #NAME? | BH63: =VLOOKUP(A63, ALL_AP_DATA!$A$2:$D$3600, 3, FALSE) -> 109 | BI63: =VLOOKUP(A63, ALL_AP_DATA!$A$2:$E$3600, 5, FALSE) -> 13859 | BJ63: =BI63/BA63 -> 32.081019 | BK63: =BH63/BA63 -> 0.25231481
A64: ceph-deploy | B64: Python - Duck Typing | C64: 2 | D64: 8 | E64: 0 | F64: 0 | G64: 0.0556 | H64: 0 | I64: 0 | X64: 10 | Y64: 55 | Z64: 12 | AA64: 52 | AB64: 0.3819 | AC64: 0.4615 | AD64: 0.115 | AT64: =IF(D64 = 0, "", F64 / D64) -> 0 | AU64: =IF(K64 = 0, "", M64 / K64) | AV64: =IF(R64 = 0, "", T64 / R64) | AW64: =IF(Y64 = 0, "", AA64 / Y64) -> 0.94545455 | AX64: =IF(AF64 = 0, "", AH64 / AF64) | AY64: =IF(AM64 = 0, "", AO64 / AM64) | BA64: =VLOOKUP(A64, ALL_AP_DATA!$A$2:$F$3600, 6, FALSE) -> 144 | BB64: =VLOOKUP(A64, projmetadata!$A$2:$D$2036, 4, FALSE) -> 9141 | BC64: {=_xludf.IFS(I64<>0, F64/I64, P64<>0, M64/P64, W64<>0, T64/W64, AD64<>0, AA64/AD64, AK64<>0, AH64/AK64, AR64<>0, AO64/AR64, TRUE, 0)} -> #NAME? | BE64: =BC64/BB64 -> #NAME? | BF64: =BC64/BA64 -> #NAME? | BH64: =VLOOKUP(A64, ALL_AP_DATA!$A$2:$D$3600, 3, FALSE) -> 2 | BI64: =VLOOKUP(A64, ALL_AP_DATA!$A$2:$E$3600, 5, FALSE) -> 452 | BJ64: =BI64/BA64 -> 3.1388889 | BK64: =BH64/BA64 -> 0.013888889
A65: cerbero | B65: Python - Duck Typing | C65: 3 | D65: 23 | E65: 21 | F65: 177 | G65: 0.0769 | H65: 0.0781 | I65: 0.0105 | Q65: 15 | R65: 82 | S65: 143 | T65: 10144 | U65: 0.2742 | V65: 0.5316 | W65: 0.6006 | X65: 11 | Y65: 75 | Z65: 61 | AA65: 553 | AB65: 0.2508 | AC65: 0.2268 | AD65: 0.0327 | AE65: 4 | AF65: 19 | AG65: 1 | AH65: 19 | AI65: 0.0635 | AJ65: 0.0037 | AK65: 0.0011 | AT65: =IF(D65 = 0, "", F65 / D65) -> 7.6956522 | AU65: =IF(K65 = 0, "", M65 / K65) | AV65: =IF(R65 = 0, "", T65 / R65) -> 123.70732 | AW65: =IF(Y65 = 0, "", AA65 / Y65) -> 7.3733333 | AX65: =IF(AF65 = 0, "", AH65 / AF65) -> 1 | AY65: =IF(AM65 = 0, "", AO65 / AM65) | BA65: =VLOOKUP(A65, ALL_AP_DATA!$A$2:$F$3600, 6, FALSE) -> 299 | BB65: =VLOOKUP(A65, projmetadata!$A$2:$D$2036, 4, FALSE) -> 10461 | BC65: {=_xludf.IFS(I65<>0, F65/I65, P65<>0, M65/P65, W65<>0, T65/W65, AD65<>0, AA65/AD65, AK65<>0, AH65/AK65, AR65<>0, AO65/AR65, TRUE, 0)} -> #NAME? | BE65: =BC65/BB65 -> #NAME? | BF65: =BC65/BA65 -> #NAME? | BH65: =VLOOKUP(A65, ALL_AP_DATA!$A$2:$D$3600, 3, FALSE) -> 103 | BI65: =VLOOKUP(A65, ALL_AP_DATA!$A$2:$E$3600, 5, FALSE) -> 16890 | BJ65: =BI65/BA65 -> 56.488294 | BK65: =BH65/BA65 -> 0.34448161
A66: certbot | B66: Python - Duck Typing | C66: 7 | D66: 33 | E66: 64 | F66: 5254 | G66: 0.0549 | H66: 0.2471 | I66: 0.2048 | J66: 3 | K66: 28 | L66: 57 | M66: 4125 | N66: 0.0466 | O66: 0.2201 | P66: 0.1608 | Q66: 36 | R66: 172 | S66: 225 | T66: 20867 | U66: 0.2862 | V66: 0.8687 | W66: 0.8134 | X66: 10 | Y66: 32 | Z66: 64 | AA66: 3500 | AB66: 0.0532 | AC66: 0.2471 | AD66: 0.1364 | AE66: 4 | AF66: 20 | AG66: 28 | AH66: 2590 | AI66: 0.0333 | AJ66: 0.1081 | AK66: 0.101 | AT66: =IF(D66 = 0, "", F66 / D66) -> 159.21212 | AU66: =IF(K66 = 0, "", M66 / K66) -> 147.32143 | AV66: =IF(R66 = 0, "", T66 / R66) -> 121.31977 | AW66: =IF(Y66 = 0, "", AA66 / Y66) -> 109.375 | AX66: =IF(AF66 = 0, "", AH66 / AF66) -> 129.5 | AY66: =IF(AM66 = 0, "", AO66 / AM66) | BA66: =VLOOKUP(A66, ALL_AP_DATA!$A$2:$F$3600, 6, FALSE) -> 601 | BB66: =VLOOKUP(A66, projmetadata!$A$2:$D$2036, 4, FALSE) -> 48672 | BC66: {=_xludf.IFS(I66<>0, F66/I66, P66<>0, M66/P66, W66<>0, T66/W66, AD66<>0, AA66/AD66, AK66<>0, AH66/AK66, AR66<>0, AO66/AR66, TRUE, 0)} -> #NAME? | BE66: =BC66/BB66 -> #NAME? | BF66: =BC66/BA66 -> #NAME? | BH66: =VLOOKUP(A66, ALL_AP_DATA!$A$2:$D$3600, 3, FALSE) -> 184 | BI66: =VLOOKUP(A66, ALL_AP_DATA!$A$2:$E$3600, 5, FALSE) -> 25655 | BJ66: =BI66/BA66 -> 42.687188 | BK66: =BH66/BA66 -> 0.30615641
A67: cherrypy | B67: Python - Duck Typing | C67: 2 | D67: 32 | E67: 3 | F67: 27 | G67: 0.256 | H67: 0.0714 | I67: 0.0274 | X67: 6 | Y67: 89 | Z67: 17 | AA67: 134 | AB67: 0.712 | AC67: 0.4048 | AD67: 0.1358 | AE67: 4 | AF67: 17 | AG67: 2 | AH67: 3 | AI67: 0.136 | AJ67: 0.0476 | AK67: 0.003 | AT67: =IF(D67 = 0, "", F67 / D67) -> 0.84375 | AU67: =IF(K67 = 0, "", M67 / K67) | AV67: =IF(R67 = 0, "", T67 / R67) | AW67: =IF(Y67 = 0, "", AA67 / Y67) -> 1.505618 | AX67: =IF(AF67 = 0, "", AH67 / AF67) -> 0.17647059 | AY67: =IF(AM67 = 0, "", AO67 / AM67) | BA67: =VLOOKUP(A67, ALL_AP_DATA!$A$2:$F$3600, 6, FALSE) -> 125 | BB67: =VLOOKUP(A67, projmetadata!$A$2:$D$2036, 4, FALSE) -> 17519 | BC67: {=_xludf.IFS(I67<>0, F67/I67, P67<>0, M67/P67, W67<>0, T67/W67, AD67<>0, AA67/AD67, AK67<>0, AH67/AK67, AR67<>0, AO67/AR67, TRUE, 0)} -> #NAME? | BE67: =BC67/BB67 -> #NAME? | BF67: =BC67/BA67 -> #NAME? | BH67: =VLOOKUP(A67, ALL_AP_DATA!$A$2:$D$3600, 3, FALSE) -> 14 | BI67: =VLOOKUP(A67, ALL_AP_DATA!$A$2:$E$3600, 5, FALSE) -> 987 | BJ67: =BI67/BA67 -> 7.896 | BK67: =BH67/BA67 -> 0.112
A68: cobbler | B68: Python - Duck Typing | C68: 2 | D68: 39 | E68: 156 | F68: 10527 | G68: 0.0785 | H68: 0.3257 | I68: 0.2202 | J68: 8 | K68: 58 | L68: 216 | M68: 13557 | N68: 0.1167 | O68: 0.4509 | P68: 0.2836 | Q68: 38 | R68: 163 | S68: 393 | T68: 27478 | U68: 0.328 | V68: 0.8205 | W68: 0.5749 | X68: 17 | Y68: 91 | Z68: 220 | AA68: 14705 | AB68: 0.1831 | AC68: 0.4593 | AD68: 0.3076 | AE68: 1 | AF68: 25 | AG68: 135 | AH68: 7435 | AI68: 0.0503 | AJ68: 0.2818 | AK68: 0.1556 | AL68: 8 | AM68: 80 | AN68: 261 | AO68: 19425 | AP68: 0.161 | AQ68: 0.5449 | AR68: 0.4064 | AT68: =IF(D68 = 0, "", F68 / D68) -> 269.92308 | AU68: =IF(K68 = 0, "", M68 / K68) -> 233.74138 | AV68: =IF(R68 = 0, "", T68 / R68) -> 168.57669 | AW68: =IF(Y68 = 0, "", AA68 / Y68) -> 161.59341 | AX68: =IF(AF68 = 0, "", AH68 / AF68) -> 297.4 | AY68: =IF(AM68 = 0, "", AO68 / AM68) -> 242.8125 | BA68: =VLOOKUP(A68, ALL_AP_DATA!$A$2:$F$3600, 6, FALSE) -> 497 | BB68: =VLOOKUP(A68, projmetadata!$A$2:$D$2036, 4, FALSE) -> 26207 | BC68: {=_xludf.IFS(I68<>0, F68/I68, P68<>0, M68/P68, W68<>0, T68/W68, AD68<>0, AA68/AD68, AK68<>0, AH68/AK68, AR68<>0, AO68/AR68, TRUE, 0)} -> #NAME? | BE68: =BC68/BB68 -> #NAME? | BF68: =BC68/BA68 -> #NAME? | BH68: =VLOOKUP(A68, ALL_AP_DATA!$A$2:$D$3600, 3, FALSE) -> 176 | BI68: =VLOOKUP(A68, ALL_AP_DATA!$A$2:$E$3600, 5, FALSE) -> 47798 | BJ68: =BI68/BA68 -> 96.173038 | BK68: =BH68/BA68 -> 0.35412475
A69: dagster | B69: Python - Duck Typing | C69: 30 | D69: 248 | E69: 209 | F69: 7248 | G69: 0.0408 | H69: 0.0737 | I69: 0.0055 | J69: 5 | K69: 22 | L69: 125 | M69: 4652 | N69: 0.0036 | O69: 0.0441 | P69: 0.0035 | Q69: 332 | R69: 1773 | S69: 2607 | T69: 1231431 | U69: 0.2917 | V69: 0.9189 | W69: 0.9338 | X69: 236 | Y69: 568 | Z69: 565 | AA69: 26039 | AB69: 0.0934 | AC69: 0.1992 | AD69: 0.0197 | AE69: 20 | AF69: 94 | AG69: 57 | AH69: 986 | AI69: 0.0155 | AJ69: 0.0201 | AK69: 0.0007 | AT69: =IF(D69 = 0, "", F69 / D69) -> 29.225806 | AU69: =IF(K69 = 0, "", M69 / K69) -> 211.45455 | AV69: =IF(R69 = 0, "", T69 / R69) -> 694.54653 | AW69: =IF(Y69 = 0, "", AA69 / Y69) -> 45.84331 | AX69: =IF(AF69 = 0, "", AH69 / AF69) -> 10.489362 | AY69: =IF(AM69 = 0, "", AO69 / AM69) | BA69: =VLOOKUP(A69, ALL_AP_DATA!$A$2:$F$3600, 6, FALSE) -> 6079 | BB69: =VLOOKUP(A69, projmetadata!$A$2:$D$2036, 4, FALSE) -> 231936 | BC69: {=_xludf.IFS(I69<>0, F69/I69, P69<>0, M69/P69, W69<>0, T69/W69, AD69<>0, AA69/AD69, AK69<>0, AH69/AK69, AR69<>0, AO69/AR69, TRUE, 0)} -> #NAME? | BE69: =BC69/BB69 -> #NAME? | BF69: =BC69/BA69 -> #NAME? | BH69: =VLOOKUP(A69, ALL_AP_DATA!$A$2:$D$3600, 3, FALSE) -> 2081 | BI69: =VLOOKUP(A69, ALL_AP_DATA!$A$2:$E$3600, 5, FALSE) -> 1318701 | BJ69: =BI69/BA69 -> 216.92729 | BK69: =BH69/BA69 -> 0.34232604
