Workbook

Sheet Om verktyget

Sheet Uppföljning + Utveckling
B4: Rekommendation med tillhörande åtgärd | D4: Status | E4: Kommentar
B5: SUHF Rekommendation 1 - Att skapa forsknings- och utbildningsmiljöer som stödjer, uppmuntrar, informerar och utbildar om öppen vetenskap som praxis, genom att anta, implementera och förankra lokala styrdokument eller ramverk.
B6: Åtgärd 1:1
B7: SUHF Rekommendation 1; Åtgärd 1 - Lärosätet bör överväga att: 1) Senast vid utgången av 2022 inrätta en formell strategisk funktion vid lärosätesledningen med inriktning på frågor inom öppen och FAIR vetenskap. Funktionen bör kunna representera läro-sätet nationellt och internationellt inom området, till exempel inom frågor som rör EOSC-A, och vara en samordnande koppling mellan lärosätesledningen och den motsvarande operativa stödfunktionen/er (se rekommendation 2, punkt 1).
B8: Förslag till aktiviteter - Goda exempel:
B9: Upprätta en funktion i ledningsroll som har i uppdrag att på övergripande nivå tillse att arbetet med öppen vetenskap bedrivs och utvecklas inom lärosätets olika organisationsnivåer. Funktionen bör ha mandat att kunna föreslå åtgärder för implementering och utveckling samt representera lärosätet internt och externt i relevanta sammanhang inom området.
B10: Karolinska Institutet Våren 2022 utsågs en arbetsgrupp för öppen vetenskap som ligger under Kommittén för forskning. De ordinarie ledamöterna är aktiva forskare, och till arbetsgruppen adjungeras universitetsbiblioteket och Junior Faculty. Arbetsgruppen har en handläggare från universitetsförvaltningen. Kopplat till detta har vi sedan vårt Research Data Office (RDO) som ger stöd till forskare och ledning i frågor kring öppen tillgång till forskningsdata. En intervju från hösten 2022, med ordförande för arbetsgruppen för öppen vetenskap, beskriver arbetet: https://kib.ki.se/nyheter/intervju-patrik-magnusson-om-arbetet-oppen-vetenskap-pa-ki | C10: se på webbsidan
B11: Linnéuniversitetet Det finns ingen formell strategisk funktion i lärosätesledningen för dessa frågor ännu, men ett portföljprojekt om öppen vetenskap som ska utreda bland annat den här frågan startas upp den 13 april 2023. | C11: Ingen länk att hänvisa till
B12: Högskolan i Halmstad Vicerektor för forskning på lärosätet har huvudansvaret i ledningen för forskningsdata och Open Science-frågan, och lyfter frågan med rektor och Akademiledningar vid behov. Det finns ingen strategisk grupp i nuläget i frågan kring open science, mer än DAU-gruppen som driver forskningsdata-frågan. | C12: Ingen länk att hänvisa till
B13: BTH Inget beslut om strategiskt uppdrag, men dekanerna är ansvariga för utvecklingsarbetet kring forskningsdata i BTH:s handlingsplan. En rådgivande grupp finns med representanter från kärnverksamheten och IT. | C13: Ingen länk att hänvisa till
B14: KTH Det finns idag inte tydligt någon ansvarig för öppen vetenskap centralt, men i skrivande stund är det inte heller klart hur ansvar för forskning generellt fördelas. Detta på grund av ny rektor och ny ledning, så förhoppningsvis kan det bli klarare inom kort. Däremot finns en arbetsgrupp för forskningsdata inom verksamhetsstödet, och mer generella strategiska funktioner som idag tar strategiska beslut när så blir nödvändigt. | C14: Ingen länk att hänvisa till
B15: Karlstads universitet Den Forskningsstrategiska gruppen, under ledning av rektor, ansvarar för det strategiska utvecklingsarbetet med öppen vetenskap. | C15: Ingen länk att hänvisa till
B16: Stockholms universitet Det finns en utnämnd strategisk funktion i form av rektorsråd för öppen vetenskap. | C16: se på webbsidan
B17: Åtgärd 1:2
B18: SUHF Rekommendation 1; Åtgärd 2 - Lärosätet bör överväga att: 2) Senast under 2023 utarbeta/revidera och fastställa strategiska inriktningsbeslut och styrdokument som främjar öppen vetenskap i en internationell och europeisk kontext (FAIR och öppen tillgång till alla digitala vetenskapliga objekt, som publikationer, data, programvara och material, liksom öppna licenser, till exempel CC-licens).
B19: Goda exempel / Förslag till aktiviteter:
B20: Karolinska Institutet Det finns sedan tidigare Riktlinjer för forskning (https://medarbetare.ki.se/riktlinjer-for-forskning) | C20: se på webbsidan
B21: och Riktlinjer för forskningsdokumentation och datahantering (https://medarbetare.ki.se/riktlinjer-for-forskningsdokumentation-och-datahantering) på KI, i båda dessa nämns öppen vetenskap. | C21: se på webbsidan
B22: Vi har även sedan tidigare en Policy för öppen publicering (https://medarbetare.ki.se/policy-for-oppen-publicering-vid-karolinska-institutet). I och med att arbetsgruppen för öppen vetenskap tillträdde så ses befintliga riktlinjer och policies över, däribland ett utkast på Policy för öppen tillgång till forskningsdata. | C22: se på webbsidan
B23: Högskolan i Skövde Det finns inga styrdokument specifikt om öppen vetenskap. Däremot talas om öppen tillgång för forskningsdata i Riktlinjer för hantering av forskningsdata, dnr HS 2020/1035 | C23: se på webbsidan
B24: och om open access för publikationer i Riktlinjer för öppen tillgång och registrering av publikationer i DiVA, dnr HS 2021/873 | C24: se på webbsidan
B25: Så även i Högskolan i Skövdes Utvecklingsplan för 2017–2022, dnr HS 2015/1011 | C25: se på webbsidan
B26: Högskolan i Borås Vi har ett styrdokument (Dnr 379-10) Riktlinjer för bevarande och gallring av forskningshandlingar vid Högskolan i Borås där det pratas om forskningshandlingar. Det är inte helt klart vad handlingar är men delvis går det att läsa in att de är även forskningsdata. | C26: Ingen länk att hänvisa till
B27: Högskolan i Halmstad Det finns två styrdokument kopplat till forskningsdata som togs 2021: L2021/35 - Policy för forskningsdata på Högskolan i Halmstad och L2021/122 - Anvisningar för forskningsdatahantering. Det finns även ett rektorsbeslut på att det ska finnas en stödfunktion för hantering av forskningsdata inom lärosätet med ett antal kompetenser inom verksamhetsstödet L2020/130. | C27: Ingen länk att hänvisa till
B28: BTH Strävan efter FAIR-principerna är beslutad i BTH:s policy för hantering av forskningsdata och ansvarsfördelning tas upp i tillhörande Riktlinjer. En kommunikationsplan för DAU är under framtagande. | C28: Ingen länk att hänvisa till
B29: Linnéuniversitetet Följande policyer och riktlinjer som rör öppen vetenskap finns vid Linnéuniversitetet: Policy för hantering av forskningsdata vid Linnéuniversitetet (dnr 2021/964-1.1.1) | C29: se på webbsidan
B30: Policy för vetenskaplig publicering vid Linnéuniversitetet (dnr 2021/506-1.1.1) | C30: se på webbsidan
B31: Riktlinjer för öppen tillgång till publikationer (dnr 2021/4551-1.1.1) | C31: se på webbsidan
... B38: Stockholms universitet Det finns en övergripande policy för öppen vetenskap och en tillhörande plan med ansvarsfördelning för öppen vetenskap. | C38: se på webbsidan
B39: Åtgärd 1:3
B40: SUHF Rekommendation 1; Åtgärd 3 - Lärosätet bör överväga att: 3) Senast under 2023 säkerställa att ansvarsfördelningen för området öppen och FAIR vetenskap inom lärosätet är tydliggjord, inklusive förhållanden och kopplingar till andra aktörer nationellt och internationellt, samt att det finns interna organisatoriska strukturer som samarbetar för att på ett långsiktigt sätt säkra teknisk beredskap, kompetens, kapacitetsuppbyggnad och finansiella flöden.
B41: Goda exempel / Förslag till aktiviteter:
B42: Karlstads universitet Vid Karlstads universitet ansvarar Grants and Innovation Office för att verkställa och redovisa universitets insatser avseende arbetet med öppen vetenskap som del av de uppdrag som anges i regleringsbrevet för 2023. Avdelningen ansvarar också för att samordna arbetet med forskningsdata. Universitetsbiblioteket har ansvar för universitets förlagsverksamhet, öppen tillgång till publikationer, samt publicering och arkivering av forskningspublikationer i publikationsdatabasen DiVA. Enligt beslut, (RB 148/22), utökas och tydliggörs ansvaret för arbetet med omställningen till öppen vetenskap genom att; den forskningsstrategiska gruppen ansvarar för att ta fram en policy för öppen vetenskap, dekaner och ämnesföreträdare tilldelas ansvar för att utveckla en arbetskultur på fakulteterna som främjar öppen vetenskap, den forskningsadministrativa styrgruppen tilldelas ansvar för att forskare ska få tillgång till digital infrastruktur, forskarhandledare tilldelas ansvar för att doktorander upprättar datahanteringsplaner, Kvalitetsråd och HR-avdelningen tilldelas ansvar för att bevaka det nationella och internationella arbetet för meritbedömning av öppen vetenskap i forskning. | C42: Ingen länk att hänvisa till
B43: Stockholms universitet Det finns en plan med ansvarsfördelning för öppen vetenskap Det har påbörjats en intern strategisk struktur med arbetsgrupper på olika organisatoriska nivåer. I nuläget finns - Samordningsgrupp för öppen vetenskap vid universitetsbiblioteket (representant från de arbetsgrupper (Forskningsdatagruppen, Licensgruppen och Stockholm University Press) som i nuläget arbetar närmast området öppen vetenskap) Forskare Referensgrupp för öppen vetenskap - tre utnämnda representanter från HUMSAM-området och två representanter från NAT-området. Möte två gånger per termin. Rektorsråd för öppen vetenskap | C43: se på webbsidan
B44: SUHF Rekommendation 2 - Att tillhandahålla relevanta forsknings- och utbildningsstödjande tjänster avseende öppen vetenskap, som resurseffektivt kan möta forskarnas behov av stöd genom hela forskningsprocessen, det vill säga före, under och efter ett forskningsprojekt.
B45: Åtgärd 2:1
B46: SUHF Rekommendation 2; Åtgärd 1 - Lärosätet bör överväga att: Senast under 2023 säkerställa att det finns en sammanhållen ändamålsenlig, synlig och professionell operativ rådgivnings- och stödfunktion för forskarna i frågor som rör hantering, lagring, tillgängliggörande och bevarande av forskningsdata. Stödfunktionen bör komplettera domänspecifika kompetenser och bör minst kunna bistå inom verksamhetsområdena arkiv, bibliotek, publicering, juridik och finansieringsstöd. Stödfunktionen bör även vara nära kopplad till de e-infrastruktur- och IT-tjänster som beskrivs i rekommendation 4. Funktionen skulle kunna utvidgas till att stödja forskarna när det gäller även andra digitala resurser, till exempel programvara.
B47: Goda exempel / Förslag till aktiviteter:
B48: Karolinska Institutet DAU:en ingår i KIs Research Data Office och består av personal på universitetsbiblioteket med fokus på stöd kring publicering av data, DAU:en leder också det interna arbetet med lokal lagring kopplat till DORIS. | C48: se på webbsidan
B49: Karolinska Institutet Stöd kring publicering av data. | C49: se på webbsidan
...

Sheet Om Gantt Chart

Sheet Gantt Chart
D2: Start date: | L2: =M4 -> 44958 | O2: =P4 -> 45047 | R2: =S4 -> 45139 | U2: =V4 -> 45231 | X2: =Y4 -> 45323 | AA2: =AB4 -> 45413 | AD2: =AE4 -> 45505 | AG2: =AH4 -> 45597 | AJ2: =AK4 -> 45689 | AM2: =AN4 -> 45778 | AP2: =AQ4 -> 45870 | AS2: =AT4 -> 45962 | AV2: =AW4 -> 46054 | AY2: =AZ4 -> 46143 | BB2: =BC4 -> 46235 | BE2: =BF4 -> 46327 | BH2: =BI4 -> 46419 | BK2: =BL4 -> 46508 | BN2: =BO4 -> 46600 | BQ2: =BR4 -> 46692 | BT2: =BU4 -> 46784 | BW2: =BX4 -> 46874 | BZ2: =CA4 -> 46966 | CC2: =CD4 -> 47058 | CF2: =CG4 -> 47150 | CI2: =CJ4 -> 47239 | CL2: =CM4 -> 47331 | CO2: =CP4 -> 47423 | CR2: =CS4 -> 47515 | CU2: =CV4 -> 47604 | CX2: =CY4 -> 47696 | DA2: =DB4 -> 47788 | DD2: =DE4 -> 47880 | DG2: =DH4 -> 47969
D3: 44927 | L3: =IF(MONTH(M4)=2,$C308,IF(MONTH(M4)=5,$C309,IF(MONTH(M4)=8,$C310,IF(MONTH(M4)=11,$C311,"")))) -> Q1 | O3: =IF(MONTH(P4)=2,$C308,IF(MONTH(P4)=5,$C309,IF(MONTH(P4)=8,$C310,IF(MONTH(P4)=11,$C311,"")))) -> Q2 | R3: =IF(MONTH(S4)=2,$C308,IF(MONTH(S4)=5,$C309,IF(MONTH(S4)=8,$C310,IF(MONTH(S4)=11,$C311,"")))) -> Q3 | U3: =IF(MONTH(V4)=2,$C308,IF(MONTH(V4)=5,$C309,IF(MONTH(V4)=8,$C310,IF(MONTH(V4)=11,$C311,"")))) -> Q4 | X3: =IF(MONTH(Y4)=2,$C308,IF(MONTH(Y4)=5,$C309,IF(MONTH(Y4)=8,$C310,IF(MONTH(Y4)=11,$C311,"")))) -> Q1 | AA3: =IF(MONTH(AB4)=2,$C308,IF(MONTH(AB4)=5,$C309,IF(MONTH(AB4)=8,$C310,IF(MONTH(AB4)=11,$C311,"")))) -> Q2 | AD3: =IF(MONTH(AE4)=2,$C308,IF(MONTH(AE4)=5,$C309,IF(MONTH(AE4)=8,$C310,IF(MONTH(AE4)=11,$C311,"")))) -> Q3 | AG3: =IF(MONTH(AH4)=2,$C308,IF(MONTH(AH4)=5,$C309,IF(MONTH(AH4)=8,$C310,IF(MONTH(AH4)=11,$C311,"")))) -> Q4 | AJ3: =IF(MONTH(AK4)=2,$C308,IF(MONTH(AK4)=5,$C309,IF(MONTH(AK4)=8,$C310,IF(MONTH(AK4)=11,$C311,"")))) -> Q1 | AM3: =IF(MONTH(AN4)=2,$C308,IF(MONTH(AN4)=5,$C309,IF(MONTH(AN4)=8,$C310,IF(MONTH(AN4)=11,$C311,"")))) -> Q2 | AP3: =IF(MONTH(AQ4)=2,$C308,IF(MONTH(AQ4)=5,$C309,IF(MONTH(AQ4)=8,$C310,IF(MONTH(AQ4)=11,$C311,"")))) -> Q3 | AS3: =IF(MONTH(AT4)=2,$C308,IF(MONTH(AT4)=5,$C309,IF(MONTH(AT4)=8,$C310,IF(MONTH(AT4)=11,$C311,"")))) -> Q4 | AV3: =IF(MONTH(AW4)=2,$C308,IF(MONTH(AW4)=5,$C309,IF(MONTH(AW4)=8,$C310,IF(MONTH(AW4)=11,$C311,"")))) -> Q1 | AY3: =IF(MONTH(AZ4)=2,$C308,IF(MONTH(AZ4)=5,$C309,IF(MONTH(AZ4)=8,$C310,IF(MONTH(AZ4)=11,$C311,"")))) -> Q2 | BB3: =IF(MONTH(BC4)=2,$C308,IF(MONTH(BC4)=5,$C309,IF(MONTH(BC4)=8,$C310,IF(MONTH(BC4)=11,$C311,"")))) -> Q3 | BE3: =IF(MONTH(BF4)=2,$C308,IF(MONTH(BF4)=5,$C309,IF(MONTH(BF4)=8,$C310,IF(MONTH(BF4)=11,$C311,"")))) -> Q4 | BH3: =IF(MONTH(BI4)=2,$C308,IF(MONTH(BI4)=5,$C309,IF(MONTH(BI4)=8,$C310,IF(MONTH(BI4)=11,$C311,"")))) -> Q1 | BK3: =IF(MONTH(BL4)=2,$C308,IF(MONTH(BL4)=5,$C309,IF(MONTH(BL4)=8,$C310,IF(MONTH(BL4)=11,$C311,"")))) -> Q2 | BN3: =IF(MONTH(BO4)=2,$C308,IF(MONTH(BO4)=5,$C309,IF(MONTH(BO4)=8,$C310,IF(MONTH(BO4)=11,$C311,"")))) -> Q3 | BQ3: =IF(MONTH(BR4)=2,$C308,IF(MONTH(BR4)=5,$C309,IF(MONTH(BR4)=8,$C310,IF(MONTH(BR4)=11,$C311,"")))) -> Q4 | BT3: =IF(MONTH(BU4)=2,$C308,IF(MONTH(BU4)=5,$C309,IF(MONTH(BU4)=8,$C310,IF(MONTH(BU4)=11,$C311,"")))) -> Q1 | BW3: =IF(MONTH(BX4)=2,$C308,IF(MONTH(BX4)=5,$C309,IF(MONTH(BX4)=8,$C310,IF(MONTH(BX4)=11,$C311,"")))) -> Q2 | BZ3: =IF(MONTH(CA4)=2,$C308,IF(MONTH(CA4)=5,$C309,IF(MONTH(CA4)=8,$C310,IF(MONTH(CA4)=11,$C311,"")))) -> Q3 | CC3: =IF(MONTH(CD4)=2,$C308,IF(MONTH(CD4)=5,$C309,IF(MONTH(CD4)=8,$C310,IF(MONTH(CD4)=11,$C311,"")))) -> Q4 | CF3: =IF(MONTH(CG4)=2,$C308,IF(MONTH(CG4)=5,$C309,IF(MONTH(CG4)=8,$C310,IF(MONTH(CG4)=11,$C311,"")))) -> Q1 | CI3: =IF(MONTH(CJ4)=2,$C308,IF(MONTH(CJ4)=5,$C309,IF(MONTH(CJ4)=8,$C310,IF(MONTH(CJ4)=11,$C311,"")))) -> Q2 | CL3: =IF(MONTH(CM4)=2,$C308,IF(MONTH(CM4)=5,$C309,IF(MONTH(CM4)=8,$C310,IF(MONTH(CM4)=11,$C311,"")))) -> Q3 | CO3: =IF(MONTH(CP4)=2,$C308,IF(MONTH(CP4)=5,$C309,IF(MONTH(CP4)=8,$C310,IF(MONTH(CP4)=11,$C311,"")))) -> Q4 | CR3: =IF(MONTH(CS4)=2,$C308,IF(MONTH(CS4)=5,$C309,IF(MONTH(CS4)=8,$C310,IF(MONTH(CS4)=11,$C311,"")))) -> Q1 | CU3: =IF(MONTH(CV4)=2,$C308,IF(MONTH(CV4)=5,$C309,IF(MONTH(CV4)=8,$C310,IF(MONTH(CV4)=11,$C311,"")))) -> Q2 | CX3: =IF(MONTH(CY4)=2,$C308,IF(MONTH(CY4)=5,$C309,IF(MONTH(CY4)=8,$C310,IF(MONTH(CY4)=11,$C311,"")))) -> Q3 | DA3: =IF(MONTH(DB4)=2,$C308,IF(MONTH(DB4)=5,$C309,IF(MONTH(DB4)=8,$C310,IF(MONTH(DB4)=11,$C311,"")))) -> Q4 | DD3: =IF(MONTH(DE4)=2,$C308,IF(MONTH(DE4)=5,$C309,IF(MONTH(DE4)=8,$C310,IF(MONTH(DE4)=11,$C311,"")))) -> Q1 | DG3: =IF(MONTH(DH4)=2,$C308,IF(MONTH(DH4)=5,$C309,IF(MONTH(DH4)=8,$C310,IF(MONTH(DH4)=11,$C311,"")))) -> Q2
L4: =DATE(YEAR(D3),FLOOR(MONTH(D3)-1,3)+1,1) -> 44927 | M4: =EDATE(L4,1) -> 44958 | N4: =EDATE(M4,1) -> 44986 | O4: =EDATE(N4,1) -> 45017 | P4: =EDATE(O4,1) -> 45047 | Q4: =EDATE(P4,1) -> 45078 | R4: =EDATE(Q4,1) -> 45108 | S4: =EDATE(R4,1) -> 45139 | T4: =EDATE(S4,1) -> 45170 | ... DJ4: =EDATE(DI4,1) -> 48030 | DK4: =DJ4+7 -> 48037
B5: # | C5: Rekommendation / Åtgärd | D5: Utförs av | E5: Beroende | F5: Beroende slutdatum | G5: Planerat slutdatum | H5: Faktiskt slutdatum | I5: dagar | J5: Status
B6: Column1 | C6: Column2 | D6: Column3 | E6: Column4 | F6: Column5 | G6: Column6 | H6: Column7 | I6: Column8 | J6: Column9 | K6: Column10 | L6: Column11 | M6: Column12 | N6: Column13 | O6: Column14 | P6: Column15 | Q6: Column16 | R6: Column17 | S6: Column18 | T6: Column19 | U6: Column20 | V6: Column21 | W6: Column22 | X6: Column23 | Y6: Column24 | Z6: Column25 | AA6: Column26 | AB6: Column27 | AC6: Column28 | AD6: Column29 | AE6: Column30 | AF6: Column31 | AG6: Column32 | AH6: Column33 | AI6: Column34 | AJ6: Column35 | AK6: Column36 | AL6: Column37 | AM6: Column38 | AN6: Column39 | AO6: Column40 | AP6: Column41 | AQ6: Column42 | AR6: Column43 | AS6: Column44 | AT6: Column45 | AU6: Column46 | AV6: Column47 | AW6: Column48 | AX6: Column49 | AY6: Column50 | AZ6: Column51 | BA6: Column52 | BB6: Column53 | BC6: Column54 | BD6: Column55 | BE6: Column56 | BF6: Column57 | BG6: Column58 | BH6: Column59 | BI6: Column60 | BJ6: Column61 | BK6: Column62 | BL6: Column63 | BM6: Column64 | BN6: Column65 | BO6: Column66 | BP6: Column67 | BQ6: Column68 | BR6: Column69 | BS6: Column70 | BT6: Column71 | BU6: Column72 | BV6: Column73 | BW6: Column74 | BX6: Column75 | BY6: Column76 | BZ6: Column77 | CA6: Column78 | CB6: Column79 | CC6: Column80 | CD6: Column81 | CE6: Column82 | CF6: Column83 | CG6: Column84 | CH6: Column85 | CI6: Column86 | CJ6: Column87 | CK6: Column88 | CL6: Column89 | CM6: Column90 | CN6: Column91 | CO6: Column92 | CP6: Column93 | CQ6: Column94 | CR6: Column95 | CS6: Column96 | CT6: Column97 | CU6: Column98 | CV6: Column99 | CW6: Column100 | CX6: Column101 | CY6: Column102 | CZ6: Column103 | DA6: Column104 | DB6: Column105 | DC6: Column106 | DD6: Column107 | DE6: Column108 | DF6: Column109 | DG6: Column110 | DH6: Column111 | DI6: Column112 | DJ6: Column113 | DK6: Column114
F7: {=IF(NOT(ISBLANK($E7)),MAX(INDEX($A$1:$Y$1043,IF(_xlfn.TEXTSPLIT($E7, ",")=B4:B261, ROW(B4:B261), 0), 7)), "")}
B8: Rek1 | C8: SUHF Rekommendation 1 - Att skapa forsknings- och utbildningsmiljöer som stödjer, uppmuntrar, informerar och utbildar om öppen vetenskap som praxis, genom att anta, implementera och förankra lokala styrdokument eller ramverk. | D8: Namn | F8: {=IF(NOT(ISBLANK($E8)),MAX(INDEX($A$1:$Y$1043,IF(_xlfn.TEXTSPLIT($E8, ",")=$B$5:$B$262, ROW($B$5:$B$262), 0), 7)), "")} | I8: =IF(H8="","",NETWORKDAYS(G8,H8)) | J8: =IF(ISBLANK('Uppföljning + Utveckling'!D5),"",'Uppföljning + Utveckling'!D5) | L8: =IF(AND(MONTH(L$4)=MONTH($H8),YEAR(L$4)=YEAR($H8)),"u","") | M8: =IF(AND(MONTH(M$4)=MONTH($H8),YEAR(M$4)=YEAR($H8)),"u","") | N8: =IF(AND(MONTH(N$4)=MONTH($H8),YEAR(N$4)=YEAR($H8)),"u","") | O8: =IF(AND(MONTH(O$4)=MONTH($H8),YEAR(O$4)=YEAR($H8)),"u","") | P8: =IF(AND(MONTH(P$4)=MONTH($H8),YEAR(P$4)=YEAR($H8)),"u","") | Q8: =IF(AND(MONTH(Q$4)=MONTH($H8),YEAR(Q$4)=YEAR($H8)),"u","") | R8: =IF(AND(MONTH(R$4)=MONTH($H8),YEAR(R$4)=YEAR($H8)),"u","") | S8: =IF(AND(MONTH(S$4)=MONTH($H8),YEAR(S$4)=YEAR($H8)),"u","") | ... DK8: =IF(AND(MONTH(DK$4)=MONTH($H8),YEAR(DK$4)=YEAR($H8)),"u","")
B9: Åtg1.1 | C9: Rekommendation 1; Åtgärd 1 - Lärosätet bör överväga att: 1) Senast vid utgången av 2022 inrätta en formell strategisk funktion vid lärosätesledningen med inriktning på frågor inom öppen och FAIR vetenskap. Funktionen bör kunna representera läro-sätet nationellt och internationellt inom området, till exempel inom frågor som rör EOSC-A, och vara en samordnande koppling mellan lärosätesledningen och den motsvarande operativa stödfunktionen/er (se rekommendation 2, punkt 1). | D9: Namn | F9: {=IF(NOT(ISBLANK($E9)),MAX(INDEX($A$1:$Y$1043,IF(_xlfn.TEXTSPLIT($E9, ",")=$B$5:$B$262, ROW($B$5:$B$262), 0), 7)), "")} | I9: =IF(H9="","",NETWORKDAYS(G9,H9)) | J9: =IF(ISBLANK('Uppföljning + Utveckling'!D6),"",'Uppföljning + Utveckling'!D6) | L9: =IF(AND(MONTH(L$4)=MONTH($H9),YEAR(L$4)=YEAR($H9)),"u","") | M9: =IF(AND(MONTH(M$4)=MONTH($H9),YEAR(M$4)=YEAR($H9)),"u","") | N9: =IF(AND(MONTH(N$4)=MONTH($H9),YEAR(N$4)=YEAR($H9)),"u","") | O9: =IF(AND(MONTH(O$4)=MONTH($H9),YEAR(O$4)=YEAR($H9)),"u","") | P9: =IF(AND(MONTH(P$4)=MONTH($H9),YEAR(P$4)=YEAR($H9)),"u","") | Q9: =IF(AND(MONTH(Q$4)=MONTH($H9),YEAR(Q$4)=YEAR($H9)),"u","") | R9: =IF(AND(MONTH(R$4)=MONTH($H9),YEAR(R$4)=YEAR($H9)),"u","") | S9: =IF(AND(MONTH(S$4)=MONTH($H9),YEAR(S$4)=YEAR($H9)),"u","") | ... DK9: =IF(AND(MONTH(DK$4)=MONTH($H9),YEAR(DK$4)=YEAR($H9)),"u","")
B10: Akt1.1.a | C10: Aktivitet1.1.a | F10: {=IF(NOT(ISBLANK($E10)),MAX(INDEX($A$1:$Y$1043,IF(_xlfn.TEXTSPLIT($E10, ",")=$B$5:$B$262, ROW($B$5:$B$262), 0), 7)), "")} | I10: =IF(H10="","",NETWORKDAYS(G10,H10))
B11: Akt1.1.b | C11: Aktivitet1.1.b | F11: {=IF(NOT(ISBLANK($E11)),MAX(INDEX($A$1:$Y$1043,IF(_xlfn.TEXTSPLIT($E11, ",")=$B$5:$B$262, ROW($B$5:$B$262), 0), 7)), "")} | I11: =IF(H11="","",NETWORKDAYS(G11,H11))
B12: Akt1.1.c | C12: Aktivitet1.1.c | F12: {=IF(NOT(ISBLANK($E12)),MAX(INDEX($A$1:$Y$1043,IF(_xlfn.TEXTSPLIT($E12, ",")=$B$5:$B$262, ROW($B$5:$B$262), 0), 7)), "")} | I12: =IF(H12="","",NETWORKDAYS(G12,H12))
B13: Åtg1.2 | C13: Rekommendation 1; Åtgärd 2 - Lärosätet bör överväga att: 2) Senast under 2023 utarbeta/revidera och fastställa strategiska inriktningsbeslut och styrdokument som främjar öppen vetenskap i en internationell och europeisk kontext (FAIR och öppen tillgång till alla digitala vetenskapliga objekt, som publikationer, data, programvara och material, liksom öppna licenser, till exempel CC-licens). | F13: {=IF(NOT(ISBLANK($E13)),MAX(INDEX($A$1:$Y$1043,IF(_xlfn.TEXTSPLIT($E13, ",")=$B$5:$B$262, ROW($B$5:$B$262), 0), 7)), "")} | I13: =IF(H13="","",NETWORKDAYS(G13,H13)) | J13: =IF(ISBLANK('Uppföljning + Utveckling'!D17),"",'Uppföljning + Utveckling'!D17)
B14: Akt1.2.a | F14: {=IF(NOT(ISBLANK($E14)),MAX(INDEX($A$1:$Y$1043,IF(_xlfn.TEXTSPLIT($E14, ",")=$B$5:$B$262, ROW($B$5:$B$262), 0), 7)), "")} | I14: =IF(H14="","",NETWORKDAYS(G14,H14))
B15: Akt1.2.b | F15: {=IF(NOT(ISBLANK($E15)),MAX(INDEX($A$1:$Y$1043,IF(_xlfn.TEXTSPLIT($E15, ",")=$B$5:$B$262, ROW($B$5:$B$262), 0), 7)), "")} | I15: =IF(H15="","",NETWORKDAYS(G15,H15))
B16: Akt1.2.c | F16: {=IF(NOT(ISBLANK($E16)),MAX(INDEX($A$1:$Y$1043,IF(_xlfn.TEXTSPLIT($E16, ",")=$B$5:$B$262, ROW($B$5:$B$262), 0), 7)), "")} | I16: =IF(H16="","",NETWORKDAYS(G16,H16))
B17: Åtg1.3 | C17: Rekommendation 1; Åtgärd 3 - Lärosätet bör överväga att: 3) Senast under 2023 säkerställa att ansvarsfördelningen för området öppen och FAIR vetenskap inom lärosätet är tydliggjord, inklusive förhållanden och kopplingar till andra aktörer nationellt och internationellt, samt att det finns interna organisatoriska strukturer som samarbetar för att på ett långsiktigt sätt säkra teknisk beredskap, kompetens, kapacitetsuppbyggnad och finansiella flöden. | F17: {=IF(NOT(ISBLANK($E17)),MAX(INDEX($A$1:$Y$1043,IF(_xlfn.TEXTSPLIT($E17, ",")=$B$5:$B$262, ROW($B$5:$B$262), 0), 7)), "")} | I17: =IF(H17="","",NETWORKDAYS(G17,H17)) | J17: =IF(ISBLANK('Uppföljning + Utveckling'!D39),"",'Uppföljning + Utveckling'!D39)
B18: Akt1.3.a | F18: {=IF(NOT(ISBLANK($E18)),MAX(INDEX($A$1:$Y$1043,IF(_xlfn.TEXTSPLIT($E18, ",")=$B$5:$B$262, ROW($B$5:$B$262), 0), 7)), "")} | I18: =IF(H18="","",NETWORKDAYS(G18,H18))
B19: Akt1.3.b | F19: {=IF(NOT(ISBLANK($E19)),MAX(INDEX($A$1:$Y$1043,IF(_xlfn.TEXTSPLIT($E19, ",")=$B$5:$B$262, ROW($B$5:$B$262), 0), 7)), "")} | I19: =IF(H19="","",NETWORKDAYS(G19,H19))
B20: Akt1.3.c | F20: {=IF(NOT(ISBLANK($E20)),MAX(INDEX($A$1:$Y$1043,IF(_xlfn.TEXTSPLIT($E20, ",")=$B$5:$B$262, ROW($B$5:$B$262), 0), 7)), "")} | I20: =IF(H20="","",NETWORKDAYS(G20,H20))
B21: REK2 | C21: SUHF Rekommendation 2 - Att tillhandahålla relevanta forsknings- och utbildningsstödjande tjänster avseende öppen vetenskap, som resurseffektivt kan möta forskarnas behov av stöd genom hela forskningsprocessen, det vill säga före, under och efter ett forskningsprojekt. | F21: {=IF(NOT(ISBLANK($E21)),MAX(INDEX($A$1:$Y$1043,IF(_xlfn.TEXTSPLIT($E21, ",")=$B$5:$B$262, ROW($B$5:$B$262), 0), 7)), "")} | I21: =IF(H21="","",NETWORKDAYS(G21,H21)) | J21: =IF(ISBLANK('Uppföljning + Utveckling'!D44),"",'Uppföljning + Utveckling'!D44)
B22: Åtg2.1 | C22: Rekommendation 2; Åtgärd 1 - Lärosätet bör överväga att: Senast under 2023 säkerställa att det finns en sammanhållen ändamålsenlig, synlig och professionell operativ rådgivnings- och stödfunktion för forskarna i frågor som rör hantering, lagring, tillgängliggörande och bevarande av forskningsdata. Stödfunktionen bör komplettera domänspecifika kompetenser och bör minst kunna bistå inom verksamhetsområdena arkiv, bibliotek, publicering, juridik och finansieringsstöd. Stödfunktionen bör även vara nära kopplad till de e-infrastruktur- och IT-tjänster som beskrivs i rekommendation 4. Funktionen skulle kunna utvidgas till att stödja forskarna när det gäller även andra digitala resurser, till exempel programvara. | F22: {=IF(NOT(ISBLANK($E22)),MAX(INDEX($A$1:$Y$1043,IF(_xlfn.TEXTSPLIT($E22, ",")=$B$5:$B$262, ROW($B$5:$B$262), 0), 7)), "")} | I22: =IF(H22="","",NETWORKDAYS(G22,H22)) | J22: =IF(ISBLANK('Uppföljning + Utveckling'!D45),"",'Uppföljning + Utveckling'!D45)
B23: Akt2.1.a | F23: {=IF(NOT(ISBLANK($E23)),MAX(INDEX($A$1:$Y$1043,IF(_xlfn.TEXTSPLIT($E23, ",")=$B$5:$B$262, ROW($B$5:$B$262), 0), 7)), "")} | I23: =IF(H23="","",NETWORKDAYS(G23,H23))
B24: Akt2.1.b | F24: {=IF(NOT(ISBLANK($E24)),MAX(INDEX($A$1:$Y$1043,IF(_xlfn.TEXTSPLIT($E24, ",")=$B$5:$B$262, ROW($B$5:$B$262), 0), 7)), "")} | I24: =IF(H24="","",NETWORKDAYS(G24,H24))
B25: Akt2.1.c | F25: {=IF(NOT(ISBLANK($E25)),MAX(INDEX($A$1:$Y$1043,IF(_xlfn.TEXTSPLIT($E25, ",")=$B$5:$B$262, ROW($B$5:$B$262), 0), 7)), "")} | I25: =IF(H25="","",NETWORKDAYS(G25,H25))
B26: Åtg2.2 | C26: Rekommendation 2; Åtgärd 2 - Lärosätet bör överväga att: Senast under 2025 säkerställa att det finns ändamålsenlig utbildning på forskarutbildningsnivå och kompetensutvecklig för forskare som gör det möjligt för forskare att tillägna sig nödvändiga färdigheter i öppna forskningspraktiker och god hantering av forskningsdata enligt nya normer och forskningspraxis så att detta är etablerat och inkluderat i grundläggande forskningsutförande 2026. | F26: {=IF(NOT(ISBLANK($E26)),MAX(INDEX($A$1:$Y$1043,IF(_xlfn.TEXTSPLIT($E26, ",")=$B$5:$B$262, ROW($B$5:$B$262), 0), 7)), "")} | I26: =IF(H26="","",NETWORKDAYS(G26,H26)) | J26: =IF(ISBLANK('Uppföljning + Utveckling'!D60),"",'Uppföljning + Utveckling'!D60)
B27: Akt2.2.a | F27: {=IF(NOT(ISBLANK($E27)),MAX(INDEX($A$1:$Y$1043,IF(_xlfn.TEXTSPLIT($E27, ",")=$B$5:$B$262, ROW($B$5:$B$262), 0), 7)), "")} | I27: =IF(H27="","",NETWORKDAYS(G27,H27))
B28: Akt2.2.b | F28: {=IF(NOT(ISBLANK($E28)),MAX(INDEX($A$1:$Y$1043,IF(_xlfn.TEXTSPLIT($E28, ",")=$B$5:$B$262, ROW($B$5:$B$262), 0), 7)), "")} | I28: =IF(H28="","",NETWORKDAYS(G28,H28))
B29: Akt2.2.c | F29: {=IF(NOT(ISBLANK($E29)),MAX(INDEX($A$1:$Y$1043,IF(_xlfn.TEXTSPLIT($E29, ",")=$B$5:$B$262, ROW($B$5:$B$262), 0), 7)), "")} | I29: =IF(H29="","",NETWORKDAYS(G29,H29))
B30: Åtg2.3 | C30: Rekommendation 2; Åtgärd 3 - Lärosätet bör överväga att: Senast under 2025 säkerställa att det finns ändamålsenlig utbildning på grundnivå och avancerad nivå så att öppna forskningspraktiker lärs ut som en integrerad del av utbildning i vetenskaplig metod. | D30: Namn | F30: {=IF(NOT(ISBLANK($E30)),MAX(INDEX($A$1:$Y$1043,IF(_xlfn.TEXTSPLIT($E30, ",")=$B$5:$B$262, ROW($B$5:$B$262), 0), 7)), "")} | I30: =IF(H30="","",NETWORKDAYS(G30,H30)) | J30: =IF(ISBLANK('Uppföljning + Utveckling'!D74),"",'Uppföljning + Utveckling'!D74)
B31: Akt2.3.a | F31: {=IF(NOT(ISBLANK($E31)),MAX(INDEX($A$1:$Y$1043,IF(_xlfn.TEXTSPLIT($E31, ",")=$B$5:$B$262, ROW($B$5:$B$262), 0), 7)), "")} | I31: =IF(H31="","",NETWORKDAYS(G31,H31))
B32: Akt2.3.b | F32: {=IF(NOT(ISBLANK($E32)),MAX(INDEX($A$1:$Y$1043,IF(_xlfn.TEXTSPLIT($E32, ",")=$B$5:$B$262, ROW($B$5:$B$262), 0), 7)), "")} | I32: =IF(H32="","",NETWORKDAYS(G32,H32))
B33: Akt2.3.c | F33: {=IF(NOT(ISBLANK($E33)),MAX(INDEX($A$1:$Y$1043,IF(_xlfn.TEXTSPLIT($E33, ",")=$B$5:$B$262, ROW($B$5:$B$262), 0), 7)), "")} | I33: =IF(H33="","",NETWORKDAYS(G33,H33))
B34: REK3 | C34: SUHF Rekommendation 3 - Att eftersträva att forskningsdata och forskningsresultat så långt som möjligt uppfyller FAIR-principerna. | F34: {=IF(NOT(ISBLANK($E34)),MAX(INDEX($A$1:$Y$1043,IF(_xlfn.TEXTSPLIT($E34, ",")=$B$5:$B$262, ROW($B$5:$B$262), 0), 7)), "")} | I34: =IF(H34="","",NETWORKDAYS(G34,H34)) | J34: =IF(ISBLANK('Uppföljning + Utveckling'!D80),"",'Uppföljning + Utveckling'!D80)
B35: Åtg3.1 | C35: Rekommendation 3; Åtgärd 1 - Lärosätet bör överväga att: Innan utgången av 2022 används datahanteringsplaner som praxis för att FAIR implementeras i forskningsprojekt redan från början, och att dessa senare kan följas upp | F35: {=IF(NOT(ISBLANK($E35)),MAX(INDEX($A$1:$Y$1043,IF(_xlfn.TEXTSPLIT($E35, ",")=$B$5:$B$262, ROW($B$5:$B$262), 0), 7)), "")} | I35: =IF(H35="","",NETWORKDAYS(G35,H35)) | J35: =IF(ISBLANK('Uppföljning + Utveckling'!D81),"",'Uppföljning + Utveckling'!D81)
B36: Akt3.1.a | F36: {=IF(NOT(ISBLANK($E36)),MAX(INDEX($A$1:$Y$1043,IF(_xlfn.TEXTSPLIT($E36, ",")=$B$5:$B$262, ROW($B$5:$B$262), 0), 7)), "")} | I36: =IF(H36="","",NETWORKDAYS(G36,H36))
B37: Akt3.1.b | F37: {=IF(NOT(ISBLANK($E37)),MAX(INDEX($A$1:$Y$1043,IF(_xlfn.TEXTSPLIT($E37, ",")=$B$5:$B$262, ROW($B$5:$B$262), 0), 7)), "")} | I37: =IF(H37="","",NETWORKDAYS(G37,H37))
B38: Akt3.1.c | F38: {=IF(NOT(ISBLANK($E38)),MAX(INDEX($A$1:$Y$1043,IF(_xlfn.TEXTSPLIT($E38, ",")=$B$5:$B$262, ROW($B$5:$B$262), 0), 7)), "")} | I38: =IF(H38="","",NETWORKDAYS(G38,H38))
B39: Åtg3.2 | C39: Rekommendation 3; Åtgärd 2 - Lärosätet bör överväga att: Senast under 2023 fördjupa förståelsen av vad FAIR betyder för forskningsdata och andra forskningsresurser, samt höja kunskapen bland forskare om vad FAIR innebär, kopplat till kvalitet och god forskningssed | F39: {=IF(NOT(ISBLANK($E39)),MAX(INDEX($A$1:$Y$1043,IF(_xlfn.TEXTSPLIT($E39, ",")=$B$5:$B$262, ROW($B$5:$B$262), 0), 7)), "")} | I39: =IF(H39="","",NETWORKDAYS(G39,H39)) | J39: =IF(ISBLANK('Uppföljning + Utveckling'!D89),"",'Uppföljning + Utveckling'!D89)
B40: Akt3.2.a | F40: {=IF(NOT(ISBLANK($E40)),MAX(INDEX($A$1:$Y$1043,IF(_xlfn.TEXTSPLIT($E40, ",")=$B$5:$B$262, ROW($B$5:$B$262), 0), 7)), "")} | I40: =IF(H40="","",NETWORKDAYS(G40,H40))
B41: Akt3.2.b | F41: {=IF(NOT(ISBLANK($E41)),MAX(INDEX($A$1:$Y$1043,IF(_xlfn.TEXTSPLIT($E41, ",")=$B$5:$B$262, ROW($B$5:$B$262), 0), 7)), "")} | I41: =IF(H41="","",NETWORKDAYS(G41,H41))
...

Sheet Gantt Chart (expanded view) 
C2: Start date: | K2: =L4 -> 44958 | N2: =O4 -> 45047 | Q2: =R4 -> 45139 | T2: =U4 -> 45231 | W2: =X4 -> 45323 | Z2: =AA4 -> 45413 | AC2: =AD4 -> 45505 | AF2: =AG4 -> 45597 | AI2: =AJ4 -> 45689 | AL2: =AM4 -> 45778 | AO2: =AP4 -> 45870 | AR2: =AS4 -> 45962 | AU2: =AV4 -> 46054 | AX2: =AY4 -> 46143 | BA2: =BB4 -> 46235 | BD2: =BE4 -> 46327 | BG2: =BH4 -> 46419 | BJ2: =BK4 -> 46508 | BM2: =BN4 -> 46600 | BP2: =BQ4 -> 46692 | BS2: =BT4 -> 46784 | BV2: =BW4 -> 46874 | BY2: =BZ4 -> 46966 | CB2: =CC4 -> 47058 | CE2: =CF4 -> 47150 | CH2: =CI4 -> 47239 | CK2: =CL4 -> 47331 | CN2: =CO4 -> 47423 | CQ2: =CR4 -> 47515 | CT2: =CU4 -> 47604 | CW2: =CX4 -> 47696 | CZ2: =DA4 -> 47788 | DC2: =DD4 -> 47880 | DF2: =DG4 -> 47969
C3: 44927 | K3: =IF(MONTH(L4)=2,$C309,IF(MONTH(L4)=5,$C310,IF(MONTH(L4)=8,$C311,IF(MONTH(L4)=11,$C312,"")))) -> Q1 | N3: =IF(MONTH(O4)=2,$C309,IF(MONTH(O4)=5,$C310,IF(MONTH(O4)=8,$C311,IF(MONTH(O4)=11,$C312,"")))) -> Q2 | Q3: =IF(MONTH(R4)=2,$C309,IF(MONTH(R4)=5,$C310,IF(MONTH(R4)=8,$C311,IF(MONTH(R4)=11,$C312,"")))) -> Q3 | T3: =IF(MONTH(U4)=2,$C309,IF(MONTH(U4)=5,$C310,IF(MONTH(U4)=8,$C311,IF(MONTH(U4)=11,$C312,"")))) -> Q4 | W3: =IF(MONTH(X4)=2,$C309,IF(MONTH(X4)=5,$C310,IF(MONTH(X4)=8,$C311,IF(MONTH(X4)=11,$C312,"")))) -> Q1 | Z3: =IF(MONTH(AA4)=2,$C309,IF(MONTH(AA4)=5,$C310,IF(MONTH(AA4)=8,$C311,IF(MONTH(AA4)=11,$C312,"")))) -> Q2 | AC3: =IF(MONTH(AD4)=2,$C309,IF(MONTH(AD4)=5,$C310,IF(MONTH(AD4)=8,$C311,IF(MONTH(AD4)=11,$C312,"")))) -> Q3 | AF3: =IF(MONTH(AG4)=2,$C309,IF(MONTH(AG4)=5,$C310,IF(MONTH(AG4)=8,$C311,IF(MONTH(AG4)=11,$C312,"")))) -> Q4 | AI3: =IF(MONTH(AJ4)=2,$C309,IF(MONTH(AJ4)=5,$C310,IF(MONTH(AJ4)=8,$C311,IF(MONTH(AJ4)=11,$C312,"")))) -> Q1 | AL3: =IF(MONTH(AM4)=2,$C309,IF(MONTH(AM4)=5,$C310,IF(MONTH(AM4)=8,$C311,IF(MONTH(AM4)=11,$C312,"")))) -> Q2 | AO3: =IF(MONTH(AP4)=2,$C309,IF(MONTH(AP4)=5,$C310,IF(MONTH(AP4)=8,$C311,IF(MONTH(AP4)=11,$C312,"")))) -> Q3 | AR3: =IF(MONTH(AS4)=2,$C309,IF(MONTH(AS4)=5,$C310,IF(MONTH(AS4)=8,$C311,IF(MONTH(AS4)=11,$C312,"")))) -> Q4 | AU3: =IF(MONTH(AV4)=2,$C309,IF(MONTH(AV4)=5,$C310,IF(MONTH(AV4)=8,$C311,IF(MONTH(AV4)=11,$C312,"")))) -> Q1 | AX3: =IF(MONTH(AY4)=2,$C309,IF(MONTH(AY4)=5,$C310,IF(MONTH(AY4)=8,$C311,IF(MONTH(AY4)=11,$C312,"")))) -> Q2 | BA3: =IF(MONTH(BB4)=2,$C309,IF(MONTH(BB4)=5,$C310,IF(MONTH(BB4)=8,$C311,IF(MONTH(BB4)=11,$C312,"")))) -> Q3 | BD3: =IF(MONTH(BE4)=2,$C309,IF(MONTH(BE4)=5,$C310,IF(MONTH(BE4)=8,$C311,IF(MONTH(BE4)=11,$C312,"")))) -> Q4 | BG3: =IF(MONTH(BH4)=2,$C309,IF(MONTH(BH4)=5,$C310,IF(MONTH(BH4)=8,$C311,IF(MONTH(BH4)=11,$C312,"")))) -> Q1 | BJ3: =IF(MONTH(BK4)=2,$C309,IF(MONTH(BK4)=5,$C310,IF(MONTH(BK4)=8,$C311,IF(MONTH(BK4)=11,$C312,"")))) -> Q2 | BM3: =IF(MONTH(BN4)=2,$C309,IF(MONTH(BN4)=5,$C310,IF(MONTH(BN4)=8,$C311,IF(MONTH(BN4)=11,$C312,"")))) -> Q3 | BP3: =IF(MONTH(BQ4)=2,$C309,IF(MONTH(BQ4)=5,$C310,IF(MONTH(BQ4)=8,$C311,IF(MONTH(BQ4)=11,$C312,"")))) -> Q4 | BS3: =IF(MONTH(BT4)=2,$C309,IF(MONTH(BT4)=5,$C310,IF(MONTH(BT4)=8,$C311,IF(MONTH(BT4)=11,$C312,"")))) -> Q1 | BV3: =IF(MONTH(BW4)=2,$C309,IF(MONTH(BW4)=5,$C310,IF(MONTH(BW4)=8,$C311,IF(MONTH(BW4)=11,$C312,"")))) -> Q2 | BY3: =IF(MONTH(BZ4)=2,$C309,IF(MONTH(BZ4)=5,$C310,IF(MONTH(BZ4)=8,$C311,IF(MONTH(BZ4)=11,$C312,"")))) -> Q3 | CB3: =IF(MONTH(CC4)=2,$C309,IF(MONTH(CC4)=5,$C310,IF(MONTH(CC4)=8,$C311,IF(MONTH(CC4)=11,$C312,"")))) -> Q4 | CE3: =IF(MONTH(CF4)=2,$C309,IF(MONTH(CF4)=5,$C310,IF(MONTH(CF4)=8,$C311,IF(MONTH(CF4)=11,$C312,"")))) -> Q1 | CH3: =IF(MONTH(CI4)=2,$C309,IF(MONTH(CI4)=5,$C310,IF(MONTH(CI4)=8,$C311,IF(MONTH(CI4)=11,$C312,"")))) -> Q2 | CK3: =IF(MONTH(CL4)=2,$C309,IF(MONTH(CL4)=5,$C310,IF(MONTH(CL4)=8,$C311,IF(MONTH(CL4)=11,$C312,"")))) -> Q3 | CN3: =IF(MONTH(CO4)=2,$C309,IF(MONTH(CO4)=5,$C310,IF(MONTH(CO4)=8,$C311,IF(MONTH(CO4)=11,$C312,"")))) -> Q4 | CQ3: =IF(MONTH(CR4)=2,$C309,IF(MONTH(CR4)=5,$C310,IF(MONTH(CR4)=8,$C311,IF(MONTH(CR4)=11,$C312,"")))) -> Q1 | CT3: =IF(MONTH(CU4)=2,$C309,IF(MONTH(CU4)=5,$C310,IF(MONTH(CU4)=8,$C311,IF(MONTH(CU4)=11,$C312,"")))) -> Q2 | CW3: =IF(MONTH(CX4)=2,$C309,IF(MONTH(CX4)=5,$C310,IF(MONTH(CX4)=8,$C311,IF(MONTH(CX4)=11,$C312,"")))) -> Q3 | CZ3: =IF(MONTH(DA4)=2,$C309,IF(MONTH(DA4)=5,$C310,IF(MONTH(DA4)=8,$C311,IF(MONTH(DA4)=11,$C312,"")))) -> Q4 | DC3: =IF(MONTH(DD4)=2,$C309,IF(MONTH(DD4)=5,$C310,IF(MONTH(DD4)=8,$C311,IF(MONTH(DD4)=11,$C312,"")))) -> Q1 | DF3: =IF(MONTH(DG4)=2,$C309,IF(MONTH(DG4)=5,$C310,IF(MONTH(DG4)=8,$C311,IF(MONTH(DG4)=11,$C312,"")))) -> Q2
K4: =DATE(YEAR(C3),FLOOR(MONTH(C3)-1,3)+1,1) -> 44927 | L4: =EDATE(K4,1) -> 44958 | M4: =EDATE(L4,1) -> 44986 | N4: =EDATE(M4,1) -> 45017 | O4: =EDATE(N4,1) -> 45047 | P4: =EDATE(O4,1) -> 45078 | Q4: =EDATE(P4,1) -> 45108 | R4: =EDATE(Q4,1) -> 45139 | S4: =EDATE(R4,1) -> 45170 | ... DI4: =EDATE(DH4,1) -> 48030 | DJ4: =DI4+7 -> 48037
B5: # | C5: Utförs av | D5: Beroende | E5: Beroende slutdatum | F5: Planerat slutdatum | G5: Faktiskt slutdatum | H5: dagar | I5: Status
B6: Column1 | C6: Column2 | D6: Column3 | E6: Column4 | F6: Column5 | G6: Column6 | H6: Column7 | I6: Column8 | J6: Column9 | K6: Column10 | L6: Column11 | M6: Column12 | N6: Column13 | O6: Column14 | P6: Column15 | Q6: Column16 | R6: Column17 | S6: Column18 | T6: Column19 | U6: Column20 | V6: Column21 | W6: Column22 | X6: Column23 | Y6: Column24 | Z6: Column25 | AA6: Column26 | AB6: Column27 | AC6: Column28 | AD6: Column29 | AE6: Column30 | AF6: Column31 | AG6: Column32 | AH6: Column33 | AI6: Column34 | AJ6: Column35 | AK6: Column36 | AL6: Column37 | AM6: Column38 | AN6: Column39 | AO6: Column40 | AP6: Column41 | AQ6: Column42 | AR6: Column43 | AS6: Column44 | AT6: Column45 | AU6: Column46 | AV6: Column47 | AW6: Column48 | AX6: Column49 | AY6: Column50 | AZ6: Column51 | BA6: Column52 | BB6: Column53 | BC6: Column54 | BD6: Column55 | BE6: Column56 | BF6: Column57 | BG6: Column58 | BH6: Column59 | BI6: Column60 | BJ6: Column61 | BK6: Column62 | BL6: Column63 | BM6: Column64 | BN6: Column65 | BO6: Column66 | BP6: Column67 | BQ6: Column68 | BR6: Column69 | BS6: Column70 | BT6: Column71 | BU6: Column72 | BV6: Column73 | BW6: Column74 | BX6: Column75 | BY6: Column76 | BZ6: Column77 | CA6: Column78 | CB6: Column79 | CC6: Column80 | CD6: Column81 | CE6: Column82 | CF6: Column83 | CG6: Column84 | CH6: Column85 | CI6: Column86 | CJ6: Column87 | CK6: Column88 | CL6: Column89 | CM6: Column90 | CN6: Column91 | CO6: Column92 | CP6: Column93 | CQ6: Column94 | CR6: Column95 | CS6: Column96 | CT6: Column97 | CU6: Column98 | CV6: Column99 | CW6: Column100 | CX6: Column101 | CY6: Column102 | CZ6: Column103 | DA6: Column104 | DB6: Column105 | DC6: Column106 | DD6: Column107 | DE6: Column108 | DF6: Column109 | DG6: Column110 | DH6: Column111 | DI6: Column112 | DJ6: Column113
E7: {=IF(NOT(ISBLANK($D7)),MAX(INDEX($A$1:$X$1044,IF(_xlfn.TEXTSPLIT($D7, ",")=B1:B287, ROW(B1:B287), 0), 6)), "")}
B8: Rek1 | C8: Namn | E8: {=IF(NOT(ISBLANK($D8)),MAX(INDEX($A$1:$X$1044,IF(_xlfn.TEXTSPLIT($D8, ",")=$B$2:$B$288, ROW($B$2:$B$288), 0), 6)), "")} | H8: =IF(G8="","",NETWORKDAYS(F8,G8)) | I8: =IF(ISBLANK('Uppföljning + Utveckling'!D5),"",'Uppföljning + Utveckling'!D5) | K8: =IF(AND(MONTH(K$4)=MONTH($G8),YEAR(K$4)=YEAR($G8)),"u","") | L8: =IF(AND(MONTH(L$4)=MONTH($G8),YEAR(L$4)=YEAR($G8)),"u","") | M8: =IF(AND(MONTH(M$4)=MONTH($G8),YEAR(M$4)=YEAR($G8)),"u","") | N8: =IF(AND(MONTH(N$4)=MONTH($G8),YEAR(N$4)=YEAR($G8)),"u","") | O8: =IF(AND(MONTH(O$4)=MONTH($G8),YEAR(O$4)=YEAR($G8)),"u","") | P8: =IF(AND(MONTH(P$4)=MONTH($G8),YEAR(P$4)=YEAR($G8)),"u","") | Q8: =IF(AND(MONTH(Q$4)=MONTH($G8),YEAR(Q$4)=YEAR($G8)),"u","") | R8: =IF(AND(MONTH(R$4)=MONTH($G8),YEAR(R$4)=YEAR($G8)),"u","") | ... DJ8: =IF(AND(MONTH(DJ$4)=MONTH($G8),YEAR(DJ$4)=YEAR($G8)),"u","")
B9: Åtg1.1 | C9: Namn | E9: {=IF(NOT(ISBLANK($D9)),MAX(INDEX($A$1:$X$1044,IF(_xlfn.TEXTSPLIT($D9, ",")=$B$2:$B$288, ROW($B$2:$B$288), 0), 6)), "")} | H9: =IF(G9="","",NETWORKDAYS(F9,G9)) | I9: =IF(ISBLANK('Uppföljning + Utveckling'!D6),"",'Uppföljning + Utveckling'!D6) | K9: =IF(AND(MONTH(K$4)=MONTH($G9),YEAR(K$4)=YEAR($G9)),"u","") | L9: =IF(AND(MONTH(L$4)=MONTH($G9),YEAR(L$4)=YEAR($G9)),"u","") | M9: =IF(AND(MONTH(M$4)=MONTH($G9),YEAR(M$4)=YEAR($G9)),"u","") | N9: =IF(AND(MONTH(N$4)=MONTH($G9),YEAR(N$4)=YEAR($G9)),"u","") | O9: =IF(AND(MONTH(O$4)=MONTH($G9),YEAR(O$4)=YEAR($G9)),"u","") | P9: =IF(AND(MONTH(P$4)=MONTH($G9),YEAR(P$4)=YEAR($G9)),"u","") | Q9: =IF(AND(MONTH(Q$4)=MONTH($G9),YEAR(Q$4)=YEAR($G9)),"u","") | R9: =IF(AND(MONTH(R$4)=MONTH($G9),YEAR(R$4)=YEAR($G9)),"u","") | ... DJ9: =IF(AND(MONTH(DJ$4)=MONTH($G9),YEAR(DJ$4)=YEAR($G9)),"u","")
B10: Akt1.1.a | E10: {=IF(NOT(ISBLANK($D10)),MAX(INDEX($A$1:$X$1044,IF(_xlfn.TEXTSPLIT($D10, ",")=$B$2:$B$288, ROW($B$2:$B$288), 0), 6)), "")} | H10: =IF(G10="","",NETWORKDAYS(F10,G10))
B11: Akt1.1.b | E11: {=IF(NOT(ISBLANK($D11)),MAX(INDEX($A$1:$X$1044,IF(_xlfn.TEXTSPLIT($D11, ",")=$B$2:$B$288, ROW($B$2:$B$288), 0), 6)), "")} | H11: =IF(G11="","",NETWORKDAYS(F11,G11))
B12: Akt1.1.c | E12: {=IF(NOT(ISBLANK($D12)),MAX(INDEX($A$1:$X$1044,IF(_xlfn.TEXTSPLIT($D12, ",")=$B$2:$B$288, ROW($B$2:$B$288), 0), 6)), "")} | H12: =IF(G12="","",NETWORKDAYS(F12,G12))
B13: Åtg1.2 | E13: {=IF(NOT(ISBLANK($D13)),MAX(INDEX($A$1:$X$1044,IF(_xlfn.TEXTSPLIT($D13, ",")=$B$2:$B$288, ROW($B$2:$B$288), 0), 6)), "")} | H13: =IF(G13="","",NETWORKDAYS(F13,G13)) | I13: =IF(ISBLANK('Uppföljning + Utveckling'!D17),"",'Uppföljning + Utveckling'!D17)
B14: Akt1.2.a | E14: {=IF(NOT(ISBLANK($D14)),MAX(INDEX($A$1:$X$1044,IF(_xlfn.TEXTSPLIT($D14, ",")=$B$2:$B$288, ROW($B$2:$B$288), 0), 6)), "")} | H14: =IF(G14="","",NETWORKDAYS(F14,G14))
B15: Akt1.2.b | E15: {=IF(NOT(ISBLANK($D15)),MAX(INDEX($A$1:$X$1044,IF(_xlfn.TEXTSPLIT($D15, ",")=$B$2:$B$288, ROW($B$2:$B$288), 0), 6)), "")} | H15: =IF(G15="","",NETWORKDAYS(F15,G15))
B16: Akt1.2.c | E16: {=IF(NOT(ISBLANK($D16)),MAX(INDEX($A$1:$X$1044,IF(_xlfn.TEXTSPLIT($D16, ",")=$B$2:$B$288, ROW($B$2:$B$288), 0), 6)), "")} | H16: =IF(G16="","",NETWORKDAYS(F16,G16))
B17: Åtg1.3 | E17: {=IF(NOT(ISBLANK($D17)),MAX(INDEX($A$1:$X$1044,IF(_xlfn.TEXTSPLIT($D17, ",")=$B$2:$B$288, ROW($B$2:$B$288), 0), 6)), "")} | H17: =IF(G17="","",NETWORKDAYS(F17,G17)) | I17: =IF(ISBLANK('Uppföljning + Utveckling'!D39),"",'Uppföljning + Utveckling'!D39)
E18: {=IF(NOT(ISBLANK($D18)),MAX(INDEX($A$1:$X$1044,IF(_xlfn.TEXTSPLIT($D18, ",")=$B$2:$B$288, ROW($B$2:$B$288), 0), 6)), "")} | H18: =IF(G18="","",NETWORKDAYS(F18,G18)) | K18: =IF(AND(MONTH(K$4)=MONTH($G18),YEAR(K$4)=YEAR($G18)),"u","") | L18: =IF(AND(MONTH(L$4)=MONTH($G18),YEAR(L$4)=YEAR($G18)),"u","") | M18: =IF(AND(MONTH(M$4)=MONTH($G18),YEAR(M$4)=YEAR($G18)),"u","") | N18: =IF(AND(MONTH(N$4)=MONTH($G18),YEAR(N$4)=YEAR($G18)),"u","") | O18: =IF(AND(MONTH(O$4)=MONTH($G18),YEAR(O$4)=YEAR($G18)),"u","") | P18: =IF(AND(MONTH(P$4)=MONTH($G18),YEAR(P$4)=YEAR($G18)),"u","") | Q18: =IF(AND(MONTH(Q$4)=MONTH($G18),YEAR(Q$4)=YEAR($G18)),"u","") | R18: =IF(AND(MONTH(R$4)=MONTH($G18),YEAR(R$4)=YEAR($G18)),"u","") | ... DJ18: =IF(AND(MONTH(DJ$4)=MONTH($G18),YEAR(DJ$4)=YEAR($G18)),"u","")
B19: Akt1.3.a | E19: {=IF(NOT(ISBLANK($D19)),MAX(INDEX($A$1:$X$1044,IF(_xlfn.TEXTSPLIT($D19, ",")=$B$2:$B$288, ROW($B$2:$B$288), 0), 6)), "")} | H19: =IF(G19="","",NETWORKDAYS(F19,G19))
B20: Akt1.3.b | E20: {=IF(NOT(ISBLANK($D20)),MAX(INDEX($A$1:$X$1044,IF(_xlfn.TEXTSPLIT($D20, ",")=$B$2:$B$288, ROW($B$2:$B$288), 0), 6)), "")} | H20: =IF(G20="","",NETWORKDAYS(F20,G20))
B21: Akt1.3.c | E21: {=IF(NOT(ISBLANK($D21)),MAX(INDEX($A$1:$X$1044,IF(_xlfn.TEXTSPLIT($D21, ",")=$B$2:$B$288, ROW($B$2:$B$288), 0), 6)), "")} | H21: =IF(G21="","",NETWORKDAYS(F21,G21))
B22: REK2 | E22: {=IF(NOT(ISBLANK($D22)),MAX(INDEX($A$1:$X$1044,IF(_xlfn.TEXTSPLIT($D22, ",")=$B$2:$B$288, ROW($B$2:$B$288), 0), 6)), "")} | H22: =IF(G22="","",NETWORKDAYS(F22,G22)) | I22: =IF(ISBLANK('Uppföljning + Utveckling'!D44),"",'Uppföljning + Utveckling'!D44)
B23: Åtg2.1 | E23: {=IF(NOT(ISBLANK($D23)),MAX(INDEX($A$1:$X$1044,IF(_xlfn.TEXTSPLIT($D23, ",")=$B$2:$B$288, ROW($B$2:$B$288), 0), 6)), "")} | H23: =IF(G23="","",NETWORKDAYS(F23,G23)) | I23: =IF(ISBLANK('Uppföljning + Utveckling'!D45),"",'Uppföljning + Utveckling'!D45)
B24: Akt2.1.a | E24: {=IF(NOT(ISBLANK($D24)),MAX(INDEX($A$1:$X$1044,IF(_xlfn.TEXTSPLIT($D24, ",")=$B$2:$B$288, ROW($B$2:$B$288), 0), 6)), "")} | H24: =IF(G24="","",NETWORKDAYS(F24,G24))
B25: Akt2.1.b | E25: {=IF(NOT(ISBLANK($D25)),MAX(INDEX($A$1:$X$1044,IF(_xlfn.TEXTSPLIT($D25, ",")=$B$2:$B$288, ROW($B$2:$B$288), 0), 6)), "")} | H25: =IF(G25="","",NETWORKDAYS(F25,G25)) | K25: =IF(AND(MONTH(K$4)=MONTH($G25),YEAR(K$4)=YEAR($G25)),"u","") | L25: =IF(AND(MONTH(L$4)=MONTH($G25),YEAR(L$4)=YEAR($G25)),"u","") | M25: =IF(AND(MONTH(M$4)=MONTH($G25),YEAR(M$4)=YEAR($G25)),"u","") | N25: =IF(AND(MONTH(N$4)=MONTH($G25),YEAR(N$4)=YEAR($G25)),"u","") | O25: =IF(AND(MONTH(O$4)=MONTH($G25),YEAR(O$4)=YEAR($G25)),"u","") | P25: =IF(AND(MONTH(P$4)=MONTH($G25),YEAR(P$4)=YEAR($G25)),"u","") | Q25: =IF(AND(MONTH(Q$4)=MONTH($G25),YEAR(Q$4)=YEAR($G25)),"u","") | R25: =IF(AND(MONTH(R$4)=MONTH($G25),YEAR(R$4)=YEAR($G25)),"u","") | ... DJ25: =IF(AND(MONTH(DJ$4)=MONTH($G25),YEAR(DJ$4)=YEAR($G25)),"u","")
B26: Akt2.1.c | E26: {=IF(NOT(ISBLANK($D26)),MAX(INDEX($A$1:$X$1044,IF(_xlfn.TEXTSPLIT($D26, ",")=$B$2:$B$288, ROW($B$2:$B$288), 0), 6)), "")} | H26: =IF(G26="","",NETWORKDAYS(F26,G26))
B27: Akt2.1.d | E27: {=IF(NOT(ISBLANK($D27)),MAX(INDEX($A$1:$X$1044,IF(_xlfn.TEXTSPLIT($D27, ",")=$B$2:$B$288, ROW($B$2:$B$288), 0), 6)), "")} | H27: =IF(G27="","",NETWORKDAYS(F27,G27))
B28: Åtg2.2 | E28: {=IF(NOT(ISBLANK($D28)),MAX(INDEX($A$1:$X$1044,IF(_xlfn.TEXTSPLIT($D28, ",")=$B$2:$B$288, ROW($B$2:$B$288), 0), 6)), "")} | H28: =IF(G28="","",NETWORKDAYS(F28,G28)) | I28: =IF(ISBLANK('Uppföljning + Utveckling'!D60),"",'Uppföljning + Utveckling'!D60)
B29: Akt2.2.a | E29: {=IF(NOT(ISBLANK($D29)),MAX(INDEX($A$1:$X$1044,IF(_xlfn.TEXTSPLIT($D29, ",")=$B$2:$B$288, ROW($B$2:$B$288), 0), 6)), "")} | H29: =IF(G29="","",NETWORKDAYS(F29,G29))
B30: Akt2.2.b | E30: {=IF(NOT(ISBLANK($D30)),MAX(INDEX($A$1:$X$1044,IF(_xlfn.TEXTSPLIT($D30, ",")=$B$2:$B$288, ROW($B$2:$B$288), 0), 6)), "")} | H30: =IF(G30="","",NETWORKDAYS(F30,G30))
B31: Akt2.2.c | E31: {=IF(NOT(ISBLANK($D31)),MAX(INDEX($A$1:$X$1044,IF(_xlfn.TEXTSPLIT($D31, ",")=$B$2:$B$288, ROW($B$2:$B$288), 0), 6)), "")} | H31: =IF(G31="","",NETWORKDAYS(F31,G31))
B32: Åtg2.3 | C32: Namn | E32: {=IF(NOT(ISBLANK($D32)),MAX(INDEX($A$1:$X$1044,IF(_xlfn.TEXTSPLIT($D32, ",")=$B$2:$B$288, ROW($B$2:$B$288), 0), 6)), "")} | H32: =IF(G32="","",NETWORKDAYS(F32,G32)) | I32: =IF(ISBLANK('Uppföljning + Utveckling'!D74),"",'Uppföljning + Utveckling'!D74)
B33: Akt2.3.a | E33: {=IF(NOT(ISBLANK($D33)),MAX(INDEX($A$1:$X$1044,IF(_xlfn.TEXTSPLIT($D33, ",")=$B$2:$B$288, ROW($B$2:$B$288), 0), 6)), "")} | H33: =IF(G33="","",NETWORKDAYS(F33,G33))
B34: Akt2.3.b | E34: {=IF(NOT(ISBLANK($D34)),MAX(INDEX($A$1:$X$1044,IF(_xlfn.TEXTSPLIT($D34, ",")=$B$2:$B$288, ROW($B$2:$B$288), 0), 6)), "")} | H34: =IF(G34="","",NETWORKDAYS(F34,G34))
B35: Akt2.3.c | E35: {=IF(NOT(ISBLANK($D35)),MAX(INDEX($A$1:$X$1044,IF(_xlfn.TEXTSPLIT($D35, ",")=$B$2:$B$288, ROW($B$2:$B$288), 0), 6)), "")} | H35: =IF(G35="","",NETWORKDAYS(F35,G35))
B36: REK3 | E36: {=IF(NOT(ISBLANK($D36)),MAX(INDEX($A$1:$X$1044,IF(_xlfn.TEXTSPLIT($D36, ",")=$B$2:$B$288, ROW($B$2:$B$288), 0), 6)), "")} | H36: =IF(G36="","",NETWORKDAYS(F36,G36)) | I36: =IF(ISBLANK('Uppföljning + Utveckling'!D80),"",'Uppföljning + Utveckling'!D80)
B37: Åtg3.1 | E37: {=IF(NOT(ISBLANK($D37)),MAX(INDEX($A$1:$X$1044,IF(_xlfn.TEXTSPLIT($D37, ",")=$B$2:$B$288, ROW($B$2:$B$288), 0), 6)), "")} | H37: =IF(G37="","",NETWORKDAYS(F37,G37)) | I37: =IF(ISBLANK('Uppföljning + Utveckling'!D81),"",'Uppföljning + Utveckling'!D81)
B38: Akt3.1.a | E38: {=IF(NOT(ISBLANK($D38)),MAX(INDEX($A$1:$X$1044,IF(_xlfn.TEXTSPLIT($D38, ",")=$B$2:$B$288, ROW($B$2:$B$288), 0), 6)), "")} | H38: =IF(G38="","",NETWORKDAYS(F38,G38))
B39: Akt3.1.b | E39: {=IF(NOT(ISBLANK($D39)),MAX(INDEX($A$1:$X$1044,IF(_xlfn.TEXTSPLIT($D39, ",")=$B$2:$B$288, ROW($B$2:$B$288), 0), 6)), "")} | H39: =IF(G39="","",NETWORKDAYS(F39,G39))
B40: Akt3.1.c | E40: {=IF(NOT(ISBLANK($D40)),MAX(INDEX($A$1:$X$1044,IF(_xlfn.TEXTSPLIT($D40, ",")=$B$2:$B$288, ROW($B$2:$B$288), 0), 6)), "")} | H40: =IF(G40="","",NETWORKDAYS(F40,G40))
B41: Åtg3.2 | E41: {=IF(NOT(ISBLANK($D41)),MAX(INDEX($A$1:$X$1044,IF(_xlfn.TEXTSPLIT($D41, ",")=$B$2:$B$288, ROW($B$2:$B$288), 0), 6)), "")} | H41: =IF(G41="","",NETWORKDAYS(F41,G41)) | I41: =IF(ISBLANK('Uppföljning + Utveckling'!D89),"",'Uppföljning + Utveckling'!D89)
...
