{"text_format":"1","workbook":"xlsx","n_sheets":21,"sheets":["instruction","base data","reference values","print","EU27","EU27 SPM","goal seek","_xltb_storage_","RM","SPM","quick results","output countries","data","print oc","data countries","EDGAR-2019","UN-P","IPCC SR15","glossary","imprint","intern"],"not_rendered":{"charts":27,"images":11,"macros":1,"external_links":1,"defined_names":99,"comments":6,"pivot_tables":0},"unopened":[],"bounds":{"document_bytes":16777216,"sheet_cells":100000,"rows_first":2000,"rows_last":500,"rows_between":2000,"halvings":0,"cell_chars":16384,"cell_head_chars":4096},"cells_cut":0,"cells_raw":0,"read":"whole","date_system":"1900"}

{"sheet":"instruction","index":0,"n_rows":38,"n_cols":18,"rows_kept":38,"cut":false,"hidden":false,"merged":[[35,6,38,6],[26,2,26,7],[3,17,3,30],[33,3,33,4],[32,6,32,12],[33,6,33,12],[28,5,28,7],[30,5,30,7]]}
[]
[null,"National paths based on a given national budget (Extended Smooth Pathway Model)"]
[]
[null,null,null,null,null,null,null,null,null,null,null,null,null,null,null,null,null,"The following figures show the respective characteristics of the RM Scenario Types 1 - 6."]
[]
[]
[]
[]
[]
[]
[]
[]
[]
[]
[]
[]
[]
[]
[]
[]
[]
[]
[]
[]
[]
[]
[null,null,"Cells shaded in yellow in the following sheets are input fields, where you can enter data."]
[]
[null,"Suggestions and feedback are welcome:",null,null,null,"save-the-climate@online.ms"]
[]
[null,"More information on our website:",null,null,null,"http://www.save-the-climate.info/"]
[]
[null,"version:",null,"2018 - 2021","49.1",null,"You can download the current version of the tool and the instruction to the tool from"]
[null,"DOI",null,"10.5281/zenodo.4580310",null,null,"Zenodo"]
[]
[null,null,"data status",null,null,null,"Detailed instruction to the tool:"]
[null,null,"emissions",null,"2020-09-01"]
[null,null,"population",null,2019]

{"sheet":"base data","index":1,"n_rows":94,"n_cols":27,"rows_kept":94,"cut":false,"hidden":false,"merged":[[21,1,21,2],[16,1,16,4],[25,1,25,2],[14,1,14,4],[3,1,3,2],[3,3,3,7],[9,1,9,4],[10,1,10,2],[10,3,10,4],[11,1,11,2],[38,1,38,10],[36,1,36,10],[26,1,26,4],[23,5,23,9],[22,5,22,9],[22,1,22,2],[23,1,23,2],[30,15,34,17],[47,1,47,10],[30,7,30,10],[40,5,40,9],[32,1,32,2],[44,1,44,10],[45,1,45,10],[30,11,30,13],[40,12,40,13],[38,12,38,13],[32,12,34,12],[40,1,40,4],[32,4,33,4],[30,1,30,2],[30,5,30,6],[33,1,33,2]]}
[null,null,null,null,null,null,null,null,null,null,null,null,null,null,null,null,"Conversion factor C > CO2:",null,null,{"$f":"5760/1570","v":3.6687898089171975}]
[null,"base data"]
[null,null,null,null,null,null,null,null,null,null,null,null,null,null,null,"Global Warming of 1.5 °C - an IPCC special report on the impacts of global warming of 1.5 °C above pre-industrial levels (…)"]
[null,"input fields",null,"values from the sheet „EDGAR“ ",null,null,null,null,null,null,null,null,null,null,null,null,null,null,null,null,null,null,null,null,null,null,"source:"]
[null,null,null,null,null,null,null,null,null,null,null,null,null,null,null,null,null,null,null,null,null,null,null,null,null,null,"http://www.ipcc.ch/report/sr15/"]
[null,"I. Input of base data for the determination of a global budget 2020 - 2100",null,null,null,null,null,null,null,null,null,null,null,null,null,null,null,null,null,null,null,null,null,null,null,null,"> Chapter 2"]
[null,null,null,null,null,null,null,null,null,null,null,null,null,null,null,null,null,null,null,null,null,null,null,null,null,null,"SPM >"]
[null,"I. a) Global CO2 budget 2018 - 2100"]
[]
[null,"global CO2 budget from 2018 to 2100 \nin Gt"]
[null,570,null,"see Table 2.2"]
[]
[null,"I. b) Global CO2 Emissions 2018 - 2019"]
[]
[null,"annual change rates  ",null,null,null,null,{"$f":"G17/F17-1","v":1.1985817906724261E-2},{"$f":"H17/G17-1","v":8.6532011831597089E-3},-1.3864781908442536E-3,3.066165980449842E-4,1.2709943330248885E-2,2.3533219933283167E-2,8.5159504585536894E-3]
[null,null,null,null,"year:",{"$f":"2012","v":2012},{"$f":"F16+1","v":2013},2014,2015,2016,2017,2018,2019,"sum\n2018 - 2019"]
[null,"CO2 emissions without LUC and ISA in Gt",null,null,null,{"$f":"'data countries'!F226/1000","v":34.392359760281266},{"$f":"'data countries'!G226/1000","v":34.804580321750549},{"$f":"'data countries'!H226/1000","v":35.105751357370096},{"$f":"'data countries'!I226/1000","v":35.057077998739899},{"$f":"'data countries'!J226/1000","v":35.067827080733274},{"$f":"'data countries'!K226/1000","v":35.513537175644359},{"$f":"'data countries'!L226/1000","v":36.349285056607627},{"$f":"'data countries'!M226/1000","v":36.658833767353542},{"$f":"SUM(L17:M17)","v":73.008118823961169}]
[null,"≈ CO2 emissions total (incl. LUC and ISA) in Gt",null,null,null,null,null,null,null,null,null,null,{"$f":"M17+D23+D24","v":44.616572552610158},"info"]
[]
[null,"I. c) Global CO2 budget 2020 - 2100 without LUC and ISA"]
[]
[null,"global CO2 budget 2018 - 2100",null,"actual p.a.","share",null,null,null,null,null,null,"share",{"$f":"B11","v":570},"Gt"]
["*","LUC budget 2018 - 2100",null,6.6,{"$f":"D23/M18","v":0.14792709574939966},"enter the LUC budget 2018 - 2100 in Gt: ",null,null,null,null,0,{"$f":"K23/M22","v":0},{"$f":"-K23","v":0},"Gt"]
[null,"ISA budget 2018 - 2100",null,{"$f":"('data countries'!M227+'data countries'!M228)/1000","v":1.357738785256613},{"$f":"D24/M18","v":3.0431265952928572E-2},"how much should be reserved from the global budget? ",null,null,null,null,0.03,null,{"$f":"M22*K24*-1","v":-17.099999999999998},"Gt"]
[null,"sub sum",null,null,null,null,null,null,null,null,null,null,{"$f":"SUM(M22:M24)","v":552.9},"Gt"]
[null,"global CO2 emissions 2018 - 2019",null,null,null,null,null,null,null,null,null,null,{"$f":"-N17","v":-73.008118823961169},"Gt"]
[null,"global CO2 budget 2020 - 2100 (without LUC and ISA) ",null,null,null,null,null,null,null,null,null,null,{"$f":"SUM(M25:M26)","v":479.89188117603879},"Gt","A"]
[]
[null,"II.) National CO2 budget 2020 - 2100"]
[]
[null,"weighting population key in the weighted key",null,0.5,null,"selected country:",null,{"$f":"'reference values'!B2","v":"EU27"},null,null,null,"sheet: 'reference values'",null,null,null,"* For the determination of the LUC budget and the potential for net negative emissions, see our separate paper:"]
[]
[null,"share selected country in global population 2019",null,{"$f":"'UN-P'!H333/'UN-P'!H18","v":5.7689579217939504E-2},"weigh-ting:",{"$f":"D31","v":0.5},null,"population in 2019",null,null,{"$f":"'UN-P'!H333","v":444986.72899999988},"thousand","info"]
[null,"share selected country in global emissions 2019",null,{"$f":"'data countries'!M5/'data countries'!M226","v":8.0173539188484494E-2},null,{"$f":"1-D31","v":0.5},null,"emissions in 2019",null,null,{"$f":"'data countries'!M5","v":2939.068445651058},"Mill. t"]
[null,"weighted key",null,{"$f":"D31*D33+(1-D31)*D34","v":6.8931559203212006E-2},"B",null,null,"scope of the budget",null,null,{"$f":"L37/K34","v":11.255163406410267},"years"]
[]
[null,"national CO2 budget 2020 - 2100; weighted key applied on the global budget 2020 - 2100",null,null,null,null,null,null,null,null,null,{"$f":"M27*D35*1000","v":33079.695618426893},"Mill. t","= A * B"]
[]
[null,"national CO2 budget 2020 - 2100 (fossil + cement production); free input",null,null,null,null,null,null,null,null,null,null,"Mill. t"]
[]
[null,"national CO2 budget 2020 - 2100 (basis for this tool)",null,null,null,"here calculated value",null,null,null,null,null,{"$f":"IF(F41=B93,L37,L39)","v":33079.695618426893},"Mill. t"]
[]
[null,"III) National minimum emissions until 2100 (potential for net negative emissions)"]
[]
[null,"emissions in 2019 of the selected country ",null,null,null,null,null,null,null,null,null,{"$f":"'data countries'!M5","v":2939.068445651058},"Mill. t"]
["*","What percentage of emissions in 2019 should represent the minimum of emissions by 2100? A negative value stands for net negative emissions.",null,null,null,null,null,null,null,null,null,0]
[]
[null,"minimum annual CO2 emissions (a negative value stands for net negative emissions); Emin:",null,null,null,null,null,null,null,null,null,{"$f":"L46*K34","v":0},{"$f":"M41","v":"Mill. t"}]
[]
[]
[]
[]
[]
[]
[]
[]
[]
[]
[]
[]
[]
[]
[]
[]
[]
[]
[]
[]
[]
[]
[]
[]
[]
[]
[]
[]
[]
[]
[]
[]
[]
[]
[]
[]
[]
[]
[]
[]
[]
[]
[null,"Lists for the drop-down menus:"]
[]
[null,"here calculated value"]
[null,"value of free input"]

{"sheet":"reference values","index":2,"n_rows":132,"n_cols":67,"rows_kept":132,"cut":false,"hidden":false,"merged":[[54,2,54,5],[128,7,128,8],[129,5,129,7],[121,5,124,5],[125,8,126,9],[128,9,128,10],[129,8,129,10],[125,7,126,7],[125,5,125,6],[125,10,126,10],[107,34,107,39],[105,34,105,39],[104,34,104,39],[111,34,111,39],[121,8,124,10],[113,33,113,42],[108,34,108,39],[115,34,115,39],[116,34,116,39],[1,19,1,21],[85,34,85,43],[99,34,99,43],[93,34,93,43],[0,7,0,8],[1,1,1,3],[26,1,26,11],[1,9,1,13],[1,16,1,17],[2,9,2,13],[2,6,2,7]]}
[null,null,null,null,null,null,null,null,null,null,null,null,null,null,null,null,null,null,null,null,null,null,null,null,null,null,null,null,null,null,null,null,null,null,null,null,null,null,null,null,null,null,null,null,null,null,null,null,null,null,null,null,null,null,null,null,null,"I","R","AA","AJ",null,null,"AS"]
[null,"EU27",null,null,"→ select a country",null,null,null,null,{"$f":"IF(AND('goal seek'!C15='goal seek'!C16,'goal seek'!D15='goal seek'!D16,'goal seek'!E15='goal seek'!E16,'goal seek'!F15='goal seek'!F16,'goal seek'!G15='goal seek'!G16),\"'goal seek' is ok\",IF(AND('goal seek'!C15='goal seek'!C16,'goal seek'!E15='goal seek'!E16,'goal seek'!F15='goal seek'!F16,'goal seek'!G15='goal seek'!G16),\"only 'goal seek' RM-2 is not ok\",\"'goal seek' is not ok\"))","v":"'goal seek' is ok"},null,null,null,null,"no",{"$f":"IF('base data'!F41<>'base data'!B94,'base data'!D31,\"budget free input\")","v":0.5},"share\npopulation key\nRM 1 - 6 and SPM_FP",null,{"$f":"IF(ISERROR((1+SQRT(1+SPM!L12*SPM!L11))/SPM!L11),\"remark: r_i is set 0\",\"\")","v":""},{"$f":"CONCATENATE(\"global per capita emissions 2019: \",TEXT(AH114,\"#.##0,0\"),\" t\")","v":"global per capita emissions 2019: 4.7526 t"},null,null,null,null,null,null,null,null,null,null,null,null,null,"E_i_t",{"$f":"RM!E2","v":"RM-1 const"},{"$f":"RM!K2","v":"RM-2 exp"},{"$f":"RM!Q2","v":"RM-3 lin"},{"$f":"RM!W2","v":"RM-4 quadr"},{"$f":"RM!AC2","v":"RM-5 rad"},{"$f":"RM!AI2","v":"RM-6 abs"},{"$f":"SPM!E9","v":"SPM_FP50%"},{"$f":"B129","v":"SPM_P50%"},{"$f":"SPM!M9","v":"SPM_P0%"},{"$f":"SPM!Q9","v":"SPM_P100%"},"per capita",{"$f":"AI2","v":"RM-1 const"},"RM-2 exp","RM-3 lin","RM-4 quadr","RM-5 rad","RM-6 abs","SPM_FP50%","SPM_P50%","SPM_P0%","SPM_P100%",null,"RR_i_t",{"$f":"AI2","v":"RM-1 const"},"RM-2 exp","RM-3 lin","RM-4 quadr","RM-5 rad","RM-6 abs","SPM_FP50%","SPM_P50%","SPM_P0%","SPM_P100%"]
[null,null,null,null,null,null,null,null,null,"sheet 'goal seek'",null,null,null,null,null,{"$f":"'base data'!B11","v":570}," Gt global budget",null,null,null,null,null,null,null,null,null,null,null,null,null,null,null,{"$f":"AH3","v":2019},2019,{"$f":"RM!E14","v":2939.068445651058},{"$f":"RM!K14","v":2939.068445651058},{"$f":"RM!Q14","v":2939.068445651058},{"$f":"RM!W14","v":2939.068445651058},{"$f":"RM!AC14","v":2939.068445651058},{"$f":"RM!AI14","v":2939.068445651058},{"$f":"SPM!E20","v":2939.068445651058},{"$f":"IF(ISERROR(SPM!I21),#N/A,SPM!I20)","v":2939.068445651058},{"$f":"SPM!M20","v":2939.068445651058},{"$f":"SPM!Q20","v":2939.068445651058},null,{"$f":"AI3/SPM!$C20","v":6.6048451652837024},{"$f":"AJ3/SPM!$C20","v":6.6048451652837024},{"$f":"AK3/SPM!$C20","v":6.6048451652837024},{"$f":"AL3/SPM!$C20","v":6.6048451652837024},{"$f":"AM3/SPM!$C20","v":6.6048451652837024},{"$f":"AN3/SPM!$C20","v":6.6048451652837024},{"$f":"SPM!F20","v":6.6048451652837024},{"$f":"IF(ISERROR(SPM!J21),#N/A,SPM!J20)","v":6.6048451652837024},{"$f":"SPM!N20","v":6.6048451652837024},{"$f":"SPM!R20","v":6.6048451652837024}]
[null,null,null,null,null,null,null,null,null,null,null,null,null,null,null,null,null,null,null,null,null,null,null,null,null,null,null,null,null,null,null,null,null,{"$f":"AH3+1","v":2020},{"$f":"RM!E15","v":2704.3097190424414},{"$f":"RM!K15","v":2850.896392281526},{"$f":"RM!Q15","v":2850.896392281526},{"$f":"RM!W15","v":2850.896392281526},{"$f":"RM!AC15","v":2850.896392281526},{"$f":"RM!AI15","v":2813.9997596596827},{"$f":"SPM!E21","v":2875.3099029055738},{"$f":"IF(ISERROR(SPM!I21),#N/A,SPM!I21)","v":2875.3099029055738},{"$f":"SPM!M21","v":2877.6132817736652},{"$f":"SPM!Q21","v":2871.2888175414882},null,{"$f":"AI4/SPM!$C21","v":6.0736812962835609},{"$f":"AJ4/SPM!$C21","v":6.4029042137872212},{"$f":"AK4/SPM!$C21","v":6.4029042137872212},{"$f":"AL4/SPM!$C21","v":6.4029042137872212},{"$f":"AM4/SPM!$C21","v":6.4029042137872212},{"$f":"AN4/SPM!$C21","v":6.3200370828986463},{"$f":"SPM!F21","v":6.4577351681745032},{"$f":"IF(ISERROR(SPM!J21),#N/A,SPM!J21)","v":6.4577351681745032},{"$f":"SPM!N21","v":6.4629083881836138},{"$f":"SPM!R21","v":6.4487041053511023},null,{"$f":"AH4","v":2020},{"$f":"IF(AI3>'goal seek'!$E$24,AI4/AI3-1,#N/A)","v":-7.9875215888894791E-2},{"$f":"IF(AND(AJ3>'goal seek'!$E$23,AJ4>0),AJ4/AJ3-1,#N/A)","v":-3.0000000000000138E-2},{"$f":"IF(AND(AK3>'goal seek'!$E$23,AK4>0),AK4/AK3-1,#N/A)","v":-3.0000000000000138E-2},{"$f":"IF(AND(AL3>'goal seek'!$E$23,AL4>0),AL4/AL3-1,#N/A)","v":-3.0000000000000138E-2},{"$f":"IF(AND(AM3>'goal seek'!$E$23,AM4>0),AM4/AM3-1,#N/A)","v":-3.0000000000000138E-2},{"$f":"IF(AN4>0,AN4/AN3-1,#N/A)","v":-4.255385279524182E-2},{"$f":"IF(AO4>0,SPM!H21,#N/A)","v":-2.1693452848921487E-2},{"$f":"IF(ISERROR(SPM!L21/100),#N/A,SPM!L21)","v":-2.1693452848921487E-2},{"$f":"SPM!P21","v":-2.0909742326119713E-2},{"$f":"SPM!T21","v":-2.3061602464503117E-2}]
[null,null,null,null,null,null,null,null,null,null,null,null,null,null,null,null,null,null,null,null,null,null,null,null,null,null,null,null,null,null,null,null,null,{"$f":"AH4+1","v":2021},{"$f":"RM!E16","v":2488.3023964034901},{"$f":"RM!K16","v":2755.552078414411},{"$f":"RM!Q16","v":2746.843924153618},{"$f":"RM!W16","v":2763.5415891175471},{"$f":"RM!AC16","v":2724.2675589381074},{"$f":"RM!AI16","v":2688.9310736683074},{"$f":"SPM!E22","v":2730.9954097438385},{"$f":"IF(ISERROR(SPM!I22),#N/A,SPM!I22)","v":2730.9954097438385},{"$f":"SPM!M22","v":2745.2708009585112},{"$f":"SPM!Q22","v":2706.7154194248142},null,{"$f":"AI5/SPM!$C22","v":5.5878273796983162},{"$f":"AJ5/SPM!$C22","v":6.1879735245216798},{"$f":"AK5/SPM!$C22","v":6.1684181590341787},{"$f":"AL5/SPM!$C22","v":6.2059150764495747},{"$f":"AM5/SPM!$C22","v":6.1177198066684717},{"$f":"AN5/SPM!$C22","v":6.0383668388867866},{"$f":"SPM!F22","v":6.1328281266994802},{"$f":"IF(ISERROR(SPM!J22),#N/A,SPM!J22)","v":6.1328281266994802},{"$f":"SPM!N22","v":6.1648854931998489},{"$f":"SPM!R22","v":6.0783040484043536},null,2021,{"$f":"IF(AI4>'goal seek'!$E$24,AI5/AI4-1,#N/A)","v":-7.9875215888894791E-2},{"$f":"IF(AND(AJ4>'goal seek'!$E$23,AJ5>0),AJ5/AJ4-1,#N/A)","v":-3.3443626406504556E-2},{"$f":"IF(AND(AK4>'goal seek'!$E$23,AK5>0),AK5/AK4-1,#N/A)","v":-3.6498158407165637E-2},{"$f":"IF(AND(AL4>'goal seek'!$E$23,AL5>0),AL5/AL4-1,#N/A)","v":-3.064117075614603E-2},{"$f":"IF(AND(AM4>'goal seek'!$E$23,AM5>0),AM5/AM4-1,#N/A)","v":-4.4417199336409308E-2},{"$f":"IF(AN5>0,AN5/AN4-1,#N/A)","v":-4.444516583985092E-2},{"$f":"IF(AO5>0,SPM!H22,#N/A)","v":-5.0190935250458334E-2},{"$f":"IF(ISERROR(SPM!L22/100),#N/A,SPM!L22)","v":-5.0190935250458334E-2},{"$f":"SPM!P22","v":-4.5990363490949163E-2},{"$f":"SPM!T22","v":-5.7316908390145291E-2}]
[null,null,null,null,null,null,null,null,null,null,null,null,null,null,null,null,null,null,null,null,null,null,null,null,null,null,null,null,null,null,null,null,null,2022,{"$f":"RM!E17","v":2289.548705293907},{"$f":"RM!K17","v":2652.8181026769748},{"$f":"RM!Q17","v":2628.7397525511883},{"$f":"RM!W17","v":2673.547733242679},{"$f":"RM!AC17","v":2574.5109704130732},{"$f":"RM!AI17","v":2563.862387676932},{"$f":"SPM!E23","v":2568.9310715328174},{"$f":"IF(ISERROR(SPM!I23),#N/A,SPM!I23)","v":2568.9310715328174},{"$f":"SPM!M23","v":2602.7351612148595},{"$f":"SPM!Q23","v":2513.0950230997187},null,{"$f":"AI6/SPM!$C23","v":5.1429583295873664},{"$f":"AJ6/SPM!$C23","v":5.9589616619626877},{"$f":"AK6/SPM!$C23","v":5.9048750417235967},{"$f":"AL6/SPM!$C23","v":6.0055261337909789},{"$f":"AM6/SPM!$C23","v":5.7830622293751492},{"$f":"AN6/SPM!$C23","v":5.7591425734383659},{"$f":"SPM!F23","v":5.7705282363842541},{"$f":"IF(ISERROR(SPM!J23),#N/A,SPM!J23)","v":5.7705282363842541},{"$f":"SPM!N23","v":5.8464615520644987},{"$f":"SPM!R23","v":5.6451050603162933},null,2022,{"$f":"IF(AI5>'goal seek'!$E$24,AI6/AI5-1,#N/A)","v":-7.9875215888894791E-2},{"$f":"IF(AND(AJ5>'goal seek'!$E$23,AJ6>0),AJ6/AJ5-1,#N/A)","v":-3.7282538240594909E-2},{"$f":"IF(AND(AK5>'goal seek'!$E$23,AK6>0),AK6/AK5-1,#N/A)","v":-4.2996316814331248E-2},{"$f":"IF(AND(AL5>'goal seek'!$E$23,AL6>0),AL6/AL5-1,#N/A)","v":-3.256468302458404E-2},{"$f":"IF(AND(AM5>'goal seek'!$E$23,AM6>0),AM6/AM5-1,#N/A)","v":-5.4971321753509383E-2},-4.6512417970146602E-2,{"$f":"IF(AO6>0,SPM!H23,#N/A)","v":-5.934258901820065E-2},{"$f":"IF(ISERROR(SPM!L23/100),#N/A,SPM!L23)","v":-5.934258901820065E-2},{"$f":"SPM!P23","v":-5.1920429741898463E-2},{"$f":"SPM!T23","v":-7.1533340718264518E-2}]
[null,null,null,null,null,null,null,null,null,null,null,null,null,null,null,null,null,null,null,null,null,null,null,null,null,null,null,null,null,null,null,null,null,2023,{"$f":"RM!E18","v":2106.6705081704167},{"$f":"RM!K18","v":2542.5613866162839},{"$f":"RM!Q18","v":2498.6316580047801},{"$f":"RM!W18","v":2577.9134956499579},{"$f":"RM!AC18","v":2414.2789743216213},{"$f":"RM!AI18","v":2438.7937016855567},{"$f":"SPM!E24","v":2397.1769757311995},{"$f":"IF(ISERROR(SPM!I24),#N/A,SPM!I24)","v":2397.1769757311995},{"$f":"SPM!M24","v":2454.4215179933417},{"$f":"SPM!Q24","v":2305.4128581380646},null,{"$f":"AI7/SPM!$C24","v":4.7350107921422238},{"$f":"AJ7/SPM!$C24","v":5.7147311639957294},{"$f":"AK7/SPM!$C24","v":5.6159934932187277},{"$f":"AL7/SPM!$C24","v":5.7941895402108168},{"$f":"AM7/SPM!$C24","v":5.42640007268293},{"$f":"AN7/SPM!$C24","v":5.4815000506740157},{"$f":"SPM!F24","v":5.3879611485233205},{"$f":"IF(ISERROR(SPM!J24),#N/A,SPM!J24)","v":5.3879611485233205},{"$f":"SPM!N24","v":5.5166255620380316},{"$f":"SPM!R24","v":5.1817095845270806},null,2023,{"$f":"IF(AI6>'goal seek'!$E$24,AI7/AI6-1,#N/A)","v":-7.9875215888894791E-2},{"$f":"IF(AND(AJ6>'goal seek'!$E$23,AJ7>0),AJ7/AJ6-1,#N/A)","v":-4.1562109346822584E-2},{"$f":"IF(AND(AK6>'goal seek'!$E$23,AK7>0),AK7/AK6-1,#N/A)","v":-4.9494475221496748E-2},{"$f":"IF(AND(AL6>'goal seek'!$E$23,AL7>0),AL7/AL6-1,#N/A)","v":-3.5770536805314057E-2},{"$f":"IF(AND(AM6>'goal seek'!$E$23,AM7>0),AM7/AM6-1,#N/A)","v":-6.2237837761376147E-2},-4.8781356828085376E-2,{"$f":"IF(AO7>0,SPM!H24,#N/A)","v":-6.6858195498074049E-2},{"$f":"IF(ISERROR(SPM!L24/100),#N/A,SPM!L24)","v":-6.6858195498074049E-2},{"$f":"SPM!P24","v":-5.6983762862868687E-2},{"$f":"SPM!T24","v":-8.2639996917224928E-2}]
[null,null,null,null,null,null,null,null,null,null,null,null,null,null,null,null,null,null,null,null,null,null,null,null,null,null,null,null,null,null,null,null,null,2024,{"$f":"RM!E19","v":1938.399746523537},{"$f":"RM!K19","v":2424.7570884081788},{"$f":"RM!Q19","v":2358.7266910051412},{"$f":"RM!W19","v":2474.1299668559013},{"$f":"RM!AC19","v":2249.7595655575587},{"$f":"RM!AI19","v":2313.7250156941814},{"$f":"SPM!E25","v":2221.8463167904083},{"$f":"IF(ISERROR(SPM!I25),#N/A,SPM!I25)","v":2221.8463167904083},{"$f":"SPM!M25","v":2303.8244888858571},{"$f":"SPM!Q25","v":2094.3369761086378},null,{"$f":"AI8/SPM!$C25","v":4.3601888276101617},{"$f":"AJ8/SPM!$C25","v":5.4541890987693193},{"$f":"AK8/SPM!$C25","v":5.3056619430287491},{"$f":"AL8/SPM!$C25","v":5.5652472400948136},{"$f":"AM8/SPM!$C25","v":5.060553964756747},{"$f":"AN8/SPM!$C25","v":5.2044362787835414},{"$f":"SPM!F25","v":4.9977665878830608},{"$f":"IF(ISERROR(SPM!J25),#N/A,SPM!J25)","v":4.9977665878830608},{"$f":"SPM!N25","v":5.1821662767086174},{"$f":"SPM!R25","v":4.7109502056307928},null,2024,{"$f":"IF(AI7>'goal seek'!$E$24,AI8/AI7-1,#N/A)","v":-7.9875215888894791E-2},{"$f":"IF(AND(AJ7>'goal seek'!$E$23,AJ8>0),AJ8/AJ7-1,#N/A)","v":-4.6332921922047521E-2},{"$f":"IF(AND(AK7>'goal seek'!$E$23,AK8>0),AK8/AK7-1,#N/A)","v":-5.5992633628662358E-2},{"$f":"IF(AND(AL7>'goal seek'!$E$23,AL8>0),AL8/AL7-1,#N/A)","v":-4.025873209833597E-2},{"$f":"IF(AND(AM7>'goal seek'!$E$23,AM8>0),AM8/AM7-1,#N/A)","v":-6.8144324046184535E-2},-5.1283011722121019E-2,{"$f":"IF(AO8>0,SPM!H25,#N/A)","v":-7.3140473446817955E-2},{"$f":"IF(ISERROR(SPM!L25/100),#N/A,SPM!L25)","v":-7.3140473446817955E-2},{"$f":"SPM!P25","v":-6.1357443293036308E-2},{"$f":"SPM!T25","v":-9.1556651679256862E-2}]
[null,null,null,null,null,null,null,null,null,null,null,null,null,null,null,null,null,null,null,null,null,null,null,null,null,null,null,null,null,null,null,null,null,2025,{"$f":"RM!E20","v":1783.5696482909905},{"$f":"RM!K20","v":2299.5150765274661},{"$f":"RM!Q20","v":2211.3279918881822},{"$f":"RM!W20","v":2360.2475733089123},{"$f":"RM!AC20","v":2084.9610822439208},{"$f":"RM!AI20","v":2188.656329702806},{"$f":"SPM!E26","v":2047.4980582598982},{"$f":"IF(ISERROR(SPM!I26),#N/A,SPM!I26)","v":2047.4980582598982},{"$f":"SPM!M26","v":2153.6764402016306},{"$f":"SPM!Q26","v":1887.2637844912242},null,{"$f":"AI9/SPM!$C26","v":4.0153171518903887},{"$f":"AJ9/SPM!$C26","v":5.1768554912663882},{"$f":"AK9/SPM!$C26","v":4.9783215490305901},{"$f":"AL9/SPM!$C26","v":5.3135814308658507},{"$f":"AM9/SPM!$C26","v":4.6938340773962874},{"$f":"AN9/SPM!$C26","v":4.9272812579368086},{"$f":"SPM!F26","v":4.6094942687945526},{"$f":"IF(ISERROR(SPM!J26),#N/A,SPM!J26)","v":4.6094942687945526},{"$f":"SPM!N26","v":4.8485316837781074},{"$f":"SPM!R26","v":4.248761830674991},null,2025,{"$f":"IF(AI8>'goal seek'!$E$24,AI9/AI8-1,#N/A)","v":-7.9875215888894791E-2},{"$f":"IF(AND(AJ8>'goal seek'!$E$23,AJ9>0),AJ9/AJ8-1,#N/A)","v":-5.1651364369423192E-2},{"$f":"IF(AND(AK8>'goal seek'!$E$23,AK9>0),AK9/AK8-1,#N/A)","v":-6.2490792035827969E-2},{"$f":"IF(AND(AL8>'goal seek'!$E$23,AL9>0),AL9/AL8-1,#N/A)","v":-4.602926890365E-2},{"$f":"IF(AND(AM8>'goal seek'!$E$23,AM9>0),AM9/AM8-1,#N/A)","v":-7.3251598009228092E-2},-5.4055121132815853E-2,{"$f":"IF(AO9>0,SPM!H26,#N/A)","v":-7.8469990121714045E-2},{"$f":"IF(ISERROR(SPM!L26/100),#N/A,SPM!L26)","v":-7.8469990121714045E-2},{"$f":"SPM!P26","v":-6.517338860168076E-2},{"$f":"SPM!T26","v":-9.8872910128418742E-2}]
[null,null,null,null,null,null,null,null,null,null,null,null,null,null,null,null,null,null,null,null,null,null,null,null,null,null,null,null,null,null,null,null,null,2026,{"$f":"RM!E21","v":1641.1066375808675},{"$f":"RM!K21","v":2167.1083136746929},{"$f":"RM!Q21","v":2058.770794642604},{"$f":"RM!W21","v":2234.9605641439161},{"$f":"RM!AC21","v":1922.7168317701551},{"$f":"RM!AI21","v":2063.5876437114307},{"$f":"SPM!E27","v":1877.4570091040896},{"$f":"IF(ISERROR(SPM!I27),#N/A,SPM!I27)","v":1877.4570091040896},{"$f":"SPM!M27","v":2006.0809265347016},{"$f":"SPM!Q27","v":1689.1309856377611},null,{"$f":"AI10/SPM!$C27","v":3.6978750501498592},{"$f":"AJ10/SPM!$C27","v":4.8831048395019954},{"$f":"AK10/SPM!$C27","v":4.638989923719044},{"$f":"AL10/SPM!$C27","v":5.0359950529475528},{"$f":"AM10/SPM!$C27","v":4.3324220607545305},{"$f":"AN10/SPM!$C27","v":4.6498436400980161},{"$f":"SPM!F27","v":4.2304389444972221},{"$f":"IF(ISERROR(SPM!J27),#N/A,SPM!J27)","v":4.2304389444972221},{"$f":"SPM!N27","v":4.5202648243195851},{"$f":"SPM!R27","v":3.8060874200303929},null,2026,{"$f":"IF(AI9>'goal seek'!$E$24,AI10/AI9-1,#N/A)","v":-7.9875215888894791E-2},{"$f":"IF(AND(AJ9>'goal seek'!$E$23,AJ10>0),AJ10/AJ9-1,#N/A)","v":-5.7580297778574541E-2},{"$f":"IF(AND(AK9>'goal seek'!$E$23,AK10>0),AK10/AK9-1,#N/A)","v":-6.898895044299358E-2},{"$f":"IF(AND(AL9>'goal seek'!$E$23,AL10>0),AL10/AL9-1,#N/A)","v":-5.3082147221256037E-2},{"$f":"IF(AND(AM9>'goal seek'!$E$23,AM10>0),AM10/AM9-1,#N/A)","v":-7.7816440726630631E-2},-5.7144049659161533E-2,{"$f":"IF(AO10>0,SPM!H27,#N/A)","v":-8.3048210214333965E-2},{"$f":"IF(ISERROR(SPM!L27/100),#N/A,SPM!L27)","v":-8.3048210214333965E-2},{"$f":"SPM!P27","v":-6.8531888500907273E-2},{"$f":"SPM!T27","v":-0.10498415774288622}]
[null,null,null,null,null,null,null,null,null,null,null,null,null,null,null,null,null,null,null,null,null,null,null,null,null,null,null,null,null,null,null,null,null,2027,{"$f":"RM!E22","v":1510.0228906073976},{"$f":"RM!K22","v":2028.0020668050304},{"$f":"RM!Q22","v":1903.3601395698893},{"$f":"RM!W22","v":2097.6951708310344},{"$f":"RM!AC22","v":1765.0887538043223},{"$f":"RM!AI22","v":1938.5189577200556},{"$f":"SPM!E28","v":1714.0740580713773},{"$f":"IF(ISERROR(SPM!I28),#N/A,SPM!I28)","v":1714.0740580713773},{"$f":"SPM!M28","v":1862.6249811600428},{"$f":"SPM!Q28","v":1503.0471153397775},null,{"$f":"AI11/SPM!$C28","v":3.4057445613680932},{"$f":"AJ11/SPM!$C28","v":4.5740081507547501},{"$f":"AK11/SPM!$C28","v":4.2928875343455726},{"$f":"AL11/SPM!$C28","v":4.7311957745171611},{"$f":"AM11/SPM!$C28","v":3.9810266857497703},{"$f":"AN11/SPM!$C28","v":4.3721856393238969},{"$f":"SPM!F28","v":3.8659668256489486},{"$f":"IF(ISERROR(SPM!J28),#N/A,SPM!J28)","v":3.8659668256489486},{"$f":"SPM!N28","v":4.2010124077671946},{"$f":"SPM!R28","v":3.3900112179685991},null,2027,{"$f":"IF(AI10>'goal seek'!$E$24,AI11/AI10-1,#N/A)","v":-7.9875215888894791E-2},{"$f":"IF(AND(AJ10>'goal seek'!$E$23,AJ11>0),AJ11/AJ10-1,#N/A)","v":-6.4189798909397688E-2},{"$f":"IF(AND(AK10>'goal seek'!$E$23,AK11>0),AK11/AK10-1,#N/A)","v":-7.5487108850159079E-2},{"$f":"IF(AND(AL10>'goal seek'!$E$23,AL11>0),AL11/AL10-1,#N/A)","v":-6.1417367051154304E-2},{"$f":"IF(AND(AM10>'goal seek'!$E$23,AM11>0),AM11/AM10-1,#N/A)","v":-8.1981951456009283E-2},-6.0607402051717552E-2,{"$f":"IF(AO11>0,SPM!H28,#N/A)","v":-8.7023537817612975E-2},{"$f":"IF(ISERROR(SPM!L28/100),#N/A,SPM!L28)","v":-8.7023537817612975E-2},{"$f":"SPM!P28","v":-7.1510547494444382E-2},{"$f":"SPM!T28","v":-0.11016544713240481}]
[null,null,null,null,null,null,null,null,null,null,null,null,null,null,null,null,null,null,null,null,null,null,null,null,null,null,null,null,null,null,null,null,null,2028,{"$f":"RM!E23","v":1389.4094862229588},{"$f":"RM!K23","v":1882.8823183094044},{"$f":"RM!Q23","v":1747.312649840313},{"$f":"RM!W23","v":1948.6855445799877},{"$f":"RM!AC23","v":1613.5778191737224},{"$f":"RM!AI23","v":1813.4502717286805},{"$f":"SPM!E29","v":1558.9371475343887},{"$f":"IF(ISERROR(SPM!I29),#N/A,SPM!I29)","v":1558.9371475343887},{"$f":"SPM!M29","v":1724.4734237215562},{"$f":"SPM!Q29","v":1330.7768141078977},null,{"$f":"AI12/SPM!$C29","v":3.1369063000541231},{"$f":"AJ12/SPM!$C29","v":4.2510328777311068},{"$f":"AK12/SPM!$C29","v":3.9449536754989305},{"$f":"AL12/SPM!$C29","v":4.3995985504855222},{"$f":"AM12/SPM!$C29","v":3.6430170347789033},{"$f":"AN12/SPM!$C29","v":4.0942743220249653},{"$f":"SPM!F29","v":3.5196533548816511},{"$f":"IF(ISERROR(SPM!J29),#N/A,SPM!J29)","v":3.5196533548816511},{"$f":"SPM!N29","v":3.8933889546511904},{"$f":"SPM!R29","v":3.0045297758037135},null,2028,{"$f":"IF(AI11>'goal seek'!$E$24,AI12/AI11-1,#N/A)","v":-7.9875215888894791E-2},{"$f":"IF(AND(AJ11>'goal seek'!$E$23,AJ12>0),AJ12/AJ11-1,#N/A)","v":-7.1557988461151578E-2},{"$f":"IF(AND(AK11>'goal seek'!$E$23,AK12>0),AK12/AK11-1,#N/A)","v":-8.198526725732469E-2},{"$f":"IF(AND(AL11>'goal seek'!$E$23,AL12>0),AL12/AL11-1,#N/A)","v":-7.1034928393344354E-2},{"$f":"IF(AND(AM11>'goal seek'!$E$23,AM12>0),AM12/AM11-1,#N/A)","v":-8.5837572928866068E-2},-6.4517649153388645E-2,{"$f":"IF(AO12>0,SPM!H29,#N/A)","v":-9.0507705782294959E-2},{"$f":"IF(ISERROR(SPM!L29/100),#N/A,SPM!L29)","v":-9.0507705782294959E-2},{"$f":"SPM!P29","v":-7.417035572691924E-2},{"$f":"SPM!T29","v":-0.11461403935626896}]
[null,null,null,null,null,null,null,null,null,null,null,null,null,null,null,null,null,null,null,null,null,null,null,null,null,null,null,null,null,null,null,null,null,2029,{"$f":"RM!E24","v":1278.4301035528215},{"$f":"RM!K24","v":1732.6811158415478},{"$f":"RM!Q24","v":1592.7044408755444},{"$f":"RM!W24","v":1789.0203233297475},{"$f":"RM!AC24","v":1469.2535525587277},{"$f":"RM!AI24","v":1688.3815857373054},{"$f":"SPM!E30","v":1413.0417639388088},{"$f":"IF(ISERROR(SPM!I30),#N/A,SPM!I30)","v":1413.0417639388088},{"$f":"SPM!M30","v":1592.4478947867628},{"$f":"SPM!Q30","v":1173.1129119901943},null,{"$f":"AI13/SPM!$C30","v":2.8895410685810576},{"$f":"AJ13/SPM!$C30","v":3.9162510559359207},{"$f":"AK13/SPM!$C30","v":3.5998721238115512},{"$f":"AL13/SPM!$C30","v":4.0435904023390199},{"$f":"AM13/SPM!$C30","v":3.3208452057556306},{"$f":"AN13/SPM!$C30","v":3.8161241024174468},{"$f":"SPM!F30","v":3.1937938548024087},{"$f":"IF(ISERROR(SPM!J30),#N/A,SPM!J30)","v":3.1937938548024087},{"$f":"SPM!N30","v":3.5992922716495457},{"$f":"SPM!R30","v":2.6515004049561059},null,2029,{"$f":"IF(AI12>'goal seek'!$E$24,AI13/AI12-1,#N/A)","v":-7.9875215888894791E-2},{"$f":"IF(AND(AJ12>'goal seek'!$E$23,AJ13>0),AJ13/AJ12-1,#N/A)","v":-7.9771954416523849E-2},{"$f":"IF(AND(AK12>'goal seek'!$E$23,AK13>0),AK13/AK12-1,#N/A)","v":-8.848342566449019E-2},{"$f":"IF(AND(AL12>'goal seek'!$E$23,AL13>0),AL13/AL12-1,#N/A)","v":-8.1934831247826523E-2},{"$f":"IF(AND(AM12>'goal seek'!$E$23,AM13>0),AM13/AM12-1,#N/A)","v":-8.9443635689600676E-2},-6.8967254267277345E-2,{"$f":"IF(AO13>0,SPM!H30,#N/A)","v":-9.3586443703857922E-2},{"$f":"IF(ISERROR(SPM!L30/100),#N/A,SPM!L30)","v":-9.3586443703857922E-2},{"$f":"SPM!P30","v":-7.655990931415535E-2},{"$f":"SPM!T30","v":-0.1184750894712539}]
[null,null,null,null,null,null,null,null,null,null,null,null,null,null,null,null,null,null,null,null,null,null,null,null,null,null,null,null,null,null,null,null,{"$f":"AH14","v":2030},2030,{"$f":"RM!E25","v":1176.3152230326777},{"$f":"RM!K25","v":1578.5958956998468},{"$f":"RM!Q25","v":1441.4268501232243},{"$f":"RM!W25","v":1620.6429622828646},{"$f":"RM!AC25","v":1332.8434760785801},{"$f":"RM!AI25","v":1563.3128997459303},{"$f":"SPM!E31","v":1276.9282176063134},{"$f":"IF(ISERROR(SPM!I31),#N/A,SPM!I31)","v":1276.9282176063134},{"$f":"SPM!M31","v":1467.0929341919418},{"$f":"SPM!Q31","v":1030.1599705604713},null,{"$f":"AI14/SPM!$C31","v":2.6619503249400411},{"$f":"AJ14/SPM!$C31","v":3.5722940375400447},{"$f":"AK14/SPM!$C31","v":3.2618864373535579},{"$f":"AL14/SPM!$C31","v":3.6674447253504758},{"$f":"AM14/SPM!$C31","v":3.0161669718891573},{"$f":"AN14/SPM!$C31","v":3.5377092806236963},{"$f":"SPM!F31","v":2.8896331673910565},{"$f":"IF(ISERROR(SPM!J31),#N/A,SPM!J31)","v":2.8896331673910565},{"$f":"SPM!N31","v":3.3199676722886284},{"$f":"SPM!R31","v":2.3312073283416916},null,2030,{"$f":"IF(AI13>'goal seek'!$E$24,AI14/AI13-1,#N/A)","v":-7.9875215888894791E-2},{"$f":"IF(AND(AJ13>'goal seek'!$E$23,AJ14>0),AJ14/AJ13-1,#N/A)","v":-8.8928781374097876E-2},{"$f":"IF(AND(AK13>'goal seek'!$E$23,AK14>0),AK14/AK13-1,#N/A)","v":-9.49815840716558E-2},{"$f":"IF(AND(AL13>'goal seek'!$E$23,AL14>0),AL14/AL13-1,#N/A)","v":-9.4117075614600476E-2},{"$f":"IF(AND(AM13>'goal seek'!$E$23,AM14>0),AM14/AM13-1,#N/A)","v":-9.2843114956290163E-2},-7.40760779718872E-2,{"$f":"IF(AO14>0,SPM!H31,#N/A)","v":-9.6326626576898347E-2},{"$f":"IF(ISERROR(SPM!L31/100),#N/A,SPM!L31)","v":-9.6326626576898347E-2},{"$f":"SPM!P31","v":-7.8718406426482618E-2},{"$f":"SPM!T31","v":-0.12185778535776441}]
[null,null,null,null,null,null,null,null,null,null,null,null,null,null,null,null,null,null,null,null,null,null,null,null,null,null,null,null,null,null,null,null,null,2031,{"$f":"RM!E26","v":1082.3567906395492},{"$f":"RM!K26","v":1422.0991110679793},{"$f":"RM!Q26","v":1295.1512245706608},{"$f":"RM!W26","v":1446.2914997124562},{"$f":"RM!AC26","v":1204.7999926154205},{"$f":"RM!AI26","v":1438.2442137545552},{"$f":"SPM!E32","v":1150.7917312271529},{"$f":"IF(ISERROR(SPM!I32),#N/A,SPM!I32)","v":1150.7917312271529},{"$f":"SPM!M32","v":1348.731082827946},{"$f":"SPM!Q32","v":901.54878573788483},null,{"$f":"AI15/SPM!$C32","v":2.452517356330604},{"$f":"AJ15/SPM!$C32","v":3.2223410824222731},{"$f":"AK15/SPM!$C32","v":2.9346892677187375},{"$f":"AL15/SPM!$C32","v":3.2771587299436753},{"$f":"AM15/SPM!$C32","v":2.729961985132793},{"$f":"AN15/SPM!$C32","v":3.2589243467404749},{"$f":"SPM!F32","v":2.6075844109488679},{"$f":"IF(ISERROR(SPM!J32),#N/A,SPM!J32)","v":2.6075844109488679},{"$f":"SPM!N32","v":3.0560961212278102},{"$f":"SPM!R32","v":2.0428236453290576},null,2031,{"$f":"IF(AI14>'goal seek'!$E$24,AI15/AI14-1,#N/A)","v":-7.9875215888894791E-2},{"$f":"IF(AND(AJ14>'goal seek'!$E$23,AJ15>0),AJ15/AJ14-1,#N/A)","v":-9.9136698035368287E-2},{"$f":"IF(AND(AK14>'goal seek'!$E$23,AK15>0),AK15/AK14-1,#N/A)","v":-0.10147974247882141},{"$f":"IF(AND(AL14>'goal seek'!$E$23,AL15>0),AL15/AL14-1,#N/A)","v":-0.10758166149366666},{"$f":"IF(AND(AM14>'goal seek'!$E$23,AM15>0),AM15/AM14-1,#N/A)","v":-9.6067907268363006E-2},-8.0002337351467667E-2,{"$f":"IF(AO15>0,SPM!H32,#N/A)","v":-9.8781188041730097E-2},{"$f":"IF(ISERROR(SPM!L32/100),#N/A,SPM!L32)","v":-9.8781188041730097E-2},{"$f":"SPM!P32","v":-8.0677814339817661E-2},{"$f":"SPM!T32","v":-0.12484583802320909}]
[null,null,null,null,null,null,null,null,null,null,null,null,null,null,null,null,null,null,null,null,null,null,null,null,null,null,null,null,null,null,null,null,null,2032,{"$f":"RM!E27","v":995.9033083184039},{"$f":"RM!K27","v":1264.933898860301},{"$f":"RM!Q27","v":1155.3035140116053},{"$f":"RM!W27","v":1269.3687014362251},{"$f":"RM!AC27","v":1085.3531586775575},{"$f":"RM!AI27","v":1313.1755277631801},{"$f":"SPM!E33","v":1034.570312902486},{"$f":"IF(ISERROR(SPM!I33),#N/A,SPM!I33)","v":1034.570312902486},{"$f":"SPM!M33","v":1237.5086979642383},{"$f":"SPM!Q33","v":786.59725614402305},null,{"$f":"AI16/SPM!$C33","v":2.2597468425716767},{"$f":"AJ16/SPM!$C33","v":2.8701886620277866},{"$f":"AK16/SPM!$C33","v":2.6214326694103258},{"$f":"AL16/SPM!$C33","v":2.8802514171513685},{"$f":"AM16/SPM!$C33","v":2.4627123465812102},{"$f":"AN16/SPM!$C33","v":2.9796509639232056},{"$f":"SPM!F33","v":2.3474839158304475},{"$f":"IF(ISERROR(SPM!J33),#N/A,SPM!J33)","v":2.3474839158304475},{"$f":"SPM!N33","v":2.8079597180990676},{"$f":"SPM!R33","v":1.784822533573416},null,2032,{"$f":"IF(AI15>'goal seek'!$E$24,AI16/AI15-1,#N/A)","v":-7.9875215888894791E-2},{"$f":"IF(AND(AJ15>'goal seek'!$E$23,AJ16>0),AJ16/AJ15-1,#N/A)","v":-0.11051635640897706},{"$f":"IF(AND(AK15>'goal seek'!$E$23,AK16>0),AK16/AK15-1,#N/A)","v":-0.10797790088598702},{"$f":"IF(AND(AL15>'goal seek'!$E$23,AL16>0),AL16/AL15-1,#N/A)","v":-0.12232858888502485},{"$f":"IF(AND(AM15>'goal seek'!$E$23,AM16>0),AM16/AM15-1,#N/A)","v":-9.9142459055435173E-2},-8.6959283267256549E-2,{"$f":"IF(AO16>0,SPM!H33,#N/A)","v":-0.10099257334837958},{"$f":"IF(ISERROR(SPM!L33/100),#N/A,SPM!L33)","v":-0.10099257334837958},{"$f":"SPM!P33","v":-8.2464463286856748E-2},{"$f":"SPM!T33","v":-0.12750450270949912}]
[null,null,null,null,null,null,null,null,null,null,null,null,null,null,null,null,null,null,null,null,null,null,null,null,null,null,null,null,null,null,null,null,null,2033,{"$f":"RM!E28","v":916.35531656200681},{"$f":"RM!K28","v":1109.0911864876032},{"$f":"RM!Q28","v":1023.0489204400252},{"$f":"RM!W28","v":1093.7415671615167},{"$f":"RM!AC28","v":974.55379972195146},{"$f":"RM!AI28","v":1188.106841771805},{"$f":"SPM!E34","v":928.01452161912493},{"$f":"IF(ISERROR(SPM!I34),#N/A,SPM!I34)","v":928.01452161912493},{"$f":"SPM!M34","v":1133.4339237646091},{"$f":"SPM!Q34","v":684.42975737993038},null,{"$f":"AI17/SPM!$C34","v":2.0823021060493025},{"$f":"AJ17/SPM!$C34","v":2.5202701088574764},{"$f":"AK17/SPM!$C34","v":2.3247498902676793},{"$f":"AL17/SPM!$C34","v":2.4853900311495383},{"$f":"AM17/SPM!$C34","v":2.2145508330032726},{"$f":"AN17/SPM!$C34","v":2.6998232389974985},{"$f":"SPM!F34","v":2.1087961818804817},{"$f":"IF(ISERROR(SPM!J34),#N/A,SPM!J34)","v":2.1087961818804817},{"$f":"SPM!N34","v":2.5755859150548908},{"$f":"SPM!R34","v":1.5552804676051708},null,2033,{"$f":"IF(AI16>'goal seek'!$E$24,AI17/AI16-1,#N/A)","v":-7.9875215888894791E-2},{"$f":"IF(AND(AJ16>'goal seek'!$E$23,AJ17>0),AJ17/AJ16-1,#N/A)","v":-0.12320225785166428},{"$f":"IF(AND(AK16>'goal seek'!$E$23,AK17>0),AK17/AK16-1,#N/A)","v":-0.11447605929315263},{"$f":"IF(AND(AL16>'goal seek'!$E$23,AL17>0),AL17/AL16-1,#N/A)","v":-0.13835785778867504},{"$f":"IF(AND(AM16>'goal seek'!$E$23,AM17>0),AM17/AM16-1,#N/A)","v":-0.10208599668204676},-9.5241407829471991E-2,{"$f":"IF(AO17>0,SPM!H34,#N/A)","v":-0.10299521449095023},{"$f":"IF(ISERROR(SPM!L34/100),#N/A,SPM!L34)","v":-0.10299521449095023},{"$f":"SPM!P34","v":-8.4100236524266278E-2},{"$f":"SPM!T34","v":-0.12988539937823809}]
[null,null,null,null,null,null,null,null,null,null,null,null,null,null,null,null,null,null,null,null,null,null,null,null,null,null,null,null,null,null,null,null,null,2034,{"$f":"RM!E29","v":843.16123782067996},{"$f":"RM!K29","v":956.76378637312246},{"$f":"RM!Q29","v":899.28637762063818},{"$f":"RM!W29","v":923.47939904819884},{"$f":"RM!AC29","v":872.30949623340723},{"$f":"RM!AI29","v":1063.0381557804299},{"$f":"SPM!E35","v":830.74251168414412},{"$f":"IF(ISERROR(SPM!I35),#N/A,SPM!I35)","v":830.74251168414412},{"$f":"SPM!M35","v":1036.4080456006905},{"$f":"SPM!Q35","v":594.06456678970835},null,{"$f":"AI18/SPM!$C35","v":1.9189581567793526},{"$f":"AJ18/SPM!$C35","v":2.177507206945716},{"$f":"AK18/SPM!$C35","v":2.0466938613972361},{"$f":"AL18/SPM!$C35","v":2.1017549739378825},{"$f":"AM18/SPM!$C35","v":1.9852969372261255},{"$f":"AN18/SPM!$C35","v":2.4193779890488503},{"$f":"SPM!F35","v":1.8906942675639156},{"$f":"IF(ISERROR(SPM!J35),#N/A,SPM!J35)","v":1.8906942675639156},{"$f":"SPM!N35","v":2.3587702845516327},{"$f":"SPM!R35","v":1.3520368287342339},null,2034,{"$f":"IF(AI17>'goal seek'!$E$24,AI18/AI17-1,#N/A)","v":-7.9875215888894791E-2},{"$f":"IF(AND(AJ17>'goal seek'!$E$23,AJ18>0),AJ18/AJ17-1,#N/A)","v":-0.13734434280096353},{"$f":"IF(AND(AK17>'goal seek'!$E$23,AK18>0),AK18/AK17-1,#N/A)","v":-0.12097421770031813},{"$f":"IF(AND(AL17>'goal seek'!$E$23,AL18>0),AL18/AL17-1,#N/A)","v":-0.15566946820461713},{"$f":"IF(AND(AM17>'goal seek'!$E$23,AM18>0),AM18/AM17-1,#N/A)","v":-0.10491396526052787},-0.10526720459320149,{"$f":"IF(AO18>0,SPM!H35,#N/A)","v":-0.1048173360102905},{"$f":"IF(ISERROR(SPM!L35/100),#N/A,SPM!L35)","v":-0.1048173360102905},{"$f":"SPM!P35","v":-8.5603471123976066E-2},{"$f":"SPM!T35","v":-0.1320298973208727}]
[null,null,null,null,null,null,null,null,null,null,null,null,null,null,null,null,null,null,null,null,null,null,null,null,null,null,null,null,null,null,null,null,null,2035,{"$f":"RM!E30","v":775.81355192060539},{"$f":"RM!K30","v":810.2739098046826},{"$f":"RM!Q30","v":784.65220626424355},{"$f":"RM!W30","v":762.55072054782954},{"$f":"RM!AC30","v":778.41497918010805},{"$f":"RM!AI30","v":937.96946978905476},{"$f":"SPM!E36","v":742.28314370926364},{"$f":"IF(ISERROR(SPM!I36),#N/A,SPM!I36)","v":742.28314370926364},{"$f":"SPM!M36","v":946.25127418775628},{"$f":"SPM!Q36","v":514.47682234478452},null,{"$f":"AI19/SPM!$C36","v":1.7685872662742201},{"$f":"AJ19/SPM!$C36","v":1.8471449944734155},{"$f":"AK19/SPM!$C36","v":1.7887363491105013},{"$f":"AL19/SPM!$C36","v":1.7383525860181654},{"$f":"AM19/SPM!$C36","v":1.7745176230125177},{"$f":"AN19/SPM!$C36","v":2.1382468201492171},{"$f":"SPM!F36","v":1.6921495025244779},{"$f":"IF(ISERROR(SPM!J36),#N/A,SPM!J36)","v":1.6921495025244779},{"$f":"SPM!N36","v":2.1571264772073557},{"$f":"SPM!R36","v":1.1728296760731585},null,2035,{"$f":"IF(AI18>'goal seek'!$E$24,AI19/AI18-1,#N/A)","v":-7.9875215888894791E-2},{"$f":"IF(AND(AJ18>'goal seek'!$E$23,AJ19>0),AJ19/AJ18-1,#N/A)","v":-0.15310976298941059},{"$f":"IF(AND(AK18>'goal seek'!$E$23,AK19>0),AK19/AK18-1,#N/A)","v":-0.12747237610748374},{"$f":"IF(AND(AL18>'goal seek'!$E$23,AL19>0),AL19/AL18-1,#N/A)","v":-0.17426342013285123},{"$f":"IF(AND(AM18>'goal seek'!$E$23,AM19>0),AM19/AM18-1,#N/A)","v":-0.10763899448387459},-0.11765211371886819,{"$f":"IF(AO19>0,SPM!H36,#N/A)","v":-0.10648229352744805},{"$f":"IF(ISERROR(SPM!L36/100),#N/A,SPM!L36)","v":-0.10648229352744805},{"$f":"SPM!P36","v":-8.6989648329756378E-2},{"$f":"SPM!T36","v":-0.13397153928067371}]
[null,null,null,null,null,null,null,null,null,null,null,null,null,null,null,null,null,null,null,null,null,null,null,null,null,null,null,null,null,null,null,null,null,2036,{"$f":"RM!E31","v":713.84527697141675},{"$f":"RM!K31","v":671.97242330844551},{"$f":"RM!Q31","v":679.53193078292395},{"$f":"RM!W31","v":614.50934207550131},{"$f":"RM!AC31","v":692.57793834418362},{"$f":"RM!AI31","v":812.90078379767965},{"$f":"SPM!E37","v":662.10945293951136},{"$f":"IF(ISERROR(SPM!I37),#N/A,SPM!I37)","v":662.10945293951136},{"$f":"SPM!M37","v":862.72384919663637},{"$f":"SPM!Q37","v":444.642865841613},null,{"$f":"AI20/SPM!$C37","v":1.6301470517495764},{"$f":"AJ20/SPM!$C37","v":1.5345256178771951},{"$f":"AK20/SPM!$C37","v":1.5517886148034792},{"$f":"AL20/SPM!$C37","v":1.403302122424859},{"$f":"AM20/SPM!$C37","v":1.5815806600115356},{"$f":"AN20/SPM!$C37","v":1.8563515916149542},{"$f":"SPM!F37","v":1.5120024008901403},{"$f":"IF(ISERROR(SPM!J37),#N/A,SPM!J37)","v":1.5120024008901403},{"$f":"SPM!N37","v":1.9701282401259841},{"$f":"SPM!R37","v":1.0153926631109602},null,2036,{"$f":"IF(AI19>'goal seek'!$E$24,AI20/AI19-1,#N/A)","v":-7.9875215888894791E-2},{"$f":"IF(AND(AJ19>'goal seek'!$E$23,AJ20>0),AJ20/AJ19-1,#N/A)","v":-0.17068485708687675},{"$f":"IF(AND(AK19>'goal seek'!$E$23,AK20>0),AK20/AK19-1,#N/A)","v":-0.13397053451464935},{"$f":"IF(AND(AL19>'goal seek'!$E$23,AL20>0),AL20/AL19-1,#N/A)","v":-0.19413971357337745},{"$f":"IF(AND(AM19>'goal seek'!$E$23,AM20>0),AM20/AM19-1,#N/A)","v":-0.11027156867707655},-0.13333982610276485,{"$f":"IF(AO20>0,SPM!H37,#N/A)","v":-0.10800958023796185},{"$f":"IF(ISERROR(SPM!L37/100),#N/A,SPM!L37)","v":-0.10800958023796185},{"$f":"SPM!P37","v":-8.8271928682810211E-2},{"$f":"SPM!T37","v":-0.13573780872167499}]
[null,null,null,null,null,null,null,null,null,null,null,null,null,null,null,null,null,null,null,null,null,null,null,null,null,null,null,null,null,null,null,null,null,2037,{"$f":"RM!E32","v":656.82673136205699},{"$f":"RM!K32","v":544.1112892303131},{"$f":"RM!Q32","v":584.07896866720944},{"$f":"RM!W32","v":482.20649557272685},{"$f":"RM!AC32","v":614.44094574372764},{"$f":"RM!AI32","v":687.83209780630455},{"$f":"SPM!E38","v":589.6643540875657},{"$f":"IF(ISERROR(SPM!I38),#N/A,SPM!I38)","v":589.6643540875657},{"$f":"SPM!M38","v":785.54321816383072},{"$f":"SPM!Q38","v":383.57052841236282},null,{"$f":"AI21/SPM!$C38","v":1.5026803687710708},{"$f":"AJ21/SPM!$C38","v":1.2448113234636564},{"$f":"AK21/SPM!$C38","v":1.3362489041945991},{"$f":"AL21/SPM!$C38","v":1.1031862742376948},{"$f":"AM21/SPM!$C38","v":1.4057106735342091},{"$f":"AN21/SPM!$C38","v":1.5736140766390625},{"$f":"SPM!F38","v":1.3490270823996562},{"$f":"IF(ISERROR(SPM!J38),#N/A,SPM!J38)","v":1.3490270823996562},{"$f":"SPM!N38","v":1.7971564133941524},{"$f":"SPM!R38","v":0.87752808398823934},null,2037,{"$f":"IF(AI20>'goal seek'!$E$24,AI21/AI20-1,#N/A)","v":-7.9875215888894679E-2},{"$f":"IF(AND(AJ20>'goal seek'!$E$23,AJ21>0),AJ21/AJ20-1,#N/A)","v":-0.19027735312203764},{"$f":"IF(AND(AK20>'goal seek'!$E$23,AK21>0),AK21/AK20-1,#N/A)","v":-0.14046869292181485},{"$f":"IF(AND(AL20>'goal seek'!$E$23,AL21>0),AL21/AL20-1,#N/A)","v":-0.21529834852619567},{"$f":"IF(AND(AM20>'goal seek'!$E$23,AM21>0),AM21/AM20-1,#N/A)","v":-0.1128205047756301},-0.15385479813057124,{"$f":"IF(AO21>0,SPM!H38,#N/A)","v":-0.10941559364591047},{"$f":"IF(ISERROR(SPM!L38/100),#N/A,SPM!L38)","v":-0.10941559364591047},{"$f":"SPM!P38","v":-8.9461571167501419E-2},{"$f":"SPM!T38","v":-0.13735143892088189}]
[null,null,null,null,null,null,null,null,null,null,null,null,null,null,null,null,null,null,null,null,null,null,null,null,null,null,null,null,null,null,null,null,null,2038,{"$f":"RM!E33","v":604.36255439291563},{"$f":"RM!K33","v":428.69504258905403},{"$f":"RM!Q33","v":498.2387217147114},{"$f":"RM!W33","v":367.56704880884365},{"$f":"RM!AC33","v":543.60002051798892},{"$f":"RM!AI33","v":562.76341181492944},{"$f":"SPM!E39","v":524.38012115562697},{"$f":"IF(ISERROR(SPM!I39),#N/A,SPM!I39)","v":524.38012115562697},{"$f":"SPM!M39","v":714.39793206273953},{"$f":"SPM!Q39","v":330.31889620972152},null,{"$f":"AI22/SPM!$C39","v":1.3853127478223182},{"$f":"AJ22/SPM!$C39","v":0.98264974080566492},{"$f":"AK22/SPM!$C39","v":1.1420569451782316},{"$f":"AL22/SPM!$C39","v":0.84253287152412659},{"$f":"AM22/SPM!$C39","v":1.2460335814426677},{"$f":"AN22/SPM!$C39","v":1.2899596818640047},{"$f":"SPM!F39","v":1.2019779538975635},{"$f":"IF(ISERROR(SPM!J39),#N/A,SPM!J39)","v":1.2019779538975635},{"$f":"SPM!N39","v":1.6375345479478574},{"$f":"SPM!R39","v":0.75715309368493255},null,2038,{"$f":"IF(AI21>'goal seek'!$E$24,AI22/AI21-1,#N/A)","v":-7.9875215888894679E-2},{"$f":"IF(AND(AJ21>'goal seek'!$E$23,AJ22>0),AJ22/AJ21-1,#N/A)","v":-0.21211882371439883},{"$f":"IF(AND(AK21>'goal seek'!$E$23,AK22>0),AK22/AK21-1,#N/A)","v":-0.14696685132898046},{"$f":"IF(AND(AL21>'goal seek'!$E$23,AL22>0),AL22/AL21-1,#N/A)","v":-0.2377393249913059},{"$f":"IF(AND(AM21>'goal seek'!$E$23,AM22>0),AM22/AM21-1,#N/A)","v":-0.11529330152304862},-0.18183025536356223,{"$f":"IF(AO22>0,SPM!H39,#N/A)","v":-0.11071422662636304},{"$f":"IF(ISERROR(SPM!L39/100),#N/A,SPM!L39)","v":-0.11071422662636304},{"$f":"SPM!P39","v":-9.0568264681082547E-2},{"$f":"SPM!T39","v":-0.13883139672658165}]
[null,null,null,null,null,null,null,null,null,null,null,null,null,null,null,null,null,null,null,null,null,null,null,null,null,null,null,null,null,null,null,null,null,2039,{"$f":"RM!E34","v":556.08896488561754},{"$f":"RM!K34","v":327.32263055667761},{"$f":"RM!Q34","v":421.77651143583824},{"$f":"RM!W34","v":271.46199675907525},{"$f":"RM!AC34","v":479.62025510911059},{"$f":"RM!AI34","v":437.69472582355434},{"$f":"SPM!E40","v":465.69289911520764},{"$f":"IF(ISERROR(SPM!I40),#N/A,SPM!I40)","v":465.69289911520764},{"$f":"SPM!M40","v":648.95880108238998},{"$f":"SPM!Q40","v":284.0102905778258},null,{"$f":"AI23/SPM!$C40","v":1.2772407687661416},{"$f":"AJ23/SPM!$C40","v":0.75180382040625426},{"$f":"AK23/SPM!$C40","v":0.96874814954225741},{"$f":"AL23/SPM!$C40","v":0.62350154620074283},{"$f":"AM23/SPM!$C40","v":1.1016052862645416},{"$f":"AN23/SPM!$C40","v":1.005309551882138},{"$f":"SPM!F40","v":1.0696165434557516},{"$f":"IF(ISERROR(SPM!J40),#N/A,SPM!J40)","v":1.0696165434557516},{"$f":"SPM!N40","v":1.4905468195408584},{"$f":"SPM!R40","v":0.65232282023386634},null,2039,{"$f":"IF(AI22>'goal seek'!$E$24,AI23/AI22-1,#N/A)","v":-7.9875215888894791E-2},{"$f":"IF(AND(AJ22>'goal seek'!$E$23,AJ23>0),AJ23/AJ22-1,#N/A)","v":-0.23646742313638502},{"$f":"IF(AND(AK22>'goal seek'!$E$23,AK23>0),AK23/AK22-1,#N/A)","v":-0.15346500973614607},{"$f":"IF(AND(AL22>'goal seek'!$E$23,AL23>0),AL23/AL22-1,#N/A)","v":-0.26146264296870814},{"$f":"IF(AND(AM22>'goal seek'!$E$23,AM23>0),AM23/AM22-1,#N/A)","v":-0.11769639991535119},-0.22224025827838512,{"$f":"IF(AO23>0,SPM!H40,#N/A)","v":-0.11191732804646493},{"$f":"IF(ISERROR(SPM!L40/100),#N/A,SPM!L40)","v":-0.11191732804646493},{"$f":"SPM!P40","v":-9.1600392503099495E-2},{"$f":"SPM!T40","v":-0.14019363155807502}]
[null,null,null,null,null,null,null,null,null,null,null,null,null,null,null,null,null,null,null,null,null,null,null,null,null,null,null,null,null,null,null,null,{"$f":"AH24","v":2040},2040,{"$f":"RM!E35","v":511.67123876194682},{"$f":"RM!K35","v":241.03680470499015},{"$f":"RM!Q35","v":354.30780441812783},{"$f":"RM!W35","v":193.69673936553465},{"$f":"RM!AC35","v":422.04885505254487},{"$f":"RM!AI35","v":312.62603983217923},{"$f":"SPM!E41","v":413.05327183592044},{"$f":"IF(ISERROR(SPM!I41),#N/A,SPM!I41)","v":413.05327183592044},{"$f":"SPM!M41","v":588.88777063314592},{"$f":"SPM!Q41","v":243.83656564712169},null,{"$f":"AI24/SPM!$C41","v":1.177723568262051},{"$f":"AJ24/SPM!$C41","v":0.55479906669469037},{"$f":"AK24/SPM!$C41","v":0.81551711347322153},{"$f":"AL24/SPM!$C41","v":0.44583552438528706},{"$f":"AM24/SPM!$C41","v":0.97143799748465098},{"$f":"AN24/SPM!$C41","v":0.71957739124376685},{"$f":"SPM!F41","v":0.95073268993186488},{"$f":"IF(ISERROR(SPM!J41),#N/A,SPM!J41)","v":0.95073268993186488},{"$f":"SPM!N41","v":1.3554543503638732},{"$f":"SPM!R41","v":0.56124333050562136},null,2040,{"$f":"IF(AI23>'goal seek'!$E$24,AI24/AI23-1,#N/A)","v":-7.9875215888894791E-2},{"$f":"IF(AND(AJ23>'goal seek'!$E$23,AJ24>0),AJ24/AJ23-1,#N/A)","v":-0.26361093855606976},{"$f":"IF(AND(AK23>'goal seek'!$E$23,AK24>0),AK24/AK23-1,#N/A)","v":-0.15996316814331168},{"$f":"IF(AND(AL23>'goal seek'!$E$23,AL24>0),AL24/AL23-1,#N/A)","v":-0.28646830245840227},{"$f":"IF(AND(AM23>'goal seek'!$E$23,AM24>0),AM24/AM23-1,#N/A)","v":-0.12003538099838718},-0.28574410111076687,{"$f":"IF(AO24>0,SPM!H41,#N/A)","v":-0.11303506533876673},{"$f":"IF(ISERROR(SPM!L41/100),#N/A,SPM!L41)","v":-0.11303506533876673},{"$f":"SPM!P41","v":-9.2565245049535297E-2},{"$f":"SPM!T41","v":-0.14145165250515992}]
[null,null,null,null,null,null,null,null,null,null,null,null,null,null,null,null,null,null,null,null,null,null,null,null,null,null,null,null,null,null,null,null,null,2041,{"$f":"RM!E36","v":470.80138810169808},{"$f":"RM!K36","v":170.20327274186334},{"$f":"RM!Q36","v":295.32925728749922},{"$f":"RM!W36","v":133.11686316923971},{"$f":"RM!AC36","v":370.42589933110679},{"$f":"RM!AI36","v":187.5573538408041},{"$f":"SPM!E42","v":365.93371900716511},{"$f":"IF(ISERROR(SPM!I42),#N/A,SPM!I42)","v":365.93371900716511},{"$f":"SPM!M42","v":533.84490633472433},{"$f":"SPM!Q42","v":209.06133156298097},null,{"$f":"AI25/SPM!$C42","v":1.08607569525658},{"$f":"AJ25/SPM!$C42","v":0.39263613585211904},{"$f":"AK25/SPM!$C42","v":0.68128501007912223},{"$f":"AL25/SPM!$C42","v":0.30708276009941865},{"$f":"AM25/SPM!$C42","v":0.8545228971801001},{"$f":"AN25/SPM!$C42","v":0.43266967477405571},{"$f":"SPM!F42","v":0.84416003931297534},{"$f":"IF(ISERROR(SPM!J42),#N/A,SPM!J42)","v":0.84416003931297534},{"$f":"SPM!N42","v":1.2315086413496885},{"$f":"SPM!R42","v":0.48227646894593346},null,2041,{"$f":"IF(AI24>'goal seek'!$E$24,AI25/AI24-1,#N/A)","v":-7.9875215888894791E-2},{"$f":"IF(AND(AJ24>'goal seek'!$E$23,AJ25>0),AJ25/AJ24-1,#N/A)","v":-0.29387019152457405},{"$f":"IF(AND(AK24>'goal seek'!$E$23,AK25>0),AK25/AK24-1,#N/A)","v":-0.1664613265504773},{"$f":"IF(AND(AL24>'goal seek'!$E$23,AL25>0),AL25/AL24-1,#N/A)","v":-0.31275630346038852},{"$f":"IF(AND(AM24>'goal seek'!$E$23,AM25>0),AM25/AM24-1,#N/A)","v":-0.1223151185068635},-0.40005844061650542,{"$f":"IF(AO25>0,SPM!H42,#N/A)","v":-0.11407621254110997},{"$f":"IF(ISERROR(SPM!L42/100),#N/A,SPM!L42)","v":-0.11407621254110997},{"$f":"SPM!P42","v":-9.3469192337348003E-2},{"$f":"SPM!T42","v":-0.14261697785912536}]
[null,null,null,null,null,null,null,null,null,null,null,null,null,null,null,null,null,null,null,null,null,null,null,null,null,null,null,null,null,null,null,null,null,2042,{"$f":"RM!E37","v":433.19602558628361},{"$f":"RM!K37","v":114.44419893136879},{"$f":"RM!Q37","v":244.24926105413019},{"$f":"RM!W37","v":87.8136476041837},{"$f":"RM!AC37","v":324.29309548549583},{"$f":"RM!AI37","v":62.488667849428964},{"$f":"SPM!E43","v":323.83363705038255},{"$f":"IF(ISERROR(SPM!I43),#N/A,SPM!I43)","v":323.83363705038255},{"$f":"SPM!M43","v":483.4938159948706},{"$f":"SPM!Q43","v":179.01932508839332},null,{"$f":"AI26/SPM!$C43","v":1.001666973623722},{"$f":"AJ26/SPM!$C43","v":0.26462609909042784},{"$f":"AK26/SPM!$C43","v":0.56477068966365807},{"$f":"AL26/SPM!$C43","v":0.2030490250216363},{"$f":"AM26/SPM!$C43","v":0.74985379443959199},{"$f":"AN26/SPM!$C43","v":0.14449078734229592},{"$f":"SPM!F43","v":0.74879140163581925},{"$f":"IF(ISERROR(SPM!J43),#N/A,SPM!J43)","v":0.74879140163581925},{"$f":"SPM!N43","v":1.1179691382854213},{"$f":"SPM!R43","v":0.4139413452345625},null,2042,{"$f":"IF(AI25>'goal seek'!$E$24,AI26/AI25-1,#N/A)","v":-7.9875215888894791E-2},{"$f":"IF(AND(AJ25>'goal seek'!$E$23,AJ26>0),AJ26/AJ25-1,#N/A)","v":-0.32760282991185985},{"$f":"IF(AND(AK25>'goal seek'!$E$23,AK26>0),AK26/AK25-1,#N/A)","v":-0.1729594849576428},{"$f":"IF(AND(AL25>'goal seek'!$E$23,AL26>0),AL26/AL25-1,#N/A)","v":-0.34032664597466677},{"$f":"IF(AND(AM25>'goal seek'!$E$23,AM26>0),AM26/AM25-1,#N/A)","v":-0.12453989834111179},-0.66682901752565549,{"$f":"IF(AO26>0,SPM!H43,#N/A)","v":-0.11504838108662577},{"$f":"IF(ISERROR(SPM!L43/100),#N/A,SPM!L43)","v":-0.11504838108662577},{"$f":"SPM!P43","v":-9.4317824788391361E-2},{"$f":"SPM!T43","v":-0.14369948880545286}]
[null,{"$f":"CONCATENATE(\"Reference values for the country: \",B2)","v":"Reference values for the country: EU27"},null,null,null,null,null,null,null,null,null,null,null,null,null,null,null,null,null,null,null,null,null,null,null,null,null,null,null,null,null,null,null,{"$f":"AH26+1","v":2043},{"$f":"RM!E38","v":398.59439952036803},{"$f":"RM!K38","v":72.648312843174935},{"$f":"RM!Q38","v":200.41686427176012},{"$f":"RM!W38","v":42.510432039127693},{"$f":"RM!AC38","v":283.20077802274329},{"$f":"RM!AI38","v":0},{"$f":"SPM!E44","v":286.28246939302971},{"$f":"IF(ISERROR(SPM!I44),#N/A,SPM!I44)","v":286.28246939302971},{"$f":"SPM!M44","v":437.50578485473579},{"$f":"SPM!Q44","v":153.11384845579164},null,{"$f":"AI27/SPM!$C44","v":0.92392070746462085},{"$f":"AJ27/SPM!$C44","v":0.16839494152187007},{"$f":"AK27/SPM!$C44","v":0.46455567676972193},{"$f":"AL27/SPM!$C44","v":9.8536930000720044E-2},{"$f":"AM27/SPM!$C44","v":0.6564444043874067},{"$f":"AN27/SPM!$C44","v":0},{"$f":"SPM!F44","v":0.66358760176912801},{"$f":"IF(ISERROR(SPM!J44),#N/A,SPM!J44)","v":0.66358760176912801},{"$f":"SPM!N44","v":1.0141152378188298},{"$f":"SPM!R44","v":0.35490979140231732},null,2043,{"$f":"IF(AI26>'goal seek'!$E$24,AI27/AI26-1,#N/A)","v":-7.9875215888894791E-2},{"$f":"IF(AND(AJ26>'goal seek'!$E$23,AJ27>0),AJ27/AJ26-1,#N/A)","v":-0.36520755510952974},{"$f":"IF(AND(AK26>'goal seek'!$E$23,AK27>0),AK27/AK26-1,#N/A)","v":-0.17945764336480829},{"$f":"IF(AND(AL26>'goal seek'!$E$23,AL27>0),AL27/AL26-1,#N/A)","v":{"$error":"#N/A"}},{"$f":"IF(AND(AM26>'goal seek'!$E$23,AM27>0),AM27/AM26-1,#N/A)","v":-0.1267135132841285},{"$error":"#N/A"},{"$f":"IF(AO27>0,SPM!H44,#N/A)","v":-0.11595820619310947},{"$f":"IF(ISERROR(SPM!L44/100),#N/A,SPM!L44)","v":-0.11595820619310947},{"$f":"SPM!P44","v":-9.5116068952209087E-2},{"$f":"SPM!T44","v":-0.14470771029781551}]
[null,null,null,null,null,null,null,null,null,null,null,null,null,null,null,null,null,null,null,null,null,null,null,null,null,null,null,null,null,null,null,null,null,2044,{"$f":"RM!E39","v":366.75658580657426},{"$f":"RM!K39","v":30.852426754981082},{"$f":"RM!Q39","v":163.14818558748007},{"$f":"RM!W39","v":0},{"$f":"RM!AC39","v":246.71337699059455},{"$f":"RM!AI39","v":0},{"$f":"SPM!E45","v":252.84138514664869},{"$f":"IF(ISERROR(SPM!I45),#N/A,SPM!I45)","v":252.84138514664869},{"$f":"SPM!M45","v":395.56285636635539},{"$f":"SPM!Q45","v":130.81296402628004},null,{"$f":"AI28/SPM!$C45","v":0.85230655856600468},{"$f":"AJ28/SPM!$C45","v":7.1698032669591641E-2},{"$f":"AK28/SPM!$C45","v":0.37914048165910375},{"$f":"AL28/SPM!$C45","v":0},{"$f":"AM28/SPM!$C45","v":0.57333784158943302},{"$f":"AN28/SPM!$C45","v":0},{"$f":"SPM!F45","v":0.58757873526245208},{"$f":"IF(ISERROR(SPM!J45),#N/A,SPM!J45)","v":0.58757873526245208},{"$f":"SPM!N45","v":0.91924952367168589},{"$f":"SPM!R45","v":0.30399657838416588},null,2044,{"$f":"IF(AI27>'goal seek'!$E$24,AI28/AI27-1,#N/A)","v":-7.9875215888894791E-2},{"$f":"IF(AND(AJ27>'goal seek'!$E$23,AJ28>0),AJ28/AJ27-1,#N/A)","v":{"$error":"#N/A"}},{"$f":"IF(AND(AK27>'goal seek'!$E$23,AK28>0),AK28/AK27-1,#N/A)","v":-0.18595580177197402},{"$f":"IF(AND(AL27>'goal seek'!$E$23,AL28>0),AL28/AL27-1,#N/A)","v":{"$error":"#N/A"}},{"$f":"IF(AND(AM27>'goal seek'!$E$23,AM28>0),AM28/AM27-1,#N/A)","v":-0.12883933895555366},{"$error":"#N/A"},{"$f":"IF(AO28>0,SPM!H45,#N/A)","v":-0.11681149850803695},{"$f":"IF(ISERROR(SPM!L45/100),#N/A,SPM!L45)","v":-0.11681149850803695},{"$f":"SPM!P45","v":-9.5868283209801744E-2},{"$f":"SPM!T45","v":-0.14564903602400472}]
[null,null,null,null,null,null,null,null,null,null,null,null,null,null,null,null,null,null,null,null,null,null,null,null,null,null,null,null,null,null,null,null,null,2045,{"$f":"RM!E40","v":337.46182433660016},{"$f":"RM!K40","v":0},{"$f":"RM!Q40","v":131.74967117512833},{"$f":"RM!W40","v":0},{"$f":"RM!AC40","v":214.41356413565197},{"$f":"RM!AI40","v":0},{"$f":"SPM!E46","v":223.10385818441205},{"$f":"IF(ISERROR(SPM!I46),#N/A,SPM!I46)","v":223.10385818441205},{"$f":"SPM!M46","v":357.36005336707967},{"$f":"SPM!Q46","v":111.6449521767629},null,{"$f":"AI29/SPM!$C46","v":0.78633546475617588},{"$f":"AJ29/SPM!$C46","v":0},{"$f":"AK29/SPM!$C46","v":0.30699602575381374},{"$f":"AL29/SPM!$C46","v":0},{"$f":"AM29/SPM!$C46","v":0.49961500070735559},{"$f":"AN29/SPM!$C46","v":0},{"$f":"SPM!F46","v":0.51986465834828499},{"$f":"IF(ISERROR(SPM!J46),#N/A,SPM!J46)","v":0.51986465834828499},{"$f":"SPM!N46","v":0.8327012520663879},{"$f":"SPM!R46","v":0.2601490865823971},null,2045,{"$f":"IF(AI28>'goal seek'!$E$24,AI29/AI28-1,#N/A)","v":-7.9875215888894791E-2},{"$f":"IF(AND(AJ28>'goal seek'!$E$23,AJ29>0),AJ29/AJ28-1,#N/A)","v":{"$error":"#N/A"}},{"$f":"IF(AND(AK28>'goal seek'!$E$23,AK29>0),AK29/AK28-1,#N/A)","v":-0.19245396017913952},{"$f":"IF(AND(AL28>'goal seek'!$E$23,AL29>0),AL29/AL28-1,#N/A)","v":{"$error":"#N/A"}},{"$f":"IF(AND(AM28>'goal seek'!$E$23,AM29>0),AM29/AM28-1,#N/A)","v":-0.13092039535486544},{"$error":"#N/A"},{"$f":"IF(AO29>0,SPM!H46,#N/A)","v":-0.1176133683375797},{"$f":"IF(ISERROR(SPM!L46/100),#N/A,SPM!L46)","v":-0.1176133683375797},{"$f":"SPM!P46","v":-9.6578337385383128E-2},{"$f":"SPM!T46","v":-0.14652991002991364}]
[null,null,null,null,null,null,null,null,null,null,null,null,null,null,null,null,null,null,null,null,null,null,null,null,null,null,null,null,null,null,null,null,null,2046,{"$f":"RM!E41","v":310.50698826345393},{"$f":"RM!K41","v":0},{"$f":"RM!Q41","v":105.53779497178749},{"$f":"RM!W41","v":0},{"$f":"RM!AC41","v":185.90526589645714},{"$f":"RM!AI41","v":0},{"$f":"SPM!E47","v":196.69542750448136},{"$f":"IF(ISERROR(SPM!I47),#N/A,SPM!I47)","v":196.69542750448136},{"$f":"SPM!M47","v":322.60690276937476},{"$f":"SPM!Q47","v":95.193401457356799},null,{"$f":"AI30/SPM!$C47","v":0.72555595604488377},{"$f":"AJ30/SPM!$C47","v":0},{"$f":"AK30/SPM!$C47","v":0.2466082201816801},{"$f":"AL30/SPM!$C47","v":0},{"$f":"AM30/SPM!$C47","v":0.43440140811529027},{"$f":"AN30/SPM!$C47","v":0},{"$f":"SPM!F47","v":0.45961457985474979},{"$f":"IF(ISERROR(SPM!J47),#N/A,SPM!J47)","v":0.45961457985474979},{"$f":"SPM!N47","v":0.75382960323879478},{"$f":"SPM!R47","v":0.22243666652988542},null,2046,{"$f":"IF(AI29>'goal seek'!$E$24,AI30/AI29-1,#N/A)","v":-7.9875215888894791E-2},{"$f":"IF(AND(AJ29>'goal seek'!$E$23,AJ30>0),AJ30/AJ29-1,#N/A)","v":{"$error":"#N/A"}},{"$f":"IF(AND(AK29>'goal seek'!$E$23,AK30>0),AK30/AK29-1,#N/A)","v":-0.19895211858630513},{"$f":"IF(AND(AL29>'goal seek'!$E$23,AL30>0),AL30/AL29-1,#N/A)","v":{"$error":"#N/A"}},{"$f":"IF(AND(AM29>'goal seek'!$E$23,AM30>0),AM30/AM29-1,#N/A)","v":-0.1329593972010028},{"$error":"#N/A"},{"$f":"IF(AO30>0,SPM!H47,#N/A)","v":-0.11836832807302751},{"$f":"IF(ISERROR(SPM!L47/100),#N/A,SPM!L47)","v":-0.11836832807302751},{"$f":"SPM!P47","v":-9.724967933672915E-2},{"$f":"SPM!T47","v":-0.14735597444082407}]
[null,null,null,null,null,null,null,null,null,null,null,null,null,null,null,null,null,null,null,null,null,null,null,null,null,null,null,null,null,null,null,null,null,2047,{"$f":"RM!E42","v":285.70517554090003},{"$f":"RM!K42","v":0},{"$f":"RM!Q42","v":83.855025761553634},{"$f":"RM!W42","v":0},{"$f":"RM!AC42","v":160.81571514052237},{"$f":"RM!AI42","v":0},{"$f":"SPM!E48","v":173.27286181316913},{"$f":"IF(ISERROR(SPM!I48),#N/A,SPM!I48)","v":173.27286181316913},{"$f":"SPM!M48","v":291.02839997084084},{"$f":"SPM!Q48","v":81.092194384051993},null,{"$f":"AI31/SPM!$C48","v":0.66955184824283487},{"$f":"AJ31/SPM!$C48","v":0},{"$f":"AK31/SPM!$C48","v":0.19651477218361174},{"$f":"AL31/SPM!$C48","v":0},{"$f":"AM31/SPM!$C48","v":0.37687262435823776},{"$f":"AN31/SPM!$C48","v":0},{"$f":"SPM!F48","v":0.4060660247322842},{"$f":"IF(ISERROR(SPM!J48),#N/A,SPM!J48)","v":0.4060660247322842},{"$f":"SPM!N48","v":0.68202685766095461},{"$f":"SPM!R48","v":0.19004005974031296},null,2047,{"$f":"IF(AI30>'goal seek'!$E$24,AI31/AI30-1,#N/A)","v":-7.9875215888894791E-2},{"$f":"IF(AND(AJ30>'goal seek'!$E$23,AJ31>0),AJ31/AJ30-1,#N/A)","v":{"$error":"#N/A"}},{"$f":"IF(AND(AK30>'goal seek'!$E$23,AK31>0),AK31/AK30-1,#N/A)","v":-0.20545027699347063},{"$f":"IF(AND(AL30>'goal seek'!$E$23,AL31>0),AL31/AL30-1,#N/A)","v":{"$error":"#N/A"}},{"$f":"IF(AND(AM30>'goal seek'!$E$23,AM31>0),AM31/AM30-1,#N/A)","v":-0.13495879546472223},{"$error":"#N/A"},{"$f":"IF(AO31>0,SPM!H48,#N/A)","v":-0.11908037715202398},{"$f":"IF(ISERROR(SPM!L48/100),#N/A,SPM!L48)","v":-0.11908037715202398},{"$f":"SPM!P48","v":-9.7885390943134157E-2},{"$f":"SPM!T48","v":-0.14813219043991865}]
[null,null,null,null,null,null,null,null,null,null,null,null,null,null,null,null,null,null,null,null,null,null,null,null,null,null,null,null,null,null,null,null,null,2048,{"$f":"RM!E43","v":262.88441296399606},{"$f":"RM!K43","v":0},{"$f":"RM!Q43","v":62.172256551319776},{"$f":"RM!W43","v":0},{"$f":"RM!AC43","v":138.79669685610364},{"$f":"RM!AI43","v":0},{"$f":"SPM!E49","v":152.5229041551454},{"$f":"IF(ISERROR(SPM!I49),#N/A,SPM!I49)","v":152.5229041551454},{"$f":"SPM!M49","v":262.36552640371201},{"$f":"SPM!Q49","v":69.020572080199088},null,{"$f":"AI32/SPM!$C49","v":0.61794062746152778},{"$f":"AJ32/SPM!$C49","v":0},{"$f":"AK32/SPM!$C49","v":0.14614317673251839},{"$f":"AL32/SPM!$C49","v":0},{"$f":"AM32/SPM!$C49","v":0.32625790543387867},{"$f":"AN32/SPM!$C49","v":0},{"$f":"SPM!F49","v":0.3585229646490804},{"$f":"IF(ISERROR(SPM!J49),#N/A,SPM!J49)","v":0.3585229646490804},{"$f":"SPM!N49","v":0.61672092377872634},{"$f":"SPM!R49","v":0.16224094512911705},null,2048,{"$f":"IF(AI31>'goal seek'!$E$24,AI32/AI31-1,#N/A)","v":-7.9875215888894791E-2},{"$f":"IF(AND(AJ31>'goal seek'!$E$23,AJ32>0),AJ32/AJ31-1,#N/A)","v":{"$error":"#N/A"}},{"$f":"IF(AND(AK31>'goal seek'!$E$23,AK32>0),AK32/AK31-1,#N/A)","v":{"$error":"#N/A"}},{"$f":"IF(AND(AL31>'goal seek'!$E$23,AL32>0),AL32/AL31-1,#N/A)","v":{"$error":"#N/A"}},{"$f":"IF(AND(AM31>'goal seek'!$E$23,AM32>0),AM32/AM31-1,#N/A)","v":-0.13692081190683569},{"$error":"#N/A"},{"$f":"IF(AO32>0,SPM!H49,#N/A)","v":-0.11975307293300957},{"$f":"IF(ISERROR(SPM!L49/100),#N/A,SPM!L49)","v":-0.11975307293300957},{"$f":"SPM!P49","v":-9.8488235409330022E-2},{"$f":"SPM!T49","v":-0.14886293798737024}]
[null,null,null,null,null,null,null,null,null,null,null,null,null,null,null,null,null,null,null,null,null,null,null,null,null,null,null,null,null,null,null,null,null,2049,{"$f":"RM!E44","v":241.8864637246715},{"$f":"RM!K44","v":0},{"$f":"RM!Q44","v":40.489487341085919},{"$f":"RM!W44","v":0},{"$f":"RM!AC44","v":119.52512692945632},{"$f":"RM!AI44","v":0},{"$f":"SPM!E50","v":134.1607342378112},{"$f":"IF(ISERROR(SPM!I50),#N/A,SPM!I50)","v":134.1607342378112},{"$f":"SPM!M50","v":236.37541437991422},{"$f":"SPM!Q50","v":58.698400684957107},null,{"$f":"AI33/SPM!$C50","v":0.57037029933022776},{"$f":"AJ33/SPM!$C50","v":0},{"$f":"AK33/SPM!$C50","v":9.5474548922049263E-2},{"$f":"AL33/SPM!$C50","v":0},{"$f":"AM33/SPM!$C50","v":0.28184124640325631},{"$f":"AN33/SPM!$C50","v":0},{"$f":"SPM!F50","v":0.31635213052965322},{"$f":"IF(ISERROR(SPM!J50),#N/A,SPM!J50)","v":0.31635213052965322},{"$f":"SPM!N50","v":0.55737519900096422},{"$f":"SPM!R50","v":0.13841131848945962},null,2049,{"$f":"IF(AI32>'goal seek'!$E$24,AI33/AI32-1,#N/A)","v":-7.9875215888894791E-2},{"$f":"IF(AND(AJ32>'goal seek'!$E$23,AJ33>0),AJ33/AJ32-1,#N/A)","v":{"$error":"#N/A"}},{"$f":"IF(AND(AK32>'goal seek'!$E$23,AK33>0),AK33/AK32-1,#N/A)","v":{"$error":"#N/A"}},{"$f":"IF(AND(AL32>'goal seek'!$E$23,AL33>0),AL33/AL32-1,#N/A)","v":{"$error":"#N/A"}},{"$f":"IF(AND(AM32>'goal seek'!$E$23,AM33>0),AM33/AM32-1,#N/A)","v":-0.13884746801018588},{"$error":"#N/A"},{"$f":"IF(AO33>0,SPM!H50,#N/A)","v":-0.12038959013432048},{"$f":"IF(ISERROR(SPM!L50/100),#N/A,SPM!L50)","v":-0.12038959013432048},{"$f":"SPM!P50","v":-9.9060697417258231E-2},{"$f":"SPM!T50","v":-0.14955209851416529}]
[null,null,null,null,null,null,null,null,null,null,null,null,null,null,null,null,null,null,null,null,null,null,null,null,null,null,null,null,null,null,null,null,{"$f":"AH34","v":2050},2050,{"$f":"RM!E45","v":222.56573021406206},{"$f":"RM!K45","v":0},{"$f":"RM!Q45","v":18.806718130852062},{"$f":"RM!W45","v":0},{"$f":"RM!AC45","v":102.70308772929815},{"$f":"RM!AI45","v":0},{"$f":"SPM!E51","v":117.92825525178671},{"$f":"IF(ISERROR(SPM!I51),#N/A,SPM!I51)","v":117.92825525178671},{"$f":"SPM!M51","v":212.83123712797465},{"$f":"SPM!Q51","v":49.881717534839424},null,{"$f":"AI34/SPM!$C51","v":0.5265177014014254},{"$f":"AJ34/SPM!$C51","v":0},{"$f":"AK34/SPM!$C51","v":4.449054214966968E-2},{"$f":"AL34/SPM!$C51","v":0},{"$f":"AM34/SPM!$C51","v":0.24296190444975546},{"$f":"AN34/SPM!$C51","v":0},{"$f":"SPM!F51","v":0.2789796696271809},{"$f":"IF(ISERROR(SPM!J51),#N/A,SPM!J51)","v":0.2789796696271809},{"$f":"SPM!N51","v":0.50348907557001255},{"$f":"SPM!R51","v":0.11800382400802983},null,2050,{"$f":"IF(AI33>'goal seek'!$E$24,AI34/AI33-1,#N/A)","v":-7.9875215888894791E-2},{"$f":"IF(AND(AJ33>'goal seek'!$E$23,AJ34>0),AJ34/AJ33-1,#N/A)","v":{"$error":"#N/A"}},{"$f":"IF(AND(AK33>'goal seek'!$E$23,AK34>0),AK34/AK33-1,#N/A)","v":{"$error":"#N/A"}},{"$f":"IF(AND(AL33>'goal seek'!$E$23,AL34>0),AL34/AL33-1,#N/A)","v":{"$error":"#N/A"}},{"$f":"IF(AND(AM33>'goal seek'!$E$23,AM34>0),AM34/AM33-1,#N/A)","v":-0.14074060937903488},{"$error":"#N/A"},{"$f":"IF(AO34>0,SPM!H51,#N/A)","v":-0.12099277093438572},{"$f":"IF(ISERROR(SPM!L51/100),#N/A,SPM!L51)","v":-0.12099277093438572},{"$f":"SPM!P51","v":-9.9605017356408351E-2},{"$f":"SPM!T51","v":-0.15020312388812959}]
[null,null,null,null,null,null,null,null,null,null,null,null,null,null,null,null,null,null,null,null,null,null,null,null,null,null,null,null,null,null,null,null,null,2051,{"$f":"RM!E46","v":204.78824446374435},{"$f":"RM!K46","v":0},{"$f":"RM!Q46","v":0},{"$f":"RM!W46","v":0},{"$f":"RM!AC46","v":85.881048529139974},{"$f":"RM!AI46","v":0},{"$f":"SPM!E52","v":103.59228716078337},{"$f":"IF(ISERROR(SPM!I52),#N/A,SPM!I52)","v":103.59228716078337},{"$f":"SPM!M52","v":191.52188821673758},{"$f":"SPM!Q52","v":42.358602077119684},null,{"$f":"AI35/SPM!$C52","v":0.48608590366244608},{"$f":"AJ35/SPM!$C52","v":0},{"$f":"AK35/SPM!$C52","v":0},{"$f":"AL35/SPM!$C52","v":0},{"$f":"AM35/SPM!$C52","v":0.20384747762782846},{"$f":"AN35/SPM!$C52","v":0},{"$f":"SPM!F52","v":0.24588691918751121},{"$f":"IF(ISERROR(SPM!J52),#N/A,SPM!J52)","v":0.24588691918751121},{"$f":"SPM!N52","v":0.45459684636074205},{"$f":"SPM!R52","v":0.10054248681339675},null,2051,{"$f":"IF(AI34>'goal seek'!$E$24,AI35/AI34-1,#N/A)","v":-7.9875215888894791E-2},{"$f":"IF(AND(AJ34>'goal seek'!$E$23,AJ35>0),AJ35/AJ34-1,#N/A)","v":{"$error":"#N/A"}},{"$f":"IF(AND(AK34>'goal seek'!$E$23,AK35>0),AK35/AK34-1,#N/A)","v":{"$error":"#N/A"}},{"$f":"IF(AND(AL34>'goal seek'!$E$23,AL35>0),AL35/AL34-1,#N/A)","v":{"$error":"#N/A"}},{"$f":"IF(AND(AM34>'goal seek'!$E$23,AM35>0),AM35/AM34-1,#N/A)","v":{"$error":"#N/A"}},{"$error":"#N/A"},{"$f":"IF(AO35>0,SPM!H52,#N/A)","v":-0.121565167401102},{"$f":"IF(ISERROR(SPM!L52/100),#N/A,SPM!L52)","v":-0.121565167401102},{"$f":"SPM!P52","v":-0.10012322062679095},{"$f":"SPM!T52","v":-0.15081909423959369}]
[null,null,null,null,null,null,null,null,null,null,null,null,null,null,null,null,null,null,null,null,null,null,null,null,null,null,null,null,null,null,null,null,null,2052,{"$f":"RM!E47","v":188.43073922569499},{"$f":"RM!K47","v":0},{"$f":"RM!Q47","v":0},{"$f":"RM!W47","v":0},{"$f":"RM!AC47","v":69.059009328981801},{"$f":"RM!AI47","v":0},{"$f":"SPM!E53","v":90.94272853052189},{"$f":"IF(ISERROR(SPM!I53),#N/A,SPM!I53)","v":90.94272853052189},{"$f":"SPM!M53","v":172.25150303628448},{"$f":"SPM!Q53","v":35.945392529499287},null,{"$f":"AI36/SPM!$C53","v":0.44880250592562027},{"$f":"AJ36/SPM!$C53","v":0},{"$f":"AK36/SPM!$C53","v":0},{"$f":"AL36/SPM!$C53","v":0},{"$f":"AM36/SPM!$C53","v":0.164484078186758},{"$f":"AN36/SPM!$C53","v":0},{"$f":"SPM!F53","v":0.21660650819463498},{"$f":"IF(ISERROR(SPM!J53),#N/A,SPM!J53)","v":0.21660650819463498},{"$f":"SPM!N53","v":0.41026695819275999},{"$f":"SPM!R53","v":8.5614387068750034E-2},null,{"$f":"AH36","v":2052},{"$f":"IF(AI35>'goal seek'!$E$24,AI36/AI35-1,#N/A)","v":-7.9875215888894902E-2},{"$f":"IF(AND(AJ35>'goal seek'!$E$23,AJ36>0),AJ36/AJ35-1,#N/A)","v":{"$error":"#N/A"}},{"$f":"IF(AND(AK35>'goal seek'!$E$23,AK36>0),AK36/AK35-1,#N/A)","v":{"$error":"#N/A"}},{"$f":"IF(AND(AL35>'goal seek'!$E$23,AL36>0),AL36/AL35-1,#N/A)","v":{"$error":"#N/A"}},{"$f":"IF(AND(AM35>'goal seek'!$E$23,AM36>0),AM36/AM35-1,#N/A)","v":{"$error":"#N/A"}},{"$error":"#N/A"},{"$f":"IF(AO36>0,SPM!H53,#N/A)","v":-0.12210907758633006},{"$f":"IF(ISERROR(SPM!L53/100),#N/A,SPM!L53)","v":-0.12210907758633006},{"$f":"SPM!P53","v":-0.1006171428230991},{"$f":"SPM!T53","v":-0.15140276669055941}]
[null,null,null,null,null,null,null,null,null,null,null,null,null,null,null,null,null,null,null,null,null,null,null,null,null,null,null,null,null,null,null,null,null,2053,{"$f":"RM!E48","v":173.37979324993856},{"$f":"RM!K48","v":0},{"$f":"RM!Q48","v":0},{"$f":"RM!W48","v":0},{"$f":"RM!AC48","v":52.236970128823629},{"$f":"RM!AI48","v":0},{"$f":"SPM!E54","v":79.790733085759484},{"$f":"IF(ISERROR(SPM!I54),#N/A,SPM!I54)","v":79.790733085759484},{"$f":"SPM!M54","v":154.83886533276768},{"$f":"SPM!Q54","v":30.483252297823469},null,{"$f":"AI37/SPM!$C54","v":0.41441733787377938},{"$f":"AJ37/SPM!$C54","v":0},{"$f":"AK37/SPM!$C54","v":0},{"$f":"AL37/SPM!$C54","v":0},{"$f":"AM37/SPM!$C54","v":0.12485829919160371},{"$f":"AN37/SPM!$C54","v":0},{"$f":"SPM!F54","v":0.19071809103342238},{"$f":"IF(ISERROR(SPM!J54),#N/A,SPM!J54)","v":0.19071809103342238},{"$f":"SPM!N54","v":0.37010028197518885},{"$f":"SPM!R54","v":7.2861941003631039E-2},null,2053,{"$f":"IF(AI36>'goal seek'!$E$24,AI37/AI36-1,#N/A)","v":-7.9875215888894902E-2},{"$f":"IF(AND(AJ36>'goal seek'!$E$23,AJ37>0),AJ37/AJ36-1,#N/A)","v":{"$error":"#N/A"}},{"$f":"IF(AND(AK36>'goal seek'!$E$23,AK37>0),AK37/AK36-1,#N/A)","v":{"$error":"#N/A"}},{"$f":"IF(AND(AL36>'goal seek'!$E$23,AL37>0),AL37/AL36-1,#N/A)","v":{"$error":"#N/A"}},{"$f":"IF(AND(AM36>'goal seek'!$E$23,AM37>0),AM37/AM36-1,#N/A)","v":{"$error":"#N/A"}},{"$error":"#N/A"},{"$f":"IF(AO37>0,SPM!H54,#N/A)","v":-0.12262657636250282},{"$f":"IF(ISERROR(SPM!L54/100),#N/A,SPM!L54)","v":-0.12262657636250282},{"$f":"SPM!P54","v":-0.10108845145954315},{"$f":"SPM!T54","v":-0.15195661661486118}]
[null,null,null,null,null,null,null,null,null,null,null,null,null,null,null,null,null,null,null,null,null,null,null,null,null,null,null,null,null,null,null,null,null,2054,{"$f":"RM!E49","v":159.53104483332777},{"$f":"RM!K49","v":0},{"$f":"RM!Q49","v":0},{"$f":"RM!W49","v":0},{"$f":"RM!AC49","v":35.414930928665456},{"$f":"RM!AI49","v":0},{"$f":"SPM!E55","v":69.966934582490069},{"$f":"IF(ISERROR(SPM!I55),#N/A,SPM!I55)","v":69.966934582490069},{"$f":"SPM!M55","v":139.1167336911908},{"$f":"SPM!Q55","v":25.835078417264754},null,{"$f":"AI38/SPM!$C55","v":0.38270034771342865},{"$f":"AJ38/SPM!$C55","v":0},{"$f":"AK38/SPM!$C55","v":0},{"$f":"AL38/SPM!$C55","v":0},{"$f":"AM38/SPM!$C55","v":8.4957171783130545E-2},{"$f":"AN38/SPM!$C55","v":0},{"$f":"SPM!F55","v":0.16784426016351014},{"$f":"IF(ISERROR(SPM!J55),#N/A,SPM!J55)","v":0.16784426016351014},{"$f":"SPM!N55","v":0.33372828725592824},{"$f":"SPM!R55","v":6.19759840714426E-2},null,2054,{"$f":"IF(AI37>'goal seek'!$E$24,AI38/AI37-1,#N/A)","v":-7.9875215888894791E-2},{"$f":"IF(AND(AJ37>'goal seek'!$E$23,AJ38>0),AJ38/AJ37-1,#N/A)","v":{"$error":"#N/A"}},{"$f":"IF(AND(AK37>'goal seek'!$E$23,AK38>0),AK38/AK37-1,#N/A)","v":{"$error":"#N/A"}},{"$f":"IF(AND(AL37>'goal seek'!$E$23,AL38>0),AL38/AL37-1,#N/A)","v":{"$error":"#N/A"}},{"$f":"IF(AND(AM37>'goal seek'!$E$23,AM38>0),AM38/AM37-1,#N/A)","v":{"$error":"#N/A"}},{"$error":"#N/A"},{"$f":"IF(AO38>0,SPM!H55,#N/A)","v":-0.12311954187349985},{"$f":"IF(ISERROR(SPM!L55/100),#N/A,SPM!L55)","v":-0.12311954187349985},{"$f":"SPM!P55","v":-0.10153866477765833},{"$f":"SPM!T55","v":-0.15248287273108976}]
[null,null,null,null,null,null,null,null,null,null,null,null,null,null,null,null,null,null,null,null,null,null,null,null,null,null,null,null,null,null,null,null,null,2055,{"$f":"RM!E50","v":146.78846818628475},{"$f":"RM!K50","v":0},{"$f":"RM!Q50","v":0},{"$f":"RM!W50","v":0},{"$f":"RM!AC50","v":18.592891728507283},{"$f":"RM!AI50","v":0},{"$f":"SPM!E56","v":61.319743645054928},{"$f":"IF(ISERROR(SPM!I56),#N/A,SPM!I56)","v":61.319743645054928},{"$f":"SPM!M56","v":124.93111609013272},{"$f":"SPM!Q56","v":21.882736481956343},null,{"$f":"AI39/SPM!$C56","v":0.35343991761189514},{"$f":"AJ39/SPM!$C56","v":0},{"$f":"AK39/SPM!$C56","v":0},{"$f":"AL39/SPM!$C56","v":0},{"$f":"AM39/SPM!$C56","v":4.476829959388124E-2},{"$f":"AN39/SPM!$C56","v":0},{"$f":"SPM!F56","v":0.14764678322268751},{"$f":"IF(ISERROR(SPM!J56),#N/A,SPM!J56)","v":0.14764678322268751},{"$f":"SPM!N56","v":0.30081139154624897},{"$f":"SPM!R56","v":5.2689647047002248E-2},null,2055,{"$f":"IF(AI38>'goal seek'!$E$24,AI39/AI38-1,#N/A)","v":-7.9875215888894902E-2},{"$f":"IF(AND(AJ38>'goal seek'!$E$23,AJ39>0),AJ39/AJ38-1,#N/A)","v":{"$error":"#N/A"}},{"$f":"IF(AND(AK38>'goal seek'!$E$23,AK39>0),AK39/AK38-1,#N/A)","v":{"$error":"#N/A"}},{"$f":"IF(AND(AL38>'goal seek'!$E$23,AL39>0),AL39/AL38-1,#N/A)","v":{"$error":"#N/A"}},{"$f":"IF(AND(AM38>'goal seek'!$E$23,AM39>0),AM39/AM38-1,#N/A)","v":{"$error":"#N/A"}},{"$error":"#N/A"},{"$f":"IF(AO39>0,SPM!H56,#N/A)","v":-0.12358967831069147},{"$f":"IF(ISERROR(SPM!L56/100),#N/A,SPM!L56)","v":-0.12358967831069147},{"$f":"SPM!P56","v":-0.10196916808402863},{"$f":"SPM!T56","v":-0.15298354707788259}]
[null,null,null,null,null,null,null,null,null,null,null,null,null,null,null,null,null,null,null,null,null,null,null,null,null,null,null,null,null,null,null,null,null,2056,{"$f":"RM!E51","v":135.06370759990509},{"$f":"RM!K51","v":0},{"$f":"RM!Q51","v":0},{"$f":"RM!W51","v":0},{"$f":"RM!AC51","v":1.7708525283491099},{"$f":"RM!AI51","v":0},{"$f":"SPM!E57","v":53.713732440171498},{"$f":"IF(ISERROR(SPM!I57),#N/A,SPM!I57)","v":53.713732440171498},{"$f":"SPM!M57","v":112.14051501091205},{"$f":"SPM!Q57","v":18.524601659584235},null,{"$f":"AI40/SPM!$C57","v":0.32644146864751372},{"$f":"AJ40/SPM!$C57","v":0},{"$f":"AK40/SPM!$C57","v":0},{"$f":"AL40/SPM!$C57","v":0},{"$f":"AM40/SPM!$C57","v":4.2800520612455975E-3},{"$f":"AN40/SPM!$C57","v":0},{"$f":"SPM!F57","v":0.12982310359975271},{"$f":"IF(ISERROR(SPM!J57),#N/A,SPM!J57)","v":0.12982310359975271},{"$f":"SPM!N57","v":0.27103738721205084},{"$f":"SPM!R57","v":4.4772931821020864E-2},null,2056,{"$f":"IF(AI39>'goal seek'!$E$24,AI40/AI39-1,#N/A)","v":-7.9875215888894791E-2},{"$f":"IF(AND(AJ39>'goal seek'!$E$23,AJ40>0),AJ40/AJ39-1,#N/A)","v":{"$error":"#N/A"}},{"$f":"IF(AND(AK39>'goal seek'!$E$23,AK40>0),AK40/AK39-1,#N/A)","v":{"$error":"#N/A"}},{"$f":"IF(AND(AL39>'goal seek'!$E$23,AL40>0),AL40/AL39-1,#N/A)","v":{"$error":"#N/A"}},{"$f":"IF(AND(AM39>'goal seek'!$E$23,AM40>0),AM40/AM39-1,#N/A)","v":{"$error":"#N/A"}},{"$error":"#N/A"},{"$f":"IF(AO40>0,SPM!H57,#N/A)","v":-0.12403853559646787},{"$f":"IF(ISERROR(SPM!L57/100),#N/A,SPM!L57)","v":-0.12403853559646787},{"$f":"SPM!P57","v":-0.10238122798801194},{"$f":"SPM!T57","v":-0.15346046072167874}]
[null,null,null,null,null,null,null,null,null,null,null,null,null,null,null,null,null,null,null,null,null,null,null,null,null,null,null,null,null,null,null,null,null,2057,{"$f":"RM!E52","v":124.27546479660811},{"$f":"RM!K52","v":0},{"$f":"RM!Q52","v":0},{"$f":"RM!W52","v":0},{"$f":"RM!AC52","v":0},{"$f":"RM!AI52","v":0},{"$f":"SPM!E58","v":47.028117026730115},{"$f":"IF(ISERROR(SPM!I58),#N/A,SPM!I58)","v":47.028117026730115},{"$f":"SPM!M58","v":100.61516089648455},{"$f":"SPM!Q58","v":15.673382669660157},null,{"$f":"AI41/SPM!$C58","v":0.30152555150141391},{"$f":"AJ41/SPM!$C58","v":0},{"$f":"AK41/SPM!$C58","v":0},{"$f":"AL41/SPM!$C58","v":0},{"$f":"AM41/SPM!$C58","v":0},{"$f":"AN41/SPM!$C58","v":0},{"$f":"SPM!F58","v":0.1141028033632014},{"$f":"IF(ISERROR(SPM!J58),#N/A,SPM!J58)","v":0.1141028033632014},{"$f":"SPM!N58","v":0.2441193193553361},{"$f":"SPM!R58","v":3.8027822797496939E-2},null,2057,{"$f":"IF(AI40>'goal seek'!$E$24,AI41/AI40-1,#N/A)","v":-7.9875215888894791E-2},{"$f":"IF(AND(AJ40>'goal seek'!$E$23,AJ41>0),AJ41/AJ40-1,#N/A)","v":{"$error":"#N/A"}},{"$f":"IF(AND(AK40>'goal seek'!$E$23,AK41>0),AK41/AK40-1,#N/A)","v":{"$error":"#N/A"}},{"$f":"IF(AND(AL40>'goal seek'!$E$23,AL41>0),AL41/AL40-1,#N/A)","v":{"$error":"#N/A"}},{"$f":"IF(AND(AM40>'goal seek'!$E$23,AM41>0),AM41/AM40-1,#N/A)","v":{"$error":"#N/A"}},{"$error":"#N/A"},{"$f":"IF(AO41>0,SPM!H58,#N/A)","v":-0.12446752645402344},{"$f":"IF(ISERROR(SPM!L58/100),#N/A,SPM!L58)","v":-0.12446752645402344},{"$f":"SPM!P58","v":-0.10277600484807835},{"$f":"SPM!T58","v":-0.15391526588907342}]
[null,null,null,null,null,null,null,null,null,null,null,null,null,null,null,null,null,null,null,null,null,null,null,null,null,null,null,null,null,null,null,null,null,2058,{"$f":"RM!E53","v":113.48722199331112},{"$f":"RM!K53","v":0},{"$f":"RM!Q53","v":0},{"$f":"RM!W53","v":0},{"$f":"RM!AC53","v":0},{"$f":"RM!AI53","v":0},{"$f":"SPM!E59","v":41.155342591107797},{"$f":"IF(ISERROR(SPM!I59),#N/A,SPM!I59)","v":41.155342591107797},{"$f":"SPM!M59","v":90.236247874197261},{"$f":"SPM!Q59","v":13.25420443843106},null,{"$f":"AI42/SPM!$C59","v":0.27642731765149769},{"$f":"AJ42/SPM!$C59","v":0},{"$f":"AK42/SPM!$C59","v":0},{"$f":"AL42/SPM!$C59","v":0},{"$f":"AM42/SPM!$C59","v":0},{"$f":"AN42/SPM!$C59","v":0},{"$f":"SPM!F59","v":0.10024442188001474},{"$f":"IF(ISERROR(SPM!J59),#N/A,SPM!J59)","v":0.10024442188001474},{"$f":"SPM!N59","v":0.21979359012127536},{"$f":"SPM!R59","v":3.2284023841345037E-2},null,2058,{"$f":"IF(AI41>'goal seek'!$E$24,AI42/AI41-1,#N/A)","v":{"$error":"#N/A"}},{"$f":"IF(AND(AJ41>'goal seek'!$E$23,AJ42>0),AJ42/AJ41-1,#N/A)","v":{"$error":"#N/A"}},{"$f":"IF(AND(AK41>'goal seek'!$E$23,AK42>0),AK42/AK41-1,#N/A)","v":{"$error":"#N/A"}},{"$f":"IF(AND(AL41>'goal seek'!$E$23,AL42>0),AL42/AL41-1,#N/A)","v":{"$error":"#N/A"}},{"$f":"IF(AND(AM41>'goal seek'!$E$23,AM42>0),AM42/AM41-1,#N/A)","v":{"$error":"#N/A"}},{"$error":"#N/A"},{"$f":"IF(AO42>0,SPM!H59,#N/A)","v":-0.12487794125978544},{"$f":"IF(ISERROR(SPM!L59/100),#N/A,SPM!L59)","v":-0.12487794125978544},{"$f":"SPM!P59","v":-0.10315456368414878},{"$f":"SPM!T59","v":-0.15434946509103203}]
[null,null,null,null,null,null,null,null,null,null,null,null,null,null,null,null,null,null,null,null,null,null,null,null,null,null,null,null,null,null,null,null,null,2059,{"$f":"RM!E54","v":102.69897919001414},{"$f":"RM!K54","v":0},{"$f":"RM!Q54","v":0},{"$f":"RM!W54","v":0},{"$f":"RM!AC54","v":0},{"$f":"RM!AI54","v":0},{"$f":"SPM!E60","v":35.999773274132224},{"$f":"IF(ISERROR(SPM!I60),#N/A,SPM!I60)","v":35.999773274132224},{"$f":"SPM!M60","v":80.8951824547147},{"$f":"SPM!Q60","v":11.202925073828951},null,{"$f":"AI43/SPM!$C60","v":0.25113763898956259},{"$f":"AJ43/SPM!$C60","v":0},{"$f":"AK43/SPM!$C60","v":0},{"$f":"AL43/SPM!$C60","v":0},{"$f":"AM43/SPM!$C60","v":0},{"$f":"AN43/SPM!$C60","v":0},{"$f":"SPM!F60","v":8.8032988599600473E-2},{"$f":"IF(ISERROR(SPM!J60),#N/A,SPM!J60)","v":8.8032988599600473E-2},{"$f":"SPM!N60","v":0.19781915348660378},{"$f":"SPM!R60","v":2.7395366292909947E-2},null,2059,{"$f":"IF(AI42>'goal seek'!$E$24,AI43/AI42-1,#N/A)","v":{"$error":"#N/A"}},{"$f":"IF(AND(AJ42>'goal seek'!$E$23,AJ43>0),AJ43/AJ42-1,#N/A)","v":{"$error":"#N/A"}},{"$f":"IF(AND(AK42>'goal seek'!$E$23,AK43>0),AK43/AK42-1,#N/A)","v":{"$error":"#N/A"}},{"$f":"IF(AND(AL42>'goal seek'!$E$23,AL43>0),AL43/AL42-1,#N/A)","v":{"$error":"#N/A"}},{"$f":"IF(AND(AM42>'goal seek'!$E$23,AM43>0),AM43/AM42-1,#N/A)","v":{"$error":"#N/A"}},{"$error":"#N/A"},{"$f":"IF(AO43>0,SPM!H60,#N/A)","v":-0.1252709610073689},{"$f":"IF(ISERROR(SPM!L60/100),#N/A,SPM!L60)","v":-0.1252709610073689},{"$f":"SPM!P60","v":-0.10351788377222194},{"$f":"SPM!T60","v":-0.15476442770524562}]
[null,null,null,null,null,null,null,null,null,null,null,null,null,null,null,null,null,null,null,null,null,null,null,null,null,null,null,null,null,null,null,null,{"$f":"AH44","v":2060},2060,{"$f":"RM!E55","v":91.910736386717161},{"$f":"RM!K55","v":0},{"$f":"RM!Q55","v":0},{"$f":"RM!W55","v":0},{"$f":"RM!AC55","v":0},{"$f":"RM!AI55","v":0},{"$f":"SPM!E61","v":31.476485690050339},{"$f":"IF(ISERROR(SPM!I61),#N/A,SPM!I61)","v":31.476485690050339},{"$f":"SPM!M61","v":72.492853289416871},{"$f":"SPM!Q61","v":9.4646634859608696},null,{"$f":"AI44/SPM!$C61","v":0.2256490690602396},{"$f":"AJ44/SPM!$C61","v":0},{"$f":"AK44/SPM!$C61","v":0},{"$f":"AL44/SPM!$C61","v":0},{"$f":"AM44/SPM!$C61","v":0},{"$f":"AN44/SPM!$C61","v":0},{"$f":"SPM!F61","v":7.7277584452846118E-2},{"$f":"IF(ISERROR(SPM!J61),#N/A,SPM!J61)","v":7.7277584452846118E-2},{"$f":"SPM!N61","v":0.17797643127839718},{"$f":"SPM!R61","v":2.3236594423414504E-2},null,2060,{"$f":"IF(AI43>'goal seek'!$E$24,AI44/AI43-1,#N/A)","v":{"$error":"#N/A"}},{"$f":"IF(AND(AJ43>'goal seek'!$E$23,AJ44>0),AJ44/AJ43-1,#N/A)","v":{"$error":"#N/A"}},{"$f":"IF(AND(AK43>'goal seek'!$E$23,AK44>0),AK44/AK43-1,#N/A)","v":{"$error":"#N/A"}},{"$f":"IF(AND(AL43>'goal seek'!$E$23,AL44>0),AL44/AL43-1,#N/A)","v":{"$error":"#N/A"}},{"$f":"IF(AND(AM43>'goal seek'!$E$23,AM44>0),AM44/AM43-1,#N/A)","v":{"$error":"#N/A"}},{"$error":"#N/A"},{"$f":"IF(AO44>0,SPM!H61,#N/A)","v":-0.12564766865718321},{"$f":"IF(ISERROR(SPM!L61/100),#N/A,SPM!L61)","v":-0.12564766865718321},{"$f":"SPM!P61","v":-0.10386686710301285},{"$f":"SPM!T61","v":-0.15516140440221435}]
[null,null,null,null,null,null,null,null,null,null,null,null,null,null,null,null,null,null,null,null,null,null,null,null,null,null,null,null,null,null,null,null,null,2061,{"$f":"RM!E56","v":81.12249358342018},{"$f":"RM!K56","v":0},{"$f":"RM!Q56","v":0},{"$f":"RM!W56","v":0},{"$f":"RM!AC56","v":0},{"$f":"RM!AI56","v":0},{"$f":"SPM!E62","v":27.510163344417208},{"$f":"IF(ISERROR(SPM!I62),#N/A,SPM!I62)","v":27.510163344417208},{"$f":"SPM!M62","v":64.938927918666423},{"$f":"SPM!Q62","v":7.9925151542765605},null,{"$f":"AI45/SPM!$C62","v":0.19995681584006292},{"$f":"AJ45/SPM!$C62","v":0},{"$f":"AK45/SPM!$C62","v":0},{"$f":"AL45/SPM!$C62","v":0},{"$f":"AM45/SPM!$C62","v":0},{"$f":"AN45/SPM!$C62","v":0},{"$f":"SPM!F62","v":6.7809117084560916E-2},{"$f":"IF(ISERROR(SPM!J62),#N/A,SPM!J62)","v":6.7809117084560916E-2},{"$f":"SPM!N62","v":0.16006634753320467},{"$f":"SPM!R62","v":1.9700551723785049E-2},null,2061,{"$f":"IF(AI44>'goal seek'!$E$24,AI45/AI44-1,#N/A)","v":{"$error":"#N/A"}},{"$f":"IF(AND(AJ44>'goal seek'!$E$23,AJ45>0),AJ45/AJ44-1,#N/A)","v":{"$error":"#N/A"}},{"$f":"IF(AND(AK44>'goal seek'!$E$23,AK45>0),AK45/AK44-1,#N/A)","v":{"$error":"#N/A"}},{"$f":"IF(AND(AL44>'goal seek'!$E$23,AL45>0),AL45/AL44-1,#N/A)","v":{"$error":"#N/A"}},{"$f":"IF(AND(AM44>'goal seek'!$E$23,AM45>0),AM45/AM44-1,#N/A)","v":{"$error":"#N/A"}},{"$error":"#N/A"},{"$f":"IF(AO45>0,SPM!H62,#N/A)","v":-0.12600905910175603},{"$f":"IF(ISERROR(SPM!L62/100),#N/A,SPM!L62)","v":-0.12600905910175603},{"$f":"SPM!P62","v":-0.10420234585873633},{"$f":"SPM!T62","v":-0.15554153973545676}]
[null,null,null,null,null,null,null,null,null,null,null,null,null,null,null,null,null,null,null,null,null,null,null,null,null,null,null,null,null,null,null,null,null,2062,{"$f":"RM!E57","v":70.334250780123199},{"$f":"RM!K57","v":0},{"$f":"RM!Q57","v":0},{"$f":"RM!W57","v":0},{"$f":"RM!AC57","v":0},{"$f":"RM!AI57","v":0},{"$f":"SPM!E63","v":24.034087826043958},{"$f":"IF(ISERROR(SPM!I63),#N/A,SPM!I63)","v":24.034087826043958},{"$f":"SPM!M63","v":58.151180695913411},{"$f":"SPM!Q63","v":6.746435020460261},null,{"$f":"AI46/SPM!$C63","v":0.1740568964464399},{"$f":"AJ46/SPM!$C63","v":0},{"$f":"AK46/SPM!$C63","v":0},{"$f":"AL46/SPM!$C63","v":0},{"$f":"AM46/SPM!$C63","v":0},{"$f":"AN46/SPM!$C63","v":0},{"$f":"SPM!F63","v":5.9477405240301442E-2},{"$f":"IF(ISERROR(SPM!J63),#N/A,SPM!J63)","v":5.9477405240301442E-2},{"$f":"SPM!N63","v":0.14390732714660884},{"$f":"SPM!R63","v":1.6695472386701531E-2},null,2062,{"$f":"IF(AI45>'goal seek'!$E$24,AI46/AI45-1,#N/A)","v":{"$error":"#N/A"}},{"$f":"IF(AND(AJ45>'goal seek'!$E$23,AJ46>0),AJ46/AJ45-1,#N/A)","v":{"$error":"#N/A"}},{"$f":"IF(AND(AK45>'goal seek'!$E$23,AK46>0),AK46/AK45-1,#N/A)","v":{"$error":"#N/A"}},{"$f":"IF(AND(AL45>'goal seek'!$E$23,AL46>0),AL46/AL45-1,#N/A)","v":{"$error":"#N/A"}},{"$f":"IF(AND(AM45>'goal seek'!$E$23,AM46>0),AM46/AM45-1,#N/A)","v":{"$error":"#N/A"}},{"$error":"#N/A"},{"$f":"IF(AO46>0,SPM!H63,#N/A)","v":-0.12635604793959426},{"$f":"IF(ISERROR(SPM!L63/100),#N/A,SPM!L63)","v":-0.12635604793959426},{"$f":"SPM!P63","v":-0.10452508903834094},{"$f":"SPM!T63","v":-0.15590588316239332}]
[null,null,null,null,null,null,null,null,null,null,null,null,null,null,null,null,null,null,null,null,null,null,null,null,null,null,null,null,null,null,null,null,null,2063,{"$f":"RM!E58","v":59.546007976826218},{"$f":"RM!K58","v":0},{"$f":"RM!Q58","v":0},{"$f":"RM!W58","v":0},{"$f":"RM!AC58","v":0},{"$f":"RM!AI58","v":0},{"$f":"SPM!E64","v":20.989221755820068},{"$f":"IF(ISERROR(SPM!I64),#N/A,SPM!I64)","v":20.989221755820068},{"$f":"SPM!M64","v":52.054854661597062},{"$f":"SPM!Q64","v":5.6922681264005135},null,{"$f":"AI47/SPM!$C64","v":0.14794562296407701},{"$f":"AJ47/SPM!$C64","v":0},{"$f":"AK47/SPM!$C64","v":0},{"$f":"AL47/SPM!$C64","v":0},{"$f":"AM47/SPM!$C64","v":0},{"$f":"AN47/SPM!$C64","v":0},{"$f":"SPM!F64","v":5.2148978473996903E-2},{"$f":"IF(ISERROR(SPM!J64),#N/A,SPM!J64)","v":5.2148978473996903E-2},{"$f":"SPM!N64","v":0.12933340391536591},{"$f":"SPM!R64","v":1.4142781063788946E-2},null,2063,{"$f":"IF(AI46>'goal seek'!$E$24,AI47/AI46-1,#N/A)","v":{"$error":"#N/A"}},{"$f":"IF(AND(AJ46>'goal seek'!$E$23,AJ47>0),AJ47/AJ46-1,#N/A)","v":{"$error":"#N/A"}},{"$f":"IF(AND(AK46>'goal seek'!$E$23,AK47>0),AK47/AK46-1,#N/A)","v":{"$error":"#N/A"}},{"$f":"IF(AND(AL46>'goal seek'!$E$23,AL47>0),AL47/AL46-1,#N/A)","v":{"$error":"#N/A"}},{"$f":"IF(AND(AM46>'goal seek'!$E$23,AM47>0),AM47/AM46-1,#N/A)","v":{"$error":"#N/A"}},{"$error":"#N/A"},{"$f":"IF(AO47>0,SPM!H64,#N/A)","v":-0.12668947922060908},{"$f":"IF(ISERROR(SPM!L64/100),#N/A,SPM!L64)","v":-0.12668947922060908},{"$f":"SPM!P64","v":-0.10483580834231916},{"$f":"SPM!T64","v":-0.1562553987198752}]
[null,null,null,null,null,null,null,null,null,null,null,null,null,null,null,null,null,null,null,null,null,null,null,null,null,null,null,null,null,null,null,null,null,2064,{"$f":"RM!E59","v":48.757765173529236},{"$f":"RM!K59","v":0},{"$f":"RM!Q59","v":0},{"$f":"RM!W59","v":0},{"$f":"RM!AC59","v":0},{"$f":"RM!AI59","v":0},{"$f":"SPM!E65","v":18.323377923715952},{"$f":"IF(ISERROR(SPM!I65),#N/A,SPM!I65)","v":18.323377923715952},{"$f":"SPM!M65","v":46.582059010374962},{"$f":"SPM!Q65","v":4.8009103188262436},null,{"$f":"AI48/SPM!$C65","v":0.12162061179505572},{"$f":"AJ48/SPM!$C65","v":0},{"$f":"AK48/SPM!$C65","v":0},{"$f":"AL48/SPM!$C65","v":0},{"$f":"AM48/SPM!$C65","v":0},{"$f":"AN48/SPM!$C65","v":0},{"$f":"SPM!F65","v":4.5705549163361017E-2},{"$f":"IF(ISERROR(SPM!J65),#N/A,SPM!J65)","v":4.5705549163361017E-2},{"$f":"SPM!N65","v":0.11619356415028889},{"$f":"SPM!R65","v":1.1975316097257049E-2},null,2064,{"$f":"IF(AI47>'goal seek'!$E$24,AI48/AI47-1,#N/A)","v":{"$error":"#N/A"}},{"$f":"IF(AND(AJ47>'goal seek'!$E$23,AJ48>0),AJ48/AJ47-1,#N/A)","v":{"$error":"#N/A"}},{"$f":"IF(AND(AK47>'goal seek'!$E$23,AK48>0),AK48/AK47-1,#N/A)","v":{"$error":"#N/A"}},{"$f":"IF(AND(AL47>'goal seek'!$E$23,AL48>0),AL48/AL47-1,#N/A)","v":{"$error":"#N/A"}},{"$f":"IF(AND(AM47>'goal seek'!$E$23,AM48>0),AM48/AM47-1,#N/A)","v":{"$error":"#N/A"}},{"$error":"#N/A"},{"$f":"IF(AO48>0,SPM!H65,#N/A)","v":-0.12701013230111347},{"$f":"IF(ISERROR(SPM!L65/100),#N/A,SPM!L65)","v":-0.12701013230111347},{"$f":"SPM!P65","v":-0.10513516341175377},{"$f":"SPM!T65","v":-0.1565909735418449}]
[null,null,null,null,null,null,null,null,null,null,null,null,null,null,null,null,null,null,null,null,null,null,null,null,null,null,null,null,null,null,null,null,null,2065,{"$f":"RM!E60","v":37.969522370232255},{"$f":"RM!K60","v":0},{"$f":"RM!Q60","v":0},{"$f":"RM!W60","v":0},{"$f":"RM!AC60","v":0},{"$f":"RM!AI60","v":0},{"$f":"SPM!E66","v":15.990468755171506},{"$f":"IF(ISERROR(SPM!I66),#N/A,SPM!I66)","v":15.990468755171506},{"$f":"SPM!M66","v":41.671202898043362},{"$f":"SPM!Q66","v":4.0475830357679499},null,{"$f":"AI49/SPM!$C66","v":9.5081375970355916E-2},{"$f":"AJ49/SPM!$C66","v":0},{"$f":"AK49/SPM!$C66","v":0},{"$f":"AL49/SPM!$C66","v":0},{"$f":"AM49/SPM!$C66","v":0},{"$f":"AN49/SPM!$C66","v":0},{"$f":"SPM!F66","v":4.0042530870619195E-2},{"$f":"IF(ISERROR(SPM!J66),#N/A,SPM!J66)","v":4.0042530870619195E-2},{"$f":"SPM!N66","v":0.10435093892548246},{"$f":"SPM!R66","v":1.0135754688787066E-2},null,2065,{"$f":"IF(AI48>'goal seek'!$E$24,AI49/AI48-1,#N/A)","v":{"$error":"#N/A"}},{"$f":"IF(AND(AJ48>'goal seek'!$E$23,AJ49>0),AJ49/AJ48-1,#N/A)","v":{"$error":"#N/A"}},{"$f":"IF(AND(AK48>'goal seek'!$E$23,AK49>0),AK49/AK48-1,#N/A)","v":{"$error":"#N/A"}},{"$f":"IF(AND(AL48>'goal seek'!$E$23,AL49>0),AL49/AL48-1,#N/A)","v":{"$error":"#N/A"}},{"$f":"IF(AND(AM48>'goal seek'!$E$23,AM49>0),AM49/AM48-1,#N/A)","v":{"$error":"#N/A"}},{"$error":"#N/A"},{"$f":"IF(AO49>0,SPM!H66,#N/A)","v":-0.12731872792543136},{"$f":"IF(ISERROR(SPM!L66/100),#N/A,SPM!L66)","v":-0.12731872792543136},{"$f":"SPM!P66","v":-0.10542376650284679},{"$f":"SPM!T66","v":-0.15691342537772543}]
[null,null,null,null,null,null,null,null,null,null,null,null,null,null,null,null,null,null,null,null,null,null,null,null,null,null,null,null,null,null,null,null,null,2066,{"$f":"RM!E61","v":27.181279566935274},{"$f":"RM!K61","v":0},{"$f":"RM!Q61","v":0},{"$f":"RM!W61","v":0},{"$f":"RM!AC61","v":0},{"$f":"RM!AI61","v":0},{"$f":"SPM!E67","v":13.949830155732272},{"$f":"IF(ISERROR(SPM!I67),#N/A,SPM!I67)","v":13.949830155732272},{"$f":"SPM!M67","v":37.266465630686184},{"$f":"SPM!Q67","v":3.4112078269212311},null,{"$f":"AI50/SPM!$C67","v":6.8329104481912206E-2},{"$f":"AJ50/SPM!$C67","v":0},{"$f":"AK50/SPM!$C67","v":0},{"$f":"AL50/SPM!$C67","v":0},{"$f":"AM50/SPM!$C67","v":0},{"$f":"AN50/SPM!$C67","v":0},{"$f":"SPM!F67","v":3.5067495622077234E-2},{"$f":"IF(ISERROR(SPM!J67),#N/A,SPM!J67)","v":3.5067495622077234E-2},{"$f":"SPM!N67","v":9.3681543485844621E-2},{"$f":"SPM!R67","v":8.5751951243220343E-3},null,2066,{"$f":"IF(AI49>'goal seek'!$E$24,AI50/AI49-1,#N/A)","v":{"$error":"#N/A"}},{"$f":"IF(AND(AJ49>'goal seek'!$E$23,AJ50>0),AJ50/AJ49-1,#N/A)","v":{"$error":"#N/A"}},{"$f":"IF(AND(AK49>'goal seek'!$E$23,AK50>0),AK50/AK49-1,#N/A)","v":{"$error":"#N/A"}},{"$f":"IF(AND(AL49>'goal seek'!$E$23,AL50>0),AL50/AL49-1,#N/A)","v":{"$error":"#N/A"}},{"$f":"IF(AND(AM49>'goal seek'!$E$23,AM50>0),AM50/AM49-1,#N/A)","v":{"$error":"#N/A"}},{"$error":"#N/A"},{"$f":"IF(AO50>0,SPM!H67,#N/A)","v":-0.12761593363416987},{"$f":"IF(ISERROR(SPM!L67/100),#N/A,SPM!L67)","v":-0.12761593363416987},{"$f":"SPM!P67","v":-0.10570218666675442},{"$f":"SPM!T67","v":-0.15722350924567974}]
[null,null,null,null,null,null,null,null,null,null,null,null,null,null,null,null,null,null,null,null,null,null,null,null,null,null,null,null,null,null,null,null,null,2067,{"$f":"RM!E62","v":16.393036763638293},{"$f":"RM!K62","v":0},{"$f":"RM!Q62","v":0},{"$f":"RM!W62","v":0},{"$f":"RM!AC62","v":0},{"$f":"RM!AI62","v":0},{"$f":"SPM!E68","v":12.165613837462629},{"$f":"IF(ISERROR(SPM!I68),#N/A,SPM!I68)","v":12.165613837462629},{"$f":"SPM!M68","v":33.317302734431905},{"$f":"SPM!Q68","v":2.8738678091296634},null,{"$f":"AI51/SPM!$C68","v":4.1366273297929849E-2},{"$f":"AJ51/SPM!$C68","v":0},{"$f":"AK51/SPM!$C68","v":0},{"$f":"AL51/SPM!$C68","v":0},{"$f":"AM51/SPM!$C68","v":0},{"$f":"AN51/SPM!$C68","v":0},{"$f":"SPM!F68","v":3.0698772539436748E-2},{"$f":"IF(ISERROR(SPM!J68),#N/A,SPM!J68)","v":3.0698772539436748E-2},{"$f":"SPM!N68","v":8.4073053109928686E-2},{"$f":"SPM!R68","v":7.251932813221844E-3},null,2067,{"$f":"IF(AI50>'goal seek'!$E$24,AI51/AI50-1,#N/A)","v":{"$error":"#N/A"}},{"$f":"IF(AND(AJ50>'goal seek'!$E$23,AJ51>0),AJ51/AJ50-1,#N/A)","v":{"$error":"#N/A"}},{"$f":"IF(AND(AK50>'goal seek'!$E$23,AK51>0),AK51/AK50-1,#N/A)","v":{"$error":"#N/A"}},{"$f":"IF(AND(AL50>'goal seek'!$E$23,AL51>0),AL51/AL50-1,#N/A)","v":{"$error":"#N/A"}},{"$f":"IF(AND(AM50>'goal seek'!$E$23,AM51>0),AM51/AM50-1,#N/A)","v":{"$error":"#N/A"}},{"$error":"#N/A"},{"$f":"IF(AO51>0,SPM!H68,#N/A)","v":-0.12790236858450002},{"$f":"IF(ISERROR(SPM!L68/100),#N/A,SPM!L68)","v":-0.12790236858450002},{"$f":"SPM!P68","v":-0.10597095349451209},{"$f":"SPM!T68","v":-0.15752192333486209}]
[null,null,null,null,null,null,null,null,null,null,null,null,null,null,null,null,null,null,null,null,null,null,null,null,null,null,null,null,null,null,null,null,null,2068,{"$f":"RM!E63","v":5.6047939603413113},{"$f":"RM!K63","v":0},{"$f":"RM!Q63","v":0},{"$f":"RM!W63","v":0},{"$f":"RM!AC63","v":0},{"$f":"RM!AI63","v":0},{"$f":"SPM!E69","v":10.606242392067017},{"$f":"IF(ISERROR(SPM!I69),#N/A,SPM!I69)","v":10.606242392067017},{"$f":"SPM!M69","v":29.777986991296899},{"$f":"SPM!Q69","v":2.4203447009163437},null,{"$f":"AI52/SPM!$C69","v":1.4196148375080179E-2},{"$f":"AJ52/SPM!$C69","v":0},{"$f":"AK52/SPM!$C69","v":0},{"$f":"AL52/SPM!$C69","v":0},{"$f":"AM52/SPM!$C69","v":0},{"$f":"AN52/SPM!$C69","v":0},{"$f":"SPM!F69","v":2.6864108076986234E-2},{"$f":"IF(ISERROR(SPM!J69),#N/A,SPM!J69)","v":2.6864108076986234E-2},{"$f":"SPM!N69","v":7.5423418707422973E-2},{"$f":"SPM!R69","v":6.1303899369309026E-3},null,2068,{"$f":"IF(AI51>'goal seek'!$E$24,AI52/AI51-1,#N/A)","v":{"$error":"#N/A"}},{"$f":"IF(AND(AJ51>'goal seek'!$E$23,AJ52>0),AJ52/AJ51-1,#N/A)","v":{"$error":"#N/A"}},{"$f":"IF(AND(AK51>'goal seek'!$E$23,AK52>0),AK52/AK51-1,#N/A)","v":{"$error":"#N/A"}},{"$f":"IF(AND(AL51>'goal seek'!$E$23,AL52>0),AL52/AL51-1,#N/A)","v":{"$error":"#N/A"}},{"$f":"IF(AND(AM51>'goal seek'!$E$23,AM52>0),AM52/AM51-1,#N/A)","v":{"$error":"#N/A"}},{"$error":"#N/A"},{"$f":"IF(AO52>0,SPM!H69,#N/A)","v":-0.12817860785566815},{"$f":"IF(ISERROR(SPM!L69/100),#N/A,SPM!L69)","v":-0.12817860785566815},{"$f":"SPM!P69","v":-0.10623056047923368},{"$f":"SPM!T69","v":-0.15780931425327702}]
[null,null,null,null,null,null,null,null,null,null,null,null,null,null,null,null,null,null,null,null,null,null,null,null,null,null,null,null,null,null,null,null,null,{"$f":"AH52+1","v":2069},{"$f":"RM!E64","v":0},{"$f":"RM!K64","v":0},{"$f":"RM!Q64","v":0},{"$f":"RM!W64","v":0},{"$f":"RM!AC64","v":0},{"$f":"RM!AI64","v":0},{"$f":"SPM!E70","v":9.2439216120452627},{"$f":"IF(ISERROR(SPM!I70),#N/A,SPM!I70)","v":9.2439216120452627},{"$f":"SPM!M70","v":26.607183221185693},{"$f":"SPM!Q70","v":2.0377214067043496},null,{"$f":"AI53/SPM!$C70","v":0},{"$f":"AJ53/SPM!$C70","v":0},{"$f":"AK53/SPM!$C70","v":0},{"$f":"AL53/SPM!$C70","v":0},{"$f":"AM53/SPM!$C70","v":0},{"$f":"AN53/SPM!$C70","v":0},{"$f":"SPM!F70","v":2.3499660997343838E-2},{"$f":"IF(ISERROR(SPM!J70),#N/A,SPM!J70)","v":2.3499660997343838E-2},{"$f":"SPM!N70","v":6.7640100385245164E-2},{"$f":"SPM!R70","v":5.1802432208193369E-3},null,2069,{"$f":"IF(AI52>'goal seek'!$E$24,AI53/AI52-1,#N/A)","v":{"$error":"#N/A"}},{"$f":"IF(AND(AJ52>'goal seek'!$E$23,AJ53>0),AJ53/AJ52-1,#N/A)","v":{"$error":"#N/A"}},{"$f":"IF(AND(AK52>'goal seek'!$E$23,AK53>0),AK53/AK52-1,#N/A)","v":{"$error":"#N/A"}},{"$f":"IF(AND(AL52>'goal seek'!$E$23,AL53>0),AL53/AL52-1,#N/A)","v":{"$error":"#N/A"}},{"$f":"IF(AND(AM52>'goal seek'!$E$23,AM53>0),AM53/AM52-1,#N/A)","v":{"$error":"#N/A"}},{"$error":"#N/A"},{"$f":"IF(AO53>0,SPM!H70,#N/A)","v":-0.12844518630280483},{"$f":"IF(ISERROR(SPM!L70/100),#N/A,SPM!L70)","v":-0.12844518630280483},{"$f":"SPM!P70","v":-0.10648146804006346},{"$f":"SPM!T70","v":-0.158086281704888}]
[null,null,null,null,null,null,null,null,null,null,null,null,null,null,null,null,null,null,null,null,null,null,null,null,null,null,null,null,null,null,null,null,{"$f":"AH54","v":2070},2070,{"$f":"RM!E65","v":0},{"$f":"RM!K65","v":0},{"$f":"RM!Q65","v":0},{"$f":"RM!W65","v":0},{"$f":"RM!AC65","v":0},{"$f":"RM!AI65","v":0},{"$f":"SPM!E71","v":8.054204847767366},{"$f":"IF(ISERROR(SPM!I71),#N/A,SPM!I71)","v":8.054204847767366},{"$f":"SPM!M71","v":23.767555372143619},{"$f":"SPM!Q71","v":1.7150413290199733},null,{"$f":"AI54/SPM!$C71","v":0},{"$f":"AJ54/SPM!$C71","v":0},{"$f":"AK54/SPM!$C71","v":0},{"$f":"AL54/SPM!$C71","v":0},{"$f":"AM54/SPM!$C71","v":0},{"$f":"AN54/SPM!$C71","v":0},{"$f":"SPM!F71","v":2.0549018267345658E-2},{"$f":"IF(ISERROR(SPM!J71),#N/A,SPM!J71)","v":2.0549018267345658E-2},{"$f":"SPM!N71","v":6.0639124375848674E-2},{"$f":"SPM!R71","v":4.3756542409091369E-3},null,2070,{"$f":"IF(AI53>'goal seek'!$E$24,AI54/AI53-1,#N/A)","v":{"$error":"#N/A"}},{"$f":"IF(AND(AJ53>'goal seek'!$E$23,AJ54>0),AJ54/AJ53-1,#N/A)","v":{"$error":"#N/A"}},{"$f":"IF(AND(AK53>'goal seek'!$E$23,AK54>0),AK54/AK53-1,#N/A)","v":{"$error":"#N/A"}},{"$f":"IF(AND(AL53>'goal seek'!$E$23,AL54>0),AL54/AL53-1,#N/A)","v":{"$error":"#N/A"}},{"$f":"IF(AND(AM53>'goal seek'!$E$23,AM54>0),AM54/AM53-1,#N/A)","v":{"$error":"#N/A"}},{"$error":"#N/A"},{"$f":"IF(AO54>0,SPM!H71,#N/A)","v":-0.12870260201337494},{"$f":"IF(ISERROR(SPM!L71/100),#N/A,SPM!L71)","v":-0.12870260201337494},{"$f":"SPM!P71","v":-0.10672410624740802},{"$f":"SPM!T71","v":-0.15835338266689444}]
[null,"selected country: ",{"$f":"B2","v":"EU27"},null,null,null,null,null,null,null,null,null,null,null,null,null,null,null,null,null,null,null,null,null,null,null,null,null,null,null,null,null,null,2071,{"$f":"RM!E66","v":0},{"$f":"RM!K66","v":0},{"$f":"RM!Q66","v":0},{"$f":"RM!W66","v":0},{"$f":"RM!AC66","v":0},{"$f":"RM!AI66","v":0},{"$f":"SPM!E72","v":7.0156045058241148},{"$f":"IF(ISERROR(SPM!I72),#N/A,SPM!I72)","v":7.0156045058241148},{"$f":"SPM!M72","v":21.225404333779124},{"$f":"SPM!Q72","v":1.44301667703244},null,{"$f":"AI55/SPM!$C72","v":0},{"$f":"AJ55/SPM!$C72","v":0},{"$f":"AK55/SPM!$C72","v":0},{"$f":"AL55/SPM!$C72","v":0},{"$f":"AM55/SPM!$C72","v":0},{"$f":"AN55/SPM!$C72","v":0},{"$f":"SPM!F72","v":1.7962336014032271E-2},{"$f":"IF(ISERROR(SPM!J72),#N/A,SPM!J72)","v":1.7962336014032271E-2},{"$f":"SPM!N72","v":5.4344261333507352E-2},{"$f":"SPM!R72","v":3.6946139716386682E-3},null,2071,{"$f":"IF(AI54>'goal seek'!$E$24,AI55/AI54-1,#N/A)","v":{"$error":"#N/A"}},{"$f":"IF(AND(AJ54>'goal seek'!$E$23,AJ55>0),AJ55/AJ54-1,#N/A)","v":{"$error":"#N/A"}},{"$f":"IF(AND(AK54>'goal seek'!$E$23,AK55>0),AK55/AK54-1,#N/A)","v":{"$error":"#N/A"}},{"$f":"IF(AND(AL54>'goal seek'!$E$23,AL55>0),AL55/AL54-1,#N/A)","v":{"$error":"#N/A"}},{"$f":"IF(AND(AM54>'goal seek'!$E$23,AM55>0),AM55/AM54-1,#N/A)","v":{"$error":"#N/A"}},{"$error":"#N/A"},{"$f":"IF(AO55>0,SPM!H72,#N/A)","v":-0.12895131941313268},{"$f":"IF(ISERROR(SPM!L72/100),#N/A,SPM!L72)","v":-0.12895131941313268},{"$f":"SPM!P72","v":-0.10695887728293595},{"$f":"SPM!T72","v":-0.1586111351281409}]
[null,null,null,null,null,null,null,null,null,null,null,null,null,null,null,null,null,null,null,null,null,null,null,null,null,null,null,null,null,null,null,null,null,2072,{"$f":"RM!E67","v":0},{"$f":"RM!K67","v":0},{"$f":"RM!Q67","v":0},{"$f":"RM!W67","v":0},{"$f":"RM!AC67","v":0},{"$f":"RM!AI67","v":0},{"$f":"SPM!E73","v":6.1092461276257737},{"$f":"IF(ISERROR(SPM!I73),#N/A,SPM!I73)","v":6.1092461276257737},{"$f":"SPM!M73","v":18.950334798373575},{"$f":"SPM!Q73","v":1.2137790167778295},null,{"$f":"AI56/SPM!$C73","v":0},{"$f":"AJ56/SPM!$C73","v":0},{"$f":"AK56/SPM!$C73","v":0},{"$f":"AL56/SPM!$C73","v":0},{"$f":"AM56/SPM!$C73","v":0},{"$f":"AN56/SPM!$C73","v":0},{"$f":"SPM!F73","v":1.5695634622345123E-2},{"$f":"IF(ISERROR(SPM!J73),#N/A,SPM!J73)","v":1.5695634622345123E-2},{"$f":"SPM!N73","v":4.8686454065319594E-2},{"$f":"SPM!R73","v":3.1183932618897275E-3},null,2072,{"$f":"IF(AI55>'goal seek'!$E$24,AI56/AI55-1,#N/A)","v":{"$error":"#N/A"}},{"$f":"IF(AND(AJ55>'goal seek'!$E$23,AJ56>0),AJ56/AJ55-1,#N/A)","v":{"$error":"#N/A"}},{"$f":"IF(AND(AK55>'goal seek'!$E$23,AK56>0),AK56/AK55-1,#N/A)","v":{"$error":"#N/A"}},{"$f":"IF(AND(AL55>'goal seek'!$E$23,AL56>0),AL56/AL55-1,#N/A)","v":{"$error":"#N/A"}},{"$f":"IF(AND(AM55>'goal seek'!$E$23,AM56>0),AM56/AM55-1,#N/A)","v":{"$error":"#N/A"}},{"$error":"#N/A"},{"$f":"IF(AO56>0,SPM!H73,#N/A)","v":-0.12919177206268018},{"$f":"IF(ISERROR(SPM!L73/100),#N/A,SPM!L73)","v":-0.12919177206268018},{"$f":"SPM!P73","v":-0.10718615766413905},{"$f":"SPM!T73","v":-0.15886002144205091}]
[null,null,null,null,null,null,null,null,null,null,null,null,null,null,null,null,null,null,null,null,null,null,null,null,null,null,null,null,null,null,null,null,null,2073,{"$f":"RM!E68","v":0},{"$f":"RM!K68","v":0},{"$f":"RM!Q68","v":0},{"$f":"RM!W68","v":0},{"$f":"RM!AC68","v":0},{"$f":"RM!AI68","v":0},{"$f":"SPM!E74","v":5.3185608258329893},{"$f":"IF(ISERROR(SPM!I74),#N/A,SPM!I74)","v":5.3185608258329893},{"$f":"SPM!M74","v":16.914949449006059},{"$f":"SPM!Q74","v":1.0206661788312905},null,{"$f":"AI57/SPM!$C74","v":0},{"$f":"AJ57/SPM!$C74","v":0},{"$f":"AK57/SPM!$C74","v":0},{"$f":"AL57/SPM!$C74","v":0},{"$f":"AM57/SPM!$C74","v":0},{"$f":"AN57/SPM!$C74","v":0},{"$f":"SPM!F74","v":1.3710147018405382E-2},{"$f":"IF(ISERROR(SPM!J74),#N/A,SPM!J74)","v":1.3710147018405382E-2},{"$f":"SPM!N74","v":4.3603232406098723E-2},{"$f":"SPM!R74","v":2.6310657763887438E-3},null,2073,{"$f":"IF(AI56>'goal seek'!$E$24,AI57/AI56-1,#N/A)","v":{"$error":"#N/A"}},{"$f":"IF(AND(AJ56>'goal seek'!$E$23,AJ57>0),AJ57/AJ56-1,#N/A)","v":{"$error":"#N/A"}},{"$f":"IF(AND(AK56>'goal seek'!$E$23,AK57>0),AK57/AK56-1,#N/A)","v":{"$error":"#N/A"}},{"$f":"IF(AND(AL56>'goal seek'!$E$23,AL57>0),AL57/AL56-1,#N/A)","v":{"$error":"#N/A"}},{"$f":"IF(AND(AM56>'goal seek'!$E$23,AM57>0),AM57/AM56-1,#N/A)","v":{"$error":"#N/A"}},{"$error":"#N/A"},{"$f":"IF(AO57>0,SPM!H74,#N/A)","v":-0.12942436517941816},{"$f":"IF(ISERROR(SPM!L74/100),#N/A,SPM!L74)","v":-0.12942436517941816},{"$f":"SPM!P74","v":-0.10740630025925475},{"$f":"SPM!T74","v":-0.15910049133917961}]
[null,null,null,null,null,null,null,null,null,null,null,null,null,null,null,null,null,null,null,null,null,null,null,null,null,null,null,null,null,null,null,null,null,2074,{"$f":"RM!E69","v":0},{"$f":"RM!K69","v":0},{"$f":"RM!Q69","v":0},{"$f":"RM!W69","v":0},{"$f":"RM!AC69","v":0},{"$f":"RM!AI69","v":0},{"$f":"SPM!E75","v":4.6290121914960416},{"$f":"IF(ISERROR(SPM!I75),#N/A,SPM!I75)","v":4.6290121914960416},{"$f":"SPM!M75","v":15.094568744393854},{"$f":"SPM!Q75","v":0.85804041065090786},null,{"$f":"AI58/SPM!$C75","v":0},{"$f":"AJ58/SPM!$C75","v":0},{"$f":"AK58/SPM!$C75","v":0},{"$f":"AL58/SPM!$C75","v":0},{"$f":"AM58/SPM!$C75","v":0},{"$f":"AN58/SPM!$C75","v":0},{"$f":"SPM!F75","v":1.1971697552619414E-2},{"$f":"IF(ISERROR(SPM!J75),#N/A,SPM!J75)","v":1.1971697552619414E-2},{"$f":"SPM!N75","v":3.903805049964728E-2},{"$f":"SPM!R75","v":2.2190912141275172E-3},null,2074,{"$f":"IF(AI57>'goal seek'!$E$24,AI58/AI57-1,#N/A)","v":{"$error":"#N/A"}},{"$f":"IF(AND(AJ57>'goal seek'!$E$23,AJ58>0),AJ58/AJ57-1,#N/A)","v":{"$error":"#N/A"}},{"$f":"IF(AND(AK57>'goal seek'!$E$23,AK58>0),AK58/AK57-1,#N/A)","v":{"$error":"#N/A"}},{"$f":"IF(AND(AL57>'goal seek'!$E$23,AL58>0),AL58/AL57-1,#N/A)","v":{"$error":"#N/A"}},{"$f":"IF(AND(AM57>'goal seek'!$E$23,AM58>0),AM58/AM57-1,#N/A)","v":{"$error":"#N/A"}},{"$error":"#N/A"},{"$f":"IF(AO58>0,SPM!H75,#N/A)","v":-0.12964947791660369},{"$f":"IF(ISERROR(SPM!L75/100),#N/A,SPM!L75)","v":-0.12964947791660369},{"$f":"SPM!P75","v":-0.10761963611538743},{"$f":"SPM!T75","v":-0.15933296463942462}]
[null,null,null,null,null,null,null,null,null,null,null,null,null,null,null,null,null,null,null,null,null,null,null,null,null,null,null,null,null,null,null,null,null,2075,{"$f":"RM!E70","v":0},{"$f":"RM!K70","v":0},{"$f":"RM!Q70","v":0},{"$f":"RM!W70","v":0},{"$f":"RM!AC70","v":0},{"$f":"RM!AI70","v":0},{"$f":"SPM!E76","v":4.0278541107616626},{"$f":"IF(ISERROR(SPM!I76),#N/A,SPM!I76)","v":4.0278541107616626},{"$f":"SPM!M76","v":13.466974588140985},{"$f":"SPM!Q76","v":0.72113334150222297},null,{"$f":"AI59/SPM!$C76","v":0},{"$f":"AJ59/SPM!$C76","v":0},{"$f":"AK59/SPM!$C76","v":0},{"$f":"AL59/SPM!$C76","v":0},{"$f":"AM59/SPM!$C76","v":0},{"$f":"AN59/SPM!$C76","v":0},{"$f":"SPM!F76","v":1.0450159169528414E-2},{"$f":"IF(ISERROR(SPM!J76),#N/A,SPM!J76)","v":1.0450159169528414E-2},{"$f":"SPM!N76","v":3.4939703402379535E-2},{"$f":"SPM!R76","v":1.8709610611311542E-3},null,2075,{"$f":"IF(AI58>'goal seek'!$E$24,AI59/AI58-1,#N/A)","v":{"$error":"#N/A"}},{"$f":"IF(AND(AJ58>'goal seek'!$E$23,AJ59>0),AJ59/AJ58-1,#N/A)","v":{"$error":"#N/A"}},{"$f":"IF(AND(AK58>'goal seek'!$E$23,AK59>0),AK59/AK58-1,#N/A)","v":{"$error":"#N/A"}},{"$f":"IF(AND(AL58>'goal seek'!$E$23,AL59>0),AL59/AL58-1,#N/A)","v":{"$error":"#N/A"}},{"$f":"IF(AND(AM58>'goal seek'!$E$23,AM59>0),AM59/AM58-1,#N/A)","v":{"$error":"#N/A"}},{"$error":"#N/A"},{"$f":"IF(AO59>0,SPM!H76,#N/A)","v":-0.12986746542572658},{"$f":"IF(ISERROR(SPM!L76/100),#N/A,SPM!L76)","v":-0.12986746542572658},{"$f":"SPM!P76","v":-0.10782647611958836},{"$f":"SPM!T76","v":-0.15955783369786447}]
[null,null,null,null,null,null,null,null,null,null,null,null,null,null,null,null,null,null,null,null,null,null,null,null,null,null,null,null,null,null,null,null,null,2076,{"$f":"RM!E71","v":0},{"$f":"RM!K71","v":0},{"$f":"RM!Q71","v":0},{"$f":"RM!W71","v":0},{"$f":"RM!AC71","v":0},{"$f":"RM!AI71","v":0},{"$f":"SPM!E77","v":3.5039162424338706},{"$f":"IF(ISERROR(SPM!I77),#N/A,SPM!I77)","v":3.5039162424338706},{"$f":"SPM!M77","v":12.012176209132477},{"$f":"SPM!Q77","v":0.60591392609347983},null,{"$f":"AI60/SPM!$C77","v":0},{"$f":"AJ60/SPM!$C77","v":0},{"$f":"AK60/SPM!$C77","v":0},{"$f":"AL60/SPM!$C77","v":0},{"$f":"AM60/SPM!$C77","v":0},{"$f":"AN60/SPM!$C77","v":0},{"$f":"SPM!F77","v":9.1189797642318091E-3},{"$f":"IF(ISERROR(SPM!J77),#N/A,SPM!J77)","v":9.1189797642318091E-3},{"$f":"SPM!N77","v":3.126181797638479E-2},{"$f":"SPM!R77","v":1.5768975194095181E-3},null,2076,{"$f":"IF(AI59>'goal seek'!$E$24,AI60/AI59-1,#N/A)","v":{"$error":"#N/A"}},{"$f":"IF(AND(AJ59>'goal seek'!$E$23,AJ60>0),AJ60/AJ59-1,#N/A)","v":{"$error":"#N/A"}},{"$f":"IF(AND(AK59>'goal seek'!$E$23,AK60>0),AK60/AK59-1,#N/A)","v":{"$error":"#N/A"}},{"$f":"IF(AND(AL59>'goal seek'!$E$23,AL60>0),AL60/AL59-1,#N/A)","v":{"$error":"#N/A"}},{"$f":"IF(AND(AM59>'goal seek'!$E$23,AM60>0),AM60/AM59-1,#N/A)","v":{"$error":"#N/A"}},{"$error":"#N/A"},{"$f":"IF(AO60>0,SPM!H77,#N/A)","v":-0.13007866072604995},{"$f":"IF(ISERROR(SPM!L77/100),#N/A,SPM!L77)","v":-0.13007866072604995},{"$f":"SPM!P77","v":-0.10802711251045231},{"$f":"SPM!T77","v":-0.1597754656146182}]
[null,null,null,null,null,null,null,null,null,null,null,null,null,null,null,null,null,null,null,null,null,null,null,null,null,null,null,null,null,null,null,null,null,2077,{"$f":"RM!E72","v":0},{"$f":"RM!K72","v":0},{"$f":"RM!Q72","v":0},{"$f":"RM!W72","v":0},{"$f":"RM!AC72","v":0},{"$f":"RM!AI72","v":0},{"$f":"SPM!E78","v":3.0474142037383238},{"$f":"IF(ISERROR(SPM!I78),#N/A,SPM!I78)","v":3.0474142037383238},{"$f":"SPM!M78","v":10.712196634547581},{"$f":"SPM!Q78","v":0.50897605696481785},null,{"$f":"AI61/SPM!$C78","v":0},{"$f":"AJ61/SPM!$C78","v":0},{"$f":"AK61/SPM!$C78","v":0},{"$f":"AL61/SPM!$C78","v":0},{"$f":"AM61/SPM!$C78","v":0},{"$f":"AN61/SPM!$C78","v":0},{"$f":"SPM!F78","v":7.9547876237788997E-3},{"$f":"IF(ISERROR(SPM!J78),#N/A,SPM!J78)","v":7.9547876237788997E-3},{"$f":"SPM!N78","v":2.7962476878742731E-2},{"$f":"SPM!R78","v":1.3286006325548977E-3},null,2077,{"$f":"IF(AI60>'goal seek'!$E$24,AI61/AI60-1,#N/A)","v":{"$error":"#N/A"}},{"$f":"IF(AND(AJ60>'goal seek'!$E$23,AJ61>0),AJ61/AJ60-1,#N/A)","v":{"$error":"#N/A"}},{"$f":"IF(AND(AK60>'goal seek'!$E$23,AK61>0),AK61/AK60-1,#N/A)","v":{"$error":"#N/A"}},{"$f":"IF(AND(AL60>'goal seek'!$E$23,AL61>0),AL61/AL60-1,#N/A)","v":{"$error":"#N/A"}},{"$f":"IF(AND(AM60>'goal seek'!$E$23,AM61>0),AM61/AM60-1,#N/A)","v":{"$error":"#N/A"}},{"$error":"#N/A"},{"$f":"IF(AO61>0,SPM!H78,#N/A)","v":-0.13028337640241477},{"$f":"IF(ISERROR(SPM!L78/100),#N/A,SPM!L78)","v":-0.13028337640241477},{"$f":"SPM!P78","v":-0.10822182025573038},{"$f":"SPM!T78","v":-0.15998620423473564}]
[null,null,null,null,null,null,null,null,null,null,null,null,null,null,null,null,null,null,null,null,null,null,null,null,null,null,null,null,null,null,null,null,null,2078,{"$f":"RM!E73","v":0},{"$f":"RM!K73","v":0},{"$f":"RM!Q73","v":0},{"$f":"RM!W73","v":0},{"$f":"RM!AC73","v":0},{"$f":"RM!AI73","v":0},{"$f":"SPM!E79","v":2.6497817896097686},{"$f":"IF(ISERROR(SPM!I79),#N/A,SPM!I79)","v":2.6497817896097686},{"$f":"SPM!M79","v":9.5508782030152304},{"$f":"SPM!Q79","v":0.42744299308048239},null,{"$f":"AI62/SPM!$C79","v":0},{"$f":"AJ62/SPM!$C79","v":0},{"$f":"AK62/SPM!$C79","v":0},{"$f":"AL62/SPM!$C79","v":0},{"$f":"AM62/SPM!$C79","v":0},{"$f":"AN62/SPM!$C79","v":0},{"$f":"SPM!F79","v":6.9370260277308053E-3},{"$f":"IF(ISERROR(SPM!J79),#N/A,SPM!J79)","v":6.9370260277308053E-3},{"$f":"SPM!N79","v":2.5003828972558814E-2},{"$f":"SPM!R79","v":1.1190291894968246E-3},null,2078,{"$f":"IF(AI61>'goal seek'!$E$24,AI62/AI61-1,#N/A)","v":{"$error":"#N/A"}},{"$f":"IF(AND(AJ61>'goal seek'!$E$23,AJ62>0),AJ62/AJ61-1,#N/A)","v":{"$error":"#N/A"}},{"$f":"IF(AND(AK61>'goal seek'!$E$23,AK62>0),AK62/AK61-1,#N/A)","v":{"$error":"#N/A"}},{"$f":"IF(AND(AL61>'goal seek'!$E$23,AL62>0),AL62/AL61-1,#N/A)","v":{"$error":"#N/A"}},{"$f":"IF(AND(AM61>'goal seek'!$E$23,AM62>0),AM62/AM61-1,#N/A)","v":{"$error":"#N/A"}},{"$error":"#N/A"},{"$f":"IF(AO62>0,SPM!H79,#N/A)","v":-0.13048190614875116},{"$f":"IF(ISERROR(SPM!L79/100),#N/A,SPM!L79)","v":-0.13048190614875116},{"$f":"SPM!P79","v":-0.10841085830958497},{"$f":"SPM!T79","v":-0.16019037196079991}]
[null,null,null,null,null,null,null,null,null,null,null,null,null,null,null,null,null,null,null,null,null,null,null,null,null,null,null,null,null,null,null,null,null,2079,{"$f":"RM!E74","v":0},{"$f":"RM!K74","v":0},{"$f":"RM!Q74","v":0},{"$f":"RM!W74","v":0},{"$f":"RM!AC74","v":0},{"$f":"RM!AI74","v":0},{"$f":"SPM!E80","v":2.3035228097882552},{"$f":"IF(ISERROR(SPM!I80),#N/A,SPM!I80)","v":2.3035228097882552},{"$f":"SPM!M80","v":8.5137056392494941},{"$f":"SPM!Q80","v":0.35888615029876081},null,{"$f":"AI63/SPM!$C80","v":0},{"$f":"AJ63/SPM!$C80","v":0},{"$f":"AK63/SPM!$C80","v":0},{"$f":"AL63/SPM!$C80","v":0},{"$f":"AM63/SPM!$C80","v":0},{"$f":"AN63/SPM!$C80","v":0},{"$f":"SPM!F80","v":6.0476163561764846E-3},{"$f":"IF(ISERROR(SPM!J80),#N/A,SPM!J80)","v":6.0476163561764846E-3},{"$f":"SPM!N80","v":2.2351689011636082E-2},{"$f":"SPM!R80","v":9.4221153067353667E-4},null,2079,{"$f":"IF(AI62>'goal seek'!$E$24,AI63/AI62-1,#N/A)","v":{"$error":"#N/A"}},{"$f":"IF(AND(AJ62>'goal seek'!$E$23,AJ63>0),AJ63/AJ62-1,#N/A)","v":{"$error":"#N/A"}},{"$f":"IF(AND(AK62>'goal seek'!$E$23,AK63>0),AK63/AK62-1,#N/A)","v":{"$error":"#N/A"}},{"$f":"IF(AND(AL62>'goal seek'!$E$23,AL63>0),AL63/AL62-1,#N/A)","v":{"$error":"#N/A"}},{"$f":"IF(AND(AM62>'goal seek'!$E$23,AM63>0),AM63/AM62-1,#N/A)","v":{"$error":"#N/A"}},{"$error":"#N/A"},{"$f":"IF(AO63>0,SPM!H80,#N/A)","v":-0.13067452617391062},{"$f":"IF(ISERROR(SPM!L80/100),#N/A,SPM!L80)","v":-0.13067452617391062},{"$f":"SPM!P80","v":-0.10859447076168335},{"$f":"SPM!T80","v":-0.16038827139883224}]
[null,null,null,null,null,null,null,null,null,null,null,null,null,null,null,null,null,null,null,null,null,null,null,null,null,null,null,null,null,null,null,null,{"$f":"AH64","v":2080},2080,{"$f":"RM!E75","v":0},{"$f":"RM!K75","v":0},{"$f":"RM!Q75","v":0},{"$f":"RM!W75","v":0},{"$f":"RM!AC75","v":0},{"$f":"RM!AI75","v":0},{"$f":"SPM!E81","v":2.0020803677145143},{"$f":"IF(ISERROR(SPM!I81),#N/A,SPM!I81)","v":2.0020803677145143},{"$f":"SPM!M81","v":7.5876452902346543},{"$f":"SPM!Q81","v":0.3012561452241842},null,{"$f":"AI64/SPM!$C81","v":0},{"$f":"AJ64/SPM!$C81","v":0},{"$f":"AK64/SPM!$C81","v":0},{"$f":"AL64/SPM!$C81","v":0},{"$f":"AM64/SPM!$C81","v":0},{"$f":"AN64/SPM!$C81","v":0},{"$f":"SPM!F81","v":5.2706591844243348E-3},{"$f":"IF(ISERROR(SPM!J81),#N/A,SPM!J81)","v":5.2706591844243348E-3},{"$f":"SPM!N81","v":1.9975168320931234E-2},{"$f":"SPM!R81","v":7.9308428087864445E-4},null,2080,{"$f":"IF(AI63>'goal seek'!$E$24,AI64/AI63-1,#N/A)","v":{"$error":"#N/A"}},{"$f":"IF(AND(AJ63>'goal seek'!$E$23,AJ64>0),AJ64/AJ63-1,#N/A)","v":{"$error":"#N/A"}},{"$f":"IF(AND(AK63>'goal seek'!$E$23,AK64>0),AK64/AK63-1,#N/A)","v":{"$error":"#N/A"}},{"$f":"IF(AND(AL63>'goal seek'!$E$23,AL64>0),AL64/AL63-1,#N/A)","v":{"$error":"#N/A"}},{"$f":"IF(AND(AM63>'goal seek'!$E$23,AM64>0),AM64/AM63-1,#N/A)","v":{"$error":"#N/A"}},{"$error":"#N/A"},{"$f":"IF(AO64>0,SPM!H81,#N/A)","v":-0.13086149648392245},{"$f":"IF(ISERROR(SPM!L81/100),#N/A,SPM!L81)","v":-0.13086149648392245},{"$f":"SPM!P81","v":-0.10877288788862502},{"$f":"SPM!T81","v":-0.16058018685480491}]
[null,null,null,null,null,null,null,null,null,null,null,null,null,null,null,null,null,null,null,null,null,null,null,null,null,null,null,null,null,null,null,null,null,2081,{"$f":"RM!E76","v":0},{"$f":"RM!K76","v":0},{"$f":"RM!Q76","v":0},{"$f":"RM!W76","v":0},{"$f":"RM!AC76","v":0},{"$f":"RM!AI76","v":0},{"$f":"SPM!E82","v":1.7397216258533152},{"$f":"IF(ISERROR(SPM!I82),#N/A,SPM!I82)","v":1.7397216258533152},{"$f":"SPM!M82","v":6.7609992043940608},{"$f":"SPM!Q82","v":0.25282428358739262},null,{"$f":"AI65/SPM!$C82","v":0},{"$f":"AJ65/SPM!$C82","v":0},{"$f":"AK65/SPM!$C82","v":0},{"$f":"AL65/SPM!$C82","v":0},{"$f":"AM65/SPM!$C82","v":0},{"$f":"AN65/SPM!$C82","v":0},{"$f":"SPM!F82","v":4.5921779867030554E-3},{"$f":"IF(ISERROR(SPM!J82),#N/A,SPM!J82)","v":4.5921779867030554E-3},{"$f":"SPM!N82","v":1.7846367633273914E-2},{"$f":"SPM!R82","v":6.6735625535753722E-4},null,2081,{"$f":"IF(AI64>'goal seek'!$E$24,AI65/AI64-1,#N/A)","v":{"$error":"#N/A"}},{"$f":"IF(AND(AJ64>'goal seek'!$E$23,AJ65>0),AJ65/AJ64-1,#N/A)","v":{"$error":"#N/A"}},{"$f":"IF(AND(AK64>'goal seek'!$E$23,AK65>0),AK65/AK64-1,#N/A)","v":{"$error":"#N/A"}},{"$f":"IF(AND(AL64>'goal seek'!$E$23,AL65>0),AL65/AL64-1,#N/A)","v":{"$error":"#N/A"}},{"$f":"IF(AND(AM64>'goal seek'!$E$23,AM65>0),AM65/AM64-1,#N/A)","v":{"$error":"#N/A"}},{"$error":"#N/A"},{"$f":"IF(AO65>0,SPM!H82,#N/A)","v":-0.13104306205284658},{"$f":"IF(ISERROR(SPM!L82/100),#N/A,SPM!L82)","v":-0.13104306205284658},{"$f":"SPM!P82","v":-0.10894632711738543},{"$f":"SPM!T82","v":-0.16076638569729523}]
[null,null,null,null,null,null,null,null,null,null,null,null,null,null,null,null,null,null,null,null,null,null,null,null,null,null,null,null,null,null,null,null,null,2082,{"$f":"RM!E77","v":0},{"$f":"RM!K77","v":0},{"$f":"RM!Q77","v":0},{"$f":"RM!W77","v":0},{"$f":"RM!AC77","v":0},{"$f":"RM!AI77","v":0},{"$f":"SPM!E83","v":1.5114363041820695},{"$f":"IF(ISERROR(SPM!I83),#N/A,SPM!I83)","v":1.5114363041820695},{"$f":"SPM!M83","v":6.0232728173860224},{"$f":"SPM!Q83","v":0.21213294337896915},null,{"$f":"AI66/SPM!$C83","v":0},{"$f":"AJ66/SPM!$C83","v":0},{"$f":"AK66/SPM!$C83","v":0},{"$f":"AL66/SPM!$C83","v":0},{"$f":"AM66/SPM!$C83","v":0},{"$f":"AN66/SPM!$C83","v":0},{"$f":"SPM!F83","v":3.9998969805998636E-3},{"$f":"IF(ISERROR(SPM!J83),#N/A,SPM!J83)","v":3.9998969805998636E-3},{"$f":"SPM!N83","v":1.5940116489810991E-2},{"$f":"SPM!R83","v":5.613931049290768E-4},null,2082,{"$f":"IF(AI65>'goal seek'!$E$24,AI66/AI65-1,#N/A)","v":{"$error":"#N/A"}},{"$f":"IF(AND(AJ65>'goal seek'!$E$23,AJ66>0),AJ66/AJ65-1,#N/A)","v":{"$error":"#N/A"}},{"$f":"IF(AND(AK65>'goal seek'!$E$23,AK66>0),AK66/AK65-1,#N/A)","v":{"$error":"#N/A"}},{"$f":"IF(AND(AL65>'goal seek'!$E$23,AL66>0),AL66/AL65-1,#N/A)","v":{"$error":"#N/A"}},{"$f":"IF(AND(AM65>'goal seek'!$E$23,AM66>0),AM66/AM65-1,#N/A)","v":{"$error":"#N/A"}},{"$error":"#N/A"},{"$f":"IF(AO66>0,SPM!H83,#N/A)","v":-0.13121945389353551},{"$f":"IF(ISERROR(SPM!L83/100),#N/A,SPM!L83)","v":-0.13121945389353551},{"$f":"SPM!P83","v":-0.10911499390927017},{"$f":"SPM!T83","v":-0.16094711960039185}]
[null,null,null,null,null,null,null,null,null,null,null,null,null,null,null,null,null,null,null,null,null,null,null,null,null,null,null,null,null,null,null,null,null,2083,{"$f":"RM!E78","v":0},{"$f":"RM!K78","v":0},{"$f":"RM!Q78","v":0},{"$f":"RM!W78","v":0},{"$f":"RM!AC78","v":0},{"$f":"RM!AI78","v":0},{"$f":"SPM!E84","v":1.3128473429391487},{"$f":"IF(ISERROR(SPM!I84),#N/A,SPM!I84)","v":1.3128473429391487},{"$f":"SPM!M84","v":5.3650550898211264},{"$f":"SPM!Q84","v":0.17795352654884145},null,{"$f":"AI67/SPM!$C84","v":0},{"$f":"AJ67/SPM!$C84","v":0},{"$f":"AK67/SPM!$C84","v":0},{"$f":"AL67/SPM!$C84","v":0},{"$f":"AM67/SPM!$C84","v":0},{"$f":"AN67/SPM!$C84","v":0},{"$f":"SPM!F84","v":3.4830426443293871E-3},{"$f":"IF(ISERROR(SPM!J84),#N/A,SPM!J84)","v":3.4830426443293871E-3},{"$f":"SPM!N84","v":1.4233730804670986E-2},{"$f":"SPM!R84","v":4.7211865493118919E-4},null,2083,{"$f":"IF(AI66>'goal seek'!$E$24,AI67/AI66-1,#N/A)","v":{"$error":"#N/A"}},{"$f":"IF(AND(AJ66>'goal seek'!$E$23,AJ67>0),AJ67/AJ66-1,#N/A)","v":{"$error":"#N/A"}},{"$f":"IF(AND(AK66>'goal seek'!$E$23,AK67>0),AK67/AK66-1,#N/A)","v":{"$error":"#N/A"}},{"$f":"IF(AND(AL66>'goal seek'!$E$23,AL67>0),AL67/AL66-1,#N/A)","v":{"$error":"#N/A"}},{"$f":"IF(AND(AM66>'goal seek'!$E$23,AM67>0),AM67/AM66-1,#N/A)","v":{"$error":"#N/A"}},{"$error":"#N/A"},{"$f":"IF(AO67>0,SPM!H84,#N/A)","v":-0.13139089003845875},{"$f":"IF(ISERROR(SPM!L84/100),#N/A,SPM!L84)","v":-0.13139089003845875},{"$f":"SPM!P84","v":-0.10927908257201423},{"$f":"SPM!T84","v":-0.16112262567849822}]
[null,null,null,null,null,null,null,null,null,null,null,null,null,null,null,null,null,null,null,null,null,null,null,null,null,null,null,null,null,null,null,null,null,2084,{"$f":"RM!E79","v":0},{"$f":"RM!K79","v":0},{"$f":"RM!Q79","v":0},{"$f":"RM!W79","v":0},{"$f":"RM!AC79","v":0},{"$f":"RM!AI79","v":0},{"$f":"SPM!E85","v":1.1401323282683551},{"$f":"IF(ISERROR(SPM!I85),#N/A,SPM!I85)","v":1.1401323282683551},{"$f":"SPM!M85","v":4.777910022219956},{"$f":"SPM!Q85","v":0.14925084569778813},null,{"$f":"AI68/SPM!$C85","v":0},{"$f":"AJ68/SPM!$C85","v":0},{"$f":"AK68/SPM!$C85","v":0},{"$f":"AL68/SPM!$C85","v":0},{"$f":"AM68/SPM!$C85","v":0},{"$f":"AN68/SPM!$C85","v":0},{"$f":"SPM!F85","v":3.0321607129402488E-3},{"$f":"IF(ISERROR(SPM!J85),#N/A,SPM!J85)","v":3.0321607129402488E-3},{"$f":"SPM!N85","v":1.2706762803000616E-2},{"$f":"SPM!R85","v":3.9692984706896425E-4},null,{"$f":"AH68","v":2084},{"$f":"IF(AI67>'goal seek'!$E$24,AI68/AI67-1,#N/A)","v":{"$error":"#N/A"}},{"$f":"IF(AND(AJ67>'goal seek'!$E$23,AJ68>0),AJ68/AJ67-1,#N/A)","v":{"$error":"#N/A"}},{"$f":"IF(AND(AK67>'goal seek'!$E$23,AK68>0),AK68/AK67-1,#N/A)","v":{"$error":"#N/A"}},{"$f":"IF(AND(AL67>'goal seek'!$E$23,AL68>0),AL68/AL67-1,#N/A)","v":{"$error":"#N/A"}},{"$f":"IF(AND(AM67>'goal seek'!$E$23,AM68>0),AM68/AM67-1,#N/A)","v":{"$error":"#N/A"}},{"$error":"#N/A"},{"$f":"IF(AO68>0,SPM!H85,#N/A)","v":-0.13155757643849617},{"$f":"IF(ISERROR(SPM!L85/100),#N/A,SPM!L85)","v":-0.13155757643849617},{"$f":"SPM!P85","v":-0.10943877700624807},{"$f":"SPM!T85","v":-0.16129312752436817}]
[null,null,null,null,null,null,null,null,null,null,null,null,null,null,null,null,null,null,null,null,null,null,null,null,null,null,null,null,null,null,null,null,null,{"$f":"AH68+1","v":2085},{"$f":"RM!E80","v":0},{"$f":"RM!K80","v":0},{"$f":"RM!Q80","v":0},{"$f":"RM!W80","v":0},{"$f":"RM!AC80","v":0},{"$f":"RM!AI80","v":0},{"$f":"SPM!E86","v":0.98995443114857018},{"$f":"IF(ISERROR(SPM!I86),#N/A,SPM!I86)","v":0.98995443114857018},{"$f":"SPM!M86","v":4.2542785501104419},{"$f":"SPM!Q86","v":0.12515297785564561},null,{"$f":"AI69/SPM!$C86","v":0},{"$f":"AJ69/SPM!$C86","v":0},{"$f":"AK69/SPM!$C86","v":0},{"$f":"AL69/SPM!$C86","v":0},{"$f":"AM69/SPM!$C86","v":0},{"$f":"AN69/SPM!$C86","v":0},{"$f":"SPM!F86","v":2.6389604837131473E-3},{"$f":"IF(ISERROR(SPM!J86),#N/A,SPM!J86)","v":2.6389604837131473E-3},{"$f":"SPM!N86","v":1.1340797745027735E-2},{"$f":"SPM!R86","v":3.3362521807885987E-4},null,2085,{"$f":"IF(AI68>'goal seek'!$E$24,AI69/AI68-1,#N/A)","v":{"$error":"#N/A"}},{"$f":"IF(AND(AJ68>'goal seek'!$E$23,AJ69>0),AJ69/AJ68-1,#N/A)","v":{"$error":"#N/A"}},{"$f":"IF(AND(AK68>'goal seek'!$E$23,AK69>0),AK69/AK68-1,#N/A)","v":{"$error":"#N/A"}},{"$f":"IF(AND(AL68>'goal seek'!$E$23,AL69>0),AL69/AL68-1,#N/A)","v":{"$error":"#N/A"}},{"$f":"IF(AND(AM68>'goal seek'!$E$23,AM69>0),AM69/AM68-1,#N/A)","v":{"$error":"#N/A"}},{"$f":"IF(AN69>0,AN69/AN68-1,#N/A)","v":{"$error":"#N/A"}},{"$f":"IF(AO69>0,SPM!H86,#N/A)","v":-0.13171970778854825},{"$f":"IF(ISERROR(SPM!L86/100),#N/A,SPM!L86)","v":-0.13171970778854825},{"$f":"SPM!P86","v":-0.10959425139325242},{"$f":"SPM!T86","v":-0.16145883615920875}]
[null,null,null,null,null,null,null,null,null,null,null,null,null,null,null,null,null,null,null,null,null,null,null,null,null,null,null,null,null,null,null,null,null,2086,{"$f":"RM!E81","v":0},{"$f":"RM!K81","v":0},{"$f":"RM!Q81","v":0},{"$f":"RM!W81","v":0},{"$f":"RM!AC81","v":0},{"$f":"RM!AI81","v":0},{"$f":"SPM!E87","v":0.8594017470501214},{"$f":"IF(ISERROR(SPM!I87),#N/A,SPM!I87)","v":0.8594017470501214},{"$f":"SPM!M87","v":3.7873898967368724},{"$f":"SPM!Q87","v":0.10492575971911577},null,{"$f":"AI70/SPM!$C87","v":0},{"$f":"AJ70/SPM!$C87","v":0},{"$f":"AK70/SPM!$C87","v":0},{"$f":"AL70/SPM!$C87","v":0},{"$f":"AM70/SPM!$C87","v":0},{"$f":"AN70/SPM!$C87","v":0},{"$f":"SPM!F87","v":2.2961705933244704E-3},{"$f":"IF(ISERROR(SPM!J87),#N/A,SPM!J87)","v":2.2961705933244704E-3},{"$f":"SPM!N87","v":1.0119240897743043E-2},{"$f":"SPM!R87","v":2.8034320942008941E-4},null,2086,{"$f":"IF(AI69>'goal seek'!$E$24,AI70/AI69-1,#N/A)","v":{"$error":"#N/A"}},{"$f":"IF(AND(AJ69>'goal seek'!$E$23,AJ70>0),AJ70/AJ69-1,#N/A)","v":{"$error":"#N/A"}},{"$f":"IF(AND(AK69>'goal seek'!$E$23,AK70>0),AK70/AK69-1,#N/A)","v":{"$error":"#N/A"}},{"$f":"IF(AND(AL69>'goal seek'!$E$23,AL70>0),AL70/AL69-1,#N/A)","v":{"$error":"#N/A"}},{"$f":"IF(AND(AM69>'goal seek'!$E$23,AM70>0),AM70/AM69-1,#N/A)","v":{"$error":"#N/A"}},{"$error":"#N/A"},{"$f":"IF(AO70>0,SPM!H87,#N/A)","v":-0.13187746828606872},{"$f":"IF(ISERROR(SPM!L87/100),#N/A,SPM!L87)","v":-0.13187746828606872},{"$f":"SPM!P87","v":-0.10974567082859417},{"$f":"SPM!T87","v":-0.16161995090408782}]
[null,null,null,null,null,null,null,null,null,null,null,null,null,null,null,null,null,null,null,null,null,null,null,null,null,null,null,null,null,null,null,null,null,2087,{"$f":"RM!E82","v":0},{"$f":"RM!K82","v":0},{"$f":"RM!Q82","v":0},{"$f":"RM!W82","v":0},{"$f":"RM!AC82","v":0},{"$f":"RM!AI82","v":0},{"$f":"SPM!E88","v":0.7459340472016871},{"$f":"IF(ISERROR(SPM!I88),#N/A,SPM!I88)","v":0.7459340472016871},{"$f":"SPM!M88","v":3.3711815319885474},{"$f":"SPM!Q88","v":8.7951220744928005E-2},null,{"$f":"AI71/SPM!$C88","v":0},{"$f":"AJ71/SPM!$C88","v":0},{"$f":"AK71/SPM!$C88","v":0},{"$f":"AL71/SPM!$C88","v":0},{"$f":"AM71/SPM!$C88","v":0},{"$f":"AN71/SPM!$C88","v":0},{"$f":"SPM!F88","v":1.9974213559585362E-3},{"$f":"IF(ISERROR(SPM!J88),#N/A,SPM!J88)","v":1.9974213559585362E-3},{"$f":"SPM!N88","v":9.0271653533818066E-3},{"$f":"SPM!R88","v":2.3551096408265046E-4},null,2087,{"$f":"IF(AI70>'goal seek'!$E$24,AI71/AI70-1,#N/A)","v":{"$error":"#N/A"}},{"$f":"IF(AND(AJ70>'goal seek'!$E$23,AJ71>0),AJ71/AJ70-1,#N/A)","v":{"$error":"#N/A"}},{"$f":"IF(AND(AK70>'goal seek'!$E$23,AK71>0),AK71/AK70-1,#N/A)","v":{"$error":"#N/A"}},{"$f":"IF(AND(AL70>'goal seek'!$E$23,AL71>0),AL71/AL70-1,#N/A)","v":{"$error":"#N/A"}},{"$f":"IF(AND(AM70>'goal seek'!$E$23,AM71>0),AM71/AM70-1,#N/A)","v":{"$error":"#N/A"}},{"$error":"#N/A"},{"$f":"IF(AO71>0,SPM!H88,#N/A)","v":-0.13203103232907057},{"$f":"IF(ISERROR(SPM!L88/100),#N/A,SPM!L88)","v":-0.13203103232907057},{"$f":"SPM!P88","v":-0.10989319190689095},{"$f":"SPM!T88","v":-0.16177666017980982}]
[null,null,null,null,null,null,null,null,null,null,null,null,null,null,null,null,null,null,null,null,null,null,null,null,null,null,null,null,null,null,null,null,null,2088,{"$f":"RM!E83","v":0},{"$f":"RM!K83","v":0},{"$f":"RM!Q83","v":0},{"$f":"RM!W83","v":0},{"$f":"RM!AC83","v":0},{"$f":"RM!AI83","v":0},{"$f":"SPM!E89","v":0.64733606327091042},{"$f":"IF(ISERROR(SPM!I89),#N/A,SPM!I89)","v":0.64733606327091042},{"$f":"SPM!M89","v":3.0002269536031392},{"$f":"SPM!Q89","v":7.3709355010579791E-2},null,{"$f":"AI72/SPM!$C89","v":0},{"$f":"AJ72/SPM!$C89","v":0},{"$f":"AK72/SPM!$C89","v":0},{"$f":"AL72/SPM!$C89","v":0},{"$f":"AM72/SPM!$C89","v":0},{"$f":"AN72/SPM!$C89","v":0},{"$f":"SPM!F89","v":1.7371355540647603E-3},{"$f":"IF(ISERROR(SPM!J89),#N/A,SPM!J89)","v":1.7371355540647603E-3},{"$f":"SPM!N89","v":8.0511518005544451E-3},{"$f":"SPM!R89","v":1.9780010495487184E-4},null,2088,{"$f":"IF(AI71>'goal seek'!$E$24,AI72/AI71-1,#N/A)","v":{"$error":"#N/A"}},{"$f":"IF(AND(AJ71>'goal seek'!$E$23,AJ72>0),AJ72/AJ71-1,#N/A)","v":{"$error":"#N/A"}},{"$f":"IF(AND(AK71>'goal seek'!$E$23,AK72>0),AK72/AK71-1,#N/A)","v":{"$error":"#N/A"}},{"$f":"IF(AND(AL71>'goal seek'!$E$23,AL72>0),AL72/AL71-1,#N/A)","v":{"$error":"#N/A"}},{"$f":"IF(AND(AM71>'goal seek'!$E$23,AM72>0),AM72/AM71-1,#N/A)","v":{"$error":"#N/A"}},{"$error":"#N/A"},{"$f":"IF(AO72>0,SPM!H89,#N/A)","v":-0.13218056515942564},{"$f":"IF(ISERROR(SPM!L89/100),#N/A,SPM!L89)","v":-0.13218056515942564},{"$f":"SPM!P89","v":-0.11003696326213395},{"$f":"SPM!T89","v":-0.16192914224183202}]
[null,null,null,null,null,null,null,null,null,null,null,null,null,null,null,null,null,null,null,null,null,null,null,null,null,null,null,null,null,null,null,null,null,2089,{"$f":"RM!E84","v":0},{"$f":"RM!K84","v":0},{"$f":"RM!Q84","v":0},{"$f":"RM!W84","v":0},{"$f":"RM!AC84","v":0},{"$f":"RM!AI84","v":0},{"$f":"SPM!E90","v":0.56167652671155466},{"$f":"IF(ISERROR(SPM!I90),#N/A,SPM!I90)","v":0.56167652671155466},{"$f":"SPM!M90","v":2.6696705703062484},{"$f":"SPM!Q90","v":6.1762722169590167E-2},null,{"$f":"AI73/SPM!$C90","v":0},{"$f":"AJ73/SPM!$C90","v":0},{"$f":"AK73/SPM!$C90","v":0},{"$f":"AL73/SPM!$C90","v":0},{"$f":"AM73/SPM!$C90","v":0},{"$f":"AN73/SPM!$C90","v":0},{"$f":"SPM!F90","v":1.5104306999324895E-3},{"$f":"IF(ISERROR(SPM!J90),#N/A,SPM!J90)","v":1.5104306999324895E-3},{"$f":"SPM!N90","v":7.1791363824745052E-3},{"$f":"SPM!R90","v":1.6608903388312251E-4},null,2089,{"$f":"IF(AI72>'goal seek'!$E$24,AI73/AI72-1,#N/A)","v":{"$error":"#N/A"}},{"$f":"IF(AND(AJ72>'goal seek'!$E$23,AJ73>0),AJ73/AJ72-1,#N/A)","v":{"$error":"#N/A"}},{"$f":"IF(AND(AK72>'goal seek'!$E$23,AK73>0),AK73/AK72-1,#N/A)","v":{"$error":"#N/A"}},{"$f":"IF(AND(AL72>'goal seek'!$E$23,AL73>0),AL73/AL72-1,#N/A)","v":{"$error":"#N/A"}},{"$f":"IF(AND(AM72>'goal seek'!$E$23,AM73>0),AM73/AM72-1,#N/A)","v":{"$error":"#N/A"}},{"$error":"#N/A"},{"$f":"IF(AO73>0,SPM!H90,#N/A)","v":-0.13232622345575579},{"$f":"IF(ISERROR(SPM!L90/100),#N/A,SPM!L90)","v":-0.13232622345575579},{"$f":"SPM!P90","v":-0.11017712606704877},{"$f":"SPM!T90","v":-0.16207756585680172}]
[null,null,null,null,null,null,null,null,null,null,null,null,null,null,null,null,null,null,null,null,null,null,null,null,null,null,null,null,null,null,null,null,{"$f":"AH74","v":2090},2090,{"$f":"RM!E85","v":0},{"$f":"RM!K85","v":0},{"$f":"RM!Q85","v":0},{"$f":"RM!W85","v":0},{"$f":"RM!AC85","v":0},{"$f":"RM!AI85","v":0},{"$f":"SPM!E91","v":0.48727227301630238},{"$f":"IF(ISERROR(SPM!I91),#N/A,SPM!I91)","v":0.48727227301630238},{"$f":"SPM!M91","v":2.3751690262493526},{"$f":"SPM!Q91","v":5.1743444237984715E-2},null,{"$f":"AI74/SPM!$C91","v":0},{"$f":"AJ74/SPM!$C91","v":0},{"$f":"AK74/SPM!$C91","v":0},{"$f":"AL74/SPM!$C91","v":0},{"$f":"AM74/SPM!$C91","v":0},{"$f":"AN74/SPM!$C91","v":0},{"$f":"SPM!F91","v":1.3130314199979382E-3},{"$f":"IF(ISERROR(SPM!J91),#N/A,SPM!J91)","v":1.3130314199979382E-3},{"$f":"SPM!N91","v":6.4002647636118796E-3},{"$f":"SPM!R91","v":1.3943081071044678E-4},null,2090,{"$f":"IF(AI73>'goal seek'!$E$24,AI74/AI73-1,#N/A)","v":{"$error":"#N/A"}},{"$f":"IF(AND(AJ73>'goal seek'!$E$23,AJ74>0),AJ74/AJ73-1,#N/A)","v":{"$error":"#N/A"}},{"$f":"IF(AND(AK73>'goal seek'!$E$23,AK74>0),AK74/AK73-1,#N/A)","v":{"$error":"#N/A"}},{"$f":"IF(AND(AL73>'goal seek'!$E$23,AL74>0),AL74/AL73-1,#N/A)","v":{"$error":"#N/A"}},{"$f":"IF(AND(AM73>'goal seek'!$E$23,AM74>0),AM74/AM73-1,#N/A)","v":{"$error":"#N/A"}},{"$error":"#N/A"},{"$f":"IF(AO74>0,SPM!H91,#N/A)","v":-0.13246815588122682},{"$f":"IF(ISERROR(SPM!L91/100),#N/A,SPM!L91)","v":-0.13246815588122682},{"$f":"SPM!P91","v":-0.11031381449551375},{"$f":"SPM!T91","v":-0.16222209092556156}]
[null,null,null,null,null,null,null,null,null,null,null,null,null,null,null,null,null,null,null,null,null,null,null,null,null,null,null,null,null,null,null,null,null,2091,{"$f":"RM!E86","v":0},{"$f":"RM!K86","v":0},{"$f":"RM!Q86","v":0},{"$f":"RM!W86","v":0},{"$f":"RM!AC86","v":0},{"$f":"RM!AI86","v":0},{"$f":"SPM!E92","v":0.42265680059545918},{"$f":"IF(ISERROR(SPM!I92),#N/A,SPM!I92)","v":0.42265680059545918},{"$f":"SPM!M92","v":2.1128383619219058},{"$f":"SPM!Q92","v":4.3342230176568214E-2},null,{"$f":"AI75/SPM!$C92","v":0},{"$f":"AJ75/SPM!$C92","v":0},{"$f":"AK75/SPM!$C92","v":0},{"$f":"AL75/SPM!$C92","v":0},{"$f":"AM75/SPM!$C92","v":0},{"$f":"AN75/SPM!$C92","v":0},{"$f":"SPM!F92","v":1.1411967739442753E-3},{"$f":"IF(ISERROR(SPM!J92),#N/A,SPM!J92)","v":1.1411967739442753E-3},{"$f":"SPM!N92","v":5.7047806141863142E-3},{"$f":"SPM!R92","v":1.1702642234400442E-4},null,2091,{"$f":"IF(AI74>'goal seek'!$E$24,AI75/AI74-1,#N/A)","v":{"$error":"#N/A"}},{"$f":"IF(AND(AJ74>'goal seek'!$E$23,AJ75>0),AJ75/AJ74-1,#N/A)","v":{"$error":"#N/A"}},{"$f":"IF(AND(AK74>'goal seek'!$E$23,AK75>0),AK75/AK74-1,#N/A)","v":{"$error":"#N/A"}},{"$f":"IF(AND(AL74>'goal seek'!$E$23,AL75>0),AL75/AL74-1,#N/A)","v":{"$error":"#N/A"}},{"$f":"IF(AND(AM74>'goal seek'!$E$23,AM75>0),AM75/AM74-1,#N/A)","v":{"$error":"#N/A"}},{"$error":"#N/A"},{"$f":"IF(AO75>0,SPM!H92,#N/A)","v":-0.13260650358958839},{"$f":"IF(ISERROR(SPM!L92/100),#N/A,SPM!L92)","v":-0.13260650358958839},{"$f":"SPM!P92","v":-0.11044715615111196},{"$f":"SPM!T92","v":-0.16236286905789687}]
[null,null,null,null,null,null,null,null,null,null,null,null,null,null,null,null,null,null,null,null,null,null,null,null,null,null,null,null,null,null,null,null,null,2092,{"$f":"RM!E87","v":0},{"$f":"RM!K87","v":0},{"$f":"RM!Q87","v":0},{"$f":"RM!W87","v":0},{"$f":"RM!AC87","v":0},{"$f":"RM!AI87","v":0},{"$f":"SPM!E93","v":0.36655274487186462},{"$f":"IF(ISERROR(SPM!I93),#N/A,SPM!I93)","v":0.36655274487186462},{"$f":"SPM!M93","v":1.8792064587028214},{"$f":"SPM!Q93","v":3.6299115861358755E-2},null,{"$f":"AI76/SPM!$C93","v":0},{"$f":"AJ76/SPM!$C93","v":0},{"$f":"AK76/SPM!$C93","v":0},{"$f":"AL76/SPM!$C93","v":0},{"$f":"AM76/SPM!$C93","v":0},{"$f":"AN76/SPM!$C93","v":0},{"$f":"SPM!F93","v":9.9165533189672118E-4},{"$f":"IF(ISERROR(SPM!J93),#N/A,SPM!J93)","v":9.9165533189672118E-4},{"$f":"SPM!N93","v":5.0839207469550894E-3},{"$f":"SPM!R93","v":9.8201997640575298E-5},null,2092,{"$f":"IF(AI75>'goal seek'!$E$24,AI76/AI75-1,#N/A)","v":{"$error":"#N/A"}},{"$f":"IF(AND(AJ75>'goal seek'!$E$23,AJ76>0),AJ76/AJ75-1,#N/A)","v":{"$error":"#N/A"}},{"$f":"IF(AND(AK75>'goal seek'!$E$23,AK76>0),AK76/AK75-1,#N/A)","v":{"$error":"#N/A"}},{"$f":"IF(AND(AL75>'goal seek'!$E$23,AL76>0),AL76/AL75-1,#N/A)","v":{"$error":"#N/A"}},{"$f":"IF(AND(AM75>'goal seek'!$E$23,AM76>0),AM76/AM75-1,#N/A)","v":{"$error":"#N/A"}},{"$error":"#N/A"},{"$f":"IF(AO76>0,SPM!H93,#N/A)","v":-0.13274140069331067},{"$f":"IF(ISERROR(SPM!L93/100),#N/A,SPM!L93)","v":-0.13274140069331067},{"$f":"SPM!P93","v":-0.11057727246421503},{"$f":"SPM!T93","v":-0.1625000441028788}]
[null,null,null,null,null,null,null,null,null,null,null,null,null,null,null,null,null,null,null,null,null,null,null,null,null,null,null,null,null,null,null,null,null,2093,{"$f":"RM!E88","v":0},{"$f":"RM!K88","v":0},{"$f":"RM!Q88","v":0},{"$f":"RM!W88","v":0},{"$f":"RM!AC88","v":0},{"$f":"RM!AI88","v":0},{"$f":"SPM!E94","v":0.31784779127723128},{"$f":"IF(ISERROR(SPM!I94),#N/A,SPM!I94)","v":0.31784779127723128},{"$f":"SPM!M94","v":1.6711702624853473},{"$f":"SPM!Q94","v":3.0395654431338126E-2},null,{"$f":"AI77/SPM!$C94","v":0},{"$f":"AJ77/SPM!$C94","v":0},{"$f":"AK77/SPM!$C94","v":0},{"$f":"AL77/SPM!$C94","v":0},{"$f":"AM77/SPM!$C94","v":0},{"$f":"AN77/SPM!$C94","v":0},{"$f":"SPM!F94","v":8.6154725849198492E-4},{"$f":"IF(ISERROR(SPM!J94),#N/A,SPM!J94)","v":8.6154725849198492E-4},{"$f":"SPM!N94","v":4.5298164644528701E-3},{"$f":"SPM!R94","v":8.2389412366714207E-5},null,2093,{"$f":"IF(AI76>'goal seek'!$E$24,AI77/AI76-1,#N/A)","v":{"$error":"#N/A"}},{"$f":"IF(AND(AJ76>'goal seek'!$E$23,AJ77>0),AJ77/AJ76-1,#N/A)","v":{"$error":"#N/A"}},{"$f":"IF(AND(AK76>'goal seek'!$E$23,AK77>0),AK77/AK76-1,#N/A)","v":{"$error":"#N/A"}},{"$f":"IF(AND(AL76>'goal seek'!$E$23,AL77>0),AL77/AL76-1,#N/A)","v":{"$error":"#N/A"}},{"$f":"IF(AND(AM76>'goal seek'!$E$23,AM77>0),AM77/AM76-1,#N/A)","v":{"$error":"#N/A"}},{"$error":"#N/A"},{"$f":"IF(AO77>0,SPM!H94,#N/A)","v":-0.13287297469743151},{"$f":"IF(ISERROR(SPM!L94/100),#N/A,SPM!L94)","v":-0.13287297469743151},{"$f":"SPM!P94","v":-0.11070427906100183},{"$f":"SPM!T94","v":-0.16263375263927571}]
[null,null,null,null,null,null,null,null,null,null,null,null,null,null,null,null,null,null,null,null,null,null,null,null,null,null,null,null,null,null,null,null,null,2094,{"$f":"RM!E89","v":0},{"$f":"RM!K89","v":0},{"$f":"RM!Q89","v":0},{"$f":"RM!W89","v":0},{"$f":"RM!AC89","v":0},{"$f":"RM!AI89","v":0},{"$f":"SPM!E95","v":0.27557360692772459},{"$f":"IF(ISERROR(SPM!I95),#N/A,SPM!I95)","v":0.27557360692772459},{"$f":"SPM!M95","v":1.4859573265026302},{"$f":"SPM!Q95","v":2.5448332351370367E-2},null,{"$f":"AI78/SPM!$C95","v":0},{"$f":"AJ78/SPM!$C95","v":0},{"$f":"AK78/SPM!$C95","v":0},{"$f":"AL78/SPM!$C95","v":0},{"$f":"AM78/SPM!$C95","v":0},{"$f":"AN78/SPM!$C95","v":0},{"$f":"SPM!F95","v":7.4837440262196344E-4},{"$f":"IF(ISERROR(SPM!J95),#N/A,SPM!J95)","v":7.4837440262196344E-4},{"$f":"SPM!N95","v":4.0354097728771124E-3},{"$f":"SPM!R95","v":6.9109958437264048E-5},null,2094,{"$f":"IF(AI77>'goal seek'!$E$24,AI78/AI77-1,#N/A)","v":{"$error":"#N/A"}},{"$f":"IF(AND(AJ77>'goal seek'!$E$23,AJ78>0),AJ78/AJ77-1,#N/A)","v":{"$error":"#N/A"}},{"$f":"IF(AND(AK77>'goal seek'!$E$23,AK78>0),AK78/AK77-1,#N/A)","v":{"$error":"#N/A"}},{"$f":"IF(AND(AL77>'goal seek'!$E$23,AL78>0),AL78/AL77-1,#N/A)","v":{"$error":"#N/A"}},{"$f":"IF(AND(AM77>'goal seek'!$E$23,AM78>0),AM78/AM77-1,#N/A)","v":{"$error":"#N/A"}},{"$error":"#N/A"},{"$f":"IF(AO78>0,SPM!H95,#N/A)","v":-0.13300134690139961},{"$f":"IF(ISERROR(SPM!L95/100),#N/A,SPM!L95)","v":-0.13300134690139961},{"$f":"SPM!P95","v":-0.11082828610609087},{"$f":"SPM!T95","v":-0.16276412442914984}]
[null,null,null,null,null,null,null,null,null,null,null,null,null,null,null,null,null,null,null,null,null,null,null,null,null,null,null,null,null,null,null,null,null,2095,{"$f":"RM!E90","v":0},{"$f":"RM!K90","v":0},{"$f":"RM!Q90","v":0},{"$f":"RM!W90","v":0},{"$f":"RM!AC90","v":0},{"$f":"RM!AI90","v":0},{"$f":"SPM!E96","v":0.23888742055660273},{"$f":"IF(ISERROR(SPM!I96),#N/A,SPM!I96)","v":0.23888742055660273},{"$f":"SPM!M96","v":1.3210912547504048},{"$f":"SPM!Q96","v":2.1303020848572649E-2},null,{"$f":"AI79/SPM!$C96","v":0},{"$f":"AJ79/SPM!$C96","v":0},{"$f":"AK79/SPM!$C96","v":0},{"$f":"AL79/SPM!$C96","v":0},{"$f":"AM79/SPM!$C96","v":0},{"$f":"AN79/SPM!$C96","v":0},{"$f":"SPM!F96","v":6.4995566834013087E-4},{"$f":"IF(ISERROR(SPM!J96),#N/A,SPM!J96)","v":6.4995566834013087E-4},{"$f":"SPM!N96","v":3.5943740671608537E-3},{"$f":"SPM!R96","v":5.7960436430837759E-5},null,2095,{"$f":"IF(AI78>'goal seek'!$E$24,AI79/AI78-1,#N/A)","v":{"$error":"#N/A"}},{"$f":"IF(AND(AJ78>'goal seek'!$E$23,AJ79>0),AJ79/AJ78-1,#N/A)","v":{"$error":"#N/A"}},{"$f":"IF(AND(AK78>'goal seek'!$E$23,AK79>0),AK79/AK78-1,#N/A)","v":{"$error":"#N/A"}},{"$f":"IF(AND(AL78>'goal seek'!$E$23,AL79>0),AL79/AL78-1,#N/A)","v":{"$error":"#N/A"}},{"$f":"IF(AND(AM78>'goal seek'!$E$23,AM79>0),AM79/AM78-1,#N/A)","v":{"$error":"#N/A"}},{"$error":"#N/A"},{"$f":"IF(AO79>0,SPM!H96,#N/A)","v":-0.1331266327719971},{"$f":"IF(ISERROR(SPM!L96/100),#N/A,SPM!L96)","v":-0.1331266327719971},{"$f":"SPM!P96","v":-0.11094939862119495},{"$f":"SPM!T96","v":-0.16289128283781229}]
[null,null,null,null,null,null,null,null,null,null,null,null,null,null,null,null,null,null,null,null,null,null,null,null,null,null,null,null,null,null,null,null,null,2096,{"$f":"RM!E91","v":0},{"$f":"RM!K91","v":0},{"$f":"RM!Q91","v":0},{"$f":"RM!W91","v":0},{"$f":"RM!AC91","v":0},{"$f":"RM!AI91","v":0},{"$f":"SPM!E97","v":0.20705592444106236},{"$f":"IF(ISERROR(SPM!I97),#N/A,SPM!I97)","v":0.20705592444106236},{"$f":"SPM!M97","v":1.1743606654246683},{"$f":"SPM!Q97","v":1.7830301550645342E-2},null,{"$f":"AI80/SPM!$C97","v":0},{"$f":"AJ80/SPM!$C97","v":0},{"$f":"AK80/SPM!$C97","v":0},{"$f":"AL80/SPM!$C97","v":0},{"$f":"AM80/SPM!$C97","v":0},{"$f":"AN80/SPM!$C97","v":0},{"$f":"SPM!F97","v":5.6438722619392661E-4},{"$f":"IF(ISERROR(SPM!J97),#N/A,SPM!J97)","v":5.6438722619392661E-4},{"$f":"SPM!N97","v":3.2010393341772949E-3},{"$f":"SPM!R97","v":4.8601335419573766E-5},null,2096,{"$f":"IF(AI79>'goal seek'!$E$24,AI80/AI79-1,#N/A)","v":{"$error":"#N/A"}},{"$f":"IF(AND(AJ79>'goal seek'!$E$23,AJ80>0),AJ80/AJ79-1,#N/A)","v":{"$error":"#N/A"}},{"$f":"IF(AND(AK79>'goal seek'!$E$23,AK80>0),AK80/AK79-1,#N/A)","v":{"$error":"#N/A"}},{"$f":"IF(AND(AL79>'goal seek'!$E$23,AL80>0),AL80/AL79-1,#N/A)","v":{"$error":"#N/A"}},{"$f":"IF(AND(AM79>'goal seek'!$E$23,AM80>0),AM80/AM79-1,#N/A)","v":{"$error":"#N/A"}},{"$error":"#N/A"},{"$f":"IF(AO80>0,SPM!H97,#N/A)","v":-0.13324894228994413},{"$f":"IF(ISERROR(SPM!L97/100),#N/A,SPM!L97)","v":-0.13324894228994413},{"$f":"SPM!P97","v":-0.11106771678195571},{"$f":"SPM!T97","v":-0.16301534522320985}]
[null,null,null,null,null,null,null,null,null,null,null,null,null,null,null,null,null,null,null,null,null,null,null,null,null,null,null,null,null,null,null,null,null,2097,{"$f":"RM!E92","v":0},{"$f":"RM!K92","v":0},{"$f":"RM!Q92","v":0},{"$f":"RM!W92","v":0},{"$f":"RM!AC92","v":0},{"$f":"RM!AI92","v":0},{"$f":"SPM!E98","v":0.17944121117268352},{"$f":"IF(ISERROR(SPM!I98),#N/A,SPM!I98)","v":0.17944121117268352},{"$f":"SPM!M98","v":1.0437913287477265},{"$f":"SPM!Q98","v":1.4921529929360675E-2},null,{"$f":"AI81/SPM!$C98","v":0},{"$f":"AJ81/SPM!$C98","v":0},{"$f":"AK81/SPM!$C98","v":0},{"$f":"AL81/SPM!$C98","v":0},{"$f":"AM81/SPM!$C98","v":0},{"$f":"AN81/SPM!$C98","v":0},{"$f":"SPM!F98","v":4.9000782421398036E-4},{"$f":"IF(ISERROR(SPM!J98),#N/A,SPM!J98)","v":4.9000782421398036E-4},{"$f":"SPM!N98","v":2.8503258230958366E-3},{"$f":"SPM!R98","v":4.0746862812876917E-5},null,2097,{"$f":"IF(AI80>'goal seek'!$E$24,AI81/AI80-1,#N/A)","v":{"$error":"#N/A"}},{"$f":"IF(AND(AJ80>'goal seek'!$E$23,AJ81>0),AJ81/AJ80-1,#N/A)","v":{"$error":"#N/A"}},{"$f":"IF(AND(AK80>'goal seek'!$E$23,AK81>0),AK81/AK80-1,#N/A)","v":{"$error":"#N/A"}},{"$f":"IF(AND(AL80>'goal seek'!$E$23,AL81>0),AL81/AL80-1,#N/A)","v":{"$error":"#N/A"}},{"$f":"IF(AND(AM80>'goal seek'!$E$23,AM81>0),AM81/AM80-1,#N/A)","v":{"$error":"#N/A"}},{"$error":"#N/A"},{"$f":"IF(AO81>0,SPM!H98,#N/A)","v":-0.1333683802717717},{"$f":"IF(ISERROR(SPM!L98/100),#N/A,SPM!L98)","v":-0.1333683802717717},{"$f":"SPM!P98","v":-0.1111833361940182},{"$f":"SPM!T98","v":-0.16313642329730471}]
[null,null,null,null,null,null,null,null,null,null,null,null,null,null,null,null,null,null,null,null,null,null,null,null,null,null,null,null,null,null,null,null,null,2098,{"$f":"RM!E93","v":0},{"$f":"RM!K93","v":0},{"$f":"RM!Q93","v":0},{"$f":"RM!W93","v":0},{"$f":"RM!AC93","v":0},{"$f":"RM!AI93","v":0},{"$f":"SPM!E99","v":0.1554884927248974},{"$f":"IF(ISERROR(SPM!I99),#N/A,SPM!I99)","v":0.1554884927248974},{"$f":"SPM!M99","v":0.92762116562658115},{"$f":"SPM!Q99","v":1.2485521179274789E-2},null,{"$f":"AI82/SPM!$C99","v":0},{"$f":"AJ82/SPM!$C99","v":0},{"$f":"AK82/SPM!$C99","v":0},{"$f":"AL82/SPM!$C99","v":0},{"$f":"AM82/SPM!$C99","v":0},{"$f":"AN82/SPM!$C99","v":0},{"$f":"SPM!F99","v":4.2536851601467508E-4},{"$f":"IF(ISERROR(SPM!J99),#N/A,SPM!J99)","v":4.2536851601467508E-4},{"$f":"SPM!N99","v":2.5376851478295936E-3},{"$f":"SPM!R99","v":3.4156531603238727E-5},null,2098,{"$f":"IF(AI81>'goal seek'!$E$24,AI82/AI81-1,#N/A)","v":{"$error":"#N/A"}},{"$f":"IF(AND(AJ81>'goal seek'!$E$23,AJ82>0),AJ82/AJ81-1,#N/A)","v":{"$error":"#N/A"}},{"$f":"IF(AND(AK81>'goal seek'!$E$23,AK82>0),AK82/AK81-1,#N/A)","v":{"$error":"#N/A"}},{"$f":"IF(AND(AL81>'goal seek'!$E$23,AL82>0),AL82/AL81-1,#N/A)","v":{"$error":"#N/A"}},{"$f":"IF(AND(AM81>'goal seek'!$E$23,AM82>0),AM82/AM81-1,#N/A)","v":{"$error":"#N/A"}},{"$error":"#N/A"},{"$f":"IF(AO82>0,SPM!H99,#N/A)","v":-0.13348504666932645},{"$f":"IF(ISERROR(SPM!L99/100),#N/A,SPM!L99)","v":-0.13348504666932645},{"$f":"SPM!P99","v":-0.11129634815085007},{"$f":"SPM!T99","v":-0.16325462346140659}]
[null,null,null,null,null,null,null,null,null,null,null,null,null,null,null,null,null,null,null,null,null,null,null,null,null,null,null,null,null,null,null,null,null,{"$f":"AH82+1","v":2099},{"$f":"RM!E94","v":0},{"$f":"RM!K94","v":0},{"$f":"RM!Q94","v":0},{"$f":"RM!W94","v":0},{"$f":"RM!AC94","v":0},{"$f":"RM!AI94","v":0},{"$f":"SPM!E100","v":0.13471537985574455},{"$f":"IF(ISERROR(SPM!I100),#N/A,SPM!I100)","v":0.13471537985574455},{"$f":"SPM!M100","v":0.82427782296370289},{"$f":"SPM!Q100","v":1.0445760995921934E-2},null,{"$f":"AI83/SPM!$C100","v":0},{"$f":"AJ83/SPM!$C100","v":0},{"$f":"AK83/SPM!$C100","v":0},{"$f":"AL83/SPM!$C100","v":0},{"$f":"AM83/SPM!$C100","v":0},{"$f":"AN83/SPM!$C100","v":0},{"$f":"SPM!F100","v":3.6920558215380709E-4},{"$f":"IF(ISERROR(SPM!J100),#N/A,SPM!J100)","v":3.6920558215380709E-4},{"$f":"SPM!N100","v":2.259044021622966E-3},{"$f":"SPM!R100","v":2.8628010206916503E-5},null,2099,{"$f":"IF(AI82>'goal seek'!$E$24,AI83/AI82-1,#N/A)","v":{"$error":"#N/A"}},{"$f":"IF(AND(AJ82>'goal seek'!$E$23,AJ83>0),AJ83/AJ82-1,#N/A)","v":{"$error":"#N/A"}},{"$f":"IF(AND(AK82>'goal seek'!$E$23,AK83>0),AK83/AK82-1,#N/A)","v":{"$error":"#N/A"}},{"$f":"IF(AND(AL82>'goal seek'!$E$23,AL83>0),AL83/AL82-1,#N/A)","v":{"$error":"#N/A"}},{"$f":"IF(AND(AM82>'goal seek'!$E$23,AM83>0),AM83/AM82-1,#N/A)","v":{"$error":"#N/A"}},{"$error":"#N/A"},{"$f":"IF(AO83>0,SPM!H100,#N/A)","v":-0.13359903684902449},{"$f":"IF(ISERROR(SPM!L100/100),#N/A,SPM!L100)","v":-0.13359903684902449},{"$f":"SPM!P100","v":-0.11140683987419889},{"$f":"SPM!T100","v":-0.16337004711815586}]
[null,null,null,null,null,null,null,null,null,null,null,null,null,null,null,null,null,null,null,null,null,null,null,null,null,null,null,null,null,null,null,null,{"$f":"AH84","v":2100},2100,{"$f":"RM!E95","v":0},{"$f":"RM!K95","v":0},{"$f":"RM!Q95","v":0},{"$f":"RM!W95","v":0},{"$f":"RM!AC95","v":0},{"$f":"RM!AI95","v":0},{"$f":"SPM!E101","v":0.11670252689104199},{"$f":"IF(ISERROR(SPM!I101),#N/A,SPM!I101)","v":0.11670252689104199},{"$f":"SPM!M101","v":0.73235856830068258},{"$f":"SPM!Q101","v":8.7380588345910351E-3},null,{"$f":"AI84/SPM!$C101","v":0},{"$f":"AJ84/SPM!$C101","v":0},{"$f":"AK84/SPM!$C101","v":0},{"$f":"AL84/SPM!$C101","v":0},{"$f":"AM84/SPM!$C101","v":0},{"$f":"AN84/SPM!$C101","v":0},{"$f":"SPM!F101","v":3.2041751582505512E-4},{"$f":"IF(ISERROR(SPM!J101),#N/A,SPM!J101)","v":3.2041751582505512E-4},{"$f":"SPM!N101","v":2.0107577736271885E-3},{"$f":"SPM!R101","v":2.3991143803825799E-5},null,2100,{"$f":"IF(AI83>'goal seek'!$E$24,AI84/AI83-1,#N/A)","v":{"$error":"#N/A"}},{"$f":"IF(AND(AJ83>'goal seek'!$E$23,AJ84>0),AJ84/AJ83-1,#N/A)","v":{"$error":"#N/A"}},{"$f":"IF(AND(AK83>'goal seek'!$E$23,AK84>0),AK84/AK83-1,#N/A)","v":{"$error":"#N/A"}},{"$f":"IF(AND(AL83>'goal seek'!$E$23,AL84>0),AL84/AL83-1,#N/A)","v":{"$error":"#N/A"}},{"$f":"IF(AND(AM83>'goal seek'!$E$23,AM84>0),AM84/AM83-1,#N/A)","v":{"$error":"#N/A"}},{"$error":"#N/A"},{"$f":"IF(AO84>0,SPM!H101,#N/A)","v":-0.13371044185148737},{"$f":"IF(ISERROR(SPM!L101/100),#N/A,SPM!L101)","v":-0.13371044185148737},{"$f":"SPM!P101","v":-0.1115148947384309},{"$f":"SPM!T101","v":-0.16348279096157686}]
[null,null,null,null,null,null,null,null,null,null,null,null,null,null,null,null,null,null,null,null,null,null,null,null,null,null,null,null,null,null,null,null,null,null,"RM-1","RM-2","RM-3","RM-4","RM-5","RM-6",{"$f":"AO2","v":"SPM_FP50%"},{"$f":"AP2","v":"SPM_P50%"},{"$f":"AQ2","v":"SPM_P0%"},{"$f":"AR2","v":"SPM_P100%"}]
[null,null,null,null,null,null,null,null,null,null,null,null,null,null,null,null,null,null,null,null,null,null,null,null,null,null,null,null,null,null,null,null,null,1990,{"$f":"'data countries'!C5","v":3820.6582623995596}]
[null,null,null,null,null,null,null,null,null,null,null,null,null,null,null,null,null,null,null,null,null,null,null,null,null,null,null,null,null,null,null,null,null,"actual 2018",{"$f":"'data countries'!L5/'reference values'!AI86-1","v":-0.19879514351197058},{"$f":"AI87","v":-0.19879514351197058},{"$f":"AJ87","v":-0.19879514351197058},-0.19879514351197058,-0.19879514351197058,{"$f":"AL87","v":-0.19879514351197058},-0.19879514351197058,-0.19879514351197058,-0.19879514351197058,-0.19879514351197058,"RR_90"]
[null,null,null,null,null,null,null,null,null,null,null,null,null,null,null,null,null,null,null,null,null,null,null,null,null,null,null,null,null,null,null,null,null,2020,{"$f":"AI4/$AI$86-1","v":-0.29218748882712087},-0.25382062553508145,-0.25382062553508145,-0.25382062553508145,-0.25382062553508145,-0.26347776576794557,-0.24743075526997305,-0.24743075526997305,-0.24682788039609072,-0.24848321405794116,"RR_90"]
[null,null,null,null,null,null,null,null,null,null,null,null,null,null,null,null,null,null,null,null,null,null,null,null,null,null,null,null,null,null,null,null,null,2030,{"$f":"AI14/$AI$86-1","v":-0.69211713211589498},-0.58682619923499479,-0.62272813972691243,-0.57582101015623888,-0.65114820940790197,-0.59082629421975741,-0.66578318972596617,-0.66578318972596617,-0.61601042714808629,-0.73037107749242125,"RR_90"]
[null,null,null,null,null,null,null,null,null,null,null,null,null,null,null,null,null,null,null,null,null,null,null,null,null,null,null,null,null,null,null,null,null,2035,{"$f":"AI19/$AI$86-1","v":-0.79694243802025966},-0.78792295616206431,-0.79462905280320895,-0.80041378522325357,-0.79626155344989547,-0.75450055844566322,-0.80571851949850293,-0.80571851949850293,-0.75233292035036281,-0.8653434075986508,"RR_90"]
[null,null,null,null,null,null,null,null,null,null,null,null,null,null,null,null,null,null,null,null,null,null,null,null,null,null,null,null,null,null,null,null,null,2040,{"$f":"AI24/$AI$86-1","v":-0.866077727024821},-0.93691223130916523,-0.90726524591194257,-0.94930278343086261,-0.88953504185232268,-0.91817482267156891,-0.89188950084834262,-0.89188950084834262,-0.845867457859658,-0.93617943587187502,"RR_90"]
[null,null,null,null,null,null,null,null,null,null,null,null,null,null,null,null,null,null,null,null,null,null,null,null,null,null,null,null,null,null,null,null,null,2045,{"$f":"AI29/$AI$86-1","v":-0.91167442855130998},-1,-0.96551649948080331,-1,-0.94388046524710911,-1,-0.94160591111221448,-0.94160591111221448,-0.90646636552554682,-0.97077860815883477,"RR_90"]
[null,null,null,null,null,null,null,null,null,null,null,null,null,null,null,null,null,null,null,null,null,null,null,null,null,null,null,null,null,null,null,null,null,2050,{"$f":"AI34/$AI$86-1","v":-0.94174675803789898},-1,-0.99507762358231944,-1,-0.9731190070726724,-1,-0.9691340478125563,-0.9691340478125563,-0.94429461561047701,-0.98694420853449705,"RR_90"]
[null,null,null,null,null,null,null,null,null,null,null,null,null,null,null,null,null,null,null,null,null,null,null,null,null,null,null,null,null,null,null,null,null,2010,{"$f":"'data countries'!D5","v":3418.2274548906998}]
[null,null,null,null,null,null,null,null,null,null,null,null,null,null,null,null,null,null,null,null,null,null,null,null,null,null,null,null,null,null,null,null,null,"actual 2018",{"$f":"'data countries'!L5/'reference values'!AI94-1","v":-0.10446861854208445},{"$f":"AI95","v":-0.10446861854208445},-0.10446861854208445,-0.10446861854208445,-0.10446861854208445,-0.10446861854208445,-0.10446861854208445,-0.10446861854208445,-0.10446861854208445,-0.10446861854208445,"RR_10"]
[null,null,null,null,null,null,null,null,null,null,null,null,null,null,null,null,null,null,null,null,null,null,null,null,null,null,null,null,null,null,null,null,null,2020,{"$f":"AI4/$AI$94-1","v":-0.20885612361073447},-0.16597229707386885,-0.16597229707386885,-0.16597229707386885,-0.16597229707386885,-0.1767663805890114,-0.15883014198143408,-0.15883014198143408,-0.15815629013907184,-0.16000650763209678,"RR_10"]
[null,null,null,null,null,null,null,null,null,null,null,null,null,null,null,null,null,null,null,null,null,null,null,null,null,null,null,null,null,null,null,null,null,2030,{"$f":"AI14/$AI$94-1","v":-0.65586982184300213},-0.53818289843724765,-0.57831160472926602,-0.52588205914615305,-0.61007759323576116,-0.54265392798563239,-0.62643556215683605,-0.62643556215683605,-0.57080301017041213,-0.69862743654271786,"RR_10"]
[null,null,null,null,null,null,null,null,null,null,null,null,null,null,null,null,null,null,null,null,null,null,null,null,null,null,null,null,null,null,null,null,null,2040,{"$f":"AI24/$AI$94-1","v":-0.85031094463012913},-0.92948485497648159,-0.89634750492943516,-0.94333415727253633,-0.87652990895948435,-0.90854147538225316,-0.8791615604032037,-0.8791615604032037,-0.82772130339349348,-0.92866578691296642,"RR_10"]
[null,null,null,null,null,null,null,null,null,null,null,null,null,null,null,null,null,null,null,null,null,null,null,null,null,null,null,null,null,null,null,null,null,2050,{"$f":"AI34/$AI$94-1","v":-0.93488855462335563},-1,-0.99449810804604477,-1,-0.96995428505427472,-1,-0.96550017317219239,-0.96550017317219239,-0.93773637362152074,-0.98540713916990219,"RR_10"]
[null,null,null,null,null,null,null,null,null,null,null,null,null,null,null,null,null,null,null,null,null,null,null,null,null,null,null,null,null,null,null,null,null,2015,{"$f":"'data countries'!I5","v":3076.8385112354899}]
[null,null,null,null,null,null,null,null,null,null,null,null,null,null,null,null,null,null,null,null,null,null,null,null,null,null,null,null,null,null,null,null,null,2020,{"$f":"AI4/$AI$100-1","v":-0.12107518507478032},-7.34332068871687E-2,-7.34332068871687E-2,-7.34332068871687E-2,-7.34332068871687E-2,-8.5424942068300314E-2,-6.5498597860761065E-2,-6.5498597860761065E-2,-6.4749979153708281E-2,-6.68054865224188E-2,"RR_15"]
[null,null,null,null,null,null,null,null,null,null,null,null,null,null,null,null,null,null,null,null,null,null,null,null,null,null,null,null,null,null,null,null,null,2030,{"$f":"AI14/$AI$100-1","v":-0.61768704508306027},-0.48694223309563001,-0.53152339817001759,-0.47327656087088465,-0.56681396465510847,-0.49190934329595692,-0.58498692312143197,-0.58498692312143197,-0.52318169158548478,-0.66518880766777211,"RR_15"]
[null,null,null,null,null,null,null,null,null,null,null,null,null,null,null,null,null,null,null,null,null,null,null,null,null,null,null,null,null,null,null,null,null,2040,{"$f":"AI24/$AI$100-1","v":-0.83370227690094545},-0.92166088541052393,-0.88484679871097383,-0.93704682951080309,-0.86283035215810755,-0.89839374452361309,-0.86575399705652378,-0.86575399705652378,-0.80860621430642432,-0.92075093809547703,"RR_15"]
[null,null,null,null,null,null,null,null,null,null,null,null,null,null,null,null,null,null,null,null,null,null,null,null,null,null,null,null,null,null,null,null,null,2050,{"$f":"AI34/$AI$100-1","v":-0.92766414961287913},-1,-0.99388764861653389,-1,-0.96662057909303201,-1,-0.96167226364947145,-0.96167226364947145,-0.93082794681918057,-0.98378799623292235,"RR_15"]
[null,null,null,null,null,null,null,null,null,null,null,null,null,null,null,null,null,null,null,null,null,null,null,null,null,null,null,null,null,null,null,null,null,null,{"$f":"AI108","v":"RM 1 - 6"},null,null,null,null,null,{"$f":"AO2","v":"SPM_FP50%"},{"$f":"AP2","v":"SPM_P50%"},{"$f":"AQ108","v":"Population_0%"},{"$f":"AR108","v":"Population_100%"},"global"]
[null,null,null,null,null,null,null,null,null,null,null,null,null,null,null,null,null,null,null,null,null,null,null,null,null,null,null,null,null,null,null,null,null,"Scope",{"$f":"AI109/AI3","v":11.255163406410267},null,null,null,null,null,{"$f":"SPM!E102/SPM!E20","v":11.254907720991159},{"$f":"SPM!L11","v":11.25516340641027},{"$f":"SPM!P11","v":13.090756902457866},{"$f":"SPM!T11","v":9.4195699103626751},{"$f":"'base data'!M27/'base data'!M17","v":13.090756902457864}]
[null,null,null,null,null,null,null,null,null,null,null,null,null,null,null,null,null,null,null,null,null,null,null,null,null,null,null,null,null,null,null,null,null,"NE",{"$f":"SUMIF(AI4:AI84,\"<0\")*-1","v":0},0,0,0,0,0]
[null,null,null,null,null,null,null,null,null,null,null,null,null,null,null,null,null,null,null,null,null,null,null,null,null,null,null,null,null,null,null,null,null,null,"RM 1 - 6",null,null,null,null,null,{"$f":"AZ2","v":"SPM_FP50%"},{"$f":"BA2","v":"SPM_P50%"},"Population_0%","Population_100%"]
[null,null,null,null,null,null,null,null,null,null,null,null,null,null,null,null,null,null,null,null,null,null,null,null,null,null,null,null,null,null,null,null,null,"2020-2100",{"$f":"'base data'!L41","v":33079.695618426893},null,null,null,null,null,{"$f":"SPM!E102","v":33078.94414147958},{"$f":"SPM!I102","v":33078.94414147958},{"$f":"SPM!M102","v":38468.842790271759},{"$f":"SPM!Q102","v":27684.716180337757}]
[null,null,null,null,null,null,null,null,null,null,null,null,null,null,null,null,null,null,null,null,null,null,null,null,null,null,null,null,null,null,null,null,null,"2020-2030",{"$f":"SUM(AI4:AI14)","v":20306.085064721505},24915.369835255362,24038.741284936012,25391.281315624074,23002.154977141312,24075.219626730868,22682.19593121871,22682.19593121871,23790.261851422867,21104.340676440053]
[null,null,null,null,null,null,null,null,null,null,null,null,null,null,null,null,null,null,null,null,null,null,null,null,null,null,null,null,null,null,null,null,null,"2020-2050",{"$f":"SUM(AI4:AI34)","v":31292.829030415305},33079.81812950992,33079.8719869946,33079.595768924533,32816.667024854738,33079.616916354775,32250.073503238749,32250.073503238749,36626.081344476435,27409.37571897664]
[null,null,null,null,null,null,null,null,null,null,null,null,null,null,null,null,null,null,null,null,null,null,null,null,null,null,null,null,null,null,null,null,null,"share i/global",{"$f":"AI109/1000/AH113","v":6.8931559203212006E-2},null,null,null,null,null,6.8929993273516607E-2,6.8929993273516607E-2,8.0161478656398083E-2,5.7689486457851047E-2]
[null,null,null,null,null,null,null,null,null,null,null,null,null,null,null,null,null,null,null,null,null,null,null,null,null,null,null,null,null,null,null,null,"2020-2100 global",{"$f":"'base data'!$M$27","v":479.89188117603879},{"$f":"'base data'!$M$27","v":479.89188117603879},{"$f":"'base data'!$M$27","v":479.89188117603879},{"$f":"'base data'!$M$27","v":479.89188117603879},{"$f":"'base data'!$M$27","v":479.89188117603879},{"$f":"'base data'!$M$27","v":479.89188117603879},{"$f":"'base data'!$M$27","v":479.89188117603879},{"$f":"'base data'!$M$27","v":479.89188117603879},{"$f":"'base data'!$M$27","v":479.89188117603879},{"$f":"'base data'!$M$27","v":479.89188117603879},{"$f":"'base data'!$M$27","v":479.89188117603879}]
[null,null,null,null,null,null,null,null,null,null,null,null,null,null,null,null,null,null,null,null,null,null,null,null,null,null,null,null,null,null,null,null,"global per capita",{"$f":"'base data'!M17/SPM!D20","v":4.7525747552327982}]
[null,null,null,null,null,null,null,null,null,null,null,null,null,null,null,null,null,null,null,null,null,null,null,null,null,null,null,null,null,null,null,null,null,null,null,null,null,null,null,null,null,null,{"$f":"AQ108","v":"Population_0%"},{"$f":"AR108","v":"Population_100%"}]
[null,null,null,null,null,null,null,null,null,null,null,null,null,null,null,null,null,null,null,null,null,null,null,null,null,null,null,null,null,null,null,null,null,"2020-2100",{"$f":"AI109","v":33079.695618426893},null,null,null,null,null,{"$f":"AO109","v":33078.94414147958},{"$f":"AP109","v":33078.94414147958},{"$f":"('base data'!$D$33*0+'base data'!$D$34*1)*'base data'!$M$27*1000","v":38474.630541702689},{"$f":"('base data'!$D$33*1+'base data'!$D$34*0)*'base data'!$M$27*1000","v":27684.760695151101}]
[null,null,null,null,null,null,null,null,null,null,null,null,null,null,null,null,null,null,null,null,null,null,null,null,null,null,null,null,null,null,null,null,null,{"$f":"AH112","v":"share i/global"},{"$f":"AI112","v":6.8931559203212006E-2},null,null,null,null,null,{"$f":"AO112","v":6.8929993273516607E-2},{"$f":"AP112","v":6.8929993273516607E-2},{"$f":"AQ116/1000/AQ113","v":8.0173539188484494E-2},{"$f":"AR116/1000/AR113","v":5.7689579217939504E-2}]
[null,null,null,null,null,null,null,null,null,null,null,null,null,null,null,null,null,null,null,null,null,null,null,null,null,null,null,null,null,null,null,null,"vs. 1990",2025,{"$f":"AI9/$AI$86-1","v":-0.53317739358064919},-0.39813641561251312,-0.42121806243425697,-0.38224059541337729,-0.45429270585051917,-0.4271520299938516]
[]
[]
[null,"legend"]
[null,{"$f":"$AI$2","v":"RM-1 const"},null,null,null,"not allocated until 2100",{"$f":"AQ2","v":"SPM_P0%"},{"$f":"SPM!P10/SPM!P14-1","v":1.5045296429860855E-4},"SPM paths are approaching to zero. Therefore, it may be that the budget is not fully distributed until 2100. For countries with very low per capita emissions, SPM may result in a high proportion not being distributed by 2100."]
[null,{"$f":"$AJ$2","v":"RM-2 exp"},null,null,null,null,{"$f":"AR2","v":"SPM_P100%"},{"$f":"SPM!T10/SPM!T14-1","v":1.6079201627938744E-6}]
[null,{"$f":"$AK$2","v":"RM-3 lin"},null,null,null,null,{"$f":"B129","v":"SPM_P50%"},{"$f":"(SPM!L10-SPM!L14)/SPM!L10","v":2.2717166324270413E-5}]
[null,{"$f":"$AL$2","v":"RM-4 quadr"},null,null,null,null,{"$f":"B128","v":"SPM_FP50%"},{"$f":"(SPM!H10-SPM!H14)/SPM!H10","v":2.2717166324270413E-5}]
[null,{"$f":"$AM$2","v":"RM-5 rad"},null,null,null,"share of the country in 2019",null,"weighted\nkey","share\nbudget",null,"weighted key"]
[null,{"$f":"AN2","v":"RM-6 abs"},null,null,null,"emissions","population"]
[null,{"$f":"IF('base data'!F41<>'base data'!B94,CONCATENATE(\"SPM_FP\",TEXT('base data'!D31,\"0%\")),CONCATENATE(\"SPM_BG_\",'base data'!L39/1000))","v":"SPM_FP50%"},"weighted population: free input",null,null,{"$f":"SPM!J12","v":8.0173539188484494E-2},{"$f":"SPM!J11","v":5.7689579217939504E-2},{"$f":"SPM!J13","v":6.8931559203212006E-2},{"$f":"AP112","v":6.8929993273516607E-2},{"$f":"AO112","v":6.8929993273516607E-2},{"$f":"'base data'!D35","v":6.8931559203212006E-2}]
[null,{"$f":"CONCATENATE(\"SPM_P\",TEXT(0.5,\"0%\"))","v":"SPM_P50%"},"weighted population: 50%",null,null,{"$f":"AQ2","v":"SPM_P0%"},{"$f":"AR2","v":"SPM_P100%"},{"$f":"B129","v":"SPM_P50%"},null,{"$f":"B128","v":"SPM_FP50%"}]
[null,"SPM_P0%","weighted population: 0%",null,null,"2020 - ∞",null,null,"2020 - 2100"]
[null,"SPM_P100%","weighted population: 100%"]
[null,"Mill. t CO2 (without LUC)"]

{"sheet":"print","index":3,"n_rows":4,"n_cols":15,"rows_kept":4,"cut":false,"hidden":true,"merged":[]}
[]
[null,"selected country:",{"$f":"'reference values'!B2","v":"EU27"},null,"global budget:",{"$f":"'base data'!B11","v":570}," Gt",null,"weighting population key:",null,{"$f":"'base data'!D31","v":0.5},null,"national budget:",{"$f":"'base data'!L41","v":33079.695618426893}," Mill. t"]
[]
[null,null,null,null,null,null,null,null,null,"minimum annual emissions: ",null,null,{"$f":"'base data'!L46","v":0},{"$f":"'base data'!L48","v":0}," Mill. t"]

{"sheet":"EU27","index":4,"n_rows":107,"n_cols":34,"rows_kept":107,"cut":false,"hidden":true,"merged":[[46,9,46,10],[33,15,33,17],[78,24,78,33],[78,13,78,22]]}
[null,null,null,null,null,null,null,null,null,null,null,null,null,1990,{"$f":"'data countries'!C223","v":3820.6582623995596}]
[null,null,null,null,null,null,null,null,null,null,null,null,null,2019]
[]
[]
[]
[]
[]
[null,null,null,null,null,null,null,null,null,null,null,null,null,2025]
[]
[]
[]
[]
[null,null,null,null,null,null,null,null,null,null,null,null,null,2030,{"$f":"$O$1*(1-0.4)","v":2292.3949574397357},{"$f":"$O$1*(1-0.55)","v":1719.2962180798017},{"$f":"R13-P13","v":191.03291311997805},{"$f":"$O$1*(1-0.5)","v":1910.3291311997798}]
[]
[]
[]
[]
[null,null,null,null,null,null,null,null,null,null,null,null,null,2035]
[]
[]
[]
[]
[null,null,null,null,null,null,null,null,null,null,null,null,null,2040]
[]
[]
[]
[]
[null,null,null,null,null,null,null,null,null,null,null,null,null,2045]
[]
[]
[]
[null,{"$f":"G33","v":"RM-2-exp"},{"$f":"H33","v":"RM-5-rad"},{"$f":"G33","v":"RM-2-exp"},{"$f":"H33","v":"RM-5-rad"}]
["Bevölkerung",1,1,0,0,null,"RM-2-exp","RM-5-rad",{"$f":"'base data'!D31","v":0.5},{"$f":"'base data'!B31","v":"weighting population key in the weighted key"},null,null,null,2050,{"$f":"$O$1*(1-0.8)","v":764.13165247991174},null,null,null,null,0]
[2019,2939.068445651058,2939.068445651058,2939.068445651058,2939.068445651058,null,{"$f":"'reference values'!AJ3","v":2939.068445651058},{"$f":"'reference values'!AM3","v":2939.068445651058},{"$f":"'base data'!B11","v":570},"budget",null,null,null,null,"altes EU-2030-Ziel: -40%","EU-Kommission 2030: -50 bis -55%",null,null,null,"EU-Kommission 2050: Klimaneutralität"]
[2020,2850.896392281526,2850.896392281526,2850.896392281526,2850.896392281526,null,{"$f":"'reference values'!AJ4","v":2850.896392281526},{"$f":"'reference values'!AM4","v":2850.896392281526},null,null,null,null,null,null,"altes EU-2050-Ziel: -80%"]
[2021,2754.7663069487908,2708.7332656243384,2757.4763357321981,2723.7069420098524,null,{"$f":"'reference values'!AJ5","v":2755.552078414411},{"$f":"'reference values'!AM5","v":2724.2675589381074},null,null,null,null,null,null,null,0.55000000000000004,"Block: 50 - 55",0.5]
[2022,2650.3617884736814,2534.2661393789404,2658.7784334652451,2573.0534751372952,null,{"$f":"'reference values'!AJ6","v":2652.8181026769748},{"$f":"'reference values'!AM6","v":2574.5109704130732}]
[2023,2537.4611670570534,2345.6610277226609,2554.8305353099599,2411.780784114178,null,{"$f":"'reference values'!AJ7","v":2542.5613866162839},{"$f":"'reference values'!AM7","v":2414.2789743216213}]
[2024,2415.9692977899017,2152.0013787072062,2445.7284378655081,2246.1768211725976,null,{"$f":"'reference values'!AJ8","v":2424.7570884081788},{"$f":"'reference values'!AM8","v":2249.7595655575587}]
[2025,2285.9535796279552,1959.1856183075815,2331.6465572817706,2080.3156755976447,null,{"$f":"'reference values'!AJ9","v":2299.5150765274661},{"$f":"'reference values'!AM9","v":2084.9610822439208}]
[2026,2147.6834105218982,1771.3223486715913,2212.8487038033668,1917.0761312477787,null,{"$f":"'reference values'!AJ10","v":2167.1083136746929},{"$f":"'reference values'!AM10","v":1922.7168317701551}]
[2027,2001.6715993257826,1591.3058777725178,2089.6985288180995,1758.5512499741228,null,{"$f":"'reference values'!AJ11","v":2028.0020668050304},{"$f":"'reference values'!AM11","v":1765.0887538043223}]
[2028,1848.7153619770293,1421.1298264709146,1962.6690882558842,1606.2621554807802,null,{"$f":"'reference values'!AJ12","v":1882.8823183094044},{"$f":"'reference values'!AM12","v":1613.5778191737224}]
[2029,1689.933440527976,1262.0910603812072,1832.3508297566154,1461.2898845815396,null,{"$f":"'reference values'!AJ13","v":1732.6811158415478},{"$f":"'reference values'!AM13","v":1469.2535525587277}]
[2030,1526.7946486984542,1114.9383273304502,1699.4571732129571,1324.3666215358794,null,{"$f":"'reference values'!AJ14","v":1578.5958956998468},{"$f":"'reference values'!AM14","v":1332.8434760785801},{"$f":"O13","v":2292.3949574397357},{"$f":"P13","v":1719.2962180798017},{"$f":"J45+L45","v":1910.3291311997798},{"$f":"Q13","v":191.03291311997805}]
[2031,1361.1318821997763,979.98845034453655,1564.8267275653723,1195.9440460957148,null,{"$f":"'reference values'!AJ15","v":1422.0991110679793},{"$f":"'reference values'!AM15","v":1204.7999926154205},null,{"$f":"B45/$O$1-1","v":-0.6003843987502947},{"$f":"D45/$O$1-1","v":-0.55519257245854403}]
[2032,1195.1345432989842,857.22084861393955,1429.4210886571427,1076.2473411562671,null,{"$f":"'reference values'!AJ16","v":1264.933898860301},{"$f":"'reference values'!AM16","v":1085.3531586775575},null,{"$f":"G45/$O$1-1","v":-0.58682619923499479}]
[2033,1031.3117385564724,746.355984403197,1294.3171166879038,965.31936082219488,null,{"$f":"'reference values'!AJ17","v":1109.0911864876032},{"$f":"'reference values'!AM17","v":974.55379972195146}]
[2034,872.41896072736552,646.920946739746,1160.6926258578515,863.05751389383647,null,{"$f":"'reference values'!AJ18","v":956.76378637312246},{"$f":"'reference values'!AM18","v":872.30949623340723}]
[2035,721.34280297403336,558.30422621570426,1029.8045658251076,769.24491865894174,null,{"$f":"'reference values'!AJ19","v":810.2739098046826},{"$f":"'reference values'!AM19","v":778.41497918010805}]
[2036,580.9421339909444,479.80115507440343,902.95906857440809,683.57684565554132,null,{"$f":"'reference values'!AJ20","v":671.97242330844551},{"$f":"'reference values'!AM20","v":692.57793834418362}]
[2037,453.85049265959941,410.65118546422781,781.4732056001618,605.68316213913613,null,{"$f":"'reference values'!AJ21","v":544.1112892303131},{"$f":"'reference values'!AM21","v":614.44094574372764}]
[2038,342.25322469528493,350.06801323400543,666.62896835925483,535.14731556206107,null,{"$f":"'reference values'!AJ22","v":428.69504258905403},{"$f":"'reference values'!AM22","v":543.60002051798892}]
[2039,247.66328710933089,297.26345359660991,559.62084827933143,471.52228664853345,null,{"$f":"'reference values'!AJ23","v":327.32263055667761},{"$f":"'reference values'!AM23","v":479.62025510911059}]
[2040,170.72975680492664,251.46590239511019,461.49941698718351,414.34387500781548,null,{"$f":"'reference values'!AJ24","v":241.03680470499015},{"$f":"'reference values'!AM24","v":422.04885505254487}]
[2041,111.11965146536045,211.93415468890046,373.11441366222721,363.14163466648466,null,{"$f":"'reference values'!AJ25","v":170.20327274186334},{"$f":"'reference values'!AM25","v":370.42589933110679}]
[2042,67.512453962274492,177.96729260964602,295.06190088381675,317.44774379290112,null,{"$f":"'reference values'!AJ26","v":114.44419893136879},{"$f":"'reference values'!AM26","v":324.29309548549583}]
[2043,23.905256459188536,148.91129366676651,227.64086277034886,276.80406674065273,null,{"$f":"'reference values'!AJ27","v":72.648312843174935},{"$f":"'reference values'!AM27","v":283.20077802274329}]
[2044,-19.701941043897421,124.16294830279159,170.82495382052744,240.76764423770067,null,{"$f":"'reference values'!AJ28","v":30.852426754981082},{"$f":"'reference values'!AM28","v":246.71337699059455}]
[2045,-63.309138546983377,103.17161219704808,124.25471288991776,208.91482736856443,null,{"$f":"'reference values'!AJ29","v":0},{"$f":"'reference values'!AM29","v":214.41356413565197}]
[2046,-106.91633605006933,85.439255811636713,87.254222533901711,180.8442520312903,null,{"$f":"'reference values'!AJ30","v":0},{"$f":"'reference values'!AM30","v":185.90526589645714}]
[2047,-150.52353355315529,67.706899426225348,50.253732177885666,156.17883237226371,null,{"$f":"'reference values'!AJ31","v":0},{"$f":"'reference values'!AM31","v":160.81571514052237}]
[2048,-194.13073105624125,49.974543040813984,13.253241821869622,134.56693415868745,null,{"$f":"'reference values'!AJ32","v":0},{"$f":"'reference values'!AM32","v":138.79669685610364}]
[2049,-237.7379285593272,32.24218665540262,-23.747248534146422,115.6828721396858,null,{"$f":"'reference values'!AJ33","v":0},{"$f":"'reference values'!AM33","v":119.52512692945632}]
[2050,-281.34512606241316,14.509830269991255,-60.747738890162466,99.226859245299295,null,{"$f":"'reference values'!AJ34","v":0},{"$f":"'reference values'!AM34","v":102.70308772929815}]
["RR_20"]
["TV"]
[null,"RM-2 Gewichtung Bevölkerung 100%","RM-5 Gewichtung Bevölkerung 100%","RM-2 Gewichtung Bevölkerung 0%","RM-5 Gewichtung Bevölkerung 0%",null,null,null,null,null,null,null,"TV"]
[null,null,null,null,null,null,null,"EU27-10",2,{"$f":"I69+1","v":3},{"$f":"J69+1","v":4},{"$f":"K69+1","v":5},"2-5",1]
[null,null,null,null,null,null,null,"420/0",-0.03,-0.03,-0.03,-0.03,3.5000000000000003E-2]
[null,null,null,null,null,null,null,"420/100",-0.03,-0.03,-0.03,-0.03,3.5000000000000003E-2]
[null,null,null,null,null,null,null,"420/50",-0.03,-0.03,-0.03,-0.03,3.5000000000000003E-2,4.2999999999999997E-2]
[]
[null,"RM-1-const","RM-2-exp","RM-3-lin","RM-4-quadr","RM-5-rad","RM-6-abs","570/50/RM-5/2",-0.03,-0.03,-0.03,-0.03,3.5000000000000003E-2]
["Budget 2020 - 2100",{"$f":"ROUND('reference values'!$AI$109,-1)","v":33080},{"$f":"ROUND('reference values'!$AI$109,-1)","v":33080},{"$f":"ROUND('reference values'!$AI$109,-1)","v":33080},{"$f":"ROUND('reference values'!$AI$109,-1)","v":33080},{"$f":"ROUND('reference values'!$AI$109,-1)","v":33080},{"$f":"ROUND('reference values'!$AI$109,-1)","v":33080},null,null,null,null,null,null,null,0,{"$f":"'base data'!P46/2","v":0},{"$f":"'base data'!P46","v":0},"RV_2030"]
["Netto-Negativemissionen (Overshoot)",{"$f":"ROUND('reference values'!AI107,-1)","v":0},{"$f":"ROUND('reference values'!AJ107,-1)","v":0},{"$f":"ROUND('reference values'!AK107,-1)","v":0},{"$f":"ROUND('reference values'!AL107,-1)","v":0},{"$f":"ROUND('reference values'!AM107,-1)","v":0},{"$f":"ROUND('reference values'!AN107,-1)","v":0},"680/50/RM-5/2",-0.03,null,null,-0.03,0.03,420,-0.86704827824782482,-0.72059091252018748,-0.65621213209908968,{"$f":"'reference values'!AM89","v":-0.65114820940790197}]
[null,null,null,null,null,null,null,null,null,null,null,null,null,570,-0.71447611141021272,-0.62952375303044417,-0.59439439628266943]
[null,null,null,null,null,null,null,"800/100/NNE0",null,null,null,null,null,680,-0.63482982260032184,-0.58272489474154066,-0.56219136617339849]
[null,null,null,null,null,null,null,"EU27-12%",null,null,null,null,null,0.55000000000000004,null,null,null,null,null,null,null,null,null,null,"emissions neutrality 2050"]
[null,null,null,null,null,null,null,"420/0",-1.9599999999999999E-2,-0.02,-0.02,-0.02,3.5000000000000003E-2,"NE 10%","RM-2","RM-3","RM-5","RM-6","NE 0%","RM-2","RM-3","RM-5","RM-6",null,"NE 10%","RM-2","RM-3","RM-5","RM-6","NE 0%","RM-2","RM-3","RM-5","RM-6"]
[null,null,null,null,null,null,null,"420/100",-2.0500000000000018E-2,-1.9E-2,-2.4500000000000001E-2,-0.02,3.5000000000000003E-2,"global",475,624,825,450,"global",720,789,881,724,null,"global",507,429,370,600,"global",745,658,575,849]
[null,null,null,null,null,null,null,"420/50",-1.9099999999999999E-2,-0.02,-1.9E-2,-0.02,3.5000000000000003E-2,"EU",19286,31098.602606926579,42737.007062796896,21023.565913785118,"EU",36657.2435410736,40652.516712491764,45979.547607715991,36888.853579996394,null,"EU",24324.008968434911,19807.613209440457,16391.365135329266,29708.942373389829,null,38104.806284341052,33067.287937770314,28261.379630122377,44126.667296333653]
[null,null,null,null,null,null,null,"420/RM-2-40",null,null,null,null,null,"Overshoot",14161.394935747596,9596.6596706472155,3252.1606260394456,15888.532331185852,"Overshoot",0,0,0,0,null,"Overshoot",13263.187773067724,12570.714214839485,12235.330934499676,14381.249564036574,"Overshoot",0,0,0,0]
[null,null,null,null,null,null,null,"570/50/RM-5/2",-0.02,-0.02,-0.02,-0.02,0.04,"RR_20",-0.03,-0.03,-0.03,-3.8292709760080479E-2,"RR_20",{"$f":"O84","v":-0.03},{"$f":"P84","v":-0.03},-0.03,-3.8315766060967094E-2,null,"RR_20",-0.03,-0.03,0.03,-3.2255365970763838E-2,"RR_20",0.03,0.03,0.03,-3.2229988495829365E-2]
[null,null,null,null,null,null,null,"570/50/RM-2-40",null,null,null,null,null,2030,-0.55485418283451859,-0.55467934586175593,-0.55488791326266917,-0.5547692349524338,2030,-0.55466885031178603,-0.55497841062155473,-0.55494048404355778,-0.55496433340388007,null,2030,-0.54464183907603569,-0.62412258821474109,-0.7036952395244076,-0.50367886201336354,2030,-0.54462334246372257,-0.62288640854773059,-0.70838503731505487,-0.50346753065794436]
[null,null,null,null,null,null,null,"680/50/RM-5/2",-0.02,null,null,-0.02,0.04,2035,-0.72983011441167001,-0.70309260059886247,-0.68013268787133563,-0.70205392678410172,2035,-0.7294827430868569,-0.70353325254336563,-0.68020238892816631,-0.7023377063498415,null,2035,-0.71054701700986012,-0.79632194583854465,-0.84965223554757408,-0.62774065705454474,2035,-0.71051184717812066,-0.79482156321901765,-0.854062308307316,-0.62743326599211724]
[null,null,null,null,null,null,null,"680/50/RM-2-40",null,null,null,null,null,2040,-0.87848593671734088,-0.82102931817467883,-0.77770934150464366,-0.84933861861576943,2040,-0.8780887853988496,-0.82150016825832162,-0.77778422235126943,-0.84971107929580303,null,2040,-0.85569096009980383,-0.90863233027338053,-0.9311913937130718,-0.75180245209572605,2040,-0.85564804513988246,-0.90742114089811188,-0.93431619135249533,-0.75139900132629023]
[null,null,null,null,null,null,null,null,null,null,null,null,null,2045,-0.96702165915444849,-0.90266831158784466,-0.84995119150207032,-0.99662331044743724,2045,-0.96676983126854543,-0.9030697621445305,-0.85002209744024881,-0.99708445224176445,null,2045,-0.95121035683528132,-0.96632029072097891,-0.97124332884041842,-0.87586424713690725,2045,-0.95117807658802733,-0.96560850234352902,-0.97307394433606043,-0.87536473666046322]
[null,null,null,null,null,null,null,null,null,null,null,null,null,2050,-1.0158318652797382,-0.95234603506362303,-0.90132853606523211,-1.0769239172454583,2050,-1,-0.95263093018218503,-0.90139004330025574,-1,null,2050,-0.99649933720270945,-0.99538297135581733,-0.99548193822428699,-0.99992604217808845,2050,-0.99648769844160123,-0.99511285390090309,-0.99623343641958362,-0.99933047199463609]
[null,null,null,null,null,null,null,null,"Mill. t (ohne LUC/ISA)"]
[null,null,null,null,null,null,null,null,null,null,null,null,null,null,"RM-2-exp","RM-3-lin",null,"RM-5-rad","RM-6-abs"]
[null,null,null,null,null,null,null,null,null,null,null,null,null,"Potential NNE",-0.125,null,null,null,-0.11100000000000002]
[null,null,null,null,null,null,null,null,null,null,null,null,null,"Overshoot",17339.957987473583,null,null,null,17603.990856199252]
[null,null,null,null,null,null,null,null,null,null,null,null,null,2030,-0.55490387798577345,null,null,null,-0.55495551306311386]
[null,null,null,null,null,null,null,null,null,null,null,null,null,2035,-0.72992324139494613,null,null,null,-0.70232487676327249]
[null,null,null,null,null,null,null,null,null,null,null,null,null,2040,-0.8785923219187376,null,null,null,-0.84969424046343123]
[null,null,null,null,null,null,null,null,null,null,null,null,null,2045,-0.96708896891919238,null,null,null,-0.99706360416358986]
[null,null,null,null,null,null,null,null,null,null,null,null,null,2050,-1.0158421325369531,null,null,null,-1.085377957827385]
[null,null,null,null,null,null,null,null,null,null,null,null,null,null,"RM-2-exp","RM-3-lin","RM-4-quadr","RM-5-rad","RM-6-abs"]
[null,null,null,null,null,null,null,null,null,null,null,null,null,"weighting P",5.0000000000000001E-3,"-",0.37,"-",0.23]
[null,null,null,null,null,null,null,null,null,null,null,null,null,"EU",22400.451202804714,null,20104.298451202092,null,21016.468722386697]
[null,null,null,null,null,null,null,null,null,null,null,null,null,"Overshoot",14155.130133650659,null,14797.479104290729,null,15889.616262469626]
[null,null,null,null,null,null,null,null,null,null,null,null,null,2030,-0.55485006427304917,null,-0.55465088884771152,null,-0.55482588228287799]
[null,null,null,null,null,null,null,null,null,null,null,null,null,2035,-0.73099391875281583,null,-0.76457925963428719,null,-0.70213632290111128]
[null,null,null,null,null,null,null,null,null,null,null,null,null,2040,-0.88046627213457584,null,-0.92336580691295911,null,-0.84944676351934456]
[null,null,null,null,null,null,null,null,null,null,null,null,null,2045,-0.9685033080007196,null,-0.99051339676424455,null,-0.99675720413757796]
[null,null,null,null,null,null,null,null,null,null,null,null,null,2050,-1.0161878245531117,null,-1.0371509948880338,null,-1.0769239172454583]

{"sheet":"EU27 SPM","index":5,"n_rows":77,"n_cols":20,"rows_kept":77,"cut":false,"hidden":true,"merged":[[42,15,42,17]]}
[null,null,null,null,null,null,null,null,null,null,null,null,null,1990,{"$f":"'data countries'!C223","v":3820.6582623995596}]
[null,null,null,null,null,null,null,null,null,null,null,null,null,2010]
[]
[]
[]
[]
[null,null,null,null,null,null,null,null,null,null,null,null,null,2015]
[]
[]
[]
[]
[null,null,null,null,null,null,null,null,null,null,null,null,null,2020]
[]
[]
[]
[]
[null,null,null,null,null,null,null,null,null,null,null,null,null,2025]
[]
[]
[]
[]
[null,null,null,null,null,null,null,null,null,null,null,null,null,2030,{"$f":"$O$1*(1-0.4)","v":2292.3949574397357},{"$f":"$O$1*(1-0.55)","v":1719.2962180798017},{"$f":"R22-P22","v":191.03291311997805},{"$f":"$O$1*(1-0.5)","v":1910.3291311997798}]
[]
[]
[]
[]
[null,null,null,null,null,null,null,null,null,null,null,null,null,2035]
[]
[]
[]
[]
[null,{"$f":"H33","v":"Equity"},null,{"$f":"G33","v":"Inertia"},null,null,null,null,null,null,null,null,null,2040]
["Bevölkerung",1,null,0,null,null,"Inertia","Equity"]
[2010,null,null,null,null,null,null,null,null,3418.2274548906998]
[{"$f":"A34+1","v":2011},null,null,null,null,null,null,null,null,3303.4351498573401]
[{"$f":"A35+1","v":2012},null,null,null,null,null,null,null,null,3235.0388989828903]
[2013,null,null,null,null,null,null,null,null,3159.4149102183901,null,null,null,2045]
[2014,null,null,null,null,null,null,null,null,3017.44792143002]
[2015,null,null,null,null,null,null,null,null,3076.8385112354899]
[2016,null,null,null,null,null,null,null,null,3082.3843709535399]
[2017,null,null,null,null,null,null,null,null,3107.7764971623601]
[2018,null,null,null,null,null,null,null,null,3061.129954815643,null,null,null,2050,{"$f":"$O$1*(1-0.8)","v":764.13165247991174},null,null,null,null,0]
[2019,{"$f":"H43","v":2939.068445651058},null,{"$f":"G43","v":2939.068445651058},null,null,{"$f":"SPM!M20","v":2939.068445651058},{"$f":"SPM!Q20","v":2939.068445651058},null,2939.068445651058,null,null,null,null,"derzeitiges EU-2030-Ziel: -40%","EU-Kommission 2030: -50 bis -55%",null,null,null,"EU-Kommission 2050: Klimaneutralität"]
[2020,{"$f":"H44","v":2871.2888175414882},null,{"$f":"G44","v":2877.6132817736652},null,null,{"$f":"SPM!M21","v":2877.6132817736652},{"$f":"SPM!Q21","v":2871.2888175414882},null,null,null,null,null,null,"derzeitiges EU-2050-Ziel: -80%"]
[2021,2706.7154194248142,null,2745.2708009585112,null,null,{"$f":"SPM!M22","v":2745.2708009585112},{"$f":"SPM!Q22","v":2706.7154194248142},null,null,null,null,null,null,null,0.55000000000000004,"Block: 50 - 55",0.5]
[2022,2513.0950230997187,null,2602.7351612148595,null,null,{"$f":"SPM!M23","v":2602.7351612148595},{"$f":"SPM!Q23","v":2513.0950230997187}]
[2023,2305.4128581380646,null,2454.4215179933417,null,null,{"$f":"SPM!M24","v":2454.4215179933417},{"$f":"SPM!Q24","v":2305.4128581380646}]
[2024,2094.3369761086378,null,2303.8244888858571,null,null,{"$f":"SPM!M25","v":2303.8244888858571},{"$f":"SPM!Q25","v":2094.3369761086378}]
[2025,1887.2637844912242,null,2153.6764402016306,null,null,{"$f":"SPM!M26","v":2153.6764402016306},{"$f":"SPM!Q26","v":1887.2637844912242}]
[2026,1689.1309856377611,null,2006.0809265347016,null,null,{"$f":"SPM!M27","v":2006.0809265347016},{"$f":"SPM!Q27","v":1689.1309856377611}]
[2027,1503.0471153397775,null,1862.6249811600428,null,null,{"$f":"SPM!M28","v":1862.6249811600428},{"$f":"SPM!Q28","v":1503.0471153397775}]
[2028,1330.7768141078977,null,1724.4734237215562,null,null,{"$f":"SPM!M29","v":1724.4734237215562},{"$f":"SPM!Q29","v":1330.7768141078977}]
[2029,1173.1129119901943,null,1592.4478947867628,null,null,{"$f":"SPM!M30","v":1592.4478947867628},{"$f":"SPM!Q30","v":1173.1129119901943}]
[2030,1030.1599705604713,null,1467.0929341919418,null,null,{"$f":"SPM!M31","v":1467.0929341919418},{"$f":"SPM!Q31","v":1030.1599705604713}]
[2031,901.54878573788483,null,1348.731082827946,null,null,{"$f":"SPM!M32","v":1348.731082827946},{"$f":"SPM!Q32","v":901.54878573788483}]
[2032,786.59725614402305,null,1237.5086979642383,null,null,{"$f":"SPM!M33","v":1237.5086979642383},{"$f":"SPM!Q33","v":786.59725614402305}]
[2033,684.42975737993038,null,1133.4339237646091,null,null,{"$f":"SPM!M34","v":1133.4339237646091},{"$f":"SPM!Q34","v":684.42975737993038}]
[2034,594.06456678970835,null,1036.4080456006905,null,null,{"$f":"SPM!M35","v":1036.4080456006905},{"$f":"SPM!Q35","v":594.06456678970835}]
[2035,514.47682234478452,null,946.25127418775628,null,null,{"$f":"SPM!M36","v":946.25127418775628},{"$f":"SPM!Q36","v":514.47682234478452}]
[2036,444.642865841613,null,862.72384919663637,null,null,{"$f":"SPM!M37","v":862.72384919663637},{"$f":"SPM!Q37","v":444.642865841613}]
[2037,383.57052841236282,null,785.54321816383072,null,null,{"$f":"SPM!M38","v":785.54321816383072},{"$f":"SPM!Q38","v":383.57052841236282}]
[2038,330.31889620972152,null,714.39793206273953,null,null,{"$f":"SPM!M39","v":714.39793206273953},{"$f":"SPM!Q39","v":330.31889620972152}]
[2039,284.0102905778258,null,648.95880108238998,null,null,{"$f":"SPM!M40","v":648.95880108238998},{"$f":"SPM!Q40","v":284.0102905778258}]
[2040,243.83656564712169,null,588.88777063314592,null,null,{"$f":"SPM!M41","v":588.88777063314592},{"$f":"SPM!Q41","v":243.83656564712169}]
[2041,209.06133156298097,null,533.84490633472433,null,null,{"$f":"SPM!M42","v":533.84490633472433},{"$f":"SPM!Q42","v":209.06133156298097}]
[2042,179.01932508839332,null,483.4938159948706,null,null,{"$f":"SPM!M43","v":483.4938159948706},{"$f":"SPM!Q43","v":179.01932508839332}]
[2043,153.11384845579164,null,437.50578485473579,null,null,{"$f":"SPM!M44","v":437.50578485473579},{"$f":"SPM!Q44","v":153.11384845579164}]
[2044,130.81296402628004,null,395.56285636635539,null,null,{"$f":"SPM!M45","v":395.56285636635539},{"$f":"SPM!Q45","v":130.81296402628004}]
[2045,111.6449521767629,null,357.36005336707967,null,null,{"$f":"SPM!M46","v":357.36005336707967},{"$f":"SPM!Q46","v":111.6449521767629}]
[2046,95.193401457356799,null,322.60690276937476,null,null,{"$f":"SPM!M47","v":322.60690276937476},{"$f":"SPM!Q47","v":95.193401457356799}]
[2047,81.092194384051993,null,291.02839997084084,null,null,{"$f":"SPM!M48","v":291.02839997084084},{"$f":"SPM!Q48","v":81.092194384051993}]
[2048,69.020572080199088,null,262.36552640371201,null,null,{"$f":"SPM!M49","v":262.36552640371201},{"$f":"SPM!Q49","v":69.020572080199088}]
[2049,58.698400684957107,null,236.37541437991422,null,null,{"$f":"SPM!M50","v":236.37541437991422},{"$f":"SPM!Q50","v":58.698400684957107}]
[2050,49.881717534839424,null,212.83123712797465,null,null,{"$f":"SPM!M51","v":212.83123712797465},{"$f":"SPM!Q51","v":49.881717534839424}]
["RR_20",-1.4E-2,-1.4999999999999999E-2,-1.4E-2,-1.4999999999999999E-2]
["TV",5.5E-2,5.5E-2,5.5E-2,5.5E-2]
[null,{"$f":"B32","v":"Equity"},null,{"$f":"D32","v":"Inertia"},{"$f":"E32","v":0},null,"Mill. t CO2 (ohne LUC/ISA)"]

{"sheet":"goal seek","index":6,"n_rows":94,"n_cols":18,"rows_kept":94,"cut":false,"hidden":false,"merged":[[12,18,12,19],[2,2,2,3],[2,4,2,5],[6,4,7,6],[0,4,0,5],[0,6,0,9],[5,8,7,8],[1,6,1,8],[1,12,1,13],[2,6,2,8],[4,8,4,9],[5,9,7,9],[25,0,25,4],[26,0,26,4],[22,0,23,2],[11,0,12,1],[2,0,2,1],[3,2,3,5],[6,3,7,3],[4,0,4,1],[6,0,7,0]]}
["Determination of the free parameter in the RM scenarios 2020 - 2100",null,null,null,null,null,null,null,null,null,"selected country:",null,{"$f":"'base data'!H31","v":"EU27"},"weighting P:",{"$f":"'base data'!D31","v":0.5}]
[null,null,null,null,null,null,"target is not met",null,null,null,"t / capita",{"$f":"SPM!F20","v":6.6048451652837024},"global budget in Gt:",null,{"$f":"'base data'!B11","v":570}]
["input value",null,"determination via \"goal seek\"",null,"target value of \"goal seek\"",null,"target is met"]
[]
["RM scenarios:",null,{"$f":"RM!$E$2","v":"RM-1 const"},{"$f":"RM!$K$2","v":"RM-2 exp"},{"$f":"RM!Q2","v":"RM-3 lin"},{"$f":"RM!$W$2","v":"RM-4 quadr"},{"$f":"RM!AC2","v":"RM-5 rad"},"RM-6","info"]
["characteristics of the scenario",null,"RRt const","RRt exp","RRt lin","RRt quadr","RRt rad","RA const",{"$f":"'data countries'!N3","v":"last actual change rate"},{"$f":"'data countries'!O3","v":"average annual change rate last two years"}]
["A corona effect should not be considered here.",null,null,"only a negative RR_20 possible","a positive RR_20 is also possible\n(= increasing emissions after 2019)"]
[null,null,null,null,null,null,null,"info",null,null,"2 - 5"]
["change rate 2020 (RR20)",null,{"$f":"C12","v":-7.9875215888894777E-2},-0.03,-0.03,-0.03,-0.03,{"$f":"RM!AM9","v":-4.255385279524182E-2},{"$f":"'data countries'!N5","v":-3.9874657713424688E-2},{"$f":"'data countries'!O5","v":-2.7442138547709882E-2},-0.03]
["initial value",null,-0.08,0.1,-0.01,0,0,{"$f":"-0.04*'data countries'!M5","v":-117.56273782604232}]
[null,null,"RRt constant","a","a","a","a","RA"]
["free parameters are determined by Goal Seek in such a way as that the budget is adhered to.",null,-7.9875215888894777E-2,0.11478754688348485,-6.4981584071655803E-3,2.0369691980863958E+66]
[null,null,null,-3.7778706683311344E+16,null,-6.4117075614600577E-4,-2.0388998832986494E-2,-125.06868599137513]
[]
["scenario ∑ 2020 - 2100; sheet 'RM'","Mill. t",{"$f":"RM!I6","v":33080},{"$f":"RM!$O$6","v":33080},{"$f":"RM!$U$6","v":33080},{"$f":"RM!$AA$6","v":33080},{"$f":"RM!AG6","v":33080},{"$f":"RM!AM6","v":33080}]
["budget ∑ 2020 - 2100; sheet 'base data'","Mill. t",{"$f":"ROUND('base data'!$L$41,0)","v":33080},{"$f":"ROUND('base data'!$L$41,0)","v":33080},{"$f":"ROUND('base data'!$L$41,0)","v":33080},{"$f":"ROUND('base data'!$L$41,0)","v":33080},{"$f":"ROUND('base data'!$L$41,0)","v":33080},{"$f":"ROUND('base data'!$L$41,0)","v":33080}]
[]
["emissions 2100 scenario; sheet 'RM'","Mill. t",{"$f":"ROUND(RM!I8,1)","v":0},{"$f":"RM!O8","v":0},{"$f":"RM!Q95","v":0},{"$f":"RM!$AA$8","v":0},{"$f":"RM!AG8","v":0},{"$f":"RM!AM8","v":0}]
["Emin; sheet 'base data'","Mill. t",{"$f":"ROUND('base data'!$L$48,1)","v":0},{"$f":"ROUND('base data'!$L$48,1)","v":0},{"$f":"ROUND('base data'!$L$48,1)","v":0},{"$f":"ROUND('base data'!$L$48,1)","v":0},{"$f":"ROUND('base data'!$L$48,1)","v":0},{"$f":"ROUND('base data'!$L$48,1)","v":0}]
["year  Emin is achieved",null,{"$f":"IF(ISNA(INDEX(RM!$C$15:$C$95,MATCH('goal seek'!C$19,RM!$E$15:$E$95,0))),\"-\",INDEX(RM!$C$15:$C$95,MATCH('goal seek'!C$19,RM!$E$15:$E$95,0)))","v":2069},{"$f":"IF(ISNA(INDEX(RM!$C$15:$C$95,MATCH('goal seek'!D$19,RM!$K$15:$K$95,0))),\"-\",INDEX(RM!$C$15:$C$95,MATCH('goal seek'!D$19,RM!$K$15:$K$95,0)))","v":2045},{"$f":"IF(ISNA(INDEX(RM!$C$15:$C$95,MATCH('goal seek'!E$19,RM!$Q$15:$Q$95,0))),\"-\",INDEX(RM!$C$15:$C$95,MATCH('goal seek'!E$19,RM!$Q$15:$Q$95,0)))","v":2051},{"$f":"IF(ISNA(INDEX(RM!$C$15:$C$95,MATCH('goal seek'!F$19,RM!$W$15:$W$95,0))),\"-\",INDEX(RM!$C$15:$C$95,MATCH('goal seek'!F$19,RM!$W$15:$W$95,0)))","v":2044},{"$f":"IF(ISNA(INDEX(RM!$C$15:$C$95,MATCH('goal seek'!G$19,RM!$AC$15:$AC$95,0))),\"-\",INDEX(RM!$C$15:$C$95,MATCH('goal seek'!G$19,RM!$AC$15:$AC$95,0)))","v":2057},{"$f":"IF(ISNA(INDEX(RM!$C$15:$C$95,MATCH(H$19,RM!AI15:AI95,0))),\"-\",INDEX(RM!$C$15:$C$95,MATCH('goal seek'!H$19,RM!AI15:AI95,0)))","v":2043}]
["change rate 2030 / 1990",null,{"$f":"'reference values'!AI89","v":-0.69211713211589498},{"$f":"'reference values'!AJ89","v":-0.58682619923499479},{"$f":"'reference values'!AK89","v":-0.62272813972691243},{"$f":"'reference values'!AL89","v":-0.57582101015623888},{"$f":"'reference values'!AM89","v":-0.65114820940790197},{"$f":"'reference values'!AN89","v":-0.59082629421975741}]
["year minimum positive emissions",null,{"$f":"INDEX(RM!$C$15:$C$95,MATCH(_xlfn.AGGREGATE(15,6,(RM!E15:E95)/(RM!E15:E95>0),1),RM!$E$15:$E$95,0))","v":2068},{"$f":"INDEX(RM!$C$15:$C$95,MATCH(_xlfn.AGGREGATE(15,6,(RM!K15:K95)/(RM!K15:K95>0),1),RM!$K$15:$K$95,0))","v":2044},{"$f":"INDEX(RM!$C$15:$C$95,MATCH(_xlfn.AGGREGATE(15,6,(RM!Q15:Q95)/(RM!Q15:Q95>0),1),RM!$Q$15:$Q$95,0))","v":2050},{"$f":"INDEX(RM!$C$15:$C$95,MATCH(_xlfn.AGGREGATE(15,6,(RM!W15:W95)/(RM!W15:W95>0),1),RM!$W$15:$W$95,0))","v":2043},{"$f":"INDEX(RM!$C$15:$C$95,MATCH(_xlfn.AGGREGATE(15,6,(RM!AC15:AC95)/(RM!AC15:AC95>0),1),RM!$AC$15:$AC$95,0))","v":2056},{"$f":"INDEX(RM!$C$15:$C$95,MATCH(_xlfn.AGGREGATE(15,6,(RM!AI15:AI95)/(RM!AI15:AI95>0),1),RM!$AI$15:$AI$95,0))","v":2042}]
["At which level of emissions in 2019 (threshold value; TV) shall the annual percentage reduction be change into a constant annual reduction?",null,null,"RM 2 - 5:",{"$f":"G23*'base data'!L45","v":102.86739559778704}," Mill. t",3.5000000000000003E-2]
[null,null,null,"RM-1:",{"$f":"G24*'base data'!L45","v":132.25808005429761}," Mill. t",4.4999999999999998E-2,null,null,null,null,null,null,null,null,"data macro 'finding budget':"]
[null,null,null,null,null,null,null,null,null,null,null,null,null,null,null,"Specified emissions target",null,{"$f":"Q25","v":0}]
["Download a comprehensive mathematical description of the Regensburg Model Scenario Types:",null,null,null,null,null,null,null,null,null,null,null,null,null,null,"Current emissions target",null,{"$f":"Q26","v":0}]
["Mathematicel Description RM 1 - 6",null,null,null,null,null,null,null,null,null,null,null,null,null,null,"Specified maximum global budget",null,"Gt"]
[null,null,null,null,null,null,null,null,null,null,null,null,null,null,null,"Current global budget",null,"Gt"]
[]
[]
[]
[]
[]
[null,null,null,null,null,null,null,null,null,null,null,null,null,null,null,"data macro 'finding NNE':"]
[null,null,null,null,null,null,null,null,null,null,null,null,null,null,null,"Specified emissions target",null,{"$f":"Q35","v":0}]
[null,null,null,null,null,null,null,null,null,null,null,null,null,null,null,"Current emissions target",null,{"$f":"Q36","v":0}]
[null,null,null,null,null,null,null,null,null,null,null,null,null,null,null,"Specified max. potential NNE",null,{"$f":"Q37","v":0}]
[null,null,null,null,null,null,null,null,null,null,null,null,null,null,null,"Current potential NNE",null,{"$f":"Q38","v":0}]
[null,null,null,null,null,null,null,null,null,null,null,null,null,null,null,"baseline potential NNE",null,0]
[]
[]
[]
[]
[]
[]
[null,null,null,null,null,null,null,null,null,null,null,null,null,null,null,"data macro 'finding weighting p.':"]
[null,null,null,null,null,null,null,null,null,null,null,null,null,null,null,"Specified emissions target",null,{"$f":"Q47","v":0}]
[null,null,null,null,null,null,null,null,null,null,null,null,null,null,null,"Current emissions target",null,{"$f":"Q48","v":0}]
[null,null,null,null,null,null,null,null,null,null,null,null,null,null,null,"Minimum or maximum weight P",null,{"$f":"Q49","v":0}]
[null,null,null,null,null,null,null,null,null,null,null,null,null,null,null,"Current weighting population",null,{"$f":"Q50","v":0}]
[null,null,null,null,null,null,null,null,null,null,null,null,null,null,null,"baseline weighting population",null,0]
[null,null,null,null,null,null,null,null,null,null,null,null,null,null,null,"global per capita",null,"t"]
[null,null,null,null,null,null,null,null,null,null,null,null,null,null,null,"country per capita",null,"t"]
[]
[]
[]
[]
[]
[]
[]
[]
[]
[]
[]
[null,null,null,null,null,null,null,null,null,null,null,null,null,null,null,"data macro 'finding budget':"]
[null,null,null,null,null,null,null,null,null,null,null,null,null,null,null,"Specified year of emissions neutrality"]
[null,null,null,null,null,null,null,null,null,null,null,null,null,null,null,"Current year of emissions neutraltity"]
[null,null,null,null,null,null,null,null,null,null,null,null,null,null,null,"Specified maximum global budget",null,"Gt"]
[null,null,null,null,null,null,null,null,null,null,null,null,null,null,null,"Current global budget",null,"Gt"]
[]
[]
[]
[]
[]
[null,null,null,null,null,null,null,null,null,null,null,null,null,null,null,"data macro 'finding NNE':"]
[null,null,null,null,null,null,null,null,null,null,null,null,null,null,null,"Specified year"]
[null,null,null,null,null,null,null,null,null,null,null,null,null,null,null,"Current year"]
[null,null,null,null,null,null,null,null,null,null,null,null,null,null,null,"Specified max. potential NNE",null,{"$f":"Q78","v":0}]
[null,null,null,null,null,null,null,null,null,null,null,null,null,null,null,"Current potential NNE",null,{"$f":"Q79","v":0}]
[null,null,null,null,null,null,null,null,null,null,null,null,null,null,null,"baseline potential NNE",null,0]
[]
[]
[]
[]
[]
[]
[null,null,null,null,null,null,null,null,null,null,null,null,null,null,null,"data macro 'finding weighting p.':"]
[null,null,null,null,null,null,null,null,null,null,null,null,null,null,null,"Specified emissions target"]
[null,null,null,null,null,null,null,null,null,null,null,null,null,null,null,"Current emissions target"]
[null,null,null,null,null,null,null,null,null,null,null,null,null,null,null,"Minimum or maximum weight P",null,{"$f":"Q90","v":0}]
[null,null,null,null,null,null,null,null,null,null,null,null,null,null,null,"Current weighting population",null,{"$f":"Q91","v":0}]
[null,null,null,null,null,null,null,null,null,null,null,null,null,null,null,"baseline weighting population",null,0]
[null,null,null,null,null,null,null,null,null,null,null,null,null,null,null,"global per capita",null,"t"]
[null,null,null,null,null,null,null,null,null,null,null,null,null,null,null,"country per capita",null,"t"]

{"sheet":"_xltb_storage_","index":7,"n_rows":3,"n_cols":3,"rows_kept":3,"cut":false,"hidden":true,"merged":[]}
["XL Toolbox Settings"]
[null,"export_preset","<?xml version=\"1.0\" encoding=\"utf-16\"?>\r\n<Preset xmlns:xsi=\"http://www.w3.org/2001/XMLSchema-instance\" xmlns:xsd=\"http://www.w3.org/2001/XMLSchema\">\r\n  <Name>Tiff, 300 dpi, RGB, Transparente Leinwand</Name>\r\n  <Dpi>300</Dpi>\r\n  <FileType>Tiff</FileType>\r\n  <ColorSpace>Rgb</ColorSpace>\r\n  <Transparency>TransparentCanvas</Transparency>\r\n  <UseColorProfile>false</UseColorProfile>\r\n  <ColorProfile>sRGB Color Space Profile</ColorProfile>\r\n</Preset>"]
[null,"export_path","E:\\Klima\\Veröffentlichungen\\Website\\Hilfsdatein_Paris_konkret\\EU27l\\ESPM_EU27_woLUC_EP40.tif"]

{"sheet":"RM","index":8,"n_rows":97,"n_cols":39,"rows_kept":97,"cut":false,"hidden":false,"merged":[[11,6,11,7],[11,35,11,36],[9,10,9,13],[4,10,4,13],[5,10,5,13],[6,10,6,13],[7,10,7,13],[8,10,8,13],[4,4,4,7],[5,4,5,7],[6,4,6,7],[7,4,7,7],[9,4,9,7],[8,16,8,19],[9,16,9,19],[1,34,1,38],[2,34,2,38],[3,34,3,37],[11,38,12,38],[11,24,11,25],[11,26,12,26],[1,28,1,32],[2,28,2,32],[11,30,11,31],[11,32,12,32],[3,28,3,31],[1,1,2,1],[1,22,1,26],[2,22,2,26],[11,8,12,8],[1,4,1,8],[2,4,2,8],[1,16,1,20],[2,16,2,20],[11,12,11,13],[1,10,1,14],[2,10,2,14],[11,14,12,14],[11,18,11,19],[11,20,12,20],[8,1,9,1],[5,1,6,1]]}
[]
[null,"calculation RM 1 - 6",null,null,"RM-1 const",null,null,null,null,null,"RM-2 exp",null,null,null,null,null,"RM-3 lin",null,null,null,null,null,"RM-4 quadr",null,null,null,null,null,"RM-5 rad",null,null,null,null,null,"RM-6 abs"]
[null,null,null,null,"constant annual reduction rate",null,null,null,null,null,"exponential increase of annual reduction rates is assumed",null,null,null,null,null,"linear increase of annual reduction rates is assumed",null,null,null,null,null,"quadratic formula for annual reduction rates",null,null,null,null,null,"radical formula for annual reduction rates",null,null,null,null,null,"constant absolute annual change"]
[null,"formula",null,null,null,null,null,null,null,null,null,null,null,null,null,null,null,null,null,null,null,null,null,null,null,null,null,null,"correcting factor",null,null,null,0.5]
[null,"base data","cumulative budget 2020 - 2100 in Mill. t",null,{"$f":"$C$5","v":"cumulative budget 2020 - 2100 in Mill. t"},null,null,null,{"$f":"ROUND('base data'!L41,0)","v":33080},null,{"$f":"$C$5","v":"cumulative budget 2020 - 2100 in Mill. t"},null,null,null,{"$f":"ROUND('base data'!L41,0)","v":33080},null,{"$f":"$C$5","v":"cumulative budget 2020 - 2100 in Mill. t"},null,null,null,{"$f":"ROUND('base data'!L41,0)","v":33080},null,{"$f":"$C$5","v":"cumulative budget 2020 - 2100 in Mill. t"},null,null,null,{"$f":"ROUND('base data'!$L$41,0)","v":33080},null,{"$f":"$C$5","v":"cumulative budget 2020 - 2100 in Mill. t"},null,null,null,{"$f":"ROUND('base data'!$L$41,0)","v":33080},null,{"$f":"$C$5","v":"cumulative budget 2020 - 2100 in Mill. t"},null,null,null,{"$f":"AG5","v":33080}]
[null,"input sheet 'gloal seek'","scenario sum emissions 2020 - 2100 in Mill. t",null,{"$f":"$C$6","v":"scenario sum emissions 2020 - 2100 in Mill. t"},null,null,null,{"$f":"ROUND(E96,0)","v":33080},null,{"$f":"$C$6","v":"scenario sum emissions 2020 - 2100 in Mill. t"},null,null,null,{"$f":"ROUND(RM!K96,0)","v":33080},null,{"$f":"$C$6","v":"scenario sum emissions 2020 - 2100 in Mill. t"},null,null,null,{"$f":"ROUND(Q96,0)","v":33080},null,{"$f":"$C$6","v":"scenario sum emissions 2020 - 2100 in Mill. t"},null,null,null,{"$f":"ROUND(W96,0)","v":33080},null,{"$f":"$C$6","v":"scenario sum emissions 2020 - 2100 in Mill. t"},null,null,null,{"$f":"ROUND(AC96,0)","v":33080},null,{"$f":"$C$6","v":"scenario sum emissions 2020 - 2100 in Mill. t"},null,null,null,{"$f":"ROUND(AI96,0)","v":33080}]
[null,null,"E_min in Mill. t",null,{"$f":"$C$7","v":"E_min in Mill. t"},null,null,null,{"$f":"ROUND('base data'!L48,1)","v":0},null,{"$f":"$C$7","v":"E_min in Mill. t"},null,null,null,{"$f":"ROUND('base data'!L48,1)","v":0},null,{"$f":"$C$7","v":"E_min in Mill. t"},null,null,null,{"$f":"ROUND('base data'!L48,1)","v":0},null,{"$f":"$C$7","v":"E_min in Mill. t"},null,null,null,{"$f":"ROUND('base data'!$L$48,1)","v":0},null,{"$f":"$C$7","v":"E_min in Mill. t"},null,null,null,{"$f":"ROUND('base data'!$L$48,1)","v":0},null,{"$f":"$C$7","v":"E_min in Mill. t"},null,null,null,{"$f":"AG7","v":0}]
[null,"goal seek","scenario emissions in year 2100 in Mill. t",null,{"$f":"$C$8","v":"scenario emissions in year 2100 in Mill. t"},null,null,null,{"$f":"ROUND(E95,1)","v":0},null,{"$f":"$C$8","v":"scenario emissions in year 2100 in Mill. t"},null,null,null,{"$f":"ROUND(RM!K95,1)","v":0},null,{"$f":"$C$8","v":"scenario emissions in year 2100 in Mill. t"},null,null,null,{"$f":"ROUND(Q95,1)","v":0},null,{"$f":"$C$8","v":"scenario emissions in year 2100 in Mill. t"},null,null,null,{"$f":"W95","v":0},null,{"$f":"$C$8","v":"scenario emissions in year 2100 in Mill. t"},null,null,null,{"$f":"AC95","v":0},null,{"$f":"$C$8","v":"scenario emissions in year 2100 in Mill. t"},null,null,null,{"$f":"AI95","v":0}]
[null,"sheet \"goal seek\"",null,null,null,null,null,null,null,null,"RR_20; input value sheet \"goal seek\"",null,null,null,{"$f":"'goal seek'!D9","v":-0.03},null,{"$f":"K9","v":"RR_20; input value sheet \"goal seek\""},null,null,null,{"$f":"'goal seek'!E9","v":-0.03},null,{"$f":"Q9","v":"RR_20; input value sheet \"goal seek\""},null,null,null,{"$f":"'goal seek'!F9","v":-0.03},null,{"$f":"W9","v":"RR_20; input value sheet \"goal seek\""},null,null,null,{"$f":"'goal seek'!$G$9","v":-0.03},null,"RR_20; info",null,null,null,{"$f":"AL15","v":-4.255385279524182E-2}]
[null,null,null,null,"free paramter",null,null,null,{"$f":"'goal seek'!C12","v":-7.9875215888894777E-2},null,{"$f":"E10","v":"free paramter"},null,null,null,{"$f":"'goal seek'!D12","v":0.11478754688348485},null,{"$f":"E10","v":"free paramter"},null,null,null,{"$f":"'goal seek'!E12","v":-6.4981584071655803E-3},null,{"$f":"Q10","v":"free paramter"},null,null,null,{"$f":"'goal seek'!F13","v":-6.4117075614600577E-4},null,{"$f":"W10","v":"free paramter"},null,null,null,{"$f":"'goal seek'!$G$13","v":-2.0388998832986494E-2},null,{"$f":"AC10","v":"free paramter"},null,null,null,{"$f":"'goal seek'!H13","v":-125.06868599137513}]
[]
[null,null,"year",null,"CO2 emissions\nin Mill. t","absolute\nchange\nvs. prev. year\nin Mill. t","relative\nchange\nvs. prev.\nyear",null,null,null,"CO2 emissions\nin Mill. t","absolute\nchange\nvs. prev. year\nin Mill. t","relative\nchange\nvs. prev.\nyear",null,null,null,"CO2 emissions\nin Mill. t","absolute\nchange\nvs. prev. year\nin Mill. t","relative\nchange\nvs. prev.\nyear",null,null,null,"CO2 emissions\nin Mill. t","absolute\nchange\nvs. prev. year\nin Mill. t","relative\nchange\nvs. prev.\nyear",null,null,null,"CO2 emissions\nin Mill. t","absolute\nchange\nvs. prev. year\nin Mill. t","relative\nchange\nvs. prev.\nyear",null,null,null,"CO2 emissions\nin Mill. t","absolute\nchange\nvs. prev. year\nin Mill. t",null,"relative\nchange\nvs. prev.\nyear"]
[null,null,"t",null,"see formula below\nEt","Et - Et-1","RRt const","actual RRt",null,null,"see formula below\nEt","Et - Et-1","see formula below","actual RRt",null,null,"see formula below\nEt","Et - Et-1",{"$f":"M13","v":"see formula below"},"actual RRt",null,null,"see formula below\nEt","Et - Et-1","see formula below","actual RRt",null,null,"see formula below\nEt","Et - Et-1","see formula below","actual RRt",null,null,"see formula below\nEt","Et - Et-1","actual\nEt - Et-1","RRt"]
[1,null,2019,null,{"$f":"'data countries'!$M$5","v":2939.068445651058},null,null,null,null,null,{"$f":"'data countries'!$M$5","v":2939.068445651058},null,null,null,null,null,{"$f":"'data countries'!$M$5","v":2939.068445651058},null,null,null,null,null,{"$f":"'data countries'!$M$5","v":2939.068445651058},null,null,null,null,null,{"$f":"'data countries'!$M$5","v":2939.068445651058},null,null,null,null,null,{"$f":"'data countries'!$M$5","v":2939.068445651058}]
[{"$f":"A14+1","v":2},null,2020,null,{"$f":"IF(E14>'goal seek'!$E$24,MAX($I$7,E14*(1+$I$10)),MAX($I$7,RM!E14+RM!F14))","v":2704.3097190424414},{"$f":"E15-E14","v":-234.7587266086166},{"$f":"$I$10","v":-7.9875215888894777E-2},{"$f":"IF(E15>0,E15/E14-1,\"\")","v":-7.9875215888894791E-2},null,null,{"$f":"IF(K14>'goal seek'!$E$23,MAX($O$7,K14*(1+M15)),MAX($O$7,K14+L14))","v":2850.896392281526},{"$f":"K15-K14","v":-88.172053369532023},{"$f":"O9","v":-0.03},{"$f":"IF(K15>0,K15/K14-1,\"\")","v":-3.0000000000000138E-2},null,null,{"$f":"IF(Q14>'goal seek'!$E$23,MAX($U$7,Q14*(1+S15)),MAX($U$7,Q14+R14))","v":2850.896392281526},{"$f":"Q15-Q14","v":-88.172053369532023},{"$f":"U9","v":-0.03},{"$f":"IF(Q15>0,Q15/Q14-1,\"\")","v":-3.0000000000000138E-2},null,null,{"$f":"IF(W14>'goal seek'!$E$23,MAX($AA$7,W14*(1+Y15)),MAX($AA$7,W14+X14))","v":2850.896392281526},{"$f":"W15-W14","v":-88.172053369532023},{"$f":"$AA$10*(C15-2020)^2+$AA$9","v":-0.03},{"$f":"IF(W15>0,W15/W14-1,\"\")","v":-3.0000000000000138E-2},null,null,{"$f":"IF(AC14>'goal seek'!$E$23,MAX($AA$7,AC14*(1+AE15)),MAX($AA$7,AC14+AD14))","v":2850.896392281526},{"$f":"AC15-AC14","v":-88.172053369532023},{"$f":"AG9","v":-0.03},{"$f":"IF(AC15>0,AC15/AC14-1,\"\")","v":-3.0000000000000138E-2},null,null,{"$f":"MAX(AI14+$AM$10,$AM$7)","v":2813.9997596596827},{"$f":"AM10","v":-125.06868599137513},{"$f":"AI15-AI14","v":-125.06868599137533},{"$f":"IF(AI15>0,AI15/AI14-1,\"\")","v":-4.255385279524182E-2}]
[{"$f":"A15+1","v":3},null,{"$f":"C15+1","v":2021},null,{"$f":"IF(E15>'goal seek'!$E$24,MAX($I$7,E15*(1+$I$10)),MAX($I$7,RM!E15+RM!F15))","v":2488.3023964034901},-216.00732263895134,{"$f":"G15","v":-7.9875215888894777E-2},-7.9875215888894791E-2,null,null,{"$f":"IF(K15>'goal seek'!$E$23,MAX($O$7,K15*(1+M16)),MAX($O$7,K15+L15))","v":2755.552078414411},-95.344313867115034,{"$f":"MAX(-5,M15*(1+$O$10))","v":-3.3443626406504549E-2},{"$f":"IF(K16>0,K16/K15-1,\"\")","v":-3.3443626406504556E-2},null,null,{"$f":"IF(Q15>'goal seek'!$E$23,MAX($U$7,Q15*(1+S16)),MAX($U$7,Q15+R15))","v":2746.843924153618},-104.05246812790801,{"$f":"S15+$U$10","v":-3.6498158407165582E-2},{"$f":"IF(Q16>0,Q16/Q15-1,\"\")","v":-3.6498158407165637E-2},null,null,{"$f":"IF(W15>'goal seek'!$E$23,MAX($AA$7,W15*(1+Y16)),MAX($AA$7,W15+X15))","v":2763.5415891175471},-87.354803163978886,-3.0641170756146006E-2,{"$f":"IF(W16>0,W16/W15-1,\"\")","v":-3.064117075614603E-2},null,null,{"$f":"IF(AC15>'goal seek'!$E$23,MAX($AA$7,AC15*(1+AE16)),MAX($AA$7,AC15+AD15))","v":2724.2675589381074},-126.62883334341859,{"$f":"$AG$10*SQRT(C16-$AG$4-2020)+$AG$9","v":-4.4417199336409356E-2},{"$f":"IF(AC16>0,AC16/AC15-1,\"\")","v":-4.4417199336409308E-2},null,null,{"$f":"MAX(AI15+$AM$10,$AM$7)","v":2688.9310736683074},{"$f":"AJ15","v":-125.06868599137513},{"$f":"AI16-AI15","v":-125.06868599137533},{"$f":"IF(AI16>0,AI16/AI15-1,\"\")","v":-4.444516583985092E-2}]
[4,null,2022,null,{"$f":"IF(E16>'goal seek'!$E$24,MAX($I$7,E16*(1+$I$10)),MAX($I$7,RM!E16+RM!F16))","v":2289.548705293907},-198.75369110958309,{"$f":"G16","v":-7.9875215888894777E-2},-7.9875215888894791E-2,null,null,{"$f":"IF(K16>'goal seek'!$E$23,MAX($O$7,K16*(1+M17)),MAX($O$7,K16+L16))","v":2652.8181026769748},-102.73397573743614,-3.7282538240594944E-2,-3.7282538240594909E-2,null,null,{"$f":"IF(Q16>'goal seek'!$E$23,MAX($U$7,Q16*(1+S17)),MAX($U$7,Q16+R16))","v":2628.7397525511883},-118.10417160242969,-4.2996316814331165E-2,-4.2996316814331248E-2,null,null,{"$f":"IF(W16>'goal seek'!$E$23,MAX($AA$7,W16*(1+Y17)),MAX($AA$7,W16+X16))","v":2673.547733242679},-89.993855874868132,-3.2564683024584019E-2,-3.256468302458404E-2,null,null,{"$f":"IF(AC16>'goal seek'!$E$23,MAX($AA$7,AC16*(1+AE17)),MAX($AA$7,AC16+AD16))","v":2574.5109704130732},-149.7565885250342,-5.49713217535093E-2,-5.4971321753509383E-2,null,null,2563.862387676932,{"$f":"AJ16","v":-125.06868599137513},-125.06868599137533,-4.6512417970146602E-2]
[5,null,2023,null,{"$f":"IF(E17>'goal seek'!$E$24,MAX($I$7,E17*(1+$I$10)),MAX($I$7,RM!E17+RM!F17))","v":2106.6705081704167},-182.87819712349028,-7.9875215888894777E-2,-7.9875215888894791E-2,null,null,{"$f":"IF(K17>'goal seek'!$E$23,MAX($O$7,K17*(1+M18)),MAX($O$7,K17+L17))","v":2542.5613866162839},-110.25671606069091,-4.1562109346822557E-2,-4.1562109346822584E-2,null,null,{"$f":"IF(Q17>'goal seek'!$E$23,MAX($U$7,Q17*(1+S18)),MAX($U$7,Q17+R17))","v":2498.6316580047801},-130.10809454640821,-4.9494475221496748E-2,-4.9494475221496748E-2,null,null,{"$f":"IF(W17>'goal seek'!$E$23,MAX($AA$7,W17*(1+Y18)),MAX($AA$7,W17+X17))","v":2577.9134956499579},-95.634237592721092,-3.577053680531405E-2,-3.5770536805314057E-2,null,null,{"$f":"IF(AC17>'goal seek'!$E$23,MAX($AA$7,AC17*(1+AE18)),MAX($AA$7,AC17+AD17))","v":2414.2789743216213},-160.23199609145195,-6.2237837761376175E-2,-6.2237837761376147E-2,null,null,2438.7937016855567,-125.06868599137513,-125.06868599137533,-4.8781356828085376E-2]
[6,null,2024,null,{"$f":"IF(E18>'goal seek'!$E$24,MAX($I$7,E18*(1+$I$10)),MAX($I$7,RM!E18+RM!F18))","v":1938.399746523537},-168.27076164687969,-7.9875215888894777E-2,-7.9875215888894791E-2,null,null,{"$f":"IF(K18>'goal seek'!$E$23,MAX($O$7,K18*(1+M19)),MAX($O$7,K18+L18))","v":2424.7570884081788},-117.80429820810514,-4.6332921922047479E-2,-4.6332921922047521E-2,null,null,{"$f":"IF(Q18>'goal seek'!$E$23,MAX($U$7,Q18*(1+S19)),MAX($U$7,Q18+R18))","v":2358.7266910051412},-139.90496699963887,-5.5992633628662331E-2,-5.5992633628662358E-2,null,null,{"$f":"IF(W18>'goal seek'!$E$23,MAX($AA$7,W18*(1+Y19)),MAX($AA$7,W18+X18))","v":2474.1299668559013},-103.78352879405656,-4.0258732098336095E-2,-4.025873209833597E-2,null,null,{"$f":"IF(AC18>'goal seek'!$E$23,MAX($AA$7,AC18*(1+AE19)),MAX($AA$7,AC18+AD18))","v":2249.7595655575587},-164.51940876406252,-6.814432404618459E-2,-6.8144324046184535E-2,null,null,2313.7250156941814,-125.06868599137513,-125.06868599137533,-5.1283011722121019E-2]
[7,null,2025,null,{"$f":"IF(E19>'goal seek'!$E$24,MAX($I$7,E19*(1+$I$10)),MAX($I$7,RM!E19+RM!F19))","v":1783.5696482909905},-154.83009823254656,-7.9875215888894777E-2,-7.9875215888894791E-2,null,null,{"$f":"IF(K19>'goal seek'!$E$23,MAX($O$7,K19*(1+M20)),MAX($O$7,K19+L19))","v":2299.5150765274661},-125.24201188071265,-5.1651364369423351E-2,-5.1651364369423192E-2,null,null,{"$f":"IF(Q19>'goal seek'!$E$23,MAX($U$7,Q19*(1+S20)),MAX($U$7,Q19+R19))","v":2211.3279918881822},-147.39869911695905,-6.2490792035827913E-2,-6.2490792035827969E-2,null,null,{"$f":"IF(W19>'goal seek'!$E$23,MAX($AA$7,W19*(1+Y20)),MAX($AA$7,W19+X19))","v":2360.2475733089123},-113.88239354698908,-4.6029268903650139E-2,-4.602926890365E-2,null,null,{"$f":"IF(AC19>'goal seek'!$E$23,MAX($AA$7,AC19*(1+AE20)),MAX($AA$7,AC19+AD19))","v":2084.9610822439208},-164.79848331363792,-7.3251598009228064E-2,-7.3251598009228092E-2,null,null,2188.656329702806,-125.06868599137513,-125.06868599137533,-5.4055121132815853E-2]
[8,null,2026,null,{"$f":"IF(E20>'goal seek'!$E$24,MAX($I$7,E20*(1+$I$10)),MAX($I$7,RM!E20+RM!F20))","v":1641.1066375808675},-142.46301071012294,-7.9875215888894777E-2,-7.9875215888894791E-2,null,null,{"$f":"IF(K20>'goal seek'!$E$23,MAX($O$7,K20*(1+M21)),MAX($O$7,K20+L20))","v":2167.1083136746929},-132.40676285277323,-5.7580297778574499E-2,-5.7580297778574541E-2,null,null,{"$f":"IF(Q20>'goal seek'!$E$23,MAX($U$7,Q20*(1+S21)),MAX($U$7,Q20+R20))","v":2058.770794642604},-152.55719724557821,-6.8988950442993496E-2,-6.898895044299358E-2,null,null,{"$f":"IF(W20>'goal seek'!$E$23,MAX($AA$7,W20*(1+Y21)),MAX($AA$7,W20+X20))","v":2234.9605641439161},-125.28700916499611,-5.3082147221256204E-2,-5.3082147221256037E-2,null,null,{"$f":"IF(AC20>'goal seek'!$E$23,MAX($AA$7,AC20*(1+AE21)),MAX($AA$7,AC20+AD20))","v":1922.7168317701551},-162.24425047376576,-7.7816440726630687E-2,-7.7816440726630631E-2,null,null,2063.5876437114307,-125.06868599137513,-125.06868599137533,-5.7144049659161533E-2]
[9,null,2027,null,{"$f":"IF(E21>'goal seek'!$E$24,MAX($I$7,E21*(1+$I$10)),MAX($I$7,RM!E21+RM!F21))","v":1510.0228906073976},-131.08374697346994,-7.9875215888894777E-2,-7.9875215888894791E-2,null,null,{"$f":"IF(K21>'goal seek'!$E$23,MAX($O$7,K21*(1+M22)),MAX($O$7,K21+L21))","v":2028.0020668050304},-139.10624686966253,-6.4189798909397647E-2,-6.4189798909397688E-2,null,null,{"$f":"IF(Q21>'goal seek'!$E$23,MAX($U$7,Q21*(1+S22)),MAX($U$7,Q21+R21))","v":1903.3601395698893},-155.41065507271469,-7.5487108850159079E-2,-7.5487108850159079E-2,null,null,{"$f":"IF(W21>'goal seek'!$E$23,MAX($AA$7,W21*(1+Y22)),MAX($AA$7,W21+X21))","v":2097.6951708310344},-137.26539331288177,-6.1417367051154283E-2,-6.1417367051154304E-2,null,null,{"$f":"IF(AC21>'goal seek'!$E$23,MAX($AA$7,AC21*(1+AE22)),MAX($AA$7,AC21+AD21))","v":1765.0887538043223},-157.62807796583274,-8.1981951456009311E-2,-8.1981951456009283E-2,null,null,1938.5189577200556,-125.06868599137513,-125.06868599137511,-6.0607402051717552E-2]
[10,null,2028,null,{"$f":"IF(E22>'goal seek'!$E$24,MAX($I$7,E22*(1+$I$10)),MAX($I$7,RM!E22+RM!F22))","v":1389.4094862229588},-120.61340438443881,-7.9875215888894777E-2,-7.9875215888894791E-2,null,null,{"$f":"IF(K22>'goal seek'!$E$23,MAX($O$7,K22*(1+M23)),MAX($O$7,K22+L22))","v":1882.8823183094044},-145.11974849562603,-7.1557988461151592E-2,-7.1557988461151578E-2,null,null,{"$f":"IF(Q22>'goal seek'!$E$23,MAX($U$7,Q22*(1+S23)),MAX($U$7,Q22+R22))","v":1747.312649840313},-156.04748972957623,-8.1985267257324662E-2,-8.198526725732469E-2,null,null,{"$f":"IF(W22>'goal seek'!$E$23,MAX($AA$7,W22*(1+Y23)),MAX($AA$7,W22+X22))","v":1948.6855445799877},-149.00962625104671,-7.1034928393344368E-2,-7.1034928393344354E-2,null,null,{"$f":"IF(AC22>'goal seek'!$E$23,MAX($AA$7,AC22*(1+AE23)),MAX($AA$7,AC22+AD22))","v":1613.5778191737224},-151.51093463059988,-8.5837572928866041E-2,-8.5837572928866068E-2,null,null,1813.4502717286805,-125.06868599137513,-125.06868599137511,-6.4517649153388645E-2]
[11,null,2029,null,{"$f":"IF(E23>'goal seek'!$E$24,MAX($I$7,E23*(1+$I$10)),MAX($I$7,RM!E23+RM!F23))","v":1278.4301035528215},-110.97938267013728,-7.9875215888894777E-2,-7.9875215888894791E-2,null,null,{"$f":"IF(K23>'goal seek'!$E$23,MAX($O$7,K23*(1+M24)),MAX($O$7,K23+L23))","v":1732.6811158415478},-150.20120246785655,-7.9771954416523905E-2,-7.9771954416523849E-2,null,null,{"$f":"IF(Q23>'goal seek'!$E$23,MAX($U$7,Q23*(1+S24)),MAX($U$7,Q23+R23))","v":1592.7044408755444},-154.60820896476866,-8.8483425664490245E-2,-8.848342566449019E-2,null,null,{"$f":"IF(W23>'goal seek'!$E$23,MAX($AA$7,W23*(1+Y24)),MAX($AA$7,W23+X23))","v":1789.0203233297475},-159.66522125024017,-8.1934831247826467E-2,-8.1934831247826523E-2,null,null,{"$f":"IF(AC23>'goal seek'!$E$23,MAX($AA$7,AC23*(1+AE24)),MAX($AA$7,AC23+AD23))","v":1469.2535525587277},-144.32426661499471,-8.944363568960062E-2,-8.9443635689600676E-2,null,null,1688.3815857373054,-125.06868599137513,-125.06868599137511,-6.8967254267277345E-2]
[12,null,2030,null,{"$f":"IF(E24>'goal seek'!$E$24,MAX($I$7,E24*(1+$I$10)),MAX($I$7,RM!E24+RM!F24))","v":1176.3152230326777},-102.11488052014374,-7.9875215888894777E-2,-7.9875215888894791E-2,null,null,{"$f":"IF(K24>'goal seek'!$E$23,MAX($O$7,K24*(1+M25)),MAX($O$7,K24+L24))","v":1578.5958956998468},-154.08522014170103,-8.8928781374097862E-2,-8.8928781374097876E-2,null,null,{"$f":"IF(Q24>'goal seek'!$E$23,MAX($U$7,Q24*(1+S25)),MAX($U$7,Q24+R24))","v":1441.4268501232243},-151.27759075232007,-9.4981584071655828E-2,-9.49815840716558E-2,null,null,{"$f":"IF(W24>'goal seek'!$E$23,MAX($AA$7,W24*(1+Y25)),MAX($AA$7,W24+X24))","v":1620.6429622828646},-168.37736104688292,-9.4117075614600573E-2,-9.4117075614600476E-2,null,null,{"$f":"IF(AC24>'goal seek'!$E$23,MAX($AA$7,AC24*(1+AE25)),MAX($AA$7,AC24+AD24))","v":1332.8434760785801},-136.41007648014761,-9.2843114956290024E-2,-9.2843114956290163E-2,null,null,1563.3128997459303,-125.06868599137513,-125.06868599137511,-7.40760779718872E-2]
[13,null,2031,null,{"$f":"IF(E25>'goal seek'!$E$24,MAX($I$7,E25*(1+$I$10)),MAX($I$7,RM!E25+RM!F25))","v":1082.3567906395492},-93.958432393128533,-7.9875215888894777E-2,-7.9875215888894791E-2,null,null,{"$f":"IF(K25>'goal seek'!$E$23,MAX($O$7,K25*(1+M26)),MAX($O$7,K25+L25))","v":1422.0991110679793},-156.49678463186751,-9.9136698035368301E-2,-9.9136698035368287E-2,null,null,{"$f":"IF(Q25>'goal seek'!$E$23,MAX($U$7,Q25*(1+S26)),MAX($U$7,Q25+R25))","v":1295.1512245706608},-146.2756255525635,-0.10147974247882141,-0.10147974247882141,null,null,{"$f":"IF(W25>'goal seek'!$E$23,MAX($AA$7,W25*(1+Y26)),MAX($AA$7,W25+X25))","v":1446.2914997124562},-174.35146257040833,-0.1075816614936667,-0.10758166149366666,null,null,{"$f":"IF(AC25>'goal seek'!$E$23,MAX($AA$7,AC25*(1+AE26)),MAX($AA$7,AC25+AD25))","v":1204.7999926154205},-128.04348346315965,-9.6067907268362965E-2,-9.6067907268363006E-2,null,null,1438.2442137545552,-125.06868599137513,-125.06868599137511,-8.0002337351467667E-2]
[14,null,2032,null,{"$f":"IF(E26>'goal seek'!$E$24,MAX($I$7,E26*(1+$I$10)),MAX($I$7,RM!E26+RM!F26))","v":995.9033083184039},-86.453482321145316,-7.9875215888894777E-2,-7.9875215888894791E-2,null,null,{"$f":"IF(K26>'goal seek'!$E$23,MAX($O$7,K26*(1+M27)),MAX($O$7,K26+L26))","v":1264.933898860301},-157.16521220767822,-0.11051635640897703,-0.11051635640897706,null,null,{"$f":"IF(Q26>'goal seek'!$E$23,MAX($U$7,Q26*(1+S27)),MAX($U$7,Q26+R26))","v":1155.3035140116053},-139.84771055905549,-0.10797790088598699,-0.10797790088598702,null,null,{"$f":"IF(W26>'goal seek'!$E$23,MAX($AA$7,W26*(1+Y27)),MAX($AA$7,W26+X26))","v":1269.3687014362251},-176.92279827623111,-0.12232858888502483,-0.12232858888502485,null,null,{"$f":"IF(AC26>'goal seek'!$E$23,MAX($AA$7,AC26*(1+AE27)),MAX($AA$7,AC26+AD26))","v":1085.3531586775575},-119.44683393786295,-9.91424590554352E-2,-9.9142459055435173E-2,null,null,1313.1755277631801,-125.06868599137513,-125.06868599137511,-8.6959283267256549E-2]
[15,null,2033,null,{"$f":"IF(E27>'goal seek'!$E$24,MAX($I$7,E27*(1+$I$10)),MAX($I$7,RM!E27+RM!F27))","v":916.35531656200681},-79.547991756397096,-7.9875215888894777E-2,-7.9875215888894791E-2,null,null,{"$f":"IF(K27>'goal seek'!$E$23,MAX($O$7,K27*(1+M28)),MAX($O$7,K27+L27))","v":1109.0911864876032},-155.84271237269786,-0.1232022578516644,-0.12320225785166428,null,null,{"$f":"IF(Q27>'goal seek'!$E$23,MAX($U$7,Q27*(1+S28)),MAX($U$7,Q27+R27))","v":1023.0489204400252},-132.25459357158013,-0.11447605929315258,-0.11447605929315263,null,null,{"$f":"IF(W27>'goal seek'!$E$23,MAX($AA$7,W27*(1+Y28)),MAX($AA$7,W27+X27))","v":1093.7415671615167},-175.6271342747084,-0.13835785778867499,-0.13835785778867504,null,null,{"$f":"IF(AC27>'goal seek'!$E$23,MAX($AA$7,AC27*(1+AE28)),MAX($AA$7,AC27+AD27))","v":974.55379972195146},-110.79935895560607,-0.10208599668204676,-0.10208599668204676,null,null,1188.106841771805,-125.06868599137513,-125.06868599137511,-9.5241407829471991E-2]
[16,null,2034,null,{"$f":"IF(E28>'goal seek'!$E$24,MAX($I$7,E28*(1+$I$10)),MAX($I$7,RM!E28+RM!F28))","v":843.16123782067996},-73.194078741326848,-7.9875215888894777E-2,-7.9875215888894791E-2,null,null,{"$f":"IF(K28>'goal seek'!$E$23,MAX($O$7,K28*(1+M29)),MAX($O$7,K28+L28))","v":956.76378637312246},-152.32740011448072,-0.13734434280096353,-0.13734434280096353,null,null,{"$f":"IF(Q28>'goal seek'!$E$23,MAX($U$7,Q28*(1+S29)),MAX($U$7,Q28+R28))","v":899.28637762063818},-123.76254281938702,-0.12097421770031816,-0.12097421770031813,null,null,{"$f":"IF(W28>'goal seek'!$E$23,MAX($AA$7,W28*(1+Y29)),MAX($AA$7,W28+X28))","v":923.47939904819884},-170.2621681133179,-0.15566946820461713,-0.15566946820461713,null,null,{"$f":"IF(AC28>'goal seek'!$E$23,MAX($AA$7,AC28*(1+AE29)),MAX($AA$7,AC28+AD28))","v":872.30949623340723},-102.24430348854423,-0.10491396526052792,-0.10491396526052787,null,null,1063.0381557804299,-125.06868599137513,-125.06868599137511,-0.10526720459320149]
[17,null,2035,null,{"$f":"IF(E29>'goal seek'!$E$24,MAX($I$7,E29*(1+$I$10)),MAX($I$7,RM!E29+RM!F29))","v":775.81355192060539},-67.347685900074566,-7.9875215888894777E-2,-7.9875215888894791E-2,null,null,{"$f":"IF(K29>'goal seek'!$E$23,MAX($O$7,K29*(1+M30)),MAX($O$7,K29+L29))","v":810.2739098046826},-146.48987656843985,-0.15310976298941056,-0.15310976298941059,null,null,{"$f":"IF(Q29>'goal seek'!$E$23,MAX($U$7,Q29*(1+S30)),MAX($U$7,Q29+R29))","v":784.65220626424355},-114.63417135639463,-0.12747237610748374,-0.12747237610748374,null,null,{"$f":"IF(W29>'goal seek'!$E$23,MAX($AA$7,W29*(1+Y30)),MAX($AA$7,W29+X29))","v":762.55072054782954},-160.9286785003693,-0.17426342013285129,-0.17426342013285123,null,null,{"$f":"IF(AC29>'goal seek'!$E$23,MAX($AA$7,AC29*(1+AE30)),MAX($AA$7,AC29+AD29))","v":778.41497918010805},-93.894517053299182,-0.10763899448387458,-0.10763899448387459,null,null,937.96946978905476,-125.06868599137513,-125.06868599137511,-0.11765211371886819]
[18,null,2036,null,{"$f":"IF(E30>'goal seek'!$E$24,MAX($I$7,E30*(1+$I$10)),MAX($I$7,RM!E30+RM!F30))","v":713.84527697141675},-61.96827494918864,-7.9875215888894777E-2,-7.9875215888894791E-2,null,null,{"$f":"IF(K30>'goal seek'!$E$23,MAX($O$7,K30*(1+M31)),MAX($O$7,K30+L30))","v":671.97242330844551},-138.30148649623709,-0.17068485708687678,-0.17068485708687675,null,null,{"$f":"IF(Q30>'goal seek'!$E$23,MAX($U$7,Q30*(1+S31)),MAX($U$7,Q30+R30))","v":679.53193078292395},-105.1202754813196,-0.13397053451464933,-0.13397053451464935,null,null,{"$f":"IF(W30>'goal seek'!$E$23,MAX($AA$7,W30*(1+Y31)),MAX($AA$7,W30+X30))","v":614.50934207550131},-148.04137847232823,-0.19413971357337748,-0.19413971357337745,null,null,{"$f":"IF(AC30>'goal seek'!$E$23,MAX($AA$7,AC30*(1+AE31)),MAX($AA$7,AC30+AD30))","v":692.57793834418362},-85.837040835924427,-0.11027156867707665,-0.11027156867707655,null,null,812.90078379767965,-125.06868599137513,-125.06868599137511,-0.13333982610276485]
[19,null,2037,null,{"$f":"IF(E31>'goal seek'!$E$24,MAX($I$7,E31*(1+$I$10)),MAX($I$7,RM!E31+RM!F31))","v":656.82673136205699},-57.018545609359762,-7.9875215888894777E-2,-7.9875215888894679E-2,null,null,{"$f":"IF(K31>'goal seek'!$E$23,MAX($O$7,K31*(1+M32)),MAX($O$7,K31+L31))","v":544.1112892303131},-127.86113407813241,-0.19027735312203756,-0.19027735312203764,null,null,{"$f":"IF(Q31>'goal seek'!$E$23,MAX($U$7,Q31*(1+S32)),MAX($U$7,Q31+R31))","v":584.07896866720944},-95.452962115714513,-0.14046869292181491,-0.14046869292181485,null,null,{"$f":"IF(W31>'goal seek'!$E$23,MAX($AA$7,W31*(1+Y32)),MAX($AA$7,W31+X31))","v":482.20649557272685},-132.30284650277446,-0.21529834852619567,-0.21529834852619567,null,null,{"$f":"IF(AC31>'goal seek'!$E$23,MAX($AA$7,AC31*(1+AE32)),MAX($AA$7,AC31+AD31))","v":614.44094574372764},-78.136992600455983,-0.11282050477563003,-0.1128205047756301,null,null,687.83209780630455,-125.06868599137513,-125.06868599137511,-0.15385479813057124]
[20,null,2038,null,{"$f":"IF(E32>'goal seek'!$E$24,MAX($I$7,E32*(1+$I$10)),MAX($I$7,RM!E32+RM!F32))","v":604.36255439291563},-52.464176969141363,-7.9875215888894777E-2,-7.9875215888894679E-2,null,null,{"$f":"IF(K32>'goal seek'!$E$23,MAX($O$7,K32*(1+M33)),MAX($O$7,K32+L32))","v":428.69504258905403},-115.41624664125908,-0.21211882371439886,-0.21211882371439883,null,null,{"$f":"IF(Q32>'goal seek'!$E$23,MAX($U$7,Q32*(1+S33)),MAX($U$7,Q32+R32))","v":498.2387217147114},-85.840246952498035,-0.14696685132898049,-0.14696685132898046,null,null,{"$f":"IF(W32>'goal seek'!$E$23,MAX($AA$7,W32*(1+Y33)),MAX($AA$7,W32+X32))","v":367.56704880884365},-114.6394467638832,-0.23773932499130587,-0.2377393249913059,null,null,{"$f":"IF(AC32>'goal seek'!$E$23,MAX($AA$7,AC32*(1+AE33)),MAX($AA$7,AC32+AD32))","v":543.60002051798892},-70.840925225738715,-0.11529330152304858,-0.11529330152304862,null,null,562.76341181492944,-125.06868599137513,-125.06868599137511,-0.18183025536356223]
[21,null,2039,null,{"$f":"IF(E33>'goal seek'!$E$24,MAX($I$7,E33*(1+$I$10)),MAX($I$7,RM!E33+RM!F33))","v":556.08896488561754},-48.273589507298084,-7.9875215888894777E-2,-7.9875215888894791E-2,null,null,{"$f":"IF(K33>'goal seek'!$E$23,MAX($O$7,K33*(1+M34)),MAX($O$7,K33+L33))","v":327.32263055667761},-101.37241203237642,-0.23646742313638508,-0.23646742313638502,null,null,{"$f":"IF(Q33>'goal seek'!$E$23,MAX($U$7,Q33*(1+S34)),MAX($U$7,Q33+R33))","v":421.77651143583824},-76.462210278873158,-0.15346500973614607,-0.15346500973614607,null,null,{"$f":"IF(W33>'goal seek'!$E$23,MAX($AA$7,W33*(1+Y34)),MAX($AA$7,W33+X33))","v":271.46199675907525},-96.105052049768403,-0.26146264296870808,-0.26146264296870814,null,null,{"$f":"IF(AC33>'goal seek'!$E$23,MAX($AA$7,AC33*(1+AE34)),MAX($AA$7,AC33+AD33))","v":479.62025510911059},-63.979765408878336,-0.11769639991535118,-0.11769639991535119,null,null,437.69472582355434,-125.06868599137513,-125.06868599137511,-0.22224025827838512]
[22,null,2040,null,{"$f":"IF(E34>'goal seek'!$E$24,MAX($I$7,E34*(1+$I$10)),MAX($I$7,RM!E34+RM!F34))","v":511.67123876194682},-44.417726123670718,-7.9875215888894777E-2,-7.9875215888894791E-2,null,null,{"$f":"IF(K34>'goal seek'!$E$23,MAX($O$7,K34*(1+M35)),MAX($O$7,K34+L34))","v":241.03680470499015},-86.285825851687463,-0.26361093855606976,-0.26361093855606976,null,null,{"$f":"IF(Q34>'goal seek'!$E$23,MAX($U$7,Q34*(1+S35)),MAX($U$7,Q34+R34))","v":354.30780441812783},-67.468707017710415,-0.15996316814331166,-0.15996316814331168,null,null,{"$f":"IF(W34>'goal seek'!$E$23,MAX($AA$7,W34*(1+Y35)),MAX($AA$7,W34+X34))","v":193.69673936553465},-77.765257393540594,-0.28646830245840227,-0.28646830245840227,null,null,{"$f":"IF(AC34>'goal seek'!$E$23,MAX($AA$7,AC34*(1+AE35)),MAX($AA$7,AC34+AD34))","v":422.04885505254487},-57.571400056565722,-0.12003538099838713,-0.12003538099838718,null,null,312.62603983217923,-125.06868599137513,-125.06868599137511,-0.28574410111076687]
[23,null,2041,null,{"$f":"IF(E35>'goal seek'!$E$24,MAX($I$7,E35*(1+$I$10)),MAX($I$7,RM!E35+RM!F35))","v":470.80138810169808},-40.869850660248744,-7.9875215888894777E-2,-7.9875215888894791E-2,null,null,{"$f":"IF(K35>'goal seek'!$E$23,MAX($O$7,K35*(1+M36)),MAX($O$7,K35+L35))","v":170.20327274186334},-70.833531963126802,-0.29387019152457411,-0.29387019152457405,null,null,{"$f":"IF(Q35>'goal seek'!$E$23,MAX($U$7,Q35*(1+S36)),MAX($U$7,Q35+R35))","v":295.32925728749922},-58.978547130628613,-0.16646132655047724,-0.1664613265504773,null,null,{"$f":"IF(W35>'goal seek'!$E$23,MAX($AA$7,W35*(1+Y36)),MAX($AA$7,W35+X35))","v":133.11686316923971},-60.579876196294947,-0.31275630346038852,-0.31275630346038852,null,null,{"$f":"IF(AC35>'goal seek'!$E$23,MAX($AA$7,AC35*(1+AE36)),MAX($AA$7,AC35+AD35))","v":370.42589933110679},-51.622955721438075,-0.12231511850686352,-0.1223151185068635,null,null,187.5573538408041,-125.06868599137513,-125.06868599137513,-0.40005844061650542]
[24,null,2042,null,{"$f":"IF(E36>'goal seek'!$E$24,MAX($I$7,E36*(1+$I$10)),MAX($I$7,RM!E36+RM!F36))","v":433.19602558628361},-37.60536251541447,-7.9875215888894777E-2,-7.9875215888894791E-2,null,null,{"$f":"IF(K36>'goal seek'!$E$23,MAX($O$7,K36*(1+M37)),MAX($O$7,K36+L36))","v":114.44419893136879},-55.759073810494556,-0.32760282991185985,-0.32760282991185985,null,null,{"$f":"IF(Q36>'goal seek'!$E$23,MAX($U$7,Q36*(1+S37)),MAX($U$7,Q36+R36))","v":244.24926105413019},-51.07999623336903,-0.17295948495764282,-0.1729594849576428,null,null,{"$f":"IF(W36>'goal seek'!$E$23,MAX($AA$7,W36*(1+Y37)),MAX($AA$7,W36+X36))","v":87.8136476041837},-45.303215565056007,-0.34032664597466677,-0.34032664597466677,null,null,{"$f":"IF(AC36>'goal seek'!$E$23,MAX($AA$7,AC36*(1+AE37)),MAX($AA$7,AC36+AD36))","v":324.29309548549583},-46.132803845610965,-0.12453989834111194,-0.12453989834111179,null,null,62.488667849428964,-125.06868599137513,-125.06868599137513,-0.66682901752565549]
[25,null,2043,null,{"$f":"IF(E37>'goal seek'!$E$24,MAX($I$7,E37*(1+$I$10)),MAX($I$7,RM!E37+RM!F37))","v":398.59439952036803},-34.601626065915582,-7.9875215888894777E-2,-7.9875215888894791E-2,null,null,{"$f":"IF(K37>'goal seek'!$E$23,MAX($O$7,K37*(1+M38)),MAX($O$7,K37+L37))","v":72.648312843174935},-41.795886088193853,-0.36520755510952979,-0.36520755510952974,null,null,{"$f":"IF(Q37>'goal seek'!$E$23,MAX($U$7,Q37*(1+S38)),MAX($U$7,Q37+R37))","v":200.41686427176012},-43.832396782370068,-0.17945764336480841,-0.17945764336480829,null,null,{"$f":"IF(W37>'goal seek'!$E$23,MAX($AA$7,W37*(1+Y38)),MAX($AA$7,W37+X37))","v":42.510432039127693},-45.303215565056007,-0.36917933000123704,-0.51590176243740982,null,null,{"$f":"IF(AC37>'goal seek'!$E$23,MAX($AA$7,AC37*(1+AE38)),MAX($AA$7,AC37+AD37))","v":283.20077802274329},-41.092317462752533,-0.12671351328412853,-0.1267135132841285,null,null,0,-125.06868599137513,-62.488667849428964,""]
[26,null,2044,null,{"$f":"IF(E38>'goal seek'!$E$24,MAX($I$7,E38*(1+$I$10)),MAX($I$7,RM!E38+RM!F38))","v":366.75658580657426},-31.837813713793764,-7.9875215888894777E-2,-7.9875215888894791E-2,null,null,{"$f":"IF(K38>'goal seek'!$E$23,MAX($O$7,K38*(1+M39)),MAX($O$7,K38+L38))","v":30.852426754981082},-41.795886088193853,-0.40712883446386783,-0.57531805560878124,null,null,{"$f":"IF(Q38>'goal seek'!$E$23,MAX($U$7,Q38*(1+S39)),MAX($U$7,Q38+R38))","v":163.14818558748007},-37.268678684280047,-0.18595580177197399,-0.18595580177197402,null,null,{"$f":"IF(W38>'goal seek'!$E$23,MAX($AA$7,W38*(1+Y39)),MAX($AA$7,W38+X38))","v":0},-42.510432039127693,-0.39931435554009931,"",null,null,{"$f":"IF(AC38>'goal seek'!$E$23,MAX($AA$7,AC38*(1+AE39)),MAX($AA$7,AC38+AD38))","v":246.71337699059455},-36.487401032148739,-0.12883933895555366,-0.12883933895555366,null,null,0,-125.06868599137513,0,""]
[27,null,2045,null,{"$f":"IF(E39>'goal seek'!$E$24,MAX($I$7,E39*(1+$I$10)),MAX($I$7,RM!E39+RM!F39))","v":337.46182433660016},-29.294761469974105,-7.9875215888894777E-2,-7.9875215888894791E-2,null,null,{"$f":"IF(K39>'goal seek'!$E$23,MAX($O$7,K39*(1+M40)),MAX($O$7,K39+L39))","v":0},-30.852426754981082,-0.45386215463750762,"",null,null,{"$f":"IF(Q39>'goal seek'!$E$23,MAX($U$7,Q39*(1+S40)),MAX($U$7,Q39+R39))","v":131.74967117512833},-31.398514412351744,-0.19245396017913957,-0.19245396017913952,null,null,{"$f":"IF(W39>'goal seek'!$E$23,MAX($AA$7,W39*(1+Y40)),MAX($AA$7,W39+X39))","v":0},0,-0.43073172259125359,"",null,null,{"$f":"IF(AC39>'goal seek'!$E$23,MAX($AA$7,AC39*(1+AE40)),MAX($AA$7,AC39+AD39))","v":214.41356413565197},-32.299812854942587,-0.13092039535486549,-0.13092039535486544,null,null,0,-125.06868599137513,0,""]
[28,null,2046,null,{"$f":"IF(E40>'goal seek'!$E$24,MAX($I$7,E40*(1+$I$10)),MAX($I$7,RM!E40+RM!F40))","v":310.50698826345393},-26.954836073146225,-7.9875215888894777E-2,-7.9875215888894791E-2,null,null,{"$f":"IF(K40>'goal seek'!$E$23,MAX($O$7,K40*(1+M41)),MAX($O$7,K40+L40))","v":0},0,-0.50595987799160003,"",null,null,{"$f":"IF(Q40>'goal seek'!$E$23,MAX($U$7,Q40*(1+S41)),MAX($U$7,Q40+R40))","v":105.53779497178749},-26.211876203340836,-0.19895211858630515,-0.19895211858630513,null,null,{"$f":"IF(W40>'goal seek'!$E$23,MAX($AA$7,W40*(1+Y41)),MAX($AA$7,W40+X40))","v":0},0,-0.46343143115469987,"",null,null,{"$f":"IF(AC40>'goal seek'!$E$23,MAX($AA$7,AC40*(1+AE41)),MAX($AA$7,AC40+AD40))","v":185.90526589645714},-28.508298239194829,-0.13295939720100286,-0.1329593972010028,null,null,0,-125.06868599137513,0,""]
[29,null,2047,null,{"$f":"IF(E41>'goal seek'!$E$24,MAX($I$7,E41*(1+$I$10)),MAX($I$7,RM!E41+RM!F41))","v":285.70517554090003},-24.801812722553905,-7.9875215888894777E-2,-7.9875215888894791E-2,null,null,{"$f":"IF(K41>'goal seek'!$E$23,MAX($O$7,K41*(1+M42)),MAX($O$7,K41+L41))","v":0},0,-0.56403777120772314,"",null,null,{"$f":"IF(Q41>'goal seek'!$E$23,MAX($U$7,Q41*(1+S42)),MAX($U$7,Q41+R41))","v":83.855025761553634},-21.682769210233857,-0.20545027699347074,-0.20545027699347063,null,null,{"$f":"IF(W41>'goal seek'!$E$23,MAX($AA$7,W41*(1+Y42)),MAX($AA$7,W41+X41))","v":0},0,-0.49741348123043816,"",null,null,{"$f":"IF(AC41>'goal seek'!$E$23,MAX($AA$7,AC41*(1+AE42)),MAX($AA$7,AC41+AD41))","v":160.81571514052237},-25.089550755934766,-0.13495879546472228,-0.13495879546472223,null,null,0,-125.06868599137513,0,""]
[30,null,2048,null,{"$f":"IF(E42>'goal seek'!$E$24,MAX($I$7,E42*(1+$I$10)),MAX($I$7,RM!E42+RM!F42))","v":262.88441296399606},-22.820762576903974,-7.9875215888894777E-2,-7.9875215888894791E-2,null,null,{"$f":"IF(K42>'goal seek'!$E$23,MAX($O$7,K42*(1+M43)),MAX($O$7,K42+L42))","v":0},0,-0.62878228331428598,"",null,null,{"$f":"IF(Q42>'goal seek'!$E$23,MAX($U$7,Q42*(1+S43)),MAX($U$7,Q42+R42))","v":62.172256551319776},-21.682769210233857,-0.21194843540063632,-0.25857447437783876,null,null,{"$f":"IF(W42>'goal seek'!$E$23,MAX($AA$7,W42*(1+Y43)),MAX($AA$7,W42+X42))","v":0},0,-0.53267787281846857,"",null,null,{"$f":"IF(AC42>'goal seek'!$E$23,MAX($AA$7,AC42*(1+AE43)),MAX($AA$7,AC42+AD42))","v":138.79669685610364},-22.019018284418735,-0.13692081190683564,-0.13692081190683569,null,null,0,-125.06868599137513,0,""]
[31,null,2049,null,{"$f":"IF(E43>'goal seek'!$E$24,MAX($I$7,E43*(1+$I$10)),MAX($I$7,RM!E43+RM!F43))","v":241.8864637246715},-20.997949239324555,-7.9875215888894777E-2,-7.9875215888894791E-2,null,null,{"$f":"IF(K43>'goal seek'!$E$23,MAX($O$7,K43*(1+M44)),MAX($O$7,K43+L43))","v":0},0,-0.70095865913972932,"",null,null,{"$f":"IF(Q43>'goal seek'!$E$23,MAX($U$7,Q43*(1+S44)),MAX($U$7,Q43+R43))","v":40.489487341085919},-21.682769210233857,-0.2184465938078019,-0.34875313223247617,null,null,{"$f":"IF(W43>'goal seek'!$E$23,MAX($AA$7,W43*(1+Y44)),MAX($AA$7,W43+X43))","v":0},0,-0.56922460591879087,"",null,null,{"$f":"IF(AC43>'goal seek'!$E$23,MAX($AA$7,AC43*(1+AE44)),MAX($AA$7,AC43+AD43))","v":119.52512692945632},-19.271569926647317,-0.13884746801018594,-0.13884746801018588,null,null,0,-125.06868599137513,0,""]
[32,null,2050,null,{"$f":"IF(E44>'goal seek'!$E$24,MAX($I$7,E44*(1+$I$10)),MAX($I$7,RM!E44+RM!F44))","v":222.56573021406206},-19.320733510609443,-7.9875215888894777E-2,-7.9875215888894791E-2,null,null,{"$f":"IF(K44>'goal seek'!$E$23,MAX($O$7,K44*(1+M45)),MAX($O$7,K44+L44))","v":0},0,-0.78141998408911573,"",null,null,{"$f":"IF(Q44>'goal seek'!$E$23,MAX($U$7,Q44*(1+S45)),MAX($U$7,Q44+R44))","v":18.806718130852062},-21.682769210233857,-0.22494475221496749,-0.53551602240791252,null,null,{"$f":"IF(W44>'goal seek'!$E$23,MAX($AA$7,W44*(1+Y45)),MAX($AA$7,W44+X44))","v":0},0,-0.60705368053140518,"",null,null,{"$f":"IF(AC44>'goal seek'!$E$23,MAX($AA$7,AC44*(1+AE45)),MAX($AA$7,AC44+AD44))","v":102.70308772929815},-16.822039200158173,-0.14074060937903482,-0.14074060937903488,null,null,0,-125.06868599137513,0,""]
[33,null,2051,null,{"$f":"IF(E45>'goal seek'!$E$24,MAX($I$7,E45*(1+$I$10)),MAX($I$7,RM!E45+RM!F45))","v":204.78824446374435},-17.777485750317709,-7.9875215888894777E-2,-7.9875215888894791E-2,null,null,{"$f":"IF(K45>'goal seek'!$E$23,MAX($O$7,K45*(1+M46)),MAX($O$7,K45+L45))","v":0},0,-0.87111726714843718,"",null,null,{"$f":"IF(Q45>'goal seek'!$E$23,MAX($U$7,Q45*(1+S46)),MAX($U$7,Q45+R45))","v":0},-18.806718130852062,-0.23144291062213307,"",null,null,{"$f":"IF(W45>'goal seek'!$E$23,MAX($AA$7,W45*(1+Y46)),MAX($AA$7,W45+X45))","v":0},{"$f":"W46-W45","v":0},-0.64616509665631161,"",null,null,{"$f":"IF(AC45>'goal seek'!$E$23,MAX($AA$7,AC45*(1+AE46)),MAX($AA$7,AC45+AD45))","v":85.881048529139974},-16.822039200158173,-0.14260192644467279,-0.16379292553011859,null,null,0,-125.06868599137513,0,""]
[34,null,2052,null,{"$f":"IF(E46>'goal seek'!$E$24,MAX($I$7,E46*(1+$I$10)),MAX($I$7,RM!E46+RM!F46))","v":188.43073922569499},{"$f":"E47-E46","v":-16.357505238049356},-7.9875215888894777E-2,{"$f":"IF(E47>0,E47/E46-1,\"\")","v":-7.9875215888894902E-2},null,null,{"$f":"IF(K46>'goal seek'!$E$23,MAX($O$7,K46*(1+M47)),MAX($O$7,K46+L46))","v":0},{"$f":"K47-K46","v":0},-0.97111068129225164,"",null,null,{"$f":"IF(Q46>'goal seek'!$E$23,MAX($U$7,Q46*(1+S47)),MAX($U$7,Q46+R46))","v":0},{"$f":"Q47-Q46","v":0},-0.23794106902929865,"",null,null,{"$f":"IF(W46>'goal seek'!$E$23,MAX($AA$7,W46*(1+Y47)),MAX($AA$7,W46+X46))","v":0},0,{"$f":"$AA$10*(C47-2020)^2+$AA$9","v":-0.68655885429350993},"",null,null,{"$f":"IF(AC46>'goal seek'!$E$23,MAX($AA$7,AC46*(1+AE47)),MAX($AA$7,AC46+AD46))","v":69.059009328981801},-16.822039200158173,-0.14443297213855377,-0.19587603421551558,null,null,0,-125.06868599137513,0,""]
[35,null,2053,null,{"$f":"IF(E47>'goal seek'!$E$24,MAX($I$7,E47*(1+$I$10)),MAX($I$7,RM!E47+RM!F47))","v":173.37979324993856},-15.050945975756434,-7.9875215888894777E-2,-7.9875215888894902E-2,null,null,{"$f":"IF(K47>'goal seek'!$E$23,MAX($O$7,K47*(1+M48)),MAX($O$7,K47+L47))","v":0},0,{"$f":"MAX(-5,M47*(1+$O$10))","v":-1.082582094150139},"",null,null,{"$f":"IF(Q47>'goal seek'!$E$23,MAX($U$7,Q47*(1+S48)),MAX($U$7,Q47+R47))","v":0},0,{"$f":"S47+$U$10","v":-0.24443922743646423},"",null,null,{"$f":"IF(W47>'goal seek'!$E$23,MAX($AA$7,W47*(1+Y48)),MAX($AA$7,W47+X47))","v":0},0,-0.72823495344300027,"",null,null,{"$f":"IF(AC47>'goal seek'!$E$23,MAX($AA$7,AC47*(1+AE48)),MAX($AA$7,AC47+AD47))","v":52.236970128823629},-16.822039200158173,{"$f":"$AG$10*SQRT(C48-$AG$4-2020)+$AG$9","v":-0.14623517705873101},-0.24358935008786053,null,null,0,-125.06868599137513,0,""]
[36,null,2054,null,{"$f":"IF(E48>'goal seek'!$E$24,MAX($I$7,E48*(1+$I$10)),MAX($I$7,RM!E48+RM!F48))","v":159.53104483332777},-13.848748416610789,-7.9875215888894777E-2,-7.9875215888894791E-2,null,null,{"$f":"IF(K48>'goal seek'!$E$23,MAX($O$7,K48*(1+M49)),MAX($O$7,K48+L48))","v":0},0,-1.2068490370376193,"",null,null,{"$f":"IF(Q48>'goal seek'!$E$23,MAX($U$7,Q48*(1+S49)),MAX($U$7,Q48+R48))","v":0},0,-0.25093738584362979,"",null,null,{"$f":"IF(W48>'goal seek'!$E$23,MAX($AA$7,W48*(1+Y49)),MAX($AA$7,W48+X48))","v":0},0,-0.77119339410478271,"",null,null,{"$f":"IF(AC48>'goal seek'!$E$23,MAX($AA$7,AC48*(1+AE49)),MAX($AA$7,AC48+AD48))","v":35.414930928665456},-16.822039200158173,-0.14800986255091594,-0.32203321055322864,null,null,0,-125.06868599137513,0,""]
[37,null,2055,null,{"$f":"IF(E49>'goal seek'!$E$24,MAX($I$7,E49*(1+$I$10)),MAX($I$7,RM!E49+RM!F49))","v":146.78846818628475},-12.742576647043023,-7.9875215888894777E-2,-7.9875215888894902E-2,null,null,{"$f":"IF(K49>'goal seek'!$E$23,MAX($O$7,K49*(1+M50)),MAX($O$7,K49+L49))","v":0},0,-1.3453802774578636,"",null,null,{"$f":"IF(Q49>'goal seek'!$E$23,MAX($U$7,Q49*(1+S50)),MAX($U$7,Q49+R49))","v":0},0,-0.25743554425079535,"",null,null,{"$f":"IF(W49>'goal seek'!$E$23,MAX($AA$7,W49*(1+Y50)),MAX($AA$7,W49+X49))","v":0},0,-0.81543417627885706,"",null,null,{"$f":"IF(AC49>'goal seek'!$E$23,MAX($AA$7,AC49*(1+AE50)),MAX($AA$7,AC49+AD49))","v":18.592891728507283},-16.822039200158173,-0.14975825204426457,-0.47499850371138586,null,null,0,-125.06868599137513,0,""]
[38,null,2056,null,{"$f":"IF(E50>'goal seek'!$E$24,MAX($I$7,E50*(1+$I$10)),MAX($I$7,RM!E50+RM!F50))","v":135.06370759990509},-11.724760586379659,-7.9875215888894777E-2,-7.9875215888894791E-2,null,null,{"$f":"IF(K50>'goal seek'!$E$23,MAX($O$7,K50*(1+M51)),MAX($O$7,K50+L50))","v":0},0,-1.4998131791326741,"",null,null,{"$f":"IF(Q50>'goal seek'!$E$23,MAX($U$7,Q50*(1+S51)),MAX($U$7,Q50+R50))","v":0},0,-0.2639337026579609,"",null,null,{"$f":"IF(W50>'goal seek'!$E$23,MAX($AA$7,W50*(1+Y51)),MAX($AA$7,W50+X50))","v":0},0,-0.86095729996522352,"",null,null,{"$f":"IF(AC50>'goal seek'!$E$23,MAX($AA$7,AC50*(1+AE51)),MAX($AA$7,AC50+AD50))","v":1.7708525283491099},-16.822039200158173,-0.15148148091832403,-0.90475647606585174,null,null,0,-125.06868599137513,0,""]
[39,null,2057,null,{"$f":"IF(E51>'goal seek'!$E$24,MAX($I$7,E51*(1+$I$10)),MAX($I$7,RM!E51+RM!F51))","v":124.27546479660811},-10.788242803296981,-7.9875215888894777E-2,-7.9875215888894791E-2,null,null,{"$f":"IF(K51>'goal seek'!$E$23,MAX($O$7,K51*(1+M52)),MAX($O$7,K51+L51))","v":0},0,-1.6719730547488345,"",null,null,{"$f":"IF(Q51>'goal seek'!$E$23,MAX($U$7,Q51*(1+S52)),MAX($U$7,Q51+R51))","v":0},0,-0.27043186106512646,"",null,null,{"$f":"IF(W51>'goal seek'!$E$23,MAX($AA$7,W51*(1+Y52)),MAX($AA$7,W51+X51))","v":0},0,-0.90776276516388188,"",null,null,{"$f":"IF(AC51>'goal seek'!$E$23,MAX($AA$7,AC51*(1+AE52)),MAX($AA$7,AC51+AD51))","v":0},-1.7708525283491099,-0.15318060512727094,"",null,null,0,-125.06868599137513,0,""]
[40,null,2058,null,{"$f":"IF(E52>'goal seek'!$E$24,MAX($I$7,E52*(1+$I$10)),MAX($I$7,RM!E52+RM!F52))","v":113.48722199331112},-10.788242803296981,-7.9875215888894777E-2,-8.6809112490170537E-2,null,null,{"$f":"IF(K52>'goal seek'!$E$23,MAX($O$7,K52*(1+M53)),MAX($O$7,K52+L52))","v":0},0,-1.8638947401587398,"",null,null,{"$f":"IF(Q52>'goal seek'!$E$23,MAX($U$7,Q52*(1+S53)),MAX($U$7,Q52+R52))","v":0},0,-0.27693001947229201,"",null,null,{"$f":"IF(W52>'goal seek'!$E$23,MAX($AA$7,W52*(1+Y53)),MAX($AA$7,W52+X52))","v":0},0,-0.95585057187483236,"",null,null,{"$f":"IF(AC52>'goal seek'!$E$23,MAX($AA$7,AC52*(1+AE53)),MAX($AA$7,AC52+AD52))","v":0},0,-0.15485660876754651,"",null,null,0,-125.06868599137513,0,""]
[41,null,2059,null,{"$f":"IF(E53>'goal seek'!$E$24,MAX($I$7,E53*(1+$I$10)),MAX($I$7,RM!E53+RM!F53))","v":102.69897919001414},-10.788242803296981,-7.9875215888894777E-2,-9.5061299534962895E-2,null,null,{"$f":"IF(K53>'goal seek'!$E$23,MAX($O$7,K53*(1+M54)),MAX($O$7,K53+L53))","v":0},0,-2.0778466450305921,"",null,null,{"$f":"IF(Q53>'goal seek'!$E$23,MAX($U$7,Q53*(1+S54)),MAX($U$7,Q53+R53))","v":0},0,-0.28342817787945757,"",null,null,{"$f":"IF(W53>'goal seek'!$E$23,MAX($AA$7,W53*(1+Y54)),MAX($AA$7,W53+X53))","v":0},0,-1.0052207200980747,"",null,null,{"$f":"IF(AC53>'goal seek'!$E$23,MAX($AA$7,AC53*(1+AE54)),MAX($AA$7,AC53+AD53))","v":0},0,-0.1565104107429254,"",null,null,0,-125.06868599137513,0,""]
[42,null,2060,null,{"$f":"IF(E54>'goal seek'!$E$24,MAX($I$7,E54*(1+$I$10)),MAX($I$7,RM!E54+RM!F54))","v":91.910736386717161},-10.788242803296981,-7.9875215888894777E-2,-0.10504722528289712,null,null,{"$f":"IF(K54>'goal seek'!$E$23,MAX($O$7,K54*(1+M55)),MAX($O$7,K54+L54))","v":0},0,-2.3163575642137331,"",null,null,{"$f":"IF(Q54>'goal seek'!$E$23,MAX($U$7,Q54*(1+S55)),MAX($U$7,Q54+R54))","v":0},0,-0.28992633628662312,"",null,null,{"$f":"IF(W54>'goal seek'!$E$23,MAX($AA$7,W54*(1+Y55)),MAX($AA$7,W54+X54))","v":0},0,-1.0558732098336092,"",null,null,{"$f":"IF(AC54>'goal seek'!$E$23,MAX($AA$7,AC54*(1+AE55)),MAX($AA$7,AC54+AD54))","v":0},0,-0.15814287065519964,"",null,null,0,-125.06868599137513,0,""]
[43,null,2061,null,{"$f":"IF(E55>'goal seek'!$E$24,MAX($I$7,E55*(1+$I$10)),MAX($I$7,RM!E55+RM!F55))","v":81.12249358342018},-10.788242803296981,-7.9875215888894777E-2,-0.11737739493137267,null,null,{"$f":"IF(K55>'goal seek'!$E$23,MAX($O$7,K55*(1+M56)),MAX($O$7,K55+L55))","v":0},0,-2.582246566714832,"",null,null,{"$f":"IF(Q55>'goal seek'!$E$23,MAX($U$7,Q55*(1+S56)),MAX($U$7,Q55+R55))","v":0},0,-0.29642449469378868,"",null,null,{"$f":"IF(W55>'goal seek'!$E$23,MAX($AA$7,W55*(1+Y56)),MAX($AA$7,W55+X55))","v":0},0,-1.1078080410814357,"",null,null,{"$f":"IF(AC55>'goal seek'!$E$23,MAX($AA$7,AC55*(1+AE56)),MAX($AA$7,AC55+AD55))","v":0},0,-0.15975479402768419,"",null,null,0,-125.06868599137513,0,""]
[44,null,2062,null,{"$f":"IF(E56>'goal seek'!$E$24,MAX($I$7,E56*(1+$I$10)),MAX($I$7,RM!E56+RM!F56))","v":70.334250780123199},-10.788242803296981,-7.9875215888894777E-2,-0.13298707086960015,null,null,{"$f":"IF(K56>'goal seek'!$E$23,MAX($O$7,K56*(1+M57)),MAX($O$7,K56+L56))","v":0},0,-2.8786563155563285,"",null,null,{"$f":"IF(Q56>'goal seek'!$E$23,MAX($U$7,Q56*(1+S57)),MAX($U$7,Q56+R56))","v":0},0,-0.30292265310095423,"",null,null,{"$f":"IF(W56>'goal seek'!$E$23,MAX($AA$7,W56*(1+Y57)),MAX($AA$7,W56+X56))","v":0},0,-1.1610252138415542,"",null,null,{"$f":"IF(AC56>'goal seek'!$E$23,MAX($AA$7,AC56*(1+AE57)),MAX($AA$7,AC56+AD56))","v":0},0,-0.16134693695164068,"",null,null,0,-125.06868599137513,0,""]
[45,null,2063,null,{"$f":"IF(E57>'goal seek'!$E$24,MAX($I$7,E57*(1+$I$10)),MAX($I$7,RM!E57+RM!F57))","v":59.546007976826218},-10.788242803296981,-7.9875215888894777E-2,-0.15338533763618034,null,null,{"$f":"IF(K57>'goal seek'!$E$23,MAX($O$7,K57*(1+M58)),MAX($O$7,K57+L57))","v":0},0,-3.2090902123396905,"",null,null,{"$f":"IF(Q57>'goal seek'!$E$23,MAX($U$7,Q57*(1+S58)),MAX($U$7,Q57+R57))","v":0},0,-0.30942081150811979,"",null,null,{"$f":"IF(W57>'goal seek'!$E$23,MAX($AA$7,W57*(1+Y58)),MAX($AA$7,W57+X57))","v":0},0,-1.2155247281139647,"",null,null,{"$f":"IF(AC57>'goal seek'!$E$23,MAX($AA$7,AC57*(1+AE58)),MAX($AA$7,AC57+AD57))","v":0},0,-0.16292001023167957,"",null,null,0,-125.06868599137513,0,""]
[46,null,2064,null,{"$f":"IF(E58>'goal seek'!$E$24,MAX($I$7,E58*(1+$I$10)),MAX($I$7,RM!E58+RM!F58))","v":48.757765173529236},-10.788242803296981,-7.9875215888894777E-2,-0.18117491280852094,null,null,{"$f":"IF(K58>'goal seek'!$E$23,MAX($O$7,K58*(1+M59)),MAX($O$7,K58+L58))","v":0},0,-3.5774538055419653,"",null,null,{"$f":"IF(Q58>'goal seek'!$E$23,MAX($U$7,Q58*(1+S59)),MAX($U$7,Q58+R58))","v":0},0,-0.31591896991528534,"",null,null,{"$f":"IF(W58>'goal seek'!$E$23,MAX($AA$7,W58*(1+Y59)),MAX($AA$7,W58+X58))","v":0},0,-1.2713065838986672,"",null,null,{"$f":"IF(AC58>'goal seek'!$E$23,MAX($AA$7,AC58*(1+AE59)),MAX($AA$7,AC58+AD58))","v":0},0,-0.16447468309463056,"",null,null,0,-125.06868599137513,0,""]
[47,null,2065,null,{"$f":"IF(E59>'goal seek'!$E$24,MAX($I$7,E59*(1+$I$10)),MAX($I$7,RM!E59+RM!F59))","v":37.969522370232255},-10.788242803296981,-7.9875215888894777E-2,-0.22126204441285502,null,null,{"$f":"IF(K59>'goal seek'!$E$23,MAX($O$7,K59*(1+M60)),MAX($O$7,K59+L59))","v":0},0,-3.9881009519691153,"",null,null,{"$f":"IF(Q59>'goal seek'!$E$23,MAX($U$7,Q59*(1+S60)),MAX($U$7,Q59+R59))","v":0},0,-0.3224171283224509,"",null,null,{"$f":"IF(W59>'goal seek'!$E$23,MAX($AA$7,W59*(1+Y60)),MAX($AA$7,W59+X59))","v":0},0,-1.3283707811956618,"",null,null,{"$f":"IF(AC59>'goal seek'!$E$23,MAX($AA$7,AC59*(1+AE60)),MAX($AA$7,AC59+AD59))","v":0},0,-0.16601158651678483,"",null,null,0,-125.06868599137513,0,""]
[48,null,2066,null,{"$f":"IF(E60>'goal seek'!$E$24,MAX($I$7,E60*(1+$I$10)),MAX($I$7,RM!E60+RM!F60))","v":27.181279566935274},-10.788242803296981,-7.9875215888894777E-2,-0.2841290100545184,null,null,{"$f":"IF(K60>'goal seek'!$E$23,MAX($O$7,K60*(1+M61)),MAX($O$7,K60+L60))","v":0},0,-4.4458852769693413,"",null,null,{"$f":"IF(Q60>'goal seek'!$E$23,MAX($U$7,Q60*(1+S61)),MAX($U$7,Q60+R60))","v":0},0,-0.32891528672961645,"",null,null,{"$f":"IF(W60>'goal seek'!$E$23,MAX($AA$7,W60*(1+Y61)),MAX($AA$7,W60+X60))","v":0},0,-1.3867173200049483,"",null,null,{"$f":"IF(AC60>'goal seek'!$E$23,MAX($AA$7,AC60*(1+AE61)),MAX($AA$7,AC60+AD60))","v":0},0,-0.16753131621643258,"",null,null,0,-125.06868599137513,0,""]
[49,null,2067,null,{"$f":"IF(E61>'goal seek'!$E$24,MAX($I$7,E61*(1+$I$10)),MAX($I$7,RM!E61+RM!F61))","v":16.393036763638293},-10.788242803296981,-7.9875215888894777E-2,-0.39689974037941766,null,null,{"$f":"IF(K61>'goal seek'!$E$23,MAX($O$7,K61*(1+M62)),MAX($O$7,K61+L61))","v":0},0,-4.9562175416380549,"",null,null,{"$f":"IF(Q61>'goal seek'!$E$23,MAX($U$7,Q61*(1+S62)),MAX($U$7,Q61+R61))","v":0},0,-0.33541344513678201,"",null,null,{"$f":"IF(W61>'goal seek'!$E$23,MAX($AA$7,W61*(1+Y62)),MAX($AA$7,W61+X61))","v":0},0,-1.4463462003265268,"",null,null,{"$f":"IF(AC61>'goal seek'!$E$23,MAX($AA$7,AC61*(1+AE62)),MAX($AA$7,AC61+AD61))","v":0},0,-0.16903443535195117,"",null,null,0,-125.06868599137513,0,""]
[50,null,2068,null,{"$f":"IF(E62>'goal seek'!$E$24,MAX($I$7,E62*(1+$I$10)),MAX($I$7,RM!E62+RM!F62))","v":5.6047939603413113},-10.788242803296981,-7.9875215888894777E-2,-0.65809910383575709,null,null,{"$f":"IF(K62>'goal seek'!$E$23,MAX($O$7,K62*(1+M63)),MAX($O$7,K62+L62))","v":0},0,-5,"",null,null,{"$f":"IF(Q62>'goal seek'!$E$23,MAX($U$7,Q62*(1+S63)),MAX($U$7,Q62+R62))","v":0},0,-0.34191160354394756,"",null,null,{"$f":"IF(W62>'goal seek'!$E$23,MAX($AA$7,W62*(1+Y63)),MAX($AA$7,W62+X62))","v":0},0,-1.5072574221603974,"",null,null,{"$f":"IF(AC62>'goal seek'!$E$23,MAX($AA$7,AC62*(1+AE63)),MAX($AA$7,AC62+AD62))","v":0},0,-0.17052147696009823,"",null,null,0,-125.06868599137513,0,""]
[51,null,2069,null,{"$f":"IF(E63>'goal seek'!$E$24,MAX($I$7,E63*(1+$I$10)),MAX($I$7,RM!E63+RM!F63))","v":0},-5.6047939603413113,-7.9875215888894777E-2,"",null,null,{"$f":"IF(K63>'goal seek'!$E$23,MAX($O$7,K63*(1+M64)),MAX($O$7,K63+L63))","v":0},0,-5,"",null,null,{"$f":"IF(Q63>'goal seek'!$E$23,MAX($U$7,Q63*(1+S64)),MAX($U$7,Q63+R63))","v":0},0,-0.34840976195111312,"",null,null,{"$f":"IF(W63>'goal seek'!$E$23,MAX($AA$7,W63*(1+Y64)),MAX($AA$7,W63+X63))","v":0},0,-1.5694509855065599,"",null,null,{"$f":"IF(AC63>'goal seek'!$E$23,MAX($AA$7,AC63*(1+AE64)),MAX($AA$7,AC63+AD63))","v":0},0,-0.17199294616444488,"",null,null,0,-125.06868599137513,0,""]
[52,null,2070,null,{"$f":"IF(E64>'goal seek'!$E$24,MAX($I$7,E64*(1+$I$10)),MAX($I$7,RM!E64+RM!F64))","v":0},0,-7.9875215888894777E-2,"",null,null,{"$f":"IF(K64>'goal seek'!$E$23,MAX($O$7,K64*(1+M65)),MAX($O$7,K64+L64))","v":0},0,-5,"",null,null,{"$f":"IF(Q64>'goal seek'!$E$23,MAX($U$7,Q64*(1+S65)),MAX($U$7,Q64+R64))","v":0},0,-0.35490792035827867,"",null,null,{"$f":"IF(W64>'goal seek'!$E$23,MAX($AA$7,W64*(1+Y65)),MAX($AA$7,W64+X64))","v":0},0,-1.6329268903650145,"",null,null,{"$f":"IF(AC64>'goal seek'!$E$23,MAX($AA$7,AC64*(1+AE65)),MAX($AA$7,AC64+AD64))","v":0},0,-0.17344932217989203,"",null,null,0,-125.06868599137513,0,""]
[53,null,2071,null,{"$f":"IF(E65>'goal seek'!$E$24,MAX($I$7,E65*(1+$I$10)),MAX($I$7,RM!E65+RM!F65))","v":0},0,-7.9875215888894777E-2,"",null,null,{"$f":"IF(K65>'goal seek'!$E$23,MAX($O$7,K65*(1+M66)),MAX($O$7,K65+L65))","v":0},0,-5,"",null,null,{"$f":"IF(Q65>'goal seek'!$E$23,MAX($U$7,Q65*(1+S66)),MAX($U$7,Q65+R65))","v":0},0,-0.36140607876544423,"",null,null,{"$f":"IF(W65>'goal seek'!$E$23,MAX($AA$7,W65*(1+Y66)),MAX($AA$7,W65+X65))","v":0},0,-1.697685136735761,"",null,null,{"$f":"IF(AC65>'goal seek'!$E$23,MAX($AA$7,AC65*(1+AE66)),MAX($AA$7,AC65+AD65))","v":0},0,-0.17489106013582065,"",null,null,0,-125.06868599137513,0,""]
[54,null,2072,null,{"$f":"IF(E66>'goal seek'!$E$24,MAX($I$7,E66*(1+$I$10)),MAX($I$7,RM!E66+RM!F66))","v":0},0,-7.9875215888894777E-2,"",null,null,{"$f":"IF(K66>'goal seek'!$E$23,MAX($O$7,K66*(1+M67)),MAX($O$7,K66+L66))","v":0},0,-5,"",null,null,{"$f":"IF(Q66>'goal seek'!$E$23,MAX($U$7,Q66*(1+S67)),MAX($U$7,Q66+R66))","v":0},0,-0.36790423717260978,"",null,null,{"$f":"IF(W66>'goal seek'!$E$23,MAX($AA$7,W66*(1+Y67)),MAX($AA$7,W66+X66))","v":0},0,-1.7637257246187996,"",null,null,{"$f":"IF(AC66>'goal seek'!$E$23,MAX($AA$7,AC66*(1+AE67)),MAX($AA$7,AC66+AD66))","v":0},0,-0.17631859273753803,"",null,null,0,-125.06868599137513,0,""]
[55,null,2073,null,{"$f":"IF(E67>'goal seek'!$E$24,MAX($I$7,E67*(1+$I$10)),MAX($I$7,RM!E67+RM!F67))","v":0},0,-7.9875215888894777E-2,"",null,null,{"$f":"IF(K67>'goal seek'!$E$23,MAX($O$7,K67*(1+M68)),MAX($O$7,K67+L67))","v":0},0,-5,"",null,null,{"$f":"IF(Q67>'goal seek'!$E$23,MAX($U$7,Q67*(1+S68)),MAX($U$7,Q67+R67))","v":0},0,-0.37440239557977534,"",null,null,{"$f":"IF(W67>'goal seek'!$E$23,MAX($AA$7,W67*(1+Y68)),MAX($AA$7,W67+X67))","v":0},0,-1.8310486540141302,"",null,null,{"$f":"IF(AC67>'goal seek'!$E$23,MAX($AA$7,AC67*(1+AE68)),MAX($AA$7,AC67+AD67))","v":0},0,-0.17773233178321204,"",null,null,0,-125.06868599137513,0,""]
[56,null,2074,null,{"$f":"IF(E68>'goal seek'!$E$24,MAX($I$7,E68*(1+$I$10)),MAX($I$7,RM!E68+RM!F68))","v":0},0,-7.9875215888894777E-2,"",null,null,{"$f":"IF(K68>'goal seek'!$E$23,MAX($O$7,K68*(1+M69)),MAX($O$7,K68+L68))","v":0},0,-5,"",null,null,{"$f":"IF(Q68>'goal seek'!$E$23,MAX($U$7,Q68*(1+S69)),MAX($U$7,Q68+R68))","v":0},0,-0.38090055398694089,"",null,null,{"$f":"IF(W68>'goal seek'!$E$23,MAX($AA$7,W68*(1+Y69)),MAX($AA$7,W68+X68))","v":0},0,-1.8996539249217528,"",null,null,{"$f":"IF(AC68>'goal seek'!$E$23,MAX($AA$7,AC68*(1+AE69)),MAX($AA$7,AC68+AD68))","v":0},0,-0.17913266955136478,"",null,null,0,-125.06868599137513,0,""]
[57,null,2075,null,{"$f":"IF(E69>'goal seek'!$E$24,MAX($I$7,E69*(1+$I$10)),MAX($I$7,RM!E69+RM!F69))","v":0},0,-7.9875215888894777E-2,"",null,null,{"$f":"IF(K69>'goal seek'!$E$23,MAX($O$7,K69*(1+M70)),MAX($O$7,K69+L69))","v":0},0,-5,"",null,null,{"$f":"IF(Q69>'goal seek'!$E$23,MAX($U$7,Q69*(1+S70)),MAX($U$7,Q69+R69))","v":0},0,-0.38739871239410645,"",null,null,{"$f":"IF(W69>'goal seek'!$E$23,MAX($AA$7,W69*(1+Y70)),MAX($AA$7,W69+X69))","v":0},0,-1.9695415373416674,"",null,null,{"$f":"IF(AC69>'goal seek'!$E$23,MAX($AA$7,AC69*(1+AE70)),MAX($AA$7,AC69+AD69))","v":0},0,-0.18051998007217543,"",null,null,0,-125.06868599137513,0,""]
[58,null,2076,null,{"$f":"IF(E70>'goal seek'!$E$24,MAX($I$7,E70*(1+$I$10)),MAX($I$7,RM!E70+RM!F70))","v":0},0,-7.9875215888894777E-2,"",null,null,{"$f":"IF(K70>'goal seek'!$E$23,MAX($O$7,K70*(1+M71)),MAX($O$7,K70+L70))","v":0},0,-5,"",null,null,{"$f":"IF(Q70>'goal seek'!$E$23,MAX($U$7,Q70*(1+S71)),MAX($U$7,Q70+R70))","v":0},0,-0.393896870801272,"",null,null,{"$f":"IF(W70>'goal seek'!$E$23,MAX($AA$7,W70*(1+Y71)),MAX($AA$7,W70+X70))","v":0},0,-2.040711491273874,"",null,null,{"$f":"IF(AC70>'goal seek'!$E$23,MAX($AA$7,AC70*(1+AE71)),MAX($AA$7,AC70+AD70))","v":0},0,-0.18189462029426723,"",null,null,0,-125.06868599137513,0,""]
[59,null,2077,null,{"$f":"IF(E71>'goal seek'!$E$24,MAX($I$7,E71*(1+$I$10)),MAX($I$7,RM!E71+RM!F71))","v":0},0,-7.9875215888894777E-2,"",null,null,{"$f":"IF(K71>'goal seek'!$E$23,MAX($O$7,K71*(1+M72)),MAX($O$7,K71+L71))","v":0},0,-5,"",null,null,{"$f":"IF(Q71>'goal seek'!$E$23,MAX($U$7,Q71*(1+S72)),MAX($U$7,Q71+R71))","v":0},0,-0.40039502920843756,"",null,null,{"$f":"IF(W71>'goal seek'!$E$23,MAX($AA$7,W71*(1+Y72)),MAX($AA$7,W71+X71))","v":0},0,-2.1131637867183724,"",null,null,{"$f":"IF(AC71>'goal seek'!$E$23,MAX($AA$7,AC71*(1+AE72)),MAX($AA$7,AC71+AD71))","v":0},0,-0.18325693115729266,"",null,null,0,-125.06868599137513,0,""]
[60,null,2078,null,{"$f":"IF(E72>'goal seek'!$E$24,MAX($I$7,E72*(1+$I$10)),MAX($I$7,RM!E72+RM!F72))","v":0},0,-7.9875215888894777E-2,"",null,null,{"$f":"IF(K72>'goal seek'!$E$23,MAX($O$7,K72*(1+M73)),MAX($O$7,K72+L72))","v":0},0,-5,"",null,null,{"$f":"IF(Q72>'goal seek'!$E$23,MAX($U$7,Q72*(1+S73)),MAX($U$7,Q72+R72))","v":0},0,-0.40689318761560311,"",null,null,{"$f":"IF(W72>'goal seek'!$E$23,MAX($AA$7,W72*(1+Y73)),MAX($AA$7,W72+X72))","v":0},0,-2.1868984236751632,"",null,null,{"$f":"IF(AC72>'goal seek'!$E$23,MAX($AA$7,AC72*(1+AE73)),MAX($AA$7,AC72+AD72))","v":0},0,-0.18460723857944902,"",null,null,0,-125.06868599137513,0,""]
[61,null,2079,null,{"$f":"IF(E73>'goal seek'!$E$24,MAX($I$7,E73*(1+$I$10)),MAX($I$7,RM!E73+RM!F73))","v":0},0,-7.9875215888894777E-2,"",null,null,{"$f":"IF(K73>'goal seek'!$E$23,MAX($O$7,K73*(1+M74)),MAX($O$7,K73+L73))","v":0},0,-5,"",null,null,{"$f":"IF(Q73>'goal seek'!$E$23,MAX($U$7,Q73*(1+S74)),MAX($U$7,Q73+R73))","v":0},0,-0.41339134602276867,"",null,null,{"$f":"IF(W73>'goal seek'!$E$23,MAX($AA$7,W73*(1+Y74)),MAX($AA$7,W73+X73))","v":0},0,-2.261915402144246,"",null,null,{"$f":"IF(AC73>'goal seek'!$E$23,MAX($AA$7,AC73*(1+AE74)),MAX($AA$7,AC73+AD73))","v":0},0,-0.18594585436802799,"",null,null,0,-125.06868599137513,0,""]
[62,null,2080,null,{"$f":"IF(E74>'goal seek'!$E$24,MAX($I$7,E74*(1+$I$10)),MAX($I$7,RM!E74+RM!F74))","v":0},0,-7.9875215888894777E-2,"",null,null,{"$f":"IF(K74>'goal seek'!$E$23,MAX($O$7,K74*(1+M75)),MAX($O$7,K74+L74))","v":0},0,-5,"",null,null,{"$f":"IF(Q74>'goal seek'!$E$23,MAX($U$7,Q74*(1+S75)),MAX($U$7,Q74+R74))","v":0},0,-0.41988950442993422,"",null,null,{"$f":"IF(W74>'goal seek'!$E$23,MAX($AA$7,W74*(1+Y75)),MAX($AA$7,W74+X74))","v":0},0,-2.3382147221256204,"",null,null,{"$f":"IF(AC74>'goal seek'!$E$23,MAX($AA$7,AC74*(1+AE75)),MAX($AA$7,AC74+AD74))","v":0},0,-0.18727307706020668,"",null,null,0,-125.06868599137513,0,""]
[63,null,2081,null,{"$f":"IF(E75>'goal seek'!$E$24,MAX($I$7,E75*(1+$I$10)),MAX($I$7,RM!E75+RM!F75))","v":0},0,-7.9875215888894777E-2,"",null,null,{"$f":"IF(K75>'goal seek'!$E$23,MAX($O$7,K75*(1+M76)),MAX($O$7,K75+L75))","v":0},0,-5,"",null,null,{"$f":"IF(Q75>'goal seek'!$E$23,MAX($U$7,Q75*(1+S76)),MAX($U$7,Q75+R75))","v":0},0,-0.42638766283709978,"",null,null,{"$f":"IF(W75>'goal seek'!$E$23,MAX($AA$7,W75*(1+Y76)),MAX($AA$7,W75+X75))","v":0},0,-2.4157963836192873,"",null,null,{"$f":"IF(AC75>'goal seek'!$E$23,MAX($AA$7,AC75*(1+AE76)),MAX($AA$7,AC75+AD75))","v":0},0,-0.18858919270050289,"",null,null,0,-125.06868599137513,0,""]
[64,null,2082,null,{"$f":"IF(E76>'goal seek'!$E$24,MAX($I$7,E76*(1+$I$10)),MAX($I$7,RM!E76+RM!F76))","v":0},0,-7.9875215888894777E-2,"",null,null,{"$f":"IF(K76>'goal seek'!$E$23,MAX($O$7,K76*(1+M77)),MAX($O$7,K76+L76))","v":0},0,-5,"",null,null,{"$f":"IF(Q76>'goal seek'!$E$23,MAX($U$7,Q76*(1+S77)),MAX($U$7,Q76+R76))","v":0},0,-0.43288582124426533,"",null,null,{"$f":"IF(W76>'goal seek'!$E$23,MAX($AA$7,W76*(1+Y77)),MAX($AA$7,W76+X76))","v":0},0,-2.4946603866252461,"",null,null,{"$f":"IF(AC76>'goal seek'!$E$23,MAX($AA$7,AC76*(1+AE77)),MAX($AA$7,AC76+AD76))","v":0},0,-0.18989447556062958,"",null,null,0,-125.06868599137513,0,""]
[65,null,2083,null,{"$f":"IF(E77>'goal seek'!$E$24,MAX($I$7,E77*(1+$I$10)),MAX($I$7,RM!E77+RM!F77))","v":0},0,-7.9875215888894777E-2,"",null,null,{"$f":"IF(K77>'goal seek'!$E$23,MAX($O$7,K77*(1+M78)),MAX($O$7,K77+L77))","v":0},0,-5,"",null,null,{"$f":"IF(Q77>'goal seek'!$E$23,MAX($U$7,Q77*(1+S78)),MAX($U$7,Q77+R77))","v":0},0,-0.43938397965143089,"",null,null,{"$f":"IF(W77>'goal seek'!$E$23,MAX($AA$7,W77*(1+Y78)),MAX($AA$7,W77+X77))","v":0},0,-2.5748067311434966,"",null,null,{"$f":"IF(AC77>'goal seek'!$E$23,MAX($AA$7,AC77*(1+AE78)),MAX($AA$7,AC77+AD77))","v":0},0,-0.19118918880688088,"",null,null,0,-125.06868599137513,0,""]
[66,null,2084,null,{"$f":"IF(E78>'goal seek'!$E$24,MAX($I$7,E78*(1+$I$10)),MAX($I$7,RM!E78+RM!F78))","v":0},{"$f":"E79-E78","v":0},-7.9875215888894777E-2,{"$f":"IF(E79>0,E79/E78-1,\"\")","v":""},null,null,{"$f":"IF(K78>'goal seek'!$E$23,MAX($O$7,K78*(1+M79)),MAX($O$7,K78+L78))","v":0},{"$f":"K79-K78","v":0},-5,"",null,null,{"$f":"IF(Q78>'goal seek'!$E$23,MAX($U$7,Q78*(1+S79)),MAX($U$7,Q78+R78))","v":0},{"$f":"Q79-Q78","v":0},-0.44588213805859644,"",null,null,{"$f":"IF(W78>'goal seek'!$E$23,MAX($AA$7,W78*(1+Y79)),MAX($AA$7,W78+X78))","v":0},0,{"$f":"$AA$10*(C79-2020)^2+$AA$9","v":-2.6562354171740394},"",null,null,{"$f":"IF(AC78>'goal seek'!$E$23,MAX($AA$7,AC78*(1+AE79)),MAX($AA$7,AC78+AD78))","v":0},{"$f":"AC79-AC78","v":0},-0.19247358511964896,"",null,null,0,-125.06868599137513,0,""]
[{"$f":"A79+1","v":67},null,{"$f":"C79+1","v":2085},null,{"$f":"IF(E79>'goal seek'!$E$24,MAX($I$7,E79*(1+$I$10)),MAX($I$7,RM!E79+RM!F79))","v":0},0,-7.9875215888894777E-2,"",null,null,{"$f":"IF(K79>'goal seek'!$E$23,MAX($O$7,K79*(1+M80)),MAX($O$7,K79+L79))","v":0},0,{"$f":"MAX(-5,M79*(1+$O$10))","v":-5},{"$f":"IF(K80>0,K80/K79-1,\"\")","v":""},null,null,{"$f":"IF(Q79>'goal seek'!$E$23,MAX($U$7,Q79*(1+S80)),MAX($U$7,Q79+R79))","v":0},0,{"$f":"S79+$U$10","v":-0.452380296465762},{"$f":"IF(Q80>0,Q80/Q79-1,\"\")","v":""},null,null,{"$f":"IF(W79>'goal seek'!$E$23,MAX($AA$7,W79*(1+Y80)),MAX($AA$7,W79+X79))","v":0},0,-2.7389464447168743,{"$f":"IF(W80>0,W80/W79-1,\"\")","v":""},null,null,{"$f":"IF(AC79>'goal seek'!$E$23,MAX($AA$7,AC79*(1+AE80)),MAX($AA$7,AC79+AD79))","v":0},0,{"$f":"$AG$10*SQRT(C80-$AG$4-2020)+$AG$9","v":-0.19374790726920249},{"$f":"IF(AC80>0,AC80/AC79-1,\"\")","v":""},null,null,{"$f":"MAX(AI79+$AM$10,$AM$7)","v":0},-125.06868599137513,{"$f":"AI80-AI79","v":0},{"$f":"IF(AI80>0,AI80/AI79-1,\"\")","v":""}]
[68,null,2086,null,{"$f":"IF(E80>'goal seek'!$E$24,MAX($I$7,E80*(1+$I$10)),MAX($I$7,RM!E80+RM!F80))","v":0},0,{"$f":"G80","v":-7.9875215888894777E-2},"",null,null,{"$f":"IF(K80>'goal seek'!$E$23,MAX($O$7,K80*(1+M81)),MAX($O$7,K80+L80))","v":0},0,-5,"",null,null,{"$f":"IF(Q80>'goal seek'!$E$23,MAX($U$7,Q80*(1+S81)),MAX($U$7,Q80+R80))","v":0},0,-0.45887845487292755,"",null,null,{"$f":"IF(W80>'goal seek'!$E$23,MAX($AA$7,W80*(1+Y81)),MAX($AA$7,W80+X80))","v":0},0,-2.8229398137720008,"",null,null,{"$f":"IF(AC80>'goal seek'!$E$23,MAX($AA$7,AC80*(1+AE81)),MAX($AA$7,AC80+AD80))","v":0},0,-0.19501238865144296,"",null,null,0,{"$f":"AJ80","v":-125.06868599137513},0,""]
[69,null,2087,null,{"$f":"IF(E81>'goal seek'!$E$24,MAX($I$7,E81*(1+$I$10)),MAX($I$7,RM!E81+RM!F81))","v":0},0,-7.9875215888894777E-2,"",null,null,{"$f":"IF(K81>'goal seek'!$E$23,MAX($O$7,K81*(1+M82)),MAX($O$7,K81+L81))","v":0},0,-5,"",null,null,{"$f":"IF(Q81>'goal seek'!$E$23,MAX($U$7,Q81*(1+S82)),MAX($U$7,Q81+R81))","v":0},0,-0.46537661328009311,"",null,null,{"$f":"IF(W81>'goal seek'!$E$23,MAX($AA$7,W81*(1+Y82)),MAX($AA$7,W81+X81))","v":0},0,-2.9082155243394197,"",null,null,{"$f":"IF(AC81>'goal seek'!$E$23,MAX($AA$7,AC81*(1+AE82)),MAX($AA$7,AC81+AD81))","v":0},0,-0.19626725378698712,"",null,null,0,-125.06868599137513,0,""]
[70,null,2088,null,{"$f":"IF(E82>'goal seek'!$E$24,MAX($I$7,E82*(1+$I$10)),MAX($I$7,RM!E82+RM!F82))","v":0},0,-7.9875215888894777E-2,"",null,null,{"$f":"IF(K82>'goal seek'!$E$23,MAX($O$7,K82*(1+M83)),MAX($O$7,K82+L82))","v":0},0,-5,"",null,null,{"$f":"IF(Q82>'goal seek'!$E$23,MAX($U$7,Q82*(1+S83)),MAX($U$7,Q82+R82))","v":0},0,-0.47187477168725867,"",null,null,{"$f":"IF(W82>'goal seek'!$E$23,MAX($AA$7,W82*(1+Y83)),MAX($AA$7,W82+X82))","v":0},0,-2.9947735764191306,"",null,null,{"$f":"IF(AC82>'goal seek'!$E$23,MAX($AA$7,AC82*(1+AE83)),MAX($AA$7,AC82+AD82))","v":0},0,-0.19751271878659815,"",null,null,0,-125.06868599137513,0,""]
[71,null,2089,null,{"$f":"IF(E83>'goal seek'!$E$24,MAX($I$7,E83*(1+$I$10)),MAX($I$7,RM!E83+RM!F83))","v":0},0,-7.9875215888894777E-2,"",null,null,{"$f":"IF(K83>'goal seek'!$E$23,MAX($O$7,K83*(1+M84)),MAX($O$7,K83+L83))","v":0},0,-5,"",null,null,{"$f":"IF(Q83>'goal seek'!$E$23,MAX($U$7,Q83*(1+S84)),MAX($U$7,Q83+R83))","v":0},0,-0.47837293009442422,"",null,null,{"$f":"IF(W83>'goal seek'!$E$23,MAX($AA$7,W83*(1+Y84)),MAX($AA$7,W83+X83))","v":0},0,-3.0826139700111335,"",null,null,{"$f":"IF(AC83>'goal seek'!$E$23,MAX($AA$7,AC83*(1+AE84)),MAX($AA$7,AC83+AD83))","v":0},0,-0.1987489917856976,"",null,null,0,-125.06868599137513,0,""]
[72,null,2090,null,{"$f":"IF(E84>'goal seek'!$E$24,MAX($I$7,E84*(1+$I$10)),MAX($I$7,RM!E84+RM!F84))","v":0},0,-7.9875215888894777E-2,"",null,null,{"$f":"IF(K84>'goal seek'!$E$23,MAX($O$7,K84*(1+M85)),MAX($O$7,K84+L84))","v":0},0,-5,"",null,null,{"$f":"IF(Q84>'goal seek'!$E$23,MAX($U$7,Q84*(1+S85)),MAX($U$7,Q84+R84))","v":0},0,-0.48487108850158978,"",null,null,{"$f":"IF(W84>'goal seek'!$E$23,MAX($AA$7,W84*(1+Y85)),MAX($AA$7,W84+X84))","v":0},0,-3.1717367051154279,"",null,null,{"$f":"IF(AC84>'goal seek'!$E$23,MAX($AA$7,AC84*(1+AE85)),MAX($AA$7,AC84+AD84))","v":0},0,-0.19997627335043253,"",null,null,0,-125.06868599137513,0,""]
[73,null,2091,null,{"$f":"IF(E85>'goal seek'!$E$24,MAX($I$7,E85*(1+$I$10)),MAX($I$7,RM!E85+RM!F85))","v":0},0,-7.9875215888894777E-2,"",null,null,{"$f":"IF(K85>'goal seek'!$E$23,MAX($O$7,K85*(1+M86)),MAX($O$7,K85+L85))","v":0},0,-5,"",null,null,{"$f":"IF(Q85>'goal seek'!$E$23,MAX($U$7,Q85*(1+S86)),MAX($U$7,Q85+R85))","v":0},{"$f":"Q86-Q85","v":0},-0.49136924690875533,"",null,null,{"$f":"IF(W85>'goal seek'!$E$23,MAX($AA$7,W85*(1+Y86)),MAX($AA$7,W85+X85))","v":0},0,-3.2621417817320149,"",null,null,{"$f":"IF(AC85>'goal seek'!$E$23,MAX($AA$7,AC85*(1+AE86)),MAX($AA$7,AC85+AD85))","v":0},0,-0.20119475685754071,"",null,null,0,-125.06868599137513,0,""]
[74,null,2092,null,{"$f":"IF(E86>'goal seek'!$E$24,MAX($I$7,E86*(1+$I$10)),MAX($I$7,RM!E86+RM!F86))","v":0},0,-7.9875215888894777E-2,"",null,null,{"$f":"IF(K86>'goal seek'!$E$23,MAX($O$7,K86*(1+M87)),MAX($O$7,K86+L86))","v":0},0,-5,"",null,null,{"$f":"IF(Q86>'goal seek'!$E$23,MAX($U$7,Q86*(1+S87)),MAX($U$7,Q86+R86))","v":0},0,-0.49786740531592089,"",null,null,{"$f":"IF(W86>'goal seek'!$E$23,MAX($AA$7,W86*(1+Y87)),MAX($AA$7,W86+X86))","v":0},0,-3.3538291998608938,"",null,null,{"$f":"IF(AC86>'goal seek'!$E$23,MAX($AA$7,AC86*(1+AE87)),MAX($AA$7,AC86+AD86))","v":0},0,-0.2024046288500515,"",null,null,0,-125.06868599137513,0,""]
[75,null,2093,null,{"$f":"IF(E87>'goal seek'!$E$24,MAX($I$7,E87*(1+$I$10)),MAX($I$7,RM!E87+RM!F87))","v":0},0,-7.9875215888894777E-2,"",null,null,{"$f":"IF(K87>'goal seek'!$E$23,MAX($O$7,K87*(1+M88)),MAX($O$7,K87+L87))","v":0},0,-5,"",null,null,{"$f":"IF(Q87>'goal seek'!$E$23,MAX($U$7,Q87*(1+S88)),MAX($U$7,Q87+R87))","v":0},0,-0.5043655637230865,"",null,null,{"$f":"IF(W87>'goal seek'!$E$23,MAX($AA$7,W87*(1+Y88)),MAX($AA$7,W87+X87))","v":0},0,-3.4467989595020647,"",null,null,{"$f":"IF(AC87>'goal seek'!$E$23,MAX($AA$7,AC87*(1+AE88)),MAX($AA$7,AC87+AD87))","v":0},0,-0.20360606937067477,"",null,null,0,-125.06868599137513,0,""]
[76,null,2094,null,{"$f":"IF(E88>'goal seek'!$E$24,MAX($I$7,E88*(1+$I$10)),MAX($I$7,RM!E88+RM!F88))","v":0},0,-7.9875215888894777E-2,"",null,null,{"$f":"IF(K88>'goal seek'!$E$23,MAX($O$7,K88*(1+M89)),MAX($O$7,K88+L88))","v":0},0,-5,"",null,null,{"$f":"IF(Q88>'goal seek'!$E$23,MAX($U$7,Q88*(1+S89)),MAX($U$7,Q88+R88))","v":0},0,-0.51086372213025211,"",null,null,{"$f":"IF(W88>'goal seek'!$E$23,MAX($AA$7,W88*(1+Y89)),MAX($AA$7,W88+X88))","v":0},0,-3.5410510606555272,"",null,null,{"$f":"IF(AC88>'goal seek'!$E$23,MAX($AA$7,AC88*(1+AE89)),MAX($AA$7,AC88+AD88))","v":0},0,-0.20479925227456514,"",null,null,0,-125.06868599137513,0,""]
[77,null,2095,null,{"$f":"IF(E89>'goal seek'!$E$24,MAX($I$7,E89*(1+$I$10)),MAX($I$7,RM!E89+RM!F89))","v":0},0,-7.9875215888894777E-2,"",null,null,{"$f":"IF(K89>'goal seek'!$E$23,MAX($O$7,K89*(1+M90)),MAX($O$7,K89+L89))","v":0},0,-5,"",null,null,{"$f":"IF(Q89>'goal seek'!$E$23,MAX($U$7,Q89*(1+S90)),MAX($U$7,Q89+R89))","v":0},0,-0.51736188053741772,"",null,null,{"$f":"IF(W89>'goal seek'!$E$23,MAX($AA$7,W89*(1+Y90)),MAX($AA$7,W89+X89))","v":0},0,-3.6365855033212822,"",null,null,{"$f":"IF(AC89>'goal seek'!$E$23,MAX($AA$7,AC89*(1+AE90)),MAX($AA$7,AC89+AD89))","v":0},0,-0.2059843455229998,"",null,null,0,-125.06868599137513,0,""]
[78,null,2096,null,{"$f":"IF(E90>'goal seek'!$E$24,MAX($I$7,E90*(1+$I$10)),MAX($I$7,RM!E90+RM!F90))","v":0},0,-7.9875215888894777E-2,"",null,null,{"$f":"IF(K90>'goal seek'!$E$23,MAX($O$7,K90*(1+M91)),MAX($O$7,K90+L90))","v":0},0,-5,"",null,null,{"$f":"IF(Q90>'goal seek'!$E$23,MAX($U$7,Q90*(1+S91)),MAX($U$7,Q90+R90))","v":0},0,-0.52386003894458333,"",null,null,{"$f":"IF(W90>'goal seek'!$E$23,MAX($AA$7,W90*(1+Y91)),MAX($AA$7,W90+X90))","v":0},0,-3.7334022874993291,"",null,null,{"$f":"IF(AC90>'goal seek'!$E$23,MAX($AA$7,AC90*(1+AE91)),MAX($AA$7,AC90+AD90))","v":0},0,-0.20716151145937456,"",null,null,0,-125.06868599137513,0,""]
[79,null,2097,null,{"$f":"IF(E91>'goal seek'!$E$24,MAX($I$7,E91*(1+$I$10)),MAX($I$7,RM!E91+RM!F91))","v":0},0,-7.9875215888894777E-2,"",null,null,{"$f":"IF(K91>'goal seek'!$E$23,MAX($O$7,K91*(1+M92)),MAX($O$7,K91+L91))","v":0},0,-5,"",null,null,{"$f":"IF(Q91>'goal seek'!$E$23,MAX($U$7,Q91*(1+S92)),MAX($U$7,Q91+R91))","v":0},0,-0.53035819735174894,"",null,null,{"$f":"IF(W91>'goal seek'!$E$23,MAX($AA$7,W91*(1+Y92)),MAX($AA$7,W91+X91))","v":0},0,-3.8315014131896681,"",null,null,{"$f":"IF(AC91>'goal seek'!$E$23,MAX($AA$7,AC91*(1+AE92)),MAX($AA$7,AC91+AD91))","v":0},0,-0.20833090706880181,"",null,null,0,-125.06868599137513,0,""]
[80,null,2098,null,{"$f":"IF(E92>'goal seek'!$E$24,MAX($I$7,E92*(1+$I$10)),MAX($I$7,RM!E92+RM!F92))","v":0},0,-7.9875215888894777E-2,"",null,null,{"$f":"IF(K92>'goal seek'!$E$23,MAX($O$7,K92*(1+M93)),MAX($O$7,K92+L92))","v":0},0,-5,"",null,null,{"$f":"IF(Q92>'goal seek'!$E$23,MAX($U$7,Q92*(1+S93)),MAX($U$7,Q92+R92))","v":0},0,-0.53685635575891455,"",null,null,{"$f":"IF(W92>'goal seek'!$E$23,MAX($AA$7,W92*(1+Y93)),MAX($AA$7,W92+X92))","v":0},0,-3.9308828803922991,"",null,null,{"$f":"IF(AC92>'goal seek'!$E$23,MAX($AA$7,AC92*(1+AE93)),MAX($AA$7,AC92+AD92))","v":0},0,-0.20949268422248624,"",null,null,0,-125.06868599137513,0,""]
[81,null,2099,null,{"$f":"IF(E93>'goal seek'!$E$24,MAX($I$7,E93*(1+$I$10)),MAX($I$7,RM!E93+RM!F93))","v":0},0,-7.9875215888894777E-2,"",null,null,{"$f":"IF(K93>'goal seek'!$E$23,MAX($O$7,K93*(1+M94)),MAX($O$7,K93+L93))","v":0},0,-5,"",null,null,{"$f":"IF(Q93>'goal seek'!$E$23,MAX($U$7,Q93*(1+S94)),MAX($U$7,Q93+R93))","v":0},0,-0.54335451416608016,"",null,null,{"$f":"IF(W93>'goal seek'!$E$23,MAX($AA$7,W93*(1+Y94)),MAX($AA$7,W93+X93))","v":0},0,-4.0315466891072225,"",null,null,{"$f":"IF(AC93>'goal seek'!$E$23,MAX($AA$7,AC93*(1+AE94)),MAX($AA$7,AC93+AD93))","v":0},0,-0.21064698990795466,"",null,null,0,-125.06868599137513,0,""]
[82,null,2100,null,{"$f":"IF(E94>'goal seek'!$E$24,MAX($I$7,E94*(1+$I$10)),MAX($I$7,RM!E94+RM!F94))","v":0},0,-7.9875215888894777E-2,"",null,null,{"$f":"IF(K94>'goal seek'!$E$23,MAX($O$7,K94*(1+M95)),MAX($O$7,K94+L94))","v":0},0,-5,"",null,null,{"$f":"IF(Q94>'goal seek'!$E$23,MAX($U$7,Q94*(1+S95)),MAX($U$7,Q94+R94))","v":0},0,-0.54985267257324577,"",null,null,{"$f":"IF(W94>'goal seek'!$E$23,MAX($AA$7,W94*(1+Y95)),MAX($AA$7,W94+X94))","v":0},0,-4.133492839334437,"",null,null,{"$f":"IF(AC94>'goal seek'!$E$23,MAX($AA$7,AC94*(1+AE95)),MAX($AA$7,AC94+AD94))","v":0},0,-0.2117939664461288,"",null,null,0,-125.06868599137513,0,""]
[null,null,"sum",null,{"$f":"SUM(E15:E95)","v":33080.092580515877},null,null,null,null,null,{"$f":"SUM(K15:K95)","v":33079.81812950992},null,null,null,null,null,{"$f":"SUM(Q15:Q95)","v":33079.8719869946},null,null,null,null,null,{"$f":"SUM(W15:W95)","v":33079.595768924533},null,null,null,null,null,{"$f":"SUM(AC15:AC95)","v":33079.622728027207},null,null,null,null,null,{"$f":"SUM(AI15:AI95)","v":33079.616916354775}]
[null,null,null,null,{"$f":"SUMIF(E15:E95,\"<0\")","v":0}," negative emissions in Mill. t",null,null,null,null,{"$f":"SUMIF(K15:K95,\"<0\")","v":0},{"$f":"F97","v":" negative emissions in Mill. t"},null,null,null,null,{"$f":"SUMIF(Q15:Q95,\"<0\")","v":0},{"$f":"L97","v":" negative emissions in Mill. t"},null,null,null,null,{"$f":"SUMIF(W15:W95,\"<0\")","v":0},{"$f":"R97","v":" negative emissions in Mill. t"},null,null,null,null,{"$f":"SUMIF(AC15:AC95,\"<0\")","v":0},{"$f":"X97","v":" negative emissions in Mill. t"},null,null,null,null,{"$f":"SUMIF(AI15:AI95,\"<0\")","v":0},{"$f":"AD97","v":" negative emissions in Mill. t"}]

{"sheet":"SPM","index":9,"n_rows":337,"n_cols":20,"rows_kept":337,"cut":false,"hidden":true,"merged":[[5,7,5,19],[6,7,6,19],[1,2,1,11],[4,4,5,5],[3,2,3,5],[3,10,3,15],[14,12,14,15],[6,2,6,5],[8,8,8,11],[8,12,8,15],[14,16,14,19],[14,8,14,11],[14,4,14,7],[8,16,8,19],[8,4,8,7]]}
[]
[null,null,"Calculation national emission paths for a selected country for the SPM scenarios"]
[]
[null,null,"parameter r in SPM",null,null,null,null,null,null,null,"In the sheet \"base data\" given budget 2020 - 2100:",null,null,null,null,null,{"$f":"'base data'!L41","v":33079.695618426893},"Mill. t"]
[null,null,"r data",{"$f":"'data countries'!N5","v":-3.9874657713424688E-2},"r data is used if there is no individual input"]
[null,null,"r input",null,null,null,null,"cf. Raupach, M. R. et al., 2014. Sharing a quota on cumulative carbon emissions. Nature Climate Change, Volume 4, pp. 873 - 879."]
[null,null,"please delete if you choos a new country",null,null,null,null,"See also our paper \"Comparison Resource Sharing Models\" that you can download from our website."]
[]
[null,null,null,null,{"$f":"'reference values'!B128","v":"SPM_FP50%"},null,null,null,{"$f":"'reference values'!B129","v":"SPM_P50%"},null,null,null,"SPM_P0%",null,null,null,"SPM_P100%"]
[null,null,null,null,"CRB",{"$f":"'base data'!D31","v":0.5},"RBi",{"$f":"'base data'!$M$27*1000*SPM!F13","v":33079.6956184269},"CRB",0.5,"RBi",{"$f":"'base data'!$M$27*1000*SPM!J13","v":33079.6956184269},"CRB",0,"RBi",{"$f":"'base data'!$M$27*1000*SPM!N13","v":38474.630541702696},"CRB",1,"RBi",{"$f":"'base data'!$M$27*1000*SPM!R13","v":27684.760695151104}]
[null,null,null,null,"Pik",{"$f":"$C$20/1000/$D$20","v":5.7689579217939504E-2},"Ti",{"$f":"H10/E20","v":11.25516340641027},"Pik",{"$f":"$C$20/1000/$D$20","v":5.7689579217939504E-2},"Ti",{"$f":"L10/I20","v":11.25516340641027},"Pik",{"$f":"$C$20/1000/$D$20","v":5.7689579217939504E-2},"Ti",{"$f":"P10/M20","v":13.090756902457866},"Pik",{"$f":"$C$20/1000/$D$20","v":5.7689579217939504E-2},"Ti",{"$f":"T10/Q20","v":9.4195699103626751}]
[null,null,null,null,"Eik",{"$f":"'base data'!$D$34","v":8.0173539188484494E-2},"ri",{"$f":"IF($D$6=\"\",$D$5,$D$6)","v":-3.9874657713424688E-2},"Eik",{"$f":"'base data'!$D$34","v":8.0173539188484494E-2},"ri",{"$f":"IF($D$6=\"\",$D$5,$D$6)","v":-3.9874657713424688E-2},"Eik",{"$f":"'base data'!$D$34","v":8.0173539188484494E-2},"ri",{"$f":"IF($D$6=\"\",$D$5,$D$6)","v":-3.9874657713424688E-2},"Eik",{"$f":"'base data'!$D$34","v":8.0173539188484494E-2},"ri",{"$f":"IF($D$6=\"\",$D$5,$D$6)","v":-3.9874657713424688E-2}]
[null,null,null,null,"wk",{"$f":"F10*F11+(1-F10)*F12","v":6.8931559203212006E-2},"mi",{"$f":"IF(ISERROR((1+SQRT(1+H12*H11))/H11),(1+SQRT(1+0*H11))/H11,(1+SQRT(1+H12*H11))/H11)","v":0.15481172695738254},"wk",{"$f":"J10*J11+(1-J10)*J12","v":6.8931559203212006E-2},"mi",{"$f":"IF(ISERROR((1+SQRT(1+L12*L11))/L11),(1+SQRT(1+0*L11))/L11,(1+SQRT(1+L12*L11))/L11)","v":0.15481172695738254},"wk",{"$f":"N10*N11+(1-N10)*N12","v":8.0173539188484494E-2},"mi",{"$f":"IF(ISERROR((1+SQRT(1+P12*P11))/P11),(1+SQRT(1+0*P11))/P11,(1+SQRT(1+P12*P11))/P11)","v":0.12920437545928776},"wk",{"$f":"R10*R11+(1-R10)*R12","v":5.7689579217939504E-2},"mi",{"$f":"IF(ISERROR((1+SQRT(1+T12*T11))/T11),(1+SQRT(1+0*T11))/T11,(1+SQRT(1+T12*T11))/T11)","v":0.19004991973138222}]
[null,null,null,null,null,null,"scen.",{"$f":"E102","v":33078.94414147958},null,null,"scen.",{"$f":"I102","v":33078.94414147958},null,null,"scen.",{"$f":"M102","v":38468.842790271759},null,null,"scen.",{"$f":"Q102","v":27684.716180337757}]
[null,null,{"$f":"'reference values'!B2","v":"EU27"},"world",{"$f":"'reference values'!$B$2","v":"EU27"},null,null,null,{"$f":"'reference values'!$B$2","v":"EU27"},null,null,null,{"$f":"'reference values'!$B$2","v":"EU27"},null,null,null,{"$f":"'reference values'!$B$2","v":"EU27"}]
["pos.","year\nt","Population\nPit","Popu-lation\nPt","emissions\nEit","per capita","change\nvs.\n1990","change\nvs.\nprev. year\nRRit","emissions\nEit","per capita","change\nvs.\n1990","change\nvs.\nprev. year\nRRit","emissions\nEit","per capita","change\nvs.\n1990","change\nvs.\nprev. year\nRRit","emissions\nEit","per capita","change\nvs.\n1990","change\nvs.\nprev. year\nRRit"]
[null,null,"Mill.","billion","Mill.\nt","t",null,null,"Mill.\nt","t",null,null,"Mill.\nt","t",null,null,"Mill.\nt","t"]
[null,1990,null,null,{"$f":"'data countries'!$C$5","v":3820.6582623995596},null,null,null,{"$f":"'data countries'!$C$5","v":3820.6582623995596},null,null,null,{"$f":"'data countries'!$C$5","v":3820.6582623995596},null,null,null,{"$f":"'data countries'!$C$5","v":3820.6582623995596}]
[null,2010,null,null,{"$f":"'data countries'!$D$5","v":3418.2274548906998},null,{"$f":"IF(AND(E$18<>\"no data\",E$19<>\"no data\"),(E19-E$18)/E$18,\"\")","v":-0.10533022842407098},null,{"$f":"'data countries'!$D$5","v":3418.2274548906998},null,{"$f":"IF(AND(I$18<>\"no data\",I$19<>\"no data\"),(I19-I$18)/I$18,\"\")","v":-0.10533022842407098},null,{"$f":"'data countries'!$D$5","v":3418.2274548906998},null,{"$f":"IF(AND(M$18<>\"no data\",M$19<>\"no data\"),(M19-M$18)/M$18,\"\")","v":-0.10533022842407098},null,{"$f":"'data countries'!$D$5","v":3418.2274548906998},null,{"$f":"IF(AND(Q$18<>\"no data\",Q$19<>\"no data\"),(Q19-Q$18)/Q$18,\"\")","v":-0.10533022842407098}]
[1,2019,{"$f":"INDEX('UN-P'!$H$333:$CK$333,A20)/1000","v":444.98672899999985},{"$f":"INDEX('UN-P'!$H$18:$CK$18,A20)/1000000","v":7.7134681000000098},{"$f":"'data countries'!$M$5","v":2939.068445651058},{"$f":"E20/$C20","v":6.6048451652837024},{"$f":"IF(E$18<>\"no data\",(E20-E$18)/E$18,0)","v":-0.2307429129227643},null,{"$f":"'data countries'!$M$5","v":2939.068445651058},{"$f":"I20/$C20","v":6.6048451652837024},{"$f":"IF(I$18<>\"no data\",(I20-I$18)/I$18,0)","v":-0.2307429129227643},null,{"$f":"'data countries'!$M$5","v":2939.068445651058},{"$f":"M20/$C20","v":6.6048451652837024},{"$f":"IF(M$18<>\"no data\",(M20-M$18)/M$18,0)","v":-0.2307429129227643},null,{"$f":"'data countries'!$M$5","v":2939.068445651058},{"$f":"Q20/$C20","v":6.6048451652837024},{"$f":"IF(Q$18<>\"no data\",(Q20-Q$18)/Q$18,0)","v":-0.2307429129227643}]
[{"$f":"A20+1","v":2},{"$f":"B20+1","v":2020},{"$f":"INDEX('UN-P'!$H$333:$CK$333,A21)/1000","v":445.25051399999995},{"$f":"INDEX('UN-P'!$H$18:$CK$18,A21)/1000000","v":7.794798739},{"$f":"-E$20*EXP(-H$13*($B21-$B$20))/H$13^2*((H$12*H$13+H$13^2)*($B21-$B$20)+2*H$13+H$12)\n  +E$20*EXP(-H$13*($B21-$B$20-1))/H$13^2*((H$12*H$13+H$13^2)*($B21-$B$20-1)+2*H$13+H$12)","v":2875.3099029055738},6.4577351681745032,-0.24743075526997302,{"$f":"IF(E21>0,(E21-E20)/E20,\"\")","v":-2.1693452848921487E-2},{"$f":"-I$20*EXP(-L$13*($B21-$B$20))/L$13^2*((L$12*L$13+L$13^2)*($B21-$B$20)+2*L$13+L$12)\n  +I$20*EXP(-L$13*($B21-$B$20-1))/L$13^2*((L$12*L$13+L$13^2)*($B21-$B$20-1)+2*L$13+L$12)","v":2875.3099029055738},6.4577351681745032,-0.24743075526997302,{"$f":"IF(I21>0,(I21-I20)/I20,\"\")","v":-2.1693452848921487E-2},{"$f":"-M$20*EXP(-P$13*($B21-$B$20))/P$13^2*((P$12*P$13+P$13^2)*($B21-$B$20)+2*P$13+P$12)\n  +M$20*EXP(-P$13*($B21-$B$20-1))/P$13^2*((P$12*P$13+P$13^2)*($B21-$B$20-1)+2*P$13+P$12)","v":2877.6132817736652},6.4629083881836138,-0.24682788039609074,{"$f":"IF(M21>0,(M21-M20)/M20,\"\")","v":-2.0909742326119713E-2},{"$f":"-Q$20*EXP(-T$13*($B21-$B$20))/T$13^2*((T$12*T$13+T$13^2)*($B21-$B$20)+2*T$13+T$12)\n  +Q$20*EXP(-T$13*($B21-$B$20-1))/T$13^2*((T$12*T$13+T$13^2)*($B21-$B$20-1)+2*T$13+T$12)","v":2871.2888175414882},6.4487041053511023,-0.24848321405794119,{"$f":"IF(Q21>0,(Q21-Q20)/Q20,\"\")","v":-2.3061602464503117E-2}]
[3,2021,{"$f":"INDEX('UN-P'!$H$333:$CK$333,A22)/1000","v":445.30767100000003},{"$f":"INDEX('UN-P'!$H$18:$CK$18,A22)/1000000","v":7.8749658249999896},2730.9954097438385,6.1328281266994802,-0.28520290950370414,-5.0190935250458334E-2,2730.9954097438385,6.1328281266994802,-0.28520290950370414,-5.0190935250458334E-2,2745.2708009585112,6.1648854931998489,-0.28146653994792314,-4.5990363490949163E-2,2706.7154194248142,6.0783040484043536,-0.2915578328314386,-5.7316908390145291E-2]
[4,2022,{"$f":"INDEX('UN-P'!$H$333:$CK$333,A23)/1000","v":445.18126699999993},{"$f":"INDEX('UN-P'!$H$18:$CK$18,A23)/1000000","v":7.953952567},2568.9310715328174,5.7705282363842541,-0.3276208194764314,-5.934258901820065E-2,2568.9310715328174,5.7705282363842541,-0.3276208194764314,-5.934258901820065E-2,2602.7351612148595,5.8464615520644987,-0.31877310597776021,-5.1920429741898463E-2,2513.0950230997187,5.6451050603162933,-0.34223506775469298,-7.1533340718264518E-2]
[5,2023,{"$f":"INDEX('UN-P'!$H$333:$CK$333,A24)/1000","v":444.91356000000002},{"$f":"INDEX('UN-P'!$H$18:$CK$18,A24)/1000000","v":8.0318004289999987},2397.1769757311995,5.3879611485233205,-0.37257487817671098,-6.6858195498074049E-2,2397.1769757311995,5.3879611485233205,-0.37257487817671098,-6.6858195498074049E-2,2454.4215179933417,5.5166255620380316,-0.3575919777625321,-5.6983762862868687E-2,2305.4128581380646,5.1817095845270806,-0.39659275972770386,-8.2639996917224928E-2]
[6,2024,{"$f":"INDEX('UN-P'!$H$333:$CK$333,A25)/1000","v":444.56784399999992},{"$f":"INDEX('UN-P'!$H$18:$CK$18,A25)/1000000","v":8.1086053880000009},2221.8463167904083,4.9977665878830608,-0.41846504863929374,-7.3140473446817955E-2,2221.8463167904083,4.9977665878830608,-0.41846504863929374,-7.3140473446817955E-2,2303.8244888858571,5.1821662767086174,-0.39700849155795914,-6.1357443293036308E-2,2094.3369761086378,4.7109502056307928,-0.4518387062460561,-9.1556651679256862E-2]
[7,2025,{"$f":"INDEX('UN-P'!$H$333:$CK$333,A26)/1000","v":444.19147499999991},{"$f":"INDEX('UN-P'!$H$18:$CK$18,A26)/1000000","v":8.1844374599999998},2047.4980582598982,4.6094942687945526,-0.46409809052799983,-7.8469990121714045E-2,2047.4980582598982,4.6094942687945526,-0.46409809052799983,-7.8469990121714045E-2,2153.6764402016306,4.8485316837781074,-0.43630749146116593,-6.517338860168076E-2,1887.2637844912242,4.248761830674991,-0.50603700857926759,-9.8872910128418742E-2]
[8,2026,{"$f":"INDEX('UN-P'!$H$333:$CK$333,A27)/1000","v":443.79721199999994},{"$f":"INDEX('UN-P'!$H$18:$CK$18,A27)/1000000","v":8.2592767370000004},1877.4570091040896,4.2304389444972221,-0.50860378496009351,-8.3048210214333965E-2,1877.4570091040896,4.2304389444972221,-0.50860378496009351,-8.3048210214333965E-2,2006.0809265347016,4.5202648243195851,-0.47493840360514605,-6.8531888500907273E-2,1689.1309856377611,3.8060874200303929,-0.55789529718972963,-0.10498415774288622]
[9,2027,{"$f":"INDEX('UN-P'!$H$333:$CK$333,A28)/1000","v":443.3752629999999},{"$f":"INDEX('UN-P'!$H$18:$CK$18,A28)/1000000","v":8.3330783159999999},1714.0740580713773,3.8659668256489486,-0.55136682206305065,-8.7023537817612975E-2,1714.0740580713773,3.8659668256489486,-0.55136682206305065,-8.7023537817612975E-2,1862.6249811600428,4.2010124077671946,-0.51248584583164902,-7.1510547494444382E-2,1503.0471153397775,3.3900112179685991,-0.60659995945416201,-0.11016544713240481]
[10,2028,{"$f":"INDEX('UN-P'!$H$333:$CK$333,A29)/1000","v":442.92348999999979},{"$f":"INDEX('UN-P'!$H$18:$CK$18,A29)/1000000","v":8.4058632950000085},1558.9371475343887,3.5196533548816511,-0.59197158173594411,-9.0507705782294959E-2,1558.9371475343887,3.5196533548816511,-0.59197158173594411,-9.0507705782294959E-2,1724.4734237215562,3.8933889546511904,-0.54864494406822373,-7.417035572691924E-2,1330.7768141078977,3.0045297758037135,-0.65168912718404048,-0.11461403935626896]
[11,2029,{"$f":"INDEX('UN-P'!$H$333:$CK$333,A30)/1000","v":442.43361600000003},{"$f":"INDEX('UN-P'!$H$18:$CK$18,A30)/1000000","v":8.4776606930000007},1413.0417639388088,3.1937938548024087,-0.63015751033138734,-9.3586443703857922E-2,1413.0417639388088,3.1937938548024087,-0.63015751033138734,-9.3586443703857922E-2,1592.4478947867628,3.5992922716495457,-0.58320064621884604,-7.655990931415535E-2,1173.1129119901943,2.6515004049561059,-0.69295528900472181,-0.1184750894712539]
[12,2030,{"$f":"INDEX('UN-P'!$H$333:$CK$333,A31)/1000","v":441.89976499999995},{"$f":"INDEX('UN-P'!$H$18:$CK$18,A31)/1000000","v":8.5484874000000008},1276.9282176063134,2.8896331673910565,-0.66578318972596617,-9.6326626576898347E-2,1276.9282176063134,2.8896331673910565,-0.66578318972596617,-9.6326626576898347E-2,1467.0929341919418,3.3199676722886284,-0.61601042714808629,-7.8718406426482618E-2,1030.1599705604713,2.3312073283416916,-0.73037107749242125,-0.12185778535776441]
[13,2031,{"$f":"INDEX('UN-P'!$H$333:$CK$333,A32)/1000","v":441.32482400000004},{"$f":"INDEX('UN-P'!$H$18:$CK$18,A32)/1000000","v":8.6183494889999999},1150.7917312271529,2.6075844109488679,-0.69879752330835276,-9.8781188041730097E-2,1150.7917312271529,2.6075844109488679,-0.69879752330835276,-9.8781188041730097E-2,1348.731082827946,3.0560961212278102,-0.64698986661505886,-8.0677814339817661E-2,901.54878573788483,2.0428236453290576,-0.76403312627817488,-0.12484583802320909]
[14,2032,{"$f":"INDEX('UN-P'!$H$333:$CK$333,A33)/1000","v":440.71454800000009},{"$f":"INDEX('UN-P'!$H$18:$CK$18,A33)/1000000","v":8.6872278499999993},1034.570312902486,2.3474839158304475,-0.72921673652834751,-0.10099257334837958,1034.570312902486,2.3474839158304475,-0.72921673652834751,-0.10099257334837958,1237.5086979642383,2.8079597180990676,-0.67610065779946971,-8.2464463286856748E-2,786.59725614402305,1.784822533573416,-0.79411996516799133,-0.12750450270949912]
[15,2033,{"$f":"INDEX('UN-P'!$H$333:$CK$333,A34)/1000","v":440.06838099999993},{"$f":"INDEX('UN-P'!$H$18:$CK$18,A34)/1000000","v":8.7550834310000099},928.01452161912493,2.1087961818804817,-0.75710611683016982,-0.10299521449095023,928.01452161912493,2.1087961818804817,-0.75710611683016982,-0.10299521449095023,1133.4339237646091,2.5755859150548908,-0.70334066908858861,-8.4100236524266278E-2,684.42975737993038,1.5552804676051708,-0.82086077571615235,-0.12988539937823809]
[16,2034,{"$f":"INDEX('UN-P'!$H$333:$CK$333,A35)/1000","v":439.3848999999999},{"$f":"INDEX('UN-P'!$H$18:$CK$18,A35)/1000000","v":8.8218626610000008},830.74251168414412,1.8906942675639156,-0.78256560659722618,-0.1048173360102905,830.74251168414412,1.8906942675639156,-0.78256560659722618,-0.1048173360102905,1036.4080456006905,2.3587702845516327,-0.72873573755592169,-8.5603471123976066E-2,594.06456678970835,1.3520368287342339,-0.84451250910448949,-0.1320298973208727]
[17,2035,{"$f":"INDEX('UN-P'!$H$333:$CK$333,A36)/1000","v":438.66286199999996},{"$f":"INDEX('UN-P'!$H$18:$CK$18,A36)/1000000","v":8.887524212999999},742.28314370926364,1.6921495025244779,-0.80571851949850293,-0.10648229352744805,742.28314370926364,1.6921495025244779,-0.80571851949850293,-0.10648229352744805,946.25127418775628,2.1571264772073557,-0.75233292035036281,-8.6989648329756378E-2,514.47682234478452,1.1728296760731585,-0.8653434075986508,-0.13397153928067371]
[18,2036,{"$f":"INDEX('UN-P'!$H$333:$CK$333,A37)/1000","v":437.90238199999999},{"$f":"INDEX('UN-P'!$H$18:$CK$18,A37)/1000000","v":8.9520489399999992},662.10945293951136,1.5120024008901403,-0.82670278065547942,-0.10800958023796185,662.10945293951136,1.5120024008901403,-0.82670278065547942,-0.10800958023796185,862.72384919663637,1.9701282401259841,-0.77419497114227542,-8.8271928682810211E-2,444.642865841613,1.0153926631109602,-0.88362139838113773,-0.13573780872167499]
[19,2037,{"$f":"INDEX('UN-P'!$H$333:$CK$333,A38)/1000","v":437.10342200000002},{"$f":"INDEX('UN-P'!$H$18:$CK$18,A38)/1000000","v":9.0154376530000011},589.6643540875657,1.3490270823996562,-0.84566419878724575,-0.10941559364591047,589.6643540875657,1.3490270823996562,-0.84566419878724575,-0.10941559364591047,785.54321816383072,1.7971564133941524,-0.79439584380141048,-8.9461571167501419E-2,383.57052841236282,0.87752808398823934,-0.89960616677308847,-0.13735143892088189]
[20,2038,{"$f":"INDEX('UN-P'!$H$333:$CK$333,A39)/1000","v":436.26434200000006},{"$f":"INDEX('UN-P'!$H$18:$CK$18,A39)/1000000","v":9.0776936760000009},524.38012115562697,1.2019779538975635,-0.86275136765927585,-0.11071422662636304,524.38012115562697,1.2019779538975635,-0.86275136765927585,-0.11071422662636304,714.39793206273953,1.6375345479478574,-0.81301705543953495,-9.0568264681082547E-2,330.31889620972152,0.75715309368493255,-0.9135439828627161,-0.13883139672658165]
[21,2039,{"$f":"INDEX('UN-P'!$H$333:$CK$333,A40)/1000","v":435.38303700000006},{"$f":"INDEX('UN-P'!$H$18:$CK$18,A40)/1000000","v":9.1388284679999998},465.69289911520764,1.0696165434557516,-0.8781118678688814,-0.11191732804646493,465.69289911520764,1.0696165434557516,-0.8781118678688814,-0.11191732804646493,648.95880108238998,1.4905468195408584,-0.8301447665526589,-9.1600392503099495E-2,284.0102905778258,0.65232282023386634,-0.92566456587523915,-0.14019363155807502]
[22,2040,{"$f":"INDEX('UN-P'!$H$333:$CK$333,A41)/1000","v":434.45784099999997},{"$f":"INDEX('UN-P'!$H$18:$CK$18,A41)/1000000","v":9.198847240000001},413.05327183592044,0.95073268993186488,-0.89188950084834262,-0.11303506533876673,413.05327183592044,0.95073268993186488,-0.89188950084834262,-0.11303506533876673,588.88777063314592,1.3554543503638732,-0.845867457859658,-9.2565245049535297E-2,243.83656564712169,0.56124333050562136,-0.93617943587187491,-0.14145165250515992]
[23,2041,{"$f":"INDEX('UN-P'!$H$333:$CK$333,A42)/1000","v":433.48855900000007},{"$f":"INDEX('UN-P'!$H$18:$CK$18,A42)/1000000","v":9.2577455349999997},365.93371900716511,0.84416003931297534,-0.90422233712749256,-0.11407621254110997,365.93371900716511,0.84416003931297534,-0.90422233712749256,-0.11407621254110997,533.84490633472433,1.2315086413496885,-0.86027410208641808,-9.3469192337348003E-2,209.06133156298097,0.48227646894593346,-0.9452813318530926,-0.14261697785912536]
[24,2042,{"$f":"INDEX('UN-P'!$H$333:$CK$333,A43)/1000","v":432.47510100000005},{"$f":"INDEX('UN-P'!$H$18:$CK$18,A43)/1000000","v":9.31550805},323.83363705038255,0.74879140163581925,-0.9152414021852352,-0.11504838108662577,323.83363705038255,0.74879140163581925,-0.9152414021852352,-0.11504838108662577,483.4938159948706,1.1179691382854213,-0.87345274484423197,-9.4317824788391361E-2,179.01932508839332,0.4139413452345625,-0.95314437649391848,-0.14369948880545286]
[25,2043,{"$f":"INDEX('UN-P'!$H$333:$CK$333,A44)/1000","v":431.41624199999995},{"$f":"INDEX('UN-P'!$H$18:$CK$18,A44)/1000000","v":9.3721181860000016},286.28246939302971,0.66358760176912801,-0.92506985714727852,-0.11595820619310947,286.28246939302971,0.66358760176912801,-0.92506985714727852,-0.11595820619310947,437.50578485473579,1.0141152378188298,-0.88548942229134076,-9.5116068952209087E-2,153.11384845579164,0.35490979140231732,-0.95992474648605997,-0.14470771029781551]
[26,2044,{"$f":"INDEX('UN-P'!$H$333:$CK$333,A45)/1000","v":430.31064599999996},{"$f":"INDEX('UN-P'!$H$18:$CK$18,A45)/1000000","v":9.4275553670000001},252.84138514664869,0.58757873526245208,-0.93382255941732606,-0.11681149850803695,252.84138514664869,0.58757873526245208,-0.93382255941732606,-0.11681149850803695,395.56285636635539,0.91924952367168589,-0.89646735478563255,-9.5868283209801744E-2,130.81296402628004,0.30399657838416588,-0.96576166852878298,-0.14564903602400472]
[27,2045,{"$f":"INDEX('UN-P'!$H$333:$CK$333,A46)/1000","v":429.15757899999988},{"$f":"INDEX('UN-P'!$H$18:$CK$18,A46)/1000000","v":9.4818032740000007},223.10385818441205,0.51986465834828499,-0.94160591111221459,-0.1176133683375797,223.10385818441205,0.51986465834828499,-0.94160591111221459,-0.1176133683375797,357.36005336707967,0.8327012520663879,-0.90646636552554682,-9.6578337385383128E-2,111.6449521767629,0.2601490865823971,-0.97077860815883477,-0.14652991002991364]
[28,2046,{"$f":"INDEX('UN-P'!$H$333:$CK$333,A47)/1000","v":427.95732800000002},{"$f":"INDEX('UN-P'!$H$18:$CK$18,A47)/1000000","v":9.5348548280000003},196.69542750448136,0.45961457985474979,-0.94851792178320937,-0.11836832807302751,196.69542750448136,0.45961457985474979,-0.94851792178320937,-0.11836832807302751,322.60690276937476,0.75382960323879478,-0.91556248148538621,-9.724967933672915E-2,95.193401457356799,0.22243666652988542,-0.97508455482810685,-0.14735597444082407]
[29,2047,{"$f":"INDEX('UN-P'!$H$333:$CK$333,A48)/1000","v":426.7110550000001},{"$f":"INDEX('UN-P'!$H$18:$CK$18,A48)/1000000","v":9.5867079860000004},173.27286181316913,0.4060660247322842,-0.95464842707383479,-0.11908037715202398,173.27286181316913,0.4060660247322842,-0.95464842707383479,-0.11908037715202398,291.02839997084084,0.68202685766095461,-0.92382768099545731,-9.7885390943134157E-2,81.092194384051993,0.19004005974031296,-0.97877533429720498,-0.14813219043991865]
[30,2048,{"$f":"INDEX('UN-P'!$H$333:$CK$333,A49)/1000","v":425.42017999999996},{"$f":"INDEX('UN-P'!$H$18:$CK$18,A49)/1000000","v":9.6373576370000009},152.5229041551454,0.3585229646490804,-0.96007941729408863,-0.11975307293300957,152.5229041551454,0.3585229646490804,-0.96007941729408863,-0.11975307293300957,262.36552640371201,0.61672092377872634,-0.93132975828125131,-9.8488235409330022E-2,69.020572080199088,0.16224094512911705,-0.98193490039152287,-0.14886293798737024]
[31,2049,{"$f":"INDEX('UN-P'!$H$333:$CK$333,A50)/1000","v":424.08671000000004},{"$f":"INDEX('UN-P'!$H$18:$CK$18,A50)/1000000","v":9.686800357000001},134.1607342378112,0.31635213052965322,-0.96488543988397657,-0.12038959013432048,134.1607342378112,0.31635213052965322,-0.96488543988397657,-0.12038959013432048,236.37541437991422,0.55737519900096422,-0.93813228031772233,-9.9060697417258231E-2,58.698400684957107,0.13841131848945962,-0.9846365739478381,-0.14955209851416529]
[32,2050,{"$f":"INDEX('UN-P'!$H$333:$CK$333,A51)/1000","v":422.71272100000004},{"$f":"INDEX('UN-P'!$H$18:$CK$18,A51)/1000000","v":9.7350339899999998},117.92825525178671,0.2789796696271809,-0.9691340478125563,-0.12099277093438572,117.92825525178671,0.2789796696271809,-0.9691340478125563,-0.12099277093438572,212.83123712797465,0.50348907557001255,-0.9442946156104769,-9.9605017356408351E-2,49.881717534839424,0.11800382400802983,-0.98694420853449705,-0.15020312388812959]
[33,2051,{"$f":"INDEX('UN-P'!$H$333:$CK$333,A52)/1000","v":421.300521},{"$f":"INDEX('UN-P'!$H$18:$CK$18,A52)/1000000","v":9.7820615510000017},103.59228716078337,{"$f":"E52/$C52","v":0.24588691918751121},-0.97288627245721737,-0.121565167401102,103.59228716078337,{"$f":"I52/$C52","v":0.24588691918751121},{"$f":"IF(I$18<>\"no data\",(I52-I$18)/I$18,0)","v":-0.97288627245721737},-0.121565167401102,191.52188821673758,{"$f":"M52/$C52","v":0.45459684636074205},{"$f":"IF(M$18<>\"no data\",(M52-M$18)/M$18,0)","v":-0.94987201810180932},-0.10012322062679095,42.358602077119684,{"$f":"Q52/$C52","v":0.10054248681339675},-0.98891327117790528,-0.15081909423959369]
[{"$f":"A52+1","v":34},{"$f":"B52+1","v":2052},{"$f":"INDEX('UN-P'!$H$333:$CK$333,A53)/1000","v":419.85224400000004},{"$f":"INDEX('UN-P'!$H$18:$CK$18,A53)/1000000","v":9.8278846400000006},{"$f":"-E$20*EXP(-H$13*($B53-$B$20))/H$13^2*((H$12*H$13+H$13^2)*($B53-$B$20)+2*H$13+H$12)\n  +E$20*EXP(-H$13*($B53-$B$20-1))/H$13^2*((H$12*H$13+H$13^2)*($B53-$B$20-1)+2*H$13+H$12)","v":90.94272853052189},0.21660650819463498,-0.97619710471739352,-0.12210907758633006,{"$f":"-I$20*EXP(-L$13*($B53-$B$20))/L$13^2*((L$12*L$13+L$13^2)*($B53-$B$20)+2*L$13+L$12)\n  +I$20*EXP(-L$13*($B53-$B$20-1))/L$13^2*((L$12*L$13+L$13^2)*($B53-$B$20-1)+2*L$13+L$12)","v":90.94272853052189},0.21660650819463498,-0.97619710471739352,{"$f":"IF(I53>0,(I53-I52)/I52,\"\")","v":-0.12210907758633006},{"$f":"-M$20*EXP(-P$13*($B53-$B$20))/P$13^2*((P$12*P$13+P$13^2)*($B53-$B$20)+2*P$13+P$12)\n  +M$20*EXP(-P$13*($B53-$B$20-1))/P$13^2*((P$12*P$13+P$13^2)*($B53-$B$20-1)+2*P$13+P$12)","v":172.25150303628448},0.41026695819275999,-0.95491575241589344,{"$f":"IF(M53>0,(M53-M52)/M52,\"\")","v":-0.1006171428230991},{"$f":"-Q$20*EXP(-T$13*($B53-$B$20))/T$13^2*((T$12*T$13+T$13^2)*($B53-$B$20)+2*T$13+T$12)\n  +Q$20*EXP(-T$13*($B53-$B$20-1))/T$13^2*((T$12*T$13+T$13^2)*($B53-$B$20-1)+2*T$13+T$12)","v":35.945392529499287},8.5614387068750034E-2,-0.9905918325951184,-0.15140276669055941]
[35,2053,{"$f":"INDEX('UN-P'!$H$333:$CK$333,A54)/1000","v":418.37002800000005},{"$f":"INDEX('UN-P'!$H$18:$CK$18,A54)/1000000","v":9.8724997650000006},79.790733085759484,0.19071809103342238,-0.97911597227341485,-0.12262657636250282,79.790733085759484,0.19071809103342238,-0.97911597227341485,-0.12262657636250282,154.83886533276768,0.37010028197518885,-0.95947324918938925,-0.10108845145954315,30.483252297823469,7.2861941003631039E-2,-0.99202146588251039,-0.15195661661486118]
[36,2054,{"$f":"INDEX('UN-P'!$H$333:$CK$333,A55)/1000","v":416.85628400000002},{"$f":"INDEX('UN-P'!$H$18:$CK$18,A55)/1000000","v":9.9159022180000012},69.966934582490069,0.16784426016351014,-0.98168720419958544,-0.12311954187349985,69.966934582490069,0.16784426016351014,-0.98168720419958544,-0.12311954187349985,139.1167336911908,0.33372828725592824,-0.96358828135447561,-0.10153866477765833,25.835078417264754,6.19759840714426E-2,-0.99323805568492818,-0.15248287273108976]
[37,2055,{"$f":"INDEX('UN-P'!$H$333:$CK$333,A56)/1000","v":415.31378000000001},{"$f":"INDEX('UN-P'!$H$18:$CK$18,A56)/1000000","v":9.9580940739999999},61.319743645054928,0.14764678322268751,-0.98395047674152802,-0.12358967831069147,61.319743645054928,0.14764678322268751,-0.98395047674152802,-0.12358967831069147,124.93111609013272,0.30081139154624897,-0.96730115401326944,-0.10196916808402863,21.882736481956343,5.2689647047002248E-2,-0.99427252191139104,-0.15298354707788259]
[38,2056,{"$f":"INDEX('UN-P'!$H$333:$CK$333,A57)/1000","v":413.74555800000002},{"$f":"INDEX('UN-P'!$H$18:$CK$18,A57)/1000000","v":9.999078316000011},53.713732440171498,0.12982310359975271,-0.98594123610353035,-0.12403853559646787,53.713732440171498,0.12982310359975271,-0.98594123610353035,-0.12403853559646787,112.14051501091205,0.27103738721205084,-0.97064890201918175,-0.10238122798801194,18.524601659584235,4.4772931821020864E-2,-0.99515146333764226,-0.15346046072167874]
[39,2057,{"$f":"INDEX('UN-P'!$H$333:$CK$333,A58)/1000","v":412.15566699999999},{"$f":"INDEX('UN-P'!$H$18:$CK$18,A58)/1000000","v":10.038871455000001},47.028117026730115,0.1141028033632014,-0.98769109567072499,-0.12446752645402344,47.028117026730115,0.1141028033632014,-0.98769109567072499,-0.12446752645402344,100.61516089648455,0.2441193193553361,-0.97366549060755481,-0.10277600484807835,15.673382669660157,3.8027822797496939E-2,-0.99589772714720204,-0.15391526588907342]
[40,2058,{"$f":"INDEX('UN-P'!$H$333:$CK$333,A59)/1000","v":410.54995199999996},{"$f":"INDEX('UN-P'!$H$18:$CK$18,A59)/1000000","v":10.077505218000001},41.155342591107797,0.10024442188001474,-0.9892282063025285,-0.12487794125978544,41.155342591107797,0.10024442188001474,-0.9892282063025285,-0.12487794125978544,90.236247874197261,0.21979359012127536,-0.97638201543376857,-0.10315456368414878,13.25420443843106,3.2284023841345037E-2,-0.99653091076768885,-0.15434946509103203]
[41,2059,{"$f":"INDEX('UN-P'!$H$333:$CK$333,A60)/1000","v":408.93503500000003},{"$f":"INDEX('UN-P'!$H$18:$CK$18,A60)/1000000","v":10.115019649000001},35.999773274132224,8.8032988599600473E-2,-0.99057759925078392,-0.1252709610073689,35.999773274132224,8.8032988599600473E-2,-0.99057759925078392,-0.1252709610073689,80.8951824547147,0.19781915348660378,-0.97882689921502986,-0.10351788377222194,11.202925073828951,2.7395366292909947E-2,-0.9970678023773859,-0.15476442770524562]
[42,2060,{"$f":"INDEX('UN-P'!$H$333:$CK$333,A61)/1000","v":407.31715299999991},{"$f":"INDEX('UN-P'!$H$18:$CK$18,A61)/1000000","v":10.151448760999999},31.476485690050339,7.7277584452846118E-2,-0.99176150193807666,-0.12564766865718321,31.476485690050339,7.7277584452846118E-2,-0.99176150193807666,-0.12564766865718321,72.492853289416871,0.17797643127839718,-0.98102608286042103,-0.10386686710301285,9.4646634859608696,2.3236594423414504E-2,-0.99752276627849545,-0.15516140440221435]
[43,2061,{"$f":"INDEX('UN-P'!$H$333:$CK$333,A62)/1000","v":405.70006699999999},{"$f":"INDEX('UN-P'!$H$18:$CK$18,A62)/1000000","v":10.186811587999999},27.510163344417208,6.7809117084560916E-2,-0.99279962732727123,-0.12600905910175603,27.510163344417208,6.7809117084560916E-2,-0.99279962732727123,-0.12600905910175603,64.938927918666423,0.16006634753320467,-0.98300320953649445,-0.10420234585873633,7.9925151542765605,1.9700551723785049E-2,-0.9979080790258229,-0.15554153973545676]
[44,2062,{"$f":"INDEX('UN-P'!$H$333:$CK$333,A63)/1000","v":404.0876990000001},{"$f":"INDEX('UN-P'!$H$18:$CK$18,A63)/1000000","v":10.221118371999999},24.034087826043958,5.9477405240301442E-2,-0.99370943796188949,-0.12635604793959426,24.034087826043958,5.9477405240301442E-2,-0.99370943796188949,-0.12635604793959426,58.151180695913411,0.14390732714660884,-0.98477980057305847,-0.10452508903834094,6.746435020460261,1.6695472386701531E-2,-0.99823422181280785,-0.15590588316239332]
[45,2063,{"$f":"INDEX('UN-P'!$H$333:$CK$333,A64)/1000","v":402.48577},{"$f":"INDEX('UN-P'!$H$18:$CK$18,A64)/1000000","v":10.254382505000001},20.989221755820068,5.2148978473996903E-2,-0.99450638599050267,-0.12668947922060908,20.989221755820068,5.2148978473996903E-2,-0.99450638599050267,-0.12668947922060908,52.054854661597062,0.12933340391536591,-0.98637542248311316,-0.10483580834231916,5.6922681264005135,1.4142781063788946E-2,-0.99851013418749845,-0.1562553987198752]
[46,2064,{"$f":"INDEX('UN-P'!$H$333:$CK$333,A65)/1000","v":400.90050899999994},{"$f":"INDEX('UN-P'!$H$18:$CK$18,A65)/1000000","v":10.286615745999999},18.323377923715952,4.5705549163361017E-2,-0.99520413063266022,-0.12701013230111347,18.323377923715952,4.5705549163361017E-2,-0.99520413063266022,-0.12701013230111347,46.582059010374962,0.11619356415028889,-0.98780784466676719,-0.10513516341175377,4.8009103188262436,1.1975316097257049E-2,-0.99874343372552488,-0.1565909735418449]
[47,2065,{"$f":"INDEX('UN-P'!$H$333:$CK$333,A66)/1000","v":399.33711499999998},{"$f":"INDEX('UN-P'!$H$18:$CK$18,A66)/1000000","v":10.317830205},15.990468755171506,4.0042530870619195E-2,-0.99581473461980641,-0.12731872792543136,15.990468755171506,4.0042530870619195E-2,-0.99581473461980641,-0.12731872792543136,41.671202898043362,0.10435093892548246,-0.9890931876037844,-0.10542376650284679,4.0475830357679499,1.0135754688787066E-2,-0.9989406058438669,-0.15691342537772543]
[48,2066,{"$f":"INDEX('UN-P'!$H$333:$CK$333,A67)/1000","v":397.79944100000006},{"$f":"INDEX('UN-P'!$H$18:$CK$18,A67)/1000000","v":10.348042081000001},13.949830155732272,3.5067495622077234E-2,-0.99634884116880651,-0.12761593363416987,13.949830155732272,3.5067495622077234E-2,-0.99634884116880651,-0.12761593363416987,37.266465630686184,9.3681543485844621E-2,-0.99024606152362837,-0.10570218666675442,3.4112078269212311,8.5751951243220343E-3,-0.99910716751076845,-0.15722350924567974]
[49,2067,{"$f":"INDEX('UN-P'!$H$333:$CK$333,A68)/1000","v":396.2899109999999},{"$f":"INDEX('UN-P'!$H$18:$CK$18,A68)/1000000","v":10.377267714},12.165613837462629,3.0698772539436748E-2,-0.99681583303139443,-0.12790236858450002,12.165613837462629,3.0698772539436748E-2,-0.99681583303139443,-0.12790236858450002,33.317302734431905,8.4073053109928686E-2,-0.9912796956842963,-0.10597095349451209,2.8738678091296634,7.251932813221844E-3,-0.99924780820168813,-0.15752192333486209]
[50,2068,{"$f":"INDEX('UN-P'!$H$333:$CK$333,A69)/1000","v":394.81088900000003},{"$f":"INDEX('UN-P'!$H$18:$CK$18,A69)/1000000","v":10.405519682},10.606242392067017,2.6864108076986234E-2,-0.99722397512061023,-0.12817860785566815,10.606242392067017,2.6864108076986234E-2,-0.99722397512061023,-0.12817860785566815,29.777986991296899,7.5423418707422973E-2,-0.99220605849930299,-0.10623056047923368,2.4203447009163437,6.1303899369309026E-3,-0.99936651107356667,-0.15780931425327702]
[51,2069,{"$f":"INDEX('UN-P'!$H$333:$CK$333,A70)/1000","v":393.36404099999999},{"$f":"INDEX('UN-P'!$H$18:$CK$18,A70)/1000000","v":10.432810409},9.2439216120452627,2.3499660997343838E-2,-0.99758054215342473,-0.12844518630280483,9.2439216120452627,2.3499660997343838E-2,-0.99758054215342473,-0.12844518630280483,26.607183221185693,6.7640100385245164E-2,-0.99303596883211565,-0.10648146804006346,2.0377214067043496,5.1802432208193369E-3,-0.99946665698244774,-0.158086281704888]
[52,2070,{"$f":"INDEX('UN-P'!$H$333:$CK$333,A71)/1000","v":391.95083400000004},{"$f":"INDEX('UN-P'!$H$18:$CK$18,A71)/1000000","v":10.459152506999999},8.054204847767366,2.0549018267345658E-2,-0.99789193267374066,-0.12870260201337494,8.054204847767366,2.0549018267345658E-2,-0.99789193267374066,-0.12870260201337494,23.767555372143619,6.0639124375848674E-2,-0.99377919883438715,-0.10672410624740802,1.7150413290199733,4.3756542409091369E-3,-0.99955111365339888,-0.15835338266689444]
[53,2071,{"$f":"INDEX('UN-P'!$H$333:$CK$333,A72)/1000","v":390.573058},{"$f":"INDEX('UN-P'!$H$18:$CK$18,A72)/1000000","v":10.484559381999999},7.0156045058241148,1.7962336014032271E-2,-0.99816377073687346,-0.12895131941313268,7.0156045058241148,1.7962336014032271E-2,-0.99816377073687346,-0.12895131941313268,21.225404333779124,5.4344261333507352E-2,-0.99444456874286136,-0.10695887728293595,1.44301667703244,3.6946139716386682E-3,-0.99962231202637675,-0.1586111351281409]
[54,2072,{"$f":"INDEX('UN-P'!$H$333:$CK$333,A73)/1000","v":389.23218300000008},{"$f":"INDEX('UN-P'!$H$18:$CK$18,A73)/1000000","v":10.509046182000001},6.1092461276257737,1.5695634622345123E-2,-0.99840099644929015,-0.12919177206268018,6.1092461276257737,1.5695634622345123E-2,-0.99840099644929015,-0.12919177206268018,18.950334798373575,4.8686454065319594E-2,-0.99504003407348141,-0.10718615766413905,1.2137790167778295,3.1183932618897275E-3,-0.9996823115459651,-0.15886002144205091]
[55,2073,{"$f":"INDEX('UN-P'!$H$333:$CK$333,A74)/1000","v":387.92879599999998},{"$f":"INDEX('UN-P'!$H$18:$CK$18,A74)/1000000","v":10.532629592000001},5.3185608258329893,1.3710147018405382E-2,-0.99860794646876039,-0.12942436517941816,5.3185608258329893,1.3710147018405382E-2,-0.99860794646876039,-0.12942436517941816,16.914949449006059,4.3603232406098723E-2,-0.99557276566306074,-0.10740630025925475,1.0206661788312905,2.6310657763887438E-3,-0.99973285593509476,-0.15910049133917961]
[56,2074,{"$f":"INDEX('UN-P'!$H$333:$CK$333,A75)/1000","v":386.66297500000002},{"$f":"INDEX('UN-P'!$H$18:$CK$18,A75)/1000000","v":10.555327277},4.6290121914960416,1.1971697552619414E-2,-0.9987884254823175,-0.12964947791660369,4.6290121914960416,1.1971697552619414E-2,-0.9987884254823175,-0.12964947791660369,15.094568744393854,3.903805049964728E-2,-0.99604922301139975,-0.10761963611538743,0.85804041065090786,2.2190912141275172E-3,-0.99977542079094184,-0.15933296463942462]
[57,2075,{"$f":"INDEX('UN-P'!$H$333:$CK$333,A76)/1000","v":385.43471400000004},{"$f":"INDEX('UN-P'!$H$18:$CK$18,A76)/1000000","v":10.577155889},4.0278541107616626,1.0450159169528414E-2,-0.99894576959410331,-0.12986746542572658,4.0278541107616626,1.0450159169528414E-2,-0.99894576959410331,-0.12986746542572658,13.466974588140985,3.4939703402379535E-2,-0.99647522137201483,-0.10782647611958836,0.72113334150222297,1.8709610611311542E-3,-0.99981125416303285,-0.15955783369786447]
[58,2076,{"$f":"INDEX('UN-P'!$H$333:$CK$333,A77)/1000","v":384.24432700000006},{"$f":"INDEX('UN-P'!$H$18:$CK$18,A77)/1000000","v":10.598131958},3.5039162424338706,9.1189797642318091E-3,-0.99908290247339915,-0.13007866072604995,3.5039162424338706,9.1189797642318091E-3,-0.99908290247339915,-0.13007866072604995,12.012176209132477,3.126181797638479E-2,-0.99685599302943462,-0.10802711251045231,0.60591392609347983,1.5768975194095181E-3,-0.99984141111701708,-0.1597754656146182]
[59,2077,{"$f":"INDEX('UN-P'!$H$333:$CK$333,A78)/1000","v":383.09183700000006},{"$f":"INDEX('UN-P'!$H$18:$CK$18,A78)/1000000","v":10.618268333000001},3.0474142037383238,7.9547876237788997E-3,-0.99920238503565495,-0.13028337640241477,3.0474142037383238,7.9547876237788997E-3,-0.99920238503565495,-0.13028337640241477,10.712196634547581,2.7962476878742731E-2,-0.99719624318668587,-0.10822182025573038,0.50897605696481785,1.3286006325548977E-3,-0.99986678315043931,-0.15998620423473564]
[60,2078,{"$f":"INDEX('UN-P'!$H$333:$CK$333,A79)/1000","v":381.9766249999999},{"$f":"INDEX('UN-P'!$H$18:$CK$18,A79)/1000000","v":10.637573903000002},2.6497817896097686,6.9370260277308053E-3,-0.99930645935657547,-0.13048190614875116,2.6497817896097686,6.9370260277308053E-3,-0.99930645935657547,-0.13048190614875116,9.5508782030152304,2.5003828972558814E-2,-0.99750020086930868,-0.10841085830958497,0.42744299308048239,1.1190291894968246E-3,-0.99988812320712184,-0.16019037196079991]
[61,2079,{"$f":"INDEX('UN-P'!$H$333:$CK$333,A80)/1000","v":380.89764200000002},{"$f":"INDEX('UN-P'!$H$18:$CK$18,A80)/1000000","v":10.656054443},2.3035228097882552,6.0476163561764846E-3,-0.99939708745153732,-0.13067452617391062,2.3035228097882552,6.0476163561764846E-3,-0.99939708745153732,-0.13067452617391062,8.5137056392494941,2.2351689011636082E-2,-0.9977716652329166,-0.10859447076168335,0.35888615029876081,9.4221153067353667E-4,-0.99990606693254125,-0.16038827139883224]
[62,2080,{"$f":"INDEX('UN-P'!$H$333:$CK$333,A81)/1000","v":379.85388499999988},{"$f":"INDEX('UN-P'!$H$18:$CK$18,A81)/1000000","v":10.673719474},2.0020803677145143,5.2706591844243348E-3,-0.99947598548987815,-0.13086149648392245,2.0020803677145143,5.2706591844243348E-3,-0.99947598548987815,-0.13086149648392245,7.5876452902346543,1.9975168320931234E-2,-0.99801404764071477,-0.10877288788862502,0.3012561452241842,7.9308428087864445E-4,-0.99992115072206567,-0.16058018685480491]
[63,2081,{"$f":"INDEX('UN-P'!$H$333:$CK$333,A82)/1000","v":378.84455500000007},{"$f":"INDEX('UN-P'!$H$18:$CK$18,A82)/1000000","v":10.690576967},1.7397216258533152,4.5921779867030554E-3,-0.99954465395584458,-0.13104306205284658,1.7397216258533152,4.5921779867030554E-3,-0.99954465395584458,-0.13104306205284658,6.7609992043940608,1.7846367633273914E-2,-0.99823040985608913,-0.10894632711738543,0.25282428358739262,6.6735625535753722E-4,-0.99993382703549394,-0.16076638569729523]
[64,2082,{"$f":"INDEX('UN-P'!$H$333:$CK$333,A83)/1000","v":377.86880799999994},{"$f":"INDEX('UN-P'!$H$18:$CK$18,A83)/1000000","v":10.706644425},1.5114363041820695,3.9998969805998636E-3,-0.99960440421509122,-0.13121945389353551,1.5114363041820695,3.9998969805998636E-3,-0.99960440421509122,-0.13121945389353551,6.0232728173860224,1.5940116489810991E-2,-0.99842349867386382,-0.10911499390927017,0.21213294337896915,5.613931049290768E-4,-0.99994447738352665,-0.16094711960039185]
[65,2083,{"$f":"INDEX('UN-P'!$H$333:$CK$333,A84)/1000","v":376.92542900000001},{"$f":"INDEX('UN-P'!$H$18:$CK$18,A84)/1000000","v":10.721951208},1.3128473429391487,{"$f":"E84/$C84","v":3.4830426443293871E-3},{"$f":"IF(E$18<>\"no data\",(E84-E$18)/E$18,0)","v":-0.99965638189736583},-0.13139089003845875,1.3128473429391487,{"$f":"I84/$C84","v":3.4830426443293871E-3},{"$f":"IF(I$18<>\"no data\",(I84-I$18)/I$18,0)","v":-0.99965638189736583},-0.13139089003845875,5.3650550898211264,{"$f":"M84/$C84","v":1.4233730804670986E-2},{"$f":"IF(M$18<>\"no data\",(M84-M$18)/M$18,0)","v":-0.99859577729245763},-0.10927908257201423,0.17795352654884145,{"$f":"Q84/$C84","v":4.7211865493118919E-4},{"$f":"IF(Q$18<>\"no data\",(Q84-Q$18)/Q$18,0)","v":-0.99995342333327741},-0.16112262567849822]
[{"$f":"A84+1","v":66},{"$f":"B84+1","v":2084},{"$f":"INDEX('UN-P'!$H$333:$CK$333,A85)/1000","v":376.01315899999997},{"$f":"INDEX('UN-P'!$H$18:$CK$18,A85)/1000000","v":10.736532842000001},{"$f":"-E$20*EXP(-H$13*($B85-$B$20))/H$13^2*((H$12*H$13+H$13^2)*($B85-$B$20)+2*H$13+H$12)\n  +E$20*EXP(-H$13*($B85-$B$20-1))/H$13^2*((H$12*H$13+H$13^2)*($B85-$B$20-1)+2*H$13+H$12)","v":1.1401323282683551},3.0321607129402488E-3,-0.99970158746216875,{"$f":"IF(E85>0,(E85-E84)/E84,\"\")","v":-0.13155757643849617},{"$f":"-I$20*EXP(-L$13*($B85-$B$20))/L$13^2*((L$12*L$13+L$13^2)*($B85-$B$20)+2*L$13+L$12)\n  +I$20*EXP(-L$13*($B85-$B$20-1))/L$13^2*((L$12*L$13+L$13^2)*($B85-$B$20-1)+2*L$13+L$12)","v":1.1401323282683551},3.0321607129402488E-3,-0.99970158746216875,{"$f":"IF(I85>0,(I85-I84)/I84,\"\")","v":-0.13155757643849617},{"$f":"-M$20*EXP(-P$13*($B85-$B$20))/P$13^2*((P$12*P$13+P$13^2)*($B85-$B$20)+2*P$13+P$12)\n  +M$20*EXP(-P$13*($B85-$B$20-1))/P$13^2*((P$12*P$13+P$13^2)*($B85-$B$20-1)+2*P$13+P$12)","v":4.777910022219956},1.2706762803000616E-2,-0.99874945370821533,{"$f":"IF(M85>0,(M85-M84)/M84,\"\")","v":-0.10943877700624807},{"$f":"-Q$20*EXP(-T$13*($B85-$B$20))/T$13^2*((T$12*T$13+T$13^2)*($B85-$B$20)+2*T$13+T$12)\n  +Q$20*EXP(-T$13*($B85-$B$20-1))/T$13^2*((T$12*T$13+T$13^2)*($B85-$B$20-1)+2*T$13+T$12)","v":0.14925084569778813},3.9692984706896425E-4,-0.99996093582952272,{"$f":"IF(Q85>0,(Q85-Q84)/Q84,\"\")","v":-0.16129312752436817}]
[67,2085,{"$f":"INDEX('UN-P'!$H$333:$CK$333,A86)/1000","v":375.130449},{"$f":"INDEX('UN-P'!$H$18:$CK$18,A86)/1000000","v":10.750416739},0.98995443114857018,2.6389604837131473E-3,-0.99974089427445245,-0.13171970778854825,0.98995443114857018,2.6389604837131473E-3,-0.99974089427445245,-0.13171970778854825,4.2542785501104419,1.1340797745027735E-2,-0.99888650639289611,-0.10959425139325242,0.12515297785564561,3.3362521807885987E-4,-0.99996724308502349,-0.16145883615920875]
[68,2086,{"$f":"INDEX('UN-P'!$H$333:$CK$333,A87)/1000","v":374.27608799999985},{"$f":"INDEX('UN-P'!$H$18:$CK$18,A87)/1000000","v":10.763615214},0.8594017470501214,2.2961705933244704E-3,-0.99977506448155606,-0.13187746828606872,0.8594017470501214,2.2961705933244704E-3,-0.99977506448155606,-0.13187746828606872,3.7873898967368724,1.0119240897743043E-2,-0.99900870749577109,-0.10974567082859417,0.10492575971911577,2.8034320942008941E-4,-0.99997253725601376,-0.16161995090408782]
[69,2087,{"$f":"INDEX('UN-P'!$H$333:$CK$333,A88)/1000","v":373.44851899999998},{"$f":"INDEX('UN-P'!$H$18:$CK$18,A88)/1000000","v":10.776129373},0.7459340472016871,1.9974213559585362E-3,-0.99980476295026355,-0.13203103232907057,0.7459340472016871,1.9974213559585362E-3,-0.99980476295026355,-0.13203103232907057,3.3711815319885474,9.0271653533818066E-3,-0.99911764379317425,-0.10989319190689095,8.7951220744928005E-2,2.3551096408265046E-4,-0.9999769800870153,-0.16177666017980982]
[70,2088,{"$f":"INDEX('UN-P'!$H$333:$CK$333,A89)/1000","v":372.64568199999997},{"$f":"INDEX('UN-P'!$H$18:$CK$18,A89)/1000000","v":10.787962319},0.64733606327091042,1.7371355540647603E-3,-0.99983056949383786,-0.13218056515942564,0.64733606327091042,1.7371355540647603E-3,-0.99983056949383786,-0.13218056515942564,3.0002269536031392,8.0511518005544451E-3,-0.99921473559068885,-0.11003696326213395,7.3709355010579791E-2,1.9780010495487184E-4,-0.99998070768177938,-0.16192914224183202]
[71,2089,{"$f":"INDEX('UN-P'!$H$333:$CK$333,A90)/1000","v":371.86514200000005},{"$f":"INDEX('UN-P'!$H$18:$CK$18,A90)/1000000","v":10.799112048},0.56167652671155466,1.5104306999324895E-3,-0.99985298959285651,-0.13232622345575579,0.56167652671155466,1.5104306999324895E-3,-0.99985298959285651,-0.13232622345575579,2.6696705703062484,7.1791363824745052E-3,-0.99930125376650947,-0.11017712606704877,6.1762722169590167E-2,1.6608903388312251E-4,-0.99998383453375628,-0.16207756585680172]
[72,2090,{"$f":"INDEX('UN-P'!$H$333:$CK$333,A91)/1000","v":371.10480800000011},{"$f":"INDEX('UN-P'!$H$18:$CK$18,A91)/1000000","v":10.809575801999999},0.48727227301630238,1.3130314199979382E-3,-0.99987246379038608,-0.13246815588122682,0.48727227301630238,1.3130314199979382E-3,-0.99987246379038608,-0.13246815588122682,2.3751690262493526,6.4002647636118796E-3,-0.99937833512889018,-0.11031381449551375,5.1743444237984715E-2,1.3943081071044678E-4,-0.99998645692949106,-0.16222209092556156]
[73,2091,{"$f":"INDEX('UN-P'!$H$333:$CK$333,A92)/1000","v":370.36277200000001},{"$f":"INDEX('UN-P'!$H$18:$CK$18,A92)/1000000","v":10.819350483999999},0.42265680059545918,1.1411967739442753E-3,-0.99988937592122407,-0.13260650358958839,0.42265680059545918,1.1411967739442753E-3,-0.99988937592122407,-0.13260650358958839,2.1128383619219058,5.7047806141863142E-3,-0.99944699624598321,-0.11044715615111196,4.3342230176568214E-2,1.1702642234400442E-4,-0.99998865582127472,-0.16236286905789687]
[74,2092,{"$f":"INDEX('UN-P'!$H$333:$CK$333,A93)/1000","v":369.63724500000001},{"$f":"INDEX('UN-P'!$H$18:$CK$18,A93)/1000000","v":10.828432708000001},0.36655274487186462,9.9165533189672118E-4,-0.99990406031639123,-0.13274140069331067,0.36655274487186462,9.9165533189672118E-4,-0.99990406031639123,-0.13274140069331067,1.8792064587028214,5.0839207469550894E-3,-0.99950814589276493,-0.11057727246421503,3.6299115861358755E-2,9.8201997640575298E-5,-0.99999049925081795,-0.1625000441028788]
[75,2093,{"$f":"INDEX('UN-P'!$H$333:$CK$333,A94)/1000","v":368.92670500000003},{"$f":"INDEX('UN-P'!$H$18:$CK$18,A94)/1000000","v":10.836817175},0.31784779127723128,8.6154725849198492E-4,-0.99991680810754391,-0.13287297469743151,0.31784779127723128,8.6154725849198492E-4,-0.99991680810754391,-0.13287297469743151,1.6711702624853473,4.5298164644528701E-3,-0.99956259624710964,-0.11070427906100183,3.0395654431338126E-2,8.2389412366714207E-5,-0.99999204439331035,-0.16263375263927571]
[76,2094,{"$f":"INDEX('UN-P'!$H$333:$CK$333,A95)/1000","v":368.22960000000006},{"$f":"INDEX('UN-P'!$H$18:$CK$18,A95)/1000000","v":10.844496725999999},0.27557360692772459,7.4837440262196344E-4,-0.9999278727412918,-0.13300134690139961,0.27557360692772459,7.4837440262196344E-4,-0.9999278727412918,-0.13300134690139961,1.4859573265026302,4.0354097728771124E-3,-0.99961107295537877,-0.11082828610609087,2.5448332351370367E-2,6.9109958437264048E-5,-0.99999333928066747,-0.16276412442914984]
[77,2095,{"$f":"INDEX('UN-P'!$H$333:$CK$333,A96)/1000","v":367.54417600000005},{"$f":"INDEX('UN-P'!$H$18:$CK$18,A96)/1000000","v":10.851460596999999},0.23888742055660273,6.4995566834013087E-4,-0.99993747480037465,-0.1331266327719971,0.23888742055660273,6.4995566834013087E-4,-0.99993747480037465,-0.1331266327719971,1.3210912547504048,3.5943740671608537E-3,-0.99965422417708694,-0.11094939862119495,2.1303020848572649E-2,5.7960436430837759E-5,-0.99999442425378415,-0.16289128283781229]
[78,2096,{"$f":"INDEX('UN-P'!$H$333:$CK$333,A97)/1000","v":366.86855200000002},{"$f":"INDEX('UN-P'!$H$18:$CK$18,A97)/1000000","v":10.857694249},0.20705592444106236,5.6438722619392661E-4,-0.99994580621709117,-0.13324894228994413,0.20705592444106236,5.6438722619392661E-4,-0.99994580621709117,-0.13324894228994413,1.1743606654246683,3.2010393341772949E-3,-0.99969262870825648,-0.11106771678195571,1.7830301550645342E-2,4.8601335419573766E-5,-0.99999533318597844,-0.16301534522320985]
[79,2097,{"$f":"INDEX('UN-P'!$H$333:$CK$333,A98)/1000","v":366.20070600000003},{"$f":"INDEX('UN-P'!$H$18:$CK$18,A98)/1000000","v":10.863179438},0.17944121117268352,4.9000782421398036E-4,-0.99995303395413859,-0.1333683802717717,0.17944121117268352,4.9000782421398036E-4,-0.99995303395413859,-0.1333683802717717,1.0437913287477265,2.8503258230958366E-3,-0.99972680327392272,-0.1111833361940182,1.4921529929360675E-2,4.0746862812876917E-5,-0.99999609451332605,-0.16313642329730471]
[80,2098,{"$f":"INDEX('UN-P'!$H$333:$CK$333,A99)/1000","v":365.53831999999994},{"$f":"INDEX('UN-P'!$H$18:$CK$18,A99)/1000000","v":10.867893848},0.1554884927248974,4.2536851601467508E-4,-0.9999593032189622,-0.13348504666932645,0.1554884927248974,4.2536851601467508E-4,-0.9999593032189622,-0.13348504666932645,0.92762116562658115,2.5376851478295936E-3,-0.99975720907186194,-0.11129634815085007,1.2485521179274789E-2,3.4156531603238727E-5,-0.99999673210208251,-0.16325462346140659]
[81,2099,{"$f":"INDEX('UN-P'!$H$333:$CK$333,A100)/1000","v":364.87904399999991},{"$f":"INDEX('UN-P'!$H$18:$CK$18,A100)/1000000","v":10.871811478},0.13471537985574455,3.6920558215380709E-4,-0.99996474026971183,-0.13359903684902449,0.13471537985574455,3.6920558215380709E-4,-0.99996474026971183,-0.13359903684902449,0.82427782296370289,2.259044021622966E-3,-0.99978425764191581,-0.11140683987419889,1.0445760995921934E-2,2.8628010206916503E-5,-0.99999726597871919,-0.16337004711815586]
[82,2100,{"$f":"INDEX('UN-P'!$H$333:$CK$333,A101)/1000","v":364.22018499999996},{"$f":"INDEX('UN-P'!$H$18:$CK$18,A101)/1000000","v":10.874902318},0.11670252689104199,3.2041751582505512E-4,-0.99996945486382816,-0.13371044185148737,0.11670252689104199,3.2041751582505512E-4,-0.99996945486382816,-0.13371044185148737,0.73235856830068258,2.0107577736271885E-3,-0.99980831612826826,-0.1115148947384309,8.7380588345910351E-3,2.3991143803825799E-5,-0.99999771294414874,-0.16348279096157686]
[null,"∑","2020 - 2100",null,{"$f":"SUM(E21:E101)","v":33078.94414147958},null,null,null,{"$f":"SUM(I21:I101)","v":33078.94414147958},null,null,null,{"$f":"SUM(M21:M101)","v":38468.842790271759},null,null,null,{"$f":"SUM(Q21:Q101)","v":27684.716180337757}]
[]
[]
[]
[]
[]
[]
[]
[]
[]
[]
[]
[]
[]
[]
[]
[]
[null,"drop-down-list"]
[null,"China"]
[null,"United States"]
[null,"EU28"]
[null,"EU27"]
[null,"India"]
[null,"Russia"]
[null,"Japan"]
[null,"Germany"]
[null,{"$f":"'data countries'!B14","v":"Afghanistan"}]
[null,{"$f":"'data countries'!B15","v":"Albania"}]
[null,{"$f":"'data countries'!B16","v":"Algeria"}]
[null,{"$f":"'data countries'!B17","v":"Angola"}]
[null,{"$f":"'data countries'!B18","v":"Anguilla"}]
[null,{"$f":"'data countries'!B19","v":"Antigua and Barbuda"}]
[null,{"$f":"'data countries'!B20","v":"Argentina"}]
[null,{"$f":"'data countries'!B21","v":"Armenia"}]
[null,{"$f":"'data countries'!B22","v":"Aruba"}]
[null,{"$f":"'data countries'!B23","v":"Australia"}]
[null,{"$f":"'data countries'!B24","v":"Austria"}]
[null,{"$f":"'data countries'!B25","v":"Azerbaijan"}]
[null,{"$f":"'data countries'!B26","v":"Bahamas"}]
[null,{"$f":"'data countries'!B27","v":"Bahrain"}]
[null,{"$f":"'data countries'!B28","v":"Bangladesh"}]
[null,{"$f":"'data countries'!B29","v":"Barbados"}]
[null,{"$f":"'data countries'!B30","v":"Belarus"}]
[null,{"$f":"'data countries'!B31","v":"Belgium"}]
[null,{"$f":"'data countries'!B32","v":"Belize"}]
[null,{"$f":"'data countries'!B33","v":"Benin"}]
[null,{"$f":"'data countries'!B34","v":"Bermuda"}]
[null,{"$f":"'data countries'!B35","v":"Bhutan"}]
[null,{"$f":"'data countries'!B36","v":"Bolivia"}]
[null,{"$f":"'data countries'!B37","v":"Bosnia and Herzegovina"}]
[null,{"$f":"'data countries'!B38","v":"Botswana"}]
[null,{"$f":"'data countries'!B39","v":"Brazil"}]
[null,{"$f":"'data countries'!B40","v":"British Virgin Islands"}]
[null,{"$f":"'data countries'!B41","v":"Brunei"}]
[null,{"$f":"'data countries'!B42","v":"Bulgaria"}]
[null,{"$f":"'data countries'!B43","v":"Burkina Faso"}]
[null,{"$f":"'data countries'!B44","v":"Burundi"}]
[null,{"$f":"'data countries'!B45","v":"Cabo Verde"}]
[null,{"$f":"'data countries'!B46","v":"Cambodia"}]
[null,{"$f":"'data countries'!B47","v":"Cameroon"}]
[null,{"$f":"'data countries'!B48","v":"Canada"}]
[null,{"$f":"'data countries'!B49","v":"Cayman Islands"}]
[null,{"$f":"'data countries'!B50","v":"Central African Republic"}]
[null,{"$f":"'data countries'!B51","v":"Chad"}]
[null,{"$f":"'data countries'!B52","v":"Chile"}]
[null,{"$f":"'data countries'!B53","v":"China"}]
[null,{"$f":"'data countries'!B54","v":"Colombia"}]
[null,{"$f":"'data countries'!B55","v":"Comoros"}]
[null,{"$f":"'data countries'!B56","v":"Congo"}]
[null,{"$f":"'data countries'!B57","v":"Cook Islands"}]
[null,{"$f":"'data countries'!B58","v":"Costa Rica"}]
[null,{"$f":"'data countries'!B59","v":"Côte d’Ivoire"}]
[null,{"$f":"'data countries'!B60","v":"Croatia"}]
[null,{"$f":"'data countries'!B61","v":"Cuba"}]
[null,{"$f":"'data countries'!B62","v":"Curaçao"}]
[null,{"$f":"'data countries'!B63","v":"Cyprus"}]
[null,{"$f":"'data countries'!B64","v":"Czechia"}]
[null,{"$f":"'data countries'!B65","v":"Democratic Republic of the Congo"}]
[null,{"$f":"'data countries'!B66","v":"Denmark"}]
[null,{"$f":"'data countries'!B67","v":"Djibouti"}]
[null,{"$f":"'data countries'!B68","v":"Dominica"}]
[null,{"$f":"'data countries'!B69","v":"Dominican Republic"}]
[null,{"$f":"'data countries'!B70","v":"Ecuador"}]
[null,{"$f":"'data countries'!B71","v":"Egypt"}]
[null,{"$f":"'data countries'!B72","v":"El Salvador"}]
[null,{"$f":"'data countries'!B73","v":"Equatorial Guinea"}]
[null,{"$f":"'data countries'!B74","v":"Eritrea"}]
[null,{"$f":"'data countries'!B75","v":"Estonia"}]
[null,{"$f":"'data countries'!B76","v":"Eswatini"}]
[null,{"$f":"'data countries'!B77","v":"Ethiopia"}]
[null,{"$f":"'data countries'!B78","v":"Falkland Islands"}]
[null,{"$f":"'data countries'!B79","v":"Faroes"}]
[null,{"$f":"'data countries'!B80","v":"Fiji"}]
[null,{"$f":"'data countries'!B81","v":"Finland"}]
[null,{"$f":"'data countries'!B82","v":"France and Monaco"}]
[null,{"$f":"'data countries'!B83","v":"French Guiana"}]
[null,{"$f":"'data countries'!B84","v":"French Polynesia"}]
[null,{"$f":"'data countries'!B85","v":"Gabon"}]
[null,{"$f":"'data countries'!B86","v":"Georgia"}]
[null,{"$f":"'data countries'!B87","v":"Germany"}]
[null,{"$f":"'data countries'!B88","v":"Ghana"}]
[null,{"$f":"'data countries'!B89","v":"Gibraltar"}]
[null,{"$f":"'data countries'!B90","v":"Greece"}]
[null,{"$f":"'data countries'!B91","v":"Greenland"}]
[null,{"$f":"'data countries'!B92","v":"Grenada"}]
[null,{"$f":"'data countries'!B93","v":"Guadeloupe"}]
[null,{"$f":"'data countries'!B94","v":"Guatemala"}]
[null,{"$f":"'data countries'!B95","v":"Guinea"}]
[null,{"$f":"'data countries'!B96","v":"Guinea-Bissau"}]
[null,{"$f":"'data countries'!B97","v":"Guyana"}]
[null,{"$f":"'data countries'!B98","v":"Haiti"}]
[null,{"$f":"'data countries'!B99","v":"Honduras"}]
[null,{"$f":"'data countries'!B100","v":"Hong Kong"}]
[null,{"$f":"'data countries'!B101","v":"Hungary"}]
[null,{"$f":"'data countries'!B102","v":"Iceland"}]
[null,{"$f":"'data countries'!B103","v":"India"}]
[null,{"$f":"'data countries'!B104","v":"Indonesia"}]
[null,{"$f":"'data countries'!B105","v":"Iran"}]
[null,{"$f":"'data countries'!B106","v":"Iraq"}]
[null,{"$f":"'data countries'!B107","v":"Ireland"}]
[null,{"$f":"'data countries'!B108","v":"Israel and Palestine, State of"}]
[null,{"$f":"'data countries'!B109","v":"Italy, San Marino and the Holy See"}]
[null,{"$f":"'data countries'!B110","v":"Jamaica"}]
[null,{"$f":"'data countries'!B111","v":"Japan"}]
[null,{"$f":"'data countries'!B112","v":"Jordan"}]
[null,{"$f":"'data countries'!B113","v":"Kazakhstan"}]
[null,{"$f":"'data countries'!B114","v":"Kenya"}]
[null,{"$f":"'data countries'!B115","v":"Kiribati"}]
[null,{"$f":"'data countries'!B116","v":"Kuwait"}]
[null,{"$f":"'data countries'!B117","v":"Kyrgyzstan"}]
[null,{"$f":"'data countries'!B118","v":"Laos"}]
[null,{"$f":"'data countries'!B119","v":"Latvia"}]
[null,{"$f":"'data countries'!B120","v":"Lebanon"}]
[null,{"$f":"'data countries'!B121","v":"Lesotho"}]
[null,{"$f":"'data countries'!B122","v":"Liberia"}]
[null,{"$f":"'data countries'!B123","v":"Libya"}]
[null,{"$f":"'data countries'!B124","v":"Lithuania"}]
[null,{"$f":"'data countries'!B125","v":"Luxembourg"}]
[null,{"$f":"'data countries'!B126","v":"Macao"}]
[null,{"$f":"'data countries'!B127","v":"Madagascar"}]
[null,{"$f":"'data countries'!B128","v":"Malawi"}]
[null,{"$f":"'data countries'!B129","v":"Malaysia"}]
[null,{"$f":"'data countries'!B130","v":"Maldives"}]
[null,{"$f":"'data countries'!B131","v":"Mali"}]
[null,{"$f":"'data countries'!B132","v":"Malta"}]
[null,{"$f":"'data countries'!B133","v":"Martinique"}]
[null,{"$f":"'data countries'!B134","v":"Mauritania"}]
[null,{"$f":"'data countries'!B135","v":"Mauritius"}]
[null,{"$f":"'data countries'!B136","v":"Mexico"}]
[null,{"$f":"'data countries'!B137","v":"Moldova"}]
[null,{"$f":"'data countries'!B138","v":"Mongolia"}]
[null,{"$f":"'data countries'!B139","v":"Morocco"}]
[null,{"$f":"'data countries'!B140","v":"Mozambique"}]
[null,{"$f":"'data countries'!B141","v":"Myanmar/Burma"}]
[null,{"$f":"'data countries'!B142","v":"Namibia"}]
[null,{"$f":"'data countries'!B143","v":"Nepal"}]
[null,{"$f":"'data countries'!B144","v":"Netherlands"}]
[null,{"$f":"'data countries'!B145","v":"New Caledonia"}]
[null,{"$f":"'data countries'!B146","v":"New Zealand"}]
[null,{"$f":"'data countries'!B147","v":"Nicaragua"}]
[null,{"$f":"'data countries'!B148","v":"Niger"}]
[null,{"$f":"'data countries'!B149","v":"Nigeria"}]
[null,{"$f":"'data countries'!B150","v":"North Korea"}]
[null,{"$f":"'data countries'!B151","v":"North Macedonia"}]
[null,{"$f":"'data countries'!B152","v":"Norway"}]
[null,{"$f":"'data countries'!B153","v":"Oman"}]
[null,{"$f":"'data countries'!B154","v":"Pakistan"}]
[null,{"$f":"'data countries'!B155","v":"Palau"}]
[null,{"$f":"'data countries'!B156","v":"Panama"}]
[null,{"$f":"'data countries'!B157","v":"Papua New Guinea"}]
[null,{"$f":"'data countries'!B158","v":"Paraguay"}]
[null,{"$f":"'data countries'!B159","v":"Peru"}]
[null,{"$f":"'data countries'!B160","v":"Philippines"}]
[null,{"$f":"'data countries'!B161","v":"Poland"}]
[null,{"$f":"'data countries'!B162","v":"Portugal"}]
[null,{"$f":"'data countries'!B163","v":"Puerto Rico"}]
[null,{"$f":"'data countries'!B164","v":"Qatar"}]
[null,{"$f":"'data countries'!B165","v":"Réunion"}]
[null,{"$f":"'data countries'!B166","v":"Romania"}]
[null,{"$f":"'data countries'!B167","v":"Russia"}]
[null,{"$f":"'data countries'!B168","v":"Rwanda"}]
[null,{"$f":"'data countries'!B169","v":"Saint Helena, Ascension and Tristan da Cunha"}]
[null,{"$f":"'data countries'!B170","v":"Saint Kitts and Nevis"}]
[null,{"$f":"'data countries'!B171","v":"Saint Lucia"}]
[null,{"$f":"'data countries'!B172","v":"Saint Pierre and Miquelon"}]
[null,{"$f":"'data countries'!B173","v":"Saint Vincent and the Grenadines"}]
[null,{"$f":"'data countries'!B174","v":"Samoa"}]
[null,{"$f":"'data countries'!B175","v":"São Tomé and Príncipe"}]
[null,{"$f":"'data countries'!B176","v":"Saudi Arabia"}]
[null,{"$f":"'data countries'!B177","v":"Senegal"}]
[null,{"$f":"'data countries'!B178","v":"Serbia and Montenegro"}]
[null,{"$f":"'data countries'!B179","v":"Seychelles"}]
[null,{"$f":"'data countries'!B180","v":"Sierra Leone"}]
[null,{"$f":"'data countries'!B181","v":"Singapore"}]
[null,{"$f":"'data countries'!B182","v":"Slovakia"}]
[null,{"$f":"'data countries'!B183","v":"Slovenia"}]
[null,{"$f":"'data countries'!B184","v":"Solomon Islands"}]
[null,{"$f":"'data countries'!B185","v":"Somalia"}]
[null,{"$f":"'data countries'!B186","v":"South Africa"}]
[null,{"$f":"'data countries'!B187","v":"South Korea"}]
[null,{"$f":"'data countries'!B188","v":"Spain and Andorra"}]
[null,{"$f":"'data countries'!B189","v":"Sri Lanka"}]
[null,{"$f":"'data countries'!B190","v":"Sudan and South Sudan"}]
[null,{"$f":"'data countries'!B191","v":"Suriname"}]
[null,{"$f":"'data countries'!B192","v":"Sweden"}]
[null,{"$f":"'data countries'!B193","v":"Switzerland and Liechtenstein"}]
[null,{"$f":"'data countries'!B194","v":"Syria"}]
[null,{"$f":"'data countries'!B195","v":"Taiwan"}]
[null,{"$f":"'data countries'!B196","v":"Tajikistan"}]
[null,{"$f":"'data countries'!B197","v":"Tanzania"}]
[null,{"$f":"'data countries'!B198","v":"Thailand"}]
[null,{"$f":"'data countries'!B199","v":"The Gambia"}]
[null,{"$f":"'data countries'!B200","v":"Timor-Leste"}]
[null,{"$f":"'data countries'!B201","v":"Togo"}]
[null,{"$f":"'data countries'!B202","v":"Tonga"}]
[null,{"$f":"'data countries'!B203","v":"Trinidad and Tobago"}]
[null,{"$f":"'data countries'!B204","v":"Tunisia"}]
[null,{"$f":"'data countries'!B205","v":"Turkey"}]
[null,{"$f":"'data countries'!B206","v":"Turkmenistan"}]
[null,{"$f":"'data countries'!B207","v":"Turks and Caicos Islands"}]
[null,{"$f":"'data countries'!B208","v":"Uganda"}]
[null,{"$f":"'data countries'!B209","v":"Ukraine"}]
[null,{"$f":"'data countries'!B210","v":"United Arab Emirates"}]
[null,{"$f":"'data countries'!B211","v":"United Kingdom"}]
[null,{"$f":"'data countries'!B212","v":"United States"}]
[null,{"$f":"'data countries'!B213","v":"Uruguay"}]
[null,{"$f":"'data countries'!B214","v":"Uzbekistan"}]
[null,{"$f":"'data countries'!B215","v":"Vanuatu"}]
[null,{"$f":"'data countries'!B216","v":"Venezuela"}]
[null,{"$f":"'data countries'!B217","v":"Vietnam"}]
[null,{"$f":"'data countries'!B218","v":"Western Sahara"}]
[null,{"$f":"'data countries'!B219","v":"Yemen"}]
[null,{"$f":"'data countries'!B220","v":"Zambia"}]
[null,{"$f":"'data countries'!B221","v":"Zimbabwe"}]
[null,{"$f":"'data countries'!B222","v":"EU28"}]
[null,{"$f":"'data countries'!B223","v":"EU27"}]

{"sheet":"quick results","index":10,"n_rows":22,"n_cols":6,"rows_kept":22,"cut":false,"hidden":true,"merged":[[6,5,7,5],[17,3,18,3],[3,2,3,3],[21,2,21,3],[6,2,6,3],[7,2,7,3],[11,2,11,3],[12,5,13,5],[17,5,18,5]]}
[]
[null,"quick results ESPM"]
[]
[null,"selected country",{"$f":"'reference values'!B2","v":"EU27"},null,null,"input sheet \"reference values\""]
[]
[null,"reference values"]
[null,"Change of emissions in 2030 compared with 1990",{"$f":"'reference values'!AM89","v":-0.65114820940790197},null,null,"see sheet\n\"reference values\""]
[null,"Change of emissions in 2050 compared with 1990",{"$f":"'reference values'!AM93","v":-0.9731190070726724}]
[]
[null,"budget parameters"]
[null,"global CO2 budget 2018 - 2100",{"$f":"'base data'!B11","v":570}," Gt",null,"input sheet \"base data\""]
[null,{"$f":"'base data'!B31","v":"weighting population key in the weighted key"},{"$f":"IF('base data'!L41='base data'!L39,\"budget free input\",'base data'!D31)","v":0.5},null,null,"input sheet \"base data\""]
[null,"share in the global budget 2020 - 2100 (weighted key)",{"$f":"'base data'!D35","v":6.8931559203212006E-2},null,null,"output sheet \"base data\""]
[null,"resulting national budget 2020 - 2100",{"$f":"'base data'!L41","v":33079.695618426893}," Mill. t"]
[null,"national sum net negative emissions 2020 - 2100",{"$f":"'reference values'!AM107","v":0}," Mill. t",null,"output sheet \"RM\""]
[]
[null,"parameters 2019 of the chosen country",null,"weighted key"]
[null,"share of global emissions in 2019 ",{"$f":"'base data'!D34","v":8.0173539188484494E-2},{"$f":"C13","v":6.8931559203212006E-2},null,"output sheet \"base data\""]
[null,"share of global population in 2019",{"$f":"'base data'!D33","v":5.7689579217939504E-2}]
[null,"projected emissions in 2019",{"$f":"'data countries'!M5","v":2939.068445651058}," Mill. t",null,"output sheet \"data countries\""]
[]
[null,"Underlying scenario type:",{"$f":"'reference values'!$AM$2","v":"RM-5 rad"}]

{"sheet":"output countries","index":11,"n_rows":221,"n_cols":27,"rows_kept":221,"cut":false,"hidden":false,"merged":[[11,23,14,23],[11,24,14,24],[11,22,14,22],[23,13,24,24],[9,14,9,15],[9,16,9,18],[13,16,13,17],[9,20,9,22],[13,14,13,15],[11,18,14,18],[11,19,14,19],[11,20,14,20],[11,21,14,21],[1,11,2,16],[1,1,1,4],[3,1,3,4],[1,6,1,8],[2,6,2,8],[3,6,3,8]]}
[]
[null,"Extended Smooth Pathway Model (ESPM)",null,null,null,null,{"$f":"'base data'!B31","v":"weighting population key in the weighted key"},null,null,0.5,null,"To update the data, please start the macro for the scenario type you want to use:"]
[null,null,null,null,null,null,"global CO2 budget 2018 - 2100 in Gt\nin Gt",null,null,570]
[null,"weighted distribution key: population and emissions in base year 2019",null,null,null,null,"to distribute from this budget here 2020 - 2100 in Gt* ",null,null,479.89188117603879]
[null,null,null,null,null,null,"* without LUC and ISA (int. shipping and aviation)"]
[null,"in Mill. t","budget 2020 - 2100",{"$f":"'base data'!B35","v":"weighted key"},"emissions 2019",null,"sorted by 'budget'\n\nin Mill. t",{"$f":"C6","v":"budget 2020 - 2100"},{"$f":"D6","v":"weighted key"},{"$f":"E6","v":"emissions 2019"},"scope years"]
[null,"Afghanistan",1255.3717514877717,2.6159470512635394E-3,10.9988564877612,null,"China",120103.53163067736,0.25027206406648872,11535.199835903501,{"$f":"H7/J7","v":10.411915990987268},null,null,"Reference values: largest emitters and one further excample country"]
[null,"Albania",126.65999755923451,2.6393444550226058E-4,5.659284520171,null,"India",59506.407560869331,0.12399961302750315,2597.3598796205101,{"$f":"H8/J8","v":22.910343702376576}]
[null,"Algeria",2521.1670291073792,5.2536146744740185E-3,180.56991648247001,null,"United States",43665.310728810058,9.0989892602063638E-2,5107.2610774498298,8.5496531441492571,null,null,"global budget in Gt: ",570]
[null,"Angola",1158.9978818107932,2.4151229209598522E-3,25.819085779548502,null,"EU28",37568.834824474827,7.8286039622940493E-2,3303.9749403609098,11.370798962649213,null,null,"scenario type: ","RM-3-lin",null,"weighting population: ",null,null,0.5,"minimum annual emissions: ",null,null,0,"based on 2019"]
[null,"Anguilla",0.61595581340858152,1.2835303900101415E-6,2.3439420369899999E-2,null,"EU27",33079.695618426893,6.8931559203212006E-2,2939.068445651058,11.255163406410267]
[null,"Antigua and Barbuda",6.3592249469226028,1.3251370144746932E-5,0.50999899557320005,null,"Russia",16267.124694589871,3.389747843769543E-2,1792.0152530053999,9.0775592826613369,null,null,null,null,null,null,null,"emissions\n2019\nin Mill. t","per capita 2019\nin t","share in\nglobal emissions\n2019","accu-mulated\nshare","temporary overshoot in Mill. t","reduction\nrate\nused\n2020","determination of the free parameter successful?"]
[null,"Argentina",2698.2490385050378,5.6226186446259943E-3,199.41376942869999,null,"Indonesia",12513.659054276746,2.6075996584085485E-2,625.66300559080003,20.000637631531959]
[null,"Armenia",130.76891043259207,2.7249660926149754E-4,5.9219781188000002,null,"Japan",11497.808462715149,2.3959164373729854E-2,1153.7169839886899,9.9658829871467542,null,null,"target year: ",2030,null,2050]
[null,"Aruba",8.4383748196054498,1.7583908273101208E-5,0.78394590820020005,null,"Brazil",9694.8543512589949,2.0202163719670495E-2,478.14686895649999,20.275892159279195,null,null,"reference year: ",1990,2010,1990,2010]
[null,"Australia",3620.6349518255647,7.5446889056608292E-3,433.37891027209997,null,"Pakistan",8200.5005327636372,1.7088225190780935E-2,223.62595011011999,36.670612371799741,null,null,"China",1.1798153119137362,-0.42778987750479536,-1,-1,11535.199835903501,8.0452860138788758,0.31466357901914904,{"$f":"U16","v":0.31466357901914904},0,-2.2917774419411785E-2,"yes"]
[null,"Austria",752.21431362709654,1.5674662213157171E-3,72.363175590574599,null,"Germany",7196.7808098314417,1.4996671317286665E-2,702.59996206946005,10.243070307937133,null,null,"United States",-0.66572978610547495,-0.69590396045215797,-1,-1,5107.2610774498298,15.5205274509705,0.13931870036733388,{"$f":"V16+U17","v":0.45398227938648295},0,-2.7632876085145197E-2,"yes"]
[null,"Azerbaijan",548.08530058120857,1.1421016318051739E-3,35.983696817039998,null,"Iran",7174.0000208647352,1.4949200647620658E-2,701.98598647853396,10.219577255170904,null,null,"EU27",-0.61536793855528893,-0.57008488085252351,-1,-1,2939.068445651058,6.6048451652837024,8.0173539188484494E-2,{"$f":"V17+U18","v":0.53415581857496741},0,-2.1276962462010329E-2,"yes"]
[null,"Bahamas",28.147202591327176,5.8653216891998077E-5,2.449274735111,null,"Mexico",7143.0751999239646,1.4884759422099225E-2,485.00360413269999,14.727880657088015,null,null,"India",2.4437043069771538,0.17271248470125555,0.19925196417955071,-0.59160902756765288,2597.3598796205101,1.900853433744619,7.0852223398704631E-2,{"$f":"V18+U19","v":0.60500804197367208},0,-1.0679761675220667E-2,"yes"]
[null,"Bahrain",283.0102289909297,5.8973748065371627E-4,35.438383923129997,null,"Nigeria",6907.4541120958947,1.4393771561978214E-2,100.223230623513,68.920689037091989,null,null,"Russia",-0.7231910345688366,-0.6173634559745067,-1,-1,1792.0152530053999,12.284825793092553,4.8883585996706634E-2,{"$f":"V19+U20","v":0.6538916279703787},0,-2.6112510293612834E-2,"yes"]
[null,"Bangladesh",5793.0064189917621,1.2071482444744076E-2,110.163867828577,null,"South Korea",5860.2235667851801,1.2211549719124075E-2,651.87023676045999,8.9898621478842138,null,null,"Japan",-0.57050003516193315,-0.58770155911003208,-1,-1,1153.7169839886899,9.0943894574922215,3.1471731788045326E-2,{"$f":"V20+U21","v":0.685363359758424},0,-2.3890401590200394E-2,"yes"]
[null,"Barbados",33.980329505873748,7.0808302533896674E-5,3.8273918147565,null,"Bangladesh",5793.0064189917621,1.2071482444744076E-2,110.163867828577,52.585357914321797,null,null,"Nigeria",0.30771530530831304,8.0096713142504994E-2,0.21694965466869554,5.1295696639950261E-3,100.223230623513,0.49871335466833977,2.7339448728662674E-3,null,0,-1.8189861004802022E-3,"yes"]
[null,"Belarus",728.22934837230093,1.5174862858435491E-3,66.335265099270003,null,"Turkey",5316.7351719873295,1.1079027132023913E-2,415.78294578593699,12.787285351344387]
[null,"Belgium",1042.3935503476737,2.1721424996671125E-3,104.41490268344999,null,"Saudi Arabia",5088.8411099799168,1.0604140869207948E-2,614.60713366799996,8.2798276024059625,null,null,"Here the start reduction rate for 2020 is 50% of the reduction rate for 2020 in scenario RM-6 abs.\nIf you use the Excel tool, you can set start change rates yourself for 2020 and use six scenario types."]
[null,"Belize",14.571176119035869,3.0363456208776164E-5,0.3709959740903,null,"South Africa",5060.6568066452364,1.0545410341686601E-2,494.862333736734,10.22639320400873]
[null,"Benin",420.46532689169237,8.7616678544610133E-4,8.1526527550000001,null,"Vietnam",4998.6574449599375,1.0416215904111702E-2,305.24928481519999,16.375656532614514]
[null,"Bermuda",4.2354405911879267,8.8258225598824826E-6,0.35002428651520001,null,"Canada",4991.7969013028051,1.0401919884682656E-2,584.84570628879396,8.5352373243514599]
[null,"Bhutan",37.64138521484653,7.8437220322630414E-5,2.1241822668410801,null,"Egypt",4794.2959027297402,9.9903667696579507E-3,255.3685679013,18.774025096866019]
[null,"Bolivia",518.58113712488353,1.0806207761924031E-3,24.511726385500999,null,"United Kingdom",4489.1392060479275,9.3544804197284934E-3,364.90649470985198,12.302163077742357]
[null,"Bosnia and Herzegovina",321.92643093727236,6.7083116752954621E-4,33.495527245827198,null,"Philippines",4349.2232059184889,9.0629230802157755E-3,150.64008621766001,28.871619202569306]
[null,"Botswana",117.73694399329344,2.4534056234659234E-4,7.0393055770000004,null,"France and Monaco",4087.2934449909808,8.5171131359307959E-3,314.73578882491898,12.986427314958636]
[null,"Brazil",9694.8543512589949,2.0202163719670495E-2,478.14686895649999,null,"Italy, San Marino and the Holy See",4054.8385940210414,8.4494836296961744E-3,331.56295424112,12.229468166314721]
[null,"British Virgin Islands",1.729721389411085,3.6043981097829223E-6,0.12154624237615,null,"Thailand",3966.2731184958975,8.2649306522461236E-3,275.06465442720003,14.419421233001898]
[null,"Brunei",59.429802266805666,1.2383998270853227E-4,7.0204393269069998,null,"Australia",3620.6349518255647,7.5446889056608292E-3,433.37891027209997,8.3544327285153859]
[null,"Bulgaria",501.26269455523851,1.0445325587230768E-3,43.314102026610001,null,"Ethiopia",3605.9473427120279,7.5140828260631849E-3,18.252483673,197.55926959387605]
[null,"Burkina Faso",655.99162774136505,1.3669571282051501E-3,3.6432401855999998,null,"Poland",3257.757217551235,6.7885233014729658E-3,317.65424474009001,10.255670344392176]
[null,"Burundi",360.89847427198828,7.5204121684150737E-4,0.33796448758999997,null,"Spain and Andorra",3153.5429538224903,6.5713613368376111E-3,259.31024086435002,12.161274245517234]
[null,"Cabo Verde",23.804467120009523,4.9603812970691471E-5,1.0232286698199999,null,"Democratic Republic of the Congo",2719.3606161510911,5.6666110072271627E-3,2.984044159852,911.3003931838474]
[null,"Cambodia",620.7727844034448,1.2935680071981188E-3,16.487865775,null,"Argentina",2698.2490385050378,5.6226186446259943E-3,199.41376942869999,13.53090634731616]
[null,"Cameroon",871.0696293222295,1.81513724963956E-3,10.102199054125,null,"Ukraine",2654.0468426294487,5.5305099893029116E-3,196.40103934343699,13.513405282893872]
[null,"Canada",4991.7969013028051,1.0401919884682656E-2,584.84570628879396,null,"Malaysia",2622.5784359598892,5.4649360383695438E-3,248.8326599541,10.539526589651269]
[null,"Cayman Islands",4.6574745443142369,9.7052580529190798E-6,0.40289665805960001,null,"Taiwan",2551.2050211456881,5.3162079235298202E-3,276.78484217110002,9.2172858930208701]
[null,"Central African Republic",150.84272807252242,3.1432648475498748E-4,0.49383826670999997,null,"Algeria",2521.1670291073792,5.2536146744740185E-3,180.56991648247001,13.962276099031911]
[null,"Chad",501.91471932666923,1.0458912497053722E-3,0.89358662092999996,null,"Iraq",2516.2720808800868,5.2434145681181932E-3,197.61224373245,12.733381461357745]
[null,"Chile",1177.9045332441212,2.4545206523550879E-3,89.888751787429996,null,"Kazakhstan",2392.5433908948062,4.9855883892671012E-3,277.364668355437,8.62598471925347]
[null,"China",120103.53163067736,0.25027206406648872,11535.199835903501,null,"Colombia",2132.4289547696749,4.4435612237153799E-3,86.549578476199997,24.638236168372153]
[null,"Colombia",2132.4289547696749,4.4435612237153799E-3,86.549578476199997,null,"Myanmar/Burma",1997.4240852919379,4.1622377115382424E-3,48.310662007027197,41.345409114894672]
[null,"Comoros",27.868609957455831,5.8072684808003214E-5,0.21385447442,null,"Tanzania",1891.7347213209596,3.9420019290282897E-3,13.343087734279999,141.77638332249478]
[null,"Congo",205.3600103636935,4.2792974505097173E-4,5.8035442847310001,null,"Sudan and South Sudan",1823.6675109045752,3.8001632918553152E-3,22.572475717940002,80.791647920798198]
[null,"Cook Islands",0.83301230765110523,1.7358332998043183E-6,4.3869066965901399E-2,null,"Kenya",1765.1232824920091,3.6781686703395359E-3,19.813010846438999,89.089098884193845]
[null,"Costa Rica",215.78818332392342,4.4966000007148655E-4,8.9791114047999994,null,"United Arab Emirates",1761.0182654424214,3.6696146247084077E-3,222.61241556420001,7.9106920473380109]
[null,"Côte d’Ivoire",888.69841631248289,1.8518721636519655E-3,13.555149805179999,null,"Uzbekistan",1647.7322865271806,3.4335489954303742E-3,94.991732865233999,17.346059881493474]
[null,"Croatia",253.62576997111884,5.2850606546952876E-4,19.119253476333999,null,"Morocco",1618.3360859596912,3.3722931131773756E-3,73.913856673439,21.894894391855505]
[null,"Cuba",555.74625125208752,1.1580655415343922E-3,31.043439162959,null,"Venezuela",1607.4202031853092,3.34954656712698E-3,110.0573325707,14.605298580653084]
[null,"Curaçao",43.791933965318549,9.1253750444788941E-5,5.9138273596069997,null,"Netherlands",1555.6414567004585,3.2416498751513625E-3,156.414819385339,9.945614250706166]
[null,"Cyprus",85.807326521138464,1.7880553909529833E-4,7.4132877815000002,null,"Uganda",1412.0613819771631,2.9424573270894253E-3,5.3395531737999997,264.45309860492341]
[null,"Czechia",1024.3154761353019,2.13447135972603E-3,105.69319666794,null,"Peru",1379.7292280872505,2.8750834973620323E-3,56.286057785129998,24.512806232660978]
[null,"Democratic Republic of the Congo",2719.3606161510911,5.6666110072271627E-3,2.984044159852,null,"Afghanistan",1255.3717514877717,2.6159470512635394E-3,10.9988564877612,114.13656982293261]
[null,"Denmark",383.23073852517354,7.9857724949631507E-4,31.1185491114176,null,"Chile",1177.9045332441212,2.4545206523550879E-3,89.888751787429996,13.104025918945277]
[null,"Djibouti",37.15183436802883,7.7417092943900874E-5,1.04912400326,null,"Angola",1158.9978818107932,2.4151229209598522E-3,25.819085779548502,44.889191341114191]
[null,"Dominica",2.9097553317946567,6.0633560306623961E-6,0.10327823357691,null,"Romania",1117.0525554925946,2.3277171365248123E-3,78.631286386100001,14.206209854021425]
[null,"Dominican Republic",512.59295373983173,1.068142583457871E-3,27.276022125322001,null,"North Korea",1074.4455808021009,2.2389326074219664E-3,42.172967711238002,25.477115771385211]
[null,"Ecuador",806.84508261994779,1.6813059655076197E-3,40.699804376060001,null,"Ghana",1056.4279669156135,2.2013874548714942E-3,16.837458997436698,62.742719496833935]
[null,"Egypt",4794.2959027297402,9.9903667696579507E-3,255.3685679013,null,"Belgium",1042.3935503476737,2.1721424996671125E-3,104.41490268344999,9.9831874910409262]
[null,"El Salvador",247.52847953579558,5.1580051516852954E-4,7.146297616,null,"Czechia",1024.3154761353019,2.13447135972603E-3,105.69319666794,9.6914040678836635]
[null,"Equatorial Guinea",64.923505643857453,1.3528777666493082E-4,3.4745593989799999,null,"Mozambique",1005.214985475062,2.0946697056254612E-3,9.2594409619799993,108.56108804003985]
[null,"Eritrea",113.67439571379514,2.3687501325344559E-4,0.74681349870000002,null,"Nepal",988.24820942534325,2.0593142918015404E-3,15.019087669999999,65.799483373369455]
[null,"Estonia",162.34634376490689,3.3829775024960961E-4,18.502960761415402,null,"Yemen",978.4202481987387,2.0388347596149992E-3,10.888394752389001,89.8589985437537]
[null,"Eswatini",43.197928810219494,9.0015960895936046E-5,1.1431866400599999,null,"Côte d’Ivoire",888.69841631248289,1.8518721636519655E-3,13.555149805179999,65.561681654958434]
[null,"Ethiopia",3605.9473427120279,7.5140828260631849E-3,18.252483673,null,"Cameroon",871.0696293222295,1.81513724963956E-3,10.102199054125,86.225743984578116]
[null,"Falkland Islands",0.31285935747214433,6.5193717531840902E-7,3.1749068125089999E-2,null,"Israel and Palestine, State of",867.21369321162103,1.8071022395427876E-3,68.328974202300003,12.691741729417474]
[null,"Faroes",1.5268614206137947,3.1816779581101018E-6,1.9273728E-3,null,"Madagascar",866.42752604841314,1.8054640222816801E-3,4.1987633172000001,{"$f":"H72/J72","v":206.35302840223002}]
[null,"Fiji",36.590852089758229,7.6248116555102964E-5,1.3607658985909401,null,"Sri Lanka",843.757672029682,1.7582245191603196E-3,27.566285604042001,30.608319312557768]
[null,"Finland",456.25780664884689,9.5075125157509756E-4,43.414879223580002,null,"Ecuador",806.84508261994779,1.6813059655076197E-3,40.699804376060001,19.82429878937063]
[null,"France and Monaco",4087.2934449909808,8.5171131359307959E-3,314.73578882491898,null,"Qatar",785.36176664062668,1.6365389735621145E-3,106.52761024189,7.3723775916621266]
[null,"French Guiana",13.042523879279161,2.7178046536892276E-5,0.6104301590208,null,"Kuwait",778.55311486572691,1.6223510865776246E-3,98.952521131300003,7.8679462227411623]
[null,"French Polynesia",12.611455840759739,2.6279785792278235E-5,0.599440251936872,null,"Turkmenistan",777.35328378550548,1.6198508753273717E-3,90.523465758309996,8.5873124418476543]
[null,"Gabon",90.393619930389704,1.8836246970644333E-4,3.48495282080443,null,"Oman",762.0438068814633,1.5879489459458529E-3,92.780720009709995,8.2133853542170332]
[null,"Georgia",212.51958427846967,4.4284888453970551E-4,13.473722843199999,null,"Serbia and Montenegro",755.09395351932449,1.5734668227119545E-3,70.687659613703005,10.682118458098552]
[null,"Germany",7196.7808098314417,1.4996671317286665E-2,702.59996206946005,null,"Greece",754.97252989123058,1.5732137998273072E-3,65.568488503685003,11.514258558038904]
[null,"Ghana",1056.4279669156135,2.2013874548714942E-3,16.837458997436698,null,"Austria",752.21431362709654,1.5674662213157171E-3,72.363175590574599,10.394987609209807]
[null,"Gibraltar",5.587789245785272,1.1643850344147628E-5,0.69353342653000005,null,"Niger",740.58007698667802,1.5432227675362797E-3,2.3595781667889999,313.86121782711967]
[null,"Greece",754.97252989123058,1.5732137998273072E-3,65.568488503685003,null,"Belarus",728.22934837230093,1.5174862858435491E-3,66.335265099270003,10.978012182245953]
[null,"Greenland",5.2757263956522538,1.0993572932976874E-5,0.53668520879000003,null,"Syria",721.87542720477302,1.5042459677286504E-3,29.1607130829371,24.755067722509374]
[null,"Grenada",4.9805502576517142,1.0378484098222739E-5,0.2286236163174,null,"Guatemala",685.64974901966002,1.428758801543765E-3,21.19600281184,32.348068412062055]
[null,"Guadeloupe",24.70459941453122,5.1479511080682E-5,1.8730616319833,null,"Burkina Faso",655.99162774136505,1.3669571282051501E-3,3.6432401855999998,180.05720027303957]
[null,"Guatemala",685.64974901966002,1.428758801543765E-3,21.19600281184,null,"Hungary",649.36542494650189,1.3531494288987461E-3,53.182599024843803,12.210110766552727]
[null,"Guinea",416.39912741216062,8.6769362797244922E-4,2.9209716052000001,null,"Portugal",635.37799834751127,1.3240023915187585E-3,48.472048978039602,13.108131629330773]
[null,"Guinea-Bissau",62.616760092760352,1.3048097404629906E-4,0.43723527076000002,null,"Cambodia",620.7727844034448,1.2935680071981188E-3,16.487865775,37.650281296242831]
[null,"Guyana",34.314557890173361,7.1504768545116828E-5,1.5224089164825001,null,"Mali",618.26084109692806,1.2883336129417271E-3,1.0313536392658,599.46541860952323]
[null,"Haiti",373.77584163047192,7.7887510977365268E-4,3.5766909330000001,null,"Sweden",605.1032897552617,1.2609158718675877E-3,44.748769213474503,13.522233133801059]
[null,"Honduras",370.96355716778822,7.7301486380368172E-4,10.356497168000001,null,"Zambia",604.71704868412132,1.2601110216788455E-3,7.5025206638139998,80.601850468840411]
[null,"Hong Kong",519.42208863807525,1.0823731532301868E-3,44.016197220599999,null,"Malawi",590.07019117883465,1.2295898603926977E-3,1.6161478745,365.10903518738297]
[null,"Hungary",649.36542494650189,1.3531494288987461E-3,53.182599024843803,null,"Tunisia",573.71367827445931,1.1955061145616753E-3,32.071693554200998,17.888474685781283]
[null,"Iceland",36.239597640342303,7.5516171583341556E-5,3.9253993897999999,null,"Senegal",571.14126716990552,1.1901457173441818E-3,9.8090198736116001,58.226130085269773]
[null,"India",59506.407560869331,0.12399961302750315,2597.3598796205101,null,"Cuba",555.74625125208752,1.1580655415343922E-3,31.043439162959,17.902212713441987]
[null,"Indonesia",12513.659054276746,2.6075996584085485E-2,625.66300559080003,null,"Libya",551.49247278147516,1.1492015064517649E-3,52.046426700413001,10.596163997116424]
[null,"Iran",7174.0000208647352,1.4949200647620658E-2,701.98598647853396,null,"Azerbaijan",548.08530058120857,1.1421016318051739E-3,35.983696817039998,15.231489509484307]
[null,"Iraq",2516.2720808800868,5.2434145681181932E-3,197.61224373245,null,"Singapore",529.85460333635024,1.1041124555761835E-3,53.365404441800003,9.9288032926688778]
[null,"Ireland",391.10148237041676,8.1497832680971932E-4,36.547887533476498,null,"Zimbabwe",526.67660207214931,1.0974901279460247E-3,10.861734827999999,48.489178792549083,null,null,null,null,null,null,null,null,null,null,null,null,null,null,{"$f":"B100","v":"Ireland"},{"$f":"E100","v":36.547887533476498}]
[null,"Israel and Palestine, State of",867.21369321162103,1.8071022395427876E-3,68.328974202300003,null,"Switzerland and Liechtenstein",526.13481153976136,1.0963611433692068E-3,39.370849255905,13.363562673488673]
[null,"Italy, San Marino and the Holy See",4054.8385940210414,8.4494836296961744E-3,331.56295424112,null,"Hong Kong",519.42208863807525,1.0823731532301868E-3,44.016197220599999,11.80070341003881]
[null,"Jamaica",140.42070751904492,2.9260905013630433E-4,7.4414967087569996,null,"Bolivia",518.58113712488353,1.0806207761924031E-3,24.511726385500999,21.156450956128122]
[null,"Japan",11497.808462715149,2.3959164373729854E-2,1153.7169839886899,null,"Dominican Republic",512.59295373983173,1.068142583457871E-3,27.276022125322001,18.79280458802533]
[null,"Jordan",499.73381464971823,1.0413466746406589E-3,28.34005339019,null,"Chad",501.91471932666923,1.0458912497053722E-3,0.89358662092999996,561.68557985380494]
[null,"Kazakhstan",2392.5433908948062,4.9855883892671012E-3,277.364668355437,null,"Bulgaria",501.26269455523851,1.0445325587230768E-3,43.314102026610001,11.572736616986495]
[null,"Kenya",1765.1232824920091,3.6781686703395359E-3,19.813010846438999,null,"Jordan",499.73381464971823,1.0413466746406589E-3,28.34005339019,17.633481764106438]
[null,"Kiribati",3.8784831127687194,8.0819936008585547E-6,3.3621613181469202E-2,null,"Somalia",486.72739678040546,1.0142438659049937E-3,0.96843410908000005,502.59216627839578]
[null,"Kuwait",778.55311486572691,1.6223510865776246E-3,98.952521131300003,null,"Norway",481.44005142686274,1.0032260813561378E-3,47.990776304809103,10.03192881000798,null,null,null,null,null,null,null,null,null,null,null,null,null,null,{"$f":"B109","v":"Kuwait"},{"$f":"E109","v":98.952521131300003}]
[null,"Kyrgyzstan",277.61041488264897,5.7848533340953338E-4,11.921388605263999,null,"Finland",456.25780664884689,9.5075125157509756E-4,43.414879223580002,10.509249704443235]
[null,"Laos",267.42281863310433,5.5725639278945331E-4,6.7833680963497196,null,"Benin",420.46532689169237,8.7616678544610133E-4,8.1526527550000001,51.574050744872224]
[null,"Latvia",114.15996882759966,2.3788685182136337E-4,8.3793704661999993,null,"Guinea",416.39912741216062,8.6769362797244922E-4,2.9209716052000001,142.55500692676182]
[null,"Lebanon",392.84939408849021,8.1862062997556991E-4,27.437066652679999,null,"Slovakia",405.28930295720005,8.4454294572349257E-4,35.98505669056,11.262711253794413]
[null,"Lesotho",71.048561973975353,1.4805118561260386E-4,0.75427255995999998,null,"New Zealand",401.89038144719524,8.3746026388758544E-4,38.668768734750003,10.393151750033178]
[null,"Liberia",161.49261276391249,3.3651874328057685E-4,1.2075303095000001,null,"Rwanda",400.33988514767617,8.3422933550488518E-4,1.1532252626599999,347.14803612978648]
[null,"Libya",551.49247278147516,1.1492015064517649E-3,52.046426700413001,null,"Lebanon",392.84939408849021,8.1862062997556991E-4,27.437066652679999,14.318199502209449]
[null,"Lithuania",175.98721158832581,3.6672262751569326E-4,13.771914067591,null,"Ireland",391.10148237041676,8.1497832680971932E-4,36.547887533476498,10.70106943970927]
[null,"Luxembourg",82.904832992862666,1.7275731523045017E-4,9.7398653007899991,null,"Denmark",383.23073852517354,7.9857724949631507E-4,31.1185491114176,12.315186583829632,null,null,null,null,null,null,null,null,null,null,null,null,null,null,{"$f":"B118","v":"Luxembourg"},{"$f":"E118","v":9.7398653007899991}]
[null,"Macao",28.244263485958246,5.8855472646759362E-5,1.27138323699808,null,"Haiti",373.77584163047192,7.7887510977365268E-4,3.5766909330000001,104.50325416207046]
[null,"Madagascar",866.42752604841314,1.8054640222816801E-3,4.1987633172000001,null,"Honduras",370.96355716778822,7.7301486380368172E-4,10.356497168000001,35.819404104508337]
[null,"Malawi",590.07019117883465,1.2295898603926977E-3,1.6161478745,null,"Burundi",360.89847427198828,7.5204121684150737E-4,0.33796448758999997,1067.8591613146366]
[null,"Malaysia",2622.5784359598892,5.4649360383695438E-3,248.8326599541,null,"Tajikistan",348.3277493157367,7.2584630617653556E-4,8.9185233176759304,39.056661838330776]
[null,"Maldives",22.49122277367055,4.686727084974395E-5,0.91280515840547605,null,"Mongolia",335.4993462691167,6.9911444520988982E-4,35.929593197000003,9.3376884182793845]
[null,"Mali",618.26084109692806,1.2883336129417271E-3,1.0313536392658,null,"Bosnia and Herzegovina",321.92643093727236,6.7083116752954621E-4,33.495527245827198,9.611027423889178]
[null,"Malta",20.529599333642416,4.2779634619639545E-5,1.0436021781875999,null,"Papua New Guinea",299.67291346164274,6.2445922762280207E-4,4.0747799572572196,73.543336475856222]
[null,"Martinique",24.471728823194596,5.0994254712589379E-5,1.9539313535711,null,"Bahrain",283.0102289909297,5.8973748065371627E-4,35.438383923129997,7.9859801057749138]
[null,"Mauritania",190.91658374331874,3.9783249359304077E-4,7.6594419402999998,null,"Kyrgyzstan",277.61041488264897,5.7848533340953338E-4,11.921388605263999,23.286751575237428]
[null,"Mauritius",67.84931499554061,1.413845861056596E-4,4.3317959943000002,null,"Paraguay",274.55320340347163,5.721147078601174E-4,8.4659567292000002,32.430263015225194]
[null,"Mexico",7143.0751999239646,1.4884759422099225E-2,485.00360413269999,null,"Togo",270.10774826214424,5.6285125641260974E-4,2.8548926749999999,94.612225050507107]
[null,"Moldova",186.18370914373068,3.8797011670100098E-4,9.2291543671186709,null,"Laos",267.42281863310433,5.5725639278945331E-4,6.7833680963497196,39.423309311050133]
[null,"Mongolia",335.4993462691167,6.9911444520988982E-4,35.929593197000003,null,"Trinidad and Tobago",257.71435975295321,5.3702587991568003E-4,32.743771457160001,7.8706376292093081]
[null,"Morocco",1618.3360859596912,3.3722931131773756E-3,73.913856673439,null,"Croatia",253.62576997111884,5.2850606546952876E-4,19.119253476333999,13.265464066631019]
[null,"Mozambique",1005.214985475062,2.0946697056254612E-3,9.2594409619799993,null,"Sierra Leone",252.21511677153441,5.2556654251671806E-4,1.4004246654000001,180.09902496218515]
[null,"Myanmar/Burma",1997.4240852919379,4.1622377115382424E-3,48.310662007027197,null,"El Salvador",247.52847953579558,5.1580051516852954E-4,7.146297616,34.637303515263447]
[null,"Namibia",106.39872599018277,2.2171395300424454E-4,4.4001095899999996,null,"Nicaragua",241.96133524511146,5.0419968483766194E-4,5.8587572985060001,41.299088341961578]
[null,"Nepal",988.24820942534325,2.0593142918015404E-3,15.019087669999999,null,"Costa Rica",215.78818332392342,4.4966000007148655E-4,8.9791114047999994,{"$f":"H136/J136","v":24.032242567852389}]
[null,"Netherlands",1555.6414567004585,3.2416498751513625E-3,156.414819385339,null,"Georgia",212.51958427846967,4.4284888453970551E-4,13.473722843199999,15.772892670545421]
[null,"New Caledonia",111.27427632481336,2.3187363797887343E-4,15.656643787356,null,"Panama",208.24183458615875,4.3393489816046578E-4,11.633575803999999,17.900071147046507]
[null,"New Zealand",401.89038144719524,8.3746026388758544E-4,38.668768734750003,null,"Congo",205.3600103636935,4.2792974505097173E-4,5.8035442847310001,35.385274978256177]
[null,"Nicaragua",241.96133524511146,5.0419968483766194E-4,5.8587572985060001,null,"Mauritania",190.91658374331874,3.9783249359304077E-4,7.6594419402999998,24.925651924954867]
[null,"Niger",740.58007698667802,1.5432227675362797E-3,2.3595781667889999,null,"Moldova",186.18370914373068,3.8797011670100098E-4,9.2291543671186709,20.173431035790223]
[null,"Nigeria",6907.4541120958947,1.4393771561978214E-2,100.223230623513,null,"Lithuania",175.98721158832581,3.6672262751569326E-4,13.771914067591,12.778703869672759]
[null,"North Korea",1074.4455808021009,2.2389326074219664E-3,42.172967711238002,null,"Slovenia",165.23283212955778,3.4431262251120561E-4,15.365239860016001,10.753677367545222]
[null,"North Macedonia",123.22053711024442,2.5676728851564673E-4,8.9237840462158307,null,"Estonia",162.34634376490689,3.3829775024960961E-4,18.502960761415402,8.7740738284140445]
[null,"Norway",481.44005142686274,1.0032260813561378E-3,47.990776304809103,null,"Liberia",161.49261276391249,3.3651874328057685E-4,1.2075303095000001,133.73793725375015,null,null,null,null,null,null,null,null,null,null,null,null,null,null,{"$f":"B145","v":"Norway"},{"$f":"E145","v":47.990776304809103}]
[null,"Oman",762.0438068814633,1.5879489459458529E-3,92.780720009709995,null,"Central African Republic",150.84272807252242,3.1432648475498748E-4,0.49383826670999997,305.44965475731919]
[null,"Pakistan",8200.5005327636372,1.7088225190780935E-2,223.62595011011999,null,"Uruguay",150.6556268839123,3.1393660279209278E-4,6.5649498527550003,22.948480988120455]
[null,"Palau",9.2634332382046853,1.9303167237385661E-5,1.3296788316852599,null,"Jamaica",140.42070751904492,2.9260905013630433E-4,7.4414967087569996,18.86995493175462]
[null,"Panama",208.24183458615875,4.3393489816046578E-4,11.633575803999999,null,"Armenia",130.76891043259207,2.7249660926149754E-4,5.9219781188000002,22.081964473568576]
[null,"Papua New Guinea",299.67291346164274,6.2445922762280207E-4,4.0747799572572196,null,"Albania",126.65999755923451,2.6393444550226058E-4,5.659284520171,22.380920610686555]
[null,"Paraguay",274.55320340347163,5.721147078601174E-4,8.4659567292000002,null,"North Macedonia",123.22053711024442,2.5676728851564673E-4,8.9237840462158307,13.80810387970971]
[null,"Peru",1379.7292280872505,2.8750834973620323E-3,56.286057785129998,null,"Botswana",117.73694399329344,2.4534056234659234E-4,7.0393055770000004,16.725647538016155]
[null,"Philippines",4349.2232059184889,9.0629230802157755E-3,150.64008621766001,null,"Puerto Rico",116.84249856362952,2.4347671454097423E-4,3.9099040015600002,29.88372566615725]
[null,"Poland",3257.757217551235,6.7885233014729658E-3,317.65424474009001,null,"Latvia",114.15996882759966,2.3788685182136337E-4,8.3793704661999993,13.623931450231082]
[null,"Portugal",635.37799834751127,1.3240023915187585E-3,48.472048978039602,null,"Eritrea",113.67439571379514,2.3687501325344559E-4,0.74681349870000002,152.21256165250287]
[null,"Puerto Rico",116.84249856362952,2.4347671454097423E-4,3.9099040015600002,null,"New Caledonia",111.27427632481336,2.3187363797887343E-4,15.656643787356,7.1071602468644199]
[null,"Qatar",785.36176664062668,1.6365389735621145E-3,106.52761024189,null,"Namibia",106.39872599018277,2.2171395300424454E-4,4.4001095899999996,24.180926364196029,null,null,null,null,null,null,null,null,null,null,null,null,null,null,{"$f":"B157","v":"Qatar"},{"$f":"E157","v":106.52761024189}]
[null,"Réunion",47.431689774128721,9.8838283443952125E-5,3.0219003858,null,"Gabon",90.393619930389704,1.8836246970644333E-4,3.48495282080443,25.938262174098583]
[null,"Romania",1117.0525554925946,2.3277171365248123E-3,78.631286386100001,null,"Cyprus",85.807326521138464,1.7880553909529833E-4,7.4132877815000002,11.574800419224553]
[null,"Russia",16267.124694589871,3.389747843769543E-2,1792.0152530053999,null,"Luxembourg",82.904832992862666,1.7275731523045017E-4,9.7398653007899991,8.5119075503167654]
[null,"Rwanda",400.33988514767617,8.3422933550488518E-4,1.1532252626599999,null,"The Gambia",76.908875406543203,1.6026292259428893E-4,0.59245540860000001,129.81377887710147]
[null,"Saint Helena, Ascension and Tristan da Cunha",0.29218307474689598,6.0885188145059373E-7,1.5843749380119999E-2,null,"Lesotho",71.048561973975353,1.4805118561260386E-4,0.75427255995999998,94.194811989107947]
[null,"Saint Kitts and Nevis",2.9116351111435375,6.067273119953997E-6,0.19379305715539,null,"Mauritius",67.84931499554061,1.413845861056596E-4,4.3317959943000002,15.663091033100411]
[null,"Saint Lucia",7.630614582064676,1.5900695305294271E-5,0.29707875245524001,null,"Equatorial Guinea",64.923505643857453,1.3528777666493082E-4,3.4745593989799999,18.685392358788441]
[null,"Saint Pierre and Miquelon",0.58671658090988443,1.2226015982434576E-6,6.1968807282450002E-2,null,"Guinea-Bissau",62.616760092760352,1.3048097404629906E-4,0.43723527076000002,143.21067919319555]
[null,"Saint Vincent and the Grenadines",4.3959803594734952,9.1603557632618443E-6,0.14603342874403,null,"Brunei",59.429802266805666,1.2383998270853227E-4,7.0204393269069998,8.4652540246350512]
[null,"Samoa",7.0418784572698252,1.4673885376040884E-5,0.139136822910847,null,"Réunion",47.431689774128721,9.8838283443952125E-5,3.0219003858,15.695980581296341]
[null,"São Tomé and Príncipe",7.7308510257145286,1.6109568277690073E-5,0.15904625454999999,null,"Curaçao",43.791933965318549,9.1253750444788941E-5,5.9138273596069997,7.4050071641301205]
[null,"Saudi Arabia",5088.8411099799168,1.0604140869207948E-2,614.60713366799996,null,"Eswatini",43.197928810219494,9.0015960895936046E-5,1.1431866400599999,37.787293252440612]
[null,"Senegal",571.14126716990552,1.1901457173441818E-3,9.8090198736116001,null,"Timor-Leste",42.742512944979829,8.9066964084146666E-5,0.38453734613528101,111.15308662358878]
[null,"Serbia and Montenegro",755.09395351932449,1.5734668227119545E-3,70.687659613703005,null,"Bhutan",37.64138521484653,7.8437220322630414E-5,2.1241822668410801,17.720412133382457]
[null,"Seychelles",9.9164965463230033,2.0664022325239826E-5,1.05052601477,null,"Djibouti",37.15183436802883,7.7417092943900874E-5,1.04912400326,35.4122432168027]
[null,"Sierra Leone",252.21511677153441,5.2556654251671806E-4,1.4004246654000001,null,"Fiji",36.590852089758229,7.6248116555102964E-5,1.3607658985909401,26.889894968449536]
[null,"Singapore",529.85460333635024,1.1041124555761835E-3,53.365404441800003,null,"Iceland",36.239597640342303,7.5516171583341556E-5,3.9253993897999999,9.2320790935336436,null,null,null,null,null,null,null,null,null,null,null,null,null,null,{"$f":"B174","v":"Singapore"},{"$f":"E174","v":53.365404441800003}]
[null,"Slovakia",405.28930295720005,8.4454294572349257E-4,35.98505669056,null,"Guyana",34.314557890173361,7.1504768545116828E-5,1.5224089164825001,22.539645898459767]
[null,"Slovenia",165.23283212955778,3.4431262251120561E-4,15.365239860016001,null,"Barbados",33.980329505873748,7.0808302533896674E-5,3.8273918147565,8.8781946428538276]
[null,"Solomon Islands",21.748097948072587,4.5318745328168468E-5,0.13928082278641701,null,"Suriname",31.559360803344276,6.5763481403360833E-5,2.0586111748573002,15.33041362487111]
[null,"Somalia",486.72739678040546,1.0142438659049937E-3,0.96843410908000005,null,"Macao",28.244263485958246,5.8855472646759362E-5,1.27138323699808,22.215381376780652]
[null,"South Africa",5060.6568066452364,1.0545410341686601E-2,494.862333736734,null,"Bahamas",28.147202591327176,5.8653216891998077E-5,2.449274735111,11.49205607187695]
[null,"South Korea",5860.2235667851801,1.2211549719124075E-2,651.87023676045999,null,"Comoros",27.868609957455831,5.8072684808003214E-5,0.21385447442,130.31576745372749]
[null,"Spain and Andorra",3153.5429538224903,6.5713613368376111E-3,259.31024086435002,null,"Guadeloupe",24.70459941453122,5.1479511080682E-5,1.8730616319833,13.189421529270577]
[null,"Sri Lanka",843.757672029682,1.7582245191603196E-3,27.566285604042001,null,"Martinique",24.471728823194596,5.0994254712589379E-5,1.9539313535711,12.52435443981636]
[null,"Sudan and South Sudan",1823.6675109045752,3.8001632918553152E-3,22.572475717940002,null,"Cabo Verde",23.804467120009523,4.9603812970691471E-5,1.0232286698199999,23.264073634876805]
[null,"Suriname",31.559360803344276,6.5763481403360833E-5,2.0586111748573002,null,"Maldives",22.49122277367055,4.686727084974395E-5,0.91280515840547605,24.639675363972639]
[null,"Sweden",605.1032897552617,1.2609158718675877E-3,44.748769213474503,null,"Solomon Islands",21.748097948072587,4.5318745328168468E-5,0.13928082278641701,156.14567399147725]
[null,"Switzerland and Liechtenstein",526.13481153976136,1.0963611433692068E-3,39.370849255905,null,"Malta",20.529599333642416,4.2779634619639545E-5,1.0436021781875999,19.671863247061925,null,null,null,null,null,null,null,null,null,null,null,null,null,null,{"$f":"B186","v":"Switzerland and Liechtenstein"},{"$f":"E186","v":39.370849255905}]
[null,"Syria",721.87542720477302,1.5042459677286504E-3,29.1607130829371,null,"Western Sahara",20.064193153766997,4.1809819963190512E-5,0.29719953009,67.510850867398815]
[null,"Taiwan",2551.2050211456881,5.3162079235298202E-3,276.78484217110002,null,"Belize",14.571176119035869,3.0363456208776164E-5,0.3709959740903,39.275833530983981]
[null,"Tajikistan",348.3277493157367,7.2584630617653556E-4,8.9185233176759304,null,"French Guiana",13.042523879279161,2.7178046536892276E-5,0.6104301590208,21.366119754307135]
[null,"Tanzania",1891.7347213209596,3.9420019290282897E-3,13.343087734279999,null,"French Polynesia",12.611455840759739,2.6279785792278235E-5,0.599440251936872,21.038720372898599]
[null,"Thailand",3966.2731184958975,8.2649306522461236E-3,275.06465442720003,null,"Seychelles",9.9164965463230033,2.0664022325239826E-5,1.05052601477,9.4395535254727605]
[null,"The Gambia",76.908875406543203,1.6026292259428893E-4,0.59245540860000001,null,"Vanuatu",9.8933373276676289,2.0615763082765001E-5,8.6288040927730403E-2,114.65479133955172]
[null,"Timor-Leste",42.742512944979829,8.9066964084146666E-5,0.38453734613528101,null,"Palau",9.2634332382046853,1.9303167237385661E-5,1.3296788316852599,6.9666697081008921]
[null,"Togo",270.10774826214424,5.6285125641260974E-4,2.8548926749999999,null,"Aruba",8.4383748196054498,1.7583908273101208E-5,0.78394590820020005,10.763975844938654]
[null,"Tonga",4.0880803341299972,8.5187528576470451E-6,0.127959543354006,null,"São Tomé and Príncipe",7.7308510257145286,1.6109568277690073E-5,0.15904625454999999,48.607564180545673]
[null,"Trinidad and Tobago",257.71435975295321,5.3702587991568003E-4,32.743771457160001,null,"Saint Lucia",7.630614582064676,1.5900695305294271E-5,0.29707875245524001,25.685494230067356]
[null,"Tunisia",573.71367827445931,1.1955061145616753E-3,32.071693554200998,null,"Samoa",7.0418784572698252,1.4673885376040884E-5,0.139136822910847,50.611177616021628]
[null,"Turkey",5316.7351719873295,1.1079027132023913E-2,415.78294578593699,null,"Antigua and Barbuda",6.3592249469226028,1.3251370144746932E-5,0.50999899557320005,12.469093080811499]
[null,"Turkmenistan",777.35328378550548,1.6198508753273717E-3,90.523465758309996,null,"Gibraltar",5.587789245785272,1.1643850344147628E-5,0.69353342653000005,8.0569861985499589]
[null,"Turks and Caicos Islands",2.0712015407002138,4.3159753726703172E-6,0.13493166498433001,null,"Greenland",5.2757263956522538,1.0993572932976874E-5,0.53668520879000003,{"$f":"H200/J200","v":9.8302064399106559}]
[null,"Uganda",1412.0613819771631,2.9424573270894253E-3,5.3395531737999997,null,"Grenada",4.9805502576517142,1.0378484098222739E-5,0.2286236163174,21.784933410978752]
[null,"Ukraine",2654.0468426294487,5.5305099893029116E-3,196.40103934343699,null,"Cayman Islands",4.6574745443142369,9.7052580529190798E-6,0.40289665805960001,11.559973137392623]
[null,"United Arab Emirates",1761.0182654424214,3.6696146247084077E-3,222.61241556420001,null,"Saint Vincent and the Grenadines",4.3959803594734952,9.1603557632618443E-6,0.14603342874403,30.102562113903716,null,null,null,null,null,null,null,null,null,null,null,null,null,null,{"$f":"B203","v":"United Arab Emirates"},{"$f":"E203","v":222.61241556420001}]
[null,"United Kingdom",4489.1392060479275,9.3544804197284934E-3,364.90649470985198,null,"Bermuda",4.2354405911879267,8.8258225598824826E-6,0.35002428651520001,12.100419183352868]
[null,"United States",43665.310728810058,9.0989892602063638E-2,5107.2610774498298,null,"Tonga",4.0880803341299972,8.5187528576470451E-6,0.127959543354006,31.948225407620701]
[null,"Uruguay",150.6556268839123,3.1393660279209278E-4,6.5649498527550003,null,"Kiribati",3.8784831127687194,8.0819936008585547E-6,3.3621613181469202E-2,115.35684179801264]
[null,"Uzbekistan",1647.7322865271806,3.4335489954303742E-3,94.991732865233999,null,"Saint Kitts and Nevis",2.9116351111435375,6.067273119953997E-6,0.19379305715539,15.024455230142157]
[null,"Vanuatu",9.8933373276676289,2.0615763082765001E-5,8.6288040927730403E-2,null,"Dominica",2.9097553317946567,6.0633560306623961E-6,0.10327823357691,28.173945574193024]
[null,"Venezuela",1607.4202031853092,3.34954656712698E-3,110.0573325707,null,"Turks and Caicos Islands",2.0712015407002138,4.3159753726703172E-6,0.13493166498433001,15.350003581003378]
[null,"Vietnam",4998.6574449599375,1.0416215904111702E-2,305.24928481519999,null,"British Virgin Islands",1.729721389411085,3.6043981097829223E-6,0.12154624237615,14.230973789038284]
[null,"Western Sahara",20.064193153766997,4.1809819963190512E-5,0.29719953009,null,"Faroes",1.5268614206137947,3.1816779581101018E-6,1.9273728E-3,792.19828183410846]
[null,"Yemen",978.4202481987387,2.0388347596149992E-3,10.888394752389001,null,"Cook Islands",0.83301230765110523,1.7358332998043183E-6,4.3869066965901399E-2,18.988603252004197]
[null,"Zambia",604.71704868412132,1.2601110216788455E-3,7.5025206638139998,null,"Anguilla",0.61595581340858152,1.2835303900101415E-6,2.3439420369899999E-2,26.278628212136521]
[null,"Zimbabwe",526.67660207214931,1.0974901279460247E-3,10.861734827999999,null,"Saint Pierre and Miquelon",0.58671658090988443,1.2226015982434576E-6,6.1968807282450002E-2,9.467934056495011]
[null,"EU28",37568.834824474827,7.8286039622940493E-2,3303.9749403609098,null,"Falkland Islands",0.31285935747214433,6.5193717531840902E-7,3.1749068125089999E-2,9.8541272531052417]
[null,"EU27",33079.695618426893,6.8931559203212006E-2,2939.068445651058,null,"Saint Helena, Ascension and Tristan da Cunha",0.29218307474689598,6.0885188145059373E-7,1.5843749380119999E-2,18.44153601126219]
[null,"sub sum",{"$f":"SUM(C7:C216)","v":550501.90087500785},null,{"$f":"SUM(E7:E216)","v":42901.877153365509},null,{"$f":"B217","v":"sub sum"},{"$f":"SUM(H7:H216)","v":550501.90087500785},null,{"$f":"SUM(J7:J216)","v":42901.877153365509},null,null,null,null,null,null,null,null,null,null,null,null,null,null,null,"sum",{"$f":"SUM(AA7:AA216)","v":615.10732977417058}]
[null,"EU28 + EU27",{"$f":"-C215-C216","v":-70648.530442901712},null,{"$f":"-E215-E216","v":-6243.0433860119683},null,null,null,null,null,null,null,null,null,null,null,null,null,null,null,null,null,null,null,null,"share of global emissions",{"$f":"AA217/E219","v":1.6779238905356375E-2}]
[null,"sum",{"$f":"SUM(C217:C218)","v":479853.37043210614},null,{"$f":"SUM(E217:E218)","v":36658.833767353542},null,null,null,null,null,null,null,null,null,null,null,null,null,null,null,null,null,null,null,null,"10 countries with the highest GDP per capita."]
[null,"base data / data countries",{"$f":"J4*1000","v":479891.88117603882},null,{"$f":"'data countries'!L226","v":36349.28505660763}]
[null,"rounding difference",{"$f":"C220-C219","v":38.51074393268209},null,{"$f":"E220-E219","v":-309.5487107459121}]

{"sheet":"data","index":12,"n_rows":644,"n_cols":6,"rows_kept":644,"cut":false,"hidden":true,"merged":[]}
["P","B","LUC","NNE","paths","success"]
[100,420,0,0,{"$f":"CONCATENATE(\"C:\\Users\\andre\\WEB.DE Online-Speicher\\Website\\klima-retten.info\\Downloads\\RV\\ESPM_P\",A2,\"_B\",B2,\"_RM-5\",\".pdf\")","v":"C:\\Users\\andre\\WEB.DE Online-Speicher\\Website\\klima-retten.info\\Downloads\\RV\\ESPM_P100_B420_RM-5.pdf"},"ok"]
[100,570,0,0,{"$f":"CONCATENATE(\"C:\\Users\\andre\\WEB.DE Online-Speicher\\Website\\klima-retten.info\\Downloads\\RV\\ESPM_P\",A3,\"_B\",B3,\"_RM-5\",\".pdf\")","v":"C:\\Users\\andre\\WEB.DE Online-Speicher\\Website\\klima-retten.info\\Downloads\\RV\\ESPM_P100_B570_RM-5.pdf"},"ok"]
[100,680,0,0,"C:\\Users\\andre\\WEB.DE Online-Speicher\\Website\\klima-retten.info\\Downloads\\RV\\ESPM_P100_B680_RM-5.pdf","ok"]
[100,800,0,0,"C:\\Users\\andre\\WEB.DE Online-Speicher\\Website\\klima-retten.info\\Downloads\\RV\\ESPM_P100_B800_RM-5.pdf","ok"]
[85,420,0,0,{"$f":"CONCATENATE(\"C:\\Users\\andre\\WEB.DE Online-Speicher\\Website\\klima-retten.info\\Downloads\\RV\\ESPM_P\",A6,\"_B\",B6,\"_RM-5\",\".pdf\")","v":"C:\\Users\\andre\\WEB.DE Online-Speicher\\Website\\klima-retten.info\\Downloads\\RV\\ESPM_P85_B420_RM-5.pdf"},"ok"]
[85,570,0,0,{"$f":"CONCATENATE(\"C:\\Users\\andre\\WEB.DE Online-Speicher\\Website\\klima-retten.info\\Downloads\\RV\\ESPM_P\",A7,\"_B\",B7,\"_RM-5\",\".pdf\")","v":"C:\\Users\\andre\\WEB.DE Online-Speicher\\Website\\klima-retten.info\\Downloads\\RV\\ESPM_P85_B570_RM-5.pdf"},"ok"]
[85,680,0,0,{"$f":"CONCATENATE(\"C:\\Users\\andre\\WEB.DE Online-Speicher\\Website\\klima-retten.info\\Downloads\\RV\\ESPM_P\",A8,\"_B\",B8,\"_RM-5\",\".pdf\")","v":"C:\\Users\\andre\\WEB.DE Online-Speicher\\Website\\klima-retten.info\\Downloads\\RV\\ESPM_P85_B680_RM-5.pdf"},"ok"]
[85,800,0,0,"C:\\Users\\andre\\WEB.DE Online-Speicher\\Website\\klima-retten.info\\Downloads\\RV\\ESPM_P85_B800_RM-5.pdf","ok"]
[70,420,0,0,{"$f":"CONCATENATE(\"C:\\Users\\andre\\WEB.DE Online-Speicher\\Website\\klima-retten.info\\Downloads\\RV\\ESPM_P\",A10,\"_B\",B10,\"_RM-5\",\".pdf\")","v":"C:\\Users\\andre\\WEB.DE Online-Speicher\\Website\\klima-retten.info\\Downloads\\RV\\ESPM_P70_B420_RM-5.pdf"},"ok"]
[70,570,0,0,{"$f":"CONCATENATE(\"C:\\Users\\andre\\WEB.DE Online-Speicher\\Website\\klima-retten.info\\Downloads\\RV\\ESPM_P\",A11,\"_B\",B11,\"_RM-5\",\".pdf\")","v":"C:\\Users\\andre\\WEB.DE Online-Speicher\\Website\\klima-retten.info\\Downloads\\RV\\ESPM_P70_B570_RM-5.pdf"},"ok"]
[70,680,0,0,"C:\\Users\\andre\\WEB.DE Online-Speicher\\Website\\klima-retten.info\\Downloads\\RV\\ESPM_P70_B680_RM-5.pdf","ok"]
[70,800,0,0,"C:\\Users\\andre\\WEB.DE Online-Speicher\\Website\\klima-retten.info\\Downloads\\RV\\ESPM_P70_B800_RM-5.pdf","ok"]
[50,420,0,0,{"$f":"CONCATENATE(\"C:\\Users\\andre\\WEB.DE Online-Speicher\\Website\\klima-retten.info\\Downloads\\RV\\ESPM_P\",A14,\"_B\",B14,\"_RM-5\",\".pdf\")","v":"C:\\Users\\andre\\WEB.DE Online-Speicher\\Website\\klima-retten.info\\Downloads\\RV\\ESPM_P50_B420_RM-5.pdf"},"ok"]
[50,570,0,0,{"$f":"CONCATENATE(\"C:\\Users\\andre\\WEB.DE Online-Speicher\\Website\\klima-retten.info\\Downloads\\RV\\ESPM_P\",A15,\"_B\",B15,\"_RM-5\",\".pdf\")","v":"C:\\Users\\andre\\WEB.DE Online-Speicher\\Website\\klima-retten.info\\Downloads\\RV\\ESPM_P50_B570_RM-5.pdf"},"ok"]
[50,680,0,0,"C:\\Users\\andre\\WEB.DE Online-Speicher\\Website\\klima-retten.info\\Downloads\\RV\\ESPM_P50_B680_RM-5.pdf","ok"]
[50,800,0,0,"C:\\Users\\andre\\WEB.DE Online-Speicher\\Website\\klima-retten.info\\Downloads\\RV\\ESPM_P50_B800_RM-5.pdf","ok"]
[30,420,0,0,{"$f":"CONCATENATE(\"C:\\Users\\andre\\WEB.DE Online-Speicher\\Website\\klima-retten.info\\Downloads\\RV\\ESPM_P\",A18,\"_B\",B18,\"_RM-5\",\".pdf\")","v":"C:\\Users\\andre\\WEB.DE Online-Speicher\\Website\\klima-retten.info\\Downloads\\RV\\ESPM_P30_B420_RM-5.pdf"},"ok"]
[30,570,0,0,{"$f":"CONCATENATE(\"C:\\Users\\andre\\WEB.DE Online-Speicher\\Website\\klima-retten.info\\Downloads\\RV\\ESPM_P\",A19,\"_B\",B19,\"_RM-5\",\".pdf\")","v":"C:\\Users\\andre\\WEB.DE Online-Speicher\\Website\\klima-retten.info\\Downloads\\RV\\ESPM_P30_B570_RM-5.pdf"},"ok"]
[30,680,0,0,"C:\\Users\\andre\\WEB.DE Online-Speicher\\Website\\klima-retten.info\\Downloads\\RV\\ESPM_P30_B680_RM-5.pdf","ok"]
[30,800,0,0,"C:\\Users\\andre\\WEB.DE Online-Speicher\\Website\\klima-retten.info\\Downloads\\RV\\ESPM_P30_B800_RM-5.pdf","ok"]
[15,420,0,0,{"$f":"CONCATENATE(\"C:\\Users\\andre\\WEB.DE Online-Speicher\\Website\\klima-retten.info\\Downloads\\RV\\ESPM_P\",A22,\"_B\",B22,\"_RM-5\",\".pdf\")","v":"C:\\Users\\andre\\WEB.DE Online-Speicher\\Website\\klima-retten.info\\Downloads\\RV\\ESPM_P15_B420_RM-5.pdf"},"ok"]
[15,570,0,0,{"$f":"CONCATENATE(\"C:\\Users\\andre\\WEB.DE Online-Speicher\\Website\\klima-retten.info\\Downloads\\RV\\ESPM_P\",A23,\"_B\",B23,\"_RM-5\",\".pdf\")","v":"C:\\Users\\andre\\WEB.DE Online-Speicher\\Website\\klima-retten.info\\Downloads\\RV\\ESPM_P15_B570_RM-5.pdf"},"ok"]
[15,680,0,0,"C:\\Users\\andre\\WEB.DE Online-Speicher\\Website\\klima-retten.info\\Downloads\\RV\\ESPM_P15_B680_RM-5.pdf","ok"]
[15,800,0,0,"C:\\Users\\andre\\WEB.DE Online-Speicher\\Website\\klima-retten.info\\Downloads\\RV\\ESPM_P15_B800_RM-5.pdf","ok"]
[0,420,0,0,{"$f":"CONCATENATE(\"C:\\Users\\andre\\WEB.DE Online-Speicher\\Website\\klima-retten.info\\Downloads\\RV\\ESPM_P\",A26,\"_B\",B26,\"_RM-5\",\".pdf\")","v":"C:\\Users\\andre\\WEB.DE Online-Speicher\\Website\\klima-retten.info\\Downloads\\RV\\ESPM_P0_B420_RM-5.pdf"},"ok"]
[0,570,0,0,{"$f":"CONCATENATE(\"C:\\Users\\andre\\WEB.DE Online-Speicher\\Website\\klima-retten.info\\Downloads\\RV\\ESPM_P\",A27,\"_B\",B27,\"_RM-5\",\".pdf\")","v":"C:\\Users\\andre\\WEB.DE Online-Speicher\\Website\\klima-retten.info\\Downloads\\RV\\ESPM_P0_B570_RM-5.pdf"},"ok"]
[0,680,0,0,"C:\\Users\\andre\\WEB.DE Online-Speicher\\Website\\klima-retten.info\\Downloads\\RV\\ESPM_P0_B680_RM-5.pdf","ok"]
[0,800,0,0,"C:\\Users\\andre\\WEB.DE Online-Speicher\\Website\\klima-retten.info\\Downloads\\RV\\ESPM_P0_B800_RM-5.pdf","ok"]
[]
[]
[]
[]
[]
[]
[]
[]
[]
[]
[]
[]
[]
[]
[]
[]
[]
[]
[]
[]
[]
[]
[]
[]
[]
[]
[]
[]
[]
[]
[]
[]
[]
[]
[]
[]
[]
[]
[]
[]
[]
[]
[]
[]
[]
[]
[]
[]
[]
[]
[]
[]
[]
[]
[]
[]
[]
[]
[]
[]
[]
[]
[]
[]
[]
[]
[]
[]
[]
[]
[]
[]
[]
[]
[]
[]
[]
[]
[]
[]
[]
[]
[]
[]
[]
[]
[]
[]
[]
[]
[]
[]
[]
[]
[]
[]
[]
[]
[]
[]
[]
[]
[]
[]
[]
[]
[]
[]
[]
[]
[]
[]
[]
[]
[]
[]
[]
[]
[]
[]
[]
[]
[]
[]
[]
[]
[]
[]
[]
[]
[]
[]
[]
[]
[]
[]
[]
[]
[]
[]
[]
[]
[]
[]
[]
[]
[]
[]
[]
[]
[]
[]
[]
[]
[]
[]
[]
[]
[]
[]
[]
[]
[]
[]
[]
[]
[]
[]
[]
[]
[]
[]
[]
[]
[]
[]
["RM-6"]
[100,420,0,0,{"$f":"CONCATENATE(\"C:\\Users\\andre\\WEB.DE Online-Speicher\\Website\\klima-retten.info\\Downloads\\RV\\ESPM_P\",A207,\"_B\",B207,\"_\",$A$206,\".pdf\")","v":"C:\\Users\\andre\\WEB.DE Online-Speicher\\Website\\klima-retten.info\\Downloads\\RV\\ESPM_P100_B420_RM-6.pdf"},"ok"]
[100,570,0,0,{"$f":"CONCATENATE(\"C:\\Users\\andre\\WEB.DE Online-Speicher\\Website\\klima-retten.info\\Downloads\\RV\\ESPM_P\",A208,\"_B\",B208,\"_\",$A$206,\".pdf\")","v":"C:\\Users\\andre\\WEB.DE Online-Speicher\\Website\\klima-retten.info\\Downloads\\RV\\ESPM_P100_B570_RM-6.pdf"},"ok"]
[100,680,0,0,"C:\\Users\\andre\\WEB.DE Online-Speicher\\Website\\klima-retten.info\\Downloads\\RV\\ESPM_P100_B680_RM-6.pdf","ok"]
[100,800,0,0,"C:\\Users\\andre\\WEB.DE Online-Speicher\\Website\\klima-retten.info\\Downloads\\RV\\ESPM_P100_B800_RM-6.pdf","ok"]
[85,420,0,0,"C:\\Users\\andre\\WEB.DE Online-Speicher\\Website\\klima-retten.info\\Downloads\\RV\\ESPM_P85_B420_RM-6.pdf","ok"]
[85,570,0,0,"C:\\Users\\andre\\WEB.DE Online-Speicher\\Website\\klima-retten.info\\Downloads\\RV\\ESPM_P85_B570_RM-6.pdf","ok"]
[85,680,0,0,"C:\\Users\\andre\\WEB.DE Online-Speicher\\Website\\klima-retten.info\\Downloads\\RV\\ESPM_P85_B680_RM-6.pdf","ok"]
[85,800,0,0,"C:\\Users\\andre\\WEB.DE Online-Speicher\\Website\\klima-retten.info\\Downloads\\RV\\ESPM_P85_B800_RM-6.pdf","ok"]
[70,420,0,0,"C:\\Users\\andre\\WEB.DE Online-Speicher\\Website\\klima-retten.info\\Downloads\\RV\\ESPM_P70_B420_RM-6.pdf","ok"]
[70,570,0,0,"C:\\Users\\andre\\WEB.DE Online-Speicher\\Website\\klima-retten.info\\Downloads\\RV\\ESPM_P70_B570_RM-6.pdf","ok"]
[70,680,0,0,"C:\\Users\\andre\\WEB.DE Online-Speicher\\Website\\klima-retten.info\\Downloads\\RV\\ESPM_P70_B680_RM-6.pdf","ok"]
[70,800,0,0,"C:\\Users\\andre\\WEB.DE Online-Speicher\\Website\\klima-retten.info\\Downloads\\RV\\ESPM_P70_B800_RM-6.pdf","ok"]
[50,420,0,0,"C:\\Users\\andre\\WEB.DE Online-Speicher\\Website\\klima-retten.info\\Downloads\\RV\\ESPM_P50_B420_RM-6.pdf","ok"]
[50,570,0,0,"C:\\Users\\andre\\WEB.DE Online-Speicher\\Website\\klima-retten.info\\Downloads\\RV\\ESPM_P50_B570_RM-6.pdf","ok"]
[50,680,0,0,"C:\\Users\\andre\\WEB.DE Online-Speicher\\Website\\klima-retten.info\\Downloads\\RV\\ESPM_P50_B680_RM-6.pdf","ok"]
[50,800,0,0,"C:\\Users\\andre\\WEB.DE Online-Speicher\\Website\\klima-retten.info\\Downloads\\RV\\ESPM_P50_B800_RM-6.pdf","ok"]
[30,420,0,0,"C:\\Users\\andre\\WEB.DE Online-Speicher\\Website\\klima-retten.info\\Downloads\\RV\\ESPM_P30_B420_RM-6.pdf","ok"]
[30,570,0,0,"C:\\Users\\andre\\WEB.DE Online-Speicher\\Website\\klima-retten.info\\Downloads\\RV\\ESPM_P30_B570_RM-6.pdf","ok"]
[30,680,0,0,"C:\\Users\\andre\\WEB.DE Online-Speicher\\Website\\klima-retten.info\\Downloads\\RV\\ESPM_P30_B680_RM-6.pdf","ok"]
[30,800,0,0,"C:\\Users\\andre\\WEB.DE Online-Speicher\\Website\\klima-retten.info\\Downloads\\RV\\ESPM_P30_B800_RM-6.pdf","ok"]
[15,420,0,0,"C:\\Users\\andre\\WEB.DE Online-Speicher\\Website\\klima-retten.info\\Downloads\\RV\\ESPM_P15_B420_RM-6.pdf","ok"]
[15,570,0,0,"C:\\Users\\andre\\WEB.DE Online-Speicher\\Website\\klima-retten.info\\Downloads\\RV\\ESPM_P15_B570_RM-6.pdf","ok"]
[15,680,0,0,"C:\\Users\\andre\\WEB.DE Online-Speicher\\Website\\klima-retten.info\\Downloads\\RV\\ESPM_P15_B680_RM-6.pdf","ok"]
[15,800,0,0,"C:\\Users\\andre\\WEB.DE Online-Speicher\\Website\\klima-retten.info\\Downloads\\RV\\ESPM_P15_B800_RM-6.pdf","ok"]
[0,420,0,0,"C:\\Users\\andre\\WEB.DE Online-Speicher\\Website\\klima-retten.info\\Downloads\\RV\\ESPM_P0_B420_RM-6.pdf","ok"]
[0,570,0,0,"C:\\Users\\andre\\WEB.DE Online-Speicher\\Website\\klima-retten.info\\Downloads\\RV\\ESPM_P0_B570_RM-6.pdf","ok"]
[0,680,0,0,"C:\\Users\\andre\\WEB.DE Online-Speicher\\Website\\klima-retten.info\\Downloads\\RV\\ESPM_P0_B680_RM-6.pdf","ok"]
[0,800,0,0,"C:\\Users\\andre\\WEB.DE Online-Speicher\\Website\\klima-retten.info\\Downloads\\RV\\ESPM_P0_B800_RM-6.pdf","ok"]
[]
[]
[]
[]
[]
[]
[]
[]
[]
[]
[]
[]
[]
[]
[]
[]
[]
[]
[]
[]
[]
[]
[]
[]
[]
[]
[]
[]
[]
[]
[]
[]
[]
[]
[]
[]
[]
[]
[]
[]
[]
[]
[]
[]
[]
[]
[]
[]
[]
[]
[]
[]
[]
[]
[]
[]
[]
[]
[]
[]
[]
[]
[]
[]
[]
[]
[]
[]
[]
[]
[]
[]
[]
[]
[]
[]
[]
[]
[]
[]
[]
[]
[]
[]
[]
[]
[]
[]
[]
[]
[]
[]
[]
[]
[]
[]
[]
[]
[]
[]
[]
[]
[]
[]
[]
[]
[]
[]
[]
[]
[]
[]
[]
[]
[]
[]
[]
[]
[]
[]
[]
[]
[]
[]
[]
[]
[]
[]
[]
[]
[]
[]
[]
[]
[]
[]
[]
[]
[]
[]
[]
[]
[]
[]
[]
[]
[]
[]
[]
[]
[]
[]
[]
[]
[]
[]
[]
[]
[]
[]
[]
[]
[]
[]
[]
[]
[]
[]
[]
[]
[]
[]
[]
[]
[]
[]
["RM-4"]
[{"$f":"A207","v":100},{"$f":"B207","v":420},0,0,{"$f":"CONCATENATE(\"C:\\Users\\andre\\WEB.DE Online-Speicher\\Website\\klima-retten.info\\Downloads\\RV\\ESPM_P\",A412,\"_B\",B412,\"_\",$A$411,\".pdf\")","v":"C:\\Users\\andre\\WEB.DE Online-Speicher\\Website\\klima-retten.info\\Downloads\\RV\\ESPM_P100_B420_RM-4.pdf"},"ok"]
[{"$f":"A208","v":100},570,0,0,{"$f":"CONCATENATE(\"C:\\Users\\andre\\WEB.DE Online-Speicher\\Website\\klima-retten.info\\Downloads\\RV\\ESPM_P\",A413,\"_B\",B413,\"_\",$A$411,\".pdf\")","v":"C:\\Users\\andre\\WEB.DE Online-Speicher\\Website\\klima-retten.info\\Downloads\\RV\\ESPM_P100_B570_RM-4.pdf"},"ok"]
[{"$f":"A209","v":100},680,0,0,"C:\\Users\\andre\\WEB.DE Online-Speicher\\Website\\klima-retten.info\\Downloads\\RV\\ESPM_P100_B680_RM-4.pdf","ok"]
[{"$f":"A210","v":100},800,0,0,"C:\\Users\\andre\\WEB.DE Online-Speicher\\Website\\klima-retten.info\\Downloads\\RV\\ESPM_P100_B800_RM-4.pdf","ok"]
[{"$f":"A211","v":85},420,0,0,"C:\\Users\\andre\\WEB.DE Online-Speicher\\Website\\klima-retten.info\\Downloads\\RV\\ESPM_P85_B420_RM-4.pdf","ok"]
[{"$f":"A212","v":85},570,0,0,"C:\\Users\\andre\\WEB.DE Online-Speicher\\Website\\klima-retten.info\\Downloads\\RV\\ESPM_P85_B570_RM-4.pdf","ok"]
[{"$f":"A213","v":85},680,0,0,"C:\\Users\\andre\\WEB.DE Online-Speicher\\Website\\klima-retten.info\\Downloads\\RV\\ESPM_P85_B680_RM-4.pdf","ok"]
[{"$f":"A214","v":85},800,0,0,"C:\\Users\\andre\\WEB.DE Online-Speicher\\Website\\klima-retten.info\\Downloads\\RV\\ESPM_P85_B800_RM-4.pdf","ok"]
[{"$f":"A215","v":70},420,0,0,"C:\\Users\\andre\\WEB.DE Online-Speicher\\Website\\klima-retten.info\\Downloads\\RV\\ESPM_P70_B420_RM-4.pdf","ok"]
[{"$f":"A216","v":70},570,0,0,"C:\\Users\\andre\\WEB.DE Online-Speicher\\Website\\klima-retten.info\\Downloads\\RV\\ESPM_P70_B570_RM-4.pdf","ok"]
[{"$f":"A217","v":70},680,0,0,"C:\\Users\\andre\\WEB.DE Online-Speicher\\Website\\klima-retten.info\\Downloads\\RV\\ESPM_P70_B680_RM-4.pdf","ok"]
[{"$f":"A218","v":70},800,0,0,"C:\\Users\\andre\\WEB.DE Online-Speicher\\Website\\klima-retten.info\\Downloads\\RV\\ESPM_P70_B800_RM-4.pdf","ok"]
[{"$f":"A219","v":50},420,0,0,"C:\\Users\\andre\\WEB.DE Online-Speicher\\Website\\klima-retten.info\\Downloads\\RV\\ESPM_P50_B420_RM-4.pdf","ok"]
[{"$f":"A220","v":50},570,0,0,"C:\\Users\\andre\\WEB.DE Online-Speicher\\Website\\klima-retten.info\\Downloads\\RV\\ESPM_P50_B570_RM-4.pdf","ok"]
[{"$f":"A221","v":50},680,0,0,"C:\\Users\\andre\\WEB.DE Online-Speicher\\Website\\klima-retten.info\\Downloads\\RV\\ESPM_P50_B680_RM-4.pdf","ok"]
[{"$f":"A222","v":50},800,0,0,"C:\\Users\\andre\\WEB.DE Online-Speicher\\Website\\klima-retten.info\\Downloads\\RV\\ESPM_P50_B800_RM-4.pdf","ok"]
[{"$f":"A223","v":30},420,0,0,"C:\\Users\\andre\\WEB.DE Online-Speicher\\Website\\klima-retten.info\\Downloads\\RV\\ESPM_P30_B420_RM-4.pdf","ok"]
[{"$f":"A224","v":30},570,0,0,"C:\\Users\\andre\\WEB.DE Online-Speicher\\Website\\klima-retten.info\\Downloads\\RV\\ESPM_P30_B570_RM-4.pdf","ok"]
[{"$f":"A225","v":30},680,0,0,"C:\\Users\\andre\\WEB.DE Online-Speicher\\Website\\klima-retten.info\\Downloads\\RV\\ESPM_P30_B680_RM-4.pdf","ok"]
[{"$f":"A226","v":30},800,0,0,"C:\\Users\\andre\\WEB.DE Online-Speicher\\Website\\klima-retten.info\\Downloads\\RV\\ESPM_P30_B800_RM-4.pdf","ok"]
[{"$f":"A227","v":15},420,0,0,"C:\\Users\\andre\\WEB.DE Online-Speicher\\Website\\klima-retten.info\\Downloads\\RV\\ESPM_P15_B420_RM-4.pdf","ok"]
[{"$f":"A228","v":15},570,0,0,"C:\\Users\\andre\\WEB.DE Online-Speicher\\Website\\klima-retten.info\\Downloads\\RV\\ESPM_P15_B570_RM-4.pdf","ok"]
[{"$f":"A229","v":15},680,0,0,"C:\\Users\\andre\\WEB.DE Online-Speicher\\Website\\klima-retten.info\\Downloads\\RV\\ESPM_P15_B680_RM-4.pdf","ok"]
[{"$f":"A230","v":15},800,0,0,"C:\\Users\\andre\\WEB.DE Online-Speicher\\Website\\klima-retten.info\\Downloads\\RV\\ESPM_P15_B800_RM-4.pdf","ok"]
[{"$f":"A231","v":0},420,0,0,"C:\\Users\\andre\\WEB.DE Online-Speicher\\Website\\klima-retten.info\\Downloads\\RV\\ESPM_P0_B420_RM-4.pdf","ok"]
[{"$f":"A232","v":0},570,0,0,"C:\\Users\\andre\\WEB.DE Online-Speicher\\Website\\klima-retten.info\\Downloads\\RV\\ESPM_P0_B570_RM-4.pdf","ok"]
[{"$f":"A233","v":0},680,0,0,"C:\\Users\\andre\\WEB.DE Online-Speicher\\Website\\klima-retten.info\\Downloads\\RV\\ESPM_P0_B680_RM-4.pdf","ok"]
[{"$f":"A234","v":0},800,0,0,"C:\\Users\\andre\\WEB.DE Online-Speicher\\Website\\klima-retten.info\\Downloads\\RV\\ESPM_P0_B800_RM-4.pdf","ok"]
[]
[]
[]
[]
[]
[]
[]
[]
[]
[]
[]
[]
[]
[]
[]
[]
[]
[]
[]
[]
[]
[]
[]
[]
[]
[]
[]
[]
[]
[]
[]
[]
[]
[]
[]
[]
[]
[]
[]
[]
[]
[]
[]
[]
[]
[]
[]
[]
[]
[]
[]
[]
[]
[]
[]
[]
[]
[]
[]
[]
[]
[]
[]
[]
[]
[]
[]
[]
[]
[]
[]
[]
[]
[]
[]
[]
[]
[]
[]
[]
[]
[]
[]
[]
[]
[]
[]
[]
[]
[]
[]
[]
[]
[]
[]
[]
[]
[]
[]
[]
[]
[]
[]
[]
[]
[]
[]
[]
[]
[]
[]
[]
[]
[]
[]
[]
[]
[]
[]
[]
[]
[]
[]
[]
[]
[]
[]
[]
[]
[]
[]
[]
[]
[]
[]
[]
[]
[]
[]
[]
[]
[]
[]
[]
[]
[]
[]
[]
[]
[]
[]
[]
[]
[]
[]
[]
[]
[]
[]
[]
[]
[]
[]
[]
[]
[]
[]
[]
[]
[]
[]
[]
[]
[]
[]
[]
["RM-3"]
[{"$f":"A412","v":100},420,0,0,{"$f":"CONCATENATE(\"C:\\Users\\andre\\WEB.DE Online-Speicher\\Website\\klima-retten.info\\Downloads\\RV\\ESPM_P\",A617,\"_B\",B617,\"_\",$A$616,\".pdf\")","v":"C:\\Users\\andre\\WEB.DE Online-Speicher\\Website\\klima-retten.info\\Downloads\\RV\\ESPM_P100_B420_RM-3.pdf"},"ok"]
[{"$f":"A413","v":100},570,0,0,{"$f":"CONCATENATE(\"C:\\Users\\andre\\WEB.DE Online-Speicher\\Website\\klima-retten.info\\Downloads\\RV\\ESPM_P\",A618,\"_B\",B618,\"_\",$A$616,\".pdf\")","v":"C:\\Users\\andre\\WEB.DE Online-Speicher\\Website\\klima-retten.info\\Downloads\\RV\\ESPM_P100_B570_RM-3.pdf"},"ok"]
[{"$f":"A414","v":100},680,0,0,"C:\\Users\\andre\\WEB.DE Online-Speicher\\Website\\klima-retten.info\\Downloads\\RV\\ESPM_P100_B680_RM-3.pdf","ok"]
[{"$f":"A415","v":100},800,0,0,"C:\\Users\\andre\\WEB.DE Online-Speicher\\Website\\klima-retten.info\\Downloads\\RV\\ESPM_P100_B800_RM-3.pdf","ok"]
[{"$f":"A416","v":85},420,0,0,"C:\\Users\\andre\\WEB.DE Online-Speicher\\Website\\klima-retten.info\\Downloads\\RV\\ESPM_P85_B420_RM-3.pdf","ok"]
[{"$f":"A417","v":85},570,0,0,"C:\\Users\\andre\\WEB.DE Online-Speicher\\Website\\klima-retten.info\\Downloads\\RV\\ESPM_P85_B570_RM-3.pdf","ok"]
[{"$f":"A418","v":85},680,0,0,"C:\\Users\\andre\\WEB.DE Online-Speicher\\Website\\klima-retten.info\\Downloads\\RV\\ESPM_P85_B680_RM-3.pdf","ok"]
[{"$f":"A419","v":85},800,0,0,"C:\\Users\\andre\\WEB.DE Online-Speicher\\Website\\klima-retten.info\\Downloads\\RV\\ESPM_P85_B800_RM-3.pdf","ok"]
[{"$f":"A420","v":70},420,0,0,"C:\\Users\\andre\\WEB.DE Online-Speicher\\Website\\klima-retten.info\\Downloads\\RV\\ESPM_P70_B420_RM-3.pdf","ok"]
[{"$f":"A421","v":70},570,0,0,"C:\\Users\\andre\\WEB.DE Online-Speicher\\Website\\klima-retten.info\\Downloads\\RV\\ESPM_P70_B570_RM-3.pdf","ok"]
[{"$f":"A422","v":70},680,0,0,"C:\\Users\\andre\\WEB.DE Online-Speicher\\Website\\klima-retten.info\\Downloads\\RV\\ESPM_P70_B680_RM-3.pdf","ok"]
[{"$f":"A423","v":70},800,0,0,"C:\\Users\\andre\\WEB.DE Online-Speicher\\Website\\klima-retten.info\\Downloads\\RV\\ESPM_P70_B800_RM-3.pdf","ok"]
[{"$f":"A424","v":50},420,0,0,"C:\\Users\\andre\\WEB.DE Online-Speicher\\Website\\klima-retten.info\\Downloads\\RV\\ESPM_P50_B420_RM-3.pdf","ok"]
[{"$f":"A425","v":50},570,0,0,"C:\\Users\\andre\\WEB.DE Online-Speicher\\Website\\klima-retten.info\\Downloads\\RV\\ESPM_P50_B570_RM-3.pdf","ok"]
[{"$f":"A426","v":50},680,0,0,"C:\\Users\\andre\\WEB.DE Online-Speicher\\Website\\klima-retten.info\\Downloads\\RV\\ESPM_P50_B680_RM-3.pdf","ok"]
[{"$f":"A427","v":50},800,0,0,"C:\\Users\\andre\\WEB.DE Online-Speicher\\Website\\klima-retten.info\\Downloads\\RV\\ESPM_P50_B800_RM-3.pdf","ok"]
[{"$f":"A428","v":30},420,0,0,"C:\\Users\\andre\\WEB.DE Online-Speicher\\Website\\klima-retten.info\\Downloads\\RV\\ESPM_P30_B420_RM-3.pdf","ok"]
[{"$f":"A429","v":30},570,0,0,"C:\\Users\\andre\\WEB.DE Online-Speicher\\Website\\klima-retten.info\\Downloads\\RV\\ESPM_P30_B570_RM-3.pdf","ok"]
[{"$f":"A430","v":30},680,0,0,"C:\\Users\\andre\\WEB.DE Online-Speicher\\Website\\klima-retten.info\\Downloads\\RV\\ESPM_P30_B680_RM-3.pdf","ok"]
[{"$f":"A431","v":30},800,0,0,"C:\\Users\\andre\\WEB.DE Online-Speicher\\Website\\klima-retten.info\\Downloads\\RV\\ESPM_P30_B800_RM-3.pdf","ok"]
[{"$f":"A432","v":15},420,0,0,"C:\\Users\\andre\\WEB.DE Online-Speicher\\Website\\klima-retten.info\\Downloads\\RV\\ESPM_P15_B420_RM-3.pdf","ok"]
[{"$f":"A433","v":15},570,0,0,"C:\\Users\\andre\\WEB.DE Online-Speicher\\Website\\klima-retten.info\\Downloads\\RV\\ESPM_P15_B570_RM-3.pdf","ok"]
[{"$f":"A434","v":15},680,0,0,"C:\\Users\\andre\\WEB.DE Online-Speicher\\Website\\klima-retten.info\\Downloads\\RV\\ESPM_P15_B680_RM-3.pdf","ok"]
[{"$f":"A435","v":15},800,0,0,"C:\\Users\\andre\\WEB.DE Online-Speicher\\Website\\klima-retten.info\\Downloads\\RV\\ESPM_P15_B800_RM-3.pdf","ok"]
[{"$f":"A436","v":0},420,0,0,"C:\\Users\\andre\\WEB.DE Online-Speicher\\Website\\klima-retten.info\\Downloads\\RV\\ESPM_P0_B420_RM-3.pdf","ok"]
[{"$f":"A437","v":0},570,0,0,"C:\\Users\\andre\\WEB.DE Online-Speicher\\Website\\klima-retten.info\\Downloads\\RV\\ESPM_P0_B570_RM-3.pdf","ok"]
[{"$f":"A438","v":0},680,0,0,"C:\\Users\\andre\\WEB.DE Online-Speicher\\Website\\klima-retten.info\\Downloads\\RV\\ESPM_P0_B680_RM-3.pdf","ok"]
[{"$f":"A439","v":0},800,0,0,"C:\\Users\\andre\\WEB.DE Online-Speicher\\Website\\klima-retten.info\\Downloads\\RV\\ESPM_P0_B800_RM-3.pdf","ok"]

{"sheet":"print oc","index":13,"n_rows":77,"n_cols":12,"rows_kept":77,"cut":false,"hidden":true,"merged":[[60,6,60,11],[61,6,61,11],[1,1,1,11],[10,10,10,11],[10,6,10,7],[12,6,12,7],[15,1,16,5],[15,6,18,6],[15,7,18,7],[15,8,18,8],[15,9,18,9],[15,11,18,11],[13,6,13,7],[12,8,13,8],[15,10,18,10],[5,8,9,8]]}
[]
[null,"more different framework data and corresponding results at: http://results-espm.save-the-climate.info"]
[]
[null,"framework data (input values here: yellow fields)"]
[null,null,null,null,null,null,null,"Gt","determination"]
[null,"global CO2 budget 2018 - 2100",null,null,null,null,null,{"$f":"'output countries'!J3","v":570},"global budget"]
[null,"land-use change (LUC) emissions 2018 - 2100",null,null,null,null,null,{"$f":"'base data'!M23","v":0}]
[null,"international shipping and aviation (ISA) emissions 2018 - 2100",null,null,null,null,{"$f":"'base data'!K24","v":0.03},{"$f":"'base data'!M24","v":-17.099999999999998}]
[null,"global CO2 emissions 2018 - 2019 without LUC and ISA",null,null,null,null,null,{"$f":"'base data'!M26","v":-73.008118823961169}]
[null,"global CO2 budget 2020 - 2100 to distribute here",null,null,null,null,null,{"$f":"SUM(H6:H9)","v":479.89188117603879}]
[null,"weighting population key in the weighted key",null,null,null,null,{"$f":"'output countries'!J2","v":0.5},null,"national budget"]
[]
[null,"scenario type used for the reference values",null,null,null,null,"RM-6-abs",null,"reference values"]
[null,"minimum annual emissions as a percentage of the country's current emissions",null,null,null,null,{"$f":"'output countries'!X10","v":0}]
[]
[null,"reference values for the countries with the highest emissions",null,null,null,null,"emissions\n2019\nin Gt",{"$f":"'output countries'!T12","v":"per capita 2019\nin t"},{"$f":"'output countries'!U12","v":"share in\nglobal emissions\n2019"},{"$f":"'output countries'!V12","v":"accu-mulated\nshare"},"temporary overshoot in Gt",{"$f":"'output countries'!X12","v":"reduction\nrate\nused\n2020"}]
[]
[null,{"$f":"'output countries'!N14","v":"target year: "},{"$f":"'output countries'!O14","v":2030},null,{"$f":"'output countries'!Q14","v":2050}]
[null,{"$f":"'output countries'!N15","v":"reference year: "},{"$f":"'output countries'!O15","v":1990},{"$f":"'output countries'!P15","v":2010},{"$f":"'output countries'!Q15","v":1990},{"$f":"'output countries'!R15","v":2010}]
[null,{"$f":"'output countries'!N16","v":"China"},{"$f":"'output countries'!O16","v":1.1798153119137362},{"$f":"'output countries'!P16","v":-0.42778987750479536},{"$f":"'output countries'!Q16","v":-1},{"$f":"'output countries'!R16","v":-1},{"$f":"'output countries'!S16/1000","v":11.5351998359035},{"$f":"'output countries'!T16","v":8.0452860138788758},{"$f":"'output countries'!U16","v":0.31466357901914904},{"$f":"'output countries'!V16","v":0.31466357901914904},{"$f":"IF(ISNUMBER('output countries'!W16),'output countries'!W16/1000,\"-\")","v":0},{"$f":"'output countries'!X16","v":-2.2917774419411785E-2}]
[null,{"$f":"'output countries'!N17","v":"United States"},{"$f":"'output countries'!O17","v":-0.66572978610547495},{"$f":"'output countries'!P17","v":-0.69590396045215797},{"$f":"'output countries'!Q17","v":-1},{"$f":"'output countries'!R17","v":-1},{"$f":"'output countries'!S17/1000","v":5.1072610774498299},{"$f":"'output countries'!T17","v":15.5205274509705},{"$f":"'output countries'!U17","v":0.13931870036733388},{"$f":"'output countries'!V17","v":0.45398227938648295},{"$f":"IF(ISNUMBER('output countries'!W17),'output countries'!W17/1000,\"-\")","v":0},{"$f":"'output countries'!X17","v":-2.7632876085145197E-2}]
[null,{"$f":"'output countries'!N18","v":"EU27"},{"$f":"'output countries'!O18","v":-0.61536793855528893},{"$f":"'output countries'!P18","v":-0.57008488085252351},{"$f":"'output countries'!Q18","v":-1},{"$f":"'output countries'!R18","v":-1},{"$f":"'output countries'!S18/1000","v":2.9390684456510581},{"$f":"'output countries'!T18","v":6.6048451652837024},{"$f":"'output countries'!U18","v":8.0173539188484494E-2},{"$f":"'output countries'!V18","v":0.53415581857496741},{"$f":"IF(ISNUMBER('output countries'!W18),'output countries'!W18/1000,\"-\")","v":0},{"$f":"'output countries'!X18","v":-2.1276962462010329E-2}]
[null,{"$f":"'output countries'!N19","v":"India"},{"$f":"'output countries'!O19","v":2.4437043069771538},{"$f":"'output countries'!P19","v":0.17271248470125555},{"$f":"'output countries'!Q19","v":0.19925196417955071},{"$f":"'output countries'!R19","v":-0.59160902756765288},{"$f":"'output countries'!S19/1000","v":2.5973598796205102},{"$f":"'output countries'!T19","v":1.900853433744619},{"$f":"'output countries'!U19","v":7.0852223398704631E-2},{"$f":"'output countries'!V19","v":0.60500804197367208},{"$f":"IF(ISNUMBER('output countries'!W19),'output countries'!W19/1000,\"-\")","v":0},{"$f":"'output countries'!X19","v":-1.0679761675220667E-2}]
[null,{"$f":"'output countries'!N20","v":"Russia"},{"$f":"'output countries'!O20","v":-0.7231910345688366},{"$f":"'output countries'!P20","v":-0.6173634559745067},{"$f":"'output countries'!Q20","v":-1},{"$f":"'output countries'!R20","v":-1},{"$f":"'output countries'!S20/1000","v":1.7920152530053999},{"$f":"'output countries'!T20","v":12.284825793092553},{"$f":"'output countries'!U20","v":4.8883585996706634E-2},{"$f":"'output countries'!V20","v":0.6538916279703787},{"$f":"IF(ISNUMBER('output countries'!W20),'output countries'!W20/1000,\"-\")","v":0},{"$f":"'output countries'!X20","v":-2.6112510293612834E-2}]
[null,{"$f":"'output countries'!N21","v":"Japan"},{"$f":"'output countries'!O21","v":-0.57050003516193315},{"$f":"'output countries'!P21","v":-0.58770155911003208},{"$f":"'output countries'!Q21","v":-1},{"$f":"'output countries'!R21","v":-1},{"$f":"'output countries'!S21/1000","v":1.1537169839886898},{"$f":"'output countries'!T21","v":9.0943894574922215},{"$f":"'output countries'!U21","v":3.1471731788045326E-2},{"$f":"'output countries'!V21","v":0.685363359758424},{"$f":"IF(ISNUMBER('output countries'!W21),'output countries'!W21/1000,\"-\")","v":0},{"$f":"'output countries'!X21","v":-2.3890401590200394E-2}]
[]
[null,"largest national budgets\n2020 - 2100","national budget",{"$f":"'output countries'!I6","v":"weighted key"},{"$f":"'output countries'!J6","v":"emissions 2019"},{"$f":"'output countries'!K6","v":"scope years"}]
[null,null,"Gt",null,"Gt"]
[null,{"$f":"'output countries'!G7","v":"China"},{"$f":"'output countries'!H7/1000","v":120.10353163067737},{"$f":"'output countries'!I7","v":0.25027206406648872},{"$f":"'output countries'!J7/1000","v":11.5351998359035},{"$f":"'output countries'!K7","v":10.411915990987268}]
[null,{"$f":"'output countries'!G8","v":"India"},{"$f":"'output countries'!H8/1000","v":59.506407560869334},{"$f":"'output countries'!I8","v":0.12399961302750315},{"$f":"'output countries'!J8/1000","v":2.5973598796205102},{"$f":"'output countries'!K8","v":22.910343702376576}]
[null,{"$f":"'output countries'!G9","v":"United States"},{"$f":"'output countries'!H9/1000","v":43.665310728810056},{"$f":"'output countries'!I9","v":9.0989892602063638E-2},{"$f":"'output countries'!J9/1000","v":5.1072610774498299},{"$f":"'output countries'!K9","v":8.5496531441492571}]
[null,{"$f":"'output countries'!G10","v":"EU28"},{"$f":"'output countries'!H10/1000","v":37.568834824474827},{"$f":"'output countries'!I10","v":7.8286039622940493E-2},{"$f":"'output countries'!J10/1000","v":3.3039749403609098},{"$f":"'output countries'!K10","v":11.370798962649213}]
[null,{"$f":"'output countries'!G11","v":"EU27"},{"$f":"'output countries'!H11/1000","v":33.079695618426896},{"$f":"'output countries'!I11","v":6.8931559203212006E-2},{"$f":"'output countries'!J11/1000","v":2.9390684456510581},{"$f":"'output countries'!K11","v":11.255163406410267}]
[null,{"$f":"'output countries'!G12","v":"Russia"},{"$f":"'output countries'!H12/1000","v":16.267124694589871},{"$f":"'output countries'!I12","v":3.389747843769543E-2},{"$f":"'output countries'!J12/1000","v":1.7920152530053999},{"$f":"'output countries'!K12","v":9.0775592826613369}]
[null,{"$f":"'output countries'!G13","v":"Indonesia"},{"$f":"'output countries'!H13/1000","v":12.513659054276745},{"$f":"'output countries'!I13","v":2.6075996584085485E-2},{"$f":"'output countries'!J13/1000","v":0.62566300559080001},{"$f":"'output countries'!K13","v":20.000637631531959}]
[null,{"$f":"'output countries'!G14","v":"Japan"},{"$f":"'output countries'!H14/1000","v":11.497808462715149},{"$f":"'output countries'!I14","v":2.3959164373729854E-2},{"$f":"'output countries'!J14/1000","v":1.1537169839886898},{"$f":"'output countries'!K14","v":9.9658829871467542}]
[null,{"$f":"'output countries'!G15","v":"Brazil"},{"$f":"'output countries'!H15/1000","v":9.6948543512589946},{"$f":"'output countries'!I15","v":2.0202163719670495E-2},{"$f":"'output countries'!J15/1000","v":0.47814686895649999},{"$f":"'output countries'!K15","v":20.275892159279195}]
[null,{"$f":"'output countries'!G16","v":"Pakistan"},{"$f":"'output countries'!H16/1000","v":8.2005005327636376},{"$f":"'output countries'!I16","v":1.7088225190780935E-2},{"$f":"'output countries'!J16/1000","v":0.22362595011011999},{"$f":"'output countries'!K16","v":36.670612371799741}]
[null,{"$f":"'output countries'!G17","v":"Germany"},{"$f":"'output countries'!H17/1000","v":7.1967808098314414},{"$f":"'output countries'!I17","v":1.4996671317286665E-2},{"$f":"'output countries'!J17/1000","v":0.70259996206946007},{"$f":"'output countries'!K17","v":10.243070307937133}]
[null,{"$f":"'output countries'!G18","v":"Iran"},{"$f":"'output countries'!H18/1000","v":7.1740000208647352},{"$f":"'output countries'!I18","v":1.4949200647620658E-2},{"$f":"'output countries'!J18/1000","v":0.70198598647853394},{"$f":"'output countries'!K18","v":10.219577255170904}]
[null,{"$f":"'output countries'!G19","v":"Mexico"},{"$f":"'output countries'!H19/1000","v":7.143075199923965},{"$f":"'output countries'!I19","v":1.4884759422099225E-2},{"$f":"'output countries'!J19/1000","v":0.48500360413269999},{"$f":"'output countries'!K19","v":14.727880657088015}]
[null,{"$f":"'output countries'!G20","v":"Nigeria"},{"$f":"'output countries'!H20/1000","v":6.9074541120958948},{"$f":"'output countries'!I20","v":1.4393771561978214E-2},{"$f":"'output countries'!J20/1000","v":0.100223230623513},{"$f":"'output countries'!K20","v":68.920689037091989}]
[null,{"$f":"'output countries'!G21","v":"South Korea"},{"$f":"'output countries'!H21/1000","v":5.8602235667851801},{"$f":"'output countries'!I21","v":1.2211549719124075E-2},{"$f":"'output countries'!J21/1000","v":0.65187023676045996},{"$f":"'output countries'!K21","v":8.9898621478842138}]
[null,{"$f":"'output countries'!G22","v":"Bangladesh"},{"$f":"'output countries'!H22/1000","v":5.7930064189917623},{"$f":"'output countries'!I22","v":1.2071482444744076E-2},{"$f":"'output countries'!J22/1000","v":0.110163867828577},{"$f":"'output countries'!K22","v":52.585357914321797}]
[null,{"$f":"'output countries'!G23","v":"Turkey"},{"$f":"'output countries'!H23/1000","v":5.3167351719873297},{"$f":"'output countries'!I23","v":1.1079027132023913E-2},{"$f":"'output countries'!J23/1000","v":0.415782945785937},{"$f":"'output countries'!K23","v":12.787285351344387}]
[null,{"$f":"'output countries'!G24","v":"Saudi Arabia"},{"$f":"'output countries'!H24/1000","v":5.0888411099799171},{"$f":"'output countries'!I24","v":1.0604140869207948E-2},{"$f":"'output countries'!J24/1000","v":0.61460713366799991},{"$f":"'output countries'!K24","v":8.2798276024059625}]
[null,{"$f":"'output countries'!G25","v":"South Africa"},{"$f":"'output countries'!H25/1000","v":5.0606568066452366},{"$f":"'output countries'!I25","v":1.0545410341686601E-2},{"$f":"'output countries'!J25/1000","v":0.49486233373673399},{"$f":"'output countries'!K25","v":10.22639320400873}]
[null,{"$f":"'output countries'!G26","v":"Vietnam"},{"$f":"'output countries'!H26/1000","v":4.9986574449599379},{"$f":"'output countries'!I26","v":1.0416215904111702E-2},{"$f":"'output countries'!J26/1000","v":0.30524928481519997},{"$f":"'output countries'!K26","v":16.375656532614514}]
[null,{"$f":"'output countries'!G27","v":"Canada"},{"$f":"'output countries'!H27/1000","v":4.9917969013028047},{"$f":"'output countries'!I27","v":1.0401919884682656E-2},{"$f":"'output countries'!J27/1000","v":0.58484570628879395},{"$f":"'output countries'!K27","v":8.5352373243514599}]
[null,{"$f":"'output countries'!G28","v":"Egypt"},{"$f":"'output countries'!H28/1000","v":4.7942959027297398},{"$f":"'output countries'!I28","v":9.9903667696579507E-3},{"$f":"'output countries'!J28/1000","v":0.25536856790129997},{"$f":"'output countries'!K28","v":18.774025096866019}]
[null,{"$f":"'output countries'!G29","v":"United Kingdom"},{"$f":"'output countries'!H29/1000","v":4.4891392060479278},{"$f":"'output countries'!I29","v":9.3544804197284934E-3},{"$f":"'output countries'!J29/1000","v":0.36490649470985198},{"$f":"'output countries'!K29","v":12.302163077742357}]
[null,{"$f":"'output countries'!G30","v":"Philippines"},{"$f":"'output countries'!H30/1000","v":4.3492232059184888},{"$f":"'output countries'!I30","v":9.0629230802157755E-3},{"$f":"'output countries'!J30/1000","v":0.15064008621766001},{"$f":"'output countries'!K30","v":28.871619202569306}]
[null,{"$f":"'output countries'!G31","v":"France and Monaco"},{"$f":"'output countries'!H31/1000","v":4.0872934449909808},{"$f":"'output countries'!I31","v":8.5171131359307959E-3},{"$f":"'output countries'!J31/1000","v":0.31473578882491898},{"$f":"'output countries'!K31","v":12.986427314958636}]
[null,{"$f":"'output countries'!G32","v":"Italy, San Marino and the Holy See"},{"$f":"'output countries'!H32/1000","v":4.0548385940210414},{"$f":"'output countries'!I32","v":8.4494836296961744E-3},{"$f":"'output countries'!J32/1000","v":0.33156295424111998},{"$f":"'output countries'!K32","v":12.229468166314721}]
[null,{"$f":"'output countries'!G33","v":"Thailand"},{"$f":"'output countries'!H33/1000","v":3.9662731184958977},{"$f":"'output countries'!I33","v":8.2649306522461236E-3},{"$f":"'output countries'!J33/1000","v":0.27506465442720002},{"$f":"'output countries'!K33","v":14.419421233001898}]
[null,{"$f":"'output countries'!G34","v":"Australia"},{"$f":"'output countries'!H34/1000","v":3.6206349518255645},{"$f":"'output countries'!I34","v":7.5446889056608292E-3},{"$f":"'output countries'!J34/1000","v":0.43337891027209996},{"$f":"'output countries'!K34","v":8.3544327285153859}]
[null,{"$f":"'output countries'!G35","v":"Ethiopia"},{"$f":"'output countries'!H35/1000","v":3.6059473427120277},{"$f":"'output countries'!I35","v":7.5140828260631849E-3},{"$f":"'output countries'!J35/1000","v":1.8252483672999999E-2},{"$f":"'output countries'!K35","v":197.55926959387605}]
[null,{"$f":"'output countries'!G36","v":"Poland"},{"$f":"'output countries'!H36/1000","v":3.257757217551235},{"$f":"'output countries'!I36","v":6.7885233014729658E-3},{"$f":"'output countries'!J36/1000","v":0.31765424474009002},{"$f":"'output countries'!K36","v":10.255670344392176}]
[null,{"$f":"'output countries'!G37","v":"Spain and Andorra"},{"$f":"'output countries'!H37/1000","v":3.1535429538224902},{"$f":"'output countries'!I37","v":6.5713613368376111E-3},{"$f":"'output countries'!J37/1000","v":0.25931024086435001},{"$f":"'output countries'!K37","v":12.161274245517234}]
[null,{"$f":"'output countries'!G38","v":"Democratic Republic of the Congo"},{"$f":"'output countries'!H38/1000","v":2.719360616151091},{"$f":"'output countries'!I38","v":5.6666110072271627E-3},{"$f":"'output countries'!J38/1000","v":2.9840441598520001E-3},{"$f":"'output countries'!K38","v":911.3003931838474}]
[null,{"$f":"'output countries'!G39","v":"Argentina"},{"$f":"'output countries'!H39/1000","v":2.6982490385050379},{"$f":"'output countries'!I39","v":5.6226186446259943E-3},{"$f":"'output countries'!J39/1000","v":0.19941376942869998},{"$f":"'output countries'!K39","v":13.53090634731616},"Brief description of the RM Scenario Types:"]
[null,{"$f":"'output countries'!G40","v":"Ukraine"},{"$f":"'output countries'!H40/1000","v":2.6540468426294486},{"$f":"'output countries'!I40","v":5.5305099893029116E-3},{"$f":"'output countries'!J40/1000","v":0.196401039343437},{"$f":"'output countries'!K40","v":13.513405282893872},"https://www.klima-retten.info/Downloads/RM-Scenario-Types_short.pdf"]
[null,{"$f":"'output countries'!G41","v":"Malaysia"},{"$f":"'output countries'!H41/1000","v":2.6225784359598894},{"$f":"'output countries'!I41","v":5.4649360383695438E-3},{"$f":"'output countries'!J41/1000","v":0.24883265995410001},{"$f":"'output countries'!K41","v":10.539526589651269}]
[null,{"$f":"'output countries'!G42","v":"Taiwan"},{"$f":"'output countries'!H42/1000","v":2.5512050211456883},{"$f":"'output countries'!I42","v":5.3162079235298202E-3},{"$f":"'output countries'!J42/1000","v":0.2767848421711},{"$f":"'output countries'!K42","v":9.2172858930208701}]
[null,{"$f":"'output countries'!G43","v":"Algeria"},{"$f":"'output countries'!H43/1000","v":2.5211670291073793},{"$f":"'output countries'!I43","v":5.2536146744740185E-3},{"$f":"'output countries'!J43/1000","v":0.18056991648247001},{"$f":"'output countries'!K43","v":13.962276099031911}]
[null,{"$f":"'output countries'!G44","v":"Iraq"},{"$f":"'output countries'!H44/1000","v":2.5162720808800869},{"$f":"'output countries'!I44","v":5.2434145681181932E-3},{"$f":"'output countries'!J44/1000","v":0.19761224373245001},{"$f":"'output countries'!K44","v":12.733381461357745}]
[null,{"$f":"'output countries'!G45","v":"Kazakhstan"},{"$f":"'output countries'!H45/1000","v":2.3925433908948062},{"$f":"'output countries'!I45","v":4.9855883892671012E-3},{"$f":"'output countries'!J45/1000","v":0.27736466835543699},{"$f":"'output countries'!K45","v":8.62598471925347}]
[null,{"$f":"'output countries'!G46","v":"Colombia"},{"$f":"'output countries'!H46/1000","v":2.1324289547696749},{"$f":"'output countries'!I46","v":4.4435612237153799E-3},{"$f":"'output countries'!J46/1000","v":8.6549578476199998E-2},{"$f":"'output countries'!K46","v":24.638236168372153}]
[null,{"$f":"'output countries'!G47","v":"Myanmar/Burma"},{"$f":"'output countries'!H47/1000","v":1.9974240852919378},{"$f":"'output countries'!I47","v":4.1622377115382424E-3},{"$f":"'output countries'!J47/1000","v":4.8310662007027196E-2},{"$f":"'output countries'!K47","v":41.345409114894672}]
[null,{"$f":"'output countries'!G48","v":"Tanzania"},{"$f":"'output countries'!H48/1000","v":1.8917347213209597},{"$f":"'output countries'!I48","v":3.9420019290282897E-3},{"$f":"'output countries'!J48/1000","v":1.334308773428E-2},{"$f":"'output countries'!K48","v":141.77638332249478}]
[null,{"$f":"'output countries'!G49","v":"Sudan and South Sudan"},{"$f":"'output countries'!H49/1000","v":1.8236675109045752},{"$f":"'output countries'!I49","v":3.8001632918553152E-3},{"$f":"'output countries'!J49/1000","v":2.2572475717940001E-2},{"$f":"'output countries'!K49","v":80.791647920798198}]
[null,{"$f":"'output countries'!G50","v":"Kenya"},{"$f":"'output countries'!H50/1000","v":1.7651232824920091},{"$f":"'output countries'!I50","v":3.6781686703395359E-3},{"$f":"'output countries'!J50/1000","v":1.9813010846438998E-2},{"$f":"'output countries'!K50","v":89.089098884193845}]
[null,"sum without EU",{"$f":"SUM(C29:C72)-SUMIF($B$29:$B$72,\"EU27\",C29:C72)-SUMIF($B$29:$B$72,\"EU28\",C29:C72)","v":416.64517152749704},null,{"$f":"SUM(E29:E72)-SUMIF($B$29:$B$72,\"EU27\",E29:E72)-SUMIF($B$29:$B$72,\"EU28\",E29:E72)","v":33.171609571094272}]
[]
[null,"sum across all countries",{"$f":"'output countries'!C220/1000","v":479.89188117603879},null,{"$f":"'output countries'!E219/1000","v":36.658833767353542},{"$f":"C75/E75","v":13.090756902457864}]
[]
[null,"coverage rate",{"$f":"C73/C75","v":0.86820633536548419},null,{"$f":"E73/E75","v":0.90487356421674248}]

{"sheet":"data countries","index":14,"n_rows":239,"n_cols":16,"rows_kept":239,"cut":false,"hidden":false,"merged":[[0,2,0,12]]}
[null,"Source:","EDGAR",null,null,null,null,null,null,null,null,null,null,null,null,"UN"]
[]
[null,"Country",{"$f":"C12","v":"CO2 emissions\n1990"},{"$f":"D12","v":"CO2 emissions\n2010"},"CO2 emissions\n2011","CO2 emissions\n2012","CO2 emissions\n2013",{"$f":"H12","v":"CO2 emissions\n2014"},"CO2 emissions\n2015","CO2 emissions\n2016","CO2 emissions\n2017","CO2 emissions\n2018","CO2 emissions\n2019","last actual change rate","average annual change rate last two years","population\n2019"]
[null,"Selected country in sheet \"reference vlaues\"",{"$f":"C13","v":"Mill. t"},"Mill. t","Mill. t","Mill. t","Mill. t",{"$f":"H13","v":"Mill. t"},"Mill. t","Mill. t","Mill. t","Mill. t","Mill. t","%","%","Mill."]
[null,{"$f":"'reference values'!B2","v":"EU27"},{"$f":"IF(VLOOKUP($B$5,$B$14:$P$223,C11,FALSE)=0,\"no data\",VLOOKUP($B$5,$B$14:$P$223,C11,FALSE))","v":3820.6582623995596},3418.2274548906998,3303.4351498573401,3235.0388989828903,3159.4149102183901,3017.44792143002,3076.8385112354899,3082.3843709535399,3107.7764971623601,3061.129954815643,{"$f":"VLOOKUP($B$5,$B$14:$P$223,M11,FALSE)","v":2939.068445651058},{"$f":"VLOOKUP($B$5,$B$14:$P$223,N11,FALSE)","v":-3.9874657713424688E-2},{"$f":"VLOOKUP($B$5,$B$14:$P$223,O11,FALSE)","v":-2.7442138547709882E-2},{"$f":"VLOOKUP($B$5,$B$14:$P$223,P11,FALSE)","v":444.98672899999985}]
[]
[null,null,null,null,null,null,null,null,null,null,null,null,null,null,null,"http://esa.un.org/unpd/wpp/unpp/panel_population.htm"]
[null,null,null,null,null,null,null,null,null,null,null,null,null,null,null,"sheet \"UN-P\""]
[]
[null,null,22,42,{"$f":"D10+1","v":43},44,45,46,47,{"$f":"I10+1","v":48},49,50,51,52,53,54]
[null,1,{"$f":"B11+1","v":2},{"$f":"C11+1","v":3},4,5,6,7,8,9,10,11,12,13,14,15]
[null,"Country","CO2 emissions\n1990","CO2 emissions\n2010","CO2 emissions\n2011","CO2 emissions\n2012","CO2 emissions\n2013","CO2 emissions\n2014","CO2 emissions\n2015","CO2 emissions\n2016","CO2 emissions\n2017","CO2 emissions\n2018","CO2 emissions\n2019","last actual change rate","average annual change rate last two years","population\n2019"]
[null,null,"Mill. t",{"$f":"C13","v":"Mill. t"},{"$f":"D13","v":"Mill. t"},"Mill. t","Mill. t","Mill. t","Mill. t","Mill. t","Mill. t","Mill. t","Mill. t","%","%","Mill."]
[null,{"$f":"'EDGAR-2019'!A3","v":"Afghanistan"},{"$f":"VLOOKUP($B14,'EDGAR-2019'!$A$3:$AY$215,C$10,FALSE)","v":2.5823890287900002},{"$f":"VLOOKUP($B14,'EDGAR-2019'!$A$3:$AY$215,D$10,FALSE)","v":5.6419219664720996},{"$f":"VLOOKUP($B14,'EDGAR-2019'!$A$3:$AY$215,E$10,FALSE)","v":6.9232136869070997},{"$f":"VLOOKUP($B14,'EDGAR-2019'!$A$3:$AY$215,F$10,FALSE)","v":9.6956963483041001},{"$f":"VLOOKUP($B14,'EDGAR-2019'!$A$3:$AY$215,G$10,FALSE)","v":16.3402576462166},{"$f":"VLOOKUP($B14,'EDGAR-2019'!$A$3:$AY$215,H$10,FALSE)","v":10.3705940391803},{"$f":"VLOOKUP($B14,'EDGAR-2019'!$A$3:$AY$215,I$10,FALSE)","v":9.8525739077611991},{"$f":"VLOOKUP($B14,'EDGAR-2019'!$A$3:$AY$215,J$10,FALSE)","v":9.4815688277611994},{"$f":"VLOOKUP($B14,'EDGAR-2019'!$A$3:$AY$215,K$10,FALSE)","v":9.9912861677611993},{"$f":"VLOOKUP($B14,'EDGAR-2019'!$A$3:$AY$215,L$10,FALSE)","v":10.4045863277612},{"$f":"VLOOKUP($B14,'EDGAR-2019'!$A$3:$AY$215,M$10,FALSE)","v":10.9988564877612},{"$f":"M14/L14-1","v":5.7116173702589812E-2},{"$f":"AVERAGE(M14/L14-1,L14/K14-1)","v":4.9241117697393255E-2},{"$f":"VLOOKUP($B14,'UN-P'!$C$18:$CK$333,6,FALSE)/1000","v":38.041753999999997}]
[null,{"$f":"'EDGAR-2019'!A4","v":"Albania"},{"$f":"VLOOKUP($B15,'EDGAR-2019'!$A$3:$AY$215,C$10,FALSE)","v":6.6471360242620001},{"$f":"VLOOKUP($B15,'EDGAR-2019'!$A$3:$AY$215,D$10,FALSE)","v":4.5996947895},{"$f":"VLOOKUP($B15,'EDGAR-2019'!$A$3:$AY$215,E$10,FALSE)","v":4.9951696721700003},{"$f":"VLOOKUP($B15,'EDGAR-2019'!$A$3:$AY$215,F$10,FALSE)","v":4.5546108480600003},{"$f":"VLOOKUP($B15,'EDGAR-2019'!$A$3:$AY$215,G$10,FALSE)","v":4.7877485247499996},{"$f":"VLOOKUP($B15,'EDGAR-2019'!$A$3:$AY$215,H$10,FALSE)","v":5.3222875810800003},{"$f":"VLOOKUP($B15,'EDGAR-2019'!$A$3:$AY$215,I$10,FALSE)","v":4.9759505084900004},{"$f":"VLOOKUP($B15,'EDGAR-2019'!$A$3:$AY$215,J$10,FALSE)","v":4.8152451444000004},{"$f":"VLOOKUP($B15,'EDGAR-2019'!$A$3:$AY$215,K$10,FALSE)","v":5.4652819936660002},{"$f":"VLOOKUP($B15,'EDGAR-2019'!$A$3:$AY$215,L$10,FALSE)","v":5.4464715575709999},{"$f":"VLOOKUP($B15,'EDGAR-2019'!$A$3:$AY$215,M$10,FALSE)","v":5.659284520171},{"$f":"M15/L15-1","v":3.9073547038756651E-2},{"$f":"AVERAGE(M15/L15-1,L15/K15-1)","v":1.7815870909339115E-2},{"$f":"VLOOKUP($B15,'UN-P'!$C$18:$CK$333,6,FALSE)/1000","v":2.8809169999999997}]
[null,{"$f":"'EDGAR-2019'!A5","v":"Algeria"},{"$f":"VLOOKUP($B16,'EDGAR-2019'!$A$3:$AY$215,C$10,FALSE)","v":67.969325744800003},{"$f":"VLOOKUP($B16,'EDGAR-2019'!$A$3:$AY$215,D$10,FALSE)","v":116.43738652397001},{"$f":"VLOOKUP($B16,'EDGAR-2019'!$A$3:$AY$215,E$10,FALSE)","v":122.7905633158},{"$f":"VLOOKUP($B16,'EDGAR-2019'!$A$3:$AY$215,F$10,FALSE)","v":137.14872915648999},{"$f":"VLOOKUP($B16,'EDGAR-2019'!$A$3:$AY$215,G$10,FALSE)","v":141.45051578491999},{"$f":"VLOOKUP($B16,'EDGAR-2019'!$A$3:$AY$215,H$10,FALSE)","v":152.70786299608},{"$f":"VLOOKUP($B16,'EDGAR-2019'!$A$3:$AY$215,I$10,FALSE)","v":162.42489025295001},{"$f":"VLOOKUP($B16,'EDGAR-2019'!$A$3:$AY$215,J$10,FALSE)","v":160.64125733495001},{"$f":"VLOOKUP($B16,'EDGAR-2019'!$A$3:$AY$215,K$10,FALSE)","v":159.91020299354},{"$f":"VLOOKUP($B16,'EDGAR-2019'!$A$3:$AY$215,L$10,FALSE)","v":171.32523035246999},{"$f":"VLOOKUP($B16,'EDGAR-2019'!$A$3:$AY$215,M$10,FALSE)","v":180.56991648247001},5.3959864002405267E-2,6.2671923960562204E-2,{"$f":"VLOOKUP($B16,'UN-P'!$C$18:$CK$333,6,FALSE)/1000","v":43.053053999999996}]
[null,{"$f":"'EDGAR-2019'!A6","v":"Angola"},{"$f":"VLOOKUP($B17,'EDGAR-2019'!$A$3:$AY$215,C$10,FALSE)","v":11.296596664387},{"$f":"VLOOKUP($B17,'EDGAR-2019'!$A$3:$AY$215,D$10,FALSE)","v":23.810683524167001},{"$f":"VLOOKUP($B17,'EDGAR-2019'!$A$3:$AY$215,E$10,FALSE)","v":24.774455380086},{"$f":"VLOOKUP($B17,'EDGAR-2019'!$A$3:$AY$215,F$10,FALSE)","v":23.719402896009999},{"$f":"VLOOKUP($B17,'EDGAR-2019'!$A$3:$AY$215,G$10,FALSE)","v":26.622531162232999},{"$f":"VLOOKUP($B17,'EDGAR-2019'!$A$3:$AY$215,H$10,FALSE)","v":28.809556655929999},{"$f":"VLOOKUP($B17,'EDGAR-2019'!$A$3:$AY$215,I$10,FALSE)","v":31.476188609771},{"$f":"VLOOKUP($B17,'EDGAR-2019'!$A$3:$AY$215,J$10,FALSE)","v":31.979254759415699},{"$f":"VLOOKUP($B17,'EDGAR-2019'!$A$3:$AY$215,K$10,FALSE)","v":27.3795495623223},{"$f":"VLOOKUP($B17,'EDGAR-2019'!$A$3:$AY$215,L$10,FALSE)","v":25.493543289548501},{"$f":"VLOOKUP($B17,'EDGAR-2019'!$A$3:$AY$215,M$10,FALSE)","v":25.819085779548502},1.2769605476280033E-2,-2.805707638190913E-2,{"$f":"VLOOKUP($B17,'UN-P'!$C$18:$CK$333,6,FALSE)/1000","v":31.825294999999997}]
[null,{"$f":"'EDGAR-2019'!A7","v":"Anguilla"},{"$f":"VLOOKUP($B18,'EDGAR-2019'!$A$3:$AY$215,C$10,FALSE)","v":6.1144289948000001E-3},{"$f":"VLOOKUP($B18,'EDGAR-2019'!$A$3:$AY$215,D$10,FALSE)","v":2.4004519832400002E-2},{"$f":"VLOOKUP($B18,'EDGAR-2019'!$A$3:$AY$215,E$10,FALSE)","v":2.6008036776400002E-2},{"$f":"VLOOKUP($B18,'EDGAR-2019'!$A$3:$AY$215,F$10,FALSE)","v":2.60232096264E-2},{"$f":"VLOOKUP($B18,'EDGAR-2019'!$A$3:$AY$215,G$10,FALSE)","v":2.7940523751499999E-2},{"$f":"VLOOKUP($B18,'EDGAR-2019'!$A$3:$AY$215,H$10,FALSE)","v":2.7896050912700001E-2},{"$f":"VLOOKUP($B18,'EDGAR-2019'!$A$3:$AY$215,I$10,FALSE)","v":2.8005445025299999E-2},{"$f":"VLOOKUP($B18,'EDGAR-2019'!$A$3:$AY$215,J$10,FALSE)","v":2.84467619684E-2},{"$f":"VLOOKUP($B18,'EDGAR-2019'!$A$3:$AY$215,K$10,FALSE)","v":2.30693220983E-2},{"$f":"VLOOKUP($B18,'EDGAR-2019'!$A$3:$AY$215,L$10,FALSE)","v":2.38677500641E-2},{"$f":"VLOOKUP($B18,'EDGAR-2019'!$A$3:$AY$215,M$10,FALSE)","v":2.3439420369899999E-2},-1.7945960262264582E-2,8.3319922993067563E-3,{"$f":"VLOOKUP($B18,'UN-P'!$C$18:$CK$333,6,FALSE)/1000","v":1.4869E-2}]
[null,{"$f":"'EDGAR-2019'!A8","v":"Antigua and Barbuda"},{"$f":"VLOOKUP($B19,'EDGAR-2019'!$A$3:$AY$215,C$10,FALSE)","v":0.22343220608986999},{"$f":"VLOOKUP($B19,'EDGAR-2019'!$A$3:$AY$215,D$10,FALSE)","v":0.35645657857594998},{"$f":"VLOOKUP($B19,'EDGAR-2019'!$A$3:$AY$215,E$10,FALSE)","v":0.35301668938620001},{"$f":"VLOOKUP($B19,'EDGAR-2019'!$A$3:$AY$215,F$10,FALSE)","v":0.61546893345489995},{"$f":"VLOOKUP($B19,'EDGAR-2019'!$A$3:$AY$215,G$10,FALSE)","v":0.6358595767088},{"$f":"VLOOKUP($B19,'EDGAR-2019'!$A$3:$AY$215,H$10,FALSE)","v":0.56825826022220005},{"$f":"VLOOKUP($B19,'EDGAR-2019'!$A$3:$AY$215,I$10,FALSE)","v":0.62413106022580001},{"$f":"VLOOKUP($B19,'EDGAR-2019'!$A$3:$AY$215,J$10,FALSE)","v":0.6319464160578},{"$f":"VLOOKUP($B19,'EDGAR-2019'!$A$3:$AY$215,K$10,FALSE)","v":0.50836262209479999},{"$f":"VLOOKUP($B19,'EDGAR-2019'!$A$3:$AY$215,L$10,FALSE)","v":0.52344476542639995},{"$f":"VLOOKUP($B19,'EDGAR-2019'!$A$3:$AY$215,M$10,FALSE)","v":0.50999899557320005},-2.5687084371255331E-2,1.9904981982338255E-3,{"$f":"VLOOKUP($B19,'UN-P'!$C$18:$CK$333,6,FALSE)/1000","v":9.7117999999999996E-2}]
[null,{"$f":"'EDGAR-2019'!A9","v":"Argentina"},{"$f":"VLOOKUP($B20,'EDGAR-2019'!$A$3:$AY$215,C$10,FALSE)","v":108.1223503583},{"$f":"VLOOKUP($B20,'EDGAR-2019'!$A$3:$AY$215,D$10,FALSE)","v":191.57095263580001},{"$f":"VLOOKUP($B20,'EDGAR-2019'!$A$3:$AY$215,E$10,FALSE)","v":199.7267519692},{"$f":"VLOOKUP($B20,'EDGAR-2019'!$A$3:$AY$215,F$10,FALSE)","v":205.57829277050001},{"$f":"VLOOKUP($B20,'EDGAR-2019'!$A$3:$AY$215,G$10,FALSE)","v":202.03548617429999},{"$f":"VLOOKUP($B20,'EDGAR-2019'!$A$3:$AY$215,H$10,FALSE)","v":209.98132980470001},{"$f":"VLOOKUP($B20,'EDGAR-2019'!$A$3:$AY$215,I$10,FALSE)","v":212.8736207174},{"$f":"VLOOKUP($B20,'EDGAR-2019'!$A$3:$AY$215,J$10,FALSE)","v":212.611025826},{"$f":"VLOOKUP($B20,'EDGAR-2019'!$A$3:$AY$215,K$10,FALSE)","v":206.06061915974999},{"$f":"VLOOKUP($B20,'EDGAR-2019'!$A$3:$AY$215,L$10,FALSE)","v":204.9208239557},{"$f":"VLOOKUP($B20,'EDGAR-2019'!$A$3:$AY$215,M$10,FALSE)","v":199.41376942869999},-2.687406004277304E-2,-1.6202709384812941E-2,{"$f":"VLOOKUP($B20,'UN-P'!$C$18:$CK$333,6,FALSE)/1000","v":44.780677000000004}]
[null,{"$f":"'EDGAR-2019'!A10","v":"Armenia"},{"$f":"VLOOKUP($B21,'EDGAR-2019'!$A$3:$AY$215,C$10,FALSE)","v":20.699069346999998},{"$f":"VLOOKUP($B21,'EDGAR-2019'!$A$3:$AY$215,D$10,FALSE)","v":4.4618751561999996},{"$f":"VLOOKUP($B21,'EDGAR-2019'!$A$3:$AY$215,E$10,FALSE)","v":5.0885146602000004},{"$f":"VLOOKUP($B21,'EDGAR-2019'!$A$3:$AY$215,F$10,FALSE)","v":5.8685824381999998},{"$f":"VLOOKUP($B21,'EDGAR-2019'!$A$3:$AY$215,G$10,FALSE)","v":5.5554937942000002},{"$f":"VLOOKUP($B21,'EDGAR-2019'!$A$3:$AY$215,H$10,FALSE)","v":5.5291025451999998},{"$f":"VLOOKUP($B21,'EDGAR-2019'!$A$3:$AY$215,I$10,FALSE)","v":5.0060359692},{"$f":"VLOOKUP($B21,'EDGAR-2019'!$A$3:$AY$215,J$10,FALSE)","v":5.0731306262000002},{"$f":"VLOOKUP($B21,'EDGAR-2019'!$A$3:$AY$215,K$10,FALSE)","v":5.4128674293000003},{"$f":"VLOOKUP($B21,'EDGAR-2019'!$A$3:$AY$215,L$10,FALSE)","v":6.1974867271000003},{"$f":"VLOOKUP($B21,'EDGAR-2019'!$A$3:$AY$215,M$10,FALSE)","v":5.9219781188000002},-4.4454892835070092E-2,5.0249785664007729E-2,{"$f":"VLOOKUP($B21,'UN-P'!$C$18:$CK$333,6,FALSE)/1000","v":2.9577310000000003}]
[null,{"$f":"'EDGAR-2019'!A11","v":"Aruba"},{"$f":"VLOOKUP($B22,'EDGAR-2019'!$A$3:$AY$215,C$10,FALSE)","v":0.29731870874319999},{"$f":"VLOOKUP($B22,'EDGAR-2019'!$A$3:$AY$215,D$10,FALSE)","v":0.49846227560630002},{"$f":"VLOOKUP($B22,'EDGAR-2019'!$A$3:$AY$215,E$10,FALSE)","v":0.45857379762189998},{"$f":"VLOOKUP($B22,'EDGAR-2019'!$A$3:$AY$215,F$10,FALSE)","v":0.79974518487640001},{"$f":"VLOOKUP($B22,'EDGAR-2019'!$A$3:$AY$215,G$10,FALSE)","v":1.0163062106361},{"$f":"VLOOKUP($B22,'EDGAR-2019'!$A$3:$AY$215,H$10,FALSE)","v":0.95812469602060002},{"$f":"VLOOKUP($B22,'EDGAR-2019'!$A$3:$AY$215,I$10,FALSE)","v":0.95958302279240004},{"$f":"VLOOKUP($B22,'EDGAR-2019'!$A$3:$AY$215,J$10,FALSE)","v":0.97160780158760096},{"$f":"VLOOKUP($B22,'EDGAR-2019'!$A$3:$AY$215,K$10,FALSE)","v":0.78142491367620004},{"$f":"VLOOKUP($B22,'EDGAR-2019'!$A$3:$AY$215,L$10,FALSE)","v":0.80463597786929997},{"$f":"VLOOKUP($B22,'EDGAR-2019'!$A$3:$AY$215,M$10,FALSE)","v":0.78394590820020005},-2.5713577615417926E-2,1.9949671235832134E-3,{"$f":"VLOOKUP($B22,'UN-P'!$C$18:$CK$333,6,FALSE)/1000","v":0.10631399999999999}]
[null,{"$f":"'EDGAR-2019'!A12","v":"Australia"},{"$f":"VLOOKUP($B23,'EDGAR-2019'!$A$3:$AY$215,C$10,FALSE)","v":277.60962603830001},{"$f":"VLOOKUP($B23,'EDGAR-2019'!$A$3:$AY$215,D$10,FALSE)","v":413.27898696429997},{"$f":"VLOOKUP($B23,'EDGAR-2019'!$A$3:$AY$215,E$10,FALSE)","v":410.89696461950001},{"$f":"VLOOKUP($B23,'EDGAR-2019'!$A$3:$AY$215,F$10,FALSE)","v":410.48511145369997},{"$f":"VLOOKUP($B23,'EDGAR-2019'!$A$3:$AY$215,G$10,FALSE)","v":406.0959061785},{"$f":"VLOOKUP($B23,'EDGAR-2019'!$A$3:$AY$215,H$10,FALSE)","v":396.94325508899999},{"$f":"VLOOKUP($B23,'EDGAR-2019'!$A$3:$AY$215,I$10,FALSE)","v":404.02130018219998},{"$f":"VLOOKUP($B23,'EDGAR-2019'!$A$3:$AY$215,J$10,FALSE)","v":411.85764432573001},{"$f":"VLOOKUP($B23,'EDGAR-2019'!$A$3:$AY$215,K$10,FALSE)","v":414.45586567096001},{"$f":"VLOOKUP($B23,'EDGAR-2019'!$A$3:$AY$215,L$10,FALSE)","v":416.04940426309997},{"$f":"VLOOKUP($B23,'EDGAR-2019'!$A$3:$AY$215,M$10,FALSE)","v":433.37891027209997},4.1652519704225455E-2,2.2748706515474781E-2,{"$f":"VLOOKUP($B23,'UN-P'!$C$18:$CK$333,6,FALSE)/1000","v":25.203198}]
[null,{"$f":"'EDGAR-2019'!A13","v":"Austria"},{"$f":"VLOOKUP($B24,'EDGAR-2019'!$A$3:$AY$215,C$10,FALSE)","v":62.927026767210002},{"$f":"VLOOKUP($B24,'EDGAR-2019'!$A$3:$AY$215,D$10,FALSE)","v":75.329092164000002},{"$f":"VLOOKUP($B24,'EDGAR-2019'!$A$3:$AY$215,E$10,FALSE)","v":73.477823073078994},{"$f":"VLOOKUP($B24,'EDGAR-2019'!$A$3:$AY$215,F$10,FALSE)","v":70.767126262298007},{"$f":"VLOOKUP($B24,'EDGAR-2019'!$A$3:$AY$215,G$10,FALSE)","v":70.995298594303193},{"$f":"VLOOKUP($B24,'EDGAR-2019'!$A$3:$AY$215,H$10,FALSE)","v":67.498782254657399},{"$f":"VLOOKUP($B24,'EDGAR-2019'!$A$3:$AY$215,I$10,FALSE)","v":69.037782781642406},{"$f":"VLOOKUP($B24,'EDGAR-2019'!$A$3:$AY$215,J$10,FALSE)","v":68.859183640906195},{"$f":"VLOOKUP($B24,'EDGAR-2019'!$A$3:$AY$215,K$10,FALSE)","v":71.715301918286997},{"$f":"VLOOKUP($B24,'EDGAR-2019'!$A$3:$AY$215,L$10,FALSE)","v":70.446920686689197},{"$f":"VLOOKUP($B24,'EDGAR-2019'!$A$3:$AY$215,M$10,FALSE)","v":72.363175590574599},2.7201400504188067E-2,4.7575301219382471E-3,{"$f":"VLOOKUP($B24,'UN-P'!$C$18:$CK$333,6,FALSE)/1000","v":8.9551020000000001}]
[null,{"$f":"'EDGAR-2019'!A14","v":"Azerbaijan"},{"$f":"VLOOKUP($B25,'EDGAR-2019'!$A$3:$AY$215,C$10,FALSE)","v":54.633221093160003},{"$f":"VLOOKUP($B25,'EDGAR-2019'!$A$3:$AY$215,D$10,FALSE)","v":24.745678298630001},{"$f":"VLOOKUP($B25,'EDGAR-2019'!$A$3:$AY$215,E$10,FALSE)","v":28.00286265191},{"$f":"VLOOKUP($B25,'EDGAR-2019'!$A$3:$AY$215,F$10,FALSE)","v":30.81060324341},{"$f":"VLOOKUP($B25,'EDGAR-2019'!$A$3:$AY$215,G$10,FALSE)","v":31.745914099499998},{"$f":"VLOOKUP($B25,'EDGAR-2019'!$A$3:$AY$215,H$10,FALSE)","v":33.09571327514},{"$f":"VLOOKUP($B25,'EDGAR-2019'!$A$3:$AY$215,I$10,FALSE)","v":32.79315525773},{"$f":"VLOOKUP($B25,'EDGAR-2019'!$A$3:$AY$215,J$10,FALSE)","v":33.29762860113},{"$f":"VLOOKUP($B25,'EDGAR-2019'!$A$3:$AY$215,K$10,FALSE)","v":32.648302337049998},{"$f":"VLOOKUP($B25,'EDGAR-2019'!$A$3:$AY$215,L$10,FALSE)","v":33.716113233039998},{"$f":"VLOOKUP($B25,'EDGAR-2019'!$A$3:$AY$215,M$10,FALSE)","v":35.983696817039998},6.7255189479488608E-2,4.9980832420624011E-2,{"$f":"VLOOKUP($B25,'UN-P'!$C$18:$CK$333,6,FALSE)/1000","v":10.047718000000001}]
[null,{"$f":"'EDGAR-2019'!A15","v":"Bahamas"},{"$f":"VLOOKUP($B26,'EDGAR-2019'!$A$3:$AY$215,C$10,FALSE)","v":1.5243596465975},{"$f":"VLOOKUP($B26,'EDGAR-2019'!$A$3:$AY$215,D$10,FALSE)","v":1.7474384394972},{"$f":"VLOOKUP($B26,'EDGAR-2019'!$A$3:$AY$215,E$10,FALSE)","v":1.7282836149530001},{"$f":"VLOOKUP($B26,'EDGAR-2019'!$A$3:$AY$215,F$10,FALSE)","v":3.0143096480840001},{"$f":"VLOOKUP($B26,'EDGAR-2019'!$A$3:$AY$215,G$10,FALSE)","v":3.3676511424675999},{"$f":"VLOOKUP($B26,'EDGAR-2019'!$A$3:$AY$215,H$10,FALSE)","v":3.1359393085781},{"$f":"VLOOKUP($B26,'EDGAR-2019'!$A$3:$AY$215,I$10,FALSE)","v":2.9976655587316001},{"$f":"VLOOKUP($B26,'EDGAR-2019'!$A$3:$AY$215,J$10,FALSE)","v":3.0352199434984},{"$f":"VLOOKUP($B26,'EDGAR-2019'!$A$3:$AY$215,K$10,FALSE)","v":2.4414084980880002},{"$f":"VLOOKUP($B26,'EDGAR-2019'!$A$3:$AY$215,L$10,FALSE)","v":2.5138785398435002},{"$f":"VLOOKUP($B26,'EDGAR-2019'!$A$3:$AY$215,M$10,FALSE)","v":2.449274735111},-2.5698856849512675E-2,1.9924224601437501E-3,{"$f":"VLOOKUP($B26,'UN-P'!$C$18:$CK$333,6,FALSE)/1000","v":0.38948200000000005}]
[null,{"$f":"'EDGAR-2019'!A16","v":"Bahrain"},{"$f":"VLOOKUP($B27,'EDGAR-2019'!$A$3:$AY$215,C$10,FALSE)","v":11.988305059309999},{"$f":"VLOOKUP($B27,'EDGAR-2019'!$A$3:$AY$215,D$10,FALSE)","v":28.842225200470001},{"$f":"VLOOKUP($B27,'EDGAR-2019'!$A$3:$AY$215,E$10,FALSE)","v":29.043770460440001},{"$f":"VLOOKUP($B27,'EDGAR-2019'!$A$3:$AY$215,F$10,FALSE)","v":29.62152895789},{"$f":"VLOOKUP($B27,'EDGAR-2019'!$A$3:$AY$215,G$10,FALSE)","v":32.178619808070003},{"$f":"VLOOKUP($B27,'EDGAR-2019'!$A$3:$AY$215,H$10,FALSE)","v":33.268334912199997},{"$f":"VLOOKUP($B27,'EDGAR-2019'!$A$3:$AY$215,I$10,FALSE)","v":33.61617837451},{"$f":"VLOOKUP($B27,'EDGAR-2019'!$A$3:$AY$215,J$10,FALSE)","v":34.13681715005},{"$f":"VLOOKUP($B27,'EDGAR-2019'!$A$3:$AY$215,K$10,FALSE)","v":34.546816041440003},{"$f":"VLOOKUP($B27,'EDGAR-2019'!$A$3:$AY$215,L$10,FALSE)","v":32.912264916129999},{"$f":"VLOOKUP($B27,'EDGAR-2019'!$A$3:$AY$215,M$10,FALSE)","v":35.438383923129997},7.6753119648170109E-2,1.4719515375338943E-2,{"$f":"VLOOKUP($B27,'UN-P'!$C$18:$CK$333,6,FALSE)/1000","v":1.6411720000000001}]
[null,{"$f":"'EDGAR-2019'!A17","v":"Bangladesh"},{"$f":"VLOOKUP($B28,'EDGAR-2019'!$A$3:$AY$215,C$10,FALSE)","v":14.378325237386001},{"$f":"VLOOKUP($B28,'EDGAR-2019'!$A$3:$AY$215,D$10,FALSE)","v":59.533580825617001},{"$f":"VLOOKUP($B28,'EDGAR-2019'!$A$3:$AY$215,E$10,FALSE)","v":63.005295268636999},{"$f":"VLOOKUP($B28,'EDGAR-2019'!$A$3:$AY$215,F$10,FALSE)","v":66.981115041546005},{"$f":"VLOOKUP($B28,'EDGAR-2019'!$A$3:$AY$215,G$10,FALSE)","v":69.214859293493006},{"$f":"VLOOKUP($B28,'EDGAR-2019'!$A$3:$AY$215,H$10,FALSE)","v":72.755724527978998},{"$f":"VLOOKUP($B28,'EDGAR-2019'!$A$3:$AY$215,I$10,FALSE)","v":80.583670028825907},{"$f":"VLOOKUP($B28,'EDGAR-2019'!$A$3:$AY$215,J$10,FALSE)","v":82.496228446581796},{"$f":"VLOOKUP($B28,'EDGAR-2019'!$A$3:$AY$215,K$10,FALSE)","v":88.121623314179402},{"$f":"VLOOKUP($B28,'EDGAR-2019'!$A$3:$AY$215,L$10,FALSE)","v":93.554860948577002},{"$f":"VLOOKUP($B28,'EDGAR-2019'!$A$3:$AY$215,M$10,FALSE)","v":110.163867828577},0.17753227049452014,0.1195941966813221,{"$f":"VLOOKUP($B28,'UN-P'!$C$18:$CK$333,6,FALSE)/1000","v":163.04616099999998}]
[null,{"$f":"'EDGAR-2019'!A18","v":"Barbados"},{"$f":"VLOOKUP($B29,'EDGAR-2019'!$A$3:$AY$215,C$10,FALSE)","v":0.77634721213799995},{"$f":"VLOOKUP($B29,'EDGAR-2019'!$A$3:$AY$215,D$10,FALSE)","v":2.3367581121193002},{"$f":"VLOOKUP($B29,'EDGAR-2019'!$A$3:$AY$215,E$10,FALSE)","v":2.320278555072},{"$f":"VLOOKUP($B29,'EDGAR-2019'!$A$3:$AY$215,F$10,FALSE)","v":2.8303818221101},{"$f":"VLOOKUP($B29,'EDGAR-2019'!$A$3:$AY$215,G$10,FALSE)","v":3.1166793354891},{"$f":"VLOOKUP($B29,'EDGAR-2019'!$A$3:$AY$215,H$10,FALSE)","v":3.0509874065371001},{"$f":"VLOOKUP($B29,'EDGAR-2019'!$A$3:$AY$215,I$10,FALSE)","v":3.1732034506565001},{"$f":"VLOOKUP($B29,'EDGAR-2019'!$A$3:$AY$215,J$10,FALSE)","v":3.4106295572565002},{"$f":"VLOOKUP($B29,'EDGAR-2019'!$A$3:$AY$215,K$10,FALSE)","v":3.1207350434565},{"$f":"VLOOKUP($B29,'EDGAR-2019'!$A$3:$AY$215,L$10,FALSE)","v":3.4079367686565001},{"$f":"VLOOKUP($B29,'EDGAR-2019'!$A$3:$AY$215,M$10,FALSE)","v":3.8273918147565},0.12308181594148548,0.10755598473962757,{"$f":"VLOOKUP($B29,'UN-P'!$C$18:$CK$333,6,FALSE)/1000","v":0.28702499999999997}]
[null,{"$f":"'EDGAR-2019'!A19","v":"Belarus"},{"$f":"VLOOKUP($B30,'EDGAR-2019'!$A$3:$AY$215,C$10,FALSE)","v":109.0162744222},{"$f":"VLOOKUP($B30,'EDGAR-2019'!$A$3:$AY$215,D$10,FALSE)","v":67.08042448162},{"$f":"VLOOKUP($B30,'EDGAR-2019'!$A$3:$AY$215,E$10,FALSE)","v":64.271561078220003},{"$f":"VLOOKUP($B30,'EDGAR-2019'!$A$3:$AY$215,F$10,FALSE)","v":65.218429184320001},{"$f":"VLOOKUP($B30,'EDGAR-2019'!$A$3:$AY$215,G$10,FALSE)","v":65.8046886308301},{"$f":"VLOOKUP($B30,'EDGAR-2019'!$A$3:$AY$215,H$10,FALSE)","v":64.972717969170006},{"$f":"VLOOKUP($B30,'EDGAR-2019'!$A$3:$AY$215,I$10,FALSE)","v":60.384037243670001},{"$f":"VLOOKUP($B30,'EDGAR-2019'!$A$3:$AY$215,J$10,FALSE)","v":60.486859379099997},{"$f":"VLOOKUP($B30,'EDGAR-2019'!$A$3:$AY$215,K$10,FALSE)","v":61.722115025100003},{"$f":"VLOOKUP($B30,'EDGAR-2019'!$A$3:$AY$215,L$10,FALSE)","v":65.475200779415005},{"$f":"VLOOKUP($B30,'EDGAR-2019'!$A$3:$AY$215,M$10,FALSE)","v":66.335265099270003},1.3135726345498977E-2,3.6970950889273491E-2,{"$f":"VLOOKUP($B30,'UN-P'!$C$18:$CK$333,6,FALSE)/1000","v":9.4524109999999997}]
[null,{"$f":"'EDGAR-2019'!A20","v":"Belgium"},{"$f":"VLOOKUP($B31,'EDGAR-2019'!$A$3:$AY$215,C$10,FALSE)","v":115.99552578940001},{"$f":"VLOOKUP($B31,'EDGAR-2019'!$A$3:$AY$215,D$10,FALSE)","v":115.887755391694},{"$f":"VLOOKUP($B31,'EDGAR-2019'!$A$3:$AY$215,E$10,FALSE)","v":105.13782772704199},{"$f":"VLOOKUP($B31,'EDGAR-2019'!$A$3:$AY$215,F$10,FALSE)","v":103.785804820641},{"$f":"VLOOKUP($B31,'EDGAR-2019'!$A$3:$AY$215,G$10,FALSE)","v":105.299430830335},{"$f":"VLOOKUP($B31,'EDGAR-2019'!$A$3:$AY$215,H$10,FALSE)","v":99.019971611061905},{"$f":"VLOOKUP($B31,'EDGAR-2019'!$A$3:$AY$215,I$10,FALSE)","v":104.05981497164601},{"$f":"VLOOKUP($B31,'EDGAR-2019'!$A$3:$AY$215,J$10,FALSE)","v":103.26630151974101},{"$f":"VLOOKUP($B31,'EDGAR-2019'!$A$3:$AY$215,K$10,FALSE)","v":102.33519768254099},{"$f":"VLOOKUP($B31,'EDGAR-2019'!$A$3:$AY$215,L$10,FALSE)","v":104.61460864301},{"$f":"VLOOKUP($B31,'EDGAR-2019'!$A$3:$AY$215,M$10,FALSE)","v":104.41490268344999},-1.9089681847540563E-3,1.0182500112901394E-2,{"$f":"VLOOKUP($B31,'UN-P'!$C$18:$CK$333,6,FALSE)/1000","v":11.539327999999999}]
[null,{"$f":"'EDGAR-2019'!A21","v":"Belize"},{"$f":"VLOOKUP($B32,'EDGAR-2019'!$A$3:$AY$215,C$10,FALSE)","v":0.18753902603822001},{"$f":"VLOOKUP($B32,'EDGAR-2019'!$A$3:$AY$215,D$10,FALSE)","v":0.25193839225818998},{"$f":"VLOOKUP($B32,'EDGAR-2019'!$A$3:$AY$215,E$10,FALSE)","v":0.24903740745040001},{"$f":"VLOOKUP($B32,'EDGAR-2019'!$A$3:$AY$215,F$10,FALSE)","v":0.43282579518339998},{"$f":"VLOOKUP($B32,'EDGAR-2019'!$A$3:$AY$215,G$10,FALSE)","v":0.44714292920510001},{"$f":"VLOOKUP($B32,'EDGAR-2019'!$A$3:$AY$215,H$10,FALSE)","v":0.41959275108029997},{"$f":"VLOOKUP($B32,'EDGAR-2019'!$A$3:$AY$215,I$10,FALSE)","v":0.44010504162149999},{"$f":"VLOOKUP($B32,'EDGAR-2019'!$A$3:$AY$215,J$10,FALSE)","v":0.44563648688820001},{"$f":"VLOOKUP($B32,'EDGAR-2019'!$A$3:$AY$215,K$10,FALSE)","v":0.35864785589710002},{"$f":"VLOOKUP($B32,'EDGAR-2019'!$A$3:$AY$215,L$10,FALSE)","v":0.35895945753530001},{"$f":"VLOOKUP($B32,'EDGAR-2019'!$A$3:$AY$215,M$10,FALSE)","v":0.3709959740903},3.3531688056488429E-2,1.7200255712402468E-2,{"$f":"VLOOKUP($B32,'UN-P'!$C$18:$CK$333,6,FALSE)/1000","v":0.39035300000000001}]
[null,{"$f":"'EDGAR-2019'!A22","v":"Benin"},{"$f":"VLOOKUP($B33,'EDGAR-2019'!$A$3:$AY$215,C$10,FALSE)","v":0.41522521170999999},{"$f":"VLOOKUP($B33,'EDGAR-2019'!$A$3:$AY$215,D$10,FALSE)","v":5.1059679920000001},{"$f":"VLOOKUP($B33,'EDGAR-2019'!$A$3:$AY$215,E$10,FALSE)","v":5.0079672479999999},{"$f":"VLOOKUP($B33,'EDGAR-2019'!$A$3:$AY$215,F$10,FALSE)","v":4.7574508890000002},{"$f":"VLOOKUP($B33,'EDGAR-2019'!$A$3:$AY$215,G$10,FALSE)","v":4.9819035190000003},{"$f":"VLOOKUP($B33,'EDGAR-2019'!$A$3:$AY$215,H$10,FALSE)","v":5.298271722},{"$f":"VLOOKUP($B33,'EDGAR-2019'!$A$3:$AY$215,I$10,FALSE)","v":5.9852844940000001},{"$f":"VLOOKUP($B33,'EDGAR-2019'!$A$3:$AY$215,J$10,FALSE)","v":7.4167673900000004},{"$f":"VLOOKUP($B33,'EDGAR-2019'!$A$3:$AY$215,K$10,FALSE)","v":7.5336980499999999},{"$f":"VLOOKUP($B33,'EDGAR-2019'!$A$3:$AY$215,L$10,FALSE)","v":7.8812424410000004},{"$f":"VLOOKUP($B33,'EDGAR-2019'!$A$3:$AY$215,M$10,FALSE)","v":8.1526527550000001},3.4437503481438592E-2,4.02847406278104E-2,{"$f":"VLOOKUP($B33,'UN-P'!$C$18:$CK$333,6,FALSE)/1000","v":11.801150999999999}]
[null,{"$f":"'EDGAR-2019'!A23","v":"Bermuda"},{"$f":"VLOOKUP($B34,'EDGAR-2019'!$A$3:$AY$215,C$10,FALSE)","v":0.3354436234648},{"$f":"VLOOKUP($B34,'EDGAR-2019'!$A$3:$AY$215,D$10,FALSE)","v":0.35727617967594999},{"$f":"VLOOKUP($B34,'EDGAR-2019'!$A$3:$AY$215,E$10,FALSE)","v":0.35383181273620001},{"$f":"VLOOKUP($B34,'EDGAR-2019'!$A$3:$AY$215,F$10,FALSE)","v":0.61627897292489997},{"$f":"VLOOKUP($B34,'EDGAR-2019'!$A$3:$AY$215,G$10,FALSE)","v":0.38325355194729999},{"$f":"VLOOKUP($B34,'EDGAR-2019'!$A$3:$AY$215,H$10,FALSE)","v":0.37677575278716002},{"$f":"VLOOKUP($B34,'EDGAR-2019'!$A$3:$AY$215,I$10,FALSE)","v":0.42833279429400001},{"$f":"VLOOKUP($B34,'EDGAR-2019'!$A$3:$AY$215,J$10,FALSE)","v":0.43361136554570001},{"$f":"VLOOKUP($B34,'EDGAR-2019'!$A$3:$AY$215,K$10,FALSE)","v":0.34903648224779998},{"$f":"VLOOKUP($B34,'EDGAR-2019'!$A$3:$AY$215,L$10,FALSE)","v":0.35928481139090002},{"$f":"VLOOKUP($B34,'EDGAR-2019'!$A$3:$AY$215,M$10,FALSE)","v":0.35002428651520001},-2.577488550058582E-2,1.7934425788002639E-3,{"$f":"VLOOKUP($B34,'UN-P'!$C$18:$CK$333,6,FALSE)/1000","v":6.2506000000000006E-2}]
[null,{"$f":"'EDGAR-2019'!A24","v":"Bhutan"},{"$f":"VLOOKUP($B35,'EDGAR-2019'!$A$3:$AY$215,C$10,FALSE)","v":0.20828692848819999},{"$f":"VLOOKUP($B35,'EDGAR-2019'!$A$3:$AY$215,D$10,FALSE)","v":1.31925579132869},{"$f":"VLOOKUP($B35,'EDGAR-2019'!$A$3:$AY$215,E$10,FALSE)","v":1.56042669112386},{"$f":"VLOOKUP($B35,'EDGAR-2019'!$A$3:$AY$215,F$10,FALSE)","v":1.8658173568148999},{"$f":"VLOOKUP($B35,'EDGAR-2019'!$A$3:$AY$215,G$10,FALSE)","v":1.1661020091762},{"$f":"VLOOKUP($B35,'EDGAR-2019'!$A$3:$AY$215,H$10,FALSE)","v":1.1706168368418901},{"$f":"VLOOKUP($B35,'EDGAR-2019'!$A$3:$AY$215,I$10,FALSE)","v":1.16163274367231},{"$f":"VLOOKUP($B35,'EDGAR-2019'!$A$3:$AY$215,J$10,FALSE)","v":1.3992922996550301},{"$f":"VLOOKUP($B35,'EDGAR-2019'!$A$3:$AY$215,K$10,FALSE)","v":1.54309980150798},{"$f":"VLOOKUP($B35,'EDGAR-2019'!$A$3:$AY$215,L$10,FALSE)","v":2.0758387174084398},{"$f":"VLOOKUP($B35,'EDGAR-2019'!$A$3:$AY$215,M$10,FALSE)","v":2.1241822668410801},2.328868279949714E-2,0.18426406287850372,{"$f":"VLOOKUP($B35,'UN-P'!$C$18:$CK$333,6,FALSE)/1000","v":0.76309199999999999}]
[null,{"$f":"'EDGAR-2019'!A25","v":"Bolivia"},{"$f":"VLOOKUP($B36,'EDGAR-2019'!$A$3:$AY$215,C$10,FALSE)","v":6.5344658547799996},{"$f":"VLOOKUP($B36,'EDGAR-2019'!$A$3:$AY$215,D$10,FALSE)","v":14.83457547405},{"$f":"VLOOKUP($B36,'EDGAR-2019'!$A$3:$AY$215,E$10,FALSE)","v":16.150110046510001},{"$f":"VLOOKUP($B36,'EDGAR-2019'!$A$3:$AY$215,F$10,FALSE)","v":17.926902863110001},{"$f":"VLOOKUP($B36,'EDGAR-2019'!$A$3:$AY$215,G$10,FALSE)","v":18.112996992229998},{"$f":"VLOOKUP($B36,'EDGAR-2019'!$A$3:$AY$215,H$10,FALSE)","v":19.56068054276},{"$f":"VLOOKUP($B36,'EDGAR-2019'!$A$3:$AY$215,I$10,FALSE)","v":19.608757380579998},{"$f":"VLOOKUP($B36,'EDGAR-2019'!$A$3:$AY$215,J$10,FALSE)","v":21.665645489237999},{"$f":"VLOOKUP($B36,'EDGAR-2019'!$A$3:$AY$215,K$10,FALSE)","v":23.712567993438},{"$f":"VLOOKUP($B36,'EDGAR-2019'!$A$3:$AY$215,L$10,FALSE)","v":24.168599131600999},{"$f":"VLOOKUP($B36,'EDGAR-2019'!$A$3:$AY$215,M$10,FALSE)","v":24.511726385500999},1.4197233858347813E-2,1.6714427799788933E-2,{"$f":"VLOOKUP($B36,'UN-P'!$C$18:$CK$333,6,FALSE)/1000","v":11.5131}]
[null,{"$f":"'EDGAR-2019'!A26","v":"Bosnia and Herzegovina"},{"$f":"VLOOKUP($B37,'EDGAR-2019'!$A$3:$AY$215,C$10,FALSE)","v":24.558831009367999},{"$f":"VLOOKUP($B37,'EDGAR-2019'!$A$3:$AY$215,D$10,FALSE)","v":22.190682889546},{"$f":"VLOOKUP($B37,'EDGAR-2019'!$A$3:$AY$215,E$10,FALSE)","v":25.234480413778002},{"$f":"VLOOKUP($B37,'EDGAR-2019'!$A$3:$AY$215,F$10,FALSE)","v":23.253003541018},{"$f":"VLOOKUP($B37,'EDGAR-2019'!$A$3:$AY$215,G$10,FALSE)","v":23.198111199102001},{"$f":"VLOOKUP($B37,'EDGAR-2019'!$A$3:$AY$215,H$10,FALSE)","v":23.505892162963999},{"$f":"VLOOKUP($B37,'EDGAR-2019'!$A$3:$AY$215,I$10,FALSE)","v":24.031115990450001},{"$f":"VLOOKUP($B37,'EDGAR-2019'!$A$3:$AY$215,J$10,FALSE)","v":27.227194804831001},{"$f":"VLOOKUP($B37,'EDGAR-2019'!$A$3:$AY$215,K$10,FALSE)","v":27.598818061176001},{"$f":"VLOOKUP($B37,'EDGAR-2019'!$A$3:$AY$215,L$10,FALSE)","v":27.950617415500599},{"$f":"VLOOKUP($B37,'EDGAR-2019'!$A$3:$AY$215,M$10,FALSE)","v":33.495527245827198},0.19838237373788936,0.10556463651350545,{"$f":"VLOOKUP($B37,'UN-P'!$C$18:$CK$333,6,FALSE)/1000","v":3.3010000000000002}]
[null,{"$f":"'EDGAR-2019'!A27","v":"Botswana"},{"$f":"VLOOKUP($B38,'EDGAR-2019'!$A$3:$AY$215,C$10,FALSE)","v":2.8179812095000001},{"$f":"VLOOKUP($B38,'EDGAR-2019'!$A$3:$AY$215,D$10,FALSE)","v":3.4995273889999998},{"$f":"VLOOKUP($B38,'EDGAR-2019'!$A$3:$AY$215,E$10,FALSE)","v":4.116279531},{"$f":"VLOOKUP($B38,'EDGAR-2019'!$A$3:$AY$215,F$10,FALSE)","v":5.1089301799999998},{"$f":"VLOOKUP($B38,'EDGAR-2019'!$A$3:$AY$215,G$10,FALSE)","v":5.529153086},{"$f":"VLOOKUP($B38,'EDGAR-2019'!$A$3:$AY$215,H$10,FALSE)","v":7.0774631990000003},{"$f":"VLOOKUP($B38,'EDGAR-2019'!$A$3:$AY$215,I$10,FALSE)","v":7.1695135780000001},{"$f":"VLOOKUP($B38,'EDGAR-2019'!$A$3:$AY$215,J$10,FALSE)","v":7.0767243510000002},{"$f":"VLOOKUP($B38,'EDGAR-2019'!$A$3:$AY$215,K$10,FALSE)","v":7.8115124180000004},{"$f":"VLOOKUP($B38,'EDGAR-2019'!$A$3:$AY$215,L$10,FALSE)","v":7.560036889},{"$f":"VLOOKUP($B38,'EDGAR-2019'!$A$3:$AY$215,M$10,FALSE)","v":7.0393055770000004},-6.887946707742576E-2,-5.0536202157294818E-2,{"$f":"VLOOKUP($B38,'UN-P'!$C$18:$CK$333,6,FALSE)/1000","v":2.3036970000000001}]
[null,{"$f":"'EDGAR-2019'!A28","v":"Brazil"},{"$f":"VLOOKUP($B39,'EDGAR-2019'!$A$3:$AY$215,C$10,FALSE)","v":228.13811054070001},{"$f":"VLOOKUP($B39,'EDGAR-2019'!$A$3:$AY$215,D$10,FALSE)","v":446.56576565559999},{"$f":"VLOOKUP($B39,'EDGAR-2019'!$A$3:$AY$215,E$10,FALSE)","v":467.28965926860002},{"$f":"VLOOKUP($B39,'EDGAR-2019'!$A$3:$AY$215,F$10,FALSE)","v":502.86397440420001},{"$f":"VLOOKUP($B39,'EDGAR-2019'!$A$3:$AY$215,G$10,FALSE)","v":526.85476789009999},{"$f":"VLOOKUP($B39,'EDGAR-2019'!$A$3:$AY$215,H$10,FALSE)","v":552.84129212339997},{"$f":"VLOOKUP($B39,'EDGAR-2019'!$A$3:$AY$215,I$10,FALSE)","v":521.45727522959999},{"$f":"VLOOKUP($B39,'EDGAR-2019'!$A$3:$AY$215,J$10,FALSE)","v":488.16678344249999},{"$f":"VLOOKUP($B39,'EDGAR-2019'!$A$3:$AY$215,K$10,FALSE)","v":497.2705524104},{"$f":"VLOOKUP($B39,'EDGAR-2019'!$A$3:$AY$215,L$10,FALSE)","v":479.96872186550002},{"$f":"VLOOKUP($B39,'EDGAR-2019'!$A$3:$AY$215,M$10,FALSE)","v":478.14686895649999},-3.7957742369524317E-3,-1.9294684959242692E-2,{"$f":"VLOOKUP($B39,'UN-P'!$C$18:$CK$333,6,FALSE)/1000","v":211.04952700000001}]
[null,{"$f":"'EDGAR-2019'!A29","v":"British Virgin Islands"},{"$f":"VLOOKUP($B40,'EDGAR-2019'!$A$3:$AY$215,C$10,FALSE)","v":2.6353284417800001E-2},{"$f":"VLOOKUP($B40,'EDGAR-2019'!$A$3:$AY$215,D$10,FALSE)","v":7.1285287845190004E-2},{"$f":"VLOOKUP($B40,'EDGAR-2019'!$A$3:$AY$215,E$10,FALSE)","v":7.0597331507200003E-2},{"$f":"VLOOKUP($B40,'EDGAR-2019'!$A$3:$AY$215,F$10,FALSE)","v":0.12308783194101},{"$f":"VLOOKUP($B40,'EDGAR-2019'!$A$3:$AY$215,G$10,FALSE)","v":0.12716604080575999},{"$f":"VLOOKUP($B40,'EDGAR-2019'!$A$3:$AY$215,H$10,FALSE)","v":0.14582767674107},{"$f":"VLOOKUP($B40,'EDGAR-2019'!$A$3:$AY$215,I$10,FALSE)","v":0.14873285887771001},{"$f":"VLOOKUP($B40,'EDGAR-2019'!$A$3:$AY$215,J$10,FALSE)","v":0.15060291331421},{"$f":"VLOOKUP($B40,'EDGAR-2019'!$A$3:$AY$215,K$10,FALSE)","v":0.12114035014157},{"$f":"VLOOKUP($B40,'EDGAR-2019'!$A$3:$AY$215,L$10,FALSE)","v":0.12474432899399999},{"$f":"VLOOKUP($B40,'EDGAR-2019'!$A$3:$AY$215,M$10,FALSE)","v":0.12154624237615},-2.5637130309978384E-2,2.0566553979405877E-3,{"$f":"VLOOKUP($B40,'UN-P'!$C$18:$CK$333,6,FALSE)/1000","v":3.0030000000000001E-2}]
[null,{"$f":"'EDGAR-2019'!A30","v":"Brunei"},{"$f":"VLOOKUP($B41,'EDGAR-2019'!$A$3:$AY$215,C$10,FALSE)","v":3.3423360146609999},{"$f":"VLOOKUP($B41,'EDGAR-2019'!$A$3:$AY$215,D$10,FALSE)","v":7.3366700125479998},{"$f":"VLOOKUP($B41,'EDGAR-2019'!$A$3:$AY$215,E$10,FALSE)","v":7.5117589055379996},{"$f":"VLOOKUP($B41,'EDGAR-2019'!$A$3:$AY$215,F$10,FALSE)","v":7.4760636929629998},{"$f":"VLOOKUP($B41,'EDGAR-2019'!$A$3:$AY$215,G$10,FALSE)","v":7.3814705352659997},{"$f":"VLOOKUP($B41,'EDGAR-2019'!$A$3:$AY$215,H$10,FALSE)","v":7.2121214851479998},{"$f":"VLOOKUP($B41,'EDGAR-2019'!$A$3:$AY$215,I$10,FALSE)","v":6.5174144174670001},{"$f":"VLOOKUP($B41,'EDGAR-2019'!$A$3:$AY$215,J$10,FALSE)","v":7.0968296960100004},{"$f":"VLOOKUP($B41,'EDGAR-2019'!$A$3:$AY$215,K$10,FALSE)","v":7.4364507308879997},{"$f":"VLOOKUP($B41,'EDGAR-2019'!$A$3:$AY$215,L$10,FALSE)","v":7.3074517350069996},{"$f":"VLOOKUP($B41,'EDGAR-2019'!$A$3:$AY$215,M$10,FALSE)","v":7.0204393269069998},-3.9276675167766228E-2,-2.8311762618838998E-2,{"$f":"VLOOKUP($B41,'UN-P'!$C$18:$CK$333,6,FALSE)/1000","v":0.43328500000000003}]
[null,{"$f":"'EDGAR-2019'!A31","v":"Bulgaria"},{"$f":"VLOOKUP($B42,'EDGAR-2019'!$A$3:$AY$215,C$10,FALSE)","v":82.346277137279998},{"$f":"VLOOKUP($B42,'EDGAR-2019'!$A$3:$AY$215,D$10,FALSE)","v":48.525624443410003},{"$f":"VLOOKUP($B42,'EDGAR-2019'!$A$3:$AY$215,E$10,FALSE)","v":53.745696544520001},{"$f":"VLOOKUP($B42,'EDGAR-2019'!$A$3:$AY$215,F$10,FALSE)","v":48.88235900171},{"$f":"VLOOKUP($B42,'EDGAR-2019'!$A$3:$AY$215,G$10,FALSE)","v":43.783548019770002},{"$f":"VLOOKUP($B42,'EDGAR-2019'!$A$3:$AY$215,H$10,FALSE)","v":46.245201815400002},{"$f":"VLOOKUP($B42,'EDGAR-2019'!$A$3:$AY$215,I$10,FALSE)","v":48.608069927800003},{"$f":"VLOOKUP($B42,'EDGAR-2019'!$A$3:$AY$215,J$10,FALSE)","v":45.579460054990001},{"$f":"VLOOKUP($B42,'EDGAR-2019'!$A$3:$AY$215,K$10,FALSE)","v":47.932639550429997},{"$f":"VLOOKUP($B42,'EDGAR-2019'!$A$3:$AY$215,L$10,FALSE)","v":44.93725814367},{"$f":"VLOOKUP($B42,'EDGAR-2019'!$A$3:$AY$215,M$10,FALSE)","v":43.314102026610001},-3.6120497424888875E-2,-4.9305986844688898E-2,{"$f":"VLOOKUP($B42,'UN-P'!$C$18:$CK$333,6,FALSE)/1000","v":7.0001189999999998}]
[null,{"$f":"'EDGAR-2019'!A32","v":"Burkina Faso"},{"$f":"VLOOKUP($B43,'EDGAR-2019'!$A$3:$AY$215,C$10,FALSE)","v":0.3795355044989},{"$f":"VLOOKUP($B43,'EDGAR-2019'!$A$3:$AY$215,D$10,FALSE)","v":1.8735531427000001},{"$f":"VLOOKUP($B43,'EDGAR-2019'!$A$3:$AY$215,E$10,FALSE)","v":2.1479593974000002},{"$f":"VLOOKUP($B43,'EDGAR-2019'!$A$3:$AY$215,F$10,FALSE)","v":2.2546594088999998},{"$f":"VLOOKUP($B43,'EDGAR-2019'!$A$3:$AY$215,G$10,FALSE)","v":3.0650792018000002},{"$f":"VLOOKUP($B43,'EDGAR-2019'!$A$3:$AY$215,H$10,FALSE)","v":3.1184187585999998},{"$f":"VLOOKUP($B43,'EDGAR-2019'!$A$3:$AY$215,I$10,FALSE)","v":3.1200296941999999},{"$f":"VLOOKUP($B43,'EDGAR-2019'!$A$3:$AY$215,J$10,FALSE)","v":3.2249580803},{"$f":"VLOOKUP($B43,'EDGAR-2019'!$A$3:$AY$215,K$10,FALSE)","v":3.3356310288},{"$f":"VLOOKUP($B43,'EDGAR-2019'!$A$3:$AY$215,L$10,FALSE)","v":3.5044236483},{"$f":"VLOOKUP($B43,'EDGAR-2019'!$A$3:$AY$215,M$10,FALSE)","v":3.6432401855999998},3.9611802462108159E-2,4.5107353646299697E-2,{"$f":"VLOOKUP($B43,'UN-P'!$C$18:$CK$333,6,FALSE)/1000","v":20.321377999999999}]
[null,{"$f":"'EDGAR-2019'!A33","v":"Burundi"},{"$f":"VLOOKUP($B44,'EDGAR-2019'!$A$3:$AY$215,C$10,FALSE)","v":0.2100096254279},{"$f":"VLOOKUP($B44,'EDGAR-2019'!$A$3:$AY$215,D$10,FALSE)","v":0.22671316251000001},{"$f":"VLOOKUP($B44,'EDGAR-2019'!$A$3:$AY$215,E$10,FALSE)","v":0.27936294189999999},{"$f":"VLOOKUP($B44,'EDGAR-2019'!$A$3:$AY$215,F$10,FALSE)","v":0.30560834840000001},{"$f":"VLOOKUP($B44,'EDGAR-2019'!$A$3:$AY$215,G$10,FALSE)","v":0.27628790651000001},{"$f":"VLOOKUP($B44,'EDGAR-2019'!$A$3:$AY$215,H$10,FALSE)","v":0.28675560154000002},{"$f":"VLOOKUP($B44,'EDGAR-2019'!$A$3:$AY$215,I$10,FALSE)","v":0.28819969342000001},{"$f":"VLOOKUP($B44,'EDGAR-2019'!$A$3:$AY$215,J$10,FALSE)","v":0.29864878546000001},{"$f":"VLOOKUP($B44,'EDGAR-2019'!$A$3:$AY$215,K$10,FALSE)","v":0.31188195436999999},{"$f":"VLOOKUP($B44,'EDGAR-2019'!$A$3:$AY$215,L$10,FALSE)","v":0.32406797217},{"$f":"VLOOKUP($B44,'EDGAR-2019'!$A$3:$AY$215,M$10,FALSE)","v":0.33796448758999997},4.2881483557128952E-2,4.0977008031313322E-2,{"$f":"VLOOKUP($B44,'UN-P'!$C$18:$CK$333,6,FALSE)/1000","v":11.53058}]
[null,{"$f":"'EDGAR-2019'!A34","v":"Cabo Verde"},{"$f":"VLOOKUP($B45,'EDGAR-2019'!$A$3:$AY$215,C$10,FALSE)","v":4.8831419436990001E-2},{"$f":"VLOOKUP($B45,'EDGAR-2019'!$A$3:$AY$215,D$10,FALSE)","v":0.33234081051999997},{"$f":"VLOOKUP($B45,'EDGAR-2019'!$A$3:$AY$215,E$10,FALSE)","v":0.39049428123000002},{"$f":"VLOOKUP($B45,'EDGAR-2019'!$A$3:$AY$215,F$10,FALSE)","v":0.40760275442999999},{"$f":"VLOOKUP($B45,'EDGAR-2019'!$A$3:$AY$215,G$10,FALSE)","v":0.73382370409999997},{"$f":"VLOOKUP($B45,'EDGAR-2019'!$A$3:$AY$215,H$10,FALSE)","v":0.75653422250000002},{"$f":"VLOOKUP($B45,'EDGAR-2019'!$A$3:$AY$215,I$10,FALSE)","v":0.87688188290000002},{"$f":"VLOOKUP($B45,'EDGAR-2019'!$A$3:$AY$215,J$10,FALSE)","v":0.90321029068000003},{"$f":"VLOOKUP($B45,'EDGAR-2019'!$A$3:$AY$215,K$10,FALSE)","v":0.93421398618999996},{"$f":"VLOOKUP($B45,'EDGAR-2019'!$A$3:$AY$215,L$10,FALSE)","v":0.98369261620000004},{"$f":"VLOOKUP($B45,'EDGAR-2019'!$A$3:$AY$215,M$10,FALSE)","v":1.0232286698199999},4.0191471369102505E-2,4.6577157896922849E-2,{"$f":"VLOOKUP($B45,'UN-P'!$C$18:$CK$333,6,FALSE)/1000","v":0.54993499999999995}]
[null,{"$f":"'EDGAR-2019'!A35","v":"Cambodia"},{"$f":"VLOOKUP($B46,'EDGAR-2019'!$A$3:$AY$215,C$10,FALSE)","v":0.40699066376900001},{"$f":"VLOOKUP($B46,'EDGAR-2019'!$A$3:$AY$215,D$10,FALSE)","v":5.0110780000000004},{"$f":"VLOOKUP($B46,'EDGAR-2019'!$A$3:$AY$215,E$10,FALSE)","v":5.2826796949999997},{"$f":"VLOOKUP($B46,'EDGAR-2019'!$A$3:$AY$215,F$10,FALSE)","v":5.5014668950000001},{"$f":"VLOOKUP($B46,'EDGAR-2019'!$A$3:$AY$215,G$10,FALSE)","v":5.6371713830000001},{"$f":"VLOOKUP($B46,'EDGAR-2019'!$A$3:$AY$215,H$10,FALSE)","v":6.691395301},{"$f":"VLOOKUP($B46,'EDGAR-2019'!$A$3:$AY$215,I$10,FALSE)","v":8.6676040200000006},{"$f":"VLOOKUP($B46,'EDGAR-2019'!$A$3:$AY$215,J$10,FALSE)","v":9.9922254860000006},{"$f":"VLOOKUP($B46,'EDGAR-2019'!$A$3:$AY$215,K$10,FALSE)","v":11.528832052},{"$f":"VLOOKUP($B46,'EDGAR-2019'!$A$3:$AY$215,L$10,FALSE)","v":15.897331683999999},{"$f":"VLOOKUP($B46,'EDGAR-2019'!$A$3:$AY$215,M$10,FALSE)","v":16.487865775},3.7146742782900422E-2,0.20803313679943702,{"$f":"VLOOKUP($B46,'UN-P'!$C$18:$CK$333,6,FALSE)/1000","v":16.486542}]
[null,{"$f":"'EDGAR-2019'!A36","v":"Cameroon"},{"$f":"VLOOKUP($B47,'EDGAR-2019'!$A$3:$AY$215,C$10,FALSE)","v":4.8087100954100004},{"$f":"VLOOKUP($B47,'EDGAR-2019'!$A$3:$AY$215,D$10,FALSE)","v":7.68637558002},{"$f":"VLOOKUP($B47,'EDGAR-2019'!$A$3:$AY$215,E$10,FALSE)","v":7.2745346483200004},{"$f":"VLOOKUP($B47,'EDGAR-2019'!$A$3:$AY$215,F$10,FALSE)","v":7.3330802237380004},{"$f":"VLOOKUP($B47,'EDGAR-2019'!$A$3:$AY$215,G$10,FALSE)","v":7.6926006393800002},{"$f":"VLOOKUP($B47,'EDGAR-2019'!$A$3:$AY$215,H$10,FALSE)","v":8.3847924693960003},{"$f":"VLOOKUP($B47,'EDGAR-2019'!$A$3:$AY$215,I$10,FALSE)","v":9.2567384536340001},{"$f":"VLOOKUP($B47,'EDGAR-2019'!$A$3:$AY$215,J$10,FALSE)","v":9.8354619557260001},{"$f":"VLOOKUP($B47,'EDGAR-2019'!$A$3:$AY$215,K$10,FALSE)","v":9.7862889248199991},{"$f":"VLOOKUP($B47,'EDGAR-2019'!$A$3:$AY$215,L$10,FALSE)","v":9.9414532341249995},{"$f":"VLOOKUP($B47,'EDGAR-2019'!$A$3:$AY$215,M$10,FALSE)","v":10.102199054125},1.6169247716040669E-2,1.6012261724478227E-2,{"$f":"VLOOKUP($B47,'UN-P'!$C$18:$CK$333,6,FALSE)/1000","v":25.876380000000001}]
[null,{"$f":"'EDGAR-2019'!A37","v":"Canada"},{"$f":"VLOOKUP($B48,'EDGAR-2019'!$A$3:$AY$215,C$10,FALSE)","v":453.40285279850002},{"$f":"VLOOKUP($B48,'EDGAR-2019'!$A$3:$AY$215,D$10,FALSE)","v":566.70837099164999},{"$f":"VLOOKUP($B48,'EDGAR-2019'!$A$3:$AY$215,E$10,FALSE)","v":577.24591578348998},{"$f":"VLOOKUP($B48,'EDGAR-2019'!$A$3:$AY$215,F$10,FALSE)","v":576.21934460750003},{"$f":"VLOOKUP($B48,'EDGAR-2019'!$A$3:$AY$215,G$10,FALSE)","v":589.622613928183},{"$f":"VLOOKUP($B48,'EDGAR-2019'!$A$3:$AY$215,H$10,FALSE)","v":592.63930667262605},{"$f":"VLOOKUP($B48,'EDGAR-2019'!$A$3:$AY$215,I$10,FALSE)","v":587.567892139847},{"$f":"VLOOKUP($B48,'EDGAR-2019'!$A$3:$AY$215,J$10,FALSE)","v":577.68554066774198},{"$f":"VLOOKUP($B48,'EDGAR-2019'!$A$3:$AY$215,K$10,FALSE)","v":577.993578912761},{"$f":"VLOOKUP($B48,'EDGAR-2019'!$A$3:$AY$215,L$10,FALSE)","v":593.30075037614495},{"$f":"VLOOKUP($B48,'EDGAR-2019'!$A$3:$AY$215,M$10,FALSE)","v":584.84570628879396},-1.4250856891703911E-2,6.1162164632295735E-3,{"$f":"VLOOKUP($B48,'UN-P'!$C$18:$CK$333,6,FALSE)/1000","v":37.411046999999996}]
[null,{"$f":"'EDGAR-2019'!A38","v":"Cayman Islands"},{"$f":"VLOOKUP($B49,'EDGAR-2019'!$A$3:$AY$215,C$10,FALSE)","v":0.14847436986658999},{"$f":"VLOOKUP($B49,'EDGAR-2019'!$A$3:$AY$215,D$10,FALSE)","v":0.28454626818077},{"$f":"VLOOKUP($B49,'EDGAR-2019'!$A$3:$AY$215,E$10,FALSE)","v":0.28179541426900001},{"$f":"VLOOKUP($B49,'EDGAR-2019'!$A$3:$AY$215,F$10,FALSE)","v":0.49175691869389998},{"$f":"VLOOKUP($B49,'EDGAR-2019'!$A$3:$AY$215,G$10,FALSE)","v":0.50807135256299996},{"$f":"VLOOKUP($B49,'EDGAR-2019'!$A$3:$AY$215,H$10,FALSE)","v":0.47079654024849998},{"$f":"VLOOKUP($B49,'EDGAR-2019'!$A$3:$AY$215,I$10,FALSE)","v":0.49319969433619998},{"$f":"VLOOKUP($B49,'EDGAR-2019'!$A$3:$AY$215,J$10,FALSE)","v":0.49938136869729999},{"$f":"VLOOKUP($B49,'EDGAR-2019'!$A$3:$AY$215,K$10,FALSE)","v":0.4016052246165},{"$f":"VLOOKUP($B49,'EDGAR-2019'!$A$3:$AY$215,L$10,FALSE)","v":0.41353558315139999},{"$f":"VLOOKUP($B49,'EDGAR-2019'!$A$3:$AY$215,M$10,FALSE)","v":0.40289665805960001},-2.5726746440353998E-2,1.9899675777327874E-3,{"$f":"VLOOKUP($B49,'UN-P'!$C$18:$CK$333,6,FALSE)/1000","v":6.4947999999999992E-2}]
[null,{"$f":"'EDGAR-2019'!A39","v":"Central African Republic"},{"$f":"VLOOKUP($B50,'EDGAR-2019'!$A$3:$AY$215,C$10,FALSE)","v":0.15859606757096001},{"$f":"VLOOKUP($B50,'EDGAR-2019'!$A$3:$AY$215,D$10,FALSE)","v":0.35156457252000001},{"$f":"VLOOKUP($B50,'EDGAR-2019'!$A$3:$AY$215,E$10,FALSE)","v":0.40974923943000002},{"$f":"VLOOKUP($B50,'EDGAR-2019'!$A$3:$AY$215,F$10,FALSE)","v":0.42688292343000001},{"$f":"VLOOKUP($B50,'EDGAR-2019'!$A$3:$AY$215,G$10,FALSE)","v":0.42027298222999998},{"$f":"VLOOKUP($B50,'EDGAR-2019'!$A$3:$AY$215,H$10,FALSE)","v":0.41030008741000001},{"$f":"VLOOKUP($B50,'EDGAR-2019'!$A$3:$AY$215,I$10,FALSE)","v":0.44899695446999999},{"$f":"VLOOKUP($B50,'EDGAR-2019'!$A$3:$AY$215,J$10,FALSE)","v":0.46184139596000001},{"$f":"VLOOKUP($B50,'EDGAR-2019'!$A$3:$AY$215,K$10,FALSE)","v":0.47695993192000002},{"$f":"VLOOKUP($B50,'EDGAR-2019'!$A$3:$AY$215,L$10,FALSE)","v":0.48273290167999999},{"$f":"VLOOKUP($B50,'EDGAR-2019'!$A$3:$AY$215,M$10,FALSE)","v":0.49383826670999997},2.3005196023207164E-2,1.7554437352448105E-2,{"$f":"VLOOKUP($B50,'UN-P'!$C$18:$CK$333,6,FALSE)/1000","v":4.7451850000000002}]
[null,{"$f":"'EDGAR-2019'!A40","v":"Chad"},{"$f":"VLOOKUP($B51,'EDGAR-2019'!$A$3:$AY$215,C$10,FALSE)","v":0.26831701958490001},{"$f":"VLOOKUP($B51,'EDGAR-2019'!$A$3:$AY$215,D$10,FALSE)","v":0.41688997910999998},{"$f":"VLOOKUP($B51,'EDGAR-2019'!$A$3:$AY$215,E$10,FALSE)","v":0.46677928425999998},{"$f":"VLOOKUP($B51,'EDGAR-2019'!$A$3:$AY$215,F$10,FALSE)","v":0.62473593926000004},{"$f":"VLOOKUP($B51,'EDGAR-2019'!$A$3:$AY$215,G$10,FALSE)","v":0.70559077308999996},{"$f":"VLOOKUP($B51,'EDGAR-2019'!$A$3:$AY$215,H$10,FALSE)","v":0.74022062495999996},{"$f":"VLOOKUP($B51,'EDGAR-2019'!$A$3:$AY$215,I$10,FALSE)","v":0.90256676272000003},{"$f":"VLOOKUP($B51,'EDGAR-2019'!$A$3:$AY$215,J$10,FALSE)","v":0.95570422473000005},{"$f":"VLOOKUP($B51,'EDGAR-2019'!$A$3:$AY$215,K$10,FALSE)","v":0.91941740414999995},{"$f":"VLOOKUP($B51,'EDGAR-2019'!$A$3:$AY$215,L$10,FALSE)","v":0.88143024332999997},{"$f":"VLOOKUP($B51,'EDGAR-2019'!$A$3:$AY$215,M$10,FALSE)","v":0.89358662092999996},1.3791650209407091E-2,-1.3762452979078799E-2,{"$f":"VLOOKUP($B51,'UN-P'!$C$18:$CK$333,6,FALSE)/1000","v":15.946876}]
[null,{"$f":"'EDGAR-2019'!A41","v":"Chile"},{"$f":"VLOOKUP($B52,'EDGAR-2019'!$A$3:$AY$215,C$10,FALSE)","v":32.990184266660002},{"$f":"VLOOKUP($B52,'EDGAR-2019'!$A$3:$AY$215,D$10,FALSE)","v":72.052513612289999},{"$f":"VLOOKUP($B52,'EDGAR-2019'!$A$3:$AY$215,E$10,FALSE)","v":78.646245795799999},{"$f":"VLOOKUP($B52,'EDGAR-2019'!$A$3:$AY$215,F$10,FALSE)","v":80.834652247319994},{"$f":"VLOOKUP($B52,'EDGAR-2019'!$A$3:$AY$215,G$10,FALSE)","v":85.124598426920002},{"$f":"VLOOKUP($B52,'EDGAR-2019'!$A$3:$AY$215,H$10,FALSE)","v":78.993268620340004},{"$f":"VLOOKUP($B52,'EDGAR-2019'!$A$3:$AY$215,I$10,FALSE)","v":84.704004092280002},{"$f":"VLOOKUP($B52,'EDGAR-2019'!$A$3:$AY$215,J$10,FALSE)","v":88.955466701239999},{"$f":"VLOOKUP($B52,'EDGAR-2019'!$A$3:$AY$215,K$10,FALSE)","v":89.856511047889896},{"$f":"VLOOKUP($B52,'EDGAR-2019'!$A$3:$AY$215,L$10,FALSE)","v":91.538441552829994},{"$f":"VLOOKUP($B52,'EDGAR-2019'!$A$3:$AY$215,M$10,FALSE)","v":89.888751787429996},-1.8021824901267358E-2,3.4806713429424985E-4,{"$f":"VLOOKUP($B52,'UN-P'!$C$18:$CK$333,6,FALSE)/1000","v":18.952038000000002}]
[null,{"$f":"'EDGAR-2019'!A42","v":"China"},{"$f":"VLOOKUP($B53,'EDGAR-2019'!$A$3:$AY$215,C$10,FALSE)","v":2404.7427139870001},{"$f":"VLOOKUP($B53,'EDGAR-2019'!$A$3:$AY$215,D$10,FALSE)","v":9160.7868911927308},{"$f":"VLOOKUP($B53,'EDGAR-2019'!$A$3:$AY$215,E$10,FALSE)","v":10037.251813700401},{"$f":"VLOOKUP($B53,'EDGAR-2019'!$A$3:$AY$215,F$10,FALSE)","v":10271.4332034134},{"$f":"VLOOKUP($B53,'EDGAR-2019'!$A$3:$AY$215,G$10,FALSE)","v":10532.5114293427},{"$f":"VLOOKUP($B53,'EDGAR-2019'!$A$3:$AY$215,H$10,FALSE)","v":10653.923244130099},{"$f":"VLOOKUP($B53,'EDGAR-2019'!$A$3:$AY$215,I$10,FALSE)","v":10671.339218975399},{"$f":"VLOOKUP($B53,'EDGAR-2019'!$A$3:$AY$215,J$10,FALSE)","v":10691.814408179},{"$f":"VLOOKUP($B53,'EDGAR-2019'!$A$3:$AY$215,K$10,FALSE)","v":10911.2236567946},{"$f":"VLOOKUP($B53,'EDGAR-2019'!$A$3:$AY$215,L$10,FALSE)","v":11157.071498576601},{"$f":"VLOOKUP($B53,'EDGAR-2019'!$A$3:$AY$215,M$10,FALSE)","v":11535.199835903501},3.3891360952122751E-2,2.8211504068125115E-2,{"$f":"VLOOKUP($B53,'UN-P'!$C$18:$CK$333,6,FALSE)/1000","v":1433.783686}]
[null,{"$f":"'EDGAR-2019'!A43","v":"Colombia"},{"$f":"VLOOKUP($B54,'EDGAR-2019'!$A$3:$AY$215,C$10,FALSE)","v":52.484339012219998},{"$f":"VLOOKUP($B54,'EDGAR-2019'!$A$3:$AY$215,D$10,FALSE)","v":66.722981977079996},{"$f":"VLOOKUP($B54,'EDGAR-2019'!$A$3:$AY$215,E$10,FALSE)","v":72.340292434589998},{"$f":"VLOOKUP($B54,'EDGAR-2019'!$A$3:$AY$215,F$10,FALSE)","v":72.796964528969994},{"$f":"VLOOKUP($B54,'EDGAR-2019'!$A$3:$AY$215,G$10,FALSE)","v":78.111515014670005},{"$f":"VLOOKUP($B54,'EDGAR-2019'!$A$3:$AY$215,H$10,FALSE)","v":80.132918427700005},{"$f":"VLOOKUP($B54,'EDGAR-2019'!$A$3:$AY$215,I$10,FALSE)","v":80.090192935689998},{"$f":"VLOOKUP($B54,'EDGAR-2019'!$A$3:$AY$215,J$10,FALSE)","v":89.037949256869993},{"$f":"VLOOKUP($B54,'EDGAR-2019'!$A$3:$AY$215,K$10,FALSE)","v":77.530630613140005},{"$f":"VLOOKUP($B54,'EDGAR-2019'!$A$3:$AY$215,L$10,FALSE)","v":77.988239434199997},{"$f":"VLOOKUP($B54,'EDGAR-2019'!$A$3:$AY$215,M$10,FALSE)","v":86.549578476199997},0.10977730878542724,5.783980297386826E-2,{"$f":"VLOOKUP($B54,'UN-P'!$C$18:$CK$333,6,FALSE)/1000","v":50.339443000000003}]
[null,{"$f":"'EDGAR-2019'!A44","v":"Comoros"},{"$f":"VLOOKUP($B55,'EDGAR-2019'!$A$3:$AY$215,C$10,FALSE)","v":4.9169518356990002E-2},{"$f":"VLOOKUP($B55,'EDGAR-2019'!$A$3:$AY$215,D$10,FALSE)","v":0.13452651509999999},{"$f":"VLOOKUP($B55,'EDGAR-2019'!$A$3:$AY$215,E$10,FALSE)","v":0.15779875483},{"$f":"VLOOKUP($B55,'EDGAR-2019'!$A$3:$AY$215,F$10,FALSE)","v":0.16465017563000001},{"$f":"VLOOKUP($B55,'EDGAR-2019'!$A$3:$AY$215,G$10,FALSE)","v":0.20194694821},{"$f":"VLOOKUP($B55,'EDGAR-2019'!$A$3:$AY$215,H$10,FALSE)","v":0.16585914038999999},{"$f":"VLOOKUP($B55,'EDGAR-2019'!$A$3:$AY$215,I$10,FALSE)","v":0.18905057005000001},{"$f":"VLOOKUP($B55,'EDGAR-2019'!$A$3:$AY$215,J$10,FALSE)","v":0.19466569869},{"$f":"VLOOKUP($B55,'EDGAR-2019'!$A$3:$AY$215,K$10,FALSE)","v":0.20127397148000001},{"$f":"VLOOKUP($B55,'EDGAR-2019'!$A$3:$AY$215,L$10,FALSE)","v":0.20780532174999999},{"$f":"VLOOKUP($B55,'EDGAR-2019'!$A$3:$AY$215,M$10,FALSE)","v":0.21385447442},2.9109710083736084E-2,3.0779879623968553E-2,{"$f":"VLOOKUP($B55,'UN-P'!$C$18:$CK$333,6,FALSE)/1000","v":0.85088599999999992}]
[null,{"$f":"'EDGAR-2019'!A45","v":"Congo"},{"$f":"VLOOKUP($B56,'EDGAR-2019'!$A$3:$AY$215,C$10,FALSE)","v":2.4033109227849998},{"$f":"VLOOKUP($B56,'EDGAR-2019'!$A$3:$AY$215,D$10,FALSE)","v":5.3261846526600003},{"$f":"VLOOKUP($B56,'EDGAR-2019'!$A$3:$AY$215,E$10,FALSE)","v":4.8843069388530003},{"$f":"VLOOKUP($B56,'EDGAR-2019'!$A$3:$AY$215,F$10,FALSE)","v":4.5098527799220003},{"$f":"VLOOKUP($B56,'EDGAR-2019'!$A$3:$AY$215,G$10,FALSE)","v":5.4844914094780002},{"$f":"VLOOKUP($B56,'EDGAR-2019'!$A$3:$AY$215,H$10,FALSE)","v":5.325157192392},{"$f":"VLOOKUP($B56,'EDGAR-2019'!$A$3:$AY$215,I$10,FALSE)","v":5.3175352570749999},{"$f":"VLOOKUP($B56,'EDGAR-2019'!$A$3:$AY$215,J$10,FALSE)","v":5.0572938974239996},{"$f":"VLOOKUP($B56,'EDGAR-2019'!$A$3:$AY$215,K$10,FALSE)","v":4.9037366595599998},{"$f":"VLOOKUP($B56,'EDGAR-2019'!$A$3:$AY$215,L$10,FALSE)","v":5.8027545365910003},{"$f":"VLOOKUP($B56,'EDGAR-2019'!$A$3:$AY$215,M$10,FALSE)","v":5.8035442847310001},1.3609883634058129E-4,9.173466402708641E-2,{"$f":"VLOOKUP($B56,'UN-P'!$C$18:$CK$333,6,FALSE)/1000","v":5.3805079999999998}]
[null,{"$f":"'EDGAR-2019'!A46","v":"Cook Islands"},{"$f":"VLOOKUP($B57,'EDGAR-2019'!$A$3:$AY$215,C$10,FALSE)","v":4.2850098096400002E-2},{"$f":"VLOOKUP($B57,'EDGAR-2019'!$A$3:$AY$215,D$10,FALSE)","v":5.8615663449671999E-2},{"$f":"VLOOKUP($B57,'EDGAR-2019'!$A$3:$AY$215,E$10,FALSE)","v":7.4037197805965002E-2},{"$f":"VLOOKUP($B57,'EDGAR-2019'!$A$3:$AY$215,F$10,FALSE)","v":0.105983825511224},{"$f":"VLOOKUP($B57,'EDGAR-2019'!$A$3:$AY$215,G$10,FALSE)","v":6.2887889086035001E-2},{"$f":"VLOOKUP($B57,'EDGAR-2019'!$A$3:$AY$215,H$10,FALSE)","v":4.1991993307501002E-2},{"$f":"VLOOKUP($B57,'EDGAR-2019'!$A$3:$AY$215,I$10,FALSE)","v":3.9424952280524998E-2},{"$f":"VLOOKUP($B57,'EDGAR-2019'!$A$3:$AY$215,J$10,FALSE)","v":3.7736648646695202E-2},{"$f":"VLOOKUP($B57,'EDGAR-2019'!$A$3:$AY$215,K$10,FALSE)","v":3.9440894076669598E-2},{"$f":"VLOOKUP($B57,'EDGAR-2019'!$A$3:$AY$215,L$10,FALSE)","v":4.1183520152545498E-2},{"$f":"VLOOKUP($B57,'EDGAR-2019'!$A$3:$AY$215,M$10,FALSE)","v":4.3869066965901399E-2},6.5209258543430071E-2,5.4696244036943065E-2,{"$f":"VLOOKUP($B57,'UN-P'!$C$18:$CK$333,6,FALSE)/1000","v":1.7547999999999998E-2}]
[null,{"$f":"'EDGAR-2019'!A47","v":"Costa Rica"},{"$f":"VLOOKUP($B58,'EDGAR-2019'!$A$3:$AY$215,C$10,FALSE)","v":2.9242103569640001},{"$f":"VLOOKUP($B58,'EDGAR-2019'!$A$3:$AY$215,D$10,FALSE)","v":7.2788934544439998},{"$f":"VLOOKUP($B58,'EDGAR-2019'!$A$3:$AY$215,E$10,FALSE)","v":7.5038139831370003},{"$f":"VLOOKUP($B58,'EDGAR-2019'!$A$3:$AY$215,F$10,FALSE)","v":7.5358786420000001},{"$f":"VLOOKUP($B58,'EDGAR-2019'!$A$3:$AY$215,G$10,FALSE)","v":7.915215474},{"$f":"VLOOKUP($B58,'EDGAR-2019'!$A$3:$AY$215,H$10,FALSE)","v":8.0291625324999991},{"$f":"VLOOKUP($B58,'EDGAR-2019'!$A$3:$AY$215,I$10,FALSE)","v":7.7430135429},{"$f":"VLOOKUP($B58,'EDGAR-2019'!$A$3:$AY$215,J$10,FALSE)","v":8.2720604724999998},{"$f":"VLOOKUP($B58,'EDGAR-2019'!$A$3:$AY$215,K$10,FALSE)","v":8.3967144913999991},{"$f":"VLOOKUP($B58,'EDGAR-2019'!$A$3:$AY$215,L$10,FALSE)","v":8.6392456608000003},{"$f":"VLOOKUP($B58,'EDGAR-2019'!$A$3:$AY$215,M$10,FALSE)","v":8.9791114047999994},3.9339747628906574E-2,3.4111901684306667E-2,{"$f":"VLOOKUP($B58,'UN-P'!$C$18:$CK$333,6,FALSE)/1000","v":5.047561}]
[null,{"$f":"'EDGAR-2019'!A48","v":"Côte d’Ivoire"},{"$f":"VLOOKUP($B59,'EDGAR-2019'!$A$3:$AY$215,C$10,FALSE)","v":3.027995793898},{"$f":"VLOOKUP($B59,'EDGAR-2019'!$A$3:$AY$215,D$10,FALSE)","v":7.5760094734700001},{"$f":"VLOOKUP($B59,'EDGAR-2019'!$A$3:$AY$215,E$10,FALSE)","v":7.4678718487899998},{"$f":"VLOOKUP($B59,'EDGAR-2019'!$A$3:$AY$215,F$10,FALSE)","v":9.4219928841500007},{"$f":"VLOOKUP($B59,'EDGAR-2019'!$A$3:$AY$215,G$10,FALSE)","v":9.9736145683800004},{"$f":"VLOOKUP($B59,'EDGAR-2019'!$A$3:$AY$215,H$10,FALSE)","v":10.73489982003},{"$f":"VLOOKUP($B59,'EDGAR-2019'!$A$3:$AY$215,I$10,FALSE)","v":11.604703797279999},{"$f":"VLOOKUP($B59,'EDGAR-2019'!$A$3:$AY$215,J$10,FALSE)","v":11.94442285617},{"$f":"VLOOKUP($B59,'EDGAR-2019'!$A$3:$AY$215,K$10,FALSE)","v":12.610763502679999},{"$f":"VLOOKUP($B59,'EDGAR-2019'!$A$3:$AY$215,L$10,FALSE)","v":13.093573387079999},{"$f":"VLOOKUP($B59,'EDGAR-2019'!$A$3:$AY$215,M$10,FALSE)","v":13.555149805179999},3.525213510892744E-2,3.6768837312115332E-2,{"$f":"VLOOKUP($B59,'UN-P'!$C$18:$CK$333,6,FALSE)/1000","v":25.716544000000003}]
[null,{"$f":"'EDGAR-2019'!A49","v":"Croatia"},{"$f":"VLOOKUP($B60,'EDGAR-2019'!$A$3:$AY$215,C$10,FALSE)","v":25.157814906519999},{"$f":"VLOOKUP($B60,'EDGAR-2019'!$A$3:$AY$215,D$10,FALSE)","v":21.460433790149999},{"$f":"VLOOKUP($B60,'EDGAR-2019'!$A$3:$AY$215,E$10,FALSE)","v":20.920720314299},{"$f":"VLOOKUP($B60,'EDGAR-2019'!$A$3:$AY$215,F$10,FALSE)","v":19.298148571014},{"$f":"VLOOKUP($B60,'EDGAR-2019'!$A$3:$AY$215,G$10,FALSE)","v":18.909362338154999},{"$f":"VLOOKUP($B60,'EDGAR-2019'!$A$3:$AY$215,H$10,FALSE)","v":18.305827949339999},{"$f":"VLOOKUP($B60,'EDGAR-2019'!$A$3:$AY$215,I$10,FALSE)","v":18.587092077188998},{"$f":"VLOOKUP($B60,'EDGAR-2019'!$A$3:$AY$215,J$10,FALSE)","v":18.846689676409},{"$f":"VLOOKUP($B60,'EDGAR-2019'!$A$3:$AY$215,K$10,FALSE)","v":19.463266677498002},{"$f":"VLOOKUP($B60,'EDGAR-2019'!$A$3:$AY$215,L$10,FALSE)","v":18.966124126360999},{"$f":"VLOOKUP($B60,'EDGAR-2019'!$A$3:$AY$215,M$10,FALSE)","v":19.119253476333999},8.0738346407933648E-3,-8.7343856518778407E-3,{"$f":"VLOOKUP($B60,'UN-P'!$C$18:$CK$333,6,FALSE)/1000","v":4.1303039999999998}]
[null,{"$f":"'EDGAR-2019'!A50","v":"Cuba"},{"$f":"VLOOKUP($B61,'EDGAR-2019'!$A$3:$AY$215,C$10,FALSE)","v":38.517907576799999},{"$f":"VLOOKUP($B61,'EDGAR-2019'!$A$3:$AY$215,D$10,FALSE)","v":33.806429630789999},{"$f":"VLOOKUP($B61,'EDGAR-2019'!$A$3:$AY$215,E$10,FALSE)","v":30.965100799609999},{"$f":"VLOOKUP($B61,'EDGAR-2019'!$A$3:$AY$215,F$10,FALSE)","v":31.767559190179998},{"$f":"VLOOKUP($B61,'EDGAR-2019'!$A$3:$AY$215,G$10,FALSE)","v":30.651623295290001},{"$f":"VLOOKUP($B61,'EDGAR-2019'!$A$3:$AY$215,H$10,FALSE)","v":30.49833021952},{"$f":"VLOOKUP($B61,'EDGAR-2019'!$A$3:$AY$215,I$10,FALSE)","v":30.92646423495},{"$f":"VLOOKUP($B61,'EDGAR-2019'!$A$3:$AY$215,J$10,FALSE)","v":31.912410628408999},{"$f":"VLOOKUP($B61,'EDGAR-2019'!$A$3:$AY$215,K$10,FALSE)","v":30.142866194790599},{"$f":"VLOOKUP($B61,'EDGAR-2019'!$A$3:$AY$215,L$10,FALSE)","v":31.249921933959001},{"$f":"VLOOKUP($B61,'EDGAR-2019'!$A$3:$AY$215,M$10,FALSE)","v":31.043439162959},-6.6074651781967697E-3,1.5059745721396955E-2,{"$f":"VLOOKUP($B61,'UN-P'!$C$18:$CK$333,6,FALSE)/1000","v":11.333482999999999}]
[null,{"$f":"'EDGAR-2019'!A51","v":"Curaçao"},{"$f":"VLOOKUP($B62,'EDGAR-2019'!$A$3:$AY$215,C$10,FALSE)","v":5.4738384343830004},{"$f":"VLOOKUP($B62,'EDGAR-2019'!$A$3:$AY$215,D$10,FALSE)","v":6.2025405710039996},{"$f":"VLOOKUP($B62,'EDGAR-2019'!$A$3:$AY$215,E$10,FALSE)","v":6.9137712342900004},{"$f":"VLOOKUP($B62,'EDGAR-2019'!$A$3:$AY$215,F$10,FALSE)","v":7.3524990927199996},{"$f":"VLOOKUP($B62,'EDGAR-2019'!$A$3:$AY$215,G$10,FALSE)","v":7.806502955809},{"$f":"VLOOKUP($B62,'EDGAR-2019'!$A$3:$AY$215,H$10,FALSE)","v":7.2774297286309997},{"$f":"VLOOKUP($B62,'EDGAR-2019'!$A$3:$AY$215,I$10,FALSE)","v":7.3766763611000004},{"$f":"VLOOKUP($B62,'EDGAR-2019'!$A$3:$AY$215,J$10,FALSE)","v":6.5284106042790002},{"$f":"VLOOKUP($B62,'EDGAR-2019'!$A$3:$AY$215,K$10,FALSE)","v":5.8963701702130003},{"$f":"VLOOKUP($B62,'EDGAR-2019'!$A$3:$AY$215,L$10,FALSE)","v":6.0711488745470001},{"$f":"VLOOKUP($B62,'EDGAR-2019'!$A$3:$AY$215,M$10,FALSE)","v":5.9138273596069997},-2.5912972682907376E-2,1.8643864403246613E-3,{"$f":"VLOOKUP($B62,'UN-P'!$C$18:$CK$333,6,FALSE)/1000","v":0.16342400000000001}]
[null,{"$f":"'EDGAR-2019'!A52","v":"Cyprus"},{"$f":"VLOOKUP($B63,'EDGAR-2019'!$A$3:$AY$215,C$10,FALSE)","v":4.541047780824},{"$f":"VLOOKUP($B63,'EDGAR-2019'!$A$3:$AY$215,D$10,FALSE)","v":7.9793996030000001},{"$f":"VLOOKUP($B63,'EDGAR-2019'!$A$3:$AY$215,E$10,FALSE)","v":7.6966831180000002},{"$f":"VLOOKUP($B63,'EDGAR-2019'!$A$3:$AY$215,F$10,FALSE)","v":7.1605310979999999},{"$f":"VLOOKUP($B63,'EDGAR-2019'!$A$3:$AY$215,G$10,FALSE)","v":6.5944866366000001},{"$f":"VLOOKUP($B63,'EDGAR-2019'!$A$3:$AY$215,H$10,FALSE)","v":6.9848737482000001},{"$f":"VLOOKUP($B63,'EDGAR-2019'!$A$3:$AY$215,I$10,FALSE)","v":6.9032588715000003},{"$f":"VLOOKUP($B63,'EDGAR-2019'!$A$3:$AY$215,J$10,FALSE)","v":7.3582844173000002},{"$f":"VLOOKUP($B63,'EDGAR-2019'!$A$3:$AY$215,K$10,FALSE)","v":7.4668593974000004},{"$f":"VLOOKUP($B63,'EDGAR-2019'!$A$3:$AY$215,L$10,FALSE)","v":7.3890367760000002},{"$f":"VLOOKUP($B63,'EDGAR-2019'!$A$3:$AY$215,M$10,FALSE)","v":7.4132877815000002},3.2820252808551942E-3,-3.5701891017063669E-3,{"$f":"VLOOKUP($B63,'UN-P'!$C$18:$CK$333,6,FALSE)/1000","v":1.1985749999999999}]
[null,{"$f":"'EDGAR-2019'!A53","v":"Czechia"},{"$f":"VLOOKUP($B64,'EDGAR-2019'!$A$3:$AY$215,C$10,FALSE)","v":162.83521188796999},{"$f":"VLOOKUP($B64,'EDGAR-2019'!$A$3:$AY$215,D$10,FALSE)","v":120.73261038094},{"$f":"VLOOKUP($B64,'EDGAR-2019'!$A$3:$AY$215,E$10,FALSE)","v":118.026533576896},{"$f":"VLOOKUP($B64,'EDGAR-2019'!$A$3:$AY$215,F$10,FALSE)","v":113.909789908402},{"$f":"VLOOKUP($B64,'EDGAR-2019'!$A$3:$AY$215,G$10,FALSE)","v":109.41693731875699},{"$f":"VLOOKUP($B64,'EDGAR-2019'!$A$3:$AY$215,H$10,FALSE)","v":106.79498669602},{"$f":"VLOOKUP($B64,'EDGAR-2019'!$A$3:$AY$215,I$10,FALSE)","v":107.70357259604},{"$f":"VLOOKUP($B64,'EDGAR-2019'!$A$3:$AY$215,J$10,FALSE)","v":109.49586052393001},{"$f":"VLOOKUP($B64,'EDGAR-2019'!$A$3:$AY$215,K$10,FALSE)","v":109.58478565166},{"$f":"VLOOKUP($B64,'EDGAR-2019'!$A$3:$AY$215,L$10,FALSE)","v":109.15293659965999},{"$f":"VLOOKUP($B64,'EDGAR-2019'!$A$3:$AY$215,M$10,FALSE)","v":105.69319666794},-3.1696260673308996E-2,-1.781851814839297E-2,{"$f":"VLOOKUP($B64,'UN-P'!$C$18:$CK$333,6,FALSE)/1000","v":10.689209}]
[null,{"$f":"'EDGAR-2019'!A54","v":"Democratic Republic of the Congo"},{"$f":"VLOOKUP($B65,'EDGAR-2019'!$A$3:$AY$215,C$10,FALSE)","v":3.4413158379239999},{"$f":"VLOOKUP($B65,'EDGAR-2019'!$A$3:$AY$215,D$10,FALSE)","v":3.0529856171400001},{"$f":"VLOOKUP($B65,'EDGAR-2019'!$A$3:$AY$215,E$10,FALSE)","v":3.4723626850399998},{"$f":"VLOOKUP($B65,'EDGAR-2019'!$A$3:$AY$215,F$10,FALSE)","v":3.1160155926700002},{"$f":"VLOOKUP($B65,'EDGAR-2019'!$A$3:$AY$215,G$10,FALSE)","v":4.2911627049999996},{"$f":"VLOOKUP($B65,'EDGAR-2019'!$A$3:$AY$215,H$10,FALSE)","v":5.4799973073299997},{"$f":"VLOOKUP($B65,'EDGAR-2019'!$A$3:$AY$215,I$10,FALSE)","v":3.56973380185},{"$f":"VLOOKUP($B65,'EDGAR-2019'!$A$3:$AY$215,J$10,FALSE)","v":2.7606206685229999},{"$f":"VLOOKUP($B65,'EDGAR-2019'!$A$3:$AY$215,K$10,FALSE)","v":2.9389761721980001},{"$f":"VLOOKUP($B65,'EDGAR-2019'!$A$3:$AY$215,L$10,FALSE)","v":2.9205217088520001},{"$f":"VLOOKUP($B65,'EDGAR-2019'!$A$3:$AY$215,M$10,FALSE)","v":2.984044159852},2.1750377957289402E-2,7.7355814648827903E-3,{"$f":"VLOOKUP($B65,'UN-P'!$C$18:$CK$333,6,FALSE)/1000","v":86.790566999999996}]
[null,{"$f":"'EDGAR-2019'!A55","v":"Denmark"},{"$f":"VLOOKUP($B66,'EDGAR-2019'!$A$3:$AY$215,C$10,FALSE)","v":53.589996552759999},{"$f":"VLOOKUP($B66,'EDGAR-2019'!$A$3:$AY$215,D$10,FALSE)","v":49.062565563089997},{"$f":"VLOOKUP($B66,'EDGAR-2019'!$A$3:$AY$215,E$10,FALSE)","v":44.01136831953},{"$f":"VLOOKUP($B66,'EDGAR-2019'!$A$3:$AY$215,F$10,FALSE)","v":38.808845601400002},{"$f":"VLOOKUP($B66,'EDGAR-2019'!$A$3:$AY$215,G$10,FALSE)","v":40.631335659119998},{"$f":"VLOOKUP($B66,'EDGAR-2019'!$A$3:$AY$215,H$10,FALSE)","v":36.473175576529997},{"$f":"VLOOKUP($B66,'EDGAR-2019'!$A$3:$AY$215,I$10,FALSE)","v":34.019395925277799},{"$f":"VLOOKUP($B66,'EDGAR-2019'!$A$3:$AY$215,J$10,FALSE)","v":35.762051951918302},{"$f":"VLOOKUP($B66,'EDGAR-2019'!$A$3:$AY$215,K$10,FALSE)","v":33.595384264155598},{"$f":"VLOOKUP($B66,'EDGAR-2019'!$A$3:$AY$215,L$10,FALSE)","v":33.715240839829299},{"$f":"VLOOKUP($B66,'EDGAR-2019'!$A$3:$AY$215,M$10,FALSE)","v":31.1185491114176},-7.7018335439090535E-2,-3.6725342674841399E-2,{"$f":"VLOOKUP($B66,'UN-P'!$C$18:$CK$333,6,FALSE)/1000","v":5.7718759999999998}]
[null,{"$f":"'EDGAR-2019'!A56","v":"Djibouti"},{"$f":"VLOOKUP($B67,'EDGAR-2019'!$A$3:$AY$215,C$10,FALSE)","v":1.1009276375109001},{"$f":"VLOOKUP($B67,'EDGAR-2019'!$A$3:$AY$215,D$10,FALSE)","v":1.1260046104999999},{"$f":"VLOOKUP($B67,'EDGAR-2019'!$A$3:$AY$215,E$10,FALSE)","v":1.3237295692},{"$f":"VLOOKUP($B67,'EDGAR-2019'!$A$3:$AY$215,F$10,FALSE)","v":1.3818780247},{"$f":"VLOOKUP($B67,'EDGAR-2019'!$A$3:$AY$215,G$10,FALSE)","v":0.91756879449999995},{"$f":"VLOOKUP($B67,'EDGAR-2019'!$A$3:$AY$215,H$10,FALSE)","v":0.92951007567999999},{"$f":"VLOOKUP($B67,'EDGAR-2019'!$A$3:$AY$215,I$10,FALSE)","v":0.93043988274},{"$f":"VLOOKUP($B67,'EDGAR-2019'!$A$3:$AY$215,J$10,FALSE)","v":0.95675963600000002},{"$f":"VLOOKUP($B67,'EDGAR-2019'!$A$3:$AY$215,K$10,FALSE)","v":0.98934018162000004},{"$f":"VLOOKUP($B67,'EDGAR-2019'!$A$3:$AY$215,L$10,FALSE)","v":1.0194333257099999},{"$f":"VLOOKUP($B67,'EDGAR-2019'!$A$3:$AY$215,M$10,FALSE)","v":1.04912400326},2.9124688001857857E-2,2.9771037961343838E-2,{"$f":"VLOOKUP($B67,'UN-P'!$C$18:$CK$333,6,FALSE)/1000","v":0.97355999999999998}]
[null,{"$f":"'EDGAR-2019'!A57","v":"Dominica"},{"$f":"VLOOKUP($B68,'EDGAR-2019'!$A$3:$AY$215,C$10,FALSE)","v":3.2541307979820001E-2},{"$f":"VLOOKUP($B68,'EDGAR-2019'!$A$3:$AY$215,D$10,FALSE)","v":8.1697204965190007E-2},{"$f":"VLOOKUP($B68,'EDGAR-2019'!$A$3:$AY$215,E$10,FALSE)","v":8.1008548737199995E-2},{"$f":"VLOOKUP($B68,'EDGAR-2019'!$A$3:$AY$215,F$10,FALSE)","v":0.12702634805101001},{"$f":"VLOOKUP($B68,'EDGAR-2019'!$A$3:$AY$215,G$10,FALSE)","v":0.13110395719576001},{"$f":"VLOOKUP($B68,'EDGAR-2019'!$A$3:$AY$215,H$10,FALSE)","v":0.11885970445147},{"$f":"VLOOKUP($B68,'EDGAR-2019'!$A$3:$AY$215,I$10,FALSE)","v":0.12551550143303999},{"$f":"VLOOKUP($B68,'EDGAR-2019'!$A$3:$AY$215,J$10,FALSE)","v":0.12703647538862001},{"$f":"VLOOKUP($B68,'EDGAR-2019'!$A$3:$AY$215,K$10,FALSE)","v":0.10296243465497},{"$f":"VLOOKUP($B68,'EDGAR-2019'!$A$3:$AY$215,L$10,FALSE)","v":0.10589876023379},{"$f":"VLOOKUP($B68,'EDGAR-2019'!$A$3:$AY$215,M$10,FALSE)","v":0.10327823357691},-2.4745583905748547E-2,1.8864162168806264E-3,{"$f":"VLOOKUP($B68,'UN-P'!$C$18:$CK$333,6,FALSE)/1000","v":7.1808000000000011E-2}]
[null,{"$f":"'EDGAR-2019'!A58","v":"Dominican Republic"},{"$f":"VLOOKUP($B69,'EDGAR-2019'!$A$3:$AY$215,C$10,FALSE)","v":8.0422835666280008},{"$f":"VLOOKUP($B69,'EDGAR-2019'!$A$3:$AY$215,D$10,FALSE)","v":21.397875553152002},{"$f":"VLOOKUP($B69,'EDGAR-2019'!$A$3:$AY$215,E$10,FALSE)","v":21.344826538043002},{"$f":"VLOOKUP($B69,'EDGAR-2019'!$A$3:$AY$215,F$10,FALSE)","v":22.230677915857001},{"$f":"VLOOKUP($B69,'EDGAR-2019'!$A$3:$AY$215,G$10,FALSE)","v":23.095682724658001},{"$f":"VLOOKUP($B69,'EDGAR-2019'!$A$3:$AY$215,H$10,FALSE)","v":22.297783777387998},{"$f":"VLOOKUP($B69,'EDGAR-2019'!$A$3:$AY$215,I$10,FALSE)","v":23.555681829480999},{"$f":"VLOOKUP($B69,'EDGAR-2019'!$A$3:$AY$215,J$10,FALSE)","v":24.631738640793799},{"$f":"VLOOKUP($B69,'EDGAR-2019'!$A$3:$AY$215,K$10,FALSE)","v":23.5801003149652},{"$f":"VLOOKUP($B69,'EDGAR-2019'!$A$3:$AY$215,L$10,FALSE)","v":24.656431475313699},{"$f":"VLOOKUP($B69,'EDGAR-2019'!$A$3:$AY$215,M$10,FALSE)","v":27.276022125322001},0.10624370572972275,7.5944723547591297E-2,{"$f":"VLOOKUP($B69,'UN-P'!$C$18:$CK$333,6,FALSE)/1000","v":10.738958}]
[null,{"$f":"'EDGAR-2019'!A59","v":"Ecuador"},{"$f":"VLOOKUP($B70,'EDGAR-2019'!$A$3:$AY$215,C$10,FALSE)","v":17.5834975008},{"$f":"VLOOKUP($B70,'EDGAR-2019'!$A$3:$AY$215,D$10,FALSE)","v":37.91288540395},{"$f":"VLOOKUP($B70,'EDGAR-2019'!$A$3:$AY$215,E$10,FALSE)","v":38.572534755379998},{"$f":"VLOOKUP($B70,'EDGAR-2019'!$A$3:$AY$215,F$10,FALSE)","v":38.855597726230002},{"$f":"VLOOKUP($B70,'EDGAR-2019'!$A$3:$AY$215,G$10,FALSE)","v":40.580907042649997},{"$f":"VLOOKUP($B70,'EDGAR-2019'!$A$3:$AY$215,H$10,FALSE)","v":43.842323985450001},{"$f":"VLOOKUP($B70,'EDGAR-2019'!$A$3:$AY$215,I$10,FALSE)","v":42.764683207719997},{"$f":"VLOOKUP($B70,'EDGAR-2019'!$A$3:$AY$215,J$10,FALSE)","v":40.921604569519999},{"$f":"VLOOKUP($B70,'EDGAR-2019'!$A$3:$AY$215,K$10,FALSE)","v":39.682335698689997},{"$f":"VLOOKUP($B70,'EDGAR-2019'!$A$3:$AY$215,L$10,FALSE)","v":41.833089646559998},{"$f":"VLOOKUP($B70,'EDGAR-2019'!$A$3:$AY$215,M$10,FALSE)","v":40.699804376060001},-2.7090642361702444E-2,1.3554317865106025E-2,{"$f":"VLOOKUP($B70,'UN-P'!$C$18:$CK$333,6,FALSE)/1000","v":17.373661999999999}]
[null,{"$f":"'EDGAR-2019'!A60","v":"Egypt"},{"$f":"VLOOKUP($B71,'EDGAR-2019'!$A$3:$AY$215,C$10,FALSE)","v":91.078115108879999},{"$f":"VLOOKUP($B71,'EDGAR-2019'!$A$3:$AY$215,D$10,FALSE)","v":212.29801245326999},{"$f":"VLOOKUP($B71,'EDGAR-2019'!$A$3:$AY$215,E$10,FALSE)","v":220.20710391214001},{"$f":"VLOOKUP($B71,'EDGAR-2019'!$A$3:$AY$215,F$10,FALSE)","v":234.15809152559001},{"$f":"VLOOKUP($B71,'EDGAR-2019'!$A$3:$AY$215,G$10,FALSE)","v":230.03170702610001},{"$f":"VLOOKUP($B71,'EDGAR-2019'!$A$3:$AY$215,H$10,FALSE)","v":234.6159814419},{"$f":"VLOOKUP($B71,'EDGAR-2019'!$A$3:$AY$215,I$10,FALSE)","v":240.100173893},{"$f":"VLOOKUP($B71,'EDGAR-2019'!$A$3:$AY$215,J$10,FALSE)","v":246.94849356419999},{"$f":"VLOOKUP($B71,'EDGAR-2019'!$A$3:$AY$215,K$10,FALSE)","v":254.2903762752},{"$f":"VLOOKUP($B71,'EDGAR-2019'!$A$3:$AY$215,L$10,FALSE)","v":255.80245600430001},{"$f":"VLOOKUP($B71,'EDGAR-2019'!$A$3:$AY$215,M$10,FALSE)","v":255.3685679013},-1.6961842735111476E-3,2.1250438333285104E-3,{"$f":"VLOOKUP($B71,'UN-P'!$C$18:$CK$333,6,FALSE)/1000","v":100.38807300000001}]
[null,{"$f":"'EDGAR-2019'!A61","v":"El Salvador"},{"$f":"VLOOKUP($B72,'EDGAR-2019'!$A$3:$AY$215,C$10,FALSE)","v":2.6401359279940002},{"$f":"VLOOKUP($B72,'EDGAR-2019'!$A$3:$AY$215,D$10,FALSE)","v":6.7414354018999996},{"$f":"VLOOKUP($B72,'EDGAR-2019'!$A$3:$AY$215,E$10,FALSE)","v":6.9937133623059999},{"$f":"VLOOKUP($B72,'EDGAR-2019'!$A$3:$AY$215,F$10,FALSE)","v":7.1157805687779998},{"$f":"VLOOKUP($B72,'EDGAR-2019'!$A$3:$AY$215,G$10,FALSE)","v":6.9434526480000001},{"$f":"VLOOKUP($B72,'EDGAR-2019'!$A$3:$AY$215,H$10,FALSE)","v":6.9391656299999998},{"$f":"VLOOKUP($B72,'EDGAR-2019'!$A$3:$AY$215,I$10,FALSE)","v":7.4321463210000003},{"$f":"VLOOKUP($B72,'EDGAR-2019'!$A$3:$AY$215,J$10,FALSE)","v":7.4609991290000002},{"$f":"VLOOKUP($B72,'EDGAR-2019'!$A$3:$AY$215,K$10,FALSE)","v":6.8603964729999998},{"$f":"VLOOKUP($B72,'EDGAR-2019'!$A$3:$AY$215,L$10,FALSE)","v":6.9001045699999999},{"$f":"VLOOKUP($B72,'EDGAR-2019'!$A$3:$AY$215,M$10,FALSE)","v":7.146297616},3.5679610867114686E-2,2.0733814340788581E-2,{"$f":"VLOOKUP($B72,'UN-P'!$C$18:$CK$333,6,FALSE)/1000","v":6.4535530000000003}]
[null,{"$f":"'EDGAR-2019'!A62","v":"Equatorial Guinea"},{"$f":"VLOOKUP($B73,'EDGAR-2019'!$A$3:$AY$215,C$10,FALSE)","v":9.7399117003969998E-2},{"$f":"VLOOKUP($B73,'EDGAR-2019'!$A$3:$AY$215,D$10,FALSE)","v":4.36216158612},{"$f":"VLOOKUP($B73,'EDGAR-2019'!$A$3:$AY$215,E$10,FALSE)","v":4.66893148616},{"$f":"VLOOKUP($B73,'EDGAR-2019'!$A$3:$AY$215,F$10,FALSE)","v":3.97934781406},{"$f":"VLOOKUP($B73,'EDGAR-2019'!$A$3:$AY$215,G$10,FALSE)","v":3.88031938068},{"$f":"VLOOKUP($B73,'EDGAR-2019'!$A$3:$AY$215,H$10,FALSE)","v":3.8459807918400002},{"$f":"VLOOKUP($B73,'EDGAR-2019'!$A$3:$AY$215,I$10,FALSE)","v":3.7868720649399998},{"$f":"VLOOKUP($B73,'EDGAR-2019'!$A$3:$AY$215,J$10,FALSE)","v":3.4612168251000002},{"$f":"VLOOKUP($B73,'EDGAR-2019'!$A$3:$AY$215,K$10,FALSE)","v":3.3152506784},{"$f":"VLOOKUP($B73,'EDGAR-2019'!$A$3:$AY$215,L$10,FALSE)","v":3.43719723788},{"$f":"VLOOKUP($B73,'EDGAR-2019'!$A$3:$AY$215,M$10,FALSE)","v":3.4745593989799999},1.0869949704441328E-2,2.3826730304459032E-2,{"$f":"VLOOKUP($B73,'UN-P'!$C$18:$CK$333,6,FALSE)/1000","v":1.3559860000000001}]
[null,{"$f":"'EDGAR-2019'!A63","v":"Eritrea"},{"$f":"VLOOKUP($B74,'EDGAR-2019'!$A$3:$AY$215,C$10,FALSE)","v":0.21354043584900001},{"$f":"VLOOKUP($B74,'EDGAR-2019'!$A$3:$AY$215,D$10,FALSE)","v":0.47143175320000003},{"$f":"VLOOKUP($B74,'EDGAR-2019'!$A$3:$AY$215,E$10,FALSE)","v":0.55376382619999998},{"$f":"VLOOKUP($B74,'EDGAR-2019'!$A$3:$AY$215,F$10,FALSE)","v":0.60304198769999995},{"$f":"VLOOKUP($B74,'EDGAR-2019'!$A$3:$AY$215,G$10,FALSE)","v":0.63141675080000004},{"$f":"VLOOKUP($B74,'EDGAR-2019'!$A$3:$AY$215,H$10,FALSE)","v":0.66249436319999999},{"$f":"VLOOKUP($B74,'EDGAR-2019'!$A$3:$AY$215,I$10,FALSE)","v":0.6942501472},{"$f":"VLOOKUP($B74,'EDGAR-2019'!$A$3:$AY$215,J$10,FALSE)","v":0.66936888380000004},{"$f":"VLOOKUP($B74,'EDGAR-2019'!$A$3:$AY$215,K$10,FALSE)","v":0.70448594389999997},{"$f":"VLOOKUP($B74,'EDGAR-2019'!$A$3:$AY$215,L$10,FALSE)","v":0.72532712239999997},{"$f":"VLOOKUP($B74,'EDGAR-2019'!$A$3:$AY$215,M$10,FALSE)","v":0.74681349870000002},2.9623015100972427E-2,2.9603270736437315E-2,{"$f":"VLOOKUP($B74,'UN-P'!$C$18:$CK$333,6,FALSE)/1000","v":3.4971170000000003}]
[null,{"$f":"'EDGAR-2019'!A64","v":"Estonia"},{"$f":"VLOOKUP($B75,'EDGAR-2019'!$A$3:$AY$215,C$10,FALSE)","v":38.467686937000003},{"$f":"VLOOKUP($B75,'EDGAR-2019'!$A$3:$AY$215,D$10,FALSE)","v":22.098346752115201},{"$f":"VLOOKUP($B75,'EDGAR-2019'!$A$3:$AY$215,E$10,FALSE)","v":21.4296720629589},{"$f":"VLOOKUP($B75,'EDGAR-2019'!$A$3:$AY$215,F$10,FALSE)","v":20.376459553458101},{"$f":"VLOOKUP($B75,'EDGAR-2019'!$A$3:$AY$215,G$10,FALSE)","v":22.9455117707891},{"$f":"VLOOKUP($B75,'EDGAR-2019'!$A$3:$AY$215,H$10,FALSE)","v":22.6880074845003},{"$f":"VLOOKUP($B75,'EDGAR-2019'!$A$3:$AY$215,I$10,FALSE)","v":19.818478877375998},{"$f":"VLOOKUP($B75,'EDGAR-2019'!$A$3:$AY$215,J$10,FALSE)","v":20.159131158840601},{"$f":"VLOOKUP($B75,'EDGAR-2019'!$A$3:$AY$215,K$10,FALSE)","v":20.871785370298401},{"$f":"VLOOKUP($B75,'EDGAR-2019'!$A$3:$AY$215,L$10,FALSE)","v":22.351345786264599},{"$f":"VLOOKUP($B75,'EDGAR-2019'!$A$3:$AY$215,M$10,FALSE)","v":18.502960761415402},-0.17217688194927916,-5.0644409960606429E-2,{"$f":"VLOOKUP($B75,'UN-P'!$C$18:$CK$333,6,FALSE)/1000","v":1.3256479999999999}]
[null,{"$f":"'EDGAR-2019'!A65","v":"Eswatini"},{"$f":"VLOOKUP($B76,'EDGAR-2019'!$A$3:$AY$215,C$10,FALSE)","v":0.60182345548490002},{"$f":"VLOOKUP($B76,'EDGAR-2019'!$A$3:$AY$215,D$10,FALSE)","v":2.0479134185199999},{"$f":"VLOOKUP($B76,'EDGAR-2019'!$A$3:$AY$215,E$10,FALSE)","v":1.7378054166600001},{"$f":"VLOOKUP($B76,'EDGAR-2019'!$A$3:$AY$215,F$10,FALSE)","v":1.76290047126},{"$f":"VLOOKUP($B76,'EDGAR-2019'!$A$3:$AY$215,G$10,FALSE)","v":1.20703894448},{"$f":"VLOOKUP($B76,'EDGAR-2019'!$A$3:$AY$215,H$10,FALSE)","v":1.1725613849600001},{"$f":"VLOOKUP($B76,'EDGAR-2019'!$A$3:$AY$215,I$10,FALSE)","v":1.14264316518},{"$f":"VLOOKUP($B76,'EDGAR-2019'!$A$3:$AY$215,J$10,FALSE)","v":1.1757101861000001},{"$f":"VLOOKUP($B76,'EDGAR-2019'!$A$3:$AY$215,K$10,FALSE)","v":1.2156014099800001},{"$f":"VLOOKUP($B76,'EDGAR-2019'!$A$3:$AY$215,L$10,FALSE)","v":1.1955515751100001},{"$f":"VLOOKUP($B76,'EDGAR-2019'!$A$3:$AY$215,M$10,FALSE)","v":1.1431866400599999},-4.379981268911981E-2,-3.0146785093380146E-2,{"$f":"VLOOKUP($B76,'UN-P'!$C$18:$CK$333,6,FALSE)/1000","v":1.1481300000000001}]
[null,{"$f":"'EDGAR-2019'!A66","v":"Ethiopia"},{"$f":"VLOOKUP($B77,'EDGAR-2019'!$A$3:$AY$215,C$10,FALSE)","v":2.399889484814},{"$f":"VLOOKUP($B77,'EDGAR-2019'!$A$3:$AY$215,D$10,FALSE)","v":6.9081797119999999},{"$f":"VLOOKUP($B77,'EDGAR-2019'!$A$3:$AY$215,E$10,FALSE)","v":8.0227869080000005},{"$f":"VLOOKUP($B77,'EDGAR-2019'!$A$3:$AY$215,F$10,FALSE)","v":9.0278620400000005},{"$f":"VLOOKUP($B77,'EDGAR-2019'!$A$3:$AY$215,G$10,FALSE)","v":10.40252516},{"$f":"VLOOKUP($B77,'EDGAR-2019'!$A$3:$AY$215,H$10,FALSE)","v":12.61339793},{"$f":"VLOOKUP($B77,'EDGAR-2019'!$A$3:$AY$215,I$10,FALSE)","v":13.60690234},{"$f":"VLOOKUP($B77,'EDGAR-2019'!$A$3:$AY$215,J$10,FALSE)","v":15.764134787},{"$f":"VLOOKUP($B77,'EDGAR-2019'!$A$3:$AY$215,K$10,FALSE)","v":17.269246020000001},{"$f":"VLOOKUP($B77,'EDGAR-2019'!$A$3:$AY$215,L$10,FALSE)","v":17.950999470999999},{"$f":"VLOOKUP($B77,'EDGAR-2019'!$A$3:$AY$215,M$10,FALSE)","v":18.252483673},1.6794842119351117E-2,2.8136367687989328E-2,{"$f":"VLOOKUP($B77,'UN-P'!$C$18:$CK$333,6,FALSE)/1000","v":112.07872999999999}]
[null,{"$f":"'EDGAR-2019'!A67","v":"Falkland Islands"},{"$f":"VLOOKUP($B78,'EDGAR-2019'!$A$3:$AY$215,C$10,FALSE)","v":1.3033322419993E-2},{"$f":"VLOOKUP($B78,'EDGAR-2019'!$A$3:$AY$215,D$10,FALSE)","v":2.335492446085E-2},{"$f":"VLOOKUP($B78,'EDGAR-2019'!$A$3:$AY$215,E$10,FALSE)","v":2.3129233743000001E-2},{"$f":"VLOOKUP($B78,'EDGAR-2019'!$A$3:$AY$215,F$10,FALSE)","v":4.0380809082559997E-2},{"$f":"VLOOKUP($B78,'EDGAR-2019'!$A$3:$AY$215,G$10,FALSE)","v":3.8867214536762999E-2},{"$f":"VLOOKUP($B78,'EDGAR-2019'!$A$3:$AY$215,H$10,FALSE)","v":3.5968224183509E-2},{"$f":"VLOOKUP($B78,'EDGAR-2019'!$A$3:$AY$215,I$10,FALSE)","v":3.7719492567730002E-2},{"$f":"VLOOKUP($B78,'EDGAR-2019'!$A$3:$AY$215,J$10,FALSE)","v":3.819004885051E-2},{"$f":"VLOOKUP($B78,'EDGAR-2019'!$A$3:$AY$215,K$10,FALSE)","v":3.0722957142720001E-2},{"$f":"VLOOKUP($B78,'EDGAR-2019'!$A$3:$AY$215,L$10,FALSE)","v":3.1073541854759999E-2},{"$f":"VLOOKUP($B78,'EDGAR-2019'!$A$3:$AY$215,M$10,FALSE)","v":3.1749068125089999E-2},2.1739596776172432E-2,1.6575380543010221E-2,{"$f":"VLOOKUP($B78,'UN-P'!$C$18:$CK$333,6,FALSE)/1000","v":3.3769999999999998E-3}]
[null,{"$f":"'EDGAR-2019'!A68","v":"Faroes"},{"$f":"VLOOKUP($B79,'EDGAR-2019'!$A$3:$AY$215,C$10,FALSE)","v":1.4907715500000001E-3},{"$f":"VLOOKUP($B79,'EDGAR-2019'!$A$3:$AY$215,D$10,FALSE)","v":1.88507835E-3},{"$f":"VLOOKUP($B79,'EDGAR-2019'!$A$3:$AY$215,E$10,FALSE)","v":1.8968145999999999E-3},{"$f":"VLOOKUP($B79,'EDGAR-2019'!$A$3:$AY$215,F$10,FALSE)","v":1.9085496500000001E-3},{"$f":"VLOOKUP($B79,'EDGAR-2019'!$A$3:$AY$215,G$10,FALSE)","v":1.90855086E-3},{"$f":"VLOOKUP($B79,'EDGAR-2019'!$A$3:$AY$215,H$10,FALSE)","v":1.9085447100000001E-3},{"$f":"VLOOKUP($B79,'EDGAR-2019'!$A$3:$AY$215,I$10,FALSE)","v":1.9085385800000001E-3},{"$f":"VLOOKUP($B79,'EDGAR-2019'!$A$3:$AY$215,J$10,FALSE)","v":1.9132346300000001E-3},{"$f":"VLOOKUP($B79,'EDGAR-2019'!$A$3:$AY$215,K$10,FALSE)","v":1.9179306800000001E-3},{"$f":"VLOOKUP($B79,'EDGAR-2019'!$A$3:$AY$215,L$10,FALSE)","v":1.9226467399999999E-3},{"$f":"VLOOKUP($B79,'EDGAR-2019'!$A$3:$AY$215,M$10,FALSE)","v":1.9273728E-3},{"$f":"M79/L79-1","v":2.458101065409446E-3},{"$f":"AVERAGE(M79/L79-1,L79/K79-1)","v":2.4585162399846094E-3},{"$f":"VLOOKUP($B79,'UN-P'!$C$18:$CK$333,6,FALSE)/1000","v":4.8677999999999999E-2}]
[null,{"$f":"'EDGAR-2019'!A69","v":"Fiji"},{"$f":"VLOOKUP($B80,'EDGAR-2019'!$A$3:$AY$215,C$10,FALSE)","v":1.0296425892000001},{"$f":"VLOOKUP($B80,'EDGAR-2019'!$A$3:$AY$215,D$10,FALSE)","v":1.2013788230537401},{"$f":"VLOOKUP($B80,'EDGAR-2019'!$A$3:$AY$215,E$10,FALSE)","v":1.49324500837333},{"$f":"VLOOKUP($B80,'EDGAR-2019'!$A$3:$AY$215,F$10,FALSE)","v":2.0889701178032598},{"$f":"VLOOKUP($B80,'EDGAR-2019'!$A$3:$AY$215,G$10,FALSE)","v":2.0348343544270699},{"$f":"VLOOKUP($B80,'EDGAR-2019'!$A$3:$AY$215,H$10,FALSE)","v":1.2914863352472199},{"$f":"VLOOKUP($B80,'EDGAR-2019'!$A$3:$AY$215,I$10,FALSE)","v":1.2117362691251701},{"$f":"VLOOKUP($B80,'EDGAR-2019'!$A$3:$AY$215,J$10,FALSE)","v":1.1714965674514499},{"$f":"VLOOKUP($B80,'EDGAR-2019'!$A$3:$AY$215,K$10,FALSE)","v":1.22827246954944},{"$f":"VLOOKUP($B80,'EDGAR-2019'!$A$3:$AY$215,L$10,FALSE)","v":1.2807307141484601},{"$f":"VLOOKUP($B80,'EDGAR-2019'!$A$3:$AY$215,M$10,FALSE)","v":1.3607658985909401},6.249181311755625E-2,5.2600388524112307E-2,{"$f":"VLOOKUP($B80,'UN-P'!$C$18:$CK$333,6,FALSE)/1000","v":0.88995299999999999}]
[null,{"$f":"'EDGAR-2019'!A70","v":"Finland"},{"$f":"VLOOKUP($B81,'EDGAR-2019'!$A$3:$AY$215,C$10,FALSE)","v":57.253808053169998},{"$f":"VLOOKUP($B81,'EDGAR-2019'!$A$3:$AY$215,D$10,FALSE)","v":65.844197675190003},{"$f":"VLOOKUP($B81,'EDGAR-2019'!$A$3:$AY$215,E$10,FALSE)","v":58.190301291219903},{"$f":"VLOOKUP($B81,'EDGAR-2019'!$A$3:$AY$215,F$10,FALSE)","v":52.29256794946},{"$f":"VLOOKUP($B81,'EDGAR-2019'!$A$3:$AY$215,G$10,FALSE)","v":53.265022197809998},{"$f":"VLOOKUP($B81,'EDGAR-2019'!$A$3:$AY$215,H$10,FALSE)","v":49.231527735390003},{"$f":"VLOOKUP($B81,'EDGAR-2019'!$A$3:$AY$215,I$10,FALSE)","v":45.831158981450002},{"$f":"VLOOKUP($B81,'EDGAR-2019'!$A$3:$AY$215,J$10,FALSE)","v":48.654372668400001},{"$f":"VLOOKUP($B81,'EDGAR-2019'!$A$3:$AY$215,K$10,FALSE)","v":46.197445830059998},{"$f":"VLOOKUP($B81,'EDGAR-2019'!$A$3:$AY$215,L$10,FALSE)","v":47.349954797850003},{"$f":"VLOOKUP($B81,'EDGAR-2019'!$A$3:$AY$215,M$10,FALSE)","v":43.414879223580002},-8.3106216068630334E-2,-2.9079377646388738E-2,{"$f":"VLOOKUP($B81,'UN-P'!$C$18:$CK$333,6,FALSE)/1000","v":5.5321559999999996}]
[null,{"$f":"'EDGAR-2019'!A71","v":"France and Monaco"},{"$f":"VLOOKUP($B82,'EDGAR-2019'!$A$3:$AY$215,C$10,FALSE)","v":386.36698971754601},{"$f":"VLOOKUP($B82,'EDGAR-2019'!$A$3:$AY$215,D$10,FALSE)","v":379.53044119765002},{"$f":"VLOOKUP($B82,'EDGAR-2019'!$A$3:$AY$215,E$10,FALSE)","v":348.89031426432001},{"$f":"VLOOKUP($B82,'EDGAR-2019'!$A$3:$AY$215,F$10,FALSE)","v":350.14261878367},{"$f":"VLOOKUP($B82,'EDGAR-2019'!$A$3:$AY$215,G$10,FALSE)","v":350.992324189469},{"$f":"VLOOKUP($B82,'EDGAR-2019'!$A$3:$AY$215,H$10,FALSE)","v":315.05557408790099},{"$f":"VLOOKUP($B82,'EDGAR-2019'!$A$3:$AY$215,I$10,FALSE)","v":322.524657529188},{"$f":"VLOOKUP($B82,'EDGAR-2019'!$A$3:$AY$215,J$10,FALSE)","v":324.48224213444303},{"$f":"VLOOKUP($B82,'EDGAR-2019'!$A$3:$AY$215,K$10,FALSE)","v":328.60586718340198},{"$f":"VLOOKUP($B82,'EDGAR-2019'!$A$3:$AY$215,L$10,FALSE)","v":321.29956211062802},{"$f":"VLOOKUP($B82,'EDGAR-2019'!$A$3:$AY$215,M$10,FALSE)","v":314.73578882491898},-2.0428827361579249E-2,-2.1331538787834892E-2,{"$f":"VLOOKUP($B82,'UN-P'!$C$18:$CK$333,6,FALSE)/1000","v":65.168692000000007}]
[null,{"$f":"'EDGAR-2019'!A72","v":"French Guiana"},{"$f":"VLOOKUP($B83,'EDGAR-2019'!$A$3:$AY$215,C$10,FALSE)","v":0.3706490939664},{"$f":"VLOOKUP($B83,'EDGAR-2019'!$A$3:$AY$215,D$10,FALSE)","v":0.52974354385629996},{"$f":"VLOOKUP($B83,'EDGAR-2019'!$A$3:$AY$215,E$10,FALSE)","v":0.41891069076479998},{"$f":"VLOOKUP($B83,'EDGAR-2019'!$A$3:$AY$215,F$10,FALSE)","v":0.71212980084540001},{"$f":"VLOOKUP($B83,'EDGAR-2019'!$A$3:$AY$215,G$10,FALSE)","v":0.79282779779450097},{"$f":"VLOOKUP($B83,'EDGAR-2019'!$A$3:$AY$215,H$10,FALSE)","v":0.72303690325530001},{"$f":"VLOOKUP($B83,'EDGAR-2019'!$A$3:$AY$215,I$10,FALSE)","v":0.71878574872080003},{"$f":"VLOOKUP($B83,'EDGAR-2019'!$A$3:$AY$215,J$10,FALSE)","v":0.72579419579360005},{"$f":"VLOOKUP($B83,'EDGAR-2019'!$A$3:$AY$215,K$10,FALSE)","v":0.59052824279939997},{"$f":"VLOOKUP($B83,'EDGAR-2019'!$A$3:$AY$215,L$10,FALSE)","v":0.59697722692069999},{"$f":"VLOOKUP($B83,'EDGAR-2019'!$A$3:$AY$215,M$10,FALSE)","v":0.6104301590208},2.2535084243485048E-2,1.672789410315545E-2,{"$f":"VLOOKUP($B83,'UN-P'!$C$18:$CK$333,6,FALSE)/1000","v":0.29083199999999998}]
[null,{"$f":"'EDGAR-2019'!A73","v":"French Polynesia"},{"$f":"VLOOKUP($B84,'EDGAR-2019'!$A$3:$AY$215,C$10,FALSE)","v":0.83897955261599999},{"$f":"VLOOKUP($B84,'EDGAR-2019'!$A$3:$AY$215,D$10,FALSE)","v":0.88728646439508996},{"$f":"VLOOKUP($B84,'EDGAR-2019'!$A$3:$AY$215,E$10,FALSE)","v":1.11845618428948},{"$f":"VLOOKUP($B84,'EDGAR-2019'!$A$3:$AY$215,F$10,FALSE)","v":1.59760200931837},{"$f":"VLOOKUP($B84,'EDGAR-2019'!$A$3:$AY$215,G$10,FALSE)","v":0.88830545644448},{"$f":"VLOOKUP($B84,'EDGAR-2019'!$A$3:$AY$215,H$10,FALSE)","v":0.54234633772284002},{"$f":"VLOOKUP($B84,'EDGAR-2019'!$A$3:$AY$215,I$10,FALSE)","v":0.53934378392466997},{"$f":"VLOOKUP($B84,'EDGAR-2019'!$A$3:$AY$215,J$10,FALSE)","v":0.51661785003059202},{"$f":"VLOOKUP($B84,'EDGAR-2019'!$A$3:$AY$215,K$10,FALSE)","v":0.53963593344475402},{"$f":"VLOOKUP($B84,'EDGAR-2019'!$A$3:$AY$215,L$10,FALSE)","v":0.56317979669499796},{"$f":"VLOOKUP($B84,'EDGAR-2019'!$A$3:$AY$215,M$10,FALSE)","v":0.599440251936872},6.4385220234581153E-2,5.4007190829097662E-2,{"$f":"VLOOKUP($B84,'UN-P'!$C$18:$CK$333,6,FALSE)/1000","v":0.27928699999999995}]
[null,{"$f":"'EDGAR-2019'!A74","v":"Gabon"},{"$f":"VLOOKUP($B85,'EDGAR-2019'!$A$3:$AY$215,C$10,FALSE)","v":6.1716824557040004},{"$f":"VLOOKUP($B85,'EDGAR-2019'!$A$3:$AY$215,D$10,FALSE)","v":5.9515817326449998},{"$f":"VLOOKUP($B85,'EDGAR-2019'!$A$3:$AY$215,E$10,FALSE)","v":5.8133471204770002},{"$f":"VLOOKUP($B85,'EDGAR-2019'!$A$3:$AY$215,F$10,FALSE)","v":5.8901050624150004},{"$f":"VLOOKUP($B85,'EDGAR-2019'!$A$3:$AY$215,G$10,FALSE)","v":6.119902847214},{"$f":"VLOOKUP($B85,'EDGAR-2019'!$A$3:$AY$215,H$10,FALSE)","v":6.2867166448980001},{"$f":"VLOOKUP($B85,'EDGAR-2019'!$A$3:$AY$215,I$10,FALSE)","v":6.4230006000479998},{"$f":"VLOOKUP($B85,'EDGAR-2019'!$A$3:$AY$215,J$10,FALSE)","v":6.5568471412309997},{"$f":"VLOOKUP($B85,'EDGAR-2019'!$A$3:$AY$215,K$10,FALSE)","v":6.4571953719769999},{"$f":"VLOOKUP($B85,'EDGAR-2019'!$A$3:$AY$215,L$10,FALSE)","v":3.49507328070443},{"$f":"VLOOKUP($B85,'EDGAR-2019'!$A$3:$AY$215,M$10,FALSE)","v":3.48495282080443},-2.8956359673123488E-3,-0.23081381363926362,{"$f":"VLOOKUP($B85,'UN-P'!$C$18:$CK$333,6,FALSE)/1000","v":2.1725790000000003}]
[null,{"$f":"'EDGAR-2019'!A75","v":"Georgia"},{"$f":"VLOOKUP($B86,'EDGAR-2019'!$A$3:$AY$215,C$10,FALSE)","v":34.744533741040001},{"$f":"VLOOKUP($B86,'EDGAR-2019'!$A$3:$AY$215,D$10,FALSE)","v":6.2283978013999999},{"$f":"VLOOKUP($B86,'EDGAR-2019'!$A$3:$AY$215,E$10,FALSE)","v":7.51563003483},{"$f":"VLOOKUP($B86,'EDGAR-2019'!$A$3:$AY$215,F$10,FALSE)","v":8.1838876087079999},{"$f":"VLOOKUP($B86,'EDGAR-2019'!$A$3:$AY$215,G$10,FALSE)","v":8.3040673191999996},{"$f":"VLOOKUP($B86,'EDGAR-2019'!$A$3:$AY$215,H$10,FALSE)","v":9.4161044093000008},{"$f":"VLOOKUP($B86,'EDGAR-2019'!$A$3:$AY$215,I$10,FALSE)","v":10.13951046179},{"$f":"VLOOKUP($B86,'EDGAR-2019'!$A$3:$AY$215,J$10,FALSE)","v":10.5386849256322},{"$f":"VLOOKUP($B86,'EDGAR-2019'!$A$3:$AY$215,K$10,FALSE)","v":10.5698578530082},{"$f":"VLOOKUP($B86,'EDGAR-2019'!$A$3:$AY$215,L$10,FALSE)","v":13.0174691866},{"$f":"VLOOKUP($B86,'EDGAR-2019'!$A$3:$AY$215,M$10,FALSE)","v":13.473722843199999},3.5049336400170716E-2,0.13330727226297756,{"$f":"VLOOKUP($B86,'UN-P'!$C$18:$CK$333,6,FALSE)/1000","v":3.9967649999999999}]
[null,{"$f":"'EDGAR-2019'!A76","v":"Germany"},{"$f":"VLOOKUP($B87,'EDGAR-2019'!$A$3:$AY$215,C$10,FALSE)","v":1018.22128220747},{"$f":"VLOOKUP($B87,'EDGAR-2019'!$A$3:$AY$215,D$10,FALSE)","v":816.66803733171002},{"$f":"VLOOKUP($B87,'EDGAR-2019'!$A$3:$AY$215,E$10,FALSE)","v":789.79688096682003},{"$f":"VLOOKUP($B87,'EDGAR-2019'!$A$3:$AY$215,F$10,FALSE)","v":801.62733660631},{"$f":"VLOOKUP($B87,'EDGAR-2019'!$A$3:$AY$215,G$10,FALSE)","v":820.21721756142995},{"$f":"VLOOKUP($B87,'EDGAR-2019'!$A$3:$AY$215,H$10,FALSE)","v":780.72505153095801},{"$f":"VLOOKUP($B87,'EDGAR-2019'!$A$3:$AY$215,I$10,FALSE)","v":786.82874099031005},{"$f":"VLOOKUP($B87,'EDGAR-2019'!$A$3:$AY$215,J$10,FALSE)","v":790.81362338443},{"$f":"VLOOKUP($B87,'EDGAR-2019'!$A$3:$AY$215,K$10,FALSE)","v":776.66117208301898},{"$f":"VLOOKUP($B87,'EDGAR-2019'!$A$3:$AY$215,L$10,FALSE)","v":751.38419744654004},{"$f":"VLOOKUP($B87,'EDGAR-2019'!$A$3:$AY$215,M$10,FALSE)","v":702.59996206946005},-6.4925820296548031E-2,-4.8735755724347851E-2,{"$f":"VLOOKUP($B87,'UN-P'!$C$18:$CK$333,6,FALSE)/1000","v":83.517044999999996}]
[null,{"$f":"'EDGAR-2019'!A77","v":"Ghana"},{"$f":"VLOOKUP($B88,'EDGAR-2019'!$A$3:$AY$215,C$10,FALSE)","v":3.1949397365559999},{"$f":"VLOOKUP($B88,'EDGAR-2019'!$A$3:$AY$215,D$10,FALSE)","v":11.418343465435999},{"$f":"VLOOKUP($B88,'EDGAR-2019'!$A$3:$AY$215,E$10,FALSE)","v":12.280374199143001},{"$f":"VLOOKUP($B88,'EDGAR-2019'!$A$3:$AY$215,F$10,FALSE)","v":14.697812857434},{"$f":"VLOOKUP($B88,'EDGAR-2019'!$A$3:$AY$215,G$10,FALSE)","v":15.575720315906},{"$f":"VLOOKUP($B88,'EDGAR-2019'!$A$3:$AY$215,H$10,FALSE)","v":15.125889996066},{"$f":"VLOOKUP($B88,'EDGAR-2019'!$A$3:$AY$215,I$10,FALSE)","v":15.902009943952001},{"$f":"VLOOKUP($B88,'EDGAR-2019'!$A$3:$AY$215,J$10,FALSE)","v":14.920818285406},{"$f":"VLOOKUP($B88,'EDGAR-2019'!$A$3:$AY$215,K$10,FALSE)","v":16.145531957702001},{"$f":"VLOOKUP($B88,'EDGAR-2019'!$A$3:$AY$215,L$10,FALSE)","v":16.236025140236698},{"$f":"VLOOKUP($B88,'EDGAR-2019'!$A$3:$AY$215,M$10,FALSE)","v":16.837458997436698},3.7043171096693195E-2,2.1324007381574805E-2,{"$f":"VLOOKUP($B88,'UN-P'!$C$18:$CK$333,6,FALSE)/1000","v":30.417856}]
[null,{"$f":"'EDGAR-2019'!A78","v":"Gibraltar"},{"$f":"VLOOKUP($B89,'EDGAR-2019'!$A$3:$AY$215,C$10,FALSE)","v":0.14377818665},{"$f":"VLOOKUP($B89,'EDGAR-2019'!$A$3:$AY$215,D$10,FALSE)","v":0.47481537359999998},{"$f":"VLOOKUP($B89,'EDGAR-2019'!$A$3:$AY$215,E$10,FALSE)","v":0.45919125435000002},{"$f":"VLOOKUP($B89,'EDGAR-2019'!$A$3:$AY$215,F$10,FALSE)","v":0.46859155810000003},{"$f":"VLOOKUP($B89,'EDGAR-2019'!$A$3:$AY$215,G$10,FALSE)","v":0.49976150128000002},{"$f":"VLOOKUP($B89,'EDGAR-2019'!$A$3:$AY$215,H$10,FALSE)","v":0.53718285203000005},{"$f":"VLOOKUP($B89,'EDGAR-2019'!$A$3:$AY$215,I$10,FALSE)","v":0.57465079395999996},{"$f":"VLOOKUP($B89,'EDGAR-2019'!$A$3:$AY$215,J$10,FALSE)","v":0.62924586243000002},{"$f":"VLOOKUP($B89,'EDGAR-2019'!$A$3:$AY$215,K$10,FALSE)","v":0.68591969701},{"$f":"VLOOKUP($B89,'EDGAR-2019'!$A$3:$AY$215,L$10,FALSE)","v":0.68427460270999996},{"$f":"VLOOKUP($B89,'EDGAR-2019'!$A$3:$AY$215,M$10,FALSE)","v":0.69353342653000005},1.3530859954953067E-2,5.5662412771292358E-3,{"$f":"VLOOKUP($B89,'UN-P'!$C$18:$CK$333,6,FALSE)/1000","v":3.3701000000000002E-2}]
[null,{"$f":"'EDGAR-2019'!A79","v":"Greece"},{"$f":"VLOOKUP($B90,'EDGAR-2019'!$A$3:$AY$215,C$10,FALSE)","v":79.190561778149998},{"$f":"VLOOKUP($B90,'EDGAR-2019'!$A$3:$AY$215,D$10,FALSE)","v":89.979023878899994},{"$f":"VLOOKUP($B90,'EDGAR-2019'!$A$3:$AY$215,E$10,FALSE)","v":86.934224326150002},{"$f":"VLOOKUP($B90,'EDGAR-2019'!$A$3:$AY$215,F$10,FALSE)","v":82.433756538580099},{"$f":"VLOOKUP($B90,'EDGAR-2019'!$A$3:$AY$215,G$10,FALSE)","v":74.889489711760007},{"$f":"VLOOKUP($B90,'EDGAR-2019'!$A$3:$AY$215,H$10,FALSE)","v":72.170701820389993},{"$f":"VLOOKUP($B90,'EDGAR-2019'!$A$3:$AY$215,I$10,FALSE)","v":70.557476321297997},{"$f":"VLOOKUP($B90,'EDGAR-2019'!$A$3:$AY$215,J$10,FALSE)","v":69.555543524186007},{"$f":"VLOOKUP($B90,'EDGAR-2019'!$A$3:$AY$215,K$10,FALSE)","v":70.306749487152402},{"$f":"VLOOKUP($B90,'EDGAR-2019'!$A$3:$AY$215,L$10,FALSE)","v":68.378619792637494},{"$f":"VLOOKUP($B90,'EDGAR-2019'!$A$3:$AY$215,M$10,FALSE)","v":65.568488503685003},-4.1096636601826608E-2,-3.4260584253894444E-2,{"$f":"VLOOKUP($B90,'UN-P'!$C$18:$CK$333,6,FALSE)/1000","v":10.473455}]
[null,{"$f":"'EDGAR-2019'!A80","v":"Greenland"},{"$f":"VLOOKUP($B91,'EDGAR-2019'!$A$3:$AY$215,C$10,FALSE)","v":3.0644761499999998E-3},{"$f":"VLOOKUP($B91,'EDGAR-2019'!$A$3:$AY$215,D$10,FALSE)","v":0.66598728971999999},{"$f":"VLOOKUP($B91,'EDGAR-2019'!$A$3:$AY$215,E$10,FALSE)","v":0.71703120047000002},{"$f":"VLOOKUP($B91,'EDGAR-2019'!$A$3:$AY$215,F$10,FALSE)","v":0.56346683162},{"$f":"VLOOKUP($B91,'EDGAR-2019'!$A$3:$AY$215,G$10,FALSE)","v":0.55041907925},{"$f":"VLOOKUP($B91,'EDGAR-2019'!$A$3:$AY$215,H$10,FALSE)","v":0.5112354482},{"$f":"VLOOKUP($B91,'EDGAR-2019'!$A$3:$AY$215,I$10,FALSE)","v":0.51766849377000002},{"$f":"VLOOKUP($B91,'EDGAR-2019'!$A$3:$AY$215,J$10,FALSE)","v":0.52542622107000003},{"$f":"VLOOKUP($B91,'EDGAR-2019'!$A$3:$AY$215,K$10,FALSE)","v":0.53082108535000005},{"$f":"VLOOKUP($B91,'EDGAR-2019'!$A$3:$AY$215,L$10,FALSE)","v":0.52955804982999999},{"$f":"VLOOKUP($B91,'EDGAR-2019'!$A$3:$AY$215,M$10,FALSE)","v":0.53668520879000003},1.3458692512158033E-2,5.5396464166620474E-3,{"$f":"VLOOKUP($B91,'UN-P'!$C$18:$CK$333,6,FALSE)/1000","v":5.6672E-2}]
[null,{"$f":"'EDGAR-2019'!A81","v":"Grenada"},{"$f":"VLOOKUP($B92,'EDGAR-2019'!$A$3:$AY$215,C$10,FALSE)","v":7.461298970329E-2},{"$f":"VLOOKUP($B92,'EDGAR-2019'!$A$3:$AY$215,D$10,FALSE)","v":0.14243155850038},{"$f":"VLOOKUP($B92,'EDGAR-2019'!$A$3:$AY$215,E$10,FALSE)","v":0.1410533120545},{"$f":"VLOOKUP($B92,'EDGAR-2019'!$A$3:$AY$215,F$10,FALSE)","v":0.24603256532199999},{"$f":"VLOOKUP($B92,'EDGAR-2019'!$A$3:$AY$215,G$10,FALSE)","v":0.31754099170941003},{"$f":"VLOOKUP($B92,'EDGAR-2019'!$A$3:$AY$215,H$10,FALSE)","v":0.26308511215674002},{"$f":"VLOOKUP($B92,'EDGAR-2019'!$A$3:$AY$215,I$10,FALSE)","v":0.27985245674216003},{"$f":"VLOOKUP($B92,'EDGAR-2019'!$A$3:$AY$215,J$10,FALSE)","v":0.28335889717454998},{"$f":"VLOOKUP($B92,'EDGAR-2019'!$A$3:$AY$215,K$10,FALSE)","v":0.22788979991503999},{"$f":"VLOOKUP($B92,'EDGAR-2019'!$A$3:$AY$215,L$10,FALSE)","v":0.23465862742025001},{"$f":"VLOOKUP($B92,'EDGAR-2019'!$A$3:$AY$215,M$10,FALSE)","v":0.2286236163174},-2.5718257918733611E-2,1.9919690444348825E-3,{"$f":"VLOOKUP($B92,'UN-P'!$C$18:$CK$333,6,FALSE)/1000","v":0.11200300000000001}]
[null,{"$f":"'EDGAR-2019'!A82","v":"Guadeloupe"},{"$f":"VLOOKUP($B93,'EDGAR-2019'!$A$3:$AY$215,C$10,FALSE)","v":0.87475384553290003},{"$f":"VLOOKUP($B93,'EDGAR-2019'!$A$3:$AY$215,D$10,FALSE)","v":1.1884459692778999},{"$f":"VLOOKUP($B93,'EDGAR-2019'!$A$3:$AY$215,E$10,FALSE)","v":1.1779246876589999},{"$f":"VLOOKUP($B93,'EDGAR-2019'!$A$3:$AY$215,F$10,FALSE)","v":2.0251649577549999},{"$f":"VLOOKUP($B93,'EDGAR-2019'!$A$3:$AY$215,G$10,FALSE)","v":2.3452114729256999},{"$f":"VLOOKUP($B93,'EDGAR-2019'!$A$3:$AY$215,H$10,FALSE)","v":2.2220411919726},{"$f":"VLOOKUP($B93,'EDGAR-2019'!$A$3:$AY$215,I$10,FALSE)","v":2.2569142141834},{"$f":"VLOOKUP($B93,'EDGAR-2019'!$A$3:$AY$215,J$10,FALSE)","v":2.2821632453445},{"$f":"VLOOKUP($B93,'EDGAR-2019'!$A$3:$AY$215,K$10,FALSE)","v":1.8629168581452999},{"$f":"VLOOKUP($B93,'EDGAR-2019'!$A$3:$AY$215,L$10,FALSE)","v":1.9149534832382999},{"$f":"VLOOKUP($B93,'EDGAR-2019'!$A$3:$AY$215,M$10,FALSE)","v":1.8730616319833},-2.1876171730374483E-2,3.0283519995725761E-3,{"$f":"VLOOKUP($B93,'UN-P'!$C$18:$CK$333,6,FALSE)/1000","v":0.40005599999999997}]
[null,{"$f":"'EDGAR-2019'!A83","v":"Guatemala"},{"$f":"VLOOKUP($B94,'EDGAR-2019'!$A$3:$AY$215,C$10,FALSE)","v":3.916583683866},{"$f":"VLOOKUP($B94,'EDGAR-2019'!$A$3:$AY$215,D$10,FALSE)","v":11.729986333379999},{"$f":"VLOOKUP($B94,'EDGAR-2019'!$A$3:$AY$215,E$10,FALSE)","v":11.965297733030001},{"$f":"VLOOKUP($B94,'EDGAR-2019'!$A$3:$AY$215,F$10,FALSE)","v":12.14906216881},{"$f":"VLOOKUP($B94,'EDGAR-2019'!$A$3:$AY$215,G$10,FALSE)","v":14.02236192795},{"$f":"VLOOKUP($B94,'EDGAR-2019'!$A$3:$AY$215,H$10,FALSE)","v":18.157378330650001},{"$f":"VLOOKUP($B94,'EDGAR-2019'!$A$3:$AY$215,I$10,FALSE)","v":17.10155843722},{"$f":"VLOOKUP($B94,'EDGAR-2019'!$A$3:$AY$215,J$10,FALSE)","v":18.206141826307999},{"$f":"VLOOKUP($B94,'EDGAR-2019'!$A$3:$AY$215,K$10,FALSE)","v":17.751198735599001},{"$f":"VLOOKUP($B94,'EDGAR-2019'!$A$3:$AY$215,L$10,FALSE)","v":20.062045122840001},{"$f":"VLOOKUP($B94,'EDGAR-2019'!$A$3:$AY$215,M$10,FALSE)","v":21.19600281184},5.6522537062237088E-2,9.3351137155222585E-2,{"$f":"VLOOKUP($B94,'UN-P'!$C$18:$CK$333,6,FALSE)/1000","v":17.581472000000002}]
[null,{"$f":"'EDGAR-2019'!A84","v":"Guinea"},{"$f":"VLOOKUP($B95,'EDGAR-2019'!$A$3:$AY$215,C$10,FALSE)","v":1.0736242751397},{"$f":"VLOOKUP($B95,'EDGAR-2019'!$A$3:$AY$215,D$10,FALSE)","v":1.3926483157},{"$f":"VLOOKUP($B95,'EDGAR-2019'!$A$3:$AY$215,E$10,FALSE)","v":1.6565363141},{"$f":"VLOOKUP($B95,'EDGAR-2019'!$A$3:$AY$215,F$10,FALSE)","v":1.7045944086},{"$f":"VLOOKUP($B95,'EDGAR-2019'!$A$3:$AY$215,G$10,FALSE)","v":2.3740994574999998},{"$f":"VLOOKUP($B95,'EDGAR-2019'!$A$3:$AY$215,H$10,FALSE)","v":2.5036400606},{"$f":"VLOOKUP($B95,'EDGAR-2019'!$A$3:$AY$215,I$10,FALSE)","v":2.5181724964000001},{"$f":"VLOOKUP($B95,'EDGAR-2019'!$A$3:$AY$215,J$10,FALSE)","v":2.5902633528000001},{"$f":"VLOOKUP($B95,'EDGAR-2019'!$A$3:$AY$215,K$10,FALSE)","v":2.6795608967},{"$f":"VLOOKUP($B95,'EDGAR-2019'!$A$3:$AY$215,L$10,FALSE)","v":2.8104127108000001},{"$f":"VLOOKUP($B95,'EDGAR-2019'!$A$3:$AY$215,M$10,FALSE)","v":2.9209716052000001},3.9339024469658312E-2,4.4086164653729165E-2,{"$f":"VLOOKUP($B95,'UN-P'!$C$18:$CK$333,6,FALSE)/1000","v":12.771246}]
[null,{"$f":"'EDGAR-2019'!A85","v":"Guinea-Bissau"},{"$f":"VLOOKUP($B96,'EDGAR-2019'!$A$3:$AY$215,C$10,FALSE)","v":0.19584253652790001},{"$f":"VLOOKUP($B96,'EDGAR-2019'!$A$3:$AY$215,D$10,FALSE)","v":0.40498271842},{"$f":"VLOOKUP($B96,'EDGAR-2019'!$A$3:$AY$215,E$10,FALSE)","v":0.47461065190000001},{"$f":"VLOOKUP($B96,'EDGAR-2019'!$A$3:$AY$215,F$10,FALSE)","v":0.49507474489999997},{"$f":"VLOOKUP($B96,'EDGAR-2019'!$A$3:$AY$215,G$10,FALSE)","v":0.34069023759},{"$f":"VLOOKUP($B96,'EDGAR-2019'!$A$3:$AY$215,H$10,FALSE)","v":0.35617787397},{"$f":"VLOOKUP($B96,'EDGAR-2019'!$A$3:$AY$215,I$10,FALSE)","v":0.37582880552999998},{"$f":"VLOOKUP($B96,'EDGAR-2019'!$A$3:$AY$215,J$10,FALSE)","v":0.38687285049999998},{"$f":"VLOOKUP($B96,'EDGAR-2019'!$A$3:$AY$215,K$10,FALSE)","v":0.39988029878999998},{"$f":"VLOOKUP($B96,'EDGAR-2019'!$A$3:$AY$215,L$10,FALSE)","v":0.42065028911000002},{"$f":"VLOOKUP($B96,'EDGAR-2019'!$A$3:$AY$215,M$10,FALSE)","v":0.43723527076000002},3.9427006421628885E-2,4.5683762789553439E-2,{"$f":"VLOOKUP($B96,'UN-P'!$C$18:$CK$333,6,FALSE)/1000","v":1.920922}]
[null,{"$f":"'EDGAR-2019'!A86","v":"Guyana"},{"$f":"VLOOKUP($B97,'EDGAR-2019'!$A$3:$AY$215,C$10,FALSE)","v":0.33731658596480002},{"$f":"VLOOKUP($B97,'EDGAR-2019'!$A$3:$AY$215,D$10,FALSE)","v":0.78573328831709999},{"$f":"VLOOKUP($B97,'EDGAR-2019'!$A$3:$AY$215,E$10,FALSE)","v":0.81064824870899999},{"$f":"VLOOKUP($B97,'EDGAR-2019'!$A$3:$AY$215,F$10,FALSE)","v":1.4130576560313},{"$f":"VLOOKUP($B97,'EDGAR-2019'!$A$3:$AY$215,G$10,FALSE)","v":1.7767758071205999},{"$f":"VLOOKUP($B97,'EDGAR-2019'!$A$3:$AY$215,H$10,FALSE)","v":1.6189085723059999},{"$f":"VLOOKUP($B97,'EDGAR-2019'!$A$3:$AY$215,I$10,FALSE)","v":1.6661155845372},{"$f":"VLOOKUP($B97,'EDGAR-2019'!$A$3:$AY$215,J$10,FALSE)","v":1.7864192909012},{"$f":"VLOOKUP($B97,'EDGAR-2019'!$A$3:$AY$215,K$10,FALSE)","v":1.4721812402150001},{"$f":"VLOOKUP($B97,'EDGAR-2019'!$A$3:$AY$215,L$10,FALSE)","v":1.4881780481250999},{"$f":"VLOOKUP($B97,'EDGAR-2019'!$A$3:$AY$215,M$10,FALSE)","v":1.5224089164825001},2.3001863520649479E-2,1.6933961156815225E-2,{"$f":"VLOOKUP($B97,'UN-P'!$C$18:$CK$333,6,FALSE)/1000","v":0.78276599999999996}]
[null,{"$f":"'EDGAR-2019'!A87","v":"Haiti"},{"$f":"VLOOKUP($B98,'EDGAR-2019'!$A$3:$AY$215,C$10,FALSE)","v":1.146513272},{"$f":"VLOOKUP($B98,'EDGAR-2019'!$A$3:$AY$215,D$10,FALSE)","v":2.3582525400000001},{"$f":"VLOOKUP($B98,'EDGAR-2019'!$A$3:$AY$215,E$10,FALSE)","v":2.410442508},{"$f":"VLOOKUP($B98,'EDGAR-2019'!$A$3:$AY$215,F$10,FALSE)","v":2.301325528554},{"$f":"VLOOKUP($B98,'EDGAR-2019'!$A$3:$AY$215,G$10,FALSE)","v":2.3697196649999999},{"$f":"VLOOKUP($B98,'EDGAR-2019'!$A$3:$AY$215,H$10,FALSE)","v":3.0135991990000002},{"$f":"VLOOKUP($B98,'EDGAR-2019'!$A$3:$AY$215,I$10,FALSE)","v":3.4547581190000001},{"$f":"VLOOKUP($B98,'EDGAR-2019'!$A$3:$AY$215,J$10,FALSE)","v":3.4952383920000001},{"$f":"VLOOKUP($B98,'EDGAR-2019'!$A$3:$AY$215,K$10,FALSE)","v":3.5487933300000001},{"$f":"VLOOKUP($B98,'EDGAR-2019'!$A$3:$AY$215,L$10,FALSE)","v":3.6549319140000001},{"$f":"VLOOKUP($B98,'EDGAR-2019'!$A$3:$AY$215,M$10,FALSE)","v":3.5766909330000001},-2.140695992182573E-2,4.2506994079938853E-3,{"$f":"VLOOKUP($B98,'UN-P'!$C$18:$CK$333,6,FALSE)/1000","v":11.263076999999999}]
[null,{"$f":"'EDGAR-2019'!A88","v":"Honduras"},{"$f":"VLOOKUP($B99,'EDGAR-2019'!$A$3:$AY$215,C$10,FALSE)","v":2.3731678147480002},{"$f":"VLOOKUP($B99,'EDGAR-2019'!$A$3:$AY$215,D$10,FALSE)","v":8.0586843439999996},{"$f":"VLOOKUP($B99,'EDGAR-2019'!$A$3:$AY$215,E$10,FALSE)","v":9.1097341909999994},{"$f":"VLOOKUP($B99,'EDGAR-2019'!$A$3:$AY$215,F$10,FALSE)","v":9.1103165490000002},{"$f":"VLOOKUP($B99,'EDGAR-2019'!$A$3:$AY$215,G$10,FALSE)","v":9.2098130190000003},{"$f":"VLOOKUP($B99,'EDGAR-2019'!$A$3:$AY$215,H$10,FALSE)","v":9.5063331390000005},{"$f":"VLOOKUP($B99,'EDGAR-2019'!$A$3:$AY$215,I$10,FALSE)","v":10.002833909},{"$f":"VLOOKUP($B99,'EDGAR-2019'!$A$3:$AY$215,J$10,FALSE)","v":9.5033744200000001},{"$f":"VLOOKUP($B99,'EDGAR-2019'!$A$3:$AY$215,K$10,FALSE)","v":9.6649164550000002},{"$f":"VLOOKUP($B99,'EDGAR-2019'!$A$3:$AY$215,L$10,FALSE)","v":9.9572014840000005},{"$f":"VLOOKUP($B99,'EDGAR-2019'!$A$3:$AY$215,M$10,FALSE)","v":10.356497168000001},4.010119556600511E-2,3.5171526678812626E-2,{"$f":"VLOOKUP($B99,'UN-P'!$C$18:$CK$333,6,FALSE)/1000","v":9.7461169999999999}]
[null,{"$f":"'EDGAR-2019'!A89","v":"Hong Kong"},{"$f":"VLOOKUP($B100,'EDGAR-2019'!$A$3:$AY$215,C$10,FALSE)","v":34.182402472},{"$f":"VLOOKUP($B100,'EDGAR-2019'!$A$3:$AY$215,D$10,FALSE)","v":42.691627648999997},{"$f":"VLOOKUP($B100,'EDGAR-2019'!$A$3:$AY$215,E$10,FALSE)","v":46.349992839999999},{"$f":"VLOOKUP($B100,'EDGAR-2019'!$A$3:$AY$215,F$10,FALSE)","v":45.810535592999997},{"$f":"VLOOKUP($B100,'EDGAR-2019'!$A$3:$AY$215,G$10,FALSE)","v":46.971999791000002},{"$f":"VLOOKUP($B100,'EDGAR-2019'!$A$3:$AY$215,H$10,FALSE)","v":48.917502309},{"$f":"VLOOKUP($B100,'EDGAR-2019'!$A$3:$AY$215,I$10,FALSE)","v":44.859225606999999},{"$f":"VLOOKUP($B100,'EDGAR-2019'!$A$3:$AY$215,J$10,FALSE)","v":45.6702510012},{"$f":"VLOOKUP($B100,'EDGAR-2019'!$A$3:$AY$215,K$10,FALSE)","v":45.001963740500003},{"$f":"VLOOKUP($B100,'EDGAR-2019'!$A$3:$AY$215,L$10,FALSE)","v":44.927202706599999},{"$f":"VLOOKUP($B100,'EDGAR-2019'!$A$3:$AY$215,M$10,FALSE)","v":44.016197220599999},-2.0277369413568502E-2,-1.0969326613114228E-2,{"$f":"VLOOKUP($B100,'UN-P'!$C$18:$CK$333,6,FALSE)/1000","v":7.4361540000000002}]
[null,{"$f":"'EDGAR-2019'!A90","v":"Hungary"},{"$f":"VLOOKUP($B101,'EDGAR-2019'!$A$3:$AY$215,C$10,FALSE)","v":72.074745079099998},{"$f":"VLOOKUP($B101,'EDGAR-2019'!$A$3:$AY$215,D$10,FALSE)","v":51.91829709316},{"$f":"VLOOKUP($B101,'EDGAR-2019'!$A$3:$AY$215,E$10,FALSE)","v":51.027132385746},{"$f":"VLOOKUP($B101,'EDGAR-2019'!$A$3:$AY$215,F$10,FALSE)","v":47.334022525329999},{"$f":"VLOOKUP($B101,'EDGAR-2019'!$A$3:$AY$215,G$10,FALSE)","v":44.360642105057998},{"$f":"VLOOKUP($B101,'EDGAR-2019'!$A$3:$AY$215,H$10,FALSE)","v":44.497418469819998},{"$f":"VLOOKUP($B101,'EDGAR-2019'!$A$3:$AY$215,I$10,FALSE)","v":47.256979420988998},{"$f":"VLOOKUP($B101,'EDGAR-2019'!$A$3:$AY$215,J$10,FALSE)","v":48.442693196274},{"$f":"VLOOKUP($B101,'EDGAR-2019'!$A$3:$AY$215,K$10,FALSE)","v":50.724373655965003},{"$f":"VLOOKUP($B101,'EDGAR-2019'!$A$3:$AY$215,L$10,FALSE)","v":53.595486647467503},{"$f":"VLOOKUP($B101,'EDGAR-2019'!$A$3:$AY$215,M$10,FALSE)","v":53.182599024843803},-7.7037759791143134E-3,2.4449230235929931E-2,{"$f":"VLOOKUP($B101,'UN-P'!$C$18:$CK$333,6,FALSE)/1000","v":9.6846790000000009}]
[null,{"$f":"'EDGAR-2019'!A91","v":"Iceland"},{"$f":"VLOOKUP($B102,'EDGAR-2019'!$A$3:$AY$215,C$10,FALSE)","v":2.3467246157999999},{"$f":"VLOOKUP($B102,'EDGAR-2019'!$A$3:$AY$215,D$10,FALSE)","v":3.72037850796},{"$f":"VLOOKUP($B102,'EDGAR-2019'!$A$3:$AY$215,E$10,FALSE)","v":3.6204113413000001},{"$f":"VLOOKUP($B102,'EDGAR-2019'!$A$3:$AY$215,F$10,FALSE)","v":3.6940451619000001},{"$f":"VLOOKUP($B102,'EDGAR-2019'!$A$3:$AY$215,G$10,FALSE)","v":3.8256023290000001},{"$f":"VLOOKUP($B102,'EDGAR-2019'!$A$3:$AY$215,H$10,FALSE)","v":3.7777203736999998},{"$f":"VLOOKUP($B102,'EDGAR-2019'!$A$3:$AY$215,I$10,FALSE)","v":3.8535039699999998},{"$f":"VLOOKUP($B102,'EDGAR-2019'!$A$3:$AY$215,J$10,FALSE)","v":3.8786540965},{"$f":"VLOOKUP($B102,'EDGAR-2019'!$A$3:$AY$215,K$10,FALSE)","v":4.0660234679},{"$f":"VLOOKUP($B102,'EDGAR-2019'!$A$3:$AY$215,L$10,FALSE)","v":4.1486409013000003},{"$f":"VLOOKUP($B102,'EDGAR-2019'!$A$3:$AY$215,M$10,FALSE)","v":3.9253993897999999},-5.3810757983426938E-2,-1.6745890974460276E-2,{"$f":"VLOOKUP($B102,'UN-P'!$C$18:$CK$333,6,FALSE)/1000","v":0.33903100000000003}]
[null,{"$f":"'EDGAR-2019'!A92","v":"India"},{"$f":"VLOOKUP($B103,'EDGAR-2019'!$A$3:$AY$215,C$10,FALSE)","v":599.82435850549996},{"$f":"VLOOKUP($B103,'EDGAR-2019'!$A$3:$AY$215,D$10,FALSE)","v":1761.4016681517701},{"$f":"VLOOKUP($B103,'EDGAR-2019'!$A$3:$AY$215,E$10,FALSE)","v":1858.6119249942101},{"$f":"VLOOKUP($B103,'EDGAR-2019'!$A$3:$AY$215,F$10,FALSE)","v":2000.8397192878399},{"$f":"VLOOKUP($B103,'EDGAR-2019'!$A$3:$AY$215,G$10,FALSE)","v":2068.6029346099399},{"$f":"VLOOKUP($B103,'EDGAR-2019'!$A$3:$AY$215,H$10,FALSE)","v":2235.9151873211399},{"$f":"VLOOKUP($B103,'EDGAR-2019'!$A$3:$AY$215,I$10,FALSE)","v":2292.9562447834401},{"$f":"VLOOKUP($B103,'EDGAR-2019'!$A$3:$AY$215,J$10,FALSE)","v":2321.80410981155},{"$f":"VLOOKUP($B103,'EDGAR-2019'!$A$3:$AY$215,K$10,FALSE)","v":2425.4163484952201},{"$f":"VLOOKUP($B103,'EDGAR-2019'!$A$3:$AY$215,L$10,FALSE)","v":2556.5467978669499},{"$f":"VLOOKUP($B103,'EDGAR-2019'!$A$3:$AY$215,M$10,FALSE)","v":2597.3598796205101},1.5964144207183173E-2,3.5014636935828736E-2,{"$f":"VLOOKUP($B103,'UN-P'!$C$18:$CK$333,6,FALSE)/1000","v":1366.4177540000001}]
[null,{"$f":"'EDGAR-2019'!A93","v":"Indonesia"},{"$f":"VLOOKUP($B104,'EDGAR-2019'!$A$3:$AY$215,C$10,FALSE)","v":163.99200054170001},{"$f":"VLOOKUP($B104,'EDGAR-2019'!$A$3:$AY$215,D$10,FALSE)","v":420.3222077218},{"$f":"VLOOKUP($B104,'EDGAR-2019'!$A$3:$AY$215,E$10,FALSE)","v":431.01584192719997},{"$f":"VLOOKUP($B104,'EDGAR-2019'!$A$3:$AY$215,F$10,FALSE)","v":443.99782485029999},{"$f":"VLOOKUP($B104,'EDGAR-2019'!$A$3:$AY$215,G$10,FALSE)","v":448.19480096059999},{"$f":"VLOOKUP($B104,'EDGAR-2019'!$A$3:$AY$215,H$10,FALSE)","v":485.38102722939999},{"$f":"VLOOKUP($B104,'EDGAR-2019'!$A$3:$AY$215,I$10,FALSE)","v":493.13696211659999},{"$f":"VLOOKUP($B104,'EDGAR-2019'!$A$3:$AY$215,J$10,FALSE)","v":490.61029222719998},{"$f":"VLOOKUP($B104,'EDGAR-2019'!$A$3:$AY$215,K$10,FALSE)","v":531.99148496910004},{"$f":"VLOOKUP($B104,'EDGAR-2019'!$A$3:$AY$215,L$10,FALSE)","v":579.22805691940005},{"$f":"VLOOKUP($B104,'EDGAR-2019'!$A$3:$AY$215,M$10,FALSE)","v":625.66300559080003},8.016695344207303E-2,8.4479461699107805E-2,{"$f":"VLOOKUP($B104,'UN-P'!$C$18:$CK$333,6,FALSE)/1000","v":270.62556800000004}]
[null,{"$f":"'EDGAR-2019'!A94","v":"Iran"},{"$f":"VLOOKUP($B105,'EDGAR-2019'!$A$3:$AY$215,C$10,FALSE)","v":204.75631857260001},{"$f":"VLOOKUP($B105,'EDGAR-2019'!$A$3:$AY$215,D$10,FALSE)","v":570.81901103279995},{"$f":"VLOOKUP($B105,'EDGAR-2019'!$A$3:$AY$215,E$10,FALSE)","v":580.74431827670003},{"$f":"VLOOKUP($B105,'EDGAR-2019'!$A$3:$AY$215,F$10,FALSE)","v":587.5693589668},{"$f":"VLOOKUP($B105,'EDGAR-2019'!$A$3:$AY$215,G$10,FALSE)","v":608.35203150406005},{"$f":"VLOOKUP($B105,'EDGAR-2019'!$A$3:$AY$215,H$10,FALSE)","v":632.06545805708004},{"$f":"VLOOKUP($B105,'EDGAR-2019'!$A$3:$AY$215,I$10,FALSE)","v":622.93120190599996},{"$f":"VLOOKUP($B105,'EDGAR-2019'!$A$3:$AY$215,J$10,FALSE)","v":632.94071503683904},{"$f":"VLOOKUP($B105,'EDGAR-2019'!$A$3:$AY$215,K$10,FALSE)","v":649.81249898526403},{"$f":"VLOOKUP($B105,'EDGAR-2019'!$A$3:$AY$215,L$10,FALSE)","v":679.09192455192999},{"$f":"VLOOKUP($B105,'EDGAR-2019'!$A$3:$AY$215,M$10,FALSE)","v":701.98598647853396},3.3712758315760594E-2,3.938551303295057E-2,{"$f":"VLOOKUP($B105,'UN-P'!$C$18:$CK$333,6,FALSE)/1000","v":82.913905999999997}]
[null,{"$f":"'EDGAR-2019'!A95","v":"Iraq"},{"$f":"VLOOKUP($B106,'EDGAR-2019'!$A$3:$AY$215,C$10,FALSE)","v":69.319453784079997},{"$f":"VLOOKUP($B106,'EDGAR-2019'!$A$3:$AY$215,D$10,FALSE)","v":125.70474412387},{"$f":"VLOOKUP($B106,'EDGAR-2019'!$A$3:$AY$215,E$10,FALSE)","v":134.40337261714001},{"$f":"VLOOKUP($B106,'EDGAR-2019'!$A$3:$AY$215,F$10,FALSE)","v":156.89592438548999},{"$f":"VLOOKUP($B106,'EDGAR-2019'!$A$3:$AY$215,G$10,FALSE)","v":167.61456427728001},{"$f":"VLOOKUP($B106,'EDGAR-2019'!$A$3:$AY$215,H$10,FALSE)","v":173.70309966163001},{"$f":"VLOOKUP($B106,'EDGAR-2019'!$A$3:$AY$215,I$10,FALSE)","v":169.29838311168001},{"$f":"VLOOKUP($B106,'EDGAR-2019'!$A$3:$AY$215,J$10,FALSE)","v":182.1842766547},{"$f":"VLOOKUP($B106,'EDGAR-2019'!$A$3:$AY$215,K$10,FALSE)","v":181.87056109629},{"$f":"VLOOKUP($B106,'EDGAR-2019'!$A$3:$AY$215,L$10,FALSE)","v":185.93263303545001},{"$f":"VLOOKUP($B106,'EDGAR-2019'!$A$3:$AY$215,M$10,FALSE)","v":197.61224373245},6.2816357227475805E-2,4.2575659251270492E-2,{"$f":"VLOOKUP($B106,'UN-P'!$C$18:$CK$333,6,FALSE)/1000","v":39.309783000000003}]
[null,{"$f":"'EDGAR-2019'!A96","v":"Ireland"},{"$f":"VLOOKUP($B107,'EDGAR-2019'!$A$3:$AY$215,C$10,FALSE)","v":32.904092851980003},{"$f":"VLOOKUP($B107,'EDGAR-2019'!$A$3:$AY$215,D$10,FALSE)","v":41.3129967765},{"$f":"VLOOKUP($B107,'EDGAR-2019'!$A$3:$AY$215,E$10,FALSE)","v":37.094147584730003},{"$f":"VLOOKUP($B107,'EDGAR-2019'!$A$3:$AY$215,F$10,FALSE)","v":37.791963413769999},{"$f":"VLOOKUP($B107,'EDGAR-2019'!$A$3:$AY$215,G$10,FALSE)","v":36.459230030089998},{"$f":"VLOOKUP($B107,'EDGAR-2019'!$A$3:$AY$215,H$10,FALSE)","v":36.266656948714399},{"$f":"VLOOKUP($B107,'EDGAR-2019'!$A$3:$AY$215,I$10,FALSE)","v":37.884298899616901},{"$f":"VLOOKUP($B107,'EDGAR-2019'!$A$3:$AY$215,J$10,FALSE)","v":39.592431464896599},{"$f":"VLOOKUP($B107,'EDGAR-2019'!$A$3:$AY$215,K$10,FALSE)","v":38.361231809576999},{"$f":"VLOOKUP($B107,'EDGAR-2019'!$A$3:$AY$215,L$10,FALSE)","v":38.009213502470999},{"$f":"VLOOKUP($B107,'EDGAR-2019'!$A$3:$AY$215,M$10,FALSE)","v":36.547887533476498},-3.8446624761112158E-2,-2.3811516284609535E-2,{"$f":"VLOOKUP($B107,'UN-P'!$C$18:$CK$333,6,FALSE)/1000","v":4.8824949999999996}]
[null,{"$f":"'EDGAR-2019'!A97","v":"Israel and Palestine, State of"},{"$f":"VLOOKUP($B108,'EDGAR-2019'!$A$3:$AY$215,C$10,FALSE)","v":35.295910432520003},{"$f":"VLOOKUP($B108,'EDGAR-2019'!$A$3:$AY$215,D$10,FALSE)","v":72.203573081450003},{"$f":"VLOOKUP($B108,'EDGAR-2019'!$A$3:$AY$215,E$10,FALSE)","v":71.368508718439998},{"$f":"VLOOKUP($B108,'EDGAR-2019'!$A$3:$AY$215,F$10,FALSE)","v":77.851015506509995},{"$f":"VLOOKUP($B108,'EDGAR-2019'!$A$3:$AY$215,G$10,FALSE)","v":69.681886461589997},{"$f":"VLOOKUP($B108,'EDGAR-2019'!$A$3:$AY$215,H$10,FALSE)","v":65.140785817410006},{"$f":"VLOOKUP($B108,'EDGAR-2019'!$A$3:$AY$215,I$10,FALSE)","v":66.538103368860007},{"$f":"VLOOKUP($B108,'EDGAR-2019'!$A$3:$AY$215,J$10,FALSE)","v":65.833860396229994},{"$f":"VLOOKUP($B108,'EDGAR-2019'!$A$3:$AY$215,K$10,FALSE)","v":66.407786259299996},{"$f":"VLOOKUP($B108,'EDGAR-2019'!$A$3:$AY$215,L$10,FALSE)","v":66.168910632299998},{"$f":"VLOOKUP($B108,'EDGAR-2019'!$A$3:$AY$215,M$10,FALSE)","v":68.328974202300003},3.2644689920972914E-2,1.4523793612401525E-2,{"$f":"VLOOKUP($B108,'UN-P'!$C$18:$CK$333,6,FALSE)/1000","v":13.500797}]
[null,{"$f":"'EDGAR-2019'!A98","v":"Italy, San Marino and the Holy See"},{"$f":"VLOOKUP($B109,'EDGAR-2019'!$A$3:$AY$215,C$10,FALSE)","v":430.06126843639998},{"$f":"VLOOKUP($B109,'EDGAR-2019'!$A$3:$AY$215,D$10,FALSE)","v":426.16563314467999},{"$f":"VLOOKUP($B109,'EDGAR-2019'!$A$3:$AY$215,E$10,FALSE)","v":416.57353556254998},{"$f":"VLOOKUP($B109,'EDGAR-2019'!$A$3:$AY$215,F$10,FALSE)","v":395.38435435137001},{"$f":"VLOOKUP($B109,'EDGAR-2019'!$A$3:$AY$215,G$10,FALSE)","v":362.54196350440998},{"$f":"VLOOKUP($B109,'EDGAR-2019'!$A$3:$AY$215,H$10,FALSE)","v":343.34314904886998},{"$f":"VLOOKUP($B109,'EDGAR-2019'!$A$3:$AY$215,I$10,FALSE)","v":354.75432390911999},{"$f":"VLOOKUP($B109,'EDGAR-2019'!$A$3:$AY$215,J$10,FALSE)","v":350.36294734323002},{"$f":"VLOOKUP($B109,'EDGAR-2019'!$A$3:$AY$215,K$10,FALSE)","v":345.70219744357001},{"$f":"VLOOKUP($B109,'EDGAR-2019'!$A$3:$AY$215,L$10,FALSE)","v":341.21968499696999},{"$f":"VLOOKUP($B109,'EDGAR-2019'!$A$3:$AY$215,M$10,FALSE)","v":331.56295424112},-2.8300626196099299E-2,-2.0633512336798665E-2,{"$f":"VLOOKUP($B109,'UN-P'!$C$18:$CK$333,6,FALSE)/1000","v":60.584733999999997}]
[null,{"$f":"'EDGAR-2019'!A99","v":"Jamaica"},{"$f":"VLOOKUP($B110,'EDGAR-2019'!$A$3:$AY$215,C$10,FALSE)","v":7.5250710629919997},{"$f":"VLOOKUP($B110,'EDGAR-2019'!$A$3:$AY$215,D$10,FALSE)","v":7.4529349317199998},{"$f":"VLOOKUP($B110,'EDGAR-2019'!$A$3:$AY$215,E$10,FALSE)","v":7.6914212414080003},{"$f":"VLOOKUP($B110,'EDGAR-2019'!$A$3:$AY$215,F$10,FALSE)","v":7.249348549814},{"$f":"VLOOKUP($B110,'EDGAR-2019'!$A$3:$AY$215,G$10,FALSE)","v":7.7473502305700004},{"$f":"VLOOKUP($B110,'EDGAR-2019'!$A$3:$AY$215,H$10,FALSE)","v":7.5523967095820002},{"$f":"VLOOKUP($B110,'EDGAR-2019'!$A$3:$AY$215,I$10,FALSE)","v":7.4099612945439999},{"$f":"VLOOKUP($B110,'EDGAR-2019'!$A$3:$AY$215,J$10,FALSE)","v":7.9440608783090001},{"$f":"VLOOKUP($B110,'EDGAR-2019'!$A$3:$AY$215,K$10,FALSE)","v":7.2750055912639997},{"$f":"VLOOKUP($B110,'EDGAR-2019'!$A$3:$AY$215,L$10,FALSE)","v":7.4883455214129997},{"$f":"VLOOKUP($B110,'EDGAR-2019'!$A$3:$AY$215,M$10,FALSE)","v":7.4414967087569996},-6.2562301007659249E-3,1.1534411835175951E-2,{"$f":"VLOOKUP($B110,'UN-P'!$C$18:$CK$333,6,FALSE)/1000","v":2.9482789999999999}]
[null,{"$f":"'EDGAR-2019'!A100","v":"Japan"},{"$f":"VLOOKUP($B111,'EDGAR-2019'!$A$3:$AY$215,C$10,FALSE)","v":1149.46982714516},{"$f":"VLOOKUP($B111,'EDGAR-2019'!$A$3:$AY$215,D$10,FALSE)","v":1197.42691550226},{"$f":"VLOOKUP($B111,'EDGAR-2019'!$A$3:$AY$215,E$10,FALSE)","v":1249.79327357288},{"$f":"VLOOKUP($B111,'EDGAR-2019'!$A$3:$AY$215,F$10,FALSE)","v":1289.3032356679701},{"$f":"VLOOKUP($B111,'EDGAR-2019'!$A$3:$AY$215,G$10,FALSE)","v":1313.48166031761},{"$f":"VLOOKUP($B111,'EDGAR-2019'!$A$3:$AY$215,H$10,FALSE)","v":1273.5412262443399},{"$f":"VLOOKUP($B111,'EDGAR-2019'!$A$3:$AY$215,I$10,FALSE)","v":1227.94670629656},{"$f":"VLOOKUP($B111,'EDGAR-2019'!$A$3:$AY$215,J$10,FALSE)","v":1213.34854882985},{"$f":"VLOOKUP($B111,'EDGAR-2019'!$A$3:$AY$215,K$10,FALSE)","v":1199.19056010241},{"$f":"VLOOKUP($B111,'EDGAR-2019'!$A$3:$AY$215,L$10,FALSE)","v":1178.8598610830099},{"$f":"VLOOKUP($B111,'EDGAR-2019'!$A$3:$AY$215,M$10,FALSE)","v":1153.7169839886899},-2.132813061530614E-2,-1.9140907811176389E-2,{"$f":"VLOOKUP($B111,'UN-P'!$C$18:$CK$333,6,FALSE)/1000","v":126.86030100000001}]
[null,{"$f":"'EDGAR-2019'!A101","v":"Jordan"},{"$f":"VLOOKUP($B112,'EDGAR-2019'!$A$3:$AY$215,C$10,FALSE)","v":10.210088378609999},{"$f":"VLOOKUP($B112,'EDGAR-2019'!$A$3:$AY$215,D$10,FALSE)","v":20.61337306503},{"$f":"VLOOKUP($B112,'EDGAR-2019'!$A$3:$AY$215,E$10,FALSE)","v":21.078236792950001},{"$f":"VLOOKUP($B112,'EDGAR-2019'!$A$3:$AY$215,F$10,FALSE)","v":24.493625932450001},{"$f":"VLOOKUP($B112,'EDGAR-2019'!$A$3:$AY$215,G$10,FALSE)","v":24.1057938396},{"$f":"VLOOKUP($B112,'EDGAR-2019'!$A$3:$AY$215,H$10,FALSE)","v":25.82786489459},{"$f":"VLOOKUP($B112,'EDGAR-2019'!$A$3:$AY$215,I$10,FALSE)","v":25.700654579089999},{"$f":"VLOOKUP($B112,'EDGAR-2019'!$A$3:$AY$215,J$10,FALSE)","v":25.862679924190001},{"$f":"VLOOKUP($B112,'EDGAR-2019'!$A$3:$AY$215,K$10,FALSE)","v":27.624346851590001},{"$f":"VLOOKUP($B112,'EDGAR-2019'!$A$3:$AY$215,L$10,FALSE)","v":27.063278257490001},{"$f":"VLOOKUP($B112,'EDGAR-2019'!$A$3:$AY$215,M$10,FALSE)","v":28.34005339019},4.7177401072859393E-2,1.343337275412404E-2,{"$f":"VLOOKUP($B112,'UN-P'!$C$18:$CK$333,6,FALSE)/1000","v":10.101694}]
[null,{"$f":"'EDGAR-2019'!A102","v":"Kazakhstan"},{"$f":"VLOOKUP($B113,'EDGAR-2019'!$A$3:$AY$215,C$10,FALSE)","v":251.28977446917},{"$f":"VLOOKUP($B113,'EDGAR-2019'!$A$3:$AY$215,D$10,FALSE)","v":242.96079683587001},{"$f":"VLOOKUP($B113,'EDGAR-2019'!$A$3:$AY$215,E$10,FALSE)","v":259.81668954600002},{"$f":"VLOOKUP($B113,'EDGAR-2019'!$A$3:$AY$215,F$10,FALSE)","v":256.94020094123999},{"$f":"VLOOKUP($B113,'EDGAR-2019'!$A$3:$AY$215,G$10,FALSE)","v":273.25823754964},{"$f":"VLOOKUP($B113,'EDGAR-2019'!$A$3:$AY$215,H$10,FALSE)","v":259.57575907806},{"$f":"VLOOKUP($B113,'EDGAR-2019'!$A$3:$AY$215,I$10,FALSE)","v":251.70574690641001},{"$f":"VLOOKUP($B113,'EDGAR-2019'!$A$3:$AY$215,J$10,FALSE)","v":259.70925169399999},{"$f":"VLOOKUP($B113,'EDGAR-2019'!$A$3:$AY$215,K$10,FALSE)","v":261.72958200565},{"$f":"VLOOKUP($B113,'EDGAR-2019'!$A$3:$AY$215,L$10,FALSE)","v":282.08564885153697},{"$f":"VLOOKUP($B113,'EDGAR-2019'!$A$3:$AY$215,M$10,FALSE)","v":277.364668355437},-1.673598254757247E-2,3.0519601580443589E-2,{"$f":"VLOOKUP($B113,'UN-P'!$C$18:$CK$333,6,FALSE)/1000","v":18.551427}]
[null,{"$f":"'EDGAR-2019'!A103","v":"Kenya"},{"$f":"VLOOKUP($B114,'EDGAR-2019'!$A$3:$AY$215,C$10,FALSE)","v":6.4748910709440004},{"$f":"VLOOKUP($B114,'EDGAR-2019'!$A$3:$AY$215,D$10,FALSE)","v":13.208916747897},{"$f":"VLOOKUP($B114,'EDGAR-2019'!$A$3:$AY$215,E$10,FALSE)","v":13.506180985962001},{"$f":"VLOOKUP($B114,'EDGAR-2019'!$A$3:$AY$215,F$10,FALSE)","v":12.630655071955999},{"$f":"VLOOKUP($B114,'EDGAR-2019'!$A$3:$AY$215,G$10,FALSE)","v":14.069381840618},{"$f":"VLOOKUP($B114,'EDGAR-2019'!$A$3:$AY$215,H$10,FALSE)","v":14.912943812615},{"$f":"VLOOKUP($B114,'EDGAR-2019'!$A$3:$AY$215,I$10,FALSE)","v":16.979592012502},{"$f":"VLOOKUP($B114,'EDGAR-2019'!$A$3:$AY$215,J$10,FALSE)","v":18.710461580882999},{"$f":"VLOOKUP($B114,'EDGAR-2019'!$A$3:$AY$215,K$10,FALSE)","v":18.825573568185},{"$f":"VLOOKUP($B114,'EDGAR-2019'!$A$3:$AY$215,L$10,FALSE)","v":19.505341744567801},{"$f":"VLOOKUP($B114,'EDGAR-2019'!$A$3:$AY$215,M$10,FALSE)","v":19.813010846438999},1.5773581714192852E-2,2.5941172412078717E-2,{"$f":"VLOOKUP($B114,'UN-P'!$C$18:$CK$333,6,FALSE)/1000","v":52.573972999999995}]
[null,{"$f":"'EDGAR-2019'!A104","v":"Kiribati"},{"$f":"VLOOKUP($B115,'EDGAR-2019'!$A$3:$AY$215,C$10,FALSE)","v":2.01190619973E-2},{"$f":"VLOOKUP($B115,'EDGAR-2019'!$A$3:$AY$215,D$10,FALSE)","v":5.1555989292515002E-2},{"$f":"VLOOKUP($B115,'EDGAR-2019'!$A$3:$AY$215,E$10,FALSE)","v":6.4973910293989995E-2},{"$f":"VLOOKUP($B115,'EDGAR-2019'!$A$3:$AY$215,F$10,FALSE)","v":9.2980617190108E-2},{"$f":"VLOOKUP($B115,'EDGAR-2019'!$A$3:$AY$215,G$10,FALSE)","v":6.3451340126034997E-2},{"$f":"VLOOKUP($B115,'EDGAR-2019'!$A$3:$AY$215,H$10,FALSE)","v":4.1119090353137003E-2},{"$f":"VLOOKUP($B115,'EDGAR-2019'!$A$3:$AY$215,I$10,FALSE)","v":3.02418225907219E-2},{"$f":"VLOOKUP($B115,'EDGAR-2019'!$A$3:$AY$215,J$10,FALSE)","v":2.8978281514363699E-2},{"$f":"VLOOKUP($B115,'EDGAR-2019'!$A$3:$AY$215,K$10,FALSE)","v":3.0269471771545299E-2},{"$f":"VLOOKUP($B115,'EDGAR-2019'!$A$3:$AY$215,L$10,FALSE)","v":3.1590343274118603E-2},{"$f":"VLOOKUP($B115,'EDGAR-2019'!$A$3:$AY$215,M$10,FALSE)","v":3.3621613181469202E-2},6.4300342979013436E-2,5.3968713823882464E-2,{"$f":"VLOOKUP($B115,'UN-P'!$C$18:$CK$333,6,FALSE)/1000","v":0.11760599999999999}]
[null,{"$f":"'EDGAR-2019'!A105","v":"Kuwait"},{"$f":"VLOOKUP($B116,'EDGAR-2019'!$A$3:$AY$215,C$10,FALSE)","v":32.608971337850001},{"$f":"VLOOKUP($B116,'EDGAR-2019'!$A$3:$AY$215,D$10,FALSE)","v":86.253666462499993},{"$f":"VLOOKUP($B116,'EDGAR-2019'!$A$3:$AY$215,E$10,FALSE)","v":88.011788433490096},{"$f":"VLOOKUP($B116,'EDGAR-2019'!$A$3:$AY$215,F$10,FALSE)","v":85.649348002129997},{"$f":"VLOOKUP($B116,'EDGAR-2019'!$A$3:$AY$215,G$10,FALSE)","v":92.642396238209997},{"$f":"VLOOKUP($B116,'EDGAR-2019'!$A$3:$AY$215,H$10,FALSE)","v":88.57103132009},{"$f":"VLOOKUP($B116,'EDGAR-2019'!$A$3:$AY$215,I$10,FALSE)","v":94.092345517919995},{"$f":"VLOOKUP($B116,'EDGAR-2019'!$A$3:$AY$215,J$10,FALSE)","v":96.438230963600105},{"$f":"VLOOKUP($B116,'EDGAR-2019'!$A$3:$AY$215,K$10,FALSE)","v":92.50821488599},{"$f":"VLOOKUP($B116,'EDGAR-2019'!$A$3:$AY$215,L$10,FALSE)","v":94.885740240900006},{"$f":"VLOOKUP($B116,'EDGAR-2019'!$A$3:$AY$215,M$10,FALSE)","v":98.952521131300003},4.2859768813259702E-2,3.4280231577635933E-2,{"$f":"VLOOKUP($B116,'UN-P'!$C$18:$CK$333,6,FALSE)/1000","v":4.2070829999999999}]
[null,{"$f":"'EDGAR-2019'!A106","v":"Kyrgyzstan"},{"$f":"VLOOKUP($B117,'EDGAR-2019'!$A$3:$AY$215,C$10,FALSE)","v":23.695725251479999},{"$f":"VLOOKUP($B117,'EDGAR-2019'!$A$3:$AY$215,D$10,FALSE)","v":6.5755367188099996},{"$f":"VLOOKUP($B117,'EDGAR-2019'!$A$3:$AY$215,E$10,FALSE)","v":7.8430076936419999},{"$f":"VLOOKUP($B117,'EDGAR-2019'!$A$3:$AY$215,F$10,FALSE)","v":10.243830136252001},{"$f":"VLOOKUP($B117,'EDGAR-2019'!$A$3:$AY$215,G$10,FALSE)","v":9.7597017522880005},{"$f":"VLOOKUP($B117,'EDGAR-2019'!$A$3:$AY$215,H$10,FALSE)","v":9.8964633083860001},{"$f":"VLOOKUP($B117,'EDGAR-2019'!$A$3:$AY$215,I$10,FALSE)","v":10.62716435305},{"$f":"VLOOKUP($B117,'EDGAR-2019'!$A$3:$AY$215,J$10,FALSE)","v":9.9323922020980007},{"$f":"VLOOKUP($B117,'EDGAR-2019'!$A$3:$AY$215,K$10,FALSE)","v":9.5930604725490003},{"$f":"VLOOKUP($B117,'EDGAR-2019'!$A$3:$AY$215,L$10,FALSE)","v":10.520796838467},{"$f":"VLOOKUP($B117,'EDGAR-2019'!$A$3:$AY$215,M$10,FALSE)","v":11.921388605263999},0.13312601586184436,0.11491756425696442,{"$f":"VLOOKUP($B117,'UN-P'!$C$18:$CK$333,6,FALSE)/1000","v":6.4158500000000007}]
[null,{"$f":"'EDGAR-2019'!A107","v":"Laos"},{"$f":"VLOOKUP($B118,'EDGAR-2019'!$A$3:$AY$215,C$10,FALSE)","v":0.21472549353500001},{"$f":"VLOOKUP($B118,'EDGAR-2019'!$A$3:$AY$215,D$10,FALSE)","v":1.71731256433803},{"$f":"VLOOKUP($B118,'EDGAR-2019'!$A$3:$AY$215,E$10,FALSE)","v":2.1725094229757902},{"$f":"VLOOKUP($B118,'EDGAR-2019'!$A$3:$AY$215,F$10,FALSE)","v":2.4290628601273498},{"$f":"VLOOKUP($B118,'EDGAR-2019'!$A$3:$AY$215,G$10,FALSE)","v":3.2116059150222398},{"$f":"VLOOKUP($B118,'EDGAR-2019'!$A$3:$AY$215,H$10,FALSE)","v":2.4905612852857701},{"$f":"VLOOKUP($B118,'EDGAR-2019'!$A$3:$AY$215,I$10,FALSE)","v":2.49889863775996},{"$f":"VLOOKUP($B118,'EDGAR-2019'!$A$3:$AY$215,J$10,FALSE)","v":3.4459346232843502},{"$f":"VLOOKUP($B118,'EDGAR-2019'!$A$3:$AY$215,K$10,FALSE)","v":3.9105928858943799},{"$f":"VLOOKUP($B118,'EDGAR-2019'!$A$3:$AY$215,L$10,FALSE)","v":6.66485911149831},{"$f":"VLOOKUP($B118,'EDGAR-2019'!$A$3:$AY$215,M$10,FALSE)","v":6.7833680963497196},1.7781168794244406E-2,0.36104514330539506,{"$f":"VLOOKUP($B118,'UN-P'!$C$18:$CK$333,6,FALSE)/1000","v":7.1694550000000001}]
[null,{"$f":"'EDGAR-2019'!A108","v":"Latvia"},{"$f":"VLOOKUP($B119,'EDGAR-2019'!$A$3:$AY$215,C$10,FALSE)","v":20.131536787000002},{"$f":"VLOOKUP($B119,'EDGAR-2019'!$A$3:$AY$215,D$10,FALSE)","v":9.1190239885199897},{"$f":"VLOOKUP($B119,'EDGAR-2019'!$A$3:$AY$215,E$10,FALSE)","v":8.4563221185599993},{"$f":"VLOOKUP($B119,'EDGAR-2019'!$A$3:$AY$215,F$10,FALSE)","v":8.23017794111},{"$f":"VLOOKUP($B119,'EDGAR-2019'!$A$3:$AY$215,G$10,FALSE)","v":7.9907310052099998},{"$f":"VLOOKUP($B119,'EDGAR-2019'!$A$3:$AY$215,H$10,FALSE)","v":7.7743947674099996},{"$f":"VLOOKUP($B119,'EDGAR-2019'!$A$3:$AY$215,I$10,FALSE)","v":7.8102711002099996},{"$f":"VLOOKUP($B119,'EDGAR-2019'!$A$3:$AY$215,J$10,FALSE)","v":7.7387726528699998},{"$f":"VLOOKUP($B119,'EDGAR-2019'!$A$3:$AY$215,K$10,FALSE)","v":7.7727889546600002},{"$f":"VLOOKUP($B119,'EDGAR-2019'!$A$3:$AY$215,L$10,FALSE)","v":7.9853308276700004},{"$f":"VLOOKUP($B119,'EDGAR-2019'!$A$3:$AY$215,M$10,FALSE)","v":8.3793704661999993},4.9345436905958939E-2,3.8344894183582334E-2,{"$f":"VLOOKUP($B119,'UN-P'!$C$18:$CK$333,6,FALSE)/1000","v":1.9067429999999999}]
[null,{"$f":"'EDGAR-2019'!A109","v":"Lebanon"},{"$f":"VLOOKUP($B120,'EDGAR-2019'!$A$3:$AY$215,C$10,FALSE)","v":5.9774855731600001},{"$f":"VLOOKUP($B120,'EDGAR-2019'!$A$3:$AY$215,D$10,FALSE)","v":20.562571348999999},{"$f":"VLOOKUP($B120,'EDGAR-2019'!$A$3:$AY$215,E$10,FALSE)","v":20.887612206},{"$f":"VLOOKUP($B120,'EDGAR-2019'!$A$3:$AY$215,F$10,FALSE)","v":23.358107580999999},{"$f":"VLOOKUP($B120,'EDGAR-2019'!$A$3:$AY$215,G$10,FALSE)","v":23.012894055309999},{"$f":"VLOOKUP($B120,'EDGAR-2019'!$A$3:$AY$215,H$10,FALSE)","v":24.606862347380002},{"$f":"VLOOKUP($B120,'EDGAR-2019'!$A$3:$AY$215,I$10,FALSE)","v":24.98674238768},{"$f":"VLOOKUP($B120,'EDGAR-2019'!$A$3:$AY$215,J$10,FALSE)","v":25.701046350679999},{"$f":"VLOOKUP($B120,'EDGAR-2019'!$A$3:$AY$215,K$10,FALSE)","v":27.095453162679998},{"$f":"VLOOKUP($B120,'EDGAR-2019'!$A$3:$AY$215,L$10,FALSE)","v":26.74490938568},{"$f":"VLOOKUP($B120,'EDGAR-2019'!$A$3:$AY$215,M$10,FALSE)","v":27.437066652679999},2.5879963062077183E-2,6.4712988539977756E-3,{"$f":"VLOOKUP($B120,'UN-P'!$C$18:$CK$333,6,FALSE)/1000","v":6.8557129999999997}]
[null,{"$f":"'EDGAR-2019'!A110","v":"Lesotho"},{"$f":"VLOOKUP($B121,'EDGAR-2019'!$A$3:$AY$215,C$10,FALSE)","v":0.10024078341397},{"$f":"VLOOKUP($B121,'EDGAR-2019'!$A$3:$AY$215,D$10,FALSE)","v":0.53441792022000001},{"$f":"VLOOKUP($B121,'EDGAR-2019'!$A$3:$AY$215,E$10,FALSE)","v":0.23851606689999999},{"$f":"VLOOKUP($B121,'EDGAR-2019'!$A$3:$AY$215,F$10,FALSE)","v":0.24877600690000001},{"$f":"VLOOKUP($B121,'EDGAR-2019'!$A$3:$AY$215,G$10,FALSE)","v":0.67083758707999996},{"$f":"VLOOKUP($B121,'EDGAR-2019'!$A$3:$AY$215,H$10,FALSE)","v":0.73467354401999996},{"$f":"VLOOKUP($B121,'EDGAR-2019'!$A$3:$AY$215,I$10,FALSE)","v":0.69282665312000002},{"$f":"VLOOKUP($B121,'EDGAR-2019'!$A$3:$AY$215,J$10,FALSE)","v":0.71334028037999997},{"$f":"VLOOKUP($B121,'EDGAR-2019'!$A$3:$AY$215,K$10,FALSE)","v":0.73750319147999999},{"$f":"VLOOKUP($B121,'EDGAR-2019'!$A$3:$AY$215,L$10,FALSE)","v":0.74931767437999997},{"$f":"VLOOKUP($B121,'EDGAR-2019'!$A$3:$AY$215,M$10,FALSE)","v":0.75427255995999998},6.6125299714834274E-3,1.1316049239211146E-2,{"$f":"VLOOKUP($B121,'UN-P'!$C$18:$CK$333,6,FALSE)/1000","v":2.1252680000000002}]
[null,{"$f":"'EDGAR-2019'!A111","v":"Liberia"},{"$f":"VLOOKUP($B122,'EDGAR-2019'!$A$3:$AY$215,C$10,FALSE)","v":0.41552010285590002},{"$f":"VLOOKUP($B122,'EDGAR-2019'!$A$3:$AY$215,D$10,FALSE)","v":0.57376008322000005},{"$f":"VLOOKUP($B122,'EDGAR-2019'!$A$3:$AY$215,E$10,FALSE)","v":0.66930088074000005},{"$f":"VLOOKUP($B122,'EDGAR-2019'!$A$3:$AY$215,F$10,FALSE)","v":0.71120679773999995},{"$f":"VLOOKUP($B122,'EDGAR-2019'!$A$3:$AY$215,G$10,FALSE)","v":1.0160985225200001},{"$f":"VLOOKUP($B122,'EDGAR-2019'!$A$3:$AY$215,H$10,FALSE)","v":1.0763247491800001},{"$f":"VLOOKUP($B122,'EDGAR-2019'!$A$3:$AY$215,I$10,FALSE)","v":1.0614765579400001},{"$f":"VLOOKUP($B122,'EDGAR-2019'!$A$3:$AY$215,J$10,FALSE)","v":1.07095829964},{"$f":"VLOOKUP($B122,'EDGAR-2019'!$A$3:$AY$215,K$10,FALSE)","v":1.1081391828},{"$f":"VLOOKUP($B122,'EDGAR-2019'!$A$3:$AY$215,L$10,FALSE)","v":1.161725466},{"$f":"VLOOKUP($B122,'EDGAR-2019'!$A$3:$AY$215,M$10,FALSE)","v":1.2075303095000001},3.9428285632502558E-2,4.3892641344116856E-2,{"$f":"VLOOKUP($B122,'UN-P'!$C$18:$CK$333,6,FALSE)/1000","v":4.9373740000000002}]
[null,{"$f":"'EDGAR-2019'!A112","v":"Libya"},{"$f":"VLOOKUP($B123,'EDGAR-2019'!$A$3:$AY$215,C$10,FALSE)","v":37.150971805129998},{"$f":"VLOOKUP($B123,'EDGAR-2019'!$A$3:$AY$215,D$10,FALSE)","v":61.437152492899997},{"$f":"VLOOKUP($B123,'EDGAR-2019'!$A$3:$AY$215,E$10,FALSE)","v":42.199991683130001},{"$f":"VLOOKUP($B123,'EDGAR-2019'!$A$3:$AY$215,F$10,FALSE)","v":59.393228136979999},{"$f":"VLOOKUP($B123,'EDGAR-2019'!$A$3:$AY$215,G$10,FALSE)","v":58.717340254340002},{"$f":"VLOOKUP($B123,'EDGAR-2019'!$A$3:$AY$215,H$10,FALSE)","v":58.012425601499999},{"$f":"VLOOKUP($B123,'EDGAR-2019'!$A$3:$AY$215,I$10,FALSE)","v":54.05650089457},{"$f":"VLOOKUP($B123,'EDGAR-2019'!$A$3:$AY$215,J$10,FALSE)","v":51.17960166452},{"$f":"VLOOKUP($B123,'EDGAR-2019'!$A$3:$AY$215,K$10,FALSE)","v":54.77851627626},{"$f":"VLOOKUP($B123,'EDGAR-2019'!$A$3:$AY$215,L$10,FALSE)","v":50.491401103412997},{"$f":"VLOOKUP($B123,'EDGAR-2019'!$A$3:$AY$215,M$10,FALSE)","v":52.046426700413001},3.079783018528448E-2,-2.373244026596355E-2,{"$f":"VLOOKUP($B123,'UN-P'!$C$18:$CK$333,6,FALSE)/1000","v":6.7774520000000003}]
[null,{"$f":"'EDGAR-2019'!A113","v":"Lithuania"},{"$f":"VLOOKUP($B124,'EDGAR-2019'!$A$3:$AY$215,C$10,FALSE)","v":35.305420335652997},{"$f":"VLOOKUP($B124,'EDGAR-2019'!$A$3:$AY$215,D$10,FALSE)","v":13.813963276998001},{"$f":"VLOOKUP($B124,'EDGAR-2019'!$A$3:$AY$215,E$10,FALSE)","v":14.181264361843001},{"$f":"VLOOKUP($B124,'EDGAR-2019'!$A$3:$AY$215,F$10,FALSE)","v":14.367533122975001},{"$f":"VLOOKUP($B124,'EDGAR-2019'!$A$3:$AY$215,G$10,FALSE)","v":13.263917024495001},{"$f":"VLOOKUP($B124,'EDGAR-2019'!$A$3:$AY$215,H$10,FALSE)","v":13.13199948454},{"$f":"VLOOKUP($B124,'EDGAR-2019'!$A$3:$AY$215,I$10,FALSE)","v":13.416776843339999},{"$f":"VLOOKUP($B124,'EDGAR-2019'!$A$3:$AY$215,J$10,FALSE)","v":13.183079229613},{"$f":"VLOOKUP($B124,'EDGAR-2019'!$A$3:$AY$215,K$10,FALSE)","v":13.715063863240999},{"$f":"VLOOKUP($B124,'EDGAR-2019'!$A$3:$AY$215,L$10,FALSE)","v":13.942975393393001},{"$f":"VLOOKUP($B124,'EDGAR-2019'!$A$3:$AY$215,M$10,FALSE)","v":13.771914067591},-1.2268638577893398E-2,2.1744838061248384E-3,{"$f":"VLOOKUP($B124,'UN-P'!$C$18:$CK$333,6,FALSE)/1000","v":2.7596270000000001}]
[null,{"$f":"'EDGAR-2019'!A114","v":"Luxembourg"},{"$f":"VLOOKUP($B125,'EDGAR-2019'!$A$3:$AY$215,C$10,FALSE)","v":11.7503285366},{"$f":"VLOOKUP($B125,'EDGAR-2019'!$A$3:$AY$215,D$10,FALSE)","v":11.242479974},{"$f":"VLOOKUP($B125,'EDGAR-2019'!$A$3:$AY$215,E$10,FALSE)","v":11.1269809535},{"$f":"VLOOKUP($B125,'EDGAR-2019'!$A$3:$AY$215,F$10,FALSE)","v":10.904699820699999},{"$f":"VLOOKUP($B125,'EDGAR-2019'!$A$3:$AY$215,G$10,FALSE)","v":10.3553355373},{"$f":"VLOOKUP($B125,'EDGAR-2019'!$A$3:$AY$215,H$10,FALSE)","v":9.8481008917999997},{"$f":"VLOOKUP($B125,'EDGAR-2019'!$A$3:$AY$215,I$10,FALSE)","v":9.3403896862},{"$f":"VLOOKUP($B125,'EDGAR-2019'!$A$3:$AY$215,J$10,FALSE)","v":9.0808270663999995},{"$f":"VLOOKUP($B125,'EDGAR-2019'!$A$3:$AY$215,K$10,FALSE)","v":9.2032134650999993},{"$f":"VLOOKUP($B125,'EDGAR-2019'!$A$3:$AY$215,L$10,FALSE)","v":9.5489732298999996},{"$f":"VLOOKUP($B125,'EDGAR-2019'!$A$3:$AY$215,M$10,FALSE)","v":9.7398653007899991},1.9990847842391357E-2,2.8780154173904449E-2,{"$f":"VLOOKUP($B125,'UN-P'!$C$18:$CK$333,6,FALSE)/1000","v":0.61572900000000008}]
[null,{"$f":"'EDGAR-2019'!A115","v":"Macao"},{"$f":"VLOOKUP($B126,'EDGAR-2019'!$A$3:$AY$215,C$10,FALSE)","v":0.98242844946999996},{"$f":"VLOOKUP($B126,'EDGAR-2019'!$A$3:$AY$215,D$10,FALSE)","v":1.1839453161934099},{"$f":"VLOOKUP($B126,'EDGAR-2019'!$A$3:$AY$215,E$10,FALSE)","v":1.6427943289112299},{"$f":"VLOOKUP($B126,'EDGAR-2019'!$A$3:$AY$215,F$10,FALSE)","v":2.6417035153881399},{"$f":"VLOOKUP($B126,'EDGAR-2019'!$A$3:$AY$215,G$10,FALSE)","v":1.50388602936673},{"$f":"VLOOKUP($B126,'EDGAR-2019'!$A$3:$AY$215,H$10,FALSE)","v":1.0181306391195999},{"$f":"VLOOKUP($B126,'EDGAR-2019'!$A$3:$AY$215,I$10,FALSE)","v":1.1044268688974801},{"$f":"VLOOKUP($B126,'EDGAR-2019'!$A$3:$AY$215,J$10,FALSE)","v":1.0723684498982999},{"$f":"VLOOKUP($B126,'EDGAR-2019'!$A$3:$AY$215,K$10,FALSE)","v":1.13030086741316},{"$f":"VLOOKUP($B126,'EDGAR-2019'!$A$3:$AY$215,L$10,FALSE)","v":1.2012022765217201},{"$f":"VLOOKUP($B126,'EDGAR-2019'!$A$3:$AY$215,M$10,FALSE)","v":1.27138323699808},5.8425597293721765E-2,6.0576752772998566E-2,{"$f":"VLOOKUP($B126,'UN-P'!$C$18:$CK$333,6,FALSE)/1000","v":0.64044500000000004}]
[null,{"$f":"'EDGAR-2019'!A116","v":"Madagascar"},{"$f":"VLOOKUP($B127,'EDGAR-2019'!$A$3:$AY$215,C$10,FALSE)","v":0.70030873354080003},{"$f":"VLOOKUP($B127,'EDGAR-2019'!$A$3:$AY$215,D$10,FALSE)","v":2.2018964895000002},{"$f":"VLOOKUP($B127,'EDGAR-2019'!$A$3:$AY$215,E$10,FALSE)","v":3.0204009797000002},{"$f":"VLOOKUP($B127,'EDGAR-2019'!$A$3:$AY$215,F$10,FALSE)","v":3.3296371707999999},{"$f":"VLOOKUP($B127,'EDGAR-2019'!$A$3:$AY$215,G$10,FALSE)","v":3.8868384295},{"$f":"VLOOKUP($B127,'EDGAR-2019'!$A$3:$AY$215,H$10,FALSE)","v":3.8199303573000001},{"$f":"VLOOKUP($B127,'EDGAR-2019'!$A$3:$AY$215,I$10,FALSE)","v":3.8228839509000001},{"$f":"VLOOKUP($B127,'EDGAR-2019'!$A$3:$AY$215,J$10,FALSE)","v":3.9322328283000001},{"$f":"VLOOKUP($B127,'EDGAR-2019'!$A$3:$AY$215,K$10,FALSE)","v":4.0662621338999996},{"$f":"VLOOKUP($B127,'EDGAR-2019'!$A$3:$AY$215,L$10,FALSE)","v":4.3893760018999997},{"$f":"VLOOKUP($B127,'EDGAR-2019'!$A$3:$AY$215,M$10,FALSE)","v":4.1987633172000001},-4.3425918540013542E-2,1.8018107906680403E-2,{"$f":"VLOOKUP($B127,'UN-P'!$C$18:$CK$333,6,FALSE)/1000","v":26.969307000000001}]
[null,{"$f":"'EDGAR-2019'!A117","v":"Malawi"},{"$f":"VLOOKUP($B128,'EDGAR-2019'!$A$3:$AY$215,C$10,FALSE)","v":0.45746689549890002},{"$f":"VLOOKUP($B128,'EDGAR-2019'!$A$3:$AY$215,D$10,FALSE)","v":1.46925937186},{"$f":"VLOOKUP($B128,'EDGAR-2019'!$A$3:$AY$215,E$10,FALSE)","v":1.43525013518},{"$f":"VLOOKUP($B128,'EDGAR-2019'!$A$3:$AY$215,F$10,FALSE)","v":1.3880174031800001},{"$f":"VLOOKUP($B128,'EDGAR-2019'!$A$3:$AY$215,G$10,FALSE)","v":1.32304298652},{"$f":"VLOOKUP($B128,'EDGAR-2019'!$A$3:$AY$215,H$10,FALSE)","v":1.327573077},{"$f":"VLOOKUP($B128,'EDGAR-2019'!$A$3:$AY$215,I$10,FALSE)","v":1.4458856436},{"$f":"VLOOKUP($B128,'EDGAR-2019'!$A$3:$AY$215,J$10,FALSE)","v":1.4965941745},{"$f":"VLOOKUP($B128,'EDGAR-2019'!$A$3:$AY$215,K$10,FALSE)","v":1.5470394484600001},{"$f":"VLOOKUP($B128,'EDGAR-2019'!$A$3:$AY$215,L$10,FALSE)","v":1.6295471964799999},{"$f":"VLOOKUP($B128,'EDGAR-2019'!$A$3:$AY$215,M$10,FALSE)","v":1.6161478745},-8.2227271532508972E-3,2.2554972599265866E-2,{"$f":"VLOOKUP($B128,'UN-P'!$C$18:$CK$333,6,FALSE)/1000","v":18.628747000000001}]
[null,{"$f":"'EDGAR-2019'!A118","v":"Malaysia"},{"$f":"VLOOKUP($B129,'EDGAR-2019'!$A$3:$AY$215,C$10,FALSE)","v":57.42816472602},{"$f":"VLOOKUP($B129,'EDGAR-2019'!$A$3:$AY$215,D$10,FALSE)","v":216.75565748150001},{"$f":"VLOOKUP($B129,'EDGAR-2019'!$A$3:$AY$215,E$10,FALSE)","v":217.68170304467},{"$f":"VLOOKUP($B129,'EDGAR-2019'!$A$3:$AY$215,F$10,FALSE)","v":221.07480340980001},{"$f":"VLOOKUP($B129,'EDGAR-2019'!$A$3:$AY$215,G$10,FALSE)","v":238.3817415245},{"$f":"VLOOKUP($B129,'EDGAR-2019'!$A$3:$AY$215,H$10,FALSE)","v":251.4907674312},{"$f":"VLOOKUP($B129,'EDGAR-2019'!$A$3:$AY$215,I$10,FALSE)","v":251.75258042230001},{"$f":"VLOOKUP($B129,'EDGAR-2019'!$A$3:$AY$215,J$10,FALSE)","v":246.82063144110001},{"$f":"VLOOKUP($B129,'EDGAR-2019'!$A$3:$AY$215,K$10,FALSE)","v":241.7071936799},{"$f":"VLOOKUP($B129,'EDGAR-2019'!$A$3:$AY$215,L$10,FALSE)","v":248.2455215981},{"$f":"VLOOKUP($B129,'EDGAR-2019'!$A$3:$AY$215,M$10,FALSE)","v":248.8326599541},2.3651518553899908E-3,1.470788276415369E-2,{"$f":"VLOOKUP($B129,'UN-P'!$C$18:$CK$333,6,FALSE)/1000","v":31.949776999999997}]
[null,{"$f":"'EDGAR-2019'!A119","v":"Maldives"},{"$f":"VLOOKUP($B130,'EDGAR-2019'!$A$3:$AY$215,C$10,FALSE)","v":6.5727118578200003E-2},{"$f":"VLOOKUP($B130,'EDGAR-2019'!$A$3:$AY$215,D$10,FALSE)","v":0.88253890859508999},{"$f":"VLOOKUP($B130,'EDGAR-2019'!$A$3:$AY$215,E$10,FALSE)","v":1.1142262015894799},{"$f":"VLOOKUP($B130,'EDGAR-2019'!$A$3:$AY$215,F$10,FALSE)","v":1.5935392729183699},{"$f":"VLOOKUP($B130,'EDGAR-2019'!$A$3:$AY$215,G$10,FALSE)","v":1.38742320051276},{"$f":"VLOOKUP($B130,'EDGAR-2019'!$A$3:$AY$215,H$10,FALSE)","v":0.85347946387927998},{"$f":"VLOOKUP($B130,'EDGAR-2019'!$A$3:$AY$215,I$10,FALSE)","v":0.81974719429343001},{"$f":"VLOOKUP($B130,'EDGAR-2019'!$A$3:$AY$215,J$10,FALSE)","v":0.78512057317311001},{"$f":"VLOOKUP($B130,'EDGAR-2019'!$A$3:$AY$215,K$10,FALSE)","v":0.82066142252265994},{"$f":"VLOOKUP($B130,'EDGAR-2019'!$A$3:$AY$215,L$10,FALSE)","v":0.85698431295331001},{"$f":"VLOOKUP($B130,'EDGAR-2019'!$A$3:$AY$215,M$10,FALSE)","v":0.91280515840547605},6.5136367852286714E-2,5.4698437300912617E-2,{"$f":"VLOOKUP($B130,'UN-P'!$C$18:$CK$333,6,FALSE)/1000","v":0.53095300000000001}]
[null,{"$f":"'EDGAR-2019'!A120","v":"Mali"},{"$f":"VLOOKUP($B131,'EDGAR-2019'!$A$3:$AY$215,C$10,FALSE)","v":0.38516662649889999},{"$f":"VLOOKUP($B131,'EDGAR-2019'!$A$3:$AY$215,D$10,FALSE)","v":0.58014834973975005},{"$f":"VLOOKUP($B131,'EDGAR-2019'!$A$3:$AY$215,E$10,FALSE)","v":0.56628333764024996},{"$f":"VLOOKUP($B131,'EDGAR-2019'!$A$3:$AY$215,F$10,FALSE)","v":0.56567954164025003},{"$f":"VLOOKUP($B131,'EDGAR-2019'!$A$3:$AY$215,G$10,FALSE)","v":0.82222749354540003},{"$f":"VLOOKUP($B131,'EDGAR-2019'!$A$3:$AY$215,H$10,FALSE)","v":0.89152527368669998},{"$f":"VLOOKUP($B131,'EDGAR-2019'!$A$3:$AY$215,I$10,FALSE)","v":0.90045386336309996},{"$f":"VLOOKUP($B131,'EDGAR-2019'!$A$3:$AY$215,J$10,FALSE)","v":0.92388830529770005},{"$f":"VLOOKUP($B131,'EDGAR-2019'!$A$3:$AY$215,K$10,FALSE)","v":0.95683026063450005},{"$f":"VLOOKUP($B131,'EDGAR-2019'!$A$3:$AY$215,L$10,FALSE)","v":0.99383503352379998},{"$f":"VLOOKUP($B131,'EDGAR-2019'!$A$3:$AY$215,M$10,FALSE)","v":1.0313536392658},3.7751341496759183E-2,3.8212837648160303E-2,{"$f":"VLOOKUP($B131,'UN-P'!$C$18:$CK$333,6,FALSE)/1000","v":19.658030999999998}]
[null,{"$f":"'EDGAR-2019'!A121","v":"Malta"},{"$f":"VLOOKUP($B132,'EDGAR-2019'!$A$3:$AY$215,C$10,FALSE)","v":2.3515248516999998},{"$f":"VLOOKUP($B132,'EDGAR-2019'!$A$3:$AY$215,D$10,FALSE)","v":2.6264620387900002},{"$f":"VLOOKUP($B132,'EDGAR-2019'!$A$3:$AY$215,E$10,FALSE)","v":2.60006937095},{"$f":"VLOOKUP($B132,'EDGAR-2019'!$A$3:$AY$215,F$10,FALSE)","v":2.7660328169059998},{"$f":"VLOOKUP($B132,'EDGAR-2019'!$A$3:$AY$215,G$10,FALSE)","v":2.4282223099000002},{"$f":"VLOOKUP($B132,'EDGAR-2019'!$A$3:$AY$215,H$10,FALSE)","v":2.411423769028},{"$f":"VLOOKUP($B132,'EDGAR-2019'!$A$3:$AY$215,I$10,FALSE)","v":1.7044989765176},{"$f":"VLOOKUP($B132,'EDGAR-2019'!$A$3:$AY$215,J$10,FALSE)","v":1.4110352406376001},{"$f":"VLOOKUP($B132,'EDGAR-2019'!$A$3:$AY$215,K$10,FALSE)","v":1.0307585982876},{"$f":"VLOOKUP($B132,'EDGAR-2019'!$A$3:$AY$215,L$10,FALSE)","v":1.0294135516176},{"$f":"VLOOKUP($B132,'EDGAR-2019'!$A$3:$AY$215,M$10,FALSE)","v":1.0436021781875999},1.3783213313739884E-2,6.2391519151707153E-3,{"$f":"VLOOKUP($B132,'UN-P'!$C$18:$CK$333,6,FALSE)/1000","v":0.44037200000000004}]
[null,{"$f":"'EDGAR-2019'!A122","v":"Martinique"},{"$f":"VLOOKUP($B133,'EDGAR-2019'!$A$3:$AY$215,C$10,FALSE)","v":0.94386117289619997},{"$f":"VLOOKUP($B133,'EDGAR-2019'!$A$3:$AY$215,D$10,FALSE)","v":1.3403446858735},{"$f":"VLOOKUP($B133,'EDGAR-2019'!$A$3:$AY$215,E$10,FALSE)","v":1.3278189324309999},{"$f":"VLOOKUP($B133,'EDGAR-2019'!$A$3:$AY$215,F$10,FALSE)","v":2.2719838753579999},{"$f":"VLOOKUP($B133,'EDGAR-2019'!$A$3:$AY$215,G$10,FALSE)","v":2.4737248638993998},{"$f":"VLOOKUP($B133,'EDGAR-2019'!$A$3:$AY$215,H$10,FALSE)","v":2.3248886471311998},{"$f":"VLOOKUP($B133,'EDGAR-2019'!$A$3:$AY$215,I$10,FALSE)","v":2.3740326536327001},{"$f":"VLOOKUP($B133,'EDGAR-2019'!$A$3:$AY$215,J$10,FALSE)","v":2.4021800470847001},{"$f":"VLOOKUP($B133,'EDGAR-2019'!$A$3:$AY$215,K$10,FALSE)","v":1.9457429771974999},{"$f":"VLOOKUP($B133,'EDGAR-2019'!$A$3:$AY$215,L$10,FALSE)","v":2.0019681209117999},{"$f":"VLOOKUP($B133,'EDGAR-2019'!$A$3:$AY$215,M$10,FALSE)","v":1.9539313535711},-2.3994771364701517E-2,2.4508596340173661E-3,{"$f":"VLOOKUP($B133,'UN-P'!$C$18:$CK$333,6,FALSE)/1000","v":0.375554}]
[null,{"$f":"'EDGAR-2019'!A123","v":"Mauritania"},{"$f":"VLOOKUP($B134,'EDGAR-2019'!$A$3:$AY$215,C$10,FALSE)","v":0.68372212014080003},{"$f":"VLOOKUP($B134,'EDGAR-2019'!$A$3:$AY$215,D$10,FALSE)","v":2.0560326996999998},{"$f":"VLOOKUP($B134,'EDGAR-2019'!$A$3:$AY$215,E$10,FALSE)","v":2.3656549342000002},{"$f":"VLOOKUP($B134,'EDGAR-2019'!$A$3:$AY$215,F$10,FALSE)","v":2.5364195784999999},{"$f":"VLOOKUP($B134,'EDGAR-2019'!$A$3:$AY$215,G$10,FALSE)","v":2.6209591949000002},{"$f":"VLOOKUP($B134,'EDGAR-2019'!$A$3:$AY$215,H$10,FALSE)","v":2.7450128564999998},{"$f":"VLOOKUP($B134,'EDGAR-2019'!$A$3:$AY$215,I$10,FALSE)","v":2.7291061648000001},{"$f":"VLOOKUP($B134,'EDGAR-2019'!$A$3:$AY$215,J$10,FALSE)","v":2.8361050982},{"$f":"VLOOKUP($B134,'EDGAR-2019'!$A$3:$AY$215,K$10,FALSE)","v":2.9012460310999999},{"$f":"VLOOKUP($B134,'EDGAR-2019'!$A$3:$AY$215,L$10,FALSE)","v":7.5438329224},{"$f":"VLOOKUP($B134,'EDGAR-2019'!$A$3:$AY$215,M$10,FALSE)","v":7.6594419402999998},1.5324970620269163E-2,0.80776472440561986,{"$f":"VLOOKUP($B134,'UN-P'!$C$18:$CK$333,6,FALSE)/1000","v":4.5256959999999999}]
[null,{"$f":"'EDGAR-2019'!A124","v":"Mauritius"},{"$f":"VLOOKUP($B135,'EDGAR-2019'!$A$3:$AY$215,C$10,FALSE)","v":1.1908050975},{"$f":"VLOOKUP($B135,'EDGAR-2019'!$A$3:$AY$215,D$10,FALSE)","v":3.6796523934000001},{"$f":"VLOOKUP($B135,'EDGAR-2019'!$A$3:$AY$215,E$10,FALSE)","v":3.6604257533000002},{"$f":"VLOOKUP($B135,'EDGAR-2019'!$A$3:$AY$215,F$10,FALSE)","v":3.7573206319999999},{"$f":"VLOOKUP($B135,'EDGAR-2019'!$A$3:$AY$215,G$10,FALSE)","v":3.8503067944999998},{"$f":"VLOOKUP($B135,'EDGAR-2019'!$A$3:$AY$215,H$10,FALSE)","v":3.9824757513},{"$f":"VLOOKUP($B135,'EDGAR-2019'!$A$3:$AY$215,I$10,FALSE)","v":3.9900334967000002},{"$f":"VLOOKUP($B135,'EDGAR-2019'!$A$3:$AY$215,J$10,FALSE)","v":4.0655924016},{"$f":"VLOOKUP($B135,'EDGAR-2019'!$A$3:$AY$215,K$10,FALSE)","v":4.2066058475999997},{"$f":"VLOOKUP($B135,'EDGAR-2019'!$A$3:$AY$215,L$10,FALSE)","v":4.5719753150000004},{"$f":"VLOOKUP($B135,'EDGAR-2019'!$A$3:$AY$215,M$10,FALSE)","v":4.3317959943000002},-5.2532943454879577E-2,1.7161588879718748E-2,{"$f":"VLOOKUP($B135,'UN-P'!$C$18:$CK$333,6,FALSE)/1000","v":1.2696679999999998}]
[null,{"$f":"'EDGAR-2019'!A125","v":"Mexico"},{"$f":"VLOOKUP($B136,'EDGAR-2019'!$A$3:$AY$215,C$10,FALSE)","v":290.97035149769999},{"$f":"VLOOKUP($B136,'EDGAR-2019'!$A$3:$AY$215,D$10,FALSE)","v":479.29785321380001},{"$f":"VLOOKUP($B136,'EDGAR-2019'!$A$3:$AY$215,E$10,FALSE)","v":489.15175136369999},{"$f":"VLOOKUP($B136,'EDGAR-2019'!$A$3:$AY$215,F$10,FALSE)","v":508.50805195909999},{"$f":"VLOOKUP($B136,'EDGAR-2019'!$A$3:$AY$215,G$10,FALSE)","v":495.77336779389998},{"$f":"VLOOKUP($B136,'EDGAR-2019'!$A$3:$AY$215,H$10,FALSE)","v":482.8735435781},{"$f":"VLOOKUP($B136,'EDGAR-2019'!$A$3:$AY$215,I$10,FALSE)","v":491.56813238759997},{"$f":"VLOOKUP($B136,'EDGAR-2019'!$A$3:$AY$215,J$10,FALSE)","v":498.02576071710001},{"$f":"VLOOKUP($B136,'EDGAR-2019'!$A$3:$AY$215,K$10,FALSE)","v":499.95544336559999},{"$f":"VLOOKUP($B136,'EDGAR-2019'!$A$3:$AY$215,L$10,FALSE)","v":492.99770393649999},{"$f":"VLOOKUP($B136,'EDGAR-2019'!$A$3:$AY$215,M$10,FALSE)","v":485.00360413269999},-1.6215288103714309E-2,-1.5066003563118713E-2,{"$f":"VLOOKUP($B136,'UN-P'!$C$18:$CK$333,6,FALSE)/1000","v":127.57552899999999}]
[null,{"$f":"'EDGAR-2019'!A126","v":"Moldova"},{"$f":"VLOOKUP($B137,'EDGAR-2019'!$A$3:$AY$215,C$10,FALSE)","v":31.957054785},{"$f":"VLOOKUP($B137,'EDGAR-2019'!$A$3:$AY$215,D$10,FALSE)","v":8.3616791656299991},{"$f":"VLOOKUP($B137,'EDGAR-2019'!$A$3:$AY$215,E$10,FALSE)","v":8.3716265134699999},{"$f":"VLOOKUP($B137,'EDGAR-2019'!$A$3:$AY$215,F$10,FALSE)","v":8.2527638656299995},{"$f":"VLOOKUP($B137,'EDGAR-2019'!$A$3:$AY$215,G$10,FALSE)","v":7.3152161086299996},{"$f":"VLOOKUP($B137,'EDGAR-2019'!$A$3:$AY$215,H$10,FALSE)","v":7.9445605641699997},{"$f":"VLOOKUP($B137,'EDGAR-2019'!$A$3:$AY$215,I$10,FALSE)","v":8.2452825167500006},{"$f":"VLOOKUP($B137,'EDGAR-2019'!$A$3:$AY$215,J$10,FALSE)","v":8.4163417281140003},{"$f":"VLOOKUP($B137,'EDGAR-2019'!$A$3:$AY$215,K$10,FALSE)","v":8.2716118582162697},{"$f":"VLOOKUP($B137,'EDGAR-2019'!$A$3:$AY$215,L$10,FALSE)","v":9.3192884896524504},{"$f":"VLOOKUP($B137,'EDGAR-2019'!$A$3:$AY$215,M$10,FALSE)","v":9.2291543671186709},-9.6717815564845155E-3,5.8493763066401916E-2,{"$f":"VLOOKUP($B137,'UN-P'!$C$18:$CK$333,6,FALSE)/1000","v":4.0432629999999996}]
[null,{"$f":"'EDGAR-2019'!A127","v":"Mongolia"},{"$f":"VLOOKUP($B138,'EDGAR-2019'!$A$3:$AY$215,C$10,FALSE)","v":13.150913225},{"$f":"VLOOKUP($B138,'EDGAR-2019'!$A$3:$AY$215,D$10,FALSE)","v":14.367128864},{"$f":"VLOOKUP($B138,'EDGAR-2019'!$A$3:$AY$215,E$10,FALSE)","v":15.838032169},{"$f":"VLOOKUP($B138,'EDGAR-2019'!$A$3:$AY$215,F$10,FALSE)","v":17.226554676999999},{"$f":"VLOOKUP($B138,'EDGAR-2019'!$A$3:$AY$215,G$10,FALSE)","v":18.506766510999999},{"$f":"VLOOKUP($B138,'EDGAR-2019'!$A$3:$AY$215,H$10,FALSE)","v":18.248642559},{"$f":"VLOOKUP($B138,'EDGAR-2019'!$A$3:$AY$215,I$10,FALSE)","v":17.466464355999999},{"$f":"VLOOKUP($B138,'EDGAR-2019'!$A$3:$AY$215,J$10,FALSE)","v":18.333893268800001},{"$f":"VLOOKUP($B138,'EDGAR-2019'!$A$3:$AY$215,K$10,FALSE)","v":19.614113058499999},{"$f":"VLOOKUP($B138,'EDGAR-2019'!$A$3:$AY$215,L$10,FALSE)","v":35.279487783999997},{"$f":"VLOOKUP($B138,'EDGAR-2019'!$A$3:$AY$215,M$10,FALSE)","v":35.929593197000003},1.8427291716373473E-2,0.40855300621512192,{"$f":"VLOOKUP($B138,'UN-P'!$C$18:$CK$333,6,FALSE)/1000","v":3.2251669999999999}]
[null,{"$f":"'EDGAR-2019'!A128","v":"Morocco"},{"$f":"VLOOKUP($B139,'EDGAR-2019'!$A$3:$AY$215,C$10,FALSE)","v":22.434626103399999},{"$f":"VLOOKUP($B139,'EDGAR-2019'!$A$3:$AY$215,D$10,FALSE)","v":51.996317042792001},{"$f":"VLOOKUP($B139,'EDGAR-2019'!$A$3:$AY$215,E$10,FALSE)","v":56.224777440339999},{"$f":"VLOOKUP($B139,'EDGAR-2019'!$A$3:$AY$215,F$10,FALSE)","v":58.486246535112997},{"$f":"VLOOKUP($B139,'EDGAR-2019'!$A$3:$AY$215,G$10,FALSE)","v":58.607367357774002},{"$f":"VLOOKUP($B139,'EDGAR-2019'!$A$3:$AY$215,H$10,FALSE)","v":60.212039704863997},{"$f":"VLOOKUP($B139,'EDGAR-2019'!$A$3:$AY$215,I$10,FALSE)","v":61.76920012755},{"$f":"VLOOKUP($B139,'EDGAR-2019'!$A$3:$AY$215,J$10,FALSE)","v":61.816752707724},{"$f":"VLOOKUP($B139,'EDGAR-2019'!$A$3:$AY$215,K$10,FALSE)","v":64.958758056644001},{"$f":"VLOOKUP($B139,'EDGAR-2019'!$A$3:$AY$215,L$10,FALSE)","v":66.737255996448994},{"$f":"VLOOKUP($B139,'EDGAR-2019'!$A$3:$AY$215,M$10,FALSE)","v":73.913856673439},0.10753514764484562,6.7457013037487079E-2,{"$f":"VLOOKUP($B139,'UN-P'!$C$18:$CK$333,6,FALSE)/1000","v":36.471769000000002}]
[null,{"$f":"'EDGAR-2019'!A129","v":"Mozambique"},{"$f":"VLOOKUP($B140,'EDGAR-2019'!$A$3:$AY$215,C$10,FALSE)","v":1.1827644369999999},{"$f":"VLOOKUP($B140,'EDGAR-2019'!$A$3:$AY$215,D$10,FALSE)","v":3.6832742628599999},{"$f":"VLOOKUP($B140,'EDGAR-2019'!$A$3:$AY$215,E$10,FALSE)","v":4.1594835436700004},{"$f":"VLOOKUP($B140,'EDGAR-2019'!$A$3:$AY$215,F$10,FALSE)","v":4.11121395256},{"$f":"VLOOKUP($B140,'EDGAR-2019'!$A$3:$AY$215,G$10,FALSE)","v":4.3902281435599999},{"$f":"VLOOKUP($B140,'EDGAR-2019'!$A$3:$AY$215,H$10,FALSE)","v":5.4032208222799998},{"$f":"VLOOKUP($B140,'EDGAR-2019'!$A$3:$AY$215,I$10,FALSE)","v":6.6009769443000001},{"$f":"VLOOKUP($B140,'EDGAR-2019'!$A$3:$AY$215,J$10,FALSE)","v":8.93737606973},{"$f":"VLOOKUP($B140,'EDGAR-2019'!$A$3:$AY$215,K$10,FALSE)","v":8.7423071351299999},{"$f":"VLOOKUP($B140,'EDGAR-2019'!$A$3:$AY$215,L$10,FALSE)","v":8.9689361955300004},{"$f":"VLOOKUP($B140,'EDGAR-2019'!$A$3:$AY$215,M$10,FALSE)","v":9.2594409619799993},3.2390102919316321E-2,2.9156679145404651E-2,{"$f":"VLOOKUP($B140,'UN-P'!$C$18:$CK$333,6,FALSE)/1000","v":30.366036000000001}]
[null,{"$f":"'EDGAR-2019'!A130","v":"Myanmar/Burma"},{"$f":"VLOOKUP($B141,'EDGAR-2019'!$A$3:$AY$215,C$10,FALSE)","v":4.4670691034540004},{"$f":"VLOOKUP($B141,'EDGAR-2019'!$A$3:$AY$215,D$10,FALSE)","v":8.5675556280799992},{"$f":"VLOOKUP($B141,'EDGAR-2019'!$A$3:$AY$215,E$10,FALSE)","v":8.7738667621299999},{"$f":"VLOOKUP($B141,'EDGAR-2019'!$A$3:$AY$215,F$10,FALSE)","v":12.391017906222},{"$f":"VLOOKUP($B141,'EDGAR-2019'!$A$3:$AY$215,G$10,FALSE)","v":14.817069232084},{"$f":"VLOOKUP($B141,'EDGAR-2019'!$A$3:$AY$215,H$10,FALSE)","v":21.194532936969999},{"$f":"VLOOKUP($B141,'EDGAR-2019'!$A$3:$AY$215,I$10,FALSE)","v":25.324641886207999},{"$f":"VLOOKUP($B141,'EDGAR-2019'!$A$3:$AY$215,J$10,FALSE)","v":28.861748501045},{"$f":"VLOOKUP($B141,'EDGAR-2019'!$A$3:$AY$215,K$10,FALSE)","v":43.069308749674001},{"$f":"VLOOKUP($B141,'EDGAR-2019'!$A$3:$AY$215,L$10,FALSE)","v":46.865972113527199},{"$f":"VLOOKUP($B141,'EDGAR-2019'!$A$3:$AY$215,M$10,FALSE)","v":48.310662007027197},3.0825987989759662E-2,5.9489199001094839E-2,{"$f":"VLOOKUP($B141,'UN-P'!$C$18:$CK$333,6,FALSE)/1000","v":54.04542}]
[null,{"$f":"'EDGAR-2019'!A131","v":"Namibia"},{"$f":"VLOOKUP($B142,'EDGAR-2019'!$A$3:$AY$215,C$10,FALSE)","v":1.5418314309237},{"$f":"VLOOKUP($B142,'EDGAR-2019'!$A$3:$AY$215,D$10,FALSE)","v":3.0891842569999999},{"$f":"VLOOKUP($B142,'EDGAR-2019'!$A$3:$AY$215,E$10,FALSE)","v":3.285893674},{"$f":"VLOOKUP($B142,'EDGAR-2019'!$A$3:$AY$215,F$10,FALSE)","v":3.439921773},{"$f":"VLOOKUP($B142,'EDGAR-2019'!$A$3:$AY$215,G$10,FALSE)","v":3.6823914270000002},{"$f":"VLOOKUP($B142,'EDGAR-2019'!$A$3:$AY$215,H$10,FALSE)","v":3.8535069869999998},{"$f":"VLOOKUP($B142,'EDGAR-2019'!$A$3:$AY$215,I$10,FALSE)","v":4.1202517629999997},{"$f":"VLOOKUP($B142,'EDGAR-2019'!$A$3:$AY$215,J$10,FALSE)","v":4.2501055379999997},{"$f":"VLOOKUP($B142,'EDGAR-2019'!$A$3:$AY$215,K$10,FALSE)","v":4.3160369340000004},{"$f":"VLOOKUP($B142,'EDGAR-2019'!$A$3:$AY$215,L$10,FALSE)","v":4.3741555090000004},{"$f":"VLOOKUP($B142,'EDGAR-2019'!$A$3:$AY$215,M$10,FALSE)","v":4.4001095899999996},5.9335066955432669E-3,9.6996168390643955E-3,{"$f":"VLOOKUP($B142,'UN-P'!$C$18:$CK$333,6,FALSE)/1000","v":2.4945300000000001}]
[null,{"$f":"'EDGAR-2019'!A132","v":"Nepal"},{"$f":"VLOOKUP($B143,'EDGAR-2019'!$A$3:$AY$215,C$10,FALSE)","v":1.0973716287999999},{"$f":"VLOOKUP($B143,'EDGAR-2019'!$A$3:$AY$215,D$10,FALSE)","v":4.8066646200000003},{"$f":"VLOOKUP($B143,'EDGAR-2019'!$A$3:$AY$215,E$10,FALSE)","v":5.3805761348000001},{"$f":"VLOOKUP($B143,'EDGAR-2019'!$A$3:$AY$215,F$10,FALSE)","v":6.2276964550000002},{"$f":"VLOOKUP($B143,'EDGAR-2019'!$A$3:$AY$215,G$10,FALSE)","v":6.1822689689999999},{"$f":"VLOOKUP($B143,'EDGAR-2019'!$A$3:$AY$215,H$10,FALSE)","v":7.1520943299999997},{"$f":"VLOOKUP($B143,'EDGAR-2019'!$A$3:$AY$215,I$10,FALSE)","v":6.5658981699999996},{"$f":"VLOOKUP($B143,'EDGAR-2019'!$A$3:$AY$215,J$10,FALSE)","v":9.3779699000000001},{"$f":"VLOOKUP($B143,'EDGAR-2019'!$A$3:$AY$215,K$10,FALSE)","v":10.99606807},{"$f":"VLOOKUP($B143,'EDGAR-2019'!$A$3:$AY$215,L$10,FALSE)","v":14.446553850000001},{"$f":"VLOOKUP($B143,'EDGAR-2019'!$A$3:$AY$215,M$10,FALSE)","v":15.019087669999999},{"$f":"M143/L143-1","v":3.9631169200951E-2},{"$f":"AVERAGE(M143/L143-1,L143/K143-1)","v":0.1767119296410169},{"$f":"VLOOKUP($B143,'UN-P'!$C$18:$CK$333,6,FALSE)/1000","v":28.608709999999999}]
[null,{"$f":"'EDGAR-2019'!A133","v":"Netherlands"},{"$f":"VLOOKUP($B144,'EDGAR-2019'!$A$3:$AY$215,C$10,FALSE)","v":161.19480264180001},{"$f":"VLOOKUP($B144,'EDGAR-2019'!$A$3:$AY$215,D$10,FALSE)","v":185.47722522571999},{"$f":"VLOOKUP($B144,'EDGAR-2019'!$A$3:$AY$215,E$10,FALSE)","v":173.71584325140699},{"$f":"VLOOKUP($B144,'EDGAR-2019'!$A$3:$AY$215,F$10,FALSE)","v":170.27982069794601},{"$f":"VLOOKUP($B144,'EDGAR-2019'!$A$3:$AY$215,G$10,FALSE)","v":169.09972190738799},{"$f":"VLOOKUP($B144,'EDGAR-2019'!$A$3:$AY$215,H$10,FALSE)","v":161.73969080275199},{"$f":"VLOOKUP($B144,'EDGAR-2019'!$A$3:$AY$215,I$10,FALSE)","v":168.990178247926},{"$f":"VLOOKUP($B144,'EDGAR-2019'!$A$3:$AY$215,J$10,FALSE)","v":168.47713794816701},{"$f":"VLOOKUP($B144,'EDGAR-2019'!$A$3:$AY$215,K$10,FALSE)","v":165.970968591977},{"$f":"VLOOKUP($B144,'EDGAR-2019'!$A$3:$AY$215,L$10,FALSE)","v":161.912714396947},{"$f":"VLOOKUP($B144,'EDGAR-2019'!$A$3:$AY$215,M$10,FALSE)","v":156.414819385339},-3.3955918978229804E-2,-2.9203754847961116E-2,{"$f":"VLOOKUP($B144,'UN-P'!$C$18:$CK$333,6,FALSE)/1000","v":17.09713}]
[null,{"$f":"'EDGAR-2019'!A134","v":"New Caledonia"},{"$f":"VLOOKUP($B145,'EDGAR-2019'!$A$3:$AY$215,C$10,FALSE)","v":1.6238333433000001},{"$f":"VLOOKUP($B145,'EDGAR-2019'!$A$3:$AY$215,D$10,FALSE)","v":4.9467382585694999},{"$f":"VLOOKUP($B145,'EDGAR-2019'!$A$3:$AY$215,E$10,FALSE)","v":6.1926561400709002},{"$f":"VLOOKUP($B145,'EDGAR-2019'!$A$3:$AY$215,F$10,FALSE)","v":6.5083755131791996},{"$f":"VLOOKUP($B145,'EDGAR-2019'!$A$3:$AY$215,G$10,FALSE)","v":5.7713689111032798},{"$f":"VLOOKUP($B145,'EDGAR-2019'!$A$3:$AY$215,H$10,FALSE)","v":5.3230164680131198},{"$f":"VLOOKUP($B145,'EDGAR-2019'!$A$3:$AY$215,I$10,FALSE)","v":5.0236358334312197},{"$f":"VLOOKUP($B145,'EDGAR-2019'!$A$3:$AY$215,J$10,FALSE)","v":7.3695718483235702},{"$f":"VLOOKUP($B145,'EDGAR-2019'!$A$3:$AY$215,K$10,FALSE)","v":8.3962060400157696},{"$f":"VLOOKUP($B145,'EDGAR-2019'!$A$3:$AY$215,L$10,FALSE)","v":15.3927043224099},{"$f":"VLOOKUP($B145,'EDGAR-2019'!$A$3:$AY$215,M$10,FALSE)","v":15.656643787356},1.7147049629338662E-2,0.42521993922191925,{"$f":"VLOOKUP($B145,'UN-P'!$C$18:$CK$333,6,FALSE)/1000","v":0.28275}]
[null,{"$f":"'EDGAR-2019'!A135","v":"New Zealand"},{"$f":"VLOOKUP($B146,'EDGAR-2019'!$A$3:$AY$215,C$10,FALSE)","v":23.901807765569998},{"$f":"VLOOKUP($B146,'EDGAR-2019'!$A$3:$AY$215,D$10,FALSE)","v":34.115085418029999},{"$f":"VLOOKUP($B146,'EDGAR-2019'!$A$3:$AY$215,E$10,FALSE)","v":33.462486805490002},{"$f":"VLOOKUP($B146,'EDGAR-2019'!$A$3:$AY$215,F$10,FALSE)","v":35.345560888000001},{"$f":"VLOOKUP($B146,'EDGAR-2019'!$A$3:$AY$215,G$10,FALSE)","v":35.378850099349997},{"$f":"VLOOKUP($B146,'EDGAR-2019'!$A$3:$AY$215,H$10,FALSE)","v":36.256304309420003},{"$f":"VLOOKUP($B146,'EDGAR-2019'!$A$3:$AY$215,I$10,FALSE)","v":36.014110892070001},{"$f":"VLOOKUP($B146,'EDGAR-2019'!$A$3:$AY$215,J$10,FALSE)","v":35.327757995890003},{"$f":"VLOOKUP($B146,'EDGAR-2019'!$A$3:$AY$215,K$10,FALSE)","v":37.437096531350001},{"$f":"VLOOKUP($B146,'EDGAR-2019'!$A$3:$AY$215,L$10,FALSE)","v":37.002133168450001},{"$f":"VLOOKUP($B146,'EDGAR-2019'!$A$3:$AY$215,M$10,FALSE)","v":38.668768734750003},4.5041607701716613E-2,1.671154774928324E-2,{"$f":"VLOOKUP($B146,'UN-P'!$C$18:$CK$333,6,FALSE)/1000","v":4.7830630000000003}]
[null,{"$f":"'EDGAR-2019'!A136","v":"Nicaragua"},{"$f":"VLOOKUP($B147,'EDGAR-2019'!$A$3:$AY$215,C$10,FALSE)","v":1.96898695371},{"$f":"VLOOKUP($B147,'EDGAR-2019'!$A$3:$AY$215,D$10,FALSE)","v":4.6675812698180001},{"$f":"VLOOKUP($B147,'EDGAR-2019'!$A$3:$AY$215,E$10,FALSE)","v":4.8483494985329996},{"$f":"VLOOKUP($B147,'EDGAR-2019'!$A$3:$AY$215,F$10,FALSE)","v":4.8215463102429998},{"$f":"VLOOKUP($B147,'EDGAR-2019'!$A$3:$AY$215,G$10,FALSE)","v":4.6708889169730003},{"$f":"VLOOKUP($B147,'EDGAR-2019'!$A$3:$AY$215,H$10,FALSE)","v":4.9264196206669997},{"$f":"VLOOKUP($B147,'EDGAR-2019'!$A$3:$AY$215,I$10,FALSE)","v":5.5723406149869996},{"$f":"VLOOKUP($B147,'EDGAR-2019'!$A$3:$AY$215,J$10,FALSE)","v":5.6267004476410003},{"$f":"VLOOKUP($B147,'EDGAR-2019'!$A$3:$AY$215,K$10,FALSE)","v":5.6690451929780004},{"$f":"VLOOKUP($B147,'EDGAR-2019'!$A$3:$AY$215,L$10,FALSE)","v":5.6736757214990003},{"$f":"VLOOKUP($B147,'EDGAR-2019'!$A$3:$AY$215,M$10,FALSE)","v":5.8587572985060001},3.26211059799697E-2,1.6718957612224861E-2,{"$f":"VLOOKUP($B147,'UN-P'!$C$18:$CK$333,6,FALSE)/1000","v":6.5455020000000008}]
[null,{"$f":"'EDGAR-2019'!A137","v":"Niger"},{"$f":"VLOOKUP($B148,'EDGAR-2019'!$A$3:$AY$215,C$10,FALSE)","v":0.90826687971289999},{"$f":"VLOOKUP($B148,'EDGAR-2019'!$A$3:$AY$215,D$10,FALSE)","v":1.431596936},{"$f":"VLOOKUP($B148,'EDGAR-2019'!$A$3:$AY$215,E$10,FALSE)","v":1.449910718778},{"$f":"VLOOKUP($B148,'EDGAR-2019'!$A$3:$AY$215,F$10,FALSE)","v":2.0405626431199999},{"$f":"VLOOKUP($B148,'EDGAR-2019'!$A$3:$AY$215,G$10,FALSE)","v":2.0197322175000001},{"$f":"VLOOKUP($B148,'EDGAR-2019'!$A$3:$AY$215,H$10,FALSE)","v":2.1947576699},{"$f":"VLOOKUP($B148,'EDGAR-2019'!$A$3:$AY$215,I$10,FALSE)","v":2.1503880740199999},{"$f":"VLOOKUP($B148,'EDGAR-2019'!$A$3:$AY$215,J$10,FALSE)","v":2.1391339928519999},{"$f":"VLOOKUP($B148,'EDGAR-2019'!$A$3:$AY$215,K$10,FALSE)","v":2.2237894878060001},{"$f":"VLOOKUP($B148,'EDGAR-2019'!$A$3:$AY$215,L$10,FALSE)","v":2.3077278367890002},{"$f":"VLOOKUP($B148,'EDGAR-2019'!$A$3:$AY$215,M$10,FALSE)","v":2.3595781667889999},2.2468130415302712E-2,3.0106883305603183E-2,{"$f":"VLOOKUP($B148,'UN-P'!$C$18:$CK$333,6,FALSE)/1000","v":23.310715000000002}]
[null,{"$f":"'EDGAR-2019'!A138","v":"Nigeria"},{"$f":"VLOOKUP($B149,'EDGAR-2019'!$A$3:$AY$215,C$10,FALSE)","v":74.763472918100007},{"$f":"VLOOKUP($B149,'EDGAR-2019'!$A$3:$AY$215,D$10,FALSE)","v":90.51905873183},{"$f":"VLOOKUP($B149,'EDGAR-2019'!$A$3:$AY$215,E$10,FALSE)","v":95.177727626630002},{"$f":"VLOOKUP($B149,'EDGAR-2019'!$A$3:$AY$215,F$10,FALSE)","v":90.607265108519996},{"$f":"VLOOKUP($B149,'EDGAR-2019'!$A$3:$AY$215,G$10,FALSE)","v":89.778010668030007},{"$f":"VLOOKUP($B149,'EDGAR-2019'!$A$3:$AY$215,H$10,FALSE)","v":85.70202341337},{"$f":"VLOOKUP($B149,'EDGAR-2019'!$A$3:$AY$215,I$10,FALSE)","v":89.431221700758996},{"$f":"VLOOKUP($B149,'EDGAR-2019'!$A$3:$AY$215,J$10,FALSE)","v":90.816153753365995},{"$f":"VLOOKUP($B149,'EDGAR-2019'!$A$3:$AY$215,K$10,FALSE)","v":94.138121492638007},{"$f":"VLOOKUP($B149,'EDGAR-2019'!$A$3:$AY$215,L$10,FALSE)","v":97.672160636512999},{"$f":"VLOOKUP($B149,'EDGAR-2019'!$A$3:$AY$215,M$10,FALSE)","v":100.223230623513},2.6118701279618683E-2,3.1829850241032909E-2,{"$f":"VLOOKUP($B149,'UN-P'!$C$18:$CK$333,6,FALSE)/1000","v":200.96359899999999}]
[null,{"$f":"'EDGAR-2019'!A139","v":"North Korea"},{"$f":"VLOOKUP($B150,'EDGAR-2019'!$A$3:$AY$215,C$10,FALSE)","v":131.81536885022999},{"$f":"VLOOKUP($B150,'EDGAR-2019'!$A$3:$AY$215,D$10,FALSE)","v":52.835894572199997},{"$f":"VLOOKUP($B150,'EDGAR-2019'!$A$3:$AY$215,E$10,FALSE)","v":38.533667638525003},{"$f":"VLOOKUP($B150,'EDGAR-2019'!$A$3:$AY$215,F$10,FALSE)","v":39.289978218104999},{"$f":"VLOOKUP($B150,'EDGAR-2019'!$A$3:$AY$215,G$10,FALSE)","v":28.359581272063},{"$f":"VLOOKUP($B150,'EDGAR-2019'!$A$3:$AY$215,H$10,FALSE)","v":33.238042556662002},{"$f":"VLOOKUP($B150,'EDGAR-2019'!$A$3:$AY$215,I$10,FALSE)","v":27.098722346662001},{"$f":"VLOOKUP($B150,'EDGAR-2019'!$A$3:$AY$215,J$10,FALSE)","v":30.087092047553998},{"$f":"VLOOKUP($B150,'EDGAR-2019'!$A$3:$AY$215,K$10,FALSE)","v":24.648854278447999},{"$f":"VLOOKUP($B150,'EDGAR-2019'!$A$3:$AY$215,L$10,FALSE)","v":41.414381349343003},{"$f":"VLOOKUP($B150,'EDGAR-2019'!$A$3:$AY$215,M$10,FALSE)","v":42.172967711238002},1.8316979203337302E-2,0.34924583973773826,{"$f":"VLOOKUP($B150,'UN-P'!$C$18:$CK$333,6,FALSE)/1000","v":25.666160999999999}]
[null,{"$f":"'EDGAR-2019'!A140","v":"North Macedonia"},{"$f":"VLOOKUP($B151,'EDGAR-2019'!$A$3:$AY$215,C$10,FALSE)","v":11.207502103637999},{"$f":"VLOOKUP($B151,'EDGAR-2019'!$A$3:$AY$215,D$10,FALSE)","v":9.1653610554113101},{"$f":"VLOOKUP($B151,'EDGAR-2019'!$A$3:$AY$215,E$10,FALSE)","v":10.2292175034867},{"$f":"VLOOKUP($B151,'EDGAR-2019'!$A$3:$AY$215,F$10,FALSE)","v":9.6058825019092104},{"$f":"VLOOKUP($B151,'EDGAR-2019'!$A$3:$AY$215,G$10,FALSE)","v":8.7716688180859208},{"$f":"VLOOKUP($B151,'EDGAR-2019'!$A$3:$AY$215,H$10,FALSE)","v":8.3332322744029899},{"$f":"VLOOKUP($B151,'EDGAR-2019'!$A$3:$AY$215,I$10,FALSE)","v":8.0071430390090992},{"$f":"VLOOKUP($B151,'EDGAR-2019'!$A$3:$AY$215,J$10,FALSE)","v":7.7743305306903903},{"$f":"VLOOKUP($B151,'EDGAR-2019'!$A$3:$AY$215,K$10,FALSE)","v":8.3313428017229398},{"$f":"VLOOKUP($B151,'EDGAR-2019'!$A$3:$AY$215,L$10,FALSE)","v":7.7772940563474799},{"$f":"VLOOKUP($B151,'EDGAR-2019'!$A$3:$AY$215,M$10,FALSE)","v":8.9237840462158307},0.14741502398673445,4.0456644842583211E-2,{"$f":"VLOOKUP($B151,'UN-P'!$C$18:$CK$333,6,FALSE)/1000","v":2.0834589999999999}]
[null,{"$f":"'EDGAR-2019'!A141","v":"Norway"},{"$f":"VLOOKUP($B152,'EDGAR-2019'!$A$3:$AY$215,C$10,FALSE)","v":37.324423034719999},{"$f":"VLOOKUP($B152,'EDGAR-2019'!$A$3:$AY$215,D$10,FALSE)","v":46.720234265899997},{"$f":"VLOOKUP($B152,'EDGAR-2019'!$A$3:$AY$215,E$10,FALSE)","v":45.339181665360002},{"$f":"VLOOKUP($B152,'EDGAR-2019'!$A$3:$AY$215,F$10,FALSE)","v":44.654722212179998},{"$f":"VLOOKUP($B152,'EDGAR-2019'!$A$3:$AY$215,G$10,FALSE)","v":43.98438771795},{"$f":"VLOOKUP($B152,'EDGAR-2019'!$A$3:$AY$215,H$10,FALSE)","v":44.438173871628997},{"$f":"VLOOKUP($B152,'EDGAR-2019'!$A$3:$AY$215,I$10,FALSE)","v":45.790071278130299},{"$f":"VLOOKUP($B152,'EDGAR-2019'!$A$3:$AY$215,J$10,FALSE)","v":45.237625869148303},{"$f":"VLOOKUP($B152,'EDGAR-2019'!$A$3:$AY$215,K$10,FALSE)","v":48.514850764338},{"$f":"VLOOKUP($B152,'EDGAR-2019'!$A$3:$AY$215,L$10,FALSE)","v":48.653688983207502},{"$f":"VLOOKUP($B152,'EDGAR-2019'!$A$3:$AY$215,M$10,FALSE)","v":47.990776304809103},-1.3625126732470405E-2,-5.381679660708516E-3,{"$f":"VLOOKUP($B152,'UN-P'!$C$18:$CK$333,6,FALSE)/1000","v":5.378857}]
[null,{"$f":"'EDGAR-2019'!A142","v":"Oman"},{"$f":"VLOOKUP($B153,'EDGAR-2019'!$A$3:$AY$215,C$10,FALSE)","v":15.57829759104},{"$f":"VLOOKUP($B153,'EDGAR-2019'!$A$3:$AY$215,D$10,FALSE)","v":52.507353066900002},{"$f":"VLOOKUP($B153,'EDGAR-2019'!$A$3:$AY$215,E$10,FALSE)","v":60.75845061911},{"$f":"VLOOKUP($B153,'EDGAR-2019'!$A$3:$AY$215,F$10,FALSE)","v":67.282337148170001},{"$f":"VLOOKUP($B153,'EDGAR-2019'!$A$3:$AY$215,G$10,FALSE)","v":70.594879508950001},{"$f":"VLOOKUP($B153,'EDGAR-2019'!$A$3:$AY$215,H$10,FALSE)","v":74.953806139069997},{"$f":"VLOOKUP($B153,'EDGAR-2019'!$A$3:$AY$215,I$10,FALSE)","v":79.864734990800002},{"$f":"VLOOKUP($B153,'EDGAR-2019'!$A$3:$AY$215,J$10,FALSE)","v":80.671768233289995},{"$f":"VLOOKUP($B153,'EDGAR-2019'!$A$3:$AY$215,K$10,FALSE)","v":83.426578536630004},{"$f":"VLOOKUP($B153,'EDGAR-2019'!$A$3:$AY$215,L$10,FALSE)","v":90.810425620710006},{"$f":"VLOOKUP($B153,'EDGAR-2019'!$A$3:$AY$215,M$10,FALSE)","v":92.780720009709995},2.1696786195335882E-2,5.5101958409818352E-2,{"$f":"VLOOKUP($B153,'UN-P'!$C$18:$CK$333,6,FALSE)/1000","v":4.9749859999999995}]
[null,{"$f":"'EDGAR-2019'!A143","v":"Pakistan"},{"$f":"VLOOKUP($B154,'EDGAR-2019'!$A$3:$AY$215,C$10,FALSE)","v":65.327009061560005},{"$f":"VLOOKUP($B154,'EDGAR-2019'!$A$3:$AY$215,D$10,FALSE)","v":152.75659272864999},{"$f":"VLOOKUP($B154,'EDGAR-2019'!$A$3:$AY$215,E$10,FALSE)","v":154.37213681362999},{"$f":"VLOOKUP($B154,'EDGAR-2019'!$A$3:$AY$215,F$10,FALSE)","v":155.26455113333},{"$f":"VLOOKUP($B154,'EDGAR-2019'!$A$3:$AY$215,G$10,FALSE)","v":156.93684171800999},{"$f":"VLOOKUP($B154,'EDGAR-2019'!$A$3:$AY$215,H$10,FALSE)","v":165.12775019346},{"$f":"VLOOKUP($B154,'EDGAR-2019'!$A$3:$AY$215,I$10,FALSE)","v":169.78352308392999},{"$f":"VLOOKUP($B154,'EDGAR-2019'!$A$3:$AY$215,J$10,FALSE)","v":185.95480307958999},{"$f":"VLOOKUP($B154,'EDGAR-2019'!$A$3:$AY$215,K$10,FALSE)","v":204.39936917745999},{"$f":"VLOOKUP($B154,'EDGAR-2019'!$A$3:$AY$215,L$10,FALSE)","v":220.68853283012001},{"$f":"VLOOKUP($B154,'EDGAR-2019'!$A$3:$AY$215,M$10,FALSE)","v":223.62595011011999},1.3310239740734975E-2,4.6501533580474708E-2,{"$f":"VLOOKUP($B154,'UN-P'!$C$18:$CK$333,6,FALSE)/1000","v":216.56531799999999}]
[null,{"$f":"'EDGAR-2019'!A144","v":"Palau"},{"$f":"VLOOKUP($B155,'EDGAR-2019'!$A$3:$AY$215,C$10,FALSE)","v":2.1549626204500001},{"$f":"VLOOKUP($B155,'EDGAR-2019'!$A$3:$AY$215,D$10,FALSE)","v":2.1101279069282},{"$f":"VLOOKUP($B155,'EDGAR-2019'!$A$3:$AY$215,E$10,FALSE)","v":2.3691571478708999},{"$f":"VLOOKUP($B155,'EDGAR-2019'!$A$3:$AY$215,F$10,FALSE)","v":3.6034136441215998},{"$f":"VLOOKUP($B155,'EDGAR-2019'!$A$3:$AY$215,G$10,FALSE)","v":1.823717571385},{"$f":"VLOOKUP($B155,'EDGAR-2019'!$A$3:$AY$215,H$10,FALSE)","v":1.26757713189887},{"$f":"VLOOKUP($B155,'EDGAR-2019'!$A$3:$AY$215,I$10,FALSE)","v":1.19519070268387},{"$f":"VLOOKUP($B155,'EDGAR-2019'!$A$3:$AY$215,J$10,FALSE)","v":1.1438916040690099},{"$f":"VLOOKUP($B155,'EDGAR-2019'!$A$3:$AY$215,K$10,FALSE)","v":1.19548849502669},{"$f":"VLOOKUP($B155,'EDGAR-2019'!$A$3:$AY$215,L$10,FALSE)","v":1.2482812579456799},{"$f":"VLOOKUP($B155,'EDGAR-2019'!$A$3:$AY$215,M$10,FALSE)","v":1.3296788316852599},6.5207719191056057E-2,5.4683855822430738E-2,{"$f":"VLOOKUP($B155,'UN-P'!$C$18:$CK$333,6,FALSE)/1000","v":1.8008E-2}]
[null,{"$f":"'EDGAR-2019'!A145","v":"Panama"},{"$f":"VLOOKUP($B156,'EDGAR-2019'!$A$3:$AY$215,C$10,FALSE)","v":2.7353493674979998},{"$f":"VLOOKUP($B156,'EDGAR-2019'!$A$3:$AY$215,D$10,FALSE)","v":9.4365417219999994},{"$f":"VLOOKUP($B156,'EDGAR-2019'!$A$3:$AY$215,E$10,FALSE)","v":10.206655616999999},{"$f":"VLOOKUP($B156,'EDGAR-2019'!$A$3:$AY$215,F$10,FALSE)","v":10.66112431},{"$f":"VLOOKUP($B156,'EDGAR-2019'!$A$3:$AY$215,G$10,FALSE)","v":10.816950508},{"$f":"VLOOKUP($B156,'EDGAR-2019'!$A$3:$AY$215,H$10,FALSE)","v":11.462160569},{"$f":"VLOOKUP($B156,'EDGAR-2019'!$A$3:$AY$215,I$10,FALSE)","v":11.568942136},{"$f":"VLOOKUP($B156,'EDGAR-2019'!$A$3:$AY$215,J$10,FALSE)","v":11.659228041},{"$f":"VLOOKUP($B156,'EDGAR-2019'!$A$3:$AY$215,K$10,FALSE)","v":11.107433069000001},{"$f":"VLOOKUP($B156,'EDGAR-2019'!$A$3:$AY$215,L$10,FALSE)","v":11.230624299},{"$f":"VLOOKUP($B156,'EDGAR-2019'!$A$3:$AY$215,M$10,FALSE)","v":11.633575803999999},3.5879706619326379E-2,2.3485294332567852E-2,{"$f":"VLOOKUP($B156,'UN-P'!$C$18:$CK$333,6,FALSE)/1000","v":4.2464390000000005}]
[null,{"$f":"'EDGAR-2019'!A146","v":"Papua New Guinea"},{"$f":"VLOOKUP($B157,'EDGAR-2019'!$A$3:$AY$215,C$10,FALSE)","v":2.3072278114600002},{"$f":"VLOOKUP($B157,'EDGAR-2019'!$A$3:$AY$215,D$10,FALSE)","v":3.0778592771661999},{"$f":"VLOOKUP($B157,'EDGAR-2019'!$A$3:$AY$215,E$10,FALSE)","v":3.6654074721306},{"$f":"VLOOKUP($B157,'EDGAR-2019'!$A$3:$AY$215,F$10,FALSE)","v":4.9726593226914},{"$f":"VLOOKUP($B157,'EDGAR-2019'!$A$3:$AY$215,G$10,FALSE)","v":6.0803443168511002},{"$f":"VLOOKUP($B157,'EDGAR-2019'!$A$3:$AY$215,H$10,FALSE)","v":4.4414400620262002},{"$f":"VLOOKUP($B157,'EDGAR-2019'!$A$3:$AY$215,I$10,FALSE)","v":3.7693521685181701},{"$f":"VLOOKUP($B157,'EDGAR-2019'!$A$3:$AY$215,J$10,FALSE)","v":3.7006430574809999},{"$f":"VLOOKUP($B157,'EDGAR-2019'!$A$3:$AY$215,K$10,FALSE)","v":3.7239653250743499},{"$f":"VLOOKUP($B157,'EDGAR-2019'!$A$3:$AY$215,L$10,FALSE)","v":3.87030602925722},{"$f":"VLOOKUP($B157,'EDGAR-2019'!$A$3:$AY$215,M$10,FALSE)","v":4.0747799572572196},5.283146253921478E-2,4.60642364795677E-2,{"$f":"VLOOKUP($B157,'UN-P'!$C$18:$CK$333,6,FALSE)/1000","v":8.7761089999999999}]
[null,{"$f":"'EDGAR-2019'!A147","v":"Paraguay"},{"$f":"VLOOKUP($B158,'EDGAR-2019'!$A$3:$AY$215,C$10,FALSE)","v":2.2619264445099998},{"$f":"VLOOKUP($B158,'EDGAR-2019'!$A$3:$AY$215,D$10,FALSE)","v":5.1857853970000001},{"$f":"VLOOKUP($B158,'EDGAR-2019'!$A$3:$AY$215,E$10,FALSE)","v":5.3768643935},{"$f":"VLOOKUP($B158,'EDGAR-2019'!$A$3:$AY$215,F$10,FALSE)","v":5.6416843099999996},{"$f":"VLOOKUP($B158,'EDGAR-2019'!$A$3:$AY$215,G$10,FALSE)","v":5.565761416},{"$f":"VLOOKUP($B158,'EDGAR-2019'!$A$3:$AY$215,H$10,FALSE)","v":5.8332700605000003},{"$f":"VLOOKUP($B158,'EDGAR-2019'!$A$3:$AY$215,I$10,FALSE)","v":6.3793511266999996},{"$f":"VLOOKUP($B158,'EDGAR-2019'!$A$3:$AY$215,J$10,FALSE)","v":7.3248501497999996},{"$f":"VLOOKUP($B158,'EDGAR-2019'!$A$3:$AY$215,K$10,FALSE)","v":8.1811687704999994},{"$f":"VLOOKUP($B158,'EDGAR-2019'!$A$3:$AY$215,L$10,FALSE)","v":8.2766121098000003},{"$f":"VLOOKUP($B158,'EDGAR-2019'!$A$3:$AY$215,M$10,FALSE)","v":8.4659567292000002},2.2877068163651648E-2,1.7271645583213924E-2,{"$f":"VLOOKUP($B158,'UN-P'!$C$18:$CK$333,6,FALSE)/1000","v":7.0446360000000006}]
[null,{"$f":"'EDGAR-2019'!A148","v":"Peru"},{"$f":"VLOOKUP($B159,'EDGAR-2019'!$A$3:$AY$215,C$10,FALSE)","v":20.87490674919},{"$f":"VLOOKUP($B159,'EDGAR-2019'!$A$3:$AY$215,D$10,FALSE)","v":45.27859391474},{"$f":"VLOOKUP($B159,'EDGAR-2019'!$A$3:$AY$215,E$10,FALSE)","v":48.39076850859},{"$f":"VLOOKUP($B159,'EDGAR-2019'!$A$3:$AY$215,F$10,FALSE)","v":48.945494859539998},{"$f":"VLOOKUP($B159,'EDGAR-2019'!$A$3:$AY$215,G$10,FALSE)","v":49.80971356917},{"$f":"VLOOKUP($B159,'EDGAR-2019'!$A$3:$AY$215,H$10,FALSE)","v":53.053413218919999},{"$f":"VLOOKUP($B159,'EDGAR-2019'!$A$3:$AY$215,I$10,FALSE)","v":54.122075843369998},{"$f":"VLOOKUP($B159,'EDGAR-2019'!$A$3:$AY$215,J$10,FALSE)","v":56.299503704430002},{"$f":"VLOOKUP($B159,'EDGAR-2019'!$A$3:$AY$215,K$10,FALSE)","v":53.987001651070003},{"$f":"VLOOKUP($B159,'EDGAR-2019'!$A$3:$AY$215,L$10,FALSE)","v":55.810479848130001},{"$f":"VLOOKUP($B159,'EDGAR-2019'!$A$3:$AY$215,M$10,FALSE)","v":56.286057785129998},8.5213017034457827E-3,2.1148773374673357E-2,{"$f":"VLOOKUP($B159,'UN-P'!$C$18:$CK$333,6,FALSE)/1000","v":32.510452999999998}]
[null,{"$f":"'EDGAR-2019'!A149","v":"Philippines"},{"$f":"VLOOKUP($B160,'EDGAR-2019'!$A$3:$AY$215,C$10,FALSE)","v":43.924422027650003},{"$f":"VLOOKUP($B160,'EDGAR-2019'!$A$3:$AY$215,D$10,FALSE)","v":87.356687749829902},{"$f":"VLOOKUP($B160,'EDGAR-2019'!$A$3:$AY$215,E$10,FALSE)","v":87.172341625399994},{"$f":"VLOOKUP($B160,'EDGAR-2019'!$A$3:$AY$215,F$10,FALSE)","v":92.379369814479901},{"$f":"VLOOKUP($B160,'EDGAR-2019'!$A$3:$AY$215,G$10,FALSE)","v":100.75033190254},{"$f":"VLOOKUP($B160,'EDGAR-2019'!$A$3:$AY$215,H$10,FALSE)","v":107.64134283297599},{"$f":"VLOOKUP($B160,'EDGAR-2019'!$A$3:$AY$215,I$10,FALSE)","v":116.50789197883},{"$f":"VLOOKUP($B160,'EDGAR-2019'!$A$3:$AY$215,J$10,FALSE)","v":127.7863105392},{"$f":"VLOOKUP($B160,'EDGAR-2019'!$A$3:$AY$215,K$10,FALSE)","v":139.95624205346999},{"$f":"VLOOKUP($B160,'EDGAR-2019'!$A$3:$AY$215,L$10,FALSE)","v":144.64169664226},{"$f":"VLOOKUP($B160,'EDGAR-2019'!$A$3:$AY$215,M$10,FALSE)","v":150.64008621766001},4.1470680409921634E-2,3.7474338480578795E-2,{"$f":"VLOOKUP($B160,'UN-P'!$C$18:$CK$333,6,FALSE)/1000","v":108.11661500000001}]
[null,{"$f":"'EDGAR-2019'!A150","v":"Poland"},{"$f":"VLOOKUP($B161,'EDGAR-2019'!$A$3:$AY$215,C$10,FALSE)","v":371.38121895376003},{"$f":"VLOOKUP($B161,'EDGAR-2019'!$A$3:$AY$215,D$10,FALSE)","v":327.84497559648997},{"$f":"VLOOKUP($B161,'EDGAR-2019'!$A$3:$AY$215,E$10,FALSE)","v":325.45487766476998},{"$f":"VLOOKUP($B161,'EDGAR-2019'!$A$3:$AY$215,F$10,FALSE)","v":317.61786419107},{"$f":"VLOOKUP($B161,'EDGAR-2019'!$A$3:$AY$215,G$10,FALSE)","v":313.19719521017998},{"$f":"VLOOKUP($B161,'EDGAR-2019'!$A$3:$AY$215,H$10,FALSE)","v":301.18615495317999},{"$f":"VLOOKUP($B161,'EDGAR-2019'!$A$3:$AY$215,I$10,FALSE)","v":304.20102184829},{"$f":"VLOOKUP($B161,'EDGAR-2019'!$A$3:$AY$215,J$10,FALSE)","v":314.86169285323001},{"$f":"VLOOKUP($B161,'EDGAR-2019'!$A$3:$AY$215,K$10,FALSE)","v":327.86390171127999},{"$f":"VLOOKUP($B161,'EDGAR-2019'!$A$3:$AY$215,L$10,FALSE)","v":332.43578602730003},{"$f":"VLOOKUP($B161,'EDGAR-2019'!$A$3:$AY$215,M$10,FALSE)","v":317.65424474009001},-4.4464350435473698E-2,-1.525994635668021E-2,{"$f":"VLOOKUP($B161,'UN-P'!$C$18:$CK$333,6,FALSE)/1000","v":37.887767999999994}]
[null,{"$f":"'EDGAR-2019'!A151","v":"Portugal"},{"$f":"VLOOKUP($B162,'EDGAR-2019'!$A$3:$AY$215,C$10,FALSE)","v":43.691519123170004},{"$f":"VLOOKUP($B162,'EDGAR-2019'!$A$3:$AY$215,D$10,FALSE)","v":53.512386848796403},{"$f":"VLOOKUP($B162,'EDGAR-2019'!$A$3:$AY$215,E$10,FALSE)","v":51.833203269050102},{"$f":"VLOOKUP($B162,'EDGAR-2019'!$A$3:$AY$215,F$10,FALSE)","v":50.166094673076998},{"$f":"VLOOKUP($B162,'EDGAR-2019'!$A$3:$AY$215,G$10,FALSE)","v":48.6802244822224},{"$f":"VLOOKUP($B162,'EDGAR-2019'!$A$3:$AY$215,H$10,FALSE)","v":48.234422628767497},{"$f":"VLOOKUP($B162,'EDGAR-2019'!$A$3:$AY$215,I$10,FALSE)","v":52.355245943615998},{"$f":"VLOOKUP($B162,'EDGAR-2019'!$A$3:$AY$215,J$10,FALSE)","v":50.962254305842002},{"$f":"VLOOKUP($B162,'EDGAR-2019'!$A$3:$AY$215,K$10,FALSE)","v":55.658798514936997},{"$f":"VLOOKUP($B162,'EDGAR-2019'!$A$3:$AY$215,L$10,FALSE)","v":51.4932566912846},{"$f":"VLOOKUP($B162,'EDGAR-2019'!$A$3:$AY$215,M$10,FALSE)","v":48.472048978039602},-5.8671909826133573E-2,-6.6756290374804295E-2,{"$f":"VLOOKUP($B162,'UN-P'!$C$18:$CK$333,6,FALSE)/1000","v":10.226186999999999}]
[null,{"$f":"'EDGAR-2019'!A152","v":"Puerto Rico"},{"$f":"VLOOKUP($B163,'EDGAR-2019'!$A$3:$AY$215,C$10,FALSE)","v":2.0639174478700002},{"$f":"VLOOKUP($B163,'EDGAR-2019'!$A$3:$AY$215,D$10,FALSE)","v":2.3191409673800001},{"$f":"VLOOKUP($B163,'EDGAR-2019'!$A$3:$AY$215,E$10,FALSE)","v":2.4169048544899998},{"$f":"VLOOKUP($B163,'EDGAR-2019'!$A$3:$AY$215,F$10,FALSE)","v":2.5719479874900002},{"$f":"VLOOKUP($B163,'EDGAR-2019'!$A$3:$AY$215,G$10,FALSE)","v":2.6808032506399999},{"$f":"VLOOKUP($B163,'EDGAR-2019'!$A$3:$AY$215,H$10,FALSE)","v":2.7560707951799999},{"$f":"VLOOKUP($B163,'EDGAR-2019'!$A$3:$AY$215,I$10,FALSE)","v":2.82798885357},{"$f":"VLOOKUP($B163,'EDGAR-2019'!$A$3:$AY$215,J$10,FALSE)","v":3.0338650616799998},{"$f":"VLOOKUP($B163,'EDGAR-2019'!$A$3:$AY$215,K$10,FALSE)","v":2.9499254922999998},{"$f":"VLOOKUP($B163,'EDGAR-2019'!$A$3:$AY$215,L$10,FALSE)","v":3.5545424387},{"$f":"VLOOKUP($B163,'EDGAR-2019'!$A$3:$AY$215,M$10,FALSE)","v":3.9099040015600002},9.9973926036445393E-2,0.15246699988325418,{"$f":"VLOOKUP($B163,'UN-P'!$C$18:$CK$333,6,FALSE)/1000","v":2.933408}]
[null,{"$f":"'EDGAR-2019'!A153","v":"Qatar"},{"$f":"VLOOKUP($B164,'EDGAR-2019'!$A$3:$AY$215,C$10,FALSE)","v":17.00656696307},{"$f":"VLOOKUP($B164,'EDGAR-2019'!$A$3:$AY$215,D$10,FALSE)","v":69.823557137479995},{"$f":"VLOOKUP($B164,'EDGAR-2019'!$A$3:$AY$215,E$10,FALSE)","v":76.612709571430003},{"$f":"VLOOKUP($B164,'EDGAR-2019'!$A$3:$AY$215,F$10,FALSE)","v":81.951758067330005},{"$f":"VLOOKUP($B164,'EDGAR-2019'!$A$3:$AY$215,G$10,FALSE)","v":90.232866423489995},{"$f":"VLOOKUP($B164,'EDGAR-2019'!$A$3:$AY$215,H$10,FALSE)","v":95.876801368970007},{"$f":"VLOOKUP($B164,'EDGAR-2019'!$A$3:$AY$215,I$10,FALSE)","v":97.264851070229994},{"$f":"VLOOKUP($B164,'EDGAR-2019'!$A$3:$AY$215,J$10,FALSE)","v":99.123862062379999},{"$f":"VLOOKUP($B164,'EDGAR-2019'!$A$3:$AY$215,K$10,FALSE)","v":100.96717421546001},{"$f":"VLOOKUP($B164,'EDGAR-2019'!$A$3:$AY$215,L$10,FALSE)","v":104.54021335199},{"$f":"VLOOKUP($B164,'EDGAR-2019'!$A$3:$AY$215,M$10,FALSE)","v":106.52761024189},1.9010836367899575E-2,2.7199481449032725E-2,{"$f":"VLOOKUP($B164,'UN-P'!$C$18:$CK$333,6,FALSE)/1000","v":2.8320669999999999}]
[null,{"$f":"'EDGAR-2019'!A154","v":"Réunion"},{"$f":"VLOOKUP($B165,'EDGAR-2019'!$A$3:$AY$215,C$10,FALSE)","v":1.0103954565258},{"$f":"VLOOKUP($B165,'EDGAR-2019'!$A$3:$AY$215,D$10,FALSE)","v":2.9607659497999999},{"$f":"VLOOKUP($B165,'EDGAR-2019'!$A$3:$AY$215,E$10,FALSE)","v":3.4398343911000002},{"$f":"VLOOKUP($B165,'EDGAR-2019'!$A$3:$AY$215,F$10,FALSE)","v":3.6221572792000001},{"$f":"VLOOKUP($B165,'EDGAR-2019'!$A$3:$AY$215,G$10,FALSE)","v":2.471800939},{"$f":"VLOOKUP($B165,'EDGAR-2019'!$A$3:$AY$215,H$10,FALSE)","v":2.5384020404999998},{"$f":"VLOOKUP($B165,'EDGAR-2019'!$A$3:$AY$215,I$10,FALSE)","v":2.6759477971000001},{"$f":"VLOOKUP($B165,'EDGAR-2019'!$A$3:$AY$215,J$10,FALSE)","v":2.7534007164999998},{"$f":"VLOOKUP($B165,'EDGAR-2019'!$A$3:$AY$215,K$10,FALSE)","v":2.8471000017999999},{"$f":"VLOOKUP($B165,'EDGAR-2019'!$A$3:$AY$215,L$10,FALSE)","v":2.9363787924000002},{"$f":"VLOOKUP($B165,'EDGAR-2019'!$A$3:$AY$215,M$10,FALSE)","v":3.0219003858},2.9124850520426238E-2,3.0241324937701819E-2,{"$f":"VLOOKUP($B165,'UN-P'!$C$18:$CK$333,6,FALSE)/1000","v":0.88892700000000002}]
[null,{"$f":"'EDGAR-2019'!A155","v":"Romania"},{"$f":"VLOOKUP($B166,'EDGAR-2019'!$A$3:$AY$215,C$10,FALSE)","v":187.29101531371001},{"$f":"VLOOKUP($B166,'EDGAR-2019'!$A$3:$AY$215,D$10,FALSE)","v":82.690719700260104},{"$f":"VLOOKUP($B166,'EDGAR-2019'!$A$3:$AY$215,E$10,FALSE)","v":89.05440186189},{"$f":"VLOOKUP($B166,'EDGAR-2019'!$A$3:$AY$215,F$10,FALSE)","v":86.825401065310004},{"$f":"VLOOKUP($B166,'EDGAR-2019'!$A$3:$AY$215,G$10,FALSE)","v":78.813943670910007},{"$f":"VLOOKUP($B166,'EDGAR-2019'!$A$3:$AY$215,H$10,FALSE)","v":78.569321925739999},{"$f":"VLOOKUP($B166,'EDGAR-2019'!$A$3:$AY$215,I$10,FALSE)","v":79.470299672359999},{"$f":"VLOOKUP($B166,'EDGAR-2019'!$A$3:$AY$215,J$10,FALSE)","v":77.696456677460006},{"$f":"VLOOKUP($B166,'EDGAR-2019'!$A$3:$AY$215,K$10,FALSE)","v":81.024751189140005},{"$f":"VLOOKUP($B166,'EDGAR-2019'!$A$3:$AY$215,L$10,FALSE)","v":80.495279305929998},{"$f":"VLOOKUP($B166,'EDGAR-2019'!$A$3:$AY$215,M$10,FALSE)","v":78.631286386100001},-2.3156549500818691E-2,-1.484562130463718E-2,{"$f":"VLOOKUP($B166,'UN-P'!$C$18:$CK$333,6,FALSE)/1000","v":19.364557000000001}]
[null,{"$f":"'EDGAR-2019'!A156","v":"Russia"},{"$f":"VLOOKUP($B167,'EDGAR-2019'!$A$3:$AY$215,C$10,FALSE)","v":2393.6579422680002},{"$f":"VLOOKUP($B167,'EDGAR-2019'!$A$3:$AY$215,D$10,FALSE)","v":1731.6327698985999},{"$f":"VLOOKUP($B167,'EDGAR-2019'!$A$3:$AY$215,E$10,FALSE)","v":1818.2196277789999},{"$f":"VLOOKUP($B167,'EDGAR-2019'!$A$3:$AY$215,F$10,FALSE)","v":1799.715691375},{"$f":"VLOOKUP($B167,'EDGAR-2019'!$A$3:$AY$215,G$10,FALSE)","v":1745.095579825},{"$f":"VLOOKUP($B167,'EDGAR-2019'!$A$3:$AY$215,H$10,FALSE)","v":1727.0808198679999},{"$f":"VLOOKUP($B167,'EDGAR-2019'!$A$3:$AY$215,I$10,FALSE)","v":1730.5004849326001},{"$f":"VLOOKUP($B167,'EDGAR-2019'!$A$3:$AY$215,J$10,FALSE)","v":1710.8608403594999},{"$f":"VLOOKUP($B167,'EDGAR-2019'!$A$3:$AY$215,K$10,FALSE)","v":1738.0174669019},{"$f":"VLOOKUP($B167,'EDGAR-2019'!$A$3:$AY$215,L$10,FALSE)","v":1805.7693674816001},{"$f":"VLOOKUP($B167,'EDGAR-2019'!$A$3:$AY$215,M$10,FALSE)","v":1792.0152530053999},-7.6167614335944656E-3,1.5682764185351306E-2,{"$f":"VLOOKUP($B167,'UN-P'!$C$18:$CK$333,6,FALSE)/1000","v":145.87225599999999}]
[null,{"$f":"'EDGAR-2019'!A157","v":"Rwanda"},{"$f":"VLOOKUP($B168,'EDGAR-2019'!$A$3:$AY$215,C$10,FALSE)","v":0.52506360956989995},{"$f":"VLOOKUP($B168,'EDGAR-2019'!$A$3:$AY$215,D$10,FALSE)","v":0.79176115544000003},{"$f":"VLOOKUP($B168,'EDGAR-2019'!$A$3:$AY$215,E$10,FALSE)","v":0.91758036052000003},{"$f":"VLOOKUP($B168,'EDGAR-2019'!$A$3:$AY$215,F$10,FALSE)","v":0.95912733752000001},{"$f":"VLOOKUP($B168,'EDGAR-2019'!$A$3:$AY$215,G$10,FALSE)","v":0.87130147867999996},{"$f":"VLOOKUP($B168,'EDGAR-2019'!$A$3:$AY$215,H$10,FALSE)","v":0.92269497158000002},{"$f":"VLOOKUP($B168,'EDGAR-2019'!$A$3:$AY$215,I$10,FALSE)","v":0.95402027905999998},{"$f":"VLOOKUP($B168,'EDGAR-2019'!$A$3:$AY$215,J$10,FALSE)","v":1.05282056026},{"$f":"VLOOKUP($B168,'EDGAR-2019'!$A$3:$AY$215,K$10,FALSE)","v":1.0892283247600001},{"$f":"VLOOKUP($B168,'EDGAR-2019'!$A$3:$AY$215,L$10,FALSE)","v":1.1201597732599999},{"$f":"VLOOKUP($B168,'EDGAR-2019'!$A$3:$AY$215,M$10,FALSE)","v":1.1532252626599999},2.9518547433434073E-2,2.8958063721014504E-2,{"$f":"VLOOKUP($B168,'UN-P'!$C$18:$CK$333,6,FALSE)/1000","v":12.626950000000001}]
[null,{"$f":"'EDGAR-2019'!A158","v":"Saint Helena, Ascension and Tristan da Cunha"},{"$f":"VLOOKUP($B169,'EDGAR-2019'!$A$3:$AY$215,C$10,FALSE)","v":9.5306309595959999E-3},{"$f":"VLOOKUP($B169,'EDGAR-2019'!$A$3:$AY$215,D$10,FALSE)","v":1.148511257501E-2},{"$f":"VLOOKUP($B169,'EDGAR-2019'!$A$3:$AY$215,E$10,FALSE)","v":1.20041754072E-2},{"$f":"VLOOKUP($B169,'EDGAR-2019'!$A$3:$AY$215,F$10,FALSE)","v":1.2185070284E-2},{"$f":"VLOOKUP($B169,'EDGAR-2019'!$A$3:$AY$215,G$10,FALSE)","v":1.4867964474880001E-2},{"$f":"VLOOKUP($B169,'EDGAR-2019'!$A$3:$AY$215,H$10,FALSE)","v":1.484262215802E-2},{"$f":"VLOOKUP($B169,'EDGAR-2019'!$A$3:$AY$215,I$10,FALSE)","v":1.495993333888E-2},{"$f":"VLOOKUP($B169,'EDGAR-2019'!$A$3:$AY$215,J$10,FALSE)","v":1.5402587611659999E-2},{"$f":"VLOOKUP($B169,'EDGAR-2019'!$A$3:$AY$215,K$10,FALSE)","v":1.5928330908970001E-2},{"$f":"VLOOKUP($B169,'EDGAR-2019'!$A$3:$AY$215,L$10,FALSE)","v":1.6007795959840001E-2},{"$f":"VLOOKUP($B169,'EDGAR-2019'!$A$3:$AY$215,M$10,FALSE)","v":1.5843749380119999E-2},-1.0247917960196307E-2,-2.6295026769192487E-3,{"$f":"VLOOKUP($B169,'UN-P'!$C$18:$CK$333,6,FALSE)/1000","v":6.0590000000000001E-3}]
[null,{"$f":"'EDGAR-2019'!A159","v":"Saint Kitts and Nevis"},{"$f":"VLOOKUP($B170,'EDGAR-2019'!$A$3:$AY$215,C$10,FALSE)","v":3.4472086987720002E-2},{"$f":"VLOOKUP($B170,'EDGAR-2019'!$A$3:$AY$215,D$10,FALSE)","v":0.14284080085038001},{"$f":"VLOOKUP($B170,'EDGAR-2019'!$A$3:$AY$215,E$10,FALSE)","v":0.1411292919545},{"$f":"VLOOKUP($B170,'EDGAR-2019'!$A$3:$AY$215,F$10,FALSE)","v":0.24610839824200001},{"$f":"VLOOKUP($B170,'EDGAR-2019'!$A$3:$AY$215,G$10,FALSE)","v":0.25430876936150998},{"$f":"VLOOKUP($B170,'EDGAR-2019'!$A$3:$AY$215,H$10,FALSE)","v":0.23270117504160001},{"$f":"VLOOKUP($B170,'EDGAR-2019'!$A$3:$AY$215,I$10,FALSE)","v":0.23732144249949999},{"$f":"VLOOKUP($B170,'EDGAR-2019'!$A$3:$AY$215,J$10,FALSE)","v":0.24029255678333},{"$f":"VLOOKUP($B170,'EDGAR-2019'!$A$3:$AY$215,K$10,FALSE)","v":0.19318574800522001},{"$f":"VLOOKUP($B170,'EDGAR-2019'!$A$3:$AY$215,L$10,FALSE)","v":0.19892571030819001},{"$f":"VLOOKUP($B170,'EDGAR-2019'!$A$3:$AY$215,M$10,FALSE)","v":0.19379305715539},-2.5801859120412995E-2,1.9551412479126284E-3,{"$f":"VLOOKUP($B170,'UN-P'!$C$18:$CK$333,6,FALSE)/1000","v":5.2823000000000002E-2}]
[null,{"$f":"'EDGAR-2019'!A160","v":"Saint Lucia"},{"$f":"VLOOKUP($B171,'EDGAR-2019'!$A$3:$AY$215,C$10,FALSE)","v":7.5927158103289996E-2},{"$f":"VLOOKUP($B171,'EDGAR-2019'!$A$3:$AY$215,D$10,FALSE)","v":0.21435325182557},{"$f":"VLOOKUP($B171,'EDGAR-2019'!$A$3:$AY$215,E$10,FALSE)","v":0.21241417271179999},{"$f":"VLOOKUP($B171,'EDGAR-2019'!$A$3:$AY$215,F$10,FALSE)","v":0.36993588140299999},{"$f":"VLOOKUP($B171,'EDGAR-2019'!$A$3:$AY$215,G$10,FALSE)","v":0.38219123869729998},{"$f":"VLOOKUP($B171,'EDGAR-2019'!$A$3:$AY$215,H$10,FALSE)","v":0.35225535304935002},{"$f":"VLOOKUP($B171,'EDGAR-2019'!$A$3:$AY$215,I$10,FALSE)","v":0.36351857048876002},{"$f":"VLOOKUP($B171,'EDGAR-2019'!$A$3:$AY$215,J$10,FALSE)","v":0.3680592630974},{"$f":"VLOOKUP($B171,'EDGAR-2019'!$A$3:$AY$215,K$10,FALSE)","v":0.29614255426340003},{"$f":"VLOOKUP($B171,'EDGAR-2019'!$A$3:$AY$215,L$10,FALSE)","v":0.30491084957679998},{"$f":"VLOOKUP($B171,'EDGAR-2019'!$A$3:$AY$215,M$10,FALSE)","v":0.29707875245524001},-2.568651503359265E-2,1.9609224079860099E-3,{"$f":"VLOOKUP($B171,'UN-P'!$C$18:$CK$333,6,FALSE)/1000","v":0.18278999999999998}]
[null,{"$f":"'EDGAR-2019'!A161","v":"Saint Pierre and Miquelon"},{"$f":"VLOOKUP($B172,'EDGAR-2019'!$A$3:$AY$215,C$10,FALSE)","v":0.14783457309659001},{"$f":"VLOOKUP($B172,'EDGAR-2019'!$A$3:$AY$215,D$10,FALSE)","v":3.5450571885595E-2},{"$f":"VLOOKUP($B172,'EDGAR-2019'!$A$3:$AY$215,E$10,FALSE)","v":3.510602944262E-2},{"$f":"VLOOKUP($B172,'EDGAR-2019'!$A$3:$AY$215,F$10,FALSE)","v":6.1350786690490003E-2},{"$f":"VLOOKUP($B172,'EDGAR-2019'!$A$3:$AY$215,G$10,FALSE)","v":6.3389298277879993E-2},{"$f":"VLOOKUP($B172,'EDGAR-2019'!$A$3:$AY$215,H$10,FALSE)","v":7.6442154326859996E-2},{"$f":"VLOOKUP($B172,'EDGAR-2019'!$A$3:$AY$215,I$10,FALSE)","v":7.5218047091019993E-2},{"$f":"VLOOKUP($B172,'EDGAR-2019'!$A$3:$AY$215,J$10,FALSE)","v":7.6162736144699997E-2},{"$f":"VLOOKUP($B172,'EDGAR-2019'!$A$3:$AY$215,K$10,FALSE)","v":6.1219760039649997E-2},{"$f":"VLOOKUP($B172,'EDGAR-2019'!$A$3:$AY$215,L$10,FALSE)","v":6.3198804878079995E-2},{"$f":"VLOOKUP($B172,'EDGAR-2019'!$A$3:$AY$215,M$10,FALSE)","v":6.1968807282450002E-2},-1.9462355308820234E-2,6.4322705292174653E-3,{"$f":"VLOOKUP($B172,'UN-P'!$C$18:$CK$333,6,FALSE)/1000","v":5.8219999999999999E-3}]
[null,{"$f":"'EDGAR-2019'!A162","v":"Saint Vincent and the Grenadines"},{"$f":"VLOOKUP($B173,'EDGAR-2019'!$A$3:$AY$215,C$10,FALSE)","v":3.8126355176640002E-2},{"$f":"VLOOKUP($B173,'EDGAR-2019'!$A$3:$AY$215,D$10,FALSE)","v":0.10805557330779},{"$f":"VLOOKUP($B173,'EDGAR-2019'!$A$3:$AY$215,E$10,FALSE)","v":0.1066890441459},{"$f":"VLOOKUP($B173,'EDGAR-2019'!$A$3:$AY$215,F$10,FALSE)","v":0.18542376139149999},{"$f":"VLOOKUP($B173,'EDGAR-2019'!$A$3:$AY$215,G$10,FALSE)","v":0.19158567109364},{"$f":"VLOOKUP($B173,'EDGAR-2019'!$A$3:$AY$215,H$10,FALSE)","v":0.17347131105283001},{"$f":"VLOOKUP($B173,'EDGAR-2019'!$A$3:$AY$215,I$10,FALSE)","v":0.17867980285134999},{"$f":"VLOOKUP($B173,'EDGAR-2019'!$A$3:$AY$215,J$10,FALSE)","v":0.18090635454406001},{"$f":"VLOOKUP($B173,'EDGAR-2019'!$A$3:$AY$215,K$10,FALSE)","v":0.14558083907330999},{"$f":"VLOOKUP($B173,'EDGAR-2019'!$A$3:$AY$215,L$10,FALSE)","v":0.14988372548692},{"$f":"VLOOKUP($B173,'EDGAR-2019'!$A$3:$AY$215,M$10,FALSE)","v":0.14603342874403},-2.5688557782919563E-2,1.9340615858993715E-3,{"$f":"VLOOKUP($B173,'UN-P'!$C$18:$CK$333,6,FALSE)/1000","v":0.11058899999999999}]
[null,{"$f":"'EDGAR-2019'!A163","v":"Samoa"},{"$f":"VLOOKUP($B174,'EDGAR-2019'!$A$3:$AY$215,C$10,FALSE)","v":0.129237211706},{"$f":"VLOOKUP($B174,'EDGAR-2019'!$A$3:$AY$215,D$10,FALSE)","v":0.118432601529341},{"$f":"VLOOKUP($B174,'EDGAR-2019'!$A$3:$AY$215,E$10,FALSE)","v":0.14927650511193},{"$f":"VLOOKUP($B174,'EDGAR-2019'!$A$3:$AY$215,F$10,FALSE)","v":0.213170732852449},{"$f":"VLOOKUP($B174,'EDGAR-2019'!$A$3:$AY$215,G$10,FALSE)","v":0.189866285118103},{"$f":"VLOOKUP($B174,'EDGAR-2019'!$A$3:$AY$215,H$10,FALSE)","v":0.132073932277365},{"$f":"VLOOKUP($B174,'EDGAR-2019'!$A$3:$AY$215,I$10,FALSE)","v":0.125070171778667},{"$f":"VLOOKUP($B174,'EDGAR-2019'!$A$3:$AY$215,J$10,FALSE)","v":0.11979782066853099},{"$f":"VLOOKUP($B174,'EDGAR-2019'!$A$3:$AY$215,K$10,FALSE)","v":0.12517975868487499},{"$f":"VLOOKUP($B174,'EDGAR-2019'!$A$3:$AY$215,L$10,FALSE)","v":0.13067864316069799},{"$f":"VLOOKUP($B174,'EDGAR-2019'!$A$3:$AY$215,M$10,FALSE)","v":0.139136822910847},6.4725034983320384E-2,5.4326469705635039E-2,{"$f":"VLOOKUP($B174,'UN-P'!$C$18:$CK$333,6,FALSE)/1000","v":0.19709700000000002}]
[null,{"$f":"'EDGAR-2019'!A164","v":"São Tomé and Príncipe"},{"$f":"VLOOKUP($B175,'EDGAR-2019'!$A$3:$AY$215,C$10,FALSE)","v":4.667954966922E-2},{"$f":"VLOOKUP($B175,'EDGAR-2019'!$A$3:$AY$215,D$10,FALSE)","v":0.1330203492},{"$f":"VLOOKUP($B175,'EDGAR-2019'!$A$3:$AY$215,E$10,FALSE)","v":0.15628396533},{"$f":"VLOOKUP($B175,'EDGAR-2019'!$A$3:$AY$215,F$10,FALSE)","v":0.16312658772999999},{"$f":"VLOOKUP($B175,'EDGAR-2019'!$A$3:$AY$215,G$10,FALSE)","v":0.13384761663},{"$f":"VLOOKUP($B175,'EDGAR-2019'!$A$3:$AY$215,H$10,FALSE)","v":0.14121346958},{"$f":"VLOOKUP($B175,'EDGAR-2019'!$A$3:$AY$215,I$10,FALSE)","v":0.1441706308},{"$f":"VLOOKUP($B175,'EDGAR-2019'!$A$3:$AY$215,J$10,FALSE)","v":0.1484366315},{"$f":"VLOOKUP($B175,'EDGAR-2019'!$A$3:$AY$215,K$10,FALSE)","v":0.15346499163999999},{"$f":"VLOOKUP($B175,'EDGAR-2019'!$A$3:$AY$215,L$10,FALSE)","v":0.15536192583},{"$f":"VLOOKUP($B175,'EDGAR-2019'!$A$3:$AY$215,M$10,FALSE)","v":0.15904625454999999},2.3714489250290738E-2,1.8037592891314902E-2,{"$f":"VLOOKUP($B175,'UN-P'!$C$18:$CK$333,6,FALSE)/1000","v":0.21505600000000002}]
[null,{"$f":"'EDGAR-2019'!A165","v":"Saudi Arabia"},{"$f":"VLOOKUP($B176,'EDGAR-2019'!$A$3:$AY$215,C$10,FALSE)","v":173.02151818889999},{"$f":"VLOOKUP($B176,'EDGAR-2019'!$A$3:$AY$215,D$10,FALSE)","v":478.16772766000003},{"$f":"VLOOKUP($B176,'EDGAR-2019'!$A$3:$AY$215,E$10,FALSE)","v":499.30404794539999},{"$f":"VLOOKUP($B176,'EDGAR-2019'!$A$3:$AY$215,F$10,FALSE)","v":531.09721906849995},{"$f":"VLOOKUP($B176,'EDGAR-2019'!$A$3:$AY$215,G$10,FALSE)","v":541.26559638269998},{"$f":"VLOOKUP($B176,'EDGAR-2019'!$A$3:$AY$215,H$10,FALSE)","v":577.99091238619997},{"$f":"VLOOKUP($B176,'EDGAR-2019'!$A$3:$AY$215,I$10,FALSE)","v":604.00030086439995},{"$f":"VLOOKUP($B176,'EDGAR-2019'!$A$3:$AY$215,J$10,FALSE)","v":600.93119987110003},{"$f":"VLOOKUP($B176,'EDGAR-2019'!$A$3:$AY$215,K$10,FALSE)","v":608.84779371030004},{"$f":"VLOOKUP($B176,'EDGAR-2019'!$A$3:$AY$215,L$10,FALSE)","v":605.30710320900005},{"$f":"VLOOKUP($B176,'EDGAR-2019'!$A$3:$AY$215,M$10,FALSE)","v":614.60713366799996},1.5364152195961989E-2,4.7743785273590134E-3,{"$f":"VLOOKUP($B176,'UN-P'!$C$18:$CK$333,6,FALSE)/1000","v":34.268527999999996}]
[null,{"$f":"'EDGAR-2019'!A166","v":"Senegal"},{"$f":"VLOOKUP($B177,'EDGAR-2019'!$A$3:$AY$215,C$10,FALSE)","v":2.4011014250230001},{"$f":"VLOOKUP($B177,'EDGAR-2019'!$A$3:$AY$215,D$10,FALSE)","v":7.0503093152040002},{"$f":"VLOOKUP($B177,'EDGAR-2019'!$A$3:$AY$215,E$10,FALSE)","v":7.550924947815},{"$f":"VLOOKUP($B177,'EDGAR-2019'!$A$3:$AY$215,F$10,FALSE)","v":7.4285789828800004},{"$f":"VLOOKUP($B177,'EDGAR-2019'!$A$3:$AY$215,G$10,FALSE)","v":7.8560659768369998},{"$f":"VLOOKUP($B177,'EDGAR-2019'!$A$3:$AY$215,H$10,FALSE)","v":7.9806688166319999},{"$f":"VLOOKUP($B177,'EDGAR-2019'!$A$3:$AY$215,I$10,FALSE)","v":8.3837095033119997},{"$f":"VLOOKUP($B177,'EDGAR-2019'!$A$3:$AY$215,J$10,FALSE)","v":8.9079113743335991},{"$f":"VLOOKUP($B177,'EDGAR-2019'!$A$3:$AY$215,K$10,FALSE)","v":9.2128670736566001},{"$f":"VLOOKUP($B177,'EDGAR-2019'!$A$3:$AY$215,L$10,FALSE)","v":9.5625641436898992},{"$f":"VLOOKUP($B177,'EDGAR-2019'!$A$3:$AY$215,M$10,FALSE)","v":9.8090198736116001},2.5772975346192162E-2,3.1865219659430011E-2,{"$f":"VLOOKUP($B177,'UN-P'!$C$18:$CK$333,6,FALSE)/1000","v":16.296364000000001}]
[null,{"$f":"'EDGAR-2019'!A167","v":"Serbia and Montenegro"},{"$f":"VLOOKUP($B178,'EDGAR-2019'!$A$3:$AY$215,C$10,FALSE)","v":66.412098860079993},{"$f":"VLOOKUP($B178,'EDGAR-2019'!$A$3:$AY$215,D$10,FALSE)","v":59.717398896250003},{"$f":"VLOOKUP($B178,'EDGAR-2019'!$A$3:$AY$215,E$10,FALSE)","v":64.188421277190102},{"$f":"VLOOKUP($B178,'EDGAR-2019'!$A$3:$AY$215,F$10,FALSE)","v":56.942307060609998},{"$f":"VLOOKUP($B178,'EDGAR-2019'!$A$3:$AY$215,G$10,FALSE)","v":57.898436771260101},{"$f":"VLOOKUP($B178,'EDGAR-2019'!$A$3:$AY$215,H$10,FALSE)","v":49.205563839059998},{"$f":"VLOOKUP($B178,'EDGAR-2019'!$A$3:$AY$215,I$10,FALSE)","v":57.15647565786},{"$f":"VLOOKUP($B178,'EDGAR-2019'!$A$3:$AY$215,J$10,FALSE)","v":58.566193114487},{"$f":"VLOOKUP($B178,'EDGAR-2019'!$A$3:$AY$215,K$10,FALSE)","v":58.471643192003},{"$f":"VLOOKUP($B178,'EDGAR-2019'!$A$3:$AY$215,L$10,FALSE)","v":59.269877979302997},{"$f":"VLOOKUP($B178,'EDGAR-2019'!$A$3:$AY$215,M$10,FALSE)","v":70.687659613703005},0.1926405456476068,0.10314610106911914,{"$f":"VLOOKUP($B178,'UN-P'!$C$18:$CK$333,6,FALSE)/1000","v":9.4002219999999994}]
[null,{"$f":"'EDGAR-2019'!A168","v":"Seychelles"},{"$f":"VLOOKUP($B179,'EDGAR-2019'!$A$3:$AY$215,C$10,FALSE)","v":0.28756367039190001},{"$f":"VLOOKUP($B179,'EDGAR-2019'!$A$3:$AY$215,D$10,FALSE)","v":0.92690611518999999},{"$f":"VLOOKUP($B179,'EDGAR-2019'!$A$3:$AY$215,E$10,FALSE)","v":1.0897373707},{"$f":"VLOOKUP($B179,'EDGAR-2019'!$A$3:$AY$215,F$10,FALSE)","v":1.1376211654999999},{"$f":"VLOOKUP($B179,'EDGAR-2019'!$A$3:$AY$215,G$10,FALSE)","v":0.86608743623999995},{"$f":"VLOOKUP($B179,'EDGAR-2019'!$A$3:$AY$215,H$10,FALSE)","v":0.86372587246999999},{"$f":"VLOOKUP($B179,'EDGAR-2019'!$A$3:$AY$215,I$10,FALSE)","v":0.88757583284999997},{"$f":"VLOOKUP($B179,'EDGAR-2019'!$A$3:$AY$215,J$10,FALSE)","v":0.91378327194999998},{"$f":"VLOOKUP($B179,'EDGAR-2019'!$A$3:$AY$215,K$10,FALSE)","v":0.94470726411999995},{"$f":"VLOOKUP($B179,'EDGAR-2019'!$A$3:$AY$215,L$10,FALSE)","v":0.98635770157000002},{"$f":"VLOOKUP($B179,'EDGAR-2019'!$A$3:$AY$215,M$10,FALSE)","v":1.05052601477},6.5055824167908227E-2,5.4572009251343645E-2,{"$f":"VLOOKUP($B179,'UN-P'!$C$18:$CK$333,6,FALSE)/1000","v":9.7739000000000006E-2}]
[null,{"$f":"'EDGAR-2019'!A169","v":"Sierra Leone"},{"$f":"VLOOKUP($B180,'EDGAR-2019'!$A$3:$AY$215,C$10,FALSE)","v":0.74109579485480004},{"$f":"VLOOKUP($B180,'EDGAR-2019'!$A$3:$AY$215,D$10,FALSE)","v":0.73452634559999996},{"$f":"VLOOKUP($B180,'EDGAR-2019'!$A$3:$AY$215,E$10,FALSE)","v":0.8398538149},{"$f":"VLOOKUP($B180,'EDGAR-2019'!$A$3:$AY$215,F$10,FALSE)","v":0.8792537909},{"$f":"VLOOKUP($B180,'EDGAR-2019'!$A$3:$AY$215,G$10,FALSE)","v":1.1345166305400001},{"$f":"VLOOKUP($B180,'EDGAR-2019'!$A$3:$AY$215,H$10,FALSE)","v":1.16049311248},{"$f":"VLOOKUP($B180,'EDGAR-2019'!$A$3:$AY$215,I$10,FALSE)","v":1.2111682049000001},{"$f":"VLOOKUP($B180,'EDGAR-2019'!$A$3:$AY$215,J$10,FALSE)","v":1.2439041882999999},{"$f":"VLOOKUP($B180,'EDGAR-2019'!$A$3:$AY$215,K$10,FALSE)","v":1.2867543742000001},{"$f":"VLOOKUP($B180,'EDGAR-2019'!$A$3:$AY$215,L$10,FALSE)","v":1.3478496310999999},{"$f":"VLOOKUP($B180,'EDGAR-2019'!$A$3:$AY$215,M$10,FALSE)","v":1.4004246654000001},3.9006602136391733E-2,4.3243362934309193E-2,{"$f":"VLOOKUP($B180,'UN-P'!$C$18:$CK$333,6,FALSE)/1000","v":7.8132150000000005}]
[null,{"$f":"'EDGAR-2019'!A170","v":"Singapore"},{"$f":"VLOOKUP($B181,'EDGAR-2019'!$A$3:$AY$215,C$10,FALSE)","v":31.57858593876},{"$f":"VLOOKUP($B181,'EDGAR-2019'!$A$3:$AY$215,D$10,FALSE)","v":50.999827492999998},{"$f":"VLOOKUP($B181,'EDGAR-2019'!$A$3:$AY$215,E$10,FALSE)","v":53.697479344400001},{"$f":"VLOOKUP($B181,'EDGAR-2019'!$A$3:$AY$215,F$10,FALSE)","v":53.125723084199997},{"$f":"VLOOKUP($B181,'EDGAR-2019'!$A$3:$AY$215,G$10,FALSE)","v":53.625743036599999},{"$f":"VLOOKUP($B181,'EDGAR-2019'!$A$3:$AY$215,H$10,FALSE)","v":52.237782350300002},{"$f":"VLOOKUP($B181,'EDGAR-2019'!$A$3:$AY$215,I$10,FALSE)","v":51.338702766700003},{"$f":"VLOOKUP($B181,'EDGAR-2019'!$A$3:$AY$215,J$10,FALSE)","v":51.938342396400003},{"$f":"VLOOKUP($B181,'EDGAR-2019'!$A$3:$AY$215,K$10,FALSE)","v":53.2680131706},{"$f":"VLOOKUP($B181,'EDGAR-2019'!$A$3:$AY$215,L$10,FALSE)","v":52.6695045118},{"$f":"VLOOKUP($B181,'EDGAR-2019'!$A$3:$AY$215,M$10,FALSE)","v":53.365404441800003},1.3212577875003406E-2,9.8838972204595699E-4,{"$f":"VLOOKUP($B181,'UN-P'!$C$18:$CK$333,6,FALSE)/1000","v":5.8043370000000003}]
[null,{"$f":"'EDGAR-2019'!A171","v":"Slovakia"},{"$f":"VLOOKUP($B182,'EDGAR-2019'!$A$3:$AY$215,C$10,FALSE)","v":60.545296078429999},{"$f":"VLOOKUP($B182,'EDGAR-2019'!$A$3:$AY$215,D$10,FALSE)","v":39.928929836019996},{"$f":"VLOOKUP($B182,'EDGAR-2019'!$A$3:$AY$215,E$10,FALSE)","v":37.909474869210001},{"$f":"VLOOKUP($B182,'EDGAR-2019'!$A$3:$AY$215,F$10,FALSE)","v":36.418501504810003},{"$f":"VLOOKUP($B182,'EDGAR-2019'!$A$3:$AY$215,G$10,FALSE)","v":36.543582918680002},{"$f":"VLOOKUP($B182,'EDGAR-2019'!$A$3:$AY$215,H$10,FALSE)","v":34.086252036319998},{"$f":"VLOOKUP($B182,'EDGAR-2019'!$A$3:$AY$215,I$10,FALSE)","v":34.65676125497},{"$f":"VLOOKUP($B182,'EDGAR-2019'!$A$3:$AY$215,J$10,FALSE)","v":35.47981335779},{"$f":"VLOOKUP($B182,'EDGAR-2019'!$A$3:$AY$215,K$10,FALSE)","v":37.931773246879999},{"$f":"VLOOKUP($B182,'EDGAR-2019'!$A$3:$AY$215,L$10,FALSE)","v":38.196474551480001},{"$f":"VLOOKUP($B182,'EDGAR-2019'!$A$3:$AY$215,M$10,FALSE)","v":35.98505669056},-5.7895863083895938E-2,-2.5458755029197255E-2,{"$f":"VLOOKUP($B182,'UN-P'!$C$18:$CK$333,6,FALSE)/1000","v":5.4570129999999999}]
[null,{"$f":"'EDGAR-2019'!A172","v":"Slovenia"},{"$f":"VLOOKUP($B183,'EDGAR-2019'!$A$3:$AY$215,C$10,FALSE)","v":16.624159304026001},{"$f":"VLOOKUP($B183,'EDGAR-2019'!$A$3:$AY$215,D$10,FALSE)","v":17.896975702793998},{"$f":"VLOOKUP($B183,'EDGAR-2019'!$A$3:$AY$215,E$10,FALSE)","v":16.780908702110001},{"$f":"VLOOKUP($B183,'EDGAR-2019'!$A$3:$AY$215,F$10,FALSE)","v":16.292738851022001},{"$f":"VLOOKUP($B183,'EDGAR-2019'!$A$3:$AY$215,G$10,FALSE)","v":16.326125400430001},{"$f":"VLOOKUP($B183,'EDGAR-2019'!$A$3:$AY$215,H$10,FALSE)","v":14.9702643048814},{"$f":"VLOOKUP($B183,'EDGAR-2019'!$A$3:$AY$215,I$10,FALSE)","v":15.109811937931999},{"$f":"VLOOKUP($B183,'EDGAR-2019'!$A$3:$AY$215,J$10,FALSE)","v":15.854349363092},{"$f":"VLOOKUP($B183,'EDGAR-2019'!$A$3:$AY$215,K$10,FALSE)","v":15.80257146584},{"$f":"VLOOKUP($B183,'EDGAR-2019'!$A$3:$AY$215,L$10,FALSE)","v":15.938971169609999},{"$f":"VLOOKUP($B183,'EDGAR-2019'!$A$3:$AY$215,M$10,FALSE)","v":15.365239860016001},-3.5995504571079362E-2,-1.3682008355355602E-2,{"$f":"VLOOKUP($B183,'UN-P'!$C$18:$CK$333,6,FALSE)/1000","v":2.0786539999999998}]
[null,{"$f":"'EDGAR-2019'!A173","v":"Solomon Islands"},{"$f":"VLOOKUP($B184,'EDGAR-2019'!$A$3:$AY$215,C$10,FALSE)","v":0.133332260856},{"$f":"VLOOKUP($B184,'EDGAR-2019'!$A$3:$AY$215,D$10,FALSE)","v":0.18416006461901999},{"$f":"VLOOKUP($B184,'EDGAR-2019'!$A$3:$AY$215,E$10,FALSE)","v":0.23043253156789401},{"$f":"VLOOKUP($B184,'EDGAR-2019'!$A$3:$AY$215,F$10,FALSE)","v":0.32627993491367302},{"$f":"VLOOKUP($B184,'EDGAR-2019'!$A$3:$AY$215,G$10,FALSE)","v":0.196997978938103},{"$f":"VLOOKUP($B184,'EDGAR-2019'!$A$3:$AY$215,H$10,FALSE)","v":0.127557836651981},{"$f":"VLOOKUP($B184,'EDGAR-2019'!$A$3:$AY$215,I$10,FALSE)","v":0.12540353012784899},{"$f":"VLOOKUP($B184,'EDGAR-2019'!$A$3:$AY$215,J$10,FALSE)","v":0.12055610268561499},{"$f":"VLOOKUP($B184,'EDGAR-2019'!$A$3:$AY$215,K$10,FALSE)","v":0.12578498892664799},{"$f":"VLOOKUP($B184,'EDGAR-2019'!$A$3:$AY$215,L$10,FALSE)","v":0.13113132476547301},{"$f":"VLOOKUP($B184,'EDGAR-2019'!$A$3:$AY$215,M$10,FALSE)","v":0.13928082278641701},6.2147606878213857E-2,5.2325686849228115E-2,{"$f":"VLOOKUP($B184,'UN-P'!$C$18:$CK$333,6,FALSE)/1000","v":0.66982299999999995}]
[null,{"$f":"'EDGAR-2019'!A174","v":"Somalia"},{"$f":"VLOOKUP($B185,'EDGAR-2019'!$A$3:$AY$215,C$10,FALSE)","v":0.69480023199780006},{"$f":"VLOOKUP($B185,'EDGAR-2019'!$A$3:$AY$215,D$10,FALSE)","v":0.82785393685999997},{"$f":"VLOOKUP($B185,'EDGAR-2019'!$A$3:$AY$215,E$10,FALSE)","v":0.96743795117999998},{"$f":"VLOOKUP($B185,'EDGAR-2019'!$A$3:$AY$215,F$10,FALSE)","v":1.00860178268},{"$f":"VLOOKUP($B185,'EDGAR-2019'!$A$3:$AY$215,G$10,FALSE)","v":0.83308138588000002},{"$f":"VLOOKUP($B185,'EDGAR-2019'!$A$3:$AY$215,H$10,FALSE)","v":0.83543557654},{"$f":"VLOOKUP($B185,'EDGAR-2019'!$A$3:$AY$215,I$10,FALSE)","v":0.85709727652000001},{"$f":"VLOOKUP($B185,'EDGAR-2019'!$A$3:$AY$215,J$10,FALSE)","v":0.88231959226000001},{"$f":"VLOOKUP($B185,'EDGAR-2019'!$A$3:$AY$215,K$10,FALSE)","v":0.91193614223999997},{"$f":"VLOOKUP($B185,'EDGAR-2019'!$A$3:$AY$215,L$10,FALSE)","v":0.94123612934000001},{"$f":"VLOOKUP($B185,'EDGAR-2019'!$A$3:$AY$215,M$10,FALSE)","v":0.96843410908000005},2.8896021829369678E-2,3.0512725176382038E-2,{"$f":"VLOOKUP($B185,'UN-P'!$C$18:$CK$333,6,FALSE)/1000","v":15.442905000000001}]
[null,{"$f":"'EDGAR-2019'!A175","v":"South Africa"},{"$f":"VLOOKUP($B186,'EDGAR-2019'!$A$3:$AY$215,C$10,FALSE)","v":312.49607296908999},{"$f":"VLOOKUP($B186,'EDGAR-2019'!$A$3:$AY$215,D$10,FALSE)","v":465.00412198695},{"$f":"VLOOKUP($B186,'EDGAR-2019'!$A$3:$AY$215,E$10,FALSE)","v":445.92591718601},{"$f":"VLOOKUP($B186,'EDGAR-2019'!$A$3:$AY$215,F$10,FALSE)","v":461.80770155621002},{"$f":"VLOOKUP($B186,'EDGAR-2019'!$A$3:$AY$215,G$10,FALSE)","v":473.03631172809997},{"$f":"VLOOKUP($B186,'EDGAR-2019'!$A$3:$AY$215,H$10,FALSE)","v":484.58826864372003},{"$f":"VLOOKUP($B186,'EDGAR-2019'!$A$3:$AY$215,I$10,FALSE)","v":477.75477634589998},{"$f":"VLOOKUP($B186,'EDGAR-2019'!$A$3:$AY$215,J$10,FALSE)","v":476.49768739794899},{"$f":"VLOOKUP($B186,'EDGAR-2019'!$A$3:$AY$215,K$10,FALSE)","v":481.71236820729598},{"$f":"VLOOKUP($B186,'EDGAR-2019'!$A$3:$AY$215,L$10,FALSE)","v":487.53764186157798},{"$f":"VLOOKUP($B186,'EDGAR-2019'!$A$3:$AY$215,M$10,FALSE)","v":494.862333736734},1.5023848922081084E-2,1.3558347636722035E-2,{"$f":"VLOOKUP($B186,'UN-P'!$C$18:$CK$333,6,FALSE)/1000","v":58.55827}]
[null,{"$f":"'EDGAR-2019'!A176","v":"South Korea"},{"$f":"VLOOKUP($B187,'EDGAR-2019'!$A$3:$AY$215,C$10,FALSE)","v":270.65001979881998},{"$f":"VLOOKUP($B187,'EDGAR-2019'!$A$3:$AY$215,D$10,FALSE)","v":597.79915572242999},{"$f":"VLOOKUP($B187,'EDGAR-2019'!$A$3:$AY$215,E$10,FALSE)","v":627.90796222852998},{"$f":"VLOOKUP($B187,'EDGAR-2019'!$A$3:$AY$215,F$10,FALSE)","v":630.16396202212002},{"$f":"VLOOKUP($B187,'EDGAR-2019'!$A$3:$AY$215,G$10,FALSE)","v":625.88570494511998},{"$f":"VLOOKUP($B187,'EDGAR-2019'!$A$3:$AY$215,H$10,FALSE)","v":621.79027153439995},{"$f":"VLOOKUP($B187,'EDGAR-2019'!$A$3:$AY$215,I$10,FALSE)","v":639.00625360225001},{"$f":"VLOOKUP($B187,'EDGAR-2019'!$A$3:$AY$215,J$10,FALSE)","v":644.80728102472995},{"$f":"VLOOKUP($B187,'EDGAR-2019'!$A$3:$AY$215,K$10,FALSE)","v":655.00198827126997},{"$f":"VLOOKUP($B187,'EDGAR-2019'!$A$3:$AY$215,L$10,FALSE)","v":673.40014178929005},{"$f":"VLOOKUP($B187,'EDGAR-2019'!$A$3:$AY$215,M$10,FALSE)","v":651.87023676045999},-3.1971934207829178E-2,-1.9416177374509958E-3,{"$f":"VLOOKUP($B187,'UN-P'!$C$18:$CK$333,6,FALSE)/1000","v":51.225307999999998}]
[null,{"$f":"'EDGAR-2019'!A177","v":"Spain and Andorra"},{"$f":"VLOOKUP($B188,'EDGAR-2019'!$A$3:$AY$215,C$10,FALSE)","v":230.3538990923},{"$f":"VLOOKUP($B188,'EDGAR-2019'!$A$3:$AY$215,D$10,FALSE)","v":288.28783426477997},{"$f":"VLOOKUP($B188,'EDGAR-2019'!$A$3:$AY$215,E$10,FALSE)","v":290.33418008319001},{"$f":"VLOOKUP($B188,'EDGAR-2019'!$A$3:$AY$215,F$10,FALSE)","v":285.27065830599997},{"$f":"VLOOKUP($B188,'EDGAR-2019'!$A$3:$AY$215,G$10,FALSE)","v":257.39746063230001},{"$f":"VLOOKUP($B188,'EDGAR-2019'!$A$3:$AY$215,H$10,FALSE)","v":256.10320914946999},{"$f":"VLOOKUP($B188,'EDGAR-2019'!$A$3:$AY$215,I$10,FALSE)","v":271.21450562199999},{"$f":"VLOOKUP($B188,'EDGAR-2019'!$A$3:$AY$215,J$10,FALSE)","v":261.74264117805001},{"$f":"VLOOKUP($B188,'EDGAR-2019'!$A$3:$AY$215,K$10,FALSE)","v":277.92023058590001},{"$f":"VLOOKUP($B188,'EDGAR-2019'!$A$3:$AY$215,L$10,FALSE)","v":271.76345810560002},{"$f":"VLOOKUP($B188,'EDGAR-2019'!$A$3:$AY$215,M$10,FALSE)","v":259.31024086435002},-4.5823737039771606E-2,-3.3988378616542914E-2,{"$f":"VLOOKUP($B188,'UN-P'!$C$18:$CK$333,6,FALSE)/1000","v":46.813918000000001}]
[null,{"$f":"'EDGAR-2019'!A178","v":"Sri Lanka"},{"$f":"VLOOKUP($B189,'EDGAR-2019'!$A$3:$AY$215,C$10,FALSE)","v":4.2484949833170003},{"$f":"VLOOKUP($B189,'EDGAR-2019'!$A$3:$AY$215,D$10,FALSE)","v":13.815638740522999},{"$f":"VLOOKUP($B189,'EDGAR-2019'!$A$3:$AY$215,E$10,FALSE)","v":16.255420092323},{"$f":"VLOOKUP($B189,'EDGAR-2019'!$A$3:$AY$215,F$10,FALSE)","v":17.744556333831},{"$f":"VLOOKUP($B189,'EDGAR-2019'!$A$3:$AY$215,G$10,FALSE)","v":15.348843104686001},{"$f":"VLOOKUP($B189,'EDGAR-2019'!$A$3:$AY$215,H$10,FALSE)","v":18.416896078211},{"$f":"VLOOKUP($B189,'EDGAR-2019'!$A$3:$AY$215,I$10,FALSE)","v":21.528524761553999},{"$f":"VLOOKUP($B189,'EDGAR-2019'!$A$3:$AY$215,J$10,FALSE)","v":23.034418631699999},{"$f":"VLOOKUP($B189,'EDGAR-2019'!$A$3:$AY$215,K$10,FALSE)","v":25.332095508165001},{"$f":"VLOOKUP($B189,'EDGAR-2019'!$A$3:$AY$215,L$10,FALSE)","v":25.438547130947999},{"$f":"VLOOKUP($B189,'EDGAR-2019'!$A$3:$AY$215,M$10,FALSE)","v":27.566285604042001},8.364229537721668E-2,4.3922269223316879E-2,{"$f":"VLOOKUP($B189,'UN-P'!$C$18:$CK$333,6,FALSE)/1000","v":21.323733000000001}]
[null,{"$f":"'EDGAR-2019'!A179","v":"Sudan and South Sudan"},{"$f":"VLOOKUP($B190,'EDGAR-2019'!$A$3:$AY$215,C$10,FALSE)","v":5.5916822375560002},{"$f":"VLOOKUP($B190,'EDGAR-2019'!$A$3:$AY$215,D$10,FALSE)","v":16.72256662433},{"$f":"VLOOKUP($B190,'EDGAR-2019'!$A$3:$AY$215,E$10,FALSE)","v":16.025261665519999},{"$f":"VLOOKUP($B190,'EDGAR-2019'!$A$3:$AY$215,F$10,FALSE)","v":17.33184369456},{"$f":"VLOOKUP($B190,'EDGAR-2019'!$A$3:$AY$215,G$10,FALSE)","v":17.201332057159998},{"$f":"VLOOKUP($B190,'EDGAR-2019'!$A$3:$AY$215,H$10,FALSE)","v":17.422714686479999},{"$f":"VLOOKUP($B190,'EDGAR-2019'!$A$3:$AY$215,I$10,FALSE)","v":19.139153019830001},{"$f":"VLOOKUP($B190,'EDGAR-2019'!$A$3:$AY$215,J$10,FALSE)","v":21.67669382439},{"$f":"VLOOKUP($B190,'EDGAR-2019'!$A$3:$AY$215,K$10,FALSE)","v":21.357074044689998},{"$f":"VLOOKUP($B190,'EDGAR-2019'!$A$3:$AY$215,L$10,FALSE)","v":21.94561682094},{"$f":"VLOOKUP($B190,'EDGAR-2019'!$A$3:$AY$215,M$10,FALSE)","v":22.572475717940002},2.8564195853536756E-2,2.8060735745283893E-2,{"$f":"VLOOKUP($B190,'UN-P'!$C$18:$CK$333,6,FALSE)/1000","v":53.875350999999995}]
[null,{"$f":"'EDGAR-2019'!A180","v":"Suriname"},{"$f":"VLOOKUP($B191,'EDGAR-2019'!$A$3:$AY$215,C$10,FALSE)","v":0.90800134609619998},{"$f":"VLOOKUP($B191,'EDGAR-2019'!$A$3:$AY$215,D$10,FALSE)","v":1.7197905431},{"$f":"VLOOKUP($B191,'EDGAR-2019'!$A$3:$AY$215,E$10,FALSE)","v":1.821764677},{"$f":"VLOOKUP($B191,'EDGAR-2019'!$A$3:$AY$215,F$10,FALSE)","v":2.0544166845},{"$f":"VLOOKUP($B191,'EDGAR-2019'!$A$3:$AY$215,G$10,FALSE)","v":2.0176263764},{"$f":"VLOOKUP($B191,'EDGAR-2019'!$A$3:$AY$215,H$10,FALSE)","v":2.0437204536000002},{"$f":"VLOOKUP($B191,'EDGAR-2019'!$A$3:$AY$215,I$10,FALSE)","v":2.1224883817700002},{"$f":"VLOOKUP($B191,'EDGAR-2019'!$A$3:$AY$215,J$10,FALSE)","v":1.9699769419040001},{"$f":"VLOOKUP($B191,'EDGAR-2019'!$A$3:$AY$215,K$10,FALSE)","v":1.9919988830648001},{"$f":"VLOOKUP($B191,'EDGAR-2019'!$A$3:$AY$215,L$10,FALSE)","v":2.0141349427977602},{"$f":"VLOOKUP($B191,'EDGAR-2019'!$A$3:$AY$215,M$10,FALSE)","v":2.0586111748573002},2.2082051760523802E-2,1.6597268888516648E-2,{"$f":"VLOOKUP($B191,'UN-P'!$C$18:$CK$333,6,FALSE)/1000","v":0.581372}]
[null,{"$f":"'EDGAR-2019'!A181","v":"Sweden"},{"$f":"VLOOKUP($B192,'EDGAR-2019'!$A$3:$AY$215,C$10,FALSE)","v":58.10420549861},{"$f":"VLOOKUP($B192,'EDGAR-2019'!$A$3:$AY$215,D$10,FALSE)","v":53.292023251335102},{"$f":"VLOOKUP($B192,'EDGAR-2019'!$A$3:$AY$215,E$10,FALSE)","v":49.034762233003399},{"$f":"VLOOKUP($B192,'EDGAR-2019'!$A$3:$AY$215,F$10,FALSE)","v":45.903691006562802},{"$f":"VLOOKUP($B192,'EDGAR-2019'!$A$3:$AY$215,G$10,FALSE)","v":44.016649651528297},{"$f":"VLOOKUP($B192,'EDGAR-2019'!$A$3:$AY$215,H$10,FALSE)","v":44.091779938382899},{"$f":"VLOOKUP($B192,'EDGAR-2019'!$A$3:$AY$215,I$10,FALSE)","v":44.193648021677703},{"$f":"VLOOKUP($B192,'EDGAR-2019'!$A$3:$AY$215,J$10,FALSE)","v":44.665494420494298},{"$f":"VLOOKUP($B192,'EDGAR-2019'!$A$3:$AY$215,K$10,FALSE)","v":44.357418970102501},{"$f":"VLOOKUP($B192,'EDGAR-2019'!$A$3:$AY$215,L$10,FALSE)","v":43.577130668854601},{"$f":"VLOOKUP($B192,'EDGAR-2019'!$A$3:$AY$215,M$10,FALSE)","v":44.748769213474503},2.6886546375052944E-2,4.6478076333446028E-3,{"$f":"VLOOKUP($B192,'UN-P'!$C$18:$CK$333,6,FALSE)/1000","v":10.036379}]
[null,{"$f":"'EDGAR-2019'!A182","v":"Switzerland and Liechtenstein"},{"$f":"VLOOKUP($B193,'EDGAR-2019'!$A$3:$AY$215,C$10,FALSE)","v":44.954603074860003},{"$f":"VLOOKUP($B193,'EDGAR-2019'!$A$3:$AY$215,D$10,FALSE)","v":46.464317391510299},{"$f":"VLOOKUP($B193,'EDGAR-2019'!$A$3:$AY$215,E$10,FALSE)","v":42.349774721932},{"$f":"VLOOKUP($B193,'EDGAR-2019'!$A$3:$AY$215,F$10,FALSE)","v":43.654260415248999},{"$f":"VLOOKUP($B193,'EDGAR-2019'!$A$3:$AY$215,G$10,FALSE)","v":44.663997026178997},{"$f":"VLOOKUP($B193,'EDGAR-2019'!$A$3:$AY$215,H$10,FALSE)","v":40.946092951174997},{"$f":"VLOOKUP($B193,'EDGAR-2019'!$A$3:$AY$215,I$10,FALSE)","v":40.24180975406},{"$f":"VLOOKUP($B193,'EDGAR-2019'!$A$3:$AY$215,J$10,FALSE)","v":40.691903023659997},{"$f":"VLOOKUP($B193,'EDGAR-2019'!$A$3:$AY$215,K$10,FALSE)","v":39.778081911756999},{"$f":"VLOOKUP($B193,'EDGAR-2019'!$A$3:$AY$215,L$10,FALSE)","v":38.514804336320999},{"$f":"VLOOKUP($B193,'EDGAR-2019'!$A$3:$AY$215,M$10,FALSE)","v":39.370849255905},2.2226386303531465E-2,-4.7658728403858208E-3,{"$f":"VLOOKUP($B193,'UN-P'!$C$18:$CK$333,6,FALSE)/1000","v":8.6293839999999999}]
[null,{"$f":"'EDGAR-2019'!A183","v":"Syria"},{"$f":"VLOOKUP($B194,'EDGAR-2019'!$A$3:$AY$215,C$10,FALSE)","v":33.008222635019997},{"$f":"VLOOKUP($B194,'EDGAR-2019'!$A$3:$AY$215,D$10,FALSE)","v":62.35993094322},{"$f":"VLOOKUP($B194,'EDGAR-2019'!$A$3:$AY$215,E$10,FALSE)","v":56.374284659579999},{"$f":"VLOOKUP($B194,'EDGAR-2019'!$A$3:$AY$215,F$10,FALSE)","v":44.701651147909999},{"$f":"VLOOKUP($B194,'EDGAR-2019'!$A$3:$AY$215,G$10,FALSE)","v":32.699009740569998},{"$f":"VLOOKUP($B194,'EDGAR-2019'!$A$3:$AY$215,H$10,FALSE)","v":30.210051945063999},{"$f":"VLOOKUP($B194,'EDGAR-2019'!$A$3:$AY$215,I$10,FALSE)","v":29.1199826268439},{"$f":"VLOOKUP($B194,'EDGAR-2019'!$A$3:$AY$215,J$10,FALSE)","v":27.612650004292998},{"$f":"VLOOKUP($B194,'EDGAR-2019'!$A$3:$AY$215,K$10,FALSE)","v":28.9208381027006},{"$f":"VLOOKUP($B194,'EDGAR-2019'!$A$3:$AY$215,L$10,FALSE)","v":28.078285673425398},{"$f":"VLOOKUP($B194,'EDGAR-2019'!$A$3:$AY$215,M$10,FALSE)","v":29.1607130829371},3.8550338225818548E-2,4.7086405378517493E-3,{"$f":"VLOOKUP($B194,'UN-P'!$C$18:$CK$333,6,FALSE)/1000","v":17.070134999999997}]
[null,{"$f":"'EDGAR-2019'!A184","v":"Taiwan"},{"$f":"VLOOKUP($B195,'EDGAR-2019'!$A$3:$AY$215,C$10,FALSE)","v":124.36178205109999},{"$f":"VLOOKUP($B195,'EDGAR-2019'!$A$3:$AY$215,D$10,FALSE)","v":271.61156379609997},{"$f":"VLOOKUP($B195,'EDGAR-2019'!$A$3:$AY$215,E$10,FALSE)","v":271.30499243209999},{"$f":"VLOOKUP($B195,'EDGAR-2019'!$A$3:$AY$215,F$10,FALSE)","v":263.02405737750001},{"$f":"VLOOKUP($B195,'EDGAR-2019'!$A$3:$AY$215,G$10,FALSE)","v":266.34656763940001},{"$f":"VLOOKUP($B195,'EDGAR-2019'!$A$3:$AY$215,H$10,FALSE)","v":267.29368334499998},{"$f":"VLOOKUP($B195,'EDGAR-2019'!$A$3:$AY$215,I$10,FALSE)","v":266.60758833940002},{"$f":"VLOOKUP($B195,'EDGAR-2019'!$A$3:$AY$215,J$10,FALSE)","v":273.63900181079998},{"$f":"VLOOKUP($B195,'EDGAR-2019'!$A$3:$AY$215,K$10,FALSE)","v":285.3280942884},{"$f":"VLOOKUP($B195,'EDGAR-2019'!$A$3:$AY$215,L$10,FALSE)","v":286.61043950200002},{"$f":"VLOOKUP($B195,'EDGAR-2019'!$A$3:$AY$215,M$10,FALSE)","v":276.78484217110002},-3.4282063653970352E-2,-1.4893890309431279E-2,{"$f":"VLOOKUP($B195,'UN-P'!$C$18:$CK$333,6,FALSE)/1000","v":23.773876000000001}]
[null,{"$f":"'EDGAR-2019'!A185","v":"Tajikistan"},{"$f":"VLOOKUP($B196,'EDGAR-2019'!$A$3:$AY$215,C$10,FALSE)","v":12.266591642590001},{"$f":"VLOOKUP($B196,'EDGAR-2019'!$A$3:$AY$215,D$10,FALSE)","v":3.1314961153600001},{"$f":"VLOOKUP($B196,'EDGAR-2019'!$A$3:$AY$215,E$10,FALSE)","v":3.1465018197800001},{"$f":"VLOOKUP($B196,'EDGAR-2019'!$A$3:$AY$215,F$10,FALSE)","v":3.7684676153919998},{"$f":"VLOOKUP($B196,'EDGAR-2019'!$A$3:$AY$215,G$10,FALSE)","v":3.3347222931322},{"$f":"VLOOKUP($B196,'EDGAR-2019'!$A$3:$AY$215,H$10,FALSE)","v":4.891554596792},{"$f":"VLOOKUP($B196,'EDGAR-2019'!$A$3:$AY$215,I$10,FALSE)","v":5.3379091780200003},{"$f":"VLOOKUP($B196,'EDGAR-2019'!$A$3:$AY$215,J$10,FALSE)","v":6.5484705473520002},{"$f":"VLOOKUP($B196,'EDGAR-2019'!$A$3:$AY$215,K$10,FALSE)","v":7.0071571398176999},{"$f":"VLOOKUP($B196,'EDGAR-2019'!$A$3:$AY$215,L$10,FALSE)","v":7.5704920648070004},{"$f":"VLOOKUP($B196,'EDGAR-2019'!$A$3:$AY$215,M$10,FALSE)","v":8.9185233176759304},0.17806388822934416,0.12922905356639158,{"$f":"VLOOKUP($B196,'UN-P'!$C$18:$CK$333,6,FALSE)/1000","v":9.3210180000000005}]
[null,{"$f":"'EDGAR-2019'!A186","v":"Tanzania"},{"$f":"VLOOKUP($B197,'EDGAR-2019'!$A$3:$AY$215,C$10,FALSE)","v":2.1105512973040002},{"$f":"VLOOKUP($B197,'EDGAR-2019'!$A$3:$AY$215,D$10,FALSE)","v":7.1934533900000002},{"$f":"VLOOKUP($B197,'EDGAR-2019'!$A$3:$AY$215,E$10,FALSE)","v":8.8714850999999992},{"$f":"VLOOKUP($B197,'EDGAR-2019'!$A$3:$AY$215,F$10,FALSE)","v":11.042443469824001},{"$f":"VLOOKUP($B197,'EDGAR-2019'!$A$3:$AY$215,G$10,FALSE)","v":11.345542299648001},{"$f":"VLOOKUP($B197,'EDGAR-2019'!$A$3:$AY$215,H$10,FALSE)","v":11.518788899472},{"$f":"VLOOKUP($B197,'EDGAR-2019'!$A$3:$AY$215,I$10,FALSE)","v":12.927042169296},{"$f":"VLOOKUP($B197,'EDGAR-2019'!$A$3:$AY$215,J$10,FALSE)","v":12.089289954442},{"$f":"VLOOKUP($B197,'EDGAR-2019'!$A$3:$AY$215,K$10,FALSE)","v":12.582878520307},{"$f":"VLOOKUP($B197,'EDGAR-2019'!$A$3:$AY$215,L$10,FALSE)","v":13.104516036913999},{"$f":"VLOOKUP($B197,'EDGAR-2019'!$A$3:$AY$215,M$10,FALSE)","v":13.343087734279999},1.8205303934458072E-2,2.9830719704875497E-2,{"$f":"VLOOKUP($B197,'UN-P'!$C$18:$CK$333,6,FALSE)/1000","v":58.005463000000006}]
[null,{"$f":"'EDGAR-2019'!A187","v":"Thailand"},{"$f":"VLOOKUP($B198,'EDGAR-2019'!$A$3:$AY$215,C$10,FALSE)","v":93.133531871559995},{"$f":"VLOOKUP($B198,'EDGAR-2019'!$A$3:$AY$215,D$10,FALSE)","v":246.1255168129},{"$f":"VLOOKUP($B198,'EDGAR-2019'!$A$3:$AY$215,E$10,FALSE)","v":245.13374227849999},{"$f":"VLOOKUP($B198,'EDGAR-2019'!$A$3:$AY$215,F$10,FALSE)","v":263.09929588249997},{"$f":"VLOOKUP($B198,'EDGAR-2019'!$A$3:$AY$215,G$10,FALSE)","v":274.3256748892},{"$f":"VLOOKUP($B198,'EDGAR-2019'!$A$3:$AY$215,H$10,FALSE)","v":270.32724310920003},{"$f":"VLOOKUP($B198,'EDGAR-2019'!$A$3:$AY$215,I$10,FALSE)","v":274.441740944},{"$f":"VLOOKUP($B198,'EDGAR-2019'!$A$3:$AY$215,J$10,FALSE)","v":272.2736950959},{"$f":"VLOOKUP($B198,'EDGAR-2019'!$A$3:$AY$215,K$10,FALSE)","v":273.23709275779999},{"$f":"VLOOKUP($B198,'EDGAR-2019'!$A$3:$AY$215,L$10,FALSE)","v":279.3108637272},{"$f":"VLOOKUP($B198,'EDGAR-2019'!$A$3:$AY$215,M$10,FALSE)","v":275.06465442720003},-1.520244949780114E-2,3.5132453036407219E-3,{"$f":"VLOOKUP($B198,'UN-P'!$C$18:$CK$333,6,FALSE)/1000","v":69.625581999999994}]
[null,{"$f":"'EDGAR-2019'!A188","v":"The Gambia"},{"$f":"VLOOKUP($B199,'EDGAR-2019'!$A$3:$AY$215,C$10,FALSE)","v":0.14870878677096},{"$f":"VLOOKUP($B199,'EDGAR-2019'!$A$3:$AY$215,D$10,FALSE)","v":0.47258020781999999},{"$f":"VLOOKUP($B199,'EDGAR-2019'!$A$3:$AY$215,E$10,FALSE)","v":0.4760443654},{"$f":"VLOOKUP($B199,'EDGAR-2019'!$A$3:$AY$215,F$10,FALSE)","v":0.49650205339999998},{"$f":"VLOOKUP($B199,'EDGAR-2019'!$A$3:$AY$215,G$10,FALSE)","v":0.47525209537000002},{"$f":"VLOOKUP($B199,'EDGAR-2019'!$A$3:$AY$215,H$10,FALSE)","v":0.47972190737999998},{"$f":"VLOOKUP($B199,'EDGAR-2019'!$A$3:$AY$215,I$10,FALSE)","v":0.50884538966000004},{"$f":"VLOOKUP($B199,'EDGAR-2019'!$A$3:$AY$215,J$10,FALSE)","v":0.52390612934000003},{"$f":"VLOOKUP($B199,'EDGAR-2019'!$A$3:$AY$215,K$10,FALSE)","v":0.54162728082},{"$f":"VLOOKUP($B199,'EDGAR-2019'!$A$3:$AY$215,L$10,FALSE)","v":0.56988414209000005},{"$f":"VLOOKUP($B199,'EDGAR-2019'!$A$3:$AY$215,M$10,FALSE)","v":0.59245540860000001},3.9606763626062413E-2,4.5888535082287185E-2,{"$f":"VLOOKUP($B199,'UN-P'!$C$18:$CK$333,6,FALSE)/1000","v":2.3477060000000001}]
[null,{"$f":"'EDGAR-2019'!A189","v":"Timor-Leste"},{"$f":"VLOOKUP($B200,'EDGAR-2019'!$A$3:$AY$215,C$10,FALSE)","v":0.13019631545599999},{"$f":"VLOOKUP($B200,'EDGAR-2019'!$A$3:$AY$215,D$10,FALSE)","v":0.25248415257902002},{"$f":"VLOOKUP($B200,'EDGAR-2019'!$A$3:$AY$215,E$10,FALSE)","v":0.32218169046789402},{"$f":"VLOOKUP($B200,'EDGAR-2019'!$A$3:$AY$215,F$10,FALSE)","v":0.63157732721367299},{"$f":"VLOOKUP($B200,'EDGAR-2019'!$A$3:$AY$215,G$10,FALSE)","v":0.65709342627620404},{"$f":"VLOOKUP($B200,'EDGAR-2019'!$A$3:$AY$215,H$10,FALSE)","v":0.442015351342953},{"$f":"VLOOKUP($B200,'EDGAR-2019'!$A$3:$AY$215,I$10,FALSE)","v":0.40281903650923501},{"$f":"VLOOKUP($B200,'EDGAR-2019'!$A$3:$AY$215,J$10,FALSE)","v":0.36454677259885099},{"$f":"VLOOKUP($B200,'EDGAR-2019'!$A$3:$AY$215,K$10,FALSE)","v":0.380651511175019},{"$f":"VLOOKUP($B200,'EDGAR-2019'!$A$3:$AY$215,L$10,FALSE)","v":0.36862010138128098},{"$f":"VLOOKUP($B200,'EDGAR-2019'!$A$3:$AY$215,M$10,FALSE)","v":0.38453734613528101},4.3180620629085231E-2,5.7866034586329662E-3,{"$f":"VLOOKUP($B200,'UN-P'!$C$18:$CK$333,6,FALSE)/1000","v":1.2931189999999999}]
[null,{"$f":"'EDGAR-2019'!A190","v":"Togo"},{"$f":"VLOOKUP($B201,'EDGAR-2019'!$A$3:$AY$215,C$10,FALSE)","v":0.76541212140000003},{"$f":"VLOOKUP($B201,'EDGAR-2019'!$A$3:$AY$215,D$10,FALSE)","v":2.5398182490000001},{"$f":"VLOOKUP($B201,'EDGAR-2019'!$A$3:$AY$215,E$10,FALSE)","v":2.3290853619999998},{"$f":"VLOOKUP($B201,'EDGAR-2019'!$A$3:$AY$215,F$10,FALSE)","v":2.2235530092000002},{"$f":"VLOOKUP($B201,'EDGAR-2019'!$A$3:$AY$215,G$10,FALSE)","v":2.3288700066999999},{"$f":"VLOOKUP($B201,'EDGAR-2019'!$A$3:$AY$215,H$10,FALSE)","v":2.3746668333000001},{"$f":"VLOOKUP($B201,'EDGAR-2019'!$A$3:$AY$215,I$10,FALSE)","v":2.4331333107000002},{"$f":"VLOOKUP($B201,'EDGAR-2019'!$A$3:$AY$215,J$10,FALSE)","v":2.5313907530000002},{"$f":"VLOOKUP($B201,'EDGAR-2019'!$A$3:$AY$215,K$10,FALSE)","v":2.6375303947000002},{"$f":"VLOOKUP($B201,'EDGAR-2019'!$A$3:$AY$215,L$10,FALSE)","v":2.7485143696000001},{"$f":"VLOOKUP($B201,'EDGAR-2019'!$A$3:$AY$215,M$10,FALSE)","v":2.8548926749999999},3.8703929139537907E-2,4.0391338205617355E-2,{"$f":"VLOOKUP($B201,'UN-P'!$C$18:$CK$333,6,FALSE)/1000","v":8.0823660000000004}]
[null,{"$f":"'EDGAR-2019'!A191","v":"Tonga"},{"$f":"VLOOKUP($B202,'EDGAR-2019'!$A$3:$AY$215,C$10,FALSE)","v":6.4488439678200005E-2},{"$f":"VLOOKUP($B202,'EDGAR-2019'!$A$3:$AY$215,D$10,FALSE)","v":0.17626362186902},{"$f":"VLOOKUP($B202,'EDGAR-2019'!$A$3:$AY$215,E$10,FALSE)","v":0.22252853496789399},{"$f":"VLOOKUP($B202,'EDGAR-2019'!$A$3:$AY$215,F$10,FALSE)","v":0.31836836826367299},{"$f":"VLOOKUP($B202,'EDGAR-2019'!$A$3:$AY$215,G$10,FALSE)","v":0.18908079238810299},{"$f":"VLOOKUP($B202,'EDGAR-2019'!$A$3:$AY$215,H$10,FALSE)","v":0.115905361820658},{"$f":"VLOOKUP($B202,'EDGAR-2019'!$A$3:$AY$215,I$10,FALSE)","v":0.115036786860398},{"$f":"VLOOKUP($B202,'EDGAR-2019'!$A$3:$AY$215,J$10,FALSE)","v":0.110128292336675},{"$f":"VLOOKUP($B202,'EDGAR-2019'!$A$3:$AY$215,K$10,FALSE)","v":0.115083377020054},{"$f":"VLOOKUP($B202,'EDGAR-2019'!$A$3:$AY$215,L$10,FALSE)","v":0.120150637661324},{"$f":"VLOOKUP($B202,'EDGAR-2019'!$A$3:$AY$215,M$10,FALSE)","v":0.127959543354006},6.4992627960023253E-2,5.4511920284243565E-2,{"$f":"VLOOKUP($B202,'UN-P'!$C$18:$CK$333,6,FALSE)/1000","v":0.104494}]
[null,{"$f":"'EDGAR-2019'!A192","v":"Trinidad and Tobago"},{"$f":"VLOOKUP($B203,'EDGAR-2019'!$A$3:$AY$215,C$10,FALSE)","v":12.660317429819999},{"$f":"VLOOKUP($B203,'EDGAR-2019'!$A$3:$AY$215,D$10,FALSE)","v":38.720206076510003},{"$f":"VLOOKUP($B203,'EDGAR-2019'!$A$3:$AY$215,E$10,FALSE)","v":38.700239598449997},{"$f":"VLOOKUP($B203,'EDGAR-2019'!$A$3:$AY$215,F$10,FALSE)","v":34.058710142210003},{"$f":"VLOOKUP($B203,'EDGAR-2019'!$A$3:$AY$215,G$10,FALSE)","v":36.020570544439998},{"$f":"VLOOKUP($B203,'EDGAR-2019'!$A$3:$AY$215,H$10,FALSE)","v":37.470041792449997},{"$f":"VLOOKUP($B203,'EDGAR-2019'!$A$3:$AY$215,I$10,FALSE)","v":36.726002842690001},{"$f":"VLOOKUP($B203,'EDGAR-2019'!$A$3:$AY$215,J$10,FALSE)","v":32.707597183739999},{"$f":"VLOOKUP($B203,'EDGAR-2019'!$A$3:$AY$215,K$10,FALSE)","v":33.811950137389999},{"$f":"VLOOKUP($B203,'EDGAR-2019'!$A$3:$AY$215,L$10,FALSE)","v":32.61169468296},{"$f":"VLOOKUP($B203,'EDGAR-2019'!$A$3:$AY$215,M$10,FALSE)","v":32.743771457160001},4.0499819308381646E-3,-1.5723992005881537E-2,{"$f":"VLOOKUP($B203,'UN-P'!$C$18:$CK$333,6,FALSE)/1000","v":1.394973}]
[null,{"$f":"'EDGAR-2019'!A193","v":"Tunisia"},{"$f":"VLOOKUP($B204,'EDGAR-2019'!$A$3:$AY$215,C$10,FALSE)","v":14.707940913551001},{"$f":"VLOOKUP($B204,'EDGAR-2019'!$A$3:$AY$215,D$10,FALSE)","v":27.932491539181999},{"$f":"VLOOKUP($B204,'EDGAR-2019'!$A$3:$AY$215,E$10,FALSE)","v":26.55046566219},{"$f":"VLOOKUP($B204,'EDGAR-2019'!$A$3:$AY$215,F$10,FALSE)","v":28.511993684899998},{"$f":"VLOOKUP($B204,'EDGAR-2019'!$A$3:$AY$215,G$10,FALSE)","v":28.489127013600001},{"$f":"VLOOKUP($B204,'EDGAR-2019'!$A$3:$AY$215,H$10,FALSE)","v":30.167591709410001},{"$f":"VLOOKUP($B204,'EDGAR-2019'!$A$3:$AY$215,I$10,FALSE)","v":30.70543840217},{"$f":"VLOOKUP($B204,'EDGAR-2019'!$A$3:$AY$215,J$10,FALSE)","v":29.741853749859999},{"$f":"VLOOKUP($B204,'EDGAR-2019'!$A$3:$AY$215,K$10,FALSE)","v":30.546839188362},{"$f":"VLOOKUP($B204,'EDGAR-2019'!$A$3:$AY$215,L$10,FALSE)","v":31.288102931771},{"$f":"VLOOKUP($B204,'EDGAR-2019'!$A$3:$AY$215,M$10,FALSE)","v":32.071693554200998},2.5044363480225984E-2,2.4655413247931524E-2,{"$f":"VLOOKUP($B204,'UN-P'!$C$18:$CK$333,6,FALSE)/1000","v":11.694718999999999}]
[null,{"$f":"'EDGAR-2019'!A194","v":"Turkey"},{"$f":"VLOOKUP($B205,'EDGAR-2019'!$A$3:$AY$215,C$10,FALSE)","v":150.16383534331999},{"$f":"VLOOKUP($B205,'EDGAR-2019'!$A$3:$AY$215,D$10,FALSE)","v":308.80138103568999},{"$f":"VLOOKUP($B205,'EDGAR-2019'!$A$3:$AY$215,E$10,FALSE)","v":329.12931848053},{"$f":"VLOOKUP($B205,'EDGAR-2019'!$A$3:$AY$215,F$10,FALSE)","v":346.25885611204802},{"$f":"VLOOKUP($B205,'EDGAR-2019'!$A$3:$AY$215,G$10,FALSE)","v":332.35985267354698},{"$f":"VLOOKUP($B205,'EDGAR-2019'!$A$3:$AY$215,H$10,FALSE)","v":354.53074029652799},{"$f":"VLOOKUP($B205,'EDGAR-2019'!$A$3:$AY$215,I$10,FALSE)","v":364.82228340719399},{"$f":"VLOOKUP($B205,'EDGAR-2019'!$A$3:$AY$215,J$10,FALSE)","v":388.02354312657502},{"$f":"VLOOKUP($B205,'EDGAR-2019'!$A$3:$AY$215,K$10,FALSE)","v":429.91956827348798},{"$f":"VLOOKUP($B205,'EDGAR-2019'!$A$3:$AY$215,L$10,FALSE)","v":422.21114567525598},{"$f":"VLOOKUP($B205,'EDGAR-2019'!$A$3:$AY$215,M$10,FALSE)","v":415.78294578593699},-1.5225083362112923E-2,-1.6577500672325718E-2,{"$f":"VLOOKUP($B205,'UN-P'!$C$18:$CK$333,6,FALSE)/1000","v":83.429614999999998}]
[null,{"$f":"'EDGAR-2019'!A195","v":"Turkmenistan"},{"$f":"VLOOKUP($B206,'EDGAR-2019'!$A$3:$AY$215,C$10,FALSE)","v":45.627991820719998},{"$f":"VLOOKUP($B206,'EDGAR-2019'!$A$3:$AY$215,D$10,FALSE)","v":61.617637114609998},{"$f":"VLOOKUP($B206,'EDGAR-2019'!$A$3:$AY$215,E$10,FALSE)","v":66.819977487719996},{"$f":"VLOOKUP($B206,'EDGAR-2019'!$A$3:$AY$215,F$10,FALSE)","v":71.057721724380002},{"$f":"VLOOKUP($B206,'EDGAR-2019'!$A$3:$AY$215,G$10,FALSE)","v":72.403089726229993},{"$f":"VLOOKUP($B206,'EDGAR-2019'!$A$3:$AY$215,H$10,FALSE)","v":73.405903236010005},{"$f":"VLOOKUP($B206,'EDGAR-2019'!$A$3:$AY$215,I$10,FALSE)","v":75.454394984199993},{"$f":"VLOOKUP($B206,'EDGAR-2019'!$A$3:$AY$215,J$10,FALSE)","v":75.250282653580001},{"$f":"VLOOKUP($B206,'EDGAR-2019'!$A$3:$AY$215,K$10,FALSE)","v":75.025181387469999},{"$f":"VLOOKUP($B206,'EDGAR-2019'!$A$3:$AY$215,L$10,FALSE)","v":82.827610206309998},{"$f":"VLOOKUP($B206,'EDGAR-2019'!$A$3:$AY$215,M$10,FALSE)","v":90.523465758309996},9.2914132531783489E-2,9.845579972142382E-2,{"$f":"VLOOKUP($B206,'UN-P'!$C$18:$CK$333,6,FALSE)/1000","v":5.9420890000000002}]
[null,{"$f":"'EDGAR-2019'!A196","v":"Turks and Caicos Islands"},{"$f":"VLOOKUP($B207,'EDGAR-2019'!$A$3:$AY$215,C$10,FALSE)","v":6.9881239016300004E-3},{"$f":"VLOOKUP($B207,'EDGAR-2019'!$A$3:$AY$215,D$10,FALSE)","v":0.10624719249778999},{"$f":"VLOOKUP($B207,'EDGAR-2019'!$A$3:$AY$215,E$10,FALSE)","v":0.10521292960589999},{"$f":"VLOOKUP($B207,'EDGAR-2019'!$A$3:$AY$215,F$10,FALSE)","v":0.18394644649149999},{"$f":"VLOOKUP($B207,'EDGAR-2019'!$A$3:$AY$215,G$10,FALSE)","v":0.19006188768363999},{"$f":"VLOOKUP($B207,'EDGAR-2019'!$A$3:$AY$215,H$10,FALSE)","v":0.16557851901396001},{"$f":"VLOOKUP($B207,'EDGAR-2019'!$A$3:$AY$215,I$10,FALSE)","v":0.16531906185006001},{"$f":"VLOOKUP($B207,'EDGAR-2019'!$A$3:$AY$215,J$10,FALSE)","v":0.16738658871852},{"$f":"VLOOKUP($B207,'EDGAR-2019'!$A$3:$AY$215,K$10,FALSE)","v":0.13451846101772999},{"$f":"VLOOKUP($B207,'EDGAR-2019'!$A$3:$AY$215,L$10,FALSE)","v":0.13851782908915999},{"$f":"VLOOKUP($B207,'EDGAR-2019'!$A$3:$AY$215,M$10,FALSE)","v":0.13493166498433001},{"$f":"M207/L207-1","v":-2.5889548864656775E-2},{"$f":"AVERAGE(M207/L207-1,L207/K207-1)","v":1.9207244782742383E-3},{"$f":"VLOOKUP($B207,'UN-P'!$C$18:$CK$333,6,FALSE)/1000","v":3.8191000000000003E-2}]
[null,{"$f":"'EDGAR-2019'!A197","v":"Uganda"},{"$f":"VLOOKUP($B208,'EDGAR-2019'!$A$3:$AY$215,C$10,FALSE)","v":0.64439347628379995},{"$f":"VLOOKUP($B208,'EDGAR-2019'!$A$3:$AY$215,D$10,FALSE)","v":3.774441323},{"$f":"VLOOKUP($B208,'EDGAR-2019'!$A$3:$AY$215,E$10,FALSE)","v":4.3339979382999996},{"$f":"VLOOKUP($B208,'EDGAR-2019'!$A$3:$AY$215,F$10,FALSE)","v":4.5517794282999997},{"$f":"VLOOKUP($B208,'EDGAR-2019'!$A$3:$AY$215,G$10,FALSE)","v":4.4786409779999996},{"$f":"VLOOKUP($B208,'EDGAR-2019'!$A$3:$AY$215,H$10,FALSE)","v":4.5716417931000004},{"$f":"VLOOKUP($B208,'EDGAR-2019'!$A$3:$AY$215,I$10,FALSE)","v":4.6930730495999997},{"$f":"VLOOKUP($B208,'EDGAR-2019'!$A$3:$AY$215,J$10,FALSE)","v":4.8748574942999996},{"$f":"VLOOKUP($B208,'EDGAR-2019'!$A$3:$AY$215,K$10,FALSE)","v":5.0468445572},{"$f":"VLOOKUP($B208,'EDGAR-2019'!$A$3:$AY$215,L$10,FALSE)","v":5.1836088623999999},{"$f":"VLOOKUP($B208,'EDGAR-2019'!$A$3:$AY$215,M$10,FALSE)","v":5.3395531737999997},3.0084120067616071E-2,2.8591546613980889E-2,{"$f":"VLOOKUP($B208,'UN-P'!$C$18:$CK$333,6,FALSE)/1000","v":44.269593999999998}]
[null,{"$f":"'EDGAR-2019'!A198","v":"Ukraine"},{"$f":"VLOOKUP($B209,'EDGAR-2019'!$A$3:$AY$215,C$10,FALSE)","v":783.20973842340004},{"$f":"VLOOKUP($B209,'EDGAR-2019'!$A$3:$AY$215,D$10,FALSE)","v":308.55507750050998},{"$f":"VLOOKUP($B209,'EDGAR-2019'!$A$3:$AY$215,E$10,FALSE)","v":325.84033875375002},{"$f":"VLOOKUP($B209,'EDGAR-2019'!$A$3:$AY$215,F$10,FALSE)","v":317.68863687036003},{"$f":"VLOOKUP($B209,'EDGAR-2019'!$A$3:$AY$215,G$10,FALSE)","v":306.32876922337999},{"$f":"VLOOKUP($B209,'EDGAR-2019'!$A$3:$AY$215,H$10,FALSE)","v":264.92043506789003},{"$f":"VLOOKUP($B209,'EDGAR-2019'!$A$3:$AY$215,I$10,FALSE)","v":214.07978154439999},{"$f":"VLOOKUP($B209,'EDGAR-2019'!$A$3:$AY$215,J$10,FALSE)","v":223.86479803242301},{"$f":"VLOOKUP($B209,'EDGAR-2019'!$A$3:$AY$215,K$10,FALSE)","v":194.303712245702},{"$f":"VLOOKUP($B209,'EDGAR-2019'!$A$3:$AY$215,L$10,FALSE)","v":203.02488348703699},{"$f":"VLOOKUP($B209,'EDGAR-2019'!$A$3:$AY$215,M$10,FALSE)","v":196.40103934343699},-3.2625774879574965E-2,6.1292242948221554E-3,{"$f":"VLOOKUP($B209,'UN-P'!$C$18:$CK$333,6,FALSE)/1000","v":43.993637999999997}]
[null,{"$f":"'EDGAR-2019'!A199","v":"United Arab Emirates"},{"$f":"VLOOKUP($B210,'EDGAR-2019'!$A$3:$AY$215,C$10,FALSE)","v":56.922343161489998},{"$f":"VLOOKUP($B210,'EDGAR-2019'!$A$3:$AY$215,D$10,FALSE)","v":171.85527761086001},{"$f":"VLOOKUP($B210,'EDGAR-2019'!$A$3:$AY$215,E$10,FALSE)","v":176.25246427727001},{"$f":"VLOOKUP($B210,'EDGAR-2019'!$A$3:$AY$215,F$10,FALSE)","v":185.72959109196},{"$f":"VLOOKUP($B210,'EDGAR-2019'!$A$3:$AY$215,G$10,FALSE)","v":195.48948797897},{"$f":"VLOOKUP($B210,'EDGAR-2019'!$A$3:$AY$215,H$10,FALSE)","v":197.4611194931},{"$f":"VLOOKUP($B210,'EDGAR-2019'!$A$3:$AY$215,I$10,FALSE)","v":201.841732947},{"$f":"VLOOKUP($B210,'EDGAR-2019'!$A$3:$AY$215,J$10,FALSE)","v":207.27395275410001},{"$f":"VLOOKUP($B210,'EDGAR-2019'!$A$3:$AY$215,K$10,FALSE)","v":212.67556652010001},{"$f":"VLOOKUP($B210,'EDGAR-2019'!$A$3:$AY$215,L$10,FALSE)","v":215.87707389319999},{"$f":"VLOOKUP($B210,'EDGAR-2019'!$A$3:$AY$215,M$10,FALSE)","v":222.61241556420001},3.1199893298220926E-2,2.3126686616198766E-2,{"$f":"VLOOKUP($B210,'UN-P'!$C$18:$CK$333,6,FALSE)/1000","v":9.7705289999999998}]
[null,{"$f":"'EDGAR-2019'!A200","v":"United Kingdom"},{"$f":"VLOOKUP($B211,'EDGAR-2019'!$A$3:$AY$215,C$10,FALSE)","v":588.0675169287},{"$f":"VLOOKUP($B211,'EDGAR-2019'!$A$3:$AY$215,D$10,FALSE)","v":502.3858528449},{"$f":"VLOOKUP($B211,'EDGAR-2019'!$A$3:$AY$215,E$10,FALSE)","v":462.76686663179999},{"$f":"VLOOKUP($B211,'EDGAR-2019'!$A$3:$AY$215,F$10,FALSE)","v":486.97545430600002},{"$f":"VLOOKUP($B211,'EDGAR-2019'!$A$3:$AY$215,G$10,FALSE)","v":471.61769437125997},{"$f":"VLOOKUP($B211,'EDGAR-2019'!$A$3:$AY$215,H$10,FALSE)","v":432.63779070638998},{"$f":"VLOOKUP($B211,'EDGAR-2019'!$A$3:$AY$215,I$10,FALSE)","v":415.62622622497997},{"$f":"VLOOKUP($B211,'EDGAR-2019'!$A$3:$AY$215,J$10,FALSE)","v":392.20932544954002},{"$f":"VLOOKUP($B211,'EDGAR-2019'!$A$3:$AY$215,K$10,FALSE)","v":380.10981177711},{"$f":"VLOOKUP($B211,'EDGAR-2019'!$A$3:$AY$215,L$10,FALSE)","v":373.46906222445699},{"$f":"VLOOKUP($B211,'EDGAR-2019'!$A$3:$AY$215,M$10,FALSE)","v":364.90649470985198},-2.2927113329293314E-2,-2.019886070955651E-2,{"$f":"VLOOKUP($B211,'UN-P'!$C$18:$CK$333,6,FALSE)/1000","v":67.530172000000007}]
[null,{"$f":"'EDGAR-2019'!A201","v":"United States"},{"$f":"VLOOKUP($B212,'EDGAR-2019'!$A$3:$AY$215,C$10,FALSE)","v":5065.0556639385004},{"$f":"VLOOKUP($B212,'EDGAR-2019'!$A$3:$AY$215,D$10,FALSE)","v":5567.6398899829501},{"$f":"VLOOKUP($B212,'EDGAR-2019'!$A$3:$AY$215,E$10,FALSE)","v":5438.91892894786},{"$f":"VLOOKUP($B212,'EDGAR-2019'!$A$3:$AY$215,F$10,FALSE)","v":5263.6409692730203},{"$f":"VLOOKUP($B212,'EDGAR-2019'!$A$3:$AY$215,G$10,FALSE)","v":5337.0317691148002},{"$f":"VLOOKUP($B212,'EDGAR-2019'!$A$3:$AY$215,H$10,FALSE)","v":5412.9618169537198},{"$f":"VLOOKUP($B212,'EDGAR-2019'!$A$3:$AY$215,I$10,FALSE)","v":5248.9625894887404},{"$f":"VLOOKUP($B212,'EDGAR-2019'!$A$3:$AY$215,J$10,FALSE)","v":5152.5847150383697},{"$f":"VLOOKUP($B212,'EDGAR-2019'!$A$3:$AY$215,K$10,FALSE)","v":5082.8906534881598},{"$f":"VLOOKUP($B212,'EDGAR-2019'!$A$3:$AY$215,L$10,FALSE)","v":5243.74409903987},{"$f":"VLOOKUP($B212,'EDGAR-2019'!$A$3:$AY$215,M$10,FALSE)","v":5107.2610774498298},-2.6027780725422889E-2,2.809137960878727E-3,{"$f":"VLOOKUP($B212,'UN-P'!$C$18:$CK$333,6,FALSE)/1000","v":329.06491700000004}]
[null,{"$f":"'EDGAR-2019'!A202","v":"Uruguay"},{"$f":"VLOOKUP($B213,'EDGAR-2019'!$A$3:$AY$215,C$10,FALSE)","v":3.9023247906140002},{"$f":"VLOOKUP($B213,'EDGAR-2019'!$A$3:$AY$215,D$10,FALSE)","v":6.4171620655200003},{"$f":"VLOOKUP($B213,'EDGAR-2019'!$A$3:$AY$215,E$10,FALSE)","v":7.7126154287770001},{"$f":"VLOOKUP($B213,'EDGAR-2019'!$A$3:$AY$215,F$10,FALSE)","v":8.7821974470300006},{"$f":"VLOOKUP($B213,'EDGAR-2019'!$A$3:$AY$215,G$10,FALSE)","v":7.6161729812100001},{"$f":"VLOOKUP($B213,'EDGAR-2019'!$A$3:$AY$215,H$10,FALSE)","v":6.7561459318499999},{"$f":"VLOOKUP($B213,'EDGAR-2019'!$A$3:$AY$215,I$10,FALSE)","v":6.8061378547800002},{"$f":"VLOOKUP($B213,'EDGAR-2019'!$A$3:$AY$215,J$10,FALSE)","v":6.7995986251379996},{"$f":"VLOOKUP($B213,'EDGAR-2019'!$A$3:$AY$215,K$10,FALSE)","v":6.3569975080049996},{"$f":"VLOOKUP($B213,'EDGAR-2019'!$A$3:$AY$215,L$10,FALSE)","v":6.4288900385999996},{"$f":"VLOOKUP($B213,'EDGAR-2019'!$A$3:$AY$215,M$10,FALSE)","v":6.5649498527550003},2.1163811068174665E-2,1.6236503518786027E-2,{"$f":"VLOOKUP($B213,'UN-P'!$C$18:$CK$333,6,FALSE)/1000","v":3.4617339999999999}]
[null,{"$f":"'EDGAR-2019'!A203","v":"Uzbekistan"},{"$f":"VLOOKUP($B214,'EDGAR-2019'!$A$3:$AY$215,C$10,FALSE)","v":123.10560081876},{"$f":"VLOOKUP($B214,'EDGAR-2019'!$A$3:$AY$215,D$10,FALSE)","v":107.49607199107},{"$f":"VLOOKUP($B214,'EDGAR-2019'!$A$3:$AY$215,E$10,FALSE)","v":115.98524924351},{"$f":"VLOOKUP($B214,'EDGAR-2019'!$A$3:$AY$215,F$10,FALSE)","v":118.62750282421},{"$f":"VLOOKUP($B214,'EDGAR-2019'!$A$3:$AY$215,G$10,FALSE)","v":106.53817828811},{"$f":"VLOOKUP($B214,'EDGAR-2019'!$A$3:$AY$215,H$10,FALSE)","v":107.63870381664},{"$f":"VLOOKUP($B214,'EDGAR-2019'!$A$3:$AY$215,I$10,FALSE)","v":105.37669125495},{"$f":"VLOOKUP($B214,'EDGAR-2019'!$A$3:$AY$215,J$10,FALSE)","v":93.964019553189999},{"$f":"VLOOKUP($B214,'EDGAR-2019'!$A$3:$AY$215,K$10,FALSE)","v":93.850878169981002},{"$f":"VLOOKUP($B214,'EDGAR-2019'!$A$3:$AY$215,L$10,FALSE)","v":97.900726068233993},{"$f":"VLOOKUP($B214,'EDGAR-2019'!$A$3:$AY$215,M$10,FALSE)","v":94.991732865233999},-2.9713704073782932E-2,6.7191202780291226E-3,{"$f":"VLOOKUP($B214,'UN-P'!$C$18:$CK$333,6,FALSE)/1000","v":32.981715999999999}]
[null,{"$f":"'EDGAR-2019'!A204","v":"Vanuatu"},{"$f":"VLOOKUP($B215,'EDGAR-2019'!$A$3:$AY$215,C$10,FALSE)","v":0.130202200106},{"$f":"VLOOKUP($B215,'EDGAR-2019'!$A$3:$AY$215,D$10,FALSE)","v":0.120213353279341},{"$f":"VLOOKUP($B215,'EDGAR-2019'!$A$3:$AY$215,E$10,FALSE)","v":0.15105917721192999},{"$f":"VLOOKUP($B215,'EDGAR-2019'!$A$3:$AY$215,F$10,FALSE)","v":0.214955337502449},{"$f":"VLOOKUP($B215,'EDGAR-2019'!$A$3:$AY$215,G$10,FALSE)","v":0.12876552039206901},{"$f":"VLOOKUP($B215,'EDGAR-2019'!$A$3:$AY$215,H$10,FALSE)","v":7.8508036769289996E-2},{"$f":"VLOOKUP($B215,'EDGAR-2019'!$A$3:$AY$215,I$10,FALSE)","v":7.7615265518119994E-2},{"$f":"VLOOKUP($B215,'EDGAR-2019'!$A$3:$AY$215,J$10,FALSE)","v":7.4482005907875501E-2},{"$f":"VLOOKUP($B215,'EDGAR-2019'!$A$3:$AY$215,K$10,FALSE)","v":7.7772173521993795E-2},{"$f":"VLOOKUP($B215,'EDGAR-2019'!$A$3:$AY$215,L$10,FALSE)","v":8.1136884348017593E-2},{"$f":"VLOOKUP($B215,'EDGAR-2019'!$A$3:$AY$215,M$10,FALSE)","v":8.6288040927730403E-2},6.3487236675469738E-2,5.3375460895614957E-2,{"$f":"VLOOKUP($B215,'UN-P'!$C$18:$CK$333,6,FALSE)/1000","v":0.29988199999999998}]
[null,{"$f":"'EDGAR-2019'!A205","v":"Venezuela"},{"$f":"VLOOKUP($B216,'EDGAR-2019'!$A$3:$AY$215,C$10,FALSE)","v":102.5726409167},{"$f":"VLOOKUP($B216,'EDGAR-2019'!$A$3:$AY$215,D$10,FALSE)","v":189.13897897230001},{"$f":"VLOOKUP($B216,'EDGAR-2019'!$A$3:$AY$215,E$10,FALSE)","v":171.00514868139999},{"$f":"VLOOKUP($B216,'EDGAR-2019'!$A$3:$AY$215,F$10,FALSE)","v":199.04458915410001},{"$f":"VLOOKUP($B216,'EDGAR-2019'!$A$3:$AY$215,G$10,FALSE)","v":188.61708829459999},{"$f":"VLOOKUP($B216,'EDGAR-2019'!$A$3:$AY$215,H$10,FALSE)","v":188.22189288839999},{"$f":"VLOOKUP($B216,'EDGAR-2019'!$A$3:$AY$215,I$10,FALSE)","v":168.68650342390001},{"$f":"VLOOKUP($B216,'EDGAR-2019'!$A$3:$AY$215,J$10,FALSE)","v":155.14313168070001},{"$f":"VLOOKUP($B216,'EDGAR-2019'!$A$3:$AY$215,K$10,FALSE)","v":136.3755297578},{"$f":"VLOOKUP($B216,'EDGAR-2019'!$A$3:$AY$215,L$10,FALSE)","v":122.5772102607},{"$f":"VLOOKUP($B216,'EDGAR-2019'!$A$3:$AY$215,M$10,FALSE)","v":110.0573325707},-0.10213870639878686,-0.10165877903555887,{"$f":"VLOOKUP($B216,'UN-P'!$C$18:$CK$333,6,FALSE)/1000","v":28.515829}]
[null,{"$f":"'EDGAR-2019'!A206","v":"Vietnam"},{"$f":"VLOOKUP($B217,'EDGAR-2019'!$A$3:$AY$215,C$10,FALSE)","v":20.48260803122},{"$f":"VLOOKUP($B217,'EDGAR-2019'!$A$3:$AY$215,D$10,FALSE)","v":155.22472891410001},{"$f":"VLOOKUP($B217,'EDGAR-2019'!$A$3:$AY$215,E$10,FALSE)","v":155.11587254139999},{"$f":"VLOOKUP($B217,'EDGAR-2019'!$A$3:$AY$215,F$10,FALSE)","v":154.64601832221999},{"$f":"VLOOKUP($B217,'EDGAR-2019'!$A$3:$AY$215,G$10,FALSE)","v":161.11618475872001},{"$f":"VLOOKUP($B217,'EDGAR-2019'!$A$3:$AY$215,H$10,FALSE)","v":176.68131125599999},{"$f":"VLOOKUP($B217,'EDGAR-2019'!$A$3:$AY$215,I$10,FALSE)","v":204.45822788001001},{"$f":"VLOOKUP($B217,'EDGAR-2019'!$A$3:$AY$215,J$10,FALSE)","v":218.64130692475001},{"$f":"VLOOKUP($B217,'EDGAR-2019'!$A$3:$AY$215,K$10,FALSE)","v":218.42029165579001},{"$f":"VLOOKUP($B217,'EDGAR-2019'!$A$3:$AY$215,L$10,FALSE)","v":257.37743484819998},{"$f":"VLOOKUP($B217,'EDGAR-2019'!$A$3:$AY$215,M$10,FALSE)","v":305.24928481519999},0.18599862880455942,0.18217862759036663,{"$f":"VLOOKUP($B217,'UN-P'!$C$18:$CK$333,6,FALSE)/1000","v":96.462106000000006}]
[null,{"$f":"'EDGAR-2019'!A207","v":"Western Sahara"},{"$f":"VLOOKUP($B218,'EDGAR-2019'!$A$3:$AY$215,C$10,FALSE)","v":0.14400317347096001},{"$f":"VLOOKUP($B218,'EDGAR-2019'!$A$3:$AY$215,D$10,FALSE)","v":0.26553582031},{"$f":"VLOOKUP($B218,'EDGAR-2019'!$A$3:$AY$215,E$10,FALSE)","v":0.31206386955999998},{"$f":"VLOOKUP($B218,'EDGAR-2019'!$A$3:$AY$215,F$10,FALSE)","v":0.32575069086000003},{"$f":"VLOOKUP($B218,'EDGAR-2019'!$A$3:$AY$215,G$10,FALSE)","v":0.26719379794999998},{"$f":"VLOOKUP($B218,'EDGAR-2019'!$A$3:$AY$215,H$10,FALSE)","v":0.24215494516},{"$f":"VLOOKUP($B218,'EDGAR-2019'!$A$3:$AY$215,I$10,FALSE)","v":0.25352012081000003},{"$f":"VLOOKUP($B218,'EDGAR-2019'!$A$3:$AY$215,J$10,FALSE)","v":0.26099956996000001},{"$f":"VLOOKUP($B218,'EDGAR-2019'!$A$3:$AY$215,K$10,FALSE)","v":0.26982323260000002},{"$f":"VLOOKUP($B218,'EDGAR-2019'!$A$3:$AY$215,L$10,FALSE)","v":0.28506972339999997},{"$f":"VLOOKUP($B218,'EDGAR-2019'!$A$3:$AY$215,M$10,FALSE)","v":0.29719953009},4.2550315569569896E-2,4.9527896907887392E-2,{"$f":"VLOOKUP($B218,'UN-P'!$C$18:$CK$333,6,FALSE)/1000","v":0.58246299999999995}]
[null,{"$f":"'EDGAR-2019'!A208","v":"Yemen"},{"$f":"VLOOKUP($B219,'EDGAR-2019'!$A$3:$AY$215,C$10,FALSE)","v":6.8872220260199999},{"$f":"VLOOKUP($B219,'EDGAR-2019'!$A$3:$AY$215,D$10,FALSE)","v":26.09765037935},{"$f":"VLOOKUP($B219,'EDGAR-2019'!$A$3:$AY$215,E$10,FALSE)","v":22.198459276480001},{"$f":"VLOOKUP($B219,'EDGAR-2019'!$A$3:$AY$215,F$10,FALSE)","v":21.080957732971999},{"$f":"VLOOKUP($B219,'EDGAR-2019'!$A$3:$AY$215,G$10,FALSE)","v":27.797099126822001},{"$f":"VLOOKUP($B219,'EDGAR-2019'!$A$3:$AY$215,H$10,FALSE)","v":26.334779415669001},{"$f":"VLOOKUP($B219,'EDGAR-2019'!$A$3:$AY$215,I$10,FALSE)","v":13.940481957909},{"$f":"VLOOKUP($B219,'EDGAR-2019'!$A$3:$AY$215,J$10,FALSE)","v":10.767463908102},{"$f":"VLOOKUP($B219,'EDGAR-2019'!$A$3:$AY$215,K$10,FALSE)","v":10.518575217522001},{"$f":"VLOOKUP($B219,'EDGAR-2019'!$A$3:$AY$215,L$10,FALSE)","v":10.545459912388999},{"$f":"VLOOKUP($B219,'EDGAR-2019'!$A$3:$AY$215,M$10,FALSE)","v":10.888394752389001},3.2519666553102677E-2,1.7537796038191056E-2,{"$f":"VLOOKUP($B219,'UN-P'!$C$18:$CK$333,6,FALSE)/1000","v":29.161921999999997}]
[null,{"$f":"'EDGAR-2019'!A209","v":"Zambia"},{"$f":"VLOOKUP($B220,'EDGAR-2019'!$A$3:$AY$215,C$10,FALSE)","v":2.9802065454590001},{"$f":"VLOOKUP($B220,'EDGAR-2019'!$A$3:$AY$215,D$10,FALSE)","v":2.2893409301549998},{"$f":"VLOOKUP($B220,'EDGAR-2019'!$A$3:$AY$215,E$10,FALSE)","v":2.6169073466919999},{"$f":"VLOOKUP($B220,'EDGAR-2019'!$A$3:$AY$215,F$10,FALSE)","v":3.6427204356709999},{"$f":"VLOOKUP($B220,'EDGAR-2019'!$A$3:$AY$215,G$10,FALSE)","v":3.8714316710349999},{"$f":"VLOOKUP($B220,'EDGAR-2019'!$A$3:$AY$215,H$10,FALSE)","v":4.3265664754850004},{"$f":"VLOOKUP($B220,'EDGAR-2019'!$A$3:$AY$215,I$10,FALSE)","v":4.5108270152529997},{"$f":"VLOOKUP($B220,'EDGAR-2019'!$A$3:$AY$215,J$10,FALSE)","v":4.954900787873},{"$f":"VLOOKUP($B220,'EDGAR-2019'!$A$3:$AY$215,K$10,FALSE)","v":7.1890128545060001},{"$f":"VLOOKUP($B220,'EDGAR-2019'!$A$3:$AY$215,L$10,FALSE)","v":7.6239752231529998},{"$f":"VLOOKUP($B220,'EDGAR-2019'!$A$3:$AY$215,M$10,FALSE)","v":7.5025206638139998},-1.5930607823876231E-2,2.2286580279252954E-2,{"$f":"VLOOKUP($B220,'UN-P'!$C$18:$CK$333,6,FALSE)/1000","v":17.86103}]
[null,{"$f":"'EDGAR-2019'!A210","v":"Zimbabwe"},{"$f":"VLOOKUP($B221,'EDGAR-2019'!$A$3:$AY$215,C$10,FALSE)","v":17.180682839999999},{"$f":"VLOOKUP($B221,'EDGAR-2019'!$A$3:$AY$215,D$10,FALSE)","v":9.9951114049999994},{"$f":"VLOOKUP($B221,'EDGAR-2019'!$A$3:$AY$215,E$10,FALSE)","v":11.9764725},{"$f":"VLOOKUP($B221,'EDGAR-2019'!$A$3:$AY$215,F$10,FALSE)","v":12.460710405},{"$f":"VLOOKUP($B221,'EDGAR-2019'!$A$3:$AY$215,G$10,FALSE)","v":12.691671249000001},{"$f":"VLOOKUP($B221,'EDGAR-2019'!$A$3:$AY$215,H$10,FALSE)","v":12.54200391},{"$f":"VLOOKUP($B221,'EDGAR-2019'!$A$3:$AY$215,I$10,FALSE)","v":12.67953653},{"$f":"VLOOKUP($B221,'EDGAR-2019'!$A$3:$AY$215,J$10,FALSE)","v":11.325780073000001},{"$f":"VLOOKUP($B221,'EDGAR-2019'!$A$3:$AY$215,K$10,FALSE)","v":10.713685892999999},{"$f":"VLOOKUP($B221,'EDGAR-2019'!$A$3:$AY$215,L$10,FALSE)","v":11.795384574},{"$f":"VLOOKUP($B221,'EDGAR-2019'!$A$3:$AY$215,M$10,FALSE)","v":10.861734827999999},-7.9153819881210175E-2,1.0905187994837917E-2,{"$f":"VLOOKUP($B221,'UN-P'!$C$18:$CK$333,6,FALSE)/1000","v":14.645468000000001}]
[null,"EU28",{"$f":"VLOOKUP($B222,'EDGAR-2019'!$A$3:$AY$215,C$10,FALSE)","v":4408.7257793282597},{"$f":"VLOOKUP($B222,'EDGAR-2019'!$A$3:$AY$215,D$10,FALSE)","v":3920.6133077355998},{"$f":"VLOOKUP($B222,'EDGAR-2019'!$A$3:$AY$215,E$10,FALSE)","v":3766.2020164891401},{"$f":"VLOOKUP($B222,'EDGAR-2019'!$A$3:$AY$215,F$10,FALSE)","v":3722.0143532888901},{"$f":"VLOOKUP($B222,'EDGAR-2019'!$A$3:$AY$215,G$10,FALSE)","v":3631.03260458965},{"$f":"VLOOKUP($B222,'EDGAR-2019'!$A$3:$AY$215,H$10,FALSE)","v":3450.0857121364102},{"$f":"VLOOKUP($B222,'EDGAR-2019'!$A$3:$AY$215,I$10,FALSE)","v":3492.4647374604701},{"$f":"VLOOKUP($B222,'EDGAR-2019'!$A$3:$AY$215,J$10,FALSE)","v":3474.5936964030798},{"$f":"VLOOKUP($B222,'EDGAR-2019'!$A$3:$AY$215,K$10,FALSE)","v":3487.8863089394699},{"$f":"VLOOKUP($B222,'EDGAR-2019'!$A$3:$AY$215,L$10,FALSE)","v":3434.5990170401001},{"$f":"VLOOKUP($B222,'EDGAR-2019'!$A$3:$AY$215,M$10,FALSE)","v":3303.9749403609098},-3.8031827305348931E-2,-2.6654822604894934E-2,{"$f":"VLOOKUP($B222,'UN-P'!$C$18:$CK$333,6,FALSE)/1000","v":512.51690099999985}]
[null,{"$f":"'EDGAR-2019'!A213","v":"EU27"},{"$f":"VLOOKUP($B223,'EDGAR-2019'!$A$3:$AY$215,C$10,FALSE)","v":3820.6582623995596},{"$f":"VLOOKUP($B223,'EDGAR-2019'!$A$3:$AY$215,D$10,FALSE)","v":3418.2274548906998},{"$f":"VLOOKUP($B223,'EDGAR-2019'!$A$3:$AY$215,E$10,FALSE)","v":3303.4351498573401},{"$f":"VLOOKUP($B223,'EDGAR-2019'!$A$3:$AY$215,F$10,FALSE)","v":3235.0388989828903},{"$f":"VLOOKUP($B223,'EDGAR-2019'!$A$3:$AY$215,G$10,FALSE)","v":3159.4149102183901},{"$f":"VLOOKUP($B223,'EDGAR-2019'!$A$3:$AY$215,H$10,FALSE)","v":3017.44792143002},{"$f":"VLOOKUP($B223,'EDGAR-2019'!$A$3:$AY$215,I$10,FALSE)","v":3076.8385112354899},{"$f":"VLOOKUP($B223,'EDGAR-2019'!$A$3:$AY$215,J$10,FALSE)","v":3082.3843709535399},{"$f":"VLOOKUP($B223,'EDGAR-2019'!$A$3:$AY$215,K$10,FALSE)","v":3107.7764971623601},{"$f":"VLOOKUP($B223,'EDGAR-2019'!$A$3:$AY$215,L$10,FALSE)","v":3061.129954815643},{"$f":"VLOOKUP($B223,'EDGAR-2019'!$A$3:$AY$215,M$10,FALSE)","v":2939.068445651058},-3.9874657713424688E-2,-2.7442138547709882E-2,{"$f":"VLOOKUP($B223,'UN-P'!$C$18:$CK$333,6,FALSE)/1000","v":444.98672899999985}]
[null,"sub-total",{"$f":"SUMIFS(C14:C223,C14:C223,\"<>#NV\")","v":30283.095931180895},40189.633917901927,40966.452017190328,41349.41301255305,41595.027836558591,41573.284990936525,41626.381247435856,41624.805148089894,42109.199981746184,42845.014028463374,{"$f":"SUMIFS(M14:M223,M14:M223,\"<>#NV\")","v":42901.877153365509},null,null,{"$f":"SUMIFS(P14:P223,P14:P223,\"<>#NV\")","v":8669.7337369999968}]
[null,"EU28 + EU27",{"$f":"-C222-C223","v":-8229.3840417278188},{"$f":"-D222-D223","v":-7338.8407626262997},-7069.6371663464797,-6957.0532522717804,-6790.4475148080401,-6467.5336335664306,-6569.3032486959601,-6556.9780673566202,-6595.66280610183,-6495.7289718557431,{"$f":"-M222-M223","v":-6243.0433860119683},null,null,{"$f":"-P222-P223","v":-957.5036299999997}]
[null,"Global Total without ISA",{"$f":"SUM(C224:C225)","v":22053.711889453076},32850.793155275627,33896.814850843846,34392.359760281266,34804.580321750553,35105.751357370093,35057.0779987399,{"$f":"SUM(J224:J225)","v":35067.827080733274},{"$f":"SUM(K224:K225)","v":35513.537175644356},{"$f":"SUM(L224:L225)","v":36349.28505660763},{"$f":"SUM(M224:M225)","v":36658.833767353542}]
[null,{"$f":"'EDGAR-2019'!A211","v":"International Aviation"},{"$f":"VLOOKUP($B227,'EDGAR-2019'!$A$3:$AY$215,C$10,FALSE)","v":258.31388023699998},{"$f":"VLOOKUP($B227,'EDGAR-2019'!$A$3:$AY$215,D$10,FALSE)","v":457.4719503},{"$f":"VLOOKUP($B227,'EDGAR-2019'!$A$3:$AY$215,E$10,FALSE)","v":474.45008910000001},{"$f":"VLOOKUP($B227,'EDGAR-2019'!$A$3:$AY$215,F$10,FALSE)","v":478.1938131},{"$f":"VLOOKUP($B227,'EDGAR-2019'!$A$3:$AY$215,G$10,FALSE)","v":486.33826470000002},{"$f":"VLOOKUP($B227,'EDGAR-2019'!$A$3:$AY$215,H$10,FALSE)","v":502.58840379999998},{"$f":"VLOOKUP($B227,'EDGAR-2019'!$A$3:$AY$215,I$10,FALSE)","v":530.37687019400005},{"$f":"VLOOKUP($B227,'EDGAR-2019'!$A$3:$AY$215,J$10,FALSE)","v":553.30578543599995},{"$f":"VLOOKUP($B227,'EDGAR-2019'!$A$3:$AY$215,K$10,FALSE)","v":584.09219078599995},{"$f":"VLOOKUP($B227,'EDGAR-2019'!$A$3:$AY$215,L$10,FALSE)","v":605.39462285399998},{"$f":"VLOOKUP($B227,'EDGAR-2019'!$A$3:$AY$215,M$10,FALSE)","v":627.47623038999996},{"$f":"M227/L227-1","v":3.6474733508370383E-2},{"$f":"AVERAGE(M227/L227-1,L227/K227-1)","v":3.6472871700188536E-2}]
[null,{"$f":"'EDGAR-2019'!A212","v":"International Shipping"},{"$f":"VLOOKUP($B228,'EDGAR-2019'!$A$3:$AY$215,C$10,FALSE)","v":371.27570863431202},{"$f":"VLOOKUP($B228,'EDGAR-2019'!$A$3:$AY$215,D$10,FALSE)","v":662.88933458470399},{"$f":"VLOOKUP($B228,'EDGAR-2019'!$A$3:$AY$215,E$10,FALSE)","v":663.50632065559205},{"$f":"VLOOKUP($B228,'EDGAR-2019'!$A$3:$AY$215,F$10,FALSE)","v":616.93041239995603},{"$f":"VLOOKUP($B228,'EDGAR-2019'!$A$3:$AY$215,G$10,FALSE)","v":614.89669090402504},{"$f":"VLOOKUP($B228,'EDGAR-2019'!$A$3:$AY$215,H$10,FALSE)","v":636.147621570708},{"$f":"VLOOKUP($B228,'EDGAR-2019'!$A$3:$AY$215,I$10,FALSE)","v":660.03204229791902},{"$f":"VLOOKUP($B228,'EDGAR-2019'!$A$3:$AY$215,J$10,FALSE)","v":678.56341148110903},{"$f":"VLOOKUP($B228,'EDGAR-2019'!$A$3:$AY$215,K$10,FALSE)","v":696.99142853149203},{"$f":"VLOOKUP($B228,'EDGAR-2019'!$A$3:$AY$215,L$10,FALSE)","v":713.43247308849595},{"$f":"VLOOKUP($B228,'EDGAR-2019'!$A$3:$AY$215,M$10,FALSE)","v":730.26255486661296},2.3590293984318444E-2,{"$f":"AVERAGE(M228/L228-1,L228/K228-1)","v":2.3589441644852438E-2}]
[null,"sum",{"$f":"SUM(C226:C228:C228)","v":22683.301478324389},{"$f":"SUM(D226:D228:D228)","v":33971.154440160331},{"$f":"SUM(E226:E228:E228)","v":35034.771260599438},{"$f":"SUM(F226:F228:F228)","v":35487.483985781219},{"$f":"SUM(G226:G228:G228)","v":35905.815277354581},{"$f":"SUM(H226:H228:H228)","v":36244.487382740801},{"$f":"SUM(I226:I228:I228)","v":36247.486911231819},{"$f":"SUM(J226:J228:J228)","v":36299.696277650386},{"$f":"SUM(K226:K228:K228)","v":36794.620794961855},{"$f":"SUM(L226:L228:L228)","v":37668.112152550129},{"$f":"SUM(M226:M228)","v":38016.572552610152},null,null,{"$f":"P224+P225","v":7712.2301069999976}]
[null,{"$f":"'EDGAR-2019'!A215","v":"GLOBAL TOTAL"},{"$f":"VLOOKUP($B230,'EDGAR-2019'!$A$3:$AY$215,C$10,FALSE)","v":22683.301478324389},{"$f":"VLOOKUP($B230,'EDGAR-2019'!$A$3:$AY$215,D$10,FALSE)","v":33971.154440160331},{"$f":"VLOOKUP($B230,'EDGAR-2019'!$A$3:$AY$215,E$10,FALSE)","v":35034.771260599446},{"$f":"VLOOKUP($B230,'EDGAR-2019'!$A$3:$AY$215,F$10,FALSE)","v":35487.483985781219},{"$f":"VLOOKUP($B230,'EDGAR-2019'!$A$3:$AY$215,G$10,FALSE)","v":35905.815277354581},{"$f":"VLOOKUP($B230,'EDGAR-2019'!$A$3:$AY$215,H$10,FALSE)","v":36244.487382740801},{"$f":"VLOOKUP($B230,'EDGAR-2019'!$A$3:$AY$215,I$10,FALSE)","v":36247.486911231819},{"$f":"VLOOKUP($B230,'EDGAR-2019'!$A$3:$AY$215,J$10,FALSE)","v":36299.696277650386},{"$f":"VLOOKUP($B230,'EDGAR-2019'!$A$3:$AY$215,K$10,FALSE)","v":36794.620794961847},{"$f":"VLOOKUP($B230,'EDGAR-2019'!$A$3:$AY$215,L$10,FALSE)","v":37668.112152550129},{"$f":"VLOOKUP($B230,'EDGAR-2019'!$A$3:$AY$215,M$10,FALSE)","v":38016.572552610152},null,"UN",{"$f":"'UN-P'!H18/1000","v":7713.4681000000101}]
[null,"difference",{"$f":"C230-C229","v":0},0,0,0,0,0,0,0,0,0,0,null,"difference",{"$f":"P230-P229","v":1.2379930000124659}]
[null,null,{"$f":"C231/C229","v":0},0,0,0,0,0,0,0,0,0,{"$f":"(M230-M229)/M230","v":0},null,"UN-P",{"$f":"'UN-P'!CP333/1000","v":1.2379929999999999}]
[null,null,null,null,null,null,null,null,null,null,null,null,null,null,"difference",{"$f":"P232-P231","v":-1.2466028209701108E-11}]
[null,null,1990,2010,2015,2018,2019]
[null,{"$f":"B222","v":"EU28"},{"$f":"ROUND(C222/1000,$D$236)","v":4.41},{"$f":"ROUND(D222/1000,D236)","v":3.92},{"$f":"ROUND(I222/1000,D236)","v":3.49},{"$f":"ROUND(L222/1000,D236)","v":3.43},{"$f":"ROUND(M222/1000,D236)","v":3.3}]
[null,null,"rounding",2]
[]
[null,null,0,{"$f":"C238","v":0},null,null,null,null,{"$f":"C238","v":0},null,{"$f":"C238","v":0},{"$f":"C238","v":0}]
[null,"4 - Land Use, Land-Use Change and Forestry",-277.29187544568401,-355.62961057282502,null,null,null,null,-323.839506798569,null,-285.414925640734,-293.97484082838503]

{"sheet":"EDGAR-2019","index":15,"n_rows":220,"n_cols":57,"rows_kept":220,"cut":false,"hidden":false,"merged":[]}
[1,{"$f":"A1+1","v":2},{"$f":"B1+1","v":3},4,5,6,7,8,9,10,11,12,13,14,15,16,17,18,19,20,21,22,23,24,25,26,27,28,29,30,31,32,33,34,35,36,37,38,39,40,41,42,43,44,45,46,47,48,49,50,{"$f":"AX1+1","v":51},52,53,54,55,56,57]
["country_name",1970,1971,1972,1973,1974,1975,1976,1977,1978,1979,1980,1981,1982,1983,1984,1985,1986,1987,1988,1989,1990,1991,1992,1993,1994,1995,1996,1997,1998,1999,2000,2001,2002,2003,2004,2005,2006,2007,2008,2009,2010,2011,2012,2013,2014,2015,2016,2017,2018,2019]
["Afghanistan",1.4774954806930001,1.4758134356929999,1.529542536693,1.486272355486,1.913149329486,1.7135858974860001,1.6308030566930001,1.894226898693,1.639085172693,1.764070125693,1.7472731721400001,2.05098052071,1.9934062452400001,2.6667178390699999,2.6848809949999999,3.3910423644400001,3.17121992003,2.8064330486000002,2.7014915022400001,2.5653840363299998,2.5823890287900002,2.4900671719299998,1.7176042389999999,1.5781868294000001,1.2841498442999999,1.1443007773,1.1650529949999999,1.1537610789999999,1.1655394509999999,1.1178100886,1.095767919,0.98637176569999996,0.85978408660000005,0.68311985259999997,0.77934530257390999,1.08153357226372,1.1600795897503999,1.20302308926165,2.7074201427948998,4.2481423563079996,5.6419219664720996,6.9232136869070997,9.6956963483041001,16.3402576462166,10.3705940391803,9.8525739077611991,9.4815688277611994,9.9912861677611993,10.4045863277612,10.9988564877612,null,{"$f":"IF(A3='data countries'!B14,\"ok\",\"falsch\")","v":"ok"}]
["Albania",4.7157337546860001,4.7160458726860002,5.3703069046399996,4.7948425164120003,5.1614383184000001,5.2353038597600001,5.5976217199300002,5.9887961437200001,6.8180496439000002,7.92327611302,8.0615654834600008,7.0647837354999998,7.2678268910500003,7.78379088292,8.4200694745300009,8.0642927075220001,8.143302771658,8.2894328836080007,8.1931527979080006,7.8923013105219999,6.6471360242620001,4.4352820897320004,2.42020374767,2.2752520463220001,2.3872059000979999,2.112509893326,2.101449418384,1.6288764038100001,1.954125436122,3.1211222896659998,3.264441152262,3.4723850409699999,4.0299736155419996,4.2336186077519997,4.4360020358799996,4.1991368322179996,4.1606117967399996,4.2687522765399999,4.2224251303999996,4.3175052025399996,4.5996947895,4.9951696721700003,4.5546108480600003,4.7877485247499996,5.3222875810800003,4.9759505084900004,4.8152451444000004,5.4652819936660002,5.4464715575709999,5.659284520171,null,{"$f":"IF(A4='data countries'!B15,\"ok\",\"falsch\")","v":"ok"}]
["Algeria",18.925176596669999,22.310182869670001,34.368863898519997,46.468951812340002,39.294911476590002,35.704258599980001,46.316589192339997,51.284902853049999,56.554711300660003,56.523009303819997,56.59156904049,53.23986739123,54.893168635469998,57.45307493104,60.496820175979998,69.796166158869994,72.640393776569994,69.806863284919999,70.546084375549995,71.005839820220004,67.969325744800003,72.077232341230001,79.997947181499995,80.252184809110005,77.713989223699997,80.304494642440005,79.192048100639994,77.635993832140002,77.774387750749995,81.007710621849995,83.698070221890006,82.100722490259997,86.589551629119995,93.044848946779993,92.694516190529995,98.21417512491,103.36837325867,105.99260066284,110.81162409616999,114.20143554177,116.43738652397001,122.7905633158,137.14872915648999,141.45051578491999,152.70786299608,162.42489025295001,160.64125733495001,159.91020299354,171.32523035246999,180.56991648247001,null,{"$f":"IF(A5='data countries'!B16,\"ok\",\"falsch\")","v":"ok"}]
["Angola",8.9525682603500005,8.5383047773499996,10.38855868011,11.371997330211,11.832576527977,10.929283706428,7.3162389483350001,12.056612081803999,14.238035958033,14.20325458113,14.340821004265999,13.254526518737,12.793999388844,13.249975656426001,13.388746882556999,14.139485062662001,14.288196479622,14.553280072547,15.004022411112,15.166935755876001,11.296596664387,11.84939937191,12.194742976818,12.211972315499001,11.566750832153,13.038112980717999,15.771514504099001,16.498972923897998,17.136328075110001,18.132880909514,16.613193694899,16.292817261422002,16.034843009252,17.448420005563001,17.503684558528001,15.977531770589,16.733201936168999,17.242213678666999,19.494945225698,21.318476282365999,23.810683524167001,24.774455380086,23.719402896009999,26.622531162232999,28.809556655929999,31.476188609771,31.979254759415699,27.3795495623223,25.493543289548501,25.819085779548502,null,{"$f":"IF(A6='data countries'!B17,\"ok\",\"falsch\")","v":"ok"}]
["Anguilla",2.1682896021499999E-3,2.1683231757699999E-3,2.2637492642500001E-3,2.1089562006400002E-3,2.3502609476099999E-3,2.58403307363E-3,2.4344739145299998E-3,2.5370637654199999E-3,2.9016102706200001E-3,3.2130134094300001E-3,4.4126315203000003E-3,6.63977529322E-3,7.0188553732600002E-3,6.0888869990899999E-3,5.8011387322299997E-3,3.6708259000199999E-3,3.1546451567E-3,6.1258800414E-3,5.7972181155099998E-3,6.1484955854200002E-3,6.1144289948000001E-3,7.5794417518400001E-3,7.9029319634000006E-3,9.9522039152000006E-3,1.31312633119E-2,1.6395662766300001E-2,1.6213337490799999E-2,1.3563753975899999E-2,1.24487722325E-2,1.1750833761500001E-2,1.55314395258E-2,1.5909381069899999E-2,1.0857805668100001E-2,1.41050723358E-2,1.3471208041799999E-2,1.3661205713E-2,1.28122867303E-2,1.23545563716E-2,1.52684915651E-2,2.0160956288E-2,2.4004519832400002E-2,2.6008036776400002E-2,2.60232096264E-2,2.7940523751499999E-2,2.7896050912700001E-2,2.8005445025299999E-2,2.84467619684E-2,2.30693220983E-2,2.38677500641E-2,2.3439420369899999E-2,null,{"$f":"IF(A7='data countries'!B18,\"ok\",\"falsch\")","v":"ok"}]
["Antigua and Barbuda",0.12080997425932,0.12080438687332,0.13983829805049999,0.15340961383391,0.12670408582505999,0.15996715456187,0.14135955304021,0.15640705571187,0.16208418360815999,0.15223565343681,0.15110464589681,0.13436714725240001,0.1761172455825,0.1022787227401,0.1436442401984,0.15655933886494999,0.16840622522559001,0.22170354886325999,0.23043816945635001,0.22192819647792,0.22343220608986999,0.23808631132652999,0.23945912350939999,0.22807681824920001,0.26278746995250002,0.26003674682330002,0.26264518088400002,0.2496092074149,0.2455838014044,0.25680994662349999,0.24376436463250001,0.2427303441532,0.24116955113040001,0.2748792742733,0.28369766274539998,0.28277320298800002,0.273886972846,0.2829581156532,0.28807816640189998,0.33560776334640002,0.35645657857594998,0.35301668938620001,0.61546893345489995,0.6358595767088,0.56825826022220005,0.62413106022580001,0.6319464160578,0.50836262209479999,0.52344476542639995,0.50999899557320005,null,{"$f":"IF(A8='data countries'!B19,\"ok\",\"falsch\")","v":"ok"}]
["Argentina",88.759926410299997,89.213223080299997,90.372632853499994,94.496762863800001,94.3470976511,92.274551943340001,97.162059134169994,100.62759773729999,101.86784398650001,107.19405868379999,104.7168603355,102.366347461,100.5113225795,102.5611820239,100.6712346578,95.103945229380003,106.40877746005,111.21517684894,116.53076007976,114.16238654180999,108.1223503583,112.45396359990001,116.0062662057,115.3009990221,124.1715683062,128.13009841350001,135.92833414239999,143.41021992890001,147.4603323465,152.4933776055,150.8408660261,141.27610648359999,133.41936556780001,146.5162699105,162.85434721569999,165.7579748377,176.55227651070001,184.28691326360001,196.21518779830001,186.16708813509999,191.57095263580001,199.7267519692,205.57829277050001,202.03548617429999,209.98132980470001,212.8736207174,212.611025826,206.06061915974999,204.9208239557,199.41376942869999,null,{"$f":"IF(A9='data countries'!B20,\"ok\",\"falsch\")","v":"ok"}]
["Armenia",10.916012287999999,10.936794697146,11.746671998064,12.807500281739999,13.860662198010001,15.24417088165,15.745712132,16.33748558169,16.947145315149999,17.61084633059,18.722285480869999,19.1208475428,19.635804025300001,19.732236764900001,19.8230087769,20.0587530122,20.195736124,20.447215585999999,20.463797982999999,20.101008763999999,20.699069346999998,21.559445265000001,11.003951988000001,5.1796788610000002,2.8835578829999999,3.6180160159999999,2.6752084247000001,3.4314932275999999,3.5619713547999998,3.1986511875999999,3.6613874750000002,3.7273603814,3.196346658,3.5693232101999999,3.8345407562,4.5418201672,4.5801365442000002,5.2926923372000001,5.7944903522000004,4.6574050572000001,4.4618751561999996,5.0885146602000004,5.8685824381999998,5.5554937942000002,5.5291025451999998,5.0060359692,5.0731306262000002,5.4128674293000003,6.1974867271000003,5.9219781188000002,null,{"$f":"IF(A10='data countries'!B21,\"ok\",\"falsch\")","v":"ok"}]
["Aruba",2.129257975206E-2,2.130573718806E-2,2.4494990095759998E-2,2.6774420435319999E-2,2.233859002635E-2,2.7893236885310001E-2,2.4797521104370002E-2,2.730685144331E-2,2.8252958484690002E-2,2.6613607334800001E-2,2.6432038018800001E-2,2.807760596986E-2,2.648206194279E-2,2.672931370003E-2,2.999507614869E-2,3.2593290409890001E-2,3.4970204788119998E-2,3.8298848702540002E-2,0.23036731120635001,0.2585799820909,0.29731870874319999,0.35629255580980002,0.35840165831920001,0.37909045394890001,0.37484669499200002,0.44469955013099999,0.30018439032170002,0.46217184709199999,0.45465649039400002,0.47544898480800002,0.45122094887999997,0.48362323321700001,0.48048582991099997,0.47971442383099999,0.53032645816699997,0.470129404345,0.48549269679399998,0.43923339589400001,0.44719005820300001,0.46927375096469998,0.49846227560630002,0.45857379762189998,0.79974518487640001,1.0163062106361,0.95812469602060002,0.95958302279240004,0.97160780158760096,0.78142491367620004,0.80463597786929997,0.78394590820020005,null,{"$f":"IF(A11='data countries'!B22,\"ok\",\"falsch\")","v":"ok"}]
["Australia",160.99138358875999,162.29579772436,168.19456289049,177.85193654130001,187.06050505920001,193.91567152979999,196.71246162950001,209.93491957430001,206.46079318610001,212.23257334799999,222.44831835709999,223.3748547518,229.6708567,218.02912777660001,223.77958484889999,238.27846932630001,238.70591631299999,249.76637715929999,258.67262657610001,274.33433174539999,277.60962603830001,279.60621821569998,282.88316449569999,286.96340394200001,292.6408603703,302.71477484590002,313.40578777040002,322.38848438759999,343.25059046860002,348.46904750060003,354.227999001,360.82011007,368.93369676650002,372.92922227470001,387.10315411300002,392.06029388849998,398.38607499459999,408.82874323589999,411.99364009779998,417.44441125790001,413.27898696429997,410.89696461950001,410.48511145369997,406.0959061785,396.94325508899999,404.02130018219998,411.85764432573001,414.45586567096001,416.04940426309997,433.37891027209997,null,{"$f":"IF(A12='data countries'!B23,\"ok\",\"falsch\")","v":"ok"}]
["Austria",53.981067636349998,56.22891614585,58.556803428670001,61.842494890109997,59.446066046970003,57.148907908650003,62.338324621140004,59.656381662939999,61.767600798860002,64.215209938070004,62.312437253829998,59.046267307500003,56.911361900819998,56.939508767589999,58.778033987459999,60.173358828429997,58.960245498719999,59.601864863019998,58.188961832810001,58.202200566080002,62.927026767210002,66.654182272499995,61.496949576410003,61.594626550549997,62.183844026369997,65.282545980530003,69.148356303569997,68.821807289660001,69.382328569590001,67.455411712339995,68.106299399139999,72.838031806610005,74.238318235639994,79.302835529969997,80.412298751218003,81.008655731858994,78.839544986248995,76.561334435329897,76.623927447450001,70.011186354949999,75.329092164000002,73.477823073078994,70.767126262298007,70.995298594303193,67.498782254657399,69.037782781642406,68.859183640906195,71.715301918286997,70.446920686689197,72.363175590574599,null,{"$f":"IF(A13='data countries'!B24,\"ok\",\"falsch\")","v":"ok"}]
["Azerbaijan",32.276821550459999,32.311308784460003,34.768071927169999,37.758095317319999,40.686294035190002,45.148940581410002,47.20717599892,49.48133136717,51.887724428730102,54.321911935289997,57.525423281069997,59.423163210479998,60.835498569450003,62.752358504790003,64.433446416579997,65.593082216200003,68.343236895999993,70.804360050919996,71.819371033630006,72.150052490099995,54.633221093160003,53.190506046369997,43.30424881207,38.099710570269998,33.862661257409997,32.842636201730002,27.53498864446,26.795928820579999,26.806234923449999,26.492524763445999,28.066503326420001,26.715042461820001,26.479954167390002,28.962501276200001,28.685190895520002,30.48565338225,30.91097025262,28.091554838259999,31.033132369339999,25.941012100719998,24.745678298630001,28.00286265191,30.81060324341,31.745914099499998,33.09571327514,32.79315525773,33.29762860113,32.648302337049998,33.716113233039998,35.983696817039998,null,{"$f":"IF(A14='data countries'!B25,\"ok\",\"falsch\")","v":"ok"}]
["Bahamas",1.6171246418931999,1.6405855340832001,1.869982942005,1.9875325755891,1.6414074650006001,1.7735645262187001,1.5340393658521001,1.7062723359187,1.7839606747815999,1.7466635214681001,1.7228987120681001,1.6930744770249999,1.383279023357,1.051081826111,1.0588015765000001,1.0305306197840001,1.1089301260058999,1.3288724732993999,1.3051962372290999,1.4039079575933999,1.5243596465975,1.4669261120103001,1.237656713801,1.254222750421,1.351856869576,1.5957887169560001,1.797925104051,1.708463491356,1.8895139410049999,1.757504201775,1.6334404201379999,1.6264174811330001,1.6158811553270001,1.9541845978870001,2.016968042397,2.068774342103,2.0035489909719999,1.9766718570220001,1.3773743304099999,1.645133497677,1.7474384394972,1.7282836149530001,3.0143096480840001,3.3676511424675999,3.1359393085781,2.9976655587316001,3.0352199434984,2.4414084980880002,2.5138785398435002,2.449274735111,null,{"$f":"IF(A15='data countries'!B26,\"ok\",\"falsch\")","v":"ok"}]
["Bahrain",2.9619417860500001,2.9808043799499999,3.5706114795300001,4.5080453843199999,5.3150808428299996,5.4882059530099996,5.9554076661000002,6.5734376751400001,6.9590893602000001,7.42598625764,7.5288224121900003,8.0603050913200001,8.4977177367899994,8.8261202765999993,9.0340665202500006,9.6384466189900007,10.95606714535,10.71060318862,11.31574739575,11.4048797179,11.988305059309999,11.563879394600001,13.601089725510001,14.715592172839999,14.987145742819999,15.224298998949999,15.79665985323,16.24897055093,17.243065401909998,17.31893130608,17.763941153320001,18.400300339880001,19.21892314175,19.90377999164,19.916139990600001,23.369685656230001,25.44655290515,25.848983550370001,27.68832113485,27.67103049004,28.842225200470001,29.043770460440001,29.62152895789,32.178619808070003,33.268334912199997,33.61617837451,34.13681715005,34.546816041440003,32.912264916129999,35.438383923129997,null,{"$f":"IF(A16='data countries'!B27,\"ok\",\"falsch\")","v":"ok"}]
["Bangladesh",3.3476400447080001,3.3235314347079998,3.5319096647079999,4.1601005267569997,4.3784755833300002,5.2385610490100003,5.6168972858119997,5.793955140305,6.2084363886820002,6.910879486652,7.7491889324940004,7.5494293472080001,8.2105978671049993,8.7295727460970003,8.1864142924679992,9.4573153158049994,10.483520799154,11.462371864329,12.482870501933,13.644990332118001,14.378325237386001,13.665046371948,15.282165083772,16.146398440915,17.441687773020998,21.265970881634001,21.628800291912999,23.298035441698001,23.806193899014001,25.45143904963,27.523027944904001,32.282533186873998,33.966431975047001,35.412544802409997,37.409196223987998,39.780322841797002,42.838645538243,45.294789843027999,50.842186884261999,53.953016642839998,59.533580825617001,63.005295268636999,66.981115041546005,69.214859293493006,72.755724527978998,80.583670028825907,82.496228446581796,88.121623314179402,93.554860948577002,110.163867828577,null,{"$f":"IF(A17='data countries'!B28,\"ok\",\"falsch\")","v":"ok"}]
["Barbados",0.29362294122479998,0.29346442800479999,0.33822298662880002,0.3639394869825,0.30157897244679999,0.37855093059639999,0.34423171662520002,0.37730682592640002,0.40024231227570001,0.38132291840920002,0.38191230769919998,0.42109442903299998,0.39819145469689998,0.43105011803999999,0.50063764823500001,0.65107856306559997,0.73792663502419997,0.72445412779910001,0.70759127687580003,0.78252101662079998,0.77634721213799995,0.81648455799959996,0.784335032958,0.75540849044799996,0.71108923172399996,0.71193060769700001,0.665772853336,0.80376051183800001,0.88162029209799997,0.92776855218099996,1.649890254387,2.1479139318509999,2.1541644259039998,2.3539027954549998,2.0281816027669999,2.1618480839499998,2.1701473683920001,2.1638914885060001,2.2597877038040002,2.3062587227929998,2.3367581121193002,2.320278555072,2.8303818221101,3.1166793354891,3.0509874065371001,3.1732034506565001,3.4106295572565002,3.1207350434565,3.4079367686565001,3.8273918147565,null,{"$f":"IF(A18='data countries'!B29,\"ok\",\"falsch\")","v":"ok"}]
["Belarus",64.176887883909998,64.346067460910007,69.079303610880004,75.007794369430002,78.779211686650001,87.421351264470005,88.651413822730007,92.33711712345,95.606847188740005,100.10291414770001,101.46889710071,105.45899387185,105.07536607362999,105.45321452757,104.16714502969,103.98826331122,104.68837904826,104.39233263216001,103.14343183421001,99.413632007529998,109.0162744222,104.9682769929,94.954555728870005,82.066999013290001,70.11869027761,62.638159953360002,63.518076515680001,63.844123858800003,62.169191189849997,59.986305278659998,57.790031140510003,56.524776728630002,56.67670702305,57.226146877300003,60.536375088690001,61.294830499260001,63.724157762110003,62.297711690840003,65.464817738850002,62.813533399039997,67.08042448162,64.271561078220003,65.218429184320001,65.8046886308301,64.972717969170006,60.384037243670001,60.486859379099997,61.722115025100003,65.475200779415005,66.335265099270003,null,{"$f":"IF(A19='data countries'!B30,\"ok\",\"falsch\")","v":"ok"}]
["Belgium",140.35845237204001,130.1392730849,141.6806863983,146.54977423029999,145.029189992,127.84496302150001,137.63092544310001,135.08128721579999,139.63114351780001,148.88609513310001,137.98665782160001,126.06193572239999,118.3218525656,108.63515608495,111.43509956568001,109.00920734715,109.5807434359,109.698598434,112.0243954419,113.1040871763,115.99552578940001,119.9993856989,117.96680833094,116.03582964810001,121.28321890780001,122.42226387060001,127.3785242997,124.1619242198,127.3656841744,123.1274065729,124.86910619290001,125.02054822860001,118.4618557604,123.457906263,122.30461915079999,118.6894434764,117.47514461999999,113.8612285741,115.4903369602,107.841729206,115.887755391694,105.13782772704199,103.785804820641,105.299430830335,99.019971611061905,104.05981497164601,103.26630151974101,102.33519768254099,104.61460864301,104.41490268344999,null,{"$f":"IF(A20='data countries'!B31,\"ok\",\"falsch\")","v":"ok"}]
["Belize",6.1532961025170002E-2,6.131922374617E-2,7.0928999380309998E-2,7.7724861560060005E-2,6.4400514589040003E-2,8.1107167805940003E-2,7.1707073075109998E-2,7.9243192675940002E-2,8.2185729252070003E-2,7.7281978346409999E-2,7.6761427487409994E-2,8.1607673405699993E-2,7.6764026092400003E-2,7.7552500120099996E-2,8.7347416167099998E-2,9.5202403484170001E-2,0.13569131778947999,0.11264727769162,7.894904255877E-2,0.11284917711895,0.18753902603822001,0.19977544197543001,0.16134185764299999,0.15377559510950001,0.15177996559279999,0.18711214449409999,0.15174863085090001,0.215159436817,0.21205901596939999,0.22170122103420001,0.31453116571200002,0.41600501342599999,0.41332916115500001,0.412684212015,0.46110798237799999,0.44026782246700003,0.42671052659399999,0.47141903617199998,0.25775824969209998,0.23712579153249999,0.25193839225818998,0.24903740745040001,0.43282579518339998,0.44714292920510001,0.41959275108029997,0.44010504162149999,0.44563648688820001,0.35864785589710002,0.35895945753530001,0.3709959740903,null,{"$f":"IF(A21='data countries'!B32,\"ok\",\"falsch\")","v":"ok"}]
["Benin",0.32045384799999999,0.370950316,0.47109401499999998,0.48614835699999998,0.49905797400000002,0.55878298500000001,0.37656047199999998,0.43799376000000001,0.46543932599999999,0.52104072700000004,0.54710168999999997,0.45782862455000001,0.53001575951000002,0.52339738279000003,0.53776765513000002,0.63235817539000005,0.56893324842000004,0.51867206685,0.47096511334000002,0.41726612133000002,0.41522521170999999,0.36750655488,0.39903745391000001,0.40468810957000001,0.41158013392999998,0.42017269444999999,1.0981369130600001,1.3902335581,1.3401695627200001,1.4733911790000001,1.571808834,1.8844094440000001,2.1746073909999999,2.4327339659999998,2.591991846,2.8387510159999998,3.8973245780000001,4.4292701330000002,4.3979801299999997,4.7162524320000001,5.1059679920000001,5.0079672479999999,4.7574508890000002,4.9819035190000003,5.298271722,5.9852844940000001,7.4167673900000004,7.5336980499999999,7.8812424410000004,8.1526527550000001,null,{"$f":"IF(A22='data countries'!B33,\"ok\",\"falsch\")","v":"ok"}]
["Bermuda",0.16120739691845001,0.16123307827844999,0.18666505473209999,0.20482387044879999,0.16927575392079999,0.21367210188449001,0.18888820554894001,0.20896374569449,0.21653614618750999,0.20340620577240001,0.2019029192624,0.1884379872262,0.17714324118249999,0.20386888478010001,0.2298508257054,0.2195427927137,0.23615481973880001,0.36946467982539999,0.42217327597830001,0.47999626867880002,0.3354436234648,0.3180199972187,0.24059618380940001,0.26690348344390002,0.26387700535250003,0.26110024147330002,0.30092842142170001,0.28599911446269999,0.28136818006940001,0.29416992281210003,0.27923542197700002,0.2436573974032,0.27622975159329999,0.27577905822330001,0.31977338395999999,0.28364516113799998,0.274744616296,0.37736597808799999,0.25715266739210002,0.33643194469639998,0.35727617967594999,0.35383181273620001,0.61627897292489997,0.38325355194729999,0.37677575278716002,0.42833279429400001,0.43361136554570001,0.34903648224779998,0.35928481139090002,0.35002428651520001,null,{"$f":"IF(A23='data countries'!B34,\"ok\",\"falsch\")","v":"ok"}]
["Bhutan",3.7829460236019997E-2,3.9858426036020002E-2,4.2952639668020001E-2,4.4996225686060001E-2,4.5895431707060001E-2,4.5767700957559998E-2,4.7665834334620003E-2,5.0474658939219999E-2,5.3301853005620001E-2,5.5221872565519997E-2,5.5860468320010001E-2,7.8269218982200003E-2,8.3330562208000003E-2,8.3843325450099995E-2,7.6652432720300007E-2,8.82185935092E-2,8.8155189754799995E-2,0.19659643376390001,0.19460673179829999,0.17494911102589999,0.20828692848819999,0.20873377844630001,0.19713847092,0.19176286412999999,0.24470737933,0.35353651438,0.37311246337999998,0.41614035700000002,0.44167179810000001,0.56216065100000001,0.45257232850000001,0.42164533300000001,0.4705385386,0.40070275524999999,0.31509842339309002,0.51451758326365005,0.54011070020415997,0.46594467259694,0.71309600760392,1.19380287046156,1.31925579132869,1.56042669112386,1.8658173568148999,1.1661020091762,1.1706168368418901,1.16163274367231,1.3992922996550301,1.54309980150798,2.0758387174084398,2.1241822668410801,null,{"$f":"IF(A24='data countries'!B35,\"ok\",\"falsch\")","v":"ok"}]
["Bolivia",3.0728206478389999,3.8210663298390002,4.5227072848849996,4.2126082885029996,3.9786698445919999,4.5456414505999998,5.1382778116900001,4.9312805646599998,5.6022458117799996,5.03105737935,4.9329788318999999,5.2693663655799998,5.5300264729500004,5.6544574884500003,5.2428479335739997,5.0263526708060002,4.7684366934740003,4.9652002811299996,5.2762007885099997,6.1662978295000004,6.5344658547799996,6.8025160468100001,7.3444562203299997,8.71658775525,9.3624919961099895,8.4594803998499994,7.9578064381500004,8.7372128580900004,8.4042818285000003,8.0155913302799995,8.2996419021300003,7.7541333995499997,8.12594657022,8.8878952131200002,9.4852260440399991,10.000022831920001,10.77052164927,11.68511328113,12.735518885359999,13.52468449145,14.83457547405,16.150110046510001,17.926902863110001,18.112996992229998,19.56068054276,19.608757380579998,21.665645489237999,23.712567993438,24.168599131600999,24.511726385500999,null,{"$f":"IF(A25='data countries'!B36,\"ok\",\"falsch\")","v":"ok"}]
["Bosnia and Herzegovina",15.738496396641001,15.776126023641,14.685449893897999,16.055444502454002,17.297629397923,17.769359054346999,16.243845590934001,17.620310121334999,17.191234769783001,16.858698979842,16.657351305155998,19.070454540636,20.990763845162999,22.409243445501001,22.121962242822999,22.939836404472,23.217956647726002,22.182675351467001,21.737145831854999,22.107704766977999,24.558831009367999,21.99224208531,16.275481520000099,13.668308779,3.3721243689999998,3.583482987,4.4678714739999998,8.7958369709999999,11.108823022999999,10.95741033,14.340765666952001,14.146691574828001,14.893389455392001,15.241303462868,16.093775333591999,16.903099836606,18.743882670120001,19.736804994410001,21.652440143678,21.654069650943999,22.190682889546,25.234480413778002,23.253003541018,23.198111199102001,23.505892162963999,24.031115990450001,27.227194804831001,27.598818061176001,27.950617415500599,33.495527245827198,null,{"$f":"IF(A26='data countries'!B37,\"ok\",\"falsch\")","v":"ok"}]
["Botswana",0.28647832626129999,0.2866502968613,0.2952441870268,0.30506395514529999,0.31492849033370002,0.35276831049669999,0.81867189752150005,0.91799192370850002,0.97467008164830005,1.0367256097118001,1.1416767082613,1.3864367735000001,1.446456787,1.418408742,1.4132995159999999,1.512474519,1.7386253405000001,1.803989839,2.1639535950000002,2.3843812665000002,2.8179812095000001,2.787141858,3.3974537594999998,3.3504559660000002,3.2130494805000001,3.3419229795000001,3.0100685304999999,3.2156513455,3.8274651144999998,4.0315478725,4.177269237,4.0546598505000002,4.2311954915000003,4.1417992320000003,4.1562138314999997,4.4670287240000004,4.2598973144999999,4.4893737864999999,4.5405918595000001,4.3169689279999997,3.4995273889999998,4.116279531,5.1089301799999998,5.529153086,7.0774631990000003,7.1695135780000001,7.0767243510000002,7.8115124180000004,7.560036889,7.0393055770000004,null,{"$f":"IF(A27='data countries'!B38,\"ok\",\"falsch\")","v":"ok"}]
["Brazil",109.51649266859999,109.2140910036,120.9902563385,138.43715969659999,148.31848756190001,156.65726783509999,174.77282842470001,182.53682610999999,196.40413474819999,209.47102197199999,209.83069649609999,194.25063158890001,193.17217516389999,181.8842259596,186.28892919910001,194.5150475664,218.06894619670001,222.6873395442,225.0885591974,226.7808227285,228.13811054070001,235.38504149900001,238.80164811635001,249.96361903819999,258.24187245960002,278.0206924597,301.310666572,321.64277700069999,331.01385167199999,339.77922067959997,362.3827759664,363.04986377099999,362.6120981368,362.6319271287,378.81966659670002,381.78027299190001,384.54875556109999,401.69639806589998,421.49822702810002,394.47160011160003,446.56576565559999,467.28965926860002,502.86397440420001,526.85476789009999,552.84129212339997,521.45727522959999,488.16678344249999,497.2705524104,479.96872186550002,478.14686895649999,null,{"$f":"IF(A28='data countries'!B39,\"ok\",\"falsch\")","v":"ok"}]
["British Virgin Islands",6.6213269393229999E-3,6.6246396893229996E-3,7.656696615409E-3,8.3938886916849996E-3,6.9555703954080001E-3,8.7546108373739995E-3,7.7514489873399999E-3,8.5647919673740008E-3,8.8721083752400006E-3,8.3421744909080008E-3,8.2848699196079994E-3,1.375384873335E-2,1.296253758266E-2,1.306156199711E-2,1.3563769690989999E-2,1.5220436360248E-2,1.7900837657354E-2,2.2918535151635E-2,2.5423197130459999E-2,2.6166667929659999E-2,2.6353284417800001E-2,2.8080615563750001E-2,2.9944964050240001E-2,2.8469217642169999E-2,2.8288262960960001E-2,2.7996812618909999E-2,3.1541663070210002E-2,3.006776505333E-2,2.958861559249E-2,3.0938728946699998E-2,2.9299198901099999E-2,2.9178726514649998E-2,2.8995348098519998E-2,2.8951864243020001E-2,3.5618970866499997E-2,3.1608843305699998E-2,3.062406083159E-2,6.2822865276300002E-2,6.39601641305E-2,6.7115278289300001E-2,7.1285287845190004E-2,7.0597331507200003E-2,0.12308783194101,0.12716604080575999,0.14582767674107,0.14873285887771001,0.15060291331421,0.12114035014157,0.12474432899399999,0.12154624237615,null,{"$f":"IF(A29='data countries'!B40,\"ok\",\"falsch\")","v":"ok"}]
["Brunei",2.0420596086399998,1.8888734647900001,2.22366759257,2.6082839844399999,2.5689658850699999,2.5682080694499998,2.89051643116,2.9219667874300002,3.0699901616299998,2.7335313960000001,3.3992818748800002,2.8368075894799998,3.07886838777,3.2670637448359998,3.0273012860600002,3.0370347573190002,3.011322573128,3.06949733071,3.2093719031769998,3.1884575298939999,3.3423360146609999,3.707376672718,3.902977235427,4.0673142730140004,4.3631475309279999,4.6981250275119999,4.9273602556710001,5.4871743541529998,4.6709246025690003,4.5926939339509998,4.8879880021539996,4.8760991663960001,4.7909328272479996,5.7024982688349999,5.2683536948349996,5.1743039638979997,7.6970060682219996,7.2981819065159996,8.0424747199500004,7.9970661030150003,7.3366700125479998,7.5117589055379996,7.4760636929629998,7.3814705352659997,7.2121214851479998,6.5174144174670001,7.0968296960100004,7.4364507308879997,7.3074517350069996,7.0204393269069998,null,{"$f":"IF(A30='data countries'!B41,\"ok\",\"falsch\")","v":"ok"}]
["Bulgaria",70.575661846179997,70.483358436179998,72.851862867920005,74.18109578296,75.604021636110005,80.474955981999997,81.522242751830007,84.44596686621,87.281831067019993,90.505522366479994,93.551934611470003,89.538579520420001,91.638541320420003,90.548977780409999,88.994748483470005,91.387229709630006,92.578392442679998,92.928306320939996,91.973525057939995,90.908848588040001,82.346277137279998,63.13102416121,59.913874883779997,60.647817310180002,59.035973389219997,59.960925313899899,60.826617856440002,57.351995882159997,53.404312914969999,47.747803416650001,47.581983108929997,49.633963737119998,46.826952426319998,52.671581056889998,50.532744255670003,51.792015577220099,53.053015116170002,56.978411005470001,53.922225851500002,45.954709203450001,48.525624443410003,53.745696544520001,48.88235900171,43.783548019770002,46.245201815400002,48.608069927800003,45.579460054990001,47.932639550429997,44.93725814367,43.314102026610001,null,{"$f":"IF(A31='data countries'!B42,\"ok\",\"falsch\")","v":"ok"}]
["Burkina Faso",0.24577535396130001,0.24635208396130001,0.2444128672268,0.25047658374530002,0.26496753313369997,0.27781655029669999,0.2784633477215,0.28656196920850002,0.28208133834830001,0.31463756941179999,0.34307595676129998,0.31768170798200002,0.30498853787000002,0.31174083136940001,0.30394488601370001,0.31482003316969998,0.3847392192263,0.48129921930879999,0.45728399456259999,0.42058319207209999,0.3795355044989,0.5014204386951,0.45205384835880003,0.50005467599779996,0.50619068604219997,0.52345652950370003,0.60323468587020002,0.99751678587100001,0.83985595649540001,0.87063520696759999,0.90290820989310006,0.91683134861320004,0.89765214195484,1.0031233272850499,1.0381233102237299,1.03796850888679,1.0382758440358999,1.23301480485,1.9563484201000001,1.8181536663,1.8735531427000001,2.1479593974000002,2.2546594088999998,3.0650792018000002,3.1184187585999998,3.1200296941999999,3.2249580803,3.3356310288,3.5044236483,3.6432401855999998,null,{"$f":"IF(A32='data countries'!B43,\"ok\",\"falsch\")","v":"ok"}]
["Burundi",4.8308356636879997E-2,4.8444351636879997E-2,4.8121377017789999E-2,4.9029970394220003E-2,5.1515470742280002E-2,5.3646757749449998E-2,5.382080178359E-2,5.5297636001410001E-2,5.4668681724709997E-2,6.0394440868640001E-2,6.5569632376880002E-2,0.10900418399402,5.9751661611669997E-2,0.10726353262314001,0.10468948073790001,0.10883093238992,0.11539209023608001,0.1431188980168,0.25506399300720001,0.234186163527,0.2100096254279,0.3035568152382,0.27270635624930001,0.27223381652099998,0.27465495182350003,0.28268505453539999,0.28957375733509999,0.30912563472409998,0.32731236740418002,0.33777850499303003,0.27932836322409998,0.33692826819493998,0.33239660876305999,0.35141142073388998,0.36373940111372999,0.30747778497558698,0.30796343506844198,0.32994006839399997,0.21106776387000001,0.22228611187,0.22671316251000001,0.27936294189999999,0.30560834840000001,0.27628790651000001,0.28675560154000002,0.28819969342000001,0.29864878546000001,0.31188195436999999,0.32406797217,0.33796448758999997,null,{"$f":"IF(A33='data countries'!B44,\"ok\",\"falsch\")","v":"ok"}]
["Cabo Verde",0.1835800439644,0.18359168676439999,0.18144461284899999,0.18602088276109999,0.19752691430139999,0.2077927175472,0.2074968430179,0.21380539100702001,0.20923867102353,0.23609187254309999,0.25938286718440001,0.23725404138506001,9.0935350113340002E-2,9.2869018023140001E-2,8.9976701007900006E-2,9.3213799349919996E-2,4.0432733076350001E-2,5.6775384839609998E-2,6.0279101591790001E-2,5.4888114381740002E-2,4.8831419436990001E-2,0.11481497477424001,0.10223444463971,0.1013972859084,0.10229039432937,0.10591849949415,0.10863015195403,0.11641733870965,0.10324771659939,0.10657779559768001,0.15560022701246001,0.10608191130164001,0.104522712394355,0.11066318310000001,0.22770017882082,0.22726088999406899,0.227023962245154,0.304700857075,0.30669712576000002,0.32385275528000002,0.33234081051999997,0.39049428123000002,0.40760275442999999,0.73382370409999997,0.75653422250000002,0.87688188290000002,0.90321029068000003,0.93421398618999996,0.98369261620000004,1.0232286698199999,null,{"$f":"IF(A34='data countries'!B45,\"ok\",\"falsch\")","v":"ok"}]
["Cambodia",0.22370416421780001,0.22687692821780001,0.2409631269178,0.27813188449600001,0.31846364719600001,0.27288067319600001,0.26093011201779998,0.27343319311780001,0.25039909871779997,0.27670493411780001,0.28397772966200002,0.30959706217799998,0.35346982785600001,0.37271218708800002,0.37684539968399999,0.41792679420000001,0.36346400300600001,0.40801576823000002,0.41361582074199998,0.39467650368500001,0.40699066376900001,0.467331010805,0.4781687006,0.4696998027,0.34324904519999999,1.5023481910000001,1.6662451659999999,1.7804700250000001,1.991189291,1.9428434510000001,1.998376905,2.1882631950000002,2.249734546,2.4144054499999998,2.4213529650000001,2.685647452,2.9867816170000001,3.6590071050000001,4.056762505,4.838286901,5.0110780000000004,5.2826796949999997,5.5014668950000001,5.6371713830000001,6.691395301,8.6676040200000006,9.9922254860000006,11.528832052,15.897331683999999,16.487865775,null,{"$f":"IF(A35='data countries'!B46,\"ok\",\"falsch\")","v":"ok"}]
["Cameroon",0.90012013700000004,0.94829312700000001,0.98282597999999999,1.033325373,1.008507627,1.2725712090000001,1.1872937809999999,1.64968607313,1.7867303373900001,1.94324677278,2.0738971308140002,2.2159985068660002,2.349727871851,4.701902381429,4.9206239597770001,4.8321091342729998,5.8403380480329998,5.3160425173460002,3.369268242984,4.8164243710279999,4.8087100954100004,4.5851823409829997,4.4103593647019999,4.8139966168289998,5.2028724232309997,5.1967898065389999,5.3403398129699999,5.3784691391669996,5.5977204063319999,5.389270502614,5.7848565052799996,5.7547231366169997,5.6741473984419999,5.78560555379,5.6919665784799998,5.5453499104299997,5.5892010025380001,6.5850718907200001,6.9407530734999998,7.5402429346900002,7.68637558002,7.2745346483200004,7.3330802237380004,7.6926006393800002,8.3847924693960003,9.2567384536340001,9.8354619557260001,9.7862889248199991,9.9414532341249995,10.102199054125,null,{"$f":"IF(A36='data countries'!B47,\"ok\",\"falsch\")","v":"ok"}]
["Canada",359.78394599770002,367.46338743439998,386.30975792240002,405.46900464179998,413.87403593800002,403.52622201100002,416.25215356799998,430.85783161389998,433.62684804610001,449.1810184716,453.76713955579999,434.09922806930001,414.3124783307,409.94872125019998,429.30322393059998,429.5124961665,419.43556600620002,431.55588033340001,463.03806131520003,478.93549326789997,453.40285279850002,446.2493750127,458.77053019289002,457.94891003096001,475.11486312779999,488.46474112020002,501.83854020349997,518.7498700379,525.38305296349995,535.77179114969999,557.41496135140005,548.32345000450096,555.0723807027,574.77364332970001,567.40397914259995,580.22507348409999,573.81232902019997,606.06991195820001,585.38030715057005,550.45486113681,566.70837099164999,577.24591578348998,576.21934460750003,589.622613928183,592.63930667262605,587.567892139847,577.68554066774198,577.993578912761,593.30075037614495,584.84570628879396,null,{"$f":"IF(A37='data countries'!B48,\"ok\",\"falsch\")","v":"ok"}]
["Cayman Islands",2.009196490206E-2,2.0102944638060002E-2,2.3292697895759999E-2,2.5575840535319999E-2,2.114758587635E-2,2.671375583531E-2,2.3634264654370001E-2,2.6163686743309999E-2,2.713063393469E-2,2.5508680984800001E-2,2.5338238418800001E-2,5.35150625708E-2,5.02983245676E-2,5.0761934478099999E-2,5.7269653131399999E-2,6.245625602978E-2,6.7220619034230003E-2,7.3903338731080001E-2,0.15308937859755001,0.14744659259194001,0.14847436986658999,0.15826191050433,0.15918939889299999,0.1516093601595,0.1499054230428,0.1852233535941,0.1870932775086,0.17778932178910001,0.1749217747945,0.18294855449520001,0.1736389068035,0.17290906222249999,0.17180290219460001,0.17153992549460001,0.21224979448670001,0.1881798517961,0.21244596281709999,0.25069322510499997,0.31875347410229998,0.26786627746710001,0.28454626818077,0.28179541426900001,0.49175691869389998,0.50807135256299996,0.47079654024849998,0.49319969433619998,0.49938136869729999,0.4016052246165,0.41353558315139999,0.40289665805960001,null,{"$f":"IF(A38='data countries'!B49,\"ok\",\"falsch\")","v":"ok"}]
["Central African Republic",8.2628754375769997E-2,8.2849454875770001E-2,8.207772839659E-2,8.4063408596429995E-2,8.9044320792570006E-2,9.3101722421890007E-2,9.3338642827169999E-2,9.6111311362820001E-2,9.4557536489409996E-2,0.10532692257727,0.11527161514377,0.15398189213102001,0.14745789875500001,0.15058255326472,0.14682423568684999,0.15255564344486999,0.16179269075412001,0.20291096467520001,0.1924039200554,0.17648553074519999,0.15859606757096001,0.24306856764250001,0.21827519107939999,0.21697414739679999,0.21882547607870001,0.22643785286830001,0.2322017858081,0.24810362151519999,0.22207212330279,0.22901556309535001,0.27587360632410002,0.28089458510410997,0.27717826421588998,0.29269434714184001,0.30257185705688,0.24578059957106899,0.30215299999864198,0.32365846145350002,0.32587686476,0.34305821378000001,0.35156457252000001,0.40974923943000002,0.42688292343000001,0.42027298222999998,0.41030008741000001,0.44899695446999999,0.46184139596000001,0.47695993192000002,0.48273290167999999,0.49383826670999997,null,{"$f":"IF(A39='data countries'!B50,\"ok\",\"falsch\")","v":"ok"}]
["Chad",0.16338905745759999,0.16378260645760001,0.16243398401119999,0.1666883561469,0.17676703393910001,0.18495477274780001,0.18543398131433,0.19228054790564,0.18906676439879999,0.21097716547452,0.22856697680759999,0.21077948608802,0.20227512384669,0.20556975434630001,0.1113639118379,0.11521066118992,0.22082209617217999,0.21269540647519999,0.14329895230360001,0.13322275486345,0.26831701958490001,0.31472057923820002,0.2843405872493,0.13192318540840001,0.13925377372937001,0.14509454789414999,0.20480464268108001,0.21090673311640001,0.19447793090709001,0.19967744900150999,0.19598727681246,0.20365579980247001,0.217696290931532,0.35189644239595003,0.37686037567737002,0.38296070579255198,0.39457082155286499,0.510890778509,0.42667653756000001,0.42127116681999999,0.41688997910999998,0.46677928425999998,0.62473593926000004,0.70559077308999996,0.74022062495999996,0.90256676272000003,0.95570422473000005,0.91941740414999995,0.88143024332999997,0.89358662092999996,null,{"$f":"IF(A40='data countries'!B51,\"ok\",\"falsch\")","v":"ok"}]
["Chile",27.872599684299999,30.322777651199999,31.520575396360002,31.525219167380001,29.588713585080001,26.968585856099999,27.604155974680001,25.822779577270001,26.310168580660001,27.89813598428,27.687075244950002,25.388986231400001,21.572938702630001,22.011900624319999,23.283078327279998,22.46853210514,22.7423502764,22.96077799011,27.722124369119999,33.456837847400003,32.990184266660002,31.443508988769999,32.641282029929997,34.538565749070003,37.701856477660002,41.28791797649,47.449273421389996,54.009868489740001,54.473688414270001,57.061105617610004,53.417126520579998,51.343299826150002,51.816742999139997,53.770726804109998,58.077787106899997,58.867787359979999,60.004711618949997,67.455661433700001,71.001230307569998,67.935070496260096,72.052513612289999,78.646245795799999,80.834652247319994,85.124598426920002,78.993268620340004,84.704004092280002,88.955466701239999,89.856511047889896,91.538441552829994,89.888751787429996,null,{"$f":"IF(A41='data countries'!B52,\"ok\",\"falsch\")","v":"ok"}]
["China",906.56196831939997,910.39914581940002,971.52721054200003,1012.1620982662999,1030.0678180133,1180.9868466544001,1228.3394856284999,1381.1159670843001,1558.1725600442001,1596.7105869090001,1563.285655616,1549.6670421045999,1620.4566654457999,1706.1920253523999,1860.7757088103999,1876.2090142321999,1981.9873216230001,2121.6799420840998,2283.1826942749999,2362.3073572899002,2404.7427139870001,2540.0456046378999,2673.1000765876001,2896.8488790786,3077.9051664536,3392.3501801647999,3376.8949636809002,3435.8746411994498,3514.5330977588701,3447.0660956647398,3682.48334442436,3856.5538716248502,4160.9457340561503,4826.4270666553803,5570.3556109481997,6273.3608150134896,6974.8778624696997,7649.8975073166002,7817.7871554998701,8378.2092532248098,9160.7868911927308,10037.251813700401,10271.4332034134,10532.5114293427,10653.923244130099,10671.339218975399,10691.814408179,10911.2236567946,11157.071498576601,11535.199835903501,null,{"$f":"IF(A42='data countries'!B53,\"ok\",\"falsch\")","v":"ok"}]
["Colombia",31.675273101830001,31.992291311830002,32.907730127240001,33.917326965370002,36.526803482859997,34.29201152041,36.515379922169998,37.504861454189999,39.981802400989999,40.172755311620001,40.986671413990003,41.51401536841,42.096574888249997,44.168686933650001,44.924699175740002,46.482602612519997,47.006953387700001,48.996140176040001,49.555103099,51.088278366399997,52.484339012219998,54.170532701330004,56.188137992820003,59.45313936238,59.019627987299998,61.778571000900001,60.995796128499997,66.209064784600002,67.467440904699998,59.195405900399997,61.636327049800002,61.3090404394,58.951868481799998,58.4600949099,58.599577824900003,60.827084110999998,59.663646823800001,61.383947005910002,61.902730741040003,65.151434666130001,66.722981977079996,72.340292434589998,72.796964528969994,78.111515014670005,80.132918427700005,80.090192935689998,89.037949256869993,77.530630613140005,77.988239434199997,86.549578476199997,null,{"$f":"IF(A43='data countries'!B54,\"ok\",\"falsch\")","v":"ok"}]
["Comoros",2.311464054963E-2,2.3133586249629998E-2,2.2888656347619999E-2,2.34909540806E-2,2.492422232136E-2,2.6207612615409999E-2,2.6201211634049999E-2,2.7008715142960001E-2,2.6485547008549999E-2,2.981536023067E-2,3.2706883939629998E-2,2.993447809017E-2,2.8596821398029999E-2,2.921735390632E-2,2.8816335198568001E-2,2.5484862844989999E-2,2.7239442094456001E-2,5.4762613198729999E-2,5.417050116213E-2,4.9512200560800003E-2,4.9169518356990002E-2,5.8273566187630001E-2,5.2010447069860001E-2,5.1619805804200003E-2,5.2095055564689997E-2,5.3939140057069998E-2,5.5325944887020001E-2,5.9251929703809998E-2,5.2700284200699998E-2,5.4398913898835E-2,5.3222340103818003E-2,5.4218256698824997E-2,5.3472435545177999E-2,5.6576654941648999E-2,5.8554259218055002E-2,0.11494665102403499,0.114863982620576,0.12341662648399999,0.12425507608,0.13112567830999999,0.13452651509999999,0.15779875483,0.16465017563000001,0.20194694821,0.16585914038999999,0.18905057005000001,0.19466569869,0.20127397148000001,0.20780532174999999,0.21385447442,null,{"$f":"IF(A44='data countries'!B55,\"ok\",\"falsch\")","v":"ok"}]
["Congo",1.8060988240360001,2.0688189700359998,1.9817679637829999,8.9651049960679998,12.891165519815001,7.9708768182730001,7.7032890595400003,2.4753838299900002,1.53660046211,1.3967528175999999,1.83208649484,2.05844137841,2.3869960518200002,2.4624587201999999,2.431672708172,2.4706381617819999,2.407511691262,2.4595038176299999,2.433939614617,2.438237998815,2.4033109227849998,2.4519482836340001,2.3929961987069999,2.363762594127,2.1652198788399999,2.751490987805,3.3101653783799998,3.4104582149330001,4.0541342971600001,4.1985028986000001,4.5416585093209996,4.4272404835570001,2.8862097684210002,3.5918436295320002,3.6461198007350002,4.3590170689479999,4.849101726892,4.2918805921359997,4.4608857833429996,4.9479146207879996,5.3261846526600003,4.8843069388530003,4.5098527799220003,5.4844914094780002,5.325157192392,5.3175352570749999,5.0572938974239996,4.9037366595599998,5.8027545365910003,5.8035442847310001,null,{"$f":"IF(A45='data countries'!B56,\"ok\",\"falsch\")","v":"ok"}]
["Cook Islands",1.973382397808E-2,1.9733832518079999E-2,2.0723704571079998E-2,2.3303799280299999E-2,2.8954622944299999E-2,2.4215123824300001E-2,2.2988581828080001E-2,2.4318972108080001E-2,2.4002151048080001E-2,2.7269942368079999E-2,2.8016988231E-2,6.1517761328999998E-2,5.5515347925999999E-2,5.9053666629000003E-2,4.9667324956799999E-2,5.5105224328000003E-2,4.3503968020999997E-2,4.9043516736999998E-2,4.9523127942700002E-2,4.1563622200600003E-2,4.2850098096400002E-2,3.5397900226900002E-2,4.3254567020000002E-2,4.2403148139999999E-2,3.0327630729999999E-2,3.131329385E-2,3.2746988690999998E-2,3.2994019120000002E-2,3.6255581600000003E-2,3.4404398170000003E-2,4.350773644E-2,4.6098866670000002E-2,4.2771470120000002E-2,4.1635721450000003E-2,4.6809734993174E-2,5.8482159156829999E-2,5.4721355867082003E-2,4.9165994798621E-2,5.5904950031307001E-2,5.4317582325390003E-2,5.8615663449671999E-2,7.4037197805965002E-2,0.105983825511224,6.2887889086035001E-2,4.1991993307501002E-2,3.9424952280524998E-2,3.7736648646695202E-2,3.9440894076669598E-2,4.1183520152545498E-2,4.3869066965901399E-2,null,{"$f":"IF(A46='data countries'!B57,\"ok\",\"falsch\")","v":"ok"}]
["Costa Rica",1.4462246673370001,1.4458148823370001,1.6199176235149999,1.841505827872,1.808147114948,1.980131528719,2.0426649523479998,2.5663234918660001,2.7694962380549999,2.7740421220579998,2.493973291544,2.308683213019,1.9642398077900001,1.9997797139689999,2.0855876223980001,2.1976060409359999,2.290853625854,2.419113193377,2.554018709872,2.8849592370539998,2.9242103569640001,3.1720395118729998,4.2738605550160003,4.2878669051080003,4.9899588294650004,4.9955034662899997,4.6972452840800001,4.6650033934320003,5.1942866227169997,5.1672099510000002,5.1330541113899999,5.5467965758900002,5.6575787232600003,6.0986829600799997,6.1863582304999998,6.328924878994,6.9391926364719998,7.6803745226869999,7.6080985095619997,7.3327106430139999,7.2788934544439998,7.5038139831370003,7.5358786420000001,7.915215474,8.0291625324999991,7.7430135429,8.2720604724999998,8.3967144913999991,8.6392456608000003,8.9791114047999994,null,{"$f":"IF(A47='data countries'!B58,\"ok\",\"falsch\")","v":"ok"}]
["Côte d’Ivoire",2.638967482285,2.6910479032849999,2.9905982824490001,3.0761285173370001,3.1606796465659999,3.4317367892870001,3.9188024082739998,3.8883873346770002,4.4960403488410003,4.1973616935790004,3.996347333978,3.6636783755439999,3.4875900227660002,4.1000197190699996,3.6612911400480002,3.36091481417,3.509556301316,3.4275297285719999,3.4664163192499999,3.33305851738,3.027995793898,3.1226249675900002,3.1124202160299999,3.3003864482999998,3.4485114597400002,3.76849917917,4.7003365871799998,5.7096000221900001,5.5354234736399999,7.3776004416800003,7.0527371718299996,7.0780654152300002,7.4887002842100001,5.9339547573200004,6.1261952958599997,6.5479541459700004,6.4232162180800003,6.4334300333699996,7.17010263378,6.6830167880799998,7.5760094734700001,7.4678718487899998,9.4219928841500007,9.9736145683800004,10.73489982003,11.604703797279999,11.94442285617,12.610763502679999,13.093573387079999,13.555149805179999,null,{"$f":"IF(A48='data countries'!B59,\"ok\",\"falsch\")","v":"ok"}]
["Croatia",21.99764850907,21.626556035570001,21.99788836131,23.375291264769999,24.393231009520001,24.452205025510001,24.11752663199,24.557309554570001,25.506248865970001,27.80285834567,25.181519635210002,24.165502082540002,24.922321148529999,26.049395582079999,24.783017707589998,25.75582781604,27.753206029080001,26.271025684329999,28.614671619279999,29.0763854102,25.157814906519999,18.239317164660001,16.705400509850001,17.223200183109999,16.654052923359998,17.114020306859999,17.12643072457,18.846820082080001,19.96119242404,20.076425328540001,19.628491275510001,20.701674181929999,21.69664010232,23.15375225867,23.414294137359999,23.666147651989998,24.056078947730001,25.68992446224,24.43474418553,22.212133097300001,21.460433790149999,20.920720314299,19.298148571014,18.909362338154999,18.305827949339999,18.587092077188998,18.846689676409,19.463266677498002,18.966124126360999,19.119253476333999,null,{"$f":"IF(A49='data countries'!B60,\"ok\",\"falsch\")","v":"ok"}]
["Cuba",21.74101644149,21.805043953489999,21.36485698205,23.143597584759998,25.106614779089998,25.77735690099,27.29031045048,29.767989543950002,32.113266920889998,32.392362990419997,33.235825752159997,33.477337425659996,33.297235086210001,35.902408668139998,37.669681000670003,35.21615047801,35.850657478019997,39.087369842640001,40.77695818942,41.562531116750002,38.517907576799999,30.006272045460001,23.821560256125,21.794988298772001,22.492393343682,23.874414019402,25.854672716949999,28.282594326710999,27.110803753595,28.572049757805001,28.94838852246,27.853412596759998,26.597996802720999,25.828032151470001,25.350117061831,26.179329286720002,26.707337488143999,27.61390157984,26.74062186914,30.519784583149999,33.806429630789999,30.965100799609999,31.767559190179998,30.651623295290001,30.49833021952,30.92646423495,31.912410628408999,30.142866194790599,31.249921933959001,31.043439162959,null,{"$f":"IF(A50='data countries'!B61,\"ok\",\"falsch\")","v":"ok"}]
["Curaçao",4.725364965512,4.7254118239620002,5.4813069554959997,6.0208288513500001,4.962616386284,6.2827761973890004,5.5449263235780002,6.1413995584890104,6.3661554255070003,5.9756532344669999,5.930458457217,5.8939086183300002,5.3608184226800004,4.9817856491799999,5.2838691195800003,4.8044738296949996,5.0719336977060001,5.6513990512529997,5.4562261619869998,5.5468675473109998,5.4738384343830004,5.5196746875529996,5.4717597095899997,5.2467974270599997,5.41002966847,5.6471903343300003,5.6660808173000001,5.7355686073900003,5.6413385957699997,5.6822137257899996,5.3907005519800002,5.4357174449699999,5.1609246609100001,4.9134698083100004,5.1070515973499999,4.7758301465199997,4.8347459436899998,5.2465844620300004,5.8797933301500001,5.7711323597020003,6.2025405710039996,6.9137712342900004,7.3524990927199996,7.806502955809,7.2774297286309997,7.3766763611000004,6.5284106042790002,5.8963701702130003,6.0711488745470001,5.9138273596069997,null,{"$f":"IF(A51='data countries'!B62,\"ok\",\"falsch\")","v":"ok"}]
["Cyprus",2.171708969,2.1874195132000001,2.672100989754,2.7863733749440001,2.13654384737,2.1784547138820001,2.646037210532,2.8083993186499998,2.918633768346,3.1130919702000002,3.2845662063819998,3.1459227739019999,3.1800012931900001,3.1648502879199998,3.2168727259719998,3.1604887706259999,3.511353283564,4.0717554434660004,4.1266691947679996,4.36264801011,4.541047780824,5.0980789713919998,5.3582904142840002,5.5352611423980003,5.7248554749540004,5.6130056224739997,5.90429160454,5.9848924618719996,6.4464396217340001,6.6848871810060002,7.021960981106,6.8715370073599997,7.0592182446459999,7.8013812267920004,7.7294433652899999,7.88075471374,7.9228053013000004,8.2722522526999995,8.4431514547699997,8.2481841614999993,7.9793996030000001,7.6966831180000002,7.1605310979999999,6.5944866366000001,6.9848737482000001,6.9032588715000003,7.3582844173000002,7.4668593974000004,7.3890367760000002,7.4132877815000002,null,{"$f":"IF(A52='data countries'!B63,\"ok\",\"falsch\")","v":"ok"}]
["Czechia",190.07817819197001,190.21622691396999,190.02496533067,187.95164811769999,171.35168433007999,178.4796231004,183.64517112286001,194.04371260739001,187.73925330329001,197.64796321944999,190.14737550797,190.76265014312,192.22559182753,192.75478070951999,195.30598874323999,192.74820431088,191.39642211541999,191.81762619597001,187.46257974455,179.41771478577999,162.83521188796999,147.79711006887001,141.79992803957001,139.44598924740001,133.71644458899999,134.16460435012999,135.30852194791001,132.31016750748,126.50202770774899,119.31723322408,130.702880453859,130.854286191825,125.63974173790901,129.94775221460301,131.102483455189,127.164049112261,128.33718522480399,130.88238173918401,125.605593330511,117.555291297241,120.73261038094,118.026533576896,113.909789908402,109.41693731875699,106.79498669602,107.70357259604,109.49586052393001,109.58478565166,109.15293659965999,105.69319666794,null,{"$f":"IF(A53='data countries'!B64,\"ok\",\"falsch\")","v":"ok"}]
["Democratic Republic of the Congo",2.3368799948989998,2.3684720652990001,2.4640957391859999,2.6781167933610002,2.8443200887979998,2.606845579482,2.699627860468,2.8027219700420001,3.282872287724,3.6282901252620001,3.5914444367240002,3.8366205257599999,3.097559611531,4.0367654194920002,3.9460058542919998,3.69205355209,3.4615551484489999,3.7987770572559998,3.9429070438279998,3.7538786866780001,3.4413158379239999,1.9699250605459999,1.705551803139,1.6509040729969999,2.5663207004139998,2.4006271502200001,2.6465801282100001,2.6546157424799999,2.6454842940119998,2.449113598566,1.96935101286,1.9194023443699999,2.0124827607500002,2.41941325219,2.3179011694099998,2.5893570650200002,2.6609515244800002,2.9294641455199999,3.0055298549599998,2.92052780614,3.0529856171400001,3.4723626850399998,3.1160155926700002,4.2911627049999996,5.4799973073299997,3.56973380185,2.7606206685229999,2.9389761721980001,2.9205217088520001,2.984044159852,null,{"$f":"IF(A54='data countries'!B65,\"ok\",\"falsch\")","v":"ok"}]
["Denmark",62.386342148030003,58.384112727229997,60.448565513280002,59.51999521218,53.143449025789998,55.458754065800001,61.189375298320002,62.917033463979998,62.878023699049997,66.317401663539997,65.765203057939999,55.501157150879997,57.814010442929998,54.307601329070003,55.960671589100002,63.782086484760001,64.434188644979997,62.497322657200002,58.595655035500002,52.91720862623,53.589996552759999,64.26779980885,58.596178330370002,60.812437376079899,64.901025442600002,61.6168001760499,75.026573191340006,65.146284569659997,61.112227850170001,58.109540527,53.9706207109,55.513028268580001,55.048258997250002,60.464585915249998,54.888980205700001,51.379117573579997,59.300720278569997,54.44757837729,51.180539526700002,48.944006221640002,49.062565563089997,44.01136831953,38.808845601400002,40.631335659119998,36.473175576529997,34.019395925277799,35.762051951918302,33.595384264155598,33.715240839829299,31.1185491114176,null,{"$f":"IF(A55='data countries'!B66,\"ok\",\"falsch\")","v":"ok"}]
["Djibouti",0.80468618264140002,0.8047015287914,0.79523670973149996,0.81536996803270001,0.86600287239020002,0.91108543298779998,0.90980162637880002,0.937575529731,0.91749453944350001,1.03564492581,1.1381099446914,0.85158471344620001,0.81113689421000001,0.59844060590040005,0.49061873880842999,0.50834694889450005,0.4938458152804,0.62997886168399997,0.59397517281790002,1.2407106974799,1.1009276375109001,1.3663540692152001,1.2150982928762999,1.2047489753608001,1.2151547229126001,1.2583860622095,1.2906241855484,1.3837759498913,1.2254433490167,1.2651012147720999,1.2871776044205001,1.3108865570206001,1.2910343588294599,1.4220670912689,1.4721792282799,1.4691338922174499,1.35462557725892,1.3960120728400001,1.0388740511000001,1.0971857817999999,1.1260046104999999,1.3237295692,1.3818780247,0.91756879449999995,0.92951007567999999,0.93043988274,0.95675963600000002,0.98934018162000004,1.0194333257099999,1.04912400326,null,{"$f":"IF(A56='data countries'!B67,\"ok\",\"falsch\")","v":"ok"}]
["Dominica",8.5574796119409994E-3,8.5849485119410002E-3,9.8266687356470001E-3,1.0718896786796E-2,9.0170796352889993E-3,1.1205429805044E-2,1.0015060570581999E-2,1.1031707467044001E-2,1.1320915148560999E-2,1.0493829687174E-2,1.0526935401774001E-2,1.4555638005349999E-2,1.3815660373910001E-2,1.379882111711E-2,1.550614702475E-2,1.9002599671090002E-2,2.044498457755E-2,2.4014767958414E-2,3.1443031475739999E-2,3.2330977696059998E-2,3.2541307979820001E-2,3.4605481284929997E-2,3.4728129019749997E-2,5.2518214934449997E-2,6.2241137449199999E-2,6.2579383963220006E-2,6.8772620175700003E-2,6.5462659735799997E-2,3.7654463984880003E-2,6.5680256639100001E-2,6.4874388080600004E-2,6.1360989743500002E-2,9.1683411725799996E-2,9.3058480571899999E-2,9.4354906261000002E-2,5.3789920705700003E-2,8.3436422039200001E-2,8.2242203846300002E-2,8.4629540070499998E-2,8.3650874029300007E-2,8.1697204965190007E-2,8.1008548737199995E-2,0.12702634805101001,0.13110395719576001,0.11885970445147,0.12551550143303999,0.12703647538862001,0.10296243465497,0.10589876023379,0.10327823357691,null,{"$f":"IF(A57='data countries'!B68,\"ok\",\"falsch\")","v":"ok"}]
["Dominican Republic",3.8170025319000001,3.9045538568999998,5.0918472335000002,5.0729855876899999,5.4302517465399998,5.6320234168200001,5.78381639929,6.2484552068600001,6.36633713277,6.7221687789000004,6.9170151285400001,6.5768755841599997,6.3921409766680002,7.3928386894899996,7.7511320056799997,6.84792188619,7.6582476386999998,8.80113910739,8.8285763851260004,9.4039970621200002,8.0422835666280008,8.4221575961850004,9.7731134525929999,9.6545603076980004,11.281056737457,11.992181246057999,12.923175891004,14.688290598172999,17.455194363865001,18.82773580616,19.741834002217001,19.621295840601999,23.388300434826998,19.426304396169002,18.097569383001002,19.424095771758001,20.847046844733001,21.218472668128999,21.136037894695999,20.322721707065998,21.397875553152002,21.344826538043002,22.230677915857001,23.095682724658001,22.297783777387998,23.555681829480999,24.631738640793799,23.5801003149652,24.656431475313699,27.276022125322001,null,{"$f":"IF(A58='data countries'!B69,\"ok\",\"falsch\")","v":"ok"}]
["Ecuador",5.0319955994300001,4.4878217294300002,4.4907124782499999,5.6781419500099997,6.9361833610200003,7.5176324243400003,8.6065874109100005,10.00058921065,11.234975232369999,12.17602402592,12.81527456725,14.108835686280001,14.206370284409999,13.347975284149999,13.75747959213,14.80292080665,15.539839746089999,14.26798783846,16.07163065732,16.20750532816,17.5834975008,17.618002855379999,18.554963712509998,18.094713375720001,18.959510852139999,20.813182573620001,23.977811084820001,24.972024985849998,24.51732664955,20.333162239699998,21.881017824930002,23.274389510980001,23.648057108410001,23.674783445829998,26.343824660559999,28.362872667360001,30.02936049358,30.920489132890001,31.59079346052,34.343323189860001,37.91288540395,38.572534755379998,38.855597726230002,40.580907042649997,43.842323985450001,42.764683207719997,40.921604569519999,39.682335698689997,41.833089646559998,40.699804376060001,null,{"$f":"IF(A59='data countries'!B70,\"ok\",\"falsch\")","v":"ok"}]
["Egypt",25.263920741610001,24.961743641609999,27.198005863999999,25.26114471136,29.23782005652,31.53330151186,36.525205665500003,37.656338212820003,38.160000757090003,41.205554107099999,45.28957441048,51.281486111660001,55.371183000579997,61.799401657830003,68.124153682910006,71.416592646029997,74.572031962660006,80.833330006980006,82.91886917782,88.089518467939996,91.078115108879999,93.172239738640002,96.823265074529999,97.147194097720003,92.914665970130002,99.060455668830002,106.433924594,113.20316442926,118.94246049535001,128.39453730104,126.41204845035,139.82416269396001,143.58751252728999,146.62224642493999,158.97673038798001,177.02251943420001,188.37990064780001,201.57633063220001,202.21628412499999,210.5796594302,212.29801245326999,220.20710391214001,234.15809152559001,230.03170702610001,234.6159814419,240.100173893,246.94849356419999,254.2903762752,255.80245600430001,255.3685679013,null,{"$f":"IF(A60='data countries'!B71,\"ok\",\"falsch\")","v":"ok"}]
["El Salvador",1.580417326256,1.643256918256,1.8822457848230001,2.0647126662240001,2.0947718190320002,2.351098552441,2.3885378138140001,2.4627369921260001,2.6238443785880001,2.4486964877920001,2.0682507007719999,2.0642099237760001,1.9311068682370001,1.994144627766,1.9490691207199999,2.1264661843820001,2.1092794882999999,2.513318179938,2.485869615151,2.4797603074949999,2.6401359279940002,3.3528350478950002,3.76836175072,4.085340131023,4.7431317087689999,5.1703207582999999,4.6261999566050003,5.6307270121449999,5.9041367188790002,5.8761952596390001,5.8220308818659996,6.2239790114230003,6.3004576213299996,6.6234486697439996,6.6781443591210001,6.9397702014630003,7.3724055051340001,7.7445030192360003,6.9815470648289999,6.8705776508519998,6.7414354018999996,6.9937133623059999,7.1157805687779998,6.9434526480000001,6.9391656299999998,7.4321463210000003,7.4609991290000002,6.8603964729999998,6.9001045699999999,7.146297616,null,{"$f":"IF(A61='data countries'!B72,\"ok\",\"falsch\")","v":"ok"}]
["Equatorial Guinea",3.1654009696509999E-2,3.1612839096509998E-2,3.1190682103119999E-2,3.1865943409499997E-2,3.3688404431810003E-2,3.5316823283039998E-2,3.5220509663659999E-2,3.6229970967369997E-2,3.5462141158210003E-2,3.9908650924890002E-2,4.379274685851E-2,4.0108721115530002E-2,4.6277690871670003E-2,4.7344762821569998E-2,4.6007252368950001E-2,4.7702508614949998E-2,5.0926653348040002E-2,6.4577778598399999E-2,6.1001652911790001E-2,0.10952501222345,9.7399117003969998E-2,0.11556882037424,0.10300600956971,0.1021890340084,1.23127301502937,1.30426203979415,1.3954648985540301,1.8677242934096501,2.2415605052993901,2.4257733526976799,2.5346245400124601,3.3141919236016402,2.6631115744943599,2.9807851924664002,3.3256443248819099,3.3710573014112302,3.3135889988456801,3.7953951458670998,4.5462207747200001,3.92443676664,4.36216158612,4.66893148616,3.97934781406,3.88031938068,3.8459807918400002,3.7868720649399998,3.4612168251000002,3.3152506784,3.43719723788,3.4745593989799999,null,{"$f":"IF(A62='data countries'!B73,\"ok\",\"falsch\")","v":"ok"}]
["Eritrea",0.18187454788999999,0.18004308639,0.17947320739,0.151207500666,0.15942536569499999,0.16728631287699999,0.15270049320099999,0.158674282211,0.15520574601699999,0.16812992615,0.17560348643099999,0.17439005946399999,0.200050314132,0.16903337739499999,0.17379375121400001,0.16654703942900001,0.16443111117799999,0.200428878363,0.201597398618,0.20773098367699999,0.21354043584900001,0.22516760760000001,0.22771360497500001,0.45933426351399997,0.65543199236500005,0.73968544553299997,0.80954097614999998,0.89065254246900005,0.84140291501999998,0.63912518200000001,0.67890582899999996,0.66980448199999998,0.73418467799999998,0.686406709,0.69396189500000005,0.68834344999999997,0.60464380500000003,0.5262247766,0.51691011320000002,0.44939080619999999,0.47143175320000003,0.55376382619999998,0.60304198769999995,0.63141675080000004,0.66249436319999999,0.6942501472,0.66936888380000004,0.70448594389999997,0.72532712239999997,0.74681349870000002,null,{"$f":"IF(A63='data countries'!B74,\"ok\",\"falsch\")","v":"ok"}]
["Estonia",14.4444021108,14.4763599208,15.5275393594,16.1770211706,15.8297984436,17.447848198999999,16.653154349000001,17.551719675000001,16.452526928000001,17.592429137100002,16.906605504000002,17.872093737,17.154289207000001,17.052816438000001,16.450514310999999,16.299002998999999,16.462467375999999,15.932282104,16.105049376,15.594023371,38.467686937000003,34.914702057,26.037915890000001,20.080756392200001,20.241497325000001,18.742383116999999,19.595993892999999,19.311770322699999,18.231072110309999,16.869666620090001,16.968614187250001,17.533023930399999,16.709271088800001,18.874478783800001,19.305921962100001,19.65650915166,18.51094637508,22.30161429676,20.993883379509999,17.94412892711,22.098346752115201,21.4296720629589,20.376459553458101,22.9455117707891,22.6880074845003,19.818478877375998,20.159131158840601,20.871785370298401,22.351345786264599,18.502960761415402,null,{"$f":"IF(A64='data countries'!B75,\"ok\",\"falsch\")","v":"ok"}]
["Eswatini",0.17966513080759999,0.1797719220076,0.1834702353512,0.1899274116969,0.1970811646891,0.21828197579780001,0.45572973431433,0.50761621510564003,0.53623230559879997,0.57341051287452005,0.63307567710760004,0.56956822128801998,0.70820075604668997,0.42646902394629999,0.38777159287579999,0.52207741192481005,0.64203168837218005,0.69337568369199998,0.66482980295899996,0.64601420600869996,0.60182345548490002,0.64295864132379998,0.51106574611910005,0.4622553381094,0.62116296993279996,0.61158914856949997,0.6026804767892,0.93867610453170003,0.91133884850988001,0.97177404499685005,1.67427069753575,1.64414901430575,1.5528859687102401,1.4095491917485401,1.35580441824919,1.54115024107162,1.6936496719063101,2.0749428547400002,2.1794829524999999,2.1145433920799999,2.0479134185199999,1.7378054166600001,1.76290047126,1.20703894448,1.1725613849600001,1.14264316518,1.1757101861000001,1.2156014099800001,1.1955515751100001,1.1431866400599999,null,{"$f":"IF(A65='data countries'!B76,\"ok\",\"falsch\")","v":"ok"}]
["Ethiopia",1.433382305678,1.442218592678,1.3379790284649999,1.4427399870819999,1.4505043886989999,1.2982232321080001,1.284269425135,1.30834384248,1.3522687860839999,1.424268727569,1.4700608537069999,1.6152501769630001,1.4812061680749999,1.567383022102,1.477786042975,1.538421275645,1.8190878003919999,2.0919607574480001,2.181995148395,2.2919071708400001,2.399889484814,2.4227343037579998,1.5919754405390001,2.0587707943589999,2.3812967790439998,2.7034382399669998,3.0576972032110001,3.208978256245,3.41027499,3.361915883,3.7426082570000001,4.6441091449999998,4.774428125,5.1385919360000001,5.5574890689999998,5.3830344319999996,5.7543185570000004,6.4161113060000003,7.2222480420000004,7.2848102639999999,6.9081797119999999,8.0227869080000005,9.0278620400000005,10.40252516,12.61339793,13.60690234,15.764134787,17.269246020000001,17.950999470999999,18.252483673,null,{"$f":"IF(A66='data countries'!B77,\"ok\",\"falsch\")","v":"ok"}]
["Falkland Islands",3.513515463122E-3,3.5127681151219999E-3,4.058196099037E-3,4.4473138481610002E-3,3.681828923107E-3,4.6351175138699997E-3,4.1011020892240003E-3,4.5316752378700004E-3,4.6934548693669999E-3,4.4102294546820003E-3,4.3770931896819996E-3,4.6838360169200004E-3,4.4041737923300002E-3,4.4430052844300003E-3,5.0331384691700001E-3,6.7526907579890001E-3,7.2979067596060003E-3,8.0177858936729997E-3,1.6593997659287998E-2,1.4542797324388001E-2,1.3033322419993E-2,1.3890362518794001E-2,1.393501911934E-2,1.32434385172E-2,1.3165006377029999E-2,1.46380856898E-2,1.6431370278519999E-2,1.7203834469109999E-2,1.38498411597E-2,1.4484944110570001E-2,1.371566457388E-2,1.365840884229E-2,1.3570544730169999E-2,1.354767564291E-2,1.397970148172E-2,1.6466504245789999E-2,1.7282849086760001E-2,2.042993122378E-2,2.1210870891359999E-2,2.198972077229E-2,2.335492446085E-2,2.3129233743000001E-2,4.0380809082559997E-2,3.8867214536762999E-2,3.5968224183509E-2,3.7719492567730002E-2,3.819004885051E-2,3.0722957142720001E-2,3.1073541854759999E-2,3.1749068125089999E-2,null,{"$f":"IF(A67='data countries'!B78,\"ok\",\"falsch\")","v":"ok"}]
["Faroes",9.1525934999999998E-4,9.3478915000000005E-4,9.5758200000000001E-4,1.0004255500000001E-3,1.0287358000000001E-3,1.0421364500000001E-3,1.0721687000000001E-3,1.0990323499999999E-3,1.1293473E-3,1.1672434E-3,1.1976005E-3,1.2320079499999999E-3,1.25070525E-3,1.27019305E-3,1.3023219500000001E-3,1.3326220000000001E-3,1.3618650500000001E-3,1.3888397E-3,1.42409945E-3,1.45639525E-3,1.4907715500000001E-3,1.5036447E-3,1.5096886999999999E-3,1.5123650499999999E-3,1.5170299999999999E-3,1.52789495E-3,1.5468140500000001E-3,1.5673589499999999E-3,1.5888663000000001E-3,1.6154025999999999E-3,1.66312455E-3,1.6968706000000001E-3,1.7282026000000001E-3,1.7574106E-3,1.7978505499999999E-3,1.82908685E-3,1.84223105E-3,1.8500599499999999E-3,1.8616114499999999E-3,1.87334065E-3,1.88507835E-3,1.8968145999999999E-3,1.9085496500000001E-3,1.90855086E-3,1.9085447100000001E-3,1.9085385800000001E-3,1.9132346300000001E-3,1.9179306800000001E-3,1.9226467399999999E-3,1.9273728E-3,null,{"$f":"IF(A68='data countries'!B79,\"ok\",\"falsch\")","v":"ok"}]
["Fiji",0.77925347419299995,0.788519182353,0.827815453393,0.92481495648599998,1.127297892986,0.95457889438599997,0.91016717289299998,0.96937945519299995,0.96609927509299998,1.088208325993,1.11932945634,1.2197057011200001,1.1322910796700001,0.96935529429,0.78901918199999999,0.85768394477999998,0.92588326211000005,0.77363448860999995,0.78443553359399998,0.90299661161800004,1.0296425892000001,0.87287548223800004,0.88264344530000005,0.94332827090000004,0.70880556439999998,0.76724060159999996,0.84612359770000001,0.86497061460000002,0.88209933029999998,0.9699223683,1.1472977922000001,1.3151711058,1.4498557956,1.7825130067999999,2.1692742762955999,2.1750773274638,2.1099296907920002,1.8834696724143001,1.7679362129242,1.0993962225424101,1.2013788230537401,1.49324500837333,2.0889701178032598,2.0348343544270699,1.2914863352472199,1.2117362691251701,1.1714965674514499,1.22827246954944,1.2807307141484601,1.3607658985909401,null,{"$f":"IF(A69='data countries'!B80,\"ok\",\"falsch\")","v":"ok"}]
["Finland",43.747471368070002,43.385588239679997,47.421263800200002,52.041604481230003,48.546812597200002,48.012174512889999,54.059049702300001,53.574022058159997,58.176215657139998,57.942480007070003,58.470815063149999,49.061439734799997,47.318392822150003,45.737421936739999,47.086461530779999,51.521177562189997,51.629810141500002,56.291373063469997,54.914183743640002,54.928582114160001,57.253808053169998,57.863751226669997,55.003059744950001,56.19921969792,62.908269887419998,59.531013687490002,65.485967087640006,63.378666286730002,60.148183420860001,59.45810012111,57.96266737893,63.94135134898,66.000697630380003,74.379889499739903,70.64858874235,58.362346558459997,69.913867125107004,67.970279823999903,59.558397491389997,56.928719672139998,65.844197675190003,58.190301291219903,52.29256794946,53.265022197809998,49.231527735390003,45.831158981450002,48.654372668400001,46.197445830059998,47.349954797850003,43.414879223580002,null,{"$f":"IF(A70='data countries'!B81,\"ok\",\"falsch\")","v":"ok"}]
["France and Monaco",466.99827312150001,479.79805446850003,497.385878983,533.73661997390002,516.49248286160002,476.70300587845003,519.44283483785,502.51059382789998,519.51494089021003,527.33006831681996,507.23091685637002,456.73204525541701,434.72752503446901,416.52073159582,405.05213839437903,394.31501335101802,382.22865027158701,375.654849069237,375.54007520877201,390.74261242323399,386.36698971754601,409.90091055292203,398.84280034330197,378.68017930833003,373.23526162480999,381.83713026551999,396.687537764105,388.52768737748301,410.31741483247202,404.15880564731901,402.17726883016599,406.66805779587997,400.63128028645002,405.01501931404999,405.56374612409002,408.43256956942997,398.29975382264001,391.72394657042003,384.61663969954998,369.52772204047,379.53044119765002,348.89031426432001,350.14261878367,350.992324189469,315.05557408790099,322.524657529188,324.48224213444303,328.60586718340198,321.29956211062802,314.73578882491898,null,{"$f":"IF(A71='data countries'!B82,\"ok\",\"falsch\")","v":"ok"}]
["French Guiana",9.9556824680289993E-2,9.9567534530290006E-2,0.11545720546382,0.12680238511177,0.10458182390674001,0.13232930647657001,0.11684119849385,0.12939308547657,0.13413313996246001,0.12593690903401,0.12500844220801,0.1066843772735,0.15007209747069999,0.15150147181010001,0.1426220764784,0.15546536238695,0.16765011857059001,0.22098580680325999,0.26789982768069998,0.29442059136389997,0.3706490939664,0.43446397449200003,0.35773568811919998,0.45377080701799999,0.44858845256899998,0.48071707819999998,0.50523658227000001,0.480460808332,0.52097742820899995,0.54305019244700004,0.51666245148500001,0.50367457371699997,0.502123888711,0.534746138654,0.51614373669199998,0.491252716895,0.47631077479400002,0.46077028549400001,0.43741992100299998,0.39126589150110003,0.52974354385629996,0.41891069076479998,0.71212980084540001,0.79282779779450097,0.72303690325530001,0.71878574872080003,0.72579419579360005,0.59052824279939997,0.59697722692069999,0.6104301590208,null,{"$f":"IF(A72='data countries'!B83,\"ok\",\"falsch\")","v":"ok"}]
["French Polynesia",0.1451461518386,0.1452529802386,0.15248106966860001,0.171171849017,0.211935111707,0.17795250594699999,0.16926643608860001,0.17895839718859999,0.17682637468859999,0.2004653567886,0.205969630949,0.37203244797200002,0.40940503688199997,0.57402758090999995,0.72315366162000005,0.73705978798000005,0.80798524616,0.91034263466999998,0.921820024264,0.87602010521999996,0.83897955261599999,0.83065204092,0.78449952209999996,0.7687292375,0.45978802410000003,0.47593508569999998,0.497558634,0.50002799129999997,0.54893960340000003,0.52136246490000004,0.55107602929999999,0.58325552560000005,0.54211852189999998,0.63215219810000001,0.70989683059854003,0.78514265076372003,0.77401429895910001,0.72474289622573995,0.84644544906960995,0.82269205618084995,0.88728646439508996,1.11845618428948,1.59760200931837,0.88830545644448,0.54234633772284002,0.53934378392466997,0.51661785003059202,0.53963593344475402,0.56317979669499796,0.599440251936872,null,{"$f":"IF(A73='data countries'!B84,\"ok\",\"falsch\")","v":"ok"}]
["Gabon",0.60462335391699995,1.1177697853170001,1.2044352720460001,3.855787325219,3.956629706517,5.096186053956,5.9121599910790001,5.8435768511630002,6.4956710557179997,6.3995952544080001,6.1527075363900003,6.4767778708500003,6.4598137966589997,5.933082577365,6.861847972354,7.8425420499660001,5.6306680793839998,4.8021082699919999,4.9627926306169998,6.2603570714360002,6.1716824557040004,4.934022810099,4.9723514825489996,5.0827004074759996,5.0455088635849998,5.6698882787420004,6.3322789254250003,6.0489636129999997,6.9233202987020004,6.5912304700120004,6.6064080731440002,6.7438933235720002,6.4753745037229997,7.3451186764010004,6.6280214871609999,6.3945499398500001,5.7108457412430003,5.1791434391370004,5.513361305399,5.4293393299870001,5.9515817326449998,5.8133471204770002,5.8901050624150004,6.119902847214,6.2867166448980001,6.4230006000479998,6.5568471412309997,6.4571953719769999,3.49507328070443,3.48495282080443,null,{"$f":"IF(A74='data countries'!B85,\"ok\",\"falsch\")","v":"ok"}]
["Georgia",25.891990149242901,25.625155202342899,27.153885802078001,28.817202470826,30.271458953236898,32.3365625622761,32.890941641970997,33.267796648562999,34.305028265120001,35.426642127607998,36.510508189675001,37.013025053043997,36.749630332620001,36.335063276969002,36.168821742829998,35.891423003440998,35.666987066250996,36.178679716657001,35.704238160285001,34.529945380954999,34.744533741040001,26.723994673103999,21.025371242083999,16.855165263229999,10.918818923342,8.6180810072160003,6.8689094722600004,6.0522023108719996,5.4308693260699998,5.0554895936059996,5.3716591440519998,3.9296460535,3.44873316882,3.7390163943300001,4.0821187982399998,4.9786061963400003,5.4586030213000001,6.4149965448700002,5.6319445443899996,6.37717086356,6.2283978013999999,7.51563003483,8.1838876087079999,8.3040673191999996,9.4161044093000008,10.13951046179,10.5386849256322,10.5698578530082,13.0174691866,13.473722843199999,null,{"$f":"IF(A75='data countries'!B86,\"ok\",\"falsch\")","v":"ok"}]
["Germany",1082.0601008594001,1076.5284527445999,1103.0538624371,1152.5734752327,1122.3726965855999,1062.51081119539,1123.09828551193,1103.3638194994801,1141.3190655268399,1191.2636326821,1138.26958467696,1102.7214082590999,1056.18276356662,1071.7621987819,1087.7453434183001,1090.3516089346799,1083.8246755510099,1074.8687014269999,1068.5117146376001,1054.590106269,1018.22128220747,996.42368477802995,943.22100012107001,934.89734529020996,923.97462278836997,918.87119708583896,945.95046558895103,913.78091206149998,906.65468370261999,873.55346069022096,871.31609551888698,887.27012189680397,871.61354386702999,873.80340550295,857.93676402338997,837.54336982974996,853.50515729139897,821.95016371625002,831.32719203693,769.75517842123998,816.66803733171002,789.79688096682003,801.62733660631,820.21721756142995,780.72505153095801,786.82874099031005,790.81362338443,776.66117208301898,751.38419744654004,702.59996206946005,null,{"$f":"IF(A76='data countries'!B87,\"ok\",\"falsch\")","v":"ok"}]
["Ghana",2.3676062592979998,2.4077681132979998,2.5206488344490001,2.576032916275,2.7447508164080001,2.9223638184439999,2.9890555564630001,3.0844419980210001,3.0011645826629998,2.6651395497019998,2.6931785512780002,3.2407004110940001,2.7979487774759999,1.775671870556,2.057586601138,2.4045112502679999,2.6002526537800001,2.7678030790019998,2.9071193778960001,3.2394704836430002,3.1949397365559999,2.9759470648959998,3.4977953471409999,3.6012426206970001,3.8398641920640002,4.1154571060269998,4.4645159418959999,4.66714151587,6.3419460312679998,6.9170404259979996,6.1239904222310004,6.6219584131689997,7.8039294695030001,7.3578756434799999,6.8973294332000004,7.3286112542400002,8.6938664096830003,9.2806686383899901,8.6794815789899999,10.099228410654,11.418343465435999,12.280374199143001,14.697812857434,15.575720315906,15.125889996066,15.902009943952001,14.920818285406,16.145531957702001,16.236025140236698,16.837458997436698,null,{"$f":"IF(A77='data countries'!B88,\"ok\",\"falsch\")","v":"ok"}]
["Gibraltar",6.9362064050000005E-2,6.9370322289999994E-2,5.9428849069999998E-2,5.9821339979999999E-2,5.9953753800000002E-2,6.2916401349999998E-2,6.2353907299999997E-2,5.9282502399999999E-2,5.6170938449999999E-2,7.8653727849999994E-2,9.3818869400000005E-2,8.7510394749999998E-2,9.7527314650000002E-2,8.8049800400000003E-2,8.4855568049999996E-2,9.1025489550000005E-2,0.11705864615,0.12854268064999999,0.14384683700000001,0.137378841,0.14377818665,0.20299585619999999,0.24090427575000001,0.24400702730000001,0.28816146674999998,0.28186974725000002,0.28808797720000001,0.29752234529999999,0.31309311555000002,0.32562515744999998,0.34117897954999998,0.349921339,0.35621403415000003,0.36243433749999998,0.39367727070000003,0.40625535600000001,0.42491231785,0.42171564449999999,0.43100952944999998,0.47162314285000001,0.47481537359999998,0.45919125435000002,0.46859155810000003,0.49976150128000002,0.53718285203000005,0.57465079395999996,0.62924586243000002,0.68591969701,0.68427460270999996,0.69353342653000005,null,{"$f":"IF(A78='data countries'!B89,\"ok\",\"falsch\")","v":"ok"}]
["Greece",30.094725632749999,31.139471656289999,37.970129018260003,40.584087593520003,39.768490928749998,41.770513327339998,46.717996715890003,48.929707722289997,51.52967409571,54.409715478370003,54.542482323370002,54.208625336750003,55.323912182070003,58.790975204900001,60.203477750079998,63.596111643539999,63.204507025780003,68.404718399070006,72.895546453270001,77.553136129400002,79.190561778149998,79.145595966359906,81.226477143289998,80.722955415520005,82.24271554197,85.286345502900005,85.147463903030101,86.157914816810006,89.655846557860002,89.952594147620104,97.076485840090001,99.124566017909999,99.15293618426,102.90271798589001,102.6241663526,104.84784836202,103.51461092858,107.1483031094,103.05710978080999,97.185336807539997,89.979023878899994,86.934224326150002,82.433756538580099,74.889489711760007,72.170701820389993,70.557476321297997,69.555543524186007,70.306749487152402,68.378619792637494,65.568488503685003,null,{"$f":"IF(A79='data countries'!B90,\"ok\",\"falsch\")","v":"ok"}]
["Greenland",2.32770635E-3,2.3823198999999998E-3,2.4286132499999999E-3,2.4726396000000002E-3,2.50524015E-3,2.5276495E-3,2.5493228E-3,2.5647024E-3,2.5798387999999999E-3,2.60117475E-3,2.6274224000000001E-3,2.66420635E-3,2.7036611E-3,2.7488387000000002E-3,2.7999710000000001E-3,2.8489454499999998E-3,2.8953805499999999E-3,2.93935855E-3,2.9842939499999999E-3,3.0254282000000002E-3,3.0644761499999998E-3,3.0917023000000001E-3,3.1129426999999999E-3,3.1304252499999999E-3,3.14727525E-3,3.16596885E-3,3.1872276000000001E-3,3.2048879999999999E-3,3.2289253999999998E-3,3.2525444499999999E-3,3.2874909E-3,3.3175153000000001E-3,3.3478912499999998E-3,3.3784604500000002E-3,0.62129660532999997,0.63088985524999996,0.65639480787299997,0.64376596237999995,0.65989008479,0.57317863431000005,0.66598728971999999,0.71703120047000002,0.56346683162,0.55041907925,0.5112354482,0.51766849377000002,0.52542622107000003,0.53082108535000005,0.52955804982999999,0.53668520879000003,null,{"$f":"IF(A80='data countries'!B91,\"ok\",\"falsch\")","v":"ok"}]
["Grenada",1.396444179371E-2,1.396237429371E-2,1.6084670540210001E-2,1.759845248581E-2,1.462059130218E-2,1.8327540787339999E-2,1.6248792521666999E-2,1.7921110187340002E-2,1.8548302042832001E-2,1.7445803163370001E-2,1.7317927924370001E-2,2.098417421281E-2,2.1868217628059999E-2,2.1512024751440002E-2,2.489019847204E-2,2.787390633737E-2,3.319599472161E-2,3.7360133352540001E-2,3.8821276696390003E-2,3.7407306866980003E-2,7.461298970329E-2,7.9495647502179995E-2,7.9947420356500001E-2,7.6145810109699993E-2,7.5281202686399998E-2,7.4487678018400005E-2,7.5225437035399995E-2,0.1068706046635,0.10513176920470001,0.1099306673471,6.9800350079299994E-2,0.1038719319315,0.1031915510788,0.1030185407088,0.14150730476779999,0.1254502143605,0.1214929393484,0.1255176707425,0.12778571524099999,0.13409388046849999,0.14243155850038,0.1410533120545,0.24603256532199999,0.31754099170941003,0.26308511215674002,0.27985245674216003,0.28335889717454998,0.22788979991503999,0.23465862742025001,0.2286236163174,null,{"$f":"IF(A81='data countries'!B92,\"ok\",\"falsch\")","v":"ok"}]
["Guadeloupe",0.19841545382242001,0.20188815062241999,0.2296596373292,0.2479771677266,0.21683558938944,0.25510197877818003,0.23610009770658,0.25721140117817998,0.26738072952786002,0.25768671379960001,0.25550270751960003,0.34669904879859997,0.40436768329310002,0.43046272559100002,0.51841559113500002,0.49792992617600002,0.52952777867360001,0.65620003695810003,0.76298861216460001,0.80045120284670002,0.87475384553290003,0.98243194043280002,0.92592355916500002,0.99186372467200001,1.0207077480169999,0.98770201028100002,0.99570806872600004,0.94976344372800003,0.93603349915800005,0.97364618193700003,0.99675650258099902,1.005760959793,1.019793312469,1.0516599375619999,1.081790893085,1.0347994508289999,1.036209559287,1.192237123235,1.271203641609,1.124169581639,1.1884459692778999,1.1779246876589999,2.0251649577549999,2.3452114729256999,2.2220411919726,2.2569142141834,2.2821632453445,1.8629168581452999,1.9149534832382999,1.8730616319833,null,{"$f":"IF(A82='data countries'!B93,\"ok\",\"falsch\")","v":"ok"}]
["Guatemala",2.4935564087020001,2.4551418297019998,2.7212393120359999,2.9107180113240001,3.0191377785940001,3.3202903090990001,3.2914474102289999,3.7727908333569999,4.1717620717630002,4.6510244345320002,4.6660556966389999,4.0268277651490001,3.6621249626000001,3.1191107349770002,3.5054659480380002,3.6778460225580001,3.1922051992260001,3.5725059464000002,3.52542163698,3.7575798969940002,3.916583683866,4.1379934644530003,4.8495722756859996,5.372920266545,5.8072718751380004,6.7426185586420004,6.6293653679439997,6.9553096716310003,8.6736508677399993,8.6567726633109991,9.6630486681949996,10.161633595248,10.724923468179,10.55975275226,11.18490134584,11.723389480074999,11.938345661034999,12.70818280167,11.49928250192,12.09580461346,11.729986333379999,11.965297733030001,12.14906216881,14.02236192795,18.157378330650001,17.10155843722,18.206141826307999,17.751198735599001,20.062045122840001,21.19600281184,null,{"$f":"IF(A83='data countries'!B94,\"ok\",\"falsch\")","v":"ok"}]
["Guinea",0.51002331342259999,0.51290521342259998,0.51245749165349996,0.52543438689059996,0.55331385166739999,0.57766917759339997,0.57985046974300003,0.5983444694169,0.5917952215965,0.6584973192236,0.71424862222259999,0.66163023776410002,0.63480068383999999,0.64849376733889996,0.63340101472743005,0.60738697839449995,0.79426247155249996,1.0512133773761001,1.0025716557771001,0.92452307472609996,1.0736242751397,1.0298382004001001,0.9332110957177,0.93285661800719999,0.99813075267969997,1.0348272649401999,1.0610680738595,1.1273784466698999,1.0228823633069,1.0598198433753001,1.0919381204747001,1.1164224348148,1.1217572343491999,1.1776957825167,1.2137053031721801,1.1189681780438301,1.11868689717548,1.139488707743,1.3518534600000001,1.3794298946000001,1.3926483157,1.6565363141,1.7045944086,2.3740994574999998,2.5036400606,2.5181724964000001,2.5902633528000001,2.6795608967,2.8104127108000001,2.9209716052000001,null,{"$f":"IF(A84='data countries'!B95,\"ok\",\"falsch\")","v":"ok"}]
["Guinea-Bissau",3.9194852006879999E-2,3.9234290006880002E-2,3.8848249147789997E-2,3.9817439884219999E-2,4.2230385932279998E-2,4.4326324869449998E-2,4.4376578063590001E-2,4.5766655761410001E-2,4.5083408634709998E-2,5.0494195678639997E-2,5.527025633688E-2,5.1232224407010002E-2,4.8812024451670002E-2,4.987758345157E-2,9.3062445437900002E-2,9.6286474289920002E-2,5.3386264368039997E-2,0.19294755457519999,0.1822390231554,0.16612232044520001,0.19584253652790001,0.2322452572425,0.2071858193794,0.20561875759680001,0.2075122950787,0.21487273616829999,0.22039507540809999,0.23606652601520001,0.20982364190278999,0.21658518679534999,0.26363384772409998,0.26855570540411,0.26477288681589001,0.28024746328124001,0.29008539081127999,0.28977542795158701,0.28966646197644202,0.371475255344,0.31302602825999998,0.39469304084000001,0.40498271842,0.47461065190000001,0.49507474489999997,0.34069023759,0.35617787397,0.37582880552999998,0.38687285049999998,0.39988029878999998,0.42065028911000002,0.43723527076000002,null,{"$f":"IF(A85='data countries'!B96,\"ok\",\"falsch\")","v":"ok"}]
["Guyana",0.4203019945673,0.4205186615673,0.48763190048850003,0.53524800457970001,0.44227840856630002,0.5581231164246,0.49262903232779998,0.5451256580246,0.56655094698349995,0.53094358260889996,0.52642720849890001,0.64161005032100005,0.50319844686600002,0.43242970973,0.57274422391400004,0.62382058804780005,0.63940521243820003,0.55470355985810005,0.57749380511579995,0.37296508746980001,0.33731658596480002,0.439516918142,0.48111602505899997,0.57112640617300003,0.56400190799799998,0.48554483570000001,0.52728988126800003,0.53758288963800005,0.70296986629799996,0.77207764032000004,0.80025986768699997,0.83120896953199996,0.82684062935000002,0.79139968626799995,0.74633739095399998,0.72538358008600001,0.67274193399100002,0.69080327511899997,0.73527644810500004,0.77191475335600002,0.78573328831709999,0.81064824870899999,1.4130576560313,1.7767758071205999,1.6189085723059999,1.6661155845372,1.7864192909012,1.4721812402150001,1.4881780481250999,1.5224089164825001,null,{"$f":"IF(A86='data countries'!B97,\"ok\",\"falsch\")","v":"ok"}]
["Haiti",0.53619017830000004,0.54112412330000004,0.52563249899999998,0.55292657499999998,0.602195064,0.60910975300000003,0.81410098009999998,0.85033344799999999,0.88974349500000005,0.87224533699999995,0.86225452800000002,0.75744168700000003,0.89697847799999997,0.98693969699999995,1.016910507,1.0511471729999999,0.98320085999999995,1.057746157,1.1364604022,1.167397335,1.146513272,1.120263279,1.0439312614,0.88379720640000003,0.41981441400000002,1.1328534652,1.286301038,1.5031945888,1.5278397379999999,1.580776089,1.610078455,1.7318366839999999,1.9827847270000001,1.8954017059999999,2.1434933570000001,2.2342611510000001,2.282387741,2.5763450560000001,2.5735449080000001,2.4933538579999999,2.3582525400000001,2.410442508,2.301325528554,2.3697196649999999,3.0135991990000002,3.4547581190000001,3.4952383920000001,3.5487933300000001,3.6549319140000001,3.5766909330000001,null,{"$f":"IF(A87='data countries'!B98,\"ok\",\"falsch\")","v":"ok"}]
["Honduras",1.229294463632,1.229927443632,1.2814093477340001,1.4092830339889999,1.3819072783819999,1.4883293007439999,1.564232748207,1.6991150556820001,1.7152032656859999,1.816151910434,1.8787822953319999,1.7929791994440001,1.763666893134,2.028472179959,2.0778901273670001,1.8744929327249999,1.909811734447,2.1174519739400002,2.2671395012960001,2.5143992182499999,2.3731678147480002,2.394709125641,2.6898048156350001,2.8226045389999999,3.2143713049999998,3.8111445239999999,4.0321476919999997,4.1529977349999996,4.8118620590000001,4.8814421049999996,5.0591806989999997,5.9452735209999998,6.258685163,6.9265799020000003,7.8741120660000004,7.84782315,7.2446234299999999,8.9364385150000007,8.6510319940000002,8.1834729250000002,8.0586843439999996,9.1097341909999994,9.1103165490000002,9.2098130190000003,9.5063331390000005,10.002833909,9.5033744200000001,9.6649164550000002,9.9572014840000005,10.356497168000001,null,{"$f":"IF(A88='data countries'!B99,\"ok\",\"falsch\")","v":"ok"}]
["Hong Kong",9.5369398479999994,9.5763070920000004,9.8585698320000006,9.9444838190000002,11.389355846999999,11.265872850999999,13.070929874999999,15.154640616,16.123982387000002,14.98035943,15.393757525,16.581953329000001,17.887483273000001,20.442168865999999,22.231387321,23.214670101999999,26.339423908000001,28.821470888,32.041159981,33.391570547999997,34.182402472,37.034206013000002,41.552597231999997,44.038206248999998,37.388959715799999,37.448020040000003,36.199614887999999,33.691051713999997,42.222875676000001,45.286629920999999,41.141737609000003,42.152564411599997,40.814774147000001,43.48276276,41.539053545000002,41.918225802999999,42.870574245,44.582255603,43.552687573,46.830555054000001,42.691627648999997,46.349992839999999,45.810535592999997,46.971999791000002,48.917502309,44.859225606999999,45.6702510012,45.001963740500003,44.927202706599999,44.016197220599999,null,{"$f":"IF(A89='data countries'!B100,\"ok\",\"falsch\")","v":"ok"}]
["Hungary",66.134579871010004,67.850156915439996,70.057163690520099,74.926917281030001,77.022158415890004,78.599302405489993,82.626549954889995,86.453673374030004,93.85230544433,92.561075108710099,91.77991119552,90.538770925660003,90.618414219300007,86.882842256049997,88.502210402130004,87.915493412230006,86.361604711620103,87.54055325086,82.560383122649995,80.806356937839993,72.074745079099998,68.342396571329999,61.59309671079,62.3508682987,62.166276797800002,61.480964230030096,62.65255626567,61.424551120078,61.211217980953997,61.560035732460001,58.395873164880001,59.828978181570001,58.903119243619997,61.517314260440003,59.718714238330001,60.00041121185,59.710386181650001,58.321408826190002,57.246826505640001,51.121564291959999,51.91829709316,51.027132385746,47.334022525329999,44.360642105057998,44.497418469819998,47.256979420988998,48.442693196274,50.724373655965003,53.595486647467503,53.182599024843803,null,{"$f":"IF(A90='data countries'!B101,\"ok\",\"falsch\")","v":"ok"}]
["Iceland",1.9349061190000001,2.0333670655999998,2.2466326351000001,2.5831292517,2.5267085972999999,2.3705737568999998,2.3926421155000002,2.4626971880999999,2.5377835495999999,2.6255696481999999,2.4311813257999999,2.3409276542000002,1.9817846780999999,2.0211148356000002,2.2459422981000001,2.1350693355999999,2.1427043513999999,2.1812298789,2.2997372374,2.3029374338999999,2.3467246157999999,2.2994853638000001,2.3124925828,2.4137610698,2.5236429318,2.4498484868000001,2.721999549,2.6335504042750002,2.7032622394099999,2.74828387174,2.863176545,2.96752595845,3.1087781259499998,3.0838685528499998,3.1813295851999999,3.1721110237999999,3.2684007320999999,3.4237534404000001,3.8019931956000002,3.8451154179899998,3.72037850796,3.6204113413000001,3.6940451619000001,3.8256023290000001,3.7777203736999998,3.8535039699999998,3.8786540965,4.0660234679,4.1486409013000003,3.9253993897999999,null,{"$f":"IF(A91='data countries'!B102,\"ok\",\"falsch\")","v":"ok"}]
["India",232.81350861395001,233.89796954395001,243.26034119242999,241.66208138274001,259.54719861167001,277.09756087314003,296.38151645659002,301.70538780104999,269.26547465314002,289.68257209708997,301.82688642641,332.10595253754002,352.76414514357998,375.60545200170998,411.17938391800999,429.78828158460999,467.44632973504002,500.64898612765001,530.79263866964004,568.40274054632005,599.82435850549996,645.63672895910997,668.44122724400995,698.52470084569995,743.13627356179995,798.349457648,835.13687291000099,876.86849012189998,891.8801879271,960.38738297679902,993.97484343259998,1010.2912134689,1049.1597667967001,1075.0698615076501,1164.98317104635,1219.35062390439,1299.4969649959701,1411.2205431213199,1498.7958044178599,1673.4670448858101,1761.4016681517701,1858.6119249942101,2000.8397192878399,2068.6029346099399,2235.9151873211399,2292.9562447834401,2321.80410981155,2425.4163484952201,2556.5467978669499,2597.3598796205101,null,{"$f":"IF(A92='data countries'!B103,\"ok\",\"falsch\")","v":"ok"}]
["Indonesia",31.045822776129999,31.472887862130001,37.313050244209997,42.207652744180002,47.139799011820003,48.98082330786,52.694262828580001,71.908779264100005,84.495263308649996,90.902809383250002,90.551246466570007,95.601151102150098,96.348822348240006,95.339956040239997,97.41910164926,105.90510720483999,116.90383801549,119.95077425511001,130.7062479786,136.63729185939999,163.99200054170001,177.09752224959999,185.19262429048999,202.71457107779,215.26798097712,239.81142137525001,253.79508888948001,278.08385304699999,280.4991667951,299.01419390820001,296.38937293819998,317.21213005369998,324.23456676590001,353.86499089279999,359.95387133333003,362.04098275270002,385.18987265390001,399.18919439579997,395.96365694669998,410.52044145261999,420.3222077218,431.01584192719997,443.99782485029999,448.19480096059999,485.38102722939999,493.13696211659999,490.61029222719998,531.99148496910004,579.22805691940005,625.66300559080003,null,{"$f":"IF(A93='data countries'!B104,\"ok\",\"falsch\")","v":"ok"}]
["Iran",79.510062683979996,85.329013483980006,95.140373389459995,113.21023666082,120.18486433806,121.53116334562,140.58926271196,147.55210803040001,144.5918567862,134.20375231150001,114.3499634217,113.53320524234,138.96202829105999,157.38022684180001,155.32610699279999,165.5194165119,154.41520144809999,163.29371170229999,164.70471633,175.6553750594,204.75631857260001,225.52630260570001,241.14633317260001,240.0169346191,274.12313997910002,278.56874624450001,290.75119646100001,303.77644929949997,302.58263063589999,333.71720578790001,352.30875777940003,366.54256469450002,382.71907563949998,405.00512617480001,434.5149557931,468.87948030450002,503.4491909688,536.9990423452,547.55413042227997,568.04185367972002,570.81901103279995,580.74431827670003,587.5693589668,608.35203150406005,632.06545805708004,622.93120190599996,632.94071503683904,649.81249898526403,679.09192455192999,701.98598647853396,null,{"$f":"IF(A94='data countries'!B105,\"ok\",\"falsch\")","v":"ok"}]
["Iraq",23.194987731659999,27.18109872666,27.069733537240001,29.674888691109999,31.974846762359999,36.617206487120001,46.034966784620003,42.219546544339998,46.473010016739998,57.562777529949997,51.793790934790003,36.050121535000002,38.26116093676,42.124484352449997,47.441866332789999,54.655962279439997,61.32675524207,61.016084279620003,65.617825227620003,73.294425252280007,69.319453784079997,54.514538125290002,75.82226677909,101.93821299934,112.65344250033,110.51942834661,105.18410551264,125.64412334183,92.209513364119999,76.005126726260002,86.706211612670003,98.615304022969994,93.04516007977,83.676710107069994,89.904992394100006,89.191122203640006,85.323728673890002,78.170395304669995,89.948680452369999,111.62472206083,125.70474412387,134.40337261714001,156.89592438548999,167.61456427728001,173.70309966163001,169.29838311168001,182.1842766547,181.87056109629,185.93263303545001,197.61224373245,null,{"$f":"IF(A95='data countries'!B106,\"ok\",\"falsch\")","v":"ok"}]
["Ireland",21.093460155559999,23.584405001930001,23.22755496433,22.798067537929999,24.638250656139999,23.187467473870001,23.76532784902,25.366137259769999,25.173273968709999,29.523808927779999,28.390725113430001,28.178454463002002,27.888758020017999,27.500062126117999,27.517545739544001,29.124808425084002,30.079293662649999,31.673694652946001,30.800823359317999,31.833135744587999,32.904092851980003,33.450706411546001,33.382418168629997,33.6061997678,34.862115786788003,35.32813626678,36.697736204430001,38.00177109405,40.526297037950002,41.993666112740001,44.273103812720002,46.439127406120001,45.381457401740001,44.879880708160002,45.348650318680001,47.302946342840002,48.297611580389997,47.49622581709,46.870054191770002,41.69145411929,41.3129967765,37.094147584730003,37.791963413769999,36.459230030089998,36.266656948714399,37.884298899616901,39.592431464896599,38.361231809576999,38.009213502470999,36.547887533476498,null,{"$f":"IF(A96='data countries'!B107,\"ok\",\"falsch\")","v":"ok"}]
["Israel and Palestine, State of",14.9686793677,14.9947999407,15.795035680330001,16.890635772300001,17.348765798140001,18.239862577370001,18.231553247320001,19.02325017682,20.252125185680001,20.626440443130001,20.487848499999998,21.334105775129999,22.53295243374,23.313644924670001,24.16303851736,25.841134204359999,28.146932585359998,30.75137141946,32.582456915800002,33.861739089910003,35.295910432520003,35.947934499180001,38.484044079989999,42.19426184916,45.1612585078,48.235125666179997,51.400193324930001,53.052637048839998,53.610750091710003,55.057029498280002,59.387321190350001,59.379901315250002,62.631576148489998,64.393377838679996,64.264525080279995,62.162009506830003,65.320242112960003,67.704969734450003,68.073950673729996,67.257387854490005,72.203573081450003,71.368508718439998,77.851015506509995,69.681886461589997,65.140785817410006,66.538103368860007,65.833860396229994,66.407786259299996,66.168910632299998,68.328974202300003,null,{"$f":"IF(A97='data countries'!B108,\"ok\",\"falsch\")","v":"ok"}]
["Italy, San Marino and the Holy See",317.47298717469999,331.27464157959997,348.86220996830002,371.2011324316,374.56562996000002,357.34389453900002,384.13513451850002,374.96685380370002,382.68512736039997,398.6185382022,401.15096334769999,389.84577344169998,381.52988780099997,377.02528275549997,382.96317500650002,382.73155648599999,383.62219036980002,403.22835807860002,408.81304461489998,426.95069825109999,430.06126843639998,428.8665926269,426.39899267769999,419.98372203524002,413.81441730059998,438.66176682024002,433.59361255788002,437.03571182770997,447.88300935761703,454.84262877579999,459.26399336399999,458.64058893459998,466.58942410629999,484.9721614046,495.88343859295998,497.12746276463002,491.39272290546,484.28338399419999,468.67977800800003,416.47437159432002,426.16563314467999,416.57353556254998,395.38435435137001,362.54196350440998,343.34314904886998,354.75432390911999,350.36294734323002,345.70219744357001,341.21968499696999,331.56295424112,null,{"$f":"IF(A98='data countries'!B109,\"ok\",\"falsch\")","v":"ok"}]
["Jamaica",5.9262007701570001,5.9140526676569998,6.4749739228310004,8.4533013746509997,8.2081661739299996,7.81235059699,6.4988356531009996,7.1311167028779998,7.2805174934709997,7.2884064358640002,6.7594168036079996,6.7246410471400004,5.7922636441239996,5.785831803712,5.4528347285110002,4.8714633636810003,4.6279008874030003,4.9018435914819998,5.1159910065330001,6.5570083766309999,7.5250710629919997,7.4814203647269997,8.27439034939,8.4232945526939993,8.5044712493670005,8.7981925926930007,9.1779073295660005,9.3895060819069993,9.8889024248720006,10.151663980454,10.220933410679001,10.287964116567,10.23664525801,10.542538851579,10.592198458388999,10.630970892260001,12.303269777115,12.218656241082,10.233842055917,8.0253729876370006,7.4529349317199998,7.6914212414080003,7.249348549814,7.7473502305700004,7.5523967095820002,7.4099612945439999,7.9440608783090001,7.2750055912639997,7.4883455214129997,7.4414967087569996,null,{"$f":"IF(A99='data countries'!B110,\"ok\",\"falsch\")","v":"ok"}]
["Japan",857.85257201019999,855.69894602669899,901.51491030149998,1015.4615197486,1013.9323371245,958.20272201349997,988.59802058440005,1013.5219834406,1013.53042995562,1039.2459922212199,1013.210085764,990.80839063619999,948.14238073855995,950.09598156694994,1018.0492597945,991.66474321649901,988.07563798053002,994.42661711137998,1066.6510358493499,1096.73060583708,1149.46982714516,1153.4262381799299,1161.2389043061901,1150.1741227658099,1206.4597130493501,1221.11385501618,1233.3389046984601,1226.6408877224801,1187.89746418863,1227.8186239281599,1241.63047725919,1229.2117435595201,1268.5589645569401,1272.1320714313099,1270.3330372000801,1276.92697635902,1259.7974755607199,1300.2325339712499,1213.5124245936199,1146.2318908591501,1197.42691550226,1249.79327357288,1289.3032356679701,1313.48166031761,1273.5412262443399,1227.94670629656,1213.34854882985,1199.19056010241,1178.8598610830099,1153.7169839886899,null,{"$f":"IF(A100='data countries'!B111,\"ok\",\"falsch\")","v":"ok"}]
["Jordan",2.7440613063680002,2.764967308868,2.3200956703119999,2.6197127411849999,2.8473265270520001,3.1574439557149998,3.777648781016,3.9110338709080001,4.7397570389919998,5.0542780806070002,6.42646207612,7.4160967518870002,7.8433021182099996,9.0640583813029991,9.9273350379990006,10.151094338648999,10.784731976089001,12.034577494643001,11.595142325731,9.5199501288979995,10.210088378609999,10.21243733537,12.11707315184,12.58167501886,13.18984403706,13.894472959290001,14.316866913729999,14.784042770999999,15.011861538190001,15.047660524739999,15.4938323895,15.606178045309999,16.68706243255,16.457041187400002,18.548518147380001,19.78227410729,20.105874542390001,21.026612846919999,20.561952742300001,21.084360662190001,20.61337306503,21.078236792950001,24.493625932450001,24.1057938396,25.82786489459,25.700654579089999,25.862679924190001,27.624346851590001,27.063278257490001,28.34005339019,null,{"$f":"IF(A101='data countries'!B112,\"ok\",\"falsch\")","v":"ok"}]
["Kazakhstan",161.14145255785999,160.91459084406,172.82615273951001,188.97484280315999,202.08459095856,211.09282465000999,223.12681033758,224.42069819841001,239.47952257023999,242.02223620395,255.40896915010001,236.74132178908999,229.05201854596001,226.05433064337001,220.69551900779999,214.48341306642001,213.0362279503,229.54272861145,235.59718386709,234.00736102529001,251.28977446917,262.37585291268999,267.28899148969998,227.87022935471001,205.31113390061,181.88970627702,159.49740187187001,138.45392494026001,141.8400273252,129.43538131675999,131.16095772445999,128.5552749695,143.0277117951,158.82551222444999,171.45606087333999,182.37938645115,203.32040064553999,214.35327646848,253.14952087536,225.77474992134,242.96079683587001,259.81668954600002,256.94020094123999,273.25823754964,259.57575907806,251.70574690641001,259.70925169399999,261.72958200565,282.08564885153697,277.364668355437,null,{"$f":"IF(A102='data countries'!B113,\"ok\",\"falsch\")","v":"ok"}]
["Kenya",3.770621270236,3.7704877602360001,3.9416880228859998,4.0792855904029999,4.1196078501200004,4.0581776003550001,4.6057941323350002,4.9245269088099999,4.9270334956399999,4.8689116932600003,5.21660847367,5.1904662763199996,4.8605492035679996,4.5418699457849998,5.2559387905169999,5.4010478808829996,6.0305888971219996,6.2702602699990004,6.2366612989319998,6.5830614467700004,6.4748910709440004,6.2251210018679997,6.306707678095,6.1996018183870003,6.1787028509150002,6.6728485963019999,7.3059656279620002,7.0510853792650003,7.5988311860430002,7.8054113214139997,8.6203810902339999,8.0394551347200007,7.8375103542520002,7.011900145647,7.9655851120449999,8.8711149333839998,9.8393250385270008,9.8734089670720007,10.459363779732,12.183686566152,13.208916747897,13.506180985962001,12.630655071955999,14.069381840618,14.912943812615,16.979592012502,18.710461580882999,18.825573568185,19.505341744567801,19.813010846438999,null,{"$f":"IF(A103='data countries'!B114,\"ok\",\"falsch\")","v":"ok"}]
["Kiribati",1.6133493965900001E-2,1.6138766859900001E-2,1.6941116704899999E-2,1.9024617621300002E-2,2.3582505831300001E-2,1.97688368573E-2,1.87863004459E-2,1.9864550045900001E-2,1.9615968655899998E-2,2.2256104145899999E-2,2.2865430888199999E-2,2.9550741416699999E-2,2.7018694652700001E-2,2.85609924286E-2,1.7796991798300001E-2,1.9765947330700001E-2,1.55000284962E-2,2.0257025454299998E-2,2.0461724042100001E-2,1.9516821604199999E-2,2.01190619973E-2,2.3723334801200001E-2,2.032363324E-2,1.9891011690000002E-2,1.4387003795E-2,1.488968469E-2,1.5520035147E-2,1.5643453860999999E-2,1.7155675927999998E-2,1.631304238E-2,1.9541953470000002E-2,2.3068398569999999E-2,2.1448715100000001E-2,2.0902739189999998E-2,2.3447647913819002E-2,3.2582085488495997E-2,2.9862991898748002E-2,2.9947868255182E-2,3.1473798140633003E-2,4.7815500047889002E-2,5.1555989292515002E-2,6.4973910293989995E-2,9.2980617190108E-2,6.3451340126034997E-2,4.1119090353137003E-2,3.02418225907219E-2,2.8978281514363699E-2,3.0269471771545299E-2,3.1590343274118603E-2,3.3621613181469202E-2,null,{"$f":"IF(A104='data countries'!B115,\"ok\",\"falsch\")","v":"ok"}]
["Kuwait",38.33697016963,40.700591476829999,41.327313902770001,36.98557683053,30.116595167770001,25.79791044784,26.427927285140001,26.06881381202,30.069364915760001,34.524888025019997,32.4204208118,30.76767393706,32.966638010769998,35.562445062809999,36.250439170459998,41.022765778089997,44.124579622070002,47.401632696589999,56.937618499849997,66.454543423749996,32.608971337850001,38.762711035928,27.146135724320001,34.301390847859999,40.80275826159,40.402328963019997,39.702507903520001,41.842168935140002,46.575447942300002,50.258431880860002,54.849717752959997,57.934525200350002,60.647661474609997,63.477781814540002,66.54110161138,75.22309165739,77.856059959389995,77.647558940790006,81.596027937660097,87.847695347889996,86.253666462499993,88.011788433490096,85.649348002129997,92.642396238209997,88.57103132009,94.092345517919995,96.438230963600105,92.50821488599,94.885740240900006,98.952521131300003,null,{"$f":"IF(A105='data countries'!B116,\"ok\",\"falsch\")","v":"ok"}]
["Kyrgyzstan",15.2652073800101,15.2968892670101,16.320400720614298,17.291255236881302,18.218473075337702,19.263851077149202,20.0960547462861,20.673340279138799,22.3268331529442,22.809949648376499,24.0593678929806,23.084248408584401,22.076587078974899,21.054024857353699,20.156512273868401,19.594430048006998,19.5364929249324,21.2296146308225,21.8740557767178,21.960765526732398,23.695725251479999,21.30363606217,13.97140153955,10.268777083030001,6.7279746530300004,4.7704297457099996,5.9462170760059996,5.8809737615,6.2187591478259998,4.9790852353339998,4.8619283351040004,4.1282439470360002,5.1312460270700004,5.7514859545899997,5.6926326767580004,5.4751790801659999,5.4921426904799997,6.6473999882379999,7.7047981269259997,6.94129258174,6.5755367188099996,7.8430076936419999,10.243830136252001,9.7597017522880005,9.8964633083860001,10.62716435305,9.9323922020980007,9.5930604725490003,10.520796838467,11.921388605263999,null,{"$f":"IF(A106='data countries'!B117,\"ok\",\"falsch\")","v":"ok"}]
["Laos",0.29303584227700002,0.29321463827700001,0.30772466975500001,0.34513674459400001,0.42669881039399998,0.35874080189399998,0.341280017677,0.36060556207700001,0.35620946517699997,0.403411006377,0.415380544096,0.15965082788900001,0.14714107980300001,0.15527524178499999,0.13351765612800001,0.150736501932,0.19472760105299999,0.21235033076500001,0.21468724017099999,0.20465752714300001,0.21472549353500001,0.27698752654499997,0.28264303769999999,0.27729206360000003,0.20607103039999999,0.31821422859999998,0.39362538060000002,0.45011107519999999,0.53491236639999995,0.38732847580000002,0.65110021569999998,0.673029298,0.87466923490000004,0.91288758920000002,1.07631068354927,1.04669358759094,1.10367025548249,1.3936169754538801,1.35792166839915,1.7576327856923399,1.71731256433803,2.1725094229757902,2.4290628601273498,3.2116059150222398,2.4905612852857701,2.49889863775996,3.4459346232843502,3.9105928858943799,6.66485911149831,6.7833680963497196,null,{"$f":"IF(A107='data countries'!B118,\"ok\",\"falsch\")","v":"ok"}]
["Latvia",13.675668546000001,13.690482917200001,14.7440246679,15.684386286000001,15.971317979,17.459129399999998,17.357947330999998,18.17057466,18.281133788000002,19.286224129099999,19.320661614999999,20.193933805,20.141629087999998,20.42664431,20.293059741,20.291202725000002,20.908297379,20.950695908,21.171854201999999,20.811176706000001,20.131536787000002,18.357293898000002,14.576904853,12.271683876000001,10.7762706204,9.4665249857999996,9.5537466972500003,9.0461860713320004,8.7391770190912901,8.123730502351,7.5612115561781996,7.9159035145499903,7.8660964122020003,8.0985828493500005,8.1249328259820004,8.2380162949169993,8.7367606499736201,9.1412644336707096,8.7200066957963909,7.9499372664209202,9.1190239885199897,8.4563221185599993,8.23017794111,7.9907310052099998,7.7743947674099996,7.8102711002099996,7.7387726528699998,7.7727889546600002,7.9853308276700004,8.3793704661999993,null,{"$f":"IF(A108='data countries'!B119,\"ok\",\"falsch\")","v":"ok"}]
["Lebanon",5.3816873090400001,5.4719274690399997,5.9882035133100002,7.3983853035599996,7.52964753957,6.7116338043799999,6.2880469695199999,5.4673856119920003,6.6213078110900003,7.4442167401199999,7.52266107192,7.6179424101500004,5.6043896066799999,5.9840472324979999,6.1147150478840002,7.1269080118700003,7.5250515339200001,7.6948992829540002,5.9363804889880001,5.97739777516,5.9774855731600001,7.4130635849099997,7.9629294611660004,11.363784121,12.488868541,14.471199414000001,15.021401344999999,16.501147862,16.379041993000001,16.884754610000002,15.243886265,16.452687555000001,16.393563566000001,16.399512165000001,16.610204176,16.519748033999999,15.5749414628,14.153651995000001,17.737238874999999,21.493328383000001,20.562571348999999,20.887612206,23.358107580999999,23.012894055309999,24.606862347380002,24.98674238768,25.701046350679999,27.095453162679998,26.74490938568,27.437066652679999,null,{"$f":"IF(A109='data countries'!B120,\"ok\",\"falsch\")","v":"ok"}]
["Lesotho",7.6094916553770001E-2,7.6155818553770002E-2,7.5357008275589998E-2,7.7251172658429998E-2,8.1921015854569998E-2,8.6089631268889993E-2,8.6046011907169997E-2,8.8646898602820004E-2,8.6901104949410002E-2,9.7727696337270006E-2,0.10713420485377,9.8378141494019994E-2,9.3988281723340006E-2,9.6010652423139997E-2,9.3229160537899994E-2,9.6541342589920004E-2,0.10294827413608,0.13023993881679999,6.3776496251789994E-2,0.11233680306344999,0.10024078341397,0.11843190707424001,0.10588365633971,0.1050765761084,0.10599982242937001,0.10965948199415,0.11240524315403,0.12022817630965001,0.10709082349939,0.11044405719768,0.15947558681245999,0.16234137030247001,0.159967945431532,0.16913251842695001,0.17490723170837,0.17454493277355199,0.174336485047865,0.247720832547,0.24928637506000001,0.19854109837,0.53441792022000001,0.23851606689999999,0.24877600690000001,0.67083758707999996,0.73467354401999996,0.69282665312000002,0.71334028037999997,0.73750319147999999,0.74931767437999997,0.75427255995999998,null,{"$f":"IF(A110='data countries'!B121,\"ok\",\"falsch\")","v":"ok"}]
["Liberia",1.0747583626526001,1.0693117956525999,1.0640737782584999,1.0886677276776999,1.1516126528238,1.2112555589847001,1.2162144507002,1.2509884871395001,1.2384720110917999,1.4133983275216,1.5078855296525999,1.2855848259222,1.2117220267033,1.2466746708009,1.0746836318359001,1.1195606427339999,0.94237400912470004,0.8714360598591,1.0767139916805999,0.80296413774429998,0.41552010285590002,0.29664496423820003,0.26748655824930001,0.26520730752100002,0.26767710082349999,0.27727335453539997,0.34098837436219998,0.36196444412290002,0.32482014240418,0.33790330999302998,0.33136485852491998,0.40993444080574998,0.40087106301024,0.41027671329853999,0.43014210317918999,0.47291613200162103,0.58703628255959495,0.62361705676000001,0.60286920913999997,0.55909565944999995,0.57376008322000005,0.66930088074000005,0.71120679773999995,1.0160985225200001,1.0763247491800001,1.0614765579400001,1.07095829964,1.1081391828,1.161725466,1.2075303095000001,null,{"$f":"IF(A111='data countries'!B122,\"ok\",\"falsch\")","v":"ok"}]
["Libya",37.866291904210001,25.96783845621,19.66066061998,18.166598998003,12.495444452284,16.071036651271999,19.45879030399,21.102140236851,22.6940206443,24.96751809717,29.553999312359998,25.575806389139998,28.794362210100001,27.84481460097,29.119208693649998,28.213646621510001,32.667085652300003,30.948838689750001,33.756461509220003,34.750460562420002,37.150971805129998,36.707094104420001,37.587239118550002,40.04513880535,46.179640598319999,49.73954176022,52.670429284100003,48.891995396440002,48.585100392299999,47.130511619049997,49.943000275789998,49.661267909320003,51.554271522630003,55.314202401979998,55.565793570069999,56.726851094270003,55.617187592450001,51.409129725690001,54.783212181060001,57.524168777429999,61.437152492899997,42.199991683130001,59.393228136979999,58.717340254340002,58.012425601499999,54.05650089457,51.17960166452,54.77851627626,50.491401103412997,52.046426700413001,null,{"$f":"IF(A112='data countries'!B123,\"ok\",\"falsch\")","v":"ok"}]
["Lithuania",20.215190066219002,20.287907850219,21.628493822444,23.321734789027001,24.940510347471999,27.143788008280001,28.272124896607,29.257755617310998,30.313134212129999,31.339877901386,32.540695678037999,32.940894897852999,32.998414670038002,33.101298373726998,33.629204914002003,33.758114802770002,34.076153116491,34.312538624223002,34.229790500111001,33.749053244945998,35.305420335652997,37.245593423460001,21.163729142737001,16.42023575156,15.89894695512,15.23690238391,15.707878476619999,15.175115839676,15.997870249969999,13.45218785154,11.7808851783657,12.514874639816,12.602035286328,12.595647646024,13.171791353872001,14.068142547662999,14.322483713007999,15.712491955335,15.629882520717,13.0125805781369,13.813963276998001,14.181264361843001,14.367533122975001,13.263917024495001,13.13199948454,13.416776843339999,13.183079229613,13.715063863240999,13.942975393393001,13.771914067591,null,{"$f":"IF(A113='data countries'!B124,\"ok\",\"falsch\")","v":"ok"}]
["Luxembourg",18.423023983,17.183998432599999,16.907754243399999,18.281808948999998,16.970005296699998,13.4951131913,14.372193208400001,13.663296879300001,14.9321738553,14.0623485514,13.227469499,11.24802988341,10.57122949767,9.9219077898499997,10.85764079162,11.051402395989999,10.790653327299999,10.2609952898,10.7988034959,11.605733983,11.7503285366,12.1993879037,11.860107763,12.092983629000001,11.23819655,9.0210788389999994,9.044538974,8.5431417880999998,7.8472806044999999,8.2115962679999992,8.8360739518999996,9.3802481362000005,10.070394178999999,10.494251652000001,11.934728257,12.155706363,11.9811843308,11.388336754999999,11.243722959999999,10.63549166,11.242479974,11.1269809535,10.904699820699999,10.3553355373,9.8481008917999997,9.3403896862,9.0808270663999995,9.2032134650999993,9.5489732298999996,9.7398653007899991,null,{"$f":"IF(A114='data countries'!B125,\"ok\",\"falsch\")","v":"ok"}]
["Macao",0.35012117835700002,0.350126202597,0.36615451048699998,0.41009590029300003,0.50542476599300001,0.42675685639299998,0.406611822357,0.43059252205699999,0.42626873145700001,0.48193676315700001,0.49577089401000002,0.53017523506200004,0.48726203630199999,0.72655796368000003,0.67381070129999998,0.61577401834000001,0.70512738130999997,0.92218210557000002,0.93297282896400002,0.94855204771000001,0.98242844946999996,0.973094858896,0.99569584799999999,1.1001398542,0.83597417549999997,0.85703105180000005,0.99483976559999998,1.0453697960999999,1.2016268685,1.2444359171999999,1.2047532781000001,1.3333769301,1.3446686793,1.3627915655,1.8835598349294,1.6236345576091999,1.7601262223066001,1.5484296288693999,1.465206556104,1.42512467760015,1.1839453161934099,1.6427943289112299,2.6417035153881399,1.50388602936673,1.0181306391195999,1.1044268688974801,1.0723684498982999,1.13030086741316,1.2012022765217201,1.27138323699808,null,{"$f":"IF(A115='data countries'!B126,\"ok\",\"falsch\")","v":"ok"}]
["Madagascar",0.68376302980699999,0.68488526380699999,0.67188540069250002,0.69052391216169995,0.72576200267879998,0.76002602564059996,0.77913385271089997,0.79536489092389995,0.78895580302000001,0.88002061876680004,0.960911048007,0.78422776395509997,0.6730929178517,0.81140298818510004,0.77364587210320002,0.8849727640092,0.67041794261650001,1.1529012838924999,1.2090217705840001,0.83479260574430003,0.70030873354080003,0.87962170002880002,0.83749803484780005,0.844673206063,0.94961770067969997,1.0280278000073,1.0645016930864999,1.1598703544986999,1.0123578342424999,1.0377077858090999,1.4186959681205,1.6023891068231,1.77884312380966,1.9546259887274,2.2069825235043998,2.2204849161581102,2.1544968009718102,2.3767719736999999,2.0145711659000001,1.8590530589000001,2.2018964895000002,3.0204009797000002,3.3296371707999999,3.8868384295,3.8199303573000001,3.8228839509000001,3.9322328283000001,4.0662621338999996,4.3893760018999997,4.1987633172000001,null,{"$f":"IF(A116='data countries'!B127,\"ok\",\"falsch\")","v":"ok"}]
["Malawi",0.27976505376130001,0.27684147576130003,0.2822930937268,0.29660138274530001,0.30534994813369998,0.33443204339670002,0.41646661972150001,0.44494192590850001,0.45999641394829999,0.50022129801180004,0.53618546666129996,0.50500674917910005,0.51959322507000005,0.39297284850783998,0.35047781629475,0.38934309016969998,0.38073898649020999,0.44596519019199998,0.39851294425900002,0.47570023707210002,0.45746689549890002,0.63054987929070005,0.57229727702870004,0.58550813299780002,0.62193050464690003,0.63790884957070004,0.64732852767019999,0.73549135283809997,0.64402021780700003,0.69090814498834996,0.79384813384905994,0.91802099662906,0.97408824170896002,1.0055926154891199,1.1374604125399199,1.43665032402324,1.4839357817760399,1.65146305434,1.6046495319,1.4331514356599999,1.46925937186,1.43525013518,1.3880174031800001,1.32304298652,1.327573077,1.4458856436,1.4965941745,1.5470394484600001,1.6295471964799999,1.6161478745,null,{"$f":"IF(A117='data countries'!B128,\"ok\",\"falsch\")","v":"ok"}]
["Malaysia",14.22713531976,14.652909087759999,14.69931262191,15.248776704739999,18.075945271649999,19.392443221170002,21.310888497920001,21.247766179029998,23.298120156709999,26.190107666359999,28.06716210383,29.644779692979998,31.24304823688,34.75885173879,36.057095141929999,37.770682568029997,38.071161096040001,39.189850597640003,41.842609493040001,49.024544315279996,57.42816472602,68.872970481630006,72.2001885456,78.776220913540001,84.677251528300005,91.196922974390006,104.11952969412,111.62314423011,110.47500007431999,120.98068803071,132.55563243430001,137.68731800410001,148.4820426272,158.08950572960001,170.6422593975,182.72021492740001,190.82462612259999,207.78483709470001,220.68586634779999,198.96110892979999,216.75565748150001,217.68170304467,221.07480340980001,238.3817415245,251.4907674312,251.75258042230001,246.82063144110001,241.7071936799,248.2455215981,248.8326599541,null,{"$f":"IF(A118='data countries'!B129,\"ok\",\"falsch\")","v":"ok"}]
["Maldives",1.0698852403040001E-2,1.0707305003040001E-2,1.125216129304E-2,1.2613304608119999E-2,1.5546777538119999E-2,1.317672131812E-2,1.2604667363040001E-2,1.3342580763040001E-2,1.323321856304E-2,1.4947842263040001E-2,1.53786723183E-2,1.6335429075400001E-2,1.51419027156E-2,1.6110136660599999E-2,5.0732217361600003E-2,6.1529776957000001E-2,5.8764183901000001E-2,6.6117248855000005E-2,6.6979737500399997E-2,6.3751789847400001E-2,6.5727118578200003E-2,6.51242190163E-2,6.6603144959999999E-2,0.12888911166,0.13791893476,0.23672419810000001,0.24753990679999999,0.19941791140000001,0.27323750759999998,0.2594548585,0.3829533436,0.40574133800000001,0.69758983929999996,0.78336663230000003,0.58791085971544998,0.48117811935457999,0.60486310196787996,0.66881385201676002,0.72989132552699998,0.81797497188085,0.88253890859508999,1.1142262015894799,1.5935392729183699,1.38742320051276,0.85347946387927998,0.81974719429343001,0.78512057317311001,0.82066142252265994,0.85698431295331001,0.91280515840547605,null,{"$f":"IF(A119='data countries'!B130,\"ok\",\"falsch\")","v":"ok"}]
["Mali",0.26661175906130002,0.26574914106129999,0.26729681862679999,0.27727922254530002,0.28796283193369998,0.30400976099670002,0.29969510342150002,0.30728870820850002,0.30152294934829998,0.33157787141180001,0.35705670276130003,0.43208963397599998,0.32168416287000001,0.32457290036940001,0.32363527401370001,0.37537801291470002,0.29946163949020999,0.43247052375040002,0.2352338569554,0.42485887907210002,0.38516662649889999,0.45312043510950001,0.41279939868900001,0.41057514790939997,0.41496432373280001,0.42866015716950001,0.43913140648920002,0.52918733073049995,0.47106200470558002,0.48636121199070997,0.49555973786531998,0.50975259097475001,0.52068866994937002,0.53172963782393001,0.53982710057367,0.54749440311594999,0.56335045112284998,0.56003423361544002,0.59071917535663998,0.56197175709797997,0.58014834973975005,0.56628333764024996,0.56567954164025003,0.82222749354540003,0.89152527368669998,0.90045386336309996,0.92388830529770005,0.95683026063450005,0.99383503352379998,1.0313536392658,null,{"$f":"IF(A120='data countries'!B131,\"ok\",\"falsch\")","v":"ok"}]
["Malta",0.71273463550000005,0.71270974070000004,0.88594792850000004,0.85202224579999997,0.78262667129999997,0.70751223669999996,0.79445826919999996,0.83879680779999999,0.97222743639999998,0.94854033240000002,1.0507424918999999,1.1853211908000001,1.3526236656999999,1.010598128,1.3677474292,1.1990462966,1.9129364537,2.0043128799000001,2.1769756507000002,2.3578085948999998,2.3515248516999998,2.2480532544899998,2.20625405409,2.84391143638,2.5455036185800002,2.4169649613700002,2.3659253247600001,2.5147668990700001,2.4155645639099999,2.4500891819500001,2.16211547224,2.5245731005400001,2.3540764400600001,2.6414518228600001,2.6388892765500001,2.7693542437700001,2.6462645759500001,2.79508250085,2.6266902303543,2.5094155892200001,2.6264620387900002,2.60006937095,2.7660328169059998,2.4282223099000002,2.411423769028,1.7044989765176,1.4110352406376001,1.0307585982876,1.0294135516176,1.0436021781875999,null,{"$f":"IF(A121='data countries'!B132,\"ok\",\"falsch\")","v":"ok"}]
["Martinique",0.2301021344145,0.2329488128145,0.26624157319480002,0.28873537359189999,0.2489817685721,0.29823622172480002,0.27247684192330002,0.29799816032479998,0.31029847894719997,0.29690537006520001,0.31208999500520002,0.33005177027760002,0.32817926907610001,0.32943360644019998,0.32113244707540001,0.4045687188539,0.46953451276530001,0.54782567470650001,0.65228289544139995,0.85084076735970005,0.94386117289619997,0.84440712799960005,0.91380081186499995,1.126205049672,1.1111512251569999,1.1336446810780001,1.1413987381970001,1.0877258143990001,1.0710624911169999,1.1137732196929999,1.06004259091,1.069757496354,1.0837364782150001,1.1151102494880001,1.182646913558,1.120230883202,1.091011280387,1.151673294756,1.016170451107,1.264283316567,1.3403446858735,1.3278189324309999,2.2719838753579999,2.4737248638993998,2.3248886471311998,2.3740326536327001,2.4021800470847001,1.9457429771974999,2.0019681209117999,1.9539313535711,null,{"$f":"IF(A122='data countries'!B133,\"ok\",\"falsch\")","v":"ok"}]
["Mauritania",0.35862639169190003,0.36012882419190001,0.35883098249020001,0.36825711376789999,0.38902957120050002,0.40791788774499999,0.41684113388229999,0.43169011611269997,0.42640554402230002,0.47598006261769998,0.51908373359189997,0.4785697394731,0.467100727705,0.42434061709260001,0.63153817764639997,0.60781522433949997,0.40123247672630002,0.68624493658399999,0.82737911687309995,0.86792522922610005,0.68372212014080003,0.86350501222880005,2.3993816118139999,2.428015863378,2.5545146329209998,2.6865482870199999,2.6346641578969998,2.811030504723,2.5006750498335002,2.5803250698042,2.5802539028401998,2.6656109905403,2.5234790557674001,2.7222875334871,2.4605031136167002,2.9104884860513498,2.6686118120981099,2.6033697716300002,1.8518962978,1.9291941301,2.0560326996999998,2.3656549342000002,2.5364195784999999,2.6209591949000002,2.7450128564999998,2.7291061648000001,2.8361050982,2.9012460310999999,7.5438329224,7.6594419402999998,null,{"$f":"IF(A123='data countries'!B134,\"ok\",\"falsch\")","v":"ok"}]
["Mauritius",0.3016540774,0.3027142249,0.3473376292,0.37695450260000002,0.44523262679999998,0.4646455954,0.51227640029999999,0.59426488919999998,0.62281161200000001,0.62710305830000002,0.58584188079999999,0.60448350539999995,0.55673244150000001,0.63393737319999999,0.681111786,0.63983293299999999,0.79143450999999998,0.83711315249999996,0.92652620699999999,1.0439764245000001,1.1908050975,1.2748483035,1.3466539580000001,1.4845624660000001,1.5288945890000001,1.5660763976000001,1.6396418075000001,1.646215596,1.8063126464999999,2.2132762771999999,2.4464999745,2.5850798240000001,2.6407570641000002,2.7646787857000001,2.7882924686999999,2.9825377361999998,3.3252816726000001,3.4173791417000001,3.4912660793999999,3.4417876465999999,3.6796523934000001,3.6604257533000002,3.7573206319999999,3.8503067944999998,3.9824757513,3.9900334967000002,4.0655924016,4.2066058475999997,4.5719753150000004,4.3317959943000002,null,{"$f":"IF(A124='data countries'!B135,\"ok\",\"falsch\")","v":"ok"}]
["Mexico",121.38133882309,121.88772983309001,134.0589246131,144.1566174909,159.14761209,167.49939165340001,178.7059754814,184.7842786084,206.62506824889999,218.7744993604,242.1051551939,260.36291136509999,278.12184342849997,262.4403003388,266.48431924400001,275.57003581959998,271.21350609759997,282.81023832,281.51911820589999,294.81604762320001,290.97035149769999,308.74051720040001,312.75389233359999,320.74059832630002,346.34218932340002,326.66109997270001,342.59257743730001,361.78121842069999,384.2094015317,373.37015179090002,397.56600695769998,395.56971816459998,401.71952761559999,421.821531666,431.61862163180001,448.78451044780002,465.27222364509998,472.51873413089999,473.91177760839997,464.1419968376,479.29785321380001,489.15175136369999,508.50805195909999,495.77336779389998,482.8735435781,491.56813238759997,498.02576071710001,499.95544336559999,492.99770393649999,485.00360413269999,null,{"$f":"IF(A125='data countries'!B136,\"ok\",\"falsch\")","v":"ok"}]
["Moldova",0.75953885099999996,0.78787648399999999,0.81318492399999998,0.87270459099999997,0.90246222899999995,0.93249377899999997,0.94677087000000004,0.96627650899999995,0.96541558100000002,0.94062445800000005,0.96367544900000002,0.97952524699999999,1.0984829620000001,1.0938868429999999,1.082695975,1.0849386029999999,1.43358089,1.5396586350000001,1.580270673,1.4918611509999999,31.957054785,25.769074711999998,20.465946163000002,17.339424471000001,14.093389265000001,12.180753955,10.500828741999999,9.5462777570000004,8.6283980178000004,7.3185929783999999,6.7924884030000001,7.0927617435999997,7.2368535219999996,7.7893195710000001,7.8436377253699998,8.1385825231000002,8.0163401213800007,7.8685348203699998,7.8147147523099996,7.6866707551499998,8.3616791656299991,8.3716265134699999,8.2527638656299995,7.3152161086299996,7.9445605641699997,8.2452825167500006,8.4163417281140003,8.2716118582162697,9.3192884896524504,9.2291543671186709,null,{"$f":"IF(A126='data countries'!B137,\"ok\",\"falsch\")","v":"ok"}]
["Mongolia",5.0872152546880001,5.0866454639879999,4.8555434249880003,5.3424961269780002,5.9407481474779997,6.1212896079780004,6.2795220029880001,7.1982045349880002,7.7313922479880004,8.369641939988,9.0941193448999993,8.7421586703600003,9.3249989021699999,9.6703408967700106,10.23067059714,11.922961776999999,13.0526345045,13.866239263000001,14.701433864,13.969444856000001,13.150913225,14.842302281,12.952465956999999,11.920581702,10.391454988,10.337192877,8.7456802010000008,8.5731484120000001,8.6054137599999994,8.6567808530000008,9.0495135179999995,9.0181537709999997,9.6601275770000008,9.3721383639999996,9.5836575017999994,11.082903433,12.559779301000001,13.116400844999999,13.089496069999999,13.729903229,14.367128864,15.838032169,17.226554676999999,18.506766510999999,18.248642559,17.466464355999999,18.333893268800001,19.614113058499999,35.279487783999997,35.929593197000003,null,{"$f":"IF(A127='data countries'!B138,\"ok\",\"falsch\")","v":"ok"}]
["Morocco",6.8479039224209997,6.8928546194209996,7.7213938373479998,9.1530609884699992,10.114324194398,10.850151383249999,11.89202333802,13.12487326994,14.0422502421,15.2166184505,15.67805577048,15.787055451026999,16.49178799373,17.352719507107999,17.522380293356001,18.247306032996999,18.738393153343001,19.196761341439998,20.219762172199999,21.84612445098,22.434626103399999,23.527950960199998,25.206737872470001,25.935791281469999,28.096174127440001,29.234147937629999,28.888313335629999,30.413753012840001,31.146896305176998,32.77610063393,33.486761459989999,36.910833051117997,38.162230885930001,37.981767639162001,41.807782253162003,44.40545448668,45.516177911909999,46.15688020812,49.027437463299997,48.913499193645997,51.996317042792001,56.224777440339999,58.486246535112997,58.607367357774002,60.212039704863997,61.76920012755,61.816752707724,64.958758056644001,66.737255996448994,73.913856673439,null,{"$f":"IF(A128='data countries'!B139,\"ok\",\"falsch\")","v":"ok"}]
["Mozambique",3.180776756217,3.1952104142170001,2.9412720938580001,3.1302000046080001,2.958780196213,2.5607679748660002,2.5986495722090002,2.5305978113709999,2.2165885961459999,2.097051444991,2.5312952612439998,2.2349257744390001,2.068314887478,1.89691814316,1.607284074981,1.59700895,1.5620838029999999,1.5611142819999999,1.56853303,1.551772586,1.1827644369999999,0.99575221199999997,1.183845558,1.3740100710000001,1.1697111149999999,1.282972695,1.24040577,1.3675148829999999,1.3236088699999999,1.319081255,1.600661815,1.92904586,2.0196783250000001,2.5599076850000002,2.8168448754800002,2.7025579388500001,2.8621071105400002,3.2744351946079999,3.1800345909500001,3.4515626215899999,3.6832742628599999,4.1594835436700004,4.11121395256,4.3902281435599999,5.4032208222799998,6.6009769443000001,8.93737606973,8.7423071351299999,8.9689361955300004,9.2594409619799993,null,{"$f":"IF(A129='data countries'!B140,\"ok\",\"falsch\")","v":"ok"}]
["Myanmar/Burma",4.7209201784052999,4.7622752184052999,4.6624207001649998,3.7115027454099998,4.286993267323,4.2042191906530002,4.4981876157049996,4.8212995889909998,4.9983279423890004,5.2045505574510003,5.5043434960670004,5.4552852843149999,5.6474208599229998,5.4753602193250002,5.988540704229,6.313753335106,6.6174262249989999,5.0131226055500004,4.7193616524620001,4.7498832040799996,4.4670691034540004,4.3210419276090004,4.5831881313649996,5.1223665097310001,6.1414590225739998,7.4380229017439996,7.8261168881499996,7.7923732674019996,8.4688306060510001,9.2998267386759998,10.083220429243999,8.8161349614819997,8.8772694986570002,11.002771238753001,10.62126384368,11.22087935884,10.48410310477,10.90141279373,8.2807379006759998,7.70435973898,8.5675556280799992,8.7738667621299999,12.391017906222,14.817069232084,21.194532936969999,25.324641886207999,28.861748501045,43.069308749674001,46.865972113527199,48.310662007027197,null,{"$f":"IF(A130='data countries'!B141,\"ok\",\"falsch\")","v":"ok"}]
["Namibia",1.1989685707601001,1.1993399702601,1.1814493803095001,1.2111970019752001,1.2833755540128,1.342333886082,1.3384555130144,1.378683270245,1.3480959007905999,1.5200482735962,1.6697377235601001,1.5280986609039999,1.4556518630734001,1.4837283152703,1.4358627805063999,1.4895597467385999,1.5905282462771999,2.0262511447690001,1.911201038458,1.7376361724160001,1.5418314309237,1.1436931884999999,1.2435885175000001,1.442683011,1.6629816445000001,1.8018689615000001,1.9529018871999999,2.027277915,2.0944384330000001,1.9879095360000001,1.9111078175,2.4434105475000001,2.1288100354999999,2.2556297942999999,2.347138857,2.5037437790000001,2.5117380570000001,2.601191585,2.937633988,2.9979534179999998,3.0891842569999999,3.285893674,3.439921773,3.6823914270000002,3.8535069869999998,4.1202517629999997,4.2501055379999997,4.3160369340000004,4.3741555090000004,4.4001095899999996,null,{"$f":"IF(A131='data countries'!B142,\"ok\",\"falsch\")","v":"ok"}]
["Nepal",0.27246705199999999,0.27792718700000002,0.35804327200000002,0.50066762300000001,0.497460022,0.41730808400000002,0.36020046300000003,0.40336349799999999,0.38396107299999999,0.55541756499999995,0.61903135200000003,0.54354401512999995,0.60829059772000005,0.83454717087999997,0.89536280339999996,0.68538142359999998,0.90363288590000002,0.95958390309999997,0.96361875070000003,0.77630869219999998,1.0973716287999999,1.3466794200000001,1.412644118,1.5614903419999999,1.896788495,2.0632912659999998,2.1883400720999999,2.4163621318000001,2.5622871630000001,3.3350064488000002,3.4229468371,3.6588713419999999,2.98826568,3.3912130899999999,2.9469678429999999,3.2981141539999999,2.731443616,2.8146482769999999,3.108485382,4.0964649340000001,4.8066646200000003,5.3805761348000001,6.2276964550000002,6.1822689689999999,7.1520943299999997,6.5658981699999996,9.3779699000000001,10.99606807,14.446553850000001,15.019087669999999,null,{"$f":"IF(A132='data countries'!B143,\"ok\",\"falsch\")","v":"ok"}]
["Netherlands",135.0312587679,135.43316274220001,150.90723538200001,157.2409260517,149.11579124260001,140.8788766184,151.61187436099999,149.3256213496,154.1068741734,163.48381404840001,155.8436968796,154.92292409244001,144.61229724208999,140.05471112570001,146.18831623105001,150.46645070770001,152.8038212756,157.06417021120001,157.11276475579001,160.33596442660999,161.19480264180001,167.6170048681,165.76458035749999,169.8992790737,170.47586498219999,177.32390907997001,187.71176408240001,179.82467772059999,180.538742168487,175.73662051315401,176.448748415003,181.12131394312101,181.64722271868101,183.87019294046399,186.340460321395,181.382294074225,177.01322462400699,178.16897081416499,179.32730284757901,174.37520476030099,185.47722522571999,173.71584325140699,170.27982069794601,169.09972190738799,161.73969080275199,168.990178247926,168.47713794816701,165.970968591977,161.912714396947,156.414819385339,null,{"$f":"IF(A133='data countries'!B144,\"ok\",\"falsch\")","v":"ok"}]
["New Caledonia",1.225705775899,1.2258055175989999,1.2903777817990001,1.441377244878,1.7578757511780001,1.526459495278,1.4709766235490001,1.5796842271489999,1.5894553531990001,1.785338400199,1.8553050343599999,1.91951975733,1.2249787372700001,1.2238192810499999,1.2553566603099999,1.70516286908,1.5914018940100001,1.7588763056800001,1.6926867202560001,1.7341447668100001,1.6238333433000001,1.777245038854,1.7199588084999999,1.657165972,1.2185634732499999,1.2447291284999999,1.4021352922500001,1.3152088396999999,1.4159381769999999,1.5062259298,1.880946472,1.9111349616,2.1106132333000001,2.1452070982000002,2.55659779673864,2.4540621477456002,2.6871415401125001,2.9239610606783999,3.4960146849678999,3.2907035799925,4.9467382585694999,6.1926561400709002,6.5083755131791996,5.7713689111032798,5.3230164680131198,5.0236358334312197,7.3695718483235702,8.3962060400157696,15.3927043224099,15.656643787356,null,{"$f":"IF(A134='data countries'!B145,\"ok\",\"falsch\")","v":"ok"}]
["New Zealand",14.01011801334,13.8195750978,15.960227043650001,17.078786859640001,18.024936157060001,16.899226467689999,18.625462612469999,19.580320405910001,19.726177640029999,17.956934959830001,18.001446937459999,17.825026163619999,19.5307791613,19.7440458021,20.19571340697,20.725401414090001,19.760544342820001,21.006061532450001,22.264638852169998,22.342397364709999,23.901807765569998,24.559597196479999,26.298975675520001,26.112210300089998,26.477287665359999,27.201980482970001,28.556345471469999,31.01174162649,30.495710762680002,32.286939517119997,33.456010033890003,35.418429647330001,35.588558923480001,36.502949711939998,36.167780330009997,36.903551494479998,36.998771643620003,35.93131696775,36.835288210089999,34.090343634660002,34.115085418029999,33.462486805490002,35.345560888000001,35.378850099349997,36.256304309420003,36.014110892070001,35.327757995890003,37.437096531350001,37.002133168450001,38.668768734750003,null,{"$f":"IF(A135='data countries'!B146,\"ok\",\"falsch\")","v":"ok"}]
["Nicaragua",1.6196420881569999,1.628451123157,1.6853564582239999,1.899020726474,2.0328963532739999,2.0151312424459999,2.3065759276989999,2.8229723776759998,2.548385176789,1.6540876515730001,1.977655973072,2.0898325276750001,2.0338281882849998,2.2004246215140002,2.0000630364940002,2.0186545136479999,2.3815265347980001,2.3611238297480002,2.1578523806960002,1.8608164435100001,1.96898695371,1.979641394897,2.2993074141190002,2.2565075060509998,2.5629012137879998,2.72453965991,2.88585168004,3.0897552801039998,3.5898902997429998,3.6221941888360001,3.7710715562570001,4.0013659443140002,4.135128094313,4.2879535847210004,4.434784812657,4.3186632743360001,4.580935225038,4.7096979897470002,4.5262802963609996,4.5007297604009997,4.6675812698180001,4.8483494985329996,4.8215463102429998,4.6708889169730003,4.9264196206669997,5.5723406149869996,5.6267004476410003,5.6690451929780004,5.6736757214990003,5.8587572985060001,null,{"$f":"IF(A136='data countries'!B147,\"ok\",\"falsch\")","v":"ok"}]
["Niger",0.324423708215,0.32074822221499999,0.3221983579023,0.3285926214937,0.34220081567830002,0.35909246479559997,0.39665347852869998,0.4133402476113,0.41253438359770001,0.45447068614910002,0.50040401161500003,0.48808832997599999,0.54921147629339995,0.63318413536939999,0.56875371001370001,0.59470743816969995,0.61940746049021,0.74839143819200005,0.98746851206620001,0.96610747883570003,0.90826687971289999,1.0242548332907,0.89927361502869996,1.020300298042,0.81228312664689994,0.82710049057070001,0.87977037187020002,1.0177238220381,0.97688686000699998,1.05028698498835,0.69634011500000004,0.70688228500000005,0.73018441999999995,0.79279791499999996,0.83008261699999997,0.79611219,0.80157847299999996,0.86392185060000004,0.90757490200000002,1.1270633249999999,1.431596936,1.449910718778,2.0405626431199999,2.0197322175000001,2.1947576699,2.1503880740199999,2.1391339928519999,2.2237894878060001,2.3077278367890002,2.3595781667889999,null,{"$f":"IF(A137='data countries'!B148,\"ok\",\"falsch\")","v":"ok"}]
["Nigeria",29.06231921889,42.859564788889998,55.492355797169999,66.676696007710007,84.246745937629996,64.255860765280005,75.458899493779995,66.731170438090004,69.806480154859997,99.705113589660002,89.887670134019999,73.594632334280007,70.183612017170006,70.289774738109998,70.608194470729998,73.534460285169999,71.873055708669995,68.07651181656,77.365118305300001,79.030782961699998,74.763472918100007,80.912231795599993,88.633294698599997,86.141118989999995,80.265607162250006,88.214955099099996,102.9997356697,101.30672907909,91.831765889409994,90.400389390130002,100.01181909730001,105.84750748816001,95.870191472779993,106.21948920696001,102.67754683235,100.26314921530999,89.922631643420004,82.566705127953995,88.515770285309998,78.046051453839993,90.51905873183,95.177727626630002,90.607265108519996,89.778010668030007,85.70202341337,89.431221700758996,90.816153753365995,94.138121492638007,97.672160636512999,100.223230623513,null,{"$f":"IF(A138='data countries'!B149,\"ok\",\"falsch\")","v":"ok"}]
["North Korea",14.75176563366,15.13092432366,16.2679267175,16.5398740537,17.214079579669999,18.100775720169999,19.501453818640002,19.994270816389999,104.43033079765,111.93636260930001,118.35341584274001,121.50377974154,126.87236452184,131.54447800220001,135.0012711231,140.16754398619,137.71704519990999,132.73553080347,136.15412026358001,137.75772601982001,131.81536885022999,126.68968358649001,112.04603171380001,103.87135637061,95.112124712287994,89.121519139109907,79.095631617142004,76.767458537040994,62.974880423355998,68.640038145752001,73.827059080485,76.667773685545995,73.428850868801007,74.944468970773997,76.457188861326003,79.656084301118995,81.137301089087998,67.886054937173,74.370942835915002,56.739530220325001,52.835894572199997,38.533667638525003,39.289978218104999,28.359581272063,33.238042556662002,27.098722346662001,30.087092047553998,24.648854278447999,41.414381349343003,42.172967711238002,null,{"$f":"IF(A139='data countries'!B150,\"ok\",\"falsch\")","v":"ok"}]
["North Macedonia",9.1113499198319996,8.5460011781319896,8.7286625186879991,10.165440830479,10.482345177462999,8.3087368421610002,9.0355878064610007,9.4365162149189903,9.379249683606,10.6606309914132,9.5731511059009993,10.029710124299999,8.8552823837519998,8.2820956972899999,9.3818684075940002,9.8487334049069997,10.117400236139,10.093134743794,10.644441844623,10.666096204241001,11.207502103637999,9.9177013826580005,8.7995634042099997,9.032355640294,8.7605038222600005,8.7041386817539994,10.246151641196001,9.2345037011100004,10.131614178695999,9.3622911736799992,9.0494149493520002,9.2345827926179993,8.7066659554159997,9.4548562697719998,9.2121876885919995,9.7057006879759999,9.7098606958470004,10.3737662164857,10.155966231568099,9.1222186671567993,9.1653610554113101,10.2292175034867,9.6058825019092104,8.7716688180859208,8.3332322744029899,8.0071430390090992,7.7743305306903903,8.3313428017229398,7.7772940563474799,8.9237840462158307,null,{"$f":"IF(A140='data countries'!B151,\"ok\",\"falsch\")","v":"ok"}]
["Norway",36.794230397630002,35.527321041679997,38.647223219570002,39.238349733680003,37.730608563730001,37.106053902020001,39.156912246449998,40.190606385800002,38.874938875010002,41.687180989669997,40.00663002089,36.55725155124,33.137711787519997,33.02860009962,35.005338364780002,35.897472413469998,38.306911541109997,37.033930251199997,38.084742027510003,37.169268890390001,37.324423034719999,34.72550895122,37.405554936119998,39.494097028580001,41.52752681906,41.713242559619999,42.069643088989999,44.455796444640001,46.156593932180002,47.769215486039997,42.837479546570002,43.322301104472999,42.711984383610002,45.489703067880001,45.904037269779998,44.152451353899998,44.765650318870001,45.781164878799999,46.15912444248,44.717311563960003,46.720234265899997,45.339181665360002,44.654722212179998,43.98438771795,44.438173871628997,45.790071278130299,45.237625869148303,48.514850764338,48.653688983207502,47.990776304809103,null,{"$f":"IF(A141='data countries'!B152,\"ok\",\"falsch\")","v":"ok"}]
["Oman",7.3290717355400004,7.3298811432399997,7.3384187021300002,7.3712598224299999,7.74079591984,25.83745777751,28.76596231173,28.71775813975,23.741826634159999,21.41724806769,12.88504562682,14.413190231790001,12.559757687796999,14.291277725324999,12.233496584482999,9.5162746748499991,11.302877724029999,10.97864829055,12.231490716110001,12.13964780875,15.57829759104,18.99231559383,18.11186939696,17.156020671419999,16.053199261709999,18.77328826594,19.84676503771,20.47089447462,19.92998365751,22.434579158489999,25.324219647629999,28.448095166249999,30.410690448859999,32.054094361330002,31.623612243099998,32.997834140069997,42.13460701084,45.525278060780003,44.851037446820001,47.996153883940003,52.507353066900002,60.75845061911,67.282337148170001,70.594879508950001,74.953806139069997,79.864734990800002,80.671768233289995,83.426578536630004,90.810425620710006,92.780720009709995,null,{"$f":"IF(A142='data countries'!B153,\"ok\",\"falsch\")","v":"ok"}]
["Pakistan",17.724425120244,18.092291570244001,18.709927910564002,19.821672885609999,20.963972376608002,23.231268567251998,22.399552084454999,23.592258265447999,24.74750752412,26.649854714949999,28.245972718979999,30.772007227940001,34.994673747919997,36.814981093660002,39.59635558171,43.561734165849998,46.484602283139999,53.63545769548,57.77555673106,62.227372096819998,65.327009061560005,66.540322740959994,73.654789384780003,81.337575367599996,83.800129077156996,90.278866948130002,93.935572535450007,97.498686925719994,98.981769258970004,108.21964819455,109.38036815594,112.1313204193,112.67158910396,116.61099259861,130.20835193132001,132.43790490351,143.58658902926001,159.70309542976,155.40887505960001,158.17703576901999,152.75659272864999,154.37213681362999,155.26455113333,156.93684171800999,165.12775019346,169.78352308392999,185.95480307958999,204.39936917745999,220.68853283012001,223.62595011011999,null,{"$f":"IF(A143='data countries'!B154,\"ok\",\"falsch\")","v":"ok"}]
["Palau",1.9938769330499999,1.9938763153000001,1.99387590675,1.99387660925,1.9938761897499999,1.9938756609999999,1.9938762502,1.9938769352500001,1.9938765245500001,1.99387582335,1.9938766238500001,2.0239275811500002,2.0094392713499998,2.08607939975,2.3071009985500002,1.8668946128999999,2.0350921250999998,2.1334144018500001,2.04201988825,2.1324233431000001,2.1549626204500001,2.1389038465499999,1.9549435776999999,2.0007583012499999,2.9944693352499998,2.3486867077500002,2.2106037268500001,2.5173523111499998,2.2780551062000001,2.4190882439000001,2.1214401127000002,2.3630573712,1.4438332837500001,1.7178248959,1.52163056723016,1.7340933217229,1.6963325183094999,1.3827679040425001,1.3975990073327,2.1726657168156001,2.1101279069282,2.3691571478708999,3.6034136441215998,1.823717571385,1.26757713189887,1.19519070268387,1.1438916040690099,1.19548849502669,1.2482812579456799,1.3296788316852599,null,{"$f":"IF(A144='data countries'!B155,\"ok\",\"falsch\")","v":"ok"}]
["Panama",2.5931110774000001,2.5981301804000001,2.8113686229499999,3.14625252587,3.1877041104399999,3.2486187021999999,3.2460119767540001,3.218310682736,3.0632124551870001,3.3198924647019998,3.195992103449,2.7859408450180001,3.1460039118799998,3.5665477820699998,2.974869191792,2.8285294364600002,2.9272448123029999,3.236666696186,2.4915150233040002,2.6035532456169999,2.7353493674979998,3.1519685318919999,3.7610577483780001,3.8443579174879998,4.0869392637709998,4.3944005422380004,4.4279079756520003,4.6541501556289999,5.7347495069340004,5.0219450532380003,5.2070014140999996,6.2208504261469999,5.4294972586870003,5.5427564189999998,5.6376811150000004,7.2043896319999998,7.5941238230000003,7.3272492910000002,7.2364140360000002,8.6660162770000007,9.4365417219999994,10.206655616999999,10.66112431,10.816950508,11.462160569,11.568942136,11.659228041,11.107433069000001,11.230624299,11.633575803999999,null,{"$f":"IF(A145='data countries'!B156,\"ok\",\"falsch\")","v":"ok"}]
["Papua New Guinea",1.4814614832669999,1.4819785485670001,1.471372127377,1.6508091976699999,2.0383991915699999,1.78229236257,1.6156777292669999,1.808583378267,1.680817115267,1.9298634802670001,1.88394289322,2.0753619168499999,1.90707987826,2.0686213578900001,2.0477218000500002,2.4545466094999999,2.1723735082800002,2.3340716439300002,2.1452388587,2.1041105820700001,2.3072278114600002,2.2202946722500001,2.2621430459999998,2.2497575699999999,1.5793246768,1.814887184,1.9062011335,1.9068256152,2.6806605695000001,2.0015484383,2.262048069,2.4135796133,3.000502349,3.310035622,3.6740235524434,4.3791521538184996,4.4250295152366004,3.8491717605028999,3.7382429985149002,3.1122030053463998,3.0778592771661999,3.6654074721306,4.9726593226914,6.0803443168511002,4.4414400620262002,3.7693521685181701,3.7006430574809999,3.7239653250743499,3.87030602925722,4.0747799572572196,null,{"$f":"IF(A146='data countries'!B157,\"ok\",\"falsch\")","v":"ok"}]
["Paraguay",0.68409247072299995,0.69580896372300005,0.75376568641800001,0.82833841459500002,0.80424146768600002,0.86025663246600004,0.950875389613,1.329585741219,1.588109805193,1.524978147303,1.560946839116,1.510363807034,1.4993409155670001,1.46349921649,1.6023448785959999,1.6006540253499999,1.7095127830820001,1.893157677954,2.1271930989999999,2.1283550904380002,2.2619264445099998,2.219283799456,2.6460271050620001,3.0016931625050001,3.4875754748199999,3.9439028328160002,3.8989155741650001,4.3082872239950003,4.5119832551180004,4.5200211322459998,3.7511849787339999,3.8893886389989998,4.0718805498039998,4.2140406871240002,4.2501594198620003,3.9221315610020002,4.0934396788000003,4.2334479407999996,4.5228243248000002,4.6093914627999997,5.1857853970000001,5.3768643935,5.6416843099999996,5.565761416,5.8332700605000003,6.3793511266999996,7.3248501497999996,8.1811687704999994,8.2766121098000003,8.4659567292000002,null,{"$f":"IF(A147='data countries'!B158,\"ok\",\"falsch\")","v":"ok"}]
["Peru",17.383844123180001,17.385939543180001,17.380024211809999,18.42712017717,19.9839220084,20.37783763309,20.817017872969998,20.525751828219999,20.608701688069999,21.501235288659998,22.62063523894,23.388672825579999,23.000732353229999,19.524065371319999,20.259703979539999,19.572172698309998,21.290745906800002,23.0085401947,23.30599007308,21.008281002330001,20.87490674919,20.271321731810001,21.137568524380001,22.175085794400001,22.781091894469998,25.882144251829999,28.43274617954,28.346400334769999,27.271176467170001,29.33715513369,29.01113174012,26.954464802939999,28.118355850059999,27.606266274239999,31.823954596349999,31.837731044160002,31.412105568819999,34.324614416380001,38.914453087600002,41.790303449139998,45.27859391474,48.39076850859,48.945494859539998,49.80971356917,53.053413218919999,54.122075843369998,56.299503704430002,53.987001651070003,55.810479848130001,56.286057785129998,null,{"$f":"IF(A148='data countries'!B159,\"ok\",\"falsch\")","v":"ok"}]
["Philippines",25.69687358517,25.992244316170002,27.027740175529999,31.043708785450001,29.61028036335,32.624097500559998,32.821136393060002,36.218493746610001,38.003035403529999,41.052063044340002,37.560446037310001,35.541344326160001,36.008769312390001,38.20084794996,33.196651166350001,31.832937965460001,29.978944408389999,36.828404682459997,38.864772352549998,40.651264169839997,43.924422027650003,44.074094763929999,47.753342472530001,51.433683584729998,55.88861082703,67.160846896790005,70.468268681159998,79.083429957570004,77.709956687480002,75.934551150909996,76.741834801940001,74.117154422799999,75.231300134410006,77.319793373970001,78.278149186459999,81.642506244149899,73.403622124219893,79.248302387799995,80.463722993459996,80.972063032129995,87.356687749829902,87.172341625399994,92.379369814479901,100.75033190254,107.64134283297599,116.50789197883,127.7863105392,139.95624205346999,144.64169664226,150.64008621766001,null,{"$f":"IF(A149='data countries'!B160,\"ok\",\"falsch\")","v":"ok"}]
["Poland",310.37117495995,318.84715835365,332.04070937961001,349.71322406258997,362.48740558330002,377.39667686109999,402.35824778295,416.56544904666998,443.75474823551002,444.53338139125998,455.57792871556001,418.72653573663001,425.66000107846003,428.28196220244001,444.04501495842101,453.07727340967,460.65010071328999,475.80099935782999,465.33845854859999,445.11584035144,371.38121895376003,368.96456559508999,359.62918179462002,359.58385020545001,353.56739420701001,355.77239622097102,370.22228319609002,361.40805116197998,333.62106163077999,324.35407702018,312.19805564144002,308.90365519632002,302.03207539188998,314.40780951524999,316.69763216575001,315.88738074677002,329.53322365014998,329.02886732376999,323.43731325048998,309.98072444573,327.84497559648997,325.45487766476998,317.61786419107,313.19719521017998,301.18615495317999,304.20102184829,314.86169285323001,327.86390171127999,332.43578602730003,317.65424474009001,null,{"$f":"IF(A150='data countries'!B161,\"ok\",\"falsch\")","v":"ok"}]
["Portugal",15.959587034649999,17.475562328399999,17.993199601739999,19.684453625660002,19.92871226339,21.68067221882,23.067045773490001,22.977024739600001,24.099934257560001,26.86023377459,28.451453399719998,29.98654268072,30.415509711169999,30.988531678739999,29.842095433760001,28.57169528947,32.0965253914,33.044380796200002,34.180223644169999,42.418354085670003,43.691519123170004,45.519568468359999,49.301527416120003,48.218019279709999,49.776967798800001,53.284315117849999,51.314196410699999,53.692638229769997,58.315012351359997,64.956710543049994,64.514740775315801,63.963779640997103,68.086853916116596,63.107889176406303,64.758839830500307,68.088840671292502,63.180627449581998,61.531103257452301,59.592219723505501,58.7079134856615,53.512386848796403,51.833203269050102,50.166094673076998,48.6802244822224,48.234422628767497,52.355245943615998,50.962254305842002,55.658798514936997,51.4932566912846,48.472048978039602,null,{"$f":"IF(A151='data countries'!B162,\"ok\",\"falsch\")","v":"ok"}]
["Puerto Rico",1.7731127229999999,1.8673082008819999,1.9532893042899999,1.9515737789500001,1.91805799462,1.76544886012,1.7544043358600001,1.6561538172600001,1.65863550323,1.5000268596999999,1.4460571332600001,1.4112493515110001,1.30913696293,1.2815577489400001,1.3792946451100001,1.3136076615400001,1.3144999476400001,1.4151512717800001,1.4007195077800001,2.1941568686599999,2.0639174478700002,2.0667498770999999,1.8521639284,1.8296306523999999,2.0912849700999998,1.8893522619000001,2.0838978235200001,2.1257884733800001,2.1062241990100001,2.1858263491200001,2.1918311292600001,2.1577490806599999,2.1538191907900002,2.3842226175099999,2.2860192631,2.2728983789999999,2.2908129332140001,2.2743341356800002,2.3518405865799998,2.1504438703300002,2.3191409673800001,2.4169048544899998,2.5719479874900002,2.6808032506399999,2.7560707951799999,2.82798885357,3.0338650616799998,2.9499254922999998,3.5545424387,3.9099040015600002,null,{"$f":"IF(A152='data countries'!B163,\"ok\",\"falsch\")","v":"ok"}]
["Qatar",14.717562389464,18.313571568414002,22.040718228124,24.693367629463999,20.834495996124001,19.936090166585998,18.662728701334999,16.711588478713999,18.820792487153,17.618875526652001,14.585612967496999,11.846696264584001,12.658440740790001,11.361755707397,16.369578741259001,15.470146685266,16.252020715322001,16.417821233184998,16.774951967136001,17.526232700409999,17.00656696307,18.05133813518,18.99875212605,19.49543127171,20.530655513380001,21.00509453438,22.80865488896,27.927251572860001,29.50829411086,32.247764506110002,31.74065325346,32.305096553280002,36.183636882160002,38.252590692799998,41.100967707960002,43.435588151749997,48.708055361100001,54.118585770460001,58.724781066730003,62.822261202850001,69.823557137479995,76.612709571430003,81.951758067330005,90.232866423489995,95.876801368970007,97.264851070229994,99.123862062379999,100.96717421546001,104.54021335199,106.52761024189,null,{"$f":"IF(A153='data countries'!B164,\"ok\",\"falsch\")","v":"ok"}]
["Réunion",0.3936348142919,0.3969571839919,0.39839591049020001,0.40958425996789999,0.4300891108005,0.44798524744500001,0.4501785525823,0.46287751031270002,0.44215175362230003,0.50300385301770001,0.53673121939190005,0.50508887166310001,0.48991764270499999,0.60197193296730001,0.64091647612742997,0.67069486643950005,0.71904235951649997,0.95513816995910095,1.0369902982771,1.0613954350896999,1.0103954565258,1.2930320572423999,1.214799336067,1.4983906500933999,1.5581481513312001,1.5525731112112,1.5827175080296001,1.7350605489466999,1.9503000009494,2.0077962579843001,2.0240057717295001,2.1550669451312001,2.1249520801927,2.2410699662806999,2.3713149758998,2.3669346397861801,2.4215652826755401,2.5842770906229999,2.7202865907999998,2.9130013521000002,2.9607659497999999,3.4398343911000002,3.6221572792000001,2.471800939,2.5384020404999998,2.6759477971000001,2.7534007164999998,2.8471000017999999,2.9363787924000002,3.0219003858,null,{"$f":"IF(A154='data countries'!B165,\"ok\",\"falsch\")","v":"ok"}]
["Romania",130.24242020668001,130.91404431667999,135.44731553445999,147.54038052623,149.00863437766,161.00974284801001,175.61618625057,183.70364693893001,198.94485950699999,203.94629679849999,201.49778866459999,202.30464715319999,201.18925207160001,203.18102562262999,200.86649964579999,199.82557424660001,205.7657811112,213.1088234273,217.3032250327,212.41020163970001,187.29101531371001,152.21870784775001,137.00674281702001,128.1228930874,125.1757135854,131.28402020862001,134.95263132622,123.89219382853,108.66904634618,92.876994289030094,97.134030495219903,103.018286249792,102.795196331719,108.48130853657,106.2128138835,104.70063118429,108.93397164581999,106.36970699965001,104.50804345796,85.227047900030101,82.690719700260104,89.05440186189,86.825401065310004,78.813943670910007,78.569321925739999,79.470299672359999,77.696456677460006,81.024751189140005,80.495279305929998,78.631286386100001,null,{"$f":"IF(A155='data countries'!B166,\"ok\",\"falsch\")","v":"ok"}]
["Russia",1314.1684022004999,1315.6233508706,1379.0891398179001,1457.5299543929,1529.3817972616,1635.8195549595,1690.3921405981,1727.7242452764001,1833.7320197802001,1855.5498314555,1907.4528071372999,1902.6591989515,1937.3886937272,1958.5176753809999,1977.5665538860001,2004.301817651,2061.8753223200001,2110.846802001,2158.7908949970001,2164.145816449,2393.6579422680002,2359.0621844329999,2179.8298584114,1988.9547383106001,1789.1119581201001,1746.1591553501,1702.47985838557,1589.0498928618999,1591.5081221589001,1638.2289603357001,1675.1619803286001,1682.2897893337999,1670.8935416673,1736.0718053384001,1734.1485997406,1734.0281249462,1770.6313975390001,1772.1194519912001,1757.4467109979,1653.6514912365999,1731.6327698985999,1818.2196277789999,1799.715691375,1745.095579825,1727.0808198679999,1730.5004849326001,1710.8608403594999,1738.0174669019,1805.7693674816001,1792.0152530053999,null,{"$f":"IF(A156='data countries'!B167,\"ok\",\"falsch\")","v":"ok"}]
["Rwanda",8.421561996377E-2,8.4572654963770005E-2,8.4067491715589998E-2,8.6258769198429994E-2,9.123854549457E-2,9.5737751668889995E-2,9.6067253407169997E-2,9.9017608602819995E-2,9.765703764941E-2,0.10887367883727,0.11866842025377,0.25211403858505999,0.24139555675836,0.2926621112694,0.42173377837055998,0.49376660244949999,0.48321021616240001,0.67407359658400001,0.63576534551789998,0.58925676881739997,0.52506360956989995,0.61484592487629997,0.6007479073684,0.54432211904200001,0.5305372446469,0.54615288457069999,0.56445386987019996,0.60471805903810005,0.55489839000700003,0.57618088098834996,0.61885076684906004,0.63870870562906001,0.63652320870895995,0.67222727452412001,0.69347925227701002,0.74821033148320804,0.74680497415045999,0.67376501918200005,0.73873958892000002,0.77054098512000002,0.79176115544000003,0.91758036052000003,0.95912733752000001,0.87130147867999996,0.92269497158000002,0.95402027905999998,1.05282056026,1.0892283247600001,1.1201597732599999,1.1532252626599999,null,{"$f":"IF(A157='data countries'!B168,\"ok\",\"falsch\")","v":"ok"}]
["Saint Helena, Ascension and Tristan da Cunha",2.7628869389500002E-3,2.7628901889499998E-3,2.2336521412000001E-3,2.4906291688899999E-3,2.6576612598599998E-3,2.3115430010799999E-3,1.83530642044E-3,3.3631970575E-3,2.8400535608000001E-3,3.0070037133999999E-3,3.2279216110999999E-3,2.0627072812167001E-3,1.8252506826761999E-3,2.9545621402383999E-3,2.6348886738819001E-3,2.9337550993223001E-3,3.2525584749475002E-3,4.571758355926E-3,5.1173768779119999E-3,5.2006940087809999E-3,9.5306309595959999E-3,5.4341336854929999E-3,5.1622534788611004E-3,6.4518562398739997E-3,5.5557827657730001E-3,5.8368178445480003E-3,3.4926160540389999E-3,3.8270027637839999E-3,3.8313532162398E-3,4.0965292137525996E-3,1.12240408001413E-2,7.5080285855892003E-3,7.5256992319032998E-3,7.9847691430529003E-3,9.0892750601627992E-3,9.7030045114985808E-3,8.52303343560217E-3,9.9152711297300009E-3,1.0373211698419999E-2,1.059486820786E-2,1.148511257501E-2,1.20041754072E-2,1.2185070284E-2,1.4867964474880001E-2,1.484262215802E-2,1.495993333888E-2,1.5402587611659999E-2,1.5928330908970001E-2,1.6007795959840001E-2,1.5843749380119999E-2,null,{"$f":"IF(A158='data countries'!B169,\"ok\",\"falsch\")","v":"ok"}]
["Saint Kitts and Nevis",1.5190183424960001E-2,1.518715422496E-2,1.7555082818639999E-2,1.9245995288969999E-2,1.5928883183889998E-2,2.0090972295722001E-2,1.7775654112357001E-2,1.9645682615721999E-2,2.0350761253128999E-2,1.9127022577090001E-2,1.8985154837089999E-2,2.129005988563E-2,2.3209109210189999E-2,1.9141285205049999E-2,2.1637065088450001E-2,2.3714755753669998E-2,2.5565039453450001E-2,2.9640981741979999E-2,3.5754863825259997E-2,3.4243538772470002E-2,3.4472086987720002E-2,4.0000180295089997E-2,4.0232862775260003E-2,3.8330182904890001E-2,3.7896925669199999E-2,3.7501787083220002E-2,3.7871088345700001E-2,3.6011292325799998E-2,3.5439014604879998E-2,3.7042376129100003E-2,3.5178273570600001E-2,3.5034656533499998E-2,3.4813769800940003E-2,6.8851934061900003E-2,7.1056364481000001E-2,6.3029292073300006E-2,9.1411050718799999E-2,0.1259686592425,0.12882020959099999,0.13439903451849999,0.14284080085038001,0.1411292919545,0.24610839824200001,0.25430876936150998,0.23270117504160001,0.23732144249949999,0.24029255678333,0.19318574800522001,0.19892571030819001,0.19379305715539,null,{"$f":"IF(A159='data countries'!B170,\"ok\",\"falsch\")","v":"ok"}]
["Saint Lucia",4.1012281942119998E-2,4.102471129212E-2,4.7408986555480002E-2,5.1995702214740001E-2,4.3112690182489997E-2,5.4258919650629997E-2,4.806626046674E-2,5.3194127450629999E-2,5.4909650873379998E-2,5.1730871857610002E-2,5.120093676161E-2,2.8036216489859999E-2,5.1462003147600001E-2,2.674377104003E-2,3.0086010293689999E-2,6.382585236478E-2,6.8604012538229994E-2,7.5263710361079997E-2,7.8220119198770005E-2,7.5698883835969996E-2,7.5927158103289996E-2,8.1122710222179997E-2,0.1212368042997,7.7840131309699995E-2,0.1148855504597,0.1143470713976,0.1161070760532,0.11091619559349999,0.10663322490469999,0.11145020644710001,0.1749173037035,0.17418134607249999,0.17271948330459999,0.20653012736760001,0.17795154735230001,0.1581485221782,0.1536335892979,0.18977264236880001,0.19272299141140001,0.20179135526780001,0.21435325182557,0.21241417271179999,0.36993588140299999,0.38219123869729998,0.35225535304935002,0.36351857048876002,0.3680592630974,0.29614255426340003,0.30491084957679998,0.29707875245524001,null,{"$f":"IF(A160='data countries'!B171,\"ok\",\"falsch\")","v":"ok"}]
["Saint Pierre and Miquelon",3.9688017062120003E-2,3.9688774595319998E-2,4.6041149589880002E-2,5.0575682690040001E-2,4.1683452261790002E-2,5.2777323362630003E-2,4.6577196003740003E-2,5.1592279774629997E-2,5.3481416372379999E-2,5.0195234962609997E-2,4.9815620308609997E-2,5.3077885353800001E-2,4.9846519478599999E-2,5.0295994249100001E-2,5.6787777352400003E-2,6.1955267524779999E-2,6.6696683888229996E-2,0.11001801245162,0.11438897415316,0.14683781113194,0.14783457309659001,0.11819967990327,0.1188714015997,7.5450256729700002E-2,7.4581786746399995E-2,3.690658501322E-2,3.72739410487E-2,2.9414114892090001E-2,3.352850831109E-2,3.5068097824799999E-2,3.4558347610599997E-2,3.4406772995499997E-2,3.4180293660939998E-2,3.4122805015900003E-2,3.5222693726499998E-2,3.1207959165699999E-2,3.021776728259E-2,3.1223005168130001E-2,3.1789214990229998E-2,3.3366182064640003E-2,3.5450571885595E-2,3.510602944262E-2,6.1350786690490003E-2,6.3389298277879993E-2,7.6442154326859996E-2,7.5218047091019993E-2,7.6162736144699997E-2,6.1219760039649997E-2,6.3198804878079995E-2,6.1968807282450002E-2,null,{"$f":"IF(A161='data countries'!B172,\"ok\",\"falsch\")","v":"ok"}]
["Saint Vincent and the Grenadines",1.2036952894914001E-2,1.2044784844913999E-2,1.3812431193948999E-2,1.511919968315E-2,1.2683738569857999E-2,1.5852614807188001E-2,1.4133922613927E-2,1.5607164997188E-2,1.6158873556468001E-2,1.5290142719551E-2,1.5206561254551E-2,1.497179789335E-2,1.521260680107E-2,1.5355014486330001E-2,1.6039396117750002E-2,1.9476527538280001E-2,2.1004211147627998E-2,2.4554498268549E-2,3.0727816888819998E-2,3.8163060816980003E-2,3.8126355176640002E-2,4.0572471185089998E-2,4.0812157285259998E-2,3.891563506489E-2,7.5765202106400004E-2,7.4976635168400002E-2,7.5718557375399995E-2,7.1995611875599996E-2,7.0846639989799995E-2,7.4053290948099995E-2,7.0323980649299997E-2,7.0030639946999998E-2,0.1037330224388,0.1035655379588,0.1068704952034,9.4828941462899996E-2,9.2038420388800002E-2,9.5408623204400106E-2,9.7695352970700103E-2,0.1016975483239,0.10805557330779,0.1066890441459,0.18542376139149999,0.19158567109364,0.17347131105283001,0.17867980285134999,0.18090635454406001,0.14558083907330999,0.14988372548692,0.14603342874403,null,{"$f":"IF(A162='data countries'!B173,\"ok\",\"falsch\")","v":"ok"}]
["Samoa",4.8226661729499999E-2,4.8240491743500001E-2,5.06257592095E-2,5.68227365491E-2,7.0382288619099995E-2,5.9024328279100001E-2,5.6090473279500001E-2,5.92877596795E-2,5.8534010829500001E-2,6.6375728369499995E-2,6.8171416875999993E-2,7.4486492404000001E-2,0.13589962645299999,0.14328941103500001,0.120674071178,0.134100943832,0.11569695775199999,0.13030657340999999,0.131934588011,0.12538088925499999,0.129237211706,0.127945173902,0.13081762223999999,0.12817842416,9.1801885690000001E-2,9.5018230760000003E-2,9.9330870690000003E-2,9.9813270199999998E-2,0.10958449006,0.1040576606,0.10992096223,0.11641113585,0.1081009854,0.1052708921,0.11821739699309,0.12076953624365,0.11062611735416,0.10362047309796001,0.113009476802612,0.109835655900781,0.118432601529341,0.14927650511193,0.213170732852449,0.189866285118103,0.132073932277365,0.125070171778667,0.11979782066853099,0.12517975868487499,0.13067864316069799,0.139136822910847,null,{"$f":"IF(A163='data countries'!B174,\"ok\",\"falsch\")","v":"ok"}]
["São Tomé and Príncipe",1.7457132352559999E-2,1.7464166852560001E-2,1.7268564149569999E-2,1.7703832047109999E-2,1.878979515655E-2,1.9758386663489998E-2,1.9739665871730001E-2,2.0341278827958002E-2,1.9923137085786E-2,2.245161793399E-2,2.464493404856E-2,2.2529247894599001E-2,2.1484902444663001E-2,2.1940435204418001E-2,2.1317873224087999E-2,2.2773565861359001E-2,2.4435451967128E-2,3.1066220271289999E-2,2.924444116489E-2,2.6701684557000002E-2,4.667954966922E-2,5.7391291237630003E-2,5.1097462069860003E-2,5.0674570954199999E-2,5.1116338064690001E-2,5.2925942857070002E-2,5.4277212187020002E-2,5.8166726703809998E-2,5.15778689007E-2,5.3239405198835001E-2,5.2026151003818001E-2,5.2986055448825002E-2,5.2204610195177997E-2,5.5273431789048998E-2,5.7214662001855002E-2,5.7111530769217399E-2,0.113449745236276,6.1324310499900003E-2,0.12276627593,0.12962816561000001,0.1330203492,0.15628396533,0.16312658772999999,0.13384761663,0.14121346958,0.1441706308,0.1484366315,0.15346499163999999,0.15536192583,0.15904625454999999,null,{"$f":"IF(A164='data countries'!B175,\"ok\",\"falsch\")","v":"ok"}]
["Saudi Arabia",47.021088762920002,58.152706008919999,75.903563000489996,103.21039254967999,108.46991735915,88.983157870729997,110.63305010835001,119.36823366903999,127.36707201458,151.61810906733001,187.54212810278,174.02573490910001,178.10055276450001,177.140725952,132.9807843538,135.05901418080001,134.76395813729999,146.09942238030001,158.6213223373,160.03450967219999,173.02151818889999,177.28102632029999,190.3035576597,200.05674463579999,217.25719703679999,215.73741978570001,229.09648821490001,231.79660705520001,245.89993110200001,251.42065927760001,264.29256715719998,274.54546998910001,291.69196883479998,304.79989122519999,322.11634387179998,339.59042616519997,359.80966994440001,379.6420783351,413.18952415699999,436.66083559520001,478.16772766000003,499.30404794539999,531.09721906849995,541.26559638269998,577.99091238619997,604.00030086439995,600.93119987110003,608.84779371030004,605.30710320900005,614.60713366799996,null,{"$f":"IF(A165='data countries'!B176,\"ok\",\"falsch\")","v":"ok"}]
["Senegal",1.368463862864,1.3690686278640001,1.452443821343,1.5620949725419999,1.672739190925,1.823227581342,1.907896226556,2.02920486986,1.985394126094,2.1945554950289998,2.2707796062050001,2.2418381909840002,2.1494879426039999,2.1422447771819999,2.2893524282910001,2.3676462231970001,2.2678334263119999,2.2857377171929998,2.2002112773940001,2.3126652951910001,2.4011014250230001,2.4147583590039998,2.6518510239480002,2.591085851331,2.6467006812420002,2.7957937916620001,3.0135316905059999,3.3122155810680001,3.7125206742149999,4.0925550688119996,4.0369165580080004,4.5611581148339999,4.7338683979659999,4.5935947437050002,5.2279707905750001,5.8006817349780002,5.6675633524439997,6.26546479855,6.468842329278,6.6341389600039999,7.0503093152040002,7.550924947815,7.4285789828800004,7.8560659768369998,7.9806688166319999,8.3837095033119997,8.9079113743335991,9.2128670736566001,9.5625641436898992,9.8090198736116001,null,{"$f":"IF(A166='data countries'!B177,\"ok\",\"falsch\")","v":"ok"}]
["Serbia and Montenegro",24.805293814407001,24.935456832406999,25.486041681711001,27.91200480426,29.563034700039999,31.14414715877,33.016582387950002,34.882371040759999,37.802155531149999,40.228947969270003,40.047371762170002,47.269587825549998,49.502736167119998,54.290019504859998,56.3684738376,59.371261976349999,62.097866970600002,59.554518337719998,62.492796475159999,62.585279015940003,66.412098860079993,55.610235697809998,51.299272898070001,45.059448452486002,41.534495980716002,46.886860854981997,54.820924236540002,59.715754689720001,59.64841070544,42.430157227030001,50.812215243769998,54.613697363139998,58.183373232619999,61.908628498490003,66.565456644159994,61.495313100490002,63.9794208641,62.371825503179899,61.625851003610002,57.710089196090003,59.717398896250003,64.188421277190102,56.942307060609998,57.898436771260101,49.205563839059998,57.15647565786,58.566193114487,58.471643192003,59.269877979302997,70.687659613703005,null,{"$f":"IF(A167='data countries'!B178,\"ok\",\"falsch\")","v":"ok"}]
["Seychelles",0.11022928332067,0.11025767057067,0.10897305243336999,0.11174610183061,0.11863492169283001,0.12481590302834,0.12464250696073,0.12845830208421999,0.12575230554412001,0.14187823972589,0.15588408089066999,0.14258768264202001,9.0849197648339999E-2,0.1845908038323,0.17874690497679999,0.18518852114980999,0.19783981429218001,0.31520333369199999,0.35649864371079998,0.37794083843210002,0.28756367039190001,0.3988557431095,0.35474093218899999,0.35172493515940001,0.35476222418280001,0.36737080571949998,0.37676923641920002,0.46154783748049999,0.40876076795557997,0.42197043399070999,0.41217538583656999,0.41975740675658002,0.61978130730613001,0.65641684571379999,0.67953660237746005,0.67812154417620796,0.90286638532351604,0.78895841725469995,0.91619156810000002,1.0321052097000001,0.92690611518999999,1.0897373707,1.1376211654999999,0.86608743623999995,0.86372587246999999,0.88757583284999997,0.91378327194999998,0.94470726411999995,0.98635770157000002,1.05052601477,null,{"$f":"IF(A168='data countries'!B179,\"ok\",\"falsch\")","v":"ok"}]
["Sierra Leone",0.41537733934569998,0.41548102934570003,0.41095084556580003,0.4212632235164,0.44678819114509999,0.46974798724389999,0.46916852598949998,0.4833558357155,0.47355795507179999,0.53305943095499997,0.58447498534569997,0.53619097796710002,0.51146630172829999,0.54134860937730001,0.50688038400843005,0.57915265833950003,0.67437279403450001,0.90964558361729997,0.91569413077710005,0.83197834472609999,0.74109579485480004,0.93392195840009995,0.58063627636839998,0.57607475398620001,0.58112032825149995,0.65357740960489996,0.73227001132430003,0.7328023826558,0.67446618181835005,0.69464258838610005,0.73182179043067996,0.80286249543149002,0.80563227542048998,0.85987959254705004,1.06237525843373,0.49336039007162102,0.68444074372288399,0.60338217790000004,0.61306848643,0.69313142597999999,0.73452634559999996,0.8398538149,0.8792537909,1.1345166305400001,1.16049311248,1.2111682049000001,1.2439041882999999,1.2867543742000001,1.3478496310999999,1.4004246654000001,null,{"$f":"IF(A169='data countries'!B180,\"ok\",\"falsch\")","v":"ok"}]
["Singapore",6.6093465309099999,6.6336278414100001,7.9280989390199998,8.8333985120200005,9.2242576076299994,9.2731897950299995,10.082647994669999,11.180346417459999,12.802360878209999,13.761713525599999,13.81111940924,14.952376833540001,15.60692508352,16.934400446390001,17.162949047049999,18.833685081199999,19.09284121204,19.440137254100001,22.0461075481,23.434716665669999,31.57858593876,33.2996324406,34.15199480831,39.364193935419998,41.475068462199999,41.162664608999997,42.3025782777,42.045183482299997,40.522332996700001,41.034856004300003,45.223874912399999,45.098314568799999,44.714116660605001,42.172187565290002,44.177668096761998,42.943698330570001,43.958532616669999,45.330082832400002,45.632269501000003,46.840775970000003,50.999827492999998,53.697479344400001,53.125723084199997,53.625743036599999,52.237782350300002,51.338702766700003,51.938342396400003,53.2680131706,52.6695045118,53.365404441800003,null,{"$f":"IF(A170='data countries'!B181,\"ok\",\"falsch\")","v":"ok"}]
["Slovakia",38.452142305350002,38.417823047349998,39.154414696590003,40.671496635570001,41.491123089310001,42.898723551869999,43.697790958189998,45.409828961789998,57.381832670100003,58.40702461619,62.227185080609999,60.793777259300001,58.888521796790002,58.611412150820001,60.754756959189997,60.476380898400002,57.653348095349997,59.598147442079998,60.497651547380002,60.12327874767,60.545296078429999,52.482926629730002,49.058303856949998,47.600234773239997,45.053789398310002,45.521439623089996,45.740222242549997,45.798812495299998,44.796444013870001,44.366481761179998,42.329281034209998,42.058307639710002,41.678660589769997,41.971790555570003,41.640856001190002,42.163604964880001,41.58377201207,40.864336651720002,40.796668201549998,36.933915550770003,39.928929836019996,37.909474869210001,36.418501504810003,36.543582918680002,34.086252036319998,34.65676125497,35.47981335779,37.931773246879999,38.196474551480001,35.98505669056,null,{"$f":"IF(A171='data countries'!B182,\"ok\",\"falsch\")","v":"ok"}]
["Slovenia",9.9169112432277995,9.8618240242278095,9.9936143798452104,11.065382879304,11.732482995144,11.143421675749,11.49914049433,12.015407308416,13.043184595575999,13.822153254374999,13.046799235246,13.147320594729999,13.392846778354,14.710284158895,13.243262765441999,13.210019783124,13.92460989802,12.211674525443,16.372244088812,17.517490399149999,16.624159304026001,15.37191883687,15.361066923579999,15.807110564746001,15.940530374848001,15.927940148879999,16.726439945768,17.007450058048001,16.741241021907999,16.072758441344,15.69648472774,17.560227853000001,17.862793814620002,17.729868132899998,18.08092342522,18.333877309742999,18.672743021948001,18.634690166081,19.594787601050999,17.617729998544,17.896975702793998,16.780908702110001,16.292738851022001,16.326125400430001,14.9702643048814,15.109811937931999,15.854349363092,15.80257146584,15.938971169609999,15.365239860016001,null,{"$f":"IF(A172='data countries'!B183,\"ok\",\"falsch\")","v":"ok"}]
["Solomon Islands",4.99178695795E-2,5.00112459935E-2,5.24854250095E-2,5.8778623199100002E-2,7.2438750969100005E-2,6.1183534279099998E-2,5.8353716279499999E-2,6.1656948979499998E-2,6.1012384929500001E-2,6.8968586319499994E-2,7.0885377476000003E-2,0.15082545768899999,0.13887573630300001,0.146403836185,0.123928702628,0.137495928032,0.119232029102,0.13398182571,0.13574988351100001,0.129336073705,0.133332260856,0.13217973205200001,0.13519164823999999,0.13269348376000001,9.6461805289999994E-2,9.9828459260000002E-2,0.10429730559,0.10494152425,0.11487943031,0.1095231694,0.16995587979999999,0.17986207100000001,0.16757101830000001,0.16350237099000001,0.18310145945463999,0.18711098456547001,0.17207593533125001,0.16174871673694,0.17601248810392001,0.17125821647617001,0.18416006461901999,0.23043253156789401,0.32627993491367302,0.196997978938103,0.127557836651981,0.12540353012784899,0.12055610268561499,0.12578498892664799,0.13113132476547301,0.13928082278641701,null,{"$f":"IF(A173='data countries'!B184,\"ok\",\"falsch\")","v":"ok"}]
["Somalia",0.63531344080700003,0.63546547380700003,0.62839666869249999,0.64403803316170005,0.68361690667880004,0.71939648874060003,0.71987566071090003,0.74287944702389996,0.72942424792000005,0.82253193626679999,0.90325813680699996,0.92321098994310002,0.88045613332170003,0.85266265570830002,0.87113175756009997,0.90082818695419997,1.0498319053608001,0.98748658937610001,0.91450114277710004,0.83351600972609996,0.69480023199780006,0.47955649269509998,0.42877822635879997,0.42492868745360002,0.42810593073749997,0.4424387152366,0.45366786541620002,0.48511725073049999,0.43291650270558002,0.44681769699071,0.54065633003818003,0.55093360398824998,0.54384541145178,0.57530116772648998,0.59551203892454996,0.76474888123872597,0.82124379892603705,0.76013993209999997,0.76583787248000001,0.74275933711999997,0.82785393685999997,0.96743795117999998,1.00860178268,0.83308138588000002,0.83543557654,0.85709727652000001,0.88231959226000001,0.91193614223999997,0.94123612934000001,0.96843410908000005,null,{"$f":"IF(A174='data countries'!B185,\"ok\",\"falsch\")","v":"ok"}]
["South Africa",185.19417488612001,184.11782609612001,190.77953489724001,207.92362042888999,214.64712483496999,230.54905230207001,244.93427295715,244.63042097395001,222.55266495135999,227.98681837901,242.15242826419001,255.76266897402999,262.19729707258,264.36494051862002,281.80239078708001,286.45309067250997,284.13201414500998,300.19392641334002,303.76999327851001,300.53637886759998,312.49607296908999,304.36628346344997,297.87755028459998,299.62854617059003,306.54386056600998,323.00627368106001,334.27863620602,349.18457617732003,355.38201324421999,338.65946149422001,345.33751322012,355.14063223276003,368.53019667806001,391.74471566036999,422.83224033348,433.27177760053002,437.45451154570998,456.32447264182002,486.00637897960002,454.60348776745002,465.00412198695,445.92591718601,461.80770155621002,473.03631172809997,484.58826864372003,477.75477634589998,476.49768739794899,481.71236820729598,487.53764186157798,494.862333736734,null,{"$f":"IF(A175='data countries'!B186,\"ok\",\"falsch\")","v":"ok"}]
["South Korea",62.773115577820001,63.469171274319997,65.395060715539998,80.479780546000001,84.649354876879997,91.696878010730003,102.39847844864001,116.42366762309,122.8144711134,139.16748483072999,141.59581726216999,148.07498721811001,147.77207261359001,160.75382636493001,181.08571121048999,189.63162487880999,197.41297428163,203.08632253741001,229.28603155497001,240.76108608823,270.65001979881998,295.82578052167997,314.91695442958002,345.20230774499998,372.23563883193998,404.64348936303998,430.96961853591,454.14678919784001,388.52612490176,425.07839640182999,483.71745447903999,497.60391036267998,493.36391370351998,497.22329994481998,516.83424349945005,516.41576763830005,523.26474059968996,533.76199896298999,543.71644853268003,550.95718750732999,597.79915572242999,627.90796222852998,630.16396202212002,625.88570494511998,621.79027153439995,639.00625360225001,644.80728102472995,655.00198827126997,673.40014178929005,651.87023676045999,null,{"$f":"IF(A176='data countries'!B187,\"ok\",\"falsch\")","v":"ok"}]
["Spain and Andorra",143.16229031476999,139.87043979479,152.21863878209999,165.03387261130001,177.5178937549,183.53193924589999,201.60761157339999,193.62628350559999,191.69714956339999,203.6913323739,214.01486073710001,219.43786950410001,212.52060713840001,215.96648572710001,204.93305683040001,198.0960387719,201.92049254969999,202.92171272120001,207.07490879069999,225.77426637580001,230.3538990923,238.13415171049999,246.58450226420001,231.99422224610001,242.4848675149,255.20976150589999,245.35447534950001,264.62918353980803,273.66453685318999,296.13052270629998,312.09788404080001,311.97386086109998,330.20729140458002,337.46229073720002,353.97258122070002,369.11690351200002,359.87323583339997,372.99786084409999,341.45808602739999,301.76063734090002,288.28783426477997,290.33418008319001,285.27065830599997,257.39746063230001,256.10320914946999,271.21450562199999,261.74264117805001,277.92023058590001,271.76345810560002,259.31024086435002,null,{"$f":"IF(A177='data countries'!B188,\"ok\",\"falsch\")","v":"ok"}]
["Sri Lanka",3.1277638291210001,3.1782564141209999,3.7912518386439999,3.9541726727380002,3.406035397648,2.9953532390639999,3.0629909412549998,3.304758957462,3.9026510513930002,4.2192733148699997,4.2170269901689998,4.3458429659500002,4.9461572033510004,5.0492367945499996,4.4286228615710002,4.0292303719709999,3.9869220384999999,4.5707270445769996,4.4014087428439996,4.1869683595630001,4.2484949833170003,4.4346118696039998,5.521524689244,5.4055083057650002,6.2195457041040001,6.2525477228510002,8.8134785775050002,8.7905863877209995,9.0806128019619994,10.023951850249,11.461360057355,11.368283243044999,11.893016716042,12.861105705895,13.290709459392,14.531183130391,13.036650312519001,14.280130973426999,13.590100282611999,13.058885250407,13.815638740522999,16.255420092323,17.744556333831,15.348843104686001,18.416896078211,21.528524761553999,23.034418631699999,25.332095508165001,25.438547130947999,27.566285604042001,null,{"$f":"IF(A178='data countries'!B189,\"ok\",\"falsch\")","v":"ok"}]
["Sudan and South Sudan",3.4370247865580001,3.452095706558,3.7349247536500001,4.8173081580270001,4.545499815276,3.5612215605699999,3.4475988578110002,3.5911433915400002,3.264789797353,3.3629507635799998,3.9631356934620001,3.8518063205969999,3.9804255187750002,4.0232359201939998,3.6574542368310001,4.3022902661479998,4.1976912641300004,3.2511096608810002,4.6663352006450003,4.2082020678639998,5.5916822375560002,4.9902010633440002,4.7279299506939996,3.3934487917670002,4.9647842982850001,4.6472738630380004,4.5812266336340004,5.5262363983030003,4.971010217101,5.4861180259099998,6.0309587498399999,6.5743829842799997,8.0201847119899998,8.2348760839100006,9.1883122135500006,10.81868277285,13.230398197,14.33989013499,15.2964770543,15.82074948613,16.72256662433,16.025261665519999,17.33184369456,17.201332057159998,17.422714686479999,19.139153019830001,21.67669382439,21.357074044689998,21.94561682094,22.572475717940002,null,{"$f":"IF(A179='data countries'!B190,\"ok\",\"falsch\")","v":"ok"}]
["Suriname",0.75606245242780001,0.75710117632780005,0.83113476931590002,0.92564675410289998,0.78238448617970002,0.92860164288769997,0.84517610811150001,0.92434985618770005,0.97249748299039995,0.91936767142690101,0.90305414176690002,0.90821308023400005,0.75996956356300005,0.53527601703000005,0.50876136353500001,0.66139705331309995,0.6961290096942,0.62781257978859994,0.6985944920646,0.78645533954669999,0.90800134609619998,0.90871773273279999,0.87329513776500001,0.83130356669700001,0.82137400056400001,0.86217789643300002,0.84384872595399996,0.84366386262399995,0.82094050081299996,0.81491114292,1.4870085215,1.5195768151,1.1132354426,1.2331874941000001,1.3944691802,1.6856201972,1.5305419468999999,1.4083745342,1.454751557,1.4474191592000001,1.7197905431,1.821764677,2.0544166845,2.0176263764,2.0437204536000002,2.1224883817700002,1.9699769419040001,1.9919988830648001,2.0141349427977602,2.0586111748573002,null,{"$f":"IF(A180='data countries'!B191,\"ok\",\"falsch\")","v":"ok"}]
["Sweden",96.453624314400003,89.265357412819995,89.43556199983,91.470264082770001,84.359431436799994,85.943592534399997,92.731138024079996,89.172148892339905,83.843649321399994,86.723220429400001,79.361384231779994,71.96440789687,65.913842010419998,60.270885024469997,59.71986492752,63.652948752779999,65.270574771780005,63.369784241860003,61.487279721089998,58.66724968194,58.10420549861,58.881196397079997,61.096079401270003,60.841344172897003,63.145410381121998,62.97230869066,68.435241235888995,62.358185945509,63.432982155274999,62.098874048475999,58.365376024722003,58.341708980790997,59.725918823480001,60.393541479470002,58.84977427546,55.819721260569999,55.273357941100002,52.92034006638,50.982687389250003,47.257006271009999,53.292023251335102,49.034762233003399,45.903691006562802,44.016649651528297,44.091779938382899,44.193648021677703,44.665494420494298,44.357418970102501,43.577130668854601,44.748769213474503,null,{"$f":"IF(A181='data countries'!B192,\"ok\",\"falsch\")","v":"ok"}]
["Switzerland and Liechtenstein",41.425616295840001,43.384319575429998,44.070857432810001,47.680693751950002,42.876437184639997,40.455858950660001,42.181031275469998,42.655822464979998,43.819115837090003,42.505611153940002,43.268459497489999,40.904487605770001,38.700394081269998,42.800193036309999,42.30150305027,45.508274517330001,45.4227096113,43.85694956191,43.915144401669998,43.737939570009999,44.954603074860003,47.275041037779999,47.215430310439999,44.88273360454,43.940484461499999,44.736432894860002,45.281008132830003,43.99879718191,45.46073274159,45.723485463019998,44.908253827469998,46.341313107600001,44.707642127059998,46.010055636836,46.545186010525001,47.16266573731,46.724966880319997,44.776687163459997,46.158375500799998,44.77501556392,46.464317391510299,42.349774721932,43.654260415248999,44.663997026178997,40.946092951174997,40.24180975406,40.691903023659997,39.778081911756999,38.514804336320999,39.370849255905,null,{"$f":"IF(A182='data countries'!B193,\"ok\",\"falsch\")","v":"ok"}]
["Syria",6.3203549094979996,6.3704757004979999,6.136509602746,5.8351322747849999,7.9300741324040001,9.2913436554840008,10.658661404352999,11.719436558430001,12.010464552014,15.300506014995999,14.327697364127999,16.10707517761,19.122828225839999,22.613316340739999,25.346112932650001,22.86185808346,23.857019087579999,30.274342113439999,29.718601200230001,28.686243544340002,33.008222635019997,36.119259672689999,35.82777307368,36.869553187409998,38.795026968659997,40.343560993060002,43.390475305850003,43.257907823849997,45.992796581450001,45.127161929389999,45.791109793670003,45.981379282479999,45.796771659690002,45.954875272290003,47.947196671009998,58.7601681895,62.122637815609998,64.996751209189995,66.734917943349998,62.601859637079997,62.35993094322,56.374284659579999,44.701651147909999,32.699009740569998,30.210051945063999,29.1199826268439,27.612650004292998,28.9208381027006,28.078285673425398,29.1607130829371,null,{"$f":"IF(A183='data countries'!B194,\"ok\",\"falsch\")","v":"ok"}]
["Taiwan",36.164934525379998,36.40164753138,40.93559956504,45.557747914579998,44.592585412029997,48.257701522829997,57.086210209310003,61.354191777060002,69.520483982000002,73.475006379929994,80.782106151370002,74.366426367289904,73.638821170689994,78.443326322450005,80.387587143250002,79.714172920530004,92.315458283070001,97.425275176209993,113.02272897553,122.32175429909,124.36178205109999,133.47315709770001,141.76191361503001,151.73221777623999,160.43251090716001,169.28316042789001,178.59386678339999,192.30454587400001,202.625058129,210.92069123019999,229.726167769,234.69415920789999,243.51136633420001,253.36529633289999,262.38934397579999,269.67577283349999,276.82739282630001,280.2765877265,268.79983893550002,254.68342129019999,271.61156379609997,271.30499243209999,263.02405737750001,266.34656763940001,267.29368334499998,266.60758833940002,273.63900181079998,285.3280942884,286.61043950200002,276.78484217110002,null,{"$f":"IF(A184='data countries'!B195,\"ok\",\"falsch\")","v":"ok"}]
["Tajikistan",7.5536712133549999,7.5901112675849998,7.9893408944499003,8.3752438788892007,8.7585271529513005,9.4531282977771998,9.7104778734678998,9.9611873352993996,10.227122871587801,10.4871717133239,10.9632632573188,10.9910687390894,11.022209148725601,11.162331382291001,11.050936076188499,11.5369320212309,11.9559178680868,12.1500326466385,12.368403313403,12.4759621528525,12.266591642590001,11.705721280440001,8.6912773866700004,5.8242793446699999,3.61890425589,3.0819285119400002,2.7433987004399998,3.04681255244,3.2633332770900001,3.0706181450900001,2.8145634355700002,2.7608604543299999,2.8350288296300001,2.8983952177300001,3.4400770629899999,3.2801790712600001,3.580403408,4.1393090069399996,3.79888774494,3.11090085294,3.1314961153600001,3.1465018197800001,3.7684676153919998,3.3347222931322,4.891554596792,5.3379091780200003,6.5484705473520002,7.0071571398176999,7.5704920648070004,8.9185233176759304,null,{"$f":"IF(A185='data countries'!B196,\"ok\",\"falsch\")","v":"ok"}]
["Tanzania",1.56896319448,1.5797459494799999,1.8388123625399999,1.9190159892259999,1.7618364609379999,1.6482337048969999,1.594578758136,1.625688811312,1.7012084186980001,1.794004018941,1.7701385817899999,1.7910532954939999,1.6343939253599999,1.601710384472,1.674091202272,1.764769539894,1.8651216971839999,1.8982257043240001,1.9807523712740001,1.997713061492,2.1105512973040002,2.236785164554,2.0751905523060001,2.1782937442699999,2.1595648551200002,2.9566533384940001,3.4836394023969999,3.2705265858370001,2.8513290585159998,2.6678730842910001,3.1012206600000001,3.2833884800000002,3.7407943600000002,3.9657555000000002,5.3118929499999998,5.8958537770000001,6.1367302066700002,6.0137349699999998,6.1696464033299998,5.9775065600000001,7.1934533900000002,8.8714850999999992,11.042443469824001,11.345542299648001,11.518788899472,12.927042169296,12.089289954442,12.582878520307,13.104516036913999,13.343087734279999,null,{"$f":"IF(A186='data countries'!B197,\"ok\",\"falsch\")","v":"ok"}]
["Thailand",18.058459479820002,18.138302164820001,20.525438540250001,23.11264825216,23.15342601851,23.680699220049998,27.06800238664,30.016762344149999,33.295757393979997,35.418217254550001,37.177642429919999,36.555696569470001,35.37845693773,39.331531010470002,43.154319765369998,48.475111648789998,49.948816978910003,57.687470952449999,65.782847213159997,76.640586297089996,93.133531871559995,103.11655416072,112.81727495868,127.87646681883,143.11891665183001,162.09192847790001,182.21736414200001,185.84203933009999,163.90054187710001,171.57215075209999,171.99857000750001,180.6382147784,191.7830389042,200.40411155730001,218.7774293933,226.14028726719999,229.46807812579999,236.17546610069999,239.53533075030001,232.65881219409999,246.1255168129,245.13374227849999,263.09929588249997,274.3256748892,270.32724310920003,274.441740944,272.2736950959,273.23709275779999,279.3108637272,275.06465442720003,null,{"$f":"IF(A187='data countries'!B198,\"ok\",\"falsch\")","v":"ok"}]
["The Gambia",7.5789726473769997E-2,7.5896615073770005E-2,7.5148896135590004E-2,7.7054450668430002E-2,8.1777415064569994E-2,8.5935554828889996E-2,8.5918148707170003E-2,8.8612393902819997E-2,8.7033945049410005E-2,9.7997089137269996E-2,0.10720719015377,9.8397871294020001E-2,9.4162253823339995E-2,9.6295588723139994E-2,9.3523961437899997E-2,9.7487009389919999E-2,0.10399793753608,0.19371689977520001,0.18279896125539999,0.16704700314519999,0.14870878677096,0.1760988209629,0.15738519829959,0.15628877951260001,0.15779159519405001,0.16340345774122,0.16764613768108,0.17950789561639999,0.16059782190708999,0.16545102500150999,0.21344972281329,0.21747168450328999,0.21452060837871001,0.22696782183958999,0.23489876687482,0.23472021005406901,0.29108563154644201,0.37291012332500001,0.37550976175,0.39613751034,0.47258020781999999,0.4760443654,0.49650205339999998,0.47525209537000002,0.47972190737999998,0.50884538966000004,0.52390612934000003,0.54162728082,0.56988414209000005,0.59245540860000001,null,{"$f":"IF(A188='data countries'!B199,\"ok\",\"falsch\")","v":"ok"}]
["Timor-Leste",9.6266013959000002E-2,9.6312300559000003E-2,0.101111909359,0.113535371298,0.14066674629799999,0.117937986498,0.112025142959,0.11834940675900001,0.116762612359,0.132380279559,0.135934786202,0.148563287489,0.13651049780300001,0.14395152718500001,0.121393144728,0.13487052443200001,0.116506848602,0.13115016181,0.132809793211,0.12629303480500001,0.13019631545599999,0.12896591395199999,0.13191245434000001,0.12934150716000001,9.3004750090000005E-2,9.6216474460000007E-2,0.10047323649999999,0.1008585999,0.17323863649999999,0.26653090660000001,0.33715959620000002,0.23972828709999999,0.21288072199999999,0.20485062255,0.45142009959308999,0.27175806506365002,0.30840259886124999,0.36703143974489999,0.25684044200391998,0.26361761569616998,0.25248415257902002,0.32218169046789402,0.63157732721367299,0.65709342627620404,0.442015351342953,0.40281903650923501,0.36454677259885099,0.380651511175019,0.36862010138128098,0.38453734613528101,null,{"$f":"IF(A189='data countries'!B200,\"ok\",\"falsch\")","v":"ok"}]
["Togo",0.35311350759999999,0.37749779160000002,0.42344482620000001,0.37251376759999999,0.34556028579999998,0.40018073599999998,0.35542176710000001,0.46626290710000001,0.50706603510399995,0.56448590634600004,0.521329008358,0.50562048010000005,0.5708308862,0.41881828290000001,0.46472814870000001,0.4393311728,0.6482828544,0.70280295319999997,0.68975285139999998,0.70043036309999995,0.76541212140000003,0.70931721010000004,0.54446787750000003,0.42226607360000001,0.75910612180000003,0.74960421730000004,1.1427613823,0.86317238360000004,1.0601117772999999,1.3689965841,1.2665559699,1.1424447313999999,1.213121084,1.4520480870000001,1.3927178677000001,1.3275860967999999,1.2372712187999999,1.2278400458000001,1.6049835895,2.7252859370000002,2.5398182490000001,2.3290853619999998,2.2235530092000002,2.3288700066999999,2.3746668333000001,2.4331333107000002,2.5313907530000002,2.6375303947000002,2.7485143696000001,2.8548926749999999,null,{"$f":"IF(A190='data countries'!B201,\"ok\",\"falsch\")","v":"ok"}]
["Tonga",2.0935419204319999E-2,2.0935258427320001E-2,2.195998129632E-2,2.4637013557000001E-2,3.0510853009E-2,2.5574311188999999E-2,2.429858860432E-2,2.5687664244320001E-2,2.536419125432E-2,2.877051752432E-2,2.9550448315200002E-2,4.7135124014400002E-2,4.0387494657399998E-2,4.5632255456999997E-2,3.8554974565199997E-2,4.4498169375E-2,3.8449662017200001E-2,6.3389440520999998E-2,6.5838454800400001E-2,6.2561232797400002E-2,6.4488439678200005E-2,6.3840702816299999E-2,6.5274829110000002E-2,6.395261998E-2,9.113221329E-2,9.4340519110000007E-2,9.8644615790000001E-2,9.9118026949999993E-2,0.10888000516,0.1033439204,0.10919816823,0.115679554,0.10736096404999999,0.10452289955000001,0.11746210419309,0.12000771214365,0.10985738270416,0.15405882788694,0.16813113400391999,0.16336932107617,0.17626362186902,0.22252853496789399,0.31836836826367299,0.18908079238810299,0.115905361820658,0.115036786860398,0.110128292336675,0.115083377020054,0.120150637661324,0.127959543354006,null,{"$f":"IF(A191='data countries'!B202,\"ok\",\"falsch\")","v":"ok"}]
["Trinidad and Tobago",6.3462944212299996,6.3116881656299997,6.4180809720200003,6.6820618500800002,6.5055477243200004,5.8971789218200001,6.8172893593400001,7.59771806952,8.0170882531200007,8.0123880662500007,8.6607331537400007,9.2004205613900005,10.40318964892,11.00303101724,11.492178008270001,11.62872729213,11.62480780437,11.96611316327,12.81893207665,12.799085424219999,12.660317429819999,12.89936645907,13.278593634,12.59601582715,13.605425041389999,13.487595939949999,14.734402599759999,15.093221162400001,16.7389536867,17.783465806279999,18.54641892319,20.94694159654,22.93880169198,26.465023254590001,28.49407495366,31.03339478765,35.865034301770002,35.585311813270003,37.553678006570003,34.498950348560001,38.720206076510003,38.700239598449997,34.058710142210003,36.020570544439998,37.470041792449997,36.726002842690001,32.707597183739999,33.811950137389999,32.61169468296,32.743771457160001,null,{"$f":"IF(A192='data countries'!B203,\"ok\",\"falsch\")","v":"ok"}]
["Tunisia",4.2446327556399996,4.2626537006399996,4.7940732924829996,4.8270259912690001,5.3172819685699997,5.4130113203889998,5.7801677243220002,6.5052635693610004,7.217629621955,8.5288878367570007,9.4013336057700005,9.7162003919560007,9.436682861045,10.973164844258999,11.42386289113,11.814502040027,12.155786909966,12.295400138512001,13.098547414846999,14.134429844689,14.707940913551001,15.176331720402001,16.125932549763,16.774064108895999,16.893688433542,17.248477163103001,17.784742346070001,18.371399327525001,19.151856919478,20.148544036960001,21.178463526990001,21.988704209480002,21.760596517648999,21.539693187006002,22.765880746547001,23.35827035806,24.120301069730001,24.950718401955001,25.501579836318999,25.513287745545,27.932491539181999,26.55046566219,28.511993684899998,28.489127013600001,30.167591709410001,30.70543840217,29.741853749859999,30.546839188362,31.288102931771,32.071693554200998,null,{"$f":"IF(A193='data countries'!B204,\"ok\",\"falsch\")","v":"ok"}]
["Turkey",46.185534426330001,50.439308579250003,58.263812455530001,63.159492295249997,65.739568151219999,71.12363778308,78.821901159220005,86.640666458339993,85.531759977039997,79.013457381250007,82.479018306770001,82.555725942620001,89.394539831660097,94.296938585909999,99.765111692880097,108.19550396928,117.51282769255,129.25893036142,125.22459322597,137.66098585967001,150.16383534331999,152.88541740497001,158.20809126973001,163.79105663412,163.02840954909999,177.07209237309999,193.22918336379999,203.31463553571399,205.65325872538801,203.56051549895199,227.407662137957,206.76800288771599,217.360368846802,228.66130129808201,235.42401188410599,245.997664076148,273.539589659618,300.09478594653001,302.27705963495902,296.99025969890698,308.80138103568999,329.12931848053,346.25885611204802,332.35985267354698,354.53074029652799,364.82228340719399,388.02354312657502,429.91956827348798,422.21114567525598,415.78294578593699,null,{"$f":"IF(A194='data countries'!B205,\"ok\",\"falsch\")","v":"ok"}]
["Turkmenistan",17.343347384360001,17.381160782359999,18.471331613410001,19.506751180990001,20.620233976640002,22.505820226080001,23.76769214806,24.71699631305,25.716454604869998,26.77443172804,28.655226413760001,29.92209754101,31.228560675080001,32.53878905258,34.111759660380002,36.019122024890002,37.221785881019997,38.4921165867,39.584759192509999,40.583496312320001,45.627991820719998,38.72186186914,28.555522857780002,27.145931849939998,34.239948409180002,34.690600323939996,31.588818022320002,31.387400812439999,32.656035884550001,38.58185828053,39.357288439229997,40.932453167639999,43.750980497439997,48.855007445529999,51.335179158400003,52.944225624689999,54.907210692169997,60.594509930800001,61.921744333870002,54.605421123249997,61.617637114609998,66.819977487719996,71.057721724380002,72.403089726229993,73.405903236010005,75.454394984199993,75.250282653580001,75.025181387469999,82.827610206309998,90.523465758309996,null,{"$f":"IF(A195='data countries'!B206,\"ok\",\"falsch\")","v":"ok"}]
["Turks and Caicos Islands",3.7514428367160001E-3,3.7514487367159999E-3,4.3520006732400002E-3,4.7806466356560004E-3,3.9398637972299999E-3,4.9887486311700003E-3,4.4024781879050002E-3,4.87659085117E-3,5.0551746106939997E-3,4.7444225039749996E-3,4.7084995991750001E-3,5.0169185411900004E-3,4.7113538387300001E-3,4.7538335094600001E-3,5.3675828265399997E-3,5.8561280650279999E-3,6.3043879709879999E-3,6.9337084914200004E-3,7.2092029397119997E-3,6.9410045531009996E-3,6.9881239016300004E-3,7.4493519296520002E-3,7.4916987087600001E-3,7.1318260167599996E-3,7.0497044626500003E-3,6.97434562172E-3,7.0631311907799997E-3,6.6905712108900001E-3,7.2387299487700002E-3,7.5713959100100004E-3,1.352869177234E-2,1.3469159636719999E-2,1.3380489838269999E-2,1.335753380271E-2,1.378843496943E-2,5.4596788581800001E-3,5.0768653537100004E-3,3.1189618088129999E-2,6.3509912290500001E-2,6.6663497449300002E-2,0.10624719249778999,0.10521292960589999,0.18394644649149999,0.19006188768363999,0.16557851901396001,0.16531906185006001,0.16738658871852,0.13451846101772999,0.13851782908915999,0.13493166498433001,null,{"$f":"IF(A196='data countries'!B207,\"ok\",\"falsch\")","v":"ok"}]
["Uganda",0.50670843266879995,0.51385543566879999,0.49390263797790002,0.4958107864422,0.52356546292280004,0.51776373959449995,0.50529040253589996,0.51198183221409999,0.47550250904710001,0.53137250018640003,0.57340977776879998,0.38653756317909999,0.4225280178934,0.42650277909259998,0.41379580455162002,0.42233732955969999,0.50039936316239997,0.56209189906720003,0.7716879274217,0.65641114079910001,0.64439347628379995,0.81227844863319998,0.787257214378,0.78939524901879998,0.79447343116570002,0.83978960173899997,0.9080630951784,1.0260780290622,1.0801384743069,1.1252857923752999,1.1683063454747,1.3250079400164001,1.3461638709435499,1.5258996797483,1.5985754206060001,1.6823484310839001,1.88713856491878,2.1645950459800001,3.7103326242999999,3.5320349056000002,3.774441323,4.3339979382999996,4.5517794282999997,4.4786409779999996,4.5716417931000004,4.6930730495999997,4.8748574942999996,5.0468445572,5.1836088623999999,5.3395531737999997,null,{"$f":"IF(A197='data countries'!B208,\"ok\",\"falsch\")","v":"ok"}]
["Ukraine",505.85153116816002,505.65653971116001,533.64510724401998,573.20294185648004,601.42151582561996,612.95639205953898,659.61136751432002,664.29786530214994,741.56338322455997,755.36440970489002,774.76971591077995,743.65937563197997,750.64273210631995,762.17751435625996,767.50588235268003,768.55233654039,798.59589216561005,837.12941305222,842.58762886868999,842.21375850899005,783.20973842340004,739.09782418240002,648.75429775220005,566.05915109908005,468.48027291439001,461.62071499193002,394.83979499290001,379.67631218169998,362.28512168626003,361.47853449524001,358.09064716092001,357.18511902880999,357.70439668929998,380.76135366929998,361.5825450442,354.35248064030998,355.11236745308997,361.2060117515,346.74349399301002,287.81098109414,308.55507750050998,325.84033875375002,317.68863687036003,306.32876922337999,264.92043506789003,214.07978154439999,223.86479803242301,194.303712245702,203.02488348703699,196.40103934343699,null,{"$f":"IF(A198='data countries'!B209,\"ok\",\"falsch\")","v":"ok"}]
["United Arab Emirates",19.4369599061,25.403426785000001,27.718232866600001,35.805480734100001,35.970323033600003,36.641347455000002,45.537718618299998,45.8340441398,52.577812142500001,37.849876590199997,41.119239073625998,38.048112356674999,38.074416032709998,36.808728010759999,50.011950236559997,51.826036394020001,50.258689513550003,52.101619679050003,51.027519745809997,56.97294279698,56.922343161489998,64.741914951179993,62.538318530970002,65.935626143730005,72.600092678639996,77.448879100119996,80.920792987650003,84.389856603850006,86.520863129950001,89.17249634209,88.382012557950006,101.06139243922,103.44393047529999,108.75500548123,114.98094900652001,122.40062207051,127.22853566515001,137.05729949363999,164.34175451184001,165.28954270885001,171.85527761086001,176.25246427727001,185.72959109196,195.48948797897,197.4611194931,201.841732947,207.27395275410001,212.67556652010001,215.87707389319999,222.61241556420001,null,{"$f":"IF(A199='data countries'!B210,\"ok\",\"falsch\")","v":"ok"}]
["United Kingdom",684.52622147700004,676.12561793409998,654.8621930109,687.03544661620003,643.88839096890001,623.36345831810104,628.97124063500098,639.30174514629903,639.05647441580004,674.66508386099997,613.87974740039999,594.06727780439996,580.19791270209998,571.67217353290005,554.98034764440001,581.21395833639997,594.2352011662,600.12936507020004,601.02168028969004,586.63545453810002,588.0675169287,596.11874145079901,582.5675124718,567.04638532299998,562.1909505205,554.12899379639998,571.98000259469995,548.67621741079995,550.52621502160002,546.22653518280003,552.97921271469897,566.13389279010005,550.31733913020003,563.56811968659997,563.49745575439999,561.557714702,562.02245258940002,551.66489934449999,536.63690491900002,485.75230520849999,502.3858528449,462.76686663179999,486.97545430600002,471.61769437125997,432.63779070638998,415.62622622497997,392.20932544954002,380.10981177711,373.46906222445699,364.90649470985198,null,{"$f":"IF(A200='data countries'!B211,\"ok\",\"falsch\")","v":"ok"}]
["United States",4685.4294214339998,4550.808713249,4799.5828883129998,4987.2484753030003,4822.6209297539999,4608.9478630470003,4903.6355348759998,5067.7941022659998,5062.2364010029996,5100.6099641809997,4874.2323824530004,4805.675546212,4559.9965009560001,4539.5330213839998,4749.3596739209997,4775.3995809690005,4734.6921967959997,4892.1050452030004,5115.299851412,5172.6661990869998,5065.0556639385004,5023.4879086890996,5104.8484797410501,5223.9203911739496,5307.1514671409004,5358.97158493188,5506.4643592490002,5680.4845774119003,5694.6042933383997,5713.8684271360098,5917.3550726718804,5860.0549602778301,5780.6118738854902,5856.4800348334202,5939.3609593041901,5948.4724665532203,5843.1611717899896,5931.9892436143,5742.9271700699101,5325.0767154897903,5567.6398899829501,5438.91892894786,5263.6409692730203,5337.0317691148002,5412.9618169537198,5248.9625894887404,5152.5847150383697,5082.8906534881598,5243.74409903987,5107.2610774498298,null,{"$f":"IF(A201='data countries'!B212,\"ok\",\"falsch\")","v":"ok"}]
["Uruguay",5.4285815049780002,5.4127261249779997,5.8750426049259996,5.5471954459879997,5.3714326724720003,5.7041100151519997,5.8802276127919999,5.790632021625,5.9045568070109997,6.3937659528720001,5.7344096711289998,5.1784618811290004,4.7951496349909997,3.8407518466999999,3.4599707214120001,3.2336642404529998,3.187476151672,3.583281799446,4.5650182811970001,4.9126478138519998,3.9023247906140002,4.4251478645770002,4.8501430514750004,4.6031518074260003,4.3290336835699996,4.7304936691909996,5.5354717125509998,5.6229586334419999,5.8269168167630001,6.8435567949639999,5.4680727291290001,5.0407340811730004,4.6465242299009999,4.6188865197949998,5.7392092513400002,5.5254288568299996,6.4614543654099998,5.9668415058499997,7.8494086798999998,8.0166094832300008,6.4171620655200003,7.7126154287770001,8.7821974470300006,7.6161729812100001,6.7561459318499999,6.8061378547800002,6.7995986251379996,6.3569975080049996,6.4288900385999996,6.5649498527550003,null,{"$f":"IF(A202='data countries'!B213,\"ok\",\"falsch\")","v":"ok"}]
["Uzbekistan",49.013894580421997,49.345390135422001,52.194827189297001,55.33905842859,58.821317487960002,65.433090907459999,66.586871778230005,69.324383801379994,71.829236280420005,74.39264885739,79.552164125909997,83.247505267600005,86.733063769140003,89.603318110710006,92.664206926930007,97.055042113949995,100.99516837999001,104.64001685484,107.50914784565001,109.01853289991,123.10560081876,126.54253444768,118.56885641814,118.64458460682,113.86515913412001,101.80698410038001,103.17777539671,105.06670626695001,119.57433777621,120.74110154877,121.13385162890999,123.19794428327999,128.58232379096,123.53531966631,120.89739746405,116.32293523496,119.3864832618,119.67054688229,119.69692027208001,108.36065570764001,107.49607199107,115.98524924351,118.62750282421,106.53817828811,107.63870381664,105.37669125495,93.964019553189999,93.850878169981002,97.900726068233993,94.991732865233999,null,{"$f":"IF(A203='data countries'!B214,\"ok\",\"falsch\")","v":"ok"}]
["Vanuatu",9.5787888759000003E-2,9.5824272564999993E-2,0.10061044540899999,0.113025523458,0.14016950730800001,0.11748062664800001,0.111641134159,0.118065843809,0.116590086809,0.132306318609,0.13593110920199999,0.148595542789,0.136548780053,7.2827569297999994E-2,0.121397184628,0.134861728732,0.11649574680200001,0.13114370476000001,0.132811396661,0.12630004760499999,0.130202200106,6.5504629566300002E-2,6.1634228190000001E-2,6.0314909739999999E-2,4.3970233249999997E-2,4.5503813919999997E-2,4.7413864819999998E-2,4.7805536119999999E-2,5.2343622979999997E-2,4.9845482009999997E-2,5.6947273329999999E-2,6.0238739239999999E-2,5.6131228819999997E-2,5.4764616789999998E-2,6.1287308711545002E-2,6.2613260781823998E-2,5.7591228067082001E-2,0.10535176879796,5.8882477331306998E-2,0.11161449080078099,0.120213353279341,0.15105917721192999,0.214955337502449,0.12876552039206901,7.8508036769289996E-2,7.7615265518119994E-2,7.4482005907875501E-2,7.7772173521993795E-2,8.1136884348017593E-2,8.6288040927730403E-2,null,{"$f":"IF(A204='data countries'!B215,\"ok\",\"falsch\")","v":"ok"}]
["Venezuela",57.311123092300001,55.958206872300003,56.884454233299998,64.878485892100002,63.938787259500003,60.819529184700002,65.052843053800004,67.313940734499994,72.279433861699999,82.088915006400001,89.824571884400001,90.799638562499993,91.545375673300001,90.501422777000002,91.289073954499997,91.819831283699898,92.6405561662,92.385439786999996,93.634332582300004,99.712507784600007,102.5726409167,101.16083438610001,103.4934063944,110.2321065428,110.6473069172,119.8174477725,127.9854164553,133.7533852832,135.4667091769,124.9181992227,132.66302517099999,139.67072829809999,136.8432130189,136.93045177939999,144.37923887720001,152.60979642480001,149.5683456534,147.3405454535,177.723252159,178.83592511769999,189.13897897230001,171.00514868139999,199.04458915410001,188.61708829459999,188.22189288839999,168.68650342390001,155.14313168070001,136.3755297578,122.5772102607,110.0573325707,null,{"$f":"IF(A205='data countries'!B216,\"ok\",\"falsch\")","v":"ok"}]
["Vietnam",13.51465808,13.40083611,14.426745410000001,14.62185876,9.9090421800000001,10.036388519999999,6.2377309299999997,6.9269436000000004,14.846530080000001,15.4936702,16.18670191,16.64701492,18.027350030000001,19.44829159,19.496558820000001,19.66297548,21.584141809999998,24.014794030000001,23.559256050190001,20.230738254929999,20.48260803122,20.62228613488,21.595280154209998,25.312797685189999,29.774579286160002,34.217746671439997,38.518351042010003,44.449288340560003,49.732135307749999,50.991914395789998,56.367833059029998,61.926206355509997,72.880848644850005,77.414837521400003,91.442067506140006,99.819346040409997,102.49590504574,113.30223275775001,124.75364149858,139.23361140761,155.22472891410001,155.11587254139999,154.64601832221999,161.11618475872001,176.68131125599999,204.45822788001001,218.64130692475001,218.42029165579001,257.37743484819998,305.24928481519999,null,{"$f":"IF(A206='data countries'!B217,\"ok\",\"falsch\")","v":"ok"}]
["Western Sahara",7.3310657703770002E-2,7.3309904403769999E-2,7.2441997525589996E-2,7.4264127598429999E-2,7.8865288444569998E-2,8.2972709898889996E-2,8.2878088607169997E-2,8.5435952602819998E-2,8.3649000249409994E-2,9.4427362087269998E-2,0.10377265265377,9.4939809144020004E-2,0.13549280258499999,0.13837787623472,0.13406270080685001,0.13890244618486999,0.14840136890412001,0.1892415273752,0.17844035775539999,0.1622226227452,0.14400317347096001,0.17121787876290001,0.15232842139958999,0.1510532476126,0.15237240169405,0.15779376814122001,0.16183956868107999,0.17349915531640001,0.15372247640709,0.15869390410150999,0.20648051641328999,0.21028653290329,0.20712322067871,0.21935892009058999,0.22708789511381999,0.22664377174806899,0.226399531753154,0.24342689793,0.24502512886,0.25875010001999998,0.26553582031,0.31206386955999998,0.32575069086000003,0.26719379794999998,0.24215494516,0.25352012081000003,0.26099956996000001,0.26982323260000002,0.28506972339999997,0.29719953009,null,{"$f":"IF(A207='data countries'!B218,\"ok\",\"falsch\")","v":"ok"}]
["Yemen",1.50167199864,1.5147996324399999,1.7920998313800001,2.2099551498180001,2.1955139410019999,2.1024899888020001,2.562972341679,2.599329629319,2.863784442684,3.07440856809,3.9181457451580002,3.9376657851800001,4.4279579916299996,4.8764099531199996,4.9882489521200002,5.3303020695800001,5.6338801006499999,6.1808927679499996,6.6557232225899998,6.8706764154600002,6.8872220260199999,8.6794679692100001,9.3741384712000002,8.4524889742500005,9.7874683560100006,10.917533635890001,11.184170203940001,12.05070320419,12.84445266613,14.49868599971,15.49883859637,16.524669262290001,16.569308729439999,19.289368148699999,20.195727074779999,21.777270242779998,22.705379579599999,24.0870813007,25.01724792984,27.40822693957,26.09765037935,22.198459276480001,21.080957732971999,27.797099126822001,26.334779415669001,13.940481957909,10.767463908102,10.518575217522001,10.545459912388999,10.888394752389001,null,{"$f":"IF(A208='data countries'!B219,\"ok\",\"falsch\")","v":"ok"}]
["Zambia",3.6690596879999999,3.8262920739999999,4.234739974,4.5484368867129996,4.5818986422899997,4.7532427944600002,4.754710778852,4.3037987808439997,4.1037272793849997,3.728298978622,3.7245961544699999,3.4216268974420001,3.3179140833999998,3.2377367291349999,3.1849983011180001,3.1888299285400001,3.2843399140599998,3.240160158303,3.5169120995159999,3.6258210192339999,2.9802065454590001,3.1117247754120001,3.1119402622410002,2.7709864593629998,2.3730028656009998,2.348359338027,1.9753133680970001,2.5628776051309998,2.3432775440990001,1.9242910195409999,1.9540829052140001,1.9685836874889999,2.0676917298249999,2.2320530039139999,2.298604917205,2.4582679885149998,2.3789924329560002,1.74581546014,1.8778818766250001,2.0533684603800002,2.2893409301549998,2.6169073466919999,3.6427204356709999,3.8714316710349999,4.3265664754850004,4.5108270152529997,4.954900787873,7.1890128545060001,7.6239752231529998,7.5025206638139998,null,{"$f":"IF(A209='data countries'!B220,\"ok\",\"falsch\")","v":"ok"}]
["Zimbabwe",9.6474940629999999,9.5953717829999992,9.1467761240000005,10.593479994000001,10.284826764,9.0728780150000006,10.0416031,9.0784277650000007,8.7334018150000006,9.0012018279999992,9.6470462389999998,9.2581321760000002,8.8440063609999999,8.7798896049999993,9.2230825569999997,10.67516825,12.252655903000001,15.619796913,15.103248368999999,15.30699446,17.180682839999999,18.91573009,19.029639995,17.449804374999999,16.352072719999999,16.117783594999999,15.528626375,14.577285705,14.787459985,16.658222840000001,14.496875822,14.67347548,13.285711598000001,10.871093249999999,10.3318096,11.39012312,10.579212585000001,10.408158999999999,8.050104675,7.7578734599999999,9.9951114049999994,11.9764725,12.460710405,12.691671249000001,12.54200391,12.67953653,11.325780073000001,10.713685892999999,11.795384574,10.861734827999999,null,{"$f":"IF(A210='data countries'!B221,\"ok\",\"falsch\")","v":"ok"}]
["International Aviation",168.81695300000001,168.81695300000001,178.76091299999999,186.62255500000001,179.139049,173.235546,173.68791528,189.34211642,196.252916236,203.06913046,201.392083227,201.27646817999999,208.110876413,210.078884308,217.739882489,224.18147326799999,246.17662948,260.06083091199997,275.07502533299999,289.28238123339997,258.31388023699998,251.13858954400001,259.14190718600003,264.30689547600002,278.57372636899998,289.69206707540002,301.36568213160001,316.82944600399998,327.61260549000002,341.65166541999997,354.51607787,347.40846114800001,367.44733368637998,365.79378901108998,394.755458836,420.261166194,435.63084090000001,447.68857910000003,455.06627370000001,433.42174899999998,457.4719503,474.45008910000001,478.1938131,486.33826470000002,502.58840379999998,530.37687019400005,553.30578543599995,584.09219078599995,605.39462285399998,627.47623038999996]
["International Shipping",353.85624017148803,353.85624017148803,370.87771015562299,391.73293137096198,366.04985715346101,341.22321214349603,352.02431114521801,351.73598133022398,354.00841246684399,364.88117017665098,357.15729375350298,332.05440344171501,299.21517680030797,280.12262465721199,283.93547845329101,306.37666603752302,325.81537182621901,322.32881961697598,337.82552444286301,337.65760836029,371.27570863431202,386.046150609302,414.643782399911,401.88526734644802,414.67451641798499,427.95606050619898,438.03973636510398,448.53277178976202,461.982994686457,485.73300595060601,498.43261047168397,473.82994381681698,491.636916657467,502.075401988512,551.08080101031999,571.50010669724395,608.65918849799698,644.81715917531994,647.24879985261896,616.14188975197806,662.88933458470399,663.50632065559205,616.93041239995603,614.89669090402504,636.147621570708,660.03204229791902,678.56341148110903,696.99142853149203,713.43247308849595,730.26255486661296]
["EU27",{"$f":"B214-B200","v":3516.2110863440903},{"$f":"C214-C200","v":3529.2634643445799},3673.0953855294401,3860.8055513204099,3804.6464413741896,3714.9020697397091,3966.5736954423692,3950.9524526172409,4087.7967665074402,4234.8343380975493,4151.1323644030599,3974.2328305492401,3873.4143981003403,3850.1983479289302,3879.7358199826399,3895.5473241612704,3903.4010446431298,3945.1292650691503,3938.8714584208501,3951.8741626398996,3820.6582623995596,3763.3356071702606,3621.1521715290301,3553.5121757599504,3543.0240477927705,3599.3506643623596,3693.6599924545299,3624.1332804975,3613.5808972418104,3553.7383089364303,3568.4403315324212,3620.1556246902296,3610.8813306215206,3704.39928696889,3709.8390765128297,3687.5781208008098,3703.8804001329399,3667.4414887688195,3585.9678107559203,3307.3633202628803,3418.2274548906998,3303.4351498573401,3235.0388989828903,3159.4149102183901,3017.44792143002,3076.8385112354899,3082.3843709535399,3107.7764971623601,3061.129954815643,2939.068445651058]
["EU28",4200.7373078210903,4205.3890822786798,4327.9575785403404,4547.8409979366097,4448.5348323430899,4338.2655280578101,4595.54493607737,4590.2541977635401,4726.8532409232403,4909.4994219585496,4765.0121118034604,4568.3001083536401,4453.6123108024403,4421.8705214618303,4434.7161676270398,4476.7612824976704,4497.6362458093299,4545.2586301393503,4539.8931387105404,4538.5096171779996,4408.7257793282597,4359.4543486210596,4203.7196840008301,4120.5585610829503,4105.2149983132704,4153.4796581587598,4265.6399950492296,4172.8094979082998,4164.1071122634103,4099.9648441192303,4121.41954424712,4186.2895174803298,4161.1986697517204,4267.9674066554899,4273.3365322672298,4249.1358355028096,4265.90285272234,4219.1063881133196,4122.60471567492,3793.1156254713801,3920.6133077355998,3766.2020164891401,3722.0143532888901,3631.03260458965,3450.0857121364102,3492.4647374604701,3474.5936964030798,3487.8863089394699,3434.5990170401001,3303.9749403609098]
["GLOBAL TOTAL",15760.000531634492,15690.853652929494,16484.387264732202,17464.79847547385,17416.387929277909,17351.65233305272,18345.747637789867,18891.06577750721,19584.657728972663,20130.059051057462,19890.287809947371,19510.260272513209,19275.214431556968,19410.839450731724,20018.852619827303,20279.954115134249,20631.67723333797,21296.261580396709,22062.472176847292,22451.077691653987,22683.301478324389,22807.47912245927,22741.70346262868,22841.740956586807,23089.273116270982,23747.990553387965,24208.343499354134,24543.815636289502,24638.044085957237,24836.424121361208,25699.795114555604,26001.339524847699,26458.573838919001,27707.190404727418,29005.24547969197,30051.443764699066,31081.15636058879,32319.005947294092,32475.438984730346,32090.505920406664,33971.154440160331,35034.771260599446,35487.483985781219,35905.815277354581,36244.487382740801,36247.486911231819,36299.696277650386,36794.620794961847,37668.112152550129,38016.572552610152]
[null,null,null,null,null,null,null,null,null,null,null,null,null,null,null,null,null,null,null,null,null,null,null,null,null,null,null,null,null,null,null,null,null,null,null,null,null,null,null,null,null,null,null,null,null,null,null,null,null,null,{"$f":"(AY214-AX214)/AX214","v":-3.8031827305348917E-2}]
["https://edgar.jrc.ec.europa.eu/"]
[]
[]
[null,null,null,null,null,null,null,null,null,null,null,null,null,null,null,null,null,null,null,null,null,null,null,null,null,null,null,null,null,null,null,null,null,null,null,null,null,null,null,null,null,3418.2274548906998,3303.4351498573401,3235.0388989828903,3159.4149102183901,3017.44792143002,3076.8385112354899,3082.3843709535399,3107.7764971623601,3061.129954815643,2939.068445651058]

{"sheet":"UN-P","index":16,"n_rows":336,"n_cols":94,"rows_kept":336,"cut":false,"hidden":false,"merged":[[5,0,5,8],[0,0,0,8],[1,0,1,8],[2,0,2,8],[3,0,3,8],[4,0,4,8],[12,0,12,8],[13,0,13,8],[14,0,14,8],[6,0,6,8],[7,0,7,8],[8,0,8,8],[9,0,9,8],[10,0,10,8],[11,0,11,8]]}
[]
[]
[]
[]
["United Nations"]
["Population Division"]
["Department of Economic and Social Affairs"]
[]
["World Population Prospects 2019"]
["File POP/1-1: Total population (both sexes combined) by region, subregion and country, annually for 1950-2100 (thousands)"]
["Medium fertility variant, 2020 - 2100"]
["POP/DB/WPP/Rev.2019/POP/F01-1"]
["Copyright © 2019 by United Nations, made available under a Creative Commons license CC BY 3.0 IGO: http://creativecommons.org/licenses/by/3.0/igo/"]
["Suggested citation: United Nations, Department of Economic and Social Affairs, Population Division (2019). World Population Prospects 2019, Online Edition."]
[]
[null,null,null,null,null,null,null,"sheet \"ESTIMATES\"","Total population, both sexes combined, as of 1 July (thousands)"]
["Index","Variant","Region, subregion, country or area *","EU28","Country code","Type","Parent code","2019","2020","2021","2022","2023","2024","2025","2026","2027","2028","2029","2030","2031","2032","2033","2034","2035","2036","2037","2038","2039","2040","2041","2042","2043","2044","2045","2046","2047","2048","2049","2050","2051","2052","2053","2054","2055","2056","2057","2058","2059","2060","2061","2062","2063","2064","2065","2066","2067","2068","2069","2070","2071","2072","2073","2074","2075","2076","2077","2078","2079","2080","2081","2082","2083","2084","2085","2086","2087","2088","2089","2090","2091","2092","2093","2094","2095","2096","2097","2098","2099","2100",null,"data countries (EDGAR)","original names UN-P","data countries used (several countries combined)","Missed population figures 2019 in sheet \"data countries\""]
[1,"Medium variant","WORLD",null,900,"World",0,7713468.1000000099,7794798.7390000001,7874965.8249999899,7953952.5669999998,8031800.4289999995,8108605.3880000003,8184437.46,8259276.7369999997,8333078.3159999996,8405863.2950000092,8477660.693,8548487.4000000004,8618349.4890000001,8687227.8499999996,8755083.4310000092,8821862.6610000003,8887524.2129999995,8952048.9399999995,9015437.6530000009,9077693.6760000009,9138828.4680000003,9198847.2400000002,9257745.5350000001,9315508.0500000007,9372118.1860000007,9427555.3670000006,9481803.2740000002,9534854.8279999997,9586707.9859999996,9637357.6370000001,9686800.3570000008,9735033.9900000002,9782061.5510000009,9827884.6400000006,9872499.7650000006,9915902.2180000003,9958094.0739999991,9999078.3160000108,10038871.455,10077505.218,10115019.649,10151448.761,10186811.588,10221118.372,10254382.505000001,10286615.745999999,10317830.205,10348042.081,10377267.714,10405519.682,10432810.409,10459152.506999999,10484559.381999999,10509046.182,10532629.592,10555327.277000001,10577155.889,10598131.958000001,10618268.333000001,10637573.903000001,10656054.443,10673719.473999999,10690576.967,10706644.425000001,10721951.208000001,10736532.842,10750416.739,10763615.214,10776129.373,10787962.319,10799112.048,10809575.801999999,10819350.483999999,10828432.708000001,10836817.175000001,10844496.726,10851460.596999999,10857694.249,10863179.437999999,10867893.847999999,10871811.478,10874902.318]
[2,"Medium variant","UN development groups",null,1803,"Label/Separator",900,"…","…","…","…","…","…","…","…","…","…","…","…","…","…","…","…","…","…","…","…","…","…","…","…","…","…","…","…","…","…","…","…","…","…","…","…","…","…","…","…","…","…","…","…","…","…","…","…","…","…","…","…","…","…","…","…","…","…","…","…","…","…","…","…","…","…","…","…","…","…","…","…","…","…","…","…","…","…","…","…","…","…"]
[3,"Medium variant","More developed regions",null,901,"Development Group",1803,1270630.277,1273304.2509999999,1275554.7709999999,1277414.0290000001,1278957.4620000001,1280293.4080000001,1281504.497,1282616.3130000001,1283619.8640000001,1284521.4850000001,1285318.6740000001,1286009.8929999999,1286607.5989999999,1287121.4750000001,1287541.9480000001,1287853.0789999999,1288044.125,1288114.5160000001,1288071.7139999999,1287923.2830000001,1287679.7690000001,1287349.6610000001,1286936.8999999999,1286442.716,1285870.0970000001,1285221.6399999999,1284500.122,1283709.19,1282852.486,1281932.49,1280951.683,1279912.6140000001,1278819.419,1277676.186,1276485.659,1275250.4979999999,1273974.17,1272661.027,1271316.8189999999,1269948.7339999999,1268564.798,1267172.939,1265778.125,1264386.1089999999,1263005.2490000001,1261644.8570000001,1260312.7879999999,1259014.8419999999,1257754.8160000001,1256535.845,1255360.21,1254230.1299999999,1253148.3759999999,1252118.067,1251142.237,1250223.7509999999,1249364.9310000001,1248567.3400000001,1247831.294,1247155.94,1246539.2479999999,1245979.824,1245476.6780000001,1245029.5419999999,1244637.8729999999,1244301.246,1244018.625,1243788.3689999999,1243608.054,1243475.0919999999,1243386.267,1243338.4469999999,1243328.365,1243352.5719999999,1243407.5930000001,1243489.6980000001,1243594.78,1243718.294,1243855.57,1244001.2720000001,1244149.9439999999,1244295.584]
[4,"Medium variant","Less developed regions",null,902,"Development Group",1803,6442837.8230000101,6521494.4879999999,6599411.0539999902,6676538.5379999997,6752842.9670000002,6828311.9800000004,6902932.9630000005,6976660.4239999996,7049458.4519999996,7121341.8100000098,7192342.0190000003,7262477.5070000002,7331741.8899999997,7400106.375,7467541.483,7534009.5820000004,7599480.0880000098,7663934.4239999996,7727365.9390000002,7789770.3930000002,7851148.699,7911497.5789999999,7970808.6349999998,8029065.3339999998,8086248.0889999997,8142333.727,8197303.1519999998,8251145.6380000003,8303855.5,8355425.1469999999,8405848.6740000006,8455121.3760000002,8503242.1319999993,8550208.4539999999,8596014.1060000006,8640651.7200000007,8684119.9039999992,8726417.2890000008,8767554.6359999999,8807556.4839999992,8846454.8509999998,8884275.8219999894,8921033.4629999995,8956732.2630000003,8991377.2559999991,9024970.8890000004,9057517.4170000106,9089027.2389999907,9119512.898,9148983.8369999994,9177450.1989999991,9204922.3770000003,9231411.0059999991,9256928.1150000002,9281487.3550000004,9305103.5260000005,9327790.9580000006,9349564.6180000007,9370437.0390000008,9390417.9629999995,9409515.1950000003,9427739.6500000004,9445100.2890000008,9461614.8829999994,9477313.3350000009,9492231.5960000008,9506398.1140000094,9519826.8450000007,9532521.3190000094,9544487.227,9555725.7810000107,9566237.3549999893,9576022.1190000009,9585080.1360000093,9593409.5820000004,9601007.0280000009,9607865.8169999998,9613975.9550000001,9619323.8680000007,9623892.5760000106,9627661.5339999907,9630606.7339999899]
[5,"Medium variant","Least developed countries",null,941,"Development Group",902,1033388.876,1057438.182,1081819.327,1106521.9129999999,1131527.1040000001,1156817.3030000001,1182376.605,1208187.4680000001,1234236.1410000001,1260516.5360000001,1287025.804,1313758.8999999999,1340705.1969999999,1367850.7560000001,1395183.3559999999,1422689.973,1450358.034,1478175.578,1506131.5660000001,1534215.213,1562416.19,1590723.4569999999,1619125.5830000001,1647609.62,1676161.86,1704767.53,1733412.605,1762084.659,1790771.8489999999,1819461.4790000001,1848140.88,1876797.763,1905419.9040000001,1933995.558,1962514.07,1990964.956,2019337.743,2047620.629,2075801.906,2103870.781,2131816.5830000001,2159628.15,2187294.571,2214803.7420000001,2242142.463,2269296.7829999998,2296253.5780000002,2323001.301,2349529.2680000002,2375826.1290000002,2401880.6869999999,2427682.2680000002,2453220.327,2478485.0240000002,2503466.8640000001,2528156.7919999999,2552545.804,2576626.1060000001,2600389.1630000002,2623824.9569999999,2646923.2059999998,2669675.0120000001,2692073.3689999999,2714113.4619999998,2735791.71,2757106.0269999998,2778054.0440000002,2798632.41,2818837.176,2838665.895,2858116.375,2877186.7140000002,2895875.3870000001,2914181.0210000002,2932102.4040000001,2949638.9980000001,2966790.352,2983556.3739999998,2999937.3309999998,3015934.0070000002,3031547.3339999998,3046778.7749999999]
[6,"Medium variant","Less developed regions, excluding least developed countries",null,934,"Development Group",902,5409448.9469999997,5464056.3059999999,5517591.7269999897,5570016.625,5621315.8629999999,5671494.6770000001,5720556.358,5768472.9560000002,5815222.3109999998,5860825.2740000002,5905316.2149999999,5948718.6069999998,5991036.693,6032255.6189999999,6072358.1270000003,6111319.6090000002,6149122.0540000098,6185758.8459999999,6221234.3729999997,6255555.1799999997,6288732.5089999996,6320774.1220000004,6351683.0520000001,6381455.7139999997,6410086.2290000003,6437566.1969999997,6463890.5470000003,6489060.9790000003,6513083.6509999996,6535963.6680000098,6557707.7939999998,6578323.6129999999,6597822.2280000001,6616212.8959999997,6633500.0360000003,6649686.7640000004,6664782.1610000003,6678796.6600000001,6691752.7300000004,6703685.7029999997,6714638.2680000002,6724647.6720000003,6733738.892,6741928.5209999997,6749234.7929999996,6755674.1059999997,6761263.8389999997,6766025.9379999898,6769983.6299999999,6773157.7079999996,6775569.5120000001,6777240.1090000002,6778190.6789999995,6778443.091,6778020.4910000004,6776946.7340000002,6775245.1540000001,6772938.5120000001,6770047.8760000002,6766593.0060000001,6762591.9890000001,6758064.6380000003,6753026.9199999999,6747501.4210000001,6741521.625,6735125.5690000001,6728344.0700000003,6721194.4349999903,6713684.1430000002,6705821.3320000004,6697609.4060000097,6689050.6409999998,6680146.7319999998,6670899.1150000002,6661307.1780000003,6651368.0300000003,6641075.4649999999,6630419.5810000002,6619386.5369999995,6607958.5690000001,6596114.2000000002,6583827.9589999998]
[7,"Medium variant","Less developed regions, excluding China",null,948,"Development Group",1803,4977203.6619999995,5050207.6210000003,5123128.7329999898,5195906.7539999997,5268467.45,5340725.2189999996,5412610.1370000001,5484071.5389999999,5555084.5609999998,5625638.9850000003,5695737.6739999996,5765375.5460000001,5834529.2889999999,5903162.4000000004,5971242.6519999998,6038734.4910000004,6105606.3720000098,6171832.8449999997,6237395.0350000001,6302276.3729999997,6366463.6699999999,6429941.8789999997,6492691.9539999999,6554692.2549999999,6615923.4649999999,6676365.9910000004,6736000.659,6794808.6289999997,6852771.9989999998,6909873.5250000004,6966096.4539999999,7021423.8080000002,7075841.9850000003,7129333.6619999995,7181874.3269999996,7233436.1789999995,7283997.6399999997,7333542.1830000002,7382063.0880000005,7429559.3629999999,7476034.7039999999,7521490.4970000004,7565925.2659999998,7609330.9230000004,7651695.267,7693003.9970000004,7733247.9040000001,7772425.38799999,7810543.2130000005,7847612.0779999997,7883647.9450000003,7918665.0429999996,7952669.2300000004,7985667.3909999998,8017676.5389999999,8048716.8200000003,8078804.909,8107953.3059999999,8136167.7189999996,8163449.8250000002,8189797.2989999996,8215211.2079999996,8239696.216,8263263.5719999997,8285928.3629999999,8307709.0319999997,8328620.2810000004,8348673.0039999997,8367869.977,8386209.3470000001,8403684.7140000109,8420293.6439999994,8436040.0639999993,8450933.6119999997,8464986.6750000007,8478212.9100000001,8490624.2799999993,8502230.4330000002,8513038.1119999997,8523051.2479999997,8532270.9539999999,8540695.5840000007]
[8,"Medium variant","Land-locked Developing Countries (LLDC)",null,1636,"Special other",1803,520972.67700000003,533143.45200000005,545397.13300000003,557731.03700000001,570142.43999999994,582635.70700000005,595213.304,607867.12399999995,620588.17299999995,633378.40099999995,646242.40399999998,659182.79099999997,672196.20200000005,685277.76699999999,698426.58400000003,711642.11699999997,724922.04200000002,738262.30200000003,751656.26500000001,765095.71,778570.97499999998,792072.51399999997,805593.78899999999,819126.93599999999,832659.44799999997,846177.06,859667.38399999996,873121.31799999997,886532.7,899895.58100000001,913205.375,926457.02500000002,939644.19,952759.95900000003,965798.26899999997,978752.96200000006,991618.56900000002,1004388.598,1017058.037,1029623.615,1042082.847,1054432.3629999999,1066667.5049999999,1078781.936,1090768.2879999999,1102618.4339999999,1114324.9720000001,1125882.6399999999,1137286.544,1148530.264,1159607.0120000001,1170510.8740000001,1181237.0360000001,1191781.885,1202142.784,1212317.75,1222304.8049999999,1232101.077,1241703.6129999999,1251110.449,1260319.807,1269330.03,1278139.402,1286746.1810000001,1295148.645,1303345.2180000001,1311334.4339999999,1319115.348,1326687.1310000001,1334049.047,1341200.3829999999,1348140.669,1354869.8529999999,1361387.855,1367694.9539999999,1373791.659,1379678.53,1385356.3640000001,1390826.102,1396088.827,1401145.824,1405998.4380000001]
[9,"Medium variant","Small Island Developing States (SIDS)",null,1637,"Special other",1803,71428.792000000001,72076.100999999995,72737.323999999993,73409.752999999997,74086.785999999993,74758.161999999997,75416.407000000007,76059.752999999997,76689.289999999994,77304.172999999995,77903.91,78488.224000000002,79055.871999999901,79606.5,80141.263000000006,80662.313999999998,81171.058000000005,81667.714000000007,82151.807000000001,82622.913,83080.284,83523.381999999998,83952.194000000003,84366.724000000002,84766.952000000005,85152.664999999994,85523.801000000007,85880.350999999995,86222.301000000007,86549.430999999997,86861.645000000004,87158.745999999999,87440.777000000002,87708.002000000095,87960.835000000006,88199.911999999997,88425.816000000006,88638.751000000004,88838.941999999995,89026.573999999993,89201.873000000007,89364.947,89516.047000000006,89655.498999999996,89783.519,89900.663,90007.183999999994,90103.509000000005,90189.585999999996,90265.123999999996,90329.894,90383.782000000007,90426.661999999997,90458.767000000007,90480.324999999997,90491.702999999994,90493.145999999993,90484.909,90466.827000000005,90438.861999999994,90400.497000000003,90351.72,90292.468999999997,90223.133000000002,90143.92,90055.088000000003,89957.107000000004,89850.099000000002,89734.3,89610.271999999997,89478.574999999997,89339.686000000002,89193.888000000006,89041.474000000002,88882.539000000004,88717.05,88545.264999999999,88367.346000000005,88183.39,87993.743000000002,87798.752999999997,87598.873000000007]
[10,"Medium variant","World Bank income groups",null,1802,"Label/Separator",900,"…","…","…","…","…","…","…","…","…","…","…","…","…","…","…","…","…","…","…","…","…","…","…","…","…","…","…","…","…","…","…","…","…","…","…","…","…","…","…","…","…","…","…","…","…","…","…","…","…","…","…","…","…","…","…","…","…","…","…","…","…","…","…","…","…","…","…","…","…","…","…","…","…","…","…","…","…","…","…","…","…","…"]
[11,"Medium variant","High-income countries",null,1503,"Income Group",1802,1258043.422,1263092.909,1267675.27,1271832.6580000001,1275656.0730000001,1279271.0759999999,1282771.754,1286190.6710000001,1289514.176,1292734.0630000001,1295825.6569999999,1298769.7590000001,1301574.0660000001,1304247.936,1306773.6140000001,1309126.787,1311290.175,1313258.6059999999,1315037.743,1316635.277,1318063.642,1319332.9480000001,1320446.8629999999,1321406.365,1322216.92,1322884.496,1323414.871,1323813.702,1324086.361,1324237.845,1324273.21,1324197.8899999999,1324018.0220000001,1323740.517,1323371.9620000001,1322919.33,1322389.909,1321790.1189999999,1321127.47,1320411.8189999999,1319653.8589999999,1318863.5619999999,1318047.2779999999,1317211.0349999999,1316362.5970000001,1315510.0330000001,1314659.9099999999,1313818.2509999999,1312988.29,1312171.0419999999,1311365.9739999999,1310573.199,1309794.8019999999,1309034.0079999999,1308292.9739999999,1307573.7009999999,1306878.2649999999,1306208.3559999999,1305565.0390000001,1304949.2,1304360.595,1303799.987,1303267.9439999999,1302765.855,1302295.3829999999,1301858.5330000001,1301456.804,1301090.895,1300760.879,1300467.4979999999,1300211.199,1299992.317,1299810.53,1299665.1569999999,1299555.2439999999,1299479.5870000001,1299436.7560000001,1299425.0830000001,1299442.9720000001,1299488.4990000001,1299559.8060000001,1299654.699]
[12,"Medium variant","Middle-income countries",null,1517,"Income Group",1802,5696667.2510000002,5753051.6189999999,5808122.3360000001,5861849.926,5914318.3770000003,5965675.5949999997,6016031.7120000003,6065390.1490000002,6113709.9280000003,6161006.5130000003,6207293.4840000002,6252578.2240000004,6296872.1560000004,6340169.6330000004,6382438.733,6423634.4139999999,6463722.8020000001,6502691.4840000002,6540545.949,6577292.392,6612943.9869999997,6647509.5619999999,6680989.4330000002,6713376.5029999996,6744663.8689999999,6774842.4680000003,6803906.2779999999,6831855.1919999998,6858693.0190000003,6884422.2410000004,6909047.0449999999,6932572.1660000002,6955006.5949999997,6976357.1799999997,6996625.5300000003,7015811.6979999999,7033921.7470000004,7050964.2249999996,7066959.4029999999,7081939.2699999996,7095942.9790000003,7109004.8090000004,7121148.0360000003,7132388.307,7142743.5109999999,7152229.9060000004,7160865.0290000001,7168669.7089999998,7175667.0860000001,7181879.7079999996,7187331.4199999999,7192045.1109999996,7196042.0240000002,7199343.0319999997,7201970.6260000002,7203947.7699999996,7205296.5669999998,7206039.3310000002,7206196.2949999999,7205784.7379999999,7204820.2419999996,7203320.2980000004,7201299.21,7198778.7589999996,7195791.9170000004,7192376.5939999996,7188563.108,7184367.3700000001,7179795.0480000004,7174852.7170000002,7169542.2050000001,7163863.9409999996,7157817.8499999996,7151403.0829999996,7144616.7189999996,7137453.5260000098,7129904.6979999999,7121957.591,7113595.648,7104798.0669999998,7095540.4040000001,7085794.0389999999]
[13,"Medium variant","Upper-middle-income countries",null,1502,"Income Group",1517,2638958.4130000002,2654816.37,2669550.798,2683160.037,2695747.4350000001,2707480.0350000001,2718487.3709999998,2728794.9049999998,2738382.59,2747283.088,2755526.2480000001,2763137.9909999999,2770145.67,2776567.9989999998,2782409.733,2787668.32,2792344.7880000002,2796448.355,2799995.1329999999,2803000.8620000002,2805483.1660000002,2807455.8859999999,2808929.4130000002,2809906.9730000002,2810386.2170000002,2810360.64,2809826.6379999998,2808790.4070000001,2807259.5980000002,2805233.341,2802709.5010000002,2799689.6889999998,2796182.6060000001,2792201.2250000001,2787758.2760000001,2782868.4019999998,2777548.6349999998,2771813.1809999999,2765681.3820000002,2759181.8509999998,2752347.5490000001,2745208.648,2737785.3670000001,2730096.548,2722169.031,2714031.3420000002,2705708.2510000002,2697219.8509999998,2688581.0389999999,2679803.7719999999,2670897.375,2661871.2749999999,2652739.7110000001,2643515.7919999999,2634206.0869999998,2624815.0819999999,2615349.0759999999,2605817.5350000001,2596233.0720000002,2586608.9410000001,2576959.463,2567298.125,2557632.7659999998,2547972.5550000002,2538333.3250000002,2528732.6090000002,2519184.0619999999,2509691.8620000002,2500256.7760000001,2490883.4849999999,2481575.2889999999,2472331.6430000002,2463147.1519999998,2454012.2209999999,2444913.1239999998,2435833.432,2426754.773,2417656.895,2408518.0279999999,2399314.6949999998,2390021.9700000002,2380613.2549999999]
[14,"Medium variant","Lower-middle-income countries",null,1501,"Income Group",1517,3057708.838,3098235.2489999998,3138571.5380000002,3178689.889,3218570.9419999998,3258195.56,3297544.341,3336595.2439999999,3375327.338,3413723.4249999998,3451767.236,3489440.233,3526726.486,3563601.6340000001,3600029,3635966.094,3671378.014,3706243.1290000002,3740550.8160000001,3774291.53,3807460.821,3840053.676,3872060.02,3903469.53,3934277.6519999998,3964481.8280000002,3994079.64,4023064.7850000001,4051433.4210000001,4079188.9,4106337.5440000002,4132882.477,4158823.9890000001,4184155.9550000001,4208867.2539999997,4232943.2960000001,4256373.1119999997,4279151.0439999998,4301278.0209999997,4322757.4189999998,4343595.43,4363796.1610000003,4383362.6689999998,4402291.7589999996,4420574.4800000004,4438198.5640000002,4455156.7779999999,4471449.858,4487086.0470000003,4502075.9359999998,4516434.0449999999,4530173.8360000001,4543302.3130000001,4555827.24,4567764.5389999999,4579132.6880000001,4589947.4910000004,4600221.7960000001,4609963.2230000002,4619175.7970000003,4627860.7790000001,4636022.1730000004,4643666.4440000001,4650806.2039999999,4657458.5920000002,4663643.9850000003,4669379.0460000001,4674675.5080000004,4679538.2719999999,4683969.2319999998,4687966.9160000002,4691532.2980000004,4694670.6979999999,4697390.8619999997,4699703.5949999997,4701620.0939999996,4703149.9249999998,4704300.6960000005,4705077.62,4705483.3720000004,4705518.4340000004,4705180.784]
[15,"Medium variant","Low-income countries",null,1500,"Income Group",1802,755849.76899999997,775710.64099999995,796189.64099999995,817256.9,838778.78300000005,860577.48300000001,882518.54,904546.08499999996,926670.03399999999,948904.26899999997,971288.93400000001,993852.84699999995,1016582.9,1039456.411,1062484.0249999999,1085681.7069999999,1109059.294,1132615.3189999999,1156339.429,1180221.1100000001,1204246.2350000001,1228401.1299999999,1252677.344,1277065.696,1301550.98,1326115.693,1350743.7579999999,1375422.4350000001,1400140.621,1424885.591,1449644.7209999999,1474405.6580000001,1499156.247,1523884.304,1548578.172,1573225.952,1597816.385,1622337.456,1646777.895,1671127.5249999999,1695376.513,1719514.6329999999,1743531.284,1767414.95,1791153.425,1814734.1,1838144.9979999999,1861375.4310000001,1884415.38,1907253.862,1929880.0020000001,1952283.46,1974454.2760000001,1996383.5179999999,2018063.2250000001,2039486.139,2060644.7320000001,2081531.575,2102138.179,2122455.3569999998,2142473.5210000002,2162183.966,2181579.8130000001,2200655.415,2219405.5189999999,2237825.7429999998,2255911.7110000001,2273659.128,2291063.3810000001,2308120.2429999998,2324825.449,2341175.531,2357167.798,2372800.358,2388071.8050000002,2402981.443,2417528.713,2431713.3539999998,2445535.3560000001,2458995.017,2472092.727,2484829.2250000001]
[16,"Medium variant","No income group available",null,1518,"Income Group",1802,2907.6579999999999,2943.57,2978.578,3013.0830000000001,3047.1959999999999,3081.2339999999999,3115.4540000000002,3149.8319999999999,3184.1779999999999,3218.45,3252.6179999999999,3286.57,3320.3670000000002,3353.87,3387.0590000000002,3419.7530000000002,3451.942,3483.5309999999999,3514.5320000000002,3544.8969999999999,3574.6039999999998,3603.6,3631.895,3659.4859999999999,3686.4169999999999,3712.71,3738.3670000000002,3763.4989999999998,3787.9850000000001,3811.96,3835.3809999999999,3858.2759999999998,3880.6869999999999,3902.6390000000001,3924.1010000000001,3945.2379999999998,3966.0329999999999,3986.5160000000001,4006.6869999999999,4026.6039999999998,4046.2979999999998,4065.7570000000001,4084.99,4104.08,4122.9719999999998,4141.7070000000003,4160.268,4178.6899999999996,4196.9579999999996,4215.07,4233.0129999999999,4250.7370000000001,4268.28,4285.6239999999998,4302.7669999999998,4319.6670000000004,4336.3249999999998,4352.6959999999999,4368.82,4384.6080000000002,4400.085,4415.223,4430,4444.3959999999997,4458.3890000000001,4471.9719999999998,4485.116,4497.8209999999999,4510.0649999999996,4521.8609999999999,4533.1949999999997,4544.0129999999999,4554.3059999999996,4564.1099999999997,4573.4070000000002,4582.17,4590.43,4598.2209999999995,4605.4620000000004,4612.2650000000003,4618.5410000000002,4624.3549999999996]
[17,"Medium variant","Geographic regions",null,1840,"Label/Separator",900,"…","…","…","…","…","…","…","…","…","…","…","…","…","…","…","…","…","…","…","…","…","…","…","…","…","…","…","…","…","…","…","…","…","…","…","…","…","…","…","…","…","…","…","…","…","…","…","…","…","…","…","…","…","…","…","…","…","…","…","…","…","…","…","…","…","…","…","…","…","…","…","…","…","…","…","…","…","…","…","…","…","…"]
[18,"Medium variant","Africa",null,903,"Region",1840,1308064.1950000001,1340598.1470000001,1373486.524,1406728.7439999999,1440353.4580000001,1474410.446,1508935.2180000001,1543926.362,1579364.7309999999,1615247.405,1651568.625,1688321.0989999999,1725497.933,1763089.32,1801080.8319999999,1839454.865,1878193.6850000001,1917281.4569999999,1956701.7779999999,1996434.4280000001,2036457.743,2076749.5290000001,2117291.2620000001,2158061.4929999998,2199032.0260000001,2240171.7030000002,2281452.4640000002,2322851.7379999999,2364351.1549999998,2405932.6150000002,2447579.6120000002,2489275.4580000001,2531002.1090000002,2572740.34,2614471.7590000001,2656177.5580000002,2697840.3969999999,2739441.93,2780966.8560000001,2822404.182,2863744.7489999998,2904977.3790000002,2946087.852,2987058.1880000001,3027869.102,3068499.8259999999,3108930.75,3149144.8050000002,3189126.824,3228861.2439999999,3268333.3,3307527.5980000002,3346427.676,3385016.6690000002,3423278.5159999998,3461197.2829999998,3498756.622,3535942.1749999998,3572737.4,3609121.6329999999,3645072.6639999999,3680570.7,3715600.5,3750150.66,3784210.622,3817771.91,3850825.8360000001,3883362.3659999999,3915370.844,3946842.0750000002,3977767.04,4008137.6770000001,4037946.8429999999,4067188.196,4095856.0759999999,4123945.8089999999,4151452.7629999998,4178373.213,4204703.6210000003,4230441.0060000001,4255582.852,4280127.0829999996]
[19,"Medium variant","Asia",null,935,"Region",1840,4601371.1979999999,4641054.7750000004,4679660.608,4717155.6179999998,4753500.6150000002,4788666.023,4822629.4550000001,4855356.5350000001,4886832.9680000003,4917085.932,4946161.2860000003,4974091.8609999996,5000885.4720000001,5026527.159,5051001.3459999999,5074284.665,5096362.0350000001,5117232.04,5136907.0369999995,5155403.5,5172744.3130000001,5188948.6069999998,5204026.7240000004,5217983.4210000001,5230825.9929999998,5242560.7120000003,5253195.0949999997,5262739.7520000003,5271207.0880000005,5278608.5990000004,5284956.4060000004,5290263.1179999998,5294545.4139999999,5297817.6509999996,5300088.1270000003,5301363.1869999999,5301654.5549999997,5300977.3619999997,5299356.9780000001,5296827.2719999999,5293428.0020000003,5289195.3660000004,5284156.1529999999,5278331.875,5271747.182,5264425.8629999999,5256392.1440000003,5247672.4539999999,5238293.585,5228280.835,5217659.3969999999,5206454.9249999998,5194692.6519999998,5182399.4970000004,5169604.5590000004,5156337.8959999997,5142628.5259999996,5128503.4740000004,5113987.5159999998,5099104.443,5083876.7079999996,5068327.6189999999,5052476.6969999997,5036348.983,5019979.3339999998,5003406.7149999999,4986662.7359999996,4969766.5549999997,4952727.7460000003,4935556.0310000004,4918256.5369999995,4900833.03,4883288.5250000004,4865625.3360000001,4847843.7470000004,4829941.6090000002,4811913.4390000002,4793749.7209999999,4775437.2170000002,4756958.7939999998,4738293.2630000003,4719415.5659999996]
[20,"Medium variant","Europe",null,908,"Region",1840,747182.75100000005,747636.02599999995,747747.4,747543.83700000006,747089.79200000002,746481.34299999999,745791.32499999995,745041.14899999998,744219.29799999995,743326.71100000001,742355.75600000005,741302.53,740174.69799999997,738985.06400000001,737739.46,736443.31099999999,735101.27599999995,733717.03399999999,732293.40800000005,730833.13399999996,729338.41500000004,727810.571,726251.51699999999,724661.24300000002,723036.78399999999,721373.84499999997,719668.897,717921.73699999996,716132.52500000002,714298.68299999996,712417.27800000005,710486.31299999997,708506.62699999998,706479.82700000005,704406.049,702285.76199999999,700120.68900000001,697913.48699999996,695668.92500000005,693394.36100000003,691098.65700000001,688790.46299999999,686474.84100000001,684157.67,681848.39800000004,679557.76800000004,677295.01399999997,675066.304,672876.21900000004,670730.28899999999,668633.65899999999,666590.67700000003,664605.14800000004,662679.92299999995,660817.11199999996,659017.94299999997,657283.43900000001,655614.53099999996,654011.59199999995,652473.978,651000.17799999996,649588.723,648237.98899999994,646946.24800000002,645711.05700000003,644529.66,643398.81999999995,642315.96400000004,641277.402,640277.58499999996,639309.88500000001,638368.53099999996,637448.951,636547.39,635660.89099999995,634786.52,633920.86699999997,633059.94700000004,632199.304,631333.52899999998,630456.82700000005,629562.53200000001]
[21,"Medium variant","Latin America and the Caribbean",null,904,"Region",1840,648120.95700000005,653962.33100000001,659743.61399999994,665450.78300000005,671063.34100000001,676552.50199999998,681895.96600000001,687085.8,692121.50399999996,696997.35600000003,701709.37100000004,706254.07200000004,710626.98,714825.46699999995,718850.87300000002,722706.58499999996,726395.321,729917.16799999995,733271.54099999997,736460.10800000001,739484.93400000001,742347.78500000003,745049.64,747591.56299999997,749976.35900000005,752207.34199999995,754287.01599999995,756217.17,757998.098,759628.72499999998,761107.20600000001,762432.36600000004,763604.62100000004,764625.54099999997,765496.17599999998,766217.951,766792.35600000003,767220.62199999997,767503.76599999995,767642.99800000002,767639.576,767494.78899999999,767210.46100000001,766788.57499999995,766230.97600000002,765539.70700000005,764717.01100000006,763765.397,762687.36199999996,761485.63699999999,760163.34299999999,758723.478,757169.29799999995,755504.07200000004,753731.10600000003,751853.85600000003,749876.01899999997,747801.152,745633.27300000004,743377.14199999999,741037.69299999997,738619.99800000002,736127.98699999996,733565.70700000005,730937.69900000002,728248.40099999995,725502.23600000003,722703.26,719855.201,716962.07299999997,714027.77599999995,711055.91799999995,708050.07400000002,705013.68400000001,701950.04099999997,698862.18400000001,695753.28,692626.18900000001,689483.90899999999,686329.11699999997,683164.58700000006,679992.98100000003]
[22,"Medium variant","Northern America",null,905,"Region",1840,366600.96399999998,368869.647,371107.70899999997,373318.359,375508.30900000001,377684.196,379850.99200000003,382010.59499999997,384163.81900000002,386312.48300000001,388457.78200000001,390598.86300000001,392737.62699999998,394869.42,396978.55599999998,399044.24599999998,401051.04700000002,402993.54,404874.07699999999,406694.81400000001,408460.97899999999,410177.13199999998,411844.038,413462.08500000002,415035.609,416569.92,418070.163,419539.64399999997,420981.83299999998,422402.11200000002,423806.49800000002,425200.36800000002,426586.95699999999,427969.53399999999,429353.51500000001,430744.72899999999,432147.65399999998,433564.636,434996.34299999999,436443.11599999998,437904.39,439379.23200000002,440867.29800000001,442367.38099999999,443876.14899999998,445389.29499999998,446902.75300000003,448414.66700000002,449922.69300000003,451421.65100000001,452905.50300000003,454369.36099999998,455810.87199999997,457229.01199999999,458622.13900000002,459989.087,461329.18800000002,462641.78700000001,463927.13400000002,465186.84499999997,466423.31699999998,467638.87,468834.91100000002,470012.815,471175.09100000001,472324.54100000003,473463.93199999997,474594.89799999999,475719.60600000003,476841.96,477966.44199999998,479096.63299999997,480234.67700000003,481381.55800000002,482537.38799999998,483701.97,484875.19699999999,486057.245,487248.56199999998,488450.03,489662.84,490888.54300000001]
[23,"Medium variant","Oceania",null,909,"Region",1840,42128.035000000003,42677.813000000002,43219.97,43755.226000000002,44284.913999999997,44810.877999999997,45334.504000000001,45856.296000000002,46375.995999999999,46893.408000000003,47407.873,47918.974999999999,48426.779000000002,48931.42,49432.364000000001,49928.989000000001,50420.849000000002,50907.701000000001,51389.811999999998,51867.692000000003,52342.084000000003,52813.616000000002,53282.353999999999,53748.245000000003,54211.415000000001,54671.845000000001,55129.639000000003,55584.786999999997,56037.286999999997,56486.902999999998,56933.357000000004,57376.366999999998,57815.822999999997,58251.747000000003,58684.139000000003,59113.031000000003,59538.423000000003,59960.279000000002,60378.587,60793.288999999997,61204.275000000001,61611.531999999999,62014.983,62414.682999999997,62810.697999999997,63203.286999999997,63592.533000000003,63978.453999999998,64361.031000000003,64740.025999999998,65115.207000000002,65486.468000000001,65853.736000000004,66217.009000000005,66576.160000000003,66931.212,67282.095000000001,67628.839000000007,67971.418000000005,68309.861999999994,68643.883000000002,68973.563999999998,69298.883000000002,69620.012000000002,69937.404999999999,70251.615000000005,70563.179000000004,70872.171000000002,71178.573999999993,71482.595000000001,71784.368000000002,72084.013000000006,72381.414000000004,72676.543999999994,72969.032000000007,73258.634000000005,73545.051000000007,73827.933999999994,74106.824999999997,74381.372000000003,74651.108999999997,74915.612999999998]
[24,"Medium variant","Sustainable Development Goal (SDG) regions",null,1828,"Label/Separator",900,"…","…","…","…","…","…","…","…","…","…","…","…","…","…","…","…","…","…","…","…","…","…","…","…","…","…","…","…","…","…","…","…","…","…","…","…","…","…","…","…","…","…","…","…","…","…","…","…","…","…","…","…","…","…","…","…","…","…","…","…","…","…","…","…","…","…","…","…","…","…","…","…","…","…","…","…","…","…","…","…","…","…"]
[25,"Medium variant","SUB-SAHARAN AFRICA",null,947,"SDG region",1828,1066283.4269999999,1094365.629,1122851.2520000001,1151743.5660000001,1181069.162,1210869.777,1241173.7479999999,1271981.6499999999,1303274.629,1335037.662,1367248.9040000001,1399888.452,1432945.5419999999,1466410.0079999999,1500262.5619999999,1534481.2009999999,1569045.568,1603937.9990000001,1639143.673,1674647.906,1710437.0759999999,1746496.0449999999,1782809.5179999999,1819358.5530000001,1856120.96,1893072.32,1930190.5660000001,1967456.763,2004855.9939999999,2042375.5519999999,2080004.59,2117730.9029999999,2155539.7549999999,2193413.2579999999,2231332.7209999999,2269277.8089999999,2307230.0959999999,2345171.986,2383089.2820000001,2420970.4619999998,2458805.557,2496582.7990000001,2534287.8059999999,2571902.7969999998,2609408.679,2646784.9750000001,2684012.2710000002,2721073.358,2757952.841,2794635.0929999999,2831105.1170000001,2867347.3930000002,2903345.423,2939082.0419999999,2974540.398,3009703.4380000001,3044554.0559999999,3079077.8289999999,3113258.426,3147075.0660000001,3180505.4730000002,3213530.0789999999,3246134.1150000002,3278306.8530000001,3310038.426,3341321.2119999998,3372147.5430000001,3402508.23,3432394.0260000001,3461797.969,3490713.801,3519135.8259999999,3547058.6979999999,3574477.3130000001,3601387.0389999999,3627784.1120000002,3653665.09,3679027.588,3703869.8160000001,3728190.85,3751990.523,3775269.477]
[26,"Medium variant","Eastern Africa",null,910,"Subregion",947,433904.94300000003,445405.60600000003,457053.24900000001,468849.21399999998,480807.66100000002,492950.571,505292.185,517833.05,530561.01100000006,543461.70799999998,556515.27300000004,569704.99300000002,583023.45700000005,596466.28799999994,610023.19900000002,623683.32700000005,637437.31200000003,651276.32799999998,665194.29599999997,679187.76399999997,693254.93,707392.70400000003,721595.50699999998,735855.79799999995,750167.18700000003,764522.68200000003,778915.50399999996,793339.36199999996,807788.11899999995,822255.24199999997,836733.96400000004,851217.71100000001,865700.10800000001,880174.55099999998,894634.39399999997,909072.728,923482.946,937858.22600000002,952192.25100000005,966479.08600000001,980712.93400000001,994887.723,1008997.502,1023035.5649999999,1036994.254,1050865.507,1064641.8400000001,1078316.9010000001,1091885.2450000001,1105341.2180000001,1118679.675,1131895.3319999999,1144983.108,1157937.7239999999,1170754.1329999999,1183427.3959999999,1195952.824,1208325.8640000001,1220542.4550000001,1232598.993,1244492.2039999999,1256218.8219999999,1267775.814,1279159.659,1290366.145,1301390.7009999999,1312229.584,1322880.135,1333340.9029999999,1343610.8470000001,1353689.6429999999,1363576.8659999999,1373271.99,1382774.2150000001,1392082.81,1401197.331,1410117.6869999999,1418844.4140000001,1427378.3970000001,1435721.2379999999,1443875.0330000001,1451842.5060000001]
[27,"Medium variant","Burundi",null,108,"Country",910,11530.58,11890.784,12255.433000000001,12624.84,12999.146000000001,13378.739,13763.922,14154.612999999999,14550.630999999999,14952.174000000001,15359.502,15772.822,16192.196,16617.637999999999,17049.322,17487.423999999999,17932.083999999999,18383.28,18840.991000000002,19305.201000000001,19775.883999999998,20252.940999999999,20736.264999999999,21225.651999999998,21720.887999999999,22221.664000000001,22727.674999999999,23238.701000000001,23754.431,24274.386999999999,24797.991999999998,25324.760999999999,25854.346000000001,26386.463,26920.824000000001,27457.144,27995.155999999999,28534.594000000001,29075.195,29616.612000000001,30158.487000000001,30700.526000000002,31242.503000000001,31784.291000000001,32325.831999999999,32867.118999999999,33408.144999999997,33948.728000000003,34488.750999999997,35028.302000000003,35567.555999999997,36106.548999999999,36645.249000000003,37183.402000000002,37720.652999999998,38256.474999999999,38790.493999999999,39322.423000000003,39852.133000000002,40379.533000000003,40904.571000000004,41427.152999999998,41947.055,42463.972000000002,42977.567000000003,43487.466999999997,43993.309000000001,44494.862999999998,44991.856,45483.877999999997,45970.459000000003,46451.205000000002,46925.860999999997,47394.249000000003,47856.262000000002,48311.838000000003,48760.892,49203.322999999997,49639.019,50067.834000000003,50489.582999999999,50904.082000000002,null,{"$f":"VLOOKUP(C44,countries,1,FALSE)","v":"Burundi"},"Burundi"]
[28,"Medium variant","Comoros",null,174,"Country",910,850.88599999999997,869.601,888.45100000000002,907.41899999999998,926.50099999999998,945.702,965.00300000000004,984.41700000000003,1003.928,1023.54,1043.2750000000001,1063.114,1083.0609999999999,1103.114,1123.2619999999999,1143.49,1163.8019999999999,1184.1890000000001,1204.6410000000001,1225.1600000000001,1245.722,1266.3309999999999,1286.9770000000001,1307.634,1328.3030000000001,1348.9690000000001,1369.5920000000001,1390.175,1410.704,1431.1590000000001,1451.511,1471.7370000000001,1491.825,1511.771,1531.5640000000001,1551.2149999999999,1570.7439999999999,1590.124,1609.3389999999999,1628.3989999999999,1647.2629999999999,1665.915,1684.355,1702.5719999999999,1720.5820000000001,1738.384,1755.9860000000001,1773.394,1790.58,1807.546,1824.2750000000001,1840.7449999999999,1856.943,1872.8879999999999,1888.5530000000001,1903.923,1918.99,1933.748,1948.19,1962.316,1976.134,1989.643,2002.8440000000001,2015.72,2028.27,2040.473,2052.3119999999999,2063.7910000000002,2074.895,2085.6370000000002,2096.0189999999998,2106.0450000000001,2115.7069999999999,2125.0100000000002,2133.9520000000002,2142.529,2150.748,2158.6030000000001,2166.096,2173.2379999999998,2180.0369999999998,2186.5050000000001,null,"Comoros","Comoros"]
[29,"Medium variant","Djibouti",null,262,"Country",910,973.56,988,1002.187,1016.097,1029.6949999999999,1043.019,1056.0609999999999,1068.8,1081.2429999999999,1093.373,1105.1959999999999,1116.7239999999999,1127.944,1138.8630000000001,1149.5050000000001,1159.8679999999999,1169.9780000000001,1179.845,1189.4480000000001,1198.8230000000001,1207.979,1216.9290000000001,1225.673,1234.2149999999999,1242.56,1250.712,1258.6790000000001,1266.4690000000001,1274.056,1281.422,1288.5329999999999,1295.373,1301.922,1308.1669999999999,1314.0989999999999,1319.702,1324.9349999999999,1329.826,1334.35,1338.521,1342.3409999999999,1345.8230000000001,1348.9739999999999,1351.7919999999999,1354.298,1356.4949999999999,1358.4110000000001,1360.039,1361.415,1362.5350000000001,1363.441,1364.153,1364.67,1365.02,1365.2070000000001,1365.271,1365.2139999999999,1365.0530000000001,1364.79,1364.432,1363.972,1363.42,1362.7809999999999,1362.0409999999999,1361.221,1360.2909999999999,1359.2639999999999,1358.135,1356.9079999999999,1355.5709999999999,1354.1369999999999,1352.578,1350.933,1349.174,1347.3140000000001,1345.3589999999999,1343.3,1341.146,1338.905,1336.5740000000001,1334.155,1331.655,null,"Djibouti","Djibouti"]
[30,"Medium variant","Eritrea",null,232,"Country",910,3497.1170000000002,3546.4209999999998,3601.4670000000001,3662.2440000000001,3727.66,3795.9859999999999,3865.9630000000002,3937.1970000000001,4009.9589999999998,4084.4760000000001,4161.1409999999996,4240.2129999999997,4321.6220000000003,4405.0370000000003,4490.1869999999999,4576.7219999999998,4664.3620000000001,4752.9229999999998,4842.28,4932.2820000000002,5022.7619999999997,5113.5550000000003,5204.5540000000001,5295.5839999999998,5386.45,5476.9229999999998,5566.8109999999997,5656.0069999999996,5744.4620000000004,5832.1850000000004,5919.1809999999996,6005.49,6091.0630000000001,6175.8890000000001,6260.0630000000001,6343.7089999999998,6426.91,6509.6869999999999,6592.0140000000001,6673.8720000000003,6755.2569999999996,6836.1350000000002,6916.4840000000004,6996.2520000000004,7075.3990000000003,7153.8310000000001,7231.473,7308.2839999999997,7384.192,7459.0690000000004,7532.7659999999996,7605.152,7676.174,7745.7690000000002,7813.9089999999997,7880.567,7945.7169999999996,8009.3059999999996,8071.3220000000001,8131.73,8190.558,8247.7710000000006,8303.384,8357.3700000000008,8409.74,8460.4860000000008,8509.6219999999994,8557.1409999999996,8603.0640000000003,8647.3979999999992,8690.1880000000001,8731.4650000000001,8771.2289999999994,8809.5069999999996,8846.2710000000006,8881.5390000000007,8915.2860000000001,8947.5429999999997,8978.2980000000007,9007.5730000000003,9035.3880000000008,9061.7739999999994,null,"Eritrea","Eritrea"]
[31,"Medium variant","Ethiopia",null,231,"Country",910,112078.73,114963.588,117876.227,120812.698,123771.39,126750.872,129749.455,132765.527,135796.649,138839.36499999999,141889.68400000001,144944.299,148001.18599999999,151059.25,154117.38099999999,157174.82399999999,160230.92199999999,163283.948,166332.878,169378.59599999999,172422.73199999999,175465.97899999999,178507.807,181546.16200000001,184578.31200000001,187600.772,190610.533,193605.49299999999,196584.36,199545.70199999999,202488.31200000001,205410.67499999999,208311.24900000001,211187.73199999999,214036.897,216855.054,219639.098,222386.79500000001,225096.91800000001,227768.557,230401.28,232994.399,235546.497,238055.88200000001,240521.35,242941.69500000001,245315.66699999999,247642.43299999999,249920.677,252148.149,254322.26300000001,256441.033,258503.14,260508.38200000001,262457.30300000001,264351.06800000003,266190.46000000002,267975.38500000001,269705.16700000002,271379.32500000001,272997.21799999999,274558.37199999997,276062.94,277511.04499999998,278902.25900000002,280236.08100000001,281512.34499999997,282731.08399999997,283893.09499999997,284999.89899999998,286053.49800000002,287055.56,288007.16100000002,288908.85200000001,289760.92700000003,290563.63699999999,291317.46999999997,292023.19900000002,292681.95,293295.20600000001,293864.78899999999,294392.89600000001,null,"Ethiopia","Ethiopia"]
[32,"Medium variant","Kenya",null,404,"Country",910,52573.972999999998,53771.296000000002,54985.697999999997,56215.220999999998,57458.896999999997,58714.803999999996,59981.31,61257.803,62544.014000000003,63838.877999999997,65141.205999999998,66449.653999999995,67763.328999999998,69080.725000000006,70399.092999999993,71715.176999999996,73026.288,74330.86,75628.142000000007,76917.350000000006,78198.021999999997,79469.67,80731.509000000005,81982.718999999997,83222.921000000002,84451.843999999997,85669.260999999999,86874.607000000004,88067.55,89248.337,90417.444000000003,91575.089000000007,92721.066999999995,93854.785999999993,94975.539000000004,96082.463000000003,97174.767000000007,98251.899000000005,99313.421000000002,100358.743,101387.22500000001,102398.268,103391.402,104366.03200000001,105321.306,106256.277,107170.156,108062.43700000001,108932.863,109781.223,110607.416,111411.34,112192.784,112951.56200000001,113687.74400000001,114401.473,115092.85799999999,115761.92200000001,116408.647,117032.952,117634.731,118213.961,118770.726,119305.192,119817.573,120308.11599999999,120777.086,121224.702,121651.196,122056.855,122442.015,122806.99,123152.11900000001,123477.71400000001,123784.13400000001,124071.705,124340.814,124591.845,124825.20600000001,125041.35400000001,125240.736,125423.85400000001,null,"Kenya","Kenya"]
[33,"Medium variant","Madagascar",null,450,"Country",910,26969.307000000001,27691.018,28427.328000000001,29178.077000000001,29942.607,30720.11,31509.841,32311.43,33124.449999999997,33947.959000000003,34780.862999999998,35622.321000000004,36471.752,37329.006000000001,38194.097000000002,39067.237999999998,39948.586000000003,40837.949999999997,41735.052000000003,42639.745000000003,43551.896999999997,44471.364999999998,45397.909,46331.392,47271.951000000001,48219.792000000001,49174.968999999997,50137.294000000002,51106.347000000002,52081.599999999999,53062.406999999999,54048.127999999997,55038.411999999997,56032.803,57030.612000000001,58031.035000000003,59033.379000000001,60037.129000000001,61041.883999999998,62047.286999999997,63053.048999999999,64058.826000000001,65064.224000000002,66068.827000000005,67072.27,68074.251999999993,69074.422000000006,70072.384000000005,71067.760999999999,72060.247000000003,73049.585999999996,74035.48,75017.577999999994,75995.418999999994,76968.395999999993,77935.87,78897.228000000003,79852.051000000007,80800.013000000006,81740.668000000005,82673.585999999996,83598.400999999998,84514.68,85422.116999999998,86320.592999999993,87210.093999999997,88090.483999999997,88961.544999999998,89822.873000000007,90673.986999999994,91514.308000000005,92343.354999999996,93160.764999999999,93966.292000000001,94759.754000000001,95540.983999999997,96309.808000000005,97065.972999999998,97809.197,98539.111999999994,99255.312000000005,99957.337,null,"Madagascar","Madagascar"]
[34,"Medium variant","Malawi",null,454,"Country",910,18628.746999999999,19129.952000000001,19647.684000000001,20180.839,20728.155999999999,21287.584999999999,21857.472000000002,22437.39,23027.348000000002,23626.571,24234.181,24849.439999999999,25471.786,26100.743999999999,26735.787,27376.449000000001,28022.273000000001,28672.794999999998,29327.668000000001,29986.742999999999,30649.999,31317.322,31988.496999999999,32663.163,33340.896000000001,34021.24,34703.792999999998,35388.173999999999,36074.205000000002,36761.919999999998,37451.502999999997,38142.972999999998,38836.148999999998,39530.572999999997,40225.612000000001,40920.457000000002,41614.44,42307.080999999998,42998.112000000001,43687.33,44374.61,45059.73,45742.332999999999,46421.95,47097.98,47769.745000000003,48436.669000000002,49098.317999999999,49754.351000000002,50404.332000000002,51047.811000000002,51684.411999999997,52313.77,52935.584999999999,53549.608999999997,54155.612999999998,54753.375,55342.652999999998,55923.216999999997,56494.946000000004,57057.766000000003,57611.561000000002,58156.190999999999,58691.442000000003,59217.141000000003,59733.025999999998,60238.923000000003,60734.711000000003,61220.273999999998,61695.421999999999,62159.934000000001,62613.675999999999,63056.565000000002,63488.553,63909.707000000002,64320.07,64719.712,65108.707999999999,65487.110999999997,65854.982999999993,66212.394,66559.388000000006,null,"Malawi","Malawi"]
[35,"Medium variant","Mauritius",null,480,"Country",910,1269.6679999999999,1271.768,1273.433,1274.7270000000001,1275.664,1276.279,1276.643,1276.7139999999999,1276.491,1275.971,1275.1500000000001,1274.0409999999999,1272.6300000000001,1270.9259999999999,1268.9010000000001,1266.5360000000001,1263.8209999999999,1260.729,1257.2919999999999,1253.501,1249.3599999999999,1244.8689999999999,1240.049,1234.9110000000001,1229.4749999999999,1223.78,1217.855,1211.7159999999999,1205.3789999999999,1198.8820000000001,1192.2529999999999,1185.529,1178.7190000000001,1171.847,1164.9280000000001,1157.97,1151.009,1144.0409999999999,1137.0940000000001,1130.136,1123.182,1116.2270000000001,1109.258,1102.2929999999999,1095.3119999999999,1088.3150000000001,1081.2829999999999,1074.2149999999999,1067.1220000000001,1059.989,1052.8019999999999,1045.5650000000001,1038.2819999999999,1030.9449999999999,1023.548,1016.093,1008.572,1000.991,993.35,985.66200000000003,977.94399999999996,970.20899999999995,962.452,954.69500000000005,946.94100000000003,939.19799999999998,931.49699999999996,923.82799999999997,916.202,908.64300000000003,901.16700000000003,893.77499999999998,886.5,879.33399999999995,872.29499999999996,865.38699999999994,858.61800000000005,852.01099999999997,845.56299999999999,839.28700000000003,833.19100000000003,827.30799999999999,null,"Mauritius","Mauritius"]
[36,"Medium variant","Mayotte",null,175,"Country",910,266.14999999999998,272.815,279.51499999999999,286.25900000000001,293.05900000000003,299.93099999999998,306.88299999999998,313.91699999999997,321.03300000000002,328.23,335.52699999999999,342.89,350.34500000000003,357.87299999999999,365.46899999999999,373.11200000000002,380.8,388.50099999999998,396.21800000000002,403.959,411.69299999999998,419.423,427.137,434.83600000000001,442.50200000000001,450.12799999999999,457.71600000000001,465.25700000000001,472.73700000000002,480.16699999999997,487.53399999999999,494.839,502.09500000000003,509.28100000000001,516.39700000000005,523.44399999999996,530.42600000000004,537.346,544.19600000000003,550.97299999999996,557.68100000000004,564.32299999999998,570.88699999999994,577.38699999999994,583.81100000000004,590.15300000000002,596.40800000000002,602.59,608.67700000000002,614.678,620.58500000000004,626.39400000000001,632.10599999999999,637.721,643.22299999999996,648.62900000000002,653.93700000000001,659.125,664.20799999999997,669.18200000000002,674.03099999999995,678.77200000000005,683.38,687.88099999999997,692.25099999999998,696.49800000000005,700.61199999999997,704.59400000000005,708.44899999999996,712.17100000000005,715.74699999999996,719.18499999999995,722.48299999999995,725.63800000000003,728.64499999999998,731.51300000000003,734.23500000000001,736.81399999999996,739.24900000000002,741.54399999999998,743.67899999999997,745.68799999999999,null,{"$error":"#N/A"},"Mayotte",null,{"$f":"H53","v":266.14999999999998}]
[37,"Medium variant","Mozambique",null,508,"Country",910,30366.036,31255.435000000001,32163.046999999999,33089.461000000003,34034.815000000002,34999.758000000002,35984.620000000003,36988.946000000004,38011.826999999997,39052.607000000004,40110.508000000002,41184.834000000003,42274.993999999999,43380.53,44501.125,45636.502999999997,46786.292999999998,47950.029000000002,49127.031000000003,50316.495999999999,51517.500999999997,52729.2,53950.936999999998,55182.186999999998,56422.468000000001,57671.330999999998,58928.294000000002,60192.874000000003,61464.419000000002,62742.165000000001,64025.241999999998,65312.928999999996,66604.548999999999,67899.665999999997,69198.153000000006,70500.055999999997,71805.213000000003,73113.182000000001,74423.245999999999,75734.66,77046.557000000001,78358.13,79668.774999999994,80977.900999999998,82284.688999999998,83588.236000000004,84887.763000000006,86182.494000000006,87471.861999999994,88755.554000000004,90033.34,91304.876999999993,92569.692999999999,93827.024999999994,95075.842000000004,96314.994000000006,97543.453999999998,98760.554000000004,99965.861999999994,101159.02899999999,102339.815,103507.933,104663.035,105804.591,106931.98299999999,108044.553,109141.73699999999,110223.048,111288.32799999999,112337.74,113371.656,114390.28,115393.431,116380.734,117351.572,118305.33100000001,119241.444,120159.476,121059.129,121940.23699999999,122802.806,123646.947,null,"Mozambique","Mozambique"]
[38,"Medium variant","Réunion",null,638,"Country",910,888.92700000000002,895.31200000000001,901.68600000000004,908.06100000000004,914.38499999999999,920.60900000000004,926.69899999999996,932.63900000000001,938.41300000000001,944.04100000000005,949.49900000000002,954.80600000000004,959.95399999999995,964.92200000000003,969.69,974.22500000000002,978.51099999999997,982.54,986.29200000000003,989.774,992.97900000000004,995.89400000000001,998.52099999999996,1000.878,1002.933,1004.715,1006.222,1007.453,1008.428,1009.145,1009.617,1009.876,1009.905,1009.731,1009.369,1008.8390000000001,1008.173,1007.376,1006.4450000000001,1005.418,1004.297,1003.083,1001.798,1000.455,999.06399999999996,997.62099999999998,996.14499999999998,994.62900000000002,993.09699999999998,991.53099999999995,989.947,988.32100000000003,986.68499999999995,985.01199999999994,983.31,981.56200000000001,979.75900000000001,977.90300000000002,975.98099999999999,973.99099999999999,971.92100000000005,969.76400000000001,967.51499999999999,965.17,962.71500000000003,960.13499999999999,957.428,954.59400000000005,951.63,948.51900000000001,945.279,941.90300000000002,938.38499999999999,934.73299999999995,930.95399999999995,927.04100000000005,923.00699999999995,918.86199999999997,914.59900000000005,910.24099999999999,905.78,901.24900000000002,null,"Réunion","Réunion"]
[39,"Medium variant","Rwanda",null,646,"Country",910,12626.95,12952.218000000001,13276.513000000001,13600.464,13924.508,14249.754999999999,14576.985000000001,14906.019,15236.264999999999,15567.734,15900.444,16234.387000000001,16569.539000000001,16905.822,17243.245999999999,17581.819,17921.521000000001,18262.234,18603.843000000001,18946.327000000001,19289.692999999999,19633.864000000001,19978.728999999999,20323.995999999999,20669.201000000001,21013.771000000001,21357.199000000001,21699.159,22039.448,22377.822,22714.083999999999,23048.005000000001,23379.352999999999,23707.821,24033.017,24354.528999999999,24671.982,24985.119999999999,25293.797999999999,25597.867999999999,25897.280999999999,26191.922999999999,26481.67,26766.394,27045.946,27320.240000000002,27589.166000000001,27852.638999999999,28110.613000000001,28363.07,28610.01,28851.416000000001,29087.256000000001,29317.51,29542.184000000001,29761.298999999999,29974.867999999999,30182.883999999998,30385.316999999999,30582.147000000001,30773.403999999999,30959.067999999999,31139.116000000002,31313.5,31482.142,31644.955000000002,31801.863000000001,31952.825000000001,32097.814999999999,32236.690999999999,32369.298999999999,32495.531999999999,32615.342000000001,32728.753000000001,32835.811000000002,32936.601000000002,33031.192999999999,33119.639000000003,33201.985000000001,33278.25,33348.478000000003,33412.648000000001,null,"Rwanda","Rwanda"]
[40,"Medium variant","Seychelles",null,690,"Country",910,97.739000000000004,98.346999999999994,98.908000000000001,99.426000000000002,99.912000000000006,100.361,100.78100000000001,101.176,101.551,101.89400000000001,102.21299999999999,102.53400000000001,102.83199999999999,103.116,103.384,103.63500000000001,103.871,104.07599999999999,104.27200000000001,104.44499999999999,104.599,104.72199999999999,104.836,104.90900000000001,104.959,104.988,104.983,104.959,104.89700000000001,104.82,104.699,104.565,104.399,104.208,103.999,103.773,103.53,103.26900000000001,102.995,102.71899999999999,102.42700000000001,102.13,101.83499999999999,101.536,101.22799999999999,100.923,100.61199999999999,100.309,100.00700000000001,99.695999999999998,99.396000000000001,99.093999999999994,98.790999999999997,98.486000000000004,98.19,97.885999999999996,97.587000000000003,97.286000000000001,96.986999999999995,96.677999999999997,96.37,96.063000000000002,95.744,95.426000000000002,95.105999999999995,94.778000000000006,94.436999999999998,94.091999999999999,93.748999999999995,93.387,93.022999999999996,92.65,92.269000000000005,91.875,91.472999999999999,91.06,90.638000000000005,90.197999999999993,89.747,89.284999999999997,88.811999999999998,88.332999999999998,null,"Seychelles","Seychelles"]
[41,"Medium variant","Somalia",null,706,"Country",910,15442.905000000001,15893.222,16359.504000000001,16841.794999999998,17339.396000000001,17851.262999999999,18376.513999999999,18914.827000000001,19465.987000000001,20029.453000000001,20604.650000000001,21191.037,21788.282999999999,22396.039000000001,23013.817999999999,23641.064999999999,24277.396000000001,24922.542000000001,25576.43,26239.058000000001,26910.541000000001,27590.981,28280.266,28978.404999999999,29685.866999999998,30403.277999999998,31131.085999999999,31869.268,32617.629000000001,33376.074000000001,34144.428999999996,34922.447,35709.927000000003,36506.461000000003,37311.476999999999,38124.201999999997,38943.955999999998,39770.262999999999,40602.639000000003,41440.317000000003,42282.474999999999,43128.360999999997,43977.408000000003,44829.175999999999,45683.182000000001,46539.02,47396.258000000002,48254.521000000001,49113.413999999997,49972.478000000003,50831.302000000003,51689.499000000003,52546.642999999996,53402.504999999997,54257.258000000002,55111.228999999999,55964.546999999999,56817.05,57668.254000000001,58517.53,59364.124000000003,60207.35,61046.754000000001,61882.027999999998,62712.81,63538.756000000001,64359.493000000002,65174.586000000003,65983.539000000004,66785.876000000004,67581.107999999993,68368.714999999997,69148.222999999998,69919.137000000002,70680.971999999994,71433.235000000001,72175.426999999996,72907.010999999999,73627.460000000006,74336.224000000002,75032.745999999999,75716.432000000001,null,"Somalia","Somalia"]
[42,"Medium variant","South Sudan",null,728,"Country",910,11062.112999999999,11193.725,11381.378000000001,11618.511,11891.029,12176.472,12458.305,12733.026,13005.727999999999,13278.371999999999,13555.239,13839.272000000001,14130.081,14425.423000000001,14724.361999999999,15025.647999999999,15328.329,15631.919,15936.415999999999,16241.853999999999,16548.482,16856.415000000001,17165.522000000001,17475.473000000002,17786.076000000001,18097.097000000002,18408.328000000001,18719.599999999999,19030.794999999998,19341.782999999999,19652.472000000002,19962.712,20272.396000000001,20581.351999999999,20889.481,21196.654999999999,21502.763999999999,21807.647000000001,22111.146000000001,22413.126,22713.411,23011.839,23308.28,23602.547999999999,23894.365000000002,24183.435000000001,24469.51,24752.386999999999,25031.942999999999,25308.063999999998,25580.695,25849.733,26115.062000000002,26376.51,26633.946,26887.219000000001,27136.185000000001,27380.719000000001,27620.723999999998,27856.095000000001,28086.71,28312.489000000001,28533.360000000001,28749.242999999999,28960.01,29165.472000000002,29365.53,29560.095000000001,29749.187999999998,29932.938999999998,30111.55,30285.171999999999,30453.848999999998,30617.528999999999,30776.087,30929.431,31077.46,31220.134999999998,31357.447,31489.463,31616.284,31738.063999999998,null,null,"South Sudan",{"$f":"'data countries'!B190","v":"Sudan and South Sudan"}]
[43,"Medium variant","Uganda",null,800,"Country",910,44269.593999999997,45741.006999999998,47123.531000000003,48432.862999999998,49700.76,50976.035000000003,52294.281999999999,53663.603999999999,55072.38,56513.004000000001,57971.652999999998,59437.928,60910.934999999998,62394.065999999999,63885.705000000002,65384.427000000003,66888.895999999993,68397.62,69909.285000000003,71423.081999999995,72938.426999999996,74454.612999999998,75970.661999999997,77485.437000000005,78998.001000000004,80507.41,82012.732000000004,83513.076000000001,85007.557000000001,86495.282000000007,87975.351999999999,89446.903999999995,90909,92360.797000000006,93801.691999999995,95231.145999999993,96648.520999999993,98053.099000000002,99443.88,100819.576,102178.704,103519.995,104842.545,106145.731,107428.837,108691.29300000001,109932.493,111151.712,112348.329,113521.997,114672.52899999999,115799.569,116902.697,117981.25900000001,119034.523,120061.67,121061.981,122035.04700000001,122980.47,123897.681,124786.049,125645.105,126474.527,127274.231,128044.269,128784.88499999999,129496.23299999999,130178.41899999999,130831.455,131455.45699999999,132050.54,132616.87,133154.726,133664.45199999999,134146.43400000001,134601.136,135029.024,135430.61600000001,135806.427,136157.01500000001,136482.96900000001,136784.883,null,{"$f":"VLOOKUP(C60,countries,1,FALSE)","v":"Uganda"},"Uganda"]
[44,"Medium variant","Tanzania",null,834,"Country",910,58005.463000000003,59734.218000000001,61498.436999999998,63298.55,65136.237999999998,67014.127999999997,68934.163,70896.459000000003,72900.347999999998,74946.012000000002,77033.509000000005,79162.725000000006,81333.630999999994,83545.737999999998,85797.805999999997,88088.216,90415.596000000005,92779.255999999994,95178.812999999995,97613.618000000002,100083.045,102586.52899999999,105123.205,107692.462,110294.291,112928.849,115596.02,118295.58500000001,121026.49800000001,123786.86900000001,126574.261,129386.83900000001,132223.429,135083.929,137968.93,140879.576,143816.535,146779.361,149766.97700000001,152778.52299999999,155812.94500000001,158869.15599999999,161946.429,165043.85999999999,168160.04800000001,171293.4,174442.47899999999,177605.954,180782.905,183972.68400000001,187174.83,190388.64,193613.24299999999,196847.16200000001,200088.32399999999,203334.3,206583.07199999999,209833.027,213083.30900000001,216333.54,219583.68400000001,222833.37,226081.60500000001,229326.84,232567.367,235801.24799999999,239026.70800000001,242242.66899999999,245448.06099999999,248641.155,251820.111,254983.378,258129.948,261259.25200000001,264371.01699999999,267465.14899999998,270541.55,273600.13900000002,276640.71299999999,279663.06,282666.88699999999,285651.848,null,{"$f":"VLOOKUP(C61,countries,1,FALSE)","v":"Tanzania"},"United Republic of Tanzania"]
[45,"Medium variant","Zambia",null,894,"Country",910,17861.03,18383.955000000002,18920.651000000002,19470.234,20032.812000000002,20608.359,21196.800999999999,21798.152999999998,22412.315999999999,23038.73,23676.661,24325.505000000001,24984.960999999999,25654.797999999999,26334.558000000001,27023.734,27721.896000000001,28428.667000000001,29143.813999999998,29867.201000000001,30598.792000000001,31338.483,32086.103999999999,32841.341999999997,33603.853999999999,34373.196000000004,35149.038,35931.106,36719.296000000002,37513.608999999997,38314.144,39120.917000000001,39933.822999999997,40752.620999999999,41577.048000000003,42406.781999999999,43241.550999999999,44081.040999999997,44925.127999999997,45773.853000000003,46627.341,47485.578999999998,48348.442999999999,49215.487999999998,50086.057999999997,50959.315000000002,51834.553999999996,52711.360999999997,53589.514000000003,54468.798999999999,55349.034,56230.033000000003,57111.51,57993.114999999998,58874.527000000002,59755.428,60635.51,61514.427000000003,62391.913999999997,63267.866999999998,64142.233999999997,65014.875,65885.592999999993,66753.964999999997,67619.42,68481.236999999994,69338.816000000006,70191.782999999996,71039.947,71883.133000000002,72721.240000000005,73554.125,74381.596999999994,75203.383000000002,76019.210999999996,76828.801999999996,77631.915999999997,78428.394,79218.087,80000.947,80776.966,81546.2,null,{"$f":"VLOOKUP(C62,countries,1,FALSE)","v":"Zambia"},"Zambia"]
[46,"Medium variant","Zimbabwe",null,716,"Country",910,14645.468000000001,14862.924000000001,15092.171,15331.428,15581.031000000001,15840.804,16110.482,16390.393,16680.45,16979.324000000001,17285.171999999999,17596.447,17912.396000000001,18232.657999999999,18556.501,18883.215,19212.087,19542.424999999999,19873.490000000002,20204.548999999999,20534.821,20863.618999999999,21190.348000000002,21514.440999999999,21835.278999999999,22152.223000000002,22464.718000000001,22772.388999999999,23074.920999999998,23371.912,23662.993999999999,23947.922999999999,24226.48,24498.652999999998,24764.692999999999,25024.976999999999,25279.857,25529.346000000001,25773.473999999998,26012.596000000001,26247.120999999999,26477.355,26703.401999999998,26925.198,27142.697,27355.758000000002,27564.240000000002,27768.073,27967.171999999999,28161.275000000001,28350.091,28533.327000000001,28710.831999999999,28882.447,29047.883999999998,29206.827000000001,29359.016,29504.31,29642.6,29773.688999999998,29897.382000000001,30013.542000000001,30122.132000000001,30223.19,30316.767,30402.952000000001,30481.884999999998,30553.63,30618.379000000001,30676.489000000001,30728.365000000002,30774.406999999999,30814.897000000001,30850.044000000002,30880.018,30904.984,30925.145,30940.778999999999,30952.208999999999,30959.811000000002,30964.041000000001,30965.415000000001,null,{"$f":"VLOOKUP(C63,countries,1,FALSE)","v":"Zimbabwe"},"Zimbabwe"]
[47,"Medium variant","Middle Africa",null,911,"Subregion",947,174308.432,179595.13399999999,184979.93599999999,190463.62,196049.223,201741.383,207543.44500000001,213455.092,219474.73499999999,225602.96,231840.21799999999,238186.226,244640.103,251199.36199999999,257859.68400000001,264615.65100000001,271462.28700000001,278396.09700000001,285414.47700000001,292514.21100000001,299692.223,306945.09000000003,314269.70899999997,321661.92599999998,329116.25300000003,336626.55499999999,344187.50300000003,351795.10100000002,359446.51199999999,367139.21299999999,374871.24599999998,382640.435,390443.63900000002,398277.663,406140.37300000002,414029.73100000003,421943.56,429878.94900000002,437832.712,445801.86499999999,453783.31599999999,461773.842,469770.27799999999,477769.17700000003,485766.65100000001,493758.641,501741.14500000002,509710.33799999999,517662.53899999999,525594.31099999999,533502.19799999997,541382.60900000005,549231.49100000004,557044.5,564817.44499999995,572545.94200000004,580225.44700000004,587852.78700000001,595423.554,602930.82900000003,610366.72400000005,617724.84699999995,625000.66299999994,632192.30500000005,639299.76800000004,646324.58900000004,653267.36100000003,660126.43799999997,666898.73800000001,673581.50300000003,680171.61399999994,686666.39500000002,693063.83600000001,699362.56400000001,705561.52500000002,711659.91599999997,717656.57900000003,723550.31200000003,729339.56200000003,735022.473,740596.92500000005,746060.56499999994]
[48,"Medium variant","Angola",null,24,"Country",911,31825.294999999998,32866.271999999997,33933.61,35027.343000000001,36148.631000000001,37298.623,38478.226000000002,39688.095000000001,40928.612999999998,42199.940999999999,43502.000999999997,44834.712,46198.249000000003,47592.559000000001,49016.968999999997,50470.544999999998,51952.544999999998,53462.489000000001,55000.288999999997,56566.031999999999,58159.985000000001,59782.17,61432.438000000002,63110.177000000003,64814.413,66543.948000000004,68297.8,70075.413,71876.607999999993,73701.2,75549.146999999997,77420.346000000005,79314.434999999998,81231.005000000005,83169.87,85130.85,87113.725000000006,89118.043000000005,91143.368000000002,93189.498000000007,95256.301000000007,97343.437999999995,99450.562999999995,101576.925,103721.311,105882.254,108058.519,110249.15,112453.658,114671.81600000001,116903.599,119148.75199999999,121406.595,123676.08199999999,125956.11,128245.4,130542.726,132847.44099999999,135158.71900000001,137475,139794.55600000001,142116.003,144438.15100000001,146760.68400000001,149084.20600000001,151409.87599999999,153738.323,156069.16800000001,158401.242,160733.337,163063.93799999999,165391.66099999999,167715.394,170034.23199999999,172347.38,174653.99900000001,176953.079,179243.37100000001,181523.383,183791.38699999999,186045.38200000001,188283.13800000001,null,{"$f":"VLOOKUP(C65,countries,1,FALSE)","v":"Angola"},"Angola"]
[49,"Medium variant","Cameroon",null,120,"Country",911,25876.38,26545.863000000001,27224.264999999999,27911.547999999999,28608.133000000002,29314.687999999998,30031.672999999999,30759.098999999998,31496.601999999999,32243.886999999999,33000.512999999999,33766.120999999999,34540.461000000003,35323.391000000003,36114.790999999997,36914.550999999999,37722.498,38538.396000000001,39361.902999999998,40192.582000000002,41029.921999999999,41873.466,42722.775999999998,43577.521000000001,44437.46,45302.425000000003,46172.137000000002,47046.322,47924.419000000002,48805.578999999998,49688.733,50573.042000000001,51457.947,52343.248,53228.832000000002,54114.796000000002,55001.108999999997,55887.483999999997,56773.531999999999,57658.942000000003,58543.373,59426.510999999999,60308.067999999999,61187.796999999999,62065.415999999997,62940.667000000001,63813.298000000003,64682.978999999999,65549.409,66412.379000000001,67271.718999999997,68127.164000000004,68978.441999999995,69825.150999999998,70666.798999999999,71502.812000000005,72332.686000000002,73156.116999999998,73972.763000000006,74782.115000000005,75583.606,76376.763000000006,77161.14,77936.540999999997,78703.125,79461.229000000007,80210.995999999999,80952.445000000007,81685.146999999997,82408.217999999993,83120.509000000005,83821.207999999999,84510.013999999996,85187.062000000005,85852.784,86507.731,87152.317999999999,87786.892999999996,88411.584000000003,89026.361999999994,89631.021999999997,90225.182000000001,null,"Cameroon","Cameroon"]
[50,"Medium variant","Central African Republic",null,140,"Country",911,4745.1850000000004,4829.7669999999998,4919.9809999999998,5016.6779999999999,5119.1409999999996,5226.58,5338.2640000000001,5453.6930000000002,5572.3729999999996,5693.74,5817.1980000000003,5942.2110000000002,6068.3580000000002,6195.2879999999996,6322.6409999999996,6450.1030000000001,6577.4129999999996,6704.2910000000002,6830.5550000000003,6956.1210000000001,7080.9960000000001,7205.1660000000002,7328.5169999999998,7450.9470000000001,7572.5129999999999,7693.2809999999999,7813.3,7932.5630000000001,8050.991,8168.5559999999996,8285.2260000000006,8400.9560000000001,8515.7000000000007,8629.4169999999995,8742.0740000000005,8853.5910000000003,8963.9549999999999,9073.0630000000001,9180.86,9287.2759999999998,9392.2489999999998,9495.6869999999999,9597.5239999999994,9697.6620000000003,9795.9560000000001,9892.2459999999992,9986.4030000000002,10078.337,10167.958000000001,10255.15,10339.790999999999,10421.781999999999,10501.058000000001,10577.557000000001,10651.232,10722.058000000001,10789.986999999999,10855.02,10917.132,10976.325999999999,11032.615,11086.007,11136.531999999999,11184.203,11229.124,11271.424000000001,11311.200999999999,11348.513000000001,11383.379000000001,11415.852000000001,11445.964,11473.754000000001,11499.249,11522.504999999999,11543.546,11562.411,11579.14,11593.749,11606.271000000001,11616.718000000001,11625.091,11631.402,null,"Central African Republic","Central African Republic"]
[51,"Medium variant","Chad",null,148,"Country",911,15946.876,16425.864000000001,16914.985000000001,17413.580000000002,17921.184000000001,18437.03,18960.528999999999,19491.496999999999,20030.003000000001,20575.993999999999,21129.474999999999,21690.381000000001,22258.555,22833.727999999999,23415.478999999999,24003.350999999999,24596.92,25195.866000000002,25800.003000000001,26409.246999999999,27023.571,27642.86,28266.934000000001,28895.416000000001,29527.852999999999,30163.706999999999,30802.5,31443.912,32087.706999999999,32733.649000000001,33381.593000000001,34031.311000000002,34682.512999999999,35334.872000000003,35988.158000000003,36642.112000000001,37296.466,37950.949000000001,38605.207999999999,39258.864999999998,39911.491000000002,40562.701999999997,41212.146000000001,41859.512999999999,42504.461000000003,43146.635000000002,43785.711000000003,44421.347000000002,45053.207999999999,45681.008999999998,46304.417000000001,46923.14,47536.858999999997,48145.222999999998,48747.95,49344.728000000003,49935.260999999999,50519.258999999998,51096.392999999996,51666.245999999999,52228.34,52782.269,53327.726000000002,53864.491000000002,54392.368000000002,54911.226000000002,55420.894999999997,55921.2,56411.917000000001,56892.834999999999,57363.760999999999,57824.493999999999,58274.909,58714.879000000001,59144.313000000002,59563.148999999998,59971.302000000003,60368.711000000003,60755.332000000002,61131.09,61495.932999999997,61849.817999999999,null,"Chad","Chad"]
[52,"Medium variant","Congo",null,178,"Country",911,5380.5079999999998,5518.0870000000004,5657.0129999999999,5797.8050000000003,5940.75,6086.2839999999997,6234.7240000000002,6386.1270000000004,6540.3720000000003,6697.4359999999997,6857.2809999999999,7019.8310000000001,7185.0780000000004,7352.9790000000003,7523.4009999999998,7696.19,7871.21,8048.3580000000002,8227.5759999999991,8408.768,8591.8240000000005,8776.6479999999992,8963.1759999999995,9151.3109999999997,9340.9269999999997,9531.884,9724.0820000000003,9917.4419999999991,10111.924999999999,10307.508,10504.196,10701.994000000001,10900.865,11100.779,11301.739,11503.735000000001,11706.763000000001,11910.79,12115.795,12321.861999999999,12529.069,12737.46,12947.065000000001,13157.79,13369.464,13581.868,13794.825999999999,14008.221,14222.018,14436.277,14651.092000000001,14866.501,15082.466,15298.807000000001,15515.303,15731.645,15947.582,16162.966,16377.741,16591.776000000002,16804.975999999999,17017.240000000002,17228.47,17438.561000000002,17647.437999999998,17855.030999999999,18061.287,18266.132000000001,18469.52,18671.36,18871.582999999999,19070.131000000001,19266.964,19462.074000000001,19655.455000000002,19847.121999999999,20037.076000000001,20225.353999999999,20411.964,20596.920999999998,20780.262999999999,20961.988000000001,null,"Congo","Congo"]
[53,"Medium variant","Democratic Republic of the Congo",null,180,"Country",911,86790.566999999995,89561.403000000006,92377.993000000002,95240.792000000001,98151.953999999998,101115.266,104133.564,107206.33900000001,110332.495,113513.52899999999,116751.29399999999,120046.726,123399.66899999999,126808.361,130269.906,133780.462,137336.55900000001,140936.011,144577.155,148257.486,151974.45600000001,155725.44,159508.31400000001,163320.459,167158.236,171017.60699999999,174895.139,178788.13800000001,182694.94399999999,186614.42300000001,190545.95699999999,194488.658,198440.72099999999,202400.06400000001,206365.21400000001,210334.72,214307.041,218280.47700000001,222253.136,226222.97099999999,230187.837,234145.62400000001,238094.23199999999,242031.728,245956.36499999999,249866.49299999999,253760.23499999999,257635.568,261490.08,265321.06699999998,269125.59399999998,272900.87199999997,276644.25,280353.43099999998,284026.359,287661.13299999997,291255.57799999998,294807.90000000002,298315.30200000003,301773.49599999998,305177.52799999999,308523.38699999999,311808.60499999998,315032.14500000002,318193.45500000002,321292.68800000002,324329.8,327303.74599999998,330213.321,333058.22899999999,335838.36900000001,338553.57299999997,341203.44500000001,343787.44,346304.92700000003,348755.31599999999,351138.1,353452.92,355699.59,357878.06300000002,359988.45899999997,362031.08299999998,null,"Democratic Republic of the Congo","Democratic Republic of the Congo"]
[54,"Medium variant","Equatorial Guinea",null,226,"Country",911,1355.9860000000001,1402.9849999999999,1449.896,1496.662,1543.3910000000001,1590.2080000000001,1637.212,1684.452,1731.865,1779.3130000000001,1826.578,1873.549,1920.14,1966.4369999999999,2012.65,2059.0880000000002,2105.9659999999999,2153.3429999999998,2201.145,2249.2460000000001,2297.4630000000002,2345.6559999999999,2393.7779999999998,2441.8589999999999,2489.8519999999999,2537.7049999999999,2585.3879999999999,2632.864,2680.1179999999999,2727.181,2774.105,2820.9250000000002,2867.6390000000001,2914.2049999999999,2960.5940000000001,3006.7359999999999,3052.5929999999998,3098.1460000000002,3143.3629999999998,3188.2069999999999,3232.61,3276.5450000000001,3319.973,3362.8670000000002,3405.1889999999999,3446.9059999999999,3487.973,3528.377,3568.1030000000001,3607.1489999999999,3645.5,3683.18,3720.1610000000001,3756.4340000000002,3792.0230000000001,3826.9290000000001,3861.1460000000002,3894.694,3927.5619999999999,3959.7730000000001,3991.3330000000001,4022.2530000000002,4052.5390000000002,4082.201,4111.2380000000003,4139.6570000000002,4167.4629999999997,4194.6639999999998,4221.259,4247.232,4272.5919999999996,4297.3100000000004,4321.3990000000003,4344.8549999999996,4367.6859999999997,4389.9170000000004,4411.527,4432.5450000000001,4452.9709999999995,4472.7969999999996,4492.0150000000003,4510.6369999999997,null,"Equatorial Guinea","Equatorial Guinea"]
[55,"Medium variant","Gabon",null,266,"Country",911,2172.5790000000002,2225.7339999999999,2278.8249999999998,2331.5329999999999,2383.902,2435.944,2487.6819999999998,2539.2060000000001,2590.6210000000001,2641.9569999999999,2693.2220000000002,2744.451,2795.6849999999999,2846.9560000000001,2898.3580000000002,2949.9540000000002,3001.7890000000002,3053.9050000000002,3106.2919999999999,3158.9929999999999,3212.03,3265.4110000000001,3319.1480000000001,3373.1840000000002,3427.4810000000002,3481.9549999999999,3536.547,3591.2069999999999,3645.8829999999998,3700.482,3754.9,3809.05,3862.8739999999998,3916.3249999999998,3969.3249999999998,4021.8009999999999,4073.68,4124.9340000000002,4175.5519999999997,4225.509,4274.8090000000002,4323.4530000000004,4371.4369999999999,4418.7759999999998,4465.5209999999997,4511.7569999999996,4557.527,4602.8630000000003,4647.7790000000005,4692.3119999999999,4736.5280000000002,4780.4650000000001,4824.1270000000004,4867.5280000000002,4910.66,4953.5230000000001,4996.107,5038.4009999999998,5080.3900000000003,5122.0230000000001,5163.2299999999996,5203.9690000000001,5244.1949999999997,5283.8770000000004,5322.9840000000004,5361.4830000000002,5399.3440000000001,5436.5389999999998,5473.0159999999996,5508.6909999999998,5543.4269999999997,5577.1549999999997,5609.8140000000003,5641.4179999999997,5671.9849999999997,5701.5590000000002,5730.174,5757.8519999999999,5784.6,5810.4260000000004,5835.3010000000004,5859.2209999999995,null,"Gabon","Gabon"]
[56,"Medium variant","São Tomé and Príncipe",null,678,"Country",911,215.05600000000001,219.15899999999999,223.36799999999999,227.679,232.137,236.76,241.571,246.584,251.791,257.16300000000001,262.65600000000001,268.24400000000003,273.90800000000002,279.66300000000001,285.48899999999998,291.40699999999998,297.387,303.43799999999999,309.55900000000003,315.73599999999999,321.976,328.27300000000002,334.62799999999999,341.05200000000002,347.51799999999997,354.04300000000001,360.61,367.24,373.91699999999997,380.63499999999999,387.38900000000001,394.15300000000002,400.94499999999999,407.74799999999999,414.56700000000001,421.39,428.22800000000001,435.06299999999999,441.89800000000002,448.73500000000001,455.577,462.42200000000003,469.27,476.11900000000003,482.96800000000002,489.815,496.65300000000002,503.49599999999998,510.32600000000002,517.15200000000004,523.95799999999997,530.75300000000004,537.53300000000002,544.28700000000003,551.00900000000001,557.71400000000006,564.37400000000002,570.98900000000003,577.55200000000002,584.07399999999996,590.54,596.95600000000002,603.30499999999995,609.60199999999998,615.83000000000004,621.97500000000002,628.05200000000002,634.03099999999995,639.93700000000001,645.74900000000002,651.471,657.10900000000004,662.64800000000002,668.09900000000005,673.44899999999996,678.71199999999999,683.86300000000006,688.91700000000003,693.86699999999996,698.70899999999995,703.45899999999995,708.096,null,"São Tomé and Príncipe","Sao Tome and Principe"]
[57,"Medium variant","Southern Africa",null,913,"Subregion",947,66629.895000000004,67503.634999999995,68358.02,69191.687000000005,70006.849000000002,70807.301999999996,71595.91,72372.865000000005,73137.452000000005,73890.39,74632.509000000005,75364.290999999997,76086.235000000001,76798.16,77499.392000000007,78188.807000000001,78865.535000000003,79529.235000000001,80179.971999999994,80817.741999999998,81442.717999999993,82054.885999999999,82654.044999999998,83239.731,83811.428,84368.509000000005,84910.396999999997,85436.800000000003,85947.430999999997,86441.71,86918.918000000005,87378.566999999995,87820.417000000001,88244.433999999994,88650.44,89038.385999999999,89408.331000000006,89760.244000000006,90094.366999999998,90411.115999999995,90711.08,90994.827000000005,91262.735000000001,91515.154999999999,91752.524999999994,91975.395000000004,92184.273000000001,92379.616999999998,92561.948000000004,92731.953999999998,92890.366999999998,93037.892000000007,93174.918000000005,93301.892999999996,93419.464000000007,93528.346000000005,93629.085000000006,93722.084000000003,93807.437999999995,93885.168999999994,93955.156000000003,94017.239000000001,94071.547999999995,94118.160999999993,94156.864000000001,94187.447,94209.67,94223.630999999994,94229.288,94226.551999999996,94215.244999999995,94195.308000000005,94166.797000000006,94129.909,94084.911999999997,94032.157000000007,93971.956999999995,93904.652000000002,93830.569000000003,93750.057000000001,93663.422000000006,93570.910999999993]
[58,"Medium variant","Botswana",null,72,"Country",913,2303.6970000000001,2351.627,2397.241,2441.1619999999998,2483.7539999999999,2525.7640000000001,2567.7739999999999,2609.7069999999999,2651.2979999999998,2692.5720000000001,2733.5729999999999,2774.34,2814.8890000000001,2855.1930000000002,2895.28,2935.1289999999999,2974.7179999999998,3014.0419999999999,3053.0810000000001,3091.7620000000002,3130.0210000000002,3167.7860000000001,3205.0340000000001,3241.723,3277.8090000000002,3313.2260000000001,3347.9259999999999,3381.8609999999999,3415.0230000000001,3447.4029999999998,3479,3509.819,3539.8429999999998,3569.0639999999999,3597.46,3625.0070000000001,3651.6990000000001,3677.5239999999999,3702.4960000000001,3726.6260000000002,3749.9560000000001,3772.5129999999999,3794.308,3815.346,3835.63,3855.2069999999999,3874.076,3892.2579999999998,3909.7750000000001,3926.6149999999998,3942.7939999999999,3958.3209999999999,3973.1950000000002,3987.433,4001.07,4014.125,4026.6129999999998,4038.56,4049.9679999999998,4060.817,4071.116,4080.8389999999999,4090.0050000000001,4098.6109999999999,4106.6639999999998,4114.1660000000002,4121.1130000000003,4127.5230000000001,4133.3829999999998,4138.7209999999995,4143.5349999999999,4147.8459999999995,4151.6549999999997,4154.982,4157.8320000000003,4160.2290000000003,4162.174,4163.692,4164.8,4165.5200000000004,4165.866,4165.8549999999996,null,{"$f":"VLOOKUP(C75,countries,1,FALSE)","v":"Botswana"},"Botswana"]
[59,"Medium variant","Eswatini",null,748,"Country",913,1148.1300000000001,1160.164,1172.3620000000001,1184.817,1197.5070000000001,1210.453,1223.693,1237.1279999999999,1250.837,1265.2090000000001,1280.769,1297.835,1316.5920000000001,1336.8150000000001,1358.087,1379.78,1401.422,1422.857,1444.135,1465.269,1486.3309999999999,1507.3710000000001,1528.34,1549.143,1569.7260000000001,1590.0409999999999,1610.0219999999999,1629.6510000000001,1648.9090000000001,1667.8009999999999,1686.299,1704.4280000000001,1722.165,1739.51,1756.4580000000001,1773.029,1789.2270000000001,1805.049,1820.5039999999999,1835.58,1850.2760000000001,1864.6,1878.5450000000001,1892.127,1905.327,1918.162,1930.6220000000001,1942.7170000000001,1954.4449999999999,1965.8019999999999,1976.7739999999999,1987.364,1997.5630000000001,2007.386,2016.8219999999999,2025.9,2034.6220000000001,2043.0070000000001,2051.0300000000002,2058.7060000000001,2066.0309999999999,2072.9940000000001,2079.6,2085.8649999999998,2091.777,2097.357,2102.5970000000002,2107.5259999999998,2112.114,2116.3969999999999,2120.3449999999998,2123.9749999999999,2127.29,2130.299,2133.018,2135.4609999999998,2137.65,2139.5889999999999,2141.297,2142.8000000000002,2144.098,2145.1990000000001,null,{"$f":"VLOOKUP(C76,countries,1,FALSE)","v":"Eswatini"},"Eswatini"]
[60,"Medium variant","Lesotho",null,426,"Country",913,2125.268,2142.2489999999998,2159.0790000000002,2175.6990000000001,2192.4070000000002,2209.607,2227.56,2246.375,2265.86,2285.7350000000001,2305.61,2325.1640000000002,2344.3049999999998,2363.0889999999999,2381.5810000000001,2399.915,2418.1729999999998,2436.3530000000001,2454.3910000000001,2472.2669999999998,2489.9580000000001,2507.4540000000002,2524.7330000000002,2541.7739999999999,2558.5419999999999,2574.9929999999999,2591.0749999999998,2606.7739999999999,2622.0630000000001,2636.9279999999999,2651.335,2665.27,2678.7159999999999,2691.6509999999998,2704.0569999999998,2715.93,2727.26,2738.0340000000001,2748.239,2757.8690000000001,2766.9380000000001,2775.4490000000001,2783.384,2790.75,2797.5390000000002,2803.7330000000002,2809.3249999999998,2814.3330000000001,2818.732,2822.5729999999999,2825.8820000000001,2828.6849999999999,2830.982,2832.7759999999998,2834.0920000000001,2834.951,2835.355,2835.3240000000001,2834.8560000000002,2833.9290000000001,2832.4989999999998,2830.567,2828.1170000000002,2825.16,2821.7040000000002,2817.808,2813.46,2808.7049999999999,2803.5059999999999,2797.8670000000002,2791.7779999999998,2785.2310000000002,2778.2159999999999,2770.75,2762.8359999999998,2754.4850000000001,2745.71,2736.5079999999998,2726.8879999999999,2716.835,2706.366,2695.4360000000001,null,{"$f":"VLOOKUP(C77,countries,1,FALSE)","v":"Lesotho"},"Lesotho"]
[61,"Medium variant","Namibia",null,516,"Country",913,2494.5300000000002,2540.9050000000002,2587.3440000000001,2633.8739999999998,2680.49,2727.2579999999998,2774.2,2821.2710000000002,2868.4389999999999,2915.7220000000002,2963.1880000000001,3010.8710000000001,3058.7739999999999,3106.8780000000002,3155.163,3203.6190000000001,3252.2350000000001,3300.9859999999999,3349.8580000000002,3398.828,3447.8780000000002,3496.97,3546.078,3595.1529999999998,3644.1660000000002,3693.0680000000002,3741.8310000000001,3790.4079999999999,3838.739,3886.723,3934.2159999999999,3981.13,4027.4,4073.009,4117.8999999999996,4162.0370000000003,4205.4030000000002,4247.933,4289.6409999999996,4330.5540000000001,4370.732,4410.2169999999996,4449.0230000000001,4487.1270000000004,4524.51,4561.1220000000003,4596.9669999999996,4632.0150000000003,4666.2860000000001,4699.8059999999996,4732.5929999999998,4764.6750000000002,4796.0519999999997,4826.7190000000001,4856.6790000000001,4885.9489999999996,4914.54,4942.4520000000002,4969.6629999999996,4996.1459999999997,5021.8609999999999,5046.7460000000001,5070.8019999999997,5094.0349999999999,5116.4390000000003,5138.0190000000002,5158.7929999999997,5178.76,5197.9120000000003,5216.2479999999996,5233.7669999999998,5250.4660000000003,5266.348,5281.4170000000004,5295.683,5309.15,5321.8249999999998,5333.7190000000001,5344.8270000000002,5355.1769999999997,5364.76,5373.5879999999997,null,{"$f":"VLOOKUP(C78,countries,1,FALSE)","v":"Namibia"},"Namibia"]
[62,"Medium variant","South Africa",null,710,"Country",913,58558.27,59308.69,60041.993999999999,60756.135000000002,61452.690999999999,62134.22,62802.682999999997,63458.383999999998,64101.017999999996,64731.152000000002,65349.368999999999,65956.081000000006,66551.675000000003,67136.184999999998,67709.281000000003,68270.364000000001,68818.986999999994,69354.997000000003,69878.506999999998,70389.615999999995,70888.53,71375.304999999993,71849.86,72311.937999999995,72761.184999999998,73197.180999999997,73619.543000000005,74028.106,74422.697,74802.854999999996,75168.067999999999,75517.919999999998,75852.293000000005,76171.199999999997,76474.565000000002,76762.383000000002,77034.741999999998,77291.703999999998,77533.486999999994,77760.486999999994,77973.178,78172.047999999995,78357.475000000006,78529.804999999993,78689.519,78837.171000000002,78973.282999999996,79098.293999999994,79212.710000000006,79317.157999999996,79412.323999999993,79498.846999999994,79577.126000000004,79647.578999999998,79710.801000000007,79767.421000000002,79817.955000000002,79862.740999999995,79901.921000000002,79935.570999999996,79963.649000000005,79986.092999999993,80003.024000000005,80014.490000000005,80020.28,80020.096999999994,80013.706999999995,80001.116999999998,79982.373000000007,79957.319000000003,79925.820000000007,79887.789999999994,79843.288,79792.460999999996,79735.543000000005,79672.831999999995,79604.597999999998,79531.144,79452.756999999998,79369.725000000006,79282.331999999995,79190.832999999999,null,{"$f":"VLOOKUP(C79,countries,1,FALSE)","v":"South Africa"},"South Africa"]
[63,"Medium variant","Western Africa",null,914,"Subregion",947,391440.15700000001,401861.25400000002,412460.04700000002,423239.04499999998,434205.429,445370.52100000001,456742.20799999998,468320.64299999998,480101.43099999998,492082.60399999999,504260.90399999998,516632.94199999998,529195.74699999997,541946.19799999997,554880.28700000001,567993.41599999997,581280.43400000001,594736.33900000004,608354.92799999996,622128.18900000001,636047.20499999996,650103.36499999999,664290.25699999998,678601.098,693026.09199999995,707554.57400000002,722177.16200000001,736885.5,751673.93200000003,766539.38699999999,781480.46200000006,796494.19,811575.59100000001,826716.61,841907.51399999997,857136.96400000004,872395.25899999996,887674.56700000004,902969.95200000005,918278.39500000002,933598.22699999996,948926.40700000001,964257.29099999997,979582.9,994895.24899999995,1010185.432,1025445.013,1040666.502,1055843.1089999999,1070967.6100000001,1086032.8770000001,1101031.56,1115955.906,1130797.925,1145549.3559999999,1160201.754,1174746.7,1189177.094,1203484.9790000001,1217660.075,1231691.389,1245569.1710000001,1259286.0900000001,1272836.7279999999,1286215.649,1299418.4750000001,1312440.9280000001,1325278.0260000001,1337925.0970000001,1350379.067,1362637.2990000001,1374697.257,1386556.075,1398210.625,1409657.7919999999,1420894.7080000001,1431918.8670000001,1442728.21,1453321.2879999999,1463697.0819999999,1473855.1429999999,1483795.4950000001]
[64,"Medium variant","Benin",null,204,"Country",914,11801.151,12123.2,12451.04,12784.726000000001,13124.356,13470.096,13822.071,14180.223,14544.42,14914.57,15290.578,15672.304,16059.665000000001,16452.527999999998,16850.764999999999,17254.212,17662.7,18076.113000000001,18494.286,18916.992999999999,19343.975999999999,19775.012999999999,20209.93,20648.611000000001,21090.941999999999,21536.844000000001,21986.224999999999,22438.947,22894.881000000001,23353.874,23815.786,24280.476999999999,24747.784,25217.57,25689.804,26164.493999999999,26641.580999999998,27120.960999999999,27602.404999999999,28085.578000000001,28570.080999999998,29055.574000000001,29541.8,30028.617999999999,30515.983,31003.882000000001,31492.273000000001,31980.969000000001,32469.715,32958.169000000002,33445.966999999997,33932.764000000003,34418.370000000003,34902.597999999998,35385.148999999998,35865.722999999998,36344.050000000003,36819.89,37293.129000000001,37763.802000000003,38232.019999999997,38697.828999999998,39161.114999999998,39621.673999999999,40079.283000000003,40533.720999999998,40984.745000000003,41432.199000000001,41875.908000000003,42315.656000000003,42751.207999999999,43182.34,43608.862999999998,44030.572,44447.298999999999,44858.860999999997,45265.076000000001,45665.75,46060.701999999997,46449.705000000002,46832.548999999999,47208.993000000002,null,{"$f":"VLOOKUP(C81,countries,1,FALSE)","v":"Benin"},"Benin"]
[65,"Medium variant","Burkina Faso",null,854,"Country",914,20321.378000000001,20903.273000000001,21497.096000000001,22102.838,22720.834999999999,23351.513999999999,23995.149000000001,24651.764999999999,25321.195,26003.233,26697.621999999999,27404.039000000001,28122.267,28852.044999999998,29592.937000000002,30344.460999999999,31106.138999999999,31877.597000000002,32658.44,33448.063999999998,34245.783000000003,35051.012000000002,35863.235000000001,36682.082000000002,37507.258000000002,38338.533000000003,39175.624000000003,40018.243000000002,40865.923000000003,41717.968999999997,42573.601000000002,43432.184000000001,44293.241999999998,45156.63,46022.447999999997,46890.972000000002,47762.349000000002,48636.303999999996,49512.430999999997,50390.523000000001,51270.330999999998,52151.572999999997,53033.985999999997,53917.101000000002,54800.125,55682.089,56562.186000000002,57439.783000000003,58314.584999999999,59186.440999999999,60055.345000000001,60921.158000000003,61783.563999999998,62641.957999999999,63495.474999999999,64343.110999999997,65184.036,66017.684999999998,66843.808000000005,67662.228000000003,68472.883000000002,69275.667000000001,70070.285000000003,70856.322,71633.357999999993,72400.929999999993,73158.657000000007,73906.206999999995,74643.342000000004,75369.942999999999,76085.915999999997,76791.12,77485.366999999998,78168.366999999998,78839.808000000005,79499.38,80146.804999999993,80781.804000000004,81404.184999999998,82013.797999999995,82610.502999999997,83194.225999999995,null,"Burkina Faso","Burkina Faso"]
[66,"Medium variant","Cabo Verde",null,132,"Country",914,549.93499999999995,555.98699999999997,561.89800000000002,567.678,573.32299999999998,578.85699999999997,584.32000000000005,589.673,594.92499999999995,600.08799999999997,605.13,610.05700000000002,614.87400000000002,619.56200000000001,624.13599999999997,628.58399999999995,632.89,637.077,641.11900000000003,645.02200000000005,648.779,652.37900000000002,655.82299999999998,659.11300000000006,662.24699999999996,665.21600000000001,668.00699999999995,670.64,673.10699999999997,675.38900000000001,677.49099999999999,679.39400000000001,681.11300000000006,682.63499999999999,683.96799999999996,685.11500000000001,686.06799999999998,686.851,687.447,687.85500000000002,688.077,688.11800000000005,687.97199999999998,687.65099999999995,687.14400000000001,686.48099999999999,685.64800000000002,684.67100000000005,683.53399999999999,682.24699999999996,680.82100000000003,679.24599999999998,677.54200000000003,675.70100000000002,673.75599999999997,671.69500000000005,669.55200000000002,667.32600000000002,665.03300000000002,662.66499999999996,660.25,657.78700000000003,655.29200000000003,652.76,650.19899999999996,647.62300000000005,645.03099999999995,642.41200000000003,639.79700000000003,637.17100000000005,634.524,631.87099999999998,629.20100000000002,626.50599999999997,623.79399999999998,621.06299999999999,618.30799999999999,615.52099999999996,612.70299999999997,609.83799999999997,606.91800000000001,603.94899999999996,null,"Cabo Verde","Cabo Verde"]
[67,"Medium variant","Côte d’Ivoire",null,384,"Country",914,25716.544000000002,26378.274000000001,27053.629000000001,27742.297999999999,28444.203000000001,29159.502,29888.175999999999,30629.936000000002,31384.157999999999,32149.991000000002,32926.402999999998,33712.599000000002,34508.080999999998,35312.722000000002,36126.588000000003,36949.909,37782.81,38625.103000000003,39476.446000000004,40336.667999999998,41205.584000000003,42082.991000000002,42968.650999999998,43862.322,44763.71,45672.552000000003,46588.529000000002,47511.328000000001,48440.605000000003,49376.000999999997,50317.156999999999,51263.671000000002,52215.197999999997,53171.303,54131.455999999998,55095.07,56061.605000000003,57030.625,58001.74,58974.548000000003,59948.642999999996,60923.614000000001,61899.089,62874.678999999996,63850.010999999999,64824.726000000002,65798.471999999994,66770.894,67741.646999999997,68710.441999999995,69677,70641.051000000007,71602.22,72560.164999999994,73514.599000000002,74465.264999999999,75411.845000000001,76354.03,77291.410999999993,78223.464999999997,79149.630999999994,80069.398000000001,80982.403000000006,81888.323999999993,82786.717999999993,83677.14,84559.202000000005,85432.495999999999,86296.762000000002,87152.001999999993,87998.301999999996,88835.641000000003,89663.807000000001,90482.410999999993,91290.951000000001,92088.92,92875.823000000004,93651.251000000004,94414.877999999997,95166.426000000007,95905.737999999998,96632.717999999993,null,"Côte d’Ivoire","Côte d'Ivoire"]
[68,"Medium variant","The Gambia",null,270,"Country",914,2347.7060000000001,2416.6680000000001,2486.9450000000002,2558.482,2631.2539999999999,2705.192,2780.2469999999998,2856.3969999999999,2933.569,3011.723,3090.779,3170.6849999999999,3251.395,3332.8580000000002,3415.049,3497.9639999999999,3581.5569999999998,3665.8049999999998,3750.6390000000001,3836.01,3921.8510000000001,4008.1019999999999,4094.694,4181.598,4268.7690000000002,4356.1559999999999,4443.7269999999999,4531.433,4619.2070000000003,4706.9719999999998,4794.6289999999999,4882.1009999999997,4969.3270000000002,5056.2690000000002,5142.8770000000004,5229.1139999999996,5314.95,5400.3289999999997,5485.1940000000004,5569.5320000000002,5653.3220000000001,5736.53,5819.1369999999997,5901.0860000000002,5982.29,6062.6610000000001,6142.1360000000004,6220.6369999999997,6298.1620000000003,6374.7179999999998,6450.3069999999998,6524.9629999999997,6598.6440000000002,6671.3209999999999,6742.9570000000003,6813.509,6882.9350000000004,6951.2,7018.2969999999996,7084.1840000000002,7148.835,7212.2219999999998,7274.3280000000004,7335.1120000000001,7394.5249999999996,7452.5510000000004,7509.1279999999997,7564.2569999999996,7617.9009999999998,7670.0410000000002,7720.6310000000003,7769.6440000000002,7817.0789999999997,7862.9390000000003,7907.2340000000004,7949.9840000000004,7991.23,8030.9790000000003,8069.2610000000004,8106.1009999999997,8141.5240000000003,8175.549,null,"The Gambia","Gambia"]
[69,"Medium variant","Ghana",null,288,"Country",914,30417.856,31072.94,31732.129000000001,32395.45,33062.745999999999,33733.898000000001,34408.767999999996,35087.161999999997,35768.89,36453.883999999998,37142.078999999998,37833.419000000002,38527.747000000003,39224.875,39924.665000000001,40626.940999999999,41331.550999999999,42038.252,42746.853000000003,43457.207000000002,44169.218999999997,44882.714,45597.447999999997,46313.072,47029.15,47745.14,48460.553,49175.069000000003,49888.358,50599.949000000001,51309.351999999999,52016.125,52719.928,53420.466999999997,54117.510999999999,54810.821000000004,55500.195,56185.328000000001,56865.985999999997,57542.03,58213.406000000003,58879.985999999997,59541.641000000003,60198.118999999999,60848.945,61493.582999999999,62131.608999999997,62762.631000000001,63386.614000000001,64003.858,64614.894999999997,65220.016000000003,65819.210999999996,66412.020999999993,66997.69,67575.233999999997,68143.861000000004,68703.159,69253.035000000003,69793.463000000003,70324.53,70846.244999999995,71358.509999999995,71860.991999999998,72353.134000000005,72834.294999999998,73303.982999999993,73761.907000000007,74208.116999999998,74642.951000000001,75066.948999999993,75480.463000000003,75883.585999999996,76276.150999999998,76657.847999999998,77028.328999999998,77387.365999999995,77734.827999999994,78070.722999999998,78395.22,78708.629000000001,79011.407000000007,null,"Ghana","Ghana"]
[70,"Medium variant","Guinea",null,324,"Country",914,12771.245999999999,13132.795,13497.244000000001,13865.691000000001,14238.722,14617.781000000001,15003.843000000001,15396.572,15794.992,16198.77,16607.521000000001,17020.915000000001,17438.695,17860.687000000002,18286.68,18716.463,19149.86,19586.679,20026.717000000001,20469.807000000001,20915.797999999999,21364.534,21815.815999999999,22269.469000000001,22725.447,23183.706999999999,23644.15,24106.626,24570.874,25036.657999999999,25503.725999999999,25971.806,26440.668000000001,26910.077000000001,27379.602999999999,27848.796999999999,28317.263999999999,28784.679,29250.803,29715.48,30178.566999999999,30639.913,31099.286,31556.371999999999,32010.815999999999,32462.214,32910.207999999999,33354.536999999997,33794.993000000002,34231.39,34663.550999999999,35091.313999999998,35514.476000000002,35932.841999999997,36346.224000000002,36754.455000000002,37157.355000000003,37554.839999999997,37946.777000000002,38332.928,38713.078999999998,39087.023000000001,39454.553999999996,39815.701000000001,40170.771999999997,40520.249000000003,40864.438000000002,41203.442999999999,41537.027000000002,41864.673999999999,42185.677000000003,42499.521000000001,42806.017,43105.235000000001,43397.41,43682.843000000001,43961.728000000003,44234.18,44500.163999999997,44759.495999999999,45011.881999999998,45256.868000000002,null,"Guinea","Guinea"]
[71,"Medium variant","Guinea-Bissau",null,624,"Country",914,1920.922,1968.001,2015.4939999999999,2063.3670000000002,2111.616,2160.2820000000002,2209.377,2258.89,2308.8159999999998,2359.1680000000001,2409.9589999999998,2461.2080000000001,2512.9259999999999,2565.0819999999999,2617.6709999999998,2670.654,2724.0059999999999,2777.7109999999998,2831.7530000000002,2886.1410000000001,2940.902,2996.049,3051.5650000000001,3107.3989999999999,3163.489,3219.7190000000001,3276.01,3332.3270000000002,3388.6329999999998,3444.902,3501.1039999999998,3557.201,3613.1680000000001,3668.9749999999999,3724.5709999999999,3779.8870000000002,3834.9070000000002,3889.5819999999999,3943.8870000000002,3997.8449999999998,4051.47,4104.7579999999998,4157.7139999999999,4210.2929999999997,4262.4650000000001,4314.1679999999997,4365.3599999999997,4416.0200000000004,4466.1270000000004,4515.6819999999998,4564.6989999999996,4613.1819999999998,4661.1019999999999,4708.4549999999999,4755.18,4801.24,4846.5919999999996,4891.2139999999999,4935.0820000000003,4978.1980000000003,5020.5630000000001,5062.174,5103.0150000000003,5143.0720000000001,5182.29,5220.6130000000003,5258.0039999999999,5294.4470000000001,5329.9319999999998,5364.4769999999999,5398.0649999999996,5430.7240000000002,5462.4489999999996,5493.2420000000002,5523.0940000000001,5551.9979999999996,5579.9709999999995,5607.0079999999998,5633.1350000000002,5658.3720000000003,5682.7430000000004,5706.2889999999998,null,"Guinea-Bissau","Guinea-Bissau"]
[72,"Medium variant","Liberia",null,430,"Country",914,4937.3739999999998,5057.6809999999996,5180.2030000000004,5305.1170000000002,5432.2709999999997,5561.375,5692.1949999999997,5824.7259999999997,5959.0240000000003,6094.9989999999998,6232.5429999999997,6371.5529999999999,6511.9690000000001,6653.7030000000004,6796.6890000000003,6940.8119999999999,7085.9989999999998,7232.1490000000003,7379.1949999999997,7527.085,7675.7479999999996,7825.1310000000003,7975.165,8125.7790000000005,8276.8510000000006,8428.2510000000002,8579.902,8731.6980000000003,8883.6,9035.5849999999991,9187.6389999999992,9339.7520000000004,9491.8619999999992,9643.9030000000002,9795.8250000000007,9947.5439999999999,10099.01,10250.16,10400.921,10551.251,10701.093999999999,10850.395,10999.107,11147.13,11294.358,11440.635,11585.869000000001,11729.950999999999,11872.817999999999,12014.438,12154.784,12293.825000000001,12431.496999999999,12567.725,12702.346,12835.212,12966.182000000001,13095.171,13222.129000000001,13347.064,13469.995999999999,13590.906999999999,13709.785,13826.571,13941.161,14053.447,14163.343000000001,14270.802,14375.828,14478.457,14578.766,14676.812,14772.597,14866.079,14957.189,15045.865,15132.046,15215.698,15296.795,15375.361000000001,15451.424999999999,15525.034,null,"Liberia","Liberia"]
[73,"Medium variant","Mali",null,466,"Country",914,19658.030999999999,20250.832999999999,20855.735000000001,21473.763999999999,22105.731,22752.84,23415.891,24094.925999999999,24789.314999999999,25498.422999999999,26221.38,26957.396000000001,27705.952000000001,28466.766,29239.462,30023.758000000002,30819.218000000001,31625.439999999999,32441.675999999999,33266.796000000002,34099.463000000003,34938.567999999999,35783.372000000003,36633.497000000003,37488.576000000001,38348.389000000003,39212.639999999999,40080.839999999997,40952.463000000003,41827.254999999997,42705.031000000003,43585.53,44468.409,45353.167000000001,46239.184999999998,47125.737000000001,48012.218000000001,48898.084000000003,49783.017,50666.784,51549.256999999998,52430.195,53309.137999999999,54185.53,55058.963000000003,55929.042000000001,56795.281999999999,57657.305,58514.46,59365.633000000002,60209.514999999999,61045.038,61871.408000000003,62688.307999999997,63495.724000000002,64293.860999999997,65082.743000000002,65862.043999999994,66631.054999999993,67388.933999999994,68134.714000000007,68867.542000000001,69586.948999999993,70292.642999999996,70984.135999999999,71660.967999999993,72322.759000000005,72969.184999999998,73600.028999999995,74215.259000000005,74814.914999999994,75399.038,75967.596999999994,76520.525999999998,77057.731,77579.176999999996,78084.854999999996,78574.869000000006,79049.357000000004,79508.600000000006,79952.907000000007,80382.702999999994,null,"Mali","Mali"]
[74,"Medium variant","Mauritania",null,478,"Country",914,4525.6959999999999,4649.6580000000004,4775.1189999999997,4901.9809999999998,5030.2389999999996,5159.8879999999999,5290.9489999999996,5423.3789999999999,5557.165,5692.3459999999995,5828.9979999999996,5967.1679999999997,6106.8620000000001,6248.0479999999998,6390.76,6535.0079999999998,6680.8159999999998,6828.1660000000002,6977.0379999999996,7127.3580000000002,7279.0619999999999,7432.0829999999996,7586.3689999999997,7741.8879999999999,7898.5950000000003,8056.47,8215.4709999999995,8375.5499999999993,8536.6350000000002,8698.6229999999996,8861.4030000000002,9024.8919999999998,9189.0059999999994,9353.6949999999997,9518.8880000000008,9684.5,9850.4680000000008,10016.741,10183.268,10350.02,10516.960999999999,10684.056,10851.272999999999,11018.558000000001,11185.959000000001,11353.514999999999,11521.241,11689.145,11857.156000000001,12025.166999999999,12193.055,12360.691999999999,12528.013999999999,12695.003000000001,12861.697,13028.151,13194.405000000001,13360.419,13526.12,13691.384,13856.085999999999,14020.102000000001,14183.370999999999,14345.859,14507.45,14668.062,14827.597,14985.99,15143.182000000001,15299.182000000001,15454.016,15607.691000000001,15760.168,15911.367,16061.191999999999,16209.549000000001,16356.332,16501.47,16644.907999999999,16786.581999999999,16926.481,17064.598999999998,null,"Mauritania","Mauritania"]
[75,"Medium variant","Niger",null,562,"Country",914,23310.715,24206.644,25130.816999999999,26083.66,27066.232,28079.839,29125.52,30203.733,31314.61,32458.489000000001,33635.576999999997,34846.019999999997,36089.919999999998,37367.258000000002,38677.737000000001,40020.92,41396.373,42803.807999999997,44242.946000000004,45713.337,47214.474999999999,48745.855000000003,50306.974000000002,51897.322,53516.247000000003,55163.067000000003,56837.125999999997,58537.692999999999,60264.146000000001,62015.91,63792.417000000001,65593.043000000005,67417.106,69263.763000000006,71131.900999999998,73020.320000000007,74927.895999999993,76853.653000000006,78796.834000000003,80756.884000000005,82733.354999999996,84725.659,86732.926000000007,88754.070999999996,90787.960999999996,92833.376999999993,94889.126999999993,96954.149000000005,99027.364000000001,101107.58100000001,103193.54,105283.988,107377.872,109474.08500000001,111571.323,113668.22900000001,115763.542,117856.171,119945.213,122029.844,124109.33900000001,126182.966,128249.649,130308.40700000001,132358.78700000001,134400.42199999999,136432.73199999999,138455.03700000001,140466.07500000001,142463.92600000001,144446.326,146411.36900000001,148357.81099999999,150284.929,152192.36900000001,154079.85500000001,155946.981,157793.14300000001,159617.503,161418.93299999999,163196.087,164947.33199999999,null,"Niger","Niger"]
[76,"Medium variant","Nigeria",null,566,"Country",914,200963.59899999999,206139.58900000001,211400.70800000001,216746.93400000001,222182.39600000001,227713.024,233343.11199999999,239073.29800000001,244902.212,250829.70600000001,256855.08199999999,262977.337,269195.37199999997,275507.679,281912.04599999997,288405.81699999998,294986.05099999998,301649.98200000002,308394.39299999998,315215.08600000001,322107.37800000003,329066.61499999999,336089.72700000001,343172.76199999999,350308.995,357490.777,364711.80699999997,371966.86700000003,379253.70899999997,386572.80900000001,393926.38900000002,401315,408736.95,416187.34899999999,423659.64799999999,431145.772,438639.114,446135.245,453632.5,461130.41399999999,468629.81300000002,476130.39799999999,483629.66200000001,491123.36099999998,498607.39299999998,506076.99599999998,513527.73800000001,520955.82900000003,528358.01500000001,535730.85699999996,543071.03500000003,550374.95499999996,557638.52300000004,564857.36600000004,572027.25300000003,579143.83100000001,586202.598,593199.97499999998,600131.27300000004,606989.549,613766.87800000003,620456.67500000005,627054.68799999997,633558.48100000003,639965.68000000005,646274.69999999995,652484.05500000005,658591.33400000003,664594.51699999999,670493.21100000001,676287.59600000002,681977.62300000002,687562.61899999995,693041.45600000001,698412.75100000005,703675.20700000005,708827.84499999997,713870.11800000002,718801.96900000004,723623.804,728336.55099999998,732941.59699999995,null,"Nigeria","Nigeria"]
[77,"Medium variant","Saint Helena, Ascension and Tristan da Cunha",null,654,"Country",914,6.0590000000000002,6.077,6.0960000000000001,6.1150000000000002,6.1269999999999998,6.1420000000000003,6.1459999999999999,6.1589999999999998,6.1639999999999997,6.17,6.1749999999999998,6.1749999999999998,6.1769999999999996,6.1760000000000002,6.173,6.1630000000000003,6.149,6.1340000000000003,6.1230000000000002,6.1020000000000003,6.0839999999999996,6.0590000000000002,6.0359999999999996,6.0129999999999999,5.99,5.9589999999999996,5.931,5.9020000000000001,5.8719999999999999,5.8440000000000003,5.8170000000000002,5.7830000000000004,5.7549999999999999,5.7229999999999999,5.694,5.6660000000000004,5.6369999999999996,5.6059999999999999,5.5759999999999996,5.5449999999999999,5.52,5.4870000000000001,5.4589999999999996,5.4329999999999998,5.4039999999999999,5.3769999999999998,5.3490000000000002,5.3220000000000001,5.2990000000000004,5.2640000000000002,5.2370000000000001,5.2119999999999997,5.181,5.1559999999999997,5.13,5.1040000000000001,5.0780000000000003,5.0549999999999997,5.03,4.9969999999999999,4.9749999999999996,4.9539999999999997,4.9279999999999999,4.9029999999999996,4.8760000000000003,4.8479999999999999,4.8289999999999997,4.806,4.7830000000000004,4.7549999999999999,4.7300000000000004,4.71,4.6890000000000001,4.6609999999999996,4.6379999999999999,4.6159999999999997,4.5940000000000003,4.5720000000000001,4.5490000000000004,4.53,4.5090000000000003,4.4870000000000001,null,"Saint Helena, Ascension and Tristan da Cunha","Saint Helena"]
[78,"Medium variant","Senegal",null,686,"Country",914,16296.364,16743.927,17196.300999999999,17653.670999999998,18116.524000000001,18585.813999999998,19062.240000000002,19545.82,20036.314999999999,20533.940999999999,21038.927,21551.46,22071.531999999999,22599.121999999999,23134.324000000001,23677.24,24227.859,24786.134999999998,25351.824000000001,25924.429,26503.328000000001,27087.982,27678.067999999999,28273.348999999998,28873.550999999999,29478.383000000002,30087.547999999999,30700.802,31317.823,31938.16,32561.306,33186.858999999997,33814.468000000001,34443.982000000004,35075.453000000001,35709.023999999998,36344.730000000003,36982.514000000003,37622.063999999998,38263.017,38904.904999999999,39547.373,40190.103999999999,40833.057999999997,41476.324999999997,42120.142,42764.595000000001,43409.616999999998,44054.900999999998,44699.970999999998,45344.243000000002,45987.237000000001,46628.597000000002,47268.214999999997,47906.116000000002,48542.442000000003,49177.213000000003,49810.249000000003,50441.148000000001,51069.368000000002,51694.26,52315.233999999997,52931.966,53544.226000000002,54151.688000000002,54754.055999999997,55351.065000000002,55942.447,56527.942999999999,57107.264000000003,57680.1,58246.2,58805.387999999999,59357.535000000003,59902.565999999999,60440.427000000003,60971.08,61494.489000000001,62010.644,62519.516000000003,63021.093999999997,63515.360000000001,null,"Senegal","Senegal"]
[79,"Medium variant","Sierra Leone",null,694,"Country",914,7813.2150000000001,7976.9830000000002,8141.3429999999998,8306.4359999999997,8472.2150000000001,8638.6839999999993,8805.8209999999999,8973.5329999999994,9141.7029999999995,9310.3050000000003,9479.3140000000003,9648.6910000000007,9818.3580000000002,9988.2240000000002,10158.152,10327.977999999999,10497.563,10666.773999999999,10835.531000000001,11003.79,11171.525,11338.661,11505.135,11670.779,11835.407999999999,11998.8,12160.745999999999,12321.121999999999,12479.817999999999,12636.744000000001,12791.795,12944.873,13095.877,13244.691999999999,13391.234,13535.398999999999,13677.102999999999,13816.253000000001,13952.754999999999,14086.552,14217.585999999999,14345.79,14471.102000000001,14593.421,14712.659,14828.697,14941.444,15050.83,15156.8,15259.287,15358.213,15453.532999999999,15545.2,15633.174000000001,15717.47,15798.092000000001,15875.041999999999,15948.325000000001,16017.932000000001,16083.876,16146.169,16204.828,16259.868,16311.316000000001,16359.217000000001,16403.621999999999,16444.597000000002,16482.187000000002,16516.420999999998,16547.305,16574.821,16598.990000000002,16619.853999999999,16637.495999999999,16652.023000000001,16663.538,16672.157999999999,16677.982,16681.114000000001,16681.641,16679.641,16675.192999999999,null,"Sierra Leone","Sierra Leone"]
[80,"Medium variant","Togo",null,768,"Country",914,8082.366,8278.7240000000002,8478.25,8680.8369999999995,8886.6389999999992,9095.7929999999997,9308.3829999999998,9524.4509999999991,9743.9580000000005,9966.7980000000007,10192.837,10421.915999999999,10653.955,10888.862999999999,11126.453,11366.531999999999,11608.893,11853.414000000001,12099.949000000001,12348.294,12598.25,12849.617,13102.249,13356.043,13610.867,13866.611000000001,14123.165999999999,14380.413,14638.278,14896.743,15155.819,15415.499,15675.73,15936.41,16197.448,16458.732,16720.164000000001,16981.651999999998,17243.124,17504.537,17765.839,18026.988000000001,18287.895,18548.419000000002,18808.448,19067.847000000002,19326.475999999999,19584.212,19840.919000000002,20096.465,20350.669999999998,20603.385999999999,20854.485000000001,21103.831999999999,21351.267,21596.6,21839.670999999998,22080.341,22318.507000000001,22554.126,22787.181,23017.617999999999,23245.383999999998,23470.365000000002,23692.375,23911.227999999999,24126.762999999999,24338.87,24547.532999999999,24752.793000000001,24954.757000000001,25153.5,25348.983,25541.152999999998,25729.895,25915.096000000001,26096.669000000002,26274.547999999999,26448.698,26619.159,26785.962,26949.190999999999,null,"Togo","Togo"]
[81,"Medium variant","NORTHERN AFRICA AND WESTERN ASIA",null,1833,"SDG region",1828,517105.58100000001,525869.272,534623.73,543345.15300000005,551999.04,560537.71699999995,568928.049,577159.11199999996,585244.38899999997,593205.63199999998,601075.82499999995,608880.98899999994,616625.72900000005,624308.15700000001,631940.66700000002,639536.64099999995,647105.23400000005,654651.46,662173.14199999999,669662.83299999998,677108.68599999999,684500.31400000001,691833.53599999996,699105.32900000003,706306.97,713428.58299999998,720460.946,727398.52899999998,734235.50800000003,740962.46200000006,747569.00800000003,754046.78300000005,760390.37699999998,766597.098,772665.12199999997,778594.01100000006,784383.62800000003,790032.34600000002,795539.03099999996,800904.54200000002,806130.42299999995,811218.39800000004,816169.53700000001,820985.12,825667.54200000002,830219.80500000005,834644.82900000003,838944.804,843122.21400000004,847180.82700000005,851125.05200000003,854958.64300000004,858684.01199999999,862303.51500000001,865820.51300000004,869238.61699999997,872560.84299999999,875788.87199999997,878923.70200000005,881966.57799999998,884918.2,887778.86399999994,890549.02399999998,893228.28200000001,895815.22699999996,898307.87199999997,900704.33600000001,903003.75600000005,905204.85,907304.995,909300.98699999996,911190.14500000002,912970.55700000003,914641.17799999996,916201.17700000003,917649.93799999997,918986.68500000006,920210.33499999996,921319.48499999999,922312.30700000003,923186.72499999998,923940.19099999999]
[82,"Medium variant","Northern Africa",null,912,"Subregion",1833,241780.76800000001,246232.51800000001,250635.272,254985.17800000001,259284.296,263540.66899999999,267761.46999999997,271944.712,276090.10200000001,280209.74300000002,284319.72100000002,288432.647,292552.391,296679.31199999998,300818.27,304973.66399999999,309148.11700000003,313343.45799999998,317558.10499999998,321786.522,326020.66700000002,330253.484,334481.74400000001,338702.94,342911.06599999999,347099.38299999997,351261.89799999999,355394.97499999998,359495.16100000002,363557.06300000002,367575.022,371544.55499999999,375462.35399999999,379327.08199999999,383139.038,386899.74900000001,390610.30099999998,394269.94400000002,397877.57400000002,401433.72,404939.19199999998,408394.58,411800.04599999997,415155.391,418460.42300000001,421714.85100000002,424918.47899999999,428071.44699999999,431173.98300000001,434226.15100000001,437228.18300000002,440180.20500000002,443082.25300000003,445934.62699999998,448738.11800000002,451493.84499999997,454202.56599999999,456864.34600000002,459478.97399999999,462046.56699999998,464567.19099999999,467040.62099999998,469466.38500000001,471843.80699999997,474172.196,476450.69799999997,478678.29300000001,480854.136,482976.81800000003,485044.10600000003,487053.239,489001.85100000002,490888.14500000002,492710.88299999997,494469.03700000001,496161.69699999999,497787.67300000001,499345.625,500833.80499999999,502250.15600000002,503592.32900000003,504857.60600000003]
[83,"Medium variant","Algeria",null,12,"Country",912,43053.053999999996,43851.044000000002,44616.624000000003,45350.148000000001,46053.476999999999,46731.368999999999,47387.618000000002,48022.195,48634.173999999999,49225.942000000003,49800.531000000003,50360.749000000003,50907.944000000003,51443.646000000001,51971.114000000001,52494.087,53015.567000000003,53536.962,54058.972999999998,54582.843000000001,55109.589,55639.766000000003,56173.695,56710.934000000001,57250.034,57788.898000000001,58325.557999999997,58859.116000000002,59388.438999999998,59910.91,60423.428,60923.385999999999,61409.497000000003,61880.817999999999,62335.694000000003,62772.464,63189.908000000003,63587.226000000002,63964.307999999997,64321.487000000001,64659.582000000002,64979.366999999998,65281.182999999997,65565.494000000006,65833.445000000007,66086.476999999999,66325.952999999994,66552.683999999994,66767.563999999998,66972.183000000005,67168.305999999997,67357.451000000001,67540.506999999998,67718.096999999994,67891.123999999996,68060.406000000003,68226.587,68390.154999999999,68551.317999999999,68710.021999999997,68865.975999999995,69018.892000000007,69168.639999999999,69315.062000000005,69457.751999999993,69596.191000000006,69729.853000000003,69858.319000000003,69981.051000000007,70097.172000000006,70205.638999999996,70305.542000000001,70396.145000000004,70476.914999999994,70547.373000000007,70607.089000000007,70655.554999999993,70692.182000000001,70716.264999999999,70726.990999999995,70723.45,70704.619000000006,null,{"$f":"VLOOKUP(C100,countries,1,FALSE)","v":"Algeria"},"Algeria"]
[84,"Medium variant","Egypt",null,818,"Country",912,100388.073,102334.40399999999,104258.327,106156.692,108031.548,109887.155,111727.822,113553.583,115366.626,117176.38800000001,118994.944,120831.557,122689.205,124567.651,126468.618,128392.916,130340.364,132311.73000000001,134305.28700000001,136314.902,138332.239,140350.38099999999,142366.342,144378.61199999999,146383.31400000001,148376.56899999999,150355.05300000001,152316.497,154259.16899999999,156181.12599999999,158080.717,159956.80799999999,161808.05499999999,163634.32,165437.37,167219.978,168984.27600000001,170730.44200000001,172458.07399999999,174168.04699999999,175861.277,177538.30900000001,179199.38500000001,180844.00599999999,182470.94200000001,184078.46299999999,185665.114,187230.41800000001,188774.02,190294.76300000001,191791.35,193262.75700000001,194708.30900000001,196127.823,197521.446,198889.584,200232.53899999999,201550.027,202841.74299999999,204107.932,205348.94399999999,206564.943,207755.70600000001,208920.77799999999,210059.74,211172.05600000001,212257.14199999999,213314.584,214343.72,215343.49299999999,216312.59899999999,217249.929,218154.641,219026.139,219863.951,220667.66099999999,221436.72,222170.50899999999,222868.25399999999,223529.00200000001,224151.72399999999,224735.18,null,{"$f":"VLOOKUP(C101,countries,1,FALSE)","v":"Egypt"},"Egypt"]
[85,"Medium variant","Libya",null,434,"Country",912,6777.4520000000002,6871.2920000000004,6958.5320000000002,7040.7449999999999,7118.6559999999999,7193.9120000000003,7267.7209999999995,7339.915,7409.7889999999998,7477.4129999999996,7542.9219999999996,7606.415,7667.92,7727.5020000000004,7785.3450000000003,7841.6469999999999,7896.5969999999998,7950.2370000000001,8002.53,8053.4629999999997,8102.97,8150.9930000000004,8197.4950000000008,8242.4050000000007,8285.5730000000003,8326.7810000000009,8365.8539999999994,8402.7199999999993,8437.3050000000003,8469.4150000000009,8498.8410000000003,8525.4140000000007,8549.09,8569.85,8587.73,8602.73,8614.9220000000005,8624.34,8631.0570000000007,8635.2649999999994,8637.1560000000009,8636.9419999999991,8634.7459999999992,8630.7009999999991,8625.0349999999999,8618.009,8609.8439999999991,8600.6759999999995,8590.6489999999994,8579.9130000000005,8568.6659999999993,8557.0280000000002,8545.1110000000008,8532.9789999999994,8520.67,8508.2289999999994,8495.6880000000001,8483.0560000000005,8470.3340000000007,8457.44,8444.2890000000007,8430.7559999999994,8416.83,8402.4590000000007,8387.5759999999991,8372.0879999999997,8355.9089999999997,8339.0049999999992,8321.3410000000003,8302.8529999999992,8283.4709999999995,8263.1620000000003,8241.893,8219.68,8196.5310000000009,8172.4880000000003,8147.5780000000004,8121.857,8095.3450000000003,8068.098,8040.1419999999998,8011.5339999999997,null,{"$f":"VLOOKUP(C102,countries,1,FALSE)","v":"Libya"},"Libya"]
[86,"Medium variant","Morocco",null,504,"Country",912,36471.769,36910.559999999998,37344.794999999998,37772.756000000001,38193.553,38606.154999999999,39009.798000000003,39403.945,39788.519999999997,40163.694000000003,40529.858999999997,40887.294999999998,41235.938999999998,41575.610999999997,41906.351999999999,42228.199000000001,42541.196000000004,42845.366999999998,43140.678999999996,43427.112000000001,43704.614000000001,43973.175000000003,44232.764999999999,44483.385000000002,44725.052000000003,44957.752999999997,45181.542000000001,45396.353999999999,45602.175000000003,45798.991999999998,45986.767,46165.500999999997,46335.144,46495.673000000003,46646.961000000003,46788.885000000002,46921.338000000003,47044.281999999999,47157.699000000001,47261.531000000003,47355.748,47440.300999999999,47515.218999999997,47580.540999999997,47636.231,47682.27,47718.667000000001,47745.519,47762.995000000003,47771.256999999998,47770.519,47761.000999999997,47742.911,47716.508000000002,47682.131999999998,47640.233,47591.184999999998,47535.267999999996,47472.756000000001,47404.06,47329.614000000001,47249.777999999998,47164.766000000003,47074.800999999999,46980.235999999997,46881.434000000001,46778.673000000003,46672.135999999999,46561.803,46447.5,46328.917000000001,46205.79,46078.002999999997,45945.52,45808.37,45666.546000000002,45519.999000000003,45368.565999999999,45212.025999999998,45050.034,44882.152999999998,44707.86,null,{"$f":"VLOOKUP(C103,countries,1,FALSE)","v":"Morocco"},"Morocco"]
[87,"Medium variant","Sudan",null,729,"Country",912,42813.237999999998,43849.26,44909.353000000003,45992.02,47095.241000000002,48216.43,49353.478999999999,50505.232000000004,51671.311000000002,52851.421999999999,54045.563000000002,55253.529000000002,56474.67,57708.034,58952.802000000003,60208.067000000003,61473.010999999999,62746.982000000004,64029.389000000003,65319.428,66616.3,67919.273000000001,69227.767999999996,70541.331999999995,71859.591,73182.25,74508.990999999995,75839.519,77173.479000000007,78510.554999999993,79850.417000000001,81192.823000000004,82537.312000000005,83883.752999999997,85232.578999999998,86584.467999999993,87939.766000000003,89298.375,90659.623999999996,92022.604999999996,93386.116999999998,94749.116999999998,96110.941999999995,97471.145999999993,98829.195000000007,100184.546,101536.622,102884.823,104228.367,105566.35799999999,106897.84,108221.906,109537.897,110845.21,112143.087,113430.777,114707.59299999999,115973.007,117226.577,118467.85799999999,119696.489,120912.124,122114.44899999999,123303.226,124478.33500000001,125639.777,126787.511,127921.413,129041.371,130147.435,131239.698,132318.23499999999,133383.05499999999,134434.10699999999,135471.318,136494.62,137503.97099999999,138499.34899999999,139480.78099999999,140448.351,141402.16,142342.34899999999,null,null,"Sudan","Sudan and South Sudan"]
[88,"Medium variant","Tunisia",null,788,"Country",912,11694.718999999999,11818.619000000001,11935.766,12046.656000000001,12151.566999999999,12251.380999999999,12346.742,12437.545,12523.468999999999,12604.852999999999,12682.148999999999,12755.757,12825.880999999999,12892.686,12956.627,13018.222,13077.865,13135.79,13192.097,13246.986000000001,13300.646000000001,13353.184999999999,13404.686,13455.112999999999,13504.297,13551.999,13597.966,13642.14,13684.409,13724.460999999999,13761.959000000001,13796.6,13828.26,13856.859,13882.246999999999,13904.28,13922.835999999999,13937.888000000001,13949.459000000001,13957.629000000001,13962.514999999999,13964.271000000001,13962.982,13958.744000000001,13951.803,13942.444,13930.904,13917.358,13901.955,13884.903,13866.491,13846.918,13826.333000000001,13804.874,13782.662,13759.828,13736.476000000001,13712.691000000001,13688.532999999999,13664.037,13639.215,13614.084000000001,13588.633,13562.868,13536.757,13510.22,13483.205,13455.674000000001,13427.58,13398.821,13369.254000000001,13338.788,13307.325000000001,13274.834000000001,13241.26,13206.599,13170.781000000001,13133.781999999999,13095.531999999999,13055.929,13014.886,12972.293,null,{"$f":"VLOOKUP(C105,countries,1,FALSE)","v":"Tunisia"},"Tunisia"]
[89,"Medium variant","Western Sahara",null,732,"Country",912,582.46299999999997,597.33900000000006,611.875,626.16099999999994,640.25400000000002,654.26700000000005,668.29,682.29700000000003,696.21299999999997,710.03099999999995,723.75300000000004,737.34500000000003,750.83199999999999,764.18200000000002,777.41200000000003,790.52599999999995,803.51700000000005,816.39,829.15,841.78800000000001,854.30899999999997,866.71100000000001,878.99300000000005,891.15899999999999,903.20500000000004,915.13300000000004,926.93399999999997,938.62900000000002,950.18499999999995,961.60400000000004,972.89300000000003,984.02300000000002,994.99599999999998,1005.809,1016.457,1026.944,1037.2550000000001,1047.3910000000001,1057.3530000000001,1067.1559999999999,1076.797,1086.2729999999999,1095.5889999999999,1104.759,1113.7719999999999,1122.6420000000001,1131.375,1139.9690000000001,1148.433,1156.7739999999999,1165.011,1173.144,1181.1849999999999,1189.136,1196.9970000000001,1204.788,1212.498,1220.1420000000001,1227.713,1235.2180000000001,1242.664,1250.0440000000001,1257.3610000000001,1264.6130000000001,1271.8,1278.932,1286,1293.0050000000001,1299.952,1306.8320000000001,1313.6610000000001,1320.405,1327.0830000000001,1333.6880000000001,1340.2339999999999,1346.694,1353.069,1359.38,1365.6020000000001,1371.751,1377.8140000000001,1383.771,null,{"$f":"VLOOKUP(C106,countries,1,FALSE)","v":"Western Sahara"},"Western Sahara"]
[90,"Medium variant","Western Asia",null,922,"Subregion",1833,275324.81300000002,279636.75400000002,283988.45799999998,288359.97499999998,292714.74400000001,296997.04800000001,301166.57900000003,305214.40000000002,309154.28700000001,312995.88900000002,316756.10399999999,320448.342,324073.33799999999,327628.84499999997,331122.397,334562.97700000001,337957.11700000003,341308.00199999998,344615.03700000001,347876.31099999999,351088.01899999997,354246.83,357351.79200000002,360402.38900000002,363395.90399999998,366329.2,369199.04800000001,372003.554,374740.34700000001,377405.39899999998,379993.98599999998,382502.228,384928.02299999999,387270.016,389526.08399999997,391694.26199999999,393773.32699999999,395762.402,397661.45699999999,399470.82199999999,401191.23100000003,402823.81800000003,404369.49099999998,405829.72899999999,407207.11900000001,408504.95400000003,409726.35,410873.35700000002,411948.23100000003,412954.67599999998,413896.86900000001,414778.43800000002,415601.75900000002,416368.88799999998,417082.39500000002,417744.772,418358.277,418924.52600000001,419444.728,419920.011,420351.00900000002,420738.24300000002,421082.63900000002,421384.47499999998,421643.03100000002,421857.174,422026.04300000001,422149.62,422228.03200000001,422260.88900000002,422247.74800000002,422188.29399999999,422082.41200000001,421930.29499999998,421732.14,421488.24099999998,421199.01199999999,420864.71,420485.68,420062.15100000001,419594.39600000001,419082.58500000002]
[91,"Medium variant","Armenia",null,51,"Country",922,2957.7310000000002,2963.2429999999999,2968.127,2971.9659999999999,2974.77,2976.5279999999998,2977.2759999999998,2977.0070000000001,2975.7530000000002,2973.5889999999999,2970.6390000000001,2967.0050000000001,2962.732,2957.855,2952.4569999999999,2946.6260000000002,2940.4119999999998,2933.8820000000001,2927.0520000000001,2919.9650000000001,2912.652,2905.1480000000001,2897.473,2889.607,2881.5459999999998,2873.203,2864.55,2855.5590000000002,2846.2489999999998,2836.5880000000002,2826.5450000000001,2816.1120000000001,2805.259,2794.0120000000002,2782.3339999999998,2770.2260000000001,2757.6979999999999,2744.7460000000001,2731.3580000000002,2717.556,2703.3539999999998,2688.75,2673.7809999999999,2658.4409999999998,2642.752,2626.7429999999999,2610.431,2593.8380000000002,2576.9850000000001,2559.9259999999999,2542.6770000000001,2525.2840000000001,2507.779,2490.181,2472.538,2454.8879999999999,2437.288,2419.748,2402.288,2384.9490000000001,2367.7530000000002,2350.7260000000001,2333.8829999999998,2317.2399999999998,2300.7939999999999,2284.5540000000001,2268.5259999999998,2252.712,2237.0929999999998,2221.6390000000001,2206.3159999999998,2191.0740000000001,2175.8939999999998,2160.7629999999999,2145.66,2130.5630000000001,2115.4650000000001,2100.3319999999999,2085.13,2069.81,2054.326,2038.6110000000001,null,{"$f":"VLOOKUP(C108,countries,1,FALSE)","v":"Armenia"},"Armenia"]
[92,"Medium variant","Azerbaijan",null,31,"Country",922,10047.718000000001,10139.177,10223.342000000001,10300.205,10370.5,10435.339,10495.686,10551.683000000001,10603.361999999999,10651.433999999999,10696.678,10739.732,10780.883,10820.155000000001,10857.544,10892.876,10925.974,10956.950999999999,10985.775,11012.054,11035.273999999999,11055.057000000001,11071.299000000001,11084.049000000001,11093.272999999999,11099.022000000001,11101.323,11100.194,11095.705,11088.127,11077.796,11064.999,11049.869000000001,11032.499,11013.08,10991.812,10968.871999999999,10944.383,10918.425999999999,10891.057000000001,10862.285,10832.14,10800.692999999999,10768.016,10734.093000000001,10698.87,10662.359,10624.594999999999,10585.659,10545.616,10504.51,10462.425999999999,10419.434999999999,10375.637000000001,10331.177,10286.222,10240.918,10195.343000000001,10149.609,10103.942999999999,10058.573,10013.682000000001,9969.3619999999992,9925.65,9882.56,9840.14,9798.3729999999996,9757.2880000000005,9716.8389999999999,9676.8739999999998,9637.2170000000006,9597.6919999999991,9558.1990000000005,9518.6640000000007,9479.0609999999997,9439.3289999999997,9399.4169999999995,9359.2160000000003,9318.5840000000007,9277.3410000000003,9235.2909999999993,9192.143,null,"Azerbaijan","Azerbaijan"]
[93,"Medium variant","Bahrain",null,48,"Country",922,1641.172,1701.575,1748.296,1783.9829999999999,1811.9939999999999,1837.7270000000001,1865.0809999999999,1894.876,1925.7270000000001,1956.74,1986.3440000000001,2013.4159999999999,2037.8889999999999,2060.3290000000002,2081.0259999999998,2100.4569999999999,2118.9969999999998,2136.7179999999998,2153.5720000000001,2169.6570000000002,2185.0169999999998,2199.7109999999998,2213.8150000000001,2227.3620000000001,2240.3690000000001,2252.8150000000001,2264.6640000000002,2275.951,2286.7109999999998,2296.9690000000001,2306.7399999999998,2316.049,2324.913,2333.3380000000002,2341.3409999999999,2348.9250000000002,2356.1210000000001,2362.902,2369.3119999999999,2375.3200000000002,2380.92,2386.11,2390.8679999999999,2395.2179999999998,2399.1390000000001,2402.6390000000001,2405.6959999999999,2408.3240000000001,2410.5,2412.2359999999999,2413.5100000000002,2414.337,2414.7020000000002,2414.6089999999999,2414.06,2413.0329999999999,2411.5439999999999,2409.5909999999999,2407.1759999999999,2404.306,2400.9810000000002,2397.2049999999999,2393.0050000000001,2388.37,2383.3130000000001,2377.819,2371.9140000000002,2365.5970000000002,2358.9079999999999,2351.8580000000002,2344.4679999999998,2336.7800000000002,2328.8119999999999,2320.607,2312.2060000000001,2303.6460000000002,2294.9810000000002,2286.261,2277.5329999999999,2268.85,2260.2849999999999,2251.8870000000002,null,"Bahrain","Bahrain"]
[94,"Medium variant","Cyprus","EU28",196,"Country",922,1198.575,1207.3589999999999,1215.5840000000001,1223.3869999999999,1230.7919999999999,1237.874,1244.6759999999999,1251.211,1257.4760000000001,1263.4970000000001,1269.318,1274.972,1280.4749999999999,1285.828,1291.03,1296.115,1301.056,1305.8820000000001,1310.578,1315.1379999999999,1319.5440000000001,1323.7670000000001,1327.8109999999999,1331.672,1335.3409999999999,1338.7919999999999,1342.02,1345.009,1347.77,1350.2929999999999,1352.5640000000001,1354.5909999999999,1356.364,1357.896,1359.182,1360.231,1361.059,1361.6669999999999,1362.0619999999999,1362.2639999999999,1362.28,1362.1320000000001,1361.835,1361.386,1360.8019999999999,1360.0989999999999,1359.288,1358.386,1357.386,1356.2940000000001,1355.114,1353.845,1352.48,1351.0440000000001,1349.5250000000001,1347.944,1346.2929999999999,1344.5809999999999,1342.8119999999999,1341.0039999999999,1339.171,1337.3030000000001,1335.42,1333.5409999999999,1331.66,1329.7829999999999,1327.9259999999999,1326.0920000000001,1324.2919999999999,1322.54,1320.8579999999999,1319.258,1317.748,1316.328,1315.0070000000001,1313.8009999999999,1312.691,1311.692,1310.8009999999999,1310.046,1309.4059999999999,1308.912,null,"Cyprus","Cyprus"]
[95,"Medium variant","Georgia",null,268,"Country",922,3996.7649999999999,3989.1669999999999,3979.7649999999999,3968.7379999999998,3956.3319999999999,3943.0549999999998,3929.2959999999998,3915.047,3900.2130000000002,3884.8939999999998,3869.221,3853.306,3837.2130000000002,3820.98,3804.6320000000001,3788.2240000000002,3771.7689999999998,3755.3040000000001,3738.8339999999998,3722.3609999999999,3705.86,3689.319,3672.72,3656.0830000000001,3639.3470000000002,3622.4760000000001,3605.4169999999999,3588.1669999999999,3570.7109999999998,3553.0250000000001,3535.085,3516.8649999999998,3498.37,3479.585,3460.529,3441.23,3421.6930000000002,3401.9270000000001,3381.9540000000002,3361.7950000000001,3341.4769999999999,3321.0360000000001,3300.4839999999999,3279.85,3259.1669999999999,3238.444,3217.7379999999998,3197.0520000000001,3176.402,3155.808,3135.2689999999998,3114.7930000000001,3094.3969999999999,3074.0889999999999,3053.8629999999998,3033.7339999999999,3013.7089999999998,2993.7820000000002,2973.9479999999999,2954.212,2934.5590000000002,2914.99,2895.49,2876.0509999999999,2856.6590000000001,2837.297,2817.9720000000002,2798.6529999999998,2779.3249999999998,2759.9490000000001,2740.5030000000002,2720.931,2701.2249999999999,2681.36,2661.3180000000002,2641.069,2620.6129999999998,2599.9160000000002,2578.9589999999998,2557.6990000000001,2536.1060000000002,2514.136,null,"Georgia","Georgia"]
[96,"Medium variant","Iraq",null,368,"Country",922,39309.783000000003,40222.493000000002,41179.35,42164.964999999997,43170.800999999999,44181.832000000002,45187.256000000001,46185.955999999998,47183.017,48180.891000000003,49183.531000000003,50193.756000000001,51211.821000000004,52236.451000000001,53267.078000000001,54302.758999999998,55342.595999999998,56386.300999999999,57433.49,58483.012000000002,59533.487999999998,60583.722999999998,61632.951999999997,62680.718000000001,63726.366000000002,64769.326999999997,65809.028999999995,66844.928,67876.448000000004,68903.126000000004,69924.493000000002,70940.126000000004,71949.562000000005,72952.394,73948.455000000002,74937.653999999995,75919.837,76894.703999999998,77861.831999999995,78820.725999999995,79770.815000000002,80711.619000000006,81642.786999999997,82564.021999999997,83475.016000000003,84375.481,85265.137000000002,86143.630999999994,87010.659,87866.101999999999,88709.869000000006,89541.803,90361.702999999994,91169.212,91963.81,92744.899000000005,93511.986999999994,94264.732999999993,95002.941000000006,95726.481,96435.251999999993,97129.148000000001,97808.054999999993,98471.747000000003,99119.839000000007,99751.911999999997,100367.649,100966.868,101549.63499999999,102116.234,102667.08199999999,103202.5,103722.61900000001,104227.43399999999,104716.804,105190.61599999999,105648.83199999999,106091.476,106518.731,106930.83500000001,107328.19500000001,107711.274,null,"Iraq","Iraq"]
[97,"Medium variant","Israel",null,376,"Country",922,8519.3770000000004,8655.5349999999999,8789.7739999999994,8922.8919999999998,9055.1479999999992,9187.0419999999995,9318.9660000000003,9450.9310000000005,9582.8490000000002,9714.8539999999994,9847.0959999999995,9979.6980000000003,10112.743,10246.254000000001,10380.262000000001,10514.773999999999,10649.804,10785.324000000001,10921.36,11057.947,11195.121999999999,11332.901,11471.258,11610.096,11749.271000000001,11888.61,12027.942999999999,12167.166999999999,12306.200999999999,12444.874,12583.001,12720.415999999999,12857.025,12992.744000000001,13127.433000000001,13260.950999999999,13393.207,13524.120999999999,13653.673000000001,13781.867,13908.718999999999,14034.295,14158.584999999999,14281.601000000001,14403.396000000001,14524.032999999999,14643.567999999999,14762.007,14879.414000000001,14995.923000000001,15111.715,15226.914000000001,15341.567999999999,15455.641,15569.101000000001,15681.897000000001,15793.937,15905.200999999999,16015.647999999999,16125.2,16233.754999999999,16341.215,16447.539000000001,16552.620999999999,16656.326000000001,16758.48,16858.956999999999,16957.659,17054.535,17149.512999999999,17242.548999999999,17333.596000000001,17422.603999999999,17509.539000000001,17594.36,17677.032999999999,17757.531999999999,17835.849999999999,17911.999,17985.969000000001,18057.804,18127.527999999998,null,null,"Israel","Israel and Palestine, State of"]
[98,"Medium variant","Jordan",null,400,"Country",922,10101.694,10203.134,10269.021000000001,10300.869000000001,10312.314,10320.868,10339.839,10375.029,10425.958000000001,10491.79,10569.087,10655.181,10750.912,10857.672,10973.675999999999,11096.407999999999,11223.653,11354.709000000001,11488.874,11623.901,11757.192999999999,11886.727000000001,12011.316999999999,12130.735000000001,12245.168,12355.34,12461.741,12564.207,12662.352999999999,12756.304,12846.262000000001,12932.41,13014.804,13093.51,13168.768,13240.871999999999,13310.065000000001,13376.447,13440.058999999999,13500.981,13559.249,13614.89,13667.965,13718.492,13766.411,13811.607,13853.996999999999,13893.562,13930.329,13964.262000000001,13995.352999999999,14023.584000000001,14048.949000000001,14071.437,14091.03,14107.675999999999,14121.361000000001,14132.1,14139.92,14144.832,14146.865,14146.044,14142.415000000001,14136.025,14126.966,14115.326999999999,14101.210999999999,14084.67,14065.771000000001,14044.635,14021.364,13996.065000000001,13968.808000000001,13939.665999999999,13908.683999999999,13875.88,13841.322,13805.057000000001,13767.134,13727.620999999999,13686.584999999999,13644.111000000001,null,{"$f":"VLOOKUP(C115,countries,1,FALSE)","v":"Jordan"},"Jordan"]
[99,"Medium variant","Kuwait",null,414,"Country",922,4207.0829999999996,4270.5709999999999,4328.55,4380.326,4427.8429999999998,4473.16,4517.8599999999997,4563.1480000000001,4609.3519999999999,4656.0309999999999,4702.1769999999997,4747.0810000000001,4790.7839999999997,4833.7160000000003,4875.9799999999996,4917.683,4958.8950000000004,4999.5959999999995,5039.6229999999996,5078.6859999999997,5116.4290000000001,5152.5200000000004,5186.8909999999996,5219.473,5249.9759999999997,5278.0839999999998,5303.5659999999998,5326.3639999999996,5346.5479999999998,5364.2929999999997,5379.85,5393.4719999999998,5405.2920000000004,5415.4359999999997,5424.1890000000003,5431.8559999999998,5438.7479999999996,5445.07,5451.0339999999997,5456.9350000000004,5463.152,5469.951,5477.5370000000003,5486.049,5495.7169999999996,5506.7520000000004,5519.3490000000002,5533.5929999999998,5549.4830000000002,5566.9840000000004,5586.0349999999999,5606.5159999999996,5628.3860000000004,5651.5280000000002,5675.7569999999996,5700.7730000000001,5726.357,5752.3519999999999,5778.6130000000003,5804.8680000000004,5830.8019999999997,5856.1310000000003,5880.7380000000003,5904.5309999999999,5927.3819999999996,5949.1809999999996,5969.857,5989.35,6007.6729999999998,6024.91,6041.1989999999996,6056.6809999999996,6071.4570000000003,6085.5820000000003,6099.1369999999997,6112.192,6124.8630000000003,6137.2790000000005,6149.6570000000002,6162.2089999999998,6175.2139999999999,6188.99,null,"Kuwait","Kuwait"]
[100,"Medium variant","Lebanon",null,422,"Country",922,6855.7129999999997,6825.4449999999997,6769.1459999999997,6684.8490000000002,6585.1109999999999,6485.3419999999996,6397.2479999999996,6326.6589999999997,6273.6319999999996,6236.665,6211.4960000000001,6194.8440000000001,6187.3280000000004,6190.3620000000001,6202.0450000000001,6219.8109999999997,6241.5110000000004,6266.3689999999997,6293.902,6322.5060000000003,6350.4440000000004,6376.4009999999998,6399.4470000000001,6419.42,6436.8549999999996,6452.7560000000003,6467.8720000000003,6482.1769999999997,6495.32,6507.35,6518.2879999999996,6528.1639999999998,6536.9920000000002,6544.7709999999997,6551.46,6556.9790000000003,6561.2790000000005,6564.3310000000001,6566.125,6566.5829999999996,6565.6120000000001,6563.134,6559.1419999999998,6553.6350000000002,6546.6090000000004,6538.0940000000001,6528.0959999999995,6516.6390000000001,6503.76,6489.527,6474.0249999999996,6457.3320000000003,6439.491,6420.58,6400.6890000000003,6379.9170000000004,6358.3580000000002,6336.0780000000004,6313.1379999999999,6289.616,6265.5910000000003,6241.1369999999997,6216.3140000000003,6191.165,6165.7060000000001,6139.9750000000004,6113.973,6087.75,6061.326,6034.7280000000001,6007.97,5981.0630000000001,5954.0360000000001,5926.902,5899.6679999999997,5872.3559999999998,5844.9759999999997,5817.5389999999998,5790.0349999999999,5762.482,5734.88,5707.2139999999999,null,"Lebanon","Lebanon"]
[101,"Medium variant","Oman",null,512,"Country",922,4974.9859999999999,5106.6260000000002,5223.375,5323.9930000000004,5412.491,5494.1660000000002,5573.0050000000001,5650.933,5727.6170000000002,5801.9750000000004,5871.9210000000003,5936.0810000000001,5994.5230000000001,6048.5069999999996,6099.2160000000003,6148.2039999999997,6196.6750000000002,6245.1809999999996,6293.6620000000003,6342.0550000000003,6390.0410000000002,6437.4179999999997,6484.2060000000001,6530.6779999999999,6577.1840000000002,6624.1719999999996,6671.9160000000002,6720.5060000000003,6769.7190000000001,6819.0640000000003,6867.8230000000003,6915.4440000000004,6961.7139999999999,7006.598,7049.9120000000003,7091.4989999999998,7131.2290000000003,7168.9629999999997,7204.5990000000002,7238.0330000000004,7269.1940000000004,7298.0320000000002,7324.5010000000002,7348.5990000000002,7370.3710000000001,7389.8779999999997,7407.201,7422.38,7435.473,7446.5929999999998,7455.89,7463.4930000000004,7469.482,7473.9409999999998,7476.99,7478.7430000000004,7479.3339999999998,7478.8419999999996,7477.3310000000001,7474.86,7471.4970000000003,7467.2849999999999,7462.2920000000004,7456.5810000000001,7450.1719999999996,7443.0959999999995,7435.3890000000001,7427.067,7418.1819999999998,7408.8130000000001,7399.0360000000001,7388.9179999999997,7378.4920000000002,7367.7569999999996,7356.6890000000003,7345.2640000000001,7333.4480000000003,7321.2139999999999,7308.5450000000001,7295.4449999999997,7281.89,7267.9,null,"Oman","Oman"]
[102,"Medium variant","Qatar",null,634,"Country",922,2832.067,2881.0529999999999,2930.5279999999998,2979.915,3028.9389999999999,3076.4650000000001,3121.7049999999999,3165.096,3207.4180000000001,3248.6120000000001,3288.4839999999999,3326.89,3363.93,3399.6979999999999,3434.0129999999999,3466.634,3497.3969999999999,3526.2469999999998,3553.357,3579.1210000000001,3604.0859999999998,3628.6849999999999,3653.0509999999999,3677.1320000000001,3700.8609999999999,3724.1,3746.7350000000001,3768.7719999999999,3790.2689999999998,3811.1840000000002,3831.489,3851.1309999999999,3870.1,3888.39,3905.971,3922.7939999999999,3938.84,3954.096,3968.5650000000001,3982.2530000000002,3995.152,4007.2820000000002,4018.6509999999998,4029.2750000000001,4039.1779999999999,4048.415,4057.0160000000001,4065.0079999999998,4072.4050000000002,4079.2550000000001,4085.6109999999999,4091.5050000000001,4096.95,4101.9870000000001,4106.6270000000004,4110.8919999999998,4114.8029999999999,4118.3810000000003,4121.6469999999999,4124.5959999999995,4127.2169999999996,4129.5029999999997,4131.4740000000002,4133.1620000000003,4134.6130000000003,4135.8419999999996,4136.9290000000001,4137.8999999999996,4138.7619999999997,4139.5919999999996,4140.4309999999996,4141.3360000000002,4142.3490000000002,4143.509,4144.8410000000003,4146.3869999999997,4148.1940000000004,4150.2860000000001,4152.6959999999999,4155.4849999999997,4158.7110000000002,4162.4070000000002,null,"Qatar","Qatar"]
[103,"Medium variant","Saudi Arabia",null,682,"Country",922,34268.527999999998,34813.870999999999,35340.682999999997,35844.909,36329.421999999999,36796.735999999997,37248.919000000002,37688.050999999999,38115.326000000001,38530.656999999999,38933.201999999997,39322.338000000003,39698.887000000002,40063.491999999998,40415.055999999997,40751.993000000002,41073.374000000003,41378.720000000001,41668.966,41946.262999999999,42213.574000000001,42473.031000000003,42725.273999999998,42969.73,43205.815999999999,43432.495000000003,43648.838000000003,43854.779000000002,44050.203999999998,44234.091999999997,44405.18,44562.476000000002,44705.61,44834.544000000002,44949.035000000003,45048.968999999997,45134.328000000001,45205.197999999997,45261.749000000003,45304.267,45333.112000000001,45348.767,45351.654000000002,45342.45,45322.260999999999,45292.438000000002,45254.19,45208.250999999997,45155.322,45096.572999999997,45033.269,44966.462,44896.881000000001,44825.017999999996,44751.406000000003,44676.476000000002,44600.603000000003,44524.114999999998,44447.237999999998,44370.017,44292.358,44214.171999999999,44135.489000000001,44056.231,43976.074999999997,43894.555999999997,43811.267999999996,43726.057999999997,43638.809000000001,43549.195,43456.864000000001,43361.553,43263.065999999999,43161.35,43056.373,42948.161999999997,42836.718999999997,42722.074999999997,42604.214999999997,42483.110999999997,42358.728000000003,42231.019,null,"Saudi Arabia","Saudi Arabia"]
[104,"Medium variant","State of Palestine",null,275,"Country",922,4981.42,5101.4139999999998,5222.7479999999996,5345.5410000000002,5469.3639999999996,5593.7669999999998,5718.4139999999998,5843.0060000000003,5967.4570000000003,6091.8959999999997,6216.5919999999996,6341.7280000000001,6467.2569999999996,6593.0360000000001,6719.0010000000002,6845.0379999999996,6971.0879999999997,7097.0709999999999,7222.9560000000001,7348.6610000000001,7474.1139999999996,7599.2309999999998,7723.9309999999996,7848.1670000000004,7971.8360000000002,8094.8969999999999,8217.2729999999992,8338.9060000000009,8459.6939999999995,8579.5190000000002,8698.2639999999992,8815.7739999999994,8931.9809999999998,9046.8420000000006,9160.3109999999997,9272.4060000000009,9383.1129999999994,9492.3799999999992,9600.1260000000002,9706.2900000000009,9810.7620000000006,9913.4879999999994,10014.39,10113.444,10210.584999999999,10305.832,10399.126,10490.447,10579.742,10666.938,10751.933999999999,10834.682000000001,10915.119000000001,10993.258,11069.082,11142.62,11213.894,11282.888999999999,11349.602999999999,11414.017,11476.118,11535.901,11593.365,11648.516,11701.409,11752.081,11800.583000000001,11846.932000000001,11891.119000000001,11933.146000000001,11973.005999999999,12010.694,12046.21,12079.558999999999,12110.74,12139.767,12166.632,12191.335999999999,12213.864,12234.197,12252.325999999999,12268.222,null,null,"State of Palestine","Israel and Palestine, State of"]
[105,"Medium variant","Syria",null,760,"Country",922,17070.134999999998,17500.657999999999,18275.702000000001,19364.809000000001,20638.285,21915.48,23061.973000000002,24032.614000000001,24851.115000000002,25536.694,26133.767,26676.564999999999,27160.35,27572.027999999998,27930.400000000001,28259.952000000001,28579.588,28897.51,29213.946,29529.915000000001,29843.462,30153.280999999999,30461.839,30771.858,31082.035,31389.905999999999,31693.482,31992.47,32286.941999999999,32575.588,32856.826999999997,33129.321000000004,33392.357000000004,33645.419000000002,33887.67,34118.288,34336.627,34542.281999999999,34735.042999999998,34914.724999999999,35081.228000000003,35234.588000000003,35374.858999999997,35502.328000000001,35617.627,35721.616000000002,35815.095999999998,35898.555999999997,35972.506999999998,36037.841,36095.584000000003,36146.65,36191.654000000002,36231.133000000002,36265.845000000001,36296.555,36323.923999999999,36348.392,36370.311000000002,36390.103999999999,36408.118999999999,36424.61,36439.731,36453.5,36465.832000000002,36476.584000000003,36485.506000000001,36492.504999999997,36497.267,36499.167000000001,36497.421999999999,36491.334000000003,36480.385999999999,36464.243999999999,36442.620999999999,36415.247000000003,36381.796000000002,36341.788,36294.678,36239.767,36176.239999999998,36103.167000000001,null,{"$f":"VLOOKUP(C122,countries,1,FALSE)","v":"Syria"},"Syrian Arab Republic"]
[106,"Medium variant","Turkey",null,792,"Country",922,83429.615000000005,84339.066999999995,85042.737999999998,85561.975999999995,85957.252999999997,86316.463000000003,86705.224000000002,87141.804000000004,87612.95,88114.631999999998,88633.175000000003,89157.785000000003,89692.563999999998,90242.36,90796.629000000001,91340.898000000001,91864.240999999995,92362.475999999995,92836.744000000006,93287.93,93718.885999999999,94131.585000000006,94525.087,94897.553,95249.263999999996,95580.756999999998,95892.324999999997,96183.92,96455.070999999996,96705.21,96933.57,97139.57,97323.025999999998,97483.895000000004,97621.906000000003,97736.770999999993,97828.33,97896.654999999999,97941.894,97964.175000000003,97963.683000000005,97940.717000000004,97895.585000000006,97828.84,97741.350999999995,97634.2,97508.36,97364.55,97203.384999999995,97025.691000000006,96832.38,96624.27,96402.046000000002,96166.441000000006,95918.37,95658.808000000005,95388.600999999995,95108.403999999995,94818.684999999998,94519.899000000005,94212.422000000006,93896.595000000001,93572.831000000006,93241.482000000004,92902.721000000005,92556.633000000002,92203.328999999998,91843.046000000002,91476.051999999996,91102.46,90722.370999999999,90335.918999999994,89943.271999999997,89544.663,89140.354000000007,88730.592000000004,88315.630999999994,87895.714000000007,87471.058000000005,87041.854999999996,86608.269,86170.457999999999,null,{"$f":"VLOOKUP(C123,countries,1,FALSE)","v":"Turkey"},"Turkey"]
[107,"Medium variant","United Arab Emirates",null,784,"Country",922,9770.5290000000005,9890.402,9991.0889999999999,10081.785,10165.147999999999,10245.011,10323.859,10403.144,10481.261,10553.956,10615.253000000001,10661.075999999999,10689.971,10703.909,10706.491,10702.994000000001,10697.403,10690.89,10682.833000000001,10673.300999999999,10661.887000000001,10648.314,10632.983,10616.414000000001,10598.477999999999,10578.944,10557.615,10534.522999999999,10509.785,10483.361999999999,10455.204,10425.287,10393.644,10360.325000000001,10325.272999999999,10288.385,10249.672,10209.166999999999,10167.047,10123.555,10079.001,10033.666999999999,9987.7260000000006,9941.3420000000006,9894.7900000000009,9848.3250000000007,9802.2270000000008,9756.6630000000005,9711.8310000000001,9667.9290000000001,9625.17,9583.7440000000006,9543.7759999999998,9505.3889999999992,9468.7080000000005,9433.8770000000004,9400.9770000000008,9370.0769999999993,9341.1679999999997,9314.2289999999994,9289.1650000000009,9265.9110000000001,9244.4369999999999,9224.6659999999993,9206.4330000000009,9189.5619999999999,9173.848,9159.2440000000006,9145.6560000000009,9132.93,9120.9120000000003,9109.4619999999995,9098.5149999999994,9088.0349999999999,9078.0380000000005,9068.5380000000005,9059.5619999999999,9051.1419999999998,9043.2970000000005,9036.0339999999997,9029.3610000000008,9023.2829999999994,null,{"$f":"VLOOKUP(C124,countries,1,FALSE)","v":"United Arab Emirates"},"United Arab Emirates"]
[108,"Medium variant","Yemen",null,887,"Country",922,29161.921999999999,29825.964,30490.639999999999,31154.866999999998,31818.237000000001,32480.192999999999,33140.296000000002,33798.205000000002,34453.803999999996,35107.082000000002,35758.123,36406.887999999999,37053.076000000001,37696.213000000003,38335.860999999997,38971.531000000003,39602.684000000001,40228.870999999999,40849.512999999999,41463.838000000003,42070.946000000004,42670.010999999999,43260.438000000002,43841.642,44412.917999999998,44973.504000000001,45522.739000000001,46059.955000000002,46584.646999999997,47096.430999999997,47595.004999999997,48080.021000000001,48551.141000000003,49007.817999999999,49449.235000000001,49874.413999999997,50282.608999999997,50673.362999999998,51046.599000000002,51402.44,51741.235999999997,52063.22,52368.447999999997,52656.741000000002,52927.853999999999,53181.487999999998,53417.474999999999,53635.875,53836.989000000001,54021.178,54188.953999999998,54340.798000000003,54476.961000000003,54597.762999999999,54703.817000000003,54795.817999999999,54874.389000000003,54939.917000000001,54992.652000000002,55032.877999999997,55060.811000000002,55076.684999999998,55080.798999999999,55073.396000000001,55054.571000000004,55024.351999999999,54982.832999999999,54930.228999999999,54866.788,54792.705999999998,54708.18,54613.438000000002,54508.72,54394.332999999999,54270.578999999998,54137.798999999999,53996.338000000003,53846.536999999997,53688.764000000003,53523.394999999997,53350.779000000002,53171.322999999997,null,{"$f":"VLOOKUP(C125,countries,1,FALSE)","v":"Yemen"},"Yemen"]
[109,"Medium variant","CENTRAL AND SOUTHERN ASIA",null,921,"SDG region",1828,1991423.4809999999,2014708.5619999999,2037699.037,2060388.8389999999,2082736.7320000001,2104698.3369999998,2126236.8670000001,2147322.486,2167939.4810000001,2188084.0959999999,2207761.1,2226970.139,2245701.9509999999,2263936.8050000002,2281652.2999999998,2298822.2179999999,2315426.247,2331454.0129999998,2346903.7400000002,2361775.3790000002,2376072.9950000001,2389800.3569999998,2402955.3229999999,2415537.2579999999,2427553.9870000002,2439016.3480000002,2449932.9479999999,2460305.4190000002,2470134.176,2479425.08,2488184.6230000001,2496416.83,2504125.4610000001,2511308.1850000001,2517955.2390000001,2524052.625,2529590.2379999999,2534565.7590000001,2538982.193,2542841.4219999998,2546147.0410000002,2548902.477,2551112.5419999999,2552779.4350000001,2553901.63,2554476.3050000002,2554504.5720000002,2553993.2620000001,2552954.9879999999,2551405.0060000001,2549361.9249999998,2546844.284,2543865.3220000002,2540440.3829999999,2536593.4010000001,2532351.2919999999,2527738.338,2522773.3629999999,2517471.4,2511848.162,2505918.1880000001,2499696.3050000002,2493195.9369999999,2486433.1880000001,2479428.1290000002,2472202.4670000002,2464774.1549999998,2457158.0249999999,2449361.89,2441387.7319999998,2433233.202,2424898.73,2416389.8360000001,2407716.2220000001,2398889.8790000002,2389922.8760000002,2380825.341,2371604.5550000002,2362264.7289999998,2352806.9,2343228.8709999998,2333525.37]
[110,"Medium variant","Central Asia",null,5500,"Subregion",921,73212.100000000006,74338.95,75426.631999999998,76474.804999999993,77485.72,78464.566999999995,79416.023000000001,80339.936000000002,81236.962,82114.176999999996,82980.588000000003,83843.304999999993,84704.724000000002,85565.239000000001,86427.157999999996,87292.430999999997,88162.014999999999,89036.914000000004,89916.206999999995,90796.403000000006,91672.551999999996,92540.33,93398.451000000001,94245.782000000007,95078.161999999997,95890.853000000003,96680.164999999994,97444.252999999997,98182.941000000006,98896.239000000001,99585.042000000001,100250.16899999999,100891.376,101508.88400000001,102104.709,102681.52,103241.52499999999,103785.454,104313.694,104827.421,105327.889,105815.97100000001,106292.444,106757.372,107210.106,107649.58100000001,108074.942,108486.28200000001,108883.764,109267.091,109635.80899999999,109989.66499999999,110328.639,110653.026,110963.288,111260.06600000001,111543.95699999999,111815.101,112073.833,112321.01700000001,112557.68799999999,112784.66499999999,113002.16,113210.136,113408.68399999999,113597.819,113777.393,113947.342,114107.325,114256.44100000001,114393.519,114517.534,114627.791,114723.856,114805.423,114872.158,114923.61900000001,114959.18700000001,114978.04,114979.143,114961.27499999999,114922.985]
[111,"Medium variant","Kazakhstan",null,398,"Country",5500,18551.427,18776.706999999999,18994.962,19205.043000000001,19407.006000000001,19601.101999999999,19787.745999999999,19967.001,20139.594000000001,20307.511999999999,20473.311000000002,20639.021000000001,20805.366999999998,20972.505000000001,21140.981,21311.222000000002,21483.45,21657.966,21834.687999999998,22012.964,22191.821,22370.404999999999,22548.421999999999,22725.588,22901.032999999999,23073.768,23242.947,23408.188999999998,23569.276000000002,23725.809000000001,23877.475999999999,24024.044999999998,24165.345000000001,24301.409,24432.550999999999,24559.241999999998,24681.915000000001,24800.681,24915.705000000002,25027.473000000002,25136.561000000002,25243.437000000002,25348.361000000001,25451.442999999999,25552.85,25652.706999999999,25751.109,25848.18,25943.97,26038.446,26131.484,26223.008999999998,26313.004000000001,26401.464,26488.28,26573.285,26656.362000000001,26737.420999999998,26816.455999999998,26893.496999999999,26968.600999999999,27041.812999999998,27113.065999999999,27182.244999999999,27249.305,27314.149000000001,27376.7,27436.841,27494.428,27549.280999999999,27601.179,27649.920999999998,27695.293000000001,27737.120999999999,27775.21,27809.359,27839.35,27864.95,27885.893,27901.896000000001,27912.646000000001,27917.822,null,{"$f":"VLOOKUP(C128,countries,1,FALSE)","v":"Kazakhstan"},"Kazakhstan"]
[112,"Medium variant","Kyrgyzstan",null,417,"Country",5500,6415.85,6524.1949999999997,6628.3559999999998,6728.2709999999997,6824.5140000000001,6918.1030000000001,7009.8329999999996,7099.8119999999999,7187.9679999999998,7274.7380000000003,7360.6509999999998,7446.1040000000003,7531.3130000000001,7616.3860000000004,7701.5420000000004,7786.9870000000001,7872.8410000000003,7959.2079999999996,8046.0450000000001,8133.1580000000004,8220.2729999999992,8307.134,8393.65,8479.7279999999992,8565.1239999999998,8649.5470000000005,8732.7459999999992,8814.5689999999995,8894.9449999999997,8973.73,9050.8140000000003,9126.1080000000002,9199.5130000000008,9271.02,9340.5879999999997,9408.2430000000004,9473.9940000000006,9537.8320000000003,9599.7909999999993,9659.9490000000005,9718.4459999999999,9775.3649999999998,9830.7659999999996,9884.69,9937.2189999999991,9988.4500000000007,10038.468000000001,10087.323,10135.035,10181.647000000001,10227.196,10271.692999999999,10315.145,10357.567999999999,10398.950000000001,10439.271000000001,10478.521000000001,10516.675999999999,10553.708000000001,10589.543,10624.094999999999,10657.278,10689.050999999999,10719.397999999999,10748.227000000001,10775.487999999999,10801.079,10824.996999999999,10847.213,10867.727000000001,10886.550999999999,10903.683000000001,10919.146000000001,10932.924999999999,10945.037,10955.477999999999,10964.281000000001,10971.464,10977.065000000001,10981.130999999999,10983.737999999999,10984.936,null,{"$f":"VLOOKUP(C129,countries,1,FALSE)","v":"Kyrgyzstan"},"Kyrgyzstan"]
[113,"Medium variant","Tajikistan",null,762,"Country",5500,9321.018,9537.6450000000004,9749.6270000000004,9957.4639999999999,10161.628000000001,10363.189,10563.159,10761.451999999999,10958.225,11155.130999999999,11354.293,11557.369000000001,11764.82,11976.625,12193.3,12415.27,12642.672,12875.675999999999,13113.855,13356.013999999999,13600.492,13845.882,14091.8,14337.949000000001,14583.053,14825.683000000001,15064.804,15299.843999999999,15530.968000000001,15758.763999999999,15984.25,16208.25,16430.844000000001,16652.054,16872.605,17093.330999999998,17314.894,17537.446,17760.924999999999,17985.39,18210.833999999999,18437.13,18664.295999999998,18892.007000000001,19119.285,19344.874,19567.78,19787.636999999999,20004.356,20217.597000000002,20427.069,20632.574000000001,20833.912,21031.065999999999,21224.338,21414.174999999999,21600.97,21784.763999999999,21965.572,22143.742999999999,22319.663,22493.614000000001,22665.681,22835.774000000001,23003.855,23169.804,23333.482,23494.811000000002,23653.626,23809.469000000001,23961.753000000001,24109.998,24253.892,24393.260999999999,24528.036,24658.131000000001,24783.427,24903.723999999998,25018.746999999999,25128.129000000001,25231.403999999999,25328.028999999999,null,{"$f":"VLOOKUP(C130,countries,1,FALSE)","v":"Tajikistan"},"Tajikistan"]
[114,"Medium variant","Turkmenistan",null,795,"Country",5500,5942.0889999999999,6031.2,6117.924,6201.9430000000002,6283.1949999999997,6361.7139999999999,6437.5889999999999,6510.7920000000004,6581.3959999999997,6649.8459999999995,6716.6750000000002,6782.3549999999996,6847.03,6910.7740000000003,6973.8429999999998,7036.5209999999997,7099,7161.3810000000003,7223.6350000000002,7285.6869999999999,7347.3720000000003,7408.53,7469.1030000000001,7529.0060000000003,7587.8969999999999,7645.3770000000004,7701.1120000000001,7754.9520000000002,7806.85,7856.6270000000004,7904.1419999999998,7949.2809999999999,7991.9880000000003,8032.2439999999997,8070.1239999999998,8105.7150000000001,8139.1409999999996,8170.424,8199.6319999999996,8226.9599999999991,8252.64,8276.8739999999998,8299.7569999999996,8321.3580000000002,8341.7960000000003,8361.2129999999997,8379.6859999999997,8397.3119999999999,8414.1039999999994,8430.098,8445.2919999999995,8459.6830000000009,8473.2929999999997,8486.1200000000008,8498.0930000000008,8509.1229999999996,8519.1200000000008,8528.0519999999997,8535.9390000000003,8542.7530000000006,8548.4950000000008,8553.1640000000007,8556.7330000000002,8559.2109999999993,8560.58,8560.85,8560.0259999999998,8558.0990000000002,8555.0889999999999,8550.9750000000004,8545.7669999999998,8539.4509999999991,8532.0419999999995,8523.5709999999999,8514.06,8503.5470000000005,8492.0619999999999,8479.6470000000008,8466.3340000000007,8452.1530000000002,8437.15,8421.35,null,{"$f":"VLOOKUP(C131,countries,1,FALSE)","v":"Turkmenistan"},"Turkmenistan"]
[115,"Medium variant","Uzbekistan",null,860,"Country",5500,32981.716,33469.203000000001,33935.762999999999,34382.084000000003,34809.377,35220.459000000003,35617.696000000004,36000.879000000001,36369.779000000002,36726.949999999997,37075.658000000003,37418.455999999998,37756.194000000003,38088.949000000001,38417.491999999998,38742.430999999997,39064.052000000003,39382.682999999997,39697.983999999997,40008.58,40312.593999999997,40608.379000000001,40895.476000000002,41173.510999999999,41441.055,41696.478000000003,41938.555999999997,42166.699000000001,42380.902000000002,42581.309000000001,42768.36,42942.485000000001,43103.686000000002,43252.156999999999,43388.841,43514.989000000001,43631.580999999998,43739.071000000004,43837.641000000003,43927.648999999998,44009.408000000003,44083.165000000001,44149.264000000003,44207.874000000003,44258.955999999998,44302.337,44337.898999999998,44365.83,44386.298999999999,44399.303,44404.767999999996,44402.705999999998,44393.285000000003,44376.807999999997,44353.627,44324.212,44288.983999999997,44248.188000000002,44202.158000000003,44151.481,44096.834000000003,44038.796000000002,43977.629000000001,43913.508000000002,43846.716999999997,43777.527999999998,43706.106,43632.593999999997,43556.968999999997,43478.989000000001,43398.269,43314.481,43227.417999999998,43136.978000000003,43043.08,42945.642999999996,42844.499000000003,42739.402000000002,42630.000999999997,42515.834000000003,42396.337,42270.847999999998,null,{"$f":"VLOOKUP(C132,countries,1,FALSE)","v":"Uzbekistan"},"Uzbekistan"]
[116,"Medium variant","Southern Asia",null,5501,"Subregion",921,1918211.3810000001,1940369.612,1962272.405,1983914.034,2005251.0120000001,2026233.77,2046820.844,2066982.55,2086702.5190000001,2105969.9190000002,2124780.5120000001,2143126.8339999998,2160997.227,2178371.5660000001,2195225.142,2211529.787,2227264.2319999998,2242417.0989999999,2256987.5329999998,2270978.9759999998,2284400.443,2297260.0269999998,2309556.872,2321291.4759999998,2332475.8250000002,2343125.4950000001,2353252.7829999998,2362861.1660000002,2371951.2349999999,2380528.841,2388599.5809999998,2396166.6609999998,2403234.085,2409799.301,2415850.5299999998,2421371.105,2426348.713,2430780.3050000002,2434668.4989999998,2438014.0010000002,2440819.1519999998,2443086.5060000001,2444820.0980000002,2446022.0630000001,2446691.5240000002,2446826.7239999999,2446429.63,2445506.98,2444071.2239999999,2442137.915,2439726.1159999999,2436854.6189999999,2433536.6830000002,2429787.3569999998,2425630.1129999999,2421091.2259999998,2416194.3810000001,2410958.2620000001,2405397.5669999998,2399527.145,2393360.5,2386911.64,2380193.7769999998,2373223.0520000001,2366019.4449999998,2358604.648,2350996.7620000001,2343210.6830000002,2335254.5649999999,2327131.2910000002,2318839.6830000002,2310381.196,2301762.0449999999,2292992.3659999999,2284084.4559999998,2275050.7179999999,2265901.7220000001,2256645.3679999998,2247286.6889999998,2237827.7570000002,2228267.5959999999,2218602.3849999998]
[117,"Medium variant","Afghanistan",null,4,"Country",5501,38041.754000000001,38928.345999999998,39835.428,40754.387999999999,41681.231,42608.716,43531.519,44449.091,45363.557000000001,46275.303999999996,47185.167000000001,48093.578000000001,49000.192000000003,49904.006000000001,50803.995999999999,51698.847000000002,52587.408000000003,53468.953000000001,54342.906000000003,55208.546000000002,56065.150999999998,56912.008999999998,57748.478000000003,58573.851999999999,59387.205000000002,60187.567999999999,60974.112999999998,61746.116999999998,62503.154999999999,63245.029000000002,63971.68,64682.974000000002,65378.504999999997,66057.69,66720.055999999997,67365.06,67992.202000000005,68601.073999999993,69191.263999999996,69762.274000000005,70313.576000000001,70844.694000000003,71355.255999999994,71844.948000000004,72313.406000000003,72760.289000000004,73185.294999999998,73588.198000000004,73968.841,74327.017000000007,74662.572,74975.407000000007,75265.441999999995,75532.714999999997,75777.328999999998,75999.482000000004,76199.346000000005,76377.118000000002,76532.930999999997,76666.938999999998,76779.298999999999,76870.225000000006,76940.010999999999,76989.046000000002,77017.758000000002,77026.660999999993,77016.256999999998,76987.006999999998,76939.41,76874.092999999993,76791.72,76692.974000000002,76578.45,76448.747000000003,76304.423999999999,76146.06,75974.255999999994,75789.683999999994,75593.009000000005,75384.981,75166.351999999999,74937.964000000007,null,{"$f":"VLOOKUP(C134,countries,1,FALSE)","v":"Afghanistan"},"Afghanistan"]
[118,"Medium variant","Bangladesh",null,50,"Country",5501,163046.16099999999,164689.383,166303.49799999999,167885.68900000001,169431.79699999999,170937.44200000001,172399.07800000001,173813.769,175180.15100000001,176498.33499999999,177769.39600000001,178993.86900000001,180171.136,181299.54300000001,182377.41699999999,183402.77,184374.12700000001,185290.674,186152.47200000001,186960.09099999999,187714.57800000001,188416.72700000001,189066.44699999999,189663.45300000001,190208.13500000001,190700.98,191142.27,191532.359,191871.02,192157.30300000001,192389.85,192567.77799999999,192690.997,192760.02799999999,192775.443,192738.07399999999,192648.701,192507.89,192316.13399999999,192074.152,191782.758,191442.77600000001,191055.07699999999,190620.63200000001,190140.65700000001,189616.46599999999,189049.33900000001,188440.35800000001,187790.62400000001,187101.489,186374.383,185610.658,184811.52600000001,183978.09099999999,183111.359,182212.23,181281.712,180320.916,179331.02900000001,178313.25,177268.75700000001,176198.76500000001,175104.549,173987.27299999999,172847.91399999999,171687.34700000001,170506.63099999999,169306.90299999999,168089.62400000001,166856.592,165609.78599999999,164351.01800000001,163081.80499999999,161803.43100000001,160517.00399999999,159223.63800000001,157924.51800000001,156620.93299999999,155314.326,154006.302,152698.56899999999,151393.01999999999,null,"Bangladesh","Bangladesh"]
[119,"Medium variant","Bhutan",null,64,"Country",5501,763.09199999999998,771.60799999999995,779.89800000000002,787.94100000000003,795.73199999999997,803.27,810.54,817.55499999999995,824.274,830.70799999999997,836.83900000000006,842.67,848.19500000000005,853.43200000000002,858.37099999999998,863.01,867.375,871.44799999999998,875.23900000000003,878.78899999999999,882.08,885.15499999999997,888.01300000000003,890.66200000000003,893.10599999999999,895.34400000000005,897.38699999999994,899.245,900.89800000000002,902.35299999999995,903.59699999999998,904.61599999999999,905.41200000000003,905.97500000000002,906.29700000000003,906.36699999999996,906.16099999999994,905.67600000000004,904.91499999999996,903.88099999999997,902.55499999999995,900.94100000000003,899.05,896.86800000000005,894.40599999999995,891.66,888.64200000000005,885.34799999999996,881.78800000000001,877.96299999999997,873.90200000000004,869.60599999999999,865.08799999999997,860.34500000000003,855.41099999999994,850.28200000000004,844.97199999999998,839.50400000000002,833.88199999999995,828.11500000000001,822.221,816.21600000000001,810.11300000000006,803.92,797.64400000000001,791.29100000000005,784.87099999999998,778.39200000000005,771.85799999999995,765.29600000000005,758.70399999999995,752.08299999999997,745.46799999999996,738.84,732.21699999999998,725.59500000000003,719.00099999999998,712.40800000000002,705.83500000000004,699.28399999999999,692.76300000000003,686.28099999999995,null,"Bhutan","Bhutan"]
[120,"Medium variant","India",null,356,"Country",5501,1366417.754,1380004.385,1393409.0379999999,1406631.7760000001,1419655.8060000001,1432456.4779999999,1445011.62,1457308.855,1469338.5649999999,1481083.338,1492524.2819999999,1503642.3219999999,1514427.165,1524862.017,1534913.987,1544544.3640000001,1553723.81,1562439.2649999999,1570690.442,1578478.179,1585809.32,1592691.513,1599124.1040000001,1605111.26,1610672.8829999999,1615834.993,1620619.2,1625034.122,1629084.5060000001,1632783.2890000001,1636143.733,1639176.0330000001,1641888.192,1644282.548,1646355.875,1648101.1629999999,1649513.16,1650592.7549999999,1651342.4410000001,1651760.1329999999,1651843.1129999999,1651589.5279999999,1651001.679,1650080.986,1648824.112,1647226.611,1645287.2339999999,1643009.777,1640402.4269999999,1637474.6640000001,1634238.372,1630705.925,1626886.0970000001,1622790.1580000001,1618436.68,1613847.1229999999,1609040.6310000001,1604031.514,1598830.7509999999,1593450.148,1587900.578,1582193.2549999999,1576338.459,1570348.764,1564240.054,1558029.5959999999,1551731.747,1545358.1070000001,1538914.8729999999,1532403.986,1525824.2039999999,1519176.2679999999,1512464.72,1505697.1839999999,1498882.983,1492031.487,1485150.5160000001,1478245.8160000001,1471320.763,1464376.2779999999,1457410.912,1450420.8389999999,null,"India","India"]
[121,"Medium variant","Iran",null,364,"Country",5501,82913.906000000003,83992.948999999993,85028.759000000005,86022.837,86975.807000000001,87892.017000000007,88774.775999999998,89622.540999999997,90432.903999999995,91207.892000000007,91950.574999999997,92663.707999999999,93348.221999999994,94005.187000000005,94637.751999999993,95249.663,95843.972999999998,96422.178,96985.054000000004,97533.915999999997,98069.850999999995,98593.62,99105.644,99605.974000000002,100094.299,100569.99,101032.19100000001,101480.28200000001,101913.16099999999,102328.76,102724.51300000001,103098.075,103448.33100000001,103773.924,104071.93,104338.974,104572.43799999999,104771.30899999999,104935.33900000001,105063.838,105156.35799999999,105212.958,105233.87699999999,105220.148,105173.673,105096.973,104992.568,104862.18799999999,104707.811,104532.62699999999,104340.26300000001,104134.09,103916.406,103689.476,103456.606,103221.31,102986.65,102754.53,102526.492,102304.577,102090.696,101886.27800000001,101692.09299999999,101508.344,101334.98699999999,101171.57,101017.34600000001,100871.946,100734.239,100601.671,100470.939,100339.175,100204.262,100064.72199999999,99919.411999999997,99767.15,99606.430999999997,99435.255000000005,99251.137000000002,99051.014999999999,98831.335000000006,98587.983999999997,null,"Iran","Iran (Islamic Republic of)"]
[122,"Medium variant","Maldives",null,462,"Country",5501,530.95299999999997,540.54399999999998,543.61699999999996,540.98500000000001,534.67700000000002,527.654,522.12800000000004,518.72,516.99900000000002,516.81600000000003,517.726,519.34100000000001,521.82299999999998,525.32799999999997,529.52,533.91899999999998,538.16600000000005,542.11300000000006,545.80999999999995,549.31600000000003,552.77700000000004,556.27700000000004,559.81200000000001,563.29300000000001,566.69500000000005,569.98699999999997,573.13099999999997,576.11400000000003,578.92200000000003,581.54999999999995,583.94399999999996,586.1,588,589.65,591.03499999999997,592.15499999999997,593.00400000000002,593.57799999999997,593.88400000000001,593.94000000000005,593.745,593.31600000000003,592.65700000000004,591.78300000000002,590.69500000000005,589.41999999999996,587.94299999999998,586.28899999999999,584.46600000000001,582.46900000000005,580.31700000000001,578.00599999999997,575.54700000000003,572.94799999999998,570.21299999999997,567.35400000000004,564.38099999999997,561.29200000000003,558.11800000000005,554.85299999999995,551.524,548.11800000000005,544.65899999999999,541.18100000000004,537.68600000000004,534.20600000000002,530.76099999999997,527.36599999999999,524.04,520.78800000000001,517.64300000000003,514.60599999999999,511.69400000000002,508.90300000000002,506.23899999999998,503.67599999999999,501.21600000000001,498.846,496.55099999999999,494.33100000000002,492.16699999999997,490.06099999999998,null,"Maldives","Maldives"]
[123,"Medium variant","Nepal",null,524,"Country",5501,28608.71,29136.808000000001,29674.92,30225.581999999999,30769.713,31285.688999999998,31757.446,32175.304,32539.190999999999,32855.383000000002,33135.731,33389.536,33617.129000000001,33816.618000000002,33993.044999999998,34152.474999999999,34299.616999999998,34437.129000000001,34565.531000000003,34684.51,34792.724000000002,34889.292000000001,34974.739000000001,35050.222000000002,35116.127999999997,35172.857000000004,35220.641000000003,35259.67,35289.881999999998,35310.963000000003,35322.449000000001,35323.921000000002,35315.334000000003,35296.578000000001,35267.186999999998,35226.563000000002,35174.28,35110.129000000001,35034.154999999999,34946.555999999997,34847.635999999999,34737.665999999997,34616.699999999997,34484.724999999999,34341.832000000002,34188.125,34023.705000000002,33848.701999999997,33663.258000000002,33467.459000000003,33261.347999999998,33045.057999999997,32818.788,32582.773000000001,32337.198,32082.268,31818.21,31545.382000000001,31264.157999999999,30974.914000000001,30678.069,30374.080999999998,30063.387999999999,29746.525000000001,29424.217000000001,29097.289000000001,28766.491999999998,28432.382000000001,28095.457999999999,27756.421999999999,27416.012999999999,27074.867999999999,26733.526000000002,26392.386999999999,26051.79,25712.04,25373.424999999999,25036.244999999999,24700.79,24367.414000000001,24036.432000000001,23708.199000000001,null,"Nepal","Nepal"]
[124,"Medium variant","Pakistan",null,586,"Country",5501,216565.318,220892.34,225199.93700000001,229488.99400000001,233757.27299999999,238005.63399999999,242234.05600000001,246439.296,250616.682,254763.73199999999,258878.23199999999,262958.79399999999,267003.45199999999,271012.32900000003,274988.815,278937.95799999998,282863.44199999998,286764.61700000003,290640.06199999998,294491.53600000002,298321.09999999998,302129.19300000003,305915.42700000003,309676.049,313403.75300000003,317088.96600000001,320723.64399999997,324303.43,327825.89799999999,331287.29599999997,334684.20799999998,338013.196,341271.80699999997,344456.51400000002,347561.77600000001,350581.32699999999,353510.56900000002,356346.45600000001,359089.09899999999,361741.32,364307.90100000001,366792.37599999999,369195.53700000001,371516.30499999999,373754.20899999997,375908.29800000001,377978.13900000002,379963.85,381866.516,383687.783,385429.783,387094.15500000003,388681.67599999998,390192.41800000001,391626.54,392983.95899999997,394264.625,395469.299,396598.39299999998,397651.109,398626.28200000001,399523.35399999999,400342.40700000001,401084.70199999999,401752.326,402348.00300000003,402874.00199999998,403331.80599999998,403722.04499999998,404045.15399999998,404301.21100000001,404490.72899999999,404614.82799999998,404675.23700000002,404673.98100000003,404613.26799999998,404495.15899999999,404321.57,404094.19,403814.478,403483.685,403102.82699999999,null,"Pakistan","Pakistan"]
[125,"Medium variant","Sri Lanka",null,144,"Country",5501,21323.733,21413.249,21497.31,21575.842000000001,21648.975999999999,21716.87,21779.681,21837.419000000002,21890.196,21938.411,21982.563999999998,22023.016,22059.913,22093.106,22122.239000000001,22146.780999999999,22166.313999999998,22180.722000000002,22190.017,22194.093000000001,22192.862000000001,22186.241000000002,22174.207999999999,22156.710999999999,22133.620999999999,22104.81,22070.205999999998,22029.827000000001,21983.793000000001,21932.297999999999,21875.607,21813.968000000001,21747.507000000001,21676.394,21600.931,21521.421999999999,21438.198,21351.437999999998,21261.268,21167.906999999999,21071.51,20972.251,20870.264999999999,20765.668000000001,20658.534,20548.882000000001,20436.764999999999,20322.27,20205.492999999999,20086.444,19965.175999999999,19841.714,19716.113000000001,19588.433000000001,19458.776999999998,19327.218000000001,19193.853999999999,19058.706999999999,18921.812999999998,18783.240000000002,18643.074000000001,18501.348000000002,18358.098000000002,18213.296999999999,18066.859,17918.685000000001,17768.654999999999,17616.774000000001,17463.018,17307.289000000001,17149.463,16989.474999999999,16827.292000000001,16662.915000000001,16496.405999999999,16327.804,16157.2,15984.611000000001,15810.088,15633.674000000001,15455.380999999999,15275.21,null,"Sri Lanka","Sri Lanka"]
[126,"Medium variant","EASTERN AND SOUTH-EASTERN ASIA",null,1832,"SDG region",1828,2334622.9040000001,2346709.4589999998,2357973.1129999999,2368406.804,2378049.139,2386970.6379999998,2395226.0090000001,2402819.6490000002,2409739.2000000002,2416005.9470000002,2421644.0819999999,2426673.38,2431110.1830000002,2434961.5090000001,2438226.6490000002,2440899.4700000002,2442978.6710000001,2444470.0249999999,2445388.2599999998,2445751.81,2445583.2990000001,2444901.42,2443719.6090000002,2442043.7740000002,2439876.102,2437215.1639999999,2434063.0989999999,2430430.7790000001,2426332.5649999999,2421778.12,2416777.7969999998,2411344.06,2405491.9300000002,2399239.4500000002,2392606.804,2385616.2999999998,2378290.9900000002,2370649.2009999999,2362713.3280000002,2354515.0279999999,2346089.73,2337469.071,2328674.12,2319722.7110000001,2310638.4330000002,2301444.6039999998,2292161.2220000001,2282805.835,2273390.3659999999,2263921.1529999999,2254400.6030000001,2244832.2030000002,2235225.571,2225590.2259999998,2215928.7629999998,2206241.8319999999,2196531.9109999998,2186805.585,2177071.3879999998,2167336.27,2157607.5109999999,2147893.071,2138198.1209999998,2128531.3199999998,2118908.1740000001,2109347.074,2099862.5380000002,2090458.91,2081137.824,2071907.41,2062775.5870000001,2053746.0060000001,2044816.277,2035978.8189999999,2027221.7279999999,2018530.4920000001,2009889.0859999999,2001280.456,1992686.808,1984089.743,1975469.996,1966807.611]
[127,"Medium variant","Eastern Asia",null,906,"Subregion",1832,1672611.098,1678089.6189999999,1682854.6410000001,1686915.2779999999,1690315.4939999999,1693132.6189999999,1695427.5759999999,1697207.7579999999,1698464.0970000001,1699224.615,1699521.1270000001,1699379.6029999999,1698819.68,1697849.9350000001,1696471.4709999999,1694679.2050000001,1692472.426,1689858.4469999999,1686852.142,1683469.0789999999,1679727.635,1675643.1459999999,1671227.662,1666487.2679999999,1661424.3559999999,1656038.219,1650331.115,1644312.6340000001,1637995.227,1631387.7930000001,1624499.703,1617342.0689999999,1609927.9669999999,1602272.7009999999,1594392.959,1586307.067,1578034.0759999999,1569589.3130000001,1560991.8389999999,1552268.862,1543451.07,1534565.5560000001,1525629.4180000001,1516657.0719999999,1507668.824,1498684.9040000001,1489721.9909999999,1480794.409,1471910.1640000001,1463071.0020000001,1454274.308,1445519.0719999999,1436811.612,1428158.8,1419560.3729999999,1411014.3829999999,1402520.8910000001,1394083.8149999999,1385709.524,1377404.0060000001,1369174.1,1361026.922,1352965.9310000001,1344997.541,1337135.4380000001,1329396.0460000001,1321791.96,1314325.5870000001,1306996.7009999999,1299811.2239999999,1292774.861,1285889.057,1279149.3370000001,1272546.077,1266065.3689999999,1259690.7309999999,1253404.067,1247186.2180000001,1241017.2450000001,1234876.4569999999,1228742.3330000001,1222592.514]
[128,"Medium variant","China",null,156,"Country",906,1433783.686,1439323.7760000001,1444216.1070000001,1448471.4,1452127.6680000001,1455254.87,1457908.2490000001,1460092.2450000001,1461797.638,1463052.85,1463891.3359999999,1464340.159,1464417.4979999999,1464130.42,1463480.85,1462465.1259999999,1461083.0290000001,1459341.1780000001,1457252.17,1454828.44,1452084.2660000001,1449031.423,1445680.243,1442035.132,1438094.7120000001,1433854.128,1429312.2479999999,1424476.5279999999,1419358.6270000001,1413967.257,1408312.307,1402405.17,1396257.709,1389884.2779999999,1383302.6170000001,1376532.6370000001,1369594.1440000001,1362501.9480000001,1355273.2720000001,1347933.5530000001,1340511.105,1333030.6310000001,1325507.541,1317954.3840000001,1310388.656,1302827.463,1295284.571,1287771.9180000001,1280295.263,1272853.4990000001,1265441.0759999999,1258054.226,1250697.6189999999,1243376.1340000001,1236086.058,1228821.6669999999,1221580.1510000001,1214363.7009999999,1207178.7150000001,1200032.304,1192933.5249999999,1185891.301,1178909.4909999999,1171994.3389999999,1165160.149,1158423.977,1151799.202,1145288.558,1138892.6950000001,1132619.331,1126476.3999999999,1120466.932,1114587.314,1108827.898,1103174.443,1097609.7409999999,1092115.2050000001,1086671.335,1081258.071,1075854.852,1070440.557,1064993.459,null,{"$f":"VLOOKUP(C145,countries,1,FALSE)","v":"China"},"China"]
[129,"Medium variant","Hong Kong",null,344,"Country",906,7436.1540000000005,7496.9809999999998,7552.81,7604.299,7653.4260000000004,7703.192,7755.5309999999999,7811.21,7868.7259999999997,7925.0730000000003,7976.0550000000003,8018.67,8051.8580000000002,8076.5559999999996,8094.384,8107.8890000000001,8118.9750000000004,8128.1139999999996,8134.8779999999997,8139.2669999999998,8141.1040000000003,8140.3019999999997,8137.085,8131.8090000000002,8124.7070000000003,8115.9620000000004,8105.7879999999996,8094.3540000000003,8081.8509999999997,8068.5829999999996,8054.8919999999998,8041.0479999999998,8027.2259999999997,8013.4949999999999,7999.942,7986.6189999999997,7973.5510000000004,7960.7950000000001,7948.3770000000004,7936.2389999999996,7924.3059999999996,7912.4920000000002,7900.777,7889.1279999999997,7877.4189999999999,7865.5150000000003,7853.2830000000004,7840.7120000000004,7827.7740000000003,7814.36,7800.3149999999996,7785.5910000000003,7770.1549999999997,7754.0950000000003,7737.5720000000001,7720.77,7703.8779999999997,7687.0159999999996,7670.2730000000001,7653.8869999999997,7638.0690000000004,7623.0569999999998,7608.9589999999998,7595.9,7584.1390000000001,7573.9549999999999,7565.5529999999999,7559.0649999999996,7554.5079999999998,7551.8459999999995,7550.9830000000002,7551.8689999999997,7554.433,7558.6859999999997,7564.6220000000003,7572.232,7581.4660000000003,7592.2370000000001,7604.4009999999998,7617.7870000000003,7632.1580000000004,7647.2280000000001,null,"Hong Kong","China, Hong Kong SAR"]
[130,"Medium variant","Macao",null,446,"Country",906,640.44500000000005,649.33500000000004,658.39400000000001,667.49,676.54499999999996,685.38199999999995,693.89300000000003,702.07100000000003,709.94799999999998,717.53499999999997,724.83699999999999,731.87400000000002,738.64400000000001,745.13800000000003,751.39800000000002,757.46,763.35699999999997,769.09,774.673,780.13,785.476,790.71799999999996,795.875,800.94799999999998,805.94399999999996,810.84,815.66499999999996,820.399,825.05,829.60500000000002,834.04600000000005,838.36800000000005,842.56799999999998,846.64300000000003,850.58600000000001,854.42,858.13300000000004,861.72400000000005,865.20699999999999,868.58100000000002,871.85400000000004,875.03700000000003,878.13499999999999,881.15,884.10799999999995,887.02300000000002,889.904,892.78399999999999,895.63699999999994,898.476,901.3,904.10900000000004,906.89300000000003,909.66399999999999,912.43499999999995,915.197,917.96799999999996,920.75800000000004,923.55399999999997,926.36800000000005,929.17899999999997,931.96900000000005,934.74300000000005,937.52300000000002,940.34500000000003,943.23599999999999,946.23400000000004,949.35900000000004,952.60500000000002,956.00199999999995,959.59400000000005,963.39400000000001,967.4,971.63300000000004,976.06,980.68499999999995,985.48199999999997,990.43799999999999,995.53399999999999,1000.779,1006.135,1011.612,null,"Macao","China, Macao SAR"]
[131,"Medium variant","Taiwan",null,158,"Country",906,23773.876,23816.775000000001,23855.01,23888.595000000001,23917.878000000001,23943.316999999999,23965.152999999998,23983.359,23997.579000000002,24007.366999999998,24012.116999999998,24011.258000000002,24004.600999999999,23991.861000000001,23972.199000000001,23944.616000000002,23908.355,23863.197,23809.183000000001,23746.183000000001,23674.183000000001,23593.257000000001,23503.477999999999,23405.19,23299.260999999999,23186.806,23068.792000000001,22945.727999999999,22817.973000000002,22686.177,22550.974999999999,22412.982,22272.644,22130.376,21986.633999999998,21841.865000000002,21696.436000000002,21550.638999999999,21404.691999999999,21258.748,21112.882000000001,20967.165000000001,20821.743999999999,20676.678,20531.806,20386.891,20241.755000000001,20096.437000000002,19951.010999999999,19805.423999999999,19659.562999999998,19513.407999999999,19367.109,19220.830999999998,19074.751,18929.072,18784.052,18639.837,18496.777999999998,18355.579000000002,18217.123,18082.115000000002,17950.88,17823.548999999999,17700.339,17581.396000000001,17466.844000000001,17356.859,17251.534,17150.701000000001,17054.09,16961.516,16872.907999999999,16788.307000000001,16707.781999999999,16631.46,16559.383999999998,16491.511999999999,16427.75,16367.91,16311.73,16258.851000000001,null,"Taiwan","China, Taiwan Province of China"]
[132,"Medium variant","North Korea",null,408,"Country",906,25666.161,25778.815999999999,25887.041000000001,25990.679,26089.81,26184.723999999998,26275.484,26362.043000000001,26443.899000000001,26520.116000000002,26589.547999999999,26651.329000000002,26705.19,26751.21,26789.463,26820.127,26843.43,26859.422999999999,26868.295999999998,26870.567999999999,26866.948,26858.032999999999,26844.105,26825.438999999998,26802.600999999999,26776.256000000001,26746.916000000001,26714.944,26680.485000000001,26643.524000000001,26603.925999999999,26561.618999999999,26516.714,26469.409,26419.794000000002,26367.968000000001,26314.042000000001,26258.064999999999,26200.151000000002,26140.333999999999,26078.654999999999,26015.181,25949.985000000001,25883.157999999999,25814.738000000001,25744.756000000001,25673.260999999999,25600.322,25526.062999999998,25450.651000000002,25374.294000000002,25297.149000000001,25219.303,25140.838,25061.938999999998,24982.803,24903.578000000001,24824.366000000002,24745.152999999998,24665.84,24586.289000000001,24506.350999999999,24425.987000000001,24345.233,24264.089,24182.603999999999,24100.769,24018.608,23936.039000000001,23852.915000000001,23768.993999999999,23684.126,23598.266,23511.455000000002,23423.774000000001,23335.353999999999,23246.291000000001,23156.662,23066.506000000001,22975.841,22884.632000000001,22792.829000000002,null,"North Korea","Dem. People's Republic of Korea"]
[133,"Medium variant","Japan",null,392,"Country",906,126860.30100000001,126476.461,126050.804,125584.838,125081.319,124543.914,123975.982,123379.106,122754.992,122107.375,121440.55,120758.057,120062.527,119355.235,118636.76,117906.955,117166.141,116415.51700000001,115657.084,114892.92600000001,114125.389,113356.476,112587.235,111818.501,111051.702,110288.302,109529.351,108775.25900000001,108025.989,107281.351,106540.92200000001,105804.027,105070.74,104340.209,103609.65700000001,102875.489,102134.981,101387.47100000001,100633.22100000001,99871.668999999994,99102.482999999993,98325.805999999997,97541.841,96751.612999999998,95957.178,95161.225999999995,94366.264999999999,93573.717999999993,92785.133000000002,92003.308999999994,91231.456999999995,90472.356,89727.264999999999,88997.471999999994,88285.664000000004,87594.804999999993,86926.94,86283.335999999996,85663.57,85065.745999999999,84486.880999999994,83924.562999999995,83378.017000000007,82847.12,82330.879000000001,81828.308000000005,81338.414999999994,80860.407999999996,80393.388999999996,79936.259000000005,79487.831999999995,79047.123000000007,78613.362999999998,78186.03,77764.737999999998,77349.195000000007,76939.130999999994,76534.218999999997,76134.164000000004,75738.595000000001,75347.134999999995,74959.376999999993,null,"Japan","Japan"]
[134,"Medium variant","Mongolia",null,496,"Country",906,3225.1669999999999,3278.29,3329.2890000000002,3378.078,3424.8679999999999,3470.0450000000001,3513.9070000000002,3556.4969999999998,3597.8049999999998,3638.0340000000001,3677.43,3716.21,3754.453,3792.2620000000002,3829.7460000000001,3867.0039999999999,3904.1329999999998,3941.2,3978.2440000000001,4015.2649999999999,4052.252,4089.203,4126.1059999999998,4162.9290000000001,4199.6689999999999,4236.2460000000001,4272.6310000000003,4308.7889999999998,4344.6469999999999,4380.058,4414.8680000000004,4448.93,4482.18,4514.5919999999996,4546.0940000000001,4576.5770000000002,4606.0309999999999,4634.3940000000002,4661.7060000000001,4687.9780000000001,4713.2740000000003,4737.6440000000002,4761.1189999999997,4783.741,4805.63,4826.924,4847.7449999999999,4868.16,4888.201,4907.9309999999996,4927.41,4946.6750000000002,4965.777,4984.7349999999997,5003.5820000000003,5022.3310000000001,5041.0190000000002,5059.643,5078.1760000000004,5096.6210000000001,5114.9579999999996,5133.1390000000001,5151.1530000000002,5168.9629999999997,5186.4949999999999,5203.674,5220.4250000000002,5236.6949999999997,5252.4620000000004,5267.6350000000002,5282.1540000000005,5295.9489999999996,5308.9830000000002,5321.2169999999996,5332.6139999999996,5343.1679999999997,5352.8389999999999,5361.6180000000004,5369.48,5376.3860000000004,5382.3069999999998,5387.2049999999999,null,"Mongolia","Mongolia"]
[135,"Medium variant","South Korea",null,410,"Country",906,51225.307999999997,51269.184999999998,51305.186000000002,51329.898999999998,51343.98,51347.175000000003,51339.377,51321.226999999999,51293.51,51256.264999999999,51209.254000000001,51152.046000000002,51084.909,51007.252999999997,50916.671000000002,50810.027999999998,50685.006000000001,50540.728000000003,50377.614000000001,50196.3,49998.017,49783.733999999997,49553.535000000003,49307.32,49045.760000000002,48769.678999999996,48479.724000000002,48176.633000000002,47860.605000000003,47531.237999999998,47187.767,46829.925000000003,46458.186000000002,46073.699000000001,45677.635000000002,45271.491999999998,44856.758000000002,44434.277000000002,44005.213000000003,43571.76,43136.510999999999,42701.599999999999,42268.275999999998,41837.22,41409.288999999997,40985.106,40565.207000000002,40150.358,39741.082000000002,39337.351999999999,38938.892999999996,38545.557999999997,38157.491000000002,37775.031000000003,37398.372000000003,37027.737999999998,36663.305,36305.158000000003,35953.305,35607.661,35268.076000000001,34934.427000000003,34606.701000000001,34284.913999999997,33969.002999999997,33658.896000000001,33354.517999999996,33056.035000000003,32763.469000000001,32476.535,32194.813999999998,31918.148000000001,31646.67,31380.850999999999,31121.335999999999,30868.896000000001,30624.269,30388.197,30161.339,29944.307000000001,29737.679,29541.953000000001,null,"South Korea","Republic of Korea"]
[136,"Medium variant","South-Eastern Asia",null,920,"Subregion",1832,662011.80599999998,668619.84,675118.47199999995,681491.52599999995,687733.64500000002,693838.01899999997,699798.43299999996,705611.89099999995,711275.103,716781.33200000005,722122.95499999996,727293.777,732290.50300000003,737111.57400000002,741755.17799999996,746220.26500000001,750506.245,754611.57799999998,758536.11800000002,762282.73100000003,765855.66399999999,769258.27399999998,772491.94700000004,775556.50600000005,778451.74600000004,781176.94499999995,783731.98400000005,786118.14500000002,788337.33799999999,790390.32700000005,792278.09400000004,794001.99100000004,795563.96299999999,796966.74899999995,798213.84499999997,799309.23300000001,800256.91399999999,801059.88800000004,801721.48899999994,802246.16599999997,802638.66,802903.51500000001,803044.70200000005,803065.63899999997,802969.60900000005,802759.7,802439.23100000003,802011.42599999998,801480.20200000005,800850.15099999995,800126.29500000004,799313.13100000005,798413.95900000003,797431.42599999998,796368.39,795227.44900000002,794011.02,792721.77,791361.86399999994,789932.26399999997,788433.41099999996,786866.14899999998,785232.19,783533.77899999998,781772.73600000003,779951.02800000005,778070.57799999998,776133.32299999997,774141.12300000002,772096.18599999999,770000.72600000002,767856.94900000002,765666.94,763432.74199999997,761156.35900000005,758839.76100000006,756485.01899999997,754094.23800000001,751669.56299999997,749213.28599999996,746727.66299999994,744215.09699999995]
[137,"Medium variant","Brunei",null,96,"Country",920,433.28500000000003,437.47899999999998,441.53199999999998,445.43099999999998,449.17099999999999,452.755,456.18900000000002,459.46199999999999,462.57799999999997,465.55,468.346,470.99,473.46600000000001,475.77699999999999,477.93700000000001,479.93400000000003,481.779,483.48599999999999,485.02600000000001,486.43099999999998,487.69,488.81799999999998,489.80500000000001,490.65800000000002,491.37099999999998,491.94900000000001,492.38299999999998,492.67,492.82600000000002,492.83199999999999,492.68799999999999,492.38499999999999,491.93200000000002,491.32400000000001,490.57400000000001,489.67700000000002,488.64800000000002,487.48500000000001,486.18900000000002,484.77800000000002,483.24900000000002,481.61,479.863,478.02100000000002,476.09100000000001,474.084,472.00599999999997,469.86599999999999,467.67700000000002,465.43200000000002,463.15100000000001,460.83499999999998,458.49099999999999,456.12900000000002,453.76,451.37299999999999,448.97899999999998,446.59199999999998,444.19499999999999,441.81200000000001,439.42200000000003,437.03899999999999,434.661,432.28100000000001,429.91500000000002,427.54,425.18299999999999,422.82499999999999,420.47,418.10899999999998,415.76799999999997,413.41500000000002,411.05,408.69499999999999,406.33499999999998,403.97800000000001,401.62,399.267,396.91800000000001,394.57,392.22300000000001,389.87400000000002,null,{"$f":"VLOOKUP(C154,countries,1,FALSE)","v":"Brunei"},"Brunei Darussalam"]
[138,"Medium variant","Cambodia",null,116,"Country",920,16486.542000000001,16718.965,16946.437999999998,17168.638999999999,17385.668000000001,17597.868999999999,17805.564999999999,18008.648000000001,18207.112000000001,18401.509999999998,18592.631000000001,18781.032999999999,18966.848000000002,19150.039000000001,19330.794999999998,19509.273000000001,19685.526999999998,19859.633999999998,20031.395,20200.269,20365.513999999999,20526.53,20683.07,20835.04,20982.179,21124.244999999999,21261.026999999998,21392.374,21518.162,21638.251,21752.526000000002,21860.919000000002,21963.32,22059.776999999998,22150.49,22235.798999999999,22315.941999999999,22390.966,22460.822,22525.55,22585.154999999999,22639.645,22689.061000000002,22733.403999999999,22772.465,22805.983,22833.776999999998,22855.846000000001,22872.315999999999,22883.248,22888.767,22889.017,22884.093000000001,22874.151999999998,22859.484,22840.486000000001,22817.460999999999,22790.616999999998,22760.127,22726.198,22689.077000000001,22648.989000000001,22606.064999999999,22560.457999999999,22512.356,22461.987000000001,22409.474999999999,22354.963,22298.46,22239.895,22179.116000000002,22116.010999999999,22050.536,21982.717000000001,21912.581999999999,21840.177,21765.508999999998,21688.534,21609.165000000001,21527.26,21442.621999999999,21355.012999999999,null,"Cambodia","Cambodia"]
[139,"Medium variant","Indonesia",null,360,"Country",920,270625.56800000003,273523.61499999999,276361.783,279134.505,281844.34600000002,284495.163,287089.63500000001,289628.15299999999,292109.44199999998,294532.56,296896.01,299198.43,301439.29599999997,303618.02100000001,305733.06099999999,307782.57199999999,309764.94400000002,311679.19099999999,313524.58,315300.098,317004.81400000001,318637.85800000001,320198.98599999998,321687.66499999998,323102.54499999998,324442.076,325705.348,326892.32799999998,328003.99400000001,329041.87599999999,330008.08600000001,330904.66399999999,331732.935,332494.23100000003,333190.76199999999,333824.98300000001,334399.27600000001,334915.47700000001,335375.48599999998,335781.83399999997,336137.201,336444.03899999999,336704.37199999997,336919.90299999999,337092.353,337223.31099999999,337314.35700000002,337366.85800000001,337382.34899999999,337362.63199999998,337309.59600000002,337224.79100000003,337109.25099999999,336963.57699999999,336788.24300000002,336583.49300000002,336349.489,336086.66700000002,335795.13099999999,335474.17300000001,335122.761,334740.05599999998,334326.076,333880.95899999997,333404.18900000001,332895.18099999998,332353.614,331779.56,331173.50400000002,330536.15399999998,329868.446,329171.32500000001,328445.61099999998,327692.06,326911.43199999997,326104.571,325272.47100000002,324416.342,323537.55699999997,322637.74,321718.69400000002,320782.424,null,"Indonesia","Indonesia"]
[140,"Medium variant","Laos",null,418,"Country",920,7169.4549999999999,7275.56,7379.3580000000002,7481.0230000000001,7580.6130000000003,7678.3980000000001,7774.5330000000004,7868.9089999999997,7961.3050000000003,8051.683,8140.0209999999997,8226.2729999999992,8310.4150000000009,8392.3960000000006,8472.2420000000002,8550.0079999999998,8625.7129999999997,8699.3389999999999,8770.8330000000005,8840.1450000000004,8907.1919999999991,8971.9459999999999,9034.3320000000003,9094.3310000000001,9151.8469999999998,9206.8230000000003,9259.1560000000009,9308.8240000000005,9355.7839999999997,9399.9680000000008,9441.3060000000005,9479.7469999999994,9515.2469999999994,9547.8189999999995,9577.4740000000002,9604.2780000000002,9628.268,9649.4470000000001,9667.8320000000003,9683.4159999999993,9696.2279999999992,9706.2649999999994,9713.5720000000001,9718.1689999999999,9720.0660000000007,9719.2960000000003,9715.8889999999992,9709.8809999999994,9701.3160000000007,9690.2549999999992,9676.73,9660.82,9642.5650000000005,9622.0339999999997,9599.3230000000003,9574.5169999999998,9547.7270000000008,9519.0159999999996,9488.4419999999991,9456.1049999999996,9422.1029999999992,9386.5139999999992,9349.4159999999993,9310.8670000000002,9270.9269999999997,9229.65,9187.1020000000008,9143.3279999999995,9098.3940000000002,9052.3240000000005,9005.1290000000008,8956.8359999999993,8907.4969999999994,8857.1460000000006,8805.848,8753.65,8700.6129999999994,8646.7649999999994,8592.152,8536.7999999999993,8480.7369999999992,8423.9789999999994,null,"Laos","Lao People's Democratic Republic"]
[141,"Medium variant","Malaysia",null,458,"Country",920,31949.776999999998,32365.999,32776.194000000003,33181.072,33579.264999999999,33969.29,34349.936000000002,34720.347000000002,35080.112000000001,35429.087,35767.387999999999,36095.053999999996,36411.995999999999,36717.9,37012.445,37295.250999999997,37566.148000000001,37825.112000000001,38072.527000000002,38309.22,38536.264000000003,38754.574000000001,38964.542000000001,39166.396000000001,39360.773000000001,39548.353999999999,39729.699000000001,39905.061999999998,40074.631000000001,40238.61,40397.167999999998,40550.364999999998,40698.294000000002,40840.800000000003,40977.445,41107.612999999998,41230.758999999998,41346.675000000003,41455.194000000003,41555.887999999999,41648.243999999999,41731.877,41806.614000000001,41872.362000000001,41928.870999999999,41975.9,42013.360999999997,42041.224999999999,42059.669000000002,42068.987999999998,42069.605000000003,42061.944000000003,42046.292000000001,42022.970999999998,41992.517,41955.499000000003,41912.491000000002,41863.892,41810.175999999999,41752,41690.087,41625.091999999997,41557.425999999999,41487.446000000004,41415.603999999999,41342.328000000001,41267.997000000003,41192.896000000001,41117.199000000001,41040.987000000001,40964.235000000001,40886.938999999998,40809.103999999999,40730.760999999999,40651.951000000001,40572.639000000003,40492.785000000003,40412.247000000003,40330.824999999997,40248.245999999999,40164.17,40078.167999999998,null,"Malaysia","Malaysia"]
[142,"Medium variant","Myanmar/Burma",null,104,"Country",920,54045.42,54409.8,54806.012000000002,55227.142999999996,55663.661,56101.110999999997,56528.470999999998,56942.754000000001,57345.561000000002,57735.853999999999,58113.593999999997,58478.493999999999,58829.18,59163.934999999998,59481.898000000001,59782.39,60064.896999999997,60328.906999999999,60574.209000000003,60801.053999999996,61010.012999999999,61201.603999999999,61376.016000000003,61533.453000000001,61674.442000000003,61799.661999999997,61909.752999999997,62005.175999999999,62086.444000000003,62154.330999999998,62209.733,62253.43,62285.93,62307.682999999997,62319.341999999997,62321.565999999999,62314.917000000001,62299.800999999999,62276.464999999997,62244.968999999997,62205.241000000002,62157.256999999998,62101.161,62037.124000000003,61965.131999999998,61885.118000000002,61797.021999999997,61700.947999999997,61596.993999999999,61485.154000000002,61365.377999999997,61237.72,61102.313999999998,60959.345000000001,60808.946000000004,60651.269,60486.516000000003,60314.923999999999,60136.862000000001,59952.749000000003,59763.082000000002,59568.38,59369.006999999998,59165.379000000001,58958.097000000002,58747.815999999999,58535.139000000003,58320.474000000002,58104.177000000003,57886.752999999997,57668.722999999998,57450.523000000001,57232.468999999997,57014.790999999997,56797.623,56581.078999999998,56365.235999999997,56150.161,55935.928999999996,55722.608,55510.254999999997,55298.936000000002,null,"Myanmar/Burma","Myanmar"]
[143,"Medium variant","Philippines",null,608,"Country",920,108116.61500000001,109581.07799999999,111046.913,112508.99400000001,113964.10400000001,115406.856,116833.05899999999,118241.48,119632.651,121006.008,122361.319,123697.925,125015.24400000001,126311.548,127583.576,128827.33500000001,130039.792,131219.34400000001,132366.00599999999,133480.51,134564.43,135618.85699999999,136643.59700000001,137637.89799999999,138601.777,139535.236,140438.21799999999,141310.851,142152.97,142963.818,143742.432,144488.158,145200.799,145880.69500000001,146528.56,147145.39600000001,147732.02600000001,148288.677,148815.39600000001,149312.609,149780.72500000001,150220.087,150630.95499999999,151013.41699999999,151367.36499999999,151692.584,151988.916,152256.416,152495.23199999999,152705.32,152886.65299999999,153039.24,153163.24900000001,153258.82500000001,153325.89600000001,153364.38399999999,153374.31599999999,153355.99600000001,153309.89499999999,153236.497,153136.36499999999,153010.12,152858.31599999999,152681.66800000001,152481.20499999999,152258.12400000001,152013.524,151748.23300000001,151462.99299999999,151158.75899999999,150836.46599999999,150497.027,150141.27799999999,149769.99799999999,149383.93100000001,148983.78,148570.26800000001,148144.1,147706.00099999999,147256.70300000001,146796.93400000001,146327.435,null,"Philippines","Philippines"]
[144,"Medium variant","Singapore",null,702,"Country",920,5804.3370000000004,5850.3419999999996,5896.6859999999997,5943.5460000000003,5990.2910000000002,6035.674,6078.7640000000001,6119.5919999999996,6158.5360000000001,6195.4449999999997,6230.1390000000001,6262.4660000000003,6292.36,6319.7669999999998,6344.6270000000004,6366.866,6386.4610000000002,6403.3919999999998,6417.6890000000003,6429.4179999999997,6438.65,6445.4960000000001,6450.0050000000001,6452.268,6452.44,6450.6790000000001,6447.1790000000001,6442.018,6435.3289999999997,6427.2420000000002,6417.9309999999996,6407.5320000000002,6396.1390000000001,6383.86,6370.8149999999996,6357.1059999999998,6342.8310000000001,6328.0739999999996,6312.9049999999997,6297.3519999999999,6281.3919999999998,6265.0649999999996,6248.4120000000003,6231.473,6214.2759999999998,6196.826,6179.1540000000005,6161.2910000000002,6143.2820000000002,6125.1549999999997,6106.915,6088.607,6070.2520000000004,6051.9089999999997,6033.6760000000004,6015.6469999999999,5997.9139999999998,5980.5379999999996,5963.5309999999999,5946.95,5930.8,5915.1279999999997,5899.9620000000004,5885.33,5871.2489999999998,5857.7039999999997,5844.7049999999999,5832.2809999999999,5820.4629999999997,5809.2610000000004,5798.69,5788.7809999999999,5779.5519999999997,5771.0450000000001,5763.2889999999998,5756.32,5750.1909999999998,5744.9350000000004,5740.5950000000003,5737.2139999999999,5734.8220000000001,5733.473,null,"Singapore","Singapore"]
[145,"Medium variant","Thailand",null,764,"Country",920,69625.581999999995,69799.978000000003,69950.850000000006,70078.202999999994,70182.832999999999,70266.057000000001,70328.94,70371.648000000001,70394.104999999996,70396.847999999998,70380.490999999995,70345.535999999993,70292.289000000004,70220.899999999994,70131.520000000004,70024.23,69899.111999999994,69756.436000000002,69596.347999999998,69418.536999999997,69222.588000000003,69008.285000000003,68775.784,68525.508000000002,68257.820000000007,67973.165999999997,67672.073999999993,67355.046000000002,67022.642999999996,66675.558000000005,66314.576000000001,65940.489000000001,65554.091,65156.254999999997,64748.023000000001,64330.508000000002,63904.837,63471.89,63032.675999999999,62588.572999999997,62141.091,61691.561999999998,61240.968000000001,60790.06,60339.673999999999,59890.565000000002,59443.438999999998,58998.839,58557.357000000004,58119.627999999997,57686.273000000001,57257.748,56834.39,56416.237000000001,56003.063000000002,55594.464,55190.057999999997,54789.803999999996,54393.616000000002,54000.966999999997,53611.214999999997,53223.841999999997,52838.659,52455.631000000001,52074.557000000001,51695.311999999998,51317.773000000001,50941.985999999997,50568.036,50196.067999999999,49826.277999999998,49458.923000000003,49094.319000000003,48732.826999999997,48374.862000000001,48020.9,47671.48,47327.205000000002,46988.728000000003,46656.76,46332.086000000003,46015.542999999998,null,"Thailand","Thailand"]
[146,"Medium variant","Timor-Leste",null,626,"Country",920,1293.1189999999999,1318.4449999999999,1343.873,1369.4290000000001,1395.0619999999999,1420.759,1446.5060000000001,1472.2529999999999,1497.9259999999999,1523.491,1548.885,1574.057,1598.9870000000001,1623.65,1648.0070000000001,1672.0550000000001,1695.7639999999999,1719.117,1742.1279999999999,1764.808,1787.181,1809.2750000000001,1831.085,1852.6110000000001,1873.9259999999999,1895.066,1916.11,1937.0440000000001,1957.873,1978.5450000000001,1999.0360000000001,2019.2909999999999,2039.3040000000001,2059.0500000000002,2078.491,2097.5830000000001,2116.2809999999999,2134.5540000000001,2152.3870000000002,2169.7280000000001,2186.5360000000001,2202.7710000000002,2218.4180000000001,2233.4549999999999,2247.8609999999999,2261.6129999999998,2274.6950000000002,2287.1260000000002,2298.8620000000001,2309.9369999999999,2320.364,2330.1579999999999,2339.326,2347.873,2355.8139999999999,2363.1559999999999,2369.924,2376.1129999999998,2381.7539999999999,2386.8290000000002,2391.3910000000001,2395.4290000000001,2398.962,2402.0039999999999,2404.5390000000002,2406.5630000000001,2408.0639999999999,2409.0700000000002,2409.5650000000001,2409.558,2409.0630000000001,2408.0819999999999,2406.6289999999999,2404.6889999999999,2402.2939999999999,2399.4290000000001,2396.1089999999999,2392.3470000000002,2388.1320000000001,2383.5050000000001,2378.44,2372.9740000000002,null,"Timor-Leste","Timor-Leste"]
[147,"Medium variant","Vietnam",null,704,"Country",920,96462.106,97338.578999999998,98168.832999999999,98953.540999999997,99698.630999999994,100414.087,101106.83500000001,101778.645,102425.77499999999,103043.296,103624.13099999999,104163.519,104660.42200000001,105117.641,105539.07,105930.351,106296.10799999999,106637.62,106955.37699999999,107252.24099999999,107531.32799999999,107795.031,108044.72500000001,108280.678,108502.626,108709.689,108901.037,109076.75199999999,109236.682,109379.296,109502.61199999999,109605.011,109685.97199999999,109745.255,109781.86900000001,109794.724,109783.129,109746.842,109686.137,109601.469,109493.598,109363.337,109211.306,109038.251,108845.455,108634.42,108406.61500000001,108163.13,107905.148,107634.402,107352.863,107062.251,106763.736,106458.374,106147.66800000001,105833.16099999999,105516.145,105197.611,104878.13499999999,104557.984,104237.10799999999,103915.56,103593.64,103271.75599999999,102950.098,102628.823,102308.00199999999,101987.70699999999,101667.86199999999,101348.318,101028.81200000001,100709.087,100388.895,100068.01300000001,99746.212,99423.237999999998,99098.736999999994,98772.335000000006,98443.561000000002,98111.88,97776.68,97437.278000000006,null,"Vietnam","Viet Nam"]
[148,"Medium variant","LATIN AMERICA AND THE CARIBBEAN",null,1830,"SDG region",1828,648120.95700000005,653962.33100000001,659743.61399999994,665450.78300000005,671063.34100000001,676552.50199999998,681895.96600000001,687085.8,692121.50399999996,696997.35600000003,701709.37100000004,706254.07200000004,710626.98,714825.46699999995,718850.87300000002,722706.58499999996,726395.321,729917.16799999995,733271.54099999997,736460.10800000001,739484.93400000001,742347.78500000003,745049.64,747591.56299999997,749976.35900000005,752207.34199999995,754287.01599999995,756217.17,757998.098,759628.72499999998,761107.20600000001,762432.36600000004,763604.62100000004,764625.54099999997,765496.17599999998,766217.951,766792.35600000003,767220.62199999997,767503.76599999995,767642.99800000002,767639.576,767494.78899999999,767210.46100000001,766788.57499999995,766230.97600000002,765539.70700000005,764717.01100000006,763765.397,762687.36199999996,761485.63699999999,760163.34299999999,758723.478,757169.29799999995,755504.07200000004,753731.10600000003,751853.85600000003,749876.01899999997,747801.152,745633.27300000004,743377.14199999999,741037.69299999997,738619.99800000002,736127.98699999996,733565.70700000005,730937.69900000002,728248.40099999995,725502.23600000003,722703.26,719855.201,716962.07299999997,714027.77599999995,711055.91799999995,708050.07400000002,705013.68400000001,701950.04099999997,698862.18400000001,695753.28,692626.18900000001,689483.90899999999,686329.11699999997,683164.58700000006,679992.98100000003]
[149,"Medium variant","Caribbean",null,915,"Subregion",1830,43334.985000000001,43532.364999999998,43761.966999999997,44017.285000000003,44287.144999999997,44554.237000000001,44805.881000000001,45039.142999999996,45256.968999999997,45459.85,45649.96,45828.88,45995.671999999999,46149.425999999999,46291.756999999998,46425.137000000002,46551.266000000003,46670.71,46782.997000000003,46887.538999999997,46983.305999999997,47069.468999999997,47145.999000000003,47213.012000000002,47270.396999999997,47318.025000000001,47355.743000000002,47383.561000000002,47401.432000000001,47409.146999999997,47406.576999999997,47393.618000000002,47370.279000000002,47336.841999999997,47293.591999999997,47241.144,47179.936999999998,47110.245999999999,47032.29,46946.36,46852.927000000003,46752.180999999997,46644.466999999997,46530.076000000001,46409.459000000003,46283.074999999997,46151.373,46014.716,45873.17,45726.624000000003,45574.993000000002,45418.222000000002,45256.309000000001,45089.442000000003,44917.784,44741.506999999998,44560.728000000003,44375.661,44186.231,43992.392,43793.841999999997,43590.599000000002,43382.587,43170.082999999999,42953.292999999998,42732.519,42508.040999999997,42279.991999999998,42048.474999999999,41813.972999999998,41576.881999999998,41337.502,41096.042000000001,40852.627999999997,40607.339,40360.03,40110.809000000001,39859.667999999998,39606.686000000002,39351.970999999998,39095.695,38838.046000000002]
[150,"Medium variant","Anguilla",null,660,"Country",915,14.869,15.003,15.117000000000001,15.23,15.331,15.42,15.505000000000001,15.587999999999999,15.682,15.755000000000001,15.84,15.914,15.987,16.048999999999999,16.114000000000001,16.175999999999998,16.23,16.280999999999999,16.324999999999999,16.372,16.408000000000001,16.443000000000001,16.472000000000001,16.495999999999999,16.512,16.530999999999999,16.541,16.545000000000002,16.545999999999999,16.541,16.530999999999999,16.516999999999999,16.495999999999999,16.478999999999999,16.445,16.417999999999999,16.385000000000002,16.341000000000001,16.303999999999998,16.260999999999999,16.216999999999999,16.170999999999999,16.119,16.065999999999999,16.015000000000001,15.96,15.909000000000001,15.847,15.79,15.728,15.664999999999999,15.6,15.538,15.471,15.404999999999999,15.34,15.265000000000001,15.201000000000001,15.132,15.063000000000001,14.994,14.92,14.848000000000001,14.776999999999999,14.71,14.641,14.574,14.505000000000001,14.438000000000001,14.375,14.313000000000001,14.246,14.183999999999999,14.122999999999999,14.065,14.004,13.944000000000001,13.882999999999999,13.818,13.763,13.701000000000001,13.634,null,{"$f":"VLOOKUP(C167,countries,1,FALSE)","v":"Anguilla"},"Anguilla"]
[151,"Medium variant","Antigua and Barbuda",null,28,"Country",915,97.117999999999995,97.929000000000002,98.730999999999995,99.509,100.273,101.012,101.71599999999999,102.40900000000001,103.065,103.687,104.297,104.864,105.41,105.922,106.40900000000001,106.869,107.29600000000001,107.70699999999999,108.083,108.43899999999999,108.774,109.081,109.358,109.628,109.86499999999999,110.077,110.27,110.438,110.593,110.717,110.816,110.896,110.956,110.997,111.01,111.01600000000001,110.999,110.959,110.905,110.837,110.756,110.661,110.55800000000001,110.449,110.324,110.2,110.066,109.919,109.777,109.624,109.46899999999999,109.30800000000001,109.139,108.974,108.79300000000001,108.611,108.428,108.236,108.03700000000001,107.83199999999999,107.63200000000001,107.41800000000001,107.19199999999999,106.96299999999999,106.73099999999999,106.495,106.24299999999999,105.991,105.73399999999999,105.464,105.202,104.935,104.651,104.375,104.09399999999999,103.813,103.51900000000001,103.23399999999999,102.935,102.64100000000001,102.35,102.05500000000001,null,"Antigua and Barbuda","Antigua and Barbuda"]
[152,"Medium variant","Aruba",null,533,"Country",915,106.31399999999999,106.76600000000001,107.20399999999999,107.60899999999999,108.01300000000001,108.386,108.752,109.096,109.417,109.717,110,110.247,110.471,110.67,110.84099999999999,110.968,111.057,111.113,111.121,111.098,111.036,110.928,110.803,110.63200000000001,110.44,110.221,109.99299999999999,109.744,109.48699999999999,109.224,108.965,108.71599999999999,108.479,108.248,108.03700000000001,107.837,107.66200000000001,107.504,107.35899999999999,107.23399999999999,107.125,107.032,106.953,106.89,106.834,106.78700000000001,106.741,106.709,106.667,106.63,106.59099999999999,106.55,106.496,106.434,106.373,106.297,106.22,106.119,106.014,105.9,105.774,105.63800000000001,105.494,105.337,105.17700000000001,105.01,104.83199999999999,104.66,104.473,104.292,104.10599999999999,103.92700000000001,103.742,103.56699999999999,103.38800000000001,103.215,103.044,102.875,102.71299999999999,102.54900000000001,102.39100000000001,102.23699999999999,null,"Aruba","Aruba"]
[153,"Medium variant","Bahamas",null,44,"Country",915,389.48200000000003,393.24400000000003,396.91300000000001,400.51600000000002,404.05799999999999,407.52,410.93200000000002,414.28100000000001,417.54599999999999,420.733,423.82299999999998,426.81299999999999,429.69799999999998,432.46699999999998,435.12700000000001,437.66,440.08699999999999,442.39699999999999,444.58300000000003,446.64499999999998,448.6,450.45299999999997,452.2,453.83800000000002,455.37599999999998,456.815,458.14100000000002,459.36500000000001,460.505,461.53399999999999,462.47300000000001,463.33300000000003,464.09300000000002,464.77100000000002,465.38799999999998,465.93400000000003,466.42599999999999,466.88,467.29,467.65699999999998,467.98899999999998,468.291,468.56599999999997,468.822,469.04700000000003,469.25599999999997,469.43900000000002,469.60300000000001,469.74400000000003,469.86200000000002,469.95800000000003,470.02,470.05099999999999,470.06200000000001,470.036,469.971,469.86700000000002,469.72399999999999,469.53199999999998,469.30399999999997,469.03800000000001,468.73500000000001,468.404,468.03199999999998,467.63799999999998,467.21699999999998,466.767,466.29899999999998,465.80900000000003,465.31099999999998,464.80500000000001,464.30500000000001,463.81299999999999,463.327,462.85399999999998,462.39699999999999,461.95699999999999,461.53399999999999,461.13299999999998,460.75700000000001,460.41899999999998,460.12400000000002,null,"Bahamas","Bahamas"]
[154,"Medium variant","Barbados",null,52,"Country",915,287.02499999999998,287.375,287.71100000000001,288.02300000000002,288.30900000000003,288.56900000000002,288.80599999999998,289.00200000000001,289.16800000000001,289.303,289.39800000000002,289.44400000000002,289.44799999999998,289.40800000000002,289.30700000000002,289.14400000000001,288.92399999999998,288.61200000000002,288.23500000000001,287.77999999999997,287.25299999999999,286.64699999999999,285.95800000000003,285.20600000000002,284.38,283.48399999999998,282.52800000000002,281.52600000000001,280.45600000000002,279.33499999999998,278.19499999999999,277.01100000000002,275.80900000000003,274.589,273.34500000000003,272.09899999999999,270.84300000000002,269.59300000000002,268.334,267.09199999999998,265.839,264.60000000000002,263.351,262.12200000000001,260.892,259.66500000000002,258.43400000000003,257.21600000000001,255.98599999999999,254.768,253.53100000000001,252.30500000000001,251.06200000000001,249.81899999999999,248.57,247.31299999999999,246.059,244.79300000000001,243.53399999999999,242.268,240.988,239.72200000000001,238.43700000000001,237.15,235.858,234.56899999999999,233.279,231.99700000000001,230.715,229.441,228.178,226.90799999999999,225.65,224.398,223.15799999999999,221.92699999999999,220.71,219.49799999999999,218.304,217.119,215.95099999999999,214.792,null,"Barbados","Barbados"]
[155,"Medium variant","British Virgin Islands",null,92,"Country",915,30.03,30.231000000000002,30.420999999999999,30.596,30.765999999999998,30.933,31.096,31.247,31.385000000000002,31.524999999999999,31.652000000000001,31.763999999999999,31.863,31.957000000000001,32.033000000000001,32.101999999999997,32.156999999999996,32.197000000000003,32.229999999999997,32.247,32.250999999999998,32.24,32.216999999999999,32.182000000000002,32.133000000000003,32.078000000000003,32.011000000000003,31.931000000000001,31.844999999999999,31.742999999999999,31.643999999999998,31.541,31.427,31.306000000000001,31.186,31.056000000000001,30.927,30.788,30.654,30.509,30.367000000000001,30.219000000000001,30.068000000000001,29.92,29.77,29.623000000000001,29.469000000000001,29.312999999999999,29.16,29.004000000000001,28.847999999999999,28.69,28.54,28.385000000000002,28.231999999999999,28.081,27.931999999999999,27.783000000000001,27.632000000000001,27.488,27.344999999999999,27.213999999999999,27.074000000000002,26.946000000000002,26.808,26.678000000000001,26.555,26.425999999999998,26.308,26.187000000000001,26.067,25.948,25.829000000000001,25.713000000000001,25.596,25.486000000000001,25.375,25.271999999999998,25.16,25.058,24.959,24.861000000000001,null,"British Virgin Islands","British Virgin Islands"]
[156,"Medium variant","Bonaire, Sint Eustatius and Saba",null,535,"Country",915,25.978999999999999,26.222999999999999,26.442,26.646999999999998,26.83,27.012,27.181000000000001,27.335000000000001,27.506,27.658000000000001,27.806999999999999,27.945,28.082000000000001,28.210999999999999,28.337,28.452999999999999,28.562000000000001,28.667999999999999,28.773,28.867000000000001,28.960999999999999,29.047000000000001,29.129000000000001,29.207999999999998,29.276,29.35,29.422999999999998,29.484000000000002,29.542000000000002,29.6,29.654,29.706,29.744,29.800999999999998,29.837,29.88,29.922999999999998,29.966000000000001,30.004999999999999,30.044,30.081,30.120999999999999,30.167000000000002,30.201000000000001,30.251999999999999,30.294,30.335999999999999,30.387,30.434000000000001,30.486000000000001,30.536999999999999,30.596,30.648,30.704999999999998,30.76,30.818999999999999,30.88,30.937000000000001,30.995999999999999,31.056999999999999,31.114000000000001,31.181999999999999,31.244,31.308,31.372,31.437999999999999,31.503,31.568000000000001,31.635000000000002,31.713000000000001,31.788,31.861000000000001,31.928000000000001,32.000999999999998,32.081000000000003,32.158000000000001,32.232999999999997,32.305,32.386000000000003,32.460999999999999,32.530999999999999,32.601999999999997,null,{"$error":"#N/A"},"Bonaire, Sint Eustatius and Saba",null,{"$f":"H173","v":25.978999999999999}]
[157,"Medium variant","Cayman Islands",null,136,"Country",915,64.947999999999993,65.721999999999994,66.497,67.277000000000001,68.063000000000002,68.834999999999994,69.599000000000004,70.361999999999995,71.116,71.864000000000004,72.603999999999999,73.334000000000003,74.052999999999997,74.760000000000005,75.457999999999998,76.138999999999996,76.819000000000003,77.48,78.12,78.757000000000005,79.37,79.968999999999994,80.540999999999997,81.093999999999994,81.628,82.131,82.614999999999995,83.07,83.498999999999995,83.908000000000001,84.295000000000002,84.655000000000001,85.001000000000005,85.325000000000003,85.643000000000001,85.93,86.225999999999999,86.503,86.774000000000001,87.046999999999997,87.314999999999998,87.585999999999999,87.864000000000004,88.141000000000005,88.421999999999997,88.715000000000003,89.004000000000005,89.313000000000002,89.64,89.959000000000003,90.299000000000007,90.647000000000006,91.012,91.376999999999995,91.757999999999996,92.141000000000005,92.537000000000006,92.947000000000003,93.353999999999999,93.769000000000005,94.180999999999997,94.603999999999999,95.010999999999996,95.424000000000007,95.828000000000003,96.239000000000004,96.646000000000001,97.045000000000002,97.45,97.855000000000004,98.251000000000005,98.653000000000006,99.052000000000007,99.451999999999998,99.85,100.254,100.65,101.05200000000001,101.456,101.85299999999999,102.259,102.666,null,"Cayman Islands","Cayman Islands"]
[158,"Medium variant","Cuba",null,192,"Country",915,11333.483,11326.616,11317.504999999999,11305.652,11291.392,11275.082,11257.035,11237.409,11216.213,11193.388999999999,11168.795,11142.328,11113.989,11083.815000000001,11051.675999999999,11017.453,10980.993,10942.279,10901.289000000001,10858.032999999999,10812.514999999999,10764.754000000001,10714.745999999999,10662.482,10607.93,10551.063,10491.852000000001,10430.358,10366.656000000001,10300.735000000001,10232.636,10162.396000000001,10090.11,10015.938,9940.0930000000008,9862.8700000000008,9784.5159999999996,9705.2109999999993,9625.1200000000008,9544.4779999999992,9463.5190000000002,9382.4660000000003,9301.4580000000005,9220.6820000000007,9140.4330000000009,9061.08,8982.8860000000004,8906.0069999999996,8830.4490000000005,8756.1450000000004,8682.9310000000005,8610.6779999999999,8539.3790000000008,8469.0149999999994,8399.51,8330.8060000000005,8262.7970000000005,8195.4969999999994,8128.79,8062.4250000000002,7996.06,7929.4690000000001,7862.5659999999998,7795.4070000000002,7728.13,7660.9139999999998,7593.9430000000002,7527.2089999999998,7460.7650000000003,7394.8360000000002,7329.67,7265.482,7202.3469999999998,7140.2550000000001,7079.1210000000001,7018.8329999999996,6959.2969999999996,6900.4350000000004,6842.2129999999997,6784.6189999999997,6727.6769999999997,6671.4639999999999,null,"Cuba","Cuba"]
[159,"Medium variant","Curaçao",null,531,"Country",915,163.42400000000001,164.09299999999999,164.798,165.529,166.27500000000001,167.00200000000001,167.68700000000001,168.334,168.96600000000001,169.56899999999999,170.14500000000001,170.70400000000001,171.22800000000001,171.733,172.197,172.64400000000001,173.059,173.43700000000001,173.786,174.10400000000001,174.392,174.64099999999999,174.87,175.06,175.227,175.36600000000001,175.48500000000001,175.572,175.63,175.67599999999999,175.71100000000001,175.72200000000001,175.73,175.726,175.72200000000001,175.71,175.71,175.70699999999999,175.709,175.71600000000001,175.74199999999999,175.76599999999999,175.81899999999999,175.863,175.94,176.012,176.09100000000001,176.185,176.292,176.38800000000001,176.5,176.607,176.70699999999999,176.80600000000001,176.898,176.982,177.053,177.12299999999999,177.172,177.203,177.22399999999999,177.23500000000001,177.221,177.184,177.142,177.083,177.012,176.92699999999999,176.822,176.72200000000001,176.60400000000001,176.477,176.351,176.203,176.06399999999999,175.911,175.76599999999999,175.62200000000001,175.47200000000001,175.327,175.18199999999999,175.047,null,"Curaçao","Curaçao"]
[160,"Medium variant","Dominica",null,212,"Country",915,71.808000000000007,71.986000000000004,72.167000000000002,72.343999999999994,72.519000000000005,72.680000000000007,72.817999999999998,72.947999999999993,73.051000000000002,73.138000000000005,73.204999999999998,73.241,73.260999999999996,73.254999999999995,73.221999999999994,73.168999999999997,73.106999999999999,73.018000000000001,72.92,72.802000000000007,72.683000000000007,72.548000000000002,72.400000000000006,72.248999999999995,72.096000000000004,71.936000000000007,71.769000000000005,71.603999999999999,71.430000000000007,71.260000000000005,71.078000000000003,70.876999999999995,70.679000000000002,70.465000000000003,70.239999999999995,70.007999999999996,69.77,69.512,69.251999999999995,68.960999999999999,68.677999999999997,68.376999999999995,68.066999999999993,67.738,67.397999999999996,67.049000000000007,66.692999999999998,66.316000000000003,65.936999999999998,65.543000000000006,65.138000000000005,64.721000000000004,64.299000000000007,63.863999999999997,63.424999999999997,62.984000000000002,62.527999999999999,62.067,61.601999999999997,61.124000000000002,60.651000000000003,60.168999999999997,59.679000000000002,59.195999999999998,58.718000000000004,58.225000000000001,57.755000000000003,57.279000000000003,56.808999999999997,56.341999999999999,55.890999999999998,55.44,54.984999999999999,54.555999999999997,54.134,53.704999999999998,53.301000000000002,52.887,52.491,52.11,51.716000000000001,51.350999999999999,null,"Dominica","Dominica"]
[161,"Medium variant","Dominican Republic",null,214,"Country",915,10738.958000000001,10847.91,10953.703,11056.37,11155.928,11252.481,11346.146000000001,11436.861999999999,11524.53,11609.246999999999,11691.144,11770.322,11846.803,11920.598,11991.715,12060.204,12126.064,12189.319,12249.968000000001,12308.037,12363.543,12416.49,12466.885,12514.686,12559.825999999999,12602.201999999999,12641.737999999999,12678.415999999999,12712.216,12743.09,12770.972,12795.808999999999,12817.593000000001,12836.339,12852.135,12865.074000000001,12875.249,12882.694,12887.431,12889.472,12888.812,12885.462,12879.46,12870.848,12859.708000000001,12846.114,12830.153,12811.89,12791.326999999999,12768.441999999999,12743.200999999999,12715.607,12685.665000000001,12653.421,12618.933000000001,12582.293,12543.540999999999,12502.734,12459.898999999999,12415.049000000001,12368.203,12319.370999999999,12268.601000000001,12215.956,12161.465,12105.198,12047.204,11987.526,11926.225,11863.382,11799.089,11733.42,11666.442999999999,11598.212,11528.769,11458.147999999999,11386.385,11313.543,11239.672,11164.834999999999,11089.102999999999,11012.546,null,"Dominican Republic","Dominican Republic"]
[162,"Medium variant","Grenada",null,308,"Country",915,112.003,112.523,113.021,113.47499999999999,113.901,114.29,114.628,114.93600000000001,115.19499999999999,115.41200000000001,115.614,115.779,115.931,116.065,116.17,116.258,116.33,116.39,116.42700000000001,116.459,116.47199999999999,116.46599999999999,116.461,116.43600000000001,116.395,116.336,116.264,116.164,116.054,115.90900000000001,115.752,115.56399999999999,115.35,115.113,114.84399999999999,114.557,114.235,113.892,113.53,113.131,112.71899999999999,112.277,111.81699999999999,111.33799999999999,110.83799999999999,110.313,109.774,109.22,108.66,108.075,107.476,106.864,106.242,105.602,104.955,104.301,103.64,102.967,102.288,101.60899999999999,100.922,100.238,99.540999999999997,98.852000000000004,98.156000000000006,97.462000000000003,96.763999999999996,96.075999999999993,95.381,94.680999999999997,93.98,93.29,92.588999999999999,91.891000000000005,91.185000000000002,90.483000000000004,89.775999999999996,89.064999999999998,88.35,87.634,86.91,86.18,null,"Grenada","Grenada"]
[163,"Medium variant","Guadeloupe",null,312,"Country",915,400.05599999999998,400.12400000000002,400.02,399.79399999999998,399.53100000000001,399.32299999999998,399.24799999999999,399.32100000000003,399.495,399.73,400.00400000000002,400.24599999999998,400.45800000000003,400.62599999999998,400.74599999999998,400.76400000000001,400.67700000000002,400.44900000000001,400.10899999999998,399.63299999999998,399.03699999999998,398.34199999999998,397.53100000000001,396.60700000000003,395.60199999999998,394.505,393.35500000000002,392.15899999999999,390.91,389.62599999999998,388.28899999999999,386.92200000000003,385.51600000000002,384.09,382.65199999999999,381.22800000000001,379.839,378.483,377.178,375.90800000000002,374.69900000000001,373.536,372.42700000000002,371.37200000000001,370.37200000000001,369.43299999999999,368.53399999999999,367.69600000000003,366.88900000000001,366.13499999999999,365.41199999999998,364.71300000000002,364.03800000000001,363.38400000000001,362.74900000000002,362.12299999999999,361.50099999999998,360.88299999999998,360.27699999999999,359.65199999999999,359.03,358.39299999999997,357.74799999999999,357.08699999999999,356.39400000000001,355.69,354.94499999999999,354.17500000000001,353.36599999999999,352.52100000000002,351.63499999999999,350.70600000000002,349.73,348.70600000000002,347.64100000000002,346.51400000000001,345.33600000000001,344.11599999999999,342.83499999999998,341.50200000000001,340.11200000000002,338.67599999999999,null,"Guadeloupe","Guadeloupe"]
[164,"Medium variant","Haiti",null,332,"Country",915,11263.076999999999,11402.528,11541.684999999999,11680.282999999999,11817.968000000001,11954.197,12088.562,12220.963,12351.504999999999,12480.286,12607.48,12733.237999999999,12857.465,12980.133,13101.415999999999,13221.555,13340.689,13458.853999999999,13575.895,13691.407999999999,13804.884,13915.918,14024.299000000001,14129.995999999999,14233.05,14333.545,14431.51,14526.883,14619.477999999999,14709.031999999999,14795.215,14877.779,14956.599,15031.635,15102.815000000001,15170.13,15233.541999999999,15293.009,15348.496999999999,15399.987999999999,15447.523999999999,15491.102999999999,15530.737999999999,15566.459000000001,15598.331,15626.415999999999,15650.81,15671.558000000001,15688.726000000001,15702.351000000001,15712.491,15719.21,15722.554,15722.643,15719.602999999999,15713.591,15704.741,15693.17,15678.92,15662.09,15642.748,15620.968999999999,15596.832,15570.404,15541.74,15510.856,15477.800999999999,15442.638999999999,15405.415000000001,15366.191999999999,15325.056,15282.054,15237.245999999999,15190.67,15142.393,15092.448,15040.88,14987.74,14933.07,14876.931,14819.374,14760.454,null,"Haiti","Haiti"]
[165,"Medium variant","Jamaica",null,388,"Country",915,2948.279,2961.1669999999999,2973.4630000000002,2985.0940000000001,2995.9969999999998,3006.096,3015.3209999999999,3023.6669999999999,3031.1,3037.6239999999998,3043.2469999999998,3047.9740000000002,3051.7910000000002,3054.7,3056.681,3057.752,3057.8960000000002,3057.1219999999998,3055.4389999999999,3052.866,3049.4360000000001,3045.1619999999998,3040.07,3034.1590000000001,3027.46,3020.0050000000001,3011.8150000000001,3002.904,2993.3009999999999,2982.99,2971.9949999999999,2960.317,2947.9670000000001,2934.9630000000002,2921.3020000000001,2906.991,2892.029,2876.4279999999999,2860.1880000000001,2843.3510000000001,2825.902,2807.8670000000002,2789.2660000000001,2770.0970000000002,2750.37,2730.0929999999998,2709.2660000000001,2687.9029999999998,2666.0239999999999,2643.625,2620.723,2597.3240000000001,2573.4319999999998,2549.085,2524.3020000000001,2499.1080000000002,2473.5410000000002,2447.6280000000002,2421.3910000000001,2394.8679999999999,2368.0929999999998,2341.1149999999998,2313.9560000000001,2286.636,2259.1930000000002,2231.665,2204.0819999999999,2176.4540000000002,2148.8150000000001,2121.1799999999998,2093.576,2066.0160000000001,2038.5029999999999,2011.0530000000001,1983.66,1956.326,1929.039,1901.8,1874.604,1847.4269999999999,1820.2619999999999,1793.1120000000001,null,"Jamaica","Jamaica"]
[166,"Medium variant","Martinique",null,474,"Country",915,375.55399999999997,375.26499999999999,374.745,374.08699999999999,373.327,372.53199999999998,371.76299999999998,370.99599999999998,370.20100000000002,369.39600000000002,368.56200000000001,367.71600000000001,366.851,365.96100000000001,365.01400000000001,363.99700000000001,362.87900000000002,361.66500000000002,360.34300000000002,358.89699999999999,357.32499999999999,355.60300000000001,353.73099999999999,351.71100000000001,349.572,347.31099999999998,344.94099999999997,342.48399999999998,339.93400000000003,337.32400000000001,334.661,331.96,329.24700000000001,326.517,323.79000000000002,321.08100000000002,318.40699999999998,315.76499999999999,313.16500000000002,310.625,308.15100000000001,305.73599999999999,303.392,301.13099999999997,298.93700000000001,296.81599999999997,294.77199999999999,292.79700000000003,290.89999999999998,289.06200000000001,287.27600000000001,285.53199999999998,283.82799999999997,282.16000000000003,280.524,278.90699999999998,277.31099999999998,275.71800000000002,274.142,272.56299999999999,270.96899999999999,269.37299999999999,267.76400000000001,266.14299999999997,264.50299999999999,262.84500000000003,261.166,259.47699999999998,257.75900000000001,256.02300000000002,254.28100000000001,252.52099999999999,250.75299999999999,248.97300000000001,247.18100000000001,245.37,243.536,241.68100000000001,239.8,237.904,235.98099999999999,234.041,null,"Martinique","Martinique"]
[167,"Medium variant","Montserrat",null,500,"Country",915,4.9889999999999999,4.992,4.9770000000000003,4.9649999999999999,4.9450000000000003,4.9189999999999996,4.8949999999999996,4.8659999999999997,4.8449999999999998,4.8179999999999996,4.7869999999999999,4.7629999999999999,4.7350000000000003,4.71,4.6820000000000004,4.6500000000000004,4.62,4.5910000000000002,4.5599999999999996,4.5309999999999997,4.5060000000000002,4.4790000000000001,4.45,4.4139999999999997,4.3849999999999998,4.3559999999999999,4.3230000000000004,4.2910000000000004,4.2539999999999996,4.22,4.1879999999999997,4.1529999999999996,4.1150000000000002,4.0819999999999999,4.0430000000000001,4.008,3.9729999999999999,3.9359999999999999,3.9079999999999999,3.8740000000000001,3.839,3.8,3.7669999999999999,3.7309999999999999,3.6970000000000001,3.67,3.6360000000000001,3.6080000000000001,3.5790000000000002,3.5550000000000002,3.5289999999999999,3.5030000000000001,3.476,3.45,3.43,3.4020000000000001,3.38,3.3530000000000002,3.3330000000000002,3.3119999999999998,3.2930000000000001,3.2709999999999999,3.25,3.23,3.21,3.19,3.169,3.145,3.1240000000000001,3.1070000000000002,3.0830000000000002,3.0659999999999998,3.0470000000000002,3.0270000000000001,3.01,2.9830000000000001,2.9660000000000002,2.9489999999999998,2.9350000000000001,2.911,2.891,2.8780000000000001,null,{"$error":"#N/A"},"Montserrat",null,{"$f":"H184","v":4.9889999999999999}]
[168,"Medium variant","Puerto Rico",null,630,"Country",915,2933.4079999999999,2860.8530000000001,2828.2550000000001,2829.8119999999999,2854.172,2884.069,2906.6439999999998,2918.922,2923.9679999999998,2922.174,2915.4670000000001,2905.3519999999999,2890.942,2871.3049999999998,2848.0940000000001,2823.634,2799.6750000000002,2776.79,2754.6640000000002,2733.0360000000001,2711.357,2689.2020000000002,2666.66,2643.9580000000001,2620.9569999999999,2597.5050000000001,2573.4650000000001,2548.8049999999998,2523.5819999999999,2497.8560000000002,2471.7579999999998,2445.386,2418.7719999999999,2391.9349999999999,2364.933,2337.8510000000001,2310.7649999999999,2283.7049999999999,2256.7080000000001,2229.8069999999998,2203.049,2176.4650000000001,2150.085,2123.9090000000001,2097.9569999999999,2072.181,2046.587,2021.181,1995.963,1970.9169999999999,1946.0519999999999,1921.3430000000001,1896.787,1872.3879999999999,1848.127,1824.011,1800.029,1776.162,1752.4179999999999,1728.7860000000001,1705.249,1681.808,1658.4480000000001,1635.171,1611.9380000000001,1588.739,1565.5640000000001,1542.39,1519.2180000000001,1496.037,1472.828,1449.5809999999999,1426.2909999999999,1402.962,1379.6130000000001,1356.2539999999999,1332.902,1309.57,1286.2760000000001,1263.0350000000001,1239.865,1216.77,null,"Puerto Rico","Puerto Rico"]
[169,"Medium variant","Saint-Barthélemy",null,652,"Country",915,9.8469999999999995,9.8770000000000007,9.907,9.9450000000000003,9.9860000000000007,10.022,10.054,10.09,10.125,10.16,10.19,10.226000000000001,10.254,10.289,10.326000000000001,10.36,10.388999999999999,10.426,10.455,10.492000000000001,10.525,10.555999999999999,10.586,10.614000000000001,10.641999999999999,10.676,10.7,10.734,10.762,10.785,10.814,10.831,10.852,10.865,10.877000000000001,10.89,10.894,10.907,10.91,10.911,10.917999999999999,10.917999999999999,10.917999999999999,10.92,10.913,10.91,10.906000000000001,10.901,10.894,10.887,10.875999999999999,10.864000000000001,10.852,10.840999999999999,10.827999999999999,10.811,10.795,10.779,10.754,10.733000000000001,10.711,10.692,10.673,10.65,10.628,10.606,10.582000000000001,10.554,10.523999999999999,10.496,10.468,10.442,10.413,10.387,10.358000000000001,10.324999999999999,10.3,10.27,10.241,10.209,10.179,10.148999999999999,null,{"$error":"#N/A"},"Saint-Barthélemy",null,{"$f":"H186","v":9.8469999999999995}]
[170,"Medium variant","Saint Kitts and Nevis",null,659,"Country",915,52.823,53.198999999999998,53.543999999999997,53.871000000000002,54.176000000000002,54.463000000000001,54.741,54.988,55.228999999999999,55.444000000000003,55.642000000000003,55.832000000000001,55.996000000000002,56.142000000000003,56.277000000000001,56.395000000000003,56.49,56.57,56.636000000000003,56.683,56.720999999999997,56.73,56.741,56.734999999999999,56.706000000000003,56.664999999999999,56.61,56.545000000000002,56.472000000000001,56.378999999999998,56.271000000000001,56.161000000000001,56.023000000000003,55.886000000000003,55.734000000000002,55.564999999999998,55.389000000000003,55.198999999999998,55.006999999999998,54.790999999999997,54.582000000000001,54.350999999999999,54.121000000000002,53.881,53.634,53.374000000000002,53.116,52.85,52.581000000000003,52.298000000000002,52.021999999999998,51.743000000000002,51.456000000000003,51.167999999999999,50.875999999999998,50.585999999999999,50.295999999999999,50.003,49.71,49.423999999999999,49.133000000000003,48.841000000000001,48.552999999999997,48.262999999999998,47.981999999999999,47.689,47.417000000000002,47.134,46.851999999999997,46.575000000000003,46.298999999999999,46.027999999999999,45.750999999999998,45.475000000000001,45.213000000000001,44.942999999999998,44.68,44.414000000000001,44.156999999999996,43.901000000000003,43.648000000000003,43.393999999999998,null,"Saint Kitts and Nevis","Saint Kitts and Nevis"]
[171,"Medium variant","Saint Lucia",null,662,"Country",915,182.79,183.62700000000001,184.4,185.113,185.77099999999999,186.37200000000001,186.92,187.40600000000001,187.82599999999999,188.19200000000001,188.494,188.738,188.922,189.04,189.10300000000001,189.11199999999999,189.05600000000001,188.94399999999999,188.77600000000001,188.548,188.27099999999999,187.94399999999999,187.565,187.13900000000001,186.672,186.15299999999999,185.589,184.98099999999999,184.32900000000001,183.63499999999999,182.90600000000001,182.12899999999999,181.32499999999999,180.47499999999999,179.59,178.666,177.71899999999999,176.73599999999999,175.72,174.67099999999999,173.61199999999999,172.51599999999999,171.4,170.273,169.12,167.94300000000001,166.74799999999999,165.535,164.31299999999999,163.05799999999999,161.803,160.523,159.23099999999999,157.928,156.608,155.27099999999999,153.917,152.56800000000001,151.197,149.82300000000001,148.43700000000001,147.04599999999999,145.66,144.27199999999999,142.88200000000001,141.49199999999999,140.12200000000001,138.762,137.411,136.07900000000001,134.77099999999999,133.48400000000001,132.22,130.988,129.77500000000001,128.595,127.438,126.31,125.214,124.14100000000001,123.108,122.09399999999999,null,"Saint Lucia","Saint Lucia"]
[172,"Medium variant","Saint Vincent and the Grenadines",null,670,"Country",915,110.589,110.94,111.26300000000001,111.551,111.809,112.04600000000001,112.261,112.461,112.643,112.806,112.93600000000001,113.038,113.11499999999999,113.16500000000001,113.187,113.17400000000001,113.13500000000001,113.063,112.962,112.83,112.66800000000001,112.47799999999999,112.256,112.014,111.73,111.42700000000001,111.1,110.749,110.374,109.974,109.55,109.113,108.66,108.181,107.69,107.188,106.661,106.129,105.586,105.027,104.467,103.886,103.291,102.691,102.084,101.462,100.828,100.184,99.528000000000006,98.867000000000004,98.194000000000003,97.510999999999996,96.825000000000003,96.116,95.403999999999996,94.686000000000007,93.962999999999994,93.224999999999994,92.477999999999994,91.727000000000004,90.972999999999999,90.207999999999998,89.442999999999998,88.668000000000006,87.891999999999996,87.114999999999995,86.325999999999993,85.543000000000006,84.747,83.959000000000003,83.167000000000002,82.372,81.581999999999994,80.793999999999997,80.010000000000005,79.221999999999994,78.438999999999993,77.664000000000001,76.891000000000005,76.126999999999995,75.366,74.617000000000004,null,"Saint Vincent and the Grenadines","Saint Vincent and the Grenadines"]
[173,"Medium variant","Sint Maarten (Dutch part)",null,534,"Country",915,42.387999999999998,42.875999999999998,43.411999999999999,43.966000000000001,44.534999999999997,45.088999999999999,45.627000000000002,46.148000000000003,46.655000000000001,47.140999999999998,47.613,48.076000000000001,48.521999999999998,48.948999999999998,49.363,49.76,50.151000000000003,50.529000000000003,50.890999999999998,51.25,51.591000000000001,51.933999999999997,52.26,52.588000000000001,52.917000000000002,53.228000000000002,53.54,53.844999999999999,54.140999999999998,54.445999999999998,54.731000000000002,55.017000000000003,55.304000000000002,55.588000000000001,55.859000000000002,56.134,56.396000000000001,56.667999999999999,56.935000000000002,57.197000000000003,57.454999999999998,57.71,57.976999999999997,58.232999999999997,58.494999999999997,58.756,59.021000000000001,59.283999999999999,59.551000000000002,59.825000000000003,60.088999999999999,60.368000000000002,60.652999999999999,60.935000000000002,61.222999999999999,61.506,61.79,62.09,62.384,62.682000000000002,62.976999999999997,63.276000000000003,63.573,63.866,64.162000000000006,64.466999999999999,64.754999999999995,65.052000000000007,65.346999999999994,65.64,65.926000000000002,66.22,66.516000000000005,66.802000000000007,67.102999999999994,67.394000000000005,67.691999999999993,67.997,68.296999999999997,68.599000000000004,68.912999999999997,69.216999999999999,null,{"$error":"#N/A"},"Sint Maarten (Dutch part)",null,{"$f":"H190","v":42.387999999999998}]
[174,"Medium variant","Saint-Martin (French part)",null,663,"Country",915,38.002000000000002,38.665999999999997,39.234000000000002,39.729999999999997,40.186999999999998,40.621000000000002,41.06,41.517000000000003,41.960999999999999,42.4,42.832999999999998,43.268999999999998,43.707000000000001,44.139000000000003,44.563000000000002,44.997,45.420999999999999,45.843000000000004,46.250999999999998,46.655000000000001,47.055,47.441000000000003,47.825000000000003,48.2,48.563000000000002,48.911999999999999,49.25,49.595999999999997,49.918999999999997,50.232999999999997,50.53,50.825000000000003,51.103000000000002,51.372,51.634,51.878,52.113999999999997,52.341999999999999,52.56,52.783999999999999,52.994999999999997,53.198,53.408000000000001,53.621000000000002,53.820999999999998,54.023000000000003,54.222999999999999,54.436999999999998,54.645000000000003,54.857999999999997,55.069000000000003,55.284999999999997,55.506999999999998,55.725999999999999,55.941000000000003,56.162999999999997,56.381,56.603999999999999,56.82,57.033999999999999,57.241999999999997,57.457999999999998,57.661000000000001,57.866,58.058999999999997,58.235999999999997,58.418999999999997,58.597999999999999,58.758000000000003,58.908999999999999,59.064,59.210999999999999,59.343000000000004,59.473999999999997,59.59,59.703000000000003,59.808999999999997,59.905999999999999,59.988,60.063000000000002,60.137999999999998,60.186999999999998,null,{"$error":"#N/A"},"Saint-Martin (French part)",null,{"$f":"H191","v":38.002000000000002}]
[175,"Medium variant","Trinidad and Tobago",null,780,"Country",915,1394.973,1399.4880000000001,1403.375,1406.585,1409.1690000000001,1411.1969999999999,1412.6969999999999,1413.7059999999999,1414.2370000000001,1414.33,1414.0440000000001,1413.415,1412.481,1411.2449999999999,1409.7180000000001,1407.933,1405.8889999999999,1403.595,1401.0619999999999,1398.289,1395.252,1391.94,1388.36,1384.521,1380.402,1376.001,1371.3219999999999,1366.3440000000001,1361.095,1355.579,1349.796,1343.789,1337.5319999999999,1331.0609999999999,1324.3789999999999,1317.5029999999999,1310.4570000000001,1303.2629999999999,1295.912,1288.4159999999999,1280.8009999999999,1273.066,1265.2049999999999,1257.2619999999999,1249.223,1241.0830000000001,1232.8679999999999,1224.578,1216.2159999999999,1207.8109999999999,1199.3800000000001,1190.944,1182.5060000000001,1174.0740000000001,1165.682,1157.348,1149.067,1140.8689999999999,1132.7539999999999,1124.7439999999999,1116.83,1109.039,1101.3620000000001,1093.8050000000001,1086.365,1079.028,1071.7840000000001,1064.6410000000001,1057.578,1050.596,1043.672,1036.77,1029.912,1023.072,1016.249,1009.452,1002.672,995.90700000000004,989.15099999999995,982.39200000000005,975.62599999999998,968.827,null,"Trinidad and Tobago","Trinidad and Tobago"]
[176,"Medium variant","Turks and Caicos Islands",null,796,"Country",915,38.191000000000003,38.716999999999999,39.231000000000002,39.741,40.246000000000002,40.743000000000002,41.231999999999999,41.718000000000004,42.204999999999998,42.676000000000002,43.145000000000003,43.606000000000002,44.055,44.500999999999998,44.939,45.368000000000002,45.780999999999999,46.182000000000002,46.567999999999998,46.941000000000003,47.3,47.64,47.978999999999999,48.284999999999997,48.582999999999998,48.872999999999998,49.139000000000003,49.396999999999998,49.636000000000003,49.862000000000002,50.067,50.273000000000003,50.451000000000001,50.628999999999998,50.783999999999999,50.936999999999998,51.067999999999998,51.195999999999998,51.313000000000002,51.426000000000002,51.52,51.616999999999997,51.701000000000001,51.777999999999999,51.853999999999999,51.926000000000002,51.991999999999997,52.05,52.106999999999999,52.16,52.207999999999998,52.26,52.308999999999997,52.353000000000002,52.41,52.453000000000003,52.5,52.551000000000002,52.594999999999999,52.643000000000001,52.682000000000002,52.725999999999999,52.777999999999999,52.819000000000003,52.866,52.920999999999999,52.965000000000003,53.011000000000003,53.061999999999998,53.109000000000002,53.161000000000001,53.198999999999998,53.244999999999997,53.281999999999996,53.326000000000001,53.365000000000002,53.406999999999996,53.444000000000003,53.484999999999999,53.53,53.566000000000003,53.607999999999997,null,"Turks and Caicos Islands","Turks and Caicos Islands"]
[177,"Medium variant","United States Virgin Islands",null,850,"Country",915,104.578,104.425,104.226,103.971,103.66800000000001,103.32599999999999,102.955,102.565,102.134,101.676,101.19199999999999,100.69199999999999,100.154,99.611000000000004,99.042000000000002,98.447000000000003,97.832999999999998,97.188999999999993,96.525999999999996,95.84,95.12,94.393000000000001,93.646000000000001,92.873999999999995,92.072000000000003,91.272999999999996,90.453999999999994,89.626999999999995,88.786000000000001,87.933999999999997,87.084000000000003,86.22,85.346000000000004,84.465999999999994,83.584999999999994,82.704999999999998,81.813000000000002,80.930000000000007,80.036000000000001,79.144999999999996,78.254000000000005,77.382999999999996,76.504000000000005,75.638000000000005,74.778000000000006,73.921000000000006,73.070999999999998,72.228999999999999,71.391000000000005,70.561000000000007,69.724999999999994,68.906000000000006,68.076999999999998,67.256,66.429000000000002,65.602000000000004,64.769000000000005,63.93,63.076000000000001,62.22,61.348999999999997,60.469000000000001,59.573999999999998,58.670999999999999,57.746000000000002,56.811,55.866999999999997,54.908999999999999,53.935000000000002,52.948999999999998,51.951000000000001,50.94,49.926000000000002,48.89,47.857999999999997,46.802,45.756,44.695,43.639000000000003,42.573,41.517000000000003,40.463000000000001,null,{"$error":"#N/A"},"United States Virgin Islands",null,{"$f":"H194","v":104.578}]
[178,"Medium variant","Central America",null,916,"Subregion",1830,177586.52600000001,179670.2,181721.49600000001,183739.05499999999,185721.943,187669.33799999999,189580.52600000001,191454.266,193289.81200000001,195087.465,196847.935,198571.32199999999,200257.508,201905.01199999999,203511.32399999999,205073.147,206587.98199999999,208054.617,209473.05100000001,210843.31,212166.02299999999,213441.46599999999,214669.33799999999,215849.133,216980.98300000001,218065.179,219101.87700000001,220091.196,221032.984,221926.64,222771.421,223566.851,224312.872,225009.88099999999,225658.476,226259.43,226813.50700000001,227321.01500000001,227782.283,228197.96299999999,228568.77799999999,228895.37700000001,229178.266,229417.875,229614.42499999999,229768.16899999999,229879.375,229948.514,229976.08799999999,229962.37400000001,229907.7,229812.361,229676.84400000001,229501.658,229287.67999999999,229035.86499999999,228747.095,228422.17199999999,228061.61799999999,227665.49,227233.641,226766.28899999999,226264.04699999999,225728.04399999999,225159.68799999999,224560.49299999999,223932.02900000001,223275.45600000001,222591.83799999999,221882.41200000001,221148.47099999999,220391.264,219612.18599999999,218812.59899999999,217993.95199999999,217157.649,216305.24100000001,215438.17499999999,214558.022,213666.239,212764.451,211854.21299999999]
[179,"Medium variant","Belize",null,84,"Country",916,390.35300000000001,397.62799999999999,404.91399999999999,412.19,419.43799999999999,426.61900000000003,433.71499999999997,440.71,447.60399999999998,454.38900000000001,461.072,467.63299999999998,474.07,480.38900000000001,486.572,492.63200000000001,498.55500000000001,504.34399999999999,510.00099999999998,515.52700000000004,520.91200000000003,526.15700000000004,531.26800000000003,536.25300000000004,541.09100000000001,545.78899999999999,550.34400000000005,554.75599999999997,559.01900000000001,563.15099999999995,567.16,571.04200000000003,574.827,578.49699999999996,582.04700000000003,585.47400000000005,588.77099999999996,591.94799999999998,594.99400000000003,597.92200000000003,600.72799999999995,603.41300000000001,605.97799999999995,608.42499999999995,610.74900000000002,612.94000000000005,615.01800000000003,616.96400000000006,618.79200000000003,620.48900000000003,622.06399999999996,623.51199999999994,624.84699999999998,626.05700000000002,627.14200000000005,628.1,628.95299999999997,629.67499999999995,630.28300000000002,630.774,631.149,631.42100000000005,631.59,631.65099999999995,631.625,631.49300000000005,631.28599999999994,630.98800000000006,630.61500000000001,630.16,629.64400000000001,629.05999999999995,628.40899999999999,627.70100000000002,626.94000000000005,626.12699999999995,625.274,624.37599999999998,623.44100000000003,622.46400000000006,621.46600000000001,620.44200000000001,null,{"$f":"VLOOKUP(C196,countries,1,FALSE)","v":"Belize"},"Belize"]
[180,"Medium variant","Costa Rica",null,188,"Country",916,5047.5609999999997,5094.1180000000004,5139.0519999999997,5182.3540000000003,5223.9799999999996,5263.8980000000001,5302.1109999999999,5338.5649999999996,5373.2619999999997,5406.3220000000001,5437.8770000000004,5468.0379999999996,5496.8469999999998,5524.2629999999999,5550.3010000000004,5574.893,5598.0309999999999,5619.72,5639.982,5658.7860000000001,5676.125,5691.9830000000002,5706.3649999999998,5719.2619999999997,5730.7259999999997,5740.7849999999999,5749.4679999999998,5756.7920000000004,5762.7719999999999,5767.4129999999996,5770.7150000000001,5772.6989999999996,5773.3630000000003,5772.76,5770.8810000000003,5767.7389999999996,5763.366,5757.7650000000003,5750.9750000000004,5743.058,5734.0609999999997,5724.0550000000003,5713.058,5701.0959999999995,5688.1970000000001,5674.41,5659.7520000000004,5644.2569999999996,5627.9340000000002,5610.7669999999998,5592.7340000000004,5573.8180000000002,5554.0370000000003,5533.4089999999997,5511.9449999999997,5489.6540000000005,5466.5389999999998,5442.634,5418.0060000000003,5392.6819999999998,5366.741,5340.2569999999996,5313.2690000000002,5285.848,5258.076,5230.0870000000004,5201.9740000000002,5173.7849999999999,5145.5820000000003,5117.4290000000001,5089.3919999999998,5061.5129999999999,5033.8440000000001,5006.4139999999998,4979.26,4952.3869999999997,4925.8339999999998,4899.5870000000004,4873.6819999999998,4848.1030000000001,4822.8710000000001,4797.97,null,"Costa Rica","Costa Rica"]
[181,"Medium variant","El Salvador",null,222,"Country",916,6453.5529999999999,6486.2049999999999,6518.4989999999998,6550.3890000000001,6581.7920000000004,6612.67,6642.9319999999998,6672.5559999999996,6701.3469999999998,6728.9219999999996,6754.7870000000003,6778.5860000000002,6800.107,6819.4359999999997,6836.9690000000001,6853.2889999999998,6868.81,6883.66,6897.6390000000001,6910.5119999999997,6921.8919999999998,6931.4979999999996,6939.2479999999996,6945.2330000000002,6949.5169999999998,6952.2290000000003,6953.4520000000002,6953.1859999999997,6951.3950000000004,6948.0749999999998,6943.21,6936.7860000000001,6928.8180000000002,6919.2889999999998,6908.1880000000001,6895.5069999999996,6881.2259999999997,6865.3360000000002,6847.8469999999998,6828.7439999999997,6808.0190000000002,6785.6750000000002,6761.7030000000004,6736.1090000000004,6708.893,6680.0730000000003,6649.6480000000001,6617.634,6584.027,6548.826,6512.0479999999998,6473.7039999999997,6433.8059999999996,6392.3590000000004,6349.3649999999998,6304.7950000000001,6258.6629999999996,6210.9920000000002,6161.8090000000002,6111.1570000000002,6059.0510000000004,6005.527,5950.6390000000001,5894.4520000000002,5837.0569999999998,5778.5429999999997,5719.0230000000001,5658.5519999999997,5597.23,5535.1629999999996,5472.491,5409.3469999999998,5345.8239999999996,5281.9719999999998,5217.8549999999996,5153.5159999999996,5088.9970000000003,5024.3590000000004,4959.6639999999998,4894.9949999999999,4830.4340000000002,4766.08,null,"El Salvador","El Salvador"]
[182,"Medium variant","Guatemala",null,320,"Country",916,17581.472000000002,17915.567999999999,18249.86,18584.039000000001,18917.713,19250.482,19581.999,19911.938999999998,20240.103999999999,20566.325000000001,20890.526999999998,21212.561000000002,21532.28,21849.437999999998,22163.69,22474.642,22781.986000000001,23085.5,23385.121999999999,23680.897000000001,23972.982,24261.440999999999,24546.223000000002,24827.167000000001,25104.142,25376.955999999998,25645.47,25909.550999999999,26169.136999999999,26424.187999999998,26674.727999999999,26920.712,27162.052,27398.574000000001,27630.080000000002,27856.305,28077.026999999998,28292.100999999999,28501.402999999998,28704.758999999998,28902.027999999998,29093.024000000001,29277.645,29455.778999999999,29627.25,29791.914000000001,29949.654999999999,30100.363000000001,30243.995999999999,30380.495999999999,30509.827000000001,30631.951000000001,30746.841,30854.489000000001,30954.951000000001,31048.309000000001,31134.643,31214.019,31286.456999999999,31351.924999999999,31410.344000000001,31461.696,31506.011999999999,31543.45,31574.294999999998,31598.883999999998,31617.502,31630.373,31637.558000000001,31639.106,31634.99,31625.258000000002,31610.045999999998,31589.582999999999,31564.170999999998,31534.102999999999,31499.671999999999,31461.136999999999,31418.742999999999,31372.665000000001,31323.064999999999,31270.072,null,"Guatemala","Guatemala"]
[183,"Medium variant","Honduras",null,340,"Country",916,9746.1170000000002,9904.607,10062.991,10221.246999999999,10379.111000000001,10536.201999999999,10692.198,10846.966,11000.352999999999,11152.072,11301.79,11449.249,11594.245000000001,11736.705,11876.566999999999,12013.833000000001,12148.489,12280.459000000001,12409.681,12536.085999999999,12659.659,12780.361000000001,12898.144,13012.995999999999,13124.97,13234.183000000001,13340.686,13444.489,13545.546,13643.718000000001,13738.846,13830.799000000001,13919.508,14004.983,14087.26,14166.406000000001,14242.457,14315.415000000001,14385.21,14451.748,14514.885,14574.527,14630.615,14683.161,14732.18,14777.697,14819.74,14858.329,14893.42,14924.957,14952.834999999999,14976.986000000001,14997.434999999999,15014.197,15027.379000000001,15037.111000000001,15043.491,15046.59,15046.441000000001,15043.067999999999,15036.486000000001,15026.734,15013.885,14998.021000000001,14979.257,14957.689,14933.441999999999,14906.615,14877.302,14845.617,14811.652,14775.531000000001,14737.365,14697.300999999999,14655.473,14612,14567.053,14520.763000000001,14473.296,14424.793,14375.411,14325.311,null,"Honduras","Honduras"]
[184,"Medium variant","Mexico",null,484,"Country",916,127575.52899999999,128932.753,130262.216,131562.772,132833.766,134074.375,135284.06700000001,136462.07199999999,137608.571,138725.06400000001,139813.70300000001,140875.76199999999,141911.821,142920.64300000001,143899.671,144845.37299999999,145755.09299999999,146627.861,147464.07800000001,148264.11499999999,149028.889,149759.03899999999,150454.45199999999,151114.75399999999,151740.13200000001,152330.834,152887.03400000001,153409.00099999999,153896.75399999999,154349.94,154768.04300000001,155150.818,155498.38699999999,155811.27600000001,156090.21,156336.09299999999,156549.79199999999,156731.74299999999,156882.44500000001,157002.78,157093.76800000001,157156.26999999999,157190.943,157198.23300000001,157178.50700000001,157132.03200000001,157059.11900000001,156960.24900000001,156835.95499999999,156686.628,156512.674,156314.48699999999,156092.43400000001,155846.96599999999,155578.70600000001,155288.32699999999,154976.408,154643.52900000001,154289.978,153915.69099999999,153520.43100000001,153104.20499999999,152667.36600000001,152210.61600000001,151734.64300000001,151240.23000000001,150728.185,150199.17499999999,149653.916,149093.30100000001,148518.32500000001,147929.908,147329.005,146716.47,146093.17300000001,145460.00099999999,144817.905,144167.853,143510.90100000001,142848.13800000001,142180.74299999999,141509.93599999999,null,"Mexico","Mexico"]
[185,"Medium variant","Nicaragua",null,558,"Country",916,6545.5020000000004,6624.5540000000001,6702.3850000000002,6779.1,6855.1779999999999,6931.3310000000001,7008.0029999999997,7085.3630000000003,7163.085,7240.5969999999998,7317.067,7391.8810000000003,7464.8130000000001,7535.9449999999997,7605.3649999999998,7673.2510000000002,7739.7389999999996,7804.7619999999997,7868.2169999999996,7930.0540000000001,7990.2510000000002,8048.7449999999999,8105.527,8160.5540000000001,8213.7530000000006,8265.0720000000001,8314.4490000000005,8361.8469999999998,8407.2510000000002,8450.6090000000004,8491.8850000000002,8531.0480000000007,8568.0619999999999,8602.9339999999993,8635.6839999999993,8666.3469999999998,8694.9760000000006,8721.5570000000007,8746.0859999999993,8768.5480000000007,8788.9110000000001,8807.152,8823.2829999999994,8837.3150000000005,8849.24,8859.0689999999995,8866.7919999999995,8872.4359999999997,8876.0220000000008,8877.5570000000007,8877.0709999999999,8874.5689999999995,8870.0969999999998,8863.6890000000003,8855.3989999999994,8845.2939999999999,8833.4339999999993,8819.8680000000004,8804.6389999999992,8787.8349999999991,8769.5049999999992,8749.7170000000006,8728.5339999999997,8706,8682.2049999999999,8657.223,8631.1370000000006,8604.0079999999998,8575.8529999999992,8546.69,8516.5149999999994,8485.3310000000001,8453.1620000000003,8420.0429999999997,8386.0110000000004,8351.1020000000008,8315.3529999999992,8278.7939999999999,8241.4330000000009,8203.2459999999992,8164.2430000000004,8124.4,null,"Nicaragua","Nicaragua"]
[186,"Medium variant","Panama",null,591,"Country",916,4246.4390000000003,4314.7669999999998,4381.5789999999997,4446.9639999999999,4510.9650000000001,4573.7610000000004,4635.5010000000002,4696.0950000000003,4755.4859999999999,4813.7740000000003,4871.1120000000001,4927.6120000000001,4983.3249999999998,5038.1930000000002,5092.1890000000003,5145.2340000000004,5197.2790000000005,5248.3109999999997,5298.3310000000001,5347.3329999999996,5395.3130000000001,5442.2420000000002,5488.1109999999999,5532.9139999999998,5576.652,5619.3310000000001,5660.9740000000002,5701.5739999999996,5741.11,5779.5460000000003,5816.8339999999998,5852.9470000000001,5887.8549999999996,5921.5680000000002,5954.1260000000002,5985.5590000000002,6015.8919999999998,6045.15,6073.3230000000003,6100.4040000000005,6126.3779999999997,6151.2610000000004,6175.0410000000002,6197.7569999999996,6219.4089999999997,6240.0339999999997,6259.6509999999998,6278.2820000000002,6295.942,6312.6540000000005,6328.4470000000001,6343.3339999999998,6357.3469999999998,6370.4920000000002,6382.7929999999997,6394.2749999999996,6404.9639999999999,6414.8649999999998,6424.0050000000001,6432.3580000000002,6439.9340000000002,6446.732,6452.7520000000004,6458.0060000000003,6462.53,6466.3440000000001,6469.48,6471.96,6473.7820000000002,6474.9459999999999,6475.4620000000004,6475.3159999999998,6474.5309999999999,6473.1149999999998,6471.0690000000004,6468.4129999999996,6465.1530000000002,6461.3059999999996,6456.8620000000001,6451.835,6446.2179999999998,6440.0020000000004,null,"Panama","Panama"]
[187,"Medium variant","South America",null,931,"Subregion",1830,427199.446,430759.766,434260.15100000001,437694.44300000003,441054.25300000003,444328.92700000003,447509.55900000001,450592.391,453574.723,456450.04100000003,459211.47600000002,461853.87,464373.8,466771.02899999998,469047.79200000002,471208.30099999998,473256.07299999997,475191.84100000001,477015.49300000002,478729.25900000002,480335.60499999998,481836.85,483234.30300000001,484529.41800000001,485724.97899999999,486824.13799999998,487829.39600000001,488742.413,489563.68199999997,490292.93800000002,490929.20799999998,491471.897,491921.47,492278.81800000003,492544.10800000001,492717.37699999998,492798.91200000001,492789.36099999998,492689.19300000003,492498.67499999999,492217.87099999998,491847.23100000003,491387.728,490840.62400000001,490207.092,489488.46299999999,488686.26299999998,487802.16700000002,486838.10399999999,485796.63900000002,484680.65,483492.89500000002,482236.14500000002,480912.97200000001,479525.64199999999,478076.484,476568.196,475003.31900000002,473385.424,471719.26,470010.21,468263.11,466481.353,464667.58,462824.71799999999,460955.38900000002,459062.16600000003,457147.81199999998,455214.88799999998,453265.68800000002,451302.42300000001,449327.152,447341.84600000002,445348.45699999999,443348.75,441344.505,439337.23,437328.34600000002,435319.201,433310.90700000001,431304.44099999999,429300.72200000001]
[188,"Medium variant","Argentina",null,32,"Country",931,44780.677000000003,45195.773999999998,45605.826000000001,46010.233999999997,46409.167999999998,46803.048999999999,47192.1,47576.269,47955.212,48328.512999999999,48695.635000000002,49056.161999999997,49409.894999999997,49756.843000000001,50097.099000000002,50430.843000000001,50758.2,51079.178,51393.646000000001,51701.500999999997,52002.584999999999,52296.794000000002,52584.044000000002,52864.364000000001,53137.875999999997,53404.781999999999,53665.212,53919.125999999997,54166.417999999998,54406.97,54640.631999999998,54867.256000000001,55086.756000000001,55299.023999999998,55503.794000000002,55700.720999999998,55889.565000000002,56070.177000000003,56242.476000000002,56406.385999999999,56561.851000000002,56708.805999999997,56847.256000000001,56977.14,57098.351999999999,57210.752,57314.269,57408.898000000001,57494.785000000003,57572.262999999999,57641.781999999999,57703.705000000002,57758.26,57805.535000000003,57845.59,57878.436000000002,57904.137000000002,57922.813000000002,57934.720000000001,57940.264000000003,57939.928,57934.108,57923.029000000002,57906.758999999998,57885.375999999997,57858.885000000002,57827.305999999997,57790.785000000003,57749.442999999999,57703.281999999999,57652.285000000003,57596.464,57535.898999999998,57470.728999999999,57401.101999999999,57327.218999999997,57249.233,57167.305999999997,57081.565000000002,56992.135000000002,56899.08,56802.489000000001,null,{"$f":"VLOOKUP(C205,countries,1,FALSE)","v":"Argentina"},"Argentina"]
[189,"Medium variant","Bolivia",null,68,"Country",931,11513.1,11673.021000000001,11832.94,11992.656000000001,12151.989,12310.67,12468.486999999999,12625.331,12781.161,12935.762000000001,13088.903,13240.382,13390.06,13537.887000000001,13683.879000000001,13828.073,13970.504999999999,14111.138000000001,14249.86,14386.54,14520.994000000001,14653.111000000001,14782.786,14910.005999999999,15034.781999999999,15157.165999999999,15277.191999999999,15394.837,15510.026,15622.642,15732.519,15839.563,15943.665000000001,16044.857,16143.209000000001,16238.859,16331.892,16422.322,16510.05,16594.962,16676.864000000001,16755.637999999999,16831.219000000001,16903.601999999999,16972.75,17038.61,17101.166000000001,17160.383999999998,17216.252,17268.768,17317.951000000001,17363.804,17406.356,17445.62,17481.598000000002,17514.294999999998,17543.731,17569.924999999999,17592.938999999998,17612.859,17629.828000000001,17643.955999999998,17655.306,17663.913,17669.776000000002,17672.882000000001,17673.228999999999,17670.862000000001,17665.850999999999,17658.261999999999,17648.190999999999,17635.737000000001,17620.952000000001,17603.875,17584.556,17563.042000000001,17539.367999999999,17513.593000000001,17485.791000000001,17456.021000000001,17424.381000000001,17390.964,null,"Bolivia","Bolivia (Plurinational State of)"]
[190,"Medium variant","Brazil",null,76,"Country",931,211049.527,212559.41699999999,213993.43700000001,215353.59299999999,216641.83199999999,217863.04000000001,219020.90700000001,220114.74,221142.804,222106.891,223009.37899999999,223852.122,224636.209,225361.77100000001,226028.56400000001,226635.924,227183.59400000001,227672.15700000001,228102.79,228476.59599999999,228794.86199999999,229058.88800000001,229269.36499999999,229427.25200000001,229534.389,229592.90400000001,229604.52799999999,229570.364,229490.823,229366.08300000001,229195.948,228980.4,228719.98800000001,228415.33100000001,228066.56700000001,227673.67300000001,227236.815,226756.45199999999,226233.19099999999,225667.573,225060.16200000001,224411.614,223722.74100000001,222994.36600000001,222227.242,221422.128,220579.95199999999,219701.81700000001,218789.024,217843.09299999999,216865.67199999999,215858.44200000001,214823.04500000001,213761.10800000001,212674.28899999999,211564.31299999999,210433.01300000001,209282.00599999999,208113.35,206929.848,205734.64199999999,204530.51800000001,203319.43299999999,202102.883,200882.481,199659.68599999999,198435.84,197212.4,195990.715,194771.95,193557.16200000001,192347.34599999999,191143.39799999999,189946.17300000001,188756.44099999999,187574.89499999999,186402.1,185238.54699999999,184084.62100000001,182940.58799999999,181806.60399999999,180682.75599999999,null,"Brazil","Brazil"]
[191,"Medium variant","Chile",null,152,"Country",931,18952.038,19116.201000000001,19212.361000000001,19250.195,19249.347000000002,19238.993999999999,19240.992999999999,19260.473999999998,19292.75,19337.991000000002,19393.832999999999,19458.102999999999,19532.746999999999,19618.419000000002,19709.55,19798.457999999999,19879.424999999999,19950.37,20012.201000000001,20065.865000000002,20113.501,20156.644,20195.135999999999,20228.167000000001,20255.944,20278.713,20296.679,20309.987000000001,20318.727999999999,20323.079000000002,20323.223999999998,20319.307000000001,20311.481,20299.863000000001,20284.454000000002,20265.234,20242.223999999998,20215.513999999999,20185.268,20151.672999999999,20114.940999999999,20075.263999999999,20032.773000000001,19987.589,19939.916000000001,19889.983,19837.974999999999,19784.05,19728.255000000001,19670.666000000001,19611.291000000001,19550.133999999998,19487.325000000001,19422.935000000001,19356.965,19289.383000000002,19220.207999999999,19149.482,19077.327000000001,19003.928,18929.484,18854.186000000002,18778.155999999999,18701.48,18624.244999999999,18546.505000000001,18468.352999999999,18389.883000000002,18311.232,18232.557000000001,18154.034,18075.821,17998.04,17920.794999999998,17844.16,17768.216,17693.039000000001,17618.722000000002,17545.373,17473.111000000001,17402.045999999998,17332.347000000002,null,"Chile","Chile"]
[192,"Medium variant","Colombia",null,170,"Country",931,50339.442999999999,50882.891000000003,51265.843999999997,51512.762000000002,51672.849000000002,51819.752999999997,52007.050999999999,52249.383999999998,52530.213000000003,52834.563999999998,53136.45,53416.762999999999,53673.627999999997,53914.358999999997,54139.347999999998,54350.5,54549.150999999998,54734.576000000001,54905.500999999997,55062.309000000001,55205.635000000002,55336.025999999998,55453.516000000003,55558.05,55649.944000000003,55729.574000000001,55797.222000000002,55853.13,55897.32,55929.663999999997,55949.883000000002,55957.824000000001,55953.487999999998,55937.112999999998,55909.042999999998,55869.726000000002,55819.533000000003,55758.686999999998,55687.199999999997,55605,55511.921999999999,55407.875999999997,55292.936000000002,55167.343000000001,55031.392999999996,54885.49,54729.955999999998,54565.004999999997,54390.764000000003,54207.3,54014.665000000001,53812.957000000002,53602.385999999999,53383.203999999998,53155.555999999997,52919.569000000003,52675.457000000002,52423.485999999997,52164.01,51897.387000000002,51624.027999999998,51344.339,51058.728999999999,50767.650999999998,50471.669000000002,50171.406000000003,49867.47,49560.351000000002,49250.552000000003,48938.631000000001,48625.237000000001,48310.944000000003,47996.271000000001,47681.699000000001,47367.658000000003,47054.578000000001,46742.89,46433.036999999997,46125.472000000002,45820.66,45519.091,45221.262000000002,null,"Colombia","Colombia"]
[193,"Medium variant","Ecuador",null,218,"Country",931,17373.662,17643.054,17888.474999999999,18113.361000000001,18324.157999999999,18530.794999999998,18740.538,18955.061000000002,19172.03,19389.990000000002,19606.240000000002,19818.796999999999,20027.527999999998,20233.235000000001,20435.858,20635.416000000001,20831.901000000002,21025.16,21214.989000000001,21401.239000000001,21583.751,21762.357,21936.958999999999,22107.474999999999,22273.817999999999,22435.940999999999,22593.794000000002,22747.304,22896.424999999999,23041.046999999999,23181.078000000001,23316.456999999999,23447.093000000001,23572.98,23694.216,23810.912,23923.152999999998,24030.985000000001,24134.315999999999,24233.008999999998,24326.835999999999,24415.653999999999,24499.415000000001,24578.170999999998,24651.992999999999,24721.017,24785.322,24844.973999999998,24899.947,24950.255000000001,24995.888999999999,25036.857,25073.195,25104.969000000001,25132.238000000001,25155.087,25173.591,25187.831999999999,25197.873,25203.732,25205.423999999999,25202.995999999999,25196.504000000001,25186.062000000002,25171.87,25154.166000000001,25133.141,25108.951000000001,25081.646000000001,25051.287,25017.886999999999,24981.488000000001,24942.18,24900.115000000002,24855.448,24808.36,24759.023000000001,24707.572,24654.137999999999,24598.816999999999,24541.690999999999,24482.82,null,"Ecuador","Ecuador"]
[194,"Medium variant","Falkland Islands",null,238,"Country",931,3.3769999999999998,3.48,3.5329999999999999,3.5390000000000001,3.5230000000000001,3.4910000000000001,3.4660000000000002,3.452,3.444,3.4420000000000002,3.4380000000000002,3.4359999999999999,3.4249999999999998,3.419,3.4049999999999998,3.3980000000000001,3.3889999999999998,3.38,3.3730000000000002,3.3620000000000001,3.3479999999999999,3.339,3.3260000000000001,3.319,3.3079999999999998,3.302,3.2909999999999999,3.2850000000000001,3.2709999999999999,3.2629999999999999,3.2530000000000001,3.2429999999999999,3.23,3.2149999999999999,3.2090000000000001,3.1930000000000001,3.1819999999999999,3.1720000000000002,3.16,3.1469999999999998,3.129,3.1190000000000002,3.1040000000000001,3.0950000000000002,3.0840000000000001,3.0670000000000002,3.0579999999999998,3.0430000000000001,3.0339999999999998,3.02,3.012,2.996,2.984,2.98,2.9670000000000001,2.956,2.9510000000000001,2.94,2.9350000000000001,2.9220000000000002,2.9180000000000001,2.903,2.8969999999999998,2.887,2.879,2.8679999999999999,2.8620000000000001,2.8479999999999999,2.831,2.8290000000000002,2.8210000000000002,2.8119999999999998,2.8,2.794,2.7829999999999999,2.778,2.7669999999999999,2.7549999999999999,2.7450000000000001,2.7349999999999999,2.7309999999999999,2.7189999999999999,null,"Falkland Islands","Falkland Islands (Malvinas)"]
[195,"Medium variant","French Guiana",null,254,"Country",931,290.83199999999999,298.68200000000002,306.44799999999998,314.16899999999998,321.89100000000002,329.64,337.48700000000002,345.399,353.36799999999999,361.387,369.471,377.61099999999999,385.81599999999997,394.05900000000003,402.35599999999999,410.67099999999999,419.02499999999998,427.38299999999998,435.75700000000001,444.137,452.52199999999999,460.89600000000002,469.26900000000001,477.63299999999998,485.98500000000001,494.35300000000001,502.72899999999998,511.12700000000001,519.52499999999998,527.95000000000005,536.37400000000002,544.80700000000002,553.26099999999997,561.72,570.173,578.63900000000001,587.08600000000001,595.529,603.96600000000001,612.37900000000002,620.76900000000001,629.14099999999996,637.49199999999996,645.81200000000001,654.10299999999995,662.37400000000002,670.62199999999996,678.85199999999998,687.053,695.23299999999995,703.37,711.47699999999998,719.53700000000003,727.56100000000004,735.548,743.48800000000006,751.39200000000005,759.24400000000003,767.05200000000002,774.81799999999998,782.53,790.18200000000002,797.77300000000002,805.30399999999997,812.76400000000001,820.16700000000003,827.49199999999996,834.75900000000001,841.95500000000004,849.06399999999996,856.09699999999998,863.02499999999998,869.85400000000004,876.596,883.23,889.77499999999998,896.22900000000004,902.59500000000003,908.86900000000003,915.05600000000004,921.149,927.14700000000005,null,"French Guiana","French Guiana"]
[196,"Medium variant","Guyana",null,328,"Country",931,782.76599999999996,786.55200000000002,790.32600000000002,794.04499999999996,797.70399999999995,801.346,804.95600000000002,808.53599999999994,812.06600000000003,815.45899999999995,818.65899999999999,821.59,824.21799999999996,826.55499999999995,828.60599999999999,830.375,831.87300000000005,833.101,834.04399999999998,834.721,835.14800000000002,835.32600000000002,835.28099999999995,835,834.49300000000005,833.76199999999994,832.81500000000005,831.649,830.28099999999995,828.69399999999996,826.92399999999998,824.95699999999999,822.8,820.47,817.94799999999998,815.23299999999995,812.327,809.23400000000004,805.95,802.5,798.88,795.09699999999998,791.15700000000004,787.06399999999996,782.81500000000005,778.41399999999999,773.86099999999999,769.16099999999994,764.31100000000004,759.30799999999999,754.16499999999996,748.86500000000001,743.41899999999998,737.82899999999995,732.08799999999997,726.197,720.15700000000004,713.98199999999997,707.66700000000003,701.20799999999997,694.601,687.84900000000005,680.94600000000003,673.90899999999999,666.74199999999996,659.43700000000001,652.02300000000002,644.49099999999999,636.84100000000001,629.09100000000001,621.25199999999995,613.31500000000005,605.29999999999995,597.21199999999999,589.05399999999997,580.83299999999997,572.55799999999999,564.22900000000004,555.86199999999997,547.46,539.03800000000001,530.59799999999996,null,"Guyana","Guyana"]
[197,"Medium variant","Paraguay",null,600,"Country",931,7044.6360000000004,7132.5379999999996,7219.6379999999999,7305.8429999999998,7391.0039999999999,7475.0150000000003,7557.7489999999998,7639.0969999999998,7718.9840000000004,7797.4139999999998,7874.4080000000004,7949.9709999999995,8024.0749999999998,8096.6639999999998,8167.607,8236.8379999999997,8304.241,8369.7860000000001,8433.4639999999999,8495.3179999999993,8555.42,8613.8050000000003,8670.4789999999994,8725.4269999999997,8778.6309999999994,8830.09,8879.8070000000007,8927.7510000000002,8973.9220000000005,9018.3040000000001,9060.8819999999996,9101.6309999999994,9140.5540000000001,9177.5879999999997,9212.6939999999995,9245.7870000000003,9276.81,9305.73,9332.5130000000008,9357.1479999999992,9379.6239999999998,9399.9310000000005,9418.0499999999993,9433.9639999999999,9447.6260000000002,9458.9770000000008,9467.9889999999996,9474.6589999999997,9479.0130000000008,9481.0830000000005,9480.8960000000006,9478.4889999999996,9473.8940000000002,9467.1830000000009,9458.4369999999999,9447.7720000000008,9435.3209999999999,9421.1319999999996,9405.2810000000009,9387.8349999999991,9368.8459999999995,9348.4,9326.5419999999995,9303.3590000000004,9278.9629999999997,9253.4459999999999,9226.8989999999994,9199.3940000000002,9170.982,9141.7209999999995,9111.6350000000002,9080.7729999999992,9049.1679999999997,9016.8490000000002,8983.8349999999991,8950.143,8915.7720000000008,8880.7270000000008,8845.0120000000006,8808.6029999999992,8771.48,8733.6309999999994,null,"Paraguay","Paraguay"]
[198,"Medium variant","Peru",null,604,"Country",931,32510.453000000001,32971.853999999999,33359.417999999998,33684.207999999999,33966.046000000002,34236.197999999997,34517.495000000003,34814.656999999999,35119.955999999998,35429.207000000002,35734.665000000001,36030.591999999997,36316.902000000002,36596.067000000003,36867.745000000003,37131.743000000002,37387.96,37636.014000000003,37875.783000000003,38107.864999999998,38333.099000000002,38552.106,38765.019999999997,38971.591,39171.675999999999,39364.972000000002,39551.258999999998,39730.457000000002,39902.53,40067.279000000002,40224.500999999997,40373.987000000001,40515.633000000002,40649.322999999997,40774.822,40891.851000000002,41000.22,41099.805999999997,41190.597999999998,41272.595000000001,41345.868000000002,41410.482000000004,41466.508000000002,41513.966,41552.817999999999,41582.985000000001,41604.483,41617.411999999997,41622.029000000002,41618.745000000003,41608.097999999998,41590.538999999997,41566.396000000001,41535.889000000003,41499.279000000002,41456.819000000003,41408.781999999999,41355.423999999999,41297.095999999998,41234.220999999998,41167.271999999997,41096.675000000003,41022.716,40945.595999999998,40865.544999999998,40782.760999999999,40697.442000000003,40609.743000000002,40519.796999999999,40427.705000000002,40333.557999999997,40237.411999999997,40139.292999999998,40039.192999999999,39937.091999999997,39832.930999999997,39726.624000000003,39618.059000000001,39507.103999999999,39393.601000000002,39277.362000000001,39158.182000000001,null,"Peru","Peru"]
[199,"Medium variant","Suriname",null,740,"Country",931,581.37199999999996,586.63199999999995,591.79999999999995,596.83100000000002,601.75199999999995,606.53200000000004,611.19100000000003,615.70899999999995,620.08900000000006,624.33600000000001,628.43499999999995,632.40099999999995,636.21699999999998,639.88499999999999,643.40899999999999,646.78099999999995,649.99599999999998,653.06100000000004,655.96400000000006,658.72,661.322,663.76700000000005,666.06399999999996,668.21100000000001,670.21,672.06399999999996,673.76400000000001,675.33600000000001,676.75599999999997,678.04100000000005,679.20699999999999,680.24099999999999,681.16700000000003,681.97500000000002,682.67100000000005,683.24900000000002,683.71199999999999,684.06600000000003,684.303,684.43899999999996,684.47900000000004,684.42499999999995,684.28800000000001,684.06200000000001,683.74099999999999,683.33,682.81899999999996,682.21400000000006,681.51,680.70299999999997,679.81200000000001,678.83299999999997,677.75900000000001,676.59900000000005,675.35,674.01,672.57,671.03800000000001,669.41499999999996,667.70600000000002,665.91,664.04,662.08500000000004,660.06100000000004,657.96,655.78300000000002,653.53800000000001,651.22900000000004,648.85199999999998,646.41499999999996,643.91899999999998,641.36,638.75900000000001,636.09299999999996,633.38199999999995,630.62400000000002,627.81799999999998,624.96500000000003,622.06299999999999,619.12400000000002,616.14499999999998,613.12099999999998,null,"Suriname","Suriname"]
[200,"Medium variant","Uruguay",null,858,"Country",931,3461.7339999999999,3473.73,3485.1509999999998,3496.0160000000001,3506.375,3516.377,3526.076,3535.4989999999998,3544.5680000000002,3553.27,3561.58,3569.471,3576.9470000000001,3584.01,3590.634,3596.81,3602.5309999999999,3607.797,3612.6019999999999,3616.9670000000001,3620.9169999999999,3624.4690000000001,3627.6260000000002,3630.3809999999999,3632.7550000000001,3634.7660000000001,3636.4180000000001,3637.712,3638.654,3639.2170000000001,3639.375,3639.1089999999999,3638.4070000000002,3637.2820000000002,3635.7159999999999,3633.7280000000001,3631.297,3628.4459999999999,3625.1579999999999,3621.433,3617.259,3612.6439999999998,3607.5830000000001,3602.078,3596.145,3589.8180000000002,3583.0949999999998,3575.9949999999999,3568.5169999999998,3560.6840000000002,3552.48,3543.93,3535.03,3525.7959999999998,3516.2420000000002,3506.3890000000001,3496.2289999999998,3485.7950000000001,3475.0819999999999,3464.12,3452.9050000000002,3441.4569999999999,3429.7939999999999,3417.9180000000001,3405.846,3393.56,3381.08,3368.4140000000002,3355.58,3342.59,3329.4789999999998,3316.2860000000001,3302.9949999999999,3289.65,3276.2429999999999,3262.79,3249.31,3235.8009999999999,3222.2910000000002,3208.7979999999998,3195.3449999999998,3181.9609999999998,null,"Uruguay","Uruguay"]
[201,"Medium variant","Venezuela",null,862,"Country",931,28515.829000000002,28435.94,28704.954000000002,29266.991000000002,30016.615000000002,30794.026999999998,31481.062999999998,32048.782999999999,32528.078000000001,32931.815000000002,33290.379999999997,33626.468999999997,33936.133000000002,34207.856,34449.732000000004,34672.470999999998,34884.281999999999,35088.74,35285.519,35474.118999999999,35652.500999999997,35819.322,35975.432000000001,36122.542000000001,36261.167999999998,36391.749000000003,36514.686000000002,36630.347999999998,36739.002999999997,36840.705000000002,36935.408000000003,37023.114999999998,37103.947,37178.076999999997,37245.591999999997,37306.572,37361.095999999998,37409.241000000002,37451.044000000002,37486.430999999997,37515.286999999997,37537.54,37553.205999999998,37562.372000000003,37565.114000000001,37561.517999999996,37551.696000000004,37535.703000000001,37513.61,37485.517999999996,37451.567000000003,37411.866999999998,37366.559000000001,37315.764000000003,37259.495000000003,37197.769999999997,37130.656999999999,37058.22,36980.677000000003,36898.411999999997,36811.894,36721.500999999997,36627.442999999999,36529.798000000003,36428.601999999999,36323.837,36215.491000000002,36103.701999999997,35988.610999999997,35870.303999999996,35748.866000000002,35624.368999999999,35496.936999999998,35366.684000000001,35233.766000000003,35098.321000000004,34960.499000000003,34820.438000000002,34678.294999999998,34534.197999999997,34388.298000000003,34240.724999999999,null,"Venezuela","Venezuela (Bolivarian Republic of)"]
[202,"Medium variant","AUSTRALIA/NEW ZEALAND",null,927,"SDG region",1828,29986.260999999999,30322.116999999998,30648.858,30966.994999999999,31278.042000000001,31583.955000000002,31886.198,32185.463,32481.755000000001,32774.915999999997,33064.586000000003,33350.442999999999,33632.747000000003,33911.756000000001,34187.171999999999,34458.567000000003,34725.661,34988.425000000003,35247.144999999997,35502.409,35754.985999999997,36005.482000000004,36254.11,36500.887000000002,36746.002,36989.572999999997,37231.711000000003,37472.550000000003,37712.139000000003,37950.343999999997,38186.985000000001,38421.906000000003,38655.095000000001,38886.616000000002,39116.438000000002,39344.517999999996,39570.845999999998,39795.432999999997,40018.33,40239.588000000003,40459.267999999996,40677.438000000002,40894.144999999997,41109.445,41323.523999999998,41536.567999999999,41748.756000000001,41960.152999999998,42170.771000000001,42380.595999999998,42589.591,42797.735999999997,43005.091,43211.66,43417.322,43621.915999999997,43825.364000000001,44027.686000000002,44228.998,44429.370999999999,44628.872000000003,44827.667999999998,45025.760999999999,45223.358999999997,45420.845999999998,45618.737000000001,45817.457999999999,46017.099000000002,46217.656999999999,46419.288,46622.108,46826.16,47031.374000000003,47237.593999999997,47444.576000000001,47652.012999999999,47859.584999999999,48066.883000000002,48273.54,48479.118000000002,48683.142,48885.131999999998]
[203,"Medium variant","Australia",null,36,"Country",927,25203.198,25499.883999999998,25788.215,26068.792000000001,26343.067999999999,26612.914000000001,26879.753000000001,27144.222000000002,27406.333999999999,27666.058000000001,27923.171999999999,28177.481,28429.258999999998,28678.76,28925.682000000001,29169.599999999999,29410.243999999999,29647.571,29881.871999999999,30113.686000000002,30343.703000000001,30572.489000000001,30800.213,31026.899000000001,31252.705999999998,31477.759999999998,31702.142,31925.966,32149.254000000001,32371.84,32593.528999999999,32814.112999999998,33033.574000000001,33251.917999999998,33469.053999999996,33684.879999999997,33899.321000000004,34112.355000000003,34323.983,34534.178,34742.9,34950.167999999998,35155.966999999997,35360.35,35563.493000000002,35765.574000000001,35966.769,36167.165000000001,36366.769,36565.599999999999,36763.654999999999,36960.959999999999,37157.584000000003,37353.582999999999,37548.921000000002,37743.548999999999,37937.457000000002,38130.712,38323.432000000001,38515.747000000003,38707.786,38899.749000000003,39091.642999999996,39283.642,39476.084000000003,39669.379000000001,39863.845999999998,40059.567999999999,40256.514000000003,40454.722999999998,40654.194000000003,40854.875999999997,41056.659,41259.358,41462.743999999999,41666.529000000002,41870.415000000001,42074.002,42276.898999999998,42478.663999999997,42678.798000000003,42876.771999999997,null,{"$f":"VLOOKUP(C220,countries,1,FALSE)","v":"Australia"},"Australia"]
[204,"Medium variant","New Zealand",null,554,"Country",927,4783.0630000000001,4822.2330000000002,4860.643,4898.2030000000004,4934.9740000000002,4971.0410000000002,5006.4449999999997,5041.241,5075.4210000000003,5108.8580000000002,5141.4139999999998,5172.9620000000004,5203.4880000000003,5232.9960000000001,5261.49,5288.9669999999996,5315.4170000000004,5340.8540000000003,5365.2730000000001,5388.723,5411.2830000000004,5432.9930000000004,5453.8969999999999,5473.9880000000003,5493.2960000000003,5511.8130000000001,5529.5690000000004,5546.5839999999998,5562.8850000000002,5578.5039999999999,5593.4560000000001,5607.7929999999997,5621.5209999999997,5634.6980000000003,5647.384,5659.6379999999999,5671.5249999999996,5683.0780000000004,5694.3469999999998,5705.41,5716.3680000000004,5727.27,5738.1779999999999,5749.0950000000003,5760.0309999999999,5770.9939999999997,5781.9870000000001,5792.9880000000003,5804.0020000000004,5814.9960000000001,5825.9359999999997,5836.7759999999998,5847.5069999999996,5858.0770000000002,5868.4009999999998,5878.3670000000002,5887.9070000000002,5896.9740000000002,5905.5659999999998,5913.6239999999998,5921.0860000000002,5927.9189999999999,5934.1180000000004,5939.7169999999996,5944.7619999999997,5949.3580000000002,5953.6120000000001,5957.5309999999999,5961.143,5964.5649999999996,5967.9139999999998,5971.2839999999997,5974.7150000000001,5978.2359999999999,5981.8320000000003,5985.4840000000004,5989.17,5992.8810000000003,5996.6409999999996,6000.4539999999997,6004.3440000000001,6008.36,null,{"$f":"VLOOKUP(C221,countries,1,FALSE)","v":"New Zealand"},"New Zealand"]
[205,"Medium variant","OCEANIA (EXCLUDING AUSTRALIA AND NEW ZEALAND)",null,1835,"SDG region",1828,12141.773999999999,12355.696,12571.111999999999,12788.231,13006.871999999999,13226.923000000001,13448.306,13670.833000000001,13894.241,14118.492,14343.287,14568.531999999999,14794.031999999999,15019.664000000001,15245.191999999999,15470.422,15695.188,15919.276,16142.666999999999,16365.282999999999,16587.098000000002,16808.133999999998,17028.243999999999,17247.358,17465.413,17682.272000000001,17897.928,18112.237000000001,18325.148000000001,18536.559000000001,18746.371999999999,18954.460999999999,19160.727999999999,19365.131000000001,19567.701000000001,19768.512999999999,19967.577000000001,20164.846000000001,20360.257000000001,20553.701000000001,20745.007000000001,20934.094000000001,21120.838,21305.238000000001,21487.173999999999,21666.719000000001,21843.776999999998,22018.300999999999,22190.26,22359.43,22525.616000000002,22688.732,22848.645,23005.348999999998,23158.838,23309.295999999998,23456.731,23601.152999999998,23742.42,23880.491000000002,24015.010999999999,24145.896000000001,24273.121999999999,24396.652999999998,24516.559000000001,24632.878000000001,24745.721000000001,24855.072,24960.917000000001,25063.307000000001,25162.26,25257.852999999999,25350.04,25438.95,25524.455999999998,25606.620999999999,25685.466,25761.050999999999,25833.285,25902.254000000001,25967.967000000001,26030.481]
[206,"Medium variant","Melanesia",null,928,"Subregion",1835,10918.517,11122.995999999999,11328.593999999999,11535.540999999999,11743.815000000001,11953.432000000001,12164.423000000001,12376.618,12589.891,12804.058999999999,13018.941999999999,13234.365,13450.235000000001,13666.398999999999,13882.677,14098.856,14314.758,14530.221,14745.186,14959.593000000001,15173.439,15386.701999999999,15599.305,15811.136,16022.119000000001,16232.165000000001,16441.241000000002,16649.221000000001,16856.096000000001,17061.695,17265.974999999999,17468.803,17670.053,17869.748,18067.878000000001,18264.484,18459.585999999999,18653.120999999999,18845.043000000001,19035.212,19223.478999999999,19409.735000000001,19593.892,19775.886999999999,19955.691999999999,20133.248,20308.536,20481.491000000002,20652.024000000001,20820.008999999998,20985.243999999999,21147.597000000002,21306.977999999999,21463.366000000002,21616.788,21767.412,21915.267,22060.347000000002,22202.574000000001,22341.805,22477.811000000002,22610.448,22739.673999999999,22865.491999999998,22987.966,23107.128000000001,23223.078000000001,23335.794999999998,23445.287,23551.553,23654.657999999999,23754.632000000001,23851.445,23945.190999999999,24035.787,24123.275000000001,24207.647000000001,24288.921999999999,24367.091,24442.154999999999,24514.155999999999,24583.111000000001]
[207,"Medium variant","Fiji",null,242,"Country",928,889.95299999999997,896.44500000000005,902.90599999999995,909.46600000000001,916.13400000000001,922.96400000000006,929.98599999999999,937.16800000000001,944.45399999999995,951.75699999999995,958.96600000000001,966.01499999999999,972.85599999999999,979.49599999999998,985.93899999999996,992.22500000000002,998.38199999999995,1004.409,1010.2809999999999,1015.985,1021.53,1026.886,1032.0840000000001,1037.096,1041.94,1046.6130000000001,1051.1300000000001,1055.4739999999999,1059.653,1063.674,1067.5450000000001,1071.2550000000001,1074.8040000000001,1078.1949999999999,1081.434,1084.5,1087.394,1090.1199999999999,1092.6690000000001,1095.0540000000001,1097.2560000000001,1099.2919999999999,1101.1600000000001,1102.8510000000001,1104.383,1105.7529999999999,1106.9780000000001,1108.056,1108.981,1109.7719999999999,1110.434,1110.9739999999999,1111.4069999999999,1111.7149999999999,1111.905,1111.989,1111.94,1111.77,1111.4739999999999,1111.06,1110.5129999999999,1109.836,1109.03,1108.0899999999999,1107.0119999999999,1105.7840000000001,1104.431,1102.92,1101.2639999999999,1099.471,1097.521,1095.421,1093.1579999999999,1090.7639999999999,1088.2170000000001,1085.52,1082.691,1079.729,1076.633,1073.4000000000001,1070.0550000000001,1066.585,null,{"$f":"VLOOKUP(C224,countries,1,FALSE)","v":"Fiji"},"Fiji"]
[208,"Medium variant","New Caledonia",null,540,"Country",928,282.75,285.49799999999999,288.21800000000002,290.91500000000002,293.584,296.20499999999998,298.786,301.31700000000001,303.80500000000001,306.25099999999998,308.66000000000003,311.024,313.35500000000002,315.637,317.87400000000002,320.06900000000002,322.20999999999998,324.29500000000002,326.32900000000001,328.29599999999999,330.202,332.04399999999998,333.81200000000001,335.51600000000002,337.14800000000002,338.69900000000001,340.18799999999999,341.59399999999999,342.93,344.19,345.38200000000001,346.51,347.55700000000002,348.55099999999999,349.47699999999998,350.339,351.15199999999999,351.911,352.61399999999998,353.26799999999997,353.892,354.47500000000002,355.036,355.56400000000002,356.05700000000002,356.53,356.97199999999998,357.39100000000002,357.78500000000003,358.154,358.49400000000003,358.81299999999999,359.10500000000002,359.37099999999998,359.60500000000002,359.82100000000003,360.00599999999997,360.154,360.27699999999999,360.37099999999998,360.43200000000002,360.452,360.44900000000001,360.40899999999999,360.33699999999999,360.23700000000002,360.108,359.94299999999998,359.76499999999999,359.553,359.32499999999999,359.08499999999998,358.81400000000002,358.54,358.25299999999999,357.952,357.63900000000001,357.31799999999998,356.99299999999999,356.65800000000002,356.32400000000001,355.99,null,{"$f":"VLOOKUP(C225,countries,1,FALSE)","v":"New Caledonia"},"New Caledonia"]
[209,"Medium variant","Papua New Guinea",null,598,"Country",928,8776.1090000000004,8947.0239999999994,9119.01,9292.1689999999999,9466.4269999999997,9641.7029999999995,9817.9259999999995,9994.9699999999993,10172.755999999999,10351.148999999999,10530.053,10709.348,10888.951999999999,11068.744000000001,11248.503000000001,11427.983,11606.999,11785.39,11963.134,12140.218000000001,12316.692999999999,12492.6,12667.856,12842.393,13016.120999999999,13188.981,13360.906999999999,13531.841,13701.742,13870.485000000001,14037.957,14204.066000000001,14368.716,14531.880999999999,14693.602999999999,14853.956,15012.966,15170.606,15326.799000000001,15481.405000000001,15634.27,15785.262000000001,15934.288,16081.308999999999,16226.29,16369.200999999999,16510.016,16648.694,16785.149000000001,16919.240000000002,17050.77,17179.605,17305.651000000002,17428.918000000001,17549.456999999999,17667.423999999999,17782.883999999998,17895.86,18006.272000000001,18114.014999999999,18218.907999999999,18320.838,18419.769,18515.735000000001,18608.794999999998,18699.008000000002,18786.455999999998,18871.142,18953.077000000001,19032.303,19108.899000000001,19182.918000000001,19254.38,19323.303,19389.674999999999,19453.487000000001,19514.734,19573.418000000001,19629.541000000001,19683.120999999999,19734.165000000001,19782.710999999999,null,{"$f":"VLOOKUP(C226,countries,1,FALSE)","v":"Papua New Guinea"},"Papua New Guinea"]
[210,"Medium variant","Solomon Islands",null,90,"Country",928,669.82299999999998,686.88400000000001,703.99599999999998,721.15899999999999,738.42200000000003,755.81899999999996,773.42,791.21199999999999,809.19500000000005,827.41200000000003,845.86699999999996,864.60500000000002,883.62599999999998,902.93,922.53399999999999,942.43200000000002,962.63,983.12300000000005,1003.9,1024.9480000000001,1046.21,1067.653,1089.2760000000001,1111.0530000000001,1132.9839999999999,1155.0619999999999,1177.277,1199.6220000000001,1222.0830000000001,1244.6569999999999,1267.373,1290.2159999999999,1313.1869999999999,1336.2860000000001,1359.4829999999999,1382.75,1406.079,1429.4459999999999,1452.867,1476.3409999999999,1499.864,1523.4580000000001,1547.11,1570.8130000000001,1594.5709999999999,1618.3489999999999,1642.1489999999999,1665.944,1689.74,1713.5419999999999,1737.354,1761.1669999999999,1784.991,1808.8050000000001,1832.5840000000001,1856.319,1879.9970000000001,1903.6030000000001,1927.124,1950.5350000000001,1973.8040000000001,1996.9159999999999,2019.856,2042.6020000000001,2065.1619999999998,2087.5160000000001,2109.6570000000002,2131.59,2153.2919999999999,2174.7449999999999,2195.9409999999998,2216.8670000000002,2237.5070000000001,2257.8670000000002,2277.9229999999998,2297.683,2317.143,2336.3040000000001,2355.1509999999998,2373.6790000000001,2391.8850000000002,2409.7600000000002,null,{"$f":"VLOOKUP(C227,countries,1,FALSE)","v":"Solomon Islands"},"Solomon Islands"]
[211,"Medium variant","Vanuatu",null,548,"Country",928,299.88200000000001,307.14499999999998,314.464,321.83199999999999,329.24799999999999,336.74099999999999,344.30500000000001,351.95100000000002,359.68099999999998,367.49,375.39600000000002,383.37299999999999,391.44600000000003,399.59199999999998,407.827,416.14699999999999,424.53699999999998,433.00400000000002,441.54199999999997,450.14600000000002,458.80399999999997,467.51900000000001,476.27699999999999,485.07799999999997,493.92599999999999,502.81,511.73899999999998,520.69000000000005,529.68799999999999,538.68899999999996,547.71799999999996,556.75599999999997,565.78899999999999,574.83500000000004,583.88099999999997,592.93899999999996,601.995,611.03800000000001,620.09400000000005,629.14400000000001,638.197,647.24800000000005,656.298,665.35,674.39099999999996,683.41499999999996,692.42100000000005,701.40599999999995,710.36900000000003,719.30100000000004,728.19200000000001,737.03800000000001,745.82399999999996,754.55700000000002,763.23699999999997,771.85900000000004,780.44,788.96,797.42700000000002,805.82399999999996,814.154,822.40599999999995,830.57,838.65599999999995,846.66,854.58299999999997,862.42600000000004,870.2,877.88900000000001,885.48099999999999,892.97199999999998,900.34100000000001,907.58600000000001,914.71699999999998,921.71900000000005,928.63300000000004,935.44,942.15300000000002,948.77300000000002,955.29700000000003,961.72699999999998,968.06500000000005,null,{"$f":"VLOOKUP(C228,countries,1,FALSE)","v":"Vanuatu"},"Vanuatu"]
[212,"Medium variant","Micronesia",null,954,"Subregion",1835,543.48599999999999,548.91399999999999,554.39700000000005,559.88900000000001,565.375,570.85699999999997,576.29700000000003,581.73500000000001,587.05799999999999,592.32600000000002,597.48400000000004,602.54399999999998,607.447,612.20600000000002,616.81399999999996,621.28599999999994,625.59799999999996,629.75199999999995,633.774,637.63499999999999,641.34699999999998,644.94000000000005,648.38800000000003,651.71199999999999,654.91899999999998,658.00599999999997,660.98900000000003,663.87300000000005,666.63099999999997,669.274,671.851,674.31399999999996,676.71199999999999,678.97799999999995,681.15599999999995,683.24099999999999,685.22799999999995,687.12400000000002,688.92200000000003,690.601,692.16399999999999,693.62800000000004,694.95100000000002,696.17100000000005,697.22299999999996,698.20600000000002,699.05600000000004,699.78099999999995,700.41600000000005,700.91899999999998,701.29300000000001,701.57500000000005,701.73,701.78599999999994,701.71500000000003,701.54399999999998,701.25699999999995,700.88599999999997,700.38099999999997,699.8,699.08799999999997,698.26900000000001,697.346,696.31200000000001,695.15700000000004,693.89599999999996,692.51099999999997,691.024,689.423,687.70299999999997,685.85500000000002,683.90700000000004,681.83699999999999,679.654,677.38599999999997,674.98199999999997,672.48800000000006,669.91399999999999,667.24900000000002,664.48800000000006,661.65599999999995,658.75800000000004]
[213,"Medium variant","Guam",null,316,"Country",954,167.29400000000001,168.77500000000001,170.179,171.51900000000001,172.809,174.07499999999999,175.31899999999999,176.559,177.751,178.91900000000001,180.05199999999999,181.14699999999999,182.19200000000001,183.2,184.15,185.059,185.916,186.709,187.459,188.14400000000001,188.785,189.37200000000001,189.90700000000001,190.392,190.834,191.23,191.583,191.89699999999999,192.167,192.40600000000001,192.608,192.78,192.923,193.04300000000001,193.124,193.19,193.221,193.23599999999999,193.22900000000001,193.203,193.148,193.072,192.971,192.85,192.7,192.52099999999999,192.32499999999999,192.10900000000001,191.864,191.59299999999999,191.29300000000001,190.97399999999999,190.61699999999999,190.23699999999999,189.82,189.36699999999999,188.88800000000001,188.37200000000001,187.81700000000001,187.239,186.61600000000001,185.96600000000001,185.285,184.577,183.84,183.06299999999999,182.26599999999999,181.43600000000001,180.589,179.715,178.809,177.892,176.959,176,175.04,174.05099999999999,173.054,172.04599999999999,171.02199999999999,169.99199999999999,168.959,167.90600000000001,null,{"$f":"VLOOKUP(C230,countries,1,FALSE)","v":{"$error":"#N/A"}},"Guam",null,{"$f":"H230","v":167.29400000000001}]
[214,"Medium variant","Kiribati",null,296,"Country",954,117.60599999999999,119.449,121.392,123.419,125.502,127.578,129.61699999999999,131.6,133.542,135.45099999999999,137.31399999999999,139.179,141.023,142.852,144.66300000000001,146.47399999999999,148.28299999999999,150.10400000000001,151.93299999999999,153.767,155.62200000000001,157.495,159.393,161.29900000000001,163.22900000000001,165.16399999999999,167.1,169.04,170.97300000000001,172.9,174.81100000000001,176.708,178.59200000000001,180.446,182.27199999999999,184.07499999999999,185.85300000000001,187.6,189.31399999999999,190.995,192.649,194.26300000000001,195.84800000000001,197.38800000000001,198.893,200.386,201.86500000000001,203.31299999999999,204.76,206.18700000000001,207.59399999999999,208.999,210.38300000000001,211.761,213.131,214.49,215.83199999999999,217.167,218.48699999999999,219.785,221.06299999999999,222.32,223.53100000000001,224.72200000000001,225.88300000000001,227,228.089,229.13499999999999,230.149,231.119,232.04300000000001,232.917,233.74600000000001,234.536,235.28800000000001,235.98500000000001,236.65100000000001,237.27699999999999,237.874,238.434,238.96199999999999,239.47900000000001,null,"Kiribati","Kiribati"]
[215,"Medium variant","Marshall Islands",null,584,"Country",954,58.790999999999997,59.19,59.61,60.057000000000002,60.527999999999999,61.04,61.603999999999999,62.225000000000001,62.889000000000003,63.582999999999998,64.290000000000006,65,65.69,66.364999999999995,67.033000000000001,67.679000000000002,68.325999999999993,68.95,69.572000000000003,70.165000000000006,70.728999999999999,71.27,71.781000000000006,72.275000000000006,72.742999999999995,73.180000000000007,73.605000000000004,73.997,74.367999999999995,74.716999999999999,75.051000000000002,75.364999999999995,75.661000000000001,75.938000000000002,76.197000000000003,76.442999999999998,76.67,76.893000000000001,77.094999999999999,77.269000000000005,77.430999999999997,77.587000000000003,77.712999999999994,77.825000000000003,77.912000000000006,77.981999999999999,78.021000000000001,78.028000000000006,78.022000000000006,77.977000000000004,77.906999999999996,77.811000000000007,77.683000000000007,77.522000000000006,77.331000000000003,77.114999999999995,76.870999999999995,76.597999999999999,76.298000000000002,75.97,75.614999999999995,75.238,74.847999999999999,74.414000000000001,73.972999999999999,73.5,73.010000000000005,72.491,71.953000000000003,71.394000000000005,70.808999999999997,70.207999999999998,69.585999999999999,68.941999999999993,68.28,67.606999999999999,66.905000000000001,66.195999999999998,65.471000000000004,64.727000000000004,63.972999999999999,63.206000000000003,null,{"$error":"#N/A"},"Marshall Islands",null,{"$f":"H232","v":58.790999999999997}]
[216,"Medium variant","Micronesia (Fed. States of)",null,583,"Country",954,113.815,115.023,116.254,117.489,118.714,119.925,121.11499999999999,122.291,123.437,124.557,125.648,126.691,127.696,128.65100000000001,129.55799999999999,130.41999999999999,131.22900000000001,131.988,132.68600000000001,133.351,133.97800000000001,134.56399999999999,135.11699999999999,135.63399999999999,136.125,136.58500000000001,137.029,137.44800000000001,137.84299999999999,138.21799999999999,138.58000000000001,138.917,139.24799999999999,139.54599999999999,139.82900000000001,140.084,140.31399999999999,140.51599999999999,140.68,140.81200000000001,140.90100000000001,140.953,140.947,140.899,140.80500000000001,140.66300000000001,140.46600000000001,140.215,139.92099999999999,139.57599999999999,139.18199999999999,138.74,138.256,137.732,137.166,136.571,135.94,135.28899999999999,134.607,133.91499999999999,133.196,132.46100000000001,131.71799999999999,130.96299999999999,130.185,129.40600000000001,128.60400000000001,127.806,126.99,126.15900000000001,125.31100000000001,124.45399999999999,123.57599999999999,122.68,121.76300000000001,120.819,119.866,118.892,117.89,116.86499999999999,115.813,114.729,null,{"$error":"#N/A"},"Micronesia (Fed. States of)",null,{"$f":"H233","v":113.815}]
[217,"Medium variant","Nauru",null,520,"Country",954,10.756,10.824,10.875999999999999,10.903,10.914999999999999,10.93,10.943,10.955,10.962999999999999,10.972,10.984999999999999,10.991,11.000999999999999,11.003,11.009,11.016999999999999,11.021000000000001,11.025,11.02,11.023999999999999,11.016,11.016999999999999,11.01,10.996,10.98,10.967000000000001,10.945,10.928000000000001,10.898,10.862,10.832000000000001,10.794,10.760999999999999,10.711,10.662000000000001,10.619,10.561,10.507999999999999,10.455,10.398,10.332000000000001,10.263999999999999,10.199,10.132999999999999,10.048999999999999,9.9860000000000007,9.9030000000000005,9.83,9.75,9.67,9.5820000000000007,9.4930000000000003,9.3960000000000008,9.3149999999999995,9.2089999999999996,9.1140000000000008,9.0120000000000005,8.9120000000000008,8.8030000000000008,8.6959999999999997,8.5850000000000009,8.4659999999999993,8.3539999999999992,8.2330000000000005,8.1120000000000001,7.99,7.8650000000000002,7.74,7.609,7.4740000000000002,7.3449999999999998,7.21,7.0679999999999996,6.9370000000000003,6.798,6.6580000000000004,6.5149999999999997,6.375,6.2320000000000002,6.0880000000000001,5.94,5.7990000000000004,null,{"$error":"#N/A"},"Nauru",null,{"$f":"H234","v":10.756}]
[218,"Medium variant","Northern Mariana Islands",null,580,"Country",954,57.216000000000001,57.558999999999997,57.917000000000002,58.268999999999998,58.628999999999998,58.981000000000002,59.338999999999999,59.706000000000003,60.055999999999997,60.4,60.734999999999999,61.06,61.363,61.646000000000001,61.914999999999999,62.151000000000003,62.354999999999997,62.527000000000001,62.673999999999999,62.78,62.853999999999999,62.898000000000003,62.902000000000001,62.88,62.826000000000001,62.752000000000002,62.661999999999999,62.558999999999997,62.442,62.308999999999997,62.177,62.031999999999996,61.89,61.734999999999999,61.591000000000001,61.438000000000002,61.293999999999997,61.142000000000003,61.000999999999998,60.863,60.725000000000001,60.591999999999999,60.462000000000003,60.34,60.21,60.09,59.972999999999999,59.856000000000002,59.744,59.63,59.517000000000003,59.405000000000001,59.305,59.198999999999998,59.09,58.981999999999999,58.871000000000002,58.761000000000003,58.645000000000003,58.526000000000003,58.399000000000001,58.261000000000003,58.113999999999997,57.965000000000003,57.79,57.612000000000002,57.417999999999999,57.213999999999999,56.997999999999998,56.767000000000003,56.53,56.277000000000001,56.018000000000001,55.746000000000002,55.47,55.186999999999998,54.889000000000003,54.59,54.292000000000002,53.991,53.683999999999997,53.39,null,{"$error":"#N/A"},"Northern Mariana Islands",null,{"$f":"H235","v":57.216000000000001}]
[219,"Medium variant","Palau",null,585,"Country",954,18.007999999999999,18.094000000000001,18.169,18.233000000000001,18.277999999999999,18.327999999999999,18.36,18.399000000000001,18.420000000000002,18.443999999999999,18.46,18.475999999999999,18.481999999999999,18.489000000000001,18.486000000000001,18.486000000000001,18.468,18.449000000000002,18.43,18.404,18.363,18.324000000000002,18.277999999999999,18.236000000000001,18.181999999999999,18.128,18.065000000000001,18.004000000000001,17.940000000000001,17.861999999999998,17.792000000000002,17.718,17.637,17.559000000000001,17.481000000000002,17.391999999999999,17.315000000000001,17.228999999999999,17.148,17.061,16.978000000000002,16.896999999999998,16.811,16.736000000000001,16.654,16.577999999999999,16.503,16.43,16.355,16.286000000000001,16.218,16.152999999999999,16.09,16.02,15.968,15.904999999999999,15.843,15.787000000000001,15.724,15.669,15.614000000000001,15.557,15.496,15.438000000000001,15.374000000000001,15.324999999999999,15.259,15.202,15.135,15.074999999999999,15.007999999999999,14.949,14.884,14.813000000000001,14.747,14.675000000000001,14.608000000000001,14.538,14.468,14.391,14.324999999999999,14.249000000000001,null,"Palau","Palau"]
[220,"Medium variant","Polynesia",null,957,"Subregion",1835,679.77099999999996,683.78599999999994,688.12099999999998,692.80100000000004,697.68200000000002,702.63400000000001,707.58600000000001,712.48,717.29200000000003,722.10699999999997,726.86099999999999,731.62300000000005,736.35,741.05899999999997,745.70100000000002,750.28,754.83199999999999,759.303,763.70699999999999,768.05499999999995,772.31200000000001,776.49199999999996,780.55100000000004,784.51,788.375,792.101,795.69799999999998,799.14300000000003,802.42100000000005,805.59,808.54600000000005,811.34400000000005,813.96299999999997,816.40499999999997,818.66700000000003,820.78800000000001,822.76300000000003,824.601,826.29200000000003,827.88800000000003,829.36400000000003,830.73099999999999,831.995,833.18,834.25900000000001,835.26499999999999,836.18499999999995,837.029,837.82,838.50199999999995,839.07899999999995,839.56,839.93700000000001,840.197,840.33500000000004,840.34,840.20699999999999,839.92,839.46500000000003,838.88599999999997,838.11199999999997,837.17899999999997,836.10199999999998,834.84900000000005,833.43600000000004,831.85400000000004,830.13199999999995,828.25300000000004,826.20699999999999,824.05100000000004,821.74699999999996,819.31399999999996,816.75800000000004,814.10500000000002,811.28300000000002,808.36400000000003,805.33100000000002,802.21500000000003,798.94500000000005,795.61099999999999,792.15499999999997,788.61199999999997]
[221,"Medium variant","American Samoa",null,16,"Country",957,55.311999999999998,55.191000000000003,55.1,55.03,54.984000000000002,54.93,54.89,54.85,54.82,54.792000000000002,54.764000000000003,54.728000000000002,54.691000000000003,54.654000000000003,54.613,54.564,54.521000000000001,54.469000000000001,54.420999999999999,54.37,54.317,54.264000000000003,54.192,54.122,54.05,53.982999999999997,53.92,53.853999999999999,53.787999999999997,53.734999999999999,53.668999999999997,53.581000000000003,53.488999999999997,53.387,53.264000000000003,53.149000000000001,53.015999999999998,52.877000000000002,52.73,52.582999999999998,52.424999999999997,52.253,52.076999999999998,51.892000000000003,51.698,51.494,51.284999999999997,51.058,50.823,50.564999999999998,50.305,50.026000000000003,49.731999999999999,49.423999999999999,49.1,48.758000000000003,48.408000000000001,48.037999999999997,47.646999999999998,47.25,46.828000000000003,46.398000000000003,45.951000000000001,45.496000000000002,45.026000000000003,44.542999999999999,44.055999999999997,43.558,43.052,42.552,42.033000000000001,41.515999999999998,40.991,40.469000000000001,39.936999999999998,39.401000000000003,38.860999999999997,38.323,37.783999999999999,37.238,36.697000000000003,36.148000000000003,null,{"$f":"VLOOKUP(C238,countries,1,FALSE)","v":{"$error":"#N/A"}},"American Samoa",null,{"$f":"H238","v":55.311999999999998}]
[222,"Medium variant","Cook Islands",null,184,"Country",957,17.547999999999998,17.564,17.565000000000001,17.571000000000002,17.562999999999999,17.553000000000001,17.544,17.545999999999999,17.53,17.533999999999999,17.529,17.524000000000001,17.52,17.513000000000002,17.507000000000001,17.492000000000001,17.48,17.466999999999999,17.45,17.437000000000001,17.420999999999999,17.396000000000001,17.370999999999999,17.349,17.317,17.29,17.254999999999999,17.225000000000001,17.190999999999999,17.152999999999999,17.117999999999999,17.081,17.038,16.989999999999998,16.940999999999999,16.895,16.843,16.795999999999999,16.742000000000001,16.689,16.634,16.585000000000001,16.524000000000001,16.472000000000001,16.411999999999999,16.356000000000002,16.300999999999998,16.248000000000001,16.190000000000001,16.137,16.074999999999999,16.018000000000001,15.965999999999999,15.903,15.849,15.794,15.73,15.664,15.614000000000001,15.548,15.48,15.414999999999999,15.348000000000001,15.275,15.208,15.138,15.064,14.992000000000001,14.912000000000001,14.831,14.754,14.667999999999999,14.592000000000001,14.507,14.42,14.329000000000001,14.237,14.154,14.058,13.964,13.877000000000001,13.788,null,"Cook Islands","Cook Islands"]
[223,"Medium variant","French Polynesia",null,258,"Country",957,279.28699999999998,280.90800000000002,282.52999999999997,284.16399999999999,285.78699999999998,287.416,289.02800000000002,290.63299999999998,292.20800000000003,293.755,295.25599999999997,296.714,298.10000000000002,299.43200000000002,300.697,301.892,303.02300000000002,304.072,305.053,305.95400000000001,306.779,307.52699999999999,308.18599999999998,308.76499999999999,309.26900000000001,309.69099999999997,310.04500000000002,310.31400000000002,310.50299999999999,310.63299999999998,310.67399999999998,310.654,310.565,310.40499999999997,310.18599999999998,309.89699999999999,309.55700000000002,309.16300000000001,308.71100000000001,308.21300000000002,307.66800000000001,307.07799999999997,306.43900000000002,305.76799999999997,305.04899999999998,304.3,303.52,302.7,301.85399999999998,300.98200000000003,300.06900000000002,299.13,298.16300000000001,297.16699999999997,296.14600000000002,295.09300000000002,294.01900000000001,292.92200000000003,291.79700000000003,290.66000000000003,289.49200000000002,288.303,287.096,285.86799999999999,284.625,283.36,282.08600000000001,280.79700000000003,279.48899999999998,278.17500000000001,276.85199999999998,275.51299999999998,274.17500000000001,272.82400000000001,271.45400000000001,270.08699999999999,268.697,267.303,265.89,264.45999999999998,263.012,261.548,null,"French Polynesia","French Polynesia"]
[224,"Medium variant","Niue",null,570,"Country",957,1.615,1.6259999999999999,1.619,1.6220000000000001,1.6259999999999999,1.6180000000000001,1.621,1.6279999999999999,1.6339999999999999,1.643,1.651,1.6639999999999999,1.6739999999999999,1.679,1.6859999999999999,1.69,1.696,1.7050000000000001,1.7130000000000001,1.7230000000000001,1.724,1.73,1.7410000000000001,1.74,1.748,1.7509999999999999,1.752,1.7589999999999999,1.7609999999999999,1.77,1.776,1.778,1.7869999999999999,1.7909999999999999,1.792,1.7969999999999999,1.7989999999999999,1.802,1.8069999999999999,1.8089999999999999,1.8129999999999999,1.8160000000000001,1.8149999999999999,1.821,1.821,1.825,1.819,1.82,1.823,1.8240000000000001,1.821,1.819,1.8220000000000001,1.8169999999999999,1.8180000000000001,1.823,1.819,1.821,1.8160000000000001,1.81,1.8089999999999999,1.81,1.806,1.804,1.798,1.796,1.798,1.792,1.7849999999999999,1.784,1.7789999999999999,1.778,1.7769999999999999,1.77,1.764,1.756,1.75,1.746,1.7390000000000001,1.734,1.7290000000000001,1.728,null,{"$error":"#N/A"},"Niue",null,{"$f":"H241","v":1.615}]
[225,"Medium variant","Samoa",null,882,"Country",957,197.09700000000001,198.41399999999999,200.149,202.239,204.56899999999999,206.96899999999999,209.31899999999999,211.578,213.78299999999999,215.96700000000001,218.14699999999999,220.37100000000001,222.62700000000001,224.904,227.191,229.50800000000001,231.85900000000001,234.226,236.613,239.02099999999999,241.447,243.89599999999999,246.34800000000001,248.81899999999999,251.274,253.709,256.108,258.46600000000001,260.779,263.04399999999998,265.25,267.39100000000002,269.46300000000002,271.464,273.40499999999997,275.28199999999998,277.09699999999998,278.86399999999998,280.58100000000002,282.245,283.87200000000001,285.46100000000001,287.03100000000001,288.56900000000002,290.089,291.57900000000001,293.07799999999997,294.56,296.03800000000001,297.495,298.92599999999999,300.34199999999998,301.72399999999999,303.07600000000002,304.37599999999998,305.63400000000001,306.82299999999998,307.95,309.00400000000002,309.99099999999999,310.88900000000001,311.7,312.428,313.06299999999999,313.60500000000002,314.06,314.42399999999998,314.68599999999998,314.86399999999998,314.95699999999999,314.95699999999999,314.88,314.71899999999999,314.49599999999998,314.18900000000002,313.81400000000002,313.351,312.83300000000003,312.23599999999999,311.59199999999998,310.88,310.11399999999998,null,"Samoa","Samoa"]
[226,"Medium variant","Tokelau",null,772,"Country",957,1.34,1.357,1.373,1.3779999999999999,1.3859999999999999,1.395,1.4019999999999999,1.415,1.4279999999999999,1.4390000000000001,1.444,1.448,1.4610000000000001,1.47,1.474,1.4750000000000001,1.482,1.484,1.4870000000000001,1.4990000000000001,1.5029999999999999,1.5089999999999999,1.514,1.5149999999999999,1.5249999999999999,1.5289999999999999,1.5369999999999999,1.5449999999999999,1.554,1.5609999999999999,1.56,1.5649999999999999,1.575,1.5820000000000001,1.585,1.593,1.6,1.603,1.6040000000000001,1.6060000000000001,1.61,1.6220000000000001,1.623,1.625,1.6279999999999999,1.635,1.631,1.631,1.6339999999999999,1.629,1.633,1.631,1.6259999999999999,1.627,1.627,1.625,1.6240000000000001,1.617,1.617,1.613,1.6080000000000001,1.601,1.599,1.5940000000000001,1.5880000000000001,1.579,1.577,1.57,1.5669999999999999,1.56,1.556,1.5549999999999999,1.542,1.5309999999999999,1.5169999999999999,1.5109999999999999,1.506,1.498,1.486,1.482,1.4730000000000001,1.4650000000000001,null,{"$error":"#N/A"},"Tokelau",null,{"$f":"H243","v":1.34}]
[227,"Medium variant","Tonga",null,776,"Country",957,104.494,105.69499999999999,106.76,107.749,108.667,109.59399999999999,110.55800000000001,111.54900000000001,112.553,113.569,114.59699999999999,115.621,116.65,117.694,118.74,119.77200000000001,120.80800000000001,121.827,122.836,123.834,124.81699999999999,125.78700000000001,126.738,127.66500000000001,128.56800000000001,129.44900000000001,130.31,131.13,131.93100000000001,132.71,133.453,134.18,134.876,135.55199999999999,136.21,136.83600000000001,137.45400000000001,138.054,138.63399999999999,139.21100000000001,139.76400000000001,140.304,140.83600000000001,141.34899999999999,141.84299999999999,142.321,142.774,143.21,143.62899999999999,144.01300000000001,144.37799999999999,144.70599999999999,145.00399999999999,145.268,145.488,145.67400000000001,145.827,145.94499999999999,146.00700000000001,146.036,146.03299999999999,145.97499999999999,145.887,145.761,145.601,145.39599999999999,145.161,144.89500000000001,144.59,144.25700000000001,143.893,143.506,143.08699999999999,142.648,142.18,141.68199999999999,141.17500000000001,140.63200000000001,140.07,139.48500000000001,138.87899999999999,138.25399999999999,null,"Tonga","Tonga"]
[228,"Medium variant","Tuvalu",null,798,"Country",957,11.646000000000001,11.792,11.930999999999999,12.066000000000001,12.208,12.343999999999999,12.481,12.616,12.75,12.888,13.022,13.164,13.298,13.443,13.577,13.727,13.858000000000001,14.003,14.145,14.287000000000001,14.432,14.573,14.709,14.851000000000001,15.000999999999999,15.137,15.284000000000001,15.426,15.565,15.707000000000001,15.837999999999999,15.983000000000001,16.114999999999998,16.25,16.379000000000001,16.515000000000001,16.648,16.771000000000001,16.899000000000001,17.024000000000001,17.149000000000001,17.263000000000002,17.385000000000002,17.501999999999999,17.614999999999998,17.728000000000002,17.832999999999998,17.940999999999999,18.048999999999999,18.155000000000001,18.25,18.350999999999999,18.440999999999999,18.533999999999999,18.626999999999999,18.713000000000001,18.802,18.882999999999999,18.957999999999998,19.042000000000002,19.11,19.181000000000001,19.251000000000001,19.326000000000001,19.385999999999999,19.449000000000002,19.498000000000001,19.556000000000001,19.605,19.655000000000001,19.704999999999998,19.739999999999998,19.776,19.821000000000002,19.850000000000001,19.876000000000001,19.907,19.936,19.959,19.984000000000002,19.995000000000001,20.010000000000002,null,{"$error":"#N/A"},"Tuvalu",null,{"$f":"H245","v":11.646000000000001}]
[229,"Medium variant","Wallis and Futuna Islands",null,876,"Country",957,11.432,11.239000000000001,11.093999999999999,10.981999999999999,10.891999999999999,10.815,10.743,10.664999999999999,10.586,10.52,10.451000000000001,10.388999999999999,10.329000000000001,10.27,10.215999999999999,10.16,10.105,10.050000000000001,9.9890000000000008,9.93,9.8719999999999999,9.81,9.7520000000000007,9.6839999999999993,9.6229999999999993,9.5619999999999994,9.4870000000000001,9.4239999999999995,9.3490000000000002,9.2769999999999992,9.2080000000000002,9.1310000000000002,9.0549999999999997,8.984,8.9049999999999994,8.8239999999999998,8.7490000000000006,8.6709999999999994,8.5839999999999996,8.5079999999999991,8.4290000000000003,8.3490000000000002,8.2650000000000006,8.1820000000000004,8.1039999999999992,8.0269999999999992,7.944,7.8609999999999998,7.78,7.702,7.6219999999999999,7.5369999999999999,7.4589999999999996,7.3810000000000002,7.3040000000000003,7.226,7.1550000000000002,7.08,7.0049999999999999,6.9359999999999999,6.8630000000000004,6.7960000000000003,6.7359999999999998,6.6619999999999999,6.5990000000000002,6.5330000000000004,6.468,6.407,6.343,6.28,6.218,6.1580000000000004,6.0990000000000002,6.0389999999999997,5.9720000000000004,5.9080000000000004,5.8470000000000004,5.79,5.7229999999999999,5.6719999999999997,5.6130000000000004,5.5570000000000004,null,{"$error":"#N/A"},"Wallis and Futuna Islands",null,{"$f":"H246","v":11.432}]
[230,"Medium variant","EUROPE AND NORTHERN AMERICA",null,1829,"SDG region",1828,1113783.7150000001,1116505.673,1118855.1089999999,1120862.196,1122598.101,1124165.5390000001,1125642.317,1127051.7439999999,1128383.1170000001,1129639.1939999999,1130813.5379999999,1131901.3929999999,1132912.325,1133854.4839999999,1134718.0160000001,1135487.557,1136152.3230000001,1136710.574,1137167.4850000001,1137527.9480000001,1137799.3940000001,1137987.703,1138095.5549999999,1138123.328,1138072.3929999999,1137943.7649999999,1137739.06,1137461.3810000001,1137114.358,1136700.7949999999,1136223.7760000001,1135686.6810000001,1135093.584,1134449.361,1133759.564,1133030.4909999999,1132268.3430000001,1131478.1229999999,1130665.2679999999,1129837.477,1129003.047,1128169.6950000001,1127342.139,1126525.051,1125724.547,1124947.0630000001,1124197.767,1123480.9709999999,1122798.912,1122151.94,1121539.162,1120960.0379999999,1120416.02,1119908.9350000001,1119439.2509999999,1119007.03,1118612.6270000001,1118256.318,1117938.726,1117660.8230000001,1117423.4950000001,1117227.5930000001,1117072.8999999999,1116959.0630000001,1116886.148,1116854.2009999999,1116862.7520000001,1116910.862,1116997.0079999999,1117119.5449999999,1117276.327,1117465.1640000001,1117683.628,1117928.9480000001,1118198.2790000001,1118488.49,1118796.064,1119117.192,1119447.8659999999,1119783.5589999999,1120119.6669999999,1120451.075]
[231,"Medium variant","EUROPE",null,917,"SDG subregion",1829,747182.75100000005,747636.02599999995,747747.4,747543.83700000006,747089.79200000002,746481.34299999999,745791.32499999995,745041.14899999998,744219.29799999995,743326.71100000001,742355.75600000005,741302.53,740174.69799999997,738985.06400000001,737739.46,736443.31099999999,735101.27599999995,733717.03399999999,732293.40800000005,730833.13399999996,729338.41500000004,727810.571,726251.51699999999,724661.24300000002,723036.78399999999,721373.84499999997,719668.897,717921.73699999996,716132.52500000002,714298.68299999996,712417.27800000005,710486.31299999997,708506.62699999998,706479.82700000005,704406.049,702285.76199999999,700120.68900000001,697913.48699999996,695668.92500000005,693394.36100000003,691098.65700000001,688790.46299999999,686474.84100000001,684157.67,681848.39800000004,679557.76800000004,677295.01399999997,675066.304,672876.21900000004,670730.28899999999,668633.65899999999,666590.67700000003,664605.14800000004,662679.92299999995,660817.11199999996,659017.94299999997,657283.43900000001,655614.53099999996,654011.59199999995,652473.978,651000.17799999996,649588.723,648237.98899999994,646946.24800000002,645711.05700000003,644529.66,643398.81999999995,642315.96400000004,641277.402,640277.58499999996,639309.88500000001,638368.53099999996,637448.951,636547.39,635660.89099999995,634786.52,633920.86699999997,633059.94700000004,632199.304,631333.52899999998,630456.82700000005,629562.53200000001]
[232,"Medium variant","Eastern Europe",null,923,"Subregion",917,293444.913,293013.23100000003,292486.60700000002,291862.99300000002,291151.86700000003,290368.59299999999,289525.69900000002,288627.29599999997,287673.79200000002,286670.30200000003,285622.09700000001,284534.61700000003,283412.25699999998,282260.68400000001,281087.79200000002,279902.50099999999,278712.288,277521.52299999999,276333.31,275151.89,273981.13900000002,272823.95299999998,271682.67499999999,270558.03700000001,269449.13199999998,268353.92499999999,267270.40000000002,266198.12400000001,265136.27,264081.46600000001,263029.64199999999,261977.179,260922.70499999999,259864.98300000001,258800.804,257726.65100000001,256639.91899999999,255539.774,254426.38699999999,253299.76699999999,252160.43100000001,251009.41500000001,249847.68700000001,248677.11499999999,247500.84299999999,246322.81899999999,245146.87,243975.41800000001,242811.38,241660.038,240527.44399999999,239418.74600000001,238336.85200000001,237283.81,236263.003,235277.62700000001,234330.185,233422.141,232554.054,231726.08499999999,230937.74900000001,230188.25399999999,229476.921,228802.42199999999,228162.36300000001,227553.52900000001,226972.82399999999,226418.18599999999,225887.12700000001,225375.00099999999,224876.57800000001,224387.26300000001,223903.69399999999,223423.43,222944.74400000001,222466.05300000001,221985.443,221500.65,221008.90599999999,220506.9,219990.82699999999,219456.40900000001]
[233,"Medium variant","Belarus",null,112,"Country",923,9452.4110000000001,9449.3230000000003,9442.8619999999992,9432.7999999999993,9419.4869999999992,9403.5390000000007,9385.4380000000001,9365.3070000000007,9343.09,9318.86,9292.7170000000006,9264.7839999999997,9235.1790000000001,9204.1270000000004,9171.9369999999999,9138.99,9105.6049999999996,9071.9290000000001,9038.0990000000002,9004.3359999999993,8970.8549999999996,8937.8160000000007,8905.3490000000002,8873.4840000000004,8842.19,8811.4030000000002,8781.0290000000005,8751.0789999999997,8721.5310000000009,8692.2999999999993,8663.2330000000002,8634.2250000000004,8605.2180000000008,8576.1890000000003,8547.0139999999992,8517.5769999999993,8487.7790000000005,8457.5969999999998,8427.0110000000004,8395.9860000000008,8364.5220000000008,8332.607,8300.2610000000004,8267.5259999999998,8234.4740000000002,8201.1859999999997,8167.7529999999997,8134.2569999999996,8100.7629999999999,8067.4449999999997,8034.482,8002.0309999999999,7970.2070000000003,7939.07,7908.7659999999996,7879.4250000000002,7851.1760000000004,7824.07,7798.1540000000005,7773.4780000000001,7750.116,7728.0810000000001,7707.3810000000003,7687.97,7669.7910000000002,7652.7629999999999,7636.8220000000001,7621.8639999999996,7607.8029999999999,7594.4539999999997,7581.607,7569.0590000000002,7556.6540000000005,7544.2619999999997,7531.7780000000002,7519.0940000000001,7506.076,7492.5649999999996,7478.3919999999998,7463.3459999999995,7447.1949999999997,7429.6710000000003,null,{"$f":"VLOOKUP(C250,countries,1,FALSE)","v":"Belarus"},"Belarus"]
[234,"Medium variant","Bulgaria","EU28",100,"Country",923,7000.1189999999997,6948.4449999999997,6896.6629999999996,6844.5969999999998,6792.2380000000003,6739.5360000000001,6686.4709999999995,6633.11,6579.5050000000001,6525.607,6471.3609999999999,6416.7489999999998,6361.7870000000003,6306.5690000000004,6251.2529999999997,6196.0510000000004,6141.1310000000003,6086.5590000000002,6032.37,5978.6769999999997,5925.6220000000003,5873.2960000000003,5821.74,5770.9709999999995,5720.9110000000001,5671.4889999999996,5622.64,5574.33,5526.5420000000004,5479.1940000000004,5432.1930000000002,5385.4409999999998,5338.92,5292.5959999999995,5246.3940000000002,5200.2340000000004,5154.0810000000001,5107.9129999999996,5061.7359999999999,5015.5789999999997,4969.4769999999999,4923.4930000000004,4877.6390000000001,4831.9549999999999,4786.5450000000001,4741.5410000000002,4697.0360000000001,4653.1059999999998,4609.7860000000001,4567.1180000000004,4525.1850000000004,4484.0159999999996,4443.6620000000003,4404.1499999999996,4365.5360000000001,4327.8459999999995,4291.0969999999998,4255.3190000000004,4220.4989999999998,4186.6660000000002,4153.8580000000002,4122.085,4091.326,4061.5210000000002,4032.605,4004.44,3976.9430000000002,3950.0540000000001,3923.7130000000002,3897.7860000000001,3872.116,3846.5729999999999,3821.0880000000002,3795.6010000000001,3770.09,3744.5430000000001,3718.9340000000002,3693.2249999999999,3667.3789999999999,3641.3310000000001,3615.0129999999999,3588.3409999999999,null,"Bulgaria","Bulgaria"]
[235,"Medium variant","Czechia","EU28",203,"Country",923,10689.209000000001,10708.981,10724.555,10736.784,10745.883,10752.385,10756.696,10758.834000000001,10758.628000000001,10756.157999999999,10751.513999999999,10744.834000000001,10736.210999999999,10725.888999999999,10714.25,10701.789000000001,10688.923000000001,10675.832,10662.665000000001,10649.701999999999,10637.25,10625.536,10614.697,10604.737999999999,10595.607,10587.198,10579.387000000001,10572.128000000001,10565.359,10558.844999999999,10552.34,10545.581,10538.474,10530.904,10522.608,10513.321,10502.806,10491.008,10477.894,10463.393,10447.441999999999,10430.02,10411.17,10391.02,10369.831,10347.945,10325.663,10303.174999999999,10280.644,10258.450000000001,10237.017,10216.700000000001,10197.694,10180.141,10164.237999999999,10150.189,10138.130999999999,10128.171,10120.323,10114.57,10110.782999999999,10108.888999999999,10108.843000000001,10110.578,10113.939,10118.704,10124.68,10131.727999999999,10139.777,10148.666999999999,10158.27,10168.459999999999,10179.098,10190.050999999999,10201.200999999999,10212.421,10223.573,10234.545,10245.209000000001,10255.423000000001,10265.087,10274.064,null,"Czechia","Czechia"]
[236,"Medium variant","Hungary","EU28",348,"Country",923,9684.6790000000001,9660.3510000000006,9634.1640000000007,9606.259,9576.7669999999998,9546.0499999999993,9514.3340000000007,9481.6190000000006,9447.7289999999994,9412.6229999999996,9376.2039999999997,9338.4459999999999,9299.3680000000004,9259.0560000000005,9217.6029999999992,9175.16,9131.8449999999993,9087.7430000000004,9042.9539999999997,8997.6869999999999,8952.1679999999997,8906.6,8861.0810000000001,8815.7039999999997,8770.6039999999994,8725.9330000000009,8681.8040000000001,8638.2860000000001,8595.4,8553.1180000000004,8511.4089999999997,8470.23,8429.5720000000001,8389.3979999999992,8349.5650000000005,8309.9330000000009,8270.3389999999999,8230.7639999999992,8191.1719999999996,8151.4430000000002,8111.4219999999996,8071.0349999999999,8030.2449999999999,7989.107,7947.6930000000002,7906.1350000000002,7864.5540000000001,7823.009,7781.5479999999998,7740.366,7699.6559999999999,7659.585,7620.2629999999999,7581.7150000000001,7544.0450000000001,7507.3280000000004,7471.6239999999998,7436.9840000000004,7403.4210000000003,7370.924,7339.4549999999999,7308.973,7279.4880000000003,7250.97,7223.3789999999999,7196.6090000000004,7170.6030000000001,7145.3239999999996,7120.7460000000001,7096.8720000000003,7073.6869999999999,7051.1769999999997,7029.3379999999997,7008.1149999999998,6987.4790000000003,6967.3950000000004,6947.8149999999996,6928.7280000000001,6910.107,6891.9390000000003,6874.2030000000004,6856.915,null,"Hungary","Hungary"]
[237,"Medium variant","Poland","EU28",616,"Country",923,37887.767999999996,37846.610999999997,37797.004999999997,37739.785000000003,37674.029000000002,37599.144999999997,37514.692000000003,37420.050000000003,37314.991999999998,37200.089999999997,37076.330999999998,36944.563000000002,36805.012000000002,36657.828999999998,36503.694000000003,36343.415999999997,36177.728000000003,36007.076999999997,35831.817000000003,35652.377,35469.150999999998,35282.531999999999,35092.868000000002,34900.487999999998,34705.694000000003,34508.773999999998,34309.974000000002,34109.457999999999,33907.423999999999,33704.095999999998,33499.766000000003,33294.567000000003,33088.639000000003,32881.885999999999,32674.064999999999,32464.804,32253.781999999999,32040.918000000001,31826.166000000001,31609.262999999999,31389.933000000001,31167.965,30943.367999999999,30716.148000000001,30486.097000000002,30252.959999999999,30016.635999999999,29777.241000000002,29535.144,29290.864000000001,29045.082999999999,28798.472000000002,28551.404999999999,28304.34,28058.093000000001,27813.573,27571.601999999999,27332.652999999998,27097.134999999998,26865.633999999998,26638.716,26416.856,26200.361000000001,25989.414000000001,25784.217000000001,25584.923999999999,25391.584999999999,25204.275000000001,25022.884999999998,24847.010999999999,24676.13,24509.752,24347.565999999999,24189.319,24034.875,23884.043000000001,23736.566999999999,23592.087,23450.111000000001,23310.039000000001,23171.133999999998,23032.572,null,"Poland","Poland"]
[238,"Medium variant","Moldova",null,498,"Country",923,4043.2629999999999,4033.9630000000002,4024.0189999999998,4013.1709999999998,4001.3440000000001,3988.395,3974.2489999999998,3958.89,3942.3429999999998,3924.6309999999999,3905.8,3885.8960000000002,3864.9459999999999,3842.9929999999999,3820.1089999999999,3796.4079999999999,3771.9740000000002,3746.8510000000001,3721.1170000000002,3694.8519999999999,3668.181,3641.1849999999999,3613.9360000000001,3586.4479999999999,3558.7649999999999,3530.88,3502.819,3474.5920000000001,3446.2220000000002,3417.703,3389.03,3360.1770000000001,3331.16,3301.9679999999998,3272.5790000000002,3242.9389999999999,3213.0239999999999,3182.84,3152.375,3121.61,3090.502,3059.0349999999999,3027.2179999999998,2995.0790000000002,2962.6480000000001,2929.9609999999998,2897.0810000000001,2864.03,2830.87,2797.674,2764.54,2731.5630000000001,2698.7930000000001,2666.2890000000002,2634.1529999999998,2602.5070000000001,2571.4409999999998,2541,2511.2269999999999,2482.1880000000001,2453.9189999999999,2426.4780000000001,2399.8710000000001,2374.0949999999998,2349.1529999999998,2325.0039999999999,2301.6129999999998,2278.9540000000002,2257.027,2235.7420000000002,2215.056,2194.8850000000002,2175.1849999999999,2155.9070000000002,2137.02,2118.4899999999998,2100.2689999999998,2082.2959999999998,2064.5259999999998,2046.8630000000001,2029.2429999999999,2011.567,null,"Moldova","Republic of Moldova"]
[239,"Medium variant","Romania","EU28",642,"Country",923,19364.557000000001,19237.690999999999,19127.774000000001,19031.334999999999,18944.133999999998,18859.613000000001,18772.912,18682.879000000001,18590.736000000001,18496.696,18401.609,18306.100999999999,18209.879000000001,18112.417000000001,18013.901000000002,17914.580999999998,17814.66,17714.198,17613.14,17511.516,17409.328000000001,17306.599999999999,17203.353999999999,17099.614000000001,16995.491000000002,16891.071,16786.453000000001,16681.661,16576.688999999998,16471.449000000001,16365.842000000001,16259.787,16153.315000000001,16046.462,15939.138000000001,15831.245000000001,15722.751,15613.683000000001,15504.168,15394.361999999999,15284.493,15174.769,15065.298000000001,14956.231,14847.817999999999,14740.356,14634.089,14529.156999999999,14425.67,14323.851000000001,14223.929,14126.069,14030.396000000001,13936.904,13845.519,13756.065000000001,13668.422,13582.549000000001,13498.450999999999,13416.075999999999,13335.379000000001,13256.303,13178.789000000001,13102.764999999999,13028.1,12954.666999999999,12882.344999999999,12811.013999999999,12740.627,12671.147999999999,12602.553,12534.805,12467.817999999999,12401.492,12335.669,12270.209000000001,12204.974,12139.825999999999,12074.648999999999,12009.338,11943.803,11877.964,null,"Romania","Romania"]
[240,"Medium variant","Russia",null,643,"Country",923,145872.25599999999,145934.462,145912.02499999999,145805.94699999999,145628.58600000001,145399.12100000001,145132.72899999999,144834.09700000001,144502.58100000001,144142.09599999999,143755.89000000001,143347.51500000001,142920.74299999999,142480.33300000001,142031.80100000001,141581.09700000001,141133.25,140691.31099999999,140257.45600000001,139834.56099999999,139425.185,139031.16399999999,138653.90299999999,138293.60800000001,137949.04,137618.03599999999,137298.51500000001,136989.92600000001,136691.353,136399.88200000001,136111.929,135824.481,135536.20300000001,135246.179,134952.372,134652.67300000001,134345.568,134030.33100000001,133706.99900000001,133375.709,133037.03599999999,132691.78400000001,132340.524,131984.36499999999,131625.41200000001,131266.31400000001,130909.58,130556.576,130208.936,129869.66,129542.228,129229.48699999999,128932.94,128653.54,128392.82,128152.193,127932.61599999999,127734.639,127558.212,127402.72,127267.109,127150.21799999999,127051.236,126969.14200000001,126902.194,126848.3,126805.389,126772.118,126746.776,126726.425,126707.711,126687.821,126664.719,126637.132,126604.211,126565.29,126519.54399999999,126465.954,126403.20299999999,126329.712,126243.58199999999,126142.656,null,"Russia","Russian Federation"]
[241,"Medium variant","Slovakia","EU28",703,"Country",923,5457.0129999999999,5459.6419999999998,5460.7209999999995,5460.1930000000002,5458.0929999999998,5454.5360000000001,5449.5990000000002,5443.29,5435.5360000000001,5426.3209999999999,5415.616,5403.4,5389.701,5374.5919999999996,5358.1769999999997,5340.6059999999998,5322,5302.4290000000001,5281.9660000000003,5260.7610000000004,5238.9769999999999,5216.7349999999997,5194.1360000000004,5171.2280000000001,5148.0929999999998,5124.7910000000002,5101.3909999999996,5077.9210000000003,5054.41,5030.8639999999996,5007.2740000000003,4983.6480000000001,4959.9629999999997,4936.2049999999999,4912.3130000000001,4888.1840000000002,4863.7299999999996,4838.9409999999998,4813.799,4788.223,4762.1220000000003,4735.4480000000003,4708.1790000000001,4680.3559999999998,4651.9880000000003,4623.12,4593.7889999999998,4564.0349999999999,4533.9290000000001,4503.6279999999997,4473.2809999999999,4443.0529999999999,4413.0330000000004,4383.2879999999996,4353.9430000000002,4325.116,4296.9179999999997,4269.424,4242.6809999999996,4216.7479999999996,4191.6940000000004,4167.5559999999996,4144.3580000000002,4122.1049999999996,4100.7839999999997,4080.348,4060.7449999999999,4041.9720000000002,4023.9879999999998,4006.7220000000002,3990.08,3974.002,3958.4029999999998,3943.2280000000001,3928.4270000000001,3913.942,3899.712,3885.6460000000002,3871.672,3857.6849999999999,3843.57,3829.2040000000002,null,"Slovakia","Slovakia"]
[242,"Medium variant","Ukraine",null,804,"Country",923,43993.637999999999,43733.762000000002,43466.819000000003,43192.122000000003,42911.305999999997,42626.273000000001,42338.578999999998,42049.22,41758.652000000002,41467.22,41175.055,40882.328999999998,40589.430999999997,40296.879000000001,40005.067000000003,39714.402999999998,39425.171999999999,39137.593999999997,38851.726000000002,38567.421000000002,38284.421999999999,38002.489000000001,37721.610999999997,37441.754000000001,37162.737000000001,36884.35,36606.387999999999,36328.743000000002,36051.339999999997,35774.014999999999,35496.625999999997,35219.042000000001,34941.241000000002,34663.196000000004,34384.756000000001,34105.741000000002,33826.059000000001,33545.779000000002,33265.067000000003,32984.199000000001,32703.482,32423.258999999998,32143.785,31865.328000000001,31588.337,31313.300999999999,31040.688999999998,30770.831999999999,30504.09,30240.982,29982.043000000001,29727.77,29478.458999999999,29234.373,28995.89,28763.384999999998,28537.157999999999,28317.331999999999,28103.951000000001,27897.080999999998,27696.720000000001,27502.814999999999,27315.268,27133.862000000001,26958.201000000001,26787.77,26622.098999999998,26460.883000000002,26303.785,26150.173999999999,25999.367999999999,25850.728999999999,25703.825000000001,25558.323,25413.993999999999,25270.626,25127.978999999999,24985.777999999998,24843.657999999999,24701.223999999998,24557.996999999999,24413.455000000002,null,"Ukraine","Ukraine"]
[243,"Medium variant","Northern Europe",null,924,"Subregion",917,105768.505,106261.249,106712.526,107127.633,107515.094,107887.10799999999,108252.745,108615.106,108972.394,109322.87699999999,109662.988,109990.35,110305.32799999999,110609.74400000001,110904.257,111189.68799999999,111466.80499999999,111735.822,111997.098,112252.026,112502.283,112749.02899999999,112992.738,113233.133,113469.66499999999,113701.42,113927.584,114148.178,114363.011,114570.87300000001,114770.22900000001,114959.952,115139.79300000001,115310.092,115470.948,115622.774,115765.997,115900.93799999999,116028.105,116148.81,116264.683,116377.16499999999,116486.77499999999,116594.106,116700.476,116807.341,116915.787,117026.458,117139.45299999999,117254.33,117370.523,117487.398,117605.068,117723.533,117842.02,117959.65,118075.789,118190.257,118303.126,118414.50900000001,118524.446,118633.20299999999,118740.72500000001,118847.353,118953.762,119061.046,119169.93799999999,119280.70600000001,119393.368,119508.36500000001,119626.068,119746.69100000001,119870.266,119996.552,120125.151,120255.617,120387.389,120519.84600000001,120652.424,120784.455,120915.321,121044.27099999999]
[244,"Medium variant","Channel Islands",null,830,"Country",924,172.25899999999999,173.863,175.245,176.46299999999999,177.56,178.60400000000001,179.66200000000001,180.749,181.828,182.911,183.96700000000001,184.99299999999999,185.977,186.941,187.86799999999999,188.768,189.63499999999999,190.47399999999999,191.285,192.066,192.822,193.54400000000001,194.24600000000001,194.92699999999999,195.572,196.19499999999999,196.79400000000001,197.36500000000001,197.91399999999999,198.44200000000001,198.94499999999999,199.42099999999999,199.886,200.328,200.755,201.16,201.55600000000001,201.935,202.304,202.666,203.024,203.375,203.71700000000001,204.06800000000001,204.42500000000001,204.77500000000001,205.125,205.49199999999999,205.86199999999999,206.239,206.625,207.023,207.43600000000001,207.852,208.28299999999999,208.721,209.17099999999999,209.63200000000001,210.095,210.578,211.05099999999999,211.535,212.02199999999999,212.51499999999999,213.00399999999999,213.501,214.00800000000001,214.523,215.04400000000001,215.57,216.10400000000001,216.65,217.2,217.75800000000001,218.32599999999999,218.904,219.48500000000001,220.07599999999999,220.68,221.28299999999999,221.90100000000001,222.51900000000001,null,{"$f":"VLOOKUP(C261,countries,1,FALSE)","v":{"$error":"#N/A"}},"Channel Islands",null,{"$f":"H261","v":172.25899999999999}]
[245,"Medium variant","Denmark","EU28",208,"Country",924,5771.8760000000002,5792.2020000000002,5813.2979999999998,5834.95,5856.93,5878.8760000000002,5900.4930000000004,5921.7439999999997,5942.6710000000003,5963.1120000000001,5982.8909999999996,6001.8670000000002,6019.9780000000001,6037.2139999999999,6053.5780000000004,6069.1130000000003,6083.8490000000002,6097.799,6110.9679999999998,6123.4279999999999,6135.2759999999998,6146.5889999999999,6157.4059999999999,6167.7839999999997,6177.8310000000001,6187.6279999999997,6197.2879999999996,6206.8630000000003,6216.3980000000001,6225.9480000000003,6235.5919999999996,6245.3739999999998,6255.3360000000002,6265.5119999999997,6275.9070000000002,6286.5010000000002,6297.2929999999997,6308.2839999999997,6319.5010000000002,6330.9769999999999,6342.741,6354.8090000000002,6367.1880000000001,6379.8689999999997,6392.8419999999996,6406.07,6419.5309999999999,6433.2169999999996,6447.0940000000001,6461.1469999999999,6475.357,6489.6980000000003,6504.1509999999998,6518.6670000000004,6533.1710000000003,6547.5829999999996,6561.8180000000002,6575.835,6589.6319999999996,6603.1930000000002,6616.4880000000003,6629.5230000000001,6642.2960000000003,6654.8109999999997,6667.058,6679.0450000000001,6690.7560000000003,6702.2150000000001,6713.4579999999996,6724.6,6735.7870000000003,6747.1170000000002,6758.6660000000002,6770.442,6782.4250000000002,6794.6040000000003,6806.9809999999998,6819.5590000000002,6832.3689999999997,6845.47,6858.9530000000004,6872.9080000000004,null,"Denmark","Denmark"]
[246,"Medium variant","Estonia","EU28",233,"Country",924,1325.6479999999999,1326.5350000000001,1325.1849999999999,1321.91,1317.211,1311.9190000000001,1306.6510000000001,1301.5160000000001,1296.3430000000001,1291.095,1285.665,1279.962,1274.0329999999999,1267.9580000000001,1261.7850000000001,1255.57,1249.3499999999999,1243.146,1236.97,1230.836,1224.74,1218.6959999999999,1212.691,1206.73,1200.8119999999999,1194.8779999999999,1188.9190000000001,1182.9179999999999,1176.8789999999999,1170.789,1164.6389999999999,1158.4079999999999,1152.0999999999999,1145.7080000000001,1139.2239999999999,1132.6569999999999,1126.0119999999999,1119.29,1112.479,1105.578,1098.5920000000001,1091.5170000000001,1084.3579999999999,1077.1210000000001,1069.8030000000001,1062.4190000000001,1054.9690000000001,1047.47,1039.9349999999999,1032.3679999999999,1024.798,1017.242,1009.716,1002.23,994.798,987.45,980.202,973.06600000000003,966.04600000000005,959.15599999999995,952.38499999999999,945.73699999999997,939.19600000000003,932.798,926.53,920.41800000000001,914.447,908.64400000000001,902.98099999999999,897.46400000000006,892.09299999999996,886.85699999999997,881.75599999999997,876.75199999999995,871.851,867.00599999999997,862.20100000000002,857.40800000000002,852.59500000000003,847.72400000000005,842.78,837.72299999999996,null,"Estonia","Estonia"]
[247,"Medium variant","Faroes",null,234,"Country",924,48.677999999999997,48.863,49.048999999999999,49.232999999999997,49.423000000000002,49.610999999999997,49.819000000000003,50.029000000000003,50.243000000000002,50.472999999999999,50.691000000000003,50.912999999999997,51.134,51.347999999999999,51.555,51.746000000000002,51.926000000000002,52.103999999999999,52.261000000000003,52.408999999999999,52.555,52.68,52.798000000000002,52.89,52.984000000000002,53.066000000000003,53.14,53.210999999999999,53.277000000000001,53.338999999999999,53.404000000000003,53.466000000000001,53.527000000000001,53.588999999999999,53.651000000000003,53.715000000000003,53.774999999999999,53.85,53.926000000000002,53.996000000000002,54.076000000000001,54.152000000000001,54.232999999999997,54.314,54.390999999999998,54.475000000000001,54.558999999999997,54.634,54.718000000000004,54.796999999999997,54.872,54.944000000000003,55.017000000000003,55.085000000000001,55.149000000000001,55.213999999999999,55.27,55.328000000000003,55.375,55.427,55.460999999999999,55.502000000000002,55.530999999999999,55.563000000000002,55.584000000000003,55.597999999999999,55.613,55.622,55.622,55.612000000000002,55.597000000000001,55.585000000000001,55.557000000000002,55.524999999999999,55.488,55.444000000000003,55.393999999999998,55.348999999999997,55.292999999999999,55.234000000000002,55.167999999999999,55.094000000000001,null,"Faroes","Faroe Islands"]
[248,"Medium variant","Finland","EU28",246,"Country",924,5532.1559999999999,5540.72,5548.36,5554.96,5560.6239999999998,5565.4660000000003,5569.5720000000001,5573.0280000000002,5575.8940000000002,5578.1390000000001,5579.7039999999997,5580.5370000000003,5580.6760000000004,5580.152,5578.96,5577.04,5574.3919999999998,5571.0079999999998,5566.9570000000003,5562.317,5557.2240000000002,5551.7659999999996,5546.0060000000003,5539.9629999999997,5533.6729999999998,5527.1959999999999,5520.5540000000001,5513.8119999999999,5506.982,5500.0959999999995,5493.1490000000003,5486.143,5479.1279999999997,5472.1350000000002,5465.1989999999996,5458.3649999999998,5451.6760000000004,5445.1459999999997,5438.799,5432.7169999999996,5427.0069999999996,5421.7240000000002,5416.8829999999998,5412.4570000000003,5408.4170000000004,5404.6970000000001,5401.2470000000003,5398.0410000000002,5395.058,5392.1710000000003,5389.277,5386.2659999999996,5383.09,5379.7460000000001,5376.1840000000002,5372.3720000000003,5368.3069999999998,5363.9629999999997,5359.3459999999995,5354.4809999999998,5349.4179999999997,5344.1880000000001,5338.8190000000004,5333.3389999999999,5327.777,5322.1930000000002,5316.625,5311.1059999999998,5305.6580000000004,5300.3370000000004,5295.183,5290.2380000000003,5285.5230000000001,5281.0640000000003,5276.8519999999999,5272.8919999999998,5269.18,5265.7110000000002,5262.4920000000002,5259.5280000000002,5256.817,5254.366,null,"Finland","Finland"]
[249,"Medium variant","Iceland",null,352,"Country",924,339.03100000000001,341.24299999999999,343.35300000000001,345.39299999999997,347.38,349.30799999999999,351.18400000000003,353.01400000000001,354.78399999999999,356.48700000000002,358.12700000000001,359.71100000000001,361.22,362.66899999999998,364.04399999999998,365.36200000000002,366.60599999999999,367.774,368.87099999999998,369.90600000000001,370.863,371.74599999999998,372.55900000000003,373.30500000000001,373.96800000000002,374.55900000000003,375.08499999999998,375.529,375.91199999999998,376.22899999999998,376.48899999999998,376.69299999999998,376.82499999999999,376.92399999999998,376.97500000000002,376.97899999999998,376.95299999999997,376.91,376.822,376.71499999999997,376.58699999999999,376.44799999999998,376.28500000000003,376.11500000000001,375.91800000000001,375.71199999999999,375.47500000000002,375.21499999999997,374.93200000000002,374.62599999999998,374.29300000000001,373.92599999999999,373.53699999999998,373.11599999999999,372.66199999999998,372.17599999999999,371.66300000000001,371.11599999999999,370.53800000000001,369.93099999999998,369.29399999999998,368.62700000000001,367.93700000000001,367.21699999999998,366.47699999999998,365.72300000000001,364.95600000000002,364.18099999999998,363.37799999999999,362.58800000000002,361.79,360.99799999999999,360.20699999999999,359.42099999999999,358.64100000000002,357.86900000000003,357.09500000000003,356.32499999999999,355.565,354.80500000000001,354.04199999999997,353.29,null,"Iceland","Iceland"]
[250,"Medium variant","Ireland","EU28",372,"Country",924,4882.4949999999999,4937.7860000000001,4982.9070000000002,5020.1989999999996,5051.62,5080.4989999999998,5109.2839999999997,5138.3100000000004,5166.7489999999998,5194.6220000000003,5221.7479999999996,5248.0410000000002,5273.6390000000001,5298.768,5323.5259999999998,5347.9669999999996,5372.1369999999997,5396.0649999999996,5419.7569999999996,5443.183,5466.317,5489.0879999999997,5511.4780000000001,5533.4139999999998,5554.7780000000002,5575.4080000000004,5595.1319999999996,5613.92,5631.6989999999996,5648.3339999999998,5663.6760000000004,5677.6149999999998,5690.0919999999996,5701.1109999999999,5710.6559999999999,5718.7370000000001,5725.3760000000002,5730.5919999999996,5734.433,5736.9939999999997,5738.3869999999997,5738.7359999999999,5738.1080000000002,5736.6139999999996,5734.3810000000003,5731.5870000000004,5728.3620000000001,5724.8209999999999,5721.0709999999999,5717.2250000000004,5713.4470000000001,5709.8429999999998,5706.5,5703.4830000000002,5700.866,5698.7460000000001,5697.1790000000001,5696.1840000000002,5695.7619999999997,5695.9049999999997,5696.5919999999996,5697.7839999999997,5699.4440000000004,5701.5140000000001,5703.8680000000004,5706.3490000000002,5708.8109999999997,5711.19,5713.4179999999997,5715.326,5716.7150000000001,5717.4309999999996,5717.415,5716.6260000000002,5715.076,5712.8140000000003,5709.857,5706.2330000000002,5701.95,5696.9920000000002,5691.3410000000003,5684.9629999999997,null,"Ireland","Ireland"]
[251,"Medium variant","Isle of Man",null,833,"Country",924,84.584000000000003,85.033000000000001,85.41,85.731999999999999,86.027000000000001,86.314999999999998,86.602000000000004,86.888999999999996,87.18,87.457999999999998,87.721999999999994,87.992999999999995,88.254000000000005,88.495999999999995,88.745000000000005,88.986000000000004,89.198999999999998,89.406999999999996,89.597999999999999,89.778000000000006,89.945999999999998,90.094999999999999,90.238,90.376999999999995,90.49,90.581999999999994,90.658000000000001,90.706999999999994,90.731999999999999,90.745000000000005,90.744,90.748000000000005,90.753,90.756,90.756,90.771000000000001,90.777000000000001,90.789000000000001,90.816999999999993,90.843000000000004,90.873999999999995,90.924000000000007,90.98,91.046000000000006,91.135999999999996,91.227999999999994,91.33,91.447999999999993,91.572000000000003,91.707999999999998,91.856999999999999,92.006,92.171000000000006,92.337000000000003,92.510999999999996,92.677999999999997,92.855000000000004,93.028000000000006,93.203000000000003,93.372,93.539000000000001,93.709000000000003,93.866,94.022999999999996,94.165999999999997,94.311999999999998,94.447000000000003,94.58,94.704999999999998,94.832999999999998,94.953000000000003,95.055000000000007,95.168999999999997,95.28,95.385999999999996,95.492999999999995,95.603999999999999,95.709000000000003,95.822999999999993,95.938000000000002,96.070999999999998,96.2,null,{"$error":"#N/A"},"Isle of Man",null,{"$f":"H268","v":84.584000000000003}]
[252,"Medium variant","Latvia","EU28",428,"Country",924,1906.7429999999999,1886.1980000000001,1866.942,1848.837,1831.6420000000001,1815.0039999999999,1798.633,1782.4749999999999,1766.5619999999999,1750.87,1735.3979999999999,1720.146,1705.0909999999999,1690.204,1675.5530000000001,1661.2339999999999,1647.327,1633.857,1620.7860000000001,1608.0920000000001,1595.748,1583.721,1571.981,1560.5519999999999,1549.424,1538.605,1528.096,1517.8910000000001,1507.9469999999999,1498.2260000000001,1488.6510000000001,1479.172,1469.7719999999999,1460.4290000000001,1451.1089999999999,1441.7629999999999,1432.3610000000001,1422.8879999999999,1413.347,1403.7429999999999,1394.087,1384.3969999999999,1374.6659999999999,1364.9269999999999,1355.2059999999999,1345.547,1335.989,1326.5429999999999,1317.2460000000001,1308.107,1299.1579999999999,1290.4259999999999,1281.9190000000001,1273.6559999999999,1265.643,1257.9100000000001,1250.4770000000001,1243.345,1236.5060000000001,1229.9380000000001,1223.6199999999999,1217.518,1211.6300000000001,1205.941,1200.42,1195.0309999999999,1189.749,1184.5360000000001,1179.3889999999999,1174.3130000000001,1169.297,1164.3520000000001,1159.454,1154.5899999999999,1149.7329999999999,1144.8579999999999,1139.9570000000001,1134.9949999999999,1129.962,1124.8599999999999,1119.6690000000001,1114.402,null,"Latvia","Latvia"]
[253,"Medium variant","Lithuania","EU28",440,"Country",924,2759.627,2722.2890000000002,2689.8620000000001,2661.7080000000001,2636.855,2613.768,2591.2730000000001,2569.13,2547.5680000000002,2526.3919999999998,2505.4920000000002,2484.8029999999999,2464.15,2443.4479999999999,2422.7530000000002,2402.192,2381.8670000000002,2361.7739999999999,2341.8760000000002,2322.2719999999999,2303.0459999999998,2284.2930000000001,2266.0360000000001,2248.2440000000001,2230.9319999999998,2214.105,2197.7449999999999,2181.864,2166.4209999999998,2151.297,2136.3249999999998,2121.3969999999999,2106.442,2091.4789999999998,2076.462,2061.3829999999998,2046.2180000000001,2030.962,2015.6030000000001,2000.1610000000001,1984.655,1969.1320000000001,1953.576,1938.0319999999999,1922.5440000000001,1907.184,1892.02,1877.0719999999999,1862.3679999999999,1847.9269999999999,1833.7760000000001,1819.92,1806.384,1793.18,1780.34,1767.925,1755.9680000000001,1744.4760000000001,1733.4280000000001,1722.787,1712.5,1702.5260000000001,1692.8420000000001,1683.433,1674.2280000000001,1665.172,1656.1859999999999,1647.2529999999999,1638.3630000000001,1629.501,1620.67,1611.8710000000001,1603.0989999999999,1594.345,1585.5809999999999,1576.816,1568.02,1559.211,1550.3920000000001,1541.578,1532.806,1524.0920000000001,null,"Lithuania","Lithuania"]
[254,"Medium variant","Norway",null,578,"Country",924,5378.857,5421.241,5465.63,5511.37,5558.0280000000002,5604.81,5651.1009999999997,5696.89,5742.4,5787.49,5832.0330000000004,5875.9129999999996,5919.0659999999998,5961.4520000000002,6003.0339999999997,6043.8159999999998,6083.78,6122.92,6161.2129999999997,6198.7049999999999,6235.442,6271.4780000000001,6306.826,6341.5050000000001,6375.5640000000003,6409.0609999999997,6442.0519999999997,6474.5810000000001,6506.6530000000002,6538.2950000000001,6569.5219999999999,6600.3379999999997,6630.78,6660.89,6690.6689999999999,6720.1480000000001,6749.3450000000003,6778.2860000000001,6806.9960000000001,6835.52,6863.9129999999996,6892.1989999999996,6920.4179999999997,6948.5720000000001,6976.701,7004.8469999999998,7033.0280000000002,7061.2569999999996,7089.5349999999999,7117.8549999999996,7146.2359999999999,7174.6660000000002,7203.1350000000002,7231.6329999999998,7260.0540000000001,7288.2950000000001,7316.2780000000002,7343.97,7371.357,7398.4350000000004,7425.1610000000001,7451.5240000000003,7477.5209999999997,7503.1729999999998,7528.5190000000002,7553.62,7578.5519999999997,7603.326,7627.9759999999997,7652.5349999999999,7677.0839999999998,7701.6639999999998,7726.3130000000001,7751.0460000000003,7775.8649999999998,7800.7860000000001,7825.8130000000001,7850.9440000000004,7876.201,7901.6049999999996,7927.1660000000002,7952.9250000000002,null,"Norway","Norway"]
[255,"Medium variant","Sweden","EU28",752,"Country",924,10036.379000000001,10099.264999999999,10160.169,10218.971,10275.858,10331.083000000001,10384.831,10437.231,10488.225,10537.567999999999,10584.894,10629.981,10672.812,10713.632,10752.79,10790.764999999999,10827.977000000001,10864.565000000001,10900.619000000001,10936.418,10972.278,11008.441999999999,11045.031999999999,11082.081,11119.584000000001,11157.481,11195.694,11234.239,11273.088,11312.03,11350.800999999999,11389.196,11427.147000000001,11464.625,11501.519,11537.727000000001,11573.137000000001,11607.733,11641.548000000001,11674.659,11707.195,11739.287,11770.962,11802.264999999999,11833.378000000001,11864.514999999999,11895.835999999999,11927.395,11959.209000000001,11991.29,12023.669,12056.33,12089.304,12122.54,12155.873,12189.064,12221.927,12254.451999999999,12286.623,12318.371999999999,12349.581,12380.204,12410.227000000001,12439.728999999999,12468.894,12497.994000000001,12527.231,12556.661,12586.325999999999,12616.421,12647.186,12678.789000000001,12711.267,12744.558999999999,12778.54,12813.05,12847.915000000001,12882.966,12918.072,12953.103999999999,12987.965,13022.529,null,"Sweden","Sweden"]
[256,"Medium variant","United Kingdom","EU28",826,"Country",924,67530.172000000006,67886.010999999999,68207.115999999995,68497.907000000007,68765.936000000002,69021.845000000001,69273.64,69524.100999999995,69771.947,70016.259999999995,70254.656000000003,70485.490000000005,70709.297999999995,70927.462,71140.066000000006,71347.129000000001,71548.759999999995,71744.929000000004,71935.937000000005,72122.615999999995,72306.025999999998,72486.891000000003,72665.441000000006,72841.361000000004,73014.053,73182.656000000003,73346.426999999996,73505.278000000006,73659.108999999997,73807.103000000003,73948.292000000001,74081.981,74208.005000000005,74326.606,74438.066000000006,74542.868000000002,74641.517999999996,74734.273000000001,74821.53,74904.240999999995,74983.544999999998,75060.464999999997,75135.400999999998,75208.706000000006,75281.334000000003,75354.285000000003,75428.316000000006,75503.853000000003,75580.853000000003,75658.87,75737.157999999996,75815.107999999993,75892.707999999999,75970.008000000002,76046.486000000004,76121.516000000003,76194.673999999999,76265.861999999994,76335.214999999997,76402.933999999994,76469.356,76534.826000000001,76599.394,76663.297000000006,76727.236999999994,76792.09,76858.557000000001,76926.869000000006,76997.05,77069.264999999999,77143.608999999997,77220.084000000003,77298.64,77379.144,77461.387000000002,77545.081000000006,77629.887000000002,77715.360000000001,77801.03,77886.334000000003,77970.642000000007,78053.259999999995,null,"United Kingdom","United Kingdom"]
[257,"Medium variant","Southern Europe",null,925,"Subregion",917,152446.92300000001,152215.23000000001,151945.05100000001,151644.484,151316.158,150963.16,150588.31,150192.75700000001,149778.23499999999,149348.43400000001,148907.88800000001,148459.81400000001,148005.75399999999,147545.45000000001,147078.06200000001,146601.745,146114.848,145617.024,145107.81599999999,144585.147,144046.519,143489.70600000001,142913.715,142317.685,141699.61600000001,141057.31099999999,140389.133,139694.364,138972.894,138224.54500000001,137449.33100000001,136647.61499999999,135820,134967.33199999999,134090.73699999999,133191.53899999999,132271.45600000001,131332.05600000001,130375.50599999999,129405.04700000001,128424.281,127436.8,126444.977,125451.43700000001,124459.88,123474.515,122498.997,121535.781,120586.958,119655.194,118743.001,117852.549,116985.26300000001,116142.19,115324.452,114532.73699999999,113767.53599999999,113029.03599999999,112316.954,111630.005,110966.406,110324.442,109703.26,109101.774,108517.603,107948.02,107390.54,106843.929,106307.06299999999,105778.322,105255.88499999999,104738.425,104224.984,103715.001,103208.295,102704.781,102204.548,101707.728,101214.49099999999,100724.993,100239.52,99758.353000000003]
[258,"Medium variant","Albania",null,8,"Country",925,2880.9169999999999,2877.797,2872.933,2866.3739999999998,2858.43,2849.6570000000002,2840.4639999999999,2830.85,2820.6329999999998,2809.8609999999999,2798.6309999999999,2786.9740000000002,2774.9560000000001,2762.5349999999999,2749.56,2735.7979999999998,2721.0819999999999,2705.3620000000001,2688.7150000000001,2671.2359999999999,2653.0889999999999,2634.384,2615.17,2595.442,2575.2530000000002,2554.64,2533.645,2512.2950000000001,2490.6309999999999,2468.6869999999999,2446.491,2424.0610000000001,2401.4009999999998,2378.5610000000001,2355.549,2332.395,2309.1010000000001,2285.692,2262.1579999999999,2238.5149999999999,2214.7640000000001,2190.895,2166.9189999999999,2142.808,2118.54,2094.1010000000001,2069.4470000000001,2044.57,2019.454,1994.0640000000001,1968.3430000000001,1942.26,1915.8019999999999,1888.9649999999999,1861.74,1834.075,1805.9749999999999,1777.4549999999999,1748.518,1719.2239999999999,1689.6110000000001,1659.73,1629.63,1599.3330000000001,1568.93,1538.499,1508.105,1477.808,1447.634,1417.6759999999999,1388.001,1358.6969999999999,1329.788,1301.3019999999999,1273.239,1245.5930000000001,1218.3630000000001,1191.538,1165.1120000000001,1139.106,1113.51,1088.336,null,{"$f":"VLOOKUP(C275,countries,1,FALSE)","v":"Albania"},"Albania"]
[259,"Medium variant","Andorra",null,20,"Country",925,77.141999999999996,77.265000000000001,77.355000000000004,77.462999999999994,77.572000000000003,77.679000000000002,77.775000000000006,77.840999999999994,77.894000000000005,77.906000000000006,77.915999999999997,77.924999999999997,77.944000000000003,77.953000000000003,77.965999999999994,77.971999999999994,77.977999999999994,77.968999999999994,77.957999999999998,77.936000000000007,77.911000000000001,77.858999999999995,77.789000000000001,77.703000000000003,77.602000000000004,77.471000000000004,77.316000000000003,77.135999999999996,76.924999999999997,76.686999999999998,76.42,76.117999999999995,75.787999999999997,75.435000000000002,75.048000000000002,74.635000000000005,74.209999999999994,73.751999999999995,73.284999999999997,72.799000000000007,72.296000000000006,71.793000000000006,71.275000000000006,70.762,70.245000000000005,69.731999999999999,69.233999999999995,68.738,68.272999999999996,67.796999999999997,67.361000000000004,66.941000000000003,66.531999999999996,66.156999999999996,65.802999999999997,65.47,65.176000000000002,64.897000000000006,64.649000000000001,64.424000000000007,64.22,64.045000000000002,63.875,63.741,63.612000000000002,63.511000000000003,63.414000000000001,63.328000000000003,63.255000000000003,63.189,63.124000000000002,63.058,63.002000000000002,62.933999999999997,62.874000000000002,62.805999999999997,62.74,62.674999999999997,62.610999999999997,62.542000000000002,62.469000000000001,62.4,null,null,"Andorra","Spain and Andorra"]
[260,"Medium variant","Bosnia and Herzegovina",null,70,"Country",925,3301,3280.819,3263.4659999999999,3249.317,3237.0630000000001,3225.0219999999999,3211.97,3197.23,3180.8879999999999,3163.2649999999999,3145.0250000000001,3126.6480000000001,3108.11,3089.1610000000001,3069.8049999999998,3050.0210000000002,3029.82,3009.2280000000001,2988.2429999999999,2966.8870000000002,2945.1570000000002,2923.0749999999998,2900.6390000000001,2877.886,2854.8069999999998,2831.386,2807.634,2783.5749999999998,2759.2420000000002,2734.6660000000002,2709.9229999999998,2685.0369999999998,2660.0459999999998,2634.991,2609.931,2584.94,2560.0839999999998,2535.3910000000001,2510.89,2486.59,2462.498,2438.6439999999998,2415.0320000000002,2391.6770000000001,2368.5619999999999,2345.681,2323.0169999999998,2300.5830000000001,2278.3719999999998,2256.357,2234.4870000000001,2212.7539999999999,2191.1370000000002,2169.6460000000002,2148.268,2127.0309999999999,2105.9209999999998,2084.9499999999998,2064.11,2043.4090000000001,2022.8389999999999,2002.423,1982.146,1962.027,1942.078,1922.309,1902.7470000000001,1883.385,1864.2329999999999,1845.32,1826.6559999999999,1808.259,1790.1420000000001,1772.308,1754.78,1737.5509999999999,1720.6279999999999,1704.0309999999999,1687.759,1671.835,1656.2570000000001,1641.056,null,{"$f":"VLOOKUP(C277,countries,1,FALSE)","v":"Bosnia and Herzegovina"},"Bosnia and Herzegovina"]
[261,"Medium variant","Croatia","EU28",191,"Country",925,4130.3040000000001,4105.2669999999998,4081.6509999999998,4059.2860000000001,4037.6889999999999,4016.136,3994.0740000000001,3971.384,3948.2530000000002,3924.7530000000002,3901.0509999999999,3877.2719999999999,3853.402,3829.375,3805.174,3780.7469999999998,3756.0680000000002,3731.1350000000002,3705.9690000000001,3680.5810000000001,3654.98,3629.201,3603.2429999999999,3577.1190000000001,3550.86,3524.4859999999999,3498.0320000000002,3471.5140000000001,3444.931,3418.3,3391.5839999999998,3364.8,3337.9459999999999,3311.0320000000002,3284.08,3257.0970000000002,3230.096,3203.0949999999998,3176.0819999999999,3149.0929999999998,3122.1410000000001,3095.2289999999998,3068.373,3041.6019999999999,3014.8809999999999,2988.2460000000001,2961.6779999999999,2935.1869999999999,2908.7930000000001,2882.5250000000001,2856.386,2830.402,2804.585,2778.9479999999999,2753.5419999999999,2728.3969999999999,2703.5630000000001,2679.049,2654.873,2631.0329999999999,2607.5569999999998,2584.4430000000002,2561.7139999999999,2539.3409999999999,2517.326,2495.6190000000001,2474.212,2453.085,2432.2330000000002,2411.6509999999998,2391.3290000000002,2371.268,2351.4540000000002,2331.8850000000002,2312.5540000000001,2293.442,2274.5549999999998,2255.8850000000002,2237.4259999999999,2219.181,2201.1419999999998,2183.3110000000001,null,{"$f":"VLOOKUP(C278,countries,1,FALSE)","v":"Croatia"},"Croatia"]
[262,"Medium variant","Gibraltar",null,292,"Country",925,33.701000000000001,33.691000000000003,33.698,33.704000000000001,33.715000000000003,33.738999999999997,33.762999999999998,33.784999999999997,33.816000000000003,33.847000000000001,33.887,33.914000000000001,33.947000000000003,33.973999999999997,34.006,34.029000000000003,34.058,34.078000000000003,34.100999999999999,34.115000000000002,34.128,34.134,34.140999999999998,34.134999999999998,34.125999999999998,34.116999999999997,34.095999999999997,34.073999999999998,34.048000000000002,34.01,33.960999999999999,33.917000000000002,33.869999999999997,33.811,33.741999999999997,33.667999999999999,33.591000000000001,33.506999999999998,33.415999999999997,33.317,33.21,33.109000000000002,32.993000000000002,32.874000000000002,32.749000000000002,32.622999999999998,32.491999999999997,32.359000000000002,32.222000000000001,32.073,31.931000000000001,31.792000000000002,31.646000000000001,31.498000000000001,31.352,31.207000000000001,31.056999999999999,30.911999999999999,30.773,30.626000000000001,30.472000000000001,30.326000000000001,30.177,30.035,29.890999999999998,29.742999999999999,29.591999999999999,29.442,29.291,29.143000000000001,28.992999999999999,28.84,28.681999999999999,28.526,28.363,28.198,28.042999999999999,27.882000000000001,27.721,27.552,27.393000000000001,27.231999999999999,null,{"$f":"VLOOKUP(C279,countries,1,FALSE)","v":"Gibraltar"},"Gibraltar"]
[263,"Medium variant","Greece","EU28",300,"Country",925,10473.455,10423.054,10370.744000000001,10316.637000000001,10261.732,10207.401,10154.684999999999,10103.873,10054.802,10007.442999999999,9961.6579999999994,9917.25,9874.2919999999995,9832.7170000000006,9792.1679999999997,9752.152,9712.2639999999992,9672.2939999999999,9632.1509999999998,9591.6859999999997,9550.7729999999992,9509.268,9467.0540000000001,9423.9529999999995,9379.7890000000007,9334.357,9287.4940000000006,9239.1190000000006,9189.1820000000007,9137.6029999999992,9084.3029999999999,9029.2489999999998,8972.4459999999999,8913.9419999999991,8853.8340000000007,8792.2720000000008,8729.3760000000002,8665.2729999999992,8600.0820000000003,8534.0280000000002,8467.31,8400.1890000000003,8332.8140000000003,8265.36,8198.0969999999998,8131.2790000000005,8065.1629999999996,7999.9080000000004,7935.66,7872.6319999999996,7811.02,7750.9949999999999,7692.6779999999999,7636.1239999999998,7581.4,7528.4880000000003,7477.4089999999997,7428.1760000000004,7380.78,7335.1760000000004,7291.2960000000003,7249.0469999999996,7208.3630000000003,7169.1980000000003,7131.4,7094.8649999999998,7059.4350000000004,7025.0609999999997,6991.6260000000002,6958.9089999999997,6926.6580000000004,6894.6580000000004,6862.799,6831.0569999999998,6799.4440000000004,6768.0069999999996,6736.7730000000001,6705.7650000000003,6674.9679999999998,6644.3459999999995,6613.8429999999998,6583.3680000000004,null,{"$f":"VLOOKUP(C280,countries,1,FALSE)","v":"Greece"},"Greece"]
[264,"Medium variant","Holy See",null,336,"Country",925,0.79900000000000004,0.80100000000000005,0.8,0.79900000000000004,0.8,0.80900000000000005,0.80200000000000005,0.80200000000000005,0.80400000000000005,0.80300000000000005,0.80100000000000005,0.79500000000000004,0.80500000000000005,0.80500000000000005,0.80300000000000005,0.8,0.79700000000000004,0.79700000000000004,0.80900000000000005,0.80200000000000005,0.81,0.80300000000000005,0.80200000000000005,0.79800000000000004,0.80600000000000005,0.80300000000000005,0.79800000000000004,0.80100000000000005,0.80500000000000005,0.80500000000000005,0.80900000000000005,0.81399999999999995,0.80900000000000005,0.80800000000000005,0.80600000000000005,0.80600000000000005,0.80500000000000005,0.81100000000000005,0.80600000000000005,0.81200000000000006,0.81,0.80800000000000005,0.80700000000000005,0.81799999999999995,0.81399999999999995,0.81100000000000005,0.81100000000000005,0.80800000000000005,0.80100000000000005,0.79800000000000004,0.79900000000000004,0.79900000000000004,0.79600000000000004,0.79100000000000004,0.79100000000000004,0.78600000000000003,0.79,0.79300000000000004,0.79400000000000004,0.79300000000000004,0.79300000000000004,0.79200000000000004,0.79100000000000004,0.78700000000000003,0.79,0.78700000000000003,0.78400000000000003,0.78500000000000003,0.78600000000000003,0.79300000000000004,0.79500000000000004,0.79500000000000004,0.79200000000000004,0.79400000000000004,0.79300000000000004,0.79200000000000004,0.79200000000000004,0.79,0.79200000000000004,0.79200000000000004,0.79700000000000004,0.80100000000000005,null,null,"Holy See","Italy, San Marino and the Holy See"]
[265,"Medium variant","Italy","EU28",380,"Country",925,60550.074999999997,60461.826000000001,60367.476999999999,60262.77,60147.51,60019.211000000003,59876.550999999999,59720.995000000003,59555.928999999996,59384.044999999998,59208.468000000001,59031.474999999999,58854.135000000002,58676.381999999998,58497.936999999998,58317.978000000003,58135.633000000002,57950.868000000002,57763.186000000002,57570.550999999999,57370.311000000002,57160.360999999997,56939.923999999999,56708.673000000003,56465.442000000003,56209.074000000001,55938.764999999999,55654.04,55355.055,55042.557000000001,54717.745999999999,54381.673000000003,54035.031999999999,53678.218999999997,53311.855000000003,52936.531000000003,52553.006999999998,52162.250999999997,51765.531999999999,51364.5,50961.021999999997,50556.887999999999,50153.188999999998,49751.213000000003,49353.135999999999,48961.398999999998,48578.016000000003,48204.11,47840.256000000001,47487.144,47145.196000000004,46814.709000000003,46496.016000000003,46189.2,45893.857000000004,45609.307999999997,45334.851000000002,45070.237000000001,44815.023000000001,44568.088000000003,44328.033000000003,44093.71,43864.466,43639.904999999999,43419.35,43202.186999999998,42987.889000000003,42776.014000000003,42566.243000000002,42358.303999999996,42151.978999999999,41947.135000000002,41743.684000000001,41541.606,41340.923999999999,41141.75,40944.260999999999,40748.682999999997,40555.347000000002,40364.614999999998,40176.961000000003,39992.913999999997,null,null,"Italy","Italy, San Marino and the Holy See"]
[266,"Medium variant","Malta","EU28",470,"Country",925,440.37200000000001,441.54300000000001,442.78399999999999,444.03300000000002,445.23200000000003,446.30099999999999,447.18599999999998,447.87799999999999,448.40899999999999,448.762,448.923,448.899,448.65300000000002,448.22300000000001,447.62200000000001,446.88400000000001,446.01600000000002,445.048,443.97500000000002,442.81900000000002,441.59500000000003,440.30799999999999,438.98500000000001,437.61500000000001,436.233,434.84300000000002,433.459,432.07900000000001,430.71300000000002,429.38,428.06700000000001,426.78699999999998,425.54399999999998,424.32299999999998,423.13,421.95299999999997,420.78399999999999,419.613,418.44099999999997,417.25400000000002,416.053,414.82400000000001,413.56599999999997,412.27300000000002,410.93099999999998,409.54199999999997,408.101,406.59899999999999,405.03800000000001,403.42200000000003,401.75599999999997,400.041,398.279,396.48099999999999,394.654,392.798,390.93700000000001,389.06599999999997,387.20800000000003,385.37299999999999,383.55200000000002,381.75400000000002,380.01299999999998,378.30799999999999,376.65300000000002,375.05700000000002,373.512,372.03100000000001,370.613,369.27,367.98,366.76900000000001,365.62099999999998,364.53800000000001,363.52800000000002,362.56900000000002,361.66800000000001,360.81200000000001,359.99200000000002,359.21300000000002,358.459,357.72500000000002,null,{"$f":"VLOOKUP(C283,countries,1,FALSE)","v":"Malta"},"Malta"]
[267,"Medium variant","Montenegro",null,499,"Country",925,627.98699999999997,628.06600000000003,628.053,627.95000000000005,627.76099999999997,627.495,627.14400000000001,626.70899999999995,626.18600000000004,625.58000000000004,624.86400000000003,624.05899999999997,623.14300000000003,622.125,621.00099999999998,619.76900000000001,618.423,616.98099999999999,615.43299999999999,613.79399999999998,612.06399999999996,610.25900000000001,608.36099999999999,606.40899999999999,604.38300000000004,602.32000000000005,600.22699999999998,598.08799999999997,595.93200000000002,593.75300000000004,591.548,589.33299999999997,587.10900000000004,584.87199999999996,582.62800000000004,580.35199999999998,578.072,575.77300000000002,573.43799999999999,571.08199999999999,568.68799999999999,566.26499999999999,563.79499999999996,561.28599999999994,558.73,556.12800000000004,553.47799999999995,550.78,548.04300000000001,545.26499999999999,542.44600000000003,539.59500000000003,536.71100000000001,533.80200000000002,530.87599999999998,527.928,524.98400000000004,522.02599999999995,519.07899999999995,516.13300000000004,513.18799999999999,510.24799999999999,507.32,504.39600000000002,501.48700000000002,498.596,495.702,492.82499999999999,489.96699999999998,487.11900000000003,484.279,481.44499999999999,478.62299999999999,475.81700000000001,473.01600000000002,470.22199999999998,467.43799999999999,464.66699999999997,461.90800000000002,459.14699999999999,456.40499999999997,453.65699999999998,null,null,"Montenegro","Serbia and Montenegro"]
[268,"Medium variant","North Macedonia",null,807,"Country",925,2083.4589999999998,2083.3739999999998,2082.6579999999999,2081.3040000000001,2079.3330000000001,2076.8270000000002,2073.8049999999998,2070.2750000000001,2066.2179999999998,2061.6129999999998,2056.46,2050.7469999999998,2044.48,2037.6790000000001,2030.364,2022.5640000000001,2014.2909999999999,2005.569,1996.425,1986.9069999999999,1977.075,1966.9649999999999,1956.624,1946.0509999999999,1935.3030000000001,1924.3979999999999,1913.3710000000001,1902.252,1891.0309999999999,1879.7190000000001,1868.306,1856.7750000000001,1845.1389999999999,1833.4110000000001,1821.5509999999999,1809.5319999999999,1797.367,1785.02,1772.509,1759.8309999999999,1746.972,1733.9639999999999,1720.7729999999999,1707.4290000000001,1693.9459999999999,1680.307,1666.5519999999999,1652.683,1638.72,1624.6890000000001,1610.62,1596.529,1582.463,1568.4110000000001,1554.433,1540.558,1526.827,1513.2470000000001,1499.85,1486.6510000000001,1473.6790000000001,1460.932,1448.42,1436.1769999999999,1424.181,1412.432,1400.9359999999999,1389.6859999999999,1378.6780000000001,1367.89,1357.3040000000001,1346.89,1336.6479999999999,1326.5519999999999,1316.596,1306.7750000000001,1297.057,1287.4349999999999,1277.885,1268.3779999999999,1258.8820000000001,1249.3620000000001,null,{"$f":"VLOOKUP(C285,countries,1,FALSE)","v":"North Macedonia"},"North Macedonia"]
[269,"Medium variant","Portugal","EU28",620,"Country",925,10226.187,10196.709000000001,10167.924999999999,10140.57,10114.022999999999,10087.5,10060.418,10032.453,10003.588,9973.8829999999998,9943.5339999999997,9912.6790000000001,9881.2420000000002,9849.0640000000003,9816.0840000000007,9782.2520000000004,9747.5059999999994,9711.8070000000007,9675.1180000000004,9637.3439999999991,9598.4150000000009,9558.2649999999994,9516.8700000000008,9474.2109999999993,9430.2260000000006,9384.8690000000006,9338.1229999999996,9289.9699999999993,9240.4680000000008,9189.6839999999993,9137.6869999999999,9084.5759999999991,9030.4269999999997,8975.31,8919.3330000000005,8862.6280000000006,8805.3320000000003,8747.5439999999999,8689.3880000000008,8631.0030000000006,8572.5290000000005,8514.1029999999992,8455.866,8397.9339999999993,8340.49,8283.6669999999995,8227.6470000000008,8172.5259999999998,8118.4129999999996,8065.4939999999997,8013.9480000000003,7963.9459999999999,7915.5339999999997,7868.7489999999998,7823.6350000000002,7780.2030000000004,7738.4409999999998,7698.34,7659.866,7622.8890000000001,7587.2640000000001,7552.8230000000003,7519.5169999999998,7487.2619999999997,7455.8779999999997,7425.1570000000002,7394.92,7365.0969999999998,7335.643,7306.5159999999996,7277.6689999999999,7249.0929999999998,7220.7759999999998,7192.732,7164.9830000000002,7137.58,7110.5789999999997,7084.0559999999996,7058.1109999999999,7032.8519999999999,7008.4170000000004,6984.9549999999999,null,{"$f":"VLOOKUP(C286,countries,1,FALSE)","v":"Portugal"},"Portugal"]
[270,"Medium variant","San Marino",null,674,"Country",925,33.86,33.930999999999997,34.017000000000003,34.085000000000001,34.142000000000003,34.200000000000003,34.256999999999998,34.295999999999999,34.332000000000001,34.368000000000002,34.381999999999998,34.412999999999997,34.423000000000002,34.433999999999997,34.445999999999998,34.442,34.436,34.435000000000002,34.423000000000002,34.399000000000001,34.377000000000002,34.35,34.304000000000002,34.264000000000003,34.207000000000001,34.146999999999998,34.082999999999998,34.009,33.923999999999999,33.834000000000003,33.738,33.64,33.53,33.411000000000001,33.298000000000002,33.173999999999999,33.058,32.933999999999997,32.808999999999997,32.686,32.563000000000002,32.439,32.320999999999998,32.201999999999998,32.08,31.968,31.853999999999999,31.742999999999999,31.634,31.529,31.422999999999998,31.327000000000002,31.228000000000002,31.135999999999999,31.036000000000001,30.94,30.861000000000001,30.773,30.689,30.605,30.524000000000001,30.451000000000001,30.38,30.318000000000001,30.254000000000001,30.193999999999999,30.135000000000002,30.085999999999999,30.03,29.984000000000002,29.943999999999999,29.896999999999998,29.866,29.829000000000001,29.798999999999999,29.780999999999999,29.751000000000001,29.727,29.715,29.704000000000001,29.69,29.690999999999999,null,null,"San Marino","Italy, San Marino and the Holy See"]
[271,"Medium variant","Serbia",null,688,"Country",925,8772.2350000000006,8737.3709999999992,8697.5499999999993,8653.0159999999996,8604.9989999999998,8555.2970000000005,8505.26,8455.2890000000007,8405.107,8354.5040000000008,8303.0490000000009,8250.4310000000005,8196.7180000000008,8142.1390000000001,8086.72,8030.5129999999999,7973.5619999999999,7915.9009999999998,7857.5990000000002,7798.7749999999996,7739.5519999999997,7680.0640000000003,7620.3419999999996,7560.4489999999996,7500.4780000000001,7440.5479999999998,7380.76,7321.1549999999997,7261.7240000000002,7202.4129999999996,7143.1409999999996,7083.8329999999996,7024.4780000000001,6965.07,6905.5590000000002,6845.8559999999998,6785.9160000000002,6725.7150000000001,6665.2569999999996,6604.5339999999997,6543.5709999999999,6482.3540000000003,6420.91,6359.2489999999998,6297.4110000000001,6235.4759999999997,6173.4939999999997,6111.4750000000004,6049.4750000000004,5987.5320000000002,5925.7070000000003,5864.049,5802.6059999999998,5741.4009999999998,5680.4610000000002,5619.8010000000004,5559.4229999999998,5499.3729999999996,5439.6710000000003,5380.3680000000004,5321.4930000000004,5263.1009999999997,5205.2139999999999,5147.8339999999998,5091.009,5034.7619999999997,4979.0959999999995,4924.05,4869.6090000000004,4815.7979999999998,4762.6090000000004,4710.0569999999998,4658.1099999999997,4606.7860000000001,4556.0839999999998,4505.9830000000002,4456.4889999999996,4407.5780000000004,4359.2479999999996,4311.4560000000001,4264.1940000000004,4217.424,null,null,"Serbia","Serbia and Montenegro"]
[272,"Medium variant","Slovenia","EU28",705,"Country",925,2078.654,2078.9380000000001,2078.7240000000002,2078.0340000000001,2076.87,2075.2109999999998,2073.0619999999999,2070.451,2067.4009999999998,2063.973,2060.2150000000001,2056.1930000000002,2051.913,2047.4010000000001,2042.684,2037.79,2032.7439999999999,2027.558,2022.25,2016.8150000000001,2011.2370000000001,2005.519,1999.663,1993.6759999999999,1987.54,1981.2280000000001,1974.7339999999999,1968.056,1961.193,1954.16,1946.954,1939.5920000000001,1932.0820000000001,1924.4159999999999,1916.623,1908.702,1900.6690000000001,1892.5360000000001,1884.3119999999999,1876.0239999999999,1867.691,1859.3409999999999,1850.9829999999999,1842.652,1834.347,1826.11,1817.9490000000001,1809.8969999999999,1801.96,1794.182,1786.5809999999999,1779.182,1772.0150000000001,1765.079,1758.415,1752.021,1745.9380000000001,1740.1569999999999,1734.702,1729.5709999999999,1724.789,1720.3489999999999,1716.2639999999999,1712.5129999999999,1709.0840000000001,1705.9690000000001,1703.14,1700.575,1698.259,1696.1579999999999,1694.229,1692.44,1690.759,1689.154,1687.614,1686.11,1684.62,1683.1210000000001,1681.5730000000001,1679.9469999999999,1678.1890000000001,1676.258,null,{"$f":"VLOOKUP(C289,countries,1,FALSE)","v":"Slovenia"},"Slovenia"]
[273,"Medium variant","Spain","EU28",724,"Country",925,46736.775999999998,46754.777999999998,46745.216,46719.142,46679.286999999997,46630.675000000003,46577.093999999997,46518.646000000001,46453.974999999999,46383.828000000001,46309.023999999998,46230.14,46147.591,46061.483,45971.722000000002,45878.034,45780.17,45677.993999999999,45571.461000000003,45460.5,45345.044999999998,45224.891000000003,45099.803999999996,44969.300999999999,44832.561000000002,44688.624000000003,44536.595999999998,44376.201000000001,44207.09,44028.286999999997,43838.652999999998,43637.41,43424.353000000003,43199.72,42963.77,42716.998,42459.987999999998,42193.148999999998,41917.101000000002,41632.978999999999,41342.163,41045.955000000002,40745.360999999997,40441.298000000003,40134.921000000002,39827.445,39520.063999999998,39213.815000000002,38909.843999999997,38609.690999999999,38314.997000000003,38027.228000000003,37747.235000000001,37475.802000000003,37214.188999999998,36963.726000000002,36725.383000000002,36499.584999999999,36286.368999999999,36085.642,35897.095999999998,35720.267999999996,35554.97,35400.599000000002,35255.68,35118.332999999999,34986.921000000002,34860.671000000002,34738.963000000003,34620.601999999999,34504.336000000003,34389.124000000003,34274.237999999998,34159.180999999997,34043.703999999998,33927.622000000003,33810.790999999997,33693.082999999999,33574.322999999997,33454.326999999997,33332.911999999997,33209.862999999998,null,null,"Spain","Spain and Andorra"]
[274,"Medium variant","Western Europe",null,926,"Subregion",917,195522.41,196146.31599999999,196603.21599999999,196908.72700000001,197106.67300000001,197262.48199999999,197424.571,197605.99,197794.87700000001,197985.098,198162.783,198317.74900000001,198451.359,198569.18599999999,198669.34899999999,198749.37700000001,198807.33499999999,198842.66500000001,198855.18400000001,198844.071,198808.47399999999,198747.883,198662.389,198552.38800000001,198418.37100000001,198261.18900000001,198081.78,197881.071,197660.35,197421.799,197168.076,196901.56700000001,196624.12899999999,196337.42,196043.56,195744.79800000001,195443.31700000001,195140.71900000001,194838.927,194540.73699999999,194249.26199999999,193967.08300000001,193695.402,193435.01199999999,193187.19899999999,192953.09299999999,192733.36,192528.647,192338.42800000001,192160.72700000001,191992.69099999999,191831.984,191677.965,191530.39,191387.63699999999,191247.929,191109.929,190973.09700000001,190837.45800000001,190703.37899999999,190571.57699999999,190442.82399999999,190317.08300000001,190194.69899999999,190077.329,189967.065,189865.51800000001,189773.14300000001,189689.84400000001,189615.897,189551.35399999999,189496.152,189450.00700000001,189412.40700000001,189382.701,189360.06899999999,189343.48699999999,189331.723,189323.48300000001,189317.18100000001,189311.15900000001,189303.49900000001]
[275,"Medium variant","Austria","EU28",40,"Country",926,8955.1020000000008,9006.3979999999992,9043.07,9066.7099999999991,9081.18,9092.3130000000001,9104.4380000000001,9118.652,9133.8050000000003,9149.2160000000003,9163.5149999999994,9175.6890000000003,9185.8230000000003,9194.5030000000006,9201.6910000000007,9207.3940000000002,9211.616,9214.3389999999999,9215.5990000000002,9215.5030000000006,9214.2009999999991,9211.7890000000007,9208.3410000000003,9203.8610000000008,9198.3220000000001,9191.7199999999993,9184.0319999999992,9175.32,9165.634,9154.9670000000006,9143.3150000000005,9130.6990000000005,9117.1589999999997,9102.7980000000007,9087.7669999999998,9072.2649999999994,9056.4529999999995,9040.4179999999997,9024.23,9008.0750000000007,8992.116,8976.4850000000006,8961.2780000000002,8946.5110000000004,8932.2209999999995,8918.4279999999999,8905.1260000000002,8892.3510000000006,8880.0849999999991,8868.1929999999993,8856.5339999999997,8844.9670000000006,8833.4760000000006,8822.0769999999993,8810.6830000000009,8799.2170000000006,8787.625,8775.9269999999997,8764.1560000000009,8752.4009999999998,8740.7759999999998,8729.4089999999997,8718.33,8707.6329999999998,8697.4680000000008,8688.0830000000005,8679.6530000000002,8672.2340000000004,8665.8649999999998,8660.59,8656.4490000000005,8653.4500000000007,8651.5759999999991,8650.8310000000001,8651.1579999999994,8652.5249999999996,8654.8310000000001,8657.9930000000004,8661.9210000000003,8666.4629999999997,8671.4940000000006,8676.8469999999998,null,{"$f":"VLOOKUP(C292,countries,1,FALSE)","v":"Austria"},"Austria"]
[276,"Medium variant","Belgium","EU28",56,"Country",926,11539.328,11589.623,11632.325999999999,11668.278,11699.4,11728.458000000001,11757.51,11787.207,11817.125,11846.941999999999,11875.982,11903.75,11930.304,11955.913,11980.538,12004.081,12026.483,12047.709000000001,12067.75,12086.633,12104.411,12121.112999999999,12136.744000000001,12151.293,12164.645,12176.683999999999,12187.306,12196.538,12204.429,12211.032999999999,12216.458000000001,12220.764999999999,12224.03,12226.334000000001,12227.843000000001,12228.78,12229.329,12229.603999999999,12229.675999999999,12229.646000000001,12229.607,12229.656999999999,12229.83,12230.236999999999,12230.986000000001,12232.200999999999,12233.987999999999,12236.401,12239.424999999999,12243.017,12247.028,12251.394,12256.072,12261.093000000001,12266.411,12272.013999999999,12277.875,12283.987999999999,12290.331,12296.866,12303.532999999999,12310.317999999999,12317.187,12324.155000000001,12331.297,12338.710999999999,12346.456,12354.555,12362.976000000001,12371.734,12380.803,12390.194,12399.866,12409.803,12419.955,12430.293,12440.769,12451.317999999999,12461.873,12472.362999999999,12482.713,12492.833000000001,null,{"$f":"VLOOKUP(C293,countries,1,FALSE)","v":"Belgium"},"Belgium"]
[277,"Medium variant","France","EU28",250,"Country",926,65129.728000000003,65273.510999999999,65426.178999999996,65584.517999999996,65745.183999999994,65902.034,66050.604999999996,66190.53,66323.947,66451.741999999998,66575.357000000004,66695.702000000005,66812.868000000002,66926.043999999994,67034.142999999996,67135.673999999999,67229.467000000004,67315.167000000001,67392.736999999994,67461.581000000006,67521.099000000002,67570.911999999997,67610.820999999996,67640.953999999998,67661.694000000003,67673.656000000003,67677.391000000003,67673.176000000007,67661.303,67642.432000000001,67617.345000000001,67586.728000000003,67551.14,67511.024000000005,67466.8,67418.880999999994,67367.701000000001,67313.751000000004,67257.606,67199.95,67141.546000000002,67083.081999999995,67024.922999999995,66967.471999999994,66911.459000000003,66857.679999999993,66806.698000000004,66758.884999999995,66714.225999999995,66672.467000000004,66633.164999999994,66595.925000000003,66560.604999999996,66527.164999999994,66495.37,66464.982999999993,66435.721000000005,66407.487999999998,66379.990999999995,66352.551999999996,66324.312999999995,66294.664999999994,66263.258000000002,66230.167000000001,66195.709000000003,66160.395999999993,66124.603000000003,66088.316000000006,66051.377999999997,66013.929000000004,65976.115000000005,65938.024000000005,65899.587,65860.652000000002,65820.968999999997,65780.27,65738.224000000002,65694.559999999998,65648.966,65601.164999999994,65550.86,65497.773000000001,null,null,"France","France and Monaco"]
[278,"Medium variant","Germany","EU28",276,"Country",926,83517.044999999998,83783.941999999995,83900.472999999998,83883.596000000005,83774.535000000003,83636.172999999995,83515.024999999994,83422.524000000005,83346.311000000002,83280.86,83213.649999999994,83135.644,83048.106,82956.472999999998,82860.127999999997,82758.232999999993,82650.081999999995,82535.463000000003,82414.195000000007,82285.595000000001,82148.917000000001,82003.620999999999,81849.676999999996,81687.214000000007,81516.131999999998,81336.36,81148.067999999999,80951.490999999995,80747.354999999996,80536.964999999997,80322.009999999995,80103.978000000003,79883.816000000006,79662.251999999993,79440.311000000002,79219.021999999997,78999.410999999993,78782.172000000006,78568.233999999997,78359.104000000007,78156.475999999995,77961.676999999996,77775.274000000005,77597.400999999998,77428.217999999993,77267.684999999998,77115.63,76972.159,76836.937999999995,76708.687000000005,76585.709000000003,76466.615999999995,76351.066000000006,76238.922999999995,76129.293000000005,76021.244999999995,75914.134000000005,75807.62,75701.982999999993,75598.214999999997,75497.726999999999,75401.661999999997,75310.346999999994,75223.858999999997,75142.934999999998,75068.327999999994,75000.645999999993,74940.138999999996,74886.826000000001,74840.740999999995,74801.741999999998,74769.668999999994,74744.292000000001,74725.316000000006,74712.398000000001,74705.076000000001,74702.828999999998,74704.983999999997,74710.781000000003,74719.328999999998,74729.642000000007,74740.597999999998,null,{"$f":"VLOOKUP(C295,countries,1,FALSE)","v":"Germany"},"Germany"]
[279,"Medium variant","Liechtenstein",null,438,"Country",926,38.018999999999998,38.128,38.25,38.387,38.521000000000001,38.667000000000002,38.795000000000002,38.932000000000002,39.046999999999997,39.168999999999997,39.292999999999999,39.402000000000001,39.521999999999998,39.628,39.731999999999999,39.814999999999998,39.899000000000001,39.979999999999997,40.040999999999997,40.106999999999999,40.155000000000001,40.198,40.237000000000002,40.265999999999998,40.287999999999997,40.307000000000002,40.319000000000003,40.331000000000003,40.332999999999998,40.340000000000003,40.347000000000001,40.36,40.366999999999997,40.378,40.392000000000003,40.414000000000001,40.442,40.466999999999999,40.509,40.558,40.61,40.659999999999997,40.728999999999999,40.802,40.875999999999998,40.957000000000001,41.046999999999997,41.149000000000001,41.253999999999998,41.354999999999997,41.463999999999999,41.58,41.697000000000003,41.817999999999998,41.935000000000002,42.058,42.177999999999997,42.293999999999997,42.418999999999997,42.534999999999997,42.658000000000001,42.774999999999999,42.890999999999998,43.009,43.128999999999998,43.241,43.357999999999997,43.473999999999997,43.591999999999999,43.707999999999998,43.823,43.944000000000003,44.064999999999998,44.183,44.307000000000002,44.423999999999999,44.558999999999997,44.680999999999997,44.81,44.94,45.070999999999998,45.204999999999998,null,null,"Liechtenstein","Switzerland and Liechtenstein"]
[280,"Medium variant","Luxembourg","EU28",442,"Country",926,615.72900000000004,625.97799999999995,634.81399999999996,642.37099999999998,648.97699999999998,655.11,661.13099999999997,667.12599999999998,673.04,678.88699999999994,684.65899999999999,690.34799999999996,695.98800000000006,701.62300000000005,707.22799999999995,712.76700000000005,718.21900000000005,723.57500000000005,728.84699999999998,734.04300000000001,739.15200000000004,744.17499999999995,749.12699999999995,753.98299999999995,758.755,763.447,768.06200000000001,772.601,777.05899999999997,781.42700000000002,785.73099999999999,789.94200000000001,794.077,798.13300000000004,802.11300000000006,806.02200000000005,809.86500000000001,813.63900000000001,817.35500000000002,821.02,824.64599999999996,828.24800000000005,831.827,835.39499999999998,838.95699999999999,842.52,846.09900000000005,849.69600000000003,853.3,856.92700000000002,860.577,864.22699999999998,867.9,871.57899999999995,875.27700000000004,878.97,882.66200000000003,886.35799999999995,890.053,893.75800000000004,897.45699999999999,901.18299999999999,904.91600000000005,908.65800000000002,912.43399999999997,916.24900000000002,920.11400000000003,924.03499999999997,928.024,932.07600000000002,936.17700000000002,940.33199999999999,944.56,948.84100000000001,953.19200000000001,957.59699999999998,962.06399999999996,966.58299999999997,971.16499999999996,975.78399999999999,980.46299999999997,985.16700000000003,null,{"$f":"VLOOKUP(C297,countries,1,FALSE)","v":"Luxembourg"},"Luxembourg"]
[281,"Medium variant","Monaco",null,492,"Country",926,38.963999999999999,39.241999999999997,39.511000000000003,39.783000000000001,40.046999999999997,40.304000000000002,40.557000000000002,40.81,41.052999999999997,41.295999999999999,41.536000000000001,41.777000000000001,42.009,42.253,42.484000000000002,42.713000000000001,42.929000000000002,43.155000000000001,43.363,43.573999999999998,43.777000000000001,43.972000000000001,44.167999999999999,44.371000000000002,44.558999999999997,44.756999999999998,44.948999999999998,45.148000000000003,45.350999999999999,45.564,45.777000000000001,46.002000000000002,46.238,46.481000000000002,46.738999999999997,46.999000000000002,47.273000000000003,47.55,47.844000000000001,48.145000000000003,48.442,48.759,49.069000000000003,49.390999999999998,49.716999999999999,50.042000000000002,50.378,50.707999999999998,51.05,51.395000000000003,51.74,52.093000000000004,52.456000000000003,52.822000000000003,53.195999999999998,53.57,53.945,54.329000000000001,54.716000000000001,55.11,55.503999999999998,55.896000000000001,56.305,56.698,57.11,57.515999999999998,57.93,58.347999999999999,58.762999999999998,59.189,59.616,60.042000000000002,60.48,60.911999999999999,61.341999999999999,61.78,62.212000000000003,62.642000000000003,63.078000000000003,63.512,63.935000000000002,64.355999999999995,null,null,"Monaco","France and Monaco"]
[282,"Medium variant","Netherlands","EU28",528,"Country",926,17097.13,17134.871999999999,17173.098999999998,17211.447,17249.264999999999,17285.566999999999,17319.579000000002,17351.065999999999,17380.063999999998,17406.366000000002,17429.834999999999,17450.322,17467.695,17481.791000000001,17492.409,17499.314999999999,17502.351999999999,17501.491000000002,17496.760999999999,17488.287,17476.232,17460.757000000001,17441.989000000001,17420.064999999999,17395.268,17367.949000000001,17338.419999999998,17306.922999999999,17273.634999999998,17238.806,17202.635999999999,17165.371999999999,17127.205000000002,17088.395,17049.227999999999,17010.047999999999,16971.148000000001,16932.723999999998,16894.920999999998,16857.919999999998,16821.901999999998,16787.010999999999,16753.308000000001,16720.863000000001,16689.780999999999,16660.132000000001,16631.947,16605.239000000001,16579.884999999998,16555.702000000001,16532.397000000001,16509.737000000001,16487.599999999999,16465.879000000001,16444.295999999998,16422.493999999999,16400.21,16377.334000000001,16353.837,16329.607,16304.609,16278.808999999999,16252.171,16224.751,16196.755999999999,16168.528,16140.316000000001,16112.210999999999,16084.249,16056.494000000001,16029.050999999999,16001.97,15975.321,15949.137000000001,15923.476000000001,15898.365,15873.834999999999,15849.877,15826.5,15803.678,15781.402,15759.618,null,{"$f":"VLOOKUP(C299,countries,1,FALSE)","v":"Netherlands"},"Netherlands"]
[283,"Medium variant","Switzerland",null,756,"Country",926,8591.3649999999998,8654.6219999999994,8715.4940000000006,8773.6370000000006,8829.5640000000003,8883.8559999999998,8936.9310000000005,8989.143,9040.4850000000006,9090.6200000000008,9138.9560000000001,9185.1149999999998,9229.0439999999999,9270.9580000000005,9310.9959999999992,9349.3850000000002,9386.2880000000005,9421.7860000000001,9455.8909999999996,9488.7479999999996,9520.5300000000007,9551.3459999999995,9581.2849999999999,9610.3809999999994,9638.7080000000005,9666.3089999999993,9693.2330000000002,9719.5429999999997,9745.2510000000002,9770.2649999999994,9794.4570000000003,9817.7209999999995,9840.0969999999998,9861.625,9882.3670000000002,9902.3670000000002,9921.6949999999997,9940.3940000000002,9958.5519999999997,9976.3189999999995,9993.9169999999995,10011.504000000001,10029.164000000001,10046.94,10064.984,10083.448,10102.447,10122.058999999999,10142.264999999999,10162.984,10184.076999999999,10205.445,10227.093000000001,10249.034,10271.175999999999,10293.378000000001,10315.579,10337.759,10359.972,10382.334999999999,10405,10428.107,10451.678,10475.769,10500.491,10526.013000000001,10552.441999999999,10579.831,10608.171,10637.436,10667.578,10698.527,10730.26,10762.732,10795.904,10829.739,10864.164000000001,10899.084999999999,10934.388999999999,10969.947,11005.579,11041.102000000001,null,null,"Switzerland","Switzerland and Liechtenstein"]
[284,"Medium variant","NORTHERN AMERICA",null,918,"SDG subregion",1829,366600.96399999998,368869.647,371107.70899999997,373318.359,375508.30900000001,377684.196,379850.99200000003,382010.59499999997,384163.81900000002,386312.48300000001,388457.78200000001,390598.86300000001,392737.62699999998,394869.42,396978.55599999998,399044.24599999998,401051.04700000002,402993.54,404874.07699999999,406694.81400000001,408460.97899999999,410177.13199999998,411844.038,413462.08500000002,415035.609,416569.92,418070.163,419539.64399999997,420981.83299999998,422402.11200000002,423806.49800000002,425200.36800000002,426586.95699999999,427969.53399999999,429353.51500000001,430744.72899999999,432147.65399999998,433564.636,434996.34299999999,436443.11599999998,437904.39,439379.23200000002,440867.29800000001,442367.38099999999,443876.14899999998,445389.29499999998,446902.75300000003,448414.66700000002,449922.69300000003,451421.65100000001,452905.50300000003,454369.36099999998,455810.87199999997,457229.01199999999,458622.13900000002,459989.087,461329.18800000002,462641.78700000001,463927.13400000002,465186.84499999997,466423.31699999998,467638.87,468834.91100000002,470012.815,471175.09100000001,472324.54100000003,473463.93199999997,474594.89799999999,475719.60600000003,476841.96,477966.44199999998,479096.63299999997,480234.67700000003,481381.55800000002,482537.38799999998,483701.97,484875.19699999999,486057.245,487248.56199999998,488450.03,489662.84,490888.54300000001]
[285,"Medium variant","Bermuda",null,60,"Country",918,62.506,62.277999999999999,62.09,61.939,61.805999999999997,61.671999999999997,61.51,61.341999999999999,61.151000000000003,60.948,60.722000000000001,60.491999999999997,60.244999999999997,59.994999999999997,59.731000000000002,59.451999999999998,59.164000000000001,58.863999999999997,58.548000000000002,58.215000000000003,57.871000000000002,57.512999999999998,57.137999999999998,56.744999999999997,56.350999999999999,55.932000000000002,55.512999999999998,55.081000000000003,54.637999999999998,54.183999999999997,53.728999999999999,53.277999999999999,52.825000000000003,52.372,51.923999999999999,51.476999999999997,51.040999999999997,50.613,50.192999999999998,49.780999999999999,49.383000000000003,48.997,48.615000000000002,48.249000000000002,47.895000000000003,47.557000000000002,47.216999999999999,46.896999999999998,46.585000000000001,46.277999999999999,45.978999999999999,45.689,45.396000000000001,45.103000000000002,44.814999999999998,44.521999999999998,44.235999999999997,43.945999999999998,43.655999999999999,43.366,43.072000000000003,42.781999999999996,42.478000000000002,42.18,41.877000000000002,41.576000000000001,41.268999999999998,40.957000000000001,40.656999999999996,40.35,40.046999999999997,39.747,39.445999999999998,39.151000000000003,38.853000000000002,38.572000000000003,38.283000000000001,38.003,37.725999999999999,37.456000000000003,37.185000000000002,36.933999999999997,null,{"$f":"VLOOKUP(C302,countries,1,FALSE)","v":"Bermuda"},"Bermuda"]
[286,"Medium variant","Canada",null,124,"Country",918,37411.046999999999,37742.154000000002,38067.902999999998,38388.419000000002,38704.476999999999,39017.093000000001,39326.966,39634.343000000001,39939.036,40240.805,40539.180999999997,40833.726999999999,41124.519999999997,41411.400999999998,41693.453999999998,41969.502,42238.714999999997,42500.817999999999,42756.09,43004.968000000001,43248.163,43486.277999999998,43719.527999999998,43948.078000000001,44172.495000000003,44393.402999999998,44611.364999999998,44826.845000000001,45040.178,45251.588000000003,45461.266000000003,45669.440999999999,45876.434000000001,46082.714999999997,46288.985999999997,46496.046000000002,46704.565000000002,46914.800999999999,47126.936999999998,47341.461000000003,47558.860999999997,47779.462,48003.434000000001,48230.563999999998,48460.337,48691.989000000001,48924.853999999999,49158.73,49393.425999999999,49628.328000000001,49862.711000000003,50096.008000000002,50327.919000000002,50558.366000000002,50787.25,51014.614999999998,51240.463000000003,51464.779000000002,51687.574000000001,51908.970999999998,52129.144,52348.309000000001,52566.639000000003,52784.328000000001,53001.644999999997,53218.874000000003,53436.33,53654.188999999998,53872.758000000002,54092.684000000001,54314.745999999999,54539.536999999997,54767.377999999997,54998.362999999998,55232.423999999999,55469.428999999996,55709.290999999997,55951.983,56197.544000000002,56446.11,56697.911,56953.226999999999,null,"Canada","Canada"]
[287,"Medium variant","Greenland",null,304,"Country",918,56.671999999999997,56.77,56.877000000000002,56.972999999999999,57.058,57.134,57.19,57.212000000000003,57.219000000000001,57.192,57.152000000000001,57.091000000000001,57.015999999999998,56.915999999999997,56.805999999999997,56.677999999999997,56.534999999999997,56.377000000000002,56.21,56.029000000000003,55.835000000000001,55.627000000000002,55.414999999999999,55.197000000000003,54.973999999999997,54.737000000000002,54.505000000000003,54.26,54.024000000000001,53.777999999999999,53.542999999999999,53.3,53.06,52.826999999999998,52.59,52.363,52.13,51.901000000000003,51.673999999999999,51.454000000000001,51.228000000000002,51.008000000000003,50.78,50.561,50.335999999999999,50.113,49.877000000000002,49.646999999999998,49.41,49.173000000000002,48.930999999999997,48.683999999999997,48.436,48.18,47.918999999999997,47.656999999999996,47.396999999999998,47.122999999999998,46.845999999999997,46.578000000000003,46.302,46.021000000000001,45.749000000000002,45.463000000000001,45.183999999999997,44.908999999999999,44.63,44.357999999999997,44.078000000000003,43.805999999999997,43.529000000000003,43.256,42.98,42.704000000000001,42.433,42.152000000000001,41.883000000000003,41.616,41.337000000000003,41.064,40.79,40.515999999999998,null,"Greenland","Greenland"]
[288,"Medium variant","Saint Pierre and Miquelon",null,666,"Country",918,5.8220000000000001,5.7939999999999996,5.766,5.7590000000000003,5.74,5.7359999999999998,5.7249999999999996,5.7169999999999996,5.7069999999999999,5.6929999999999996,5.6890000000000001,5.6769999999999996,5.6619999999999999,5.6559999999999997,5.649,5.641,5.6340000000000003,5.62,5.6059999999999999,5.5919999999999996,5.577,5.56,5.5339999999999998,5.5119999999999996,5.4859999999999998,5.4560000000000004,5.4320000000000004,5.3949999999999996,5.359,5.3250000000000002,5.2850000000000001,5.2469999999999999,5.2110000000000003,5.1710000000000003,5.1289999999999996,5.093,5.0570000000000004,5.0149999999999997,4.9779999999999998,4.9390000000000001,4.9039999999999999,4.8689999999999998,4.8369999999999997,4.8,4.7690000000000001,4.7359999999999998,4.7119999999999997,4.681,4.6509999999999998,4.6269999999999998,4.6059999999999999,4.5810000000000004,4.5529999999999999,4.5279999999999996,4.5069999999999997,4.484,4.46,4.4409999999999998,4.4210000000000003,4.4000000000000004,4.3819999999999997,4.359,4.3390000000000004,4.3209999999999997,4.3040000000000003,4.2809999999999997,4.2629999999999999,4.2450000000000001,4.226,4.2080000000000002,4.1900000000000004,4.1769999999999996,4.1550000000000002,4.1420000000000003,4.1210000000000004,4.1029999999999998,4.0819999999999999,4.0609999999999999,4.0359999999999996,4.0140000000000002,3.9950000000000001,3.9750000000000001,null,"Saint Pierre and Miquelon","Saint Pierre and Miquelon"]
[289,"Medium variant","United States",null,840,"Country",918,329064.91700000002,331002.65100000001,332915.07299999997,334805.26899999997,336679.228,338542.56099999999,340399.60100000002,342251.98100000003,344100.70600000001,345947.84499999997,347795.038,349641.87599999999,351490.18400000001,353335.45199999999,355162.91600000003,356952.973,358690.99900000001,360371.86099999998,361997.62300000002,363570.01,365093.533,366572.15399999998,368006.42300000001,369396.55300000001,370746.30300000001,372060.39199999999,373343.348,374598.06300000002,375827.63400000002,377037.23700000002,378232.67499999999,379419.10200000001,380599.42700000003,381776.44900000002,382954.886,384139.75,385334.86099999998,386542.30599999998,387762.56099999999,388995.48100000003,390240.01400000002,391494.89600000001,392759.63199999998,394033.20699999999,395312.81199999998,396594.9,397876.09299999999,399154.712,400428.62099999998,401693.245,402943.27600000001,404174.39899999998,405384.56800000003,406572.83500000002,407737.64799999999,408877.80900000001,409992.63199999998,411081.49800000002,412144.63699999999,413183.53,414200.41700000002,415197.39899999998,416175.70600000001,417136.52299999999,418082.08100000001,419014.90100000001,419937.44,420851.14899999998,421757.88699999999,422660.91200000001,423563.93,424469.91600000003,425380.71799999999,426297.19799999997,427219.55699999997,428147.71399999998,429081.658,430021.58199999999,430967.91899999999,431921.386,432882.95899999997,433853.891,null,"United States","United States of America"]
[null,null,"EU28",{"$f":"COUNTIF(D18:D306,D17)","v":28},null,null,null,{"$f":"SUMIF($D$18:H306,$D$17,H18:H306)","v":512516.9009999999},{"$f":"SUMIF($D$18:I306,$D$17,I18:I306)","v":513136.52499999997},{"$f":"SUMIF($D$18:J306,$D$17,J18:J306)","v":513514.78700000001},{"$f":"SUMIF($D$18:K306,$D$17,K18:K306)","v":513679.17399999994},{"$f":"SUMIF($D$18:L306,$D$17,L18:L306)","v":513679.49599999998},{"$f":"SUMIF($D$18:M306,$D$17,M18:M306)","v":513589.68899999995},{"$f":"SUMIF($D$18:N306,$D$17,N18:N306)","v":513465.11499999993},{"$f":"SUMIF($D$18:O306,$D$17,O18:O306)","v":513321.31299999991},{"$f":"SUMIF($D$18:P306,$D$17,P18:P306)","v":513147.2099999999},{"$f":"SUMIF($D$18:Q306,$D$17,Q18:Q306)","v":512939.74999999983},{"$f":"SUMIF($D$18:R306,$D$17,R18:R306)","v":512688.27200000006},{"$f":"SUMIF($D$18:S306,$D$17,S18:S306)","v":512385.25499999995},{"$f":"SUMIF($D$18:T306,$D$17,T18:T306)","v":512034.12200000003},{"$f":"SUMIF($D$18:U306,$D$17,U18:U306)","v":511642.01000000007},{"$f":"SUMIF($D$18:V306,$D$17,V18:V306)","v":511208.44699999993},{"$f":"SUMIF($D$18:W306,$D$17,W18:W306)","v":510732.02899999992},{"$f":"SUMIF($D$18:X306,$D$17,X18:X306)","v":510211.62199999997},{"$f":"SUMIF($D$18:Y306,$D$17,Y18:Y306)","v":509647.31099999999},{"$f":"SUMIF($D$18:Z306,$D$17,Z18:Z306)","v":509039.359},{"$f":"SUMIF($D$18:AA306,$D$17,AA18:AA306)","v":508386.95800000004},{"$f":"SUMIF($D$18:AB306,$D$17,AB18:AB306)","v":507689.06300000008},{"$f":"SUMIF($D$18:AC306,$D$17,AC18:AC306)","v":506944.73199999996},{"$f":"SUMIF($D$18:AD306,$D$17,AD18:AD306)","v":506154.00000000006},{"$f":"SUMIF($D$18:AE306,$D$17,AE18:AE306)","v":505316.462},{"$f":"SUMIF($D$18:AF306,$D$17,AF18:AF306)","v":504430.29499999998},{"$f":"SUMIF($D$18:AG306,$D$17,AG18:AG306)","v":503493.30199999997},{"$f":"SUMIF($D$18:AH306,$D$17,AH18:AH306)","v":502504.00599999994},{"$f":"SUMIF($D$18:AI306,$D$17,AI18:AI306)","v":501462.60600000003},{"$f":"SUMIF($D$18:AJ306,$D$17,AJ18:AJ306)","v":500370.16400000011},{"$f":"SUMIF($D$18:AK306,$D$17,AK18:AK306)","v":499227.28299999994},{"$f":"SUMIF($D$18:AL306,$D$17,AL18:AL306)","v":498035.00200000004},{"$f":"SUMIF($D$18:AM306,$D$17,AM18:AM306)","v":496794.70199999999},{"$f":"SUMIF($D$18:AN306,$D$17,AN18:AN306)","v":495508.52600000001},{"$f":"SUMIF($D$18:AO306,$D$17,AO18:AO306)","v":494178.85000000003},{"$f":"SUMIF($D$18:AP306,$D$17,AP18:AP306)","v":492808.09400000004},{"$f":"SUMIF($D$18:AQ306,$D$17,AQ18:AQ306)","v":491399.15200000006},{"$f":"SUMIF($D$18:AR306,$D$17,AR18:AR306)","v":489955.29800000001},{"$f":"SUMIF($D$18:AS306,$D$17,AS18:AS306)","v":488479.83100000001},{"$f":"SUMIF($D$18:AT306,$D$17,AT18:AT306)","v":486977.19699999999},{"$f":"SUMIF($D$18:AU306,$D$17,AU18:AU306)","v":485454.19299999997},{"$f":"SUMIF($D$18:AV306,$D$17,AV18:AV306)","v":483918.58},{"$f":"SUMIF($D$18:AW306,$D$17,AW18:AW306)","v":482377.61799999996},{"$f":"SUMIF($D$18:AX306,$D$17,AX18:AX306)","v":480835.46799999999},{"$f":"SUMIF($D$18:AY306,$D$17,AY18:AY306)","v":479296.40500000009},{"$f":"SUMIF($D$18:AZ306,$D$17,AZ18:AZ306)","v":477767.10400000005},{"$f":"SUMIF($D$18:BA306,$D$17,BA18:BA306)","v":476254.79399999999},{"$f":"SUMIF($D$18:BB306,$D$17,BB18:BB306)","v":474765.43099999998},{"$f":"SUMIF($D$18:BC306,$D$17,BC18:BC306)","v":473303.29400000005},{"$f":"SUMIF($D$18:BD306,$D$17,BD18:BD306)","v":471870.76399999991},{"$f":"SUMIF($D$18:BE306,$D$17,BE18:BE306)","v":470469.75900000002},{"$f":"SUMIF($D$18:BF306,$D$17,BF18:BF306)","v":469101.19899999996},{"$f":"SUMIF($D$18:BG306,$D$17,BG18:BG306)","v":467765.94200000004},{"$f":"SUMIF($D$18:BH306,$D$17,BH18:BH306)","v":466465.766},{"$f":"SUMIF($D$18:BI306,$D$17,BI18:BI306)","v":465202.19100000005},{"$f":"SUMIF($D$18:BJ306,$D$17,BJ18:BJ306)","v":463975.28200000001},{"$f":"SUMIF($D$18:BK306,$D$17,BK18:BK306)","v":462784.49100000004},{"$f":"SUMIF($D$18:BL306,$D$17,BL18:BL306)","v":461629.38800000004},{"$f":"SUMIF($D$18:BM306,$D$17,BM18:BM306)","v":460510.18900000001},{"$f":"SUMIF($D$18:BN306,$D$17,BN18:BN306)","v":459427.05200000003},{"$f":"SUMIF($D$18:BO306,$D$17,BO18:BO306)","v":458379.55899999989},{"$f":"SUMIF($D$18:BP306,$D$17,BP18:BP306)","v":457366.99799999996},{"$f":"SUMIF($D$18:BQ306,$D$17,BQ18:BQ306)","v":456388.71099999989},{"$f":"SUMIF($D$18:BR306,$D$17,BR18:BR306)","v":455443.94900000002},{"$f":"SUMIF($D$18:BS306,$D$17,BS18:BS306)","v":454532.10499999998},{"$f":"SUMIF($D$18:BT306,$D$17,BT18:BT306)","v":453652.66599999997},{"$f":"SUMIF($D$18:BU306,$D$17,BU18:BU306)","v":452805.24900000001},{"$f":"SUMIF($D$18:BV306,$D$17,BV18:BV306)","v":451989.00599999999},{"$f":"SUMIF($D$18:BW306,$D$17,BW18:BW306)","v":451202.95699999988},{"$f":"SUMIF($D$18:BX306,$D$17,BX18:BX306)","v":450445.56899999996},{"$f":"SUMIF($D$18:BY306,$D$17,BY18:BY306)","v":449714.94699999999},{"$f":"SUMIF($D$18:BZ306,$D$17,BZ18:BZ306)","v":449008.75100000005},{"$f":"SUMIF($D$18:CA306,$D$17,CA18:CA306)","v":448324.89200000005},{"$f":"SUMIF($D$18:CB306,$D$17,CB18:CB306)","v":447661.41200000001},{"$f":"SUMIF($D$18:CC306,$D$17,CC18:CC306)","v":447016.38900000002},{"$f":"SUMIF($D$18:CD306,$D$17,CD18:CD306)","v":446388.092},{"$f":"SUMIF($D$18:CE306,$D$17,CE18:CE306)","v":445774.68100000004},{"$f":"SUMIF($D$18:CF306,$D$17,CF18:CF306)","v":445174.06300000002},{"$f":"SUMIF($D$18:CG306,$D$17,CG18:CG306)","v":444583.91200000001},{"$f":"SUMIF($D$18:CH306,$D$17,CH18:CH306)","v":444001.73600000003},{"$f":"SUMIF($D$18:CI306,$D$17,CI18:CI306)","v":443424.65399999992},{"$f":"SUMIF($D$18:CJ306,$D$17,CJ18:CJ306)","v":442849.68599999993},{"$f":"SUMIF($D$18:CK306,$D$17,CK18:CK306)","v":442273.44499999995},null,"EU28"]
[null,"not included in the original data set","EU27",null,null,null,null,{"$f":"H307-H273","v":444986.72899999988},{"$f":"I307-I273","v":445250.51399999997},445307.67100000003,445181.26699999993,444913.56,444567.84399999992,444191.47499999992,443797.21199999994,443375.26299999992,442923.48999999982,442433.61600000004,441899.76499999996,441324.82400000002,440714.54800000007,440068.38099999994,439384.89999999991,438662.86199999996,437902.38199999998,437103.42200000002,436264.34200000006,435383.03700000007,434457.84099999996,433488.55900000007,432475.10100000002,431416.24199999997,430310.64599999995,429157.57899999991,427957.32800000004,426711.05500000011,425420.17999999993,424086.71,422712.72100000002,421300.52100000001,419852.24400000006,418370.02800000005,416856.28400000004,415313.78,413745.55800000002,412155.66700000002,410549.95199999999,408935.03500000003,407317.15299999993,405700.06699999998,404087.69900000008,402485.77,400900.50899999996,399337.11499999999,397799.44100000005,396289.91099999991,394810.88900000002,393364.04099999997,391950.83400000003,390573.05800000002,389232.18300000008,387928.79599999997,386662.97500000003,385434.71400000004,384244.32700000005,383091.83700000006,381976.62499999988,380897.64199999999,379853.88499999989,378844.55500000005,377868.80799999996,376925.429,{"$f":"BU307-BU273","v":376013.15899999999},375130.44900000002,374276.08799999987,373448.51899999997,372645.68199999997,371865.14200000005,371104.80800000008,370362.772,369637.245,368926.70500000002,368229.60000000003,367544.17600000004,366868.55200000003,366200.70600000001,365538.31999999995,364879.04399999994,364220.18499999994,null,"EU27"]
[null,null,"France",null,null,null,null,{"$f":"VLOOKUP($C309,$C$18:$CK$307,H$334,FALSE)","v":65129.728000000003},65273.510999999999,65426.178999999996,65584.517999999996,65745.183999999994,65902.034,66050.604999999996,66190.53,66323.947,66451.741999999998,{"$f":"VLOOKUP($C309,$C$18:$CK$307,R$334,FALSE)","v":66575.357000000004},66695.702000000005,66812.868000000002,66926.043999999994,67034.142999999996,67135.673999999999,67229.467000000004,67315.167000000001,67392.736999999994,67461.581000000006,{"$f":"VLOOKUP($C309,$C$18:$CK$307,AB$334,FALSE)","v":67521.099000000002},67570.911999999997,67610.820999999996,67640.953999999998,67661.694000000003,67673.656000000003,67677.391000000003,67673.176000000007,67661.303,67642.432000000001,{"$f":"VLOOKUP($C309,$C$18:$CK$307,AL$334,FALSE)","v":67617.345000000001},67586.728000000003,67551.14,67511.024000000005,67466.8,67418.880999999994,67367.701000000001,67313.751000000004,67257.606,67199.95,{"$f":"VLOOKUP($C309,$C$18:$CK$307,AV$334,FALSE)","v":67141.546000000002},67083.081999999995,67024.922999999995,66967.471999999994,66911.459000000003,66857.679999999993,66806.698000000004,66758.884999999995,66714.225999999995,66672.467000000004,{"$f":"VLOOKUP($C309,$C$18:$CK$307,BF$334,FALSE)","v":66633.164999999994},66595.925000000003,66560.604999999996,66527.164999999994,66495.37,66464.982999999993,66435.721000000005,66407.487999999998,66379.990999999995,66352.551999999996,{"$f":"VLOOKUP($C309,$C$18:$CK$307,BP$334,FALSE)","v":66324.312999999995},66294.664999999994,66263.258000000002,66230.167000000001,66195.709000000003,66160.395999999993,66124.603000000003,66088.316000000006,66051.377999999997,66013.929000000004,{"$f":"VLOOKUP($C309,$C$18:$CK$307,BZ$334,FALSE)","v":65976.115000000005},65938.024000000005,65899.587,65860.652000000002,65820.968999999997,65780.27,65738.224000000002,65694.559999999998,65648.966,65601.164999999994,65550.86,65497.773000000001]
[null,null,"Monaco",null,null,null,null,38.963999999999999,39.241999999999997,39.511000000000003,39.783000000000001,40.046999999999997,40.304000000000002,40.557000000000002,40.81,41.052999999999997,41.295999999999999,41.536000000000001,41.777000000000001,42.009,42.253,42.484000000000002,42.713000000000001,42.929000000000002,43.155000000000001,43.363,43.573999999999998,43.777000000000001,43.972000000000001,44.167999999999999,44.371000000000002,44.558999999999997,44.756999999999998,44.948999999999998,45.148000000000003,45.350999999999999,45.564,45.777000000000001,46.002000000000002,46.238,46.481000000000002,46.738999999999997,46.999000000000002,47.273000000000003,47.55,47.844000000000001,48.145000000000003,48.442,48.759,49.069000000000003,49.390999999999998,49.716999999999999,50.042000000000002,50.378,50.707999999999998,51.05,51.395000000000003,51.74,52.093000000000004,52.456000000000003,52.822000000000003,53.195999999999998,53.57,53.945,54.329000000000001,54.716000000000001,55.11,55.503999999999998,55.896000000000001,56.305,56.698,57.11,57.515999999999998,57.93,58.347999999999999,58.762999999999998,59.189,59.616,60.042000000000002,60.48,60.911999999999999,61.341999999999999,61.78,62.212000000000003,62.642000000000003,63.078000000000003,63.512,63.935000000000002,64.355999999999995]
[null,"Country name according to EDGAR","France and Monaco",null,null,null,null,{"$f":"H309+H310","v":65168.692000000003},{"$f":"I309+I310","v":65312.752999999997},65465.689999999995,65624.300999999992,65785.231,65942.338000000003,66091.161999999997,66231.34,66365,66493.038,66616.892999999996,66737.479000000007,66854.877000000008,66968.296999999991,67076.626999999993,67178.387000000002,67272.396000000008,67358.322,67436.099999999991,67505.154999999999,67564.876000000004,67614.883999999991,67654.989000000001,67685.324999999997,67706.252999999997,67718.413,67722.34,67718.324000000008,67706.653999999995,67687.995999999999,67663.122000000003,67632.73,67597.377999999997,67557.505000000005,67513.539000000004,67465.87999999999,67414.974000000002,67361.301000000007,67305.45,67248.095000000001,67189.987999999998,67131.841,67073.991999999998,67016.862999999998,66961.176000000007,66907.721999999994,66857.076000000001,66809.592999999993,66765.275999999998,66723.862000000008,66684.904999999999,66648.017999999996,66613.061000000002,66579.986999999994,66548.565999999992,66518.553,66489.666000000012,66461.816999999995,66434.706999999995,66407.661999999997,66379.816999999995,66350.560999999987,66319.562999999995,66286.865000000005,66252.819000000003,{"$f":"BU309+BU310","v":66217.911999999997},66182.532999999996,66146.664000000004,66110.141000000003,66073.118000000002,66035.731,65998.066000000006,65960.066999999995,65921.563999999998,65882.311000000002,65842.05,65800.436000000002,65757.202000000005,65712.043999999994,65664.676999999996,65614.794999999998,65562.129000000001,null,{"$f":"VLOOKUP(C311,countries,1,FALSE)","v":"France and Monaco"}]
[null,null,"Israel",null,null,null,null,{"$f":"VLOOKUP($C312,$C$18:$CK$307,H$334,FALSE)","v":8519.3770000000004},8655.5349999999999,8789.7739999999994,8922.8919999999998,9055.1479999999992,9187.0419999999995,9318.9660000000003,9450.9310000000005,9582.8490000000002,9714.8539999999994,{"$f":"VLOOKUP($C312,$C$18:$CK$307,R$334,FALSE)","v":9847.0959999999995},9979.6980000000003,10112.743,10246.254000000001,10380.262000000001,10514.773999999999,10649.804,10785.324000000001,10921.36,11057.947,{"$f":"VLOOKUP($C312,$C$18:$CK$307,AB$334,FALSE)","v":11195.121999999999},11332.901,11471.258,11610.096,11749.271000000001,11888.61,12027.942999999999,12167.166999999999,12306.200999999999,12444.874,{"$f":"VLOOKUP($C312,$C$18:$CK$307,AL$334,FALSE)","v":12583.001},12720.415999999999,12857.025,12992.744000000001,13127.433000000001,13260.950999999999,13393.207,13524.120999999999,13653.673000000001,13781.867,{"$f":"VLOOKUP($C312,$C$18:$CK$307,AV$334,FALSE)","v":13908.718999999999},14034.295,14158.584999999999,14281.601000000001,14403.396000000001,14524.032999999999,14643.567999999999,14762.007,14879.414000000001,14995.923000000001,{"$f":"VLOOKUP($C312,$C$18:$CK$307,BF$334,FALSE)","v":15111.715},15226.914000000001,15341.567999999999,15455.641,15569.101000000001,15681.897000000001,15793.937,15905.200999999999,16015.647999999999,16125.2,{"$f":"VLOOKUP($C312,$C$18:$CK$307,BP$334,FALSE)","v":16233.754999999999},16341.215,16447.539000000001,16552.620999999999,16656.326000000001,16758.48,16858.956999999999,16957.659,17054.535,17149.512999999999,{"$f":"VLOOKUP($C312,$C$18:$CK$307,BZ$334,FALSE)","v":17242.548999999999},17333.596000000001,17422.603999999999,17509.539000000001,17594.36,17677.032999999999,17757.531999999999,17835.849999999999,17911.999,17985.969000000001,18057.804,18127.527999999998]
[null,null,"State of Palestine",null,null,null,null,4981.42,5101.4139999999998,5222.7479999999996,5345.5410000000002,5469.3639999999996,5593.7669999999998,5718.4139999999998,5843.0060000000003,5967.4570000000003,6091.8959999999997,6216.5919999999996,6341.7280000000001,6467.2569999999996,6593.0360000000001,6719.0010000000002,6845.0379999999996,6971.0879999999997,7097.0709999999999,7222.9560000000001,7348.6610000000001,7474.1139999999996,7599.2309999999998,7723.9309999999996,7848.1670000000004,7971.8360000000002,8094.8969999999999,8217.2729999999992,8338.9060000000009,8459.6939999999995,8579.5190000000002,8698.2639999999992,8815.7739999999994,8931.9809999999998,9046.8420000000006,9160.3109999999997,9272.4060000000009,9383.1129999999994,9492.3799999999992,9600.1260000000002,9706.2900000000009,9810.7620000000006,9913.4879999999994,10014.39,10113.444,10210.584999999999,10305.832,10399.126,10490.447,10579.742,10666.938,10751.933999999999,10834.682000000001,10915.119000000001,10993.258,11069.082,11142.62,11213.894,11282.888999999999,11349.602999999999,11414.017,11476.118,11535.901,11593.365,11648.516,11701.409,11752.081,11800.583000000001,11846.932000000001,11891.119000000001,11933.146000000001,11973.005999999999,12010.694,12046.21,12079.558999999999,12110.74,12139.767,12166.632,12191.335999999999,12213.864,12234.197,12252.325999999999,12268.222]
[null,"Country name according to EDGAR","Israel and Palestine, State of",null,null,null,null,{"$f":"H312+H313","v":13500.797},{"$f":"I312+I313","v":13756.949000000001},14012.521999999999,14268.433000000001,14524.511999999999,14780.808999999999,15037.380000000001,15293.937000000002,15550.306,15806.75,16063.687999999998,16321.425999999999,16580,16839.29,17099.262999999999,17359.811999999998,17620.892,17882.395,18144.315999999999,18406.608,18669.235999999997,18932.131999999998,19195.188999999998,19458.262999999999,19721.107,19983.507000000001,20245.216,20506.073,20765.894999999997,21024.393,21281.264999999999,21536.19,21789.006000000001,22039.586000000003,22287.743999999999,22533.357,22776.32,23016.500999999997,23253.798999999999,23488.156999999999,23719.481,23947.782999999999,24172.974999999999,24395.044999999998,24613.981,24829.864999999998,25042.694,25252.453999999998,25459.156000000003,25662.861000000001,25863.648999999998,26061.596000000001,26256.686999999998,26448.898999999998,26638.183000000001,26824.517,27007.830999999998,27188.089999999997,27365.250999999997,27539.217000000001,27709.873,27877.116000000002,28040.904000000002,28201.136999999999,28357.735000000001,{"$f":"BU312+BU313","v":28510.561000000002},28659.54,28804.591,28945.654000000002,29082.659,29215.555,29344.29,29468.813999999998,29589.097999999998,29705.1,29816.799999999999,29924.163999999997,30027.185999999998,30125.862999999998,30220.166000000001,30310.129999999997,30395.75,null,{"$f":"VLOOKUP(C314,countries,1,FALSE)","v":"Israel and Palestine, State of"}]
[null,null,"Italy",null,null,null,null,{"$f":"VLOOKUP($C315,$C$18:$CK$307,H$334,FALSE)","v":60550.074999999997},60461.826000000001,60367.476999999999,60262.77,60147.51,60019.211000000003,59876.550999999999,59720.995000000003,59555.928999999996,59384.044999999998,{"$f":"VLOOKUP($C315,$C$18:$CK$307,R$334,FALSE)","v":59208.468000000001},59031.474999999999,58854.135000000002,58676.381999999998,58497.936999999998,58317.978000000003,58135.633000000002,57950.868000000002,57763.186000000002,57570.550999999999,{"$f":"VLOOKUP($C315,$C$18:$CK$307,AB$334,FALSE)","v":57370.311000000002},57160.360999999997,56939.923999999999,56708.673000000003,56465.442000000003,56209.074000000001,55938.764999999999,55654.04,55355.055,55042.557000000001,{"$f":"VLOOKUP($C315,$C$18:$CK$307,AL$334,FALSE)","v":54717.745999999999},54381.673000000003,54035.031999999999,53678.218999999997,53311.855000000003,52936.531000000003,52553.006999999998,52162.250999999997,51765.531999999999,51364.5,{"$f":"VLOOKUP($C315,$C$18:$CK$307,AV$334,FALSE)","v":50961.021999999997},50556.887999999999,50153.188999999998,49751.213000000003,49353.135999999999,48961.398999999998,48578.016000000003,48204.11,47840.256000000001,47487.144,{"$f":"VLOOKUP($C315,$C$18:$CK$307,BF$334,FALSE)","v":47145.196000000004},46814.709000000003,46496.016000000003,46189.2,45893.857000000004,45609.307999999997,45334.851000000002,45070.237000000001,44815.023000000001,44568.088000000003,{"$f":"VLOOKUP($C315,$C$18:$CK$307,BP$334,FALSE)","v":44328.033000000003},44093.71,43864.466,43639.904999999999,43419.35,43202.186999999998,42987.889000000003,42776.014000000003,42566.243000000002,42358.303999999996,{"$f":"VLOOKUP($C315,$C$18:$CK$307,BZ$334,FALSE)","v":42151.978999999999},41947.135000000002,41743.684000000001,41541.606,41340.923999999999,41141.75,40944.260999999999,40748.682999999997,40555.347000000002,40364.614999999998,40176.961000000003,39992.913999999997]
[null,null,"San Marino",null,null,null,null,33.86,33.930999999999997,34.017000000000003,34.085000000000001,34.142000000000003,34.200000000000003,34.256999999999998,34.295999999999999,34.332000000000001,34.368000000000002,34.381999999999998,34.412999999999997,34.423000000000002,34.433999999999997,34.445999999999998,34.442,34.436,34.435000000000002,34.423000000000002,34.399000000000001,34.377000000000002,34.35,34.304000000000002,34.264000000000003,34.207000000000001,34.146999999999998,34.082999999999998,34.009,33.923999999999999,33.834000000000003,33.738,33.64,33.53,33.411000000000001,33.298000000000002,33.173999999999999,33.058,32.933999999999997,32.808999999999997,32.686,32.563000000000002,32.439,32.320999999999998,32.201999999999998,32.08,31.968,31.853999999999999,31.742999999999999,31.634,31.529,31.422999999999998,31.327000000000002,31.228000000000002,31.135999999999999,31.036000000000001,30.94,30.861000000000001,30.773,30.689,30.605,30.524000000000001,30.451000000000001,30.38,30.318000000000001,30.254000000000001,30.193999999999999,30.135000000000002,30.085999999999999,30.03,29.984000000000002,29.943999999999999,29.896999999999998,29.866,29.829000000000001,29.798999999999999,29.780999999999999,29.751000000000001,29.727,29.715,29.704000000000001,29.69,29.690999999999999]
[null,null,"Holy See",null,null,null,null,0.79900000000000004,0.80100000000000005,0.8,0.79900000000000004,0.8,0.80900000000000005,0.80200000000000005,0.80200000000000005,0.80400000000000005,0.80300000000000005,0.80100000000000005,0.79500000000000004,0.80500000000000005,0.80500000000000005,0.80300000000000005,0.8,0.79700000000000004,0.79700000000000004,0.80900000000000005,0.80200000000000005,0.81,0.80300000000000005,0.80200000000000005,0.79800000000000004,0.80600000000000005,0.80300000000000005,0.79800000000000004,0.80100000000000005,0.80500000000000005,0.80500000000000005,0.80900000000000005,0.81399999999999995,0.80900000000000005,0.80800000000000005,0.80600000000000005,0.80600000000000005,0.80500000000000005,0.81100000000000005,0.80600000000000005,0.81200000000000006,0.81,0.80800000000000005,0.80700000000000005,0.81799999999999995,0.81399999999999995,0.81100000000000005,0.81100000000000005,0.80800000000000005,0.80100000000000005,0.79800000000000004,0.79900000000000004,0.79900000000000004,0.79600000000000004,0.79100000000000004,0.79100000000000004,0.78600000000000003,0.79,0.79300000000000004,0.79400000000000004,0.79300000000000004,0.79300000000000004,0.79200000000000004,0.79100000000000004,0.78700000000000003,0.79,0.78700000000000003,0.78400000000000003,0.78500000000000003,0.78600000000000003,0.79300000000000004,0.79500000000000004,0.79500000000000004,0.79200000000000004,0.79400000000000004,0.79300000000000004,0.79200000000000004,0.79200000000000004,0.79,0.79200000000000004,0.79200000000000004,0.79700000000000004,0.80100000000000005]
[null,"Country name according to EDGAR","Italy, San Marino and the Holy See",null,null,null,null,{"$f":"SUM(H315:H317)","v":60584.733999999997},{"$f":"SUM(I315:I317)","v":60496.557999999997},60402.294000000002,60297.653999999995,60182.452000000005,60054.22,59911.61,59756.093000000008,59591.064999999995,59419.216,59243.650999999998,59066.682999999997,58889.363000000005,58711.620999999999,58533.186000000002,58353.220000000008,58170.866000000002,57986.1,57798.418000000005,57605.752,57405.498,57195.513999999996,56975.03,56743.735000000008,56500.455000000002,56244.023999999998,55973.646000000001,55688.85,55389.784,55077.196000000004,54752.292999999998,54416.127,54069.370999999999,53712.437999999995,53345.959000000003,52970.510999999999,52586.869999999995,52195.995999999999,51799.146999999997,51397.998,50994.394999999997,50590.134999999995,50186.317000000003,49784.233,49386.03,48994.178,48610.681000000004,48236.661,47872.690999999999,47519.471000000005,47177.418000000005,46846.834999999999,46528.040000000008,46221.126999999993,45925.684000000001,45641.034,45366.502,45101.803,44846.506000000001,44599.486000000004,44359.35,44124.953000000001,43895.636999999995,43671.009999999995,43450.394,{"$f":"SUM(BU315:BU317)","v":43233.167999999998},43018.808000000005,42806.885000000009,42597.059000000001,42389.080999999991,42182.718000000001,41977.826999999997,41774.342000000004,41572.228999999999,41371.515999999996,41172.323000000004,40974.803999999996,40779.199999999997,40585.853999999999,40395.110999999997,40207.448000000004,40023.405999999995,null,{"$f":"VLOOKUP(C318,countries,1,FALSE)","v":"Italy, San Marino and the Holy See"}]
[null,null,"Serbia",null,null,null,null,{"$f":"VLOOKUP($C319,$C$18:$CK$307,H$334,FALSE)","v":8772.2350000000006},8737.3709999999992,8697.5499999999993,8653.0159999999996,8604.9989999999998,8555.2970000000005,8505.26,8455.2890000000007,8405.107,8354.5040000000008,{"$f":"VLOOKUP($C319,$C$18:$CK$307,R$334,FALSE)","v":8303.0490000000009},8250.4310000000005,8196.7180000000008,8142.1390000000001,8086.72,8030.5129999999999,7973.5619999999999,7915.9009999999998,7857.5990000000002,7798.7749999999996,{"$f":"VLOOKUP($C319,$C$18:$CK$307,AB$334,FALSE)","v":7739.5519999999997},7680.0640000000003,7620.3419999999996,7560.4489999999996,7500.4780000000001,7440.5479999999998,7380.76,7321.1549999999997,7261.7240000000002,7202.4129999999996,{"$f":"VLOOKUP($C319,$C$18:$CK$307,AL$334,FALSE)","v":7143.1409999999996},7083.8329999999996,7024.4780000000001,6965.07,6905.5590000000002,6845.8559999999998,6785.9160000000002,6725.7150000000001,6665.2569999999996,6604.5339999999997,{"$f":"VLOOKUP($C319,$C$18:$CK$307,AV$334,FALSE)","v":6543.5709999999999},6482.3540000000003,6420.91,6359.2489999999998,6297.4110000000001,6235.4759999999997,6173.4939999999997,6111.4750000000004,6049.4750000000004,5987.5320000000002,{"$f":"VLOOKUP($C319,$C$18:$CK$307,BF$334,FALSE)","v":5925.7070000000003},5864.049,5802.6059999999998,5741.4009999999998,5680.4610000000002,5619.8010000000004,5559.4229999999998,5499.3729999999996,5439.6710000000003,5380.3680000000004,{"$f":"VLOOKUP($C319,$C$18:$CK$307,BP$334,FALSE)","v":5321.4930000000004},5263.1009999999997,5205.2139999999999,5147.8339999999998,5091.009,5034.7619999999997,4979.0959999999995,4924.05,4869.6090000000004,4815.7979999999998,{"$f":"VLOOKUP($C319,$C$18:$CK$307,BZ$334,FALSE)","v":4762.6090000000004},4710.0569999999998,4658.1099999999997,4606.7860000000001,4556.0839999999998,4505.9830000000002,4456.4889999999996,4407.5780000000004,4359.2479999999996,4311.4560000000001,4264.1940000000004,4217.424]
[null,null,"Montenegro",null,null,null,null,627.98699999999997,628.06600000000003,628.053,627.95000000000005,627.76099999999997,627.495,627.14400000000001,626.70899999999995,626.18600000000004,625.58000000000004,624.86400000000003,624.05899999999997,623.14300000000003,622.125,621.00099999999998,619.76900000000001,618.423,616.98099999999999,615.43299999999999,613.79399999999998,612.06399999999996,610.25900000000001,608.36099999999999,606.40899999999999,604.38300000000004,602.32000000000005,600.22699999999998,598.08799999999997,595.93200000000002,593.75300000000004,591.548,589.33299999999997,587.10900000000004,584.87199999999996,582.62800000000004,580.35199999999998,578.072,575.77300000000002,573.43799999999999,571.08199999999999,568.68799999999999,566.26499999999999,563.79499999999996,561.28599999999994,558.73,556.12800000000004,553.47799999999995,550.78,548.04300000000001,545.26499999999999,542.44600000000003,539.59500000000003,536.71100000000001,533.80200000000002,530.87599999999998,527.928,524.98400000000004,522.02599999999995,519.07899999999995,516.13300000000004,513.18799999999999,510.24799999999999,507.32,504.39600000000002,501.48700000000002,498.596,495.702,492.82499999999999,489.96699999999998,487.11900000000003,484.279,481.44499999999999,478.62299999999999,475.81700000000001,473.01600000000002,470.22199999999998,467.43799999999999,464.66699999999997,461.90800000000002,459.14699999999999,456.40499999999997,453.65699999999998]
[null,"Country name according to EDGAR","Serbia and Montenegro",null,null,null,null,{"$f":"SUM(H319:H320)","v":9400.2219999999998},{"$f":"SUM(I319:I320)","v":9365.4369999999999},9325.6029999999992,9280.9660000000003,9232.76,9182.7920000000013,9132.4040000000005,9081.9980000000014,9031.2929999999997,8980.0840000000007,8927.9130000000005,8874.49,8819.8610000000008,8764.2639999999992,8707.7209999999995,8650.2819999999992,8591.9850000000006,8532.8819999999996,8473.0319999999992,8412.5689999999995,8351.616,8290.3230000000003,8228.7029999999995,8166.8579999999993,8104.8609999999999,8042.8679999999995,7980.9870000000001,7919.2429999999995,7857.6559999999999,7796.1659999999993,7734.6889999999994,7673.1659999999993,7611.5870000000004,7549.942,7488.1869999999999,7426.2079999999996,7363.9880000000003,7301.4880000000003,7238.6949999999997,7175.616,7112.259,7048.6190000000006,6984.7049999999999,6920.5349999999999,6856.1409999999996,6791.6039999999994,6726.9719999999998,6662.2550000000001,6597.518,6532.7970000000005,6468.1530000000002,6403.6440000000002,6339.317,6275.2029999999995,6211.3370000000004,6147.7290000000003,6084.4070000000002,6021.3989999999994,5958.75,5896.5010000000002,5834.6810000000005,5773.3489999999993,5712.5339999999997,5652.23,5592.4960000000001,{"$f":"SUM(BU319:BU320)","v":5533.3580000000002},5474.7979999999998,5416.875,5359.576,5302.9169999999995,5246.8880000000008,5191.5019999999995,5136.7329999999993,5082.6030000000001,5029.0999999999995,4976.2049999999999,4923.9269999999997,4872.2450000000008,4821.1559999999999,4770.6030000000001,4720.5990000000002,4671.0810000000001,null,{"$f":"VLOOKUP(C321,countries,1,FALSE)","v":"Serbia and Montenegro"}]
[null,null,"Spain",null,null,null,null,{"$f":"VLOOKUP($C322,$C$18:$CK$307,H$334,FALSE)","v":46736.775999999998},46754.777999999998,46745.216,46719.142,46679.286999999997,46630.675000000003,46577.093999999997,46518.646000000001,46453.974999999999,46383.828000000001,{"$f":"VLOOKUP($C322,$C$18:$CK$307,R$334,FALSE)","v":46309.023999999998},46230.14,46147.591,46061.483,45971.722000000002,45878.034,45780.17,45677.993999999999,45571.461000000003,45460.5,{"$f":"VLOOKUP($C322,$C$18:$CK$307,AB$334,FALSE)","v":45345.044999999998},45224.891000000003,45099.803999999996,44969.300999999999,44832.561000000002,44688.624000000003,44536.595999999998,44376.201000000001,44207.09,44028.286999999997,{"$f":"VLOOKUP($C322,$C$18:$CK$307,AL$334,FALSE)","v":43838.652999999998},43637.41,43424.353000000003,43199.72,42963.77,42716.998,42459.987999999998,42193.148999999998,41917.101000000002,41632.978999999999,{"$f":"VLOOKUP($C322,$C$18:$CK$307,AV$334,FALSE)","v":41342.163},41045.955000000002,40745.360999999997,40441.298000000003,40134.921000000002,39827.445,39520.063999999998,39213.815000000002,38909.843999999997,38609.690999999999,{"$f":"VLOOKUP($C322,$C$18:$CK$307,BF$334,FALSE)","v":38314.997000000003},38027.228000000003,37747.235000000001,37475.802000000003,37214.188999999998,36963.726000000002,36725.383000000002,36499.584999999999,36286.368999999999,36085.642,{"$f":"VLOOKUP($C322,$C$18:$CK$307,BP$334,FALSE)","v":35897.095999999998},35720.267999999996,35554.97,35400.599000000002,35255.68,35118.332999999999,34986.921000000002,34860.671000000002,34738.963000000003,34620.601999999999,{"$f":"VLOOKUP($C322,$C$18:$CK$307,BZ$334,FALSE)","v":34504.336000000003},34389.124000000003,34274.237999999998,34159.180999999997,34043.703999999998,33927.622000000003,33810.790999999997,33693.082999999999,33574.322999999997,33454.326999999997,33332.911999999997,33209.862999999998]
[null,null,"Andorra",null,null,null,null,77.141999999999996,77.265000000000001,77.355000000000004,77.462999999999994,77.572000000000003,77.679000000000002,77.775000000000006,77.840999999999994,77.894000000000005,77.906000000000006,77.915999999999997,77.924999999999997,77.944000000000003,77.953000000000003,77.965999999999994,77.971999999999994,77.977999999999994,77.968999999999994,77.957999999999998,77.936000000000007,77.911000000000001,77.858999999999995,77.789000000000001,77.703000000000003,77.602000000000004,77.471000000000004,77.316000000000003,77.135999999999996,76.924999999999997,76.686999999999998,76.42,76.117999999999995,75.787999999999997,75.435000000000002,75.048000000000002,74.635000000000005,74.209999999999994,73.751999999999995,73.284999999999997,72.799000000000007,72.296000000000006,71.793000000000006,71.275000000000006,70.762,70.245000000000005,69.731999999999999,69.233999999999995,68.738,68.272999999999996,67.796999999999997,67.361000000000004,66.941000000000003,66.531999999999996,66.156999999999996,65.802999999999997,65.47,65.176000000000002,64.897000000000006,64.649000000000001,64.424000000000007,64.22,64.045000000000002,63.875,63.741,63.612000000000002,63.511000000000003,63.414000000000001,63.328000000000003,63.255000000000003,63.189,63.124000000000002,63.058,63.002000000000002,62.933999999999997,62.874000000000002,62.805999999999997,62.74,62.674999999999997,62.610999999999997,62.542000000000002,62.469000000000001,62.4]
[null,"Country name according to EDGAR","Spain and Andorra",null,null,null,null,{"$f":"SUM(H322:H323)","v":46813.917999999998},{"$f":"SUM(I322:I323)","v":46832.042999999998},46822.571000000004,46796.605000000003,46756.858999999997,46708.353999999999,46654.868999999999,46596.487000000001,46531.868999999999,46461.734000000004,46386.939999999995,46308.065000000002,46225.535000000003,46139.436000000002,46049.688000000002,45956.006000000001,45858.148000000001,45755.962999999996,45649.419000000002,45538.436000000002,45422.955999999998,45302.75,45177.592999999993,45047.004000000001,44910.163,44766.095000000001,44613.911999999997,44453.337,44284.014999999999,44104.973999999995,43915.072999999997,43713.528000000006,43500.141000000003,43275.154999999999,43038.817999999999,42791.633000000002,42534.197999999997,42266.900999999998,41990.386000000006,41705.777999999998,41414.459000000003,41117.748,40816.635999999999,40512.060000000005,40205.166000000005,39897.177000000003,39589.297999999995,39282.553,38978.116999999998,38677.487999999998,38382.358,38094.169000000002,37813.767,37541.959000000003,37279.991999999998,37029.196000000004,36790.559000000001,36564.481999999996,36351.017999999996,36150.065999999999,35961.315999999999,35784.312999999995,35618.845000000001,35464.340000000004,35319.292000000001,{"$f":"SUM(BU322:BU323)","v":35181.843999999997},35050.334999999999,34923.999000000003,34802.218000000001,34683.790999999997,34567.460000000006,34452.182000000001,34337.24,34222.114999999998,34106.578000000001,33990.428,33873.530999999995,33755.758000000002,33636.933999999994,33516.868999999999,33395.380999999994,33272.262999999999,null,{"$f":"VLOOKUP(C324,countries,1,FALSE)","v":"Spain and Andorra"}]
[null,null,"Sudan",null,null,null,null,{"$f":"VLOOKUP($C325,$C$18:$CK$307,H$334,FALSE)","v":42813.237999999998},43849.26,44909.353000000003,45992.02,47095.241000000002,48216.43,49353.478999999999,50505.232000000004,51671.311000000002,52851.421999999999,{"$f":"VLOOKUP($C325,$C$18:$CK$307,R$334,FALSE)","v":54045.563000000002},55253.529000000002,56474.67,57708.034,58952.802000000003,60208.067000000003,61473.010999999999,62746.982000000004,64029.389000000003,65319.428,{"$f":"VLOOKUP($C325,$C$18:$CK$307,AB$334,FALSE)","v":66616.3},67919.273000000001,69227.767999999996,70541.331999999995,71859.591,73182.25,74508.990999999995,75839.519,77173.479000000007,78510.554999999993,{"$f":"VLOOKUP($C325,$C$18:$CK$307,AL$334,FALSE)","v":79850.417000000001},81192.823000000004,82537.312000000005,83883.752999999997,85232.578999999998,86584.467999999993,87939.766000000003,89298.375,90659.623999999996,92022.604999999996,{"$f":"VLOOKUP($C325,$C$18:$CK$307,AV$334,FALSE)","v":93386.116999999998},94749.116999999998,96110.941999999995,97471.145999999993,98829.195000000007,100184.546,101536.622,102884.823,104228.367,105566.35799999999,{"$f":"VLOOKUP($C325,$C$18:$CK$307,BF$334,FALSE)","v":106897.84},108221.906,109537.897,110845.21,112143.087,113430.777,114707.59299999999,115973.007,117226.577,118467.85799999999,{"$f":"VLOOKUP($C325,$C$18:$CK$307,BP$334,FALSE)","v":119696.489},120912.124,122114.44899999999,123303.226,124478.33500000001,125639.777,126787.511,127921.413,129041.371,130147.435,{"$f":"VLOOKUP($C325,$C$18:$CK$307,BZ$334,FALSE)","v":131239.698},132318.23499999999,133383.05499999999,134434.10699999999,135471.318,136494.62,137503.97099999999,138499.34899999999,139480.78099999999,140448.351,141402.16,142342.34899999999]
[null,null,"South Sudan",null,null,null,null,11062.112999999999,11193.725,11381.378000000001,11618.511,11891.029,12176.472,12458.305,12733.026,13005.727999999999,13278.371999999999,13555.239,13839.272000000001,14130.081,14425.423000000001,14724.361999999999,15025.647999999999,15328.329,15631.919,15936.415999999999,16241.853999999999,16548.482,16856.415000000001,17165.522000000001,17475.473000000002,17786.076000000001,18097.097000000002,18408.328000000001,18719.599999999999,19030.794999999998,19341.782999999999,19652.472000000002,19962.712,20272.396000000001,20581.351999999999,20889.481,21196.654999999999,21502.763999999999,21807.647000000001,22111.146000000001,22413.126,22713.411,23011.839,23308.28,23602.547999999999,23894.365000000002,24183.435000000001,24469.51,24752.386999999999,25031.942999999999,25308.063999999998,25580.695,25849.733,26115.062000000002,26376.51,26633.946,26887.219000000001,27136.185000000001,27380.719000000001,27620.723999999998,27856.095000000001,28086.71,28312.489000000001,28533.360000000001,28749.242999999999,28960.01,29165.472000000002,29365.53,29560.095000000001,29749.187999999998,29932.938999999998,30111.55,30285.171999999999,30453.848999999998,30617.528999999999,30776.087,30929.431,31077.46,31220.134999999998,31357.447,31489.463,31616.284,31738.063999999998]
[null,"Country name according to EDGAR","Sudan and South Sudan",null,null,null,null,{"$f":"SUM(H325:H326)","v":53875.350999999995},{"$f":"SUM(I325:I326)","v":55042.985000000001},56290.731,57610.530999999995,58986.270000000004,60392.902000000002,61811.784,63238.258000000002,64677.039000000004,66129.793999999994,67600.801999999996,69092.801000000007,70604.751000000004,72133.456999999995,73677.164000000004,75233.714999999997,76801.34,78378.900999999998,79965.805000000008,81561.282000000007,83164.782000000007,84775.687999999995,86393.29,88016.804999999993,89645.667000000001,91279.347000000009,92917.318999999989,94559.119000000006,96204.274000000005,97852.337999999989,99502.888999999996,101155.535,102809.70800000001,104465.105,106122.06,107781.12299999999,109442.53,111106.022,112770.76999999999,114435.731,116099.52799999999,117760.95600000001,119419.22199999999,121073.69399999999,122723.56000000001,124367.981,126006.132,127637.21,129260.31,130874.42199999999,132478.535,134071.639,135652.959,137221.72,138777.033,140317.99600000001,141843.77799999999,143353.726,144847.30100000001,146323.95299999998,147783.19899999999,149224.61300000001,150647.80900000001,152052.46899999998,153438.345,{"$f":"SUM(BU325:BU326)","v":154805.24900000001},156153.041,157481.508,158790.55900000001,160080.37400000001,161351.24799999999,162603.40699999998,163836.90399999998,165051.636,166247.405,167424.05100000001,168581.43099999998,169719.484,170838.228,171937.81399999998,173018.44400000002,174080.413,null,{"$f":"VLOOKUP(C327,countries,1,FALSE)","v":"Sudan and South Sudan"}]
[null,null,"Switzerland",null,null,null,null,{"$f":"VLOOKUP($C328,$C$18:$CK$307,H$334,FALSE)","v":8591.3649999999998},8654.6219999999994,8715.4940000000006,8773.6370000000006,8829.5640000000003,8883.8559999999998,8936.9310000000005,8989.143,9040.4850000000006,9090.6200000000008,{"$f":"VLOOKUP($C328,$C$18:$CK$307,R$334,FALSE)","v":9138.9560000000001},9185.1149999999998,9229.0439999999999,9270.9580000000005,9310.9959999999992,9349.3850000000002,9386.2880000000005,9421.7860000000001,9455.8909999999996,9488.7479999999996,{"$f":"VLOOKUP($C328,$C$18:$CK$307,AB$334,FALSE)","v":9520.5300000000007},9551.3459999999995,9581.2849999999999,9610.3809999999994,9638.7080000000005,9666.3089999999993,9693.2330000000002,9719.5429999999997,9745.2510000000002,9770.2649999999994,{"$f":"VLOOKUP($C328,$C$18:$CK$307,AL$334,FALSE)","v":9794.4570000000003},9817.7209999999995,9840.0969999999998,9861.625,9882.3670000000002,9902.3670000000002,9921.6949999999997,9940.3940000000002,9958.5519999999997,9976.3189999999995,{"$f":"VLOOKUP($C328,$C$18:$CK$307,AV$334,FALSE)","v":9993.9169999999995},10011.504000000001,10029.164000000001,10046.94,10064.984,10083.448,10102.447,10122.058999999999,10142.264999999999,10162.984,{"$f":"VLOOKUP($C328,$C$18:$CK$307,BF$334,FALSE)","v":10184.076999999999},10205.445,10227.093000000001,10249.034,10271.175999999999,10293.378000000001,10315.579,10337.759,10359.972,10382.334999999999,{"$f":"VLOOKUP($C328,$C$18:$CK$307,BP$334,FALSE)","v":10405},10428.107,10451.678,10475.769,10500.491,10526.013000000001,10552.441999999999,10579.831,10608.171,10637.436,{"$f":"VLOOKUP($C328,$C$18:$CK$307,BZ$334,FALSE)","v":10667.578},10698.527,10730.26,10762.732,10795.904,10829.739,10864.164000000001,10899.084999999999,10934.388999999999,10969.947,11005.579,11041.102000000001]
[null,null,"Liechtenstein",null,null,null,null,38.018999999999998,38.128,38.25,38.387,38.521000000000001,38.667000000000002,38.795000000000002,38.932000000000002,39.046999999999997,39.168999999999997,39.292999999999999,39.402000000000001,39.521999999999998,39.628,39.731999999999999,39.814999999999998,39.899000000000001,39.979999999999997,40.040999999999997,40.106999999999999,40.155000000000001,40.198,40.237000000000002,40.265999999999998,40.287999999999997,40.307000000000002,40.319000000000003,40.331000000000003,40.332999999999998,40.340000000000003,40.347000000000001,40.36,40.366999999999997,40.378,40.392000000000003,40.414000000000001,40.442,40.466999999999999,40.509,40.558,40.61,40.659999999999997,40.728999999999999,40.802,40.875999999999998,40.957000000000001,41.046999999999997,41.149000000000001,41.253999999999998,41.354999999999997,41.463999999999999,41.58,41.697000000000003,41.817999999999998,41.935000000000002,42.058,42.177999999999997,42.293999999999997,42.418999999999997,42.534999999999997,42.658000000000001,42.774999999999999,42.890999999999998,43.009,43.128999999999998,43.241,43.357999999999997,43.473999999999997,43.591999999999999,43.707999999999998,43.823,43.944000000000003,44.064999999999998,44.183,44.307000000000002,44.423999999999999,44.558999999999997,44.680999999999997,44.81,44.94,45.070999999999998,45.204999999999998]
[null,"Country name according to EDGAR","Switzerland and Liechtenstein",null,null,null,null,{"$f":"SUM(H328:H329)","v":8629.384},{"$f":"SUM(I328:I329)","v":8692.75},8753.7440000000006,8812.0240000000013,8868.0850000000009,8922.5229999999992,8975.7260000000006,9028.0750000000007,9079.5320000000011,9129.7890000000007,9178.2489999999998,9224.5169999999998,9268.5660000000007,9310.5860000000011,9350.7279999999992,9389.2000000000007,9426.1869999999999,9461.7659999999996,9495.9319999999989,9528.8549999999996,9560.6850000000013,9591.5439999999999,9621.521999999999,9650.646999999999,9678.996000000001,9706.616,9733.5519999999997,9759.8739999999998,9785.5840000000007,9810.6049999999996,9834.8040000000001,9858.0810000000001,9880.4639999999999,9902.0030000000006,9922.759,9942.7810000000009,9962.1369999999988,9980.8610000000008,9999.0609999999997,10016.877,10034.527,10052.164000000001,10069.893,10087.742,10105.86,10124.405000000001,10143.494000000001,10163.207999999999,10183.519,10204.339,10225.540999999999,10247.025,10268.790000000001,10290.851999999999,10313.110999999999,10335.436000000002,10357.757,10380.053,10402.391,10424.869999999999,10447.657999999999,10470.882,10494.569,10518.778,10543.62,{"$f":"SUM(BU328:BU329)","v":10569.254000000001},10595.8,10623.305,10651.763000000001,10681.144,10711.401,10742.471,10774.325000000001,10806.915000000001,10840.211000000001,10874.163,10908.723,10943.766,10979.198999999999,11014.887000000001,11050.65,11086.307000000001,null,{"$f":"VLOOKUP(C330,countries,1,FALSE)","v":"Switzerland and Liechtenstein"}]
[]
[]
[null,"selcted country",{"$f":"'reference values'!B2","v":"EU27"},null,null,null,null,{"$f":"VLOOKUP($C$333,$C$18:$CK$332,H334,FALSE)","v":444986.72899999988},445250.51399999997,445307.67100000003,445181.26699999993,444913.56,444567.84399999992,444191.47499999992,443797.21199999994,443375.26299999992,442923.48999999982,442433.61600000004,441899.76499999996,441324.82400000002,440714.54800000007,440068.38099999994,439384.89999999991,438662.86199999996,437902.38199999998,437103.42200000002,436264.34200000006,435383.03700000007,434457.84099999996,433488.55900000007,432475.10100000002,431416.24199999997,430310.64599999995,429157.57899999991,427957.32800000004,426711.05500000011,425420.17999999993,424086.71,422712.72100000002,{"$f":"VLOOKUP($C$333,$C$18:$CK$332,AN334,FALSE)","v":421300.52100000001},419852.24400000006,418370.02800000005,416856.28400000004,415313.78,413745.55800000002,412155.66700000002,410549.95199999999,408935.03500000003,407317.15299999993,405700.06699999998,404087.69900000008,402485.77,400900.50899999996,399337.11499999999,397799.44100000005,396289.91099999991,394810.88900000002,393364.04099999997,391950.83400000003,390573.05800000002,389232.18300000008,387928.79599999997,386662.97500000003,385434.71400000004,384244.32700000005,383091.83700000006,381976.62499999988,380897.64199999999,379853.88499999989,378844.55500000005,377868.80799999996,{"$f":"VLOOKUP($C$333,$C$18:$CK$332,BT334,FALSE)","v":376925.429},376013.15899999999,375130.44900000002,374276.08799999987,373448.51899999997,372645.68199999997,371865.14200000005,371104.80800000008,370362.772,369637.245,368926.70500000002,368229.60000000003,367544.17600000004,366868.55200000003,366200.70600000001,365538.31999999995,364879.04399999994,364220.18499999994,null,null,null,"sum",{"$f":"SUM(CP18:CP332)","v":1237.9929999999999}]
[null,"index",1,{"$f":"C334+1","v":2},{"$f":"D334+1","v":3},4,5,6,7,8,9,10,11,12,13,14,15,16,17,18,19,20,21,22,23,24,25,26,27,28,29,30,31,32,33,34,35,36,37,38,39,40,41,42,43,44,45,46,47,48,49,50,51,52,53,54,55,56,57,58,59,60,61,62,63,64,65,66,{"$f":"BP334+1","v":67},68,69,70,71,72,73,74,75,76,77,78,79,80,81,82,83,84,85,86,87,null,null,null,"difference \"data countries\"",{"$f":"'data countries'!P231*1000","v":1237.9930000124659}]
[null,null,null,null,null,null,null,null,null,null,null,null,null,null,null,null,null,null,null,null,null,null,null,null,null,null,null,null,null,null,null,null,null,null,null,null,null,null,null,null,null,null,null,null,null,null,null,null,null,null,null,null,null,null,null,null,null,null,null,null,null,null,null,null,null,null,null,null,null,null,null,null,null,null,null,null,null,null,null,null,null,null,null,null,null,null,null,null,null,null,null,null,"difference",{"$f":"CP334-CP333","v":1.2465989129850641E-8}]
[null,null,"Country name adaptation to EDGAR"]

{"sheet":"IPCC SR15","index":17,"n_rows":19,"n_cols":9,"rows_kept":19,"cut":false,"hidden":false,"merged":[[1,2,1,8],[2,3,2,6],[3,3,3,6],[4,3,4,6],[7,1,8,1],[18,5,18,8],[18,2,18,4],[5,3,5,6],[14,2,14,8],[15,2,15,3],[15,4,15,8],[16,4,16,7],[2,7,5,8]]}
[]
[null,null,"IPCC SR15 illustrative model paths for guidance in the ESPM or RM in Gt"]
[null,"A","2019 total",{"$f":"D4+D5","v":43.258833767353543},null,null,null,"sheet 'base data'"]
[null,"B","2019 excl. LUC",{"$f":"'base data'!M17","v":36.658833767353542}]
[null,null,"2019  LUC",{"$f":"'base data'!D23","v":6.6}]
[null,"C","global budget 2018 - 2100",{"$f":"'base data'!M22","v":570}]
[null,null,"IPCC SR15 illustrative model paths","P1","P2","P3","P4","average\nP1 - P4","average P1/P2"]
[null,"(1)","∑ 2018 - 2100 LUC",-159.47458214310063,-222.39745701999996,-168.52232699759961,143.92670000000021,{"$f":"AVERAGE(D8:G8)","v":-101.616916540175},{"$f":"AVERAGE(D8:E8)","v":-190.93601958155028}]
[null,null,"share of C",{"$f":"D8/$D$6","v":-0.27977996867210636},{"$f":"E8/$D$6","v":-0.39017097722807009},{"$f":"F8/$D$6","v":-0.29565320525894667},{"$f":"G8/$D$6","v":0.25250298245614072},{"$f":"H8/$D$6","v":-0.17827529217574561},{"$f":"AVERAGE(D9:E9)","v":-0.33497547295008823}]
[null,null,"2100 total",-3.524486354,-4.4748741000000001,-13.048889880000001,-21.31,{"$f":"AVERAGE(D10:G10)","v":-10.589562583500001},{"$f":"AVERAGE(D10:E10)","v":-3.9996802269999998}]
[null,null,"share of A",{"$f":"D10/$D$3","v":-8.1474372909698028E-2},{"$f":"E10/$D$3","v":-0.10344416874634021},-0.30164682548256078,-0.49261614667203929,-0.24479537845265961,{"$f":"AVERAGE(D11:E11)","v":-9.2459270828019122E-2}]
[null,null,"2100 excl. LUC",0.81827239899999993,-0.86104579999999986,-8.886574328,-20.109000000000002,{"$f":"AVERAGE(D12:G12)","v":-7.2595869322500004},-2.1386700499999967E-2]
[null,"(2)","share of B",{"$f":"D12/$D$4","v":2.2321288347386298E-2},{"$f":"E12/$D$4","v":-2.348808490374843E-2},{"$f":"F12/$D$4","v":-0.24241290337811899},{"$f":"G12/$D$4","v":-0.54854445527691709},{"$f":"H12/$D$4","v":-0.19803103880284956},-5.8339827818106559E-4]
[]
[null,null,"possible approaches for"]
[null,null,"a LUC budget 2018 - 2100",null,"the potential for net negative emissions"]
[null,null,"for total LUC emissions",{"$f":"B8","v":"(1)"},"corresponding value",null,null,null,{"$f":"B13","v":"(2)"}]
[]
[null,null,"cf. our tool global paths",null,null,"https://doi.org/10.5281/zenodo.4584562"]

{"sheet":"glossary","index":18,"n_rows":15,"n_cols":3,"rows_kept":15,"cut":false,"hidden":false,"merged":[]}
["Abbreveatiom","Content"]
["BY","base year"]
["E_t","Emissions in the year t"]
["FOLU","Forestry and Other Land Use","≈ LUC ≈ LULUCF ≈ (A)FOLU"]
["Gt","billion tons"]
["ISA","International Shipping + International Aviation"]
["LUC","Land-use change"]
["Mill. t","Million tons"]
["npLUC","net positive LUC"]
["P","Population"]
["R_t","Reducion amount in the year t"]
["RR_20","Reduction rate resp. change rate in year 2020"]
["RR_t","Reduction rate resp. change rate in year t"]
["t","year"]
["TV","threshold value"]

{"sheet":"imprint","index":19,"n_rows":12,"n_cols":1,"rows_kept":12,"cut":false,"hidden":false,"merged":[]}
["Authors:"]
[]
["Andreas Wolfsteiner, Master of Economics"]
["Günter Wittmann, Master of Mathematics"]
["save-the-climate@online.ms"]
[]
[]
["Here you can download the latest version of the tool and you will also find the publications of the authors:"]
["www.save-the-climate.info"]
[]
["Here you can find a web application for ESPM for the EU:"]
["http://eu.climate-calculator.info"]

{"sheet":"intern","index":20,"n_rows":7,"n_cols":8,"rows_kept":7,"cut":false,"hidden":true,"merged":[]}
["Szenario","Beschreibung",null,null,null,null,null,"to do"]
[1,"blau A1",null,null,null,"RM-1"]
[{"$f":"A2+1","v":2},"Rot A2",null,null,null,"RM-2"]
[{"$f":"A3+1","v":3},"Olivgrün A3",null,null,null,"RM-3"]
[{"$f":"A4+1","v":4},"Lila A4",null,null,null,"RM-4"]
[{"$f":"A5+1","v":5},"Orange A6",null,null,null,"RM-5"]
[6,"Schwarz Text 1 50% heller",null,null,null,"RM-6"]